{"text_format":"2","workbook":"xlsx","n_sheets":6,"sheets":["Cover_sheet","Contents","Data","FIRE1121_working","FIRE1121","FRS geographical categories"],"not_rendered":{"charts":0,"images":1,"macros":0,"external_links":0,"defined_names":2,"comments":0,"pivot_tables":0},"unopened":[],"bounds":{"document_bytes":16777216,"sheet_cells":100000,"run_cost":"one","rows_first":2000,"rows_last":500,"rows_between":2000,"halvings":0,"cell_chars":16384,"cell_head_chars":4096},"cells_cut":0,"cells_raw":0,"read":"whole","date_system":"1900"}

{"sheet":"Cover_sheet","index":0,"n_rows":13,"n_cols":1,"rows_kept":13,"cut":false,"hidden":false,"merged":[]}
[]
["Fire and rescue workforce and pensions statistics"]
["England, April 2022 to March 2023: data tables"]
["Table 1121"]
["Responsible Statistician: Helene Clark"]
["Email: Firestatistics@homeoffice.gov.uk"]
["Press enquiries: 0300 123 3535"]
["Published: 19 October 2023"]
["Next Update: Autumn 2024"]
["Crown copyright © 2023"]
["Contents"]
["We’re always looking to improve the accessibility of our documents."]
["If you find any problems, or have any feedback, relating to accessibility please email us at firestatistics@homeoffice.gov.uk"]

{"sheet":"Contents","index":1,"n_rows":8,"n_cols":4,"rows_kept":8,"cut":false,"hidden":false,"merged":[]}
["Fire and rescue workforce and pensions statistics"]
["Publication Date: 19 October 2023"]
["To access data tables, select the table number or tabs. "]
["Cover sheet"]
["Sheet","Title","Period covered","National Statistics?"]
["Data","Raw data for the main data table ","2016/17 to 2022/23","No"]
["FIRE1121","Staff joining fire authorities (headcount), by fire and rescue authority, ethnicity and role","2016/17 to 2022/23","No"]
["FRS geographical categories","Shows the classification of each FRS into the rural/urban and metropolitan/non-metropolitan groups."]

{"sheet":"Data","index":2,"n_rows":7394,"n_cols":9,"rows_kept":7394,"cut":false,"hidden":false,"merged":[]}
["FINANCIAL_YEAR","FRS_NAME","E_CODE","IS_MET_NON_MET","URBAN_RURAL","HC_OR_FTE","ROLE","ETHNICITY_CHARACTERISTIC","TOTAL_STAFF"]
["2016/17","Avon","E31000001","Non-metropolitan","Predominantly Urban","HC","Fire control","Asian or Asian British",0]
["2016/17","Avon","E31000001","Non-metropolitan","Predominantly Urban","HC","Fire control","Black or Black British",0]
["2016/17","Avon","E31000001","Non-metropolitan","Predominantly Urban","HC","Fire control","Chinese or other ethnicity",0]
["2016/17","Avon","E31000001","Non-metropolitan","Predominantly Urban","HC","Fire control","Ethnic origin not stated",0]
["2016/17","Avon","E31000001","Non-metropolitan","Predominantly Urban","HC","Fire control","Mixed",0]
["2016/17","Avon","E31000001","Non-metropolitan","Predominantly Urban","HC","Fire control","White British or Irish",0]
["2016/17","Avon","E31000001","Non-metropolitan","Predominantly Urban","HC","On call firefighters","Asian or Asian British",0]
["2016/17","Avon","E31000001","Non-metropolitan","Predominantly Urban","HC","On call firefighters","Black or Black British",0]
["2016/17","Avon","E31000001","Non-metropolitan","Predominantly Urban","HC","On call firefighters","Chinese or other ethnicity",0]
["2016/17","Avon","E31000001","Non-metropolitan","Predominantly Urban","HC","On call firefighters","Ethnic origin not stated",0]
["2016/17","Avon","E31000001","Non-metropolitan","Predominantly Urban","HC","On call firefighters","Mixed",0]
["2016/17","Avon","E31000001","Non-metropolitan","Predominantly Urban","HC","On call firefighters","White British or Irish",0]
["2016/17","Avon","E31000001","Non-metropolitan","Predominantly Urban","HC","Support staff","Asian or Asian British",0]
["2016/17","Avon","E31000001","Non-metropolitan","Predominantly Urban","HC","Support staff","Black or Black British",0]
["2016/17","Avon","E31000001","Non-metropolitan","Predominantly Urban","HC","Support staff","Chinese or other ethnicity",0]
["2016/17","Avon","E31000001","Non-metropolitan","Predominantly Urban","HC","Support staff","Ethnic origin not stated",0]
["2016/17","Avon","E31000001","Non-metropolitan","Predominantly Urban","HC","Support staff","Mixed",0]
["2016/17","Avon","E31000001","Non-metropolitan","Predominantly Urban","HC","Support staff","White British or Irish",0]
["2016/17","Avon","E31000001","Non-metropolitan","Predominantly Urban","HC","Wholetime firefighters","Asian or Asian British",0]
["2016/17","Avon","E31000001","Non-metropolitan","Predominantly Urban","HC","Wholetime firefighters","Black or Black British",0]
["2016/17","Avon","E31000001","Non-metropolitan","Predominantly Urban","HC","Wholetime firefighters","Chinese or other ethnicity",0]
["2016/17","Avon","E31000001","Non-metropolitan","Predominantly Urban","HC","Wholetime firefighters","Ethnic origin not stated",0]
["2016/17","Avon","E31000001","Non-metropolitan","Predominantly Urban","HC","Wholetime firefighters","Mixed",0]
["2016/17","Avon","E31000001","Non-metropolitan","Predominantly Urban","HC","Wholetime firefighters","White British or Irish",0]
["2016/17","Bedfordshire","E31000002","Non-metropolitan","Significantly Rural","HC","Fire control","Asian or Asian British",0]
["2016/17","Bedfordshire","E31000002","Non-metropolitan","Significantly Rural","HC","Fire control","Black or Black British",0]
["2016/17","Bedfordshire","E31000002","Non-metropolitan","Significantly Rural","HC","Fire control","Chinese or other ethnicity",0]
["2016/17","Bedfordshire","E31000002","Non-metropolitan","Significantly Rural","HC","Fire control","Ethnic origin not stated",0]
["2016/17","Bedfordshire","E31000002","Non-metropolitan","Significantly Rural","HC","Fire control","Mixed",0]
["2016/17","Bedfordshire","E31000002","Non-metropolitan","Significantly Rural","HC","Fire control","White British or Irish",0]
["2016/17","Bedfordshire","E31000002","Non-metropolitan","Significantly Rural","HC","On call firefighters","Asian or Asian British",0]
["2016/17","Bedfordshire","E31000002","Non-metropolitan","Significantly Rural","HC","On call firefighters","Black or Black British",0]
["2016/17","Bedfordshire","E31000002","Non-metropolitan","Significantly Rural","HC","On call firefighters","Chinese or other ethnicity",1]
["2016/17","Bedfordshire","E31000002","Non-metropolitan","Significantly Rural","HC","On call firefighters","Ethnic origin not stated",4]
["2016/17","Bedfordshire","E31000002","Non-metropolitan","Significantly Rural","HC","On call firefighters","Mixed",0]
["2016/17","Bedfordshire","E31000002","Non-metropolitan","Significantly Rural","HC","On call firefighters","White British or Irish",17]
["2016/17","Bedfordshire","E31000002","Non-metropolitan","Significantly Rural","HC","Support staff","Asian or Asian British",1]
["2016/17","Bedfordshire","E31000002","Non-metropolitan","Significantly Rural","HC","Support staff","Black or Black British",0]
["2016/17","Bedfordshire","E31000002","Non-metropolitan","Significantly Rural","HC","Support staff","Chinese or other ethnicity",0]
["2016/17","Bedfordshire","E31000002","Non-metropolitan","Significantly Rural","HC","Support staff","Ethnic origin not stated",1]
["2016/17","Bedfordshire","E31000002","Non-metropolitan","Significantly Rural","HC","Support staff","Mixed",0]
["2016/17","Bedfordshire","E31000002","Non-metropolitan","Significantly Rural","HC","Support staff","White British or Irish",10]
["2016/17","Bedfordshire","E31000002","Non-metropolitan","Significantly Rural","HC","Wholetime firefighters","Asian or Asian British",0]
["2016/17","Bedfordshire","E31000002","Non-metropolitan","Significantly Rural","HC","Wholetime firefighters","Black or Black British",0]
["2016/17","Bedfordshire","E31000002","Non-metropolitan","Significantly Rural","HC","Wholetime firefighters","Chinese or other ethnicity",1]
["2016/17","Bedfordshire","E31000002","Non-metropolitan","Significantly Rural","HC","Wholetime firefighters","Ethnic origin not stated",4]
["2016/17","Bedfordshire","E31000002","Non-metropolitan","Significantly Rural","HC","Wholetime firefighters","Mixed",1]
["2016/17","Bedfordshire","E31000002","Non-metropolitan","Significantly Rural","HC","Wholetime firefighters","White British or Irish",17]
["2016/17","Berkshire","E31000003","Non-metropolitan","Predominantly Urban","HC","Fire control","Asian or Asian British",0]
["2016/17","Berkshire","E31000003","Non-metropolitan","Predominantly Urban","HC","Fire control","Black or Black British",0]
["2016/17","Berkshire","E31000003","Non-metropolitan","Predominantly Urban","HC","Fire control","Chinese or other ethnicity",0]
["2016/17","Berkshire","E31000003","Non-metropolitan","Predominantly Urban","HC","Fire control","Ethnic origin not stated",0]
["2016/17","Berkshire","E31000003","Non-metropolitan","Predominantly Urban","HC","Fire control","Mixed",0]
["2016/17","Berkshire","E31000003","Non-metropolitan","Predominantly Urban","HC","Fire control","White British or Irish",3]
["2016/17","Berkshire","E31000003","Non-metropolitan","Predominantly Urban","HC","On call firefighters","Asian or Asian British",0]
["2016/17","Berkshire","E31000003","Non-metropolitan","Predominantly Urban","HC","On call firefighters","Black or Black British",0]
["2016/17","Berkshire","E31000003","Non-metropolitan","Predominantly Urban","HC","On call firefighters","Chinese or other ethnicity",0]
["2016/17","Berkshire","E31000003","Non-metropolitan","Predominantly Urban","HC","On call firefighters","Ethnic origin not stated",0]
["2016/17","Berkshire","E31000003","Non-metropolitan","Predominantly Urban","HC","On call firefighters","Mixed",0]
["2016/17","Berkshire","E31000003","Non-metropolitan","Predominantly Urban","HC","On call firefighters","White British or Irish",8]
["2016/17","Berkshire","E31000003","Non-metropolitan","Predominantly Urban","HC","Support staff","Asian or Asian British",1]
["2016/17","Berkshire","E31000003","Non-metropolitan","Predominantly Urban","HC","Support staff","Black or Black British",1]
["2016/17","Berkshire","E31000003","Non-metropolitan","Predominantly Urban","HC","Support staff","Chinese or other ethnicity",0]
["2016/17","Berkshire","E31000003","Non-metropolitan","Predominantly Urban","HC","Support staff","Ethnic origin not stated",1]
["2016/17","Berkshire","E31000003","Non-metropolitan","Predominantly Urban","HC","Support staff","Mixed",0]
["2016/17","Berkshire","E31000003","Non-metropolitan","Predominantly Urban","HC","Support staff","White British or Irish",19]
["2016/17","Berkshire","E31000003","Non-metropolitan","Predominantly Urban","HC","Wholetime firefighters","Asian or Asian British",0]
["2016/17","Berkshire","E31000003","Non-metropolitan","Predominantly Urban","HC","Wholetime firefighters","Black or Black British",0]
["2016/17","Berkshire","E31000003","Non-metropolitan","Predominantly Urban","HC","Wholetime firefighters","Chinese or other ethnicity",0]
["2016/17","Berkshire","E31000003","Non-metropolitan","Predominantly Urban","HC","Wholetime firefighters","Ethnic origin not stated",0]
["2016/17","Berkshire","E31000003","Non-metropolitan","Predominantly Urban","HC","Wholetime firefighters","Mixed",0]
["2016/17","Berkshire","E31000003","Non-metropolitan","Predominantly Urban","HC","Wholetime firefighters","White British or Irish",7]
["2016/17","Buckinghamshire","E31000004","Non-metropolitan","Significantly Rural","HC","Fire control","Asian or Asian British",0]
["2016/17","Buckinghamshire","E31000004","Non-metropolitan","Significantly Rural","HC","Fire control","Black or Black British",0]
["2016/17","Buckinghamshire","E31000004","Non-metropolitan","Significantly Rural","HC","Fire control","Chinese or other ethnicity",0]
["2016/17","Buckinghamshire","E31000004","Non-metropolitan","Significantly Rural","HC","Fire control","Ethnic origin not stated",0]
["2016/17","Buckinghamshire","E31000004","Non-metropolitan","Significantly Rural","HC","Fire control","Mixed",0]
["2016/17","Buckinghamshire","E31000004","Non-metropolitan","Significantly Rural","HC","Fire control","White British or Irish",0]
["2016/17","Buckinghamshire","E31000004","Non-metropolitan","Significantly Rural","HC","On call firefighters","Asian or Asian British",1]
["2016/17","Buckinghamshire","E31000004","Non-metropolitan","Significantly Rural","HC","On call firefighters","Black or Black British",0]
["2016/17","Buckinghamshire","E31000004","Non-metropolitan","Significantly Rural","HC","On call firefighters","Chinese or other ethnicity",0]
["2016/17","Buckinghamshire","E31000004","Non-metropolitan","Significantly Rural","HC","On call firefighters","Ethnic origin not stated",0]
["2016/17","Buckinghamshire","E31000004","Non-metropolitan","Significantly Rural","HC","On call firefighters","Mixed",0]
["2016/17","Buckinghamshire","E31000004","Non-metropolitan","Significantly Rural","HC","On call firefighters","White British or Irish",20]
["2016/17","Buckinghamshire","E31000004","Non-metropolitan","Significantly Rural","HC","Support staff","Asian or Asian British",0]
["2016/17","Buckinghamshire","E31000004","Non-metropolitan","Significantly Rural","HC","Support staff","Black or Black British",0]
["2016/17","Buckinghamshire","E31000004","Non-metropolitan","Significantly Rural","HC","Support staff","Chinese or other ethnicity",0]
["2016/17","Buckinghamshire","E31000004","Non-metropolitan","Significantly Rural","HC","Support staff","Ethnic origin not stated",1]
["2016/17","Buckinghamshire","E31000004","Non-metropolitan","Significantly Rural","HC","Support staff","Mixed",0]
["2016/17","Buckinghamshire","E31000004","Non-metropolitan","Significantly Rural","HC","Support staff","White British or Irish",8]
["2016/17","Buckinghamshire","E31000004","Non-metropolitan","Significantly Rural","HC","Wholetime firefighters","Asian or Asian British",0]
["2016/17","Buckinghamshire","E31000004","Non-metropolitan","Significantly Rural","HC","Wholetime firefighters","Black or Black British",0]
["2016/17","Buckinghamshire","E31000004","Non-metropolitan","Significantly Rural","HC","Wholetime firefighters","Chinese or other ethnicity",0]
["2016/17","Buckinghamshire","E31000004","Non-metropolitan","Significantly Rural","HC","Wholetime firefighters","Ethnic origin not stated",0]
["2016/17","Buckinghamshire","E31000004","Non-metropolitan","Significantly Rural","HC","Wholetime firefighters","Mixed",0]
["2016/17","Buckinghamshire","E31000004","Non-metropolitan","Significantly Rural","HC","Wholetime firefighters","White British or Irish",11]
["2016/17","Cambridgeshire","E31000005","Non-metropolitan","Predominantly Rural","HC","Fire control","Asian or Asian British",0]
["2016/17","Cambridgeshire","E31000005","Non-metropolitan","Predominantly Rural","HC","Fire control","Black or Black British",0]
["2016/17","Cambridgeshire","E31000005","Non-metropolitan","Predominantly Rural","HC","Fire control","Chinese or other ethnicity",0]
["2016/17","Cambridgeshire","E31000005","Non-metropolitan","Predominantly Rural","HC","Fire control","Ethnic origin not stated",0]
["2016/17","Cambridgeshire","E31000005","Non-metropolitan","Predominantly Rural","HC","Fire control","Mixed",0]
["2016/17","Cambridgeshire","E31000005","Non-metropolitan","Predominantly Rural","HC","Fire control","White British or Irish",0]
["2016/17","Cambridgeshire","E31000005","Non-metropolitan","Predominantly Rural","HC","On call firefighters","Asian or Asian British",0]
["2016/17","Cambridgeshire","E31000005","Non-metropolitan","Predominantly Rural","HC","On call firefighters","Black or Black British",0]
["2016/17","Cambridgeshire","E31000005","Non-metropolitan","Predominantly Rural","HC","On call firefighters","Chinese or other ethnicity",0]
["2016/17","Cambridgeshire","E31000005","Non-metropolitan","Predominantly Rural","HC","On call firefighters","Ethnic origin not stated",0]
["2016/17","Cambridgeshire","E31000005","Non-metropolitan","Predominantly Rural","HC","On call firefighters","Mixed",0]
["2016/17","Cambridgeshire","E31000005","Non-metropolitan","Predominantly Rural","HC","On call firefighters","White British or Irish",0]
["2016/17","Cambridgeshire","E31000005","Non-metropolitan","Predominantly Rural","HC","Support staff","Asian or Asian British",0]
["2016/17","Cambridgeshire","E31000005","Non-metropolitan","Predominantly Rural","HC","Support staff","Black or Black British",0]
["2016/17","Cambridgeshire","E31000005","Non-metropolitan","Predominantly Rural","HC","Support staff","Chinese or other ethnicity",0]
["2016/17","Cambridgeshire","E31000005","Non-metropolitan","Predominantly Rural","HC","Support staff","Ethnic origin not stated",0]
["2016/17","Cambridgeshire","E31000005","Non-metropolitan","Predominantly Rural","HC","Support staff","Mixed",0]
["2016/17","Cambridgeshire","E31000005","Non-metropolitan","Predominantly Rural","HC","Support staff","White British or Irish",0]
["2016/17","Cambridgeshire","E31000005","Non-metropolitan","Predominantly Rural","HC","Wholetime firefighters","Asian or Asian British",0]
["2016/17","Cambridgeshire","E31000005","Non-metropolitan","Predominantly Rural","HC","Wholetime firefighters","Black or Black British",0]
["2016/17","Cambridgeshire","E31000005","Non-metropolitan","Predominantly Rural","HC","Wholetime firefighters","Chinese or other ethnicity",0]
["2016/17","Cambridgeshire","E31000005","Non-metropolitan","Predominantly Rural","HC","Wholetime firefighters","Ethnic origin not stated",0]
["2016/17","Cambridgeshire","E31000005","Non-metropolitan","Predominantly Rural","HC","Wholetime firefighters","Mixed",0]
["2016/17","Cambridgeshire","E31000005","Non-metropolitan","Predominantly Rural","HC","Wholetime firefighters","White British or Irish",0]
["2016/17","Cheshire","E31000006","Non-metropolitan","Significantly Rural","HC","Fire control","Asian or Asian British",0]
["2016/17","Cheshire","E31000006","Non-metropolitan","Significantly Rural","HC","Fire control","Black or Black British",0]
["2016/17","Cheshire","E31000006","Non-metropolitan","Significantly Rural","HC","Fire control","Chinese or other ethnicity",0]
["2016/17","Cheshire","E31000006","Non-metropolitan","Significantly Rural","HC","Fire control","Ethnic origin not stated",0]
["2016/17","Cheshire","E31000006","Non-metropolitan","Significantly Rural","HC","Fire control","Mixed",0]
["2016/17","Cheshire","E31000006","Non-metropolitan","Significantly Rural","HC","Fire control","White British or Irish",0]
["2016/17","Cheshire","E31000006","Non-metropolitan","Significantly Rural","HC","On call firefighters","Asian or Asian British",0]
["2016/17","Cheshire","E31000006","Non-metropolitan","Significantly Rural","HC","On call firefighters","Black or Black British",1]
["2016/17","Cheshire","E31000006","Non-metropolitan","Significantly Rural","HC","On call firefighters","Chinese or other ethnicity",1]
["2016/17","Cheshire","E31000006","Non-metropolitan","Significantly Rural","HC","On call firefighters","Ethnic origin not stated",1]
["2016/17","Cheshire","E31000006","Non-metropolitan","Significantly Rural","HC","On call firefighters","Mixed",0]
["2016/17","Cheshire","E31000006","Non-metropolitan","Significantly Rural","HC","On call firefighters","White British or Irish",57]
["2016/17","Cheshire","E31000006","Non-metropolitan","Significantly Rural","HC","Support staff","Asian or Asian British",0]
["2016/17","Cheshire","E31000006","Non-metropolitan","Significantly Rural","HC","Support staff","Black or Black British",0]
["2016/17","Cheshire","E31000006","Non-metropolitan","Significantly Rural","HC","Support staff","Chinese or other ethnicity",0]
["2016/17","Cheshire","E31000006","Non-metropolitan","Significantly Rural","HC","Support staff","Ethnic origin not stated",6]
["2016/17","Cheshire","E31000006","Non-metropolitan","Significantly Rural","HC","Support staff","Mixed",0]
["2016/17","Cheshire","E31000006","Non-metropolitan","Significantly Rural","HC","Support staff","White British or Irish",47]
["2016/17","Cheshire","E31000006","Non-metropolitan","Significantly Rural","HC","Wholetime firefighters","Asian or Asian British",1]
["2016/17","Cheshire","E31000006","Non-metropolitan","Significantly Rural","HC","Wholetime firefighters","Black or Black British",0]
["2016/17","Cheshire","E31000006","Non-metropolitan","Significantly Rural","HC","Wholetime firefighters","Chinese or other ethnicity",0]
["2016/17","Cheshire","E31000006","Non-metropolitan","Significantly Rural","HC","Wholetime firefighters","Ethnic origin not stated",1]
["2016/17","Cheshire","E31000006","Non-metropolitan","Significantly Rural","HC","Wholetime firefighters","Mixed",0]
["2016/17","Cheshire","E31000006","Non-metropolitan","Significantly Rural","HC","Wholetime firefighters","White British or Irish",28]
["2016/17","Cleveland","E31000007","Non-metropolitan","Predominantly Urban","HC","Fire control","Asian or Asian British",0]
["2016/17","Cleveland","E31000007","Non-metropolitan","Predominantly Urban","HC","Fire control","Black or Black British",0]
["2016/17","Cleveland","E31000007","Non-metropolitan","Predominantly Urban","HC","Fire control","Chinese or other ethnicity",0]
["2016/17","Cleveland","E31000007","Non-metropolitan","Predominantly Urban","HC","Fire control","Ethnic origin not stated",0]
["2016/17","Cleveland","E31000007","Non-metropolitan","Predominantly Urban","HC","Fire control","Mixed",0]
["2016/17","Cleveland","E31000007","Non-metropolitan","Predominantly Urban","HC","Fire control","White British or Irish",0]
["2016/17","Cleveland","E31000007","Non-metropolitan","Predominantly Urban","HC","On call firefighters","Asian or Asian British",0]
["2016/17","Cleveland","E31000007","Non-metropolitan","Predominantly Urban","HC","On call firefighters","Black or Black British",0]
["2016/17","Cleveland","E31000007","Non-metropolitan","Predominantly Urban","HC","On call firefighters","Chinese or other ethnicity",0]
["2016/17","Cleveland","E31000007","Non-metropolitan","Predominantly Urban","HC","On call firefighters","Ethnic origin not stated",0]
["2016/17","Cleveland","E31000007","Non-metropolitan","Predominantly Urban","HC","On call firefighters","Mixed",0]
["2016/17","Cleveland","E31000007","Non-metropolitan","Predominantly Urban","HC","On call firefighters","White British or Irish",0]
["2016/17","Cleveland","E31000007","Non-metropolitan","Predominantly Urban","HC","Support staff","Asian or Asian British",0]
["2016/17","Cleveland","E31000007","Non-metropolitan","Predominantly Urban","HC","Support staff","Black or Black British",0]
["2016/17","Cleveland","E31000007","Non-metropolitan","Predominantly Urban","HC","Support staff","Chinese or other ethnicity",0]
["2016/17","Cleveland","E31000007","Non-metropolitan","Predominantly Urban","HC","Support staff","Ethnic origin not stated",0]
["2016/17","Cleveland","E31000007","Non-metropolitan","Predominantly Urban","HC","Support staff","Mixed",0]
["2016/17","Cleveland","E31000007","Non-metropolitan","Predominantly Urban","HC","Support staff","White British or Irish",0]
["2016/17","Cleveland","E31000007","Non-metropolitan","Predominantly Urban","HC","Wholetime firefighters","Asian or Asian British",0]
["2016/17","Cleveland","E31000007","Non-metropolitan","Predominantly Urban","HC","Wholetime firefighters","Black or Black British",0]
["2016/17","Cleveland","E31000007","Non-metropolitan","Predominantly Urban","HC","Wholetime firefighters","Chinese or other ethnicity",0]
["2016/17","Cleveland","E31000007","Non-metropolitan","Predominantly Urban","HC","Wholetime firefighters","Ethnic origin not stated",0]
["2016/17","Cleveland","E31000007","Non-metropolitan","Predominantly Urban","HC","Wholetime firefighters","Mixed",0]
["2016/17","Cleveland","E31000007","Non-metropolitan","Predominantly Urban","HC","Wholetime firefighters","White British or Irish",0]
["2016/17","Cornwall","E31000008","Non-metropolitan","Predominantly Rural","HC","Fire control","Asian or Asian British",0]
["2016/17","Cornwall","E31000008","Non-metropolitan","Predominantly Rural","HC","Fire control","Black or Black British",0]
["2016/17","Cornwall","E31000008","Non-metropolitan","Predominantly Rural","HC","Fire control","Chinese or other ethnicity",0]
["2016/17","Cornwall","E31000008","Non-metropolitan","Predominantly Rural","HC","Fire control","Ethnic origin not stated",2]
["2016/17","Cornwall","E31000008","Non-metropolitan","Predominantly Rural","HC","Fire control","Mixed",0]
["2016/17","Cornwall","E31000008","Non-metropolitan","Predominantly Rural","HC","Fire control","White British or Irish",0]
["2016/17","Cornwall","E31000008","Non-metropolitan","Predominantly Rural","HC","On call firefighters","Asian or Asian British",0]
["2016/17","Cornwall","E31000008","Non-metropolitan","Predominantly Rural","HC","On call firefighters","Black or Black British",0]
["2016/17","Cornwall","E31000008","Non-metropolitan","Predominantly Rural","HC","On call firefighters","Chinese or other ethnicity",0]
["2016/17","Cornwall","E31000008","Non-metropolitan","Predominantly Rural","HC","On call firefighters","Ethnic origin not stated",22]
["2016/17","Cornwall","E31000008","Non-metropolitan","Predominantly Rural","HC","On call firefighters","Mixed",0]
["2016/17","Cornwall","E31000008","Non-metropolitan","Predominantly Rural","HC","On call firefighters","White British or Irish",5]
["2016/17","Cornwall","E31000008","Non-metropolitan","Predominantly Rural","HC","Support staff","Asian or Asian British",0]
["2016/17","Cornwall","E31000008","Non-metropolitan","Predominantly Rural","HC","Support staff","Black or Black British",0]
["2016/17","Cornwall","E31000008","Non-metropolitan","Predominantly Rural","HC","Support staff","Chinese or other ethnicity",1]
["2016/17","Cornwall","E31000008","Non-metropolitan","Predominantly Rural","HC","Support staff","Ethnic origin not stated",3]
["2016/17","Cornwall","E31000008","Non-metropolitan","Predominantly Rural","HC","Support staff","Mixed",0]
["2016/17","Cornwall","E31000008","Non-metropolitan","Predominantly Rural","HC","Support staff","White British or Irish",1]
["2016/17","Cornwall","E31000008","Non-metropolitan","Predominantly Rural","HC","Wholetime firefighters","Asian or Asian British",0]
["2016/17","Cornwall","E31000008","Non-metropolitan","Predominantly Rural","HC","Wholetime firefighters","Black or Black British",0]
["2016/17","Cornwall","E31000008","Non-metropolitan","Predominantly Rural","HC","Wholetime firefighters","Chinese or other ethnicity",0]
["2016/17","Cornwall","E31000008","Non-metropolitan","Predominantly Rural","HC","Wholetime firefighters","Ethnic origin not stated",0]
["2016/17","Cornwall","E31000008","Non-metropolitan","Predominantly Rural","HC","Wholetime firefighters","Mixed",0]
["2016/17","Cornwall","E31000008","Non-metropolitan","Predominantly Rural","HC","Wholetime firefighters","White British or Irish",0]
["2016/17","Cumbria","E31000009","Non-metropolitan","Predominantly Rural","HC","Fire control","Asian or Asian British",0]
["2016/17","Cumbria","E31000009","Non-metropolitan","Predominantly Rural","HC","Fire control","Black or Black British",0]
["2016/17","Cumbria","E31000009","Non-metropolitan","Predominantly Rural","HC","Fire control","Chinese or other ethnicity",0]
["2016/17","Cumbria","E31000009","Non-metropolitan","Predominantly Rural","HC","Fire control","Ethnic origin not stated",0]
["2016/17","Cumbria","E31000009","Non-metropolitan","Predominantly Rural","HC","Fire control","Mixed",0]
["2016/17","Cumbria","E31000009","Non-metropolitan","Predominantly Rural","HC","Fire control","White British or Irish",0]
["2016/17","Cumbria","E31000009","Non-metropolitan","Predominantly Rural","HC","On call firefighters","Asian or Asian British",0]
["2016/17","Cumbria","E31000009","Non-metropolitan","Predominantly Rural","HC","On call firefighters","Black or Black British",0]
["2016/17","Cumbria","E31000009","Non-metropolitan","Predominantly Rural","HC","On call firefighters","Chinese or other ethnicity",0]
["2016/17","Cumbria","E31000009","Non-metropolitan","Predominantly Rural","HC","On call firefighters","Ethnic origin not stated",0]
["2016/17","Cumbria","E31000009","Non-metropolitan","Predominantly Rural","HC","On call firefighters","Mixed",0]
["2016/17","Cumbria","E31000009","Non-metropolitan","Predominantly Rural","HC","On call firefighters","White British or Irish",0]
["2016/17","Cumbria","E31000009","Non-metropolitan","Predominantly Rural","HC","Support staff","Asian or Asian British",0]
["2016/17","Cumbria","E31000009","Non-metropolitan","Predominantly Rural","HC","Support staff","Black or Black British",0]
["2016/17","Cumbria","E31000009","Non-metropolitan","Predominantly Rural","HC","Support staff","Chinese or other ethnicity",0]
["2016/17","Cumbria","E31000009","Non-metropolitan","Predominantly Rural","HC","Support staff","Ethnic origin not stated",0]
["2016/17","Cumbria","E31000009","Non-metropolitan","Predominantly Rural","HC","Support staff","Mixed",0]
["2016/17","Cumbria","E31000009","Non-metropolitan","Predominantly Rural","HC","Support staff","White British or Irish",2]
["2016/17","Cumbria","E31000009","Non-metropolitan","Predominantly Rural","HC","Wholetime firefighters","Asian or Asian British",0]
["2016/17","Cumbria","E31000009","Non-metropolitan","Predominantly Rural","HC","Wholetime firefighters","Black or Black British",0]
["2016/17","Cumbria","E31000009","Non-metropolitan","Predominantly Rural","HC","Wholetime firefighters","Chinese or other ethnicity",0]
["2016/17","Cumbria","E31000009","Non-metropolitan","Predominantly Rural","HC","Wholetime firefighters","Ethnic origin not stated",0]
["2016/17","Cumbria","E31000009","Non-metropolitan","Predominantly Rural","HC","Wholetime firefighters","Mixed",0]
["2016/17","Cumbria","E31000009","Non-metropolitan","Predominantly Rural","HC","Wholetime firefighters","White British or Irish",12]
["2016/17","Derbyshire","E31000010","Non-metropolitan","Significantly Rural","HC","Fire control","Asian or Asian British",0]
["2016/17","Derbyshire","E31000010","Non-metropolitan","Significantly Rural","HC","Fire control","Black or Black British",0]
["2016/17","Derbyshire","E31000010","Non-metropolitan","Significantly Rural","HC","Fire control","Chinese or other ethnicity",0]
["2016/17","Derbyshire","E31000010","Non-metropolitan","Significantly Rural","HC","Fire control","Ethnic origin not stated",0]
["2016/17","Derbyshire","E31000010","Non-metropolitan","Significantly Rural","HC","Fire control","Mixed",0]
["2016/17","Derbyshire","E31000010","Non-metropolitan","Significantly Rural","HC","Fire control","White British or Irish",3]
["2016/17","Derbyshire","E31000010","Non-metropolitan","Significantly Rural","HC","On call firefighters","Asian or Asian British",0]
["2016/17","Derbyshire","E31000010","Non-metropolitan","Significantly Rural","HC","On call firefighters","Black or Black British",0]
["2016/17","Derbyshire","E31000010","Non-metropolitan","Significantly Rural","HC","On call firefighters","Chinese or other ethnicity",2]
["2016/17","Derbyshire","E31000010","Non-metropolitan","Significantly Rural","HC","On call firefighters","Ethnic origin not stated",0]
["2016/17","Derbyshire","E31000010","Non-metropolitan","Significantly Rural","HC","On call firefighters","Mixed",1]
["2016/17","Derbyshire","E31000010","Non-metropolitan","Significantly Rural","HC","On call firefighters","White British or Irish",35]
["2016/17","Derbyshire","E31000010","Non-metropolitan","Significantly Rural","HC","Support staff","Asian or Asian British",0]
["2016/17","Derbyshire","E31000010","Non-metropolitan","Significantly Rural","HC","Support staff","Black or Black British",0]
["2016/17","Derbyshire","E31000010","Non-metropolitan","Significantly Rural","HC","Support staff","Chinese or other ethnicity",1]
["2016/17","Derbyshire","E31000010","Non-metropolitan","Significantly Rural","HC","Support staff","Ethnic origin not stated",0]
["2016/17","Derbyshire","E31000010","Non-metropolitan","Significantly Rural","HC","Support staff","Mixed",0]
["2016/17","Derbyshire","E31000010","Non-metropolitan","Significantly Rural","HC","Support staff","White British or Irish",25]
["2016/17","Derbyshire","E31000010","Non-metropolitan","Significantly Rural","HC","Wholetime firefighters","Asian or Asian British",0]
["2016/17","Derbyshire","E31000010","Non-metropolitan","Significantly Rural","HC","Wholetime firefighters","Black or Black British",0]
["2016/17","Derbyshire","E31000010","Non-metropolitan","Significantly Rural","HC","Wholetime firefighters","Chinese or other ethnicity",1]
["2016/17","Derbyshire","E31000010","Non-metropolitan","Significantly Rural","HC","Wholetime firefighters","Ethnic origin not stated",0]
["2016/17","Derbyshire","E31000010","Non-metropolitan","Significantly Rural","HC","Wholetime firefighters","Mixed",0]
["2016/17","Derbyshire","E31000010","Non-metropolitan","Significantly Rural","HC","Wholetime firefighters","White British or Irish",23]
["2016/17","Devon and Somerset","E31000011","Non-metropolitan","Predominantly Rural","HC","Fire control","Asian or Asian British",0]
["2016/17","Devon and Somerset","E31000011","Non-metropolitan","Predominantly Rural","HC","Fire control","Black or Black British",0]
["2016/17","Devon and Somerset","E31000011","Non-metropolitan","Predominantly Rural","HC","Fire control","Chinese or other ethnicity",0]
["2016/17","Devon and Somerset","E31000011","Non-metropolitan","Predominantly Rural","HC","Fire control","Ethnic origin not stated",0]
["2016/17","Devon and Somerset","E31000011","Non-metropolitan","Predominantly Rural","HC","Fire control","Mixed",0]
["2016/17","Devon and Somerset","E31000011","Non-metropolitan","Predominantly Rural","HC","Fire control","White British or Irish",0]
["2016/17","Devon and Somerset","E31000011","Non-metropolitan","Predominantly Rural","HC","On call firefighters","Asian or Asian British",0]
["2016/17","Devon and Somerset","E31000011","Non-metropolitan","Predominantly Rural","HC","On call firefighters","Black or Black British",0]
["2016/17","Devon and Somerset","E31000011","Non-metropolitan","Predominantly Rural","HC","On call firefighters","Chinese or other ethnicity",2]
["2016/17","Devon and Somerset","E31000011","Non-metropolitan","Predominantly Rural","HC","On call firefighters","Ethnic origin not stated",18]
["2016/17","Devon and Somerset","E31000011","Non-metropolitan","Predominantly Rural","HC","On call firefighters","Mixed",1]
["2016/17","Devon and Somerset","E31000011","Non-metropolitan","Predominantly Rural","HC","On call firefighters","White British or Irish",73]
["2016/17","Devon and Somerset","E31000011","Non-metropolitan","Predominantly Rural","HC","Support staff","Asian or Asian British",0]
["2016/17","Devon and Somerset","E31000011","Non-metropolitan","Predominantly Rural","HC","Support staff","Black or Black British",0]
["2016/17","Devon and Somerset","E31000011","Non-metropolitan","Predominantly Rural","HC","Support staff","Chinese or other ethnicity",0]
["2016/17","Devon and Somerset","E31000011","Non-metropolitan","Predominantly Rural","HC","Support staff","Ethnic origin not stated",0]
["2016/17","Devon and Somerset","E31000011","Non-metropolitan","Predominantly Rural","HC","Support staff","Mixed",0]
["2016/17","Devon and Somerset","E31000011","Non-metropolitan","Predominantly Rural","HC","Support staff","White British or Irish",5]
["2016/17","Devon and Somerset","E31000011","Non-metropolitan","Predominantly Rural","HC","Wholetime firefighters","Asian or Asian British",0]
["2016/17","Devon and Somerset","E31000011","Non-metropolitan","Predominantly Rural","HC","Wholetime firefighters","Black or Black British",0]
["2016/17","Devon and Somerset","E31000011","Non-metropolitan","Predominantly Rural","HC","Wholetime firefighters","Chinese or other ethnicity",0]
["2016/17","Devon and Somerset","E31000011","Non-metropolitan","Predominantly Rural","HC","Wholetime firefighters","Ethnic origin not stated",0]
["2016/17","Devon and Somerset","E31000011","Non-metropolitan","Predominantly Rural","HC","Wholetime firefighters","Mixed",0]
["2016/17","Devon and Somerset","E31000011","Non-metropolitan","Predominantly Rural","HC","Wholetime firefighters","White British or Irish",3]
["2016/17","Dorset and Wiltshire","E31000047","Non-metropolitan","Significantly Rural","HC","Fire control","Asian or Asian British",0]
["2016/17","Dorset and Wiltshire","E31000047","Non-metropolitan","Significantly Rural","HC","Fire control","Black or Black British",0]
["2016/17","Dorset and Wiltshire","E31000047","Non-metropolitan","Significantly Rural","HC","Fire control","Chinese or other ethnicity",0]
["2016/17","Dorset and Wiltshire","E31000047","Non-metropolitan","Significantly Rural","HC","Fire control","Ethnic origin not stated",0]
["2016/17","Dorset and Wiltshire","E31000047","Non-metropolitan","Significantly Rural","HC","Fire control","Mixed",0]
["2016/17","Dorset and Wiltshire","E31000047","Non-metropolitan","Significantly Rural","HC","Fire control","White British or Irish",0]
["2016/17","Dorset and Wiltshire","E31000047","Non-metropolitan","Significantly Rural","HC","On call firefighters","Asian or Asian British",0]
["2016/17","Dorset and Wiltshire","E31000047","Non-metropolitan","Significantly Rural","HC","On call firefighters","Black or Black British",1]
["2016/17","Dorset and Wiltshire","E31000047","Non-metropolitan","Significantly Rural","HC","On call firefighters","Chinese or other ethnicity",0]
["2016/17","Dorset and Wiltshire","E31000047","Non-metropolitan","Significantly Rural","HC","On call firefighters","Ethnic origin not stated",14]
["2016/17","Dorset and Wiltshire","E31000047","Non-metropolitan","Significantly Rural","HC","On call firefighters","Mixed",0]
["2016/17","Dorset and Wiltshire","E31000047","Non-metropolitan","Significantly Rural","HC","On call firefighters","White British or Irish",17]
["2016/17","Dorset and Wiltshire","E31000047","Non-metropolitan","Significantly Rural","HC","Support staff","Asian or Asian British",1]
["2016/17","Dorset and Wiltshire","E31000047","Non-metropolitan","Significantly Rural","HC","Support staff","Black or Black British",0]
["2016/17","Dorset and Wiltshire","E31000047","Non-metropolitan","Significantly Rural","HC","Support staff","Chinese or other ethnicity",0]
["2016/17","Dorset and Wiltshire","E31000047","Non-metropolitan","Significantly Rural","HC","Support staff","Ethnic origin not stated",13]
["2016/17","Dorset and Wiltshire","E31000047","Non-metropolitan","Significantly Rural","HC","Support staff","Mixed",0]
["2016/17","Dorset and Wiltshire","E31000047","Non-metropolitan","Significantly Rural","HC","Support staff","White British or Irish",18]
["2016/17","Dorset and Wiltshire","E31000047","Non-metropolitan","Significantly Rural","HC","Wholetime firefighters","Asian or Asian British",0]
["2016/17","Dorset and Wiltshire","E31000047","Non-metropolitan","Significantly Rural","HC","Wholetime firefighters","Black or Black British",0]
["2016/17","Dorset and Wiltshire","E31000047","Non-metropolitan","Significantly Rural","HC","Wholetime firefighters","Chinese or other ethnicity",0]
["2016/17","Dorset and Wiltshire","E31000047","Non-metropolitan","Significantly Rural","HC","Wholetime firefighters","Ethnic origin not stated",15]
["2016/17","Dorset and Wiltshire","E31000047","Non-metropolitan","Significantly Rural","HC","Wholetime firefighters","Mixed",0]
["2016/17","Dorset and Wiltshire","E31000047","Non-metropolitan","Significantly Rural","HC","Wholetime firefighters","White British or Irish",3]
["2016/17","Durham","E31000013","Non-metropolitan","Predominantly Rural","HC","Fire control","Asian or Asian British",0]
["2016/17","Durham","E31000013","Non-metropolitan","Predominantly Rural","HC","Fire control","Black or Black British",0]
["2016/17","Durham","E31000013","Non-metropolitan","Predominantly Rural","HC","Fire control","Chinese or other ethnicity",0]
["2016/17","Durham","E31000013","Non-metropolitan","Predominantly Rural","HC","Fire control","Ethnic origin not stated",1]
["2016/17","Durham","E31000013","Non-metropolitan","Predominantly Rural","HC","Fire control","Mixed",0]
["2016/17","Durham","E31000013","Non-metropolitan","Predominantly Rural","HC","Fire control","White British or Irish",0]
["2016/17","Durham","E31000013","Non-metropolitan","Predominantly Rural","HC","On call firefighters","Asian or Asian British",0]
["2016/17","Durham","E31000013","Non-metropolitan","Predominantly Rural","HC","On call firefighters","Black or Black British",0]
["2016/17","Durham","E31000013","Non-metropolitan","Predominantly Rural","HC","On call firefighters","Chinese or other ethnicity",0]
["2016/17","Durham","E31000013","Non-metropolitan","Predominantly Rural","HC","On call firefighters","Ethnic origin not stated",6]
["2016/17","Durham","E31000013","Non-metropolitan","Predominantly Rural","HC","On call firefighters","Mixed",0]
["2016/17","Durham","E31000013","Non-metropolitan","Predominantly Rural","HC","On call firefighters","White British or Irish",3]
["2016/17","Durham","E31000013","Non-metropolitan","Predominantly Rural","HC","Support staff","Asian or Asian British",0]
["2016/17","Durham","E31000013","Non-metropolitan","Predominantly Rural","HC","Support staff","Black or Black British",0]
["2016/17","Durham","E31000013","Non-metropolitan","Predominantly Rural","HC","Support staff","Chinese or other ethnicity",0]
["2016/17","Durham","E31000013","Non-metropolitan","Predominantly Rural","HC","Support staff","Ethnic origin not stated",4]
["2016/17","Durham","E31000013","Non-metropolitan","Predominantly Rural","HC","Support staff","Mixed",0]
["2016/17","Durham","E31000013","Non-metropolitan","Predominantly Rural","HC","Support staff","White British or Irish",1]
["2016/17","Durham","E31000013","Non-metropolitan","Predominantly Rural","HC","Wholetime firefighters","Asian or Asian British",0]
["2016/17","Durham","E31000013","Non-metropolitan","Predominantly Rural","HC","Wholetime firefighters","Black or Black British",0]
["2016/17","Durham","E31000013","Non-metropolitan","Predominantly Rural","HC","Wholetime firefighters","Chinese or other ethnicity",0]
["2016/17","Durham","E31000013","Non-metropolitan","Predominantly Rural","HC","Wholetime firefighters","Ethnic origin not stated",0]
["2016/17","Durham","E31000013","Non-metropolitan","Predominantly Rural","HC","Wholetime firefighters","Mixed",0]
["2016/17","Durham","E31000013","Non-metropolitan","Predominantly Rural","HC","Wholetime firefighters","White British or Irish",0]
["2016/17","East Sussex","E31000014","Non-metropolitan","Significantly Rural","HC","Fire control","Asian or Asian British",0]
["2016/17","East Sussex","E31000014","Non-metropolitan","Significantly Rural","HC","Fire control","Black or Black British",0]
["2016/17","East Sussex","E31000014","Non-metropolitan","Significantly Rural","HC","Fire control","Chinese or other ethnicity",0]
["2016/17","East Sussex","E31000014","Non-metropolitan","Significantly Rural","HC","Fire control","Ethnic origin not stated",0]
["2016/17","East Sussex","E31000014","Non-metropolitan","Significantly Rural","HC","Fire control","Mixed",0]
["2016/17","East Sussex","E31000014","Non-metropolitan","Significantly Rural","HC","Fire control","White British or Irish",2]
["2016/17","East Sussex","E31000014","Non-metropolitan","Significantly Rural","HC","On call firefighters","Asian or Asian British",0]
["2016/17","East Sussex","E31000014","Non-metropolitan","Significantly Rural","HC","On call firefighters","Black or Black British",1]
["2016/17","East Sussex","E31000014","Non-metropolitan","Significantly Rural","HC","On call firefighters","Chinese or other ethnicity",0]
["2016/17","East Sussex","E31000014","Non-metropolitan","Significantly Rural","HC","On call firefighters","Ethnic origin not stated",2]
["2016/17","East Sussex","E31000014","Non-metropolitan","Significantly Rural","HC","On call firefighters","Mixed",0]
["2016/17","East Sussex","E31000014","Non-metropolitan","Significantly Rural","HC","On call firefighters","White British or Irish",19]
["2016/17","East Sussex","E31000014","Non-metropolitan","Significantly Rural","HC","Support staff","Asian or Asian British",0]
["2016/17","East Sussex","E31000014","Non-metropolitan","Significantly Rural","HC","Support staff","Black or Black British",0]
["2016/17","East Sussex","E31000014","Non-metropolitan","Significantly Rural","HC","Support staff","Chinese or other ethnicity",0]
["2016/17","East Sussex","E31000014","Non-metropolitan","Significantly Rural","HC","Support staff","Ethnic origin not stated",1]
["2016/17","East Sussex","E31000014","Non-metropolitan","Significantly Rural","HC","Support staff","Mixed",0]
["2016/17","East Sussex","E31000014","Non-metropolitan","Significantly Rural","HC","Support staff","White British or Irish",5]
["2016/17","East Sussex","E31000014","Non-metropolitan","Significantly Rural","HC","Wholetime firefighters","Asian or Asian British",0]
["2016/17","East Sussex","E31000014","Non-metropolitan","Significantly Rural","HC","Wholetime firefighters","Black or Black British",0]
["2016/17","East Sussex","E31000014","Non-metropolitan","Significantly Rural","HC","Wholetime firefighters","Chinese or other ethnicity",0]
["2016/17","East Sussex","E31000014","Non-metropolitan","Significantly Rural","HC","Wholetime firefighters","Ethnic origin not stated",0]
["2016/17","East Sussex","E31000014","Non-metropolitan","Significantly Rural","HC","Wholetime firefighters","Mixed",0]
["2016/17","East Sussex","E31000014","Non-metropolitan","Significantly Rural","HC","Wholetime firefighters","White British or Irish",1]
["2016/17","Essex","E31000015","Non-metropolitan","Significantly Rural","HC","Fire control","Asian or Asian British",0]
["2016/17","Essex","E31000015","Non-metropolitan","Significantly Rural","HC","Fire control","Black or Black British",0]
["2016/17","Essex","E31000015","Non-metropolitan","Significantly Rural","HC","Fire control","Chinese or other ethnicity",0]
["2016/17","Essex","E31000015","Non-metropolitan","Significantly Rural","HC","Fire control","Ethnic origin not stated",0]
["2016/17","Essex","E31000015","Non-metropolitan","Significantly Rural","HC","Fire control","Mixed",0]
["2016/17","Essex","E31000015","Non-metropolitan","Significantly Rural","HC","Fire control","White British or Irish",0]
["2016/17","Essex","E31000015","Non-metropolitan","Significantly Rural","HC","On call firefighters","Asian or Asian British",0]
["2016/17","Essex","E31000015","Non-metropolitan","Significantly Rural","HC","On call firefighters","Black or Black British",0]
["2016/17","Essex","E31000015","Non-metropolitan","Significantly Rural","HC","On call firefighters","Chinese or other ethnicity",2]
["2016/17","Essex","E31000015","Non-metropolitan","Significantly Rural","HC","On call firefighters","Ethnic origin not stated",21]
["2016/17","Essex","E31000015","Non-metropolitan","Significantly Rural","HC","On call firefighters","Mixed",0]
["2016/17","Essex","E31000015","Non-metropolitan","Significantly Rural","HC","On call firefighters","White British or Irish",27]
["2016/17","Essex","E31000015","Non-metropolitan","Significantly Rural","HC","Support staff","Asian or Asian British",0]
["2016/17","Essex","E31000015","Non-metropolitan","Significantly Rural","HC","Support staff","Black or Black British",0]
["2016/17","Essex","E31000015","Non-metropolitan","Significantly Rural","HC","Support staff","Chinese or other ethnicity",0]
["2016/17","Essex","E31000015","Non-metropolitan","Significantly Rural","HC","Support staff","Ethnic origin not stated",15]
["2016/17","Essex","E31000015","Non-metropolitan","Significantly Rural","HC","Support staff","Mixed",0]
["2016/17","Essex","E31000015","Non-metropolitan","Significantly Rural","HC","Support staff","White British or Irish",22]
["2016/17","Essex","E31000015","Non-metropolitan","Significantly Rural","HC","Wholetime firefighters","Asian or Asian British",0]
["2016/17","Essex","E31000015","Non-metropolitan","Significantly Rural","HC","Wholetime firefighters","Black or Black British",0]
["2016/17","Essex","E31000015","Non-metropolitan","Significantly Rural","HC","Wholetime firefighters","Chinese or other ethnicity",0]
["2016/17","Essex","E31000015","Non-metropolitan","Significantly Rural","HC","Wholetime firefighters","Ethnic origin not stated",0]
["2016/17","Essex","E31000015","Non-metropolitan","Significantly Rural","HC","Wholetime firefighters","Mixed",0]
["2016/17","Essex","E31000015","Non-metropolitan","Significantly Rural","HC","Wholetime firefighters","White British or Irish",0]
["2016/17","Gloucestershire","E31000016","Non-metropolitan","Significantly Rural","HC","Fire control","Asian or Asian British",0]
["2016/17","Gloucestershire","E31000016","Non-metropolitan","Significantly Rural","HC","Fire control","Black or Black British",0]
["2016/17","Gloucestershire","E31000016","Non-metropolitan","Significantly Rural","HC","Fire control","Chinese or other ethnicity",0]
["2016/17","Gloucestershire","E31000016","Non-metropolitan","Significantly Rural","HC","Fire control","Ethnic origin not stated",0]
["2016/17","Gloucestershire","E31000016","Non-metropolitan","Significantly Rural","HC","Fire control","Mixed",0]
["2016/17","Gloucestershire","E31000016","Non-metropolitan","Significantly Rural","HC","Fire control","White British or Irish",0]
["2016/17","Gloucestershire","E31000016","Non-metropolitan","Significantly Rural","HC","On call firefighters","Asian or Asian British",0]
["2016/17","Gloucestershire","E31000016","Non-metropolitan","Significantly Rural","HC","On call firefighters","Black or Black British",0]
["2016/17","Gloucestershire","E31000016","Non-metropolitan","Significantly Rural","HC","On call firefighters","Chinese or other ethnicity",2]
["2016/17","Gloucestershire","E31000016","Non-metropolitan","Significantly Rural","HC","On call firefighters","Ethnic origin not stated",10]
["2016/17","Gloucestershire","E31000016","Non-metropolitan","Significantly Rural","HC","On call firefighters","Mixed",0]
["2016/17","Gloucestershire","E31000016","Non-metropolitan","Significantly Rural","HC","On call firefighters","White British or Irish",18]
["2016/17","Gloucestershire","E31000016","Non-metropolitan","Significantly Rural","HC","Support staff","Asian or Asian British",0]
["2016/17","Gloucestershire","E31000016","Non-metropolitan","Significantly Rural","HC","Support staff","Black or Black British",0]
["2016/17","Gloucestershire","E31000016","Non-metropolitan","Significantly Rural","HC","Support staff","Chinese or other ethnicity",0]
["2016/17","Gloucestershire","E31000016","Non-metropolitan","Significantly Rural","HC","Support staff","Ethnic origin not stated",6]
["2016/17","Gloucestershire","E31000016","Non-metropolitan","Significantly Rural","HC","Support staff","Mixed",0]
["2016/17","Gloucestershire","E31000016","Non-metropolitan","Significantly Rural","HC","Support staff","White British or Irish",0]
["2016/17","Gloucestershire","E31000016","Non-metropolitan","Significantly Rural","HC","Wholetime firefighters","Asian or Asian British",0]
["2016/17","Gloucestershire","E31000016","Non-metropolitan","Significantly Rural","HC","Wholetime firefighters","Black or Black British",0]
["2016/17","Gloucestershire","E31000016","Non-metropolitan","Significantly Rural","HC","Wholetime firefighters","Chinese or other ethnicity",0]
["2016/17","Gloucestershire","E31000016","Non-metropolitan","Significantly Rural","HC","Wholetime firefighters","Ethnic origin not stated",0]
["2016/17","Gloucestershire","E31000016","Non-metropolitan","Significantly Rural","HC","Wholetime firefighters","Mixed",0]
["2016/17","Gloucestershire","E31000016","Non-metropolitan","Significantly Rural","HC","Wholetime firefighters","White British or Irish",0]
["2016/17","Greater London","E31000046","Metropolitan","Predominantly Urban","HC","Fire control","Asian or Asian British",0]
["2016/17","Greater London","E31000046","Metropolitan","Predominantly Urban","HC","Fire control","Black or Black British",2]
["2016/17","Greater London","E31000046","Metropolitan","Predominantly Urban","HC","Fire control","Chinese or other ethnicity",0]
["2016/17","Greater London","E31000046","Metropolitan","Predominantly Urban","HC","Fire control","Ethnic origin not stated",0]
["2016/17","Greater London","E31000046","Metropolitan","Predominantly Urban","HC","Fire control","Mixed",1]
["2016/17","Greater London","E31000046","Metropolitan","Predominantly Urban","HC","Fire control","White British or Irish",9]
["2016/17","Greater London","E31000046","Metropolitan","Predominantly Urban","HC","On call firefighters","Asian or Asian British",0]
["2016/17","Greater London","E31000046","Metropolitan","Predominantly Urban","HC","On call firefighters","Black or Black British",0]
["2016/17","Greater London","E31000046","Metropolitan","Predominantly Urban","HC","On call firefighters","Chinese or other ethnicity",0]
["2016/17","Greater London","E31000046","Metropolitan","Predominantly Urban","HC","On call firefighters","Ethnic origin not stated",0]
["2016/17","Greater London","E31000046","Metropolitan","Predominantly Urban","HC","On call firefighters","Mixed",0]
["2016/17","Greater London","E31000046","Metropolitan","Predominantly Urban","HC","On call firefighters","White British or Irish",0]
["2016/17","Greater London","E31000046","Metropolitan","Predominantly Urban","HC","Support staff","Asian or Asian British",4]
["2016/17","Greater London","E31000046","Metropolitan","Predominantly Urban","HC","Support staff","Black or Black British",9]
["2016/17","Greater London","E31000046","Metropolitan","Predominantly Urban","HC","Support staff","Chinese or other ethnicity",5]
["2016/17","Greater London","E31000046","Metropolitan","Predominantly Urban","HC","Support staff","Ethnic origin not stated",0]
["2016/17","Greater London","E31000046","Metropolitan","Predominantly Urban","HC","Support staff","Mixed",3]
["2016/17","Greater London","E31000046","Metropolitan","Predominantly Urban","HC","Support staff","White British or Irish",35]
["2016/17","Greater London","E31000046","Metropolitan","Predominantly Urban","HC","Wholetime firefighters","Asian or Asian British",1]
["2016/17","Greater London","E31000046","Metropolitan","Predominantly Urban","HC","Wholetime firefighters","Black or Black British",6]
["2016/17","Greater London","E31000046","Metropolitan","Predominantly Urban","HC","Wholetime firefighters","Chinese or other ethnicity",3]
["2016/17","Greater London","E31000046","Metropolitan","Predominantly Urban","HC","Wholetime firefighters","Ethnic origin not stated",3]
["2016/17","Greater London","E31000046","Metropolitan","Predominantly Urban","HC","Wholetime firefighters","Mixed",13]
["2016/17","Greater London","E31000046","Metropolitan","Predominantly Urban","HC","Wholetime firefighters","White British or Irish",94]
["2016/17","Greater Manchester","E31000040","Metropolitan","Predominantly Urban","HC","Fire control","Asian or Asian British",0]
["2016/17","Greater Manchester","E31000040","Metropolitan","Predominantly Urban","HC","Fire control","Black or Black British",0]
["2016/17","Greater Manchester","E31000040","Metropolitan","Predominantly Urban","HC","Fire control","Chinese or other ethnicity",0]
["2016/17","Greater Manchester","E31000040","Metropolitan","Predominantly Urban","HC","Fire control","Ethnic origin not stated",0]
["2016/17","Greater Manchester","E31000040","Metropolitan","Predominantly Urban","HC","Fire control","Mixed",0]
["2016/17","Greater Manchester","E31000040","Metropolitan","Predominantly Urban","HC","Fire control","White British or Irish",0]
["2016/17","Greater Manchester","E31000040","Metropolitan","Predominantly Urban","HC","On call firefighters","Asian or Asian British",0]
["2016/17","Greater Manchester","E31000040","Metropolitan","Predominantly Urban","HC","On call firefighters","Black or Black British",0]
["2016/17","Greater Manchester","E31000040","Metropolitan","Predominantly Urban","HC","On call firefighters","Chinese or other ethnicity",0]
["2016/17","Greater Manchester","E31000040","Metropolitan","Predominantly Urban","HC","On call firefighters","Ethnic origin not stated",0]
["2016/17","Greater Manchester","E31000040","Metropolitan","Predominantly Urban","HC","On call firefighters","Mixed",0]
["2016/17","Greater Manchester","E31000040","Metropolitan","Predominantly Urban","HC","On call firefighters","White British or Irish",1]
["2016/17","Greater Manchester","E31000040","Metropolitan","Predominantly Urban","HC","Support staff","Asian or Asian British",0]
["2016/17","Greater Manchester","E31000040","Metropolitan","Predominantly Urban","HC","Support staff","Black or Black British",1]
["2016/17","Greater Manchester","E31000040","Metropolitan","Predominantly Urban","HC","Support staff","Chinese or other ethnicity",1]
["2016/17","Greater Manchester","E31000040","Metropolitan","Predominantly Urban","HC","Support staff","Ethnic origin not stated",9]
["2016/17","Greater Manchester","E31000040","Metropolitan","Predominantly Urban","HC","Support staff","Mixed",2]
["2016/17","Greater Manchester","E31000040","Metropolitan","Predominantly Urban","HC","Support staff","White British or Irish",49]
["2016/17","Greater Manchester","E31000040","Metropolitan","Predominantly Urban","HC","Wholetime firefighters","Asian or Asian British",0]
["2016/17","Greater Manchester","E31000040","Metropolitan","Predominantly Urban","HC","Wholetime firefighters","Black or Black British",1]
["2016/17","Greater Manchester","E31000040","Metropolitan","Predominantly Urban","HC","Wholetime firefighters","Chinese or other ethnicity",0]
["2016/17","Greater Manchester","E31000040","Metropolitan","Predominantly Urban","HC","Wholetime firefighters","Ethnic origin not stated",11]
["2016/17","Greater Manchester","E31000040","Metropolitan","Predominantly Urban","HC","Wholetime firefighters","Mixed",3]
["2016/17","Greater Manchester","E31000040","Metropolitan","Predominantly Urban","HC","Wholetime firefighters","White British or Irish",2]
["2016/17","Hampshire and Isle of Wight","E31000048","Non-metropolitan","Significantly Rural","HC","Fire control","Asian or Asian British",0]
["2016/17","Hampshire and Isle of Wight","E31000048","Non-metropolitan","Significantly Rural","HC","Fire control","Black or Black British",0]
["2016/17","Hampshire and Isle of Wight","E31000048","Non-metropolitan","Significantly Rural","HC","Fire control","Chinese or other ethnicity",1]
["2016/17","Hampshire and Isle of Wight","E31000048","Non-metropolitan","Significantly Rural","HC","Fire control","Ethnic origin not stated",0]
["2016/17","Hampshire and Isle of Wight","E31000048","Non-metropolitan","Significantly Rural","HC","Fire control","Mixed",0]
["2016/17","Hampshire and Isle of Wight","E31000048","Non-metropolitan","Significantly Rural","HC","Fire control","White British or Irish",3]
["2016/17","Hampshire and Isle of Wight","E31000048","Non-metropolitan","Significantly Rural","HC","On call firefighters","Asian or Asian British",0]
["2016/17","Hampshire and Isle of Wight","E31000048","Non-metropolitan","Significantly Rural","HC","On call firefighters","Black or Black British",0]
["2016/17","Hampshire and Isle of Wight","E31000048","Non-metropolitan","Significantly Rural","HC","On call firefighters","Chinese or other ethnicity",2]
["2016/17","Hampshire and Isle of Wight","E31000048","Non-metropolitan","Significantly Rural","HC","On call firefighters","Ethnic origin not stated",30]
["2016/17","Hampshire and Isle of Wight","E31000048","Non-metropolitan","Significantly Rural","HC","On call firefighters","Mixed",1]
["2016/17","Hampshire and Isle of Wight","E31000048","Non-metropolitan","Significantly Rural","HC","On call firefighters","White British or Irish",23]
["2016/17","Hampshire and Isle of Wight","E31000048","Non-metropolitan","Significantly Rural","HC","Support staff","Asian or Asian British",0]
["2016/17","Hampshire and Isle of Wight","E31000048","Non-metropolitan","Significantly Rural","HC","Support staff","Black or Black British",0]
["2016/17","Hampshire and Isle of Wight","E31000048","Non-metropolitan","Significantly Rural","HC","Support staff","Chinese or other ethnicity",8]
["2016/17","Hampshire and Isle of Wight","E31000048","Non-metropolitan","Significantly Rural","HC","Support staff","Ethnic origin not stated",11]
["2016/17","Hampshire and Isle of Wight","E31000048","Non-metropolitan","Significantly Rural","HC","Support staff","Mixed",1]
["2016/17","Hampshire and Isle of Wight","E31000048","Non-metropolitan","Significantly Rural","HC","Support staff","White British or Irish",58]
["2016/17","Hampshire and Isle of Wight","E31000048","Non-metropolitan","Significantly Rural","HC","Wholetime firefighters","Asian or Asian British",0]
["2016/17","Hampshire and Isle of Wight","E31000048","Non-metropolitan","Significantly Rural","HC","Wholetime firefighters","Black or Black British",0]
["2016/17","Hampshire and Isle of Wight","E31000048","Non-metropolitan","Significantly Rural","HC","Wholetime firefighters","Chinese or other ethnicity",1]
["2016/17","Hampshire and Isle of Wight","E31000048","Non-metropolitan","Significantly Rural","HC","Wholetime firefighters","Ethnic origin not stated",25]
["2016/17","Hampshire and Isle of Wight","E31000048","Non-metropolitan","Significantly Rural","HC","Wholetime firefighters","Mixed",0]
["2016/17","Hampshire and Isle of Wight","E31000048","Non-metropolitan","Significantly Rural","HC","Wholetime firefighters","White British or Irish",55]
["2016/17","Hereford and Worcester","E31000018","Non-metropolitan","Significantly Rural","HC","Fire control","Asian or Asian British",0]
["2016/17","Hereford and Worcester","E31000018","Non-metropolitan","Significantly Rural","HC","Fire control","Black or Black British",0]
["2016/17","Hereford and Worcester","E31000018","Non-metropolitan","Significantly Rural","HC","Fire control","Chinese or other ethnicity",0]
["2016/17","Hereford and Worcester","E31000018","Non-metropolitan","Significantly Rural","HC","Fire control","Ethnic origin not stated",0]
["2016/17","Hereford and Worcester","E31000018","Non-metropolitan","Significantly Rural","HC","Fire control","Mixed",0]
["2016/17","Hereford and Worcester","E31000018","Non-metropolitan","Significantly Rural","HC","Fire control","White British or Irish",3]
["2016/17","Hereford and Worcester","E31000018","Non-metropolitan","Significantly Rural","HC","On call firefighters","Asian or Asian British",0]
["2016/17","Hereford and Worcester","E31000018","Non-metropolitan","Significantly Rural","HC","On call firefighters","Black or Black British",1]
["2016/17","Hereford and Worcester","E31000018","Non-metropolitan","Significantly Rural","HC","On call firefighters","Chinese or other ethnicity",0]
["2016/17","Hereford and Worcester","E31000018","Non-metropolitan","Significantly Rural","HC","On call firefighters","Ethnic origin not stated",5]
["2016/17","Hereford and Worcester","E31000018","Non-metropolitan","Significantly Rural","HC","On call firefighters","Mixed",2]
["2016/17","Hereford and Worcester","E31000018","Non-metropolitan","Significantly Rural","HC","On call firefighters","White British or Irish",43]
["2016/17","Hereford and Worcester","E31000018","Non-metropolitan","Significantly Rural","HC","Support staff","Asian or Asian British",0]
["2016/17","Hereford and Worcester","E31000018","Non-metropolitan","Significantly Rural","HC","Support staff","Black or Black British",0]
["2016/17","Hereford and Worcester","E31000018","Non-metropolitan","Significantly Rural","HC","Support staff","Chinese or other ethnicity",1]
["2016/17","Hereford and Worcester","E31000018","Non-metropolitan","Significantly Rural","HC","Support staff","Ethnic origin not stated",1]
["2016/17","Hereford and Worcester","E31000018","Non-metropolitan","Significantly Rural","HC","Support staff","Mixed",0]
["2016/17","Hereford and Worcester","E31000018","Non-metropolitan","Significantly Rural","HC","Support staff","White British or Irish",22]
["2016/17","Hereford and Worcester","E31000018","Non-metropolitan","Significantly Rural","HC","Wholetime firefighters","Asian or Asian British",0]
["2016/17","Hereford and Worcester","E31000018","Non-metropolitan","Significantly Rural","HC","Wholetime firefighters","Black or Black British",0]
["2016/17","Hereford and Worcester","E31000018","Non-metropolitan","Significantly Rural","HC","Wholetime firefighters","Chinese or other ethnicity",0]
["2016/17","Hereford and Worcester","E31000018","Non-metropolitan","Significantly Rural","HC","Wholetime firefighters","Ethnic origin not stated",1]
["2016/17","Hereford and Worcester","E31000018","Non-metropolitan","Significantly Rural","HC","Wholetime firefighters","Mixed",0]
["2016/17","Hereford and Worcester","E31000018","Non-metropolitan","Significantly Rural","HC","Wholetime firefighters","White British or Irish",0]
["2016/17","Hertfordshire","E31000019","Non-metropolitan","Predominantly Urban","HC","Fire control","Asian or Asian British",0]
["2016/17","Hertfordshire","E31000019","Non-metropolitan","Predominantly Urban","HC","Fire control","Black or Black British",0]
["2016/17","Hertfordshire","E31000019","Non-metropolitan","Predominantly Urban","HC","Fire control","Chinese or other ethnicity",0]
["2016/17","Hertfordshire","E31000019","Non-metropolitan","Predominantly Urban","HC","Fire control","Ethnic origin not stated",0]
["2016/17","Hertfordshire","E31000019","Non-metropolitan","Predominantly Urban","HC","Fire control","Mixed",0]
["2016/17","Hertfordshire","E31000019","Non-metropolitan","Predominantly Urban","HC","Fire control","White British or Irish",0]
["2016/17","Hertfordshire","E31000019","Non-metropolitan","Predominantly Urban","HC","On call firefighters","Asian or Asian British",0]
["2016/17","Hertfordshire","E31000019","Non-metropolitan","Predominantly Urban","HC","On call firefighters","Black or Black British",0]
["2016/17","Hertfordshire","E31000019","Non-metropolitan","Predominantly Urban","HC","On call firefighters","Chinese or other ethnicity",0]
["2016/17","Hertfordshire","E31000019","Non-metropolitan","Predominantly Urban","HC","On call firefighters","Ethnic origin not stated",0]
["2016/17","Hertfordshire","E31000019","Non-metropolitan","Predominantly Urban","HC","On call firefighters","Mixed",0]
["2016/17","Hertfordshire","E31000019","Non-metropolitan","Predominantly Urban","HC","On call firefighters","White British or Irish",0]
["2016/17","Hertfordshire","E31000019","Non-metropolitan","Predominantly Urban","HC","Support staff","Asian or Asian British",0]
["2016/17","Hertfordshire","E31000019","Non-metropolitan","Predominantly Urban","HC","Support staff","Black or Black British",0]
["2016/17","Hertfordshire","E31000019","Non-metropolitan","Predominantly Urban","HC","Support staff","Chinese or other ethnicity",0]
["2016/17","Hertfordshire","E31000019","Non-metropolitan","Predominantly Urban","HC","Support staff","Ethnic origin not stated",0]
["2016/17","Hertfordshire","E31000019","Non-metropolitan","Predominantly Urban","HC","Support staff","Mixed",0]
["2016/17","Hertfordshire","E31000019","Non-metropolitan","Predominantly Urban","HC","Support staff","White British or Irish",0]
["2016/17","Hertfordshire","E31000019","Non-metropolitan","Predominantly Urban","HC","Wholetime firefighters","Asian or Asian British",0]
["2016/17","Hertfordshire","E31000019","Non-metropolitan","Predominantly Urban","HC","Wholetime firefighters","Black or Black British",0]
["2016/17","Hertfordshire","E31000019","Non-metropolitan","Predominantly Urban","HC","Wholetime firefighters","Chinese or other ethnicity",0]
["2016/17","Hertfordshire","E31000019","Non-metropolitan","Predominantly Urban","HC","Wholetime firefighters","Ethnic origin not stated",0]
["2016/17","Hertfordshire","E31000019","Non-metropolitan","Predominantly Urban","HC","Wholetime firefighters","Mixed",0]
["2016/17","Hertfordshire","E31000019","Non-metropolitan","Predominantly Urban","HC","Wholetime firefighters","White British or Irish",0]
["2016/17","Humberside","E31000020","Non-metropolitan","Significantly Rural","HC","Fire control","Asian or Asian British",0]
["2016/17","Humberside","E31000020","Non-metropolitan","Significantly Rural","HC","Fire control","Black or Black British",0]
["2016/17","Humberside","E31000020","Non-metropolitan","Significantly Rural","HC","Fire control","Chinese or other ethnicity",0]
["2016/17","Humberside","E31000020","Non-metropolitan","Significantly Rural","HC","Fire control","Ethnic origin not stated",0]
["2016/17","Humberside","E31000020","Non-metropolitan","Significantly Rural","HC","Fire control","Mixed",0]
["2016/17","Humberside","E31000020","Non-metropolitan","Significantly Rural","HC","Fire control","White British or Irish",0]
["2016/17","Humberside","E31000020","Non-metropolitan","Significantly Rural","HC","On call firefighters","Asian or Asian British",0]
["2016/17","Humberside","E31000020","Non-metropolitan","Significantly Rural","HC","On call firefighters","Black or Black British",0]
["2016/17","Humberside","E31000020","Non-metropolitan","Significantly Rural","HC","On call firefighters","Chinese or other ethnicity",0]
["2016/17","Humberside","E31000020","Non-metropolitan","Significantly Rural","HC","On call firefighters","Ethnic origin not stated",0]
["2016/17","Humberside","E31000020","Non-metropolitan","Significantly Rural","HC","On call firefighters","Mixed",0]
["2016/17","Humberside","E31000020","Non-metropolitan","Significantly Rural","HC","On call firefighters","White British or Irish",4]
["2016/17","Humberside","E31000020","Non-metropolitan","Significantly Rural","HC","Support staff","Asian or Asian British",0]
["2016/17","Humberside","E31000020","Non-metropolitan","Significantly Rural","HC","Support staff","Black or Black British",0]
["2016/17","Humberside","E31000020","Non-metropolitan","Significantly Rural","HC","Support staff","Chinese or other ethnicity",0]
["2016/17","Humberside","E31000020","Non-metropolitan","Significantly Rural","HC","Support staff","Ethnic origin not stated",4]
["2016/17","Humberside","E31000020","Non-metropolitan","Significantly Rural","HC","Support staff","Mixed",0]
["2016/17","Humberside","E31000020","Non-metropolitan","Significantly Rural","HC","Support staff","White British or Irish",8]
["2016/17","Humberside","E31000020","Non-metropolitan","Significantly Rural","HC","Wholetime firefighters","Asian or Asian British",0]
["2016/17","Humberside","E31000020","Non-metropolitan","Significantly Rural","HC","Wholetime firefighters","Black or Black British",0]
["2016/17","Humberside","E31000020","Non-metropolitan","Significantly Rural","HC","Wholetime firefighters","Chinese or other ethnicity",0]
["2016/17","Humberside","E31000020","Non-metropolitan","Significantly Rural","HC","Wholetime firefighters","Ethnic origin not stated",0]
["2016/17","Humberside","E31000020","Non-metropolitan","Significantly Rural","HC","Wholetime firefighters","Mixed",0]
["2016/17","Humberside","E31000020","Non-metropolitan","Significantly Rural","HC","Wholetime firefighters","White British or Irish",0]
["2016/17","Isles Of Scilly","E31000039","Non-metropolitan","Predominantly Rural","HC","Fire control","Asian or Asian British",0]
["2016/17","Isles Of Scilly","E31000039","Non-metropolitan","Predominantly Rural","HC","Fire control","Black or Black British",0]
["2016/17","Isles Of Scilly","E31000039","Non-metropolitan","Predominantly Rural","HC","Fire control","Chinese or other ethnicity",0]
["2016/17","Isles Of Scilly","E31000039","Non-metropolitan","Predominantly Rural","HC","Fire control","Ethnic origin not stated",0]
["2016/17","Isles Of Scilly","E31000039","Non-metropolitan","Predominantly Rural","HC","Fire control","Mixed",0]
["2016/17","Isles Of Scilly","E31000039","Non-metropolitan","Predominantly Rural","HC","Fire control","White British or Irish",0]
["2016/17","Isles Of Scilly","E31000039","Non-metropolitan","Predominantly Rural","HC","On call firefighters","Asian or Asian British",0]
["2016/17","Isles Of Scilly","E31000039","Non-metropolitan","Predominantly Rural","HC","On call firefighters","Black or Black British",0]
["2016/17","Isles Of Scilly","E31000039","Non-metropolitan","Predominantly Rural","HC","On call firefighters","Chinese or other ethnicity",0]
["2016/17","Isles Of Scilly","E31000039","Non-metropolitan","Predominantly Rural","HC","On call firefighters","Ethnic origin not stated",0]
["2016/17","Isles Of Scilly","E31000039","Non-metropolitan","Predominantly Rural","HC","On call firefighters","Mixed",0]
["2016/17","Isles Of Scilly","E31000039","Non-metropolitan","Predominantly Rural","HC","On call firefighters","White British or Irish",0]
["2016/17","Isles Of Scilly","E31000039","Non-metropolitan","Predominantly Rural","HC","Support staff","Asian or Asian British",0]
["2016/17","Isles Of Scilly","E31000039","Non-metropolitan","Predominantly Rural","HC","Support staff","Black or Black British",0]
["2016/17","Isles Of Scilly","E31000039","Non-metropolitan","Predominantly Rural","HC","Support staff","Chinese or other ethnicity",0]
["2016/17","Isles Of Scilly","E31000039","Non-metropolitan","Predominantly Rural","HC","Support staff","Ethnic origin not stated",0]
["2016/17","Isles Of Scilly","E31000039","Non-metropolitan","Predominantly Rural","HC","Support staff","Mixed",0]
["2016/17","Isles Of Scilly","E31000039","Non-metropolitan","Predominantly Rural","HC","Support staff","White British or Irish",0]
["2016/17","Isles Of Scilly","E31000039","Non-metropolitan","Predominantly Rural","HC","Wholetime firefighters","Asian or Asian British",0]
["2016/17","Isles Of Scilly","E31000039","Non-metropolitan","Predominantly Rural","HC","Wholetime firefighters","Black or Black British",0]
["2016/17","Isles Of Scilly","E31000039","Non-metropolitan","Predominantly Rural","HC","Wholetime firefighters","Chinese or other ethnicity",0]
["2016/17","Isles Of Scilly","E31000039","Non-metropolitan","Predominantly Rural","HC","Wholetime firefighters","Ethnic origin not stated",0]
["2016/17","Isles Of Scilly","E31000039","Non-metropolitan","Predominantly Rural","HC","Wholetime firefighters","Mixed",0]
["2016/17","Isles Of Scilly","E31000039","Non-metropolitan","Predominantly Rural","HC","Wholetime firefighters","White British or Irish",0]
["2016/17","Kent","E31000022","Non-metropolitan","Significantly Rural","HC","Fire control","Asian or Asian British",0]
["2016/17","Kent","E31000022","Non-metropolitan","Significantly Rural","HC","Fire control","Black or Black British",0]
["2016/17","Kent","E31000022","Non-metropolitan","Significantly Rural","HC","Fire control","Chinese or other ethnicity",0]
["2016/17","Kent","E31000022","Non-metropolitan","Significantly Rural","HC","Fire control","Ethnic origin not stated",2]
["2016/17","Kent","E31000022","Non-metropolitan","Significantly Rural","HC","Fire control","Mixed",0]
["2016/17","Kent","E31000022","Non-metropolitan","Significantly Rural","HC","Fire control","White British or Irish",1]
["2016/17","Kent","E31000022","Non-metropolitan","Significantly Rural","HC","On call firefighters","Asian or Asian British",0]
["2016/17","Kent","E31000022","Non-metropolitan","Significantly Rural","HC","On call firefighters","Black or Black British",0]
["2016/17","Kent","E31000022","Non-metropolitan","Significantly Rural","HC","On call firefighters","Chinese or other ethnicity",0]
["2016/17","Kent","E31000022","Non-metropolitan","Significantly Rural","HC","On call firefighters","Ethnic origin not stated",10]
["2016/17","Kent","E31000022","Non-metropolitan","Significantly Rural","HC","On call firefighters","Mixed",1]
["2016/17","Kent","E31000022","Non-metropolitan","Significantly Rural","HC","On call firefighters","White British or Irish",5]
["2016/17","Kent","E31000022","Non-metropolitan","Significantly Rural","HC","Support staff","Asian or Asian British",0]
["2016/17","Kent","E31000022","Non-metropolitan","Significantly Rural","HC","Support staff","Black or Black British",0]
["2016/17","Kent","E31000022","Non-metropolitan","Significantly Rural","HC","Support staff","Chinese or other ethnicity",0]
["2016/17","Kent","E31000022","Non-metropolitan","Significantly Rural","HC","Support staff","Ethnic origin not stated",13]
["2016/17","Kent","E31000022","Non-metropolitan","Significantly Rural","HC","Support staff","Mixed",0]
["2016/17","Kent","E31000022","Non-metropolitan","Significantly Rural","HC","Support staff","White British or Irish",18]
["2016/17","Kent","E31000022","Non-metropolitan","Significantly Rural","HC","Wholetime firefighters","Asian or Asian British",0]
["2016/17","Kent","E31000022","Non-metropolitan","Significantly Rural","HC","Wholetime firefighters","Black or Black British",0]
["2016/17","Kent","E31000022","Non-metropolitan","Significantly Rural","HC","Wholetime firefighters","Chinese or other ethnicity",0]
["2016/17","Kent","E31000022","Non-metropolitan","Significantly Rural","HC","Wholetime firefighters","Ethnic origin not stated",5]
["2016/17","Kent","E31000022","Non-metropolitan","Significantly Rural","HC","Wholetime firefighters","Mixed",0]
["2016/17","Kent","E31000022","Non-metropolitan","Significantly Rural","HC","Wholetime firefighters","White British or Irish",4]
["2016/17","Lancashire","E31000023","Non-metropolitan","Predominantly Urban","HC","Fire control","Asian or Asian British",0]
["2016/17","Lancashire","E31000023","Non-metropolitan","Predominantly Urban","HC","Fire control","Black or Black British",0]
["2016/17","Lancashire","E31000023","Non-metropolitan","Predominantly Urban","HC","Fire control","Chinese or other ethnicity",0]
["2016/17","Lancashire","E31000023","Non-metropolitan","Predominantly Urban","HC","Fire control","Ethnic origin not stated",0]
["2016/17","Lancashire","E31000023","Non-metropolitan","Predominantly Urban","HC","Fire control","Mixed",0]
["2016/17","Lancashire","E31000023","Non-metropolitan","Predominantly Urban","HC","Fire control","White British or Irish",0]
["2016/17","Lancashire","E31000023","Non-metropolitan","Predominantly Urban","HC","On call firefighters","Asian or Asian British",0]
["2016/17","Lancashire","E31000023","Non-metropolitan","Predominantly Urban","HC","On call firefighters","Black or Black British",1]
["2016/17","Lancashire","E31000023","Non-metropolitan","Predominantly Urban","HC","On call firefighters","Chinese or other ethnicity",0]
["2016/17","Lancashire","E31000023","Non-metropolitan","Predominantly Urban","HC","On call firefighters","Ethnic origin not stated",6]
["2016/17","Lancashire","E31000023","Non-metropolitan","Predominantly Urban","HC","On call firefighters","Mixed",0]
["2016/17","Lancashire","E31000023","Non-metropolitan","Predominantly Urban","HC","On call firefighters","White British or Irish",51]
["2016/17","Lancashire","E31000023","Non-metropolitan","Predominantly Urban","HC","Support staff","Asian or Asian British",1]
["2016/17","Lancashire","E31000023","Non-metropolitan","Predominantly Urban","HC","Support staff","Black or Black British",0]
["2016/17","Lancashire","E31000023","Non-metropolitan","Predominantly Urban","HC","Support staff","Chinese or other ethnicity",0]
["2016/17","Lancashire","E31000023","Non-metropolitan","Predominantly Urban","HC","Support staff","Ethnic origin not stated",2]
["2016/17","Lancashire","E31000023","Non-metropolitan","Predominantly Urban","HC","Support staff","Mixed",0]
["2016/17","Lancashire","E31000023","Non-metropolitan","Predominantly Urban","HC","Support staff","White British or Irish",20]
["2016/17","Lancashire","E31000023","Non-metropolitan","Predominantly Urban","HC","Wholetime firefighters","Asian or Asian British",0]
["2016/17","Lancashire","E31000023","Non-metropolitan","Predominantly Urban","HC","Wholetime firefighters","Black or Black British",0]
["2016/17","Lancashire","E31000023","Non-metropolitan","Predominantly Urban","HC","Wholetime firefighters","Chinese or other ethnicity",0]
["2016/17","Lancashire","E31000023","Non-metropolitan","Predominantly Urban","HC","Wholetime firefighters","Ethnic origin not stated",0]
["2016/17","Lancashire","E31000023","Non-metropolitan","Predominantly Urban","HC","Wholetime firefighters","Mixed",0]
["2016/17","Lancashire","E31000023","Non-metropolitan","Predominantly Urban","HC","Wholetime firefighters","White British or Irish",0]
["2016/17","Leicestershire","E31000024","Non-metropolitan","Significantly Rural","HC","Fire control","Asian or Asian British",0]
["2016/17","Leicestershire","E31000024","Non-metropolitan","Significantly Rural","HC","Fire control","Black or Black British",0]
["2016/17","Leicestershire","E31000024","Non-metropolitan","Significantly Rural","HC","Fire control","Chinese or other ethnicity",1]
["2016/17","Leicestershire","E31000024","Non-metropolitan","Significantly Rural","HC","Fire control","Ethnic origin not stated",0]
["2016/17","Leicestershire","E31000024","Non-metropolitan","Significantly Rural","HC","Fire control","Mixed",0]
["2016/17","Leicestershire","E31000024","Non-metropolitan","Significantly Rural","HC","Fire control","White British or Irish",3]
["2016/17","Leicestershire","E31000024","Non-metropolitan","Significantly Rural","HC","On call firefighters","Asian or Asian British",0]
["2016/17","Leicestershire","E31000024","Non-metropolitan","Significantly Rural","HC","On call firefighters","Black or Black British",0]
["2016/17","Leicestershire","E31000024","Non-metropolitan","Significantly Rural","HC","On call firefighters","Chinese or other ethnicity",0]
["2016/17","Leicestershire","E31000024","Non-metropolitan","Significantly Rural","HC","On call firefighters","Ethnic origin not stated",2]
["2016/17","Leicestershire","E31000024","Non-metropolitan","Significantly Rural","HC","On call firefighters","Mixed",0]
["2016/17","Leicestershire","E31000024","Non-metropolitan","Significantly Rural","HC","On call firefighters","White British or Irish",18]
["2016/17","Leicestershire","E31000024","Non-metropolitan","Significantly Rural","HC","Support staff","Asian or Asian British",0]
["2016/17","Leicestershire","E31000024","Non-metropolitan","Significantly Rural","HC","Support staff","Black or Black British",0]
["2016/17","Leicestershire","E31000024","Non-metropolitan","Significantly Rural","HC","Support staff","Chinese or other ethnicity",0]
["2016/17","Leicestershire","E31000024","Non-metropolitan","Significantly Rural","HC","Support staff","Ethnic origin not stated",0]
["2016/17","Leicestershire","E31000024","Non-metropolitan","Significantly Rural","HC","Support staff","Mixed",1]
["2016/17","Leicestershire","E31000024","Non-metropolitan","Significantly Rural","HC","Support staff","White British or Irish",8]
["2016/17","Leicestershire","E31000024","Non-metropolitan","Significantly Rural","HC","Wholetime firefighters","Asian or Asian British",0]
["2016/17","Leicestershire","E31000024","Non-metropolitan","Significantly Rural","HC","Wholetime firefighters","Black or Black British",0]
["2016/17","Leicestershire","E31000024","Non-metropolitan","Significantly Rural","HC","Wholetime firefighters","Chinese or other ethnicity",0]
["2016/17","Leicestershire","E31000024","Non-metropolitan","Significantly Rural","HC","Wholetime firefighters","Ethnic origin not stated",0]
["2016/17","Leicestershire","E31000024","Non-metropolitan","Significantly Rural","HC","Wholetime firefighters","Mixed",0]
["2016/17","Leicestershire","E31000024","Non-metropolitan","Significantly Rural","HC","Wholetime firefighters","White British or Irish",0]
["2016/17","Lincolnshire","E31000025","Non-metropolitan","Predominantly Rural","HC","Fire control","Asian or Asian British",0]
["2016/17","Lincolnshire","E31000025","Non-metropolitan","Predominantly Rural","HC","Fire control","Black or Black British",0]
["2016/17","Lincolnshire","E31000025","Non-metropolitan","Predominantly Rural","HC","Fire control","Chinese or other ethnicity",0]
["2016/17","Lincolnshire","E31000025","Non-metropolitan","Predominantly Rural","HC","Fire control","Ethnic origin not stated",0]
["2016/17","Lincolnshire","E31000025","Non-metropolitan","Predominantly Rural","HC","Fire control","Mixed",0]
["2016/17","Lincolnshire","E31000025","Non-metropolitan","Predominantly Rural","HC","Fire control","White British or Irish",1]
["2016/17","Lincolnshire","E31000025","Non-metropolitan","Predominantly Rural","HC","On call firefighters","Asian or Asian British",0]
["2016/17","Lincolnshire","E31000025","Non-metropolitan","Predominantly Rural","HC","On call firefighters","Black or Black British",0]
["2016/17","Lincolnshire","E31000025","Non-metropolitan","Predominantly Rural","HC","On call firefighters","Chinese or other ethnicity",7]
["2016/17","Lincolnshire","E31000025","Non-metropolitan","Predominantly Rural","HC","On call firefighters","Ethnic origin not stated",1]
["2016/17","Lincolnshire","E31000025","Non-metropolitan","Predominantly Rural","HC","On call firefighters","Mixed",1]
["2016/17","Lincolnshire","E31000025","Non-metropolitan","Predominantly Rural","HC","On call firefighters","White British or Irish",53]
["2016/17","Lincolnshire","E31000025","Non-metropolitan","Predominantly Rural","HC","Support staff","Asian or Asian British",0]
["2016/17","Lincolnshire","E31000025","Non-metropolitan","Predominantly Rural","HC","Support staff","Black or Black British",0]
["2016/17","Lincolnshire","E31000025","Non-metropolitan","Predominantly Rural","HC","Support staff","Chinese or other ethnicity",1]
["2016/17","Lincolnshire","E31000025","Non-metropolitan","Predominantly Rural","HC","Support staff","Ethnic origin not stated",0]
["2016/17","Lincolnshire","E31000025","Non-metropolitan","Predominantly Rural","HC","Support staff","Mixed",0]
["2016/17","Lincolnshire","E31000025","Non-metropolitan","Predominantly Rural","HC","Support staff","White British or Irish",2]
["2016/17","Lincolnshire","E31000025","Non-metropolitan","Predominantly Rural","HC","Wholetime firefighters","Asian or Asian British",0]
["2016/17","Lincolnshire","E31000025","Non-metropolitan","Predominantly Rural","HC","Wholetime firefighters","Black or Black British",0]
["2016/17","Lincolnshire","E31000025","Non-metropolitan","Predominantly Rural","HC","Wholetime firefighters","Chinese or other ethnicity",0]
["2016/17","Lincolnshire","E31000025","Non-metropolitan","Predominantly Rural","HC","Wholetime firefighters","Ethnic origin not stated",0]
["2016/17","Lincolnshire","E31000025","Non-metropolitan","Predominantly Rural","HC","Wholetime firefighters","Mixed",0]
["2016/17","Lincolnshire","E31000025","Non-metropolitan","Predominantly Rural","HC","Wholetime firefighters","White British or Irish",0]
["2016/17","Merseyside","E31000041","Metropolitan","Predominantly Urban","HC","Fire control","Asian or Asian British",0]
["2016/17","Merseyside","E31000041","Metropolitan","Predominantly Urban","HC","Fire control","Black or Black British",0]
["2016/17","Merseyside","E31000041","Metropolitan","Predominantly Urban","HC","Fire control","Chinese or other ethnicity",0]
["2016/17","Merseyside","E31000041","Metropolitan","Predominantly Urban","HC","Fire control","Ethnic origin not stated",0]
["2016/17","Merseyside","E31000041","Metropolitan","Predominantly Urban","HC","Fire control","Mixed",0]
["2016/17","Merseyside","E31000041","Metropolitan","Predominantly Urban","HC","Fire control","White British or Irish",0]
["2016/17","Merseyside","E31000041","Metropolitan","Predominantly Urban","HC","On call firefighters","Asian or Asian British",0]
["2016/17","Merseyside","E31000041","Metropolitan","Predominantly Urban","HC","On call firefighters","Black or Black British",0]
["2016/17","Merseyside","E31000041","Metropolitan","Predominantly Urban","HC","On call firefighters","Chinese or other ethnicity",0]
["2016/17","Merseyside","E31000041","Metropolitan","Predominantly Urban","HC","On call firefighters","Ethnic origin not stated",0]
["2016/17","Merseyside","E31000041","Metropolitan","Predominantly Urban","HC","On call firefighters","Mixed",0]
["2016/17","Merseyside","E31000041","Metropolitan","Predominantly Urban","HC","On call firefighters","White British or Irish",0]
["2016/17","Merseyside","E31000041","Metropolitan","Predominantly Urban","HC","Support staff","Asian or Asian British",0]
["2016/17","Merseyside","E31000041","Metropolitan","Predominantly Urban","HC","Support staff","Black or Black British",1]
["2016/17","Merseyside","E31000041","Metropolitan","Predominantly Urban","HC","Support staff","Chinese or other ethnicity",0]
["2016/17","Merseyside","E31000041","Metropolitan","Predominantly Urban","HC","Support staff","Ethnic origin not stated",5]
["2016/17","Merseyside","E31000041","Metropolitan","Predominantly Urban","HC","Support staff","Mixed",0]
["2016/17","Merseyside","E31000041","Metropolitan","Predominantly Urban","HC","Support staff","White British or Irish",21]
["2016/17","Merseyside","E31000041","Metropolitan","Predominantly Urban","HC","Wholetime firefighters","Asian or Asian British",0]
["2016/17","Merseyside","E31000041","Metropolitan","Predominantly Urban","HC","Wholetime firefighters","Black or Black British",0]
["2016/17","Merseyside","E31000041","Metropolitan","Predominantly Urban","HC","Wholetime firefighters","Chinese or other ethnicity",1]
["2016/17","Merseyside","E31000041","Metropolitan","Predominantly Urban","HC","Wholetime firefighters","Ethnic origin not stated",0]
["2016/17","Merseyside","E31000041","Metropolitan","Predominantly Urban","HC","Wholetime firefighters","Mixed",0]
["2016/17","Merseyside","E31000041","Metropolitan","Predominantly Urban","HC","Wholetime firefighters","White British or Irish",16]
["2016/17","Norfolk","E31000026","Non-metropolitan","Predominantly Rural","HC","Fire control","Asian or Asian British",0]
["2016/17","Norfolk","E31000026","Non-metropolitan","Predominantly Rural","HC","Fire control","Black or Black British",0]
["2016/17","Norfolk","E31000026","Non-metropolitan","Predominantly Rural","HC","Fire control","Chinese or other ethnicity",0]
["2016/17","Norfolk","E31000026","Non-metropolitan","Predominantly Rural","HC","Fire control","Ethnic origin not stated",0]
["2016/17","Norfolk","E31000026","Non-metropolitan","Predominantly Rural","HC","Fire control","Mixed",0]
["2016/17","Norfolk","E31000026","Non-metropolitan","Predominantly Rural","HC","Fire control","White British or Irish",1]
["2016/17","Norfolk","E31000026","Non-metropolitan","Predominantly Rural","HC","On call firefighters","Asian or Asian British",0]
["2016/17","Norfolk","E31000026","Non-metropolitan","Predominantly Rural","HC","On call firefighters","Black or Black British",0]
["2016/17","Norfolk","E31000026","Non-metropolitan","Predominantly Rural","HC","On call firefighters","Chinese or other ethnicity",1]
["2016/17","Norfolk","E31000026","Non-metropolitan","Predominantly Rural","HC","On call firefighters","Ethnic origin not stated",16]
["2016/17","Norfolk","E31000026","Non-metropolitan","Predominantly Rural","HC","On call firefighters","Mixed",0]
["2016/17","Norfolk","E31000026","Non-metropolitan","Predominantly Rural","HC","On call firefighters","White British or Irish",22]
["2016/17","Norfolk","E31000026","Non-metropolitan","Predominantly Rural","HC","Support staff","Asian or Asian British",0]
["2016/17","Norfolk","E31000026","Non-metropolitan","Predominantly Rural","HC","Support staff","Black or Black British",0]
["2016/17","Norfolk","E31000026","Non-metropolitan","Predominantly Rural","HC","Support staff","Chinese or other ethnicity",0]
["2016/17","Norfolk","E31000026","Non-metropolitan","Predominantly Rural","HC","Support staff","Ethnic origin not stated",5]
["2016/17","Norfolk","E31000026","Non-metropolitan","Predominantly Rural","HC","Support staff","Mixed",0]
["2016/17","Norfolk","E31000026","Non-metropolitan","Predominantly Rural","HC","Support staff","White British or Irish",7]
["2016/17","Norfolk","E31000026","Non-metropolitan","Predominantly Rural","HC","Wholetime firefighters","Asian or Asian British",0]
["2016/17","Norfolk","E31000026","Non-metropolitan","Predominantly Rural","HC","Wholetime firefighters","Black or Black British",0]
["2016/17","Norfolk","E31000026","Non-metropolitan","Predominantly Rural","HC","Wholetime firefighters","Chinese or other ethnicity",0]
["2016/17","Norfolk","E31000026","Non-metropolitan","Predominantly Rural","HC","Wholetime firefighters","Ethnic origin not stated",1]
["2016/17","Norfolk","E31000026","Non-metropolitan","Predominantly Rural","HC","Wholetime firefighters","Mixed",0]
["2016/17","Norfolk","E31000026","Non-metropolitan","Predominantly Rural","HC","Wholetime firefighters","White British or Irish",3]
["2016/17","North Yorkshire","E31000027","Non-metropolitan","Predominantly Rural","HC","Fire control","Asian or Asian British",0]
["2016/17","North Yorkshire","E31000027","Non-metropolitan","Predominantly Rural","HC","Fire control","Black or Black British",0]
["2016/17","North Yorkshire","E31000027","Non-metropolitan","Predominantly Rural","HC","Fire control","Chinese or other ethnicity",0]
["2016/17","North Yorkshire","E31000027","Non-metropolitan","Predominantly Rural","HC","Fire control","Ethnic origin not stated",0]
["2016/17","North Yorkshire","E31000027","Non-metropolitan","Predominantly Rural","HC","Fire control","Mixed",0]
["2016/17","North Yorkshire","E31000027","Non-metropolitan","Predominantly Rural","HC","Fire control","White British or Irish",0]
["2016/17","North Yorkshire","E31000027","Non-metropolitan","Predominantly Rural","HC","On call firefighters","Asian or Asian British",0]
["2016/17","North Yorkshire","E31000027","Non-metropolitan","Predominantly Rural","HC","On call firefighters","Black or Black British",0]
["2016/17","North Yorkshire","E31000027","Non-metropolitan","Predominantly Rural","HC","On call firefighters","Chinese or other ethnicity",0]
["2016/17","North Yorkshire","E31000027","Non-metropolitan","Predominantly Rural","HC","On call firefighters","Ethnic origin not stated",0]
["2016/17","North Yorkshire","E31000027","Non-metropolitan","Predominantly Rural","HC","On call firefighters","Mixed",0]
["2016/17","North Yorkshire","E31000027","Non-metropolitan","Predominantly Rural","HC","On call firefighters","White British or Irish",0]
["2016/17","North Yorkshire","E31000027","Non-metropolitan","Predominantly Rural","HC","Support staff","Asian or Asian British",0]
["2016/17","North Yorkshire","E31000027","Non-metropolitan","Predominantly Rural","HC","Support staff","Black or Black British",0]
["2016/17","North Yorkshire","E31000027","Non-metropolitan","Predominantly Rural","HC","Support staff","Chinese or other ethnicity",0]
["2016/17","North Yorkshire","E31000027","Non-metropolitan","Predominantly Rural","HC","Support staff","Ethnic origin not stated",0]
["2016/17","North Yorkshire","E31000027","Non-metropolitan","Predominantly Rural","HC","Support staff","Mixed",0]
["2016/17","North Yorkshire","E31000027","Non-metropolitan","Predominantly Rural","HC","Support staff","White British or Irish",0]
["2016/17","North Yorkshire","E31000027","Non-metropolitan","Predominantly Rural","HC","Wholetime firefighters","Asian or Asian British",0]
["2016/17","North Yorkshire","E31000027","Non-metropolitan","Predominantly Rural","HC","Wholetime firefighters","Black or Black British",0]
["2016/17","North Yorkshire","E31000027","Non-metropolitan","Predominantly Rural","HC","Wholetime firefighters","Chinese or other ethnicity",0]
["2016/17","North Yorkshire","E31000027","Non-metropolitan","Predominantly Rural","HC","Wholetime firefighters","Ethnic origin not stated",0]
["2016/17","North Yorkshire","E31000027","Non-metropolitan","Predominantly Rural","HC","Wholetime firefighters","Mixed",0]
["2016/17","North Yorkshire","E31000027","Non-metropolitan","Predominantly Rural","HC","Wholetime firefighters","White British or Irish",0]
["2016/17","Northamptonshire","E31000028","Non-metropolitan","Significantly Rural","HC","Fire control","Asian or Asian British",0]
["2016/17","Northamptonshire","E31000028","Non-metropolitan","Significantly Rural","HC","Fire control","Black or Black British",0]
["2016/17","Northamptonshire","E31000028","Non-metropolitan","Significantly Rural","HC","Fire control","Chinese or other ethnicity",0]
["2016/17","Northamptonshire","E31000028","Non-metropolitan","Significantly Rural","HC","Fire control","Ethnic origin not stated",0]
["2016/17","Northamptonshire","E31000028","Non-metropolitan","Significantly Rural","HC","Fire control","Mixed",0]
["2016/17","Northamptonshire","E31000028","Non-metropolitan","Significantly Rural","HC","Fire control","White British or Irish",0]
["2016/17","Northamptonshire","E31000028","Non-metropolitan","Significantly Rural","HC","On call firefighters","Asian or Asian British",0]
["2016/17","Northamptonshire","E31000028","Non-metropolitan","Significantly Rural","HC","On call firefighters","Black or Black British",0]
["2016/17","Northamptonshire","E31000028","Non-metropolitan","Significantly Rural","HC","On call firefighters","Chinese or other ethnicity",0]
["2016/17","Northamptonshire","E31000028","Non-metropolitan","Significantly Rural","HC","On call firefighters","Ethnic origin not stated",11]
["2016/17","Northamptonshire","E31000028","Non-metropolitan","Significantly Rural","HC","On call firefighters","Mixed",0]
["2016/17","Northamptonshire","E31000028","Non-metropolitan","Significantly Rural","HC","On call firefighters","White British or Irish",0]
["2016/17","Northamptonshire","E31000028","Non-metropolitan","Significantly Rural","HC","Support staff","Asian or Asian British",0]
["2016/17","Northamptonshire","E31000028","Non-metropolitan","Significantly Rural","HC","Support staff","Black or Black British",0]
["2016/17","Northamptonshire","E31000028","Non-metropolitan","Significantly Rural","HC","Support staff","Chinese or other ethnicity",0]
["2016/17","Northamptonshire","E31000028","Non-metropolitan","Significantly Rural","HC","Support staff","Ethnic origin not stated",6]
["2016/17","Northamptonshire","E31000028","Non-metropolitan","Significantly Rural","HC","Support staff","Mixed",0]
["2016/17","Northamptonshire","E31000028","Non-metropolitan","Significantly Rural","HC","Support staff","White British or Irish",3]
["2016/17","Northamptonshire","E31000028","Non-metropolitan","Significantly Rural","HC","Wholetime firefighters","Asian or Asian British",0]
["2016/17","Northamptonshire","E31000028","Non-metropolitan","Significantly Rural","HC","Wholetime firefighters","Black or Black British",0]
["2016/17","Northamptonshire","E31000028","Non-metropolitan","Significantly Rural","HC","Wholetime firefighters","Chinese or other ethnicity",0]
["2016/17","Northamptonshire","E31000028","Non-metropolitan","Significantly Rural","HC","Wholetime firefighters","Ethnic origin not stated",3]
["2016/17","Northamptonshire","E31000028","Non-metropolitan","Significantly Rural","HC","Wholetime firefighters","Mixed",0]
["2016/17","Northamptonshire","E31000028","Non-metropolitan","Significantly Rural","HC","Wholetime firefighters","White British or Irish",1]
["2016/17","Northumberland","E31000029","Non-metropolitan","Predominantly Rural","HC","Fire control","Asian or Asian British",0]
["2016/17","Northumberland","E31000029","Non-metropolitan","Predominantly Rural","HC","Fire control","Black or Black British",0]
["2016/17","Northumberland","E31000029","Non-metropolitan","Predominantly Rural","HC","Fire control","Chinese or other ethnicity",0]
["2016/17","Northumberland","E31000029","Non-metropolitan","Predominantly Rural","HC","Fire control","Ethnic origin not stated",0]
["2016/17","Northumberland","E31000029","Non-metropolitan","Predominantly Rural","HC","Fire control","Mixed",0]
["2016/17","Northumberland","E31000029","Non-metropolitan","Predominantly Rural","HC","Fire control","White British or Irish",0]
["2016/17","Northumberland","E31000029","Non-metropolitan","Predominantly Rural","HC","On call firefighters","Asian or Asian British",0]
["2016/17","Northumberland","E31000029","Non-metropolitan","Predominantly Rural","HC","On call firefighters","Black or Black British",0]
["2016/17","Northumberland","E31000029","Non-metropolitan","Predominantly Rural","HC","On call firefighters","Chinese or other ethnicity",0]
["2016/17","Northumberland","E31000029","Non-metropolitan","Predominantly Rural","HC","On call firefighters","Ethnic origin not stated",0]
["2016/17","Northumberland","E31000029","Non-metropolitan","Predominantly Rural","HC","On call firefighters","Mixed",0]
["2016/17","Northumberland","E31000029","Non-metropolitan","Predominantly Rural","HC","On call firefighters","White British or Irish",11]
["2016/17","Northumberland","E31000029","Non-metropolitan","Predominantly Rural","HC","Support staff","Asian or Asian British",0]
["2016/17","Northumberland","E31000029","Non-metropolitan","Predominantly Rural","HC","Support staff","Black or Black British",0]
["2016/17","Northumberland","E31000029","Non-metropolitan","Predominantly Rural","HC","Support staff","Chinese or other ethnicity",0]
["2016/17","Northumberland","E31000029","Non-metropolitan","Predominantly Rural","HC","Support staff","Ethnic origin not stated",0]
["2016/17","Northumberland","E31000029","Non-metropolitan","Predominantly Rural","HC","Support staff","Mixed",0]
["2016/17","Northumberland","E31000029","Non-metropolitan","Predominantly Rural","HC","Support staff","White British or Irish",1]
["2016/17","Northumberland","E31000029","Non-metropolitan","Predominantly Rural","HC","Wholetime firefighters","Asian or Asian British",0]
["2016/17","Northumberland","E31000029","Non-metropolitan","Predominantly Rural","HC","Wholetime firefighters","Black or Black British",0]
["2016/17","Northumberland","E31000029","Non-metropolitan","Predominantly Rural","HC","Wholetime firefighters","Chinese or other ethnicity",0]
["2016/17","Northumberland","E31000029","Non-metropolitan","Predominantly Rural","HC","Wholetime firefighters","Ethnic origin not stated",0]
["2016/17","Northumberland","E31000029","Non-metropolitan","Predominantly Rural","HC","Wholetime firefighters","Mixed",0]
["2016/17","Northumberland","E31000029","Non-metropolitan","Predominantly Rural","HC","Wholetime firefighters","White British or Irish",5]
["2016/17","Nottinghamshire","E31000030","Non-metropolitan","Predominantly Urban","HC","Fire control","Asian or Asian British",0]
["2016/17","Nottinghamshire","E31000030","Non-metropolitan","Predominantly Urban","HC","Fire control","Black or Black British",0]
["2016/17","Nottinghamshire","E31000030","Non-metropolitan","Predominantly Urban","HC","Fire control","Chinese or other ethnicity",1]
["2016/17","Nottinghamshire","E31000030","Non-metropolitan","Predominantly Urban","HC","Fire control","Ethnic origin not stated",0]
["2016/17","Nottinghamshire","E31000030","Non-metropolitan","Predominantly Urban","HC","Fire control","Mixed",0]
["2016/17","Nottinghamshire","E31000030","Non-metropolitan","Predominantly Urban","HC","Fire control","White British or Irish",0]
["2016/17","Nottinghamshire","E31000030","Non-metropolitan","Predominantly Urban","HC","On call firefighters","Asian or Asian British",0]
["2016/17","Nottinghamshire","E31000030","Non-metropolitan","Predominantly Urban","HC","On call firefighters","Black or Black British",0]
["2016/17","Nottinghamshire","E31000030","Non-metropolitan","Predominantly Urban","HC","On call firefighters","Chinese or other ethnicity",4]
["2016/17","Nottinghamshire","E31000030","Non-metropolitan","Predominantly Urban","HC","On call firefighters","Ethnic origin not stated",0]
["2016/17","Nottinghamshire","E31000030","Non-metropolitan","Predominantly Urban","HC","On call firefighters","Mixed",0]
["2016/17","Nottinghamshire","E31000030","Non-metropolitan","Predominantly Urban","HC","On call firefighters","White British or Irish",26]
["2016/17","Nottinghamshire","E31000030","Non-metropolitan","Predominantly Urban","HC","Support staff","Asian or Asian British",0]
["2016/17","Nottinghamshire","E31000030","Non-metropolitan","Predominantly Urban","HC","Support staff","Black or Black British",0]
["2016/17","Nottinghamshire","E31000030","Non-metropolitan","Predominantly Urban","HC","Support staff","Chinese or other ethnicity",10]
["2016/17","Nottinghamshire","E31000030","Non-metropolitan","Predominantly Urban","HC","Support staff","Ethnic origin not stated",0]
["2016/17","Nottinghamshire","E31000030","Non-metropolitan","Predominantly Urban","HC","Support staff","Mixed",0]
["2016/17","Nottinghamshire","E31000030","Non-metropolitan","Predominantly Urban","HC","Support staff","White British or Irish",16]
["2016/17","Nottinghamshire","E31000030","Non-metropolitan","Predominantly Urban","HC","Wholetime firefighters","Asian or Asian British",0]
["2016/17","Nottinghamshire","E31000030","Non-metropolitan","Predominantly Urban","HC","Wholetime firefighters","Black or Black British",0]
["2016/17","Nottinghamshire","E31000030","Non-metropolitan","Predominantly Urban","HC","Wholetime firefighters","Chinese or other ethnicity",0]
["2016/17","Nottinghamshire","E31000030","Non-metropolitan","Predominantly Urban","HC","Wholetime firefighters","Ethnic origin not stated",0]
["2016/17","Nottinghamshire","E31000030","Non-metropolitan","Predominantly Urban","HC","Wholetime firefighters","Mixed",0]
["2016/17","Nottinghamshire","E31000030","Non-metropolitan","Predominantly Urban","HC","Wholetime firefighters","White British or Irish",1]
["2016/17","Oxfordshire","E31000031","Non-metropolitan","Predominantly Rural","HC","Fire control","Asian or Asian British",0]
["2016/17","Oxfordshire","E31000031","Non-metropolitan","Predominantly Rural","HC","Fire control","Black or Black British",0]
["2016/17","Oxfordshire","E31000031","Non-metropolitan","Predominantly Rural","HC","Fire control","Chinese or other ethnicity",0]
["2016/17","Oxfordshire","E31000031","Non-metropolitan","Predominantly Rural","HC","Fire control","Ethnic origin not stated",0]
["2016/17","Oxfordshire","E31000031","Non-metropolitan","Predominantly Rural","HC","Fire control","Mixed",0]
["2016/17","Oxfordshire","E31000031","Non-metropolitan","Predominantly Rural","HC","Fire control","White British or Irish",0]
["2016/17","Oxfordshire","E31000031","Non-metropolitan","Predominantly Rural","HC","On call firefighters","Asian or Asian British",0]
["2016/17","Oxfordshire","E31000031","Non-metropolitan","Predominantly Rural","HC","On call firefighters","Black or Black British",0]
["2016/17","Oxfordshire","E31000031","Non-metropolitan","Predominantly Rural","HC","On call firefighters","Chinese or other ethnicity",3]
["2016/17","Oxfordshire","E31000031","Non-metropolitan","Predominantly Rural","HC","On call firefighters","Ethnic origin not stated",9]
["2016/17","Oxfordshire","E31000031","Non-metropolitan","Predominantly Rural","HC","On call firefighters","Mixed",0]
["2016/17","Oxfordshire","E31000031","Non-metropolitan","Predominantly Rural","HC","On call firefighters","White British or Irish",34]
["2016/17","Oxfordshire","E31000031","Non-metropolitan","Predominantly Rural","HC","Support staff","Asian or Asian British",1]
["2016/17","Oxfordshire","E31000031","Non-metropolitan","Predominantly Rural","HC","Support staff","Black or Black British",0]
["2016/17","Oxfordshire","E31000031","Non-metropolitan","Predominantly Rural","HC","Support staff","Chinese or other ethnicity",1]
["2016/17","Oxfordshire","E31000031","Non-metropolitan","Predominantly Rural","HC","Support staff","Ethnic origin not stated",1]
["2016/17","Oxfordshire","E31000031","Non-metropolitan","Predominantly Rural","HC","Support staff","Mixed",0]
["2016/17","Oxfordshire","E31000031","Non-metropolitan","Predominantly Rural","HC","Support staff","White British or Irish",3]
["2016/17","Oxfordshire","E31000031","Non-metropolitan","Predominantly Rural","HC","Wholetime firefighters","Asian or Asian British",0]
["2016/17","Oxfordshire","E31000031","Non-metropolitan","Predominantly Rural","HC","Wholetime firefighters","Black or Black British",0]
["2016/17","Oxfordshire","E31000031","Non-metropolitan","Predominantly Rural","HC","Wholetime firefighters","Chinese or other ethnicity",0]
["2016/17","Oxfordshire","E31000031","Non-metropolitan","Predominantly Rural","HC","Wholetime firefighters","Ethnic origin not stated",1]
["2016/17","Oxfordshire","E31000031","Non-metropolitan","Predominantly Rural","HC","Wholetime firefighters","Mixed",0]
["2016/17","Oxfordshire","E31000031","Non-metropolitan","Predominantly Rural","HC","Wholetime firefighters","White British or Irish",17]
["2016/17","Shropshire","E31000032","Non-metropolitan","Predominantly Rural","HC","Fire control","Asian or Asian British",0]
["2016/17","Shropshire","E31000032","Non-metropolitan","Predominantly Rural","HC","Fire control","Black or Black British",0]
["2016/17","Shropshire","E31000032","Non-metropolitan","Predominantly Rural","HC","Fire control","Chinese or other ethnicity",0]
["2016/17","Shropshire","E31000032","Non-metropolitan","Predominantly Rural","HC","Fire control","Ethnic origin not stated",1]
["2016/17","Shropshire","E31000032","Non-metropolitan","Predominantly Rural","HC","Fire control","Mixed",0]
["2016/17","Shropshire","E31000032","Non-metropolitan","Predominantly Rural","HC","Fire control","White British or Irish",1]
["2016/17","Shropshire","E31000032","Non-metropolitan","Predominantly Rural","HC","On call firefighters","Asian or Asian British",0]
["2016/17","Shropshire","E31000032","Non-metropolitan","Predominantly Rural","HC","On call firefighters","Black or Black British",0]
["2016/17","Shropshire","E31000032","Non-metropolitan","Predominantly Rural","HC","On call firefighters","Chinese or other ethnicity",0]
["2016/17","Shropshire","E31000032","Non-metropolitan","Predominantly Rural","HC","On call firefighters","Ethnic origin not stated",13]
["2016/17","Shropshire","E31000032","Non-metropolitan","Predominantly Rural","HC","On call firefighters","Mixed",0]
["2016/17","Shropshire","E31000032","Non-metropolitan","Predominantly Rural","HC","On call firefighters","White British or Irish",19]
["2016/17","Shropshire","E31000032","Non-metropolitan","Predominantly Rural","HC","Support staff","Asian or Asian British",0]
["2016/17","Shropshire","E31000032","Non-metropolitan","Predominantly Rural","HC","Support staff","Black or Black British",0]
["2016/17","Shropshire","E31000032","Non-metropolitan","Predominantly Rural","HC","Support staff","Chinese or other ethnicity",0]
["2016/17","Shropshire","E31000032","Non-metropolitan","Predominantly Rural","HC","Support staff","Ethnic origin not stated",0]
["2016/17","Shropshire","E31000032","Non-metropolitan","Predominantly Rural","HC","Support staff","Mixed",0]
["2016/17","Shropshire","E31000032","Non-metropolitan","Predominantly Rural","HC","Support staff","White British or Irish",10]
["2016/17","Shropshire","E31000032","Non-metropolitan","Predominantly Rural","HC","Wholetime firefighters","Asian or Asian British",0]
["2016/17","Shropshire","E31000032","Non-metropolitan","Predominantly Rural","HC","Wholetime firefighters","Black or Black British",0]
["2016/17","Shropshire","E31000032","Non-metropolitan","Predominantly Rural","HC","Wholetime firefighters","Chinese or other ethnicity",0]
["2016/17","Shropshire","E31000032","Non-metropolitan","Predominantly Rural","HC","Wholetime firefighters","Ethnic origin not stated",9]
["2016/17","Shropshire","E31000032","Non-metropolitan","Predominantly Rural","HC","Wholetime firefighters","Mixed",0]
["2016/17","Shropshire","E31000032","Non-metropolitan","Predominantly Rural","HC","Wholetime firefighters","White British or Irish",5]
["2016/17","South Yorkshire","E31000042","Metropolitan","Predominantly Urban","HC","Fire control","Asian or Asian British",0]
["2016/17","South Yorkshire","E31000042","Metropolitan","Predominantly Urban","HC","Fire control","Black or Black British",0]
["2016/17","South Yorkshire","E31000042","Metropolitan","Predominantly Urban","HC","Fire control","Chinese or other ethnicity",0]
["2016/17","South Yorkshire","E31000042","Metropolitan","Predominantly Urban","HC","Fire control","Ethnic origin not stated",0]
["2016/17","South Yorkshire","E31000042","Metropolitan","Predominantly Urban","HC","Fire control","Mixed",0]
["2016/17","South Yorkshire","E31000042","Metropolitan","Predominantly Urban","HC","Fire control","White British or Irish",0]
["2016/17","South Yorkshire","E31000042","Metropolitan","Predominantly Urban","HC","On call firefighters","Asian or Asian British",0]
["2016/17","South Yorkshire","E31000042","Metropolitan","Predominantly Urban","HC","On call firefighters","Black or Black British",0]
["2016/17","South Yorkshire","E31000042","Metropolitan","Predominantly Urban","HC","On call firefighters","Chinese or other ethnicity",0]
["2016/17","South Yorkshire","E31000042","Metropolitan","Predominantly Urban","HC","On call firefighters","Ethnic origin not stated",0]
["2016/17","South Yorkshire","E31000042","Metropolitan","Predominantly Urban","HC","On call firefighters","Mixed",0]
["2016/17","South Yorkshire","E31000042","Metropolitan","Predominantly Urban","HC","On call firefighters","White British or Irish",0]
["2016/17","South Yorkshire","E31000042","Metropolitan","Predominantly Urban","HC","Support staff","Asian or Asian British",0]
["2016/17","South Yorkshire","E31000042","Metropolitan","Predominantly Urban","HC","Support staff","Black or Black British",0]
["2016/17","South Yorkshire","E31000042","Metropolitan","Predominantly Urban","HC","Support staff","Chinese or other ethnicity",0]
["2016/17","South Yorkshire","E31000042","Metropolitan","Predominantly Urban","HC","Support staff","Ethnic origin not stated",0]
["2016/17","South Yorkshire","E31000042","Metropolitan","Predominantly Urban","HC","Support staff","Mixed",0]
["2016/17","South Yorkshire","E31000042","Metropolitan","Predominantly Urban","HC","Support staff","White British or Irish",0]
["2016/17","South Yorkshire","E31000042","Metropolitan","Predominantly Urban","HC","Wholetime firefighters","Asian or Asian British",0]
["2016/17","South Yorkshire","E31000042","Metropolitan","Predominantly Urban","HC","Wholetime firefighters","Black or Black British",0]
["2016/17","South Yorkshire","E31000042","Metropolitan","Predominantly Urban","HC","Wholetime firefighters","Chinese or other ethnicity",0]
["2016/17","South Yorkshire","E31000042","Metropolitan","Predominantly Urban","HC","Wholetime firefighters","Ethnic origin not stated",0]
["2016/17","South Yorkshire","E31000042","Metropolitan","Predominantly Urban","HC","Wholetime firefighters","Mixed",0]
["2016/17","South Yorkshire","E31000042","Metropolitan","Predominantly Urban","HC","Wholetime firefighters","White British or Irish",0]
["2016/17","Staffordshire","E31000033","Non-metropolitan","Significantly Rural","HC","Fire control","Asian or Asian British",0]
["2016/17","Staffordshire","E31000033","Non-metropolitan","Significantly Rural","HC","Fire control","Black or Black British",0]
["2016/17","Staffordshire","E31000033","Non-metropolitan","Significantly Rural","HC","Fire control","Chinese or other ethnicity",0]
["2016/17","Staffordshire","E31000033","Non-metropolitan","Significantly Rural","HC","Fire control","Ethnic origin not stated",0]
["2016/17","Staffordshire","E31000033","Non-metropolitan","Significantly Rural","HC","Fire control","Mixed",0]
["2016/17","Staffordshire","E31000033","Non-metropolitan","Significantly Rural","HC","Fire control","White British or Irish",0]
["2016/17","Staffordshire","E31000033","Non-metropolitan","Significantly Rural","HC","On call firefighters","Asian or Asian British",0]
["2016/17","Staffordshire","E31000033","Non-metropolitan","Significantly Rural","HC","On call firefighters","Black or Black British",0]
["2016/17","Staffordshire","E31000033","Non-metropolitan","Significantly Rural","HC","On call firefighters","Chinese or other ethnicity",1]
["2016/17","Staffordshire","E31000033","Non-metropolitan","Significantly Rural","HC","On call firefighters","Ethnic origin not stated",0]
["2016/17","Staffordshire","E31000033","Non-metropolitan","Significantly Rural","HC","On call firefighters","Mixed",0]
["2016/17","Staffordshire","E31000033","Non-metropolitan","Significantly Rural","HC","On call firefighters","White British or Irish",33]
["2016/17","Staffordshire","E31000033","Non-metropolitan","Significantly Rural","HC","Support staff","Asian or Asian British",0]
["2016/17","Staffordshire","E31000033","Non-metropolitan","Significantly Rural","HC","Support staff","Black or Black British",0]
["2016/17","Staffordshire","E31000033","Non-metropolitan","Significantly Rural","HC","Support staff","Chinese or other ethnicity",0]
["2016/17","Staffordshire","E31000033","Non-metropolitan","Significantly Rural","HC","Support staff","Ethnic origin not stated",0]
["2016/17","Staffordshire","E31000033","Non-metropolitan","Significantly Rural","HC","Support staff","Mixed",0]
["2016/17","Staffordshire","E31000033","Non-metropolitan","Significantly Rural","HC","Support staff","White British or Irish",12]
["2016/17","Staffordshire","E31000033","Non-metropolitan","Significantly Rural","HC","Wholetime firefighters","Asian or Asian British",0]
["2016/17","Staffordshire","E31000033","Non-metropolitan","Significantly Rural","HC","Wholetime firefighters","Black or Black British",0]
["2016/17","Staffordshire","E31000033","Non-metropolitan","Significantly Rural","HC","Wholetime firefighters","Chinese or other ethnicity",0]
["2016/17","Staffordshire","E31000033","Non-metropolitan","Significantly Rural","HC","Wholetime firefighters","Ethnic origin not stated",0]
["2016/17","Staffordshire","E31000033","Non-metropolitan","Significantly Rural","HC","Wholetime firefighters","Mixed",0]
["2016/17","Staffordshire","E31000033","Non-metropolitan","Significantly Rural","HC","Wholetime firefighters","White British or Irish",0]
["2016/17","Suffolk","E31000034","Non-metropolitan","Predominantly Rural","HC","Fire control","Asian or Asian British",0]
["2016/17","Suffolk","E31000034","Non-metropolitan","Predominantly Rural","HC","Fire control","Black or Black British",0]
["2016/17","Suffolk","E31000034","Non-metropolitan","Predominantly Rural","HC","Fire control","Chinese or other ethnicity",0]
["2016/17","Suffolk","E31000034","Non-metropolitan","Predominantly Rural","HC","Fire control","Ethnic origin not stated",0]
["2016/17","Suffolk","E31000034","Non-metropolitan","Predominantly Rural","HC","Fire control","Mixed",0]
["2016/17","Suffolk","E31000034","Non-metropolitan","Predominantly Rural","HC","Fire control","White British or Irish",0]
["2016/17","Suffolk","E31000034","Non-metropolitan","Predominantly Rural","HC","On call firefighters","Asian or Asian British",0]
["2016/17","Suffolk","E31000034","Non-metropolitan","Predominantly Rural","HC","On call firefighters","Black or Black British",0]
["2016/17","Suffolk","E31000034","Non-metropolitan","Predominantly Rural","HC","On call firefighters","Chinese or other ethnicity",0]
["2016/17","Suffolk","E31000034","Non-metropolitan","Predominantly Rural","HC","On call firefighters","Ethnic origin not stated",30]
["2016/17","Suffolk","E31000034","Non-metropolitan","Predominantly Rural","HC","On call firefighters","Mixed",0]
["2016/17","Suffolk","E31000034","Non-metropolitan","Predominantly Rural","HC","On call firefighters","White British or Irish",3]
["2016/17","Suffolk","E31000034","Non-metropolitan","Predominantly Rural","HC","Support staff","Asian or Asian British",1]
["2016/17","Suffolk","E31000034","Non-metropolitan","Predominantly Rural","HC","Support staff","Black or Black British",0]
["2016/17","Suffolk","E31000034","Non-metropolitan","Predominantly Rural","HC","Support staff","Chinese or other ethnicity",0]
["2016/17","Suffolk","E31000034","Non-metropolitan","Predominantly Rural","HC","Support staff","Ethnic origin not stated",0]
["2016/17","Suffolk","E31000034","Non-metropolitan","Predominantly Rural","HC","Support staff","Mixed",0]
["2016/17","Suffolk","E31000034","Non-metropolitan","Predominantly Rural","HC","Support staff","White British or Irish",11]
["2016/17","Suffolk","E31000034","Non-metropolitan","Predominantly Rural","HC","Wholetime firefighters","Asian or Asian British",0]
["2016/17","Suffolk","E31000034","Non-metropolitan","Predominantly Rural","HC","Wholetime firefighters","Black or Black British",0]
["2016/17","Suffolk","E31000034","Non-metropolitan","Predominantly Rural","HC","Wholetime firefighters","Chinese or other ethnicity",0]
["2016/17","Suffolk","E31000034","Non-metropolitan","Predominantly Rural","HC","Wholetime firefighters","Ethnic origin not stated",7]
["2016/17","Suffolk","E31000034","Non-metropolitan","Predominantly Rural","HC","Wholetime firefighters","Mixed",0]
["2016/17","Suffolk","E31000034","Non-metropolitan","Predominantly Rural","HC","Wholetime firefighters","White British or Irish",10]
["2016/17","Surrey","E31000035","Non-metropolitan","Predominantly Urban","HC","Fire control","Asian or Asian British",0]
["2016/17","Surrey","E31000035","Non-metropolitan","Predominantly Urban","HC","Fire control","Black or Black British",0]
["2016/17","Surrey","E31000035","Non-metropolitan","Predominantly Urban","HC","Fire control","Chinese or other ethnicity",0]
["2016/17","Surrey","E31000035","Non-metropolitan","Predominantly Urban","HC","Fire control","Ethnic origin not stated",1]
["2016/17","Surrey","E31000035","Non-metropolitan","Predominantly Urban","HC","Fire control","Mixed",0]
["2016/17","Surrey","E31000035","Non-metropolitan","Predominantly Urban","HC","Fire control","White British or Irish",0]
["2016/17","Surrey","E31000035","Non-metropolitan","Predominantly Urban","HC","On call firefighters","Asian or Asian British",0]
["2016/17","Surrey","E31000035","Non-metropolitan","Predominantly Urban","HC","On call firefighters","Black or Black British",0]
["2016/17","Surrey","E31000035","Non-metropolitan","Predominantly Urban","HC","On call firefighters","Chinese or other ethnicity",1]
["2016/17","Surrey","E31000035","Non-metropolitan","Predominantly Urban","HC","On call firefighters","Ethnic origin not stated",0]
["2016/17","Surrey","E31000035","Non-metropolitan","Predominantly Urban","HC","On call firefighters","Mixed",0]
["2016/17","Surrey","E31000035","Non-metropolitan","Predominantly Urban","HC","On call firefighters","White British or Irish",10]
["2016/17","Surrey","E31000035","Non-metropolitan","Predominantly Urban","HC","Support staff","Asian or Asian British",0]
["2016/17","Surrey","E31000035","Non-metropolitan","Predominantly Urban","HC","Support staff","Black or Black British",0]
["2016/17","Surrey","E31000035","Non-metropolitan","Predominantly Urban","HC","Support staff","Chinese or other ethnicity",0]
["2016/17","Surrey","E31000035","Non-metropolitan","Predominantly Urban","HC","Support staff","Ethnic origin not stated",0]
["2016/17","Surrey","E31000035","Non-metropolitan","Predominantly Urban","HC","Support staff","Mixed",0]
["2016/17","Surrey","E31000035","Non-metropolitan","Predominantly Urban","HC","Support staff","White British or Irish",0]
["2016/17","Surrey","E31000035","Non-metropolitan","Predominantly Urban","HC","Wholetime firefighters","Asian or Asian British",0]
["2016/17","Surrey","E31000035","Non-metropolitan","Predominantly Urban","HC","Wholetime firefighters","Black or Black British",0]
["2016/17","Surrey","E31000035","Non-metropolitan","Predominantly Urban","HC","Wholetime firefighters","Chinese or other ethnicity",1]
["2016/17","Surrey","E31000035","Non-metropolitan","Predominantly Urban","HC","Wholetime firefighters","Ethnic origin not stated",0]
["2016/17","Surrey","E31000035","Non-metropolitan","Predominantly Urban","HC","Wholetime firefighters","Mixed",0]
["2016/17","Surrey","E31000035","Non-metropolitan","Predominantly Urban","HC","Wholetime firefighters","White British or Irish",9]
["2016/17","Tyne and Wear","E31000043","Metropolitan","Predominantly Urban","HC","Fire control","Asian or Asian British",0]
["2016/17","Tyne and Wear","E31000043","Metropolitan","Predominantly Urban","HC","Fire control","Black or Black British",0]
["2016/17","Tyne and Wear","E31000043","Metropolitan","Predominantly Urban","HC","Fire control","Chinese or other ethnicity",0]
["2016/17","Tyne and Wear","E31000043","Metropolitan","Predominantly Urban","HC","Fire control","Ethnic origin not stated",0]
["2016/17","Tyne and Wear","E31000043","Metropolitan","Predominantly Urban","HC","Fire control","Mixed",0]
["2016/17","Tyne and Wear","E31000043","Metropolitan","Predominantly Urban","HC","Fire control","White British or Irish",2]
["2016/17","Tyne and Wear","E31000043","Metropolitan","Predominantly Urban","HC","On call firefighters","Asian or Asian British",0]
["2016/17","Tyne and Wear","E31000043","Metropolitan","Predominantly Urban","HC","On call firefighters","Black or Black British",0]
["2016/17","Tyne and Wear","E31000043","Metropolitan","Predominantly Urban","HC","On call firefighters","Chinese or other ethnicity",0]
["2016/17","Tyne and Wear","E31000043","Metropolitan","Predominantly Urban","HC","On call firefighters","Ethnic origin not stated",0]
["2016/17","Tyne and Wear","E31000043","Metropolitan","Predominantly Urban","HC","On call firefighters","Mixed",0]
["2016/17","Tyne and Wear","E31000043","Metropolitan","Predominantly Urban","HC","On call firefighters","White British or Irish",0]
["2016/17","Tyne and Wear","E31000043","Metropolitan","Predominantly Urban","HC","Support staff","Asian or Asian British",0]
["2016/17","Tyne and Wear","E31000043","Metropolitan","Predominantly Urban","HC","Support staff","Black or Black British",0]
["2016/17","Tyne and Wear","E31000043","Metropolitan","Predominantly Urban","HC","Support staff","Chinese or other ethnicity",0]
["2016/17","Tyne and Wear","E31000043","Metropolitan","Predominantly Urban","HC","Support staff","Ethnic origin not stated",0]
["2016/17","Tyne and Wear","E31000043","Metropolitan","Predominantly Urban","HC","Support staff","Mixed",0]
["2016/17","Tyne and Wear","E31000043","Metropolitan","Predominantly Urban","HC","Support staff","White British or Irish",12]
["2016/17","Tyne and Wear","E31000043","Metropolitan","Predominantly Urban","HC","Wholetime firefighters","Asian or Asian British",0]
["2016/17","Tyne and Wear","E31000043","Metropolitan","Predominantly Urban","HC","Wholetime firefighters","Black or Black British",0]
["2016/17","Tyne and Wear","E31000043","Metropolitan","Predominantly Urban","HC","Wholetime firefighters","Chinese or other ethnicity",0]
["2016/17","Tyne and Wear","E31000043","Metropolitan","Predominantly Urban","HC","Wholetime firefighters","Ethnic origin not stated",0]
["2016/17","Tyne and Wear","E31000043","Metropolitan","Predominantly Urban","HC","Wholetime firefighters","Mixed",0]
["2016/17","Tyne and Wear","E31000043","Metropolitan","Predominantly Urban","HC","Wholetime firefighters","White British or Irish",1]
["2016/17","Warwickshire","E31000036","Non-metropolitan","Significantly Rural","HC","Fire control","Asian or Asian British",0]
["2016/17","Warwickshire","E31000036","Non-metropolitan","Significantly Rural","HC","Fire control","Black or Black British",0]
["2016/17","Warwickshire","E31000036","Non-metropolitan","Significantly Rural","HC","Fire control","Chinese or other ethnicity",0]
["2016/17","Warwickshire","E31000036","Non-metropolitan","Significantly Rural","HC","Fire control","Ethnic origin not stated",3]
["2016/17","Warwickshire","E31000036","Non-metropolitan","Significantly Rural","HC","Fire control","Mixed",0]
["2016/17","Warwickshire","E31000036","Non-metropolitan","Significantly Rural","HC","Fire control","White British or Irish",2]
["2016/17","Warwickshire","E31000036","Non-metropolitan","Significantly Rural","HC","On call firefighters","Asian or Asian British",0]
["2016/17","Warwickshire","E31000036","Non-metropolitan","Significantly Rural","HC","On call firefighters","Black or Black British",0]
["2016/17","Warwickshire","E31000036","Non-metropolitan","Significantly Rural","HC","On call firefighters","Chinese or other ethnicity",0]
["2016/17","Warwickshire","E31000036","Non-metropolitan","Significantly Rural","HC","On call firefighters","Ethnic origin not stated",16]
["2016/17","Warwickshire","E31000036","Non-metropolitan","Significantly Rural","HC","On call firefighters","Mixed",0]
["2016/17","Warwickshire","E31000036","Non-metropolitan","Significantly Rural","HC","On call firefighters","White British or Irish",9]
["2016/17","Warwickshire","E31000036","Non-metropolitan","Significantly Rural","HC","Support staff","Asian or Asian British",0]
["2016/17","Warwickshire","E31000036","Non-metropolitan","Significantly Rural","HC","Support staff","Black or Black British",0]
["2016/17","Warwickshire","E31000036","Non-metropolitan","Significantly Rural","HC","Support staff","Chinese or other ethnicity",2]
["2016/17","Warwickshire","E31000036","Non-metropolitan","Significantly Rural","HC","Support staff","Ethnic origin not stated",0]
["2016/17","Warwickshire","E31000036","Non-metropolitan","Significantly Rural","HC","Support staff","Mixed",0]
["2016/17","Warwickshire","E31000036","Non-metropolitan","Significantly Rural","HC","Support staff","White British or Irish",14]
["2016/17","Warwickshire","E31000036","Non-metropolitan","Significantly Rural","HC","Wholetime firefighters","Asian or Asian British",0]
["2016/17","Warwickshire","E31000036","Non-metropolitan","Significantly Rural","HC","Wholetime firefighters","Black or Black British",0]
["2016/17","Warwickshire","E31000036","Non-metropolitan","Significantly Rural","HC","Wholetime firefighters","Chinese or other ethnicity",1]
["2016/17","Warwickshire","E31000036","Non-metropolitan","Significantly Rural","HC","Wholetime firefighters","Ethnic origin not stated",1]
["2016/17","Warwickshire","E31000036","Non-metropolitan","Significantly Rural","HC","Wholetime firefighters","Mixed",0]
["2016/17","Warwickshire","E31000036","Non-metropolitan","Significantly Rural","HC","Wholetime firefighters","White British or Irish",5]
["2016/17","West Midlands","E31000044","Metropolitan","Predominantly Urban","HC","Fire control","Asian or Asian British",0]
["2016/17","West Midlands","E31000044","Metropolitan","Predominantly Urban","HC","Fire control","Black or Black British",0]
["2016/17","West Midlands","E31000044","Metropolitan","Predominantly Urban","HC","Fire control","Chinese or other ethnicity",1]
["2016/17","West Midlands","E31000044","Metropolitan","Predominantly Urban","HC","Fire control","Ethnic origin not stated",1]
["2016/17","West Midlands","E31000044","Metropolitan","Predominantly Urban","HC","Fire control","Mixed",0]
["2016/17","West Midlands","E31000044","Metropolitan","Predominantly Urban","HC","Fire control","White British or Irish",9]
["2016/17","West Midlands","E31000044","Metropolitan","Predominantly Urban","HC","On call firefighters","Asian or Asian British",0]
["2016/17","West Midlands","E31000044","Metropolitan","Predominantly Urban","HC","On call firefighters","Black or Black British",0]
["2016/17","West Midlands","E31000044","Metropolitan","Predominantly Urban","HC","On call firefighters","Chinese or other ethnicity",0]
["2016/17","West Midlands","E31000044","Metropolitan","Predominantly Urban","HC","On call firefighters","Ethnic origin not stated",0]
["2016/17","West Midlands","E31000044","Metropolitan","Predominantly Urban","HC","On call firefighters","Mixed",0]
["2016/17","West Midlands","E31000044","Metropolitan","Predominantly Urban","HC","On call firefighters","White British or Irish",0]
["2016/17","West Midlands","E31000044","Metropolitan","Predominantly Urban","HC","Support staff","Asian or Asian British",1]
["2016/17","West Midlands","E31000044","Metropolitan","Predominantly Urban","HC","Support staff","Black or Black British",0]
["2016/17","West Midlands","E31000044","Metropolitan","Predominantly Urban","HC","Support staff","Chinese or other ethnicity",0]
["2016/17","West Midlands","E31000044","Metropolitan","Predominantly Urban","HC","Support staff","Ethnic origin not stated",1]
["2016/17","West Midlands","E31000044","Metropolitan","Predominantly Urban","HC","Support staff","Mixed",1]
["2016/17","West Midlands","E31000044","Metropolitan","Predominantly Urban","HC","Support staff","White British or Irish",8]
["2016/17","West Midlands","E31000044","Metropolitan","Predominantly Urban","HC","Wholetime firefighters","Asian or Asian British",0]
["2016/17","West Midlands","E31000044","Metropolitan","Predominantly Urban","HC","Wholetime firefighters","Black or Black British",0]
["2016/17","West Midlands","E31000044","Metropolitan","Predominantly Urban","HC","Wholetime firefighters","Chinese or other ethnicity",0]
["2016/17","West Midlands","E31000044","Metropolitan","Predominantly Urban","HC","Wholetime firefighters","Ethnic origin not stated",0]
["2016/17","West Midlands","E31000044","Metropolitan","Predominantly Urban","HC","Wholetime firefighters","Mixed",0]
["2016/17","West Midlands","E31000044","Metropolitan","Predominantly Urban","HC","Wholetime firefighters","White British or Irish",3]
["2016/17","West Sussex","E31000037","Non-metropolitan","Significantly Rural","HC","Fire control","Asian or Asian British",0]
["2016/17","West Sussex","E31000037","Non-metropolitan","Significantly Rural","HC","Fire control","Black or Black British",0]
["2016/17","West Sussex","E31000037","Non-metropolitan","Significantly Rural","HC","Fire control","Chinese or other ethnicity",0]
["2016/17","West Sussex","E31000037","Non-metropolitan","Significantly Rural","HC","Fire control","Ethnic origin not stated",0]
["2016/17","West Sussex","E31000037","Non-metropolitan","Significantly Rural","HC","Fire control","Mixed",0]
["2016/17","West Sussex","E31000037","Non-metropolitan","Significantly Rural","HC","Fire control","White British or Irish",0]
["2016/17","West Sussex","E31000037","Non-metropolitan","Significantly Rural","HC","On call firefighters","Asian or Asian British",0]
["2016/17","West Sussex","E31000037","Non-metropolitan","Significantly Rural","HC","On call firefighters","Black or Black British",0]
["2016/17","West Sussex","E31000037","Non-metropolitan","Significantly Rural","HC","On call firefighters","Chinese or other ethnicity",0]
["2016/17","West Sussex","E31000037","Non-metropolitan","Significantly Rural","HC","On call firefighters","Ethnic origin not stated",35]
["2016/17","West Sussex","E31000037","Non-metropolitan","Significantly Rural","HC","On call firefighters","Mixed",0]
["2016/17","West Sussex","E31000037","Non-metropolitan","Significantly Rural","HC","On call firefighters","White British or Irish",5]
["2016/17","West Sussex","E31000037","Non-metropolitan","Significantly Rural","HC","Support staff","Asian or Asian British",0]
["2016/17","West Sussex","E31000037","Non-metropolitan","Significantly Rural","HC","Support staff","Black or Black British",0]
["2016/17","West Sussex","E31000037","Non-metropolitan","Significantly Rural","HC","Support staff","Chinese or other ethnicity",0]
["2016/17","West Sussex","E31000037","Non-metropolitan","Significantly Rural","HC","Support staff","Ethnic origin not stated",15]
["2016/17","West Sussex","E31000037","Non-metropolitan","Significantly Rural","HC","Support staff","Mixed",0]
["2016/17","West Sussex","E31000037","Non-metropolitan","Significantly Rural","HC","Support staff","White British or Irish",1]
["2016/17","West Sussex","E31000037","Non-metropolitan","Significantly Rural","HC","Wholetime firefighters","Asian or Asian British",0]
["2016/17","West Sussex","E31000037","Non-metropolitan","Significantly Rural","HC","Wholetime firefighters","Black or Black British",0]
["2016/17","West Sussex","E31000037","Non-metropolitan","Significantly Rural","HC","Wholetime firefighters","Chinese or other ethnicity",0]
["2016/17","West Sussex","E31000037","Non-metropolitan","Significantly Rural","HC","Wholetime firefighters","Ethnic origin not stated",16]
["2016/17","West Sussex","E31000037","Non-metropolitan","Significantly Rural","HC","Wholetime firefighters","Mixed",0]
["2016/17","West Sussex","E31000037","Non-metropolitan","Significantly Rural","HC","Wholetime firefighters","White British or Irish",1]
["2016/17","West Yorkshire","E31000045","Metropolitan","Predominantly Urban","HC","Fire control","Asian or Asian British",0]
["2016/17","West Yorkshire","E31000045","Metropolitan","Predominantly Urban","HC","Fire control","Black or Black British",0]
["2016/17","West Yorkshire","E31000045","Metropolitan","Predominantly Urban","HC","Fire control","Chinese or other ethnicity",0]
["2016/17","West Yorkshire","E31000045","Metropolitan","Predominantly Urban","HC","Fire control","Ethnic origin not stated",0]
["2016/17","West Yorkshire","E31000045","Metropolitan","Predominantly Urban","HC","Fire control","Mixed",0]
["2016/17","West Yorkshire","E31000045","Metropolitan","Predominantly Urban","HC","Fire control","White British or Irish",0]
["2016/17","West Yorkshire","E31000045","Metropolitan","Predominantly Urban","HC","On call firefighters","Asian or Asian British",1]
["2016/17","West Yorkshire","E31000045","Metropolitan","Predominantly Urban","HC","On call firefighters","Black or Black British",0]
["2016/17","West Yorkshire","E31000045","Metropolitan","Predominantly Urban","HC","On call firefighters","Chinese or other ethnicity",0]
["2016/17","West Yorkshire","E31000045","Metropolitan","Predominantly Urban","HC","On call firefighters","Ethnic origin not stated",0]
["2016/17","West Yorkshire","E31000045","Metropolitan","Predominantly Urban","HC","On call firefighters","Mixed",0]
["2016/17","West Yorkshire","E31000045","Metropolitan","Predominantly Urban","HC","On call firefighters","White British or Irish",14]
["2016/17","West Yorkshire","E31000045","Metropolitan","Predominantly Urban","HC","Support staff","Asian or Asian British",2]
["2016/17","West Yorkshire","E31000045","Metropolitan","Predominantly Urban","HC","Support staff","Black or Black British",0]
["2016/17","West Yorkshire","E31000045","Metropolitan","Predominantly Urban","HC","Support staff","Chinese or other ethnicity",3]
["2016/17","West Yorkshire","E31000045","Metropolitan","Predominantly Urban","HC","Support staff","Ethnic origin not stated",0]
["2016/17","West Yorkshire","E31000045","Metropolitan","Predominantly Urban","HC","Support staff","Mixed",0]
["2016/17","West Yorkshire","E31000045","Metropolitan","Predominantly Urban","HC","Support staff","White British or Irish",24]
["2016/17","West Yorkshire","E31000045","Metropolitan","Predominantly Urban","HC","Wholetime firefighters","Asian or Asian British",0]
["2016/17","West Yorkshire","E31000045","Metropolitan","Predominantly Urban","HC","Wholetime firefighters","Black or Black British",0]
["2016/17","West Yorkshire","E31000045","Metropolitan","Predominantly Urban","HC","Wholetime firefighters","Chinese or other ethnicity",0]
["2016/17","West Yorkshire","E31000045","Metropolitan","Predominantly Urban","HC","Wholetime firefighters","Ethnic origin not stated",0]
["2016/17","West Yorkshire","E31000045","Metropolitan","Predominantly Urban","HC","Wholetime firefighters","Mixed",0]
["2016/17","West Yorkshire","E31000045","Metropolitan","Predominantly Urban","HC","Wholetime firefighters","White British or Irish",1]
["2017/18","Avon","E31000001","Non-metropolitan","Predominantly Urban","HC","Fire control","Asian or Asian British",0]
["2017/18","Avon","E31000001","Non-metropolitan","Predominantly Urban","HC","Fire control","Black or Black British",0]
["2017/18","Avon","E31000001","Non-metropolitan","Predominantly Urban","HC","Fire control","Chinese or other ethnicity",0]
["2017/18","Avon","E31000001","Non-metropolitan","Predominantly Urban","HC","Fire control","Ethnic origin not stated",0]
["2017/18","Avon","E31000001","Non-metropolitan","Predominantly Urban","HC","Fire control","Mixed",0]
["2017/18","Avon","E31000001","Non-metropolitan","Predominantly Urban","HC","Fire control","White British or Irish",2]
["2017/18","Avon","E31000001","Non-metropolitan","Predominantly Urban","HC","On call firefighters","Asian or Asian British",0]
["2017/18","Avon","E31000001","Non-metropolitan","Predominantly Urban","HC","On call firefighters","Black or Black British",0]
["2017/18","Avon","E31000001","Non-metropolitan","Predominantly Urban","HC","On call firefighters","Chinese or other ethnicity",1]
["2017/18","Avon","E31000001","Non-metropolitan","Predominantly Urban","HC","On call firefighters","Ethnic origin not stated",7]
["2017/18","Avon","E31000001","Non-metropolitan","Predominantly Urban","HC","On call firefighters","Mixed",0]
["2017/18","Avon","E31000001","Non-metropolitan","Predominantly Urban","HC","On call firefighters","White British or Irish",22]
["2017/18","Avon","E31000001","Non-metropolitan","Predominantly Urban","HC","Support staff","Asian or Asian British",0]
["2017/18","Avon","E31000001","Non-metropolitan","Predominantly Urban","HC","Support staff","Black or Black British",0]
["2017/18","Avon","E31000001","Non-metropolitan","Predominantly Urban","HC","Support staff","Chinese or other ethnicity",2]
["2017/18","Avon","E31000001","Non-metropolitan","Predominantly Urban","HC","Support staff","Ethnic origin not stated",4]
["2017/18","Avon","E31000001","Non-metropolitan","Predominantly Urban","HC","Support staff","Mixed",0]
["2017/18","Avon","E31000001","Non-metropolitan","Predominantly Urban","HC","Support staff","White British or Irish",18]
["2017/18","Avon","E31000001","Non-metropolitan","Predominantly Urban","HC","Wholetime firefighters","Asian or Asian British",0]
["2017/18","Avon","E31000001","Non-metropolitan","Predominantly Urban","HC","Wholetime firefighters","Black or Black British",0]
["2017/18","Avon","E31000001","Non-metropolitan","Predominantly Urban","HC","Wholetime firefighters","Chinese or other ethnicity",0]
["2017/18","Avon","E31000001","Non-metropolitan","Predominantly Urban","HC","Wholetime firefighters","Ethnic origin not stated",3]
["2017/18","Avon","E31000001","Non-metropolitan","Predominantly Urban","HC","Wholetime firefighters","Mixed",1]
["2017/18","Avon","E31000001","Non-metropolitan","Predominantly Urban","HC","Wholetime firefighters","White British or Irish",21]
["2017/18","Bedfordshire","E31000002","Non-metropolitan","Significantly Rural","HC","Fire control","Asian or Asian British",0]
["2017/18","Bedfordshire","E31000002","Non-metropolitan","Significantly Rural","HC","Fire control","Black or Black British",0]
["2017/18","Bedfordshire","E31000002","Non-metropolitan","Significantly Rural","HC","Fire control","Chinese or other ethnicity",0]
["2017/18","Bedfordshire","E31000002","Non-metropolitan","Significantly Rural","HC","Fire control","Ethnic origin not stated",0]
["2017/18","Bedfordshire","E31000002","Non-metropolitan","Significantly Rural","HC","Fire control","Mixed",0]
["2017/18","Bedfordshire","E31000002","Non-metropolitan","Significantly Rural","HC","Fire control","White British or Irish",0]
["2017/18","Bedfordshire","E31000002","Non-metropolitan","Significantly Rural","HC","On call firefighters","Asian or Asian British",0]
["2017/18","Bedfordshire","E31000002","Non-metropolitan","Significantly Rural","HC","On call firefighters","Black or Black British",0]
["2017/18","Bedfordshire","E31000002","Non-metropolitan","Significantly Rural","HC","On call firefighters","Chinese or other ethnicity",1]
["2017/18","Bedfordshire","E31000002","Non-metropolitan","Significantly Rural","HC","On call firefighters","Ethnic origin not stated",13]
["2017/18","Bedfordshire","E31000002","Non-metropolitan","Significantly Rural","HC","On call firefighters","Mixed",1]
["2017/18","Bedfordshire","E31000002","Non-metropolitan","Significantly Rural","HC","On call firefighters","White British or Irish",18]
["2017/18","Bedfordshire","E31000002","Non-metropolitan","Significantly Rural","HC","Support staff","Asian or Asian British",0]
["2017/18","Bedfordshire","E31000002","Non-metropolitan","Significantly Rural","HC","Support staff","Black or Black British",0]
["2017/18","Bedfordshire","E31000002","Non-metropolitan","Significantly Rural","HC","Support staff","Chinese or other ethnicity",0]
["2017/18","Bedfordshire","E31000002","Non-metropolitan","Significantly Rural","HC","Support staff","Ethnic origin not stated",10]
["2017/18","Bedfordshire","E31000002","Non-metropolitan","Significantly Rural","HC","Support staff","Mixed",0]
["2017/18","Bedfordshire","E31000002","Non-metropolitan","Significantly Rural","HC","Support staff","White British or Irish",16]
["2017/18","Bedfordshire","E31000002","Non-metropolitan","Significantly Rural","HC","Wholetime firefighters","Asian or Asian British",0]
["2017/18","Bedfordshire","E31000002","Non-metropolitan","Significantly Rural","HC","Wholetime firefighters","Black or Black British",1]
["2017/18","Bedfordshire","E31000002","Non-metropolitan","Significantly Rural","HC","Wholetime firefighters","Chinese or other ethnicity",0]
["2017/18","Bedfordshire","E31000002","Non-metropolitan","Significantly Rural","HC","Wholetime firefighters","Ethnic origin not stated",5]
["2017/18","Bedfordshire","E31000002","Non-metropolitan","Significantly Rural","HC","Wholetime firefighters","Mixed",1]
["2017/18","Bedfordshire","E31000002","Non-metropolitan","Significantly Rural","HC","Wholetime firefighters","White British or Irish",18]
["2017/18","Berkshire","E31000003","Non-metropolitan","Predominantly Urban","HC","Fire control","Asian or Asian British",0]
["2017/18","Berkshire","E31000003","Non-metropolitan","Predominantly Urban","HC","Fire control","Black or Black British",0]
["2017/18","Berkshire","E31000003","Non-metropolitan","Predominantly Urban","HC","Fire control","Chinese or other ethnicity",0]
["2017/18","Berkshire","E31000003","Non-metropolitan","Predominantly Urban","HC","Fire control","Ethnic origin not stated",0]
["2017/18","Berkshire","E31000003","Non-metropolitan","Predominantly Urban","HC","Fire control","Mixed",0]
["2017/18","Berkshire","E31000003","Non-metropolitan","Predominantly Urban","HC","Fire control","White British or Irish",9]
["2017/18","Berkshire","E31000003","Non-metropolitan","Predominantly Urban","HC","On call firefighters","Asian or Asian British",0]
["2017/18","Berkshire","E31000003","Non-metropolitan","Predominantly Urban","HC","On call firefighters","Black or Black British",0]
["2017/18","Berkshire","E31000003","Non-metropolitan","Predominantly Urban","HC","On call firefighters","Chinese or other ethnicity",0]
["2017/18","Berkshire","E31000003","Non-metropolitan","Predominantly Urban","HC","On call firefighters","Ethnic origin not stated",0]
["2017/18","Berkshire","E31000003","Non-metropolitan","Predominantly Urban","HC","On call firefighters","Mixed",1]
["2017/18","Berkshire","E31000003","Non-metropolitan","Predominantly Urban","HC","On call firefighters","White British or Irish",19]
["2017/18","Berkshire","E31000003","Non-metropolitan","Predominantly Urban","HC","Support staff","Asian or Asian British",2]
["2017/18","Berkshire","E31000003","Non-metropolitan","Predominantly Urban","HC","Support staff","Black or Black British",2]
["2017/18","Berkshire","E31000003","Non-metropolitan","Predominantly Urban","HC","Support staff","Chinese or other ethnicity",1]
["2017/18","Berkshire","E31000003","Non-metropolitan","Predominantly Urban","HC","Support staff","Ethnic origin not stated",2]
["2017/18","Berkshire","E31000003","Non-metropolitan","Predominantly Urban","HC","Support staff","Mixed",3]
["2017/18","Berkshire","E31000003","Non-metropolitan","Predominantly Urban","HC","Support staff","White British or Irish",32]
["2017/18","Berkshire","E31000003","Non-metropolitan","Predominantly Urban","HC","Wholetime firefighters","Asian or Asian British",0]
["2017/18","Berkshire","E31000003","Non-metropolitan","Predominantly Urban","HC","Wholetime firefighters","Black or Black British",0]
["2017/18","Berkshire","E31000003","Non-metropolitan","Predominantly Urban","HC","Wholetime firefighters","Chinese or other ethnicity",0]
["2017/18","Berkshire","E31000003","Non-metropolitan","Predominantly Urban","HC","Wholetime firefighters","Ethnic origin not stated",1]
["2017/18","Berkshire","E31000003","Non-metropolitan","Predominantly Urban","HC","Wholetime firefighters","Mixed",0]
["2017/18","Berkshire","E31000003","Non-metropolitan","Predominantly Urban","HC","Wholetime firefighters","White British or Irish",20]
["2017/18","Buckinghamshire","E31000004","Non-metropolitan","Significantly Rural","HC","Fire control","Asian or Asian British",0]
["2017/18","Buckinghamshire","E31000004","Non-metropolitan","Significantly Rural","HC","Fire control","Black or Black British",0]
["2017/18","Buckinghamshire","E31000004","Non-metropolitan","Significantly Rural","HC","Fire control","Chinese or other ethnicity",0]
["2017/18","Buckinghamshire","E31000004","Non-metropolitan","Significantly Rural","HC","Fire control","Ethnic origin not stated",0]
["2017/18","Buckinghamshire","E31000004","Non-metropolitan","Significantly Rural","HC","Fire control","Mixed",0]
["2017/18","Buckinghamshire","E31000004","Non-metropolitan","Significantly Rural","HC","Fire control","White British or Irish",0]
["2017/18","Buckinghamshire","E31000004","Non-metropolitan","Significantly Rural","HC","On call firefighters","Asian or Asian British",0]
["2017/18","Buckinghamshire","E31000004","Non-metropolitan","Significantly Rural","HC","On call firefighters","Black or Black British",0]
["2017/18","Buckinghamshire","E31000004","Non-metropolitan","Significantly Rural","HC","On call firefighters","Chinese or other ethnicity",0]
["2017/18","Buckinghamshire","E31000004","Non-metropolitan","Significantly Rural","HC","On call firefighters","Ethnic origin not stated",0]
["2017/18","Buckinghamshire","E31000004","Non-metropolitan","Significantly Rural","HC","On call firefighters","Mixed",0]
["2017/18","Buckinghamshire","E31000004","Non-metropolitan","Significantly Rural","HC","On call firefighters","White British or Irish",20]
["2017/18","Buckinghamshire","E31000004","Non-metropolitan","Significantly Rural","HC","Support staff","Asian or Asian British",0]
["2017/18","Buckinghamshire","E31000004","Non-metropolitan","Significantly Rural","HC","Support staff","Black or Black British",0]
["2017/18","Buckinghamshire","E31000004","Non-metropolitan","Significantly Rural","HC","Support staff","Chinese or other ethnicity",0]
["2017/18","Buckinghamshire","E31000004","Non-metropolitan","Significantly Rural","HC","Support staff","Ethnic origin not stated",0]
["2017/18","Buckinghamshire","E31000004","Non-metropolitan","Significantly Rural","HC","Support staff","Mixed",0]
["2017/18","Buckinghamshire","E31000004","Non-metropolitan","Significantly Rural","HC","Support staff","White British or Irish",13]
["2017/18","Buckinghamshire","E31000004","Non-metropolitan","Significantly Rural","HC","Wholetime firefighters","Asian or Asian British",0]
["2017/18","Buckinghamshire","E31000004","Non-metropolitan","Significantly Rural","HC","Wholetime firefighters","Black or Black British",0]
["2017/18","Buckinghamshire","E31000004","Non-metropolitan","Significantly Rural","HC","Wholetime firefighters","Chinese or other ethnicity",0]
["2017/18","Buckinghamshire","E31000004","Non-metropolitan","Significantly Rural","HC","Wholetime firefighters","Ethnic origin not stated",0]
["2017/18","Buckinghamshire","E31000004","Non-metropolitan","Significantly Rural","HC","Wholetime firefighters","Mixed",0]
["2017/18","Buckinghamshire","E31000004","Non-metropolitan","Significantly Rural","HC","Wholetime firefighters","White British or Irish",11]
["2017/18","Cambridgeshire","E31000005","Non-metropolitan","Predominantly Rural","HC","Fire control","Asian or Asian British",0]
["2017/18","Cambridgeshire","E31000005","Non-metropolitan","Predominantly Rural","HC","Fire control","Black or Black British",0]
["2017/18","Cambridgeshire","E31000005","Non-metropolitan","Predominantly Rural","HC","Fire control","Chinese or other ethnicity",1]
["2017/18","Cambridgeshire","E31000005","Non-metropolitan","Predominantly Rural","HC","Fire control","Ethnic origin not stated",5]
["2017/18","Cambridgeshire","E31000005","Non-metropolitan","Predominantly Rural","HC","Fire control","Mixed",0]
["2017/18","Cambridgeshire","E31000005","Non-metropolitan","Predominantly Rural","HC","Fire control","White British or Irish",3]
["2017/18","Cambridgeshire","E31000005","Non-metropolitan","Predominantly Rural","HC","On call firefighters","Asian or Asian British",0]
["2017/18","Cambridgeshire","E31000005","Non-metropolitan","Predominantly Rural","HC","On call firefighters","Black or Black British",0]
["2017/18","Cambridgeshire","E31000005","Non-metropolitan","Predominantly Rural","HC","On call firefighters","Chinese or other ethnicity",0]
["2017/18","Cambridgeshire","E31000005","Non-metropolitan","Predominantly Rural","HC","On call firefighters","Ethnic origin not stated",0]
["2017/18","Cambridgeshire","E31000005","Non-metropolitan","Predominantly Rural","HC","On call firefighters","Mixed",0]
["2017/18","Cambridgeshire","E31000005","Non-metropolitan","Predominantly Rural","HC","On call firefighters","White British or Irish",30]
["2017/18","Cambridgeshire","E31000005","Non-metropolitan","Predominantly Rural","HC","Support staff","Asian or Asian British",1]
["2017/18","Cambridgeshire","E31000005","Non-metropolitan","Predominantly Rural","HC","Support staff","Black or Black British",1]
["2017/18","Cambridgeshire","E31000005","Non-metropolitan","Predominantly Rural","HC","Support staff","Chinese or other ethnicity",2]
["2017/18","Cambridgeshire","E31000005","Non-metropolitan","Predominantly Rural","HC","Support staff","Ethnic origin not stated",2]
["2017/18","Cambridgeshire","E31000005","Non-metropolitan","Predominantly Rural","HC","Support staff","Mixed",0]
["2017/18","Cambridgeshire","E31000005","Non-metropolitan","Predominantly Rural","HC","Support staff","White British or Irish",18]
["2017/18","Cambridgeshire","E31000005","Non-metropolitan","Predominantly Rural","HC","Wholetime firefighters","Asian or Asian British",0]
["2017/18","Cambridgeshire","E31000005","Non-metropolitan","Predominantly Rural","HC","Wholetime firefighters","Black or Black British",0]
["2017/18","Cambridgeshire","E31000005","Non-metropolitan","Predominantly Rural","HC","Wholetime firefighters","Chinese or other ethnicity",0]
["2017/18","Cambridgeshire","E31000005","Non-metropolitan","Predominantly Rural","HC","Wholetime firefighters","Ethnic origin not stated",0]
["2017/18","Cambridgeshire","E31000005","Non-metropolitan","Predominantly Rural","HC","Wholetime firefighters","Mixed",0]
["2017/18","Cambridgeshire","E31000005","Non-metropolitan","Predominantly Rural","HC","Wholetime firefighters","White British or Irish",7]
["2017/18","Cheshire","E31000006","Non-metropolitan","Significantly Rural","HC","Fire control","Asian or Asian British",0]
["2017/18","Cheshire","E31000006","Non-metropolitan","Significantly Rural","HC","Fire control","Black or Black British",0]
["2017/18","Cheshire","E31000006","Non-metropolitan","Significantly Rural","HC","Fire control","Chinese or other ethnicity",0]
["2017/18","Cheshire","E31000006","Non-metropolitan","Significantly Rural","HC","Fire control","Ethnic origin not stated",0]
["2017/18","Cheshire","E31000006","Non-metropolitan","Significantly Rural","HC","Fire control","Mixed",0]
["2017/18","Cheshire","E31000006","Non-metropolitan","Significantly Rural","HC","Fire control","White British or Irish",0]
["2017/18","Cheshire","E31000006","Non-metropolitan","Significantly Rural","HC","On call firefighters","Asian or Asian British",0]
["2017/18","Cheshire","E31000006","Non-metropolitan","Significantly Rural","HC","On call firefighters","Black or Black British",0]
["2017/18","Cheshire","E31000006","Non-metropolitan","Significantly Rural","HC","On call firefighters","Chinese or other ethnicity",0]
["2017/18","Cheshire","E31000006","Non-metropolitan","Significantly Rural","HC","On call firefighters","Ethnic origin not stated",0]
["2017/18","Cheshire","E31000006","Non-metropolitan","Significantly Rural","HC","On call firefighters","Mixed",0]
["2017/18","Cheshire","E31000006","Non-metropolitan","Significantly Rural","HC","On call firefighters","White British or Irish",21]
["2017/18","Cheshire","E31000006","Non-metropolitan","Significantly Rural","HC","Support staff","Asian or Asian British",0]
["2017/18","Cheshire","E31000006","Non-metropolitan","Significantly Rural","HC","Support staff","Black or Black British",0]
["2017/18","Cheshire","E31000006","Non-metropolitan","Significantly Rural","HC","Support staff","Chinese or other ethnicity",0]
["2017/18","Cheshire","E31000006","Non-metropolitan","Significantly Rural","HC","Support staff","Ethnic origin not stated",1]
["2017/18","Cheshire","E31000006","Non-metropolitan","Significantly Rural","HC","Support staff","Mixed",0]
["2017/18","Cheshire","E31000006","Non-metropolitan","Significantly Rural","HC","Support staff","White British or Irish",37]
["2017/18","Cheshire","E31000006","Non-metropolitan","Significantly Rural","HC","Wholetime firefighters","Asian or Asian British",1]
["2017/18","Cheshire","E31000006","Non-metropolitan","Significantly Rural","HC","Wholetime firefighters","Black or Black British",0]
["2017/18","Cheshire","E31000006","Non-metropolitan","Significantly Rural","HC","Wholetime firefighters","Chinese or other ethnicity",0]
["2017/18","Cheshire","E31000006","Non-metropolitan","Significantly Rural","HC","Wholetime firefighters","Ethnic origin not stated",0]
["2017/18","Cheshire","E31000006","Non-metropolitan","Significantly Rural","HC","Wholetime firefighters","Mixed",0]
["2017/18","Cheshire","E31000006","Non-metropolitan","Significantly Rural","HC","Wholetime firefighters","White British or Irish",18]
["2017/18","Cleveland","E31000007","Non-metropolitan","Predominantly Urban","HC","Fire control","Asian or Asian British",0]
["2017/18","Cleveland","E31000007","Non-metropolitan","Predominantly Urban","HC","Fire control","Black or Black British",0]
["2017/18","Cleveland","E31000007","Non-metropolitan","Predominantly Urban","HC","Fire control","Chinese or other ethnicity",0]
["2017/18","Cleveland","E31000007","Non-metropolitan","Predominantly Urban","HC","Fire control","Ethnic origin not stated",0]
["2017/18","Cleveland","E31000007","Non-metropolitan","Predominantly Urban","HC","Fire control","Mixed",0]
["2017/18","Cleveland","E31000007","Non-metropolitan","Predominantly Urban","HC","Fire control","White British or Irish",1]
["2017/18","Cleveland","E31000007","Non-metropolitan","Predominantly Urban","HC","On call firefighters","Asian or Asian British",0]
["2017/18","Cleveland","E31000007","Non-metropolitan","Predominantly Urban","HC","On call firefighters","Black or Black British",0]
["2017/18","Cleveland","E31000007","Non-metropolitan","Predominantly Urban","HC","On call firefighters","Chinese or other ethnicity",0]
["2017/18","Cleveland","E31000007","Non-metropolitan","Predominantly Urban","HC","On call firefighters","Ethnic origin not stated",0]
["2017/18","Cleveland","E31000007","Non-metropolitan","Predominantly Urban","HC","On call firefighters","Mixed",0]
["2017/18","Cleveland","E31000007","Non-metropolitan","Predominantly Urban","HC","On call firefighters","White British or Irish",11]
["2017/18","Cleveland","E31000007","Non-metropolitan","Predominantly Urban","HC","Support staff","Asian or Asian British",0]
["2017/18","Cleveland","E31000007","Non-metropolitan","Predominantly Urban","HC","Support staff","Black or Black British",0]
["2017/18","Cleveland","E31000007","Non-metropolitan","Predominantly Urban","HC","Support staff","Chinese or other ethnicity",0]
["2017/18","Cleveland","E31000007","Non-metropolitan","Predominantly Urban","HC","Support staff","Ethnic origin not stated",0]
["2017/18","Cleveland","E31000007","Non-metropolitan","Predominantly Urban","HC","Support staff","Mixed",0]
["2017/18","Cleveland","E31000007","Non-metropolitan","Predominantly Urban","HC","Support staff","White British or Irish",13]
["2017/18","Cleveland","E31000007","Non-metropolitan","Predominantly Urban","HC","Wholetime firefighters","Asian or Asian British",0]
["2017/18","Cleveland","E31000007","Non-metropolitan","Predominantly Urban","HC","Wholetime firefighters","Black or Black British",0]
["2017/18","Cleveland","E31000007","Non-metropolitan","Predominantly Urban","HC","Wholetime firefighters","Chinese or other ethnicity",0]
["2017/18","Cleveland","E31000007","Non-metropolitan","Predominantly Urban","HC","Wholetime firefighters","Ethnic origin not stated",0]
["2017/18","Cleveland","E31000007","Non-metropolitan","Predominantly Urban","HC","Wholetime firefighters","Mixed",0]
["2017/18","Cleveland","E31000007","Non-metropolitan","Predominantly Urban","HC","Wholetime firefighters","White British or Irish",22]
["2017/18","Cornwall","E31000008","Non-metropolitan","Predominantly Rural","HC","Fire control","Asian or Asian British",0]
["2017/18","Cornwall","E31000008","Non-metropolitan","Predominantly Rural","HC","Fire control","Black or Black British",0]
["2017/18","Cornwall","E31000008","Non-metropolitan","Predominantly Rural","HC","Fire control","Chinese or other ethnicity",0]
["2017/18","Cornwall","E31000008","Non-metropolitan","Predominantly Rural","HC","Fire control","Ethnic origin not stated",3]
["2017/18","Cornwall","E31000008","Non-metropolitan","Predominantly Rural","HC","Fire control","Mixed",0]
["2017/18","Cornwall","E31000008","Non-metropolitan","Predominantly Rural","HC","Fire control","White British or Irish",0]
["2017/18","Cornwall","E31000008","Non-metropolitan","Predominantly Rural","HC","On call firefighters","Asian or Asian British",0]
["2017/18","Cornwall","E31000008","Non-metropolitan","Predominantly Rural","HC","On call firefighters","Black or Black British",0]
["2017/18","Cornwall","E31000008","Non-metropolitan","Predominantly Rural","HC","On call firefighters","Chinese or other ethnicity",0]
["2017/18","Cornwall","E31000008","Non-metropolitan","Predominantly Rural","HC","On call firefighters","Ethnic origin not stated",15]
["2017/18","Cornwall","E31000008","Non-metropolitan","Predominantly Rural","HC","On call firefighters","Mixed",0]
["2017/18","Cornwall","E31000008","Non-metropolitan","Predominantly Rural","HC","On call firefighters","White British or Irish",8]
["2017/18","Cornwall","E31000008","Non-metropolitan","Predominantly Rural","HC","Support staff","Asian or Asian British",0]
["2017/18","Cornwall","E31000008","Non-metropolitan","Predominantly Rural","HC","Support staff","Black or Black British",0]
["2017/18","Cornwall","E31000008","Non-metropolitan","Predominantly Rural","HC","Support staff","Chinese or other ethnicity",0]
["2017/18","Cornwall","E31000008","Non-metropolitan","Predominantly Rural","HC","Support staff","Ethnic origin not stated",6]
["2017/18","Cornwall","E31000008","Non-metropolitan","Predominantly Rural","HC","Support staff","Mixed",0]
["2017/18","Cornwall","E31000008","Non-metropolitan","Predominantly Rural","HC","Support staff","White British or Irish",1]
["2017/18","Cornwall","E31000008","Non-metropolitan","Predominantly Rural","HC","Wholetime firefighters","Asian or Asian British",0]
["2017/18","Cornwall","E31000008","Non-metropolitan","Predominantly Rural","HC","Wholetime firefighters","Black or Black British",0]
["2017/18","Cornwall","E31000008","Non-metropolitan","Predominantly Rural","HC","Wholetime firefighters","Chinese or other ethnicity",0]
["2017/18","Cornwall","E31000008","Non-metropolitan","Predominantly Rural","HC","Wholetime firefighters","Ethnic origin not stated",5]
["2017/18","Cornwall","E31000008","Non-metropolitan","Predominantly Rural","HC","Wholetime firefighters","Mixed",0]
["2017/18","Cornwall","E31000008","Non-metropolitan","Predominantly Rural","HC","Wholetime firefighters","White British or Irish",0]
["2017/18","Cumbria","E31000009","Non-metropolitan","Predominantly Rural","HC","Fire control","Asian or Asian British",0]
["2017/18","Cumbria","E31000009","Non-metropolitan","Predominantly Rural","HC","Fire control","Black or Black British",0]
["2017/18","Cumbria","E31000009","Non-metropolitan","Predominantly Rural","HC","Fire control","Chinese or other ethnicity",0]
["2017/18","Cumbria","E31000009","Non-metropolitan","Predominantly Rural","HC","Fire control","Ethnic origin not stated",0]
["2017/18","Cumbria","E31000009","Non-metropolitan","Predominantly Rural","HC","Fire control","Mixed",0]
["2017/18","Cumbria","E31000009","Non-metropolitan","Predominantly Rural","HC","Fire control","White British or Irish",0]
["2017/18","Cumbria","E31000009","Non-metropolitan","Predominantly Rural","HC","On call firefighters","Asian or Asian British",1]
["2017/18","Cumbria","E31000009","Non-metropolitan","Predominantly Rural","HC","On call firefighters","Black or Black British",0]
["2017/18","Cumbria","E31000009","Non-metropolitan","Predominantly Rural","HC","On call firefighters","Chinese or other ethnicity",0]
["2017/18","Cumbria","E31000009","Non-metropolitan","Predominantly Rural","HC","On call firefighters","Ethnic origin not stated",27]
["2017/18","Cumbria","E31000009","Non-metropolitan","Predominantly Rural","HC","On call firefighters","Mixed",0]
["2017/18","Cumbria","E31000009","Non-metropolitan","Predominantly Rural","HC","On call firefighters","White British or Irish",6]
["2017/18","Cumbria","E31000009","Non-metropolitan","Predominantly Rural","HC","Support staff","Asian or Asian British",0]
["2017/18","Cumbria","E31000009","Non-metropolitan","Predominantly Rural","HC","Support staff","Black or Black British",0]
["2017/18","Cumbria","E31000009","Non-metropolitan","Predominantly Rural","HC","Support staff","Chinese or other ethnicity",0]
["2017/18","Cumbria","E31000009","Non-metropolitan","Predominantly Rural","HC","Support staff","Ethnic origin not stated",0]
["2017/18","Cumbria","E31000009","Non-metropolitan","Predominantly Rural","HC","Support staff","Mixed",0]
["2017/18","Cumbria","E31000009","Non-metropolitan","Predominantly Rural","HC","Support staff","White British or Irish",1]
["2017/18","Cumbria","E31000009","Non-metropolitan","Predominantly Rural","HC","Wholetime firefighters","Asian or Asian British",0]
["2017/18","Cumbria","E31000009","Non-metropolitan","Predominantly Rural","HC","Wholetime firefighters","Black or Black British",0]
["2017/18","Cumbria","E31000009","Non-metropolitan","Predominantly Rural","HC","Wholetime firefighters","Chinese or other ethnicity",0]
["2017/18","Cumbria","E31000009","Non-metropolitan","Predominantly Rural","HC","Wholetime firefighters","Ethnic origin not stated",0]
["2017/18","Cumbria","E31000009","Non-metropolitan","Predominantly Rural","HC","Wholetime firefighters","Mixed",0]
["2017/18","Cumbria","E31000009","Non-metropolitan","Predominantly Rural","HC","Wholetime firefighters","White British or Irish",1]
["2017/18","Derbyshire","E31000010","Non-metropolitan","Significantly Rural","HC","Fire control","Asian or Asian British",0]
["2017/18","Derbyshire","E31000010","Non-metropolitan","Significantly Rural","HC","Fire control","Black or Black British",0]
["2017/18","Derbyshire","E31000010","Non-metropolitan","Significantly Rural","HC","Fire control","Chinese or other ethnicity",0]
["2017/18","Derbyshire","E31000010","Non-metropolitan","Significantly Rural","HC","Fire control","Ethnic origin not stated",2]
["2017/18","Derbyshire","E31000010","Non-metropolitan","Significantly Rural","HC","Fire control","Mixed",0]
["2017/18","Derbyshire","E31000010","Non-metropolitan","Significantly Rural","HC","Fire control","White British or Irish",2]
["2017/18","Derbyshire","E31000010","Non-metropolitan","Significantly Rural","HC","On call firefighters","Asian or Asian British",0]
["2017/18","Derbyshire","E31000010","Non-metropolitan","Significantly Rural","HC","On call firefighters","Black or Black British",0]
["2017/18","Derbyshire","E31000010","Non-metropolitan","Significantly Rural","HC","On call firefighters","Chinese or other ethnicity",0]
["2017/18","Derbyshire","E31000010","Non-metropolitan","Significantly Rural","HC","On call firefighters","Ethnic origin not stated",11]
["2017/18","Derbyshire","E31000010","Non-metropolitan","Significantly Rural","HC","On call firefighters","Mixed",0]
["2017/18","Derbyshire","E31000010","Non-metropolitan","Significantly Rural","HC","On call firefighters","White British or Irish",17]
["2017/18","Derbyshire","E31000010","Non-metropolitan","Significantly Rural","HC","Support staff","Asian or Asian British",1]
["2017/18","Derbyshire","E31000010","Non-metropolitan","Significantly Rural","HC","Support staff","Black or Black British",0]
["2017/18","Derbyshire","E31000010","Non-metropolitan","Significantly Rural","HC","Support staff","Chinese or other ethnicity",0]
["2017/18","Derbyshire","E31000010","Non-metropolitan","Significantly Rural","HC","Support staff","Ethnic origin not stated",5]
["2017/18","Derbyshire","E31000010","Non-metropolitan","Significantly Rural","HC","Support staff","Mixed",0]
["2017/18","Derbyshire","E31000010","Non-metropolitan","Significantly Rural","HC","Support staff","White British or Irish",8]
["2017/18","Derbyshire","E31000010","Non-metropolitan","Significantly Rural","HC","Wholetime firefighters","Asian or Asian British",0]
["2017/18","Derbyshire","E31000010","Non-metropolitan","Significantly Rural","HC","Wholetime firefighters","Black or Black British",0]
["2017/18","Derbyshire","E31000010","Non-metropolitan","Significantly Rural","HC","Wholetime firefighters","Chinese or other ethnicity",0]
["2017/18","Derbyshire","E31000010","Non-metropolitan","Significantly Rural","HC","Wholetime firefighters","Ethnic origin not stated",1]
["2017/18","Derbyshire","E31000010","Non-metropolitan","Significantly Rural","HC","Wholetime firefighters","Mixed",0]
["2017/18","Derbyshire","E31000010","Non-metropolitan","Significantly Rural","HC","Wholetime firefighters","White British or Irish",2]
["2017/18","Devon and Somerset","E31000011","Non-metropolitan","Predominantly Rural","HC","Fire control","Asian or Asian British",0]
["2017/18","Devon and Somerset","E31000011","Non-metropolitan","Predominantly Rural","HC","Fire control","Black or Black British",0]
["2017/18","Devon and Somerset","E31000011","Non-metropolitan","Predominantly Rural","HC","Fire control","Chinese or other ethnicity",0]
["2017/18","Devon and Somerset","E31000011","Non-metropolitan","Predominantly Rural","HC","Fire control","Ethnic origin not stated",0]
["2017/18","Devon and Somerset","E31000011","Non-metropolitan","Predominantly Rural","HC","Fire control","Mixed",0]
["2017/18","Devon and Somerset","E31000011","Non-metropolitan","Predominantly Rural","HC","Fire control","White British or Irish",2]
["2017/18","Devon and Somerset","E31000011","Non-metropolitan","Predominantly Rural","HC","On call firefighters","Asian or Asian British",0]
["2017/18","Devon and Somerset","E31000011","Non-metropolitan","Predominantly Rural","HC","On call firefighters","Black or Black British",0]
["2017/18","Devon and Somerset","E31000011","Non-metropolitan","Predominantly Rural","HC","On call firefighters","Chinese or other ethnicity",1]
["2017/18","Devon and Somerset","E31000011","Non-metropolitan","Predominantly Rural","HC","On call firefighters","Ethnic origin not stated",34]
["2017/18","Devon and Somerset","E31000011","Non-metropolitan","Predominantly Rural","HC","On call firefighters","Mixed",1]
["2017/18","Devon and Somerset","E31000011","Non-metropolitan","Predominantly Rural","HC","On call firefighters","White British or Irish",72]
["2017/18","Devon and Somerset","E31000011","Non-metropolitan","Predominantly Rural","HC","Support staff","Asian or Asian British",0]
["2017/18","Devon and Somerset","E31000011","Non-metropolitan","Predominantly Rural","HC","Support staff","Black or Black British",0]
["2017/18","Devon and Somerset","E31000011","Non-metropolitan","Predominantly Rural","HC","Support staff","Chinese or other ethnicity",0]
["2017/18","Devon and Somerset","E31000011","Non-metropolitan","Predominantly Rural","HC","Support staff","Ethnic origin not stated",7]
["2017/18","Devon and Somerset","E31000011","Non-metropolitan","Predominantly Rural","HC","Support staff","Mixed",0]
["2017/18","Devon and Somerset","E31000011","Non-metropolitan","Predominantly Rural","HC","Support staff","White British or Irish",19]
["2017/18","Devon and Somerset","E31000011","Non-metropolitan","Predominantly Rural","HC","Wholetime firefighters","Asian or Asian British",0]
["2017/18","Devon and Somerset","E31000011","Non-metropolitan","Predominantly Rural","HC","Wholetime firefighters","Black or Black British",0]
["2017/18","Devon and Somerset","E31000011","Non-metropolitan","Predominantly Rural","HC","Wholetime firefighters","Chinese or other ethnicity",1]
["2017/18","Devon and Somerset","E31000011","Non-metropolitan","Predominantly Rural","HC","Wholetime firefighters","Ethnic origin not stated",1]
["2017/18","Devon and Somerset","E31000011","Non-metropolitan","Predominantly Rural","HC","Wholetime firefighters","Mixed",0]
["2017/18","Devon and Somerset","E31000011","Non-metropolitan","Predominantly Rural","HC","Wholetime firefighters","White British or Irish",33]
["2017/18","Dorset and Wiltshire","E31000047","Non-metropolitan","Significantly Rural","HC","Fire control","Asian or Asian British",0]
["2017/18","Dorset and Wiltshire","E31000047","Non-metropolitan","Significantly Rural","HC","Fire control","Black or Black British",0]
["2017/18","Dorset and Wiltshire","E31000047","Non-metropolitan","Significantly Rural","HC","Fire control","Chinese or other ethnicity",0]
["2017/18","Dorset and Wiltshire","E31000047","Non-metropolitan","Significantly Rural","HC","Fire control","Ethnic origin not stated",4]
["2017/18","Dorset and Wiltshire","E31000047","Non-metropolitan","Significantly Rural","HC","Fire control","Mixed",0]
["2017/18","Dorset and Wiltshire","E31000047","Non-metropolitan","Significantly Rural","HC","Fire control","White British or Irish",0]
["2017/18","Dorset and Wiltshire","E31000047","Non-metropolitan","Significantly Rural","HC","On call firefighters","Asian or Asian British",0]
["2017/18","Dorset and Wiltshire","E31000047","Non-metropolitan","Significantly Rural","HC","On call firefighters","Black or Black British",0]
["2017/18","Dorset and Wiltshire","E31000047","Non-metropolitan","Significantly Rural","HC","On call firefighters","Chinese or other ethnicity",3]
["2017/18","Dorset and Wiltshire","E31000047","Non-metropolitan","Significantly Rural","HC","On call firefighters","Ethnic origin not stated",31]
["2017/18","Dorset and Wiltshire","E31000047","Non-metropolitan","Significantly Rural","HC","On call firefighters","Mixed",0]
["2017/18","Dorset and Wiltshire","E31000047","Non-metropolitan","Significantly Rural","HC","On call firefighters","White British or Irish",44]
["2017/18","Dorset and Wiltshire","E31000047","Non-metropolitan","Significantly Rural","HC","Support staff","Asian or Asian British",0]
["2017/18","Dorset and Wiltshire","E31000047","Non-metropolitan","Significantly Rural","HC","Support staff","Black or Black British",0]
["2017/18","Dorset and Wiltshire","E31000047","Non-metropolitan","Significantly Rural","HC","Support staff","Chinese or other ethnicity",0]
["2017/18","Dorset and Wiltshire","E31000047","Non-metropolitan","Significantly Rural","HC","Support staff","Ethnic origin not stated",14]
["2017/18","Dorset and Wiltshire","E31000047","Non-metropolitan","Significantly Rural","HC","Support staff","Mixed",0]
["2017/18","Dorset and Wiltshire","E31000047","Non-metropolitan","Significantly Rural","HC","Support staff","White British or Irish",11]
["2017/18","Dorset and Wiltshire","E31000047","Non-metropolitan","Significantly Rural","HC","Wholetime firefighters","Asian or Asian British",0]
["2017/18","Dorset and Wiltshire","E31000047","Non-metropolitan","Significantly Rural","HC","Wholetime firefighters","Black or Black British",0]
["2017/18","Dorset and Wiltshire","E31000047","Non-metropolitan","Significantly Rural","HC","Wholetime firefighters","Chinese or other ethnicity",0]
["2017/18","Dorset and Wiltshire","E31000047","Non-metropolitan","Significantly Rural","HC","Wholetime firefighters","Ethnic origin not stated",10]
["2017/18","Dorset and Wiltshire","E31000047","Non-metropolitan","Significantly Rural","HC","Wholetime firefighters","Mixed",0]
["2017/18","Dorset and Wiltshire","E31000047","Non-metropolitan","Significantly Rural","HC","Wholetime firefighters","White British or Irish",11]
["2017/18","Durham","E31000013","Non-metropolitan","Predominantly Rural","HC","Fire control","Asian or Asian British",0]
["2017/18","Durham","E31000013","Non-metropolitan","Predominantly Rural","HC","Fire control","Black or Black British",0]
["2017/18","Durham","E31000013","Non-metropolitan","Predominantly Rural","HC","Fire control","Chinese or other ethnicity",0]
["2017/18","Durham","E31000013","Non-metropolitan","Predominantly Rural","HC","Fire control","Ethnic origin not stated",0]
["2017/18","Durham","E31000013","Non-metropolitan","Predominantly Rural","HC","Fire control","Mixed",0]
["2017/18","Durham","E31000013","Non-metropolitan","Predominantly Rural","HC","Fire control","White British or Irish",0]
["2017/18","Durham","E31000013","Non-metropolitan","Predominantly Rural","HC","On call firefighters","Asian or Asian British",0]
["2017/18","Durham","E31000013","Non-metropolitan","Predominantly Rural","HC","On call firefighters","Black or Black British",0]
["2017/18","Durham","E31000013","Non-metropolitan","Predominantly Rural","HC","On call firefighters","Chinese or other ethnicity",0]
["2017/18","Durham","E31000013","Non-metropolitan","Predominantly Rural","HC","On call firefighters","Ethnic origin not stated",20]
["2017/18","Durham","E31000013","Non-metropolitan","Predominantly Rural","HC","On call firefighters","Mixed",0]
["2017/18","Durham","E31000013","Non-metropolitan","Predominantly Rural","HC","On call firefighters","White British or Irish",7]
["2017/18","Durham","E31000013","Non-metropolitan","Predominantly Rural","HC","Support staff","Asian or Asian British",0]
["2017/18","Durham","E31000013","Non-metropolitan","Predominantly Rural","HC","Support staff","Black or Black British",0]
["2017/18","Durham","E31000013","Non-metropolitan","Predominantly Rural","HC","Support staff","Chinese or other ethnicity",0]
["2017/18","Durham","E31000013","Non-metropolitan","Predominantly Rural","HC","Support staff","Ethnic origin not stated",12]
["2017/18","Durham","E31000013","Non-metropolitan","Predominantly Rural","HC","Support staff","Mixed",0]
["2017/18","Durham","E31000013","Non-metropolitan","Predominantly Rural","HC","Support staff","White British or Irish",6]
["2017/18","Durham","E31000013","Non-metropolitan","Predominantly Rural","HC","Wholetime firefighters","Asian or Asian British",0]
["2017/18","Durham","E31000013","Non-metropolitan","Predominantly Rural","HC","Wholetime firefighters","Black or Black British",0]
["2017/18","Durham","E31000013","Non-metropolitan","Predominantly Rural","HC","Wholetime firefighters","Chinese or other ethnicity",0]
["2017/18","Durham","E31000013","Non-metropolitan","Predominantly Rural","HC","Wholetime firefighters","Ethnic origin not stated",8]
["2017/18","Durham","E31000013","Non-metropolitan","Predominantly Rural","HC","Wholetime firefighters","Mixed",0]
["2017/18","Durham","E31000013","Non-metropolitan","Predominantly Rural","HC","Wholetime firefighters","White British or Irish",14]
["2017/18","East Sussex","E31000014","Non-metropolitan","Significantly Rural","HC","Fire control","Asian or Asian British",0]
["2017/18","East Sussex","E31000014","Non-metropolitan","Significantly Rural","HC","Fire control","Black or Black British",0]
["2017/18","East Sussex","E31000014","Non-metropolitan","Significantly Rural","HC","Fire control","Chinese or other ethnicity",0]
["2017/18","East Sussex","E31000014","Non-metropolitan","Significantly Rural","HC","Fire control","Ethnic origin not stated",1]
["2017/18","East Sussex","E31000014","Non-metropolitan","Significantly Rural","HC","Fire control","Mixed",0]
["2017/18","East Sussex","E31000014","Non-metropolitan","Significantly Rural","HC","Fire control","White British or Irish",3]
["2017/18","East Sussex","E31000014","Non-metropolitan","Significantly Rural","HC","On call firefighters","Asian or Asian British",0]
["2017/18","East Sussex","E31000014","Non-metropolitan","Significantly Rural","HC","On call firefighters","Black or Black British",0]
["2017/18","East Sussex","E31000014","Non-metropolitan","Significantly Rural","HC","On call firefighters","Chinese or other ethnicity",0]
["2017/18","East Sussex","E31000014","Non-metropolitan","Significantly Rural","HC","On call firefighters","Ethnic origin not stated",3]
["2017/18","East Sussex","E31000014","Non-metropolitan","Significantly Rural","HC","On call firefighters","Mixed",0]
["2017/18","East Sussex","E31000014","Non-metropolitan","Significantly Rural","HC","On call firefighters","White British or Irish",19]
["2017/18","East Sussex","E31000014","Non-metropolitan","Significantly Rural","HC","Support staff","Asian or Asian British",0]
["2017/18","East Sussex","E31000014","Non-metropolitan","Significantly Rural","HC","Support staff","Black or Black British",0]
["2017/18","East Sussex","E31000014","Non-metropolitan","Significantly Rural","HC","Support staff","Chinese or other ethnicity",0]
["2017/18","East Sussex","E31000014","Non-metropolitan","Significantly Rural","HC","Support staff","Ethnic origin not stated",10]
["2017/18","East Sussex","E31000014","Non-metropolitan","Significantly Rural","HC","Support staff","Mixed",0]
["2017/18","East Sussex","E31000014","Non-metropolitan","Significantly Rural","HC","Support staff","White British or Irish",13]
["2017/18","East Sussex","E31000014","Non-metropolitan","Significantly Rural","HC","Wholetime firefighters","Asian or Asian British",0]
["2017/18","East Sussex","E31000014","Non-metropolitan","Significantly Rural","HC","Wholetime firefighters","Black or Black British",0]
["2017/18","East Sussex","E31000014","Non-metropolitan","Significantly Rural","HC","Wholetime firefighters","Chinese or other ethnicity",1]
["2017/18","East Sussex","E31000014","Non-metropolitan","Significantly Rural","HC","Wholetime firefighters","Ethnic origin not stated",0]
["2017/18","East Sussex","E31000014","Non-metropolitan","Significantly Rural","HC","Wholetime firefighters","Mixed",0]
["2017/18","East Sussex","E31000014","Non-metropolitan","Significantly Rural","HC","Wholetime firefighters","White British or Irish",7]
["2017/18","Essex","E31000015","Non-metropolitan","Significantly Rural","HC","Fire control","Asian or Asian British",0]
["2017/18","Essex","E31000015","Non-metropolitan","Significantly Rural","HC","Fire control","Black or Black British",0]
["2017/18","Essex","E31000015","Non-metropolitan","Significantly Rural","HC","Fire control","Chinese or other ethnicity",0]
["2017/18","Essex","E31000015","Non-metropolitan","Significantly Rural","HC","Fire control","Ethnic origin not stated",3]
["2017/18","Essex","E31000015","Non-metropolitan","Significantly Rural","HC","Fire control","Mixed",0]
["2017/18","Essex","E31000015","Non-metropolitan","Significantly Rural","HC","Fire control","White British or Irish",0]
["2017/18","Essex","E31000015","Non-metropolitan","Significantly Rural","HC","On call firefighters","Asian or Asian British",0]
["2017/18","Essex","E31000015","Non-metropolitan","Significantly Rural","HC","On call firefighters","Black or Black British",0]
["2017/18","Essex","E31000015","Non-metropolitan","Significantly Rural","HC","On call firefighters","Chinese or other ethnicity",2]
["2017/18","Essex","E31000015","Non-metropolitan","Significantly Rural","HC","On call firefighters","Ethnic origin not stated",63]
["2017/18","Essex","E31000015","Non-metropolitan","Significantly Rural","HC","On call firefighters","Mixed",1]
["2017/18","Essex","E31000015","Non-metropolitan","Significantly Rural","HC","On call firefighters","White British or Irish",22]
["2017/18","Essex","E31000015","Non-metropolitan","Significantly Rural","HC","Support staff","Asian or Asian British",0]
["2017/18","Essex","E31000015","Non-metropolitan","Significantly Rural","HC","Support staff","Black or Black British",0]
["2017/18","Essex","E31000015","Non-metropolitan","Significantly Rural","HC","Support staff","Chinese or other ethnicity",0]
["2017/18","Essex","E31000015","Non-metropolitan","Significantly Rural","HC","Support staff","Ethnic origin not stated",42]
["2017/18","Essex","E31000015","Non-metropolitan","Significantly Rural","HC","Support staff","Mixed",0]
["2017/18","Essex","E31000015","Non-metropolitan","Significantly Rural","HC","Support staff","White British or Irish",19]
["2017/18","Essex","E31000015","Non-metropolitan","Significantly Rural","HC","Wholetime firefighters","Asian or Asian British",0]
["2017/18","Essex","E31000015","Non-metropolitan","Significantly Rural","HC","Wholetime firefighters","Black or Black British",0]
["2017/18","Essex","E31000015","Non-metropolitan","Significantly Rural","HC","Wholetime firefighters","Chinese or other ethnicity",0]
["2017/18","Essex","E31000015","Non-metropolitan","Significantly Rural","HC","Wholetime firefighters","Ethnic origin not stated",4]
["2017/18","Essex","E31000015","Non-metropolitan","Significantly Rural","HC","Wholetime firefighters","Mixed",0]
["2017/18","Essex","E31000015","Non-metropolitan","Significantly Rural","HC","Wholetime firefighters","White British or Irish",18]
["2017/18","Gloucestershire","E31000016","Non-metropolitan","Significantly Rural","HC","Fire control","Asian or Asian British",0]
["2017/18","Gloucestershire","E31000016","Non-metropolitan","Significantly Rural","HC","Fire control","Black or Black British",0]
["2017/18","Gloucestershire","E31000016","Non-metropolitan","Significantly Rural","HC","Fire control","Chinese or other ethnicity",0]
["2017/18","Gloucestershire","E31000016","Non-metropolitan","Significantly Rural","HC","Fire control","Ethnic origin not stated",1]
["2017/18","Gloucestershire","E31000016","Non-metropolitan","Significantly Rural","HC","Fire control","Mixed",0]
["2017/18","Gloucestershire","E31000016","Non-metropolitan","Significantly Rural","HC","Fire control","White British or Irish",5]
["2017/18","Gloucestershire","E31000016","Non-metropolitan","Significantly Rural","HC","On call firefighters","Asian or Asian British",0]
["2017/18","Gloucestershire","E31000016","Non-metropolitan","Significantly Rural","HC","On call firefighters","Black or Black British",0]
["2017/18","Gloucestershire","E31000016","Non-metropolitan","Significantly Rural","HC","On call firefighters","Chinese or other ethnicity",0]
["2017/18","Gloucestershire","E31000016","Non-metropolitan","Significantly Rural","HC","On call firefighters","Ethnic origin not stated",1]
["2017/18","Gloucestershire","E31000016","Non-metropolitan","Significantly Rural","HC","On call firefighters","Mixed",0]
["2017/18","Gloucestershire","E31000016","Non-metropolitan","Significantly Rural","HC","On call firefighters","White British or Irish",37]
["2017/18","Gloucestershire","E31000016","Non-metropolitan","Significantly Rural","HC","Support staff","Asian or Asian British",0]
["2017/18","Gloucestershire","E31000016","Non-metropolitan","Significantly Rural","HC","Support staff","Black or Black British",0]
["2017/18","Gloucestershire","E31000016","Non-metropolitan","Significantly Rural","HC","Support staff","Chinese or other ethnicity",0]
["2017/18","Gloucestershire","E31000016","Non-metropolitan","Significantly Rural","HC","Support staff","Ethnic origin not stated",3]
["2017/18","Gloucestershire","E31000016","Non-metropolitan","Significantly Rural","HC","Support staff","Mixed",0]
["2017/18","Gloucestershire","E31000016","Non-metropolitan","Significantly Rural","HC","Support staff","White British or Irish",6]
["2017/18","Gloucestershire","E31000016","Non-metropolitan","Significantly Rural","HC","Wholetime firefighters","Asian or Asian British",1]
["2017/18","Gloucestershire","E31000016","Non-metropolitan","Significantly Rural","HC","Wholetime firefighters","Black or Black British",0]
["2017/18","Gloucestershire","E31000016","Non-metropolitan","Significantly Rural","HC","Wholetime firefighters","Chinese or other ethnicity",2]
["2017/18","Gloucestershire","E31000016","Non-metropolitan","Significantly Rural","HC","Wholetime firefighters","Ethnic origin not stated",13]
["2017/18","Gloucestershire","E31000016","Non-metropolitan","Significantly Rural","HC","Wholetime firefighters","Mixed",1]
["2017/18","Gloucestershire","E31000016","Non-metropolitan","Significantly Rural","HC","Wholetime firefighters","White British or Irish",18]
["2017/18","Greater London","E31000046","Metropolitan","Predominantly Urban","HC","Fire control","Asian or Asian British",1]
["2017/18","Greater London","E31000046","Metropolitan","Predominantly Urban","HC","Fire control","Black or Black British",1]
["2017/18","Greater London","E31000046","Metropolitan","Predominantly Urban","HC","Fire control","Chinese or other ethnicity",0]
["2017/18","Greater London","E31000046","Metropolitan","Predominantly Urban","HC","Fire control","Ethnic origin not stated",0]
["2017/18","Greater London","E31000046","Metropolitan","Predominantly Urban","HC","Fire control","Mixed",2]
["2017/18","Greater London","E31000046","Metropolitan","Predominantly Urban","HC","Fire control","White British or Irish",16]
["2017/18","Greater London","E31000046","Metropolitan","Predominantly Urban","HC","On call firefighters","Asian or Asian British",0]
["2017/18","Greater London","E31000046","Metropolitan","Predominantly Urban","HC","On call firefighters","Black or Black British",0]
["2017/18","Greater London","E31000046","Metropolitan","Predominantly Urban","HC","On call firefighters","Chinese or other ethnicity",0]
["2017/18","Greater London","E31000046","Metropolitan","Predominantly Urban","HC","On call firefighters","Ethnic origin not stated",0]
["2017/18","Greater London","E31000046","Metropolitan","Predominantly Urban","HC","On call firefighters","Mixed",0]
["2017/18","Greater London","E31000046","Metropolitan","Predominantly Urban","HC","On call firefighters","White British or Irish",0]
["2017/18","Greater London","E31000046","Metropolitan","Predominantly Urban","HC","Support staff","Asian or Asian British",5]
["2017/18","Greater London","E31000046","Metropolitan","Predominantly Urban","HC","Support staff","Black or Black British",17]
["2017/18","Greater London","E31000046","Metropolitan","Predominantly Urban","HC","Support staff","Chinese or other ethnicity",9]
["2017/18","Greater London","E31000046","Metropolitan","Predominantly Urban","HC","Support staff","Ethnic origin not stated",3]
["2017/18","Greater London","E31000046","Metropolitan","Predominantly Urban","HC","Support staff","Mixed",2]
["2017/18","Greater London","E31000046","Metropolitan","Predominantly Urban","HC","Support staff","White British or Irish",38]
["2017/18","Greater London","E31000046","Metropolitan","Predominantly Urban","HC","Wholetime firefighters","Asian or Asian British",7]
["2017/18","Greater London","E31000046","Metropolitan","Predominantly Urban","HC","Wholetime firefighters","Black or Black British",11]
["2017/18","Greater London","E31000046","Metropolitan","Predominantly Urban","HC","Wholetime firefighters","Chinese or other ethnicity",11]
["2017/18","Greater London","E31000046","Metropolitan","Predominantly Urban","HC","Wholetime firefighters","Ethnic origin not stated",4]
["2017/18","Greater London","E31000046","Metropolitan","Predominantly Urban","HC","Wholetime firefighters","Mixed",9]
["2017/18","Greater London","E31000046","Metropolitan","Predominantly Urban","HC","Wholetime firefighters","White British or Irish",164]
["2017/18","Greater Manchester","E31000040","Metropolitan","Predominantly Urban","HC","Fire control","Asian or Asian British",0]
["2017/18","Greater Manchester","E31000040","Metropolitan","Predominantly Urban","HC","Fire control","Black or Black British",0]
["2017/18","Greater Manchester","E31000040","Metropolitan","Predominantly Urban","HC","Fire control","Chinese or other ethnicity",0]
["2017/18","Greater Manchester","E31000040","Metropolitan","Predominantly Urban","HC","Fire control","Ethnic origin not stated",0]
["2017/18","Greater Manchester","E31000040","Metropolitan","Predominantly Urban","HC","Fire control","Mixed",0]
["2017/18","Greater Manchester","E31000040","Metropolitan","Predominantly Urban","HC","Fire control","White British or Irish",0]
["2017/18","Greater Manchester","E31000040","Metropolitan","Predominantly Urban","HC","On call firefighters","Asian or Asian British",0]
["2017/18","Greater Manchester","E31000040","Metropolitan","Predominantly Urban","HC","On call firefighters","Black or Black British",0]
["2017/18","Greater Manchester","E31000040","Metropolitan","Predominantly Urban","HC","On call firefighters","Chinese or other ethnicity",0]
["2017/18","Greater Manchester","E31000040","Metropolitan","Predominantly Urban","HC","On call firefighters","Ethnic origin not stated",0]
["2017/18","Greater Manchester","E31000040","Metropolitan","Predominantly Urban","HC","On call firefighters","Mixed",0]
["2017/18","Greater Manchester","E31000040","Metropolitan","Predominantly Urban","HC","On call firefighters","White British or Irish",0]
["2017/18","Greater Manchester","E31000040","Metropolitan","Predominantly Urban","HC","Support staff","Asian or Asian British",1]
["2017/18","Greater Manchester","E31000040","Metropolitan","Predominantly Urban","HC","Support staff","Black or Black British",2]
["2017/18","Greater Manchester","E31000040","Metropolitan","Predominantly Urban","HC","Support staff","Chinese or other ethnicity",2]
["2017/18","Greater Manchester","E31000040","Metropolitan","Predominantly Urban","HC","Support staff","Ethnic origin not stated",24]
["2017/18","Greater Manchester","E31000040","Metropolitan","Predominantly Urban","HC","Support staff","Mixed",1]
["2017/18","Greater Manchester","E31000040","Metropolitan","Predominantly Urban","HC","Support staff","White British or Irish",50]
["2017/18","Greater Manchester","E31000040","Metropolitan","Predominantly Urban","HC","Wholetime firefighters","Asian or Asian British",2]
["2017/18","Greater Manchester","E31000040","Metropolitan","Predominantly Urban","HC","Wholetime firefighters","Black or Black British",1]
["2017/18","Greater Manchester","E31000040","Metropolitan","Predominantly Urban","HC","Wholetime firefighters","Chinese or other ethnicity",2]
["2017/18","Greater Manchester","E31000040","Metropolitan","Predominantly Urban","HC","Wholetime firefighters","Ethnic origin not stated",28]
["2017/18","Greater Manchester","E31000040","Metropolitan","Predominantly Urban","HC","Wholetime firefighters","Mixed",7]
["2017/18","Greater Manchester","E31000040","Metropolitan","Predominantly Urban","HC","Wholetime firefighters","White British or Irish",15]
["2017/18","Hampshire and Isle of Wight","E31000048","Non-metropolitan","Significantly Rural","HC","Fire control","Asian or Asian British",0]
["2017/18","Hampshire and Isle of Wight","E31000048","Non-metropolitan","Significantly Rural","HC","Fire control","Black or Black British",0]
["2017/18","Hampshire and Isle of Wight","E31000048","Non-metropolitan","Significantly Rural","HC","Fire control","Chinese or other ethnicity",0]
["2017/18","Hampshire and Isle of Wight","E31000048","Non-metropolitan","Significantly Rural","HC","Fire control","Ethnic origin not stated",0]
["2017/18","Hampshire and Isle of Wight","E31000048","Non-metropolitan","Significantly Rural","HC","Fire control","Mixed",0]
["2017/18","Hampshire and Isle of Wight","E31000048","Non-metropolitan","Significantly Rural","HC","Fire control","White British or Irish",2]
["2017/18","Hampshire and Isle of Wight","E31000048","Non-metropolitan","Significantly Rural","HC","On call firefighters","Asian or Asian British",0]
["2017/18","Hampshire and Isle of Wight","E31000048","Non-metropolitan","Significantly Rural","HC","On call firefighters","Black or Black British",0]
["2017/18","Hampshire and Isle of Wight","E31000048","Non-metropolitan","Significantly Rural","HC","On call firefighters","Chinese or other ethnicity",12]
["2017/18","Hampshire and Isle of Wight","E31000048","Non-metropolitan","Significantly Rural","HC","On call firefighters","Ethnic origin not stated",8]
["2017/18","Hampshire and Isle of Wight","E31000048","Non-metropolitan","Significantly Rural","HC","On call firefighters","Mixed",1]
["2017/18","Hampshire and Isle of Wight","E31000048","Non-metropolitan","Significantly Rural","HC","On call firefighters","White British or Irish",78]
["2017/18","Hampshire and Isle of Wight","E31000048","Non-metropolitan","Significantly Rural","HC","Support staff","Asian or Asian British",1]
["2017/18","Hampshire and Isle of Wight","E31000048","Non-metropolitan","Significantly Rural","HC","Support staff","Black or Black British",1]
["2017/18","Hampshire and Isle of Wight","E31000048","Non-metropolitan","Significantly Rural","HC","Support staff","Chinese or other ethnicity",2]
["2017/18","Hampshire and Isle of Wight","E31000048","Non-metropolitan","Significantly Rural","HC","Support staff","Ethnic origin not stated",3]
["2017/18","Hampshire and Isle of Wight","E31000048","Non-metropolitan","Significantly Rural","HC","Support staff","Mixed",1]
["2017/18","Hampshire and Isle of Wight","E31000048","Non-metropolitan","Significantly Rural","HC","Support staff","White British or Irish",46]
["2017/18","Hampshire and Isle of Wight","E31000048","Non-metropolitan","Significantly Rural","HC","Wholetime firefighters","Asian or Asian British",0]
["2017/18","Hampshire and Isle of Wight","E31000048","Non-metropolitan","Significantly Rural","HC","Wholetime firefighters","Black or Black British",0]
["2017/18","Hampshire and Isle of Wight","E31000048","Non-metropolitan","Significantly Rural","HC","Wholetime firefighters","Chinese or other ethnicity",1]
["2017/18","Hampshire and Isle of Wight","E31000048","Non-metropolitan","Significantly Rural","HC","Wholetime firefighters","Ethnic origin not stated",13]
["2017/18","Hampshire and Isle of Wight","E31000048","Non-metropolitan","Significantly Rural","HC","Wholetime firefighters","Mixed",0]
["2017/18","Hampshire and Isle of Wight","E31000048","Non-metropolitan","Significantly Rural","HC","Wholetime firefighters","White British or Irish",42]
["2017/18","Hereford and Worcester","E31000018","Non-metropolitan","Significantly Rural","HC","Fire control","Asian or Asian British",0]
["2017/18","Hereford and Worcester","E31000018","Non-metropolitan","Significantly Rural","HC","Fire control","Black or Black British",0]
["2017/18","Hereford and Worcester","E31000018","Non-metropolitan","Significantly Rural","HC","Fire control","Chinese or other ethnicity",0]
["2017/18","Hereford and Worcester","E31000018","Non-metropolitan","Significantly Rural","HC","Fire control","Ethnic origin not stated",0]
["2017/18","Hereford and Worcester","E31000018","Non-metropolitan","Significantly Rural","HC","Fire control","Mixed",0]
["2017/18","Hereford and Worcester","E31000018","Non-metropolitan","Significantly Rural","HC","Fire control","White British or Irish",2]
["2017/18","Hereford and Worcester","E31000018","Non-metropolitan","Significantly Rural","HC","On call firefighters","Asian or Asian British",0]
["2017/18","Hereford and Worcester","E31000018","Non-metropolitan","Significantly Rural","HC","On call firefighters","Black or Black British",0]
["2017/18","Hereford and Worcester","E31000018","Non-metropolitan","Significantly Rural","HC","On call firefighters","Chinese or other ethnicity",7]
["2017/18","Hereford and Worcester","E31000018","Non-metropolitan","Significantly Rural","HC","On call firefighters","Ethnic origin not stated",2]
["2017/18","Hereford and Worcester","E31000018","Non-metropolitan","Significantly Rural","HC","On call firefighters","Mixed",1]
["2017/18","Hereford and Worcester","E31000018","Non-metropolitan","Significantly Rural","HC","On call firefighters","White British or Irish",27]
["2017/18","Hereford and Worcester","E31000018","Non-metropolitan","Significantly Rural","HC","Support staff","Asian or Asian British",0]
["2017/18","Hereford and Worcester","E31000018","Non-metropolitan","Significantly Rural","HC","Support staff","Black or Black British",0]
["2017/18","Hereford and Worcester","E31000018","Non-metropolitan","Significantly Rural","HC","Support staff","Chinese or other ethnicity",0]
["2017/18","Hereford and Worcester","E31000018","Non-metropolitan","Significantly Rural","HC","Support staff","Ethnic origin not stated",2]
["2017/18","Hereford and Worcester","E31000018","Non-metropolitan","Significantly Rural","HC","Support staff","Mixed",0]
["2017/18","Hereford and Worcester","E31000018","Non-metropolitan","Significantly Rural","HC","Support staff","White British or Irish",12]
["2017/18","Hereford and Worcester","E31000018","Non-metropolitan","Significantly Rural","HC","Wholetime firefighters","Asian or Asian British",0]
["2017/18","Hereford and Worcester","E31000018","Non-metropolitan","Significantly Rural","HC","Wholetime firefighters","Black or Black British",0]
["2017/18","Hereford and Worcester","E31000018","Non-metropolitan","Significantly Rural","HC","Wholetime firefighters","Chinese or other ethnicity",0]
["2017/18","Hereford and Worcester","E31000018","Non-metropolitan","Significantly Rural","HC","Wholetime firefighters","Ethnic origin not stated",0]
["2017/18","Hereford and Worcester","E31000018","Non-metropolitan","Significantly Rural","HC","Wholetime firefighters","Mixed",0]
["2017/18","Hereford and Worcester","E31000018","Non-metropolitan","Significantly Rural","HC","Wholetime firefighters","White British or Irish",21]
["2017/18","Hertfordshire","E31000019","Non-metropolitan","Predominantly Urban","HC","Fire control","Asian or Asian British",0]
["2017/18","Hertfordshire","E31000019","Non-metropolitan","Predominantly Urban","HC","Fire control","Black or Black British",0]
["2017/18","Hertfordshire","E31000019","Non-metropolitan","Predominantly Urban","HC","Fire control","Chinese or other ethnicity",0]
["2017/18","Hertfordshire","E31000019","Non-metropolitan","Predominantly Urban","HC","Fire control","Ethnic origin not stated",0]
["2017/18","Hertfordshire","E31000019","Non-metropolitan","Predominantly Urban","HC","Fire control","Mixed",0]
["2017/18","Hertfordshire","E31000019","Non-metropolitan","Predominantly Urban","HC","Fire control","White British or Irish",0]
["2017/18","Hertfordshire","E31000019","Non-metropolitan","Predominantly Urban","HC","On call firefighters","Asian or Asian British",0]
["2017/18","Hertfordshire","E31000019","Non-metropolitan","Predominantly Urban","HC","On call firefighters","Black or Black British",0]
["2017/18","Hertfordshire","E31000019","Non-metropolitan","Predominantly Urban","HC","On call firefighters","Chinese or other ethnicity",1]
["2017/18","Hertfordshire","E31000019","Non-metropolitan","Predominantly Urban","HC","On call firefighters","Ethnic origin not stated",0]
["2017/18","Hertfordshire","E31000019","Non-metropolitan","Predominantly Urban","HC","On call firefighters","Mixed",0]
["2017/18","Hertfordshire","E31000019","Non-metropolitan","Predominantly Urban","HC","On call firefighters","White British or Irish",34]
["2017/18","Hertfordshire","E31000019","Non-metropolitan","Predominantly Urban","HC","Support staff","Asian or Asian British",0]
["2017/18","Hertfordshire","E31000019","Non-metropolitan","Predominantly Urban","HC","Support staff","Black or Black British",1]
["2017/18","Hertfordshire","E31000019","Non-metropolitan","Predominantly Urban","HC","Support staff","Chinese or other ethnicity",1]
["2017/18","Hertfordshire","E31000019","Non-metropolitan","Predominantly Urban","HC","Support staff","Ethnic origin not stated",0]
["2017/18","Hertfordshire","E31000019","Non-metropolitan","Predominantly Urban","HC","Support staff","Mixed",2]
["2017/18","Hertfordshire","E31000019","Non-metropolitan","Predominantly Urban","HC","Support staff","White British or Irish",16]
["2017/18","Hertfordshire","E31000019","Non-metropolitan","Predominantly Urban","HC","Wholetime firefighters","Asian or Asian British",0]
["2017/18","Hertfordshire","E31000019","Non-metropolitan","Predominantly Urban","HC","Wholetime firefighters","Black or Black British",0]
["2017/18","Hertfordshire","E31000019","Non-metropolitan","Predominantly Urban","HC","Wholetime firefighters","Chinese or other ethnicity",1]
["2017/18","Hertfordshire","E31000019","Non-metropolitan","Predominantly Urban","HC","Wholetime firefighters","Ethnic origin not stated",1]
["2017/18","Hertfordshire","E31000019","Non-metropolitan","Predominantly Urban","HC","Wholetime firefighters","Mixed",2]
["2017/18","Hertfordshire","E31000019","Non-metropolitan","Predominantly Urban","HC","Wholetime firefighters","White British or Irish",33]
["2017/18","Humberside","E31000020","Non-metropolitan","Significantly Rural","HC","Fire control","Asian or Asian British",0]
["2017/18","Humberside","E31000020","Non-metropolitan","Significantly Rural","HC","Fire control","Black or Black British",0]
["2017/18","Humberside","E31000020","Non-metropolitan","Significantly Rural","HC","Fire control","Chinese or other ethnicity",0]
["2017/18","Humberside","E31000020","Non-metropolitan","Significantly Rural","HC","Fire control","Ethnic origin not stated",0]
["2017/18","Humberside","E31000020","Non-metropolitan","Significantly Rural","HC","Fire control","Mixed",0]
["2017/18","Humberside","E31000020","Non-metropolitan","Significantly Rural","HC","Fire control","White British or Irish",2]
["2017/18","Humberside","E31000020","Non-metropolitan","Significantly Rural","HC","On call firefighters","Asian or Asian British",0]
["2017/18","Humberside","E31000020","Non-metropolitan","Significantly Rural","HC","On call firefighters","Black or Black British",0]
["2017/18","Humberside","E31000020","Non-metropolitan","Significantly Rural","HC","On call firefighters","Chinese or other ethnicity",5]
["2017/18","Humberside","E31000020","Non-metropolitan","Significantly Rural","HC","On call firefighters","Ethnic origin not stated",0]
["2017/18","Humberside","E31000020","Non-metropolitan","Significantly Rural","HC","On call firefighters","Mixed",0]
["2017/18","Humberside","E31000020","Non-metropolitan","Significantly Rural","HC","On call firefighters","White British or Irish",41]
["2017/18","Humberside","E31000020","Non-metropolitan","Significantly Rural","HC","Support staff","Asian or Asian British",2]
["2017/18","Humberside","E31000020","Non-metropolitan","Significantly Rural","HC","Support staff","Black or Black British",0]
["2017/18","Humberside","E31000020","Non-metropolitan","Significantly Rural","HC","Support staff","Chinese or other ethnicity",1]
["2017/18","Humberside","E31000020","Non-metropolitan","Significantly Rural","HC","Support staff","Ethnic origin not stated",0]
["2017/18","Humberside","E31000020","Non-metropolitan","Significantly Rural","HC","Support staff","Mixed",5]
["2017/18","Humberside","E31000020","Non-metropolitan","Significantly Rural","HC","Support staff","White British or Irish",26]
["2017/18","Humberside","E31000020","Non-metropolitan","Significantly Rural","HC","Wholetime firefighters","Asian or Asian British",0]
["2017/18","Humberside","E31000020","Non-metropolitan","Significantly Rural","HC","Wholetime firefighters","Black or Black British",0]
["2017/18","Humberside","E31000020","Non-metropolitan","Significantly Rural","HC","Wholetime firefighters","Chinese or other ethnicity",0]
["2017/18","Humberside","E31000020","Non-metropolitan","Significantly Rural","HC","Wholetime firefighters","Ethnic origin not stated",0]
["2017/18","Humberside","E31000020","Non-metropolitan","Significantly Rural","HC","Wholetime firefighters","Mixed",0]
["2017/18","Humberside","E31000020","Non-metropolitan","Significantly Rural","HC","Wholetime firefighters","White British or Irish",22]
["2017/18","Isles Of Scilly","E31000039","Non-metropolitan","Predominantly Rural","HC","Fire control","Asian or Asian British",0]
["2017/18","Isles Of Scilly","E31000039","Non-metropolitan","Predominantly Rural","HC","Fire control","Black or Black British",0]
["2017/18","Isles Of Scilly","E31000039","Non-metropolitan","Predominantly Rural","HC","Fire control","Chinese or other ethnicity",0]
["2017/18","Isles Of Scilly","E31000039","Non-metropolitan","Predominantly Rural","HC","Fire control","Ethnic origin not stated",0]
["2017/18","Isles Of Scilly","E31000039","Non-metropolitan","Predominantly Rural","HC","Fire control","Mixed",0]
["2017/18","Isles Of Scilly","E31000039","Non-metropolitan","Predominantly Rural","HC","Fire control","White British or Irish",0]
["2017/18","Isles Of Scilly","E31000039","Non-metropolitan","Predominantly Rural","HC","On call firefighters","Asian or Asian British",0]
["2017/18","Isles Of Scilly","E31000039","Non-metropolitan","Predominantly Rural","HC","On call firefighters","Black or Black British",0]
["2017/18","Isles Of Scilly","E31000039","Non-metropolitan","Predominantly Rural","HC","On call firefighters","Chinese or other ethnicity",0]
["2017/18","Isles Of Scilly","E31000039","Non-metropolitan","Predominantly Rural","HC","On call firefighters","Ethnic origin not stated",2]
["2017/18","Isles Of Scilly","E31000039","Non-metropolitan","Predominantly Rural","HC","On call firefighters","Mixed",0]
["2017/18","Isles Of Scilly","E31000039","Non-metropolitan","Predominantly Rural","HC","On call firefighters","White British or Irish",0]
["2017/18","Isles Of Scilly","E31000039","Non-metropolitan","Predominantly Rural","HC","Support staff","Asian or Asian British",0]
["2017/18","Isles Of Scilly","E31000039","Non-metropolitan","Predominantly Rural","HC","Support staff","Black or Black British",0]
["2017/18","Isles Of Scilly","E31000039","Non-metropolitan","Predominantly Rural","HC","Support staff","Chinese or other ethnicity",0]
["2017/18","Isles Of Scilly","E31000039","Non-metropolitan","Predominantly Rural","HC","Support staff","Ethnic origin not stated",0]
["2017/18","Isles Of Scilly","E31000039","Non-metropolitan","Predominantly Rural","HC","Support staff","Mixed",0]
["2017/18","Isles Of Scilly","E31000039","Non-metropolitan","Predominantly Rural","HC","Support staff","White British or Irish",0]
["2017/18","Isles Of Scilly","E31000039","Non-metropolitan","Predominantly Rural","HC","Wholetime firefighters","Asian or Asian British",0]
["2017/18","Isles Of Scilly","E31000039","Non-metropolitan","Predominantly Rural","HC","Wholetime firefighters","Black or Black British",0]
["2017/18","Isles Of Scilly","E31000039","Non-metropolitan","Predominantly Rural","HC","Wholetime firefighters","Chinese or other ethnicity",0]
["2017/18","Isles Of Scilly","E31000039","Non-metropolitan","Predominantly Rural","HC","Wholetime firefighters","Ethnic origin not stated",0]
["2017/18","Isles Of Scilly","E31000039","Non-metropolitan","Predominantly Rural","HC","Wholetime firefighters","Mixed",0]
["2017/18","Isles Of Scilly","E31000039","Non-metropolitan","Predominantly Rural","HC","Wholetime firefighters","White British or Irish",0]
["2017/18","Kent","E31000022","Non-metropolitan","Significantly Rural","HC","Fire control","Asian or Asian British",0]
["2017/18","Kent","E31000022","Non-metropolitan","Significantly Rural","HC","Fire control","Black or Black British",0]
["2017/18","Kent","E31000022","Non-metropolitan","Significantly Rural","HC","Fire control","Chinese or other ethnicity",0]
["2017/18","Kent","E31000022","Non-metropolitan","Significantly Rural","HC","Fire control","Ethnic origin not stated",7]
["2017/18","Kent","E31000022","Non-metropolitan","Significantly Rural","HC","Fire control","Mixed",0]
["2017/18","Kent","E31000022","Non-metropolitan","Significantly Rural","HC","Fire control","White British or Irish",1]
["2017/18","Kent","E31000022","Non-metropolitan","Significantly Rural","HC","On call firefighters","Asian or Asian British",0]
["2017/18","Kent","E31000022","Non-metropolitan","Significantly Rural","HC","On call firefighters","Black or Black British",0]
["2017/18","Kent","E31000022","Non-metropolitan","Significantly Rural","HC","On call firefighters","Chinese or other ethnicity",0]
["2017/18","Kent","E31000022","Non-metropolitan","Significantly Rural","HC","On call firefighters","Ethnic origin not stated",48]
["2017/18","Kent","E31000022","Non-metropolitan","Significantly Rural","HC","On call firefighters","Mixed",0]
["2017/18","Kent","E31000022","Non-metropolitan","Significantly Rural","HC","On call firefighters","White British or Irish",8]
["2017/18","Kent","E31000022","Non-metropolitan","Significantly Rural","HC","Support staff","Asian or Asian British",1]
["2017/18","Kent","E31000022","Non-metropolitan","Significantly Rural","HC","Support staff","Black or Black British",0]
["2017/18","Kent","E31000022","Non-metropolitan","Significantly Rural","HC","Support staff","Chinese or other ethnicity",0]
["2017/18","Kent","E31000022","Non-metropolitan","Significantly Rural","HC","Support staff","Ethnic origin not stated",37]
["2017/18","Kent","E31000022","Non-metropolitan","Significantly Rural","HC","Support staff","Mixed",1]
["2017/18","Kent","E31000022","Non-metropolitan","Significantly Rural","HC","Support staff","White British or Irish",13]
["2017/18","Kent","E31000022","Non-metropolitan","Significantly Rural","HC","Wholetime firefighters","Asian or Asian British",0]
["2017/18","Kent","E31000022","Non-metropolitan","Significantly Rural","HC","Wholetime firefighters","Black or Black British",0]
["2017/18","Kent","E31000022","Non-metropolitan","Significantly Rural","HC","Wholetime firefighters","Chinese or other ethnicity",0]
["2017/18","Kent","E31000022","Non-metropolitan","Significantly Rural","HC","Wholetime firefighters","Ethnic origin not stated",25]
["2017/18","Kent","E31000022","Non-metropolitan","Significantly Rural","HC","Wholetime firefighters","Mixed",0]
["2017/18","Kent","E31000022","Non-metropolitan","Significantly Rural","HC","Wholetime firefighters","White British or Irish",4]
["2017/18","Lancashire","E31000023","Non-metropolitan","Predominantly Urban","HC","Fire control","Asian or Asian British",0]
["2017/18","Lancashire","E31000023","Non-metropolitan","Predominantly Urban","HC","Fire control","Black or Black British",0]
["2017/18","Lancashire","E31000023","Non-metropolitan","Predominantly Urban","HC","Fire control","Chinese or other ethnicity",0]
["2017/18","Lancashire","E31000023","Non-metropolitan","Predominantly Urban","HC","Fire control","Ethnic origin not stated",0]
["2017/18","Lancashire","E31000023","Non-metropolitan","Predominantly Urban","HC","Fire control","Mixed",0]
["2017/18","Lancashire","E31000023","Non-metropolitan","Predominantly Urban","HC","Fire control","White British or Irish",0]
["2017/18","Lancashire","E31000023","Non-metropolitan","Predominantly Urban","HC","On call firefighters","Asian or Asian British",0]
["2017/18","Lancashire","E31000023","Non-metropolitan","Predominantly Urban","HC","On call firefighters","Black or Black British",0]
["2017/18","Lancashire","E31000023","Non-metropolitan","Predominantly Urban","HC","On call firefighters","Chinese or other ethnicity",0]
["2017/18","Lancashire","E31000023","Non-metropolitan","Predominantly Urban","HC","On call firefighters","Ethnic origin not stated",9]
["2017/18","Lancashire","E31000023","Non-metropolitan","Predominantly Urban","HC","On call firefighters","Mixed",1]
["2017/18","Lancashire","E31000023","Non-metropolitan","Predominantly Urban","HC","On call firefighters","White British or Irish",47]
["2017/18","Lancashire","E31000023","Non-metropolitan","Predominantly Urban","HC","Support staff","Asian or Asian British",2]
["2017/18","Lancashire","E31000023","Non-metropolitan","Predominantly Urban","HC","Support staff","Black or Black British",1]
["2017/18","Lancashire","E31000023","Non-metropolitan","Predominantly Urban","HC","Support staff","Chinese or other ethnicity",0]
["2017/18","Lancashire","E31000023","Non-metropolitan","Predominantly Urban","HC","Support staff","Ethnic origin not stated",2]
["2017/18","Lancashire","E31000023","Non-metropolitan","Predominantly Urban","HC","Support staff","Mixed",1]
["2017/18","Lancashire","E31000023","Non-metropolitan","Predominantly Urban","HC","Support staff","White British or Irish",39]
["2017/18","Lancashire","E31000023","Non-metropolitan","Predominantly Urban","HC","Wholetime firefighters","Asian or Asian British",2]
["2017/18","Lancashire","E31000023","Non-metropolitan","Predominantly Urban","HC","Wholetime firefighters","Black or Black British",0]
["2017/18","Lancashire","E31000023","Non-metropolitan","Predominantly Urban","HC","Wholetime firefighters","Chinese or other ethnicity",0]
["2017/18","Lancashire","E31000023","Non-metropolitan","Predominantly Urban","HC","Wholetime firefighters","Ethnic origin not stated",0]
["2017/18","Lancashire","E31000023","Non-metropolitan","Predominantly Urban","HC","Wholetime firefighters","Mixed",2]
["2017/18","Lancashire","E31000023","Non-metropolitan","Predominantly Urban","HC","Wholetime firefighters","White British or Irish",52]
["2017/18","Leicestershire","E31000024","Non-metropolitan","Significantly Rural","HC","Fire control","Asian or Asian British",0]
["2017/18","Leicestershire","E31000024","Non-metropolitan","Significantly Rural","HC","Fire control","Black or Black British",0]
["2017/18","Leicestershire","E31000024","Non-metropolitan","Significantly Rural","HC","Fire control","Chinese or other ethnicity",0]
["2017/18","Leicestershire","E31000024","Non-metropolitan","Significantly Rural","HC","Fire control","Ethnic origin not stated",0]
["2017/18","Leicestershire","E31000024","Non-metropolitan","Significantly Rural","HC","Fire control","Mixed",0]
["2017/18","Leicestershire","E31000024","Non-metropolitan","Significantly Rural","HC","Fire control","White British or Irish",2]
["2017/18","Leicestershire","E31000024","Non-metropolitan","Significantly Rural","HC","On call firefighters","Asian or Asian British",0]
["2017/18","Leicestershire","E31000024","Non-metropolitan","Significantly Rural","HC","On call firefighters","Black or Black British",0]
["2017/18","Leicestershire","E31000024","Non-metropolitan","Significantly Rural","HC","On call firefighters","Chinese or other ethnicity",0]
["2017/18","Leicestershire","E31000024","Non-metropolitan","Significantly Rural","HC","On call firefighters","Ethnic origin not stated",9]
["2017/18","Leicestershire","E31000024","Non-metropolitan","Significantly Rural","HC","On call firefighters","Mixed",0]
["2017/18","Leicestershire","E31000024","Non-metropolitan","Significantly Rural","HC","On call firefighters","White British or Irish",18]
["2017/18","Leicestershire","E31000024","Non-metropolitan","Significantly Rural","HC","Support staff","Asian or Asian British",1]
["2017/18","Leicestershire","E31000024","Non-metropolitan","Significantly Rural","HC","Support staff","Black or Black British",0]
["2017/18","Leicestershire","E31000024","Non-metropolitan","Significantly Rural","HC","Support staff","Chinese or other ethnicity",0]
["2017/18","Leicestershire","E31000024","Non-metropolitan","Significantly Rural","HC","Support staff","Ethnic origin not stated",4]
["2017/18","Leicestershire","E31000024","Non-metropolitan","Significantly Rural","HC","Support staff","Mixed",1]
["2017/18","Leicestershire","E31000024","Non-metropolitan","Significantly Rural","HC","Support staff","White British or Irish",6]
["2017/18","Leicestershire","E31000024","Non-metropolitan","Significantly Rural","HC","Wholetime firefighters","Asian or Asian British",1]
["2017/18","Leicestershire","E31000024","Non-metropolitan","Significantly Rural","HC","Wholetime firefighters","Black or Black British",0]
["2017/18","Leicestershire","E31000024","Non-metropolitan","Significantly Rural","HC","Wholetime firefighters","Chinese or other ethnicity",0]
["2017/18","Leicestershire","E31000024","Non-metropolitan","Significantly Rural","HC","Wholetime firefighters","Ethnic origin not stated",8]
["2017/18","Leicestershire","E31000024","Non-metropolitan","Significantly Rural","HC","Wholetime firefighters","Mixed",4]
["2017/18","Leicestershire","E31000024","Non-metropolitan","Significantly Rural","HC","Wholetime firefighters","White British or Irish",12]
["2017/18","Lincolnshire","E31000025","Non-metropolitan","Predominantly Rural","HC","Fire control","Asian or Asian British",0]
["2017/18","Lincolnshire","E31000025","Non-metropolitan","Predominantly Rural","HC","Fire control","Black or Black British",0]
["2017/18","Lincolnshire","E31000025","Non-metropolitan","Predominantly Rural","HC","Fire control","Chinese or other ethnicity",0]
["2017/18","Lincolnshire","E31000025","Non-metropolitan","Predominantly Rural","HC","Fire control","Ethnic origin not stated",0]
["2017/18","Lincolnshire","E31000025","Non-metropolitan","Predominantly Rural","HC","Fire control","Mixed",0]
["2017/18","Lincolnshire","E31000025","Non-metropolitan","Predominantly Rural","HC","Fire control","White British or Irish",2]
["2017/18","Lincolnshire","E31000025","Non-metropolitan","Predominantly Rural","HC","On call firefighters","Asian or Asian British",0]
["2017/18","Lincolnshire","E31000025","Non-metropolitan","Predominantly Rural","HC","On call firefighters","Black or Black British",0]
["2017/18","Lincolnshire","E31000025","Non-metropolitan","Predominantly Rural","HC","On call firefighters","Chinese or other ethnicity",0]
["2017/18","Lincolnshire","E31000025","Non-metropolitan","Predominantly Rural","HC","On call firefighters","Ethnic origin not stated",0]
["2017/18","Lincolnshire","E31000025","Non-metropolitan","Predominantly Rural","HC","On call firefighters","Mixed",1]
["2017/18","Lincolnshire","E31000025","Non-metropolitan","Predominantly Rural","HC","On call firefighters","White British or Irish",44]
["2017/18","Lincolnshire","E31000025","Non-metropolitan","Predominantly Rural","HC","Support staff","Asian or Asian British",0]
["2017/18","Lincolnshire","E31000025","Non-metropolitan","Predominantly Rural","HC","Support staff","Black or Black British",0]
["2017/18","Lincolnshire","E31000025","Non-metropolitan","Predominantly Rural","HC","Support staff","Chinese or other ethnicity",0]
["2017/18","Lincolnshire","E31000025","Non-metropolitan","Predominantly Rural","HC","Support staff","Ethnic origin not stated",0]
["2017/18","Lincolnshire","E31000025","Non-metropolitan","Predominantly Rural","HC","Support staff","Mixed",0]
["2017/18","Lincolnshire","E31000025","Non-metropolitan","Predominantly Rural","HC","Support staff","White British or Irish",3]
["2017/18","Lincolnshire","E31000025","Non-metropolitan","Predominantly Rural","HC","Wholetime firefighters","Asian or Asian British",0]
["2017/18","Lincolnshire","E31000025","Non-metropolitan","Predominantly Rural","HC","Wholetime firefighters","Black or Black British",0]
["2017/18","Lincolnshire","E31000025","Non-metropolitan","Predominantly Rural","HC","Wholetime firefighters","Chinese or other ethnicity",0]
["2017/18","Lincolnshire","E31000025","Non-metropolitan","Predominantly Rural","HC","Wholetime firefighters","Ethnic origin not stated",0]
["2017/18","Lincolnshire","E31000025","Non-metropolitan","Predominantly Rural","HC","Wholetime firefighters","Mixed",0]
["2017/18","Lincolnshire","E31000025","Non-metropolitan","Predominantly Rural","HC","Wholetime firefighters","White British or Irish",10]
["2017/18","Merseyside","E31000041","Metropolitan","Predominantly Urban","HC","Fire control","Asian or Asian British",0]
["2017/18","Merseyside","E31000041","Metropolitan","Predominantly Urban","HC","Fire control","Black or Black British",0]
["2017/18","Merseyside","E31000041","Metropolitan","Predominantly Urban","HC","Fire control","Chinese or other ethnicity",0]
["2017/18","Merseyside","E31000041","Metropolitan","Predominantly Urban","HC","Fire control","Ethnic origin not stated",0]
["2017/18","Merseyside","E31000041","Metropolitan","Predominantly Urban","HC","Fire control","Mixed",0]
["2017/18","Merseyside","E31000041","Metropolitan","Predominantly Urban","HC","Fire control","White British or Irish",7]
["2017/18","Merseyside","E31000041","Metropolitan","Predominantly Urban","HC","On call firefighters","Asian or Asian British",0]
["2017/18","Merseyside","E31000041","Metropolitan","Predominantly Urban","HC","On call firefighters","Black or Black British",0]
["2017/18","Merseyside","E31000041","Metropolitan","Predominantly Urban","HC","On call firefighters","Chinese or other ethnicity",0]
["2017/18","Merseyside","E31000041","Metropolitan","Predominantly Urban","HC","On call firefighters","Ethnic origin not stated",1]
["2017/18","Merseyside","E31000041","Metropolitan","Predominantly Urban","HC","On call firefighters","Mixed",1]
["2017/18","Merseyside","E31000041","Metropolitan","Predominantly Urban","HC","On call firefighters","White British or Irish",14]
["2017/18","Merseyside","E31000041","Metropolitan","Predominantly Urban","HC","Support staff","Asian or Asian British",0]
["2017/18","Merseyside","E31000041","Metropolitan","Predominantly Urban","HC","Support staff","Black or Black British",0]
["2017/18","Merseyside","E31000041","Metropolitan","Predominantly Urban","HC","Support staff","Chinese or other ethnicity",0]
["2017/18","Merseyside","E31000041","Metropolitan","Predominantly Urban","HC","Support staff","Ethnic origin not stated",1]
["2017/18","Merseyside","E31000041","Metropolitan","Predominantly Urban","HC","Support staff","Mixed",0]
["2017/18","Merseyside","E31000041","Metropolitan","Predominantly Urban","HC","Support staff","White British or Irish",16]
["2017/18","Merseyside","E31000041","Metropolitan","Predominantly Urban","HC","Wholetime firefighters","Asian or Asian British",0]
["2017/18","Merseyside","E31000041","Metropolitan","Predominantly Urban","HC","Wholetime firefighters","Black or Black British",0]
["2017/18","Merseyside","E31000041","Metropolitan","Predominantly Urban","HC","Wholetime firefighters","Chinese or other ethnicity",0]
["2017/18","Merseyside","E31000041","Metropolitan","Predominantly Urban","HC","Wholetime firefighters","Ethnic origin not stated",1]
["2017/18","Merseyside","E31000041","Metropolitan","Predominantly Urban","HC","Wholetime firefighters","Mixed",5]
["2017/18","Merseyside","E31000041","Metropolitan","Predominantly Urban","HC","Wholetime firefighters","White British or Irish",26]
["2017/18","Norfolk","E31000026","Non-metropolitan","Predominantly Rural","HC","Fire control","Asian or Asian British",0]
["2017/18","Norfolk","E31000026","Non-metropolitan","Predominantly Rural","HC","Fire control","Black or Black British",0]
["2017/18","Norfolk","E31000026","Non-metropolitan","Predominantly Rural","HC","Fire control","Chinese or other ethnicity",0]
["2017/18","Norfolk","E31000026","Non-metropolitan","Predominantly Rural","HC","Fire control","Ethnic origin not stated",0]
["2017/18","Norfolk","E31000026","Non-metropolitan","Predominantly Rural","HC","Fire control","Mixed",0]
["2017/18","Norfolk","E31000026","Non-metropolitan","Predominantly Rural","HC","Fire control","White British or Irish",4]
["2017/18","Norfolk","E31000026","Non-metropolitan","Predominantly Rural","HC","On call firefighters","Asian or Asian British",0]
["2017/18","Norfolk","E31000026","Non-metropolitan","Predominantly Rural","HC","On call firefighters","Black or Black British",0]
["2017/18","Norfolk","E31000026","Non-metropolitan","Predominantly Rural","HC","On call firefighters","Chinese or other ethnicity",1]
["2017/18","Norfolk","E31000026","Non-metropolitan","Predominantly Rural","HC","On call firefighters","Ethnic origin not stated",12]
["2017/18","Norfolk","E31000026","Non-metropolitan","Predominantly Rural","HC","On call firefighters","Mixed",0]
["2017/18","Norfolk","E31000026","Non-metropolitan","Predominantly Rural","HC","On call firefighters","White British or Irish",43]
["2017/18","Norfolk","E31000026","Non-metropolitan","Predominantly Rural","HC","Support staff","Asian or Asian British",0]
["2017/18","Norfolk","E31000026","Non-metropolitan","Predominantly Rural","HC","Support staff","Black or Black British",0]
["2017/18","Norfolk","E31000026","Non-metropolitan","Predominantly Rural","HC","Support staff","Chinese or other ethnicity",0]
["2017/18","Norfolk","E31000026","Non-metropolitan","Predominantly Rural","HC","Support staff","Ethnic origin not stated",3]
["2017/18","Norfolk","E31000026","Non-metropolitan","Predominantly Rural","HC","Support staff","Mixed",0]
["2017/18","Norfolk","E31000026","Non-metropolitan","Predominantly Rural","HC","Support staff","White British or Irish",13]
["2017/18","Norfolk","E31000026","Non-metropolitan","Predominantly Rural","HC","Wholetime firefighters","Asian or Asian British",0]
["2017/18","Norfolk","E31000026","Non-metropolitan","Predominantly Rural","HC","Wholetime firefighters","Black or Black British",0]
["2017/18","Norfolk","E31000026","Non-metropolitan","Predominantly Rural","HC","Wholetime firefighters","Chinese or other ethnicity",2]
["2017/18","Norfolk","E31000026","Non-metropolitan","Predominantly Rural","HC","Wholetime firefighters","Ethnic origin not stated",3]
["2017/18","Norfolk","E31000026","Non-metropolitan","Predominantly Rural","HC","Wholetime firefighters","Mixed",0]
["2017/18","Norfolk","E31000026","Non-metropolitan","Predominantly Rural","HC","Wholetime firefighters","White British or Irish",14]
["2017/18","North Yorkshire","E31000027","Non-metropolitan","Predominantly Rural","HC","Fire control","Asian or Asian British",0]
["2017/18","North Yorkshire","E31000027","Non-metropolitan","Predominantly Rural","HC","Fire control","Black or Black British",0]
["2017/18","North Yorkshire","E31000027","Non-metropolitan","Predominantly Rural","HC","Fire control","Chinese or other ethnicity",0]
["2017/18","North Yorkshire","E31000027","Non-metropolitan","Predominantly Rural","HC","Fire control","Ethnic origin not stated",0]
["2017/18","North Yorkshire","E31000027","Non-metropolitan","Predominantly Rural","HC","Fire control","Mixed",0]
["2017/18","North Yorkshire","E31000027","Non-metropolitan","Predominantly Rural","HC","Fire control","White British or Irish",3]
["2017/18","North Yorkshire","E31000027","Non-metropolitan","Predominantly Rural","HC","On call firefighters","Asian or Asian British",0]
["2017/18","North Yorkshire","E31000027","Non-metropolitan","Predominantly Rural","HC","On call firefighters","Black or Black British",0]
["2017/18","North Yorkshire","E31000027","Non-metropolitan","Predominantly Rural","HC","On call firefighters","Chinese or other ethnicity",2]
["2017/18","North Yorkshire","E31000027","Non-metropolitan","Predominantly Rural","HC","On call firefighters","Ethnic origin not stated",4]
["2017/18","North Yorkshire","E31000027","Non-metropolitan","Predominantly Rural","HC","On call firefighters","Mixed",0]
["2017/18","North Yorkshire","E31000027","Non-metropolitan","Predominantly Rural","HC","On call firefighters","White British or Irish",47]
["2017/18","North Yorkshire","E31000027","Non-metropolitan","Predominantly Rural","HC","Support staff","Asian or Asian British",0]
["2017/18","North Yorkshire","E31000027","Non-metropolitan","Predominantly Rural","HC","Support staff","Black or Black British",1]
["2017/18","North Yorkshire","E31000027","Non-metropolitan","Predominantly Rural","HC","Support staff","Chinese or other ethnicity",0]
["2017/18","North Yorkshire","E31000027","Non-metropolitan","Predominantly Rural","HC","Support staff","Ethnic origin not stated",0]
["2017/18","North Yorkshire","E31000027","Non-metropolitan","Predominantly Rural","HC","Support staff","Mixed",0]
["2017/18","North Yorkshire","E31000027","Non-metropolitan","Predominantly Rural","HC","Support staff","White British or Irish",19]
["2017/18","North Yorkshire","E31000027","Non-metropolitan","Predominantly Rural","HC","Wholetime firefighters","Asian or Asian British",0]
["2017/18","North Yorkshire","E31000027","Non-metropolitan","Predominantly Rural","HC","Wholetime firefighters","Black or Black British",0]
["2017/18","North Yorkshire","E31000027","Non-metropolitan","Predominantly Rural","HC","Wholetime firefighters","Chinese or other ethnicity",0]
["2017/18","North Yorkshire","E31000027","Non-metropolitan","Predominantly Rural","HC","Wholetime firefighters","Ethnic origin not stated",0]
["2017/18","North Yorkshire","E31000027","Non-metropolitan","Predominantly Rural","HC","Wholetime firefighters","Mixed",0]
["2017/18","North Yorkshire","E31000027","Non-metropolitan","Predominantly Rural","HC","Wholetime firefighters","White British or Irish",4]
["2017/18","Northamptonshire","E31000028","Non-metropolitan","Significantly Rural","HC","Fire control","Asian or Asian British",0]
["2017/18","Northamptonshire","E31000028","Non-metropolitan","Significantly Rural","HC","Fire control","Black or Black British",0]
["2017/18","Northamptonshire","E31000028","Non-metropolitan","Significantly Rural","HC","Fire control","Chinese or other ethnicity",0]
["2017/18","Northamptonshire","E31000028","Non-metropolitan","Significantly Rural","HC","Fire control","Ethnic origin not stated",0]
["2017/18","Northamptonshire","E31000028","Non-metropolitan","Significantly Rural","HC","Fire control","Mixed",0]
["2017/18","Northamptonshire","E31000028","Non-metropolitan","Significantly Rural","HC","Fire control","White British or Irish",0]
["2017/18","Northamptonshire","E31000028","Non-metropolitan","Significantly Rural","HC","On call firefighters","Asian or Asian British",0]
["2017/18","Northamptonshire","E31000028","Non-metropolitan","Significantly Rural","HC","On call firefighters","Black or Black British",0]
["2017/18","Northamptonshire","E31000028","Non-metropolitan","Significantly Rural","HC","On call firefighters","Chinese or other ethnicity",0]
["2017/18","Northamptonshire","E31000028","Non-metropolitan","Significantly Rural","HC","On call firefighters","Ethnic origin not stated",29]
["2017/18","Northamptonshire","E31000028","Non-metropolitan","Significantly Rural","HC","On call firefighters","Mixed",0]
["2017/18","Northamptonshire","E31000028","Non-metropolitan","Significantly Rural","HC","On call firefighters","White British or Irish",5]
["2017/18","Northamptonshire","E31000028","Non-metropolitan","Significantly Rural","HC","Support staff","Asian or Asian British",0]
["2017/18","Northamptonshire","E31000028","Non-metropolitan","Significantly Rural","HC","Support staff","Black or Black British",1]
["2017/18","Northamptonshire","E31000028","Non-metropolitan","Significantly Rural","HC","Support staff","Chinese or other ethnicity",0]
["2017/18","Northamptonshire","E31000028","Non-metropolitan","Significantly Rural","HC","Support staff","Ethnic origin not stated",7]
["2017/18","Northamptonshire","E31000028","Non-metropolitan","Significantly Rural","HC","Support staff","Mixed",0]
["2017/18","Northamptonshire","E31000028","Non-metropolitan","Significantly Rural","HC","Support staff","White British or Irish",2]
["2017/18","Northamptonshire","E31000028","Non-metropolitan","Significantly Rural","HC","Wholetime firefighters","Asian or Asian British",0]
["2017/18","Northamptonshire","E31000028","Non-metropolitan","Significantly Rural","HC","Wholetime firefighters","Black or Black British",0]
["2017/18","Northamptonshire","E31000028","Non-metropolitan","Significantly Rural","HC","Wholetime firefighters","Chinese or other ethnicity",0]
["2017/18","Northamptonshire","E31000028","Non-metropolitan","Significantly Rural","HC","Wholetime firefighters","Ethnic origin not stated",12]
["2017/18","Northamptonshire","E31000028","Non-metropolitan","Significantly Rural","HC","Wholetime firefighters","Mixed",0]
["2017/18","Northamptonshire","E31000028","Non-metropolitan","Significantly Rural","HC","Wholetime firefighters","White British or Irish",1]
["2017/18","Northumberland","E31000029","Non-metropolitan","Predominantly Rural","HC","Fire control","Asian or Asian British",0]
["2017/18","Northumberland","E31000029","Non-metropolitan","Predominantly Rural","HC","Fire control","Black or Black British",0]
["2017/18","Northumberland","E31000029","Non-metropolitan","Predominantly Rural","HC","Fire control","Chinese or other ethnicity",0]
["2017/18","Northumberland","E31000029","Non-metropolitan","Predominantly Rural","HC","Fire control","Ethnic origin not stated",0]
["2017/18","Northumberland","E31000029","Non-metropolitan","Predominantly Rural","HC","Fire control","Mixed",0]
["2017/18","Northumberland","E31000029","Non-metropolitan","Predominantly Rural","HC","Fire control","White British or Irish",1]
["2017/18","Northumberland","E31000029","Non-metropolitan","Predominantly Rural","HC","On call firefighters","Asian or Asian British",0]
["2017/18","Northumberland","E31000029","Non-metropolitan","Predominantly Rural","HC","On call firefighters","Black or Black British",0]
["2017/18","Northumberland","E31000029","Non-metropolitan","Predominantly Rural","HC","On call firefighters","Chinese or other ethnicity",0]
["2017/18","Northumberland","E31000029","Non-metropolitan","Predominantly Rural","HC","On call firefighters","Ethnic origin not stated",0]
["2017/18","Northumberland","E31000029","Non-metropolitan","Predominantly Rural","HC","On call firefighters","Mixed",0]
["2017/18","Northumberland","E31000029","Non-metropolitan","Predominantly Rural","HC","On call firefighters","White British or Irish",18]
["2017/18","Northumberland","E31000029","Non-metropolitan","Predominantly Rural","HC","Support staff","Asian or Asian British",0]
["2017/18","Northumberland","E31000029","Non-metropolitan","Predominantly Rural","HC","Support staff","Black or Black British",0]
["2017/18","Northumberland","E31000029","Non-metropolitan","Predominantly Rural","HC","Support staff","Chinese or other ethnicity",0]
["2017/18","Northumberland","E31000029","Non-metropolitan","Predominantly Rural","HC","Support staff","Ethnic origin not stated",3]
["2017/18","Northumberland","E31000029","Non-metropolitan","Predominantly Rural","HC","Support staff","Mixed",0]
["2017/18","Northumberland","E31000029","Non-metropolitan","Predominantly Rural","HC","Support staff","White British or Irish",1]
["2017/18","Northumberland","E31000029","Non-metropolitan","Predominantly Rural","HC","Wholetime firefighters","Asian or Asian British",0]
["2017/18","Northumberland","E31000029","Non-metropolitan","Predominantly Rural","HC","Wholetime firefighters","Black or Black British",0]
["2017/18","Northumberland","E31000029","Non-metropolitan","Predominantly Rural","HC","Wholetime firefighters","Chinese or other ethnicity",0]
["2017/18","Northumberland","E31000029","Non-metropolitan","Predominantly Rural","HC","Wholetime firefighters","Ethnic origin not stated",0]
["2017/18","Northumberland","E31000029","Non-metropolitan","Predominantly Rural","HC","Wholetime firefighters","Mixed",0]
["2017/18","Northumberland","E31000029","Non-metropolitan","Predominantly Rural","HC","Wholetime firefighters","White British or Irish",1]
["2017/18","Nottinghamshire","E31000030","Non-metropolitan","Predominantly Urban","HC","Fire control","Asian or Asian British",0]
["2017/18","Nottinghamshire","E31000030","Non-metropolitan","Predominantly Urban","HC","Fire control","Black or Black British",0]
["2017/18","Nottinghamshire","E31000030","Non-metropolitan","Predominantly Urban","HC","Fire control","Chinese or other ethnicity",0]
["2017/18","Nottinghamshire","E31000030","Non-metropolitan","Predominantly Urban","HC","Fire control","Ethnic origin not stated",0]
["2017/18","Nottinghamshire","E31000030","Non-metropolitan","Predominantly Urban","HC","Fire control","Mixed",0]
["2017/18","Nottinghamshire","E31000030","Non-metropolitan","Predominantly Urban","HC","Fire control","White British or Irish",1]
["2017/18","Nottinghamshire","E31000030","Non-metropolitan","Predominantly Urban","HC","On call firefighters","Asian or Asian British",0]
["2017/18","Nottinghamshire","E31000030","Non-metropolitan","Predominantly Urban","HC","On call firefighters","Black or Black British",0]
["2017/18","Nottinghamshire","E31000030","Non-metropolitan","Predominantly Urban","HC","On call firefighters","Chinese or other ethnicity",1]
["2017/18","Nottinghamshire","E31000030","Non-metropolitan","Predominantly Urban","HC","On call firefighters","Ethnic origin not stated",3]
["2017/18","Nottinghamshire","E31000030","Non-metropolitan","Predominantly Urban","HC","On call firefighters","Mixed",0]
["2017/18","Nottinghamshire","E31000030","Non-metropolitan","Predominantly Urban","HC","On call firefighters","White British or Irish",32]
["2017/18","Nottinghamshire","E31000030","Non-metropolitan","Predominantly Urban","HC","Support staff","Asian or Asian British",0]
["2017/18","Nottinghamshire","E31000030","Non-metropolitan","Predominantly Urban","HC","Support staff","Black or Black British",2]
["2017/18","Nottinghamshire","E31000030","Non-metropolitan","Predominantly Urban","HC","Support staff","Chinese or other ethnicity",0]
["2017/18","Nottinghamshire","E31000030","Non-metropolitan","Predominantly Urban","HC","Support staff","Ethnic origin not stated",7]
["2017/18","Nottinghamshire","E31000030","Non-metropolitan","Predominantly Urban","HC","Support staff","Mixed",0]
["2017/18","Nottinghamshire","E31000030","Non-metropolitan","Predominantly Urban","HC","Support staff","White British or Irish",10]
["2017/18","Nottinghamshire","E31000030","Non-metropolitan","Predominantly Urban","HC","Wholetime firefighters","Asian or Asian British",0]
["2017/18","Nottinghamshire","E31000030","Non-metropolitan","Predominantly Urban","HC","Wholetime firefighters","Black or Black British",0]
["2017/18","Nottinghamshire","E31000030","Non-metropolitan","Predominantly Urban","HC","Wholetime firefighters","Chinese or other ethnicity",0]
["2017/18","Nottinghamshire","E31000030","Non-metropolitan","Predominantly Urban","HC","Wholetime firefighters","Ethnic origin not stated",0]
["2017/18","Nottinghamshire","E31000030","Non-metropolitan","Predominantly Urban","HC","Wholetime firefighters","Mixed",0]
["2017/18","Nottinghamshire","E31000030","Non-metropolitan","Predominantly Urban","HC","Wholetime firefighters","White British or Irish",13]
["2017/18","Oxfordshire","E31000031","Non-metropolitan","Predominantly Rural","HC","Fire control","Asian or Asian British",0]
["2017/18","Oxfordshire","E31000031","Non-metropolitan","Predominantly Rural","HC","Fire control","Black or Black British",0]
["2017/18","Oxfordshire","E31000031","Non-metropolitan","Predominantly Rural","HC","Fire control","Chinese or other ethnicity",0]
["2017/18","Oxfordshire","E31000031","Non-metropolitan","Predominantly Rural","HC","Fire control","Ethnic origin not stated",0]
["2017/18","Oxfordshire","E31000031","Non-metropolitan","Predominantly Rural","HC","Fire control","Mixed",0]
["2017/18","Oxfordshire","E31000031","Non-metropolitan","Predominantly Rural","HC","Fire control","White British or Irish",0]
["2017/18","Oxfordshire","E31000031","Non-metropolitan","Predominantly Rural","HC","On call firefighters","Asian or Asian British",0]
["2017/18","Oxfordshire","E31000031","Non-metropolitan","Predominantly Rural","HC","On call firefighters","Black or Black British",0]
["2017/18","Oxfordshire","E31000031","Non-metropolitan","Predominantly Rural","HC","On call firefighters","Chinese or other ethnicity",3]
["2017/18","Oxfordshire","E31000031","Non-metropolitan","Predominantly Rural","HC","On call firefighters","Ethnic origin not stated",7]
["2017/18","Oxfordshire","E31000031","Non-metropolitan","Predominantly Rural","HC","On call firefighters","Mixed",0]
["2017/18","Oxfordshire","E31000031","Non-metropolitan","Predominantly Rural","HC","On call firefighters","White British or Irish",64]
["2017/18","Oxfordshire","E31000031","Non-metropolitan","Predominantly Rural","HC","Support staff","Asian or Asian British",0]
["2017/18","Oxfordshire","E31000031","Non-metropolitan","Predominantly Rural","HC","Support staff","Black or Black British",0]
["2017/18","Oxfordshire","E31000031","Non-metropolitan","Predominantly Rural","HC","Support staff","Chinese or other ethnicity",0]
["2017/18","Oxfordshire","E31000031","Non-metropolitan","Predominantly Rural","HC","Support staff","Ethnic origin not stated",0]
["2017/18","Oxfordshire","E31000031","Non-metropolitan","Predominantly Rural","HC","Support staff","Mixed",0]
["2017/18","Oxfordshire","E31000031","Non-metropolitan","Predominantly Rural","HC","Support staff","White British or Irish",4]
["2017/18","Oxfordshire","E31000031","Non-metropolitan","Predominantly Rural","HC","Wholetime firefighters","Asian or Asian British",0]
["2017/18","Oxfordshire","E31000031","Non-metropolitan","Predominantly Rural","HC","Wholetime firefighters","Black or Black British",0]
["2017/18","Oxfordshire","E31000031","Non-metropolitan","Predominantly Rural","HC","Wholetime firefighters","Chinese or other ethnicity",0]
["2017/18","Oxfordshire","E31000031","Non-metropolitan","Predominantly Rural","HC","Wholetime firefighters","Ethnic origin not stated",0]
["2017/18","Oxfordshire","E31000031","Non-metropolitan","Predominantly Rural","HC","Wholetime firefighters","Mixed",0]
["2017/18","Oxfordshire","E31000031","Non-metropolitan","Predominantly Rural","HC","Wholetime firefighters","White British or Irish",0]
["2017/18","Shropshire","E31000032","Non-metropolitan","Predominantly Rural","HC","Fire control","Asian or Asian British",0]
["2017/18","Shropshire","E31000032","Non-metropolitan","Predominantly Rural","HC","Fire control","Black or Black British",0]
["2017/18","Shropshire","E31000032","Non-metropolitan","Predominantly Rural","HC","Fire control","Chinese or other ethnicity",0]
["2017/18","Shropshire","E31000032","Non-metropolitan","Predominantly Rural","HC","Fire control","Ethnic origin not stated",1]
["2017/18","Shropshire","E31000032","Non-metropolitan","Predominantly Rural","HC","Fire control","Mixed",0]
["2017/18","Shropshire","E31000032","Non-metropolitan","Predominantly Rural","HC","Fire control","White British or Irish",0]
["2017/18","Shropshire","E31000032","Non-metropolitan","Predominantly Rural","HC","On call firefighters","Asian or Asian British",0]
["2017/18","Shropshire","E31000032","Non-metropolitan","Predominantly Rural","HC","On call firefighters","Black or Black British",0]
["2017/18","Shropshire","E31000032","Non-metropolitan","Predominantly Rural","HC","On call firefighters","Chinese or other ethnicity",12]
["2017/18","Shropshire","E31000032","Non-metropolitan","Predominantly Rural","HC","On call firefighters","Ethnic origin not stated",3]
["2017/18","Shropshire","E31000032","Non-metropolitan","Predominantly Rural","HC","On call firefighters","Mixed",0]
["2017/18","Shropshire","E31000032","Non-metropolitan","Predominantly Rural","HC","On call firefighters","White British or Irish",11]
["2017/18","Shropshire","E31000032","Non-metropolitan","Predominantly Rural","HC","Support staff","Asian or Asian British",0]
["2017/18","Shropshire","E31000032","Non-metropolitan","Predominantly Rural","HC","Support staff","Black or Black British",0]
["2017/18","Shropshire","E31000032","Non-metropolitan","Predominantly Rural","HC","Support staff","Chinese or other ethnicity",2]
["2017/18","Shropshire","E31000032","Non-metropolitan","Predominantly Rural","HC","Support staff","Ethnic origin not stated",1]
["2017/18","Shropshire","E31000032","Non-metropolitan","Predominantly Rural","HC","Support staff","Mixed",0]
["2017/18","Shropshire","E31000032","Non-metropolitan","Predominantly Rural","HC","Support staff","White British or Irish",6]
["2017/18","Shropshire","E31000032","Non-metropolitan","Predominantly Rural","HC","Wholetime firefighters","Asian or Asian British",0]
["2017/18","Shropshire","E31000032","Non-metropolitan","Predominantly Rural","HC","Wholetime firefighters","Black or Black British",0]
["2017/18","Shropshire","E31000032","Non-metropolitan","Predominantly Rural","HC","Wholetime firefighters","Chinese or other ethnicity",0]
["2017/18","Shropshire","E31000032","Non-metropolitan","Predominantly Rural","HC","Wholetime firefighters","Ethnic origin not stated",0]
["2017/18","Shropshire","E31000032","Non-metropolitan","Predominantly Rural","HC","Wholetime firefighters","Mixed",0]
["2017/18","Shropshire","E31000032","Non-metropolitan","Predominantly Rural","HC","Wholetime firefighters","White British or Irish",5]
["2017/18","South Yorkshire","E31000042","Metropolitan","Predominantly Urban","HC","Fire control","Asian or Asian British",0]
["2017/18","South Yorkshire","E31000042","Metropolitan","Predominantly Urban","HC","Fire control","Black or Black British",0]
["2017/18","South Yorkshire","E31000042","Metropolitan","Predominantly Urban","HC","Fire control","Chinese or other ethnicity",0]
["2017/18","South Yorkshire","E31000042","Metropolitan","Predominantly Urban","HC","Fire control","Ethnic origin not stated",0]
["2017/18","South Yorkshire","E31000042","Metropolitan","Predominantly Urban","HC","Fire control","Mixed",0]
["2017/18","South Yorkshire","E31000042","Metropolitan","Predominantly Urban","HC","Fire control","White British or Irish",3]
["2017/18","South Yorkshire","E31000042","Metropolitan","Predominantly Urban","HC","On call firefighters","Asian or Asian British",0]
["2017/18","South Yorkshire","E31000042","Metropolitan","Predominantly Urban","HC","On call firefighters","Black or Black British",0]
["2017/18","South Yorkshire","E31000042","Metropolitan","Predominantly Urban","HC","On call firefighters","Chinese or other ethnicity",0]
["2017/18","South Yorkshire","E31000042","Metropolitan","Predominantly Urban","HC","On call firefighters","Ethnic origin not stated",0]
["2017/18","South Yorkshire","E31000042","Metropolitan","Predominantly Urban","HC","On call firefighters","Mixed",0]
["2017/18","South Yorkshire","E31000042","Metropolitan","Predominantly Urban","HC","On call firefighters","White British or Irish",26]
["2017/18","South Yorkshire","E31000042","Metropolitan","Predominantly Urban","HC","Support staff","Asian or Asian British",2]
["2017/18","South Yorkshire","E31000042","Metropolitan","Predominantly Urban","HC","Support staff","Black or Black British",0]
["2017/18","South Yorkshire","E31000042","Metropolitan","Predominantly Urban","HC","Support staff","Chinese or other ethnicity",1]
["2017/18","South Yorkshire","E31000042","Metropolitan","Predominantly Urban","HC","Support staff","Ethnic origin not stated",0]
["2017/18","South Yorkshire","E31000042","Metropolitan","Predominantly Urban","HC","Support staff","Mixed",0]
["2017/18","South Yorkshire","E31000042","Metropolitan","Predominantly Urban","HC","Support staff","White British or Irish",34]
["2017/18","South Yorkshire","E31000042","Metropolitan","Predominantly Urban","HC","Wholetime firefighters","Asian or Asian British",0]
["2017/18","South Yorkshire","E31000042","Metropolitan","Predominantly Urban","HC","Wholetime firefighters","Black or Black British",0]
["2017/18","South Yorkshire","E31000042","Metropolitan","Predominantly Urban","HC","Wholetime firefighters","Chinese or other ethnicity",0]
["2017/18","South Yorkshire","E31000042","Metropolitan","Predominantly Urban","HC","Wholetime firefighters","Ethnic origin not stated",1]
["2017/18","South Yorkshire","E31000042","Metropolitan","Predominantly Urban","HC","Wholetime firefighters","Mixed",4]
["2017/18","South Yorkshire","E31000042","Metropolitan","Predominantly Urban","HC","Wholetime firefighters","White British or Irish",27]
["2017/18","Staffordshire","E31000033","Non-metropolitan","Significantly Rural","HC","Fire control","Asian or Asian British",0]
["2017/18","Staffordshire","E31000033","Non-metropolitan","Significantly Rural","HC","Fire control","Black or Black British",0]
["2017/18","Staffordshire","E31000033","Non-metropolitan","Significantly Rural","HC","Fire control","Chinese or other ethnicity",0]
["2017/18","Staffordshire","E31000033","Non-metropolitan","Significantly Rural","HC","Fire control","Ethnic origin not stated",0]
["2017/18","Staffordshire","E31000033","Non-metropolitan","Significantly Rural","HC","Fire control","Mixed",0]
["2017/18","Staffordshire","E31000033","Non-metropolitan","Significantly Rural","HC","Fire control","White British or Irish",0]
["2017/18","Staffordshire","E31000033","Non-metropolitan","Significantly Rural","HC","On call firefighters","Asian or Asian British",0]
["2017/18","Staffordshire","E31000033","Non-metropolitan","Significantly Rural","HC","On call firefighters","Black or Black British",0]
["2017/18","Staffordshire","E31000033","Non-metropolitan","Significantly Rural","HC","On call firefighters","Chinese or other ethnicity",0]
["2017/18","Staffordshire","E31000033","Non-metropolitan","Significantly Rural","HC","On call firefighters","Ethnic origin not stated",0]
["2017/18","Staffordshire","E31000033","Non-metropolitan","Significantly Rural","HC","On call firefighters","Mixed",0]
["2017/18","Staffordshire","E31000033","Non-metropolitan","Significantly Rural","HC","On call firefighters","White British or Irish",16]
["2017/18","Staffordshire","E31000033","Non-metropolitan","Significantly Rural","HC","Support staff","Asian or Asian British",0]
["2017/18","Staffordshire","E31000033","Non-metropolitan","Significantly Rural","HC","Support staff","Black or Black British",0]
["2017/18","Staffordshire","E31000033","Non-metropolitan","Significantly Rural","HC","Support staff","Chinese or other ethnicity",1]
["2017/18","Staffordshire","E31000033","Non-metropolitan","Significantly Rural","HC","Support staff","Ethnic origin not stated",0]
["2017/18","Staffordshire","E31000033","Non-metropolitan","Significantly Rural","HC","Support staff","Mixed",0]
["2017/18","Staffordshire","E31000033","Non-metropolitan","Significantly Rural","HC","Support staff","White British or Irish",9]
["2017/18","Staffordshire","E31000033","Non-metropolitan","Significantly Rural","HC","Wholetime firefighters","Asian or Asian British",0]
["2017/18","Staffordshire","E31000033","Non-metropolitan","Significantly Rural","HC","Wholetime firefighters","Black or Black British",0]
["2017/18","Staffordshire","E31000033","Non-metropolitan","Significantly Rural","HC","Wholetime firefighters","Chinese or other ethnicity",1]
["2017/18","Staffordshire","E31000033","Non-metropolitan","Significantly Rural","HC","Wholetime firefighters","Ethnic origin not stated",0]
["2017/18","Staffordshire","E31000033","Non-metropolitan","Significantly Rural","HC","Wholetime firefighters","Mixed",0]
["2017/18","Staffordshire","E31000033","Non-metropolitan","Significantly Rural","HC","Wholetime firefighters","White British or Irish",7]
["2017/18","Suffolk","E31000034","Non-metropolitan","Predominantly Rural","HC","Fire control","Asian or Asian British",0]
["2017/18","Suffolk","E31000034","Non-metropolitan","Predominantly Rural","HC","Fire control","Black or Black British",0]
["2017/18","Suffolk","E31000034","Non-metropolitan","Predominantly Rural","HC","Fire control","Chinese or other ethnicity",0]
["2017/18","Suffolk","E31000034","Non-metropolitan","Predominantly Rural","HC","Fire control","Ethnic origin not stated",0]
["2017/18","Suffolk","E31000034","Non-metropolitan","Predominantly Rural","HC","Fire control","Mixed",0]
["2017/18","Suffolk","E31000034","Non-metropolitan","Predominantly Rural","HC","Fire control","White British or Irish",0]
["2017/18","Suffolk","E31000034","Non-metropolitan","Predominantly Rural","HC","On call firefighters","Asian or Asian British",0]
["2017/18","Suffolk","E31000034","Non-metropolitan","Predominantly Rural","HC","On call firefighters","Black or Black British",0]
["2017/18","Suffolk","E31000034","Non-metropolitan","Predominantly Rural","HC","On call firefighters","Chinese or other ethnicity",0]
["2017/18","Suffolk","E31000034","Non-metropolitan","Predominantly Rural","HC","On call firefighters","Ethnic origin not stated",47]
["2017/18","Suffolk","E31000034","Non-metropolitan","Predominantly Rural","HC","On call firefighters","Mixed",0]
["2017/18","Suffolk","E31000034","Non-metropolitan","Predominantly Rural","HC","On call firefighters","White British or Irish",2]
["2017/18","Suffolk","E31000034","Non-metropolitan","Predominantly Rural","HC","Support staff","Asian or Asian British",0]
["2017/18","Suffolk","E31000034","Non-metropolitan","Predominantly Rural","HC","Support staff","Black or Black British",0]
["2017/18","Suffolk","E31000034","Non-metropolitan","Predominantly Rural","HC","Support staff","Chinese or other ethnicity",0]
["2017/18","Suffolk","E31000034","Non-metropolitan","Predominantly Rural","HC","Support staff","Ethnic origin not stated",1]
["2017/18","Suffolk","E31000034","Non-metropolitan","Predominantly Rural","HC","Support staff","Mixed",0]
["2017/18","Suffolk","E31000034","Non-metropolitan","Predominantly Rural","HC","Support staff","White British or Irish",5]
["2017/18","Suffolk","E31000034","Non-metropolitan","Predominantly Rural","HC","Wholetime firefighters","Asian or Asian British",0]
["2017/18","Suffolk","E31000034","Non-metropolitan","Predominantly Rural","HC","Wholetime firefighters","Black or Black British",0]
["2017/18","Suffolk","E31000034","Non-metropolitan","Predominantly Rural","HC","Wholetime firefighters","Chinese or other ethnicity",0]
["2017/18","Suffolk","E31000034","Non-metropolitan","Predominantly Rural","HC","Wholetime firefighters","Ethnic origin not stated",1]
["2017/18","Suffolk","E31000034","Non-metropolitan","Predominantly Rural","HC","Wholetime firefighters","Mixed",0]
["2017/18","Suffolk","E31000034","Non-metropolitan","Predominantly Rural","HC","Wholetime firefighters","White British or Irish",1]
["2017/18","Surrey","E31000035","Non-metropolitan","Predominantly Urban","HC","Fire control","Asian or Asian British",0]
["2017/18","Surrey","E31000035","Non-metropolitan","Predominantly Urban","HC","Fire control","Black or Black British",0]
["2017/18","Surrey","E31000035","Non-metropolitan","Predominantly Urban","HC","Fire control","Chinese or other ethnicity",0]
["2017/18","Surrey","E31000035","Non-metropolitan","Predominantly Urban","HC","Fire control","Ethnic origin not stated",2]
["2017/18","Surrey","E31000035","Non-metropolitan","Predominantly Urban","HC","Fire control","Mixed",0]
["2017/18","Surrey","E31000035","Non-metropolitan","Predominantly Urban","HC","Fire control","White British or Irish",1]
["2017/18","Surrey","E31000035","Non-metropolitan","Predominantly Urban","HC","On call firefighters","Asian or Asian British",0]
["2017/18","Surrey","E31000035","Non-metropolitan","Predominantly Urban","HC","On call firefighters","Black or Black British",0]
["2017/18","Surrey","E31000035","Non-metropolitan","Predominantly Urban","HC","On call firefighters","Chinese or other ethnicity",0]
["2017/18","Surrey","E31000035","Non-metropolitan","Predominantly Urban","HC","On call firefighters","Ethnic origin not stated",4]
["2017/18","Surrey","E31000035","Non-metropolitan","Predominantly Urban","HC","On call firefighters","Mixed",0]
["2017/18","Surrey","E31000035","Non-metropolitan","Predominantly Urban","HC","On call firefighters","White British or Irish",5]
["2017/18","Surrey","E31000035","Non-metropolitan","Predominantly Urban","HC","Support staff","Asian or Asian British",0]
["2017/18","Surrey","E31000035","Non-metropolitan","Predominantly Urban","HC","Support staff","Black or Black British",0]
["2017/18","Surrey","E31000035","Non-metropolitan","Predominantly Urban","HC","Support staff","Chinese or other ethnicity",0]
["2017/18","Surrey","E31000035","Non-metropolitan","Predominantly Urban","HC","Support staff","Ethnic origin not stated",0]
["2017/18","Surrey","E31000035","Non-metropolitan","Predominantly Urban","HC","Support staff","Mixed",0]
["2017/18","Surrey","E31000035","Non-metropolitan","Predominantly Urban","HC","Support staff","White British or Irish",1]
["2017/18","Surrey","E31000035","Non-metropolitan","Predominantly Urban","HC","Wholetime firefighters","Asian or Asian British",0]
["2017/18","Surrey","E31000035","Non-metropolitan","Predominantly Urban","HC","Wholetime firefighters","Black or Black British",0]
["2017/18","Surrey","E31000035","Non-metropolitan","Predominantly Urban","HC","Wholetime firefighters","Chinese or other ethnicity",0]
["2017/18","Surrey","E31000035","Non-metropolitan","Predominantly Urban","HC","Wholetime firefighters","Ethnic origin not stated",3]
["2017/18","Surrey","E31000035","Non-metropolitan","Predominantly Urban","HC","Wholetime firefighters","Mixed",0]
["2017/18","Surrey","E31000035","Non-metropolitan","Predominantly Urban","HC","Wholetime firefighters","White British or Irish",5]
["2017/18","Tyne and Wear","E31000043","Metropolitan","Predominantly Urban","HC","Fire control","Asian or Asian British",0]
["2017/18","Tyne and Wear","E31000043","Metropolitan","Predominantly Urban","HC","Fire control","Black or Black British",0]
["2017/18","Tyne and Wear","E31000043","Metropolitan","Predominantly Urban","HC","Fire control","Chinese or other ethnicity",0]
["2017/18","Tyne and Wear","E31000043","Metropolitan","Predominantly Urban","HC","Fire control","Ethnic origin not stated",0]
["2017/18","Tyne and Wear","E31000043","Metropolitan","Predominantly Urban","HC","Fire control","Mixed",0]
["2017/18","Tyne and Wear","E31000043","Metropolitan","Predominantly Urban","HC","Fire control","White British or Irish",1]
["2017/18","Tyne and Wear","E31000043","Metropolitan","Predominantly Urban","HC","On call firefighters","Asian or Asian British",0]
["2017/18","Tyne and Wear","E31000043","Metropolitan","Predominantly Urban","HC","On call firefighters","Black or Black British",0]
["2017/18","Tyne and Wear","E31000043","Metropolitan","Predominantly Urban","HC","On call firefighters","Chinese or other ethnicity",0]
["2017/18","Tyne and Wear","E31000043","Metropolitan","Predominantly Urban","HC","On call firefighters","Ethnic origin not stated",0]
["2017/18","Tyne and Wear","E31000043","Metropolitan","Predominantly Urban","HC","On call firefighters","Mixed",0]
["2017/18","Tyne and Wear","E31000043","Metropolitan","Predominantly Urban","HC","On call firefighters","White British or Irish",6]
["2017/18","Tyne and Wear","E31000043","Metropolitan","Predominantly Urban","HC","Support staff","Asian or Asian British",1]
["2017/18","Tyne and Wear","E31000043","Metropolitan","Predominantly Urban","HC","Support staff","Black or Black British",0]
["2017/18","Tyne and Wear","E31000043","Metropolitan","Predominantly Urban","HC","Support staff","Chinese or other ethnicity",0]
["2017/18","Tyne and Wear","E31000043","Metropolitan","Predominantly Urban","HC","Support staff","Ethnic origin not stated",4]
["2017/18","Tyne and Wear","E31000043","Metropolitan","Predominantly Urban","HC","Support staff","Mixed",0]
["2017/18","Tyne and Wear","E31000043","Metropolitan","Predominantly Urban","HC","Support staff","White British or Irish",20]
["2017/18","Tyne and Wear","E31000043","Metropolitan","Predominantly Urban","HC","Wholetime firefighters","Asian or Asian British",0]
["2017/18","Tyne and Wear","E31000043","Metropolitan","Predominantly Urban","HC","Wholetime firefighters","Black or Black British",0]
["2017/18","Tyne and Wear","E31000043","Metropolitan","Predominantly Urban","HC","Wholetime firefighters","Chinese or other ethnicity",0]
["2017/18","Tyne and Wear","E31000043","Metropolitan","Predominantly Urban","HC","Wholetime firefighters","Ethnic origin not stated",0]
["2017/18","Tyne and Wear","E31000043","Metropolitan","Predominantly Urban","HC","Wholetime firefighters","Mixed",0]
["2017/18","Tyne and Wear","E31000043","Metropolitan","Predominantly Urban","HC","Wholetime firefighters","White British or Irish",6]
["2017/18","Warwickshire","E31000036","Non-metropolitan","Significantly Rural","HC","Fire control","Asian or Asian British",0]
["2017/18","Warwickshire","E31000036","Non-metropolitan","Significantly Rural","HC","Fire control","Black or Black British",0]
["2017/18","Warwickshire","E31000036","Non-metropolitan","Significantly Rural","HC","Fire control","Chinese or other ethnicity",0]
["2017/18","Warwickshire","E31000036","Non-metropolitan","Significantly Rural","HC","Fire control","Ethnic origin not stated",0]
["2017/18","Warwickshire","E31000036","Non-metropolitan","Significantly Rural","HC","Fire control","Mixed",0]
["2017/18","Warwickshire","E31000036","Non-metropolitan","Significantly Rural","HC","Fire control","White British or Irish",3]
["2017/18","Warwickshire","E31000036","Non-metropolitan","Significantly Rural","HC","On call firefighters","Asian or Asian British",0]
["2017/18","Warwickshire","E31000036","Non-metropolitan","Significantly Rural","HC","On call firefighters","Black or Black British",0]
["2017/18","Warwickshire","E31000036","Non-metropolitan","Significantly Rural","HC","On call firefighters","Chinese or other ethnicity",0]
["2017/18","Warwickshire","E31000036","Non-metropolitan","Significantly Rural","HC","On call firefighters","Ethnic origin not stated",8]
["2017/18","Warwickshire","E31000036","Non-metropolitan","Significantly Rural","HC","On call firefighters","Mixed",0]
["2017/18","Warwickshire","E31000036","Non-metropolitan","Significantly Rural","HC","On call firefighters","White British or Irish",12]
["2017/18","Warwickshire","E31000036","Non-metropolitan","Significantly Rural","HC","Support staff","Asian or Asian British",1]
["2017/18","Warwickshire","E31000036","Non-metropolitan","Significantly Rural","HC","Support staff","Black or Black British",0]
["2017/18","Warwickshire","E31000036","Non-metropolitan","Significantly Rural","HC","Support staff","Chinese or other ethnicity",0]
["2017/18","Warwickshire","E31000036","Non-metropolitan","Significantly Rural","HC","Support staff","Ethnic origin not stated",7]
["2017/18","Warwickshire","E31000036","Non-metropolitan","Significantly Rural","HC","Support staff","Mixed",0]
["2017/18","Warwickshire","E31000036","Non-metropolitan","Significantly Rural","HC","Support staff","White British or Irish",12]
["2017/18","Warwickshire","E31000036","Non-metropolitan","Significantly Rural","HC","Wholetime firefighters","Asian or Asian British",0]
["2017/18","Warwickshire","E31000036","Non-metropolitan","Significantly Rural","HC","Wholetime firefighters","Black or Black British",0]
["2017/18","Warwickshire","E31000036","Non-metropolitan","Significantly Rural","HC","Wholetime firefighters","Chinese or other ethnicity",0]
["2017/18","Warwickshire","E31000036","Non-metropolitan","Significantly Rural","HC","Wholetime firefighters","Ethnic origin not stated",24]
["2017/18","Warwickshire","E31000036","Non-metropolitan","Significantly Rural","HC","Wholetime firefighters","Mixed",0]
["2017/18","Warwickshire","E31000036","Non-metropolitan","Significantly Rural","HC","Wholetime firefighters","White British or Irish",7]
["2017/18","West Midlands","E31000044","Metropolitan","Predominantly Urban","HC","Fire control","Asian or Asian British",0]
["2017/18","West Midlands","E31000044","Metropolitan","Predominantly Urban","HC","Fire control","Black or Black British",0]
["2017/18","West Midlands","E31000044","Metropolitan","Predominantly Urban","HC","Fire control","Chinese or other ethnicity",1]
["2017/18","West Midlands","E31000044","Metropolitan","Predominantly Urban","HC","Fire control","Ethnic origin not stated",0]
["2017/18","West Midlands","E31000044","Metropolitan","Predominantly Urban","HC","Fire control","Mixed",0]
["2017/18","West Midlands","E31000044","Metropolitan","Predominantly Urban","HC","Fire control","White British or Irish",1]
["2017/18","West Midlands","E31000044","Metropolitan","Predominantly Urban","HC","On call firefighters","Asian or Asian British",0]
["2017/18","West Midlands","E31000044","Metropolitan","Predominantly Urban","HC","On call firefighters","Black or Black British",0]
["2017/18","West Midlands","E31000044","Metropolitan","Predominantly Urban","HC","On call firefighters","Chinese or other ethnicity",0]
["2017/18","West Midlands","E31000044","Metropolitan","Predominantly Urban","HC","On call firefighters","Ethnic origin not stated",0]
["2017/18","West Midlands","E31000044","Metropolitan","Predominantly Urban","HC","On call firefighters","Mixed",0]
["2017/18","West Midlands","E31000044","Metropolitan","Predominantly Urban","HC","On call firefighters","White British or Irish",0]
["2017/18","West Midlands","E31000044","Metropolitan","Predominantly Urban","HC","Support staff","Asian or Asian British",1]
["2017/18","West Midlands","E31000044","Metropolitan","Predominantly Urban","HC","Support staff","Black or Black British",0]
["2017/18","West Midlands","E31000044","Metropolitan","Predominantly Urban","HC","Support staff","Chinese or other ethnicity",0]
["2017/18","West Midlands","E31000044","Metropolitan","Predominantly Urban","HC","Support staff","Ethnic origin not stated",8]
["2017/18","West Midlands","E31000044","Metropolitan","Predominantly Urban","HC","Support staff","Mixed",0]
["2017/18","West Midlands","E31000044","Metropolitan","Predominantly Urban","HC","Support staff","White British or Irish",10]
["2017/18","West Midlands","E31000044","Metropolitan","Predominantly Urban","HC","Wholetime firefighters","Asian or Asian British",3]
["2017/18","West Midlands","E31000044","Metropolitan","Predominantly Urban","HC","Wholetime firefighters","Black or Black British",4]
["2017/18","West Midlands","E31000044","Metropolitan","Predominantly Urban","HC","Wholetime firefighters","Chinese or other ethnicity",2]
["2017/18","West Midlands","E31000044","Metropolitan","Predominantly Urban","HC","Wholetime firefighters","Ethnic origin not stated",1]
["2017/18","West Midlands","E31000044","Metropolitan","Predominantly Urban","HC","Wholetime firefighters","Mixed",12]
["2017/18","West Midlands","E31000044","Metropolitan","Predominantly Urban","HC","Wholetime firefighters","White British or Irish",51]
["2017/18","West Sussex","E31000037","Non-metropolitan","Significantly Rural","HC","Fire control","Asian or Asian British",0]
["2017/18","West Sussex","E31000037","Non-metropolitan","Significantly Rural","HC","Fire control","Black or Black British",0]
["2017/18","West Sussex","E31000037","Non-metropolitan","Significantly Rural","HC","Fire control","Chinese or other ethnicity",0]
["2017/18","West Sussex","E31000037","Non-metropolitan","Significantly Rural","HC","Fire control","Ethnic origin not stated",0]
["2017/18","West Sussex","E31000037","Non-metropolitan","Significantly Rural","HC","Fire control","Mixed",0]
["2017/18","West Sussex","E31000037","Non-metropolitan","Significantly Rural","HC","Fire control","White British or Irish",0]
["2017/18","West Sussex","E31000037","Non-metropolitan","Significantly Rural","HC","On call firefighters","Asian or Asian British",0]
["2017/18","West Sussex","E31000037","Non-metropolitan","Significantly Rural","HC","On call firefighters","Black or Black British",0]
["2017/18","West Sussex","E31000037","Non-metropolitan","Significantly Rural","HC","On call firefighters","Chinese or other ethnicity",0]
["2017/18","West Sussex","E31000037","Non-metropolitan","Significantly Rural","HC","On call firefighters","Ethnic origin not stated",9]
["2017/18","West Sussex","E31000037","Non-metropolitan","Significantly Rural","HC","On call firefighters","Mixed",1]
["2017/18","West Sussex","E31000037","Non-metropolitan","Significantly Rural","HC","On call firefighters","White British or Irish",37]
["2017/18","West Sussex","E31000037","Non-metropolitan","Significantly Rural","HC","Support staff","Asian or Asian British",0]
["2017/18","West Sussex","E31000037","Non-metropolitan","Significantly Rural","HC","Support staff","Black or Black British",0]
["2017/18","West Sussex","E31000037","Non-metropolitan","Significantly Rural","HC","Support staff","Chinese or other ethnicity",0]
["2017/18","West Sussex","E31000037","Non-metropolitan","Significantly Rural","HC","Support staff","Ethnic origin not stated",0]
["2017/18","West Sussex","E31000037","Non-metropolitan","Significantly Rural","HC","Support staff","Mixed",0]
["2017/18","West Sussex","E31000037","Non-metropolitan","Significantly Rural","HC","Support staff","White British or Irish",10]
["2017/18","West Sussex","E31000037","Non-metropolitan","Significantly Rural","HC","Wholetime firefighters","Asian or Asian British",0]
["2017/18","West Sussex","E31000037","Non-metropolitan","Significantly Rural","HC","Wholetime firefighters","Black or Black British",0]
["2017/18","West Sussex","E31000037","Non-metropolitan","Significantly Rural","HC","Wholetime firefighters","Chinese or other ethnicity",0]
["2017/18","West Sussex","E31000037","Non-metropolitan","Significantly Rural","HC","Wholetime firefighters","Ethnic origin not stated",12]
["2017/18","West Sussex","E31000037","Non-metropolitan","Significantly Rural","HC","Wholetime firefighters","Mixed",0]
["2017/18","West Sussex","E31000037","Non-metropolitan","Significantly Rural","HC","Wholetime firefighters","White British or Irish",12]
["2017/18","West Yorkshire","E31000045","Metropolitan","Predominantly Urban","HC","Fire control","Asian or Asian British",0]
["2017/18","West Yorkshire","E31000045","Metropolitan","Predominantly Urban","HC","Fire control","Black or Black British",0]
["2017/18","West Yorkshire","E31000045","Metropolitan","Predominantly Urban","HC","Fire control","Chinese or other ethnicity",0]
["2017/18","West Yorkshire","E31000045","Metropolitan","Predominantly Urban","HC","Fire control","Ethnic origin not stated",0]
["2017/18","West Yorkshire","E31000045","Metropolitan","Predominantly Urban","HC","Fire control","Mixed",0]
["2017/18","West Yorkshire","E31000045","Metropolitan","Predominantly Urban","HC","Fire control","White British or Irish",0]
["2017/18","West Yorkshire","E31000045","Metropolitan","Predominantly Urban","HC","On call firefighters","Asian or Asian British",0]
["2017/18","West Yorkshire","E31000045","Metropolitan","Predominantly Urban","HC","On call firefighters","Black or Black British",0]
["2017/18","West Yorkshire","E31000045","Metropolitan","Predominantly Urban","HC","On call firefighters","Chinese or other ethnicity",0]
["2017/18","West Yorkshire","E31000045","Metropolitan","Predominantly Urban","HC","On call firefighters","Ethnic origin not stated",0]
["2017/18","West Yorkshire","E31000045","Metropolitan","Predominantly Urban","HC","On call firefighters","Mixed",0]
["2017/18","West Yorkshire","E31000045","Metropolitan","Predominantly Urban","HC","On call firefighters","White British or Irish",7]
["2017/18","West Yorkshire","E31000045","Metropolitan","Predominantly Urban","HC","Support staff","Asian or Asian British",6]
["2017/18","West Yorkshire","E31000045","Metropolitan","Predominantly Urban","HC","Support staff","Black or Black British",1]
["2017/18","West Yorkshire","E31000045","Metropolitan","Predominantly Urban","HC","Support staff","Chinese or other ethnicity",4]
["2017/18","West Yorkshire","E31000045","Metropolitan","Predominantly Urban","HC","Support staff","Ethnic origin not stated",2]
["2017/18","West Yorkshire","E31000045","Metropolitan","Predominantly Urban","HC","Support staff","Mixed",1]
["2017/18","West Yorkshire","E31000045","Metropolitan","Predominantly Urban","HC","Support staff","White British or Irish",36]
["2017/18","West Yorkshire","E31000045","Metropolitan","Predominantly Urban","HC","Wholetime firefighters","Asian or Asian British",0]
["2017/18","West Yorkshire","E31000045","Metropolitan","Predominantly Urban","HC","Wholetime firefighters","Black or Black British",1]
["2017/18","West Yorkshire","E31000045","Metropolitan","Predominantly Urban","HC","Wholetime firefighters","Chinese or other ethnicity",1]
["2017/18","West Yorkshire","E31000045","Metropolitan","Predominantly Urban","HC","Wholetime firefighters","Ethnic origin not stated",6]
["2017/18","West Yorkshire","E31000045","Metropolitan","Predominantly Urban","HC","Wholetime firefighters","Mixed",0]
["2017/18","West Yorkshire","E31000045","Metropolitan","Predominantly Urban","HC","Wholetime firefighters","White British or Irish",28]
["2018/19","Avon","E31000001","Non-metropolitan","Predominantly Urban","HC","Fire control","Asian or Asian British",0]
["2018/19","Avon","E31000001","Non-metropolitan","Predominantly Urban","HC","Fire control","Black or Black British",0]
["2018/19","Avon","E31000001","Non-metropolitan","Predominantly Urban","HC","Fire control","Chinese or other ethnicity",0]
["2018/19","Avon","E31000001","Non-metropolitan","Predominantly Urban","HC","Fire control","Ethnic origin not stated",0]
["2018/19","Avon","E31000001","Non-metropolitan","Predominantly Urban","HC","Fire control","Mixed",0]
["2018/19","Avon","E31000001","Non-metropolitan","Predominantly Urban","HC","Fire control","White British or Irish",3]
["2018/19","Avon","E31000001","Non-metropolitan","Predominantly Urban","HC","On call firefighters","Asian or Asian British",0]
["2018/19","Avon","E31000001","Non-metropolitan","Predominantly Urban","HC","On call firefighters","Black or Black British",0]
["2018/19","Avon","E31000001","Non-metropolitan","Predominantly Urban","HC","On call firefighters","Chinese or other ethnicity",0]
["2018/19","Avon","E31000001","Non-metropolitan","Predominantly Urban","HC","On call firefighters","Ethnic origin not stated",16]
["2018/19","Avon","E31000001","Non-metropolitan","Predominantly Urban","HC","On call firefighters","Mixed",0]
["2018/19","Avon","E31000001","Non-metropolitan","Predominantly Urban","HC","On call firefighters","White British or Irish",3]
["2018/19","Avon","E31000001","Non-metropolitan","Predominantly Urban","HC","Support staff","Asian or Asian British",0]
["2018/19","Avon","E31000001","Non-metropolitan","Predominantly Urban","HC","Support staff","Black or Black British",0]
["2018/19","Avon","E31000001","Non-metropolitan","Predominantly Urban","HC","Support staff","Chinese or other ethnicity",0]
["2018/19","Avon","E31000001","Non-metropolitan","Predominantly Urban","HC","Support staff","Ethnic origin not stated",11]
["2018/19","Avon","E31000001","Non-metropolitan","Predominantly Urban","HC","Support staff","Mixed",0]
["2018/19","Avon","E31000001","Non-metropolitan","Predominantly Urban","HC","Support staff","White British or Irish",14]
["2018/19","Avon","E31000001","Non-metropolitan","Predominantly Urban","HC","Wholetime firefighters","Asian or Asian British",0]
["2018/19","Avon","E31000001","Non-metropolitan","Predominantly Urban","HC","Wholetime firefighters","Black or Black British",1]
["2018/19","Avon","E31000001","Non-metropolitan","Predominantly Urban","HC","Wholetime firefighters","Chinese or other ethnicity",2]
["2018/19","Avon","E31000001","Non-metropolitan","Predominantly Urban","HC","Wholetime firefighters","Ethnic origin not stated",1]
["2018/19","Avon","E31000001","Non-metropolitan","Predominantly Urban","HC","Wholetime firefighters","Mixed",0]
["2018/19","Avon","E31000001","Non-metropolitan","Predominantly Urban","HC","Wholetime firefighters","White British or Irish",11]
["2018/19","Bedfordshire","E31000002","Non-metropolitan","Significantly Rural","HC","Fire control","Asian or Asian British",0]
["2018/19","Bedfordshire","E31000002","Non-metropolitan","Significantly Rural","HC","Fire control","Black or Black British",0]
["2018/19","Bedfordshire","E31000002","Non-metropolitan","Significantly Rural","HC","Fire control","Chinese or other ethnicity",0]
["2018/19","Bedfordshire","E31000002","Non-metropolitan","Significantly Rural","HC","Fire control","Ethnic origin not stated",1]
["2018/19","Bedfordshire","E31000002","Non-metropolitan","Significantly Rural","HC","Fire control","Mixed",0]
["2018/19","Bedfordshire","E31000002","Non-metropolitan","Significantly Rural","HC","Fire control","White British or Irish",1]
["2018/19","Bedfordshire","E31000002","Non-metropolitan","Significantly Rural","HC","On call firefighters","Asian or Asian British",0]
["2018/19","Bedfordshire","E31000002","Non-metropolitan","Significantly Rural","HC","On call firefighters","Black or Black British",0]
["2018/19","Bedfordshire","E31000002","Non-metropolitan","Significantly Rural","HC","On call firefighters","Chinese or other ethnicity",0]
["2018/19","Bedfordshire","E31000002","Non-metropolitan","Significantly Rural","HC","On call firefighters","Ethnic origin not stated",1]
["2018/19","Bedfordshire","E31000002","Non-metropolitan","Significantly Rural","HC","On call firefighters","Mixed",1]
["2018/19","Bedfordshire","E31000002","Non-metropolitan","Significantly Rural","HC","On call firefighters","White British or Irish",24]
["2018/19","Bedfordshire","E31000002","Non-metropolitan","Significantly Rural","HC","Support staff","Asian or Asian British",1]
["2018/19","Bedfordshire","E31000002","Non-metropolitan","Significantly Rural","HC","Support staff","Black or Black British",0]
["2018/19","Bedfordshire","E31000002","Non-metropolitan","Significantly Rural","HC","Support staff","Chinese or other ethnicity",0]
["2018/19","Bedfordshire","E31000002","Non-metropolitan","Significantly Rural","HC","Support staff","Ethnic origin not stated",5]
["2018/19","Bedfordshire","E31000002","Non-metropolitan","Significantly Rural","HC","Support staff","Mixed",1]
["2018/19","Bedfordshire","E31000002","Non-metropolitan","Significantly Rural","HC","Support staff","White British or Irish",15]
["2018/19","Bedfordshire","E31000002","Non-metropolitan","Significantly Rural","HC","Wholetime firefighters","Asian or Asian British",0]
["2018/19","Bedfordshire","E31000002","Non-metropolitan","Significantly Rural","HC","Wholetime firefighters","Black or Black British",0]
["2018/19","Bedfordshire","E31000002","Non-metropolitan","Significantly Rural","HC","Wholetime firefighters","Chinese or other ethnicity",1]
["2018/19","Bedfordshire","E31000002","Non-metropolitan","Significantly Rural","HC","Wholetime firefighters","Ethnic origin not stated",0]
["2018/19","Bedfordshire","E31000002","Non-metropolitan","Significantly Rural","HC","Wholetime firefighters","Mixed",0]
["2018/19","Bedfordshire","E31000002","Non-metropolitan","Significantly Rural","HC","Wholetime firefighters","White British or Irish",17]
["2018/19","Berkshire","E31000003","Non-metropolitan","Predominantly Urban","HC","Fire control","Asian or Asian British",0]
["2018/19","Berkshire","E31000003","Non-metropolitan","Predominantly Urban","HC","Fire control","Black or Black British",0]
["2018/19","Berkshire","E31000003","Non-metropolitan","Predominantly Urban","HC","Fire control","Chinese or other ethnicity",0]
["2018/19","Berkshire","E31000003","Non-metropolitan","Predominantly Urban","HC","Fire control","Ethnic origin not stated",0]
["2018/19","Berkshire","E31000003","Non-metropolitan","Predominantly Urban","HC","Fire control","Mixed",0]
["2018/19","Berkshire","E31000003","Non-metropolitan","Predominantly Urban","HC","Fire control","White British or Irish",5]
["2018/19","Berkshire","E31000003","Non-metropolitan","Predominantly Urban","HC","On call firefighters","Asian or Asian British",0]
["2018/19","Berkshire","E31000003","Non-metropolitan","Predominantly Urban","HC","On call firefighters","Black or Black British",0]
["2018/19","Berkshire","E31000003","Non-metropolitan","Predominantly Urban","HC","On call firefighters","Chinese or other ethnicity",1]
["2018/19","Berkshire","E31000003","Non-metropolitan","Predominantly Urban","HC","On call firefighters","Ethnic origin not stated",0]
["2018/19","Berkshire","E31000003","Non-metropolitan","Predominantly Urban","HC","On call firefighters","Mixed",1]
["2018/19","Berkshire","E31000003","Non-metropolitan","Predominantly Urban","HC","On call firefighters","White British or Irish",21]
["2018/19","Berkshire","E31000003","Non-metropolitan","Predominantly Urban","HC","Support staff","Asian or Asian British",3]
["2018/19","Berkshire","E31000003","Non-metropolitan","Predominantly Urban","HC","Support staff","Black or Black British",2]
["2018/19","Berkshire","E31000003","Non-metropolitan","Predominantly Urban","HC","Support staff","Chinese or other ethnicity",1]
["2018/19","Berkshire","E31000003","Non-metropolitan","Predominantly Urban","HC","Support staff","Ethnic origin not stated",1]
["2018/19","Berkshire","E31000003","Non-metropolitan","Predominantly Urban","HC","Support staff","Mixed",1]
["2018/19","Berkshire","E31000003","Non-metropolitan","Predominantly Urban","HC","Support staff","White British or Irish",21]
["2018/19","Berkshire","E31000003","Non-metropolitan","Predominantly Urban","HC","Wholetime firefighters","Asian or Asian British",0]
["2018/19","Berkshire","E31000003","Non-metropolitan","Predominantly Urban","HC","Wholetime firefighters","Black or Black British",0]
["2018/19","Berkshire","E31000003","Non-metropolitan","Predominantly Urban","HC","Wholetime firefighters","Chinese or other ethnicity",1]
["2018/19","Berkshire","E31000003","Non-metropolitan","Predominantly Urban","HC","Wholetime firefighters","Ethnic origin not stated",0]
["2018/19","Berkshire","E31000003","Non-metropolitan","Predominantly Urban","HC","Wholetime firefighters","Mixed",1]
["2018/19","Berkshire","E31000003","Non-metropolitan","Predominantly Urban","HC","Wholetime firefighters","White British or Irish",12]
["2018/19","Buckinghamshire","E31000004","Non-metropolitan","Significantly Rural","HC","Fire control","Asian or Asian British",0]
["2018/19","Buckinghamshire","E31000004","Non-metropolitan","Significantly Rural","HC","Fire control","Black or Black British",0]
["2018/19","Buckinghamshire","E31000004","Non-metropolitan","Significantly Rural","HC","Fire control","Chinese or other ethnicity",0]
["2018/19","Buckinghamshire","E31000004","Non-metropolitan","Significantly Rural","HC","Fire control","Ethnic origin not stated",0]
["2018/19","Buckinghamshire","E31000004","Non-metropolitan","Significantly Rural","HC","Fire control","Mixed",0]
["2018/19","Buckinghamshire","E31000004","Non-metropolitan","Significantly Rural","HC","Fire control","White British or Irish",0]
["2018/19","Buckinghamshire","E31000004","Non-metropolitan","Significantly Rural","HC","On call firefighters","Asian or Asian British",1]
["2018/19","Buckinghamshire","E31000004","Non-metropolitan","Significantly Rural","HC","On call firefighters","Black or Black British",0]
["2018/19","Buckinghamshire","E31000004","Non-metropolitan","Significantly Rural","HC","On call firefighters","Chinese or other ethnicity",0]
["2018/19","Buckinghamshire","E31000004","Non-metropolitan","Significantly Rural","HC","On call firefighters","Ethnic origin not stated",0]
["2018/19","Buckinghamshire","E31000004","Non-metropolitan","Significantly Rural","HC","On call firefighters","Mixed",0]
["2018/19","Buckinghamshire","E31000004","Non-metropolitan","Significantly Rural","HC","On call firefighters","White British or Irish",18]
["2018/19","Buckinghamshire","E31000004","Non-metropolitan","Significantly Rural","HC","Support staff","Asian or Asian British",0]
["2018/19","Buckinghamshire","E31000004","Non-metropolitan","Significantly Rural","HC","Support staff","Black or Black British",1]
["2018/19","Buckinghamshire","E31000004","Non-metropolitan","Significantly Rural","HC","Support staff","Chinese or other ethnicity",0]
["2018/19","Buckinghamshire","E31000004","Non-metropolitan","Significantly Rural","HC","Support staff","Ethnic origin not stated",0]
["2018/19","Buckinghamshire","E31000004","Non-metropolitan","Significantly Rural","HC","Support staff","Mixed",0]
["2018/19","Buckinghamshire","E31000004","Non-metropolitan","Significantly Rural","HC","Support staff","White British or Irish",5]
["2018/19","Buckinghamshire","E31000004","Non-metropolitan","Significantly Rural","HC","Wholetime firefighters","Asian or Asian British",0]
["2018/19","Buckinghamshire","E31000004","Non-metropolitan","Significantly Rural","HC","Wholetime firefighters","Black or Black British",0]
["2018/19","Buckinghamshire","E31000004","Non-metropolitan","Significantly Rural","HC","Wholetime firefighters","Chinese or other ethnicity",0]
["2018/19","Buckinghamshire","E31000004","Non-metropolitan","Significantly Rural","HC","Wholetime firefighters","Ethnic origin not stated",0]
["2018/19","Buckinghamshire","E31000004","Non-metropolitan","Significantly Rural","HC","Wholetime firefighters","Mixed",3]
["2018/19","Buckinghamshire","E31000004","Non-metropolitan","Significantly Rural","HC","Wholetime firefighters","White British or Irish",25]
["2018/19","Cambridgeshire","E31000005","Non-metropolitan","Predominantly Rural","HC","Fire control","Asian or Asian British",0]
["2018/19","Cambridgeshire","E31000005","Non-metropolitan","Predominantly Rural","HC","Fire control","Black or Black British",0]
["2018/19","Cambridgeshire","E31000005","Non-metropolitan","Predominantly Rural","HC","Fire control","Chinese or other ethnicity",0]
["2018/19","Cambridgeshire","E31000005","Non-metropolitan","Predominantly Rural","HC","Fire control","Ethnic origin not stated",4]
["2018/19","Cambridgeshire","E31000005","Non-metropolitan","Predominantly Rural","HC","Fire control","Mixed",0]
["2018/19","Cambridgeshire","E31000005","Non-metropolitan","Predominantly Rural","HC","Fire control","White British or Irish",8]
["2018/19","Cambridgeshire","E31000005","Non-metropolitan","Predominantly Rural","HC","On call firefighters","Asian or Asian British",0]
["2018/19","Cambridgeshire","E31000005","Non-metropolitan","Predominantly Rural","HC","On call firefighters","Black or Black British",0]
["2018/19","Cambridgeshire","E31000005","Non-metropolitan","Predominantly Rural","HC","On call firefighters","Chinese or other ethnicity",3]
["2018/19","Cambridgeshire","E31000005","Non-metropolitan","Predominantly Rural","HC","On call firefighters","Ethnic origin not stated",4]
["2018/19","Cambridgeshire","E31000005","Non-metropolitan","Predominantly Rural","HC","On call firefighters","Mixed",0]
["2018/19","Cambridgeshire","E31000005","Non-metropolitan","Predominantly Rural","HC","On call firefighters","White British or Irish",29]
["2018/19","Cambridgeshire","E31000005","Non-metropolitan","Predominantly Rural","HC","Support staff","Asian or Asian British",1]
["2018/19","Cambridgeshire","E31000005","Non-metropolitan","Predominantly Rural","HC","Support staff","Black or Black British",2]
["2018/19","Cambridgeshire","E31000005","Non-metropolitan","Predominantly Rural","HC","Support staff","Chinese or other ethnicity",0]
["2018/19","Cambridgeshire","E31000005","Non-metropolitan","Predominantly Rural","HC","Support staff","Ethnic origin not stated",5]
["2018/19","Cambridgeshire","E31000005","Non-metropolitan","Predominantly Rural","HC","Support staff","Mixed",1]
["2018/19","Cambridgeshire","E31000005","Non-metropolitan","Predominantly Rural","HC","Support staff","White British or Irish",12]
["2018/19","Cambridgeshire","E31000005","Non-metropolitan","Predominantly Rural","HC","Wholetime firefighters","Asian or Asian British",0]
["2018/19","Cambridgeshire","E31000005","Non-metropolitan","Predominantly Rural","HC","Wholetime firefighters","Black or Black British",0]
["2018/19","Cambridgeshire","E31000005","Non-metropolitan","Predominantly Rural","HC","Wholetime firefighters","Chinese or other ethnicity",0]
["2018/19","Cambridgeshire","E31000005","Non-metropolitan","Predominantly Rural","HC","Wholetime firefighters","Ethnic origin not stated",2]
["2018/19","Cambridgeshire","E31000005","Non-metropolitan","Predominantly Rural","HC","Wholetime firefighters","Mixed",0]
["2018/19","Cambridgeshire","E31000005","Non-metropolitan","Predominantly Rural","HC","Wholetime firefighters","White British or Irish",12]
["2018/19","Cheshire","E31000006","Non-metropolitan","Significantly Rural","HC","Fire control","Asian or Asian British",0]
["2018/19","Cheshire","E31000006","Non-metropolitan","Significantly Rural","HC","Fire control","Black or Black British",0]
["2018/19","Cheshire","E31000006","Non-metropolitan","Significantly Rural","HC","Fire control","Chinese or other ethnicity",0]
["2018/19","Cheshire","E31000006","Non-metropolitan","Significantly Rural","HC","Fire control","Ethnic origin not stated",0]
["2018/19","Cheshire","E31000006","Non-metropolitan","Significantly Rural","HC","Fire control","Mixed",0]
["2018/19","Cheshire","E31000006","Non-metropolitan","Significantly Rural","HC","Fire control","White British or Irish",0]
["2018/19","Cheshire","E31000006","Non-metropolitan","Significantly Rural","HC","On call firefighters","Asian or Asian British",0]
["2018/19","Cheshire","E31000006","Non-metropolitan","Significantly Rural","HC","On call firefighters","Black or Black British",0]
["2018/19","Cheshire","E31000006","Non-metropolitan","Significantly Rural","HC","On call firefighters","Chinese or other ethnicity",0]
["2018/19","Cheshire","E31000006","Non-metropolitan","Significantly Rural","HC","On call firefighters","Ethnic origin not stated",2]
["2018/19","Cheshire","E31000006","Non-metropolitan","Significantly Rural","HC","On call firefighters","Mixed",0]
["2018/19","Cheshire","E31000006","Non-metropolitan","Significantly Rural","HC","On call firefighters","White British or Irish",26]
["2018/19","Cheshire","E31000006","Non-metropolitan","Significantly Rural","HC","Support staff","Asian or Asian British",0]
["2018/19","Cheshire","E31000006","Non-metropolitan","Significantly Rural","HC","Support staff","Black or Black British",0]
["2018/19","Cheshire","E31000006","Non-metropolitan","Significantly Rural","HC","Support staff","Chinese or other ethnicity",0]
["2018/19","Cheshire","E31000006","Non-metropolitan","Significantly Rural","HC","Support staff","Ethnic origin not stated",0]
["2018/19","Cheshire","E31000006","Non-metropolitan","Significantly Rural","HC","Support staff","Mixed",0]
["2018/19","Cheshire","E31000006","Non-metropolitan","Significantly Rural","HC","Support staff","White British or Irish",16]
["2018/19","Cheshire","E31000006","Non-metropolitan","Significantly Rural","HC","Wholetime firefighters","Asian or Asian British",0]
["2018/19","Cheshire","E31000006","Non-metropolitan","Significantly Rural","HC","Wholetime firefighters","Black or Black British",0]
["2018/19","Cheshire","E31000006","Non-metropolitan","Significantly Rural","HC","Wholetime firefighters","Chinese or other ethnicity",1]
["2018/19","Cheshire","E31000006","Non-metropolitan","Significantly Rural","HC","Wholetime firefighters","Ethnic origin not stated",4]
["2018/19","Cheshire","E31000006","Non-metropolitan","Significantly Rural","HC","Wholetime firefighters","Mixed",0]
["2018/19","Cheshire","E31000006","Non-metropolitan","Significantly Rural","HC","Wholetime firefighters","White British or Irish",49]
["2018/19","Cleveland","E31000007","Non-metropolitan","Predominantly Urban","HC","Fire control","Asian or Asian British",0]
["2018/19","Cleveland","E31000007","Non-metropolitan","Predominantly Urban","HC","Fire control","Black or Black British",0]
["2018/19","Cleveland","E31000007","Non-metropolitan","Predominantly Urban","HC","Fire control","Chinese or other ethnicity",0]
["2018/19","Cleveland","E31000007","Non-metropolitan","Predominantly Urban","HC","Fire control","Ethnic origin not stated",0]
["2018/19","Cleveland","E31000007","Non-metropolitan","Predominantly Urban","HC","Fire control","Mixed",0]
["2018/19","Cleveland","E31000007","Non-metropolitan","Predominantly Urban","HC","Fire control","White British or Irish",2]
["2018/19","Cleveland","E31000007","Non-metropolitan","Predominantly Urban","HC","On call firefighters","Asian or Asian British",0]
["2018/19","Cleveland","E31000007","Non-metropolitan","Predominantly Urban","HC","On call firefighters","Black or Black British",0]
["2018/19","Cleveland","E31000007","Non-metropolitan","Predominantly Urban","HC","On call firefighters","Chinese or other ethnicity",0]
["2018/19","Cleveland","E31000007","Non-metropolitan","Predominantly Urban","HC","On call firefighters","Ethnic origin not stated",0]
["2018/19","Cleveland","E31000007","Non-metropolitan","Predominantly Urban","HC","On call firefighters","Mixed",0]
["2018/19","Cleveland","E31000007","Non-metropolitan","Predominantly Urban","HC","On call firefighters","White British or Irish",13]
["2018/19","Cleveland","E31000007","Non-metropolitan","Predominantly Urban","HC","Support staff","Asian or Asian British",0]
["2018/19","Cleveland","E31000007","Non-metropolitan","Predominantly Urban","HC","Support staff","Black or Black British",0]
["2018/19","Cleveland","E31000007","Non-metropolitan","Predominantly Urban","HC","Support staff","Chinese or other ethnicity",0]
["2018/19","Cleveland","E31000007","Non-metropolitan","Predominantly Urban","HC","Support staff","Ethnic origin not stated",0]
["2018/19","Cleveland","E31000007","Non-metropolitan","Predominantly Urban","HC","Support staff","Mixed",0]
["2018/19","Cleveland","E31000007","Non-metropolitan","Predominantly Urban","HC","Support staff","White British or Irish",12]
["2018/19","Cleveland","E31000007","Non-metropolitan","Predominantly Urban","HC","Wholetime firefighters","Asian or Asian British",0]
["2018/19","Cleveland","E31000007","Non-metropolitan","Predominantly Urban","HC","Wholetime firefighters","Black or Black British",0]
["2018/19","Cleveland","E31000007","Non-metropolitan","Predominantly Urban","HC","Wholetime firefighters","Chinese or other ethnicity",0]
["2018/19","Cleveland","E31000007","Non-metropolitan","Predominantly Urban","HC","Wholetime firefighters","Ethnic origin not stated",0]
["2018/19","Cleveland","E31000007","Non-metropolitan","Predominantly Urban","HC","Wholetime firefighters","Mixed",0]
["2018/19","Cleveland","E31000007","Non-metropolitan","Predominantly Urban","HC","Wholetime firefighters","White British or Irish",36]
["2018/19","Cornwall","E31000008","Non-metropolitan","Predominantly Rural","HC","Fire control","Asian or Asian British",0]
["2018/19","Cornwall","E31000008","Non-metropolitan","Predominantly Rural","HC","Fire control","Black or Black British",0]
["2018/19","Cornwall","E31000008","Non-metropolitan","Predominantly Rural","HC","Fire control","Chinese or other ethnicity",0]
["2018/19","Cornwall","E31000008","Non-metropolitan","Predominantly Rural","HC","Fire control","Ethnic origin not stated",2]
["2018/19","Cornwall","E31000008","Non-metropolitan","Predominantly Rural","HC","Fire control","Mixed",0]
["2018/19","Cornwall","E31000008","Non-metropolitan","Predominantly Rural","HC","Fire control","White British or Irish",1]
["2018/19","Cornwall","E31000008","Non-metropolitan","Predominantly Rural","HC","On call firefighters","Asian or Asian British",0]
["2018/19","Cornwall","E31000008","Non-metropolitan","Predominantly Rural","HC","On call firefighters","Black or Black British",0]
["2018/19","Cornwall","E31000008","Non-metropolitan","Predominantly Rural","HC","On call firefighters","Chinese or other ethnicity",0]
["2018/19","Cornwall","E31000008","Non-metropolitan","Predominantly Rural","HC","On call firefighters","Ethnic origin not stated",41]
["2018/19","Cornwall","E31000008","Non-metropolitan","Predominantly Rural","HC","On call firefighters","Mixed",0]
["2018/19","Cornwall","E31000008","Non-metropolitan","Predominantly Rural","HC","On call firefighters","White British or Irish",18]
["2018/19","Cornwall","E31000008","Non-metropolitan","Predominantly Rural","HC","Support staff","Asian or Asian British",0]
["2018/19","Cornwall","E31000008","Non-metropolitan","Predominantly Rural","HC","Support staff","Black or Black British",0]
["2018/19","Cornwall","E31000008","Non-metropolitan","Predominantly Rural","HC","Support staff","Chinese or other ethnicity",0]
["2018/19","Cornwall","E31000008","Non-metropolitan","Predominantly Rural","HC","Support staff","Ethnic origin not stated",22]
["2018/19","Cornwall","E31000008","Non-metropolitan","Predominantly Rural","HC","Support staff","Mixed",0]
["2018/19","Cornwall","E31000008","Non-metropolitan","Predominantly Rural","HC","Support staff","White British or Irish",2]
["2018/19","Cornwall","E31000008","Non-metropolitan","Predominantly Rural","HC","Wholetime firefighters","Asian or Asian British",0]
["2018/19","Cornwall","E31000008","Non-metropolitan","Predominantly Rural","HC","Wholetime firefighters","Black or Black British",1]
["2018/19","Cornwall","E31000008","Non-metropolitan","Predominantly Rural","HC","Wholetime firefighters","Chinese or other ethnicity",0]
["2018/19","Cornwall","E31000008","Non-metropolitan","Predominantly Rural","HC","Wholetime firefighters","Ethnic origin not stated",1]
["2018/19","Cornwall","E31000008","Non-metropolitan","Predominantly Rural","HC","Wholetime firefighters","Mixed",0]
["2018/19","Cornwall","E31000008","Non-metropolitan","Predominantly Rural","HC","Wholetime firefighters","White British or Irish",10]
["2018/19","Cumbria","E31000009","Non-metropolitan","Predominantly Rural","HC","Fire control","Asian or Asian British",0]
["2018/19","Cumbria","E31000009","Non-metropolitan","Predominantly Rural","HC","Fire control","Black or Black British",0]
["2018/19","Cumbria","E31000009","Non-metropolitan","Predominantly Rural","HC","Fire control","Chinese or other ethnicity",0]
["2018/19","Cumbria","E31000009","Non-metropolitan","Predominantly Rural","HC","Fire control","Ethnic origin not stated",0]
["2018/19","Cumbria","E31000009","Non-metropolitan","Predominantly Rural","HC","Fire control","Mixed",0]
["2018/19","Cumbria","E31000009","Non-metropolitan","Predominantly Rural","HC","Fire control","White British or Irish",0]
["2018/19","Cumbria","E31000009","Non-metropolitan","Predominantly Rural","HC","On call firefighters","Asian or Asian British",0]
["2018/19","Cumbria","E31000009","Non-metropolitan","Predominantly Rural","HC","On call firefighters","Black or Black British",0]
["2018/19","Cumbria","E31000009","Non-metropolitan","Predominantly Rural","HC","On call firefighters","Chinese or other ethnicity",0]
["2018/19","Cumbria","E31000009","Non-metropolitan","Predominantly Rural","HC","On call firefighters","Ethnic origin not stated",15]
["2018/19","Cumbria","E31000009","Non-metropolitan","Predominantly Rural","HC","On call firefighters","Mixed",0]
["2018/19","Cumbria","E31000009","Non-metropolitan","Predominantly Rural","HC","On call firefighters","White British or Irish",2]
["2018/19","Cumbria","E31000009","Non-metropolitan","Predominantly Rural","HC","Support staff","Asian or Asian British",0]
["2018/19","Cumbria","E31000009","Non-metropolitan","Predominantly Rural","HC","Support staff","Black or Black British",0]
["2018/19","Cumbria","E31000009","Non-metropolitan","Predominantly Rural","HC","Support staff","Chinese or other ethnicity",0]
["2018/19","Cumbria","E31000009","Non-metropolitan","Predominantly Rural","HC","Support staff","Ethnic origin not stated",1]
["2018/19","Cumbria","E31000009","Non-metropolitan","Predominantly Rural","HC","Support staff","Mixed",0]
["2018/19","Cumbria","E31000009","Non-metropolitan","Predominantly Rural","HC","Support staff","White British or Irish",4]
["2018/19","Cumbria","E31000009","Non-metropolitan","Predominantly Rural","HC","Wholetime firefighters","Asian or Asian British",0]
["2018/19","Cumbria","E31000009","Non-metropolitan","Predominantly Rural","HC","Wholetime firefighters","Black or Black British",0]
["2018/19","Cumbria","E31000009","Non-metropolitan","Predominantly Rural","HC","Wholetime firefighters","Chinese or other ethnicity",0]
["2018/19","Cumbria","E31000009","Non-metropolitan","Predominantly Rural","HC","Wholetime firefighters","Ethnic origin not stated",6]
["2018/19","Cumbria","E31000009","Non-metropolitan","Predominantly Rural","HC","Wholetime firefighters","Mixed",0]
["2018/19","Cumbria","E31000009","Non-metropolitan","Predominantly Rural","HC","Wholetime firefighters","White British or Irish",2]
["2018/19","Derbyshire","E31000010","Non-metropolitan","Significantly Rural","HC","Fire control","Asian or Asian British",0]
["2018/19","Derbyshire","E31000010","Non-metropolitan","Significantly Rural","HC","Fire control","Black or Black British",0]
["2018/19","Derbyshire","E31000010","Non-metropolitan","Significantly Rural","HC","Fire control","Chinese or other ethnicity",0]
["2018/19","Derbyshire","E31000010","Non-metropolitan","Significantly Rural","HC","Fire control","Ethnic origin not stated",0]
["2018/19","Derbyshire","E31000010","Non-metropolitan","Significantly Rural","HC","Fire control","Mixed",0]
["2018/19","Derbyshire","E31000010","Non-metropolitan","Significantly Rural","HC","Fire control","White British or Irish",0]
["2018/19","Derbyshire","E31000010","Non-metropolitan","Significantly Rural","HC","On call firefighters","Asian or Asian British",0]
["2018/19","Derbyshire","E31000010","Non-metropolitan","Significantly Rural","HC","On call firefighters","Black or Black British",0]
["2018/19","Derbyshire","E31000010","Non-metropolitan","Significantly Rural","HC","On call firefighters","Chinese or other ethnicity",2]
["2018/19","Derbyshire","E31000010","Non-metropolitan","Significantly Rural","HC","On call firefighters","Ethnic origin not stated",0]
["2018/19","Derbyshire","E31000010","Non-metropolitan","Significantly Rural","HC","On call firefighters","Mixed",0]
["2018/19","Derbyshire","E31000010","Non-metropolitan","Significantly Rural","HC","On call firefighters","White British or Irish",28]
["2018/19","Derbyshire","E31000010","Non-metropolitan","Significantly Rural","HC","Support staff","Asian or Asian British",1]
["2018/19","Derbyshire","E31000010","Non-metropolitan","Significantly Rural","HC","Support staff","Black or Black British",0]
["2018/19","Derbyshire","E31000010","Non-metropolitan","Significantly Rural","HC","Support staff","Chinese or other ethnicity",3]
["2018/19","Derbyshire","E31000010","Non-metropolitan","Significantly Rural","HC","Support staff","Ethnic origin not stated",2]
["2018/19","Derbyshire","E31000010","Non-metropolitan","Significantly Rural","HC","Support staff","Mixed",0]
["2018/19","Derbyshire","E31000010","Non-metropolitan","Significantly Rural","HC","Support staff","White British or Irish",24]
["2018/19","Derbyshire","E31000010","Non-metropolitan","Significantly Rural","HC","Wholetime firefighters","Asian or Asian British",0]
["2018/19","Derbyshire","E31000010","Non-metropolitan","Significantly Rural","HC","Wholetime firefighters","Black or Black British",0]
["2018/19","Derbyshire","E31000010","Non-metropolitan","Significantly Rural","HC","Wholetime firefighters","Chinese or other ethnicity",1]
["2018/19","Derbyshire","E31000010","Non-metropolitan","Significantly Rural","HC","Wholetime firefighters","Ethnic origin not stated",2]
["2018/19","Derbyshire","E31000010","Non-metropolitan","Significantly Rural","HC","Wholetime firefighters","Mixed",0]
["2018/19","Derbyshire","E31000010","Non-metropolitan","Significantly Rural","HC","Wholetime firefighters","White British or Irish",28]
["2018/19","Devon and Somerset","E31000011","Non-metropolitan","Predominantly Rural","HC","Fire control","Asian or Asian British",0]
["2018/19","Devon and Somerset","E31000011","Non-metropolitan","Predominantly Rural","HC","Fire control","Black or Black British",0]
["2018/19","Devon and Somerset","E31000011","Non-metropolitan","Predominantly Rural","HC","Fire control","Chinese or other ethnicity",0]
["2018/19","Devon and Somerset","E31000011","Non-metropolitan","Predominantly Rural","HC","Fire control","Ethnic origin not stated",0]
["2018/19","Devon and Somerset","E31000011","Non-metropolitan","Predominantly Rural","HC","Fire control","Mixed",0]
["2018/19","Devon and Somerset","E31000011","Non-metropolitan","Predominantly Rural","HC","Fire control","White British or Irish",0]
["2018/19","Devon and Somerset","E31000011","Non-metropolitan","Predominantly Rural","HC","On call firefighters","Asian or Asian British",0]
["2018/19","Devon and Somerset","E31000011","Non-metropolitan","Predominantly Rural","HC","On call firefighters","Black or Black British",0]
["2018/19","Devon and Somerset","E31000011","Non-metropolitan","Predominantly Rural","HC","On call firefighters","Chinese or other ethnicity",3]
["2018/19","Devon and Somerset","E31000011","Non-metropolitan","Predominantly Rural","HC","On call firefighters","Ethnic origin not stated",3]
["2018/19","Devon and Somerset","E31000011","Non-metropolitan","Predominantly Rural","HC","On call firefighters","Mixed",2]
["2018/19","Devon and Somerset","E31000011","Non-metropolitan","Predominantly Rural","HC","On call firefighters","White British or Irish",121]
["2018/19","Devon and Somerset","E31000011","Non-metropolitan","Predominantly Rural","HC","Support staff","Asian or Asian British",0]
["2018/19","Devon and Somerset","E31000011","Non-metropolitan","Predominantly Rural","HC","Support staff","Black or Black British",0]
["2018/19","Devon and Somerset","E31000011","Non-metropolitan","Predominantly Rural","HC","Support staff","Chinese or other ethnicity",1]
["2018/19","Devon and Somerset","E31000011","Non-metropolitan","Predominantly Rural","HC","Support staff","Ethnic origin not stated",2]
["2018/19","Devon and Somerset","E31000011","Non-metropolitan","Predominantly Rural","HC","Support staff","Mixed",0]
["2018/19","Devon and Somerset","E31000011","Non-metropolitan","Predominantly Rural","HC","Support staff","White British or Irish",24]
["2018/19","Devon and Somerset","E31000011","Non-metropolitan","Predominantly Rural","HC","Wholetime firefighters","Asian or Asian British",0]
["2018/19","Devon and Somerset","E31000011","Non-metropolitan","Predominantly Rural","HC","Wholetime firefighters","Black or Black British",0]
["2018/19","Devon and Somerset","E31000011","Non-metropolitan","Predominantly Rural","HC","Wholetime firefighters","Chinese or other ethnicity",0]
["2018/19","Devon and Somerset","E31000011","Non-metropolitan","Predominantly Rural","HC","Wholetime firefighters","Ethnic origin not stated",4]
["2018/19","Devon and Somerset","E31000011","Non-metropolitan","Predominantly Rural","HC","Wholetime firefighters","Mixed",0]
["2018/19","Devon and Somerset","E31000011","Non-metropolitan","Predominantly Rural","HC","Wholetime firefighters","White British or Irish",4]
["2018/19","Dorset and Wiltshire","E31000047","Non-metropolitan","Significantly Rural","HC","Fire control","Asian or Asian British",0]
["2018/19","Dorset and Wiltshire","E31000047","Non-metropolitan","Significantly Rural","HC","Fire control","Black or Black British",0]
["2018/19","Dorset and Wiltshire","E31000047","Non-metropolitan","Significantly Rural","HC","Fire control","Chinese or other ethnicity",0]
["2018/19","Dorset and Wiltshire","E31000047","Non-metropolitan","Significantly Rural","HC","Fire control","Ethnic origin not stated",0]
["2018/19","Dorset and Wiltshire","E31000047","Non-metropolitan","Significantly Rural","HC","Fire control","Mixed",0]
["2018/19","Dorset and Wiltshire","E31000047","Non-metropolitan","Significantly Rural","HC","Fire control","White British or Irish",0]
["2018/19","Dorset and Wiltshire","E31000047","Non-metropolitan","Significantly Rural","HC","On call firefighters","Asian or Asian British",0]
["2018/19","Dorset and Wiltshire","E31000047","Non-metropolitan","Significantly Rural","HC","On call firefighters","Black or Black British",0]
["2018/19","Dorset and Wiltshire","E31000047","Non-metropolitan","Significantly Rural","HC","On call firefighters","Chinese or other ethnicity",3]
["2018/19","Dorset and Wiltshire","E31000047","Non-metropolitan","Significantly Rural","HC","On call firefighters","Ethnic origin not stated",7]
["2018/19","Dorset and Wiltshire","E31000047","Non-metropolitan","Significantly Rural","HC","On call firefighters","Mixed",0]
["2018/19","Dorset and Wiltshire","E31000047","Non-metropolitan","Significantly Rural","HC","On call firefighters","White British or Irish",57]
["2018/19","Dorset and Wiltshire","E31000047","Non-metropolitan","Significantly Rural","HC","Support staff","Asian or Asian British",0]
["2018/19","Dorset and Wiltshire","E31000047","Non-metropolitan","Significantly Rural","HC","Support staff","Black or Black British",0]
["2018/19","Dorset and Wiltshire","E31000047","Non-metropolitan","Significantly Rural","HC","Support staff","Chinese or other ethnicity",0]
["2018/19","Dorset and Wiltshire","E31000047","Non-metropolitan","Significantly Rural","HC","Support staff","Ethnic origin not stated",5]
["2018/19","Dorset and Wiltshire","E31000047","Non-metropolitan","Significantly Rural","HC","Support staff","Mixed",0]
["2018/19","Dorset and Wiltshire","E31000047","Non-metropolitan","Significantly Rural","HC","Support staff","White British or Irish",51]
["2018/19","Dorset and Wiltshire","E31000047","Non-metropolitan","Significantly Rural","HC","Wholetime firefighters","Asian or Asian British",0]
["2018/19","Dorset and Wiltshire","E31000047","Non-metropolitan","Significantly Rural","HC","Wholetime firefighters","Black or Black British",0]
["2018/19","Dorset and Wiltshire","E31000047","Non-metropolitan","Significantly Rural","HC","Wholetime firefighters","Chinese or other ethnicity",0]
["2018/19","Dorset and Wiltshire","E31000047","Non-metropolitan","Significantly Rural","HC","Wholetime firefighters","Ethnic origin not stated",22]
["2018/19","Dorset and Wiltshire","E31000047","Non-metropolitan","Significantly Rural","HC","Wholetime firefighters","Mixed",0]
["2018/19","Dorset and Wiltshire","E31000047","Non-metropolitan","Significantly Rural","HC","Wholetime firefighters","White British or Irish",10]
["2018/19","Durham","E31000013","Non-metropolitan","Predominantly Rural","HC","Fire control","Asian or Asian British",0]
["2018/19","Durham","E31000013","Non-metropolitan","Predominantly Rural","HC","Fire control","Black or Black British",0]
["2018/19","Durham","E31000013","Non-metropolitan","Predominantly Rural","HC","Fire control","Chinese or other ethnicity",0]
["2018/19","Durham","E31000013","Non-metropolitan","Predominantly Rural","HC","Fire control","Ethnic origin not stated",0]
["2018/19","Durham","E31000013","Non-metropolitan","Predominantly Rural","HC","Fire control","Mixed",0]
["2018/19","Durham","E31000013","Non-metropolitan","Predominantly Rural","HC","Fire control","White British or Irish",0]
["2018/19","Durham","E31000013","Non-metropolitan","Predominantly Rural","HC","On call firefighters","Asian or Asian British",0]
["2018/19","Durham","E31000013","Non-metropolitan","Predominantly Rural","HC","On call firefighters","Black or Black British",0]
["2018/19","Durham","E31000013","Non-metropolitan","Predominantly Rural","HC","On call firefighters","Chinese or other ethnicity",0]
["2018/19","Durham","E31000013","Non-metropolitan","Predominantly Rural","HC","On call firefighters","Ethnic origin not stated",16]
["2018/19","Durham","E31000013","Non-metropolitan","Predominantly Rural","HC","On call firefighters","Mixed",0]
["2018/19","Durham","E31000013","Non-metropolitan","Predominantly Rural","HC","On call firefighters","White British or Irish",6]
["2018/19","Durham","E31000013","Non-metropolitan","Predominantly Rural","HC","Support staff","Asian or Asian British",0]
["2018/19","Durham","E31000013","Non-metropolitan","Predominantly Rural","HC","Support staff","Black or Black British",0]
["2018/19","Durham","E31000013","Non-metropolitan","Predominantly Rural","HC","Support staff","Chinese or other ethnicity",0]
["2018/19","Durham","E31000013","Non-metropolitan","Predominantly Rural","HC","Support staff","Ethnic origin not stated",8]
["2018/19","Durham","E31000013","Non-metropolitan","Predominantly Rural","HC","Support staff","Mixed",0]
["2018/19","Durham","E31000013","Non-metropolitan","Predominantly Rural","HC","Support staff","White British or Irish",3]
["2018/19","Durham","E31000013","Non-metropolitan","Predominantly Rural","HC","Wholetime firefighters","Asian or Asian British",0]
["2018/19","Durham","E31000013","Non-metropolitan","Predominantly Rural","HC","Wholetime firefighters","Black or Black British",0]
["2018/19","Durham","E31000013","Non-metropolitan","Predominantly Rural","HC","Wholetime firefighters","Chinese or other ethnicity",0]
["2018/19","Durham","E31000013","Non-metropolitan","Predominantly Rural","HC","Wholetime firefighters","Ethnic origin not stated",0]
["2018/19","Durham","E31000013","Non-metropolitan","Predominantly Rural","HC","Wholetime firefighters","Mixed",0]
["2018/19","Durham","E31000013","Non-metropolitan","Predominantly Rural","HC","Wholetime firefighters","White British or Irish",0]
["2018/19","East Sussex","E31000014","Non-metropolitan","Significantly Rural","HC","Fire control","Asian or Asian British",0]
["2018/19","East Sussex","E31000014","Non-metropolitan","Significantly Rural","HC","Fire control","Black or Black British",0]
["2018/19","East Sussex","E31000014","Non-metropolitan","Significantly Rural","HC","Fire control","Chinese or other ethnicity",0]
["2018/19","East Sussex","E31000014","Non-metropolitan","Significantly Rural","HC","Fire control","Ethnic origin not stated",0]
["2018/19","East Sussex","E31000014","Non-metropolitan","Significantly Rural","HC","Fire control","Mixed",0]
["2018/19","East Sussex","E31000014","Non-metropolitan","Significantly Rural","HC","Fire control","White British or Irish",2]
["2018/19","East Sussex","E31000014","Non-metropolitan","Significantly Rural","HC","On call firefighters","Asian or Asian British",0]
["2018/19","East Sussex","E31000014","Non-metropolitan","Significantly Rural","HC","On call firefighters","Black or Black British",0]
["2018/19","East Sussex","E31000014","Non-metropolitan","Significantly Rural","HC","On call firefighters","Chinese or other ethnicity",1]
["2018/19","East Sussex","E31000014","Non-metropolitan","Significantly Rural","HC","On call firefighters","Ethnic origin not stated",0]
["2018/19","East Sussex","E31000014","Non-metropolitan","Significantly Rural","HC","On call firefighters","Mixed",1]
["2018/19","East Sussex","E31000014","Non-metropolitan","Significantly Rural","HC","On call firefighters","White British or Irish",25]
["2018/19","East Sussex","E31000014","Non-metropolitan","Significantly Rural","HC","Support staff","Asian or Asian British",0]
["2018/19","East Sussex","E31000014","Non-metropolitan","Significantly Rural","HC","Support staff","Black or Black British",1]
["2018/19","East Sussex","E31000014","Non-metropolitan","Significantly Rural","HC","Support staff","Chinese or other ethnicity",0]
["2018/19","East Sussex","E31000014","Non-metropolitan","Significantly Rural","HC","Support staff","Ethnic origin not stated",2]
["2018/19","East Sussex","E31000014","Non-metropolitan","Significantly Rural","HC","Support staff","Mixed",0]
["2018/19","East Sussex","E31000014","Non-metropolitan","Significantly Rural","HC","Support staff","White British or Irish",23]
["2018/19","East Sussex","E31000014","Non-metropolitan","Significantly Rural","HC","Wholetime firefighters","Asian or Asian British",0]
["2018/19","East Sussex","E31000014","Non-metropolitan","Significantly Rural","HC","Wholetime firefighters","Black or Black British",0]
["2018/19","East Sussex","E31000014","Non-metropolitan","Significantly Rural","HC","Wholetime firefighters","Chinese or other ethnicity",0]
["2018/19","East Sussex","E31000014","Non-metropolitan","Significantly Rural","HC","Wholetime firefighters","Ethnic origin not stated",0]
["2018/19","East Sussex","E31000014","Non-metropolitan","Significantly Rural","HC","Wholetime firefighters","Mixed",0]
["2018/19","East Sussex","E31000014","Non-metropolitan","Significantly Rural","HC","Wholetime firefighters","White British or Irish",2]
["2018/19","Essex","E31000015","Non-metropolitan","Significantly Rural","HC","Fire control","Asian or Asian British",0]
["2018/19","Essex","E31000015","Non-metropolitan","Significantly Rural","HC","Fire control","Black or Black British",0]
["2018/19","Essex","E31000015","Non-metropolitan","Significantly Rural","HC","Fire control","Chinese or other ethnicity",0]
["2018/19","Essex","E31000015","Non-metropolitan","Significantly Rural","HC","Fire control","Ethnic origin not stated",2]
["2018/19","Essex","E31000015","Non-metropolitan","Significantly Rural","HC","Fire control","Mixed",0]
["2018/19","Essex","E31000015","Non-metropolitan","Significantly Rural","HC","Fire control","White British or Irish",1]
["2018/19","Essex","E31000015","Non-metropolitan","Significantly Rural","HC","On call firefighters","Asian or Asian British",0]
["2018/19","Essex","E31000015","Non-metropolitan","Significantly Rural","HC","On call firefighters","Black or Black British",1]
["2018/19","Essex","E31000015","Non-metropolitan","Significantly Rural","HC","On call firefighters","Chinese or other ethnicity",2]
["2018/19","Essex","E31000015","Non-metropolitan","Significantly Rural","HC","On call firefighters","Ethnic origin not stated",29]
["2018/19","Essex","E31000015","Non-metropolitan","Significantly Rural","HC","On call firefighters","Mixed",0]
["2018/19","Essex","E31000015","Non-metropolitan","Significantly Rural","HC","On call firefighters","White British or Irish",30]
["2018/19","Essex","E31000015","Non-metropolitan","Significantly Rural","HC","Support staff","Asian or Asian British",0]
["2018/19","Essex","E31000015","Non-metropolitan","Significantly Rural","HC","Support staff","Black or Black British",0]
["2018/19","Essex","E31000015","Non-metropolitan","Significantly Rural","HC","Support staff","Chinese or other ethnicity",0]
["2018/19","Essex","E31000015","Non-metropolitan","Significantly Rural","HC","Support staff","Ethnic origin not stated",16]
["2018/19","Essex","E31000015","Non-metropolitan","Significantly Rural","HC","Support staff","Mixed",0]
["2018/19","Essex","E31000015","Non-metropolitan","Significantly Rural","HC","Support staff","White British or Irish",15]
["2018/19","Essex","E31000015","Non-metropolitan","Significantly Rural","HC","Wholetime firefighters","Asian or Asian British",1]
["2018/19","Essex","E31000015","Non-metropolitan","Significantly Rural","HC","Wholetime firefighters","Black or Black British",0]
["2018/19","Essex","E31000015","Non-metropolitan","Significantly Rural","HC","Wholetime firefighters","Chinese or other ethnicity",0]
["2018/19","Essex","E31000015","Non-metropolitan","Significantly Rural","HC","Wholetime firefighters","Ethnic origin not stated",23]
["2018/19","Essex","E31000015","Non-metropolitan","Significantly Rural","HC","Wholetime firefighters","Mixed",0]
["2018/19","Essex","E31000015","Non-metropolitan","Significantly Rural","HC","Wholetime firefighters","White British or Irish",33]
["2018/19","Gloucestershire","E31000016","Non-metropolitan","Significantly Rural","HC","Fire control","Asian or Asian British",0]
["2018/19","Gloucestershire","E31000016","Non-metropolitan","Significantly Rural","HC","Fire control","Black or Black British",0]
["2018/19","Gloucestershire","E31000016","Non-metropolitan","Significantly Rural","HC","Fire control","Chinese or other ethnicity",0]
["2018/19","Gloucestershire","E31000016","Non-metropolitan","Significantly Rural","HC","Fire control","Ethnic origin not stated",0]
["2018/19","Gloucestershire","E31000016","Non-metropolitan","Significantly Rural","HC","Fire control","Mixed",0]
["2018/19","Gloucestershire","E31000016","Non-metropolitan","Significantly Rural","HC","Fire control","White British or Irish",0]
["2018/19","Gloucestershire","E31000016","Non-metropolitan","Significantly Rural","HC","On call firefighters","Asian or Asian British",1]
["2018/19","Gloucestershire","E31000016","Non-metropolitan","Significantly Rural","HC","On call firefighters","Black or Black British",0]
["2018/19","Gloucestershire","E31000016","Non-metropolitan","Significantly Rural","HC","On call firefighters","Chinese or other ethnicity",2]
["2018/19","Gloucestershire","E31000016","Non-metropolitan","Significantly Rural","HC","On call firefighters","Ethnic origin not stated",21]
["2018/19","Gloucestershire","E31000016","Non-metropolitan","Significantly Rural","HC","On call firefighters","Mixed",0]
["2018/19","Gloucestershire","E31000016","Non-metropolitan","Significantly Rural","HC","On call firefighters","White British or Irish",27]
["2018/19","Gloucestershire","E31000016","Non-metropolitan","Significantly Rural","HC","Support staff","Asian or Asian British",0]
["2018/19","Gloucestershire","E31000016","Non-metropolitan","Significantly Rural","HC","Support staff","Black or Black British",0]
["2018/19","Gloucestershire","E31000016","Non-metropolitan","Significantly Rural","HC","Support staff","Chinese or other ethnicity",0]
["2018/19","Gloucestershire","E31000016","Non-metropolitan","Significantly Rural","HC","Support staff","Ethnic origin not stated",0]
["2018/19","Gloucestershire","E31000016","Non-metropolitan","Significantly Rural","HC","Support staff","Mixed",0]
["2018/19","Gloucestershire","E31000016","Non-metropolitan","Significantly Rural","HC","Support staff","White British or Irish",5]
["2018/19","Gloucestershire","E31000016","Non-metropolitan","Significantly Rural","HC","Wholetime firefighters","Asian or Asian British",0]
["2018/19","Gloucestershire","E31000016","Non-metropolitan","Significantly Rural","HC","Wholetime firefighters","Black or Black British",0]
["2018/19","Gloucestershire","E31000016","Non-metropolitan","Significantly Rural","HC","Wholetime firefighters","Chinese or other ethnicity",1]
["2018/19","Gloucestershire","E31000016","Non-metropolitan","Significantly Rural","HC","Wholetime firefighters","Ethnic origin not stated",0]
["2018/19","Gloucestershire","E31000016","Non-metropolitan","Significantly Rural","HC","Wholetime firefighters","Mixed",0]
["2018/19","Gloucestershire","E31000016","Non-metropolitan","Significantly Rural","HC","Wholetime firefighters","White British or Irish",6]
["2018/19","Greater London","E31000046","Metropolitan","Predominantly Urban","HC","Fire control","Asian or Asian British",0]
["2018/19","Greater London","E31000046","Metropolitan","Predominantly Urban","HC","Fire control","Black or Black British",0]
["2018/19","Greater London","E31000046","Metropolitan","Predominantly Urban","HC","Fire control","Chinese or other ethnicity",0]
["2018/19","Greater London","E31000046","Metropolitan","Predominantly Urban","HC","Fire control","Ethnic origin not stated",0]
["2018/19","Greater London","E31000046","Metropolitan","Predominantly Urban","HC","Fire control","Mixed",0]
["2018/19","Greater London","E31000046","Metropolitan","Predominantly Urban","HC","Fire control","White British or Irish",5]
["2018/19","Greater London","E31000046","Metropolitan","Predominantly Urban","HC","On call firefighters","Asian or Asian British",0]
["2018/19","Greater London","E31000046","Metropolitan","Predominantly Urban","HC","On call firefighters","Black or Black British",0]
["2018/19","Greater London","E31000046","Metropolitan","Predominantly Urban","HC","On call firefighters","Chinese or other ethnicity",0]
["2018/19","Greater London","E31000046","Metropolitan","Predominantly Urban","HC","On call firefighters","Ethnic origin not stated",0]
["2018/19","Greater London","E31000046","Metropolitan","Predominantly Urban","HC","On call firefighters","Mixed",0]
["2018/19","Greater London","E31000046","Metropolitan","Predominantly Urban","HC","On call firefighters","White British or Irish",0]
["2018/19","Greater London","E31000046","Metropolitan","Predominantly Urban","HC","Support staff","Asian or Asian British",7]
["2018/19","Greater London","E31000046","Metropolitan","Predominantly Urban","HC","Support staff","Black or Black British",14]
["2018/19","Greater London","E31000046","Metropolitan","Predominantly Urban","HC","Support staff","Chinese or other ethnicity",13]
["2018/19","Greater London","E31000046","Metropolitan","Predominantly Urban","HC","Support staff","Ethnic origin not stated",3]
["2018/19","Greater London","E31000046","Metropolitan","Predominantly Urban","HC","Support staff","Mixed",4]
["2018/19","Greater London","E31000046","Metropolitan","Predominantly Urban","HC","Support staff","White British or Irish",67]
["2018/19","Greater London","E31000046","Metropolitan","Predominantly Urban","HC","Wholetime firefighters","Asian or Asian British",2]
["2018/19","Greater London","E31000046","Metropolitan","Predominantly Urban","HC","Wholetime firefighters","Black or Black British",11]
["2018/19","Greater London","E31000046","Metropolitan","Predominantly Urban","HC","Wholetime firefighters","Chinese or other ethnicity",27]
["2018/19","Greater London","E31000046","Metropolitan","Predominantly Urban","HC","Wholetime firefighters","Ethnic origin not stated",12]
["2018/19","Greater London","E31000046","Metropolitan","Predominantly Urban","HC","Wholetime firefighters","Mixed",18]
["2018/19","Greater London","E31000046","Metropolitan","Predominantly Urban","HC","Wholetime firefighters","White British or Irish",358]
["2018/19","Greater Manchester","E31000040","Metropolitan","Predominantly Urban","HC","Fire control","Asian or Asian British",0]
["2018/19","Greater Manchester","E31000040","Metropolitan","Predominantly Urban","HC","Fire control","Black or Black British",0]
["2018/19","Greater Manchester","E31000040","Metropolitan","Predominantly Urban","HC","Fire control","Chinese or other ethnicity",0]
["2018/19","Greater Manchester","E31000040","Metropolitan","Predominantly Urban","HC","Fire control","Ethnic origin not stated",0]
["2018/19","Greater Manchester","E31000040","Metropolitan","Predominantly Urban","HC","Fire control","Mixed",0]
["2018/19","Greater Manchester","E31000040","Metropolitan","Predominantly Urban","HC","Fire control","White British or Irish",0]
["2018/19","Greater Manchester","E31000040","Metropolitan","Predominantly Urban","HC","On call firefighters","Asian or Asian British",0]
["2018/19","Greater Manchester","E31000040","Metropolitan","Predominantly Urban","HC","On call firefighters","Black or Black British",0]
["2018/19","Greater Manchester","E31000040","Metropolitan","Predominantly Urban","HC","On call firefighters","Chinese or other ethnicity",0]
["2018/19","Greater Manchester","E31000040","Metropolitan","Predominantly Urban","HC","On call firefighters","Ethnic origin not stated",0]
["2018/19","Greater Manchester","E31000040","Metropolitan","Predominantly Urban","HC","On call firefighters","Mixed",0]
["2018/19","Greater Manchester","E31000040","Metropolitan","Predominantly Urban","HC","On call firefighters","White British or Irish",0]
["2018/19","Greater Manchester","E31000040","Metropolitan","Predominantly Urban","HC","Support staff","Asian or Asian British",1]
["2018/19","Greater Manchester","E31000040","Metropolitan","Predominantly Urban","HC","Support staff","Black or Black British",0]
["2018/19","Greater Manchester","E31000040","Metropolitan","Predominantly Urban","HC","Support staff","Chinese or other ethnicity",1]
["2018/19","Greater Manchester","E31000040","Metropolitan","Predominantly Urban","HC","Support staff","Ethnic origin not stated",16]
["2018/19","Greater Manchester","E31000040","Metropolitan","Predominantly Urban","HC","Support staff","Mixed",0]
["2018/19","Greater Manchester","E31000040","Metropolitan","Predominantly Urban","HC","Support staff","White British or Irish",41]
["2018/19","Greater Manchester","E31000040","Metropolitan","Predominantly Urban","HC","Wholetime firefighters","Asian or Asian British",2]
["2018/19","Greater Manchester","E31000040","Metropolitan","Predominantly Urban","HC","Wholetime firefighters","Black or Black British",0]
["2018/19","Greater Manchester","E31000040","Metropolitan","Predominantly Urban","HC","Wholetime firefighters","Chinese or other ethnicity",2]
["2018/19","Greater Manchester","E31000040","Metropolitan","Predominantly Urban","HC","Wholetime firefighters","Ethnic origin not stated",67]
["2018/19","Greater Manchester","E31000040","Metropolitan","Predominantly Urban","HC","Wholetime firefighters","Mixed",4]
["2018/19","Greater Manchester","E31000040","Metropolitan","Predominantly Urban","HC","Wholetime firefighters","White British or Irish",50]
["2018/19","Hampshire and Isle of Wight","E31000048","Non-metropolitan","Significantly Rural","HC","Fire control","Asian or Asian British",0]
["2018/19","Hampshire and Isle of Wight","E31000048","Non-metropolitan","Significantly Rural","HC","Fire control","Black or Black British",0]
["2018/19","Hampshire and Isle of Wight","E31000048","Non-metropolitan","Significantly Rural","HC","Fire control","Chinese or other ethnicity",0]
["2018/19","Hampshire and Isle of Wight","E31000048","Non-metropolitan","Significantly Rural","HC","Fire control","Ethnic origin not stated",0]
["2018/19","Hampshire and Isle of Wight","E31000048","Non-metropolitan","Significantly Rural","HC","Fire control","Mixed",0]
["2018/19","Hampshire and Isle of Wight","E31000048","Non-metropolitan","Significantly Rural","HC","Fire control","White British or Irish",3]
["2018/19","Hampshire and Isle of Wight","E31000048","Non-metropolitan","Significantly Rural","HC","On call firefighters","Asian or Asian British",0]
["2018/19","Hampshire and Isle of Wight","E31000048","Non-metropolitan","Significantly Rural","HC","On call firefighters","Black or Black British",1]
["2018/19","Hampshire and Isle of Wight","E31000048","Non-metropolitan","Significantly Rural","HC","On call firefighters","Chinese or other ethnicity",4]
["2018/19","Hampshire and Isle of Wight","E31000048","Non-metropolitan","Significantly Rural","HC","On call firefighters","Ethnic origin not stated",5]
["2018/19","Hampshire and Isle of Wight","E31000048","Non-metropolitan","Significantly Rural","HC","On call firefighters","Mixed",0]
["2018/19","Hampshire and Isle of Wight","E31000048","Non-metropolitan","Significantly Rural","HC","On call firefighters","White British or Irish",109]
["2018/19","Hampshire and Isle of Wight","E31000048","Non-metropolitan","Significantly Rural","HC","Support staff","Asian or Asian British",0]
["2018/19","Hampshire and Isle of Wight","E31000048","Non-metropolitan","Significantly Rural","HC","Support staff","Black or Black British",0]
["2018/19","Hampshire and Isle of Wight","E31000048","Non-metropolitan","Significantly Rural","HC","Support staff","Chinese or other ethnicity",0]
["2018/19","Hampshire and Isle of Wight","E31000048","Non-metropolitan","Significantly Rural","HC","Support staff","Ethnic origin not stated",2]
["2018/19","Hampshire and Isle of Wight","E31000048","Non-metropolitan","Significantly Rural","HC","Support staff","Mixed",0]
["2018/19","Hampshire and Isle of Wight","E31000048","Non-metropolitan","Significantly Rural","HC","Support staff","White British or Irish",28]
["2018/19","Hampshire and Isle of Wight","E31000048","Non-metropolitan","Significantly Rural","HC","Wholetime firefighters","Asian or Asian British",0]
["2018/19","Hampshire and Isle of Wight","E31000048","Non-metropolitan","Significantly Rural","HC","Wholetime firefighters","Black or Black British",0]
["2018/19","Hampshire and Isle of Wight","E31000048","Non-metropolitan","Significantly Rural","HC","Wholetime firefighters","Chinese or other ethnicity",0]
["2018/19","Hampshire and Isle of Wight","E31000048","Non-metropolitan","Significantly Rural","HC","Wholetime firefighters","Ethnic origin not stated",22]
["2018/19","Hampshire and Isle of Wight","E31000048","Non-metropolitan","Significantly Rural","HC","Wholetime firefighters","Mixed",0]
["2018/19","Hampshire and Isle of Wight","E31000048","Non-metropolitan","Significantly Rural","HC","Wholetime firefighters","White British or Irish",37]
["2018/19","Hereford and Worcester","E31000018","Non-metropolitan","Significantly Rural","HC","Fire control","Asian or Asian British",0]
["2018/19","Hereford and Worcester","E31000018","Non-metropolitan","Significantly Rural","HC","Fire control","Black or Black British",0]
["2018/19","Hereford and Worcester","E31000018","Non-metropolitan","Significantly Rural","HC","Fire control","Chinese or other ethnicity",0]
["2018/19","Hereford and Worcester","E31000018","Non-metropolitan","Significantly Rural","HC","Fire control","Ethnic origin not stated",0]
["2018/19","Hereford and Worcester","E31000018","Non-metropolitan","Significantly Rural","HC","Fire control","Mixed",0]
["2018/19","Hereford and Worcester","E31000018","Non-metropolitan","Significantly Rural","HC","Fire control","White British or Irish",2]
["2018/19","Hereford and Worcester","E31000018","Non-metropolitan","Significantly Rural","HC","On call firefighters","Asian or Asian British",0]
["2018/19","Hereford and Worcester","E31000018","Non-metropolitan","Significantly Rural","HC","On call firefighters","Black or Black British",0]
["2018/19","Hereford and Worcester","E31000018","Non-metropolitan","Significantly Rural","HC","On call firefighters","Chinese or other ethnicity",2]
["2018/19","Hereford and Worcester","E31000018","Non-metropolitan","Significantly Rural","HC","On call firefighters","Ethnic origin not stated",9]
["2018/19","Hereford and Worcester","E31000018","Non-metropolitan","Significantly Rural","HC","On call firefighters","Mixed",0]
["2018/19","Hereford and Worcester","E31000018","Non-metropolitan","Significantly Rural","HC","On call firefighters","White British or Irish",52]
["2018/19","Hereford and Worcester","E31000018","Non-metropolitan","Significantly Rural","HC","Support staff","Asian or Asian British",0]
["2018/19","Hereford and Worcester","E31000018","Non-metropolitan","Significantly Rural","HC","Support staff","Black or Black British",1]
["2018/19","Hereford and Worcester","E31000018","Non-metropolitan","Significantly Rural","HC","Support staff","Chinese or other ethnicity",2]
["2018/19","Hereford and Worcester","E31000018","Non-metropolitan","Significantly Rural","HC","Support staff","Ethnic origin not stated",3]
["2018/19","Hereford and Worcester","E31000018","Non-metropolitan","Significantly Rural","HC","Support staff","Mixed",0]
["2018/19","Hereford and Worcester","E31000018","Non-metropolitan","Significantly Rural","HC","Support staff","White British or Irish",19]
["2018/19","Hereford and Worcester","E31000018","Non-metropolitan","Significantly Rural","HC","Wholetime firefighters","Asian or Asian British",0]
["2018/19","Hereford and Worcester","E31000018","Non-metropolitan","Significantly Rural","HC","Wholetime firefighters","Black or Black British",0]
["2018/19","Hereford and Worcester","E31000018","Non-metropolitan","Significantly Rural","HC","Wholetime firefighters","Chinese or other ethnicity",0]
["2018/19","Hereford and Worcester","E31000018","Non-metropolitan","Significantly Rural","HC","Wholetime firefighters","Ethnic origin not stated",1]
["2018/19","Hereford and Worcester","E31000018","Non-metropolitan","Significantly Rural","HC","Wholetime firefighters","Mixed",1]
["2018/19","Hereford and Worcester","E31000018","Non-metropolitan","Significantly Rural","HC","Wholetime firefighters","White British or Irish",23]
["2018/19","Hertfordshire","E31000019","Non-metropolitan","Predominantly Urban","HC","Fire control","Asian or Asian British",0]
["2018/19","Hertfordshire","E31000019","Non-metropolitan","Predominantly Urban","HC","Fire control","Black or Black British",0]
["2018/19","Hertfordshire","E31000019","Non-metropolitan","Predominantly Urban","HC","Fire control","Chinese or other ethnicity",0]
["2018/19","Hertfordshire","E31000019","Non-metropolitan","Predominantly Urban","HC","Fire control","Ethnic origin not stated",0]
["2018/19","Hertfordshire","E31000019","Non-metropolitan","Predominantly Urban","HC","Fire control","Mixed",0]
["2018/19","Hertfordshire","E31000019","Non-metropolitan","Predominantly Urban","HC","Fire control","White British or Irish",0]
["2018/19","Hertfordshire","E31000019","Non-metropolitan","Predominantly Urban","HC","On call firefighters","Asian or Asian British",0]
["2018/19","Hertfordshire","E31000019","Non-metropolitan","Predominantly Urban","HC","On call firefighters","Black or Black British",0]
["2018/19","Hertfordshire","E31000019","Non-metropolitan","Predominantly Urban","HC","On call firefighters","Chinese or other ethnicity",0]
["2018/19","Hertfordshire","E31000019","Non-metropolitan","Predominantly Urban","HC","On call firefighters","Ethnic origin not stated",1]
["2018/19","Hertfordshire","E31000019","Non-metropolitan","Predominantly Urban","HC","On call firefighters","Mixed",0]
["2018/19","Hertfordshire","E31000019","Non-metropolitan","Predominantly Urban","HC","On call firefighters","White British or Irish",21]
["2018/19","Hertfordshire","E31000019","Non-metropolitan","Predominantly Urban","HC","Support staff","Asian or Asian British",0]
["2018/19","Hertfordshire","E31000019","Non-metropolitan","Predominantly Urban","HC","Support staff","Black or Black British",1]
["2018/19","Hertfordshire","E31000019","Non-metropolitan","Predominantly Urban","HC","Support staff","Chinese or other ethnicity",0]
["2018/19","Hertfordshire","E31000019","Non-metropolitan","Predominantly Urban","HC","Support staff","Ethnic origin not stated",0]
["2018/19","Hertfordshire","E31000019","Non-metropolitan","Predominantly Urban","HC","Support staff","Mixed",1]
["2018/19","Hertfordshire","E31000019","Non-metropolitan","Predominantly Urban","HC","Support staff","White British or Irish",10]
["2018/19","Hertfordshire","E31000019","Non-metropolitan","Predominantly Urban","HC","Wholetime firefighters","Asian or Asian British",0]
["2018/19","Hertfordshire","E31000019","Non-metropolitan","Predominantly Urban","HC","Wholetime firefighters","Black or Black British",0]
["2018/19","Hertfordshire","E31000019","Non-metropolitan","Predominantly Urban","HC","Wholetime firefighters","Chinese or other ethnicity",0]
["2018/19","Hertfordshire","E31000019","Non-metropolitan","Predominantly Urban","HC","Wholetime firefighters","Ethnic origin not stated",0]
["2018/19","Hertfordshire","E31000019","Non-metropolitan","Predominantly Urban","HC","Wholetime firefighters","Mixed",2]
["2018/19","Hertfordshire","E31000019","Non-metropolitan","Predominantly Urban","HC","Wholetime firefighters","White British or Irish",24]
["2018/19","Humberside","E31000020","Non-metropolitan","Significantly Rural","HC","Fire control","Asian or Asian British",0]
["2018/19","Humberside","E31000020","Non-metropolitan","Significantly Rural","HC","Fire control","Black or Black British",0]
["2018/19","Humberside","E31000020","Non-metropolitan","Significantly Rural","HC","Fire control","Chinese or other ethnicity",0]
["2018/19","Humberside","E31000020","Non-metropolitan","Significantly Rural","HC","Fire control","Ethnic origin not stated",0]
["2018/19","Humberside","E31000020","Non-metropolitan","Significantly Rural","HC","Fire control","Mixed",0]
["2018/19","Humberside","E31000020","Non-metropolitan","Significantly Rural","HC","Fire control","White British or Irish",4]
["2018/19","Humberside","E31000020","Non-metropolitan","Significantly Rural","HC","On call firefighters","Asian or Asian British",0]
["2018/19","Humberside","E31000020","Non-metropolitan","Significantly Rural","HC","On call firefighters","Black or Black British",0]
["2018/19","Humberside","E31000020","Non-metropolitan","Significantly Rural","HC","On call firefighters","Chinese or other ethnicity",2]
["2018/19","Humberside","E31000020","Non-metropolitan","Significantly Rural","HC","On call firefighters","Ethnic origin not stated",0]
["2018/19","Humberside","E31000020","Non-metropolitan","Significantly Rural","HC","On call firefighters","Mixed",0]
["2018/19","Humberside","E31000020","Non-metropolitan","Significantly Rural","HC","On call firefighters","White British or Irish",29]
["2018/19","Humberside","E31000020","Non-metropolitan","Significantly Rural","HC","Support staff","Asian or Asian British",1]
["2018/19","Humberside","E31000020","Non-metropolitan","Significantly Rural","HC","Support staff","Black or Black British",0]
["2018/19","Humberside","E31000020","Non-metropolitan","Significantly Rural","HC","Support staff","Chinese or other ethnicity",0]
["2018/19","Humberside","E31000020","Non-metropolitan","Significantly Rural","HC","Support staff","Ethnic origin not stated",0]
["2018/19","Humberside","E31000020","Non-metropolitan","Significantly Rural","HC","Support staff","Mixed",0]
["2018/19","Humberside","E31000020","Non-metropolitan","Significantly Rural","HC","Support staff","White British or Irish",17]
["2018/19","Humberside","E31000020","Non-metropolitan","Significantly Rural","HC","Wholetime firefighters","Asian or Asian British",0]
["2018/19","Humberside","E31000020","Non-metropolitan","Significantly Rural","HC","Wholetime firefighters","Black or Black British",0]
["2018/19","Humberside","E31000020","Non-metropolitan","Significantly Rural","HC","Wholetime firefighters","Chinese or other ethnicity",1]
["2018/19","Humberside","E31000020","Non-metropolitan","Significantly Rural","HC","Wholetime firefighters","Ethnic origin not stated",0]
["2018/19","Humberside","E31000020","Non-metropolitan","Significantly Rural","HC","Wholetime firefighters","Mixed",0]
["2018/19","Humberside","E31000020","Non-metropolitan","Significantly Rural","HC","Wholetime firefighters","White British or Irish",21]
["2018/19","Isles Of Scilly","E31000039","Non-metropolitan","Predominantly Rural","HC","Fire control","Asian or Asian British",0]
["2018/19","Isles Of Scilly","E31000039","Non-metropolitan","Predominantly Rural","HC","Fire control","Black or Black British",0]
["2018/19","Isles Of Scilly","E31000039","Non-metropolitan","Predominantly Rural","HC","Fire control","Chinese or other ethnicity",0]
["2018/19","Isles Of Scilly","E31000039","Non-metropolitan","Predominantly Rural","HC","Fire control","Ethnic origin not stated",0]
["2018/19","Isles Of Scilly","E31000039","Non-metropolitan","Predominantly Rural","HC","Fire control","Mixed",0]
["2018/19","Isles Of Scilly","E31000039","Non-metropolitan","Predominantly Rural","HC","Fire control","White British or Irish",0]
["2018/19","Isles Of Scilly","E31000039","Non-metropolitan","Predominantly Rural","HC","On call firefighters","Asian or Asian British",0]
["2018/19","Isles Of Scilly","E31000039","Non-metropolitan","Predominantly Rural","HC","On call firefighters","Black or Black British",1]
["2018/19","Isles Of Scilly","E31000039","Non-metropolitan","Predominantly Rural","HC","On call firefighters","Chinese or other ethnicity",0]
["2018/19","Isles Of Scilly","E31000039","Non-metropolitan","Predominantly Rural","HC","On call firefighters","Ethnic origin not stated",0]
["2018/19","Isles Of Scilly","E31000039","Non-metropolitan","Predominantly Rural","HC","On call firefighters","Mixed",0]
["2018/19","Isles Of Scilly","E31000039","Non-metropolitan","Predominantly Rural","HC","On call firefighters","White British or Irish",2]
["2018/19","Isles Of Scilly","E31000039","Non-metropolitan","Predominantly Rural","HC","Support staff","Asian or Asian British",0]
["2018/19","Isles Of Scilly","E31000039","Non-metropolitan","Predominantly Rural","HC","Support staff","Black or Black British",0]
["2018/19","Isles Of Scilly","E31000039","Non-metropolitan","Predominantly Rural","HC","Support staff","Chinese or other ethnicity",0]
["2018/19","Isles Of Scilly","E31000039","Non-metropolitan","Predominantly Rural","HC","Support staff","Ethnic origin not stated",0]
["2018/19","Isles Of Scilly","E31000039","Non-metropolitan","Predominantly Rural","HC","Support staff","Mixed",0]
["2018/19","Isles Of Scilly","E31000039","Non-metropolitan","Predominantly Rural","HC","Support staff","White British or Irish",1]
["2018/19","Isles Of Scilly","E31000039","Non-metropolitan","Predominantly Rural","HC","Wholetime firefighters","Asian or Asian British",0]
["2018/19","Isles Of Scilly","E31000039","Non-metropolitan","Predominantly Rural","HC","Wholetime firefighters","Black or Black British",0]
["2018/19","Isles Of Scilly","E31000039","Non-metropolitan","Predominantly Rural","HC","Wholetime firefighters","Chinese or other ethnicity",0]
["2018/19","Isles Of Scilly","E31000039","Non-metropolitan","Predominantly Rural","HC","Wholetime firefighters","Ethnic origin not stated",0]
["2018/19","Isles Of Scilly","E31000039","Non-metropolitan","Predominantly Rural","HC","Wholetime firefighters","Mixed",0]
["2018/19","Isles Of Scilly","E31000039","Non-metropolitan","Predominantly Rural","HC","Wholetime firefighters","White British or Irish",0]
["2018/19","Kent","E31000022","Non-metropolitan","Significantly Rural","HC","Fire control","Asian or Asian British",0]
["2018/19","Kent","E31000022","Non-metropolitan","Significantly Rural","HC","Fire control","Black or Black British",0]
["2018/19","Kent","E31000022","Non-metropolitan","Significantly Rural","HC","Fire control","Chinese or other ethnicity",0]
["2018/19","Kent","E31000022","Non-metropolitan","Significantly Rural","HC","Fire control","Ethnic origin not stated",1]
["2018/19","Kent","E31000022","Non-metropolitan","Significantly Rural","HC","Fire control","Mixed",0]
["2018/19","Kent","E31000022","Non-metropolitan","Significantly Rural","HC","Fire control","White British or Irish",0]
["2018/19","Kent","E31000022","Non-metropolitan","Significantly Rural","HC","On call firefighters","Asian or Asian British",0]
["2018/19","Kent","E31000022","Non-metropolitan","Significantly Rural","HC","On call firefighters","Black or Black British",0]
["2018/19","Kent","E31000022","Non-metropolitan","Significantly Rural","HC","On call firefighters","Chinese or other ethnicity",0]
["2018/19","Kent","E31000022","Non-metropolitan","Significantly Rural","HC","On call firefighters","Ethnic origin not stated",87]
["2018/19","Kent","E31000022","Non-metropolitan","Significantly Rural","HC","On call firefighters","Mixed",0]
["2018/19","Kent","E31000022","Non-metropolitan","Significantly Rural","HC","On call firefighters","White British or Irish",15]
["2018/19","Kent","E31000022","Non-metropolitan","Significantly Rural","HC","Support staff","Asian or Asian British",0]
["2018/19","Kent","E31000022","Non-metropolitan","Significantly Rural","HC","Support staff","Black or Black British",0]
["2018/19","Kent","E31000022","Non-metropolitan","Significantly Rural","HC","Support staff","Chinese or other ethnicity",0]
["2018/19","Kent","E31000022","Non-metropolitan","Significantly Rural","HC","Support staff","Ethnic origin not stated",29]
["2018/19","Kent","E31000022","Non-metropolitan","Significantly Rural","HC","Support staff","Mixed",0]
["2018/19","Kent","E31000022","Non-metropolitan","Significantly Rural","HC","Support staff","White British or Irish",11]
["2018/19","Kent","E31000022","Non-metropolitan","Significantly Rural","HC","Wholetime firefighters","Asian or Asian British",0]
["2018/19","Kent","E31000022","Non-metropolitan","Significantly Rural","HC","Wholetime firefighters","Black or Black British",0]
["2018/19","Kent","E31000022","Non-metropolitan","Significantly Rural","HC","Wholetime firefighters","Chinese or other ethnicity",0]
["2018/19","Kent","E31000022","Non-metropolitan","Significantly Rural","HC","Wholetime firefighters","Ethnic origin not stated",20]
["2018/19","Kent","E31000022","Non-metropolitan","Significantly Rural","HC","Wholetime firefighters","Mixed",0]
["2018/19","Kent","E31000022","Non-metropolitan","Significantly Rural","HC","Wholetime firefighters","White British or Irish",13]
["2018/19","Lancashire","E31000023","Non-metropolitan","Predominantly Urban","HC","Fire control","Asian or Asian British",0]
["2018/19","Lancashire","E31000023","Non-metropolitan","Predominantly Urban","HC","Fire control","Black or Black British",0]
["2018/19","Lancashire","E31000023","Non-metropolitan","Predominantly Urban","HC","Fire control","Chinese or other ethnicity",0]
["2018/19","Lancashire","E31000023","Non-metropolitan","Predominantly Urban","HC","Fire control","Ethnic origin not stated",0]
["2018/19","Lancashire","E31000023","Non-metropolitan","Predominantly Urban","HC","Fire control","Mixed",0]
["2018/19","Lancashire","E31000023","Non-metropolitan","Predominantly Urban","HC","Fire control","White British or Irish",0]
["2018/19","Lancashire","E31000023","Non-metropolitan","Predominantly Urban","HC","On call firefighters","Asian or Asian British",1]
["2018/19","Lancashire","E31000023","Non-metropolitan","Predominantly Urban","HC","On call firefighters","Black or Black British",0]
["2018/19","Lancashire","E31000023","Non-metropolitan","Predominantly Urban","HC","On call firefighters","Chinese or other ethnicity",1]
["2018/19","Lancashire","E31000023","Non-metropolitan","Predominantly Urban","HC","On call firefighters","Ethnic origin not stated",7]
["2018/19","Lancashire","E31000023","Non-metropolitan","Predominantly Urban","HC","On call firefighters","Mixed",0]
["2018/19","Lancashire","E31000023","Non-metropolitan","Predominantly Urban","HC","On call firefighters","White British or Irish",63]
["2018/19","Lancashire","E31000023","Non-metropolitan","Predominantly Urban","HC","Support staff","Asian or Asian British",2]
["2018/19","Lancashire","E31000023","Non-metropolitan","Predominantly Urban","HC","Support staff","Black or Black British",0]
["2018/19","Lancashire","E31000023","Non-metropolitan","Predominantly Urban","HC","Support staff","Chinese or other ethnicity",1]
["2018/19","Lancashire","E31000023","Non-metropolitan","Predominantly Urban","HC","Support staff","Ethnic origin not stated",0]
["2018/19","Lancashire","E31000023","Non-metropolitan","Predominantly Urban","HC","Support staff","Mixed",0]
["2018/19","Lancashire","E31000023","Non-metropolitan","Predominantly Urban","HC","Support staff","White British or Irish",19]
["2018/19","Lancashire","E31000023","Non-metropolitan","Predominantly Urban","HC","Wholetime firefighters","Asian or Asian British",1]
["2018/19","Lancashire","E31000023","Non-metropolitan","Predominantly Urban","HC","Wholetime firefighters","Black or Black British",0]
["2018/19","Lancashire","E31000023","Non-metropolitan","Predominantly Urban","HC","Wholetime firefighters","Chinese or other ethnicity",1]
["2018/19","Lancashire","E31000023","Non-metropolitan","Predominantly Urban","HC","Wholetime firefighters","Ethnic origin not stated",0]
["2018/19","Lancashire","E31000023","Non-metropolitan","Predominantly Urban","HC","Wholetime firefighters","Mixed",3]
["2018/19","Lancashire","E31000023","Non-metropolitan","Predominantly Urban","HC","Wholetime firefighters","White British or Irish",50]
["2018/19","Leicestershire","E31000024","Non-metropolitan","Significantly Rural","HC","Fire control","Asian or Asian British",0]
["2018/19","Leicestershire","E31000024","Non-metropolitan","Significantly Rural","HC","Fire control","Black or Black British",0]
["2018/19","Leicestershire","E31000024","Non-metropolitan","Significantly Rural","HC","Fire control","Chinese or other ethnicity",0]
["2018/19","Leicestershire","E31000024","Non-metropolitan","Significantly Rural","HC","Fire control","Ethnic origin not stated",0]
["2018/19","Leicestershire","E31000024","Non-metropolitan","Significantly Rural","HC","Fire control","Mixed",0]
["2018/19","Leicestershire","E31000024","Non-metropolitan","Significantly Rural","HC","Fire control","White British or Irish",0]
["2018/19","Leicestershire","E31000024","Non-metropolitan","Significantly Rural","HC","On call firefighters","Asian or Asian British",0]
["2018/19","Leicestershire","E31000024","Non-metropolitan","Significantly Rural","HC","On call firefighters","Black or Black British",0]
["2018/19","Leicestershire","E31000024","Non-metropolitan","Significantly Rural","HC","On call firefighters","Chinese or other ethnicity",0]
["2018/19","Leicestershire","E31000024","Non-metropolitan","Significantly Rural","HC","On call firefighters","Ethnic origin not stated",12]
["2018/19","Leicestershire","E31000024","Non-metropolitan","Significantly Rural","HC","On call firefighters","Mixed",1]
["2018/19","Leicestershire","E31000024","Non-metropolitan","Significantly Rural","HC","On call firefighters","White British or Irish",20]
["2018/19","Leicestershire","E31000024","Non-metropolitan","Significantly Rural","HC","Support staff","Asian or Asian British",0]
["2018/19","Leicestershire","E31000024","Non-metropolitan","Significantly Rural","HC","Support staff","Black or Black British",0]
["2018/19","Leicestershire","E31000024","Non-metropolitan","Significantly Rural","HC","Support staff","Chinese or other ethnicity",0]
["2018/19","Leicestershire","E31000024","Non-metropolitan","Significantly Rural","HC","Support staff","Ethnic origin not stated",0]
["2018/19","Leicestershire","E31000024","Non-metropolitan","Significantly Rural","HC","Support staff","Mixed",0]
["2018/19","Leicestershire","E31000024","Non-metropolitan","Significantly Rural","HC","Support staff","White British or Irish",9]
["2018/19","Leicestershire","E31000024","Non-metropolitan","Significantly Rural","HC","Wholetime firefighters","Asian or Asian British",0]
["2018/19","Leicestershire","E31000024","Non-metropolitan","Significantly Rural","HC","Wholetime firefighters","Black or Black British",0]
["2018/19","Leicestershire","E31000024","Non-metropolitan","Significantly Rural","HC","Wholetime firefighters","Chinese or other ethnicity",0]
["2018/19","Leicestershire","E31000024","Non-metropolitan","Significantly Rural","HC","Wholetime firefighters","Ethnic origin not stated",2]
["2018/19","Leicestershire","E31000024","Non-metropolitan","Significantly Rural","HC","Wholetime firefighters","Mixed",0]
["2018/19","Leicestershire","E31000024","Non-metropolitan","Significantly Rural","HC","Wholetime firefighters","White British or Irish",6]
["2018/19","Lincolnshire","E31000025","Non-metropolitan","Predominantly Rural","HC","Fire control","Asian or Asian British",0]
["2018/19","Lincolnshire","E31000025","Non-metropolitan","Predominantly Rural","HC","Fire control","Black or Black British",0]
["2018/19","Lincolnshire","E31000025","Non-metropolitan","Predominantly Rural","HC","Fire control","Chinese or other ethnicity",0]
["2018/19","Lincolnshire","E31000025","Non-metropolitan","Predominantly Rural","HC","Fire control","Ethnic origin not stated",0]
["2018/19","Lincolnshire","E31000025","Non-metropolitan","Predominantly Rural","HC","Fire control","Mixed",0]
["2018/19","Lincolnshire","E31000025","Non-metropolitan","Predominantly Rural","HC","Fire control","White British or Irish",4]
["2018/19","Lincolnshire","E31000025","Non-metropolitan","Predominantly Rural","HC","On call firefighters","Asian or Asian British",0]
["2018/19","Lincolnshire","E31000025","Non-metropolitan","Predominantly Rural","HC","On call firefighters","Black or Black British",0]
["2018/19","Lincolnshire","E31000025","Non-metropolitan","Predominantly Rural","HC","On call firefighters","Chinese or other ethnicity",3]
["2018/19","Lincolnshire","E31000025","Non-metropolitan","Predominantly Rural","HC","On call firefighters","Ethnic origin not stated",1]
["2018/19","Lincolnshire","E31000025","Non-metropolitan","Predominantly Rural","HC","On call firefighters","Mixed",0]
["2018/19","Lincolnshire","E31000025","Non-metropolitan","Predominantly Rural","HC","On call firefighters","White British or Irish",49]
["2018/19","Lincolnshire","E31000025","Non-metropolitan","Predominantly Rural","HC","Support staff","Asian or Asian British",0]
["2018/19","Lincolnshire","E31000025","Non-metropolitan","Predominantly Rural","HC","Support staff","Black or Black British",1]
["2018/19","Lincolnshire","E31000025","Non-metropolitan","Predominantly Rural","HC","Support staff","Chinese or other ethnicity",0]
["2018/19","Lincolnshire","E31000025","Non-metropolitan","Predominantly Rural","HC","Support staff","Ethnic origin not stated",1]
["2018/19","Lincolnshire","E31000025","Non-metropolitan","Predominantly Rural","HC","Support staff","Mixed",0]
["2018/19","Lincolnshire","E31000025","Non-metropolitan","Predominantly Rural","HC","Support staff","White British or Irish",8]
["2018/19","Lincolnshire","E31000025","Non-metropolitan","Predominantly Rural","HC","Wholetime firefighters","Asian or Asian British",0]
["2018/19","Lincolnshire","E31000025","Non-metropolitan","Predominantly Rural","HC","Wholetime firefighters","Black or Black British",0]
["2018/19","Lincolnshire","E31000025","Non-metropolitan","Predominantly Rural","HC","Wholetime firefighters","Chinese or other ethnicity",0]
["2018/19","Lincolnshire","E31000025","Non-metropolitan","Predominantly Rural","HC","Wholetime firefighters","Ethnic origin not stated",0]
["2018/19","Lincolnshire","E31000025","Non-metropolitan","Predominantly Rural","HC","Wholetime firefighters","Mixed",1]
["2018/19","Lincolnshire","E31000025","Non-metropolitan","Predominantly Rural","HC","Wholetime firefighters","White British or Irish",12]
["2018/19","Merseyside","E31000041","Metropolitan","Predominantly Urban","HC","Fire control","Asian or Asian British",0]
["2018/19","Merseyside","E31000041","Metropolitan","Predominantly Urban","HC","Fire control","Black or Black British",0]
["2018/19","Merseyside","E31000041","Metropolitan","Predominantly Urban","HC","Fire control","Chinese or other ethnicity",0]
["2018/19","Merseyside","E31000041","Metropolitan","Predominantly Urban","HC","Fire control","Ethnic origin not stated",0]
["2018/19","Merseyside","E31000041","Metropolitan","Predominantly Urban","HC","Fire control","Mixed",0]
["2018/19","Merseyside","E31000041","Metropolitan","Predominantly Urban","HC","Fire control","White British or Irish",7]
["2018/19","Merseyside","E31000041","Metropolitan","Predominantly Urban","HC","On call firefighters","Asian or Asian British",0]
["2018/19","Merseyside","E31000041","Metropolitan","Predominantly Urban","HC","On call firefighters","Black or Black British",0]
["2018/19","Merseyside","E31000041","Metropolitan","Predominantly Urban","HC","On call firefighters","Chinese or other ethnicity",1]
["2018/19","Merseyside","E31000041","Metropolitan","Predominantly Urban","HC","On call firefighters","Ethnic origin not stated",1]
["2018/19","Merseyside","E31000041","Metropolitan","Predominantly Urban","HC","On call firefighters","Mixed",2]
["2018/19","Merseyside","E31000041","Metropolitan","Predominantly Urban","HC","On call firefighters","White British or Irish",21]
["2018/19","Merseyside","E31000041","Metropolitan","Predominantly Urban","HC","Support staff","Asian or Asian British",0]
["2018/19","Merseyside","E31000041","Metropolitan","Predominantly Urban","HC","Support staff","Black or Black British",1]
["2018/19","Merseyside","E31000041","Metropolitan","Predominantly Urban","HC","Support staff","Chinese or other ethnicity",1]
["2018/19","Merseyside","E31000041","Metropolitan","Predominantly Urban","HC","Support staff","Ethnic origin not stated",5]
["2018/19","Merseyside","E31000041","Metropolitan","Predominantly Urban","HC","Support staff","Mixed",0]
["2018/19","Merseyside","E31000041","Metropolitan","Predominantly Urban","HC","Support staff","White British or Irish",48]
["2018/19","Merseyside","E31000041","Metropolitan","Predominantly Urban","HC","Wholetime firefighters","Asian or Asian British",0]
["2018/19","Merseyside","E31000041","Metropolitan","Predominantly Urban","HC","Wholetime firefighters","Black or Black British",0]
["2018/19","Merseyside","E31000041","Metropolitan","Predominantly Urban","HC","Wholetime firefighters","Chinese or other ethnicity",1]
["2018/19","Merseyside","E31000041","Metropolitan","Predominantly Urban","HC","Wholetime firefighters","Ethnic origin not stated",2]
["2018/19","Merseyside","E31000041","Metropolitan","Predominantly Urban","HC","Wholetime firefighters","Mixed",3]
["2018/19","Merseyside","E31000041","Metropolitan","Predominantly Urban","HC","Wholetime firefighters","White British or Irish",45]
["2018/19","Norfolk","E31000026","Non-metropolitan","Predominantly Rural","HC","Fire control","Asian or Asian British",0]
["2018/19","Norfolk","E31000026","Non-metropolitan","Predominantly Rural","HC","Fire control","Black or Black British",0]
["2018/19","Norfolk","E31000026","Non-metropolitan","Predominantly Rural","HC","Fire control","Chinese or other ethnicity",0]
["2018/19","Norfolk","E31000026","Non-metropolitan","Predominantly Rural","HC","Fire control","Ethnic origin not stated",0]
["2018/19","Norfolk","E31000026","Non-metropolitan","Predominantly Rural","HC","Fire control","Mixed",0]
["2018/19","Norfolk","E31000026","Non-metropolitan","Predominantly Rural","HC","Fire control","White British or Irish",2]
["2018/19","Norfolk","E31000026","Non-metropolitan","Predominantly Rural","HC","On call firefighters","Asian or Asian British",0]
["2018/19","Norfolk","E31000026","Non-metropolitan","Predominantly Rural","HC","On call firefighters","Black or Black British",0]
["2018/19","Norfolk","E31000026","Non-metropolitan","Predominantly Rural","HC","On call firefighters","Chinese or other ethnicity",1]
["2018/19","Norfolk","E31000026","Non-metropolitan","Predominantly Rural","HC","On call firefighters","Ethnic origin not stated",6]
["2018/19","Norfolk","E31000026","Non-metropolitan","Predominantly Rural","HC","On call firefighters","Mixed",0]
["2018/19","Norfolk","E31000026","Non-metropolitan","Predominantly Rural","HC","On call firefighters","White British or Irish",31]
["2018/19","Norfolk","E31000026","Non-metropolitan","Predominantly Rural","HC","Support staff","Asian or Asian British",0]
["2018/19","Norfolk","E31000026","Non-metropolitan","Predominantly Rural","HC","Support staff","Black or Black British",0]
["2018/19","Norfolk","E31000026","Non-metropolitan","Predominantly Rural","HC","Support staff","Chinese or other ethnicity",0]
["2018/19","Norfolk","E31000026","Non-metropolitan","Predominantly Rural","HC","Support staff","Ethnic origin not stated",4]
["2018/19","Norfolk","E31000026","Non-metropolitan","Predominantly Rural","HC","Support staff","Mixed",0]
["2018/19","Norfolk","E31000026","Non-metropolitan","Predominantly Rural","HC","Support staff","White British or Irish",6]
["2018/19","Norfolk","E31000026","Non-metropolitan","Predominantly Rural","HC","Wholetime firefighters","Asian or Asian British",0]
["2018/19","Norfolk","E31000026","Non-metropolitan","Predominantly Rural","HC","Wholetime firefighters","Black or Black British",0]
["2018/19","Norfolk","E31000026","Non-metropolitan","Predominantly Rural","HC","Wholetime firefighters","Chinese or other ethnicity",3]
["2018/19","Norfolk","E31000026","Non-metropolitan","Predominantly Rural","HC","Wholetime firefighters","Ethnic origin not stated",4]
["2018/19","Norfolk","E31000026","Non-metropolitan","Predominantly Rural","HC","Wholetime firefighters","Mixed",1]
["2018/19","Norfolk","E31000026","Non-metropolitan","Predominantly Rural","HC","Wholetime firefighters","White British or Irish",22]
["2018/19","North Yorkshire","E31000027","Non-metropolitan","Predominantly Rural","HC","Fire control","Asian or Asian British",0]
["2018/19","North Yorkshire","E31000027","Non-metropolitan","Predominantly Rural","HC","Fire control","Black or Black British",0]
["2018/19","North Yorkshire","E31000027","Non-metropolitan","Predominantly Rural","HC","Fire control","Chinese or other ethnicity",0]
["2018/19","North Yorkshire","E31000027","Non-metropolitan","Predominantly Rural","HC","Fire control","Ethnic origin not stated",0]
["2018/19","North Yorkshire","E31000027","Non-metropolitan","Predominantly Rural","HC","Fire control","Mixed",0]
["2018/19","North Yorkshire","E31000027","Non-metropolitan","Predominantly Rural","HC","Fire control","White British or Irish",4]
["2018/19","North Yorkshire","E31000027","Non-metropolitan","Predominantly Rural","HC","On call firefighters","Asian or Asian British",0]
["2018/19","North Yorkshire","E31000027","Non-metropolitan","Predominantly Rural","HC","On call firefighters","Black or Black British",0]
["2018/19","North Yorkshire","E31000027","Non-metropolitan","Predominantly Rural","HC","On call firefighters","Chinese or other ethnicity",0]
["2018/19","North Yorkshire","E31000027","Non-metropolitan","Predominantly Rural","HC","On call firefighters","Ethnic origin not stated",0]
["2018/19","North Yorkshire","E31000027","Non-metropolitan","Predominantly Rural","HC","On call firefighters","Mixed",0]
["2018/19","North Yorkshire","E31000027","Non-metropolitan","Predominantly Rural","HC","On call firefighters","White British or Irish",41]
["2018/19","North Yorkshire","E31000027","Non-metropolitan","Predominantly Rural","HC","Support staff","Asian or Asian British",0]
["2018/19","North Yorkshire","E31000027","Non-metropolitan","Predominantly Rural","HC","Support staff","Black or Black British",0]
["2018/19","North Yorkshire","E31000027","Non-metropolitan","Predominantly Rural","HC","Support staff","Chinese or other ethnicity",0]
["2018/19","North Yorkshire","E31000027","Non-metropolitan","Predominantly Rural","HC","Support staff","Ethnic origin not stated",0]
["2018/19","North Yorkshire","E31000027","Non-metropolitan","Predominantly Rural","HC","Support staff","Mixed",0]
["2018/19","North Yorkshire","E31000027","Non-metropolitan","Predominantly Rural","HC","Support staff","White British or Irish",18]
["2018/19","North Yorkshire","E31000027","Non-metropolitan","Predominantly Rural","HC","Wholetime firefighters","Asian or Asian British",0]
["2018/19","North Yorkshire","E31000027","Non-metropolitan","Predominantly Rural","HC","Wholetime firefighters","Black or Black British",0]
["2018/19","North Yorkshire","E31000027","Non-metropolitan","Predominantly Rural","HC","Wholetime firefighters","Chinese or other ethnicity",1]
["2018/19","North Yorkshire","E31000027","Non-metropolitan","Predominantly Rural","HC","Wholetime firefighters","Ethnic origin not stated",5]
["2018/19","North Yorkshire","E31000027","Non-metropolitan","Predominantly Rural","HC","Wholetime firefighters","Mixed",0]
["2018/19","North Yorkshire","E31000027","Non-metropolitan","Predominantly Rural","HC","Wholetime firefighters","White British or Irish",24]
["2018/19","Northamptonshire","E31000028","Non-metropolitan","Significantly Rural","HC","Fire control","Asian or Asian British",0]
["2018/19","Northamptonshire","E31000028","Non-metropolitan","Significantly Rural","HC","Fire control","Black or Black British",0]
["2018/19","Northamptonshire","E31000028","Non-metropolitan","Significantly Rural","HC","Fire control","Chinese or other ethnicity",0]
["2018/19","Northamptonshire","E31000028","Non-metropolitan","Significantly Rural","HC","Fire control","Ethnic origin not stated",1]
["2018/19","Northamptonshire","E31000028","Non-metropolitan","Significantly Rural","HC","Fire control","Mixed",0]
["2018/19","Northamptonshire","E31000028","Non-metropolitan","Significantly Rural","HC","Fire control","White British or Irish",3]
["2018/19","Northamptonshire","E31000028","Non-metropolitan","Significantly Rural","HC","On call firefighters","Asian or Asian British",0]
["2018/19","Northamptonshire","E31000028","Non-metropolitan","Significantly Rural","HC","On call firefighters","Black or Black British",0]
["2018/19","Northamptonshire","E31000028","Non-metropolitan","Significantly Rural","HC","On call firefighters","Chinese or other ethnicity",0]
["2018/19","Northamptonshire","E31000028","Non-metropolitan","Significantly Rural","HC","On call firefighters","Ethnic origin not stated",48]
["2018/19","Northamptonshire","E31000028","Non-metropolitan","Significantly Rural","HC","On call firefighters","Mixed",0]
["2018/19","Northamptonshire","E31000028","Non-metropolitan","Significantly Rural","HC","On call firefighters","White British or Irish",0]
["2018/19","Northamptonshire","E31000028","Non-metropolitan","Significantly Rural","HC","Support staff","Asian or Asian British",0]
["2018/19","Northamptonshire","E31000028","Non-metropolitan","Significantly Rural","HC","Support staff","Black or Black British",0]
["2018/19","Northamptonshire","E31000028","Non-metropolitan","Significantly Rural","HC","Support staff","Chinese or other ethnicity",0]
["2018/19","Northamptonshire","E31000028","Non-metropolitan","Significantly Rural","HC","Support staff","Ethnic origin not stated",6]
["2018/19","Northamptonshire","E31000028","Non-metropolitan","Significantly Rural","HC","Support staff","Mixed",0]
["2018/19","Northamptonshire","E31000028","Non-metropolitan","Significantly Rural","HC","Support staff","White British or Irish",3]
["2018/19","Northamptonshire","E31000028","Non-metropolitan","Significantly Rural","HC","Wholetime firefighters","Asian or Asian British",0]
["2018/19","Northamptonshire","E31000028","Non-metropolitan","Significantly Rural","HC","Wholetime firefighters","Black or Black British",0]
["2018/19","Northamptonshire","E31000028","Non-metropolitan","Significantly Rural","HC","Wholetime firefighters","Chinese or other ethnicity",0]
["2018/19","Northamptonshire","E31000028","Non-metropolitan","Significantly Rural","HC","Wholetime firefighters","Ethnic origin not stated",8]
["2018/19","Northamptonshire","E31000028","Non-metropolitan","Significantly Rural","HC","Wholetime firefighters","Mixed",0]
["2018/19","Northamptonshire","E31000028","Non-metropolitan","Significantly Rural","HC","Wholetime firefighters","White British or Irish",1]
["2018/19","Northumberland","E31000029","Non-metropolitan","Predominantly Rural","HC","Fire control","Asian or Asian British",0]
["2018/19","Northumberland","E31000029","Non-metropolitan","Predominantly Rural","HC","Fire control","Black or Black British",0]
["2018/19","Northumberland","E31000029","Non-metropolitan","Predominantly Rural","HC","Fire control","Chinese or other ethnicity",0]
["2018/19","Northumberland","E31000029","Non-metropolitan","Predominantly Rural","HC","Fire control","Ethnic origin not stated",0]
["2018/19","Northumberland","E31000029","Non-metropolitan","Predominantly Rural","HC","Fire control","Mixed",0]
["2018/19","Northumberland","E31000029","Non-metropolitan","Predominantly Rural","HC","Fire control","White British or Irish",0]
["2018/19","Northumberland","E31000029","Non-metropolitan","Predominantly Rural","HC","On call firefighters","Asian or Asian British",0]
["2018/19","Northumberland","E31000029","Non-metropolitan","Predominantly Rural","HC","On call firefighters","Black or Black British",0]
["2018/19","Northumberland","E31000029","Non-metropolitan","Predominantly Rural","HC","On call firefighters","Chinese or other ethnicity",1]
["2018/19","Northumberland","E31000029","Non-metropolitan","Predominantly Rural","HC","On call firefighters","Ethnic origin not stated",2]
["2018/19","Northumberland","E31000029","Non-metropolitan","Predominantly Rural","HC","On call firefighters","Mixed",0]
["2018/19","Northumberland","E31000029","Non-metropolitan","Predominantly Rural","HC","On call firefighters","White British or Irish",16]
["2018/19","Northumberland","E31000029","Non-metropolitan","Predominantly Rural","HC","Support staff","Asian or Asian British",0]
["2018/19","Northumberland","E31000029","Non-metropolitan","Predominantly Rural","HC","Support staff","Black or Black British",0]
["2018/19","Northumberland","E31000029","Non-metropolitan","Predominantly Rural","HC","Support staff","Chinese or other ethnicity",0]
["2018/19","Northumberland","E31000029","Non-metropolitan","Predominantly Rural","HC","Support staff","Ethnic origin not stated",0]
["2018/19","Northumberland","E31000029","Non-metropolitan","Predominantly Rural","HC","Support staff","Mixed",0]
["2018/19","Northumberland","E31000029","Non-metropolitan","Predominantly Rural","HC","Support staff","White British or Irish",1]
["2018/19","Northumberland","E31000029","Non-metropolitan","Predominantly Rural","HC","Wholetime firefighters","Asian or Asian British",0]
["2018/19","Northumberland","E31000029","Non-metropolitan","Predominantly Rural","HC","Wholetime firefighters","Black or Black British",0]
["2018/19","Northumberland","E31000029","Non-metropolitan","Predominantly Rural","HC","Wholetime firefighters","Chinese or other ethnicity",0]
["2018/19","Northumberland","E31000029","Non-metropolitan","Predominantly Rural","HC","Wholetime firefighters","Ethnic origin not stated",0]
["2018/19","Northumberland","E31000029","Non-metropolitan","Predominantly Rural","HC","Wholetime firefighters","Mixed",0]
["2018/19","Northumberland","E31000029","Non-metropolitan","Predominantly Rural","HC","Wholetime firefighters","White British or Irish",9]
["2018/19","Nottinghamshire","E31000030","Non-metropolitan","Predominantly Urban","HC","Fire control","Asian or Asian British",0]
["2018/19","Nottinghamshire","E31000030","Non-metropolitan","Predominantly Urban","HC","Fire control","Black or Black British",0]
["2018/19","Nottinghamshire","E31000030","Non-metropolitan","Predominantly Urban","HC","Fire control","Chinese or other ethnicity",0]
["2018/19","Nottinghamshire","E31000030","Non-metropolitan","Predominantly Urban","HC","Fire control","Ethnic origin not stated",0]
["2018/19","Nottinghamshire","E31000030","Non-metropolitan","Predominantly Urban","HC","Fire control","Mixed",0]
["2018/19","Nottinghamshire","E31000030","Non-metropolitan","Predominantly Urban","HC","Fire control","White British or Irish",0]
["2018/19","Nottinghamshire","E31000030","Non-metropolitan","Predominantly Urban","HC","On call firefighters","Asian or Asian British",0]
["2018/19","Nottinghamshire","E31000030","Non-metropolitan","Predominantly Urban","HC","On call firefighters","Black or Black British",0]
["2018/19","Nottinghamshire","E31000030","Non-metropolitan","Predominantly Urban","HC","On call firefighters","Chinese or other ethnicity",0]
["2018/19","Nottinghamshire","E31000030","Non-metropolitan","Predominantly Urban","HC","On call firefighters","Ethnic origin not stated",0]
["2018/19","Nottinghamshire","E31000030","Non-metropolitan","Predominantly Urban","HC","On call firefighters","Mixed",0]
["2018/19","Nottinghamshire","E31000030","Non-metropolitan","Predominantly Urban","HC","On call firefighters","White British or Irish",25]
["2018/19","Nottinghamshire","E31000030","Non-metropolitan","Predominantly Urban","HC","Support staff","Asian or Asian British",0]
["2018/19","Nottinghamshire","E31000030","Non-metropolitan","Predominantly Urban","HC","Support staff","Black or Black British",1]
["2018/19","Nottinghamshire","E31000030","Non-metropolitan","Predominantly Urban","HC","Support staff","Chinese or other ethnicity",0]
["2018/19","Nottinghamshire","E31000030","Non-metropolitan","Predominantly Urban","HC","Support staff","Ethnic origin not stated",5]
["2018/19","Nottinghamshire","E31000030","Non-metropolitan","Predominantly Urban","HC","Support staff","Mixed",0]
["2018/19","Nottinghamshire","E31000030","Non-metropolitan","Predominantly Urban","HC","Support staff","White British or Irish",3]
["2018/19","Nottinghamshire","E31000030","Non-metropolitan","Predominantly Urban","HC","Wholetime firefighters","Asian or Asian British",1]
["2018/19","Nottinghamshire","E31000030","Non-metropolitan","Predominantly Urban","HC","Wholetime firefighters","Black or Black British",0]
["2018/19","Nottinghamshire","E31000030","Non-metropolitan","Predominantly Urban","HC","Wholetime firefighters","Chinese or other ethnicity",0]
["2018/19","Nottinghamshire","E31000030","Non-metropolitan","Predominantly Urban","HC","Wholetime firefighters","Ethnic origin not stated",0]
["2018/19","Nottinghamshire","E31000030","Non-metropolitan","Predominantly Urban","HC","Wholetime firefighters","Mixed",5]
["2018/19","Nottinghamshire","E31000030","Non-metropolitan","Predominantly Urban","HC","Wholetime firefighters","White British or Irish",24]
["2018/19","Oxfordshire","E31000031","Non-metropolitan","Predominantly Rural","HC","Fire control","Asian or Asian British",0]
["2018/19","Oxfordshire","E31000031","Non-metropolitan","Predominantly Rural","HC","Fire control","Black or Black British",0]
["2018/19","Oxfordshire","E31000031","Non-metropolitan","Predominantly Rural","HC","Fire control","Chinese or other ethnicity",0]
["2018/19","Oxfordshire","E31000031","Non-metropolitan","Predominantly Rural","HC","Fire control","Ethnic origin not stated",0]
["2018/19","Oxfordshire","E31000031","Non-metropolitan","Predominantly Rural","HC","Fire control","Mixed",0]
["2018/19","Oxfordshire","E31000031","Non-metropolitan","Predominantly Rural","HC","Fire control","White British or Irish",0]
["2018/19","Oxfordshire","E31000031","Non-metropolitan","Predominantly Rural","HC","On call firefighters","Asian or Asian British",0]
["2018/19","Oxfordshire","E31000031","Non-metropolitan","Predominantly Rural","HC","On call firefighters","Black or Black British",1]
["2018/19","Oxfordshire","E31000031","Non-metropolitan","Predominantly Rural","HC","On call firefighters","Chinese or other ethnicity",4]
["2018/19","Oxfordshire","E31000031","Non-metropolitan","Predominantly Rural","HC","On call firefighters","Ethnic origin not stated",19]
["2018/19","Oxfordshire","E31000031","Non-metropolitan","Predominantly Rural","HC","On call firefighters","Mixed",1]
["2018/19","Oxfordshire","E31000031","Non-metropolitan","Predominantly Rural","HC","On call firefighters","White British or Irish",31]
["2018/19","Oxfordshire","E31000031","Non-metropolitan","Predominantly Rural","HC","Support staff","Asian or Asian British",0]
["2018/19","Oxfordshire","E31000031","Non-metropolitan","Predominantly Rural","HC","Support staff","Black or Black British",0]
["2018/19","Oxfordshire","E31000031","Non-metropolitan","Predominantly Rural","HC","Support staff","Chinese or other ethnicity",2]
["2018/19","Oxfordshire","E31000031","Non-metropolitan","Predominantly Rural","HC","Support staff","Ethnic origin not stated",1]
["2018/19","Oxfordshire","E31000031","Non-metropolitan","Predominantly Rural","HC","Support staff","Mixed",0]
["2018/19","Oxfordshire","E31000031","Non-metropolitan","Predominantly Rural","HC","Support staff","White British or Irish",6]
["2018/19","Oxfordshire","E31000031","Non-metropolitan","Predominantly Rural","HC","Wholetime firefighters","Asian or Asian British",0]
["2018/19","Oxfordshire","E31000031","Non-metropolitan","Predominantly Rural","HC","Wholetime firefighters","Black or Black British",0]
["2018/19","Oxfordshire","E31000031","Non-metropolitan","Predominantly Rural","HC","Wholetime firefighters","Chinese or other ethnicity",0]
["2018/19","Oxfordshire","E31000031","Non-metropolitan","Predominantly Rural","HC","Wholetime firefighters","Ethnic origin not stated",6]
["2018/19","Oxfordshire","E31000031","Non-metropolitan","Predominantly Rural","HC","Wholetime firefighters","Mixed",0]
["2018/19","Oxfordshire","E31000031","Non-metropolitan","Predominantly Rural","HC","Wholetime firefighters","White British or Irish",2]
["2018/19","Shropshire","E31000032","Non-metropolitan","Predominantly Rural","HC","Fire control","Asian or Asian British",0]
["2018/19","Shropshire","E31000032","Non-metropolitan","Predominantly Rural","HC","Fire control","Black or Black British",0]
["2018/19","Shropshire","E31000032","Non-metropolitan","Predominantly Rural","HC","Fire control","Chinese or other ethnicity",0]
["2018/19","Shropshire","E31000032","Non-metropolitan","Predominantly Rural","HC","Fire control","Ethnic origin not stated",1]
["2018/19","Shropshire","E31000032","Non-metropolitan","Predominantly Rural","HC","Fire control","Mixed",0]
["2018/19","Shropshire","E31000032","Non-metropolitan","Predominantly Rural","HC","Fire control","White British or Irish",1]
["2018/19","Shropshire","E31000032","Non-metropolitan","Predominantly Rural","HC","On call firefighters","Asian or Asian British",0]
["2018/19","Shropshire","E31000032","Non-metropolitan","Predominantly Rural","HC","On call firefighters","Black or Black British",0]
["2018/19","Shropshire","E31000032","Non-metropolitan","Predominantly Rural","HC","On call firefighters","Chinese or other ethnicity",1]
["2018/19","Shropshire","E31000032","Non-metropolitan","Predominantly Rural","HC","On call firefighters","Ethnic origin not stated",6]
["2018/19","Shropshire","E31000032","Non-metropolitan","Predominantly Rural","HC","On call firefighters","Mixed",0]
["2018/19","Shropshire","E31000032","Non-metropolitan","Predominantly Rural","HC","On call firefighters","White British or Irish",21]
["2018/19","Shropshire","E31000032","Non-metropolitan","Predominantly Rural","HC","Support staff","Asian or Asian British",0]
["2018/19","Shropshire","E31000032","Non-metropolitan","Predominantly Rural","HC","Support staff","Black or Black British",0]
["2018/19","Shropshire","E31000032","Non-metropolitan","Predominantly Rural","HC","Support staff","Chinese or other ethnicity",1]
["2018/19","Shropshire","E31000032","Non-metropolitan","Predominantly Rural","HC","Support staff","Ethnic origin not stated",1]
["2018/19","Shropshire","E31000032","Non-metropolitan","Predominantly Rural","HC","Support staff","Mixed",0]
["2018/19","Shropshire","E31000032","Non-metropolitan","Predominantly Rural","HC","Support staff","White British or Irish",6]
["2018/19","Shropshire","E31000032","Non-metropolitan","Predominantly Rural","HC","Wholetime firefighters","Asian or Asian British",0]
["2018/19","Shropshire","E31000032","Non-metropolitan","Predominantly Rural","HC","Wholetime firefighters","Black or Black British",0]
["2018/19","Shropshire","E31000032","Non-metropolitan","Predominantly Rural","HC","Wholetime firefighters","Chinese or other ethnicity",1]
["2018/19","Shropshire","E31000032","Non-metropolitan","Predominantly Rural","HC","Wholetime firefighters","Ethnic origin not stated",0]
["2018/19","Shropshire","E31000032","Non-metropolitan","Predominantly Rural","HC","Wholetime firefighters","Mixed",0]
["2018/19","Shropshire","E31000032","Non-metropolitan","Predominantly Rural","HC","Wholetime firefighters","White British or Irish",11]
["2018/19","South Yorkshire","E31000042","Metropolitan","Predominantly Urban","HC","Fire control","Asian or Asian British",0]
["2018/19","South Yorkshire","E31000042","Metropolitan","Predominantly Urban","HC","Fire control","Black or Black British",0]
["2018/19","South Yorkshire","E31000042","Metropolitan","Predominantly Urban","HC","Fire control","Chinese or other ethnicity",0]
["2018/19","South Yorkshire","E31000042","Metropolitan","Predominantly Urban","HC","Fire control","Ethnic origin not stated",0]
["2018/19","South Yorkshire","E31000042","Metropolitan","Predominantly Urban","HC","Fire control","Mixed",0]
["2018/19","South Yorkshire","E31000042","Metropolitan","Predominantly Urban","HC","Fire control","White British or Irish",0]
["2018/19","South Yorkshire","E31000042","Metropolitan","Predominantly Urban","HC","On call firefighters","Asian or Asian British",0]
["2018/19","South Yorkshire","E31000042","Metropolitan","Predominantly Urban","HC","On call firefighters","Black or Black British",0]
["2018/19","South Yorkshire","E31000042","Metropolitan","Predominantly Urban","HC","On call firefighters","Chinese or other ethnicity",0]
["2018/19","South Yorkshire","E31000042","Metropolitan","Predominantly Urban","HC","On call firefighters","Ethnic origin not stated",0]
["2018/19","South Yorkshire","E31000042","Metropolitan","Predominantly Urban","HC","On call firefighters","Mixed",0]
["2018/19","South Yorkshire","E31000042","Metropolitan","Predominantly Urban","HC","On call firefighters","White British or Irish",1]
["2018/19","South Yorkshire","E31000042","Metropolitan","Predominantly Urban","HC","Support staff","Asian or Asian British",0]
["2018/19","South Yorkshire","E31000042","Metropolitan","Predominantly Urban","HC","Support staff","Black or Black British",1]
["2018/19","South Yorkshire","E31000042","Metropolitan","Predominantly Urban","HC","Support staff","Chinese or other ethnicity",0]
["2018/19","South Yorkshire","E31000042","Metropolitan","Predominantly Urban","HC","Support staff","Ethnic origin not stated",0]
["2018/19","South Yorkshire","E31000042","Metropolitan","Predominantly Urban","HC","Support staff","Mixed",0]
["2018/19","South Yorkshire","E31000042","Metropolitan","Predominantly Urban","HC","Support staff","White British or Irish",16]
["2018/19","South Yorkshire","E31000042","Metropolitan","Predominantly Urban","HC","Wholetime firefighters","Asian or Asian British",0]
["2018/19","South Yorkshire","E31000042","Metropolitan","Predominantly Urban","HC","Wholetime firefighters","Black or Black British",2]
["2018/19","South Yorkshire","E31000042","Metropolitan","Predominantly Urban","HC","Wholetime firefighters","Chinese or other ethnicity",1]
["2018/19","South Yorkshire","E31000042","Metropolitan","Predominantly Urban","HC","Wholetime firefighters","Ethnic origin not stated",0]
["2018/19","South Yorkshire","E31000042","Metropolitan","Predominantly Urban","HC","Wholetime firefighters","Mixed",3]
["2018/19","South Yorkshire","E31000042","Metropolitan","Predominantly Urban","HC","Wholetime firefighters","White British or Irish",17]
["2018/19","Staffordshire","E31000033","Non-metropolitan","Significantly Rural","HC","Fire control","Asian or Asian British",0]
["2018/19","Staffordshire","E31000033","Non-metropolitan","Significantly Rural","HC","Fire control","Black or Black British",0]
["2018/19","Staffordshire","E31000033","Non-metropolitan","Significantly Rural","HC","Fire control","Chinese or other ethnicity",0]
["2018/19","Staffordshire","E31000033","Non-metropolitan","Significantly Rural","HC","Fire control","Ethnic origin not stated",0]
["2018/19","Staffordshire","E31000033","Non-metropolitan","Significantly Rural","HC","Fire control","Mixed",0]
["2018/19","Staffordshire","E31000033","Non-metropolitan","Significantly Rural","HC","Fire control","White British or Irish",0]
["2018/19","Staffordshire","E31000033","Non-metropolitan","Significantly Rural","HC","On call firefighters","Asian or Asian British",0]
["2018/19","Staffordshire","E31000033","Non-metropolitan","Significantly Rural","HC","On call firefighters","Black or Black British",2]
["2018/19","Staffordshire","E31000033","Non-metropolitan","Significantly Rural","HC","On call firefighters","Chinese or other ethnicity",0]
["2018/19","Staffordshire","E31000033","Non-metropolitan","Significantly Rural","HC","On call firefighters","Ethnic origin not stated",0]
["2018/19","Staffordshire","E31000033","Non-metropolitan","Significantly Rural","HC","On call firefighters","Mixed",0]
["2018/19","Staffordshire","E31000033","Non-metropolitan","Significantly Rural","HC","On call firefighters","White British or Irish",42]
["2018/19","Staffordshire","E31000033","Non-metropolitan","Significantly Rural","HC","Support staff","Asian or Asian British",0]
["2018/19","Staffordshire","E31000033","Non-metropolitan","Significantly Rural","HC","Support staff","Black or Black British",0]
["2018/19","Staffordshire","E31000033","Non-metropolitan","Significantly Rural","HC","Support staff","Chinese or other ethnicity",0]
["2018/19","Staffordshire","E31000033","Non-metropolitan","Significantly Rural","HC","Support staff","Ethnic origin not stated",0]
["2018/19","Staffordshire","E31000033","Non-metropolitan","Significantly Rural","HC","Support staff","Mixed",0]
["2018/19","Staffordshire","E31000033","Non-metropolitan","Significantly Rural","HC","Support staff","White British or Irish",24]
["2018/19","Staffordshire","E31000033","Non-metropolitan","Significantly Rural","HC","Wholetime firefighters","Asian or Asian British",0]
["2018/19","Staffordshire","E31000033","Non-metropolitan","Significantly Rural","HC","Wholetime firefighters","Black or Black British",1]
["2018/19","Staffordshire","E31000033","Non-metropolitan","Significantly Rural","HC","Wholetime firefighters","Chinese or other ethnicity",0]
["2018/19","Staffordshire","E31000033","Non-metropolitan","Significantly Rural","HC","Wholetime firefighters","Ethnic origin not stated",0]
["2018/19","Staffordshire","E31000033","Non-metropolitan","Significantly Rural","HC","Wholetime firefighters","Mixed",0]
["2018/19","Staffordshire","E31000033","Non-metropolitan","Significantly Rural","HC","Wholetime firefighters","White British or Irish",12]
["2018/19","Suffolk","E31000034","Non-metropolitan","Predominantly Rural","HC","Fire control","Asian or Asian British",0]
["2018/19","Suffolk","E31000034","Non-metropolitan","Predominantly Rural","HC","Fire control","Black or Black British",0]
["2018/19","Suffolk","E31000034","Non-metropolitan","Predominantly Rural","HC","Fire control","Chinese or other ethnicity",0]
["2018/19","Suffolk","E31000034","Non-metropolitan","Predominantly Rural","HC","Fire control","Ethnic origin not stated",0]
["2018/19","Suffolk","E31000034","Non-metropolitan","Predominantly Rural","HC","Fire control","Mixed",0]
["2018/19","Suffolk","E31000034","Non-metropolitan","Predominantly Rural","HC","Fire control","White British or Irish",0]
["2018/19","Suffolk","E31000034","Non-metropolitan","Predominantly Rural","HC","On call firefighters","Asian or Asian British",0]
["2018/19","Suffolk","E31000034","Non-metropolitan","Predominantly Rural","HC","On call firefighters","Black or Black British",0]
["2018/19","Suffolk","E31000034","Non-metropolitan","Predominantly Rural","HC","On call firefighters","Chinese or other ethnicity",0]
["2018/19","Suffolk","E31000034","Non-metropolitan","Predominantly Rural","HC","On call firefighters","Ethnic origin not stated",31]
["2018/19","Suffolk","E31000034","Non-metropolitan","Predominantly Rural","HC","On call firefighters","Mixed",0]
["2018/19","Suffolk","E31000034","Non-metropolitan","Predominantly Rural","HC","On call firefighters","White British or Irish",15]
["2018/19","Suffolk","E31000034","Non-metropolitan","Predominantly Rural","HC","Support staff","Asian or Asian British",0]
["2018/19","Suffolk","E31000034","Non-metropolitan","Predominantly Rural","HC","Support staff","Black or Black British",0]
["2018/19","Suffolk","E31000034","Non-metropolitan","Predominantly Rural","HC","Support staff","Chinese or other ethnicity",0]
["2018/19","Suffolk","E31000034","Non-metropolitan","Predominantly Rural","HC","Support staff","Ethnic origin not stated",2]
["2018/19","Suffolk","E31000034","Non-metropolitan","Predominantly Rural","HC","Support staff","Mixed",0]
["2018/19","Suffolk","E31000034","Non-metropolitan","Predominantly Rural","HC","Support staff","White British or Irish",4]
["2018/19","Suffolk","E31000034","Non-metropolitan","Predominantly Rural","HC","Wholetime firefighters","Asian or Asian British",0]
["2018/19","Suffolk","E31000034","Non-metropolitan","Predominantly Rural","HC","Wholetime firefighters","Black or Black British",0]
["2018/19","Suffolk","E31000034","Non-metropolitan","Predominantly Rural","HC","Wholetime firefighters","Chinese or other ethnicity",0]
["2018/19","Suffolk","E31000034","Non-metropolitan","Predominantly Rural","HC","Wholetime firefighters","Ethnic origin not stated",5]
["2018/19","Suffolk","E31000034","Non-metropolitan","Predominantly Rural","HC","Wholetime firefighters","Mixed",1]
["2018/19","Suffolk","E31000034","Non-metropolitan","Predominantly Rural","HC","Wholetime firefighters","White British or Irish",2]
["2018/19","Surrey","E31000035","Non-metropolitan","Predominantly Urban","HC","Fire control","Asian or Asian British",0]
["2018/19","Surrey","E31000035","Non-metropolitan","Predominantly Urban","HC","Fire control","Black or Black British",0]
["2018/19","Surrey","E31000035","Non-metropolitan","Predominantly Urban","HC","Fire control","Chinese or other ethnicity",0]
["2018/19","Surrey","E31000035","Non-metropolitan","Predominantly Urban","HC","Fire control","Ethnic origin not stated",0]
["2018/19","Surrey","E31000035","Non-metropolitan","Predominantly Urban","HC","Fire control","Mixed",0]
["2018/19","Surrey","E31000035","Non-metropolitan","Predominantly Urban","HC","Fire control","White British or Irish",4]
["2018/19","Surrey","E31000035","Non-metropolitan","Predominantly Urban","HC","On call firefighters","Asian or Asian British",0]
["2018/19","Surrey","E31000035","Non-metropolitan","Predominantly Urban","HC","On call firefighters","Black or Black British",0]
["2018/19","Surrey","E31000035","Non-metropolitan","Predominantly Urban","HC","On call firefighters","Chinese or other ethnicity",0]
["2018/19","Surrey","E31000035","Non-metropolitan","Predominantly Urban","HC","On call firefighters","Ethnic origin not stated",0]
["2018/19","Surrey","E31000035","Non-metropolitan","Predominantly Urban","HC","On call firefighters","Mixed",0]
["2018/19","Surrey","E31000035","Non-metropolitan","Predominantly Urban","HC","On call firefighters","White British or Irish",7]
["2018/19","Surrey","E31000035","Non-metropolitan","Predominantly Urban","HC","Support staff","Asian or Asian British",0]
["2018/19","Surrey","E31000035","Non-metropolitan","Predominantly Urban","HC","Support staff","Black or Black British",0]
["2018/19","Surrey","E31000035","Non-metropolitan","Predominantly Urban","HC","Support staff","Chinese or other ethnicity",0]
["2018/19","Surrey","E31000035","Non-metropolitan","Predominantly Urban","HC","Support staff","Ethnic origin not stated",0]
["2018/19","Surrey","E31000035","Non-metropolitan","Predominantly Urban","HC","Support staff","Mixed",0]
["2018/19","Surrey","E31000035","Non-metropolitan","Predominantly Urban","HC","Support staff","White British or Irish",16]
["2018/19","Surrey","E31000035","Non-metropolitan","Predominantly Urban","HC","Wholetime firefighters","Asian or Asian British",0]
["2018/19","Surrey","E31000035","Non-metropolitan","Predominantly Urban","HC","Wholetime firefighters","Black or Black British",0]
["2018/19","Surrey","E31000035","Non-metropolitan","Predominantly Urban","HC","Wholetime firefighters","Chinese or other ethnicity",0]
["2018/19","Surrey","E31000035","Non-metropolitan","Predominantly Urban","HC","Wholetime firefighters","Ethnic origin not stated",0]
["2018/19","Surrey","E31000035","Non-metropolitan","Predominantly Urban","HC","Wholetime firefighters","Mixed",0]
["2018/19","Surrey","E31000035","Non-metropolitan","Predominantly Urban","HC","Wholetime firefighters","White British or Irish",30]
["2018/19","Tyne and Wear","E31000043","Metropolitan","Predominantly Urban","HC","Fire control","Asian or Asian British",0]
["2018/19","Tyne and Wear","E31000043","Metropolitan","Predominantly Urban","HC","Fire control","Black or Black British",0]
["2018/19","Tyne and Wear","E31000043","Metropolitan","Predominantly Urban","HC","Fire control","Chinese or other ethnicity",0]
["2018/19","Tyne and Wear","E31000043","Metropolitan","Predominantly Urban","HC","Fire control","Ethnic origin not stated",0]
["2018/19","Tyne and Wear","E31000043","Metropolitan","Predominantly Urban","HC","Fire control","Mixed",0]
["2018/19","Tyne and Wear","E31000043","Metropolitan","Predominantly Urban","HC","Fire control","White British or Irish",5]
["2018/19","Tyne and Wear","E31000043","Metropolitan","Predominantly Urban","HC","On call firefighters","Asian or Asian British",0]
["2018/19","Tyne and Wear","E31000043","Metropolitan","Predominantly Urban","HC","On call firefighters","Black or Black British",0]
["2018/19","Tyne and Wear","E31000043","Metropolitan","Predominantly Urban","HC","On call firefighters","Chinese or other ethnicity",0]
["2018/19","Tyne and Wear","E31000043","Metropolitan","Predominantly Urban","HC","On call firefighters","Ethnic origin not stated",0]
["2018/19","Tyne and Wear","E31000043","Metropolitan","Predominantly Urban","HC","On call firefighters","Mixed",0]
["2018/19","Tyne and Wear","E31000043","Metropolitan","Predominantly Urban","HC","On call firefighters","White British or Irish",0]
["2018/19","Tyne and Wear","E31000043","Metropolitan","Predominantly Urban","HC","Support staff","Asian or Asian British",0]
["2018/19","Tyne and Wear","E31000043","Metropolitan","Predominantly Urban","HC","Support staff","Black or Black British",1]
["2018/19","Tyne and Wear","E31000043","Metropolitan","Predominantly Urban","HC","Support staff","Chinese or other ethnicity",0]
["2018/19","Tyne and Wear","E31000043","Metropolitan","Predominantly Urban","HC","Support staff","Ethnic origin not stated",0]
["2018/19","Tyne and Wear","E31000043","Metropolitan","Predominantly Urban","HC","Support staff","Mixed",0]
["2018/19","Tyne and Wear","E31000043","Metropolitan","Predominantly Urban","HC","Support staff","White British or Irish",30]
["2018/19","Tyne and Wear","E31000043","Metropolitan","Predominantly Urban","HC","Wholetime firefighters","Asian or Asian British",1]
["2018/19","Tyne and Wear","E31000043","Metropolitan","Predominantly Urban","HC","Wholetime firefighters","Black or Black British",0]
["2018/19","Tyne and Wear","E31000043","Metropolitan","Predominantly Urban","HC","Wholetime firefighters","Chinese or other ethnicity",0]
["2018/19","Tyne and Wear","E31000043","Metropolitan","Predominantly Urban","HC","Wholetime firefighters","Ethnic origin not stated",0]
["2018/19","Tyne and Wear","E31000043","Metropolitan","Predominantly Urban","HC","Wholetime firefighters","Mixed",0]
["2018/19","Tyne and Wear","E31000043","Metropolitan","Predominantly Urban","HC","Wholetime firefighters","White British or Irish",25]
["2018/19","Warwickshire","E31000036","Non-metropolitan","Significantly Rural","HC","Fire control","Asian or Asian British",0]
["2018/19","Warwickshire","E31000036","Non-metropolitan","Significantly Rural","HC","Fire control","Black or Black British",0]
["2018/19","Warwickshire","E31000036","Non-metropolitan","Significantly Rural","HC","Fire control","Chinese or other ethnicity",0]
["2018/19","Warwickshire","E31000036","Non-metropolitan","Significantly Rural","HC","Fire control","Ethnic origin not stated",0]
["2018/19","Warwickshire","E31000036","Non-metropolitan","Significantly Rural","HC","Fire control","Mixed",0]
["2018/19","Warwickshire","E31000036","Non-metropolitan","Significantly Rural","HC","Fire control","White British or Irish",1]
["2018/19","Warwickshire","E31000036","Non-metropolitan","Significantly Rural","HC","On call firefighters","Asian or Asian British",0]
["2018/19","Warwickshire","E31000036","Non-metropolitan","Significantly Rural","HC","On call firefighters","Black or Black British",0]
["2018/19","Warwickshire","E31000036","Non-metropolitan","Significantly Rural","HC","On call firefighters","Chinese or other ethnicity",0]
["2018/19","Warwickshire","E31000036","Non-metropolitan","Significantly Rural","HC","On call firefighters","Ethnic origin not stated",4]
["2018/19","Warwickshire","E31000036","Non-metropolitan","Significantly Rural","HC","On call firefighters","Mixed",0]
["2018/19","Warwickshire","E31000036","Non-metropolitan","Significantly Rural","HC","On call firefighters","White British or Irish",15]
["2018/19","Warwickshire","E31000036","Non-metropolitan","Significantly Rural","HC","Support staff","Asian or Asian British",1]
["2018/19","Warwickshire","E31000036","Non-metropolitan","Significantly Rural","HC","Support staff","Black or Black British",0]
["2018/19","Warwickshire","E31000036","Non-metropolitan","Significantly Rural","HC","Support staff","Chinese or other ethnicity",0]
["2018/19","Warwickshire","E31000036","Non-metropolitan","Significantly Rural","HC","Support staff","Ethnic origin not stated",2]
["2018/19","Warwickshire","E31000036","Non-metropolitan","Significantly Rural","HC","Support staff","Mixed",0]
["2018/19","Warwickshire","E31000036","Non-metropolitan","Significantly Rural","HC","Support staff","White British or Irish",10]
["2018/19","Warwickshire","E31000036","Non-metropolitan","Significantly Rural","HC","Wholetime firefighters","Asian or Asian British",0]
["2018/19","Warwickshire","E31000036","Non-metropolitan","Significantly Rural","HC","Wholetime firefighters","Black or Black British",0]
["2018/19","Warwickshire","E31000036","Non-metropolitan","Significantly Rural","HC","Wholetime firefighters","Chinese or other ethnicity",0]
["2018/19","Warwickshire","E31000036","Non-metropolitan","Significantly Rural","HC","Wholetime firefighters","Ethnic origin not stated",4]
["2018/19","Warwickshire","E31000036","Non-metropolitan","Significantly Rural","HC","Wholetime firefighters","Mixed",0]
["2018/19","Warwickshire","E31000036","Non-metropolitan","Significantly Rural","HC","Wholetime firefighters","White British or Irish",9]
["2018/19","West Midlands","E31000044","Metropolitan","Predominantly Urban","HC","Fire control","Asian or Asian British",0]
["2018/19","West Midlands","E31000044","Metropolitan","Predominantly Urban","HC","Fire control","Black or Black British",0]
["2018/19","West Midlands","E31000044","Metropolitan","Predominantly Urban","HC","Fire control","Chinese or other ethnicity",0]
["2018/19","West Midlands","E31000044","Metropolitan","Predominantly Urban","HC","Fire control","Ethnic origin not stated",0]
["2018/19","West Midlands","E31000044","Metropolitan","Predominantly Urban","HC","Fire control","Mixed",0]
["2018/19","West Midlands","E31000044","Metropolitan","Predominantly Urban","HC","Fire control","White British or Irish",0]
["2018/19","West Midlands","E31000044","Metropolitan","Predominantly Urban","HC","On call firefighters","Asian or Asian British",0]
["2018/19","West Midlands","E31000044","Metropolitan","Predominantly Urban","HC","On call firefighters","Black or Black British",0]
["2018/19","West Midlands","E31000044","Metropolitan","Predominantly Urban","HC","On call firefighters","Chinese or other ethnicity",0]
["2018/19","West Midlands","E31000044","Metropolitan","Predominantly Urban","HC","On call firefighters","Ethnic origin not stated",0]
["2018/19","West Midlands","E31000044","Metropolitan","Predominantly Urban","HC","On call firefighters","Mixed",0]
["2018/19","West Midlands","E31000044","Metropolitan","Predominantly Urban","HC","On call firefighters","White British or Irish",0]
["2018/19","West Midlands","E31000044","Metropolitan","Predominantly Urban","HC","Support staff","Asian or Asian British",3]
["2018/19","West Midlands","E31000044","Metropolitan","Predominantly Urban","HC","Support staff","Black or Black British",1]
["2018/19","West Midlands","E31000044","Metropolitan","Predominantly Urban","HC","Support staff","Chinese or other ethnicity",0]
["2018/19","West Midlands","E31000044","Metropolitan","Predominantly Urban","HC","Support staff","Ethnic origin not stated",2]
["2018/19","West Midlands","E31000044","Metropolitan","Predominantly Urban","HC","Support staff","Mixed",2]
["2018/19","West Midlands","E31000044","Metropolitan","Predominantly Urban","HC","Support staff","White British or Irish",12]
["2018/19","West Midlands","E31000044","Metropolitan","Predominantly Urban","HC","Wholetime firefighters","Asian or Asian British",5]
["2018/19","West Midlands","E31000044","Metropolitan","Predominantly Urban","HC","Wholetime firefighters","Black or Black British",8]
["2018/19","West Midlands","E31000044","Metropolitan","Predominantly Urban","HC","Wholetime firefighters","Chinese or other ethnicity",2]
["2018/19","West Midlands","E31000044","Metropolitan","Predominantly Urban","HC","Wholetime firefighters","Ethnic origin not stated",3]
["2018/19","West Midlands","E31000044","Metropolitan","Predominantly Urban","HC","Wholetime firefighters","Mixed",8]
["2018/19","West Midlands","E31000044","Metropolitan","Predominantly Urban","HC","Wholetime firefighters","White British or Irish",64]
["2018/19","West Sussex","E31000037","Non-metropolitan","Significantly Rural","HC","Fire control","Asian or Asian British",0]
["2018/19","West Sussex","E31000037","Non-metropolitan","Significantly Rural","HC","Fire control","Black or Black British",0]
["2018/19","West Sussex","E31000037","Non-metropolitan","Significantly Rural","HC","Fire control","Chinese or other ethnicity",0]
["2018/19","West Sussex","E31000037","Non-metropolitan","Significantly Rural","HC","Fire control","Ethnic origin not stated",0]
["2018/19","West Sussex","E31000037","Non-metropolitan","Significantly Rural","HC","Fire control","Mixed",0]
["2018/19","West Sussex","E31000037","Non-metropolitan","Significantly Rural","HC","Fire control","White British or Irish",0]
["2018/19","West Sussex","E31000037","Non-metropolitan","Significantly Rural","HC","On call firefighters","Asian or Asian British",0]
["2018/19","West Sussex","E31000037","Non-metropolitan","Significantly Rural","HC","On call firefighters","Black or Black British",0]
["2018/19","West Sussex","E31000037","Non-metropolitan","Significantly Rural","HC","On call firefighters","Chinese or other ethnicity",1]
["2018/19","West Sussex","E31000037","Non-metropolitan","Significantly Rural","HC","On call firefighters","Ethnic origin not stated",14]
["2018/19","West Sussex","E31000037","Non-metropolitan","Significantly Rural","HC","On call firefighters","Mixed",0]
["2018/19","West Sussex","E31000037","Non-metropolitan","Significantly Rural","HC","On call firefighters","White British or Irish",27]
["2018/19","West Sussex","E31000037","Non-metropolitan","Significantly Rural","HC","Support staff","Asian or Asian British",0]
["2018/19","West Sussex","E31000037","Non-metropolitan","Significantly Rural","HC","Support staff","Black or Black British",0]
["2018/19","West Sussex","E31000037","Non-metropolitan","Significantly Rural","HC","Support staff","Chinese or other ethnicity",0]
["2018/19","West Sussex","E31000037","Non-metropolitan","Significantly Rural","HC","Support staff","Ethnic origin not stated",10]
["2018/19","West Sussex","E31000037","Non-metropolitan","Significantly Rural","HC","Support staff","Mixed",0]
["2018/19","West Sussex","E31000037","Non-metropolitan","Significantly Rural","HC","Support staff","White British or Irish",1]
["2018/19","West Sussex","E31000037","Non-metropolitan","Significantly Rural","HC","Wholetime firefighters","Asian or Asian British",0]
["2018/19","West Sussex","E31000037","Non-metropolitan","Significantly Rural","HC","Wholetime firefighters","Black or Black British",0]
["2018/19","West Sussex","E31000037","Non-metropolitan","Significantly Rural","HC","Wholetime firefighters","Chinese or other ethnicity",0]
["2018/19","West Sussex","E31000037","Non-metropolitan","Significantly Rural","HC","Wholetime firefighters","Ethnic origin not stated",4]
["2018/19","West Sussex","E31000037","Non-metropolitan","Significantly Rural","HC","Wholetime firefighters","Mixed",0]
["2018/19","West Sussex","E31000037","Non-metropolitan","Significantly Rural","HC","Wholetime firefighters","White British or Irish",13]
["2018/19","West Yorkshire","E31000045","Metropolitan","Predominantly Urban","HC","Fire control","Asian or Asian British",0]
["2018/19","West Yorkshire","E31000045","Metropolitan","Predominantly Urban","HC","Fire control","Black or Black British",0]
["2018/19","West Yorkshire","E31000045","Metropolitan","Predominantly Urban","HC","Fire control","Chinese or other ethnicity",0]
["2018/19","West Yorkshire","E31000045","Metropolitan","Predominantly Urban","HC","Fire control","Ethnic origin not stated",0]
["2018/19","West Yorkshire","E31000045","Metropolitan","Predominantly Urban","HC","Fire control","Mixed",1]
["2018/19","West Yorkshire","E31000045","Metropolitan","Predominantly Urban","HC","Fire control","White British or Irish",4]
["2018/19","West Yorkshire","E31000045","Metropolitan","Predominantly Urban","HC","On call firefighters","Asian or Asian British",0]
["2018/19","West Yorkshire","E31000045","Metropolitan","Predominantly Urban","HC","On call firefighters","Black or Black British",2]
["2018/19","West Yorkshire","E31000045","Metropolitan","Predominantly Urban","HC","On call firefighters","Chinese or other ethnicity",1]
["2018/19","West Yorkshire","E31000045","Metropolitan","Predominantly Urban","HC","On call firefighters","Ethnic origin not stated",0]
["2018/19","West Yorkshire","E31000045","Metropolitan","Predominantly Urban","HC","On call firefighters","Mixed",0]
["2018/19","West Yorkshire","E31000045","Metropolitan","Predominantly Urban","HC","On call firefighters","White British or Irish",19]
["2018/19","West Yorkshire","E31000045","Metropolitan","Predominantly Urban","HC","Support staff","Asian or Asian British",6]
["2018/19","West Yorkshire","E31000045","Metropolitan","Predominantly Urban","HC","Support staff","Black or Black British",1]
["2018/19","West Yorkshire","E31000045","Metropolitan","Predominantly Urban","HC","Support staff","Chinese or other ethnicity",0]
["2018/19","West Yorkshire","E31000045","Metropolitan","Predominantly Urban","HC","Support staff","Ethnic origin not stated",4]
["2018/19","West Yorkshire","E31000045","Metropolitan","Predominantly Urban","HC","Support staff","Mixed",0]
["2018/19","West Yorkshire","E31000045","Metropolitan","Predominantly Urban","HC","Support staff","White British or Irish",33]
["2018/19","West Yorkshire","E31000045","Metropolitan","Predominantly Urban","HC","Wholetime firefighters","Asian or Asian British",1]
["2018/19","West Yorkshire","E31000045","Metropolitan","Predominantly Urban","HC","Wholetime firefighters","Black or Black British",1]
["2018/19","West Yorkshire","E31000045","Metropolitan","Predominantly Urban","HC","Wholetime firefighters","Chinese or other ethnicity",1]
["2018/19","West Yorkshire","E31000045","Metropolitan","Predominantly Urban","HC","Wholetime firefighters","Ethnic origin not stated",0]
["2018/19","West Yorkshire","E31000045","Metropolitan","Predominantly Urban","HC","Wholetime firefighters","Mixed",2]
["2018/19","West Yorkshire","E31000045","Metropolitan","Predominantly Urban","HC","Wholetime firefighters","White British or Irish",61]
["2019/20","Avon","E31000001","Non-metropolitan","Predominantly Urban","HC","Fire control","Asian or Asian British",0]
["2019/20","Avon","E31000001","Non-metropolitan","Predominantly Urban","HC","Fire control","Black or Black British",0]
["2019/20","Avon","E31000001","Non-metropolitan","Predominantly Urban","HC","Fire control","Chinese or other ethnicity",0]
["2019/20","Avon","E31000001","Non-metropolitan","Predominantly Urban","HC","Fire control","Ethnic origin not stated",0]
["2019/20","Avon","E31000001","Non-metropolitan","Predominantly Urban","HC","Fire control","Mixed",0]
["2019/20","Avon","E31000001","Non-metropolitan","Predominantly Urban","HC","Fire control","White British or Irish",4]
["2019/20","Avon","E31000001","Non-metropolitan","Predominantly Urban","HC","On call firefighters","Asian or Asian British",0]
["2019/20","Avon","E31000001","Non-metropolitan","Predominantly Urban","HC","On call firefighters","Black or Black British",0]
["2019/20","Avon","E31000001","Non-metropolitan","Predominantly Urban","HC","On call firefighters","Chinese or other ethnicity",0]
["2019/20","Avon","E31000001","Non-metropolitan","Predominantly Urban","HC","On call firefighters","Ethnic origin not stated",9]
["2019/20","Avon","E31000001","Non-metropolitan","Predominantly Urban","HC","On call firefighters","Mixed",0]
["2019/20","Avon","E31000001","Non-metropolitan","Predominantly Urban","HC","On call firefighters","White British or Irish",16]
["2019/20","Avon","E31000001","Non-metropolitan","Predominantly Urban","HC","Support staff","Asian or Asian British",0]
["2019/20","Avon","E31000001","Non-metropolitan","Predominantly Urban","HC","Support staff","Black or Black British",0]
["2019/20","Avon","E31000001","Non-metropolitan","Predominantly Urban","HC","Support staff","Chinese or other ethnicity",1]
["2019/20","Avon","E31000001","Non-metropolitan","Predominantly Urban","HC","Support staff","Ethnic origin not stated",8]
["2019/20","Avon","E31000001","Non-metropolitan","Predominantly Urban","HC","Support staff","Mixed",1]
["2019/20","Avon","E31000001","Non-metropolitan","Predominantly Urban","HC","Support staff","White British or Irish",21]
["2019/20","Avon","E31000001","Non-metropolitan","Predominantly Urban","HC","Wholetime firefighters","Asian or Asian British",0]
["2019/20","Avon","E31000001","Non-metropolitan","Predominantly Urban","HC","Wholetime firefighters","Black or Black British",0]
["2019/20","Avon","E31000001","Non-metropolitan","Predominantly Urban","HC","Wholetime firefighters","Chinese or other ethnicity",0]
["2019/20","Avon","E31000001","Non-metropolitan","Predominantly Urban","HC","Wholetime firefighters","Ethnic origin not stated",0]
["2019/20","Avon","E31000001","Non-metropolitan","Predominantly Urban","HC","Wholetime firefighters","Mixed",0]
["2019/20","Avon","E31000001","Non-metropolitan","Predominantly Urban","HC","Wholetime firefighters","White British or Irish",18]
["2019/20","Bedfordshire","E31000002","Non-metropolitan","Significantly Rural","HC","Fire control","Asian or Asian British",0]
["2019/20","Bedfordshire","E31000002","Non-metropolitan","Significantly Rural","HC","Fire control","Black or Black British",0]
["2019/20","Bedfordshire","E31000002","Non-metropolitan","Significantly Rural","HC","Fire control","Chinese or other ethnicity",0]
["2019/20","Bedfordshire","E31000002","Non-metropolitan","Significantly Rural","HC","Fire control","Ethnic origin not stated",1]
["2019/20","Bedfordshire","E31000002","Non-metropolitan","Significantly Rural","HC","Fire control","Mixed",0]
["2019/20","Bedfordshire","E31000002","Non-metropolitan","Significantly Rural","HC","Fire control","White British or Irish",2]
["2019/20","Bedfordshire","E31000002","Non-metropolitan","Significantly Rural","HC","On call firefighters","Asian or Asian British",0]
["2019/20","Bedfordshire","E31000002","Non-metropolitan","Significantly Rural","HC","On call firefighters","Black or Black British",1]
["2019/20","Bedfordshire","E31000002","Non-metropolitan","Significantly Rural","HC","On call firefighters","Chinese or other ethnicity",0]
["2019/20","Bedfordshire","E31000002","Non-metropolitan","Significantly Rural","HC","On call firefighters","Ethnic origin not stated",2]
["2019/20","Bedfordshire","E31000002","Non-metropolitan","Significantly Rural","HC","On call firefighters","Mixed",0]
["2019/20","Bedfordshire","E31000002","Non-metropolitan","Significantly Rural","HC","On call firefighters","White British or Irish",23]
["2019/20","Bedfordshire","E31000002","Non-metropolitan","Significantly Rural","HC","Support staff","Asian or Asian British",1]
["2019/20","Bedfordshire","E31000002","Non-metropolitan","Significantly Rural","HC","Support staff","Black or Black British",2]
["2019/20","Bedfordshire","E31000002","Non-metropolitan","Significantly Rural","HC","Support staff","Chinese or other ethnicity",0]
["2019/20","Bedfordshire","E31000002","Non-metropolitan","Significantly Rural","HC","Support staff","Ethnic origin not stated",1]
["2019/20","Bedfordshire","E31000002","Non-metropolitan","Significantly Rural","HC","Support staff","Mixed",0]
["2019/20","Bedfordshire","E31000002","Non-metropolitan","Significantly Rural","HC","Support staff","White British or Irish",16]
["2019/20","Bedfordshire","E31000002","Non-metropolitan","Significantly Rural","HC","Wholetime firefighters","Asian or Asian British",1]
["2019/20","Bedfordshire","E31000002","Non-metropolitan","Significantly Rural","HC","Wholetime firefighters","Black or Black British",0]
["2019/20","Bedfordshire","E31000002","Non-metropolitan","Significantly Rural","HC","Wholetime firefighters","Chinese or other ethnicity",1]
["2019/20","Bedfordshire","E31000002","Non-metropolitan","Significantly Rural","HC","Wholetime firefighters","Ethnic origin not stated",0]
["2019/20","Bedfordshire","E31000002","Non-metropolitan","Significantly Rural","HC","Wholetime firefighters","Mixed",0]
["2019/20","Bedfordshire","E31000002","Non-metropolitan","Significantly Rural","HC","Wholetime firefighters","White British or Irish",19]
["2019/20","Berkshire","E31000003","Non-metropolitan","Predominantly Urban","HC","Fire control","Asian or Asian British",0]
["2019/20","Berkshire","E31000003","Non-metropolitan","Predominantly Urban","HC","Fire control","Black or Black British",0]
["2019/20","Berkshire","E31000003","Non-metropolitan","Predominantly Urban","HC","Fire control","Chinese or other ethnicity",0]
["2019/20","Berkshire","E31000003","Non-metropolitan","Predominantly Urban","HC","Fire control","Ethnic origin not stated",1]
["2019/20","Berkshire","E31000003","Non-metropolitan","Predominantly Urban","HC","Fire control","Mixed",0]
["2019/20","Berkshire","E31000003","Non-metropolitan","Predominantly Urban","HC","Fire control","White British or Irish",2]
["2019/20","Berkshire","E31000003","Non-metropolitan","Predominantly Urban","HC","On call firefighters","Asian or Asian British",0]
["2019/20","Berkshire","E31000003","Non-metropolitan","Predominantly Urban","HC","On call firefighters","Black or Black British",0]
["2019/20","Berkshire","E31000003","Non-metropolitan","Predominantly Urban","HC","On call firefighters","Chinese or other ethnicity",1]
["2019/20","Berkshire","E31000003","Non-metropolitan","Predominantly Urban","HC","On call firefighters","Ethnic origin not stated",0]
["2019/20","Berkshire","E31000003","Non-metropolitan","Predominantly Urban","HC","On call firefighters","Mixed",0]
["2019/20","Berkshire","E31000003","Non-metropolitan","Predominantly Urban","HC","On call firefighters","White British or Irish",12]
["2019/20","Berkshire","E31000003","Non-metropolitan","Predominantly Urban","HC","Support staff","Asian or Asian British",1]
["2019/20","Berkshire","E31000003","Non-metropolitan","Predominantly Urban","HC","Support staff","Black or Black British",1]
["2019/20","Berkshire","E31000003","Non-metropolitan","Predominantly Urban","HC","Support staff","Chinese or other ethnicity",1]
["2019/20","Berkshire","E31000003","Non-metropolitan","Predominantly Urban","HC","Support staff","Ethnic origin not stated",0]
["2019/20","Berkshire","E31000003","Non-metropolitan","Predominantly Urban","HC","Support staff","Mixed",0]
["2019/20","Berkshire","E31000003","Non-metropolitan","Predominantly Urban","HC","Support staff","White British or Irish",25]
["2019/20","Berkshire","E31000003","Non-metropolitan","Predominantly Urban","HC","Wholetime firefighters","Asian or Asian British",0]
["2019/20","Berkshire","E31000003","Non-metropolitan","Predominantly Urban","HC","Wholetime firefighters","Black or Black British",0]
["2019/20","Berkshire","E31000003","Non-metropolitan","Predominantly Urban","HC","Wholetime firefighters","Chinese or other ethnicity",1]
["2019/20","Berkshire","E31000003","Non-metropolitan","Predominantly Urban","HC","Wholetime firefighters","Ethnic origin not stated",0]
["2019/20","Berkshire","E31000003","Non-metropolitan","Predominantly Urban","HC","Wholetime firefighters","Mixed",1]
["2019/20","Berkshire","E31000003","Non-metropolitan","Predominantly Urban","HC","Wholetime firefighters","White British or Irish",21]
["2019/20","Buckinghamshire","E31000004","Non-metropolitan","Significantly Rural","HC","Fire control","Asian or Asian British",0]
["2019/20","Buckinghamshire","E31000004","Non-metropolitan","Significantly Rural","HC","Fire control","Black or Black British",0]
["2019/20","Buckinghamshire","E31000004","Non-metropolitan","Significantly Rural","HC","Fire control","Chinese or other ethnicity",0]
["2019/20","Buckinghamshire","E31000004","Non-metropolitan","Significantly Rural","HC","Fire control","Ethnic origin not stated",0]
["2019/20","Buckinghamshire","E31000004","Non-metropolitan","Significantly Rural","HC","Fire control","Mixed",0]
["2019/20","Buckinghamshire","E31000004","Non-metropolitan","Significantly Rural","HC","Fire control","White British or Irish",0]
["2019/20","Buckinghamshire","E31000004","Non-metropolitan","Significantly Rural","HC","On call firefighters","Asian or Asian British",0]
["2019/20","Buckinghamshire","E31000004","Non-metropolitan","Significantly Rural","HC","On call firefighters","Black or Black British",0]
["2019/20","Buckinghamshire","E31000004","Non-metropolitan","Significantly Rural","HC","On call firefighters","Chinese or other ethnicity",0]
["2019/20","Buckinghamshire","E31000004","Non-metropolitan","Significantly Rural","HC","On call firefighters","Ethnic origin not stated",2]
["2019/20","Buckinghamshire","E31000004","Non-metropolitan","Significantly Rural","HC","On call firefighters","Mixed",0]
["2019/20","Buckinghamshire","E31000004","Non-metropolitan","Significantly Rural","HC","On call firefighters","White British or Irish",19]
["2019/20","Buckinghamshire","E31000004","Non-metropolitan","Significantly Rural","HC","Support staff","Asian or Asian British",2]
["2019/20","Buckinghamshire","E31000004","Non-metropolitan","Significantly Rural","HC","Support staff","Black or Black British",3]
["2019/20","Buckinghamshire","E31000004","Non-metropolitan","Significantly Rural","HC","Support staff","Chinese or other ethnicity",0]
["2019/20","Buckinghamshire","E31000004","Non-metropolitan","Significantly Rural","HC","Support staff","Ethnic origin not stated",4]
["2019/20","Buckinghamshire","E31000004","Non-metropolitan","Significantly Rural","HC","Support staff","Mixed",1]
["2019/20","Buckinghamshire","E31000004","Non-metropolitan","Significantly Rural","HC","Support staff","White British or Irish",15]
["2019/20","Buckinghamshire","E31000004","Non-metropolitan","Significantly Rural","HC","Wholetime firefighters","Asian or Asian British",0]
["2019/20","Buckinghamshire","E31000004","Non-metropolitan","Significantly Rural","HC","Wholetime firefighters","Black or Black British",0]
["2019/20","Buckinghamshire","E31000004","Non-metropolitan","Significantly Rural","HC","Wholetime firefighters","Chinese or other ethnicity",0]
["2019/20","Buckinghamshire","E31000004","Non-metropolitan","Significantly Rural","HC","Wholetime firefighters","Ethnic origin not stated",4]
["2019/20","Buckinghamshire","E31000004","Non-metropolitan","Significantly Rural","HC","Wholetime firefighters","Mixed",0]
["2019/20","Buckinghamshire","E31000004","Non-metropolitan","Significantly Rural","HC","Wholetime firefighters","White British or Irish",17]
["2019/20","Cambridgeshire","E31000005","Non-metropolitan","Predominantly Rural","HC","Fire control","Asian or Asian British",1]
["2019/20","Cambridgeshire","E31000005","Non-metropolitan","Predominantly Rural","HC","Fire control","Black or Black British",0]
["2019/20","Cambridgeshire","E31000005","Non-metropolitan","Predominantly Rural","HC","Fire control","Chinese or other ethnicity",0]
["2019/20","Cambridgeshire","E31000005","Non-metropolitan","Predominantly Rural","HC","Fire control","Ethnic origin not stated",1]
["2019/20","Cambridgeshire","E31000005","Non-metropolitan","Predominantly Rural","HC","Fire control","Mixed",0]
["2019/20","Cambridgeshire","E31000005","Non-metropolitan","Predominantly Rural","HC","Fire control","White British or Irish",3]
["2019/20","Cambridgeshire","E31000005","Non-metropolitan","Predominantly Rural","HC","On call firefighters","Asian or Asian British",0]
["2019/20","Cambridgeshire","E31000005","Non-metropolitan","Predominantly Rural","HC","On call firefighters","Black or Black British",0]
["2019/20","Cambridgeshire","E31000005","Non-metropolitan","Predominantly Rural","HC","On call firefighters","Chinese or other ethnicity",2]
["2019/20","Cambridgeshire","E31000005","Non-metropolitan","Predominantly Rural","HC","On call firefighters","Ethnic origin not stated",0]
["2019/20","Cambridgeshire","E31000005","Non-metropolitan","Predominantly Rural","HC","On call firefighters","Mixed",0]
["2019/20","Cambridgeshire","E31000005","Non-metropolitan","Predominantly Rural","HC","On call firefighters","White British or Irish",34]
["2019/20","Cambridgeshire","E31000005","Non-metropolitan","Predominantly Rural","HC","Support staff","Asian or Asian British",1]
["2019/20","Cambridgeshire","E31000005","Non-metropolitan","Predominantly Rural","HC","Support staff","Black or Black British",0]
["2019/20","Cambridgeshire","E31000005","Non-metropolitan","Predominantly Rural","HC","Support staff","Chinese or other ethnicity",0]
["2019/20","Cambridgeshire","E31000005","Non-metropolitan","Predominantly Rural","HC","Support staff","Ethnic origin not stated",3]
["2019/20","Cambridgeshire","E31000005","Non-metropolitan","Predominantly Rural","HC","Support staff","Mixed",0]
["2019/20","Cambridgeshire","E31000005","Non-metropolitan","Predominantly Rural","HC","Support staff","White British or Irish",14]
["2019/20","Cambridgeshire","E31000005","Non-metropolitan","Predominantly Rural","HC","Wholetime firefighters","Asian or Asian British",0]
["2019/20","Cambridgeshire","E31000005","Non-metropolitan","Predominantly Rural","HC","Wholetime firefighters","Black or Black British",0]
["2019/20","Cambridgeshire","E31000005","Non-metropolitan","Predominantly Rural","HC","Wholetime firefighters","Chinese or other ethnicity",0]
["2019/20","Cambridgeshire","E31000005","Non-metropolitan","Predominantly Rural","HC","Wholetime firefighters","Ethnic origin not stated",0]
["2019/20","Cambridgeshire","E31000005","Non-metropolitan","Predominantly Rural","HC","Wholetime firefighters","Mixed",1]
["2019/20","Cambridgeshire","E31000005","Non-metropolitan","Predominantly Rural","HC","Wholetime firefighters","White British or Irish",7]
["2019/20","Cheshire","E31000006","Non-metropolitan","Significantly Rural","HC","Fire control","Asian or Asian British",0]
["2019/20","Cheshire","E31000006","Non-metropolitan","Significantly Rural","HC","Fire control","Black or Black British",0]
["2019/20","Cheshire","E31000006","Non-metropolitan","Significantly Rural","HC","Fire control","Chinese or other ethnicity",0]
["2019/20","Cheshire","E31000006","Non-metropolitan","Significantly Rural","HC","Fire control","Ethnic origin not stated",0]
["2019/20","Cheshire","E31000006","Non-metropolitan","Significantly Rural","HC","Fire control","Mixed",0]
["2019/20","Cheshire","E31000006","Non-metropolitan","Significantly Rural","HC","Fire control","White British or Irish",0]
["2019/20","Cheshire","E31000006","Non-metropolitan","Significantly Rural","HC","On call firefighters","Asian or Asian British",0]
["2019/20","Cheshire","E31000006","Non-metropolitan","Significantly Rural","HC","On call firefighters","Black or Black British",0]
["2019/20","Cheshire","E31000006","Non-metropolitan","Significantly Rural","HC","On call firefighters","Chinese or other ethnicity",1]
["2019/20","Cheshire","E31000006","Non-metropolitan","Significantly Rural","HC","On call firefighters","Ethnic origin not stated",4]
["2019/20","Cheshire","E31000006","Non-metropolitan","Significantly Rural","HC","On call firefighters","Mixed",0]
["2019/20","Cheshire","E31000006","Non-metropolitan","Significantly Rural","HC","On call firefighters","White British or Irish",34]
["2019/20","Cheshire","E31000006","Non-metropolitan","Significantly Rural","HC","Support staff","Asian or Asian British",0]
["2019/20","Cheshire","E31000006","Non-metropolitan","Significantly Rural","HC","Support staff","Black or Black British",0]
["2019/20","Cheshire","E31000006","Non-metropolitan","Significantly Rural","HC","Support staff","Chinese or other ethnicity",0]
["2019/20","Cheshire","E31000006","Non-metropolitan","Significantly Rural","HC","Support staff","Ethnic origin not stated",0]
["2019/20","Cheshire","E31000006","Non-metropolitan","Significantly Rural","HC","Support staff","Mixed",1]
["2019/20","Cheshire","E31000006","Non-metropolitan","Significantly Rural","HC","Support staff","White British or Irish",30]
["2019/20","Cheshire","E31000006","Non-metropolitan","Significantly Rural","HC","Wholetime firefighters","Asian or Asian British",0]
["2019/20","Cheshire","E31000006","Non-metropolitan","Significantly Rural","HC","Wholetime firefighters","Black or Black British",0]
["2019/20","Cheshire","E31000006","Non-metropolitan","Significantly Rural","HC","Wholetime firefighters","Chinese or other ethnicity",0]
["2019/20","Cheshire","E31000006","Non-metropolitan","Significantly Rural","HC","Wholetime firefighters","Ethnic origin not stated",0]
["2019/20","Cheshire","E31000006","Non-metropolitan","Significantly Rural","HC","Wholetime firefighters","Mixed",0]
["2019/20","Cheshire","E31000006","Non-metropolitan","Significantly Rural","HC","Wholetime firefighters","White British or Irish",23]
["2019/20","Cleveland","E31000007","Non-metropolitan","Predominantly Urban","HC","Fire control","Asian or Asian British",0]
["2019/20","Cleveland","E31000007","Non-metropolitan","Predominantly Urban","HC","Fire control","Black or Black British",0]
["2019/20","Cleveland","E31000007","Non-metropolitan","Predominantly Urban","HC","Fire control","Chinese or other ethnicity",0]
["2019/20","Cleveland","E31000007","Non-metropolitan","Predominantly Urban","HC","Fire control","Ethnic origin not stated",0]
["2019/20","Cleveland","E31000007","Non-metropolitan","Predominantly Urban","HC","Fire control","Mixed",0]
["2019/20","Cleveland","E31000007","Non-metropolitan","Predominantly Urban","HC","Fire control","White British or Irish",4]
["2019/20","Cleveland","E31000007","Non-metropolitan","Predominantly Urban","HC","On call firefighters","Asian or Asian British",0]
["2019/20","Cleveland","E31000007","Non-metropolitan","Predominantly Urban","HC","On call firefighters","Black or Black British",0]
["2019/20","Cleveland","E31000007","Non-metropolitan","Predominantly Urban","HC","On call firefighters","Chinese or other ethnicity",1]
["2019/20","Cleveland","E31000007","Non-metropolitan","Predominantly Urban","HC","On call firefighters","Ethnic origin not stated",0]
["2019/20","Cleveland","E31000007","Non-metropolitan","Predominantly Urban","HC","On call firefighters","Mixed",0]
["2019/20","Cleveland","E31000007","Non-metropolitan","Predominantly Urban","HC","On call firefighters","White British or Irish",6]
["2019/20","Cleveland","E31000007","Non-metropolitan","Predominantly Urban","HC","Support staff","Asian or Asian British",0]
["2019/20","Cleveland","E31000007","Non-metropolitan","Predominantly Urban","HC","Support staff","Black or Black British",0]
["2019/20","Cleveland","E31000007","Non-metropolitan","Predominantly Urban","HC","Support staff","Chinese or other ethnicity",0]
["2019/20","Cleveland","E31000007","Non-metropolitan","Predominantly Urban","HC","Support staff","Ethnic origin not stated",0]
["2019/20","Cleveland","E31000007","Non-metropolitan","Predominantly Urban","HC","Support staff","Mixed",0]
["2019/20","Cleveland","E31000007","Non-metropolitan","Predominantly Urban","HC","Support staff","White British or Irish",8]
["2019/20","Cleveland","E31000007","Non-metropolitan","Predominantly Urban","HC","Wholetime firefighters","Asian or Asian British",0]
["2019/20","Cleveland","E31000007","Non-metropolitan","Predominantly Urban","HC","Wholetime firefighters","Black or Black British",0]
["2019/20","Cleveland","E31000007","Non-metropolitan","Predominantly Urban","HC","Wholetime firefighters","Chinese or other ethnicity",1]
["2019/20","Cleveland","E31000007","Non-metropolitan","Predominantly Urban","HC","Wholetime firefighters","Ethnic origin not stated",0]
["2019/20","Cleveland","E31000007","Non-metropolitan","Predominantly Urban","HC","Wholetime firefighters","Mixed",0]
["2019/20","Cleveland","E31000007","Non-metropolitan","Predominantly Urban","HC","Wholetime firefighters","White British or Irish",31]
["2019/20","Cornwall","E31000008","Non-metropolitan","Predominantly Rural","HC","Fire control","Asian or Asian British",0]
["2019/20","Cornwall","E31000008","Non-metropolitan","Predominantly Rural","HC","Fire control","Black or Black British",0]
["2019/20","Cornwall","E31000008","Non-metropolitan","Predominantly Rural","HC","Fire control","Chinese or other ethnicity",0]
["2019/20","Cornwall","E31000008","Non-metropolitan","Predominantly Rural","HC","Fire control","Ethnic origin not stated",1]
["2019/20","Cornwall","E31000008","Non-metropolitan","Predominantly Rural","HC","Fire control","Mixed",0]
["2019/20","Cornwall","E31000008","Non-metropolitan","Predominantly Rural","HC","Fire control","White British or Irish",0]
["2019/20","Cornwall","E31000008","Non-metropolitan","Predominantly Rural","HC","On call firefighters","Asian or Asian British",0]
["2019/20","Cornwall","E31000008","Non-metropolitan","Predominantly Rural","HC","On call firefighters","Black or Black British",0]
["2019/20","Cornwall","E31000008","Non-metropolitan","Predominantly Rural","HC","On call firefighters","Chinese or other ethnicity",0]
["2019/20","Cornwall","E31000008","Non-metropolitan","Predominantly Rural","HC","On call firefighters","Ethnic origin not stated",38]
["2019/20","Cornwall","E31000008","Non-metropolitan","Predominantly Rural","HC","On call firefighters","Mixed",0]
["2019/20","Cornwall","E31000008","Non-metropolitan","Predominantly Rural","HC","On call firefighters","White British or Irish",2]
["2019/20","Cornwall","E31000008","Non-metropolitan","Predominantly Rural","HC","Support staff","Asian or Asian British",0]
["2019/20","Cornwall","E31000008","Non-metropolitan","Predominantly Rural","HC","Support staff","Black or Black British",0]
["2019/20","Cornwall","E31000008","Non-metropolitan","Predominantly Rural","HC","Support staff","Chinese or other ethnicity",0]
["2019/20","Cornwall","E31000008","Non-metropolitan","Predominantly Rural","HC","Support staff","Ethnic origin not stated",7]
["2019/20","Cornwall","E31000008","Non-metropolitan","Predominantly Rural","HC","Support staff","Mixed",0]
["2019/20","Cornwall","E31000008","Non-metropolitan","Predominantly Rural","HC","Support staff","White British or Irish",2]
["2019/20","Cornwall","E31000008","Non-metropolitan","Predominantly Rural","HC","Wholetime firefighters","Asian or Asian British",0]
["2019/20","Cornwall","E31000008","Non-metropolitan","Predominantly Rural","HC","Wholetime firefighters","Black or Black British",0]
["2019/20","Cornwall","E31000008","Non-metropolitan","Predominantly Rural","HC","Wholetime firefighters","Chinese or other ethnicity",0]
["2019/20","Cornwall","E31000008","Non-metropolitan","Predominantly Rural","HC","Wholetime firefighters","Ethnic origin not stated",7]
["2019/20","Cornwall","E31000008","Non-metropolitan","Predominantly Rural","HC","Wholetime firefighters","Mixed",0]
["2019/20","Cornwall","E31000008","Non-metropolitan","Predominantly Rural","HC","Wholetime firefighters","White British or Irish",0]
["2019/20","Cumbria","E31000009","Non-metropolitan","Predominantly Rural","HC","Fire control","Asian or Asian British",0]
["2019/20","Cumbria","E31000009","Non-metropolitan","Predominantly Rural","HC","Fire control","Black or Black British",0]
["2019/20","Cumbria","E31000009","Non-metropolitan","Predominantly Rural","HC","Fire control","Chinese or other ethnicity",0]
["2019/20","Cumbria","E31000009","Non-metropolitan","Predominantly Rural","HC","Fire control","Ethnic origin not stated",0]
["2019/20","Cumbria","E31000009","Non-metropolitan","Predominantly Rural","HC","Fire control","Mixed",0]
["2019/20","Cumbria","E31000009","Non-metropolitan","Predominantly Rural","HC","Fire control","White British or Irish",0]
["2019/20","Cumbria","E31000009","Non-metropolitan","Predominantly Rural","HC","On call firefighters","Asian or Asian British",0]
["2019/20","Cumbria","E31000009","Non-metropolitan","Predominantly Rural","HC","On call firefighters","Black or Black British",0]
["2019/20","Cumbria","E31000009","Non-metropolitan","Predominantly Rural","HC","On call firefighters","Chinese or other ethnicity",0]
["2019/20","Cumbria","E31000009","Non-metropolitan","Predominantly Rural","HC","On call firefighters","Ethnic origin not stated",41]
["2019/20","Cumbria","E31000009","Non-metropolitan","Predominantly Rural","HC","On call firefighters","Mixed",0]
["2019/20","Cumbria","E31000009","Non-metropolitan","Predominantly Rural","HC","On call firefighters","White British or Irish",1]
["2019/20","Cumbria","E31000009","Non-metropolitan","Predominantly Rural","HC","Support staff","Asian or Asian British",1]
["2019/20","Cumbria","E31000009","Non-metropolitan","Predominantly Rural","HC","Support staff","Black or Black British",0]
["2019/20","Cumbria","E31000009","Non-metropolitan","Predominantly Rural","HC","Support staff","Chinese or other ethnicity",0]
["2019/20","Cumbria","E31000009","Non-metropolitan","Predominantly Rural","HC","Support staff","Ethnic origin not stated",1]
["2019/20","Cumbria","E31000009","Non-metropolitan","Predominantly Rural","HC","Support staff","Mixed",0]
["2019/20","Cumbria","E31000009","Non-metropolitan","Predominantly Rural","HC","Support staff","White British or Irish",11]
["2019/20","Cumbria","E31000009","Non-metropolitan","Predominantly Rural","HC","Wholetime firefighters","Asian or Asian British",0]
["2019/20","Cumbria","E31000009","Non-metropolitan","Predominantly Rural","HC","Wholetime firefighters","Black or Black British",0]
["2019/20","Cumbria","E31000009","Non-metropolitan","Predominantly Rural","HC","Wholetime firefighters","Chinese or other ethnicity",0]
["2019/20","Cumbria","E31000009","Non-metropolitan","Predominantly Rural","HC","Wholetime firefighters","Ethnic origin not stated",9]
["2019/20","Cumbria","E31000009","Non-metropolitan","Predominantly Rural","HC","Wholetime firefighters","Mixed",0]
["2019/20","Cumbria","E31000009","Non-metropolitan","Predominantly Rural","HC","Wholetime firefighters","White British or Irish",3]
["2019/20","Derbyshire","E31000010","Non-metropolitan","Significantly Rural","HC","Fire control","Asian or Asian British",0]
["2019/20","Derbyshire","E31000010","Non-metropolitan","Significantly Rural","HC","Fire control","Black or Black British",0]
["2019/20","Derbyshire","E31000010","Non-metropolitan","Significantly Rural","HC","Fire control","Chinese or other ethnicity",0]
["2019/20","Derbyshire","E31000010","Non-metropolitan","Significantly Rural","HC","Fire control","Ethnic origin not stated",0]
["2019/20","Derbyshire","E31000010","Non-metropolitan","Significantly Rural","HC","Fire control","Mixed",0]
["2019/20","Derbyshire","E31000010","Non-metropolitan","Significantly Rural","HC","Fire control","White British or Irish",6]
["2019/20","Derbyshire","E31000010","Non-metropolitan","Significantly Rural","HC","On call firefighters","Asian or Asian British",0]
["2019/20","Derbyshire","E31000010","Non-metropolitan","Significantly Rural","HC","On call firefighters","Black or Black British",0]
["2019/20","Derbyshire","E31000010","Non-metropolitan","Significantly Rural","HC","On call firefighters","Chinese or other ethnicity",2]
["2019/20","Derbyshire","E31000010","Non-metropolitan","Significantly Rural","HC","On call firefighters","Ethnic origin not stated",0]
["2019/20","Derbyshire","E31000010","Non-metropolitan","Significantly Rural","HC","On call firefighters","Mixed",0]
["2019/20","Derbyshire","E31000010","Non-metropolitan","Significantly Rural","HC","On call firefighters","White British or Irish",40]
["2019/20","Derbyshire","E31000010","Non-metropolitan","Significantly Rural","HC","Support staff","Asian or Asian British",0]
["2019/20","Derbyshire","E31000010","Non-metropolitan","Significantly Rural","HC","Support staff","Black or Black British",0]
["2019/20","Derbyshire","E31000010","Non-metropolitan","Significantly Rural","HC","Support staff","Chinese or other ethnicity",0]
["2019/20","Derbyshire","E31000010","Non-metropolitan","Significantly Rural","HC","Support staff","Ethnic origin not stated",1]
["2019/20","Derbyshire","E31000010","Non-metropolitan","Significantly Rural","HC","Support staff","Mixed",2]
["2019/20","Derbyshire","E31000010","Non-metropolitan","Significantly Rural","HC","Support staff","White British or Irish",12]
["2019/20","Derbyshire","E31000010","Non-metropolitan","Significantly Rural","HC","Wholetime firefighters","Asian or Asian British",0]
["2019/20","Derbyshire","E31000010","Non-metropolitan","Significantly Rural","HC","Wholetime firefighters","Black or Black British",0]
["2019/20","Derbyshire","E31000010","Non-metropolitan","Significantly Rural","HC","Wholetime firefighters","Chinese or other ethnicity",0]
["2019/20","Derbyshire","E31000010","Non-metropolitan","Significantly Rural","HC","Wholetime firefighters","Ethnic origin not stated",0]
["2019/20","Derbyshire","E31000010","Non-metropolitan","Significantly Rural","HC","Wholetime firefighters","Mixed",0]
["2019/20","Derbyshire","E31000010","Non-metropolitan","Significantly Rural","HC","Wholetime firefighters","White British or Irish",16]
["2019/20","Devon and Somerset","E31000011","Non-metropolitan","Predominantly Rural","HC","Fire control","Asian or Asian British",0]
["2019/20","Devon and Somerset","E31000011","Non-metropolitan","Predominantly Rural","HC","Fire control","Black or Black British",0]
["2019/20","Devon and Somerset","E31000011","Non-metropolitan","Predominantly Rural","HC","Fire control","Chinese or other ethnicity",0]
["2019/20","Devon and Somerset","E31000011","Non-metropolitan","Predominantly Rural","HC","Fire control","Ethnic origin not stated",0]
["2019/20","Devon and Somerset","E31000011","Non-metropolitan","Predominantly Rural","HC","Fire control","Mixed",0]
["2019/20","Devon and Somerset","E31000011","Non-metropolitan","Predominantly Rural","HC","Fire control","White British or Irish",2]
["2019/20","Devon and Somerset","E31000011","Non-metropolitan","Predominantly Rural","HC","On call firefighters","Asian or Asian British",0]
["2019/20","Devon and Somerset","E31000011","Non-metropolitan","Predominantly Rural","HC","On call firefighters","Black or Black British",0]
["2019/20","Devon and Somerset","E31000011","Non-metropolitan","Predominantly Rural","HC","On call firefighters","Chinese or other ethnicity",6]
["2019/20","Devon and Somerset","E31000011","Non-metropolitan","Predominantly Rural","HC","On call firefighters","Ethnic origin not stated",6]
["2019/20","Devon and Somerset","E31000011","Non-metropolitan","Predominantly Rural","HC","On call firefighters","Mixed",0]
["2019/20","Devon and Somerset","E31000011","Non-metropolitan","Predominantly Rural","HC","On call firefighters","White British or Irish",121]
["2019/20","Devon and Somerset","E31000011","Non-metropolitan","Predominantly Rural","HC","Support staff","Asian or Asian British",1]
["2019/20","Devon and Somerset","E31000011","Non-metropolitan","Predominantly Rural","HC","Support staff","Black or Black British",0]
["2019/20","Devon and Somerset","E31000011","Non-metropolitan","Predominantly Rural","HC","Support staff","Chinese or other ethnicity",0]
["2019/20","Devon and Somerset","E31000011","Non-metropolitan","Predominantly Rural","HC","Support staff","Ethnic origin not stated",1]
["2019/20","Devon and Somerset","E31000011","Non-metropolitan","Predominantly Rural","HC","Support staff","Mixed",1]
["2019/20","Devon and Somerset","E31000011","Non-metropolitan","Predominantly Rural","HC","Support staff","White British or Irish",25]
["2019/20","Devon and Somerset","E31000011","Non-metropolitan","Predominantly Rural","HC","Wholetime firefighters","Asian or Asian British",0]
["2019/20","Devon and Somerset","E31000011","Non-metropolitan","Predominantly Rural","HC","Wholetime firefighters","Black or Black British",0]
["2019/20","Devon and Somerset","E31000011","Non-metropolitan","Predominantly Rural","HC","Wholetime firefighters","Chinese or other ethnicity",0]
["2019/20","Devon and Somerset","E31000011","Non-metropolitan","Predominantly Rural","HC","Wholetime firefighters","Ethnic origin not stated",0]
["2019/20","Devon and Somerset","E31000011","Non-metropolitan","Predominantly Rural","HC","Wholetime firefighters","Mixed",0]
["2019/20","Devon and Somerset","E31000011","Non-metropolitan","Predominantly Rural","HC","Wholetime firefighters","White British or Irish",9]
["2019/20","Dorset and Wiltshire","E31000047","Non-metropolitan","Significantly Rural","HC","Fire control","Asian or Asian British",0]
["2019/20","Dorset and Wiltshire","E31000047","Non-metropolitan","Significantly Rural","HC","Fire control","Black or Black British",0]
["2019/20","Dorset and Wiltshire","E31000047","Non-metropolitan","Significantly Rural","HC","Fire control","Chinese or other ethnicity",0]
["2019/20","Dorset and Wiltshire","E31000047","Non-metropolitan","Significantly Rural","HC","Fire control","Ethnic origin not stated",1]
["2019/20","Dorset and Wiltshire","E31000047","Non-metropolitan","Significantly Rural","HC","Fire control","Mixed",0]
["2019/20","Dorset and Wiltshire","E31000047","Non-metropolitan","Significantly Rural","HC","Fire control","White British or Irish",5]
["2019/20","Dorset and Wiltshire","E31000047","Non-metropolitan","Significantly Rural","HC","On call firefighters","Asian or Asian British",0]
["2019/20","Dorset and Wiltshire","E31000047","Non-metropolitan","Significantly Rural","HC","On call firefighters","Black or Black British",0]
["2019/20","Dorset and Wiltshire","E31000047","Non-metropolitan","Significantly Rural","HC","On call firefighters","Chinese or other ethnicity",6]
["2019/20","Dorset and Wiltshire","E31000047","Non-metropolitan","Significantly Rural","HC","On call firefighters","Ethnic origin not stated",15]
["2019/20","Dorset and Wiltshire","E31000047","Non-metropolitan","Significantly Rural","HC","On call firefighters","Mixed",1]
["2019/20","Dorset and Wiltshire","E31000047","Non-metropolitan","Significantly Rural","HC","On call firefighters","White British or Irish",77]
["2019/20","Dorset and Wiltshire","E31000047","Non-metropolitan","Significantly Rural","HC","Support staff","Asian or Asian British",0]
["2019/20","Dorset and Wiltshire","E31000047","Non-metropolitan","Significantly Rural","HC","Support staff","Black or Black British",0]
["2019/20","Dorset and Wiltshire","E31000047","Non-metropolitan","Significantly Rural","HC","Support staff","Chinese or other ethnicity",0]
["2019/20","Dorset and Wiltshire","E31000047","Non-metropolitan","Significantly Rural","HC","Support staff","Ethnic origin not stated",8]
["2019/20","Dorset and Wiltshire","E31000047","Non-metropolitan","Significantly Rural","HC","Support staff","Mixed",0]
["2019/20","Dorset and Wiltshire","E31000047","Non-metropolitan","Significantly Rural","HC","Support staff","White British or Irish",60]
["2019/20","Dorset and Wiltshire","E31000047","Non-metropolitan","Significantly Rural","HC","Wholetime firefighters","Asian or Asian British",0]
["2019/20","Dorset and Wiltshire","E31000047","Non-metropolitan","Significantly Rural","HC","Wholetime firefighters","Black or Black British",0]
["2019/20","Dorset and Wiltshire","E31000047","Non-metropolitan","Significantly Rural","HC","Wholetime firefighters","Chinese or other ethnicity",0]
["2019/20","Dorset and Wiltshire","E31000047","Non-metropolitan","Significantly Rural","HC","Wholetime firefighters","Ethnic origin not stated",1]
["2019/20","Dorset and Wiltshire","E31000047","Non-metropolitan","Significantly Rural","HC","Wholetime firefighters","Mixed",0]
["2019/20","Dorset and Wiltshire","E31000047","Non-metropolitan","Significantly Rural","HC","Wholetime firefighters","White British or Irish",10]
["2019/20","Durham","E31000013","Non-metropolitan","Predominantly Rural","HC","Fire control","Asian or Asian British",0]
["2019/20","Durham","E31000013","Non-metropolitan","Predominantly Rural","HC","Fire control","Black or Black British",0]
["2019/20","Durham","E31000013","Non-metropolitan","Predominantly Rural","HC","Fire control","Chinese or other ethnicity",0]
["2019/20","Durham","E31000013","Non-metropolitan","Predominantly Rural","HC","Fire control","Ethnic origin not stated",0]
["2019/20","Durham","E31000013","Non-metropolitan","Predominantly Rural","HC","Fire control","Mixed",0]
["2019/20","Durham","E31000013","Non-metropolitan","Predominantly Rural","HC","Fire control","White British or Irish",0]
["2019/20","Durham","E31000013","Non-metropolitan","Predominantly Rural","HC","On call firefighters","Asian or Asian British",0]
["2019/20","Durham","E31000013","Non-metropolitan","Predominantly Rural","HC","On call firefighters","Black or Black British",0]
["2019/20","Durham","E31000013","Non-metropolitan","Predominantly Rural","HC","On call firefighters","Chinese or other ethnicity",1]
["2019/20","Durham","E31000013","Non-metropolitan","Predominantly Rural","HC","On call firefighters","Ethnic origin not stated",20]
["2019/20","Durham","E31000013","Non-metropolitan","Predominantly Rural","HC","On call firefighters","Mixed",0]
["2019/20","Durham","E31000013","Non-metropolitan","Predominantly Rural","HC","On call firefighters","White British or Irish",7]
["2019/20","Durham","E31000013","Non-metropolitan","Predominantly Rural","HC","Support staff","Asian or Asian British",0]
["2019/20","Durham","E31000013","Non-metropolitan","Predominantly Rural","HC","Support staff","Black or Black British",0]
["2019/20","Durham","E31000013","Non-metropolitan","Predominantly Rural","HC","Support staff","Chinese or other ethnicity",0]
["2019/20","Durham","E31000013","Non-metropolitan","Predominantly Rural","HC","Support staff","Ethnic origin not stated",6]
["2019/20","Durham","E31000013","Non-metropolitan","Predominantly Rural","HC","Support staff","Mixed",0]
["2019/20","Durham","E31000013","Non-metropolitan","Predominantly Rural","HC","Support staff","White British or Irish",4]
["2019/20","Durham","E31000013","Non-metropolitan","Predominantly Rural","HC","Wholetime firefighters","Asian or Asian British",0]
["2019/20","Durham","E31000013","Non-metropolitan","Predominantly Rural","HC","Wholetime firefighters","Black or Black British",0]
["2019/20","Durham","E31000013","Non-metropolitan","Predominantly Rural","HC","Wholetime firefighters","Chinese or other ethnicity",0]
["2019/20","Durham","E31000013","Non-metropolitan","Predominantly Rural","HC","Wholetime firefighters","Ethnic origin not stated",8]
["2019/20","Durham","E31000013","Non-metropolitan","Predominantly Rural","HC","Wholetime firefighters","Mixed",0]
["2019/20","Durham","E31000013","Non-metropolitan","Predominantly Rural","HC","Wholetime firefighters","White British or Irish",9]
["2019/20","East Sussex","E31000014","Non-metropolitan","Significantly Rural","HC","Fire control","Asian or Asian British",0]
["2019/20","East Sussex","E31000014","Non-metropolitan","Significantly Rural","HC","Fire control","Black or Black British",0]
["2019/20","East Sussex","E31000014","Non-metropolitan","Significantly Rural","HC","Fire control","Chinese or other ethnicity",1]
["2019/20","East Sussex","E31000014","Non-metropolitan","Significantly Rural","HC","Fire control","Ethnic origin not stated",0]
["2019/20","East Sussex","E31000014","Non-metropolitan","Significantly Rural","HC","Fire control","Mixed",0]
["2019/20","East Sussex","E31000014","Non-metropolitan","Significantly Rural","HC","Fire control","White British or Irish",3]
["2019/20","East Sussex","E31000014","Non-metropolitan","Significantly Rural","HC","On call firefighters","Asian or Asian British",0]
["2019/20","East Sussex","E31000014","Non-metropolitan","Significantly Rural","HC","On call firefighters","Black or Black British",0]
["2019/20","East Sussex","E31000014","Non-metropolitan","Significantly Rural","HC","On call firefighters","Chinese or other ethnicity",0]
["2019/20","East Sussex","E31000014","Non-metropolitan","Significantly Rural","HC","On call firefighters","Ethnic origin not stated",6]
["2019/20","East Sussex","E31000014","Non-metropolitan","Significantly Rural","HC","On call firefighters","Mixed",2]
["2019/20","East Sussex","E31000014","Non-metropolitan","Significantly Rural","HC","On call firefighters","White British or Irish",18]
["2019/20","East Sussex","E31000014","Non-metropolitan","Significantly Rural","HC","Support staff","Asian or Asian British",0]
["2019/20","East Sussex","E31000014","Non-metropolitan","Significantly Rural","HC","Support staff","Black or Black British",0]
["2019/20","East Sussex","E31000014","Non-metropolitan","Significantly Rural","HC","Support staff","Chinese or other ethnicity",0]
["2019/20","East Sussex","E31000014","Non-metropolitan","Significantly Rural","HC","Support staff","Ethnic origin not stated",2]
["2019/20","East Sussex","E31000014","Non-metropolitan","Significantly Rural","HC","Support staff","Mixed",1]
["2019/20","East Sussex","E31000014","Non-metropolitan","Significantly Rural","HC","Support staff","White British or Irish",16]
["2019/20","East Sussex","E31000014","Non-metropolitan","Significantly Rural","HC","Wholetime firefighters","Asian or Asian British",0]
["2019/20","East Sussex","E31000014","Non-metropolitan","Significantly Rural","HC","Wholetime firefighters","Black or Black British",0]
["2019/20","East Sussex","E31000014","Non-metropolitan","Significantly Rural","HC","Wholetime firefighters","Chinese or other ethnicity",0]
["2019/20","East Sussex","E31000014","Non-metropolitan","Significantly Rural","HC","Wholetime firefighters","Ethnic origin not stated",5]
["2019/20","East Sussex","E31000014","Non-metropolitan","Significantly Rural","HC","Wholetime firefighters","Mixed",0]
["2019/20","East Sussex","E31000014","Non-metropolitan","Significantly Rural","HC","Wholetime firefighters","White British or Irish",10]
["2019/20","Essex","E31000015","Non-metropolitan","Significantly Rural","HC","Fire control","Asian or Asian British",0]
["2019/20","Essex","E31000015","Non-metropolitan","Significantly Rural","HC","Fire control","Black or Black British",0]
["2019/20","Essex","E31000015","Non-metropolitan","Significantly Rural","HC","Fire control","Chinese or other ethnicity",0]
["2019/20","Essex","E31000015","Non-metropolitan","Significantly Rural","HC","Fire control","Ethnic origin not stated",0]
["2019/20","Essex","E31000015","Non-metropolitan","Significantly Rural","HC","Fire control","Mixed",0]
["2019/20","Essex","E31000015","Non-metropolitan","Significantly Rural","HC","Fire control","White British or Irish",2]
["2019/20","Essex","E31000015","Non-metropolitan","Significantly Rural","HC","On call firefighters","Asian or Asian British",0]
["2019/20","Essex","E31000015","Non-metropolitan","Significantly Rural","HC","On call firefighters","Black or Black British",1]
["2019/20","Essex","E31000015","Non-metropolitan","Significantly Rural","HC","On call firefighters","Chinese or other ethnicity",1]
["2019/20","Essex","E31000015","Non-metropolitan","Significantly Rural","HC","On call firefighters","Ethnic origin not stated",35]
["2019/20","Essex","E31000015","Non-metropolitan","Significantly Rural","HC","On call firefighters","Mixed",0]
["2019/20","Essex","E31000015","Non-metropolitan","Significantly Rural","HC","On call firefighters","White British or Irish",43]
["2019/20","Essex","E31000015","Non-metropolitan","Significantly Rural","HC","Support staff","Asian or Asian British",0]
["2019/20","Essex","E31000015","Non-metropolitan","Significantly Rural","HC","Support staff","Black or Black British",1]
["2019/20","Essex","E31000015","Non-metropolitan","Significantly Rural","HC","Support staff","Chinese or other ethnicity",2]
["2019/20","Essex","E31000015","Non-metropolitan","Significantly Rural","HC","Support staff","Ethnic origin not stated",19]
["2019/20","Essex","E31000015","Non-metropolitan","Significantly Rural","HC","Support staff","Mixed",1]
["2019/20","Essex","E31000015","Non-metropolitan","Significantly Rural","HC","Support staff","White British or Irish",37]
["2019/20","Essex","E31000015","Non-metropolitan","Significantly Rural","HC","Wholetime firefighters","Asian or Asian British",0]
["2019/20","Essex","E31000015","Non-metropolitan","Significantly Rural","HC","Wholetime firefighters","Black or Black British",0]
["2019/20","Essex","E31000015","Non-metropolitan","Significantly Rural","HC","Wholetime firefighters","Chinese or other ethnicity",1]
["2019/20","Essex","E31000015","Non-metropolitan","Significantly Rural","HC","Wholetime firefighters","Ethnic origin not stated",4]
["2019/20","Essex","E31000015","Non-metropolitan","Significantly Rural","HC","Wholetime firefighters","Mixed",2]
["2019/20","Essex","E31000015","Non-metropolitan","Significantly Rural","HC","Wholetime firefighters","White British or Irish",23]
["2019/20","Gloucestershire","E31000016","Non-metropolitan","Significantly Rural","HC","Fire control","Asian or Asian British",0]
["2019/20","Gloucestershire","E31000016","Non-metropolitan","Significantly Rural","HC","Fire control","Black or Black British",0]
["2019/20","Gloucestershire","E31000016","Non-metropolitan","Significantly Rural","HC","Fire control","Chinese or other ethnicity",0]
["2019/20","Gloucestershire","E31000016","Non-metropolitan","Significantly Rural","HC","Fire control","Ethnic origin not stated",0]
["2019/20","Gloucestershire","E31000016","Non-metropolitan","Significantly Rural","HC","Fire control","Mixed",0]
["2019/20","Gloucestershire","E31000016","Non-metropolitan","Significantly Rural","HC","Fire control","White British or Irish",2]
["2019/20","Gloucestershire","E31000016","Non-metropolitan","Significantly Rural","HC","On call firefighters","Asian or Asian British",0]
["2019/20","Gloucestershire","E31000016","Non-metropolitan","Significantly Rural","HC","On call firefighters","Black or Black British",0]
["2019/20","Gloucestershire","E31000016","Non-metropolitan","Significantly Rural","HC","On call firefighters","Chinese or other ethnicity",0]
["2019/20","Gloucestershire","E31000016","Non-metropolitan","Significantly Rural","HC","On call firefighters","Ethnic origin not stated",25]
["2019/20","Gloucestershire","E31000016","Non-metropolitan","Significantly Rural","HC","On call firefighters","Mixed",1]
["2019/20","Gloucestershire","E31000016","Non-metropolitan","Significantly Rural","HC","On call firefighters","White British or Irish",10]
["2019/20","Gloucestershire","E31000016","Non-metropolitan","Significantly Rural","HC","Support staff","Asian or Asian British",0]
["2019/20","Gloucestershire","E31000016","Non-metropolitan","Significantly Rural","HC","Support staff","Black or Black British",0]
["2019/20","Gloucestershire","E31000016","Non-metropolitan","Significantly Rural","HC","Support staff","Chinese or other ethnicity",0]
["2019/20","Gloucestershire","E31000016","Non-metropolitan","Significantly Rural","HC","Support staff","Ethnic origin not stated",1]
["2019/20","Gloucestershire","E31000016","Non-metropolitan","Significantly Rural","HC","Support staff","Mixed",0]
["2019/20","Gloucestershire","E31000016","Non-metropolitan","Significantly Rural","HC","Support staff","White British or Irish",6]
["2019/20","Gloucestershire","E31000016","Non-metropolitan","Significantly Rural","HC","Wholetime firefighters","Asian or Asian British",0]
["2019/20","Gloucestershire","E31000016","Non-metropolitan","Significantly Rural","HC","Wholetime firefighters","Black or Black British",0]
["2019/20","Gloucestershire","E31000016","Non-metropolitan","Significantly Rural","HC","Wholetime firefighters","Chinese or other ethnicity",0]
["2019/20","Gloucestershire","E31000016","Non-metropolitan","Significantly Rural","HC","Wholetime firefighters","Ethnic origin not stated",1]
["2019/20","Gloucestershire","E31000016","Non-metropolitan","Significantly Rural","HC","Wholetime firefighters","Mixed",0]
["2019/20","Gloucestershire","E31000016","Non-metropolitan","Significantly Rural","HC","Wholetime firefighters","White British or Irish",7]
["2019/20","Greater London","E31000046","Metropolitan","Predominantly Urban","HC","Fire control","Asian or Asian British",0]
["2019/20","Greater London","E31000046","Metropolitan","Predominantly Urban","HC","Fire control","Black or Black British",1]
["2019/20","Greater London","E31000046","Metropolitan","Predominantly Urban","HC","Fire control","Chinese or other ethnicity",1]
["2019/20","Greater London","E31000046","Metropolitan","Predominantly Urban","HC","Fire control","Ethnic origin not stated",0]
["2019/20","Greater London","E31000046","Metropolitan","Predominantly Urban","HC","Fire control","Mixed",1]
["2019/20","Greater London","E31000046","Metropolitan","Predominantly Urban","HC","Fire control","White British or Irish",10]
["2019/20","Greater London","E31000046","Metropolitan","Predominantly Urban","HC","On call firefighters","Asian or Asian British",0]
["2019/20","Greater London","E31000046","Metropolitan","Predominantly Urban","HC","On call firefighters","Black or Black British",0]
["2019/20","Greater London","E31000046","Metropolitan","Predominantly Urban","HC","On call firefighters","Chinese or other ethnicity",0]
["2019/20","Greater London","E31000046","Metropolitan","Predominantly Urban","HC","On call firefighters","Ethnic origin not stated",0]
["2019/20","Greater London","E31000046","Metropolitan","Predominantly Urban","HC","On call firefighters","Mixed",0]
["2019/20","Greater London","E31000046","Metropolitan","Predominantly Urban","HC","On call firefighters","White British or Irish",0]
["2019/20","Greater London","E31000046","Metropolitan","Predominantly Urban","HC","Support staff","Asian or Asian British",7]
["2019/20","Greater London","E31000046","Metropolitan","Predominantly Urban","HC","Support staff","Black or Black British",13]
["2019/20","Greater London","E31000046","Metropolitan","Predominantly Urban","HC","Support staff","Chinese or other ethnicity",10]
["2019/20","Greater London","E31000046","Metropolitan","Predominantly Urban","HC","Support staff","Ethnic origin not stated",5]
["2019/20","Greater London","E31000046","Metropolitan","Predominantly Urban","HC","Support staff","Mixed",5]
["2019/20","Greater London","E31000046","Metropolitan","Predominantly Urban","HC","Support staff","White British or Irish",92]
["2019/20","Greater London","E31000046","Metropolitan","Predominantly Urban","HC","Wholetime firefighters","Asian or Asian British",5]
["2019/20","Greater London","E31000046","Metropolitan","Predominantly Urban","HC","Wholetime firefighters","Black or Black British",13]
["2019/20","Greater London","E31000046","Metropolitan","Predominantly Urban","HC","Wholetime firefighters","Chinese or other ethnicity",18]
["2019/20","Greater London","E31000046","Metropolitan","Predominantly Urban","HC","Wholetime firefighters","Ethnic origin not stated",7]
["2019/20","Greater London","E31000046","Metropolitan","Predominantly Urban","HC","Wholetime firefighters","Mixed",12]
["2019/20","Greater London","E31000046","Metropolitan","Predominantly Urban","HC","Wholetime firefighters","White British or Irish",236]
["2019/20","Greater Manchester","E31000040","Metropolitan","Predominantly Urban","HC","Fire control","Asian or Asian British",0]
["2019/20","Greater Manchester","E31000040","Metropolitan","Predominantly Urban","HC","Fire control","Black or Black British",0]
["2019/20","Greater Manchester","E31000040","Metropolitan","Predominantly Urban","HC","Fire control","Chinese or other ethnicity",0]
["2019/20","Greater Manchester","E31000040","Metropolitan","Predominantly Urban","HC","Fire control","Ethnic origin not stated",0]
["2019/20","Greater Manchester","E31000040","Metropolitan","Predominantly Urban","HC","Fire control","Mixed",0]
["2019/20","Greater Manchester","E31000040","Metropolitan","Predominantly Urban","HC","Fire control","White British or Irish",0]
["2019/20","Greater Manchester","E31000040","Metropolitan","Predominantly Urban","HC","On call firefighters","Asian or Asian British",0]
["2019/20","Greater Manchester","E31000040","Metropolitan","Predominantly Urban","HC","On call firefighters","Black or Black British",0]
["2019/20","Greater Manchester","E31000040","Metropolitan","Predominantly Urban","HC","On call firefighters","Chinese or other ethnicity",0]
["2019/20","Greater Manchester","E31000040","Metropolitan","Predominantly Urban","HC","On call firefighters","Ethnic origin not stated",0]
["2019/20","Greater Manchester","E31000040","Metropolitan","Predominantly Urban","HC","On call firefighters","Mixed",0]
["2019/20","Greater Manchester","E31000040","Metropolitan","Predominantly Urban","HC","On call firefighters","White British or Irish",0]
["2019/20","Greater Manchester","E31000040","Metropolitan","Predominantly Urban","HC","Support staff","Asian or Asian British",0]
["2019/20","Greater Manchester","E31000040","Metropolitan","Predominantly Urban","HC","Support staff","Black or Black British",0]
["2019/20","Greater Manchester","E31000040","Metropolitan","Predominantly Urban","HC","Support staff","Chinese or other ethnicity",0]
["2019/20","Greater Manchester","E31000040","Metropolitan","Predominantly Urban","HC","Support staff","Ethnic origin not stated",0]
["2019/20","Greater Manchester","E31000040","Metropolitan","Predominantly Urban","HC","Support staff","Mixed",0]
["2019/20","Greater Manchester","E31000040","Metropolitan","Predominantly Urban","HC","Support staff","White British or Irish",4]
["2019/20","Greater Manchester","E31000040","Metropolitan","Predominantly Urban","HC","Wholetime firefighters","Asian or Asian British",0]
["2019/20","Greater Manchester","E31000040","Metropolitan","Predominantly Urban","HC","Wholetime firefighters","Black or Black British",0]
["2019/20","Greater Manchester","E31000040","Metropolitan","Predominantly Urban","HC","Wholetime firefighters","Chinese or other ethnicity",2]
["2019/20","Greater Manchester","E31000040","Metropolitan","Predominantly Urban","HC","Wholetime firefighters","Ethnic origin not stated",9]
["2019/20","Greater Manchester","E31000040","Metropolitan","Predominantly Urban","HC","Wholetime firefighters","Mixed",3]
["2019/20","Greater Manchester","E31000040","Metropolitan","Predominantly Urban","HC","Wholetime firefighters","White British or Irish",57]
["2019/20","Hampshire and Isle of Wight","E31000048","Non-metropolitan","Significantly Rural","HC","Fire control","Asian or Asian British",0]
["2019/20","Hampshire and Isle of Wight","E31000048","Non-metropolitan","Significantly Rural","HC","Fire control","Black or Black British",0]
["2019/20","Hampshire and Isle of Wight","E31000048","Non-metropolitan","Significantly Rural","HC","Fire control","Chinese or other ethnicity",0]
["2019/20","Hampshire and Isle of Wight","E31000048","Non-metropolitan","Significantly Rural","HC","Fire control","Ethnic origin not stated",0]
["2019/20","Hampshire and Isle of Wight","E31000048","Non-metropolitan","Significantly Rural","HC","Fire control","Mixed",0]
["2019/20","Hampshire and Isle of Wight","E31000048","Non-metropolitan","Significantly Rural","HC","Fire control","White British or Irish",2]
["2019/20","Hampshire and Isle of Wight","E31000048","Non-metropolitan","Significantly Rural","HC","On call firefighters","Asian or Asian British",0]
["2019/20","Hampshire and Isle of Wight","E31000048","Non-metropolitan","Significantly Rural","HC","On call firefighters","Black or Black British",1]
["2019/20","Hampshire and Isle of Wight","E31000048","Non-metropolitan","Significantly Rural","HC","On call firefighters","Chinese or other ethnicity",5]
["2019/20","Hampshire and Isle of Wight","E31000048","Non-metropolitan","Significantly Rural","HC","On call firefighters","Ethnic origin not stated",3]
["2019/20","Hampshire and Isle of Wight","E31000048","Non-metropolitan","Significantly Rural","HC","On call firefighters","Mixed",0]
["2019/20","Hampshire and Isle of Wight","E31000048","Non-metropolitan","Significantly Rural","HC","On call firefighters","White British or Irish",77]
["2019/20","Hampshire and Isle of Wight","E31000048","Non-metropolitan","Significantly Rural","HC","Support staff","Asian or Asian British",1]
["2019/20","Hampshire and Isle of Wight","E31000048","Non-metropolitan","Significantly Rural","HC","Support staff","Black or Black British",0]
["2019/20","Hampshire and Isle of Wight","E31000048","Non-metropolitan","Significantly Rural","HC","Support staff","Chinese or other ethnicity",3]
["2019/20","Hampshire and Isle of Wight","E31000048","Non-metropolitan","Significantly Rural","HC","Support staff","Ethnic origin not stated",1]
["2019/20","Hampshire and Isle of Wight","E31000048","Non-metropolitan","Significantly Rural","HC","Support staff","Mixed",1]
["2019/20","Hampshire and Isle of Wight","E31000048","Non-metropolitan","Significantly Rural","HC","Support staff","White British or Irish",46]
["2019/20","Hampshire and Isle of Wight","E31000048","Non-metropolitan","Significantly Rural","HC","Wholetime firefighters","Asian or Asian British",0]
["2019/20","Hampshire and Isle of Wight","E31000048","Non-metropolitan","Significantly Rural","HC","Wholetime firefighters","Black or Black British",1]
["2019/20","Hampshire and Isle of Wight","E31000048","Non-metropolitan","Significantly Rural","HC","Wholetime firefighters","Chinese or other ethnicity",1]
["2019/20","Hampshire and Isle of Wight","E31000048","Non-metropolitan","Significantly Rural","HC","Wholetime firefighters","Ethnic origin not stated",0]
["2019/20","Hampshire and Isle of Wight","E31000048","Non-metropolitan","Significantly Rural","HC","Wholetime firefighters","Mixed",0]
["2019/20","Hampshire and Isle of Wight","E31000048","Non-metropolitan","Significantly Rural","HC","Wholetime firefighters","White British or Irish",27]
["2019/20","Hereford and Worcester","E31000018","Non-metropolitan","Significantly Rural","HC","Fire control","Asian or Asian British",0]
["2019/20","Hereford and Worcester","E31000018","Non-metropolitan","Significantly Rural","HC","Fire control","Black or Black British",0]
["2019/20","Hereford and Worcester","E31000018","Non-metropolitan","Significantly Rural","HC","Fire control","Chinese or other ethnicity",0]
["2019/20","Hereford and Worcester","E31000018","Non-metropolitan","Significantly Rural","HC","Fire control","Ethnic origin not stated",0]
["2019/20","Hereford and Worcester","E31000018","Non-metropolitan","Significantly Rural","HC","Fire control","Mixed",0]
["2019/20","Hereford and Worcester","E31000018","Non-metropolitan","Significantly Rural","HC","Fire control","White British or Irish",0]
["2019/20","Hereford and Worcester","E31000018","Non-metropolitan","Significantly Rural","HC","On call firefighters","Asian or Asian British",0]
["2019/20","Hereford and Worcester","E31000018","Non-metropolitan","Significantly Rural","HC","On call firefighters","Black or Black British",0]
["2019/20","Hereford and Worcester","E31000018","Non-metropolitan","Significantly Rural","HC","On call firefighters","Chinese or other ethnicity",3]
["2019/20","Hereford and Worcester","E31000018","Non-metropolitan","Significantly Rural","HC","On call firefighters","Ethnic origin not stated",9]
["2019/20","Hereford and Worcester","E31000018","Non-metropolitan","Significantly Rural","HC","On call firefighters","Mixed",1]
["2019/20","Hereford and Worcester","E31000018","Non-metropolitan","Significantly Rural","HC","On call firefighters","White British or Irish",36]
["2019/20","Hereford and Worcester","E31000018","Non-metropolitan","Significantly Rural","HC","Support staff","Asian or Asian British",0]
["2019/20","Hereford and Worcester","E31000018","Non-metropolitan","Significantly Rural","HC","Support staff","Black or Black British",0]
["2019/20","Hereford and Worcester","E31000018","Non-metropolitan","Significantly Rural","HC","Support staff","Chinese or other ethnicity",9]
["2019/20","Hereford and Worcester","E31000018","Non-metropolitan","Significantly Rural","HC","Support staff","Ethnic origin not stated",9]
["2019/20","Hereford and Worcester","E31000018","Non-metropolitan","Significantly Rural","HC","Support staff","Mixed",0]
["2019/20","Hereford and Worcester","E31000018","Non-metropolitan","Significantly Rural","HC","Support staff","White British or Irish",11]
["2019/20","Hereford and Worcester","E31000018","Non-metropolitan","Significantly Rural","HC","Wholetime firefighters","Asian or Asian British",0]
["2019/20","Hereford and Worcester","E31000018","Non-metropolitan","Significantly Rural","HC","Wholetime firefighters","Black or Black British",0]
["2019/20","Hereford and Worcester","E31000018","Non-metropolitan","Significantly Rural","HC","Wholetime firefighters","Chinese or other ethnicity",2]
["2019/20","Hereford and Worcester","E31000018","Non-metropolitan","Significantly Rural","HC","Wholetime firefighters","Ethnic origin not stated",2]
["2019/20","Hereford and Worcester","E31000018","Non-metropolitan","Significantly Rural","HC","Wholetime firefighters","Mixed",0]
["2019/20","Hereford and Worcester","E31000018","Non-metropolitan","Significantly Rural","HC","Wholetime firefighters","White British or Irish",19]
["2019/20","Hertfordshire","E31000019","Non-metropolitan","Predominantly Urban","HC","Fire control","Asian or Asian British",0]
["2019/20","Hertfordshire","E31000019","Non-metropolitan","Predominantly Urban","HC","Fire control","Black or Black British",0]
["2019/20","Hertfordshire","E31000019","Non-metropolitan","Predominantly Urban","HC","Fire control","Chinese or other ethnicity",0]
["2019/20","Hertfordshire","E31000019","Non-metropolitan","Predominantly Urban","HC","Fire control","Ethnic origin not stated",2]
["2019/20","Hertfordshire","E31000019","Non-metropolitan","Predominantly Urban","HC","Fire control","Mixed",0]
["2019/20","Hertfordshire","E31000019","Non-metropolitan","Predominantly Urban","HC","Fire control","White British or Irish",7]
["2019/20","Hertfordshire","E31000019","Non-metropolitan","Predominantly Urban","HC","On call firefighters","Asian or Asian British",0]
["2019/20","Hertfordshire","E31000019","Non-metropolitan","Predominantly Urban","HC","On call firefighters","Black or Black British",0]
["2019/20","Hertfordshire","E31000019","Non-metropolitan","Predominantly Urban","HC","On call firefighters","Chinese or other ethnicity",0]
["2019/20","Hertfordshire","E31000019","Non-metropolitan","Predominantly Urban","HC","On call firefighters","Ethnic origin not stated",0]
["2019/20","Hertfordshire","E31000019","Non-metropolitan","Predominantly Urban","HC","On call firefighters","Mixed",0]
["2019/20","Hertfordshire","E31000019","Non-metropolitan","Predominantly Urban","HC","On call firefighters","White British or Irish",22]
["2019/20","Hertfordshire","E31000019","Non-metropolitan","Predominantly Urban","HC","Support staff","Asian or Asian British",1]
["2019/20","Hertfordshire","E31000019","Non-metropolitan","Predominantly Urban","HC","Support staff","Black or Black British",1]
["2019/20","Hertfordshire","E31000019","Non-metropolitan","Predominantly Urban","HC","Support staff","Chinese or other ethnicity",0]
["2019/20","Hertfordshire","E31000019","Non-metropolitan","Predominantly Urban","HC","Support staff","Ethnic origin not stated",1]
["2019/20","Hertfordshire","E31000019","Non-metropolitan","Predominantly Urban","HC","Support staff","Mixed",0]
["2019/20","Hertfordshire","E31000019","Non-metropolitan","Predominantly Urban","HC","Support staff","White British or Irish",24]
["2019/20","Hertfordshire","E31000019","Non-metropolitan","Predominantly Urban","HC","Wholetime firefighters","Asian or Asian British",0]
["2019/20","Hertfordshire","E31000019","Non-metropolitan","Predominantly Urban","HC","Wholetime firefighters","Black or Black British",2]
["2019/20","Hertfordshire","E31000019","Non-metropolitan","Predominantly Urban","HC","Wholetime firefighters","Chinese or other ethnicity",2]
["2019/20","Hertfordshire","E31000019","Non-metropolitan","Predominantly Urban","HC","Wholetime firefighters","Ethnic origin not stated",0]
["2019/20","Hertfordshire","E31000019","Non-metropolitan","Predominantly Urban","HC","Wholetime firefighters","Mixed",6]
["2019/20","Hertfordshire","E31000019","Non-metropolitan","Predominantly Urban","HC","Wholetime firefighters","White British or Irish",64]
["2019/20","Humberside","E31000020","Non-metropolitan","Significantly Rural","HC","Fire control","Asian or Asian British",0]
["2019/20","Humberside","E31000020","Non-metropolitan","Significantly Rural","HC","Fire control","Black or Black British",0]
["2019/20","Humberside","E31000020","Non-metropolitan","Significantly Rural","HC","Fire control","Chinese or other ethnicity",0]
["2019/20","Humberside","E31000020","Non-metropolitan","Significantly Rural","HC","Fire control","Ethnic origin not stated",0]
["2019/20","Humberside","E31000020","Non-metropolitan","Significantly Rural","HC","Fire control","Mixed",0]
["2019/20","Humberside","E31000020","Non-metropolitan","Significantly Rural","HC","Fire control","White British or Irish",2]
["2019/20","Humberside","E31000020","Non-metropolitan","Significantly Rural","HC","On call firefighters","Asian or Asian British",0]
["2019/20","Humberside","E31000020","Non-metropolitan","Significantly Rural","HC","On call firefighters","Black or Black British",0]
["2019/20","Humberside","E31000020","Non-metropolitan","Significantly Rural","HC","On call firefighters","Chinese or other ethnicity",2]
["2019/20","Humberside","E31000020","Non-metropolitan","Significantly Rural","HC","On call firefighters","Ethnic origin not stated",0]
["2019/20","Humberside","E31000020","Non-metropolitan","Significantly Rural","HC","On call firefighters","Mixed",1]
["2019/20","Humberside","E31000020","Non-metropolitan","Significantly Rural","HC","On call firefighters","White British or Irish",23]
["2019/20","Humberside","E31000020","Non-metropolitan","Significantly Rural","HC","Support staff","Asian or Asian British",0]
["2019/20","Humberside","E31000020","Non-metropolitan","Significantly Rural","HC","Support staff","Black or Black British",0]
["2019/20","Humberside","E31000020","Non-metropolitan","Significantly Rural","HC","Support staff","Chinese or other ethnicity",0]
["2019/20","Humberside","E31000020","Non-metropolitan","Significantly Rural","HC","Support staff","Ethnic origin not stated",0]
["2019/20","Humberside","E31000020","Non-metropolitan","Significantly Rural","HC","Support staff","Mixed",0]
["2019/20","Humberside","E31000020","Non-metropolitan","Significantly Rural","HC","Support staff","White British or Irish",16]
["2019/20","Humberside","E31000020","Non-metropolitan","Significantly Rural","HC","Wholetime firefighters","Asian or Asian British",0]
["2019/20","Humberside","E31000020","Non-metropolitan","Significantly Rural","HC","Wholetime firefighters","Black or Black British",0]
["2019/20","Humberside","E31000020","Non-metropolitan","Significantly Rural","HC","Wholetime firefighters","Chinese or other ethnicity",0]
["2019/20","Humberside","E31000020","Non-metropolitan","Significantly Rural","HC","Wholetime firefighters","Ethnic origin not stated",0]
["2019/20","Humberside","E31000020","Non-metropolitan","Significantly Rural","HC","Wholetime firefighters","Mixed",0]
["2019/20","Humberside","E31000020","Non-metropolitan","Significantly Rural","HC","Wholetime firefighters","White British or Irish",0]
["2019/20","Isles Of Scilly","E31000039","Non-metropolitan","Predominantly Rural","HC","Fire control","Asian or Asian British",0]
["2019/20","Isles Of Scilly","E31000039","Non-metropolitan","Predominantly Rural","HC","Fire control","Black or Black British",0]
["2019/20","Isles Of Scilly","E31000039","Non-metropolitan","Predominantly Rural","HC","Fire control","Chinese or other ethnicity",0]
["2019/20","Isles Of Scilly","E31000039","Non-metropolitan","Predominantly Rural","HC","Fire control","Ethnic origin not stated",0]
["2019/20","Isles Of Scilly","E31000039","Non-metropolitan","Predominantly Rural","HC","Fire control","Mixed",0]
["2019/20","Isles Of Scilly","E31000039","Non-metropolitan","Predominantly Rural","HC","Fire control","White British or Irish",0]
["2019/20","Isles Of Scilly","E31000039","Non-metropolitan","Predominantly Rural","HC","On call firefighters","Asian or Asian British",0]
["2019/20","Isles Of Scilly","E31000039","Non-metropolitan","Predominantly Rural","HC","On call firefighters","Black or Black British",0]
["2019/20","Isles Of Scilly","E31000039","Non-metropolitan","Predominantly Rural","HC","On call firefighters","Chinese or other ethnicity",0]
["2019/20","Isles Of Scilly","E31000039","Non-metropolitan","Predominantly Rural","HC","On call firefighters","Ethnic origin not stated",0]
["2019/20","Isles Of Scilly","E31000039","Non-metropolitan","Predominantly Rural","HC","On call firefighters","Mixed",0]
["2019/20","Isles Of Scilly","E31000039","Non-metropolitan","Predominantly Rural","HC","On call firefighters","White British or Irish",3]
["2019/20","Isles Of Scilly","E31000039","Non-metropolitan","Predominantly Rural","HC","Support staff","Asian or Asian British",0]
["2019/20","Isles Of Scilly","E31000039","Non-metropolitan","Predominantly Rural","HC","Support staff","Black or Black British",0]
["2019/20","Isles Of Scilly","E31000039","Non-metropolitan","Predominantly Rural","HC","Support staff","Chinese or other ethnicity",0]
["2019/20","Isles Of Scilly","E31000039","Non-metropolitan","Predominantly Rural","HC","Support staff","Ethnic origin not stated",0]
["2019/20","Isles Of Scilly","E31000039","Non-metropolitan","Predominantly Rural","HC","Support staff","Mixed",0]
["2019/20","Isles Of Scilly","E31000039","Non-metropolitan","Predominantly Rural","HC","Support staff","White British or Irish",0]
["2019/20","Isles Of Scilly","E31000039","Non-metropolitan","Predominantly Rural","HC","Wholetime firefighters","Asian or Asian British",0]
["2019/20","Isles Of Scilly","E31000039","Non-metropolitan","Predominantly Rural","HC","Wholetime firefighters","Black or Black British",0]
["2019/20","Isles Of Scilly","E31000039","Non-metropolitan","Predominantly Rural","HC","Wholetime firefighters","Chinese or other ethnicity",0]
["2019/20","Isles Of Scilly","E31000039","Non-metropolitan","Predominantly Rural","HC","Wholetime firefighters","Ethnic origin not stated",0]
["2019/20","Isles Of Scilly","E31000039","Non-metropolitan","Predominantly Rural","HC","Wholetime firefighters","Mixed",0]
["2019/20","Isles Of Scilly","E31000039","Non-metropolitan","Predominantly Rural","HC","Wholetime firefighters","White British or Irish",0]
["2019/20","Kent","E31000022","Non-metropolitan","Significantly Rural","HC","Fire control","Asian or Asian British",0]
["2019/20","Kent","E31000022","Non-metropolitan","Significantly Rural","HC","Fire control","Black or Black British",0]
["2019/20","Kent","E31000022","Non-metropolitan","Significantly Rural","HC","Fire control","Chinese or other ethnicity",0]
["2019/20","Kent","E31000022","Non-metropolitan","Significantly Rural","HC","Fire control","Ethnic origin not stated",0]
["2019/20","Kent","E31000022","Non-metropolitan","Significantly Rural","HC","Fire control","Mixed",0]
["2019/20","Kent","E31000022","Non-metropolitan","Significantly Rural","HC","Fire control","White British or Irish",0]
["2019/20","Kent","E31000022","Non-metropolitan","Significantly Rural","HC","On call firefighters","Asian or Asian British",0]
["2019/20","Kent","E31000022","Non-metropolitan","Significantly Rural","HC","On call firefighters","Black or Black British",0]
["2019/20","Kent","E31000022","Non-metropolitan","Significantly Rural","HC","On call firefighters","Chinese or other ethnicity",0]
["2019/20","Kent","E31000022","Non-metropolitan","Significantly Rural","HC","On call firefighters","Ethnic origin not stated",92]
["2019/20","Kent","E31000022","Non-metropolitan","Significantly Rural","HC","On call firefighters","Mixed",0]
["2019/20","Kent","E31000022","Non-metropolitan","Significantly Rural","HC","On call firefighters","White British or Irish",6]
["2019/20","Kent","E31000022","Non-metropolitan","Significantly Rural","HC","Support staff","Asian or Asian British",0]
["2019/20","Kent","E31000022","Non-metropolitan","Significantly Rural","HC","Support staff","Black or Black British",0]
["2019/20","Kent","E31000022","Non-metropolitan","Significantly Rural","HC","Support staff","Chinese or other ethnicity",0]
["2019/20","Kent","E31000022","Non-metropolitan","Significantly Rural","HC","Support staff","Ethnic origin not stated",32]
["2019/20","Kent","E31000022","Non-metropolitan","Significantly Rural","HC","Support staff","Mixed",1]
["2019/20","Kent","E31000022","Non-metropolitan","Significantly Rural","HC","Support staff","White British or Irish",12]
["2019/20","Kent","E31000022","Non-metropolitan","Significantly Rural","HC","Wholetime firefighters","Asian or Asian British",0]
["2019/20","Kent","E31000022","Non-metropolitan","Significantly Rural","HC","Wholetime firefighters","Black or Black British",0]
["2019/20","Kent","E31000022","Non-metropolitan","Significantly Rural","HC","Wholetime firefighters","Chinese or other ethnicity",0]
["2019/20","Kent","E31000022","Non-metropolitan","Significantly Rural","HC","Wholetime firefighters","Ethnic origin not stated",14]
["2019/20","Kent","E31000022","Non-metropolitan","Significantly Rural","HC","Wholetime firefighters","Mixed",0]
["2019/20","Kent","E31000022","Non-metropolitan","Significantly Rural","HC","Wholetime firefighters","White British or Irish",4]
["2019/20","Lancashire","E31000023","Non-metropolitan","Predominantly Urban","HC","Fire control","Asian or Asian British",0]
["2019/20","Lancashire","E31000023","Non-metropolitan","Predominantly Urban","HC","Fire control","Black or Black British",0]
["2019/20","Lancashire","E31000023","Non-metropolitan","Predominantly Urban","HC","Fire control","Chinese or other ethnicity",0]
["2019/20","Lancashire","E31000023","Non-metropolitan","Predominantly Urban","HC","Fire control","Ethnic origin not stated",0]
["2019/20","Lancashire","E31000023","Non-metropolitan","Predominantly Urban","HC","Fire control","Mixed",0]
["2019/20","Lancashire","E31000023","Non-metropolitan","Predominantly Urban","HC","Fire control","White British or Irish",0]
["2019/20","Lancashire","E31000023","Non-metropolitan","Predominantly Urban","HC","On call firefighters","Asian or Asian British",0]
["2019/20","Lancashire","E31000023","Non-metropolitan","Predominantly Urban","HC","On call firefighters","Black or Black British",0]
["2019/20","Lancashire","E31000023","Non-metropolitan","Predominantly Urban","HC","On call firefighters","Chinese or other ethnicity",0]
["2019/20","Lancashire","E31000023","Non-metropolitan","Predominantly Urban","HC","On call firefighters","Ethnic origin not stated",5]
["2019/20","Lancashire","E31000023","Non-metropolitan","Predominantly Urban","HC","On call firefighters","Mixed",0]
["2019/20","Lancashire","E31000023","Non-metropolitan","Predominantly Urban","HC","On call firefighters","White British or Irish",67]
["2019/20","Lancashire","E31000023","Non-metropolitan","Predominantly Urban","HC","Support staff","Asian or Asian British",0]
["2019/20","Lancashire","E31000023","Non-metropolitan","Predominantly Urban","HC","Support staff","Black or Black British",0]
["2019/20","Lancashire","E31000023","Non-metropolitan","Predominantly Urban","HC","Support staff","Chinese or other ethnicity",0]
["2019/20","Lancashire","E31000023","Non-metropolitan","Predominantly Urban","HC","Support staff","Ethnic origin not stated",0]
["2019/20","Lancashire","E31000023","Non-metropolitan","Predominantly Urban","HC","Support staff","Mixed",0]
["2019/20","Lancashire","E31000023","Non-metropolitan","Predominantly Urban","HC","Support staff","White British or Irish",18]
["2019/20","Lancashire","E31000023","Non-metropolitan","Predominantly Urban","HC","Wholetime firefighters","Asian or Asian British",1]
["2019/20","Lancashire","E31000023","Non-metropolitan","Predominantly Urban","HC","Wholetime firefighters","Black or Black British",0]
["2019/20","Lancashire","E31000023","Non-metropolitan","Predominantly Urban","HC","Wholetime firefighters","Chinese or other ethnicity",0]
["2019/20","Lancashire","E31000023","Non-metropolitan","Predominantly Urban","HC","Wholetime firefighters","Ethnic origin not stated",0]
["2019/20","Lancashire","E31000023","Non-metropolitan","Predominantly Urban","HC","Wholetime firefighters","Mixed",1]
["2019/20","Lancashire","E31000023","Non-metropolitan","Predominantly Urban","HC","Wholetime firefighters","White British or Irish",16]
["2019/20","Leicestershire","E31000024","Non-metropolitan","Significantly Rural","HC","Fire control","Asian or Asian British",0]
["2019/20","Leicestershire","E31000024","Non-metropolitan","Significantly Rural","HC","Fire control","Black or Black British",0]
["2019/20","Leicestershire","E31000024","Non-metropolitan","Significantly Rural","HC","Fire control","Chinese or other ethnicity",0]
["2019/20","Leicestershire","E31000024","Non-metropolitan","Significantly Rural","HC","Fire control","Ethnic origin not stated",0]
["2019/20","Leicestershire","E31000024","Non-metropolitan","Significantly Rural","HC","Fire control","Mixed",0]
["2019/20","Leicestershire","E31000024","Non-metropolitan","Significantly Rural","HC","Fire control","White British or Irish",2]
["2019/20","Leicestershire","E31000024","Non-metropolitan","Significantly Rural","HC","On call firefighters","Asian or Asian British",0]
["2019/20","Leicestershire","E31000024","Non-metropolitan","Significantly Rural","HC","On call firefighters","Black or Black British",0]
["2019/20","Leicestershire","E31000024","Non-metropolitan","Significantly Rural","HC","On call firefighters","Chinese or other ethnicity",0]
["2019/20","Leicestershire","E31000024","Non-metropolitan","Significantly Rural","HC","On call firefighters","Ethnic origin not stated",6]
["2019/20","Leicestershire","E31000024","Non-metropolitan","Significantly Rural","HC","On call firefighters","Mixed",0]
["2019/20","Leicestershire","E31000024","Non-metropolitan","Significantly Rural","HC","On call firefighters","White British or Irish",15]
["2019/20","Leicestershire","E31000024","Non-metropolitan","Significantly Rural","HC","Support staff","Asian or Asian British",2]
["2019/20","Leicestershire","E31000024","Non-metropolitan","Significantly Rural","HC","Support staff","Black or Black British",0]
["2019/20","Leicestershire","E31000024","Non-metropolitan","Significantly Rural","HC","Support staff","Chinese or other ethnicity",0]
["2019/20","Leicestershire","E31000024","Non-metropolitan","Significantly Rural","HC","Support staff","Ethnic origin not stated",6]
["2019/20","Leicestershire","E31000024","Non-metropolitan","Significantly Rural","HC","Support staff","Mixed",0]
["2019/20","Leicestershire","E31000024","Non-metropolitan","Significantly Rural","HC","Support staff","White British or Irish",6]
["2019/20","Leicestershire","E31000024","Non-metropolitan","Significantly Rural","HC","Wholetime firefighters","Asian or Asian British",0]
["2019/20","Leicestershire","E31000024","Non-metropolitan","Significantly Rural","HC","Wholetime firefighters","Black or Black British",0]
["2019/20","Leicestershire","E31000024","Non-metropolitan","Significantly Rural","HC","Wholetime firefighters","Chinese or other ethnicity",1]
["2019/20","Leicestershire","E31000024","Non-metropolitan","Significantly Rural","HC","Wholetime firefighters","Ethnic origin not stated",4]
["2019/20","Leicestershire","E31000024","Non-metropolitan","Significantly Rural","HC","Wholetime firefighters","Mixed",4]
["2019/20","Leicestershire","E31000024","Non-metropolitan","Significantly Rural","HC","Wholetime firefighters","White British or Irish",13]
["2019/20","Lincolnshire","E31000025","Non-metropolitan","Predominantly Rural","HC","Fire control","Asian or Asian British",0]
["2019/20","Lincolnshire","E31000025","Non-metropolitan","Predominantly Rural","HC","Fire control","Black or Black British",0]
["2019/20","Lincolnshire","E31000025","Non-metropolitan","Predominantly Rural","HC","Fire control","Chinese or other ethnicity",0]
["2019/20","Lincolnshire","E31000025","Non-metropolitan","Predominantly Rural","HC","Fire control","Ethnic origin not stated",0]
["2019/20","Lincolnshire","E31000025","Non-metropolitan","Predominantly Rural","HC","Fire control","Mixed",0]
["2019/20","Lincolnshire","E31000025","Non-metropolitan","Predominantly Rural","HC","Fire control","White British or Irish",4]
["2019/20","Lincolnshire","E31000025","Non-metropolitan","Predominantly Rural","HC","On call firefighters","Asian or Asian British",0]
["2019/20","Lincolnshire","E31000025","Non-metropolitan","Predominantly Rural","HC","On call firefighters","Black or Black British",0]
["2019/20","Lincolnshire","E31000025","Non-metropolitan","Predominantly Rural","HC","On call firefighters","Chinese or other ethnicity",3]
["2019/20","Lincolnshire","E31000025","Non-metropolitan","Predominantly Rural","HC","On call firefighters","Ethnic origin not stated",0]
["2019/20","Lincolnshire","E31000025","Non-metropolitan","Predominantly Rural","HC","On call firefighters","Mixed",1]
["2019/20","Lincolnshire","E31000025","Non-metropolitan","Predominantly Rural","HC","On call firefighters","White British or Irish",61]
["2019/20","Lincolnshire","E31000025","Non-metropolitan","Predominantly Rural","HC","Support staff","Asian or Asian British",0]
["2019/20","Lincolnshire","E31000025","Non-metropolitan","Predominantly Rural","HC","Support staff","Black or Black British",0]
["2019/20","Lincolnshire","E31000025","Non-metropolitan","Predominantly Rural","HC","Support staff","Chinese or other ethnicity",0]
["2019/20","Lincolnshire","E31000025","Non-metropolitan","Predominantly Rural","HC","Support staff","Ethnic origin not stated",0]
["2019/20","Lincolnshire","E31000025","Non-metropolitan","Predominantly Rural","HC","Support staff","Mixed",0]
["2019/20","Lincolnshire","E31000025","Non-metropolitan","Predominantly Rural","HC","Support staff","White British or Irish",6]
["2019/20","Lincolnshire","E31000025","Non-metropolitan","Predominantly Rural","HC","Wholetime firefighters","Asian or Asian British",0]
["2019/20","Lincolnshire","E31000025","Non-metropolitan","Predominantly Rural","HC","Wholetime firefighters","Black or Black British",0]
["2019/20","Lincolnshire","E31000025","Non-metropolitan","Predominantly Rural","HC","Wholetime firefighters","Chinese or other ethnicity",0]
["2019/20","Lincolnshire","E31000025","Non-metropolitan","Predominantly Rural","HC","Wholetime firefighters","Ethnic origin not stated",0]
["2019/20","Lincolnshire","E31000025","Non-metropolitan","Predominantly Rural","HC","Wholetime firefighters","Mixed",1]
["2019/20","Lincolnshire","E31000025","Non-metropolitan","Predominantly Rural","HC","Wholetime firefighters","White British or Irish",10]
["2019/20","Merseyside","E31000041","Metropolitan","Predominantly Urban","HC","Fire control","Asian or Asian British",0]
["2019/20","Merseyside","E31000041","Metropolitan","Predominantly Urban","HC","Fire control","Black or Black British",0]
["2019/20","Merseyside","E31000041","Metropolitan","Predominantly Urban","HC","Fire control","Chinese or other ethnicity",0]
["2019/20","Merseyside","E31000041","Metropolitan","Predominantly Urban","HC","Fire control","Ethnic origin not stated",0]
["2019/20","Merseyside","E31000041","Metropolitan","Predominantly Urban","HC","Fire control","Mixed",0]
["2019/20","Merseyside","E31000041","Metropolitan","Predominantly Urban","HC","Fire control","White British or Irish",6]
["2019/20","Merseyside","E31000041","Metropolitan","Predominantly Urban","HC","On call firefighters","Asian or Asian British",0]
["2019/20","Merseyside","E31000041","Metropolitan","Predominantly Urban","HC","On call firefighters","Black or Black British",0]
["2019/20","Merseyside","E31000041","Metropolitan","Predominantly Urban","HC","On call firefighters","Chinese or other ethnicity",0]
["2019/20","Merseyside","E31000041","Metropolitan","Predominantly Urban","HC","On call firefighters","Ethnic origin not stated",3]
["2019/20","Merseyside","E31000041","Metropolitan","Predominantly Urban","HC","On call firefighters","Mixed",1]
["2019/20","Merseyside","E31000041","Metropolitan","Predominantly Urban","HC","On call firefighters","White British or Irish",41]
["2019/20","Merseyside","E31000041","Metropolitan","Predominantly Urban","HC","Support staff","Asian or Asian British",0]
["2019/20","Merseyside","E31000041","Metropolitan","Predominantly Urban","HC","Support staff","Black or Black British",1]
["2019/20","Merseyside","E31000041","Metropolitan","Predominantly Urban","HC","Support staff","Chinese or other ethnicity",0]
["2019/20","Merseyside","E31000041","Metropolitan","Predominantly Urban","HC","Support staff","Ethnic origin not stated",0]
["2019/20","Merseyside","E31000041","Metropolitan","Predominantly Urban","HC","Support staff","Mixed",0]
["2019/20","Merseyside","E31000041","Metropolitan","Predominantly Urban","HC","Support staff","White British or Irish",10]
["2019/20","Merseyside","E31000041","Metropolitan","Predominantly Urban","HC","Wholetime firefighters","Asian or Asian British",0]
["2019/20","Merseyside","E31000041","Metropolitan","Predominantly Urban","HC","Wholetime firefighters","Black or Black British",0]
["2019/20","Merseyside","E31000041","Metropolitan","Predominantly Urban","HC","Wholetime firefighters","Chinese or other ethnicity",0]
["2019/20","Merseyside","E31000041","Metropolitan","Predominantly Urban","HC","Wholetime firefighters","Ethnic origin not stated",5]
["2019/20","Merseyside","E31000041","Metropolitan","Predominantly Urban","HC","Wholetime firefighters","Mixed",2]
["2019/20","Merseyside","E31000041","Metropolitan","Predominantly Urban","HC","Wholetime firefighters","White British or Irish",66]
["2019/20","Norfolk","E31000026","Non-metropolitan","Predominantly Rural","HC","Fire control","Asian or Asian British",0]
["2019/20","Norfolk","E31000026","Non-metropolitan","Predominantly Rural","HC","Fire control","Black or Black British",0]
["2019/20","Norfolk","E31000026","Non-metropolitan","Predominantly Rural","HC","Fire control","Chinese or other ethnicity",0]
["2019/20","Norfolk","E31000026","Non-metropolitan","Predominantly Rural","HC","Fire control","Ethnic origin not stated",0]
["2019/20","Norfolk","E31000026","Non-metropolitan","Predominantly Rural","HC","Fire control","Mixed",0]
["2019/20","Norfolk","E31000026","Non-metropolitan","Predominantly Rural","HC","Fire control","White British or Irish",1]
["2019/20","Norfolk","E31000026","Non-metropolitan","Predominantly Rural","HC","On call firefighters","Asian or Asian British",0]
["2019/20","Norfolk","E31000026","Non-metropolitan","Predominantly Rural","HC","On call firefighters","Black or Black British",2]
["2019/20","Norfolk","E31000026","Non-metropolitan","Predominantly Rural","HC","On call firefighters","Chinese or other ethnicity",1]
["2019/20","Norfolk","E31000026","Non-metropolitan","Predominantly Rural","HC","On call firefighters","Ethnic origin not stated",3]
["2019/20","Norfolk","E31000026","Non-metropolitan","Predominantly Rural","HC","On call firefighters","Mixed",0]
["2019/20","Norfolk","E31000026","Non-metropolitan","Predominantly Rural","HC","On call firefighters","White British or Irish",37]
["2019/20","Norfolk","E31000026","Non-metropolitan","Predominantly Rural","HC","Support staff","Asian or Asian British",0]
["2019/20","Norfolk","E31000026","Non-metropolitan","Predominantly Rural","HC","Support staff","Black or Black British",0]
["2019/20","Norfolk","E31000026","Non-metropolitan","Predominantly Rural","HC","Support staff","Chinese or other ethnicity",0]
["2019/20","Norfolk","E31000026","Non-metropolitan","Predominantly Rural","HC","Support staff","Ethnic origin not stated",79]
["2019/20","Norfolk","E31000026","Non-metropolitan","Predominantly Rural","HC","Support staff","Mixed",0]
["2019/20","Norfolk","E31000026","Non-metropolitan","Predominantly Rural","HC","Support staff","White British or Irish",4]
["2019/20","Norfolk","E31000026","Non-metropolitan","Predominantly Rural","HC","Wholetime firefighters","Asian or Asian British",0]
["2019/20","Norfolk","E31000026","Non-metropolitan","Predominantly Rural","HC","Wholetime firefighters","Black or Black British",0]
["2019/20","Norfolk","E31000026","Non-metropolitan","Predominantly Rural","HC","Wholetime firefighters","Chinese or other ethnicity",0]
["2019/20","Norfolk","E31000026","Non-metropolitan","Predominantly Rural","HC","Wholetime firefighters","Ethnic origin not stated",11]
["2019/20","Norfolk","E31000026","Non-metropolitan","Predominantly Rural","HC","Wholetime firefighters","Mixed",0]
["2019/20","Norfolk","E31000026","Non-metropolitan","Predominantly Rural","HC","Wholetime firefighters","White British or Irish",0]
["2019/20","North Yorkshire","E31000027","Non-metropolitan","Predominantly Rural","HC","Fire control","Asian or Asian British",0]
["2019/20","North Yorkshire","E31000027","Non-metropolitan","Predominantly Rural","HC","Fire control","Black or Black British",0]
["2019/20","North Yorkshire","E31000027","Non-metropolitan","Predominantly Rural","HC","Fire control","Chinese or other ethnicity",0]
["2019/20","North Yorkshire","E31000027","Non-metropolitan","Predominantly Rural","HC","Fire control","Ethnic origin not stated",0]
["2019/20","North Yorkshire","E31000027","Non-metropolitan","Predominantly Rural","HC","Fire control","Mixed",0]
["2019/20","North Yorkshire","E31000027","Non-metropolitan","Predominantly Rural","HC","Fire control","White British or Irish",3]
["2019/20","North Yorkshire","E31000027","Non-metropolitan","Predominantly Rural","HC","On call firefighters","Asian or Asian British",1]
["2019/20","North Yorkshire","E31000027","Non-metropolitan","Predominantly Rural","HC","On call firefighters","Black or Black British",0]
["2019/20","North Yorkshire","E31000027","Non-metropolitan","Predominantly Rural","HC","On call firefighters","Chinese or other ethnicity",0]
["2019/20","North Yorkshire","E31000027","Non-metropolitan","Predominantly Rural","HC","On call firefighters","Ethnic origin not stated",7]
["2019/20","North Yorkshire","E31000027","Non-metropolitan","Predominantly Rural","HC","On call firefighters","Mixed",0]
["2019/20","North Yorkshire","E31000027","Non-metropolitan","Predominantly Rural","HC","On call firefighters","White British or Irish",35]
["2019/20","North Yorkshire","E31000027","Non-metropolitan","Predominantly Rural","HC","Support staff","Asian or Asian British",0]
["2019/20","North Yorkshire","E31000027","Non-metropolitan","Predominantly Rural","HC","Support staff","Black or Black British",0]
["2019/20","North Yorkshire","E31000027","Non-metropolitan","Predominantly Rural","HC","Support staff","Chinese or other ethnicity",0]
["2019/20","North Yorkshire","E31000027","Non-metropolitan","Predominantly Rural","HC","Support staff","Ethnic origin not stated",0]
["2019/20","North Yorkshire","E31000027","Non-metropolitan","Predominantly Rural","HC","Support staff","Mixed",1]
["2019/20","North Yorkshire","E31000027","Non-metropolitan","Predominantly Rural","HC","Support staff","White British or Irish",5]
["2019/20","North Yorkshire","E31000027","Non-metropolitan","Predominantly Rural","HC","Wholetime firefighters","Asian or Asian British",0]
["2019/20","North Yorkshire","E31000027","Non-metropolitan","Predominantly Rural","HC","Wholetime firefighters","Black or Black British",0]
["2019/20","North Yorkshire","E31000027","Non-metropolitan","Predominantly Rural","HC","Wholetime firefighters","Chinese or other ethnicity",0]
["2019/20","North Yorkshire","E31000027","Non-metropolitan","Predominantly Rural","HC","Wholetime firefighters","Ethnic origin not stated",1]
["2019/20","North Yorkshire","E31000027","Non-metropolitan","Predominantly Rural","HC","Wholetime firefighters","Mixed",2]
["2019/20","North Yorkshire","E31000027","Non-metropolitan","Predominantly Rural","HC","Wholetime firefighters","White British or Irish",18]
["2019/20","Northamptonshire","E31000028","Non-metropolitan","Significantly Rural","HC","Fire control","Asian or Asian British",0]
["2019/20","Northamptonshire","E31000028","Non-metropolitan","Significantly Rural","HC","Fire control","Black or Black British",0]
["2019/20","Northamptonshire","E31000028","Non-metropolitan","Significantly Rural","HC","Fire control","Chinese or other ethnicity",0]
["2019/20","Northamptonshire","E31000028","Non-metropolitan","Significantly Rural","HC","Fire control","Ethnic origin not stated",2]
["2019/20","Northamptonshire","E31000028","Non-metropolitan","Significantly Rural","HC","Fire control","Mixed",0]
["2019/20","Northamptonshire","E31000028","Non-metropolitan","Significantly Rural","HC","Fire control","White British or Irish",1]
["2019/20","Northamptonshire","E31000028","Non-metropolitan","Significantly Rural","HC","On call firefighters","Asian or Asian British",0]
["2019/20","Northamptonshire","E31000028","Non-metropolitan","Significantly Rural","HC","On call firefighters","Black or Black British",0]
["2019/20","Northamptonshire","E31000028","Non-metropolitan","Significantly Rural","HC","On call firefighters","Chinese or other ethnicity",0]
["2019/20","Northamptonshire","E31000028","Non-metropolitan","Significantly Rural","HC","On call firefighters","Ethnic origin not stated",31]
["2019/20","Northamptonshire","E31000028","Non-metropolitan","Significantly Rural","HC","On call firefighters","Mixed",0]
["2019/20","Northamptonshire","E31000028","Non-metropolitan","Significantly Rural","HC","On call firefighters","White British or Irish",14]
["2019/20","Northamptonshire","E31000028","Non-metropolitan","Significantly Rural","HC","Support staff","Asian or Asian British",0]
["2019/20","Northamptonshire","E31000028","Non-metropolitan","Significantly Rural","HC","Support staff","Black or Black British",0]
["2019/20","Northamptonshire","E31000028","Non-metropolitan","Significantly Rural","HC","Support staff","Chinese or other ethnicity",0]
["2019/20","Northamptonshire","E31000028","Non-metropolitan","Significantly Rural","HC","Support staff","Ethnic origin not stated",14]
["2019/20","Northamptonshire","E31000028","Non-metropolitan","Significantly Rural","HC","Support staff","Mixed",0]
["2019/20","Northamptonshire","E31000028","Non-metropolitan","Significantly Rural","HC","Support staff","White British or Irish",6]
["2019/20","Northamptonshire","E31000028","Non-metropolitan","Significantly Rural","HC","Wholetime firefighters","Asian or Asian British",0]
["2019/20","Northamptonshire","E31000028","Non-metropolitan","Significantly Rural","HC","Wholetime firefighters","Black or Black British",0]
["2019/20","Northamptonshire","E31000028","Non-metropolitan","Significantly Rural","HC","Wholetime firefighters","Chinese or other ethnicity",0]
["2019/20","Northamptonshire","E31000028","Non-metropolitan","Significantly Rural","HC","Wholetime firefighters","Ethnic origin not stated",25]
["2019/20","Northamptonshire","E31000028","Non-metropolitan","Significantly Rural","HC","Wholetime firefighters","Mixed",0]
["2019/20","Northamptonshire","E31000028","Non-metropolitan","Significantly Rural","HC","Wholetime firefighters","White British or Irish",13]
["2019/20","Northumberland","E31000029","Non-metropolitan","Predominantly Rural","HC","Fire control","Asian or Asian British",0]
["2019/20","Northumberland","E31000029","Non-metropolitan","Predominantly Rural","HC","Fire control","Black or Black British",0]
["2019/20","Northumberland","E31000029","Non-metropolitan","Predominantly Rural","HC","Fire control","Chinese or other ethnicity",0]
["2019/20","Northumberland","E31000029","Non-metropolitan","Predominantly Rural","HC","Fire control","Ethnic origin not stated",0]
["2019/20","Northumberland","E31000029","Non-metropolitan","Predominantly Rural","HC","Fire control","Mixed",0]
["2019/20","Northumberland","E31000029","Non-metropolitan","Predominantly Rural","HC","Fire control","White British or Irish",1]
["2019/20","Northumberland","E31000029","Non-metropolitan","Predominantly Rural","HC","On call firefighters","Asian or Asian British",0]
["2019/20","Northumberland","E31000029","Non-metropolitan","Predominantly Rural","HC","On call firefighters","Black or Black British",0]
["2019/20","Northumberland","E31000029","Non-metropolitan","Predominantly Rural","HC","On call firefighters","Chinese or other ethnicity",0]
["2019/20","Northumberland","E31000029","Non-metropolitan","Predominantly Rural","HC","On call firefighters","Ethnic origin not stated",14]
["2019/20","Northumberland","E31000029","Non-metropolitan","Predominantly Rural","HC","On call firefighters","Mixed",0]
["2019/20","Northumberland","E31000029","Non-metropolitan","Predominantly Rural","HC","On call firefighters","White British or Irish",0]
["2019/20","Northumberland","E31000029","Non-metropolitan","Predominantly Rural","HC","Support staff","Asian or Asian British",0]
["2019/20","Northumberland","E31000029","Non-metropolitan","Predominantly Rural","HC","Support staff","Black or Black British",0]
["2019/20","Northumberland","E31000029","Non-metropolitan","Predominantly Rural","HC","Support staff","Chinese or other ethnicity",0]
["2019/20","Northumberland","E31000029","Non-metropolitan","Predominantly Rural","HC","Support staff","Ethnic origin not stated",0]
["2019/20","Northumberland","E31000029","Non-metropolitan","Predominantly Rural","HC","Support staff","Mixed",0]
["2019/20","Northumberland","E31000029","Non-metropolitan","Predominantly Rural","HC","Support staff","White British or Irish",3]
["2019/20","Northumberland","E31000029","Non-metropolitan","Predominantly Rural","HC","Wholetime firefighters","Asian or Asian British",0]
["2019/20","Northumberland","E31000029","Non-metropolitan","Predominantly Rural","HC","Wholetime firefighters","Black or Black British",0]
["2019/20","Northumberland","E31000029","Non-metropolitan","Predominantly Rural","HC","Wholetime firefighters","Chinese or other ethnicity",0]
["2019/20","Northumberland","E31000029","Non-metropolitan","Predominantly Rural","HC","Wholetime firefighters","Ethnic origin not stated",13]
["2019/20","Northumberland","E31000029","Non-metropolitan","Predominantly Rural","HC","Wholetime firefighters","Mixed",0]
["2019/20","Northumberland","E31000029","Non-metropolitan","Predominantly Rural","HC","Wholetime firefighters","White British or Irish",0]
["2019/20","Nottinghamshire","E31000030","Non-metropolitan","Predominantly Urban","HC","Fire control","Asian or Asian British",0]
["2019/20","Nottinghamshire","E31000030","Non-metropolitan","Predominantly Urban","HC","Fire control","Black or Black British",0]
["2019/20","Nottinghamshire","E31000030","Non-metropolitan","Predominantly Urban","HC","Fire control","Chinese or other ethnicity",0]
["2019/20","Nottinghamshire","E31000030","Non-metropolitan","Predominantly Urban","HC","Fire control","Ethnic origin not stated",0]
["2019/20","Nottinghamshire","E31000030","Non-metropolitan","Predominantly Urban","HC","Fire control","Mixed",0]
["2019/20","Nottinghamshire","E31000030","Non-metropolitan","Predominantly Urban","HC","Fire control","White British or Irish",0]
["2019/20","Nottinghamshire","E31000030","Non-metropolitan","Predominantly Urban","HC","On call firefighters","Asian or Asian British",0]
["2019/20","Nottinghamshire","E31000030","Non-metropolitan","Predominantly Urban","HC","On call firefighters","Black or Black British",0]
["2019/20","Nottinghamshire","E31000030","Non-metropolitan","Predominantly Urban","HC","On call firefighters","Chinese or other ethnicity",1]
["2019/20","Nottinghamshire","E31000030","Non-metropolitan","Predominantly Urban","HC","On call firefighters","Ethnic origin not stated",0]
["2019/20","Nottinghamshire","E31000030","Non-metropolitan","Predominantly Urban","HC","On call firefighters","Mixed",1]
["2019/20","Nottinghamshire","E31000030","Non-metropolitan","Predominantly Urban","HC","On call firefighters","White British or Irish",13]
["2019/20","Nottinghamshire","E31000030","Non-metropolitan","Predominantly Urban","HC","Support staff","Asian or Asian British",1]
["2019/20","Nottinghamshire","E31000030","Non-metropolitan","Predominantly Urban","HC","Support staff","Black or Black British",0]
["2019/20","Nottinghamshire","E31000030","Non-metropolitan","Predominantly Urban","HC","Support staff","Chinese or other ethnicity",0]
["2019/20","Nottinghamshire","E31000030","Non-metropolitan","Predominantly Urban","HC","Support staff","Ethnic origin not stated",7]
["2019/20","Nottinghamshire","E31000030","Non-metropolitan","Predominantly Urban","HC","Support staff","Mixed",0]
["2019/20","Nottinghamshire","E31000030","Non-metropolitan","Predominantly Urban","HC","Support staff","White British or Irish",15]
["2019/20","Nottinghamshire","E31000030","Non-metropolitan","Predominantly Urban","HC","Wholetime firefighters","Asian or Asian British",0]
["2019/20","Nottinghamshire","E31000030","Non-metropolitan","Predominantly Urban","HC","Wholetime firefighters","Black or Black British",1]
["2019/20","Nottinghamshire","E31000030","Non-metropolitan","Predominantly Urban","HC","Wholetime firefighters","Chinese or other ethnicity",0]
["2019/20","Nottinghamshire","E31000030","Non-metropolitan","Predominantly Urban","HC","Wholetime firefighters","Ethnic origin not stated",0]
["2019/20","Nottinghamshire","E31000030","Non-metropolitan","Predominantly Urban","HC","Wholetime firefighters","Mixed",1]
["2019/20","Nottinghamshire","E31000030","Non-metropolitan","Predominantly Urban","HC","Wholetime firefighters","White British or Irish",6]
["2019/20","Oxfordshire","E31000031","Non-metropolitan","Predominantly Rural","HC","Fire control","Asian or Asian British",0]
["2019/20","Oxfordshire","E31000031","Non-metropolitan","Predominantly Rural","HC","Fire control","Black or Black British",0]
["2019/20","Oxfordshire","E31000031","Non-metropolitan","Predominantly Rural","HC","Fire control","Chinese or other ethnicity",0]
["2019/20","Oxfordshire","E31000031","Non-metropolitan","Predominantly Rural","HC","Fire control","Ethnic origin not stated",0]
["2019/20","Oxfordshire","E31000031","Non-metropolitan","Predominantly Rural","HC","Fire control","Mixed",0]
["2019/20","Oxfordshire","E31000031","Non-metropolitan","Predominantly Rural","HC","Fire control","White British or Irish",0]
["2019/20","Oxfordshire","E31000031","Non-metropolitan","Predominantly Rural","HC","On call firefighters","Asian or Asian British",0]
["2019/20","Oxfordshire","E31000031","Non-metropolitan","Predominantly Rural","HC","On call firefighters","Black or Black British",0]
["2019/20","Oxfordshire","E31000031","Non-metropolitan","Predominantly Rural","HC","On call firefighters","Chinese or other ethnicity",4]
["2019/20","Oxfordshire","E31000031","Non-metropolitan","Predominantly Rural","HC","On call firefighters","Ethnic origin not stated",5]
["2019/20","Oxfordshire","E31000031","Non-metropolitan","Predominantly Rural","HC","On call firefighters","Mixed",1]
["2019/20","Oxfordshire","E31000031","Non-metropolitan","Predominantly Rural","HC","On call firefighters","White British or Irish",50]
["2019/20","Oxfordshire","E31000031","Non-metropolitan","Predominantly Rural","HC","Support staff","Asian or Asian British",0]
["2019/20","Oxfordshire","E31000031","Non-metropolitan","Predominantly Rural","HC","Support staff","Black or Black British",0]
["2019/20","Oxfordshire","E31000031","Non-metropolitan","Predominantly Rural","HC","Support staff","Chinese or other ethnicity",3]
["2019/20","Oxfordshire","E31000031","Non-metropolitan","Predominantly Rural","HC","Support staff","Ethnic origin not stated",2]
["2019/20","Oxfordshire","E31000031","Non-metropolitan","Predominantly Rural","HC","Support staff","Mixed",0]
["2019/20","Oxfordshire","E31000031","Non-metropolitan","Predominantly Rural","HC","Support staff","White British or Irish",10]
["2019/20","Oxfordshire","E31000031","Non-metropolitan","Predominantly Rural","HC","Wholetime firefighters","Asian or Asian British",0]
["2019/20","Oxfordshire","E31000031","Non-metropolitan","Predominantly Rural","HC","Wholetime firefighters","Black or Black British",0]
["2019/20","Oxfordshire","E31000031","Non-metropolitan","Predominantly Rural","HC","Wholetime firefighters","Chinese or other ethnicity",0]
["2019/20","Oxfordshire","E31000031","Non-metropolitan","Predominantly Rural","HC","Wholetime firefighters","Ethnic origin not stated",4]
["2019/20","Oxfordshire","E31000031","Non-metropolitan","Predominantly Rural","HC","Wholetime firefighters","Mixed",0]
["2019/20","Oxfordshire","E31000031","Non-metropolitan","Predominantly Rural","HC","Wholetime firefighters","White British or Irish",14]
["2019/20","Shropshire","E31000032","Non-metropolitan","Predominantly Rural","HC","Fire control","Asian or Asian British",0]
["2019/20","Shropshire","E31000032","Non-metropolitan","Predominantly Rural","HC","Fire control","Black or Black British",0]
["2019/20","Shropshire","E31000032","Non-metropolitan","Predominantly Rural","HC","Fire control","Chinese or other ethnicity",1]
["2019/20","Shropshire","E31000032","Non-metropolitan","Predominantly Rural","HC","Fire control","Ethnic origin not stated",2]
["2019/20","Shropshire","E31000032","Non-metropolitan","Predominantly Rural","HC","Fire control","Mixed",0]
["2019/20","Shropshire","E31000032","Non-metropolitan","Predominantly Rural","HC","Fire control","White British or Irish",0]
["2019/20","Shropshire","E31000032","Non-metropolitan","Predominantly Rural","HC","On call firefighters","Asian or Asian British",1]
["2019/20","Shropshire","E31000032","Non-metropolitan","Predominantly Rural","HC","On call firefighters","Black or Black British",0]
["2019/20","Shropshire","E31000032","Non-metropolitan","Predominantly Rural","HC","On call firefighters","Chinese or other ethnicity",3]
["2019/20","Shropshire","E31000032","Non-metropolitan","Predominantly Rural","HC","On call firefighters","Ethnic origin not stated",9]
["2019/20","Shropshire","E31000032","Non-metropolitan","Predominantly Rural","HC","On call firefighters","Mixed",0]
["2019/20","Shropshire","E31000032","Non-metropolitan","Predominantly Rural","HC","On call firefighters","White British or Irish",12]
["2019/20","Shropshire","E31000032","Non-metropolitan","Predominantly Rural","HC","Support staff","Asian or Asian British",0]
["2019/20","Shropshire","E31000032","Non-metropolitan","Predominantly Rural","HC","Support staff","Black or Black British",0]
["2019/20","Shropshire","E31000032","Non-metropolitan","Predominantly Rural","HC","Support staff","Chinese or other ethnicity",3]
["2019/20","Shropshire","E31000032","Non-metropolitan","Predominantly Rural","HC","Support staff","Ethnic origin not stated",5]
["2019/20","Shropshire","E31000032","Non-metropolitan","Predominantly Rural","HC","Support staff","Mixed",0]
["2019/20","Shropshire","E31000032","Non-metropolitan","Predominantly Rural","HC","Support staff","White British or Irish",4]
["2019/20","Shropshire","E31000032","Non-metropolitan","Predominantly Rural","HC","Wholetime firefighters","Asian or Asian British",0]
["2019/20","Shropshire","E31000032","Non-metropolitan","Predominantly Rural","HC","Wholetime firefighters","Black or Black British",0]
["2019/20","Shropshire","E31000032","Non-metropolitan","Predominantly Rural","HC","Wholetime firefighters","Chinese or other ethnicity",2]
["2019/20","Shropshire","E31000032","Non-metropolitan","Predominantly Rural","HC","Wholetime firefighters","Ethnic origin not stated",2]
["2019/20","Shropshire","E31000032","Non-metropolitan","Predominantly Rural","HC","Wholetime firefighters","Mixed",1]
["2019/20","Shropshire","E31000032","Non-metropolitan","Predominantly Rural","HC","Wholetime firefighters","White British or Irish",5]
["2019/20","South Yorkshire","E31000042","Metropolitan","Predominantly Urban","HC","Fire control","Asian or Asian British",0]
["2019/20","South Yorkshire","E31000042","Metropolitan","Predominantly Urban","HC","Fire control","Black or Black British",0]
["2019/20","South Yorkshire","E31000042","Metropolitan","Predominantly Urban","HC","Fire control","Chinese or other ethnicity",0]
["2019/20","South Yorkshire","E31000042","Metropolitan","Predominantly Urban","HC","Fire control","Ethnic origin not stated",0]
["2019/20","South Yorkshire","E31000042","Metropolitan","Predominantly Urban","HC","Fire control","Mixed",0]
["2019/20","South Yorkshire","E31000042","Metropolitan","Predominantly Urban","HC","Fire control","White British or Irish",1]
["2019/20","South Yorkshire","E31000042","Metropolitan","Predominantly Urban","HC","On call firefighters","Asian or Asian British",0]
["2019/20","South Yorkshire","E31000042","Metropolitan","Predominantly Urban","HC","On call firefighters","Black or Black British",0]
["2019/20","South Yorkshire","E31000042","Metropolitan","Predominantly Urban","HC","On call firefighters","Chinese or other ethnicity",0]
["2019/20","South Yorkshire","E31000042","Metropolitan","Predominantly Urban","HC","On call firefighters","Ethnic origin not stated",0]
["2019/20","South Yorkshire","E31000042","Metropolitan","Predominantly Urban","HC","On call firefighters","Mixed",0]
["2019/20","South Yorkshire","E31000042","Metropolitan","Predominantly Urban","HC","On call firefighters","White British or Irish",4]
["2019/20","South Yorkshire","E31000042","Metropolitan","Predominantly Urban","HC","Support staff","Asian or Asian British",0]
["2019/20","South Yorkshire","E31000042","Metropolitan","Predominantly Urban","HC","Support staff","Black or Black British",1]
["2019/20","South Yorkshire","E31000042","Metropolitan","Predominantly Urban","HC","Support staff","Chinese or other ethnicity",0]
["2019/20","South Yorkshire","E31000042","Metropolitan","Predominantly Urban","HC","Support staff","Ethnic origin not stated",0]
["2019/20","South Yorkshire","E31000042","Metropolitan","Predominantly Urban","HC","Support staff","Mixed",0]
["2019/20","South Yorkshire","E31000042","Metropolitan","Predominantly Urban","HC","Support staff","White British or Irish",15]
["2019/20","South Yorkshire","E31000042","Metropolitan","Predominantly Urban","HC","Wholetime firefighters","Asian or Asian British",0]
["2019/20","South Yorkshire","E31000042","Metropolitan","Predominantly Urban","HC","Wholetime firefighters","Black or Black British",0]
["2019/20","South Yorkshire","E31000042","Metropolitan","Predominantly Urban","HC","Wholetime firefighters","Chinese or other ethnicity",0]
["2019/20","South Yorkshire","E31000042","Metropolitan","Predominantly Urban","HC","Wholetime firefighters","Ethnic origin not stated",0]
["2019/20","South Yorkshire","E31000042","Metropolitan","Predominantly Urban","HC","Wholetime firefighters","Mixed",0]
["2019/20","South Yorkshire","E31000042","Metropolitan","Predominantly Urban","HC","Wholetime firefighters","White British or Irish",0]
["2019/20","Staffordshire","E31000033","Non-metropolitan","Significantly Rural","HC","Fire control","Asian or Asian British",0]
["2019/20","Staffordshire","E31000033","Non-metropolitan","Significantly Rural","HC","Fire control","Black or Black British",0]
["2019/20","Staffordshire","E31000033","Non-metropolitan","Significantly Rural","HC","Fire control","Chinese or other ethnicity",0]
["2019/20","Staffordshire","E31000033","Non-metropolitan","Significantly Rural","HC","Fire control","Ethnic origin not stated",0]
["2019/20","Staffordshire","E31000033","Non-metropolitan","Significantly Rural","HC","Fire control","Mixed",0]
["2019/20","Staffordshire","E31000033","Non-metropolitan","Significantly Rural","HC","Fire control","White British or Irish",0]
["2019/20","Staffordshire","E31000033","Non-metropolitan","Significantly Rural","HC","On call firefighters","Asian or Asian British",1]
["2019/20","Staffordshire","E31000033","Non-metropolitan","Significantly Rural","HC","On call firefighters","Black or Black British",0]
["2019/20","Staffordshire","E31000033","Non-metropolitan","Significantly Rural","HC","On call firefighters","Chinese or other ethnicity",2]
["2019/20","Staffordshire","E31000033","Non-metropolitan","Significantly Rural","HC","On call firefighters","Ethnic origin not stated",0]
["2019/20","Staffordshire","E31000033","Non-metropolitan","Significantly Rural","HC","On call firefighters","Mixed",0]
["2019/20","Staffordshire","E31000033","Non-metropolitan","Significantly Rural","HC","On call firefighters","White British or Irish",41]
["2019/20","Staffordshire","E31000033","Non-metropolitan","Significantly Rural","HC","Support staff","Asian or Asian British",0]
["2019/20","Staffordshire","E31000033","Non-metropolitan","Significantly Rural","HC","Support staff","Black or Black British",0]
["2019/20","Staffordshire","E31000033","Non-metropolitan","Significantly Rural","HC","Support staff","Chinese or other ethnicity",0]
["2019/20","Staffordshire","E31000033","Non-metropolitan","Significantly Rural","HC","Support staff","Ethnic origin not stated",0]
["2019/20","Staffordshire","E31000033","Non-metropolitan","Significantly Rural","HC","Support staff","Mixed",0]
["2019/20","Staffordshire","E31000033","Non-metropolitan","Significantly Rural","HC","Support staff","White British or Irish",25]
["2019/20","Staffordshire","E31000033","Non-metropolitan","Significantly Rural","HC","Wholetime firefighters","Asian or Asian British",0]
["2019/20","Staffordshire","E31000033","Non-metropolitan","Significantly Rural","HC","Wholetime firefighters","Black or Black British",0]
["2019/20","Staffordshire","E31000033","Non-metropolitan","Significantly Rural","HC","Wholetime firefighters","Chinese or other ethnicity",0]
["2019/20","Staffordshire","E31000033","Non-metropolitan","Significantly Rural","HC","Wholetime firefighters","Ethnic origin not stated",0]
["2019/20","Staffordshire","E31000033","Non-metropolitan","Significantly Rural","HC","Wholetime firefighters","Mixed",0]
["2019/20","Staffordshire","E31000033","Non-metropolitan","Significantly Rural","HC","Wholetime firefighters","White British or Irish",3]
["2019/20","Suffolk","E31000034","Non-metropolitan","Predominantly Rural","HC","Fire control","Asian or Asian British",0]
["2019/20","Suffolk","E31000034","Non-metropolitan","Predominantly Rural","HC","Fire control","Black or Black British",0]
["2019/20","Suffolk","E31000034","Non-metropolitan","Predominantly Rural","HC","Fire control","Chinese or other ethnicity",0]
["2019/20","Suffolk","E31000034","Non-metropolitan","Predominantly Rural","HC","Fire control","Ethnic origin not stated",0]
["2019/20","Suffolk","E31000034","Non-metropolitan","Predominantly Rural","HC","Fire control","Mixed",0]
["2019/20","Suffolk","E31000034","Non-metropolitan","Predominantly Rural","HC","Fire control","White British or Irish",0]
["2019/20","Suffolk","E31000034","Non-metropolitan","Predominantly Rural","HC","On call firefighters","Asian or Asian British",0]
["2019/20","Suffolk","E31000034","Non-metropolitan","Predominantly Rural","HC","On call firefighters","Black or Black British",0]
["2019/20","Suffolk","E31000034","Non-metropolitan","Predominantly Rural","HC","On call firefighters","Chinese or other ethnicity",0]
["2019/20","Suffolk","E31000034","Non-metropolitan","Predominantly Rural","HC","On call firefighters","Ethnic origin not stated",42]
["2019/20","Suffolk","E31000034","Non-metropolitan","Predominantly Rural","HC","On call firefighters","Mixed",0]
["2019/20","Suffolk","E31000034","Non-metropolitan","Predominantly Rural","HC","On call firefighters","White British or Irish",1]
["2019/20","Suffolk","E31000034","Non-metropolitan","Predominantly Rural","HC","Support staff","Asian or Asian British",0]
["2019/20","Suffolk","E31000034","Non-metropolitan","Predominantly Rural","HC","Support staff","Black or Black British",0]
["2019/20","Suffolk","E31000034","Non-metropolitan","Predominantly Rural","HC","Support staff","Chinese or other ethnicity",0]
["2019/20","Suffolk","E31000034","Non-metropolitan","Predominantly Rural","HC","Support staff","Ethnic origin not stated",2]
["2019/20","Suffolk","E31000034","Non-metropolitan","Predominantly Rural","HC","Support staff","Mixed",0]
["2019/20","Suffolk","E31000034","Non-metropolitan","Predominantly Rural","HC","Support staff","White British or Irish",4]
["2019/20","Suffolk","E31000034","Non-metropolitan","Predominantly Rural","HC","Wholetime firefighters","Asian or Asian British",0]
["2019/20","Suffolk","E31000034","Non-metropolitan","Predominantly Rural","HC","Wholetime firefighters","Black or Black British",0]
["2019/20","Suffolk","E31000034","Non-metropolitan","Predominantly Rural","HC","Wholetime firefighters","Chinese or other ethnicity",0]
["2019/20","Suffolk","E31000034","Non-metropolitan","Predominantly Rural","HC","Wholetime firefighters","Ethnic origin not stated",4]
["2019/20","Suffolk","E31000034","Non-metropolitan","Predominantly Rural","HC","Wholetime firefighters","Mixed",0]
["2019/20","Suffolk","E31000034","Non-metropolitan","Predominantly Rural","HC","Wholetime firefighters","White British or Irish",2]
["2019/20","Surrey","E31000035","Non-metropolitan","Predominantly Urban","HC","Fire control","Asian or Asian British",0]
["2019/20","Surrey","E31000035","Non-metropolitan","Predominantly Urban","HC","Fire control","Black or Black British",0]
["2019/20","Surrey","E31000035","Non-metropolitan","Predominantly Urban","HC","Fire control","Chinese or other ethnicity",0]
["2019/20","Surrey","E31000035","Non-metropolitan","Predominantly Urban","HC","Fire control","Ethnic origin not stated",0]
["2019/20","Surrey","E31000035","Non-metropolitan","Predominantly Urban","HC","Fire control","Mixed",0]
["2019/20","Surrey","E31000035","Non-metropolitan","Predominantly Urban","HC","Fire control","White British or Irish",3]
["2019/20","Surrey","E31000035","Non-metropolitan","Predominantly Urban","HC","On call firefighters","Asian or Asian British",0]
["2019/20","Surrey","E31000035","Non-metropolitan","Predominantly Urban","HC","On call firefighters","Black or Black British",0]
["2019/20","Surrey","E31000035","Non-metropolitan","Predominantly Urban","HC","On call firefighters","Chinese or other ethnicity",1]
["2019/20","Surrey","E31000035","Non-metropolitan","Predominantly Urban","HC","On call firefighters","Ethnic origin not stated",0]
["2019/20","Surrey","E31000035","Non-metropolitan","Predominantly Urban","HC","On call firefighters","Mixed",0]
["2019/20","Surrey","E31000035","Non-metropolitan","Predominantly Urban","HC","On call firefighters","White British or Irish",7]
["2019/20","Surrey","E31000035","Non-metropolitan","Predominantly Urban","HC","Support staff","Asian or Asian British",0]
["2019/20","Surrey","E31000035","Non-metropolitan","Predominantly Urban","HC","Support staff","Black or Black British",1]
["2019/20","Surrey","E31000035","Non-metropolitan","Predominantly Urban","HC","Support staff","Chinese or other ethnicity",2]
["2019/20","Surrey","E31000035","Non-metropolitan","Predominantly Urban","HC","Support staff","Ethnic origin not stated",1]
["2019/20","Surrey","E31000035","Non-metropolitan","Predominantly Urban","HC","Support staff","Mixed",0]
["2019/20","Surrey","E31000035","Non-metropolitan","Predominantly Urban","HC","Support staff","White British or Irish",12]
["2019/20","Surrey","E31000035","Non-metropolitan","Predominantly Urban","HC","Wholetime firefighters","Asian or Asian British",0]
["2019/20","Surrey","E31000035","Non-metropolitan","Predominantly Urban","HC","Wholetime firefighters","Black or Black British",0]
["2019/20","Surrey","E31000035","Non-metropolitan","Predominantly Urban","HC","Wholetime firefighters","Chinese or other ethnicity",1]
["2019/20","Surrey","E31000035","Non-metropolitan","Predominantly Urban","HC","Wholetime firefighters","Ethnic origin not stated",0]
["2019/20","Surrey","E31000035","Non-metropolitan","Predominantly Urban","HC","Wholetime firefighters","Mixed",0]
["2019/20","Surrey","E31000035","Non-metropolitan","Predominantly Urban","HC","Wholetime firefighters","White British or Irish",34]
["2019/20","Tyne and Wear","E31000043","Metropolitan","Predominantly Urban","HC","Fire control","Asian or Asian British",0]
["2019/20","Tyne and Wear","E31000043","Metropolitan","Predominantly Urban","HC","Fire control","Black or Black British",0]
["2019/20","Tyne and Wear","E31000043","Metropolitan","Predominantly Urban","HC","Fire control","Chinese or other ethnicity",0]
["2019/20","Tyne and Wear","E31000043","Metropolitan","Predominantly Urban","HC","Fire control","Ethnic origin not stated",0]
["2019/20","Tyne and Wear","E31000043","Metropolitan","Predominantly Urban","HC","Fire control","Mixed",0]
["2019/20","Tyne and Wear","E31000043","Metropolitan","Predominantly Urban","HC","Fire control","White British or Irish",1]
["2019/20","Tyne and Wear","E31000043","Metropolitan","Predominantly Urban","HC","On call firefighters","Asian or Asian British",0]
["2019/20","Tyne and Wear","E31000043","Metropolitan","Predominantly Urban","HC","On call firefighters","Black or Black British",0]
["2019/20","Tyne and Wear","E31000043","Metropolitan","Predominantly Urban","HC","On call firefighters","Chinese or other ethnicity",0]
["2019/20","Tyne and Wear","E31000043","Metropolitan","Predominantly Urban","HC","On call firefighters","Ethnic origin not stated",0]
["2019/20","Tyne and Wear","E31000043","Metropolitan","Predominantly Urban","HC","On call firefighters","Mixed",0]
["2019/20","Tyne and Wear","E31000043","Metropolitan","Predominantly Urban","HC","On call firefighters","White British or Irish",4]
["2019/20","Tyne and Wear","E31000043","Metropolitan","Predominantly Urban","HC","Support staff","Asian or Asian British",0]
["2019/20","Tyne and Wear","E31000043","Metropolitan","Predominantly Urban","HC","Support staff","Black or Black British",0]
["2019/20","Tyne and Wear","E31000043","Metropolitan","Predominantly Urban","HC","Support staff","Chinese or other ethnicity",0]
["2019/20","Tyne and Wear","E31000043","Metropolitan","Predominantly Urban","HC","Support staff","Ethnic origin not stated",0]
["2019/20","Tyne and Wear","E31000043","Metropolitan","Predominantly Urban","HC","Support staff","Mixed",0]
["2019/20","Tyne and Wear","E31000043","Metropolitan","Predominantly Urban","HC","Support staff","White British or Irish",26]
["2019/20","Tyne and Wear","E31000043","Metropolitan","Predominantly Urban","HC","Wholetime firefighters","Asian or Asian British",0]
["2019/20","Tyne and Wear","E31000043","Metropolitan","Predominantly Urban","HC","Wholetime firefighters","Black or Black British",0]
["2019/20","Tyne and Wear","E31000043","Metropolitan","Predominantly Urban","HC","Wholetime firefighters","Chinese or other ethnicity",0]
["2019/20","Tyne and Wear","E31000043","Metropolitan","Predominantly Urban","HC","Wholetime firefighters","Ethnic origin not stated",0]
["2019/20","Tyne and Wear","E31000043","Metropolitan","Predominantly Urban","HC","Wholetime firefighters","Mixed",1]
["2019/20","Tyne and Wear","E31000043","Metropolitan","Predominantly Urban","HC","Wholetime firefighters","White British or Irish",15]
["2019/20","Warwickshire","E31000036","Non-metropolitan","Significantly Rural","HC","Fire control","Asian or Asian British",0]
["2019/20","Warwickshire","E31000036","Non-metropolitan","Significantly Rural","HC","Fire control","Black or Black British",0]
["2019/20","Warwickshire","E31000036","Non-metropolitan","Significantly Rural","HC","Fire control","Chinese or other ethnicity",0]
["2019/20","Warwickshire","E31000036","Non-metropolitan","Significantly Rural","HC","Fire control","Ethnic origin not stated",0]
["2019/20","Warwickshire","E31000036","Non-metropolitan","Significantly Rural","HC","Fire control","Mixed",0]
["2019/20","Warwickshire","E31000036","Non-metropolitan","Significantly Rural","HC","Fire control","White British or Irish",2]
["2019/20","Warwickshire","E31000036","Non-metropolitan","Significantly Rural","HC","On call firefighters","Asian or Asian British",0]
["2019/20","Warwickshire","E31000036","Non-metropolitan","Significantly Rural","HC","On call firefighters","Black or Black British",0]
["2019/20","Warwickshire","E31000036","Non-metropolitan","Significantly Rural","HC","On call firefighters","Chinese or other ethnicity",0]
["2019/20","Warwickshire","E31000036","Non-metropolitan","Significantly Rural","HC","On call firefighters","Ethnic origin not stated",4]
["2019/20","Warwickshire","E31000036","Non-metropolitan","Significantly Rural","HC","On call firefighters","Mixed",0]
["2019/20","Warwickshire","E31000036","Non-metropolitan","Significantly Rural","HC","On call firefighters","White British or Irish",11]
["2019/20","Warwickshire","E31000036","Non-metropolitan","Significantly Rural","HC","Support staff","Asian or Asian British",0]
["2019/20","Warwickshire","E31000036","Non-metropolitan","Significantly Rural","HC","Support staff","Black or Black British",0]
["2019/20","Warwickshire","E31000036","Non-metropolitan","Significantly Rural","HC","Support staff","Chinese or other ethnicity",0]
["2019/20","Warwickshire","E31000036","Non-metropolitan","Significantly Rural","HC","Support staff","Ethnic origin not stated",3]
["2019/20","Warwickshire","E31000036","Non-metropolitan","Significantly Rural","HC","Support staff","Mixed",0]
["2019/20","Warwickshire","E31000036","Non-metropolitan","Significantly Rural","HC","Support staff","White British or Irish",15]
["2019/20","Warwickshire","E31000036","Non-metropolitan","Significantly Rural","HC","Wholetime firefighters","Asian or Asian British",1]
["2019/20","Warwickshire","E31000036","Non-metropolitan","Significantly Rural","HC","Wholetime firefighters","Black or Black British",0]
["2019/20","Warwickshire","E31000036","Non-metropolitan","Significantly Rural","HC","Wholetime firefighters","Chinese or other ethnicity",0]
["2019/20","Warwickshire","E31000036","Non-metropolitan","Significantly Rural","HC","Wholetime firefighters","Ethnic origin not stated",10]
["2019/20","Warwickshire","E31000036","Non-metropolitan","Significantly Rural","HC","Wholetime firefighters","Mixed",0]
["2019/20","Warwickshire","E31000036","Non-metropolitan","Significantly Rural","HC","Wholetime firefighters","White British or Irish",13]
["2019/20","West Midlands","E31000044","Metropolitan","Predominantly Urban","HC","Fire control","Asian or Asian British",0]
["2019/20","West Midlands","E31000044","Metropolitan","Predominantly Urban","HC","Fire control","Black or Black British",0]
["2019/20","West Midlands","E31000044","Metropolitan","Predominantly Urban","HC","Fire control","Chinese or other ethnicity",0]
["2019/20","West Midlands","E31000044","Metropolitan","Predominantly Urban","HC","Fire control","Ethnic origin not stated",3]
["2019/20","West Midlands","E31000044","Metropolitan","Predominantly Urban","HC","Fire control","Mixed",0]
["2019/20","West Midlands","E31000044","Metropolitan","Predominantly Urban","HC","Fire control","White British or Irish",6]
["2019/20","West Midlands","E31000044","Metropolitan","Predominantly Urban","HC","On call firefighters","Asian or Asian British",0]
["2019/20","West Midlands","E31000044","Metropolitan","Predominantly Urban","HC","On call firefighters","Black or Black British",0]
["2019/20","West Midlands","E31000044","Metropolitan","Predominantly Urban","HC","On call firefighters","Chinese or other ethnicity",0]
["2019/20","West Midlands","E31000044","Metropolitan","Predominantly Urban","HC","On call firefighters","Ethnic origin not stated",0]
["2019/20","West Midlands","E31000044","Metropolitan","Predominantly Urban","HC","On call firefighters","Mixed",0]
["2019/20","West Midlands","E31000044","Metropolitan","Predominantly Urban","HC","On call firefighters","White British or Irish",0]
["2019/20","West Midlands","E31000044","Metropolitan","Predominantly Urban","HC","Support staff","Asian or Asian British",6]
["2019/20","West Midlands","E31000044","Metropolitan","Predominantly Urban","HC","Support staff","Black or Black British",4]
["2019/20","West Midlands","E31000044","Metropolitan","Predominantly Urban","HC","Support staff","Chinese or other ethnicity",1]
["2019/20","West Midlands","E31000044","Metropolitan","Predominantly Urban","HC","Support staff","Ethnic origin not stated",12]
["2019/20","West Midlands","E31000044","Metropolitan","Predominantly Urban","HC","Support staff","Mixed",0]
["2019/20","West Midlands","E31000044","Metropolitan","Predominantly Urban","HC","Support staff","White British or Irish",17]
["2019/20","West Midlands","E31000044","Metropolitan","Predominantly Urban","HC","Wholetime firefighters","Asian or Asian British",2]
["2019/20","West Midlands","E31000044","Metropolitan","Predominantly Urban","HC","Wholetime firefighters","Black or Black British",7]
["2019/20","West Midlands","E31000044","Metropolitan","Predominantly Urban","HC","Wholetime firefighters","Chinese or other ethnicity",1]
["2019/20","West Midlands","E31000044","Metropolitan","Predominantly Urban","HC","Wholetime firefighters","Ethnic origin not stated",0]
["2019/20","West Midlands","E31000044","Metropolitan","Predominantly Urban","HC","Wholetime firefighters","Mixed",12]
["2019/20","West Midlands","E31000044","Metropolitan","Predominantly Urban","HC","Wholetime firefighters","White British or Irish",52]
["2019/20","West Sussex","E31000037","Non-metropolitan","Significantly Rural","HC","Fire control","Asian or Asian British",0]
["2019/20","West Sussex","E31000037","Non-metropolitan","Significantly Rural","HC","Fire control","Black or Black British",0]
["2019/20","West Sussex","E31000037","Non-metropolitan","Significantly Rural","HC","Fire control","Chinese or other ethnicity",0]
["2019/20","West Sussex","E31000037","Non-metropolitan","Significantly Rural","HC","Fire control","Ethnic origin not stated",0]
["2019/20","West Sussex","E31000037","Non-metropolitan","Significantly Rural","HC","Fire control","Mixed",0]
["2019/20","West Sussex","E31000037","Non-metropolitan","Significantly Rural","HC","Fire control","White British or Irish",0]
["2019/20","West Sussex","E31000037","Non-metropolitan","Significantly Rural","HC","On call firefighters","Asian or Asian British",0]
["2019/20","West Sussex","E31000037","Non-metropolitan","Significantly Rural","HC","On call firefighters","Black or Black British",0]
["2019/20","West Sussex","E31000037","Non-metropolitan","Significantly Rural","HC","On call firefighters","Chinese or other ethnicity",1]
["2019/20","West Sussex","E31000037","Non-metropolitan","Significantly Rural","HC","On call firefighters","Ethnic origin not stated",13]
["2019/20","West Sussex","E31000037","Non-metropolitan","Significantly Rural","HC","On call firefighters","Mixed",0]
["2019/20","West Sussex","E31000037","Non-metropolitan","Significantly Rural","HC","On call firefighters","White British or Irish",30]
["2019/20","West Sussex","E31000037","Non-metropolitan","Significantly Rural","HC","Support staff","Asian or Asian British",0]
["2019/20","West Sussex","E31000037","Non-metropolitan","Significantly Rural","HC","Support staff","Black or Black British",0]
["2019/20","West Sussex","E31000037","Non-metropolitan","Significantly Rural","HC","Support staff","Chinese or other ethnicity",0]
["2019/20","West Sussex","E31000037","Non-metropolitan","Significantly Rural","HC","Support staff","Ethnic origin not stated",13]
["2019/20","West Sussex","E31000037","Non-metropolitan","Significantly Rural","HC","Support staff","Mixed",0]
["2019/20","West Sussex","E31000037","Non-metropolitan","Significantly Rural","HC","Support staff","White British or Irish",1]
["2019/20","West Sussex","E31000037","Non-metropolitan","Significantly Rural","HC","Wholetime firefighters","Asian or Asian British",0]
["2019/20","West Sussex","E31000037","Non-metropolitan","Significantly Rural","HC","Wholetime firefighters","Black or Black British",0]
["2019/20","West Sussex","E31000037","Non-metropolitan","Significantly Rural","HC","Wholetime firefighters","Chinese or other ethnicity",0]
["2019/20","West Sussex","E31000037","Non-metropolitan","Significantly Rural","HC","Wholetime firefighters","Ethnic origin not stated",11]
["2019/20","West Sussex","E31000037","Non-metropolitan","Significantly Rural","HC","Wholetime firefighters","Mixed",0]
["2019/20","West Sussex","E31000037","Non-metropolitan","Significantly Rural","HC","Wholetime firefighters","White British or Irish",2]
["2019/20","West Yorkshire","E31000045","Metropolitan","Predominantly Urban","HC","Fire control","Asian or Asian British",0]
["2019/20","West Yorkshire","E31000045","Metropolitan","Predominantly Urban","HC","Fire control","Black or Black British",0]
["2019/20","West Yorkshire","E31000045","Metropolitan","Predominantly Urban","HC","Fire control","Chinese or other ethnicity",0]
["2019/20","West Yorkshire","E31000045","Metropolitan","Predominantly Urban","HC","Fire control","Ethnic origin not stated",0]
["2019/20","West Yorkshire","E31000045","Metropolitan","Predominantly Urban","HC","Fire control","Mixed",0]
["2019/20","West Yorkshire","E31000045","Metropolitan","Predominantly Urban","HC","Fire control","White British or Irish",1]
["2019/20","West Yorkshire","E31000045","Metropolitan","Predominantly Urban","HC","On call firefighters","Asian or Asian British",0]
["2019/20","West Yorkshire","E31000045","Metropolitan","Predominantly Urban","HC","On call firefighters","Black or Black British",0]
["2019/20","West Yorkshire","E31000045","Metropolitan","Predominantly Urban","HC","On call firefighters","Chinese or other ethnicity",0]
["2019/20","West Yorkshire","E31000045","Metropolitan","Predominantly Urban","HC","On call firefighters","Ethnic origin not stated",1]
["2019/20","West Yorkshire","E31000045","Metropolitan","Predominantly Urban","HC","On call firefighters","Mixed",0]
["2019/20","West Yorkshire","E31000045","Metropolitan","Predominantly Urban","HC","On call firefighters","White British or Irish",25]
["2019/20","West Yorkshire","E31000045","Metropolitan","Predominantly Urban","HC","Support staff","Asian or Asian British",1]
["2019/20","West Yorkshire","E31000045","Metropolitan","Predominantly Urban","HC","Support staff","Black or Black British",0]
["2019/20","West Yorkshire","E31000045","Metropolitan","Predominantly Urban","HC","Support staff","Chinese or other ethnicity",0]
["2019/20","West Yorkshire","E31000045","Metropolitan","Predominantly Urban","HC","Support staff","Ethnic origin not stated",5]
["2019/20","West Yorkshire","E31000045","Metropolitan","Predominantly Urban","HC","Support staff","Mixed",0]
["2019/20","West Yorkshire","E31000045","Metropolitan","Predominantly Urban","HC","Support staff","White British or Irish",11]
["2019/20","West Yorkshire","E31000045","Metropolitan","Predominantly Urban","HC","Wholetime firefighters","Asian or Asian British",0]
["2019/20","West Yorkshire","E31000045","Metropolitan","Predominantly Urban","HC","Wholetime firefighters","Black or Black British",0]
["2019/20","West Yorkshire","E31000045","Metropolitan","Predominantly Urban","HC","Wholetime firefighters","Chinese or other ethnicity",2]
["2019/20","West Yorkshire","E31000045","Metropolitan","Predominantly Urban","HC","Wholetime firefighters","Ethnic origin not stated",14]
["2019/20","West Yorkshire","E31000045","Metropolitan","Predominantly Urban","HC","Wholetime firefighters","Mixed",1]
["2019/20","West Yorkshire","E31000045","Metropolitan","Predominantly Urban","HC","Wholetime firefighters","White British or Irish",24]
["2020/21","Avon","E31000001","Non-metropolitan","Predominantly Urban","HC","Fire control","Asian or Asian British",0]
["2020/21","Avon","E31000001","Non-metropolitan","Predominantly Urban","HC","Fire control","Black or Black British",0]
["2020/21","Avon","E31000001","Non-metropolitan","Predominantly Urban","HC","Fire control","Chinese or other ethnicity",0]
["2020/21","Avon","E31000001","Non-metropolitan","Predominantly Urban","HC","Fire control","Ethnic origin not stated",1]
["2020/21","Avon","E31000001","Non-metropolitan","Predominantly Urban","HC","Fire control","Mixed",0]
["2020/21","Avon","E31000001","Non-metropolitan","Predominantly Urban","HC","Fire control","White British or Irish",1]
["2020/21","Avon","E31000001","Non-metropolitan","Predominantly Urban","HC","On call firefighters","Asian or Asian British",0]
["2020/21","Avon","E31000001","Non-metropolitan","Predominantly Urban","HC","On call firefighters","Black or Black British",0]
["2020/21","Avon","E31000001","Non-metropolitan","Predominantly Urban","HC","On call firefighters","Chinese or other ethnicity",1]
["2020/21","Avon","E31000001","Non-metropolitan","Predominantly Urban","HC","On call firefighters","Ethnic origin not stated",5]
["2020/21","Avon","E31000001","Non-metropolitan","Predominantly Urban","HC","On call firefighters","Mixed",0]
["2020/21","Avon","E31000001","Non-metropolitan","Predominantly Urban","HC","On call firefighters","White British or Irish",6]
["2020/21","Avon","E31000001","Non-metropolitan","Predominantly Urban","HC","Support staff","Asian or Asian British",1]
["2020/21","Avon","E31000001","Non-metropolitan","Predominantly Urban","HC","Support staff","Black or Black British",0]
["2020/21","Avon","E31000001","Non-metropolitan","Predominantly Urban","HC","Support staff","Chinese or other ethnicity",2]
["2020/21","Avon","E31000001","Non-metropolitan","Predominantly Urban","HC","Support staff","Ethnic origin not stated",5]
["2020/21","Avon","E31000001","Non-metropolitan","Predominantly Urban","HC","Support staff","Mixed",0]
["2020/21","Avon","E31000001","Non-metropolitan","Predominantly Urban","HC","Support staff","White British or Irish",11]
["2020/21","Avon","E31000001","Non-metropolitan","Predominantly Urban","HC","Wholetime firefighters","Asian or Asian British",0]
["2020/21","Avon","E31000001","Non-metropolitan","Predominantly Urban","HC","Wholetime firefighters","Black or Black British",1]
["2020/21","Avon","E31000001","Non-metropolitan","Predominantly Urban","HC","Wholetime firefighters","Chinese or other ethnicity",0]
["2020/21","Avon","E31000001","Non-metropolitan","Predominantly Urban","HC","Wholetime firefighters","Ethnic origin not stated",1]
["2020/21","Avon","E31000001","Non-metropolitan","Predominantly Urban","HC","Wholetime firefighters","Mixed",2]
["2020/21","Avon","E31000001","Non-metropolitan","Predominantly Urban","HC","Wholetime firefighters","White British or Irish",16]
["2020/21","Bedfordshire","E31000002","Non-metropolitan","Significantly Rural","HC","Fire control","Asian or Asian British",0]
["2020/21","Bedfordshire","E31000002","Non-metropolitan","Significantly Rural","HC","Fire control","Black or Black British",0]
["2020/21","Bedfordshire","E31000002","Non-metropolitan","Significantly Rural","HC","Fire control","Chinese or other ethnicity",0]
["2020/21","Bedfordshire","E31000002","Non-metropolitan","Significantly Rural","HC","Fire control","Ethnic origin not stated",1]
["2020/21","Bedfordshire","E31000002","Non-metropolitan","Significantly Rural","HC","Fire control","Mixed",0]
["2020/21","Bedfordshire","E31000002","Non-metropolitan","Significantly Rural","HC","Fire control","White British or Irish",1]
["2020/21","Bedfordshire","E31000002","Non-metropolitan","Significantly Rural","HC","On call firefighters","Asian or Asian British",0]
["2020/21","Bedfordshire","E31000002","Non-metropolitan","Significantly Rural","HC","On call firefighters","Black or Black British",0]
["2020/21","Bedfordshire","E31000002","Non-metropolitan","Significantly Rural","HC","On call firefighters","Chinese or other ethnicity",0]
["2020/21","Bedfordshire","E31000002","Non-metropolitan","Significantly Rural","HC","On call firefighters","Ethnic origin not stated",2]
["2020/21","Bedfordshire","E31000002","Non-metropolitan","Significantly Rural","HC","On call firefighters","Mixed",0]
["2020/21","Bedfordshire","E31000002","Non-metropolitan","Significantly Rural","HC","On call firefighters","White British or Irish",12]
["2020/21","Bedfordshire","E31000002","Non-metropolitan","Significantly Rural","HC","Support staff","Asian or Asian British",2]
["2020/21","Bedfordshire","E31000002","Non-metropolitan","Significantly Rural","HC","Support staff","Black or Black British",1]
["2020/21","Bedfordshire","E31000002","Non-metropolitan","Significantly Rural","HC","Support staff","Chinese or other ethnicity",4]
["2020/21","Bedfordshire","E31000002","Non-metropolitan","Significantly Rural","HC","Support staff","Ethnic origin not stated",0]
["2020/21","Bedfordshire","E31000002","Non-metropolitan","Significantly Rural","HC","Support staff","Mixed",0]
["2020/21","Bedfordshire","E31000002","Non-metropolitan","Significantly Rural","HC","Support staff","White British or Irish",12]
["2020/21","Bedfordshire","E31000002","Non-metropolitan","Significantly Rural","HC","Wholetime firefighters","Asian or Asian British",0]
["2020/21","Bedfordshire","E31000002","Non-metropolitan","Significantly Rural","HC","Wholetime firefighters","Black or Black British",1]
["2020/21","Bedfordshire","E31000002","Non-metropolitan","Significantly Rural","HC","Wholetime firefighters","Chinese or other ethnicity",0]
["2020/21","Bedfordshire","E31000002","Non-metropolitan","Significantly Rural","HC","Wholetime firefighters","Ethnic origin not stated",1]
["2020/21","Bedfordshire","E31000002","Non-metropolitan","Significantly Rural","HC","Wholetime firefighters","Mixed",2]
["2020/21","Bedfordshire","E31000002","Non-metropolitan","Significantly Rural","HC","Wholetime firefighters","White British or Irish",22]
["2020/21","Berkshire","E31000003","Non-metropolitan","Predominantly Urban","HC","Fire control","Asian or Asian British",0]
["2020/21","Berkshire","E31000003","Non-metropolitan","Predominantly Urban","HC","Fire control","Black or Black British",0]
["2020/21","Berkshire","E31000003","Non-metropolitan","Predominantly Urban","HC","Fire control","Chinese or other ethnicity",0]
["2020/21","Berkshire","E31000003","Non-metropolitan","Predominantly Urban","HC","Fire control","Ethnic origin not stated",0]
["2020/21","Berkshire","E31000003","Non-metropolitan","Predominantly Urban","HC","Fire control","Mixed",1]
["2020/21","Berkshire","E31000003","Non-metropolitan","Predominantly Urban","HC","Fire control","White British or Irish",3]
["2020/21","Berkshire","E31000003","Non-metropolitan","Predominantly Urban","HC","On call firefighters","Asian or Asian British",0]
["2020/21","Berkshire","E31000003","Non-metropolitan","Predominantly Urban","HC","On call firefighters","Black or Black British",0]
["2020/21","Berkshire","E31000003","Non-metropolitan","Predominantly Urban","HC","On call firefighters","Chinese or other ethnicity",0]
["2020/21","Berkshire","E31000003","Non-metropolitan","Predominantly Urban","HC","On call firefighters","Ethnic origin not stated",0]
["2020/21","Berkshire","E31000003","Non-metropolitan","Predominantly Urban","HC","On call firefighters","Mixed",0]
["2020/21","Berkshire","E31000003","Non-metropolitan","Predominantly Urban","HC","On call firefighters","White British or Irish",2]
["2020/21","Berkshire","E31000003","Non-metropolitan","Predominantly Urban","HC","Support staff","Asian or Asian British",0]
["2020/21","Berkshire","E31000003","Non-metropolitan","Predominantly Urban","HC","Support staff","Black or Black British",0]
["2020/21","Berkshire","E31000003","Non-metropolitan","Predominantly Urban","HC","Support staff","Chinese or other ethnicity",2]
["2020/21","Berkshire","E31000003","Non-metropolitan","Predominantly Urban","HC","Support staff","Ethnic origin not stated",0]
["2020/21","Berkshire","E31000003","Non-metropolitan","Predominantly Urban","HC","Support staff","Mixed",1]
["2020/21","Berkshire","E31000003","Non-metropolitan","Predominantly Urban","HC","Support staff","White British or Irish",19]
["2020/21","Berkshire","E31000003","Non-metropolitan","Predominantly Urban","HC","Wholetime firefighters","Asian or Asian British",0]
["2020/21","Berkshire","E31000003","Non-metropolitan","Predominantly Urban","HC","Wholetime firefighters","Black or Black British",0]
["2020/21","Berkshire","E31000003","Non-metropolitan","Predominantly Urban","HC","Wholetime firefighters","Chinese or other ethnicity",0]
["2020/21","Berkshire","E31000003","Non-metropolitan","Predominantly Urban","HC","Wholetime firefighters","Ethnic origin not stated",0]
["2020/21","Berkshire","E31000003","Non-metropolitan","Predominantly Urban","HC","Wholetime firefighters","Mixed",0]
["2020/21","Berkshire","E31000003","Non-metropolitan","Predominantly Urban","HC","Wholetime firefighters","White British or Irish",5]
["2020/21","Buckinghamshire","E31000004","Non-metropolitan","Significantly Rural","HC","Fire control","Asian or Asian British",0]
["2020/21","Buckinghamshire","E31000004","Non-metropolitan","Significantly Rural","HC","Fire control","Black or Black British",0]
["2020/21","Buckinghamshire","E31000004","Non-metropolitan","Significantly Rural","HC","Fire control","Chinese or other ethnicity",0]
["2020/21","Buckinghamshire","E31000004","Non-metropolitan","Significantly Rural","HC","Fire control","Ethnic origin not stated",0]
["2020/21","Buckinghamshire","E31000004","Non-metropolitan","Significantly Rural","HC","Fire control","Mixed",0]
["2020/21","Buckinghamshire","E31000004","Non-metropolitan","Significantly Rural","HC","Fire control","White British or Irish",0]
["2020/21","Buckinghamshire","E31000004","Non-metropolitan","Significantly Rural","HC","On call firefighters","Asian or Asian British",2]
["2020/21","Buckinghamshire","E31000004","Non-metropolitan","Significantly Rural","HC","On call firefighters","Black or Black British",0]
["2020/21","Buckinghamshire","E31000004","Non-metropolitan","Significantly Rural","HC","On call firefighters","Chinese or other ethnicity",0]
["2020/21","Buckinghamshire","E31000004","Non-metropolitan","Significantly Rural","HC","On call firefighters","Ethnic origin not stated",2]
["2020/21","Buckinghamshire","E31000004","Non-metropolitan","Significantly Rural","HC","On call firefighters","Mixed",1]
["2020/21","Buckinghamshire","E31000004","Non-metropolitan","Significantly Rural","HC","On call firefighters","White British or Irish",15]
["2020/21","Buckinghamshire","E31000004","Non-metropolitan","Significantly Rural","HC","Support staff","Asian or Asian British",2]
["2020/21","Buckinghamshire","E31000004","Non-metropolitan","Significantly Rural","HC","Support staff","Black or Black British",0]
["2020/21","Buckinghamshire","E31000004","Non-metropolitan","Significantly Rural","HC","Support staff","Chinese or other ethnicity",0]
["2020/21","Buckinghamshire","E31000004","Non-metropolitan","Significantly Rural","HC","Support staff","Ethnic origin not stated",0]
["2020/21","Buckinghamshire","E31000004","Non-metropolitan","Significantly Rural","HC","Support staff","Mixed",0]
["2020/21","Buckinghamshire","E31000004","Non-metropolitan","Significantly Rural","HC","Support staff","White British or Irish",11]
["2020/21","Buckinghamshire","E31000004","Non-metropolitan","Significantly Rural","HC","Wholetime firefighters","Asian or Asian British",0]
["2020/21","Buckinghamshire","E31000004","Non-metropolitan","Significantly Rural","HC","Wholetime firefighters","Black or Black British",0]
["2020/21","Buckinghamshire","E31000004","Non-metropolitan","Significantly Rural","HC","Wholetime firefighters","Chinese or other ethnicity",0]
["2020/21","Buckinghamshire","E31000004","Non-metropolitan","Significantly Rural","HC","Wholetime firefighters","Ethnic origin not stated",0]
["2020/21","Buckinghamshire","E31000004","Non-metropolitan","Significantly Rural","HC","Wholetime firefighters","Mixed",0]
["2020/21","Buckinghamshire","E31000004","Non-metropolitan","Significantly Rural","HC","Wholetime firefighters","White British or Irish",25]
["2020/21","Cambridgeshire","E31000005","Non-metropolitan","Predominantly Rural","HC","Fire control","Asian or Asian British",0]
["2020/21","Cambridgeshire","E31000005","Non-metropolitan","Predominantly Rural","HC","Fire control","Black or Black British",0]
["2020/21","Cambridgeshire","E31000005","Non-metropolitan","Predominantly Rural","HC","Fire control","Chinese or other ethnicity",0]
["2020/21","Cambridgeshire","E31000005","Non-metropolitan","Predominantly Rural","HC","Fire control","Ethnic origin not stated",0]
["2020/21","Cambridgeshire","E31000005","Non-metropolitan","Predominantly Rural","HC","Fire control","Mixed",0]
["2020/21","Cambridgeshire","E31000005","Non-metropolitan","Predominantly Rural","HC","Fire control","White British or Irish",5]
["2020/21","Cambridgeshire","E31000005","Non-metropolitan","Predominantly Rural","HC","On call firefighters","Asian or Asian British",0]
["2020/21","Cambridgeshire","E31000005","Non-metropolitan","Predominantly Rural","HC","On call firefighters","Black or Black British",0]
["2020/21","Cambridgeshire","E31000005","Non-metropolitan","Predominantly Rural","HC","On call firefighters","Chinese or other ethnicity",0]
["2020/21","Cambridgeshire","E31000005","Non-metropolitan","Predominantly Rural","HC","On call firefighters","Ethnic origin not stated",0]
["2020/21","Cambridgeshire","E31000005","Non-metropolitan","Predominantly Rural","HC","On call firefighters","Mixed",1]
["2020/21","Cambridgeshire","E31000005","Non-metropolitan","Predominantly Rural","HC","On call firefighters","White British or Irish",18]
["2020/21","Cambridgeshire","E31000005","Non-metropolitan","Predominantly Rural","HC","Support staff","Asian or Asian British",1]
["2020/21","Cambridgeshire","E31000005","Non-metropolitan","Predominantly Rural","HC","Support staff","Black or Black British",0]
["2020/21","Cambridgeshire","E31000005","Non-metropolitan","Predominantly Rural","HC","Support staff","Chinese or other ethnicity",1]
["2020/21","Cambridgeshire","E31000005","Non-metropolitan","Predominantly Rural","HC","Support staff","Ethnic origin not stated",3]
["2020/21","Cambridgeshire","E31000005","Non-metropolitan","Predominantly Rural","HC","Support staff","Mixed",0]
["2020/21","Cambridgeshire","E31000005","Non-metropolitan","Predominantly Rural","HC","Support staff","White British or Irish",17]
["2020/21","Cambridgeshire","E31000005","Non-metropolitan","Predominantly Rural","HC","Wholetime firefighters","Asian or Asian British",0]
["2020/21","Cambridgeshire","E31000005","Non-metropolitan","Predominantly Rural","HC","Wholetime firefighters","Black or Black British",0]
["2020/21","Cambridgeshire","E31000005","Non-metropolitan","Predominantly Rural","HC","Wholetime firefighters","Chinese or other ethnicity",1]
["2020/21","Cambridgeshire","E31000005","Non-metropolitan","Predominantly Rural","HC","Wholetime firefighters","Ethnic origin not stated",4]
["2020/21","Cambridgeshire","E31000005","Non-metropolitan","Predominantly Rural","HC","Wholetime firefighters","Mixed",0]
["2020/21","Cambridgeshire","E31000005","Non-metropolitan","Predominantly Rural","HC","Wholetime firefighters","White British or Irish",19]
["2020/21","Cheshire","E31000006","Non-metropolitan","Significantly Rural","HC","Fire control","Asian or Asian British",0]
["2020/21","Cheshire","E31000006","Non-metropolitan","Significantly Rural","HC","Fire control","Black or Black British",0]
["2020/21","Cheshire","E31000006","Non-metropolitan","Significantly Rural","HC","Fire control","Chinese or other ethnicity",0]
["2020/21","Cheshire","E31000006","Non-metropolitan","Significantly Rural","HC","Fire control","Ethnic origin not stated",0]
["2020/21","Cheshire","E31000006","Non-metropolitan","Significantly Rural","HC","Fire control","Mixed",0]
["2020/21","Cheshire","E31000006","Non-metropolitan","Significantly Rural","HC","Fire control","White British or Irish",0]
["2020/21","Cheshire","E31000006","Non-metropolitan","Significantly Rural","HC","On call firefighters","Asian or Asian British",0]
["2020/21","Cheshire","E31000006","Non-metropolitan","Significantly Rural","HC","On call firefighters","Black or Black British",0]
["2020/21","Cheshire","E31000006","Non-metropolitan","Significantly Rural","HC","On call firefighters","Chinese or other ethnicity",0]
["2020/21","Cheshire","E31000006","Non-metropolitan","Significantly Rural","HC","On call firefighters","Ethnic origin not stated",2]
["2020/21","Cheshire","E31000006","Non-metropolitan","Significantly Rural","HC","On call firefighters","Mixed",1]
["2020/21","Cheshire","E31000006","Non-metropolitan","Significantly Rural","HC","On call firefighters","White British or Irish",16]
["2020/21","Cheshire","E31000006","Non-metropolitan","Significantly Rural","HC","Support staff","Asian or Asian British",0]
["2020/21","Cheshire","E31000006","Non-metropolitan","Significantly Rural","HC","Support staff","Black or Black British",0]
["2020/21","Cheshire","E31000006","Non-metropolitan","Significantly Rural","HC","Support staff","Chinese or other ethnicity",0]
["2020/21","Cheshire","E31000006","Non-metropolitan","Significantly Rural","HC","Support staff","Ethnic origin not stated",0]
["2020/21","Cheshire","E31000006","Non-metropolitan","Significantly Rural","HC","Support staff","Mixed",0]
["2020/21","Cheshire","E31000006","Non-metropolitan","Significantly Rural","HC","Support staff","White British or Irish",4]
["2020/21","Cheshire","E31000006","Non-metropolitan","Significantly Rural","HC","Wholetime firefighters","Asian or Asian British",0]
["2020/21","Cheshire","E31000006","Non-metropolitan","Significantly Rural","HC","Wholetime firefighters","Black or Black British",0]
["2020/21","Cheshire","E31000006","Non-metropolitan","Significantly Rural","HC","Wholetime firefighters","Chinese or other ethnicity",0]
["2020/21","Cheshire","E31000006","Non-metropolitan","Significantly Rural","HC","Wholetime firefighters","Ethnic origin not stated",0]
["2020/21","Cheshire","E31000006","Non-metropolitan","Significantly Rural","HC","Wholetime firefighters","Mixed",2]
["2020/21","Cheshire","E31000006","Non-metropolitan","Significantly Rural","HC","Wholetime firefighters","White British or Irish",11]
["2020/21","Cleveland","E31000007","Non-metropolitan","Predominantly Urban","HC","Fire control","Asian or Asian British",0]
["2020/21","Cleveland","E31000007","Non-metropolitan","Predominantly Urban","HC","Fire control","Black or Black British",0]
["2020/21","Cleveland","E31000007","Non-metropolitan","Predominantly Urban","HC","Fire control","Chinese or other ethnicity",0]
["2020/21","Cleveland","E31000007","Non-metropolitan","Predominantly Urban","HC","Fire control","Ethnic origin not stated",0]
["2020/21","Cleveland","E31000007","Non-metropolitan","Predominantly Urban","HC","Fire control","Mixed",0]
["2020/21","Cleveland","E31000007","Non-metropolitan","Predominantly Urban","HC","Fire control","White British or Irish",1]
["2020/21","Cleveland","E31000007","Non-metropolitan","Predominantly Urban","HC","On call firefighters","Asian or Asian British",0]
["2020/21","Cleveland","E31000007","Non-metropolitan","Predominantly Urban","HC","On call firefighters","Black or Black British",0]
["2020/21","Cleveland","E31000007","Non-metropolitan","Predominantly Urban","HC","On call firefighters","Chinese or other ethnicity",0]
["2020/21","Cleveland","E31000007","Non-metropolitan","Predominantly Urban","HC","On call firefighters","Ethnic origin not stated",1]
["2020/21","Cleveland","E31000007","Non-metropolitan","Predominantly Urban","HC","On call firefighters","Mixed",0]
["2020/21","Cleveland","E31000007","Non-metropolitan","Predominantly Urban","HC","On call firefighters","White British or Irish",9]
["2020/21","Cleveland","E31000007","Non-metropolitan","Predominantly Urban","HC","Support staff","Asian or Asian British",1]
["2020/21","Cleveland","E31000007","Non-metropolitan","Predominantly Urban","HC","Support staff","Black or Black British",0]
["2020/21","Cleveland","E31000007","Non-metropolitan","Predominantly Urban","HC","Support staff","Chinese or other ethnicity",1]
["2020/21","Cleveland","E31000007","Non-metropolitan","Predominantly Urban","HC","Support staff","Ethnic origin not stated",0]
["2020/21","Cleveland","E31000007","Non-metropolitan","Predominantly Urban","HC","Support staff","Mixed",0]
["2020/21","Cleveland","E31000007","Non-metropolitan","Predominantly Urban","HC","Support staff","White British or Irish",10]
["2020/21","Cleveland","E31000007","Non-metropolitan","Predominantly Urban","HC","Wholetime firefighters","Asian or Asian British",0]
["2020/21","Cleveland","E31000007","Non-metropolitan","Predominantly Urban","HC","Wholetime firefighters","Black or Black British",0]
["2020/21","Cleveland","E31000007","Non-metropolitan","Predominantly Urban","HC","Wholetime firefighters","Chinese or other ethnicity",0]
["2020/21","Cleveland","E31000007","Non-metropolitan","Predominantly Urban","HC","Wholetime firefighters","Ethnic origin not stated",0]
["2020/21","Cleveland","E31000007","Non-metropolitan","Predominantly Urban","HC","Wholetime firefighters","Mixed",0]
["2020/21","Cleveland","E31000007","Non-metropolitan","Predominantly Urban","HC","Wholetime firefighters","White British or Irish",0]
["2020/21","Cornwall","E31000008","Non-metropolitan","Predominantly Rural","HC","Fire control","Asian or Asian British",0]
["2020/21","Cornwall","E31000008","Non-metropolitan","Predominantly Rural","HC","Fire control","Black or Black British",0]
["2020/21","Cornwall","E31000008","Non-metropolitan","Predominantly Rural","HC","Fire control","Chinese or other ethnicity",0]
["2020/21","Cornwall","E31000008","Non-metropolitan","Predominantly Rural","HC","Fire control","Ethnic origin not stated",0]
["2020/21","Cornwall","E31000008","Non-metropolitan","Predominantly Rural","HC","Fire control","Mixed",0]
["2020/21","Cornwall","E31000008","Non-metropolitan","Predominantly Rural","HC","Fire control","White British or Irish",0]
["2020/21","Cornwall","E31000008","Non-metropolitan","Predominantly Rural","HC","On call firefighters","Asian or Asian British",0]
["2020/21","Cornwall","E31000008","Non-metropolitan","Predominantly Rural","HC","On call firefighters","Black or Black British",0]
["2020/21","Cornwall","E31000008","Non-metropolitan","Predominantly Rural","HC","On call firefighters","Chinese or other ethnicity",0]
["2020/21","Cornwall","E31000008","Non-metropolitan","Predominantly Rural","HC","On call firefighters","Ethnic origin not stated",25]
["2020/21","Cornwall","E31000008","Non-metropolitan","Predominantly Rural","HC","On call firefighters","Mixed",0]
["2020/21","Cornwall","E31000008","Non-metropolitan","Predominantly Rural","HC","On call firefighters","White British or Irish",0]
["2020/21","Cornwall","E31000008","Non-metropolitan","Predominantly Rural","HC","Support staff","Asian or Asian British",0]
["2020/21","Cornwall","E31000008","Non-metropolitan","Predominantly Rural","HC","Support staff","Black or Black British",0]
["2020/21","Cornwall","E31000008","Non-metropolitan","Predominantly Rural","HC","Support staff","Chinese or other ethnicity",0]
["2020/21","Cornwall","E31000008","Non-metropolitan","Predominantly Rural","HC","Support staff","Ethnic origin not stated",2]
["2020/21","Cornwall","E31000008","Non-metropolitan","Predominantly Rural","HC","Support staff","Mixed",0]
["2020/21","Cornwall","E31000008","Non-metropolitan","Predominantly Rural","HC","Support staff","White British or Irish",0]
["2020/21","Cornwall","E31000008","Non-metropolitan","Predominantly Rural","HC","Wholetime firefighters","Asian or Asian British",0]
["2020/21","Cornwall","E31000008","Non-metropolitan","Predominantly Rural","HC","Wholetime firefighters","Black or Black British",0]
["2020/21","Cornwall","E31000008","Non-metropolitan","Predominantly Rural","HC","Wholetime firefighters","Chinese or other ethnicity",0]
["2020/21","Cornwall","E31000008","Non-metropolitan","Predominantly Rural","HC","Wholetime firefighters","Ethnic origin not stated",1]
["2020/21","Cornwall","E31000008","Non-metropolitan","Predominantly Rural","HC","Wholetime firefighters","Mixed",0]
["2020/21","Cornwall","E31000008","Non-metropolitan","Predominantly Rural","HC","Wholetime firefighters","White British or Irish",1]
["2020/21","Cumbria","E31000009","Non-metropolitan","Predominantly Rural","HC","Fire control","Asian or Asian British",0]
["2020/21","Cumbria","E31000009","Non-metropolitan","Predominantly Rural","HC","Fire control","Black or Black British",0]
["2020/21","Cumbria","E31000009","Non-metropolitan","Predominantly Rural","HC","Fire control","Chinese or other ethnicity",0]
["2020/21","Cumbria","E31000009","Non-metropolitan","Predominantly Rural","HC","Fire control","Ethnic origin not stated",0]
["2020/21","Cumbria","E31000009","Non-metropolitan","Predominantly Rural","HC","Fire control","Mixed",0]
["2020/21","Cumbria","E31000009","Non-metropolitan","Predominantly Rural","HC","Fire control","White British or Irish",0]
["2020/21","Cumbria","E31000009","Non-metropolitan","Predominantly Rural","HC","On call firefighters","Asian or Asian British",0]
["2020/21","Cumbria","E31000009","Non-metropolitan","Predominantly Rural","HC","On call firefighters","Black or Black British",0]
["2020/21","Cumbria","E31000009","Non-metropolitan","Predominantly Rural","HC","On call firefighters","Chinese or other ethnicity",0]
["2020/21","Cumbria","E31000009","Non-metropolitan","Predominantly Rural","HC","On call firefighters","Ethnic origin not stated",32]
["2020/21","Cumbria","E31000009","Non-metropolitan","Predominantly Rural","HC","On call firefighters","Mixed",0]
["2020/21","Cumbria","E31000009","Non-metropolitan","Predominantly Rural","HC","On call firefighters","White British or Irish",9]
["2020/21","Cumbria","E31000009","Non-metropolitan","Predominantly Rural","HC","Support staff","Asian or Asian British",1]
["2020/21","Cumbria","E31000009","Non-metropolitan","Predominantly Rural","HC","Support staff","Black or Black British",0]
["2020/21","Cumbria","E31000009","Non-metropolitan","Predominantly Rural","HC","Support staff","Chinese or other ethnicity",0]
["2020/21","Cumbria","E31000009","Non-metropolitan","Predominantly Rural","HC","Support staff","Ethnic origin not stated",1]
["2020/21","Cumbria","E31000009","Non-metropolitan","Predominantly Rural","HC","Support staff","Mixed",0]
["2020/21","Cumbria","E31000009","Non-metropolitan","Predominantly Rural","HC","Support staff","White British or Irish",2]
["2020/21","Cumbria","E31000009","Non-metropolitan","Predominantly Rural","HC","Wholetime firefighters","Asian or Asian British",0]
["2020/21","Cumbria","E31000009","Non-metropolitan","Predominantly Rural","HC","Wholetime firefighters","Black or Black British",0]
["2020/21","Cumbria","E31000009","Non-metropolitan","Predominantly Rural","HC","Wholetime firefighters","Chinese or other ethnicity",1]
["2020/21","Cumbria","E31000009","Non-metropolitan","Predominantly Rural","HC","Wholetime firefighters","Ethnic origin not stated",4]
["2020/21","Cumbria","E31000009","Non-metropolitan","Predominantly Rural","HC","Wholetime firefighters","Mixed",0]
["2020/21","Cumbria","E31000009","Non-metropolitan","Predominantly Rural","HC","Wholetime firefighters","White British or Irish",17]
["2020/21","Derbyshire","E31000010","Non-metropolitan","Significantly Rural","HC","Fire control","Asian or Asian British",0]
["2020/21","Derbyshire","E31000010","Non-metropolitan","Significantly Rural","HC","Fire control","Black or Black British",0]
["2020/21","Derbyshire","E31000010","Non-metropolitan","Significantly Rural","HC","Fire control","Chinese or other ethnicity",0]
["2020/21","Derbyshire","E31000010","Non-metropolitan","Significantly Rural","HC","Fire control","Ethnic origin not stated",0]
["2020/21","Derbyshire","E31000010","Non-metropolitan","Significantly Rural","HC","Fire control","Mixed",0]
["2020/21","Derbyshire","E31000010","Non-metropolitan","Significantly Rural","HC","Fire control","White British or Irish",0]
["2020/21","Derbyshire","E31000010","Non-metropolitan","Significantly Rural","HC","On call firefighters","Asian or Asian British",0]
["2020/21","Derbyshire","E31000010","Non-metropolitan","Significantly Rural","HC","On call firefighters","Black or Black British",0]
["2020/21","Derbyshire","E31000010","Non-metropolitan","Significantly Rural","HC","On call firefighters","Chinese or other ethnicity",0]
["2020/21","Derbyshire","E31000010","Non-metropolitan","Significantly Rural","HC","On call firefighters","Ethnic origin not stated",1]
["2020/21","Derbyshire","E31000010","Non-metropolitan","Significantly Rural","HC","On call firefighters","Mixed",1]
["2020/21","Derbyshire","E31000010","Non-metropolitan","Significantly Rural","HC","On call firefighters","White British or Irish",54]
["2020/21","Derbyshire","E31000010","Non-metropolitan","Significantly Rural","HC","Support staff","Asian or Asian British",0]
["2020/21","Derbyshire","E31000010","Non-metropolitan","Significantly Rural","HC","Support staff","Black or Black British",0]
["2020/21","Derbyshire","E31000010","Non-metropolitan","Significantly Rural","HC","Support staff","Chinese or other ethnicity",0]
["2020/21","Derbyshire","E31000010","Non-metropolitan","Significantly Rural","HC","Support staff","Ethnic origin not stated",0]
["2020/21","Derbyshire","E31000010","Non-metropolitan","Significantly Rural","HC","Support staff","Mixed",0]
["2020/21","Derbyshire","E31000010","Non-metropolitan","Significantly Rural","HC","Support staff","White British or Irish",22]
["2020/21","Derbyshire","E31000010","Non-metropolitan","Significantly Rural","HC","Wholetime firefighters","Asian or Asian British",0]
["2020/21","Derbyshire","E31000010","Non-metropolitan","Significantly Rural","HC","Wholetime firefighters","Black or Black British",0]
["2020/21","Derbyshire","E31000010","Non-metropolitan","Significantly Rural","HC","Wholetime firefighters","Chinese or other ethnicity",0]
["2020/21","Derbyshire","E31000010","Non-metropolitan","Significantly Rural","HC","Wholetime firefighters","Ethnic origin not stated",1]
["2020/21","Derbyshire","E31000010","Non-metropolitan","Significantly Rural","HC","Wholetime firefighters","Mixed",1]
["2020/21","Derbyshire","E31000010","Non-metropolitan","Significantly Rural","HC","Wholetime firefighters","White British or Irish",32]
["2020/21","Devon and Somerset","E31000011","Non-metropolitan","Predominantly Rural","HC","Fire control","Asian or Asian British",0]
["2020/21","Devon and Somerset","E31000011","Non-metropolitan","Predominantly Rural","HC","Fire control","Black or Black British",0]
["2020/21","Devon and Somerset","E31000011","Non-metropolitan","Predominantly Rural","HC","Fire control","Chinese or other ethnicity",0]
["2020/21","Devon and Somerset","E31000011","Non-metropolitan","Predominantly Rural","HC","Fire control","Ethnic origin not stated",0]
["2020/21","Devon and Somerset","E31000011","Non-metropolitan","Predominantly Rural","HC","Fire control","Mixed",0]
["2020/21","Devon and Somerset","E31000011","Non-metropolitan","Predominantly Rural","HC","Fire control","White British or Irish",1]
["2020/21","Devon and Somerset","E31000011","Non-metropolitan","Predominantly Rural","HC","On call firefighters","Asian or Asian British",0]
["2020/21","Devon and Somerset","E31000011","Non-metropolitan","Predominantly Rural","HC","On call firefighters","Black or Black British",0]
["2020/21","Devon and Somerset","E31000011","Non-metropolitan","Predominantly Rural","HC","On call firefighters","Chinese or other ethnicity",2]
["2020/21","Devon and Somerset","E31000011","Non-metropolitan","Predominantly Rural","HC","On call firefighters","Ethnic origin not stated",3]
["2020/21","Devon and Somerset","E31000011","Non-metropolitan","Predominantly Rural","HC","On call firefighters","Mixed",1]
["2020/21","Devon and Somerset","E31000011","Non-metropolitan","Predominantly Rural","HC","On call firefighters","White British or Irish",65]
["2020/21","Devon and Somerset","E31000011","Non-metropolitan","Predominantly Rural","HC","Support staff","Asian or Asian British",0]
["2020/21","Devon and Somerset","E31000011","Non-metropolitan","Predominantly Rural","HC","Support staff","Black or Black British",0]
["2020/21","Devon and Somerset","E31000011","Non-metropolitan","Predominantly Rural","HC","Support staff","Chinese or other ethnicity",0]
["2020/21","Devon and Somerset","E31000011","Non-metropolitan","Predominantly Rural","HC","Support staff","Ethnic origin not stated",0]
["2020/21","Devon and Somerset","E31000011","Non-metropolitan","Predominantly Rural","HC","Support staff","Mixed",0]
["2020/21","Devon and Somerset","E31000011","Non-metropolitan","Predominantly Rural","HC","Support staff","White British or Irish",18]
["2020/21","Devon and Somerset","E31000011","Non-metropolitan","Predominantly Rural","HC","Wholetime firefighters","Asian or Asian British",0]
["2020/21","Devon and Somerset","E31000011","Non-metropolitan","Predominantly Rural","HC","Wholetime firefighters","Black or Black British",0]
["2020/21","Devon and Somerset","E31000011","Non-metropolitan","Predominantly Rural","HC","Wholetime firefighters","Chinese or other ethnicity",0]
["2020/21","Devon and Somerset","E31000011","Non-metropolitan","Predominantly Rural","HC","Wholetime firefighters","Ethnic origin not stated",2]
["2020/21","Devon and Somerset","E31000011","Non-metropolitan","Predominantly Rural","HC","Wholetime firefighters","Mixed",0]
["2020/21","Devon and Somerset","E31000011","Non-metropolitan","Predominantly Rural","HC","Wholetime firefighters","White British or Irish",35]
["2020/21","Dorset and Wiltshire","E31000047","Non-metropolitan","Significantly Rural","HC","Fire control","Asian or Asian British",0]
["2020/21","Dorset and Wiltshire","E31000047","Non-metropolitan","Significantly Rural","HC","Fire control","Black or Black British",0]
["2020/21","Dorset and Wiltshire","E31000047","Non-metropolitan","Significantly Rural","HC","Fire control","Chinese or other ethnicity",0]
["2020/21","Dorset and Wiltshire","E31000047","Non-metropolitan","Significantly Rural","HC","Fire control","Ethnic origin not stated",2]
["2020/21","Dorset and Wiltshire","E31000047","Non-metropolitan","Significantly Rural","HC","Fire control","Mixed",0]
["2020/21","Dorset and Wiltshire","E31000047","Non-metropolitan","Significantly Rural","HC","Fire control","White British or Irish",3]
["2020/21","Dorset and Wiltshire","E31000047","Non-metropolitan","Significantly Rural","HC","On call firefighters","Asian or Asian British",1]
["2020/21","Dorset and Wiltshire","E31000047","Non-metropolitan","Significantly Rural","HC","On call firefighters","Black or Black British",0]
["2020/21","Dorset and Wiltshire","E31000047","Non-metropolitan","Significantly Rural","HC","On call firefighters","Chinese or other ethnicity",0]
["2020/21","Dorset and Wiltshire","E31000047","Non-metropolitan","Significantly Rural","HC","On call firefighters","Ethnic origin not stated",3]
["2020/21","Dorset and Wiltshire","E31000047","Non-metropolitan","Significantly Rural","HC","On call firefighters","Mixed",0]
["2020/21","Dorset and Wiltshire","E31000047","Non-metropolitan","Significantly Rural","HC","On call firefighters","White British or Irish",45]
["2020/21","Dorset and Wiltshire","E31000047","Non-metropolitan","Significantly Rural","HC","Support staff","Asian or Asian British",0]
["2020/21","Dorset and Wiltshire","E31000047","Non-metropolitan","Significantly Rural","HC","Support staff","Black or Black British",0]
["2020/21","Dorset and Wiltshire","E31000047","Non-metropolitan","Significantly Rural","HC","Support staff","Chinese or other ethnicity",1]
["2020/21","Dorset and Wiltshire","E31000047","Non-metropolitan","Significantly Rural","HC","Support staff","Ethnic origin not stated",1]
["2020/21","Dorset and Wiltshire","E31000047","Non-metropolitan","Significantly Rural","HC","Support staff","Mixed",1]
["2020/21","Dorset and Wiltshire","E31000047","Non-metropolitan","Significantly Rural","HC","Support staff","White British or Irish",64]
["2020/21","Dorset and Wiltshire","E31000047","Non-metropolitan","Significantly Rural","HC","Wholetime firefighters","Asian or Asian British",0]
["2020/21","Dorset and Wiltshire","E31000047","Non-metropolitan","Significantly Rural","HC","Wholetime firefighters","Black or Black British",0]
["2020/21","Dorset and Wiltshire","E31000047","Non-metropolitan","Significantly Rural","HC","Wholetime firefighters","Chinese or other ethnicity",0]
["2020/21","Dorset and Wiltshire","E31000047","Non-metropolitan","Significantly Rural","HC","Wholetime firefighters","Ethnic origin not stated",1]
["2020/21","Dorset and Wiltshire","E31000047","Non-metropolitan","Significantly Rural","HC","Wholetime firefighters","Mixed",0]
["2020/21","Dorset and Wiltshire","E31000047","Non-metropolitan","Significantly Rural","HC","Wholetime firefighters","White British or Irish",11]
["2020/21","Durham","E31000013","Non-metropolitan","Predominantly Rural","HC","Fire control","Asian or Asian British",0]
["2020/21","Durham","E31000013","Non-metropolitan","Predominantly Rural","HC","Fire control","Black or Black British",0]
["2020/21","Durham","E31000013","Non-metropolitan","Predominantly Rural","HC","Fire control","Chinese or other ethnicity",0]
["2020/21","Durham","E31000013","Non-metropolitan","Predominantly Rural","HC","Fire control","Ethnic origin not stated",0]
["2020/21","Durham","E31000013","Non-metropolitan","Predominantly Rural","HC","Fire control","Mixed",0]
["2020/21","Durham","E31000013","Non-metropolitan","Predominantly Rural","HC","Fire control","White British or Irish",2]
["2020/21","Durham","E31000013","Non-metropolitan","Predominantly Rural","HC","On call firefighters","Asian or Asian British",0]
["2020/21","Durham","E31000013","Non-metropolitan","Predominantly Rural","HC","On call firefighters","Black or Black British",0]
["2020/21","Durham","E31000013","Non-metropolitan","Predominantly Rural","HC","On call firefighters","Chinese or other ethnicity",0]
["2020/21","Durham","E31000013","Non-metropolitan","Predominantly Rural","HC","On call firefighters","Ethnic origin not stated",10]
["2020/21","Durham","E31000013","Non-metropolitan","Predominantly Rural","HC","On call firefighters","Mixed",0]
["2020/21","Durham","E31000013","Non-metropolitan","Predominantly Rural","HC","On call firefighters","White British or Irish",23]
["2020/21","Durham","E31000013","Non-metropolitan","Predominantly Rural","HC","Support staff","Asian or Asian British",0]
["2020/21","Durham","E31000013","Non-metropolitan","Predominantly Rural","HC","Support staff","Black or Black British",0]
["2020/21","Durham","E31000013","Non-metropolitan","Predominantly Rural","HC","Support staff","Chinese or other ethnicity",0]
["2020/21","Durham","E31000013","Non-metropolitan","Predominantly Rural","HC","Support staff","Ethnic origin not stated",7]
["2020/21","Durham","E31000013","Non-metropolitan","Predominantly Rural","HC","Support staff","Mixed",0]
["2020/21","Durham","E31000013","Non-metropolitan","Predominantly Rural","HC","Support staff","White British or Irish",9]
["2020/21","Durham","E31000013","Non-metropolitan","Predominantly Rural","HC","Wholetime firefighters","Asian or Asian British",0]
["2020/21","Durham","E31000013","Non-metropolitan","Predominantly Rural","HC","Wholetime firefighters","Black or Black British",0]
["2020/21","Durham","E31000013","Non-metropolitan","Predominantly Rural","HC","Wholetime firefighters","Chinese or other ethnicity",0]
["2020/21","Durham","E31000013","Non-metropolitan","Predominantly Rural","HC","Wholetime firefighters","Ethnic origin not stated",0]
["2020/21","Durham","E31000013","Non-metropolitan","Predominantly Rural","HC","Wholetime firefighters","Mixed",0]
["2020/21","Durham","E31000013","Non-metropolitan","Predominantly Rural","HC","Wholetime firefighters","White British or Irish",1]
["2020/21","East Sussex","E31000014","Non-metropolitan","Significantly Rural","HC","Fire control","Asian or Asian British",0]
["2020/21","East Sussex","E31000014","Non-metropolitan","Significantly Rural","HC","Fire control","Black or Black British",0]
["2020/21","East Sussex","E31000014","Non-metropolitan","Significantly Rural","HC","Fire control","Chinese or other ethnicity",0]
["2020/21","East Sussex","E31000014","Non-metropolitan","Significantly Rural","HC","Fire control","Ethnic origin not stated",0]
["2020/21","East Sussex","E31000014","Non-metropolitan","Significantly Rural","HC","Fire control","Mixed",0]
["2020/21","East Sussex","E31000014","Non-metropolitan","Significantly Rural","HC","Fire control","White British or Irish",2]
["2020/21","East Sussex","E31000014","Non-metropolitan","Significantly Rural","HC","On call firefighters","Asian or Asian British",0]
["2020/21","East Sussex","E31000014","Non-metropolitan","Significantly Rural","HC","On call firefighters","Black or Black British",0]
["2020/21","East Sussex","E31000014","Non-metropolitan","Significantly Rural","HC","On call firefighters","Chinese or other ethnicity",0]
["2020/21","East Sussex","E31000014","Non-metropolitan","Significantly Rural","HC","On call firefighters","Ethnic origin not stated",0]
["2020/21","East Sussex","E31000014","Non-metropolitan","Significantly Rural","HC","On call firefighters","Mixed",0]
["2020/21","East Sussex","E31000014","Non-metropolitan","Significantly Rural","HC","On call firefighters","White British or Irish",5]
["2020/21","East Sussex","E31000014","Non-metropolitan","Significantly Rural","HC","Support staff","Asian or Asian British",0]
["2020/21","East Sussex","E31000014","Non-metropolitan","Significantly Rural","HC","Support staff","Black or Black British",0]
["2020/21","East Sussex","E31000014","Non-metropolitan","Significantly Rural","HC","Support staff","Chinese or other ethnicity",0]
["2020/21","East Sussex","E31000014","Non-metropolitan","Significantly Rural","HC","Support staff","Ethnic origin not stated",1]
["2020/21","East Sussex","E31000014","Non-metropolitan","Significantly Rural","HC","Support staff","Mixed",0]
["2020/21","East Sussex","E31000014","Non-metropolitan","Significantly Rural","HC","Support staff","White British or Irish",10]
["2020/21","East Sussex","E31000014","Non-metropolitan","Significantly Rural","HC","Wholetime firefighters","Asian or Asian British",0]
["2020/21","East Sussex","E31000014","Non-metropolitan","Significantly Rural","HC","Wholetime firefighters","Black or Black British",0]
["2020/21","East Sussex","E31000014","Non-metropolitan","Significantly Rural","HC","Wholetime firefighters","Chinese or other ethnicity",0]
["2020/21","East Sussex","E31000014","Non-metropolitan","Significantly Rural","HC","Wholetime firefighters","Ethnic origin not stated",0]
["2020/21","East Sussex","E31000014","Non-metropolitan","Significantly Rural","HC","Wholetime firefighters","Mixed",0]
["2020/21","East Sussex","E31000014","Non-metropolitan","Significantly Rural","HC","Wholetime firefighters","White British or Irish",2]
["2020/21","Essex","E31000015","Non-metropolitan","Significantly Rural","HC","Fire control","Asian or Asian British",0]
["2020/21","Essex","E31000015","Non-metropolitan","Significantly Rural","HC","Fire control","Black or Black British",0]
["2020/21","Essex","E31000015","Non-metropolitan","Significantly Rural","HC","Fire control","Chinese or other ethnicity",0]
["2020/21","Essex","E31000015","Non-metropolitan","Significantly Rural","HC","Fire control","Ethnic origin not stated",0]
["2020/21","Essex","E31000015","Non-metropolitan","Significantly Rural","HC","Fire control","Mixed",0]
["2020/21","Essex","E31000015","Non-metropolitan","Significantly Rural","HC","Fire control","White British or Irish",2]
["2020/21","Essex","E31000015","Non-metropolitan","Significantly Rural","HC","On call firefighters","Asian or Asian British",0]
["2020/21","Essex","E31000015","Non-metropolitan","Significantly Rural","HC","On call firefighters","Black or Black British",0]
["2020/21","Essex","E31000015","Non-metropolitan","Significantly Rural","HC","On call firefighters","Chinese or other ethnicity",3]
["2020/21","Essex","E31000015","Non-metropolitan","Significantly Rural","HC","On call firefighters","Ethnic origin not stated",35]
["2020/21","Essex","E31000015","Non-metropolitan","Significantly Rural","HC","On call firefighters","Mixed",1]
["2020/21","Essex","E31000015","Non-metropolitan","Significantly Rural","HC","On call firefighters","White British or Irish",27]
["2020/21","Essex","E31000015","Non-metropolitan","Significantly Rural","HC","Support staff","Asian or Asian British",0]
["2020/21","Essex","E31000015","Non-metropolitan","Significantly Rural","HC","Support staff","Black or Black British",2]
["2020/21","Essex","E31000015","Non-metropolitan","Significantly Rural","HC","Support staff","Chinese or other ethnicity",2]
["2020/21","Essex","E31000015","Non-metropolitan","Significantly Rural","HC","Support staff","Ethnic origin not stated",6]
["2020/21","Essex","E31000015","Non-metropolitan","Significantly Rural","HC","Support staff","Mixed",0]
["2020/21","Essex","E31000015","Non-metropolitan","Significantly Rural","HC","Support staff","White British or Irish",25]
["2020/21","Essex","E31000015","Non-metropolitan","Significantly Rural","HC","Wholetime firefighters","Asian or Asian British",0]
["2020/21","Essex","E31000015","Non-metropolitan","Significantly Rural","HC","Wholetime firefighters","Black or Black British",1]
["2020/21","Essex","E31000015","Non-metropolitan","Significantly Rural","HC","Wholetime firefighters","Chinese or other ethnicity",1]
["2020/21","Essex","E31000015","Non-metropolitan","Significantly Rural","HC","Wholetime firefighters","Ethnic origin not stated",15]
["2020/21","Essex","E31000015","Non-metropolitan","Significantly Rural","HC","Wholetime firefighters","Mixed",2]
["2020/21","Essex","E31000015","Non-metropolitan","Significantly Rural","HC","Wholetime firefighters","White British or Irish",21]
["2020/21","Gloucestershire","E31000016","Non-metropolitan","Significantly Rural","HC","Fire control","Asian or Asian British",0]
["2020/21","Gloucestershire","E31000016","Non-metropolitan","Significantly Rural","HC","Fire control","Black or Black British",0]
["2020/21","Gloucestershire","E31000016","Non-metropolitan","Significantly Rural","HC","Fire control","Chinese or other ethnicity",0]
["2020/21","Gloucestershire","E31000016","Non-metropolitan","Significantly Rural","HC","Fire control","Ethnic origin not stated",0]
["2020/21","Gloucestershire","E31000016","Non-metropolitan","Significantly Rural","HC","Fire control","Mixed",0]
["2020/21","Gloucestershire","E31000016","Non-metropolitan","Significantly Rural","HC","Fire control","White British or Irish",0]
["2020/21","Gloucestershire","E31000016","Non-metropolitan","Significantly Rural","HC","On call firefighters","Asian or Asian British",0]
["2020/21","Gloucestershire","E31000016","Non-metropolitan","Significantly Rural","HC","On call firefighters","Black or Black British",0]
["2020/21","Gloucestershire","E31000016","Non-metropolitan","Significantly Rural","HC","On call firefighters","Chinese or other ethnicity",1]
["2020/21","Gloucestershire","E31000016","Non-metropolitan","Significantly Rural","HC","On call firefighters","Ethnic origin not stated",8]
["2020/21","Gloucestershire","E31000016","Non-metropolitan","Significantly Rural","HC","On call firefighters","Mixed",1]
["2020/21","Gloucestershire","E31000016","Non-metropolitan","Significantly Rural","HC","On call firefighters","White British or Irish",27]
["2020/21","Gloucestershire","E31000016","Non-metropolitan","Significantly Rural","HC","Support staff","Asian or Asian British",0]
["2020/21","Gloucestershire","E31000016","Non-metropolitan","Significantly Rural","HC","Support staff","Black or Black British",0]
["2020/21","Gloucestershire","E31000016","Non-metropolitan","Significantly Rural","HC","Support staff","Chinese or other ethnicity",0]
["2020/21","Gloucestershire","E31000016","Non-metropolitan","Significantly Rural","HC","Support staff","Ethnic origin not stated",0]
["2020/21","Gloucestershire","E31000016","Non-metropolitan","Significantly Rural","HC","Support staff","Mixed",0]
["2020/21","Gloucestershire","E31000016","Non-metropolitan","Significantly Rural","HC","Support staff","White British or Irish",5]
["2020/21","Gloucestershire","E31000016","Non-metropolitan","Significantly Rural","HC","Wholetime firefighters","Asian or Asian British",0]
["2020/21","Gloucestershire","E31000016","Non-metropolitan","Significantly Rural","HC","Wholetime firefighters","Black or Black British",0]
["2020/21","Gloucestershire","E31000016","Non-metropolitan","Significantly Rural","HC","Wholetime firefighters","Chinese or other ethnicity",0]
["2020/21","Gloucestershire","E31000016","Non-metropolitan","Significantly Rural","HC","Wholetime firefighters","Ethnic origin not stated",3]
["2020/21","Gloucestershire","E31000016","Non-metropolitan","Significantly Rural","HC","Wholetime firefighters","Mixed",0]
["2020/21","Gloucestershire","E31000016","Non-metropolitan","Significantly Rural","HC","Wholetime firefighters","White British or Irish",10]
["2020/21","Greater London","E31000046","Metropolitan","Predominantly Urban","HC","Fire control","Asian or Asian British",0]
["2020/21","Greater London","E31000046","Metropolitan","Predominantly Urban","HC","Fire control","Black or Black British",1]
["2020/21","Greater London","E31000046","Metropolitan","Predominantly Urban","HC","Fire control","Chinese or other ethnicity",0]
["2020/21","Greater London","E31000046","Metropolitan","Predominantly Urban","HC","Fire control","Ethnic origin not stated",0]
["2020/21","Greater London","E31000046","Metropolitan","Predominantly Urban","HC","Fire control","Mixed",0]
["2020/21","Greater London","E31000046","Metropolitan","Predominantly Urban","HC","Fire control","White British or Irish",3]
["2020/21","Greater London","E31000046","Metropolitan","Predominantly Urban","HC","On call firefighters","Asian or Asian British",0]
["2020/21","Greater London","E31000046","Metropolitan","Predominantly Urban","HC","On call firefighters","Black or Black British",0]
["2020/21","Greater London","E31000046","Metropolitan","Predominantly Urban","HC","On call firefighters","Chinese or other ethnicity",0]
["2020/21","Greater London","E31000046","Metropolitan","Predominantly Urban","HC","On call firefighters","Ethnic origin not stated",0]
["2020/21","Greater London","E31000046","Metropolitan","Predominantly Urban","HC","On call firefighters","Mixed",0]
["2020/21","Greater London","E31000046","Metropolitan","Predominantly Urban","HC","On call firefighters","White British or Irish",0]
["2020/21","Greater London","E31000046","Metropolitan","Predominantly Urban","HC","Support staff","Asian or Asian British",6]
["2020/21","Greater London","E31000046","Metropolitan","Predominantly Urban","HC","Support staff","Black or Black British",10]
["2020/21","Greater London","E31000046","Metropolitan","Predominantly Urban","HC","Support staff","Chinese or other ethnicity",6]
["2020/21","Greater London","E31000046","Metropolitan","Predominantly Urban","HC","Support staff","Ethnic origin not stated",17]
["2020/21","Greater London","E31000046","Metropolitan","Predominantly Urban","HC","Support staff","Mixed",2]
["2020/21","Greater London","E31000046","Metropolitan","Predominantly Urban","HC","Support staff","White British or Irish",60]
["2020/21","Greater London","E31000046","Metropolitan","Predominantly Urban","HC","Wholetime firefighters","Asian or Asian British",8]
["2020/21","Greater London","E31000046","Metropolitan","Predominantly Urban","HC","Wholetime firefighters","Black or Black British",31]
["2020/21","Greater London","E31000046","Metropolitan","Predominantly Urban","HC","Wholetime firefighters","Chinese or other ethnicity",24]
["2020/21","Greater London","E31000046","Metropolitan","Predominantly Urban","HC","Wholetime firefighters","Ethnic origin not stated",27]
["2020/21","Greater London","E31000046","Metropolitan","Predominantly Urban","HC","Wholetime firefighters","Mixed",27]
["2020/21","Greater London","E31000046","Metropolitan","Predominantly Urban","HC","Wholetime firefighters","White British or Irish",152]
["2020/21","Greater Manchester","E31000040","Metropolitan","Predominantly Urban","HC","Fire control","Asian or Asian British",0]
["2020/21","Greater Manchester","E31000040","Metropolitan","Predominantly Urban","HC","Fire control","Black or Black British",0]
["2020/21","Greater Manchester","E31000040","Metropolitan","Predominantly Urban","HC","Fire control","Chinese or other ethnicity",0]
["2020/21","Greater Manchester","E31000040","Metropolitan","Predominantly Urban","HC","Fire control","Ethnic origin not stated",0]
["2020/21","Greater Manchester","E31000040","Metropolitan","Predominantly Urban","HC","Fire control","Mixed",0]
["2020/21","Greater Manchester","E31000040","Metropolitan","Predominantly Urban","HC","Fire control","White British or Irish",0]
["2020/21","Greater Manchester","E31000040","Metropolitan","Predominantly Urban","HC","On call firefighters","Asian or Asian British",0]
["2020/21","Greater Manchester","E31000040","Metropolitan","Predominantly Urban","HC","On call firefighters","Black or Black British",0]
["2020/21","Greater Manchester","E31000040","Metropolitan","Predominantly Urban","HC","On call firefighters","Chinese or other ethnicity",0]
["2020/21","Greater Manchester","E31000040","Metropolitan","Predominantly Urban","HC","On call firefighters","Ethnic origin not stated",0]
["2020/21","Greater Manchester","E31000040","Metropolitan","Predominantly Urban","HC","On call firefighters","Mixed",0]
["2020/21","Greater Manchester","E31000040","Metropolitan","Predominantly Urban","HC","On call firefighters","White British or Irish",0]
["2020/21","Greater Manchester","E31000040","Metropolitan","Predominantly Urban","HC","Support staff","Asian or Asian British",0]
["2020/21","Greater Manchester","E31000040","Metropolitan","Predominantly Urban","HC","Support staff","Black or Black British",0]
["2020/21","Greater Manchester","E31000040","Metropolitan","Predominantly Urban","HC","Support staff","Chinese or other ethnicity",0]
["2020/21","Greater Manchester","E31000040","Metropolitan","Predominantly Urban","HC","Support staff","Ethnic origin not stated",0]
["2020/21","Greater Manchester","E31000040","Metropolitan","Predominantly Urban","HC","Support staff","Mixed",0]
["2020/21","Greater Manchester","E31000040","Metropolitan","Predominantly Urban","HC","Support staff","White British or Irish",11]
["2020/21","Greater Manchester","E31000040","Metropolitan","Predominantly Urban","HC","Wholetime firefighters","Asian or Asian British",1]
["2020/21","Greater Manchester","E31000040","Metropolitan","Predominantly Urban","HC","Wholetime firefighters","Black or Black British",2]
["2020/21","Greater Manchester","E31000040","Metropolitan","Predominantly Urban","HC","Wholetime firefighters","Chinese or other ethnicity",1]
["2020/21","Greater Manchester","E31000040","Metropolitan","Predominantly Urban","HC","Wholetime firefighters","Ethnic origin not stated",1]
["2020/21","Greater Manchester","E31000040","Metropolitan","Predominantly Urban","HC","Wholetime firefighters","Mixed",1]
["2020/21","Greater Manchester","E31000040","Metropolitan","Predominantly Urban","HC","Wholetime firefighters","White British or Irish",66]
["2020/21","Hampshire and Isle of Wight","E31000048","Non-metropolitan","Significantly Rural","HC","Fire control","Asian or Asian British",0]
["2020/21","Hampshire and Isle of Wight","E31000048","Non-metropolitan","Significantly Rural","HC","Fire control","Black or Black British",0]
["2020/21","Hampshire and Isle of Wight","E31000048","Non-metropolitan","Significantly Rural","HC","Fire control","Chinese or other ethnicity",0]
["2020/21","Hampshire and Isle of Wight","E31000048","Non-metropolitan","Significantly Rural","HC","Fire control","Ethnic origin not stated",0]
["2020/21","Hampshire and Isle of Wight","E31000048","Non-metropolitan","Significantly Rural","HC","Fire control","Mixed",0]
["2020/21","Hampshire and Isle of Wight","E31000048","Non-metropolitan","Significantly Rural","HC","Fire control","White British or Irish",2]
["2020/21","Hampshire and Isle of Wight","E31000048","Non-metropolitan","Significantly Rural","HC","On call firefighters","Asian or Asian British",0]
["2020/21","Hampshire and Isle of Wight","E31000048","Non-metropolitan","Significantly Rural","HC","On call firefighters","Black or Black British",0]
["2020/21","Hampshire and Isle of Wight","E31000048","Non-metropolitan","Significantly Rural","HC","On call firefighters","Chinese or other ethnicity",4]
["2020/21","Hampshire and Isle of Wight","E31000048","Non-metropolitan","Significantly Rural","HC","On call firefighters","Ethnic origin not stated",3]
["2020/21","Hampshire and Isle of Wight","E31000048","Non-metropolitan","Significantly Rural","HC","On call firefighters","Mixed",0]
["2020/21","Hampshire and Isle of Wight","E31000048","Non-metropolitan","Significantly Rural","HC","On call firefighters","White British or Irish",84]
["2020/21","Hampshire and Isle of Wight","E31000048","Non-metropolitan","Significantly Rural","HC","Support staff","Asian or Asian British",2]
["2020/21","Hampshire and Isle of Wight","E31000048","Non-metropolitan","Significantly Rural","HC","Support staff","Black or Black British",0]
["2020/21","Hampshire and Isle of Wight","E31000048","Non-metropolitan","Significantly Rural","HC","Support staff","Chinese or other ethnicity",2]
["2020/21","Hampshire and Isle of Wight","E31000048","Non-metropolitan","Significantly Rural","HC","Support staff","Ethnic origin not stated",11]
["2020/21","Hampshire and Isle of Wight","E31000048","Non-metropolitan","Significantly Rural","HC","Support staff","Mixed",2]
["2020/21","Hampshire and Isle of Wight","E31000048","Non-metropolitan","Significantly Rural","HC","Support staff","White British or Irish",113]
["2020/21","Hampshire and Isle of Wight","E31000048","Non-metropolitan","Significantly Rural","HC","Wholetime firefighters","Asian or Asian British",0]
["2020/21","Hampshire and Isle of Wight","E31000048","Non-metropolitan","Significantly Rural","HC","Wholetime firefighters","Black or Black British",0]
["2020/21","Hampshire and Isle of Wight","E31000048","Non-metropolitan","Significantly Rural","HC","Wholetime firefighters","Chinese or other ethnicity",4]
["2020/21","Hampshire and Isle of Wight","E31000048","Non-metropolitan","Significantly Rural","HC","Wholetime firefighters","Ethnic origin not stated",23]
["2020/21","Hampshire and Isle of Wight","E31000048","Non-metropolitan","Significantly Rural","HC","Wholetime firefighters","Mixed",1]
["2020/21","Hampshire and Isle of Wight","E31000048","Non-metropolitan","Significantly Rural","HC","Wholetime firefighters","White British or Irish",68]
["2020/21","Hereford and Worcester","E31000018","Non-metropolitan","Significantly Rural","HC","Fire control","Asian or Asian British",0]
["2020/21","Hereford and Worcester","E31000018","Non-metropolitan","Significantly Rural","HC","Fire control","Black or Black British",0]
["2020/21","Hereford and Worcester","E31000018","Non-metropolitan","Significantly Rural","HC","Fire control","Chinese or other ethnicity",0]
["2020/21","Hereford and Worcester","E31000018","Non-metropolitan","Significantly Rural","HC","Fire control","Ethnic origin not stated",0]
["2020/21","Hereford and Worcester","E31000018","Non-metropolitan","Significantly Rural","HC","Fire control","Mixed",0]
["2020/21","Hereford and Worcester","E31000018","Non-metropolitan","Significantly Rural","HC","Fire control","White British or Irish",3]
["2020/21","Hereford and Worcester","E31000018","Non-metropolitan","Significantly Rural","HC","On call firefighters","Asian or Asian British",0]
["2020/21","Hereford and Worcester","E31000018","Non-metropolitan","Significantly Rural","HC","On call firefighters","Black or Black British",0]
["2020/21","Hereford and Worcester","E31000018","Non-metropolitan","Significantly Rural","HC","On call firefighters","Chinese or other ethnicity",2]
["2020/21","Hereford and Worcester","E31000018","Non-metropolitan","Significantly Rural","HC","On call firefighters","Ethnic origin not stated",1]
["2020/21","Hereford and Worcester","E31000018","Non-metropolitan","Significantly Rural","HC","On call firefighters","Mixed",0]
["2020/21","Hereford and Worcester","E31000018","Non-metropolitan","Significantly Rural","HC","On call firefighters","White British or Irish",31]
["2020/21","Hereford and Worcester","E31000018","Non-metropolitan","Significantly Rural","HC","Support staff","Asian or Asian British",0]
["2020/21","Hereford and Worcester","E31000018","Non-metropolitan","Significantly Rural","HC","Support staff","Black or Black British",0]
["2020/21","Hereford and Worcester","E31000018","Non-metropolitan","Significantly Rural","HC","Support staff","Chinese or other ethnicity",1]
["2020/21","Hereford and Worcester","E31000018","Non-metropolitan","Significantly Rural","HC","Support staff","Ethnic origin not stated",1]
["2020/21","Hereford and Worcester","E31000018","Non-metropolitan","Significantly Rural","HC","Support staff","Mixed",0]
["2020/21","Hereford and Worcester","E31000018","Non-metropolitan","Significantly Rural","HC","Support staff","White British or Irish",13]
["2020/21","Hereford and Worcester","E31000018","Non-metropolitan","Significantly Rural","HC","Wholetime firefighters","Asian or Asian British",0]
["2020/21","Hereford and Worcester","E31000018","Non-metropolitan","Significantly Rural","HC","Wholetime firefighters","Black or Black British",0]
["2020/21","Hereford and Worcester","E31000018","Non-metropolitan","Significantly Rural","HC","Wholetime firefighters","Chinese or other ethnicity",2]
["2020/21","Hereford and Worcester","E31000018","Non-metropolitan","Significantly Rural","HC","Wholetime firefighters","Ethnic origin not stated",0]
["2020/21","Hereford and Worcester","E31000018","Non-metropolitan","Significantly Rural","HC","Wholetime firefighters","Mixed",2]
["2020/21","Hereford and Worcester","E31000018","Non-metropolitan","Significantly Rural","HC","Wholetime firefighters","White British or Irish",28]
["2020/21","Hertfordshire","E31000019","Non-metropolitan","Predominantly Urban","HC","Fire control","Asian or Asian British",0]
["2020/21","Hertfordshire","E31000019","Non-metropolitan","Predominantly Urban","HC","Fire control","Black or Black British",0]
["2020/21","Hertfordshire","E31000019","Non-metropolitan","Predominantly Urban","HC","Fire control","Chinese or other ethnicity",0]
["2020/21","Hertfordshire","E31000019","Non-metropolitan","Predominantly Urban","HC","Fire control","Ethnic origin not stated",0]
["2020/21","Hertfordshire","E31000019","Non-metropolitan","Predominantly Urban","HC","Fire control","Mixed",0]
["2020/21","Hertfordshire","E31000019","Non-metropolitan","Predominantly Urban","HC","Fire control","White British or Irish",5]
["2020/21","Hertfordshire","E31000019","Non-metropolitan","Predominantly Urban","HC","On call firefighters","Asian or Asian British",0]
["2020/21","Hertfordshire","E31000019","Non-metropolitan","Predominantly Urban","HC","On call firefighters","Black or Black British",0]
["2020/21","Hertfordshire","E31000019","Non-metropolitan","Predominantly Urban","HC","On call firefighters","Chinese or other ethnicity",1]
["2020/21","Hertfordshire","E31000019","Non-metropolitan","Predominantly Urban","HC","On call firefighters","Ethnic origin not stated",1]
["2020/21","Hertfordshire","E31000019","Non-metropolitan","Predominantly Urban","HC","On call firefighters","Mixed",1]
["2020/21","Hertfordshire","E31000019","Non-metropolitan","Predominantly Urban","HC","On call firefighters","White British or Irish",22]
["2020/21","Hertfordshire","E31000019","Non-metropolitan","Predominantly Urban","HC","Support staff","Asian or Asian British",1]
["2020/21","Hertfordshire","E31000019","Non-metropolitan","Predominantly Urban","HC","Support staff","Black or Black British",0]
["2020/21","Hertfordshire","E31000019","Non-metropolitan","Predominantly Urban","HC","Support staff","Chinese or other ethnicity",0]
["2020/21","Hertfordshire","E31000019","Non-metropolitan","Predominantly Urban","HC","Support staff","Ethnic origin not stated",1]
["2020/21","Hertfordshire","E31000019","Non-metropolitan","Predominantly Urban","HC","Support staff","Mixed",0]
["2020/21","Hertfordshire","E31000019","Non-metropolitan","Predominantly Urban","HC","Support staff","White British or Irish",30]
["2020/21","Hertfordshire","E31000019","Non-metropolitan","Predominantly Urban","HC","Wholetime firefighters","Asian or Asian British",0]
["2020/21","Hertfordshire","E31000019","Non-metropolitan","Predominantly Urban","HC","Wholetime firefighters","Black or Black British",0]
["2020/21","Hertfordshire","E31000019","Non-metropolitan","Predominantly Urban","HC","Wholetime firefighters","Chinese or other ethnicity",0]
["2020/21","Hertfordshire","E31000019","Non-metropolitan","Predominantly Urban","HC","Wholetime firefighters","Ethnic origin not stated",1]
["2020/21","Hertfordshire","E31000019","Non-metropolitan","Predominantly Urban","HC","Wholetime firefighters","Mixed",0]
["2020/21","Hertfordshire","E31000019","Non-metropolitan","Predominantly Urban","HC","Wholetime firefighters","White British or Irish",22]
["2020/21","Humberside","E31000020","Non-metropolitan","Significantly Rural","HC","Fire control","Asian or Asian British",0]
["2020/21","Humberside","E31000020","Non-metropolitan","Significantly Rural","HC","Fire control","Black or Black British",0]
["2020/21","Humberside","E31000020","Non-metropolitan","Significantly Rural","HC","Fire control","Chinese or other ethnicity",0]
["2020/21","Humberside","E31000020","Non-metropolitan","Significantly Rural","HC","Fire control","Ethnic origin not stated",0]
["2020/21","Humberside","E31000020","Non-metropolitan","Significantly Rural","HC","Fire control","Mixed",0]
["2020/21","Humberside","E31000020","Non-metropolitan","Significantly Rural","HC","Fire control","White British or Irish",0]
["2020/21","Humberside","E31000020","Non-metropolitan","Significantly Rural","HC","On call firefighters","Asian or Asian British",0]
["2020/21","Humberside","E31000020","Non-metropolitan","Significantly Rural","HC","On call firefighters","Black or Black British",0]
["2020/21","Humberside","E31000020","Non-metropolitan","Significantly Rural","HC","On call firefighters","Chinese or other ethnicity",0]
["2020/21","Humberside","E31000020","Non-metropolitan","Significantly Rural","HC","On call firefighters","Ethnic origin not stated",2]
["2020/21","Humberside","E31000020","Non-metropolitan","Significantly Rural","HC","On call firefighters","Mixed",0]
["2020/21","Humberside","E31000020","Non-metropolitan","Significantly Rural","HC","On call firefighters","White British or Irish",19]
["2020/21","Humberside","E31000020","Non-metropolitan","Significantly Rural","HC","Support staff","Asian or Asian British",0]
["2020/21","Humberside","E31000020","Non-metropolitan","Significantly Rural","HC","Support staff","Black or Black British",0]
["2020/21","Humberside","E31000020","Non-metropolitan","Significantly Rural","HC","Support staff","Chinese or other ethnicity",0]
["2020/21","Humberside","E31000020","Non-metropolitan","Significantly Rural","HC","Support staff","Ethnic origin not stated",3]
["2020/21","Humberside","E31000020","Non-metropolitan","Significantly Rural","HC","Support staff","Mixed",0]
["2020/21","Humberside","E31000020","Non-metropolitan","Significantly Rural","HC","Support staff","White British or Irish",9]
["2020/21","Humberside","E31000020","Non-metropolitan","Significantly Rural","HC","Wholetime firefighters","Asian or Asian British",0]
["2020/21","Humberside","E31000020","Non-metropolitan","Significantly Rural","HC","Wholetime firefighters","Black or Black British",0]
["2020/21","Humberside","E31000020","Non-metropolitan","Significantly Rural","HC","Wholetime firefighters","Chinese or other ethnicity",0]
["2020/21","Humberside","E31000020","Non-metropolitan","Significantly Rural","HC","Wholetime firefighters","Ethnic origin not stated",0]
["2020/21","Humberside","E31000020","Non-metropolitan","Significantly Rural","HC","Wholetime firefighters","Mixed",0]
["2020/21","Humberside","E31000020","Non-metropolitan","Significantly Rural","HC","Wholetime firefighters","White British or Irish",0]
["2020/21","Isles Of Scilly","E31000039","Non-metropolitan","Predominantly Rural","HC","Fire control","Asian or Asian British",0]
["2020/21","Isles Of Scilly","E31000039","Non-metropolitan","Predominantly Rural","HC","Fire control","Black or Black British",0]
["2020/21","Isles Of Scilly","E31000039","Non-metropolitan","Predominantly Rural","HC","Fire control","Chinese or other ethnicity",0]
["2020/21","Isles Of Scilly","E31000039","Non-metropolitan","Predominantly Rural","HC","Fire control","Ethnic origin not stated",0]
["2020/21","Isles Of Scilly","E31000039","Non-metropolitan","Predominantly Rural","HC","Fire control","Mixed",0]
["2020/21","Isles Of Scilly","E31000039","Non-metropolitan","Predominantly Rural","HC","Fire control","White British or Irish",0]
["2020/21","Isles Of Scilly","E31000039","Non-metropolitan","Predominantly Rural","HC","On call firefighters","Asian or Asian British",0]
["2020/21","Isles Of Scilly","E31000039","Non-metropolitan","Predominantly Rural","HC","On call firefighters","Black or Black British",0]
["2020/21","Isles Of Scilly","E31000039","Non-metropolitan","Predominantly Rural","HC","On call firefighters","Chinese or other ethnicity",2]
["2020/21","Isles Of Scilly","E31000039","Non-metropolitan","Predominantly Rural","HC","On call firefighters","Ethnic origin not stated",0]
["2020/21","Isles Of Scilly","E31000039","Non-metropolitan","Predominantly Rural","HC","On call firefighters","Mixed",0]
["2020/21","Isles Of Scilly","E31000039","Non-metropolitan","Predominantly Rural","HC","On call firefighters","White British or Irish",3]
["2020/21","Isles Of Scilly","E31000039","Non-metropolitan","Predominantly Rural","HC","Support staff","Asian or Asian British",0]
["2020/21","Isles Of Scilly","E31000039","Non-metropolitan","Predominantly Rural","HC","Support staff","Black or Black British",0]
["2020/21","Isles Of Scilly","E31000039","Non-metropolitan","Predominantly Rural","HC","Support staff","Chinese or other ethnicity",0]
["2020/21","Isles Of Scilly","E31000039","Non-metropolitan","Predominantly Rural","HC","Support staff","Ethnic origin not stated",0]
["2020/21","Isles Of Scilly","E31000039","Non-metropolitan","Predominantly Rural","HC","Support staff","Mixed",0]
["2020/21","Isles Of Scilly","E31000039","Non-metropolitan","Predominantly Rural","HC","Support staff","White British or Irish",0]
["2020/21","Isles Of Scilly","E31000039","Non-metropolitan","Predominantly Rural","HC","Wholetime firefighters","Asian or Asian British",0]
["2020/21","Isles Of Scilly","E31000039","Non-metropolitan","Predominantly Rural","HC","Wholetime firefighters","Black or Black British",0]
["2020/21","Isles Of Scilly","E31000039","Non-metropolitan","Predominantly Rural","HC","Wholetime firefighters","Chinese or other ethnicity",0]
["2020/21","Isles Of Scilly","E31000039","Non-metropolitan","Predominantly Rural","HC","Wholetime firefighters","Ethnic origin not stated",0]
["2020/21","Isles Of Scilly","E31000039","Non-metropolitan","Predominantly Rural","HC","Wholetime firefighters","Mixed",0]
["2020/21","Isles Of Scilly","E31000039","Non-metropolitan","Predominantly Rural","HC","Wholetime firefighters","White British or Irish",0]
["2020/21","Kent","E31000022","Non-metropolitan","Significantly Rural","HC","Fire control","Asian or Asian British",0]
["2020/21","Kent","E31000022","Non-metropolitan","Significantly Rural","HC","Fire control","Black or Black British",0]
["2020/21","Kent","E31000022","Non-metropolitan","Significantly Rural","HC","Fire control","Chinese or other ethnicity",0]
["2020/21","Kent","E31000022","Non-metropolitan","Significantly Rural","HC","Fire control","Ethnic origin not stated",0]
["2020/21","Kent","E31000022","Non-metropolitan","Significantly Rural","HC","Fire control","Mixed",0]
["2020/21","Kent","E31000022","Non-metropolitan","Significantly Rural","HC","Fire control","White British or Irish",0]
["2020/21","Kent","E31000022","Non-metropolitan","Significantly Rural","HC","On call firefighters","Asian or Asian British",0]
["2020/21","Kent","E31000022","Non-metropolitan","Significantly Rural","HC","On call firefighters","Black or Black British",0]
["2020/21","Kent","E31000022","Non-metropolitan","Significantly Rural","HC","On call firefighters","Chinese or other ethnicity",0]
["2020/21","Kent","E31000022","Non-metropolitan","Significantly Rural","HC","On call firefighters","Ethnic origin not stated",14]
["2020/21","Kent","E31000022","Non-metropolitan","Significantly Rural","HC","On call firefighters","Mixed",0]
["2020/21","Kent","E31000022","Non-metropolitan","Significantly Rural","HC","On call firefighters","White British or Irish",6]
["2020/21","Kent","E31000022","Non-metropolitan","Significantly Rural","HC","Support staff","Asian or Asian British",1]
["2020/21","Kent","E31000022","Non-metropolitan","Significantly Rural","HC","Support staff","Black or Black British",0]
["2020/21","Kent","E31000022","Non-metropolitan","Significantly Rural","HC","Support staff","Chinese or other ethnicity",2]
["2020/21","Kent","E31000022","Non-metropolitan","Significantly Rural","HC","Support staff","Ethnic origin not stated",9]
["2020/21","Kent","E31000022","Non-metropolitan","Significantly Rural","HC","Support staff","Mixed",1]
["2020/21","Kent","E31000022","Non-metropolitan","Significantly Rural","HC","Support staff","White British or Irish",35]
["2020/21","Kent","E31000022","Non-metropolitan","Significantly Rural","HC","Wholetime firefighters","Asian or Asian British",0]
["2020/21","Kent","E31000022","Non-metropolitan","Significantly Rural","HC","Wholetime firefighters","Black or Black British",0]
["2020/21","Kent","E31000022","Non-metropolitan","Significantly Rural","HC","Wholetime firefighters","Chinese or other ethnicity",0]
["2020/21","Kent","E31000022","Non-metropolitan","Significantly Rural","HC","Wholetime firefighters","Ethnic origin not stated",3]
["2020/21","Kent","E31000022","Non-metropolitan","Significantly Rural","HC","Wholetime firefighters","Mixed",1]
["2020/21","Kent","E31000022","Non-metropolitan","Significantly Rural","HC","Wholetime firefighters","White British or Irish",10]
["2020/21","Lancashire","E31000023","Non-metropolitan","Predominantly Urban","HC","Fire control","Asian or Asian British",0]
["2020/21","Lancashire","E31000023","Non-metropolitan","Predominantly Urban","HC","Fire control","Black or Black British",0]
["2020/21","Lancashire","E31000023","Non-metropolitan","Predominantly Urban","HC","Fire control","Chinese or other ethnicity",0]
["2020/21","Lancashire","E31000023","Non-metropolitan","Predominantly Urban","HC","Fire control","Ethnic origin not stated",0]
["2020/21","Lancashire","E31000023","Non-metropolitan","Predominantly Urban","HC","Fire control","Mixed",0]
["2020/21","Lancashire","E31000023","Non-metropolitan","Predominantly Urban","HC","Fire control","White British or Irish",0]
["2020/21","Lancashire","E31000023","Non-metropolitan","Predominantly Urban","HC","On call firefighters","Asian or Asian British",0]
["2020/21","Lancashire","E31000023","Non-metropolitan","Predominantly Urban","HC","On call firefighters","Black or Black British",0]
["2020/21","Lancashire","E31000023","Non-metropolitan","Predominantly Urban","HC","On call firefighters","Chinese or other ethnicity",0]
["2020/21","Lancashire","E31000023","Non-metropolitan","Predominantly Urban","HC","On call firefighters","Ethnic origin not stated",4]
["2020/21","Lancashire","E31000023","Non-metropolitan","Predominantly Urban","HC","On call firefighters","Mixed",0]
["2020/21","Lancashire","E31000023","Non-metropolitan","Predominantly Urban","HC","On call firefighters","White British or Irish",49]
["2020/21","Lancashire","E31000023","Non-metropolitan","Predominantly Urban","HC","Support staff","Asian or Asian British",1]
["2020/21","Lancashire","E31000023","Non-metropolitan","Predominantly Urban","HC","Support staff","Black or Black British",0]
["2020/21","Lancashire","E31000023","Non-metropolitan","Predominantly Urban","HC","Support staff","Chinese or other ethnicity",0]
["2020/21","Lancashire","E31000023","Non-metropolitan","Predominantly Urban","HC","Support staff","Ethnic origin not stated",2]
["2020/21","Lancashire","E31000023","Non-metropolitan","Predominantly Urban","HC","Support staff","Mixed",0]
["2020/21","Lancashire","E31000023","Non-metropolitan","Predominantly Urban","HC","Support staff","White British or Irish",20]
["2020/21","Lancashire","E31000023","Non-metropolitan","Predominantly Urban","HC","Wholetime firefighters","Asian or Asian British",0]
["2020/21","Lancashire","E31000023","Non-metropolitan","Predominantly Urban","HC","Wholetime firefighters","Black or Black British",0]
["2020/21","Lancashire","E31000023","Non-metropolitan","Predominantly Urban","HC","Wholetime firefighters","Chinese or other ethnicity",1]
["2020/21","Lancashire","E31000023","Non-metropolitan","Predominantly Urban","HC","Wholetime firefighters","Ethnic origin not stated",1]
["2020/21","Lancashire","E31000023","Non-metropolitan","Predominantly Urban","HC","Wholetime firefighters","Mixed",0]
["2020/21","Lancashire","E31000023","Non-metropolitan","Predominantly Urban","HC","Wholetime firefighters","White British or Irish",39]
["2020/21","Leicestershire","E31000024","Non-metropolitan","Significantly Rural","HC","Fire control","Asian or Asian British",0]
["2020/21","Leicestershire","E31000024","Non-metropolitan","Significantly Rural","HC","Fire control","Black or Black British",0]
["2020/21","Leicestershire","E31000024","Non-metropolitan","Significantly Rural","HC","Fire control","Chinese or other ethnicity",0]
["2020/21","Leicestershire","E31000024","Non-metropolitan","Significantly Rural","HC","Fire control","Ethnic origin not stated",0]
["2020/21","Leicestershire","E31000024","Non-metropolitan","Significantly Rural","HC","Fire control","Mixed",0]
["2020/21","Leicestershire","E31000024","Non-metropolitan","Significantly Rural","HC","Fire control","White British or Irish",1]
["2020/21","Leicestershire","E31000024","Non-metropolitan","Significantly Rural","HC","On call firefighters","Asian or Asian British",0]
["2020/21","Leicestershire","E31000024","Non-metropolitan","Significantly Rural","HC","On call firefighters","Black or Black British",0]
["2020/21","Leicestershire","E31000024","Non-metropolitan","Significantly Rural","HC","On call firefighters","Chinese or other ethnicity",0]
["2020/21","Leicestershire","E31000024","Non-metropolitan","Significantly Rural","HC","On call firefighters","Ethnic origin not stated",0]
["2020/21","Leicestershire","E31000024","Non-metropolitan","Significantly Rural","HC","On call firefighters","Mixed",1]
["2020/21","Leicestershire","E31000024","Non-metropolitan","Significantly Rural","HC","On call firefighters","White British or Irish",19]
["2020/21","Leicestershire","E31000024","Non-metropolitan","Significantly Rural","HC","Support staff","Asian or Asian British",1]
["2020/21","Leicestershire","E31000024","Non-metropolitan","Significantly Rural","HC","Support staff","Black or Black British",0]
["2020/21","Leicestershire","E31000024","Non-metropolitan","Significantly Rural","HC","Support staff","Chinese or other ethnicity",0]
["2020/21","Leicestershire","E31000024","Non-metropolitan","Significantly Rural","HC","Support staff","Ethnic origin not stated",1]
["2020/21","Leicestershire","E31000024","Non-metropolitan","Significantly Rural","HC","Support staff","Mixed",1]
["2020/21","Leicestershire","E31000024","Non-metropolitan","Significantly Rural","HC","Support staff","White British or Irish",15]
["2020/21","Leicestershire","E31000024","Non-metropolitan","Significantly Rural","HC","Wholetime firefighters","Asian or Asian British",1]
["2020/21","Leicestershire","E31000024","Non-metropolitan","Significantly Rural","HC","Wholetime firefighters","Black or Black British",1]
["2020/21","Leicestershire","E31000024","Non-metropolitan","Significantly Rural","HC","Wholetime firefighters","Chinese or other ethnicity",0]
["2020/21","Leicestershire","E31000024","Non-metropolitan","Significantly Rural","HC","Wholetime firefighters","Ethnic origin not stated",0]
["2020/21","Leicestershire","E31000024","Non-metropolitan","Significantly Rural","HC","Wholetime firefighters","Mixed",1]
["2020/21","Leicestershire","E31000024","Non-metropolitan","Significantly Rural","HC","Wholetime firefighters","White British or Irish",12]
["2020/21","Lincolnshire","E31000025","Non-metropolitan","Predominantly Rural","HC","Fire control","Asian or Asian British",0]
["2020/21","Lincolnshire","E31000025","Non-metropolitan","Predominantly Rural","HC","Fire control","Black or Black British",0]
["2020/21","Lincolnshire","E31000025","Non-metropolitan","Predominantly Rural","HC","Fire control","Chinese or other ethnicity",0]
["2020/21","Lincolnshire","E31000025","Non-metropolitan","Predominantly Rural","HC","Fire control","Ethnic origin not stated",0]
["2020/21","Lincolnshire","E31000025","Non-metropolitan","Predominantly Rural","HC","Fire control","Mixed",0]
["2020/21","Lincolnshire","E31000025","Non-metropolitan","Predominantly Rural","HC","Fire control","White British or Irish",2]
["2020/21","Lincolnshire","E31000025","Non-metropolitan","Predominantly Rural","HC","On call firefighters","Asian or Asian British",0]
["2020/21","Lincolnshire","E31000025","Non-metropolitan","Predominantly Rural","HC","On call firefighters","Black or Black British",0]
["2020/21","Lincolnshire","E31000025","Non-metropolitan","Predominantly Rural","HC","On call firefighters","Chinese or other ethnicity",0]
["2020/21","Lincolnshire","E31000025","Non-metropolitan","Predominantly Rural","HC","On call firefighters","Ethnic origin not stated",4]
["2020/21","Lincolnshire","E31000025","Non-metropolitan","Predominantly Rural","HC","On call firefighters","Mixed",0]
["2020/21","Lincolnshire","E31000025","Non-metropolitan","Predominantly Rural","HC","On call firefighters","White British or Irish",44]
["2020/21","Lincolnshire","E31000025","Non-metropolitan","Predominantly Rural","HC","Support staff","Asian or Asian British",0]
["2020/21","Lincolnshire","E31000025","Non-metropolitan","Predominantly Rural","HC","Support staff","Black or Black British",0]
["2020/21","Lincolnshire","E31000025","Non-metropolitan","Predominantly Rural","HC","Support staff","Chinese or other ethnicity",0]
["2020/21","Lincolnshire","E31000025","Non-metropolitan","Predominantly Rural","HC","Support staff","Ethnic origin not stated",0]
["2020/21","Lincolnshire","E31000025","Non-metropolitan","Predominantly Rural","HC","Support staff","Mixed",0]
["2020/21","Lincolnshire","E31000025","Non-metropolitan","Predominantly Rural","HC","Support staff","White British or Irish",13]
["2020/21","Lincolnshire","E31000025","Non-metropolitan","Predominantly Rural","HC","Wholetime firefighters","Asian or Asian British",0]
["2020/21","Lincolnshire","E31000025","Non-metropolitan","Predominantly Rural","HC","Wholetime firefighters","Black or Black British",0]
["2020/21","Lincolnshire","E31000025","Non-metropolitan","Predominantly Rural","HC","Wholetime firefighters","Chinese or other ethnicity",1]
["2020/21","Lincolnshire","E31000025","Non-metropolitan","Predominantly Rural","HC","Wholetime firefighters","Ethnic origin not stated",1]
["2020/21","Lincolnshire","E31000025","Non-metropolitan","Predominantly Rural","HC","Wholetime firefighters","Mixed",1]
["2020/21","Lincolnshire","E31000025","Non-metropolitan","Predominantly Rural","HC","Wholetime firefighters","White British or Irish",11]
["2020/21","Merseyside","E31000041","Metropolitan","Predominantly Urban","HC","Fire control","Asian or Asian British",0]
["2020/21","Merseyside","E31000041","Metropolitan","Predominantly Urban","HC","Fire control","Black or Black British",0]
["2020/21","Merseyside","E31000041","Metropolitan","Predominantly Urban","HC","Fire control","Chinese or other ethnicity",0]
["2020/21","Merseyside","E31000041","Metropolitan","Predominantly Urban","HC","Fire control","Ethnic origin not stated",0]
["2020/21","Merseyside","E31000041","Metropolitan","Predominantly Urban","HC","Fire control","Mixed",0]
["2020/21","Merseyside","E31000041","Metropolitan","Predominantly Urban","HC","Fire control","White British or Irish",4]
["2020/21","Merseyside","E31000041","Metropolitan","Predominantly Urban","HC","On call firefighters","Asian or Asian British",1]
["2020/21","Merseyside","E31000041","Metropolitan","Predominantly Urban","HC","On call firefighters","Black or Black British",0]
["2020/21","Merseyside","E31000041","Metropolitan","Predominantly Urban","HC","On call firefighters","Chinese or other ethnicity",1]
["2020/21","Merseyside","E31000041","Metropolitan","Predominantly Urban","HC","On call firefighters","Ethnic origin not stated",1]
["2020/21","Merseyside","E31000041","Metropolitan","Predominantly Urban","HC","On call firefighters","Mixed",2]
["2020/21","Merseyside","E31000041","Metropolitan","Predominantly Urban","HC","On call firefighters","White British or Irish",32]
["2020/21","Merseyside","E31000041","Metropolitan","Predominantly Urban","HC","Support staff","Asian or Asian British",0]
["2020/21","Merseyside","E31000041","Metropolitan","Predominantly Urban","HC","Support staff","Black or Black British",0]
["2020/21","Merseyside","E31000041","Metropolitan","Predominantly Urban","HC","Support staff","Chinese or other ethnicity",0]
["2020/21","Merseyside","E31000041","Metropolitan","Predominantly Urban","HC","Support staff","Ethnic origin not stated",0]
["2020/21","Merseyside","E31000041","Metropolitan","Predominantly Urban","HC","Support staff","Mixed",0]
["2020/21","Merseyside","E31000041","Metropolitan","Predominantly Urban","HC","Support staff","White British or Irish",8]
["2020/21","Merseyside","E31000041","Metropolitan","Predominantly Urban","HC","Wholetime firefighters","Asian or Asian British",1]
["2020/21","Merseyside","E31000041","Metropolitan","Predominantly Urban","HC","Wholetime firefighters","Black or Black British",0]
["2020/21","Merseyside","E31000041","Metropolitan","Predominantly Urban","HC","Wholetime firefighters","Chinese or other ethnicity",1]
["2020/21","Merseyside","E31000041","Metropolitan","Predominantly Urban","HC","Wholetime firefighters","Ethnic origin not stated",1]
["2020/21","Merseyside","E31000041","Metropolitan","Predominantly Urban","HC","Wholetime firefighters","Mixed",3]
["2020/21","Merseyside","E31000041","Metropolitan","Predominantly Urban","HC","Wholetime firefighters","White British or Irish",53]
["2020/21","Norfolk","E31000026","Non-metropolitan","Predominantly Rural","HC","Fire control","Asian or Asian British",0]
["2020/21","Norfolk","E31000026","Non-metropolitan","Predominantly Rural","HC","Fire control","Black or Black British",0]
["2020/21","Norfolk","E31000026","Non-metropolitan","Predominantly Rural","HC","Fire control","Chinese or other ethnicity",0]
["2020/21","Norfolk","E31000026","Non-metropolitan","Predominantly Rural","HC","Fire control","Ethnic origin not stated",0]
["2020/21","Norfolk","E31000026","Non-metropolitan","Predominantly Rural","HC","Fire control","Mixed",0]
["2020/21","Norfolk","E31000026","Non-metropolitan","Predominantly Rural","HC","Fire control","White British or Irish",0]
["2020/21","Norfolk","E31000026","Non-metropolitan","Predominantly Rural","HC","On call firefighters","Asian or Asian British",0]
["2020/21","Norfolk","E31000026","Non-metropolitan","Predominantly Rural","HC","On call firefighters","Black or Black British",0]
["2020/21","Norfolk","E31000026","Non-metropolitan","Predominantly Rural","HC","On call firefighters","Chinese or other ethnicity",1]
["2020/21","Norfolk","E31000026","Non-metropolitan","Predominantly Rural","HC","On call firefighters","Ethnic origin not stated",13]
["2020/21","Norfolk","E31000026","Non-metropolitan","Predominantly Rural","HC","On call firefighters","Mixed",0]
["2020/21","Norfolk","E31000026","Non-metropolitan","Predominantly Rural","HC","On call firefighters","White British or Irish",17]
["2020/21","Norfolk","E31000026","Non-metropolitan","Predominantly Rural","HC","Support staff","Asian or Asian British",0]
["2020/21","Norfolk","E31000026","Non-metropolitan","Predominantly Rural","HC","Support staff","Black or Black British",0]
["2020/21","Norfolk","E31000026","Non-metropolitan","Predominantly Rural","HC","Support staff","Chinese or other ethnicity",0]
["2020/21","Norfolk","E31000026","Non-metropolitan","Predominantly Rural","HC","Support staff","Ethnic origin not stated",1]
["2020/21","Norfolk","E31000026","Non-metropolitan","Predominantly Rural","HC","Support staff","Mixed",0]
["2020/21","Norfolk","E31000026","Non-metropolitan","Predominantly Rural","HC","Support staff","White British or Irish",1]
["2020/21","Norfolk","E31000026","Non-metropolitan","Predominantly Rural","HC","Wholetime firefighters","Asian or Asian British",0]
["2020/21","Norfolk","E31000026","Non-metropolitan","Predominantly Rural","HC","Wholetime firefighters","Black or Black British",0]
["2020/21","Norfolk","E31000026","Non-metropolitan","Predominantly Rural","HC","Wholetime firefighters","Chinese or other ethnicity",0]
["2020/21","Norfolk","E31000026","Non-metropolitan","Predominantly Rural","HC","Wholetime firefighters","Ethnic origin not stated",5]
["2020/21","Norfolk","E31000026","Non-metropolitan","Predominantly Rural","HC","Wholetime firefighters","Mixed",0]
["2020/21","Norfolk","E31000026","Non-metropolitan","Predominantly Rural","HC","Wholetime firefighters","White British or Irish",7]
["2020/21","North Yorkshire","E31000027","Non-metropolitan","Predominantly Rural","HC","Fire control","Asian or Asian British",0]
["2020/21","North Yorkshire","E31000027","Non-metropolitan","Predominantly Rural","HC","Fire control","Black or Black British",0]
["2020/21","North Yorkshire","E31000027","Non-metropolitan","Predominantly Rural","HC","Fire control","Chinese or other ethnicity",0]
["2020/21","North Yorkshire","E31000027","Non-metropolitan","Predominantly Rural","HC","Fire control","Ethnic origin not stated",0]
["2020/21","North Yorkshire","E31000027","Non-metropolitan","Predominantly Rural","HC","Fire control","Mixed",0]
["2020/21","North Yorkshire","E31000027","Non-metropolitan","Predominantly Rural","HC","Fire control","White British or Irish",0]
["2020/21","North Yorkshire","E31000027","Non-metropolitan","Predominantly Rural","HC","On call firefighters","Asian or Asian British",1]
["2020/21","North Yorkshire","E31000027","Non-metropolitan","Predominantly Rural","HC","On call firefighters","Black or Black British",0]
["2020/21","North Yorkshire","E31000027","Non-metropolitan","Predominantly Rural","HC","On call firefighters","Chinese or other ethnicity",2]
["2020/21","North Yorkshire","E31000027","Non-metropolitan","Predominantly Rural","HC","On call firefighters","Ethnic origin not stated",7]
["2020/21","North Yorkshire","E31000027","Non-metropolitan","Predominantly Rural","HC","On call firefighters","Mixed",0]
["2020/21","North Yorkshire","E31000027","Non-metropolitan","Predominantly Rural","HC","On call firefighters","White British or Irish",51]
["2020/21","North Yorkshire","E31000027","Non-metropolitan","Predominantly Rural","HC","Support staff","Asian or Asian British",0]
["2020/21","North Yorkshire","E31000027","Non-metropolitan","Predominantly Rural","HC","Support staff","Black or Black British",0]
["2020/21","North Yorkshire","E31000027","Non-metropolitan","Predominantly Rural","HC","Support staff","Chinese or other ethnicity",0]
["2020/21","North Yorkshire","E31000027","Non-metropolitan","Predominantly Rural","HC","Support staff","Ethnic origin not stated",0]
["2020/21","North Yorkshire","E31000027","Non-metropolitan","Predominantly Rural","HC","Support staff","Mixed",0]
["2020/21","North Yorkshire","E31000027","Non-metropolitan","Predominantly Rural","HC","Support staff","White British or Irish",9]
["2020/21","North Yorkshire","E31000027","Non-metropolitan","Predominantly Rural","HC","Wholetime firefighters","Asian or Asian British",0]
["2020/21","North Yorkshire","E31000027","Non-metropolitan","Predominantly Rural","HC","Wholetime firefighters","Black or Black British",0]
["2020/21","North Yorkshire","E31000027","Non-metropolitan","Predominantly Rural","HC","Wholetime firefighters","Chinese or other ethnicity",0]
["2020/21","North Yorkshire","E31000027","Non-metropolitan","Predominantly Rural","HC","Wholetime firefighters","Ethnic origin not stated",1]
["2020/21","North Yorkshire","E31000027","Non-metropolitan","Predominantly Rural","HC","Wholetime firefighters","Mixed",0]
["2020/21","North Yorkshire","E31000027","Non-metropolitan","Predominantly Rural","HC","Wholetime firefighters","White British or Irish",24]
["2020/21","Northamptonshire","E31000028","Non-metropolitan","Significantly Rural","HC","Fire control","Asian or Asian British",0]
["2020/21","Northamptonshire","E31000028","Non-metropolitan","Significantly Rural","HC","Fire control","Black or Black British",0]
["2020/21","Northamptonshire","E31000028","Non-metropolitan","Significantly Rural","HC","Fire control","Chinese or other ethnicity",0]
["2020/21","Northamptonshire","E31000028","Non-metropolitan","Significantly Rural","HC","Fire control","Ethnic origin not stated",0]
["2020/21","Northamptonshire","E31000028","Non-metropolitan","Significantly Rural","HC","Fire control","Mixed",0]
["2020/21","Northamptonshire","E31000028","Non-metropolitan","Significantly Rural","HC","Fire control","White British or Irish",0]
["2020/21","Northamptonshire","E31000028","Non-metropolitan","Significantly Rural","HC","On call firefighters","Asian or Asian British",0]
["2020/21","Northamptonshire","E31000028","Non-metropolitan","Significantly Rural","HC","On call firefighters","Black or Black British",0]
["2020/21","Northamptonshire","E31000028","Non-metropolitan","Significantly Rural","HC","On call firefighters","Chinese or other ethnicity",0]
["2020/21","Northamptonshire","E31000028","Non-metropolitan","Significantly Rural","HC","On call firefighters","Ethnic origin not stated",22]
["2020/21","Northamptonshire","E31000028","Non-metropolitan","Significantly Rural","HC","On call firefighters","Mixed",0]
["2020/21","Northamptonshire","E31000028","Non-metropolitan","Significantly Rural","HC","On call firefighters","White British or Irish",1]
["2020/21","Northamptonshire","E31000028","Non-metropolitan","Significantly Rural","HC","Support staff","Asian or Asian British",0]
["2020/21","Northamptonshire","E31000028","Non-metropolitan","Significantly Rural","HC","Support staff","Black or Black British",0]
["2020/21","Northamptonshire","E31000028","Non-metropolitan","Significantly Rural","HC","Support staff","Chinese or other ethnicity",1]
["2020/21","Northamptonshire","E31000028","Non-metropolitan","Significantly Rural","HC","Support staff","Ethnic origin not stated",6]
["2020/21","Northamptonshire","E31000028","Non-metropolitan","Significantly Rural","HC","Support staff","Mixed",0]
["2020/21","Northamptonshire","E31000028","Non-metropolitan","Significantly Rural","HC","Support staff","White British or Irish",1]
["2020/21","Northamptonshire","E31000028","Non-metropolitan","Significantly Rural","HC","Wholetime firefighters","Asian or Asian British",0]
["2020/21","Northamptonshire","E31000028","Non-metropolitan","Significantly Rural","HC","Wholetime firefighters","Black or Black British",0]
["2020/21","Northamptonshire","E31000028","Non-metropolitan","Significantly Rural","HC","Wholetime firefighters","Chinese or other ethnicity",0]
["2020/21","Northamptonshire","E31000028","Non-metropolitan","Significantly Rural","HC","Wholetime firefighters","Ethnic origin not stated",4]
["2020/21","Northamptonshire","E31000028","Non-metropolitan","Significantly Rural","HC","Wholetime firefighters","Mixed",0]
["2020/21","Northamptonshire","E31000028","Non-metropolitan","Significantly Rural","HC","Wholetime firefighters","White British or Irish",0]
["2020/21","Northumberland","E31000029","Non-metropolitan","Predominantly Rural","HC","Fire control","Asian or Asian British",0]
["2020/21","Northumberland","E31000029","Non-metropolitan","Predominantly Rural","HC","Fire control","Black or Black British",0]
["2020/21","Northumberland","E31000029","Non-metropolitan","Predominantly Rural","HC","Fire control","Chinese or other ethnicity",0]
["2020/21","Northumberland","E31000029","Non-metropolitan","Predominantly Rural","HC","Fire control","Ethnic origin not stated",3]
["2020/21","Northumberland","E31000029","Non-metropolitan","Predominantly Rural","HC","Fire control","Mixed",0]
["2020/21","Northumberland","E31000029","Non-metropolitan","Predominantly Rural","HC","Fire control","White British or Irish",0]
["2020/21","Northumberland","E31000029","Non-metropolitan","Predominantly Rural","HC","On call firefighters","Asian or Asian British",0]
["2020/21","Northumberland","E31000029","Non-metropolitan","Predominantly Rural","HC","On call firefighters","Black or Black British",0]
["2020/21","Northumberland","E31000029","Non-metropolitan","Predominantly Rural","HC","On call firefighters","Chinese or other ethnicity",1]
["2020/21","Northumberland","E31000029","Non-metropolitan","Predominantly Rural","HC","On call firefighters","Ethnic origin not stated",1]
["2020/21","Northumberland","E31000029","Non-metropolitan","Predominantly Rural","HC","On call firefighters","Mixed",1]
["2020/21","Northumberland","E31000029","Non-metropolitan","Predominantly Rural","HC","On call firefighters","White British or Irish",3]
["2020/21","Northumberland","E31000029","Non-metropolitan","Predominantly Rural","HC","Support staff","Asian or Asian British",0]
["2020/21","Northumberland","E31000029","Non-metropolitan","Predominantly Rural","HC","Support staff","Black or Black British",0]
["2020/21","Northumberland","E31000029","Non-metropolitan","Predominantly Rural","HC","Support staff","Chinese or other ethnicity",0]
["2020/21","Northumberland","E31000029","Non-metropolitan","Predominantly Rural","HC","Support staff","Ethnic origin not stated",6]
["2020/21","Northumberland","E31000029","Non-metropolitan","Predominantly Rural","HC","Support staff","Mixed",0]
["2020/21","Northumberland","E31000029","Non-metropolitan","Predominantly Rural","HC","Support staff","White British or Irish",0]
["2020/21","Northumberland","E31000029","Non-metropolitan","Predominantly Rural","HC","Wholetime firefighters","Asian or Asian British",0]
["2020/21","Northumberland","E31000029","Non-metropolitan","Predominantly Rural","HC","Wholetime firefighters","Black or Black British",0]
["2020/21","Northumberland","E31000029","Non-metropolitan","Predominantly Rural","HC","Wholetime firefighters","Chinese or other ethnicity",0]
["2020/21","Northumberland","E31000029","Non-metropolitan","Predominantly Rural","HC","Wholetime firefighters","Ethnic origin not stated",12]
["2020/21","Northumberland","E31000029","Non-metropolitan","Predominantly Rural","HC","Wholetime firefighters","Mixed",0]
["2020/21","Northumberland","E31000029","Non-metropolitan","Predominantly Rural","HC","Wholetime firefighters","White British or Irish",0]
["2020/21","Nottinghamshire","E31000030","Non-metropolitan","Predominantly Urban","HC","Fire control","Asian or Asian British",0]
["2020/21","Nottinghamshire","E31000030","Non-metropolitan","Predominantly Urban","HC","Fire control","Black or Black British",0]
["2020/21","Nottinghamshire","E31000030","Non-metropolitan","Predominantly Urban","HC","Fire control","Chinese or other ethnicity",0]
["2020/21","Nottinghamshire","E31000030","Non-metropolitan","Predominantly Urban","HC","Fire control","Ethnic origin not stated",0]
["2020/21","Nottinghamshire","E31000030","Non-metropolitan","Predominantly Urban","HC","Fire control","Mixed",0]
["2020/21","Nottinghamshire","E31000030","Non-metropolitan","Predominantly Urban","HC","Fire control","White British or Irish",0]
["2020/21","Nottinghamshire","E31000030","Non-metropolitan","Predominantly Urban","HC","On call firefighters","Asian or Asian British",0]
["2020/21","Nottinghamshire","E31000030","Non-metropolitan","Predominantly Urban","HC","On call firefighters","Black or Black British",0]
["2020/21","Nottinghamshire","E31000030","Non-metropolitan","Predominantly Urban","HC","On call firefighters","Chinese or other ethnicity",1]
["2020/21","Nottinghamshire","E31000030","Non-metropolitan","Predominantly Urban","HC","On call firefighters","Ethnic origin not stated",0]
["2020/21","Nottinghamshire","E31000030","Non-metropolitan","Predominantly Urban","HC","On call firefighters","Mixed",1]
["2020/21","Nottinghamshire","E31000030","Non-metropolitan","Predominantly Urban","HC","On call firefighters","White British or Irish",16]
["2020/21","Nottinghamshire","E31000030","Non-metropolitan","Predominantly Urban","HC","Support staff","Asian or Asian British",1]
["2020/21","Nottinghamshire","E31000030","Non-metropolitan","Predominantly Urban","HC","Support staff","Black or Black British",0]
["2020/21","Nottinghamshire","E31000030","Non-metropolitan","Predominantly Urban","HC","Support staff","Chinese or other ethnicity",2]
["2020/21","Nottinghamshire","E31000030","Non-metropolitan","Predominantly Urban","HC","Support staff","Ethnic origin not stated",2]
["2020/21","Nottinghamshire","E31000030","Non-metropolitan","Predominantly Urban","HC","Support staff","Mixed",0]
["2020/21","Nottinghamshire","E31000030","Non-metropolitan","Predominantly Urban","HC","Support staff","White British or Irish",19]
["2020/21","Nottinghamshire","E31000030","Non-metropolitan","Predominantly Urban","HC","Wholetime firefighters","Asian or Asian British",0]
["2020/21","Nottinghamshire","E31000030","Non-metropolitan","Predominantly Urban","HC","Wholetime firefighters","Black or Black British",0]
["2020/21","Nottinghamshire","E31000030","Non-metropolitan","Predominantly Urban","HC","Wholetime firefighters","Chinese or other ethnicity",0]
["2020/21","Nottinghamshire","E31000030","Non-metropolitan","Predominantly Urban","HC","Wholetime firefighters","Ethnic origin not stated",1]
["2020/21","Nottinghamshire","E31000030","Non-metropolitan","Predominantly Urban","HC","Wholetime firefighters","Mixed",0]
["2020/21","Nottinghamshire","E31000030","Non-metropolitan","Predominantly Urban","HC","Wholetime firefighters","White British or Irish",2]
["2020/21","Oxfordshire","E31000031","Non-metropolitan","Predominantly Rural","HC","Fire control","Asian or Asian British",0]
["2020/21","Oxfordshire","E31000031","Non-metropolitan","Predominantly Rural","HC","Fire control","Black or Black British",0]
["2020/21","Oxfordshire","E31000031","Non-metropolitan","Predominantly Rural","HC","Fire control","Chinese or other ethnicity",0]
["2020/21","Oxfordshire","E31000031","Non-metropolitan","Predominantly Rural","HC","Fire control","Ethnic origin not stated",0]
["2020/21","Oxfordshire","E31000031","Non-metropolitan","Predominantly Rural","HC","Fire control","Mixed",0]
["2020/21","Oxfordshire","E31000031","Non-metropolitan","Predominantly Rural","HC","Fire control","White British or Irish",0]
["2020/21","Oxfordshire","E31000031","Non-metropolitan","Predominantly Rural","HC","On call firefighters","Asian or Asian British",0]
["2020/21","Oxfordshire","E31000031","Non-metropolitan","Predominantly Rural","HC","On call firefighters","Black or Black British",0]
["2020/21","Oxfordshire","E31000031","Non-metropolitan","Predominantly Rural","HC","On call firefighters","Chinese or other ethnicity",3]
["2020/21","Oxfordshire","E31000031","Non-metropolitan","Predominantly Rural","HC","On call firefighters","Ethnic origin not stated",1]
["2020/21","Oxfordshire","E31000031","Non-metropolitan","Predominantly Rural","HC","On call firefighters","Mixed",2]
["2020/21","Oxfordshire","E31000031","Non-metropolitan","Predominantly Rural","HC","On call firefighters","White British or Irish",63]
["2020/21","Oxfordshire","E31000031","Non-metropolitan","Predominantly Rural","HC","Support staff","Asian or Asian British",0]
["2020/21","Oxfordshire","E31000031","Non-metropolitan","Predominantly Rural","HC","Support staff","Black or Black British",0]
["2020/21","Oxfordshire","E31000031","Non-metropolitan","Predominantly Rural","HC","Support staff","Chinese or other ethnicity",0]
["2020/21","Oxfordshire","E31000031","Non-metropolitan","Predominantly Rural","HC","Support staff","Ethnic origin not stated",0]
["2020/21","Oxfordshire","E31000031","Non-metropolitan","Predominantly Rural","HC","Support staff","Mixed",0]
["2020/21","Oxfordshire","E31000031","Non-metropolitan","Predominantly Rural","HC","Support staff","White British or Irish",7]
["2020/21","Oxfordshire","E31000031","Non-metropolitan","Predominantly Rural","HC","Wholetime firefighters","Asian or Asian British",0]
["2020/21","Oxfordshire","E31000031","Non-metropolitan","Predominantly Rural","HC","Wholetime firefighters","Black or Black British",0]
["2020/21","Oxfordshire","E31000031","Non-metropolitan","Predominantly Rural","HC","Wholetime firefighters","Chinese or other ethnicity",1]
["2020/21","Oxfordshire","E31000031","Non-metropolitan","Predominantly Rural","HC","Wholetime firefighters","Ethnic origin not stated",1]
["2020/21","Oxfordshire","E31000031","Non-metropolitan","Predominantly Rural","HC","Wholetime firefighters","Mixed",2]
["2020/21","Oxfordshire","E31000031","Non-metropolitan","Predominantly Rural","HC","Wholetime firefighters","White British or Irish",20]
["2020/21","Shropshire","E31000032","Non-metropolitan","Predominantly Rural","HC","Fire control","Asian or Asian British",0]
["2020/21","Shropshire","E31000032","Non-metropolitan","Predominantly Rural","HC","Fire control","Black or Black British",0]
["2020/21","Shropshire","E31000032","Non-metropolitan","Predominantly Rural","HC","Fire control","Chinese or other ethnicity",0]
["2020/21","Shropshire","E31000032","Non-metropolitan","Predominantly Rural","HC","Fire control","Ethnic origin not stated",0]
["2020/21","Shropshire","E31000032","Non-metropolitan","Predominantly Rural","HC","Fire control","Mixed",0]
["2020/21","Shropshire","E31000032","Non-metropolitan","Predominantly Rural","HC","Fire control","White British or Irish",0]
["2020/21","Shropshire","E31000032","Non-metropolitan","Predominantly Rural","HC","On call firefighters","Asian or Asian British",0]
["2020/21","Shropshire","E31000032","Non-metropolitan","Predominantly Rural","HC","On call firefighters","Black or Black British",1]
["2020/21","Shropshire","E31000032","Non-metropolitan","Predominantly Rural","HC","On call firefighters","Chinese or other ethnicity",1]
["2020/21","Shropshire","E31000032","Non-metropolitan","Predominantly Rural","HC","On call firefighters","Ethnic origin not stated",14]
["2020/21","Shropshire","E31000032","Non-metropolitan","Predominantly Rural","HC","On call firefighters","Mixed",0]
["2020/21","Shropshire","E31000032","Non-metropolitan","Predominantly Rural","HC","On call firefighters","White British or Irish",6]
["2020/21","Shropshire","E31000032","Non-metropolitan","Predominantly Rural","HC","Support staff","Asian or Asian British",0]
["2020/21","Shropshire","E31000032","Non-metropolitan","Predominantly Rural","HC","Support staff","Black or Black British",0]
["2020/21","Shropshire","E31000032","Non-metropolitan","Predominantly Rural","HC","Support staff","Chinese or other ethnicity",0]
["2020/21","Shropshire","E31000032","Non-metropolitan","Predominantly Rural","HC","Support staff","Ethnic origin not stated",2]
["2020/21","Shropshire","E31000032","Non-metropolitan","Predominantly Rural","HC","Support staff","Mixed",0]
["2020/21","Shropshire","E31000032","Non-metropolitan","Predominantly Rural","HC","Support staff","White British or Irish",3]
["2020/21","Shropshire","E31000032","Non-metropolitan","Predominantly Rural","HC","Wholetime firefighters","Asian or Asian British",0]
["2020/21","Shropshire","E31000032","Non-metropolitan","Predominantly Rural","HC","Wholetime firefighters","Black or Black British",0]
["2020/21","Shropshire","E31000032","Non-metropolitan","Predominantly Rural","HC","Wholetime firefighters","Chinese or other ethnicity",0]
["2020/21","Shropshire","E31000032","Non-metropolitan","Predominantly Rural","HC","Wholetime firefighters","Ethnic origin not stated",1]
["2020/21","Shropshire","E31000032","Non-metropolitan","Predominantly Rural","HC","Wholetime firefighters","Mixed",0]
["2020/21","Shropshire","E31000032","Non-metropolitan","Predominantly Rural","HC","Wholetime firefighters","White British or Irish",10]
["2020/21","South Yorkshire","E31000042","Metropolitan","Predominantly Urban","HC","Fire control","Asian or Asian British",0]
["2020/21","South Yorkshire","E31000042","Metropolitan","Predominantly Urban","HC","Fire control","Black or Black British",0]
["2020/21","South Yorkshire","E31000042","Metropolitan","Predominantly Urban","HC","Fire control","Chinese or other ethnicity",0]
["2020/21","South Yorkshire","E31000042","Metropolitan","Predominantly Urban","HC","Fire control","Ethnic origin not stated",0]
["2020/21","South Yorkshire","E31000042","Metropolitan","Predominantly Urban","HC","Fire control","Mixed",0]
["2020/21","South Yorkshire","E31000042","Metropolitan","Predominantly Urban","HC","Fire control","White British or Irish",1]
["2020/21","South Yorkshire","E31000042","Metropolitan","Predominantly Urban","HC","On call firefighters","Asian or Asian British",0]
["2020/21","South Yorkshire","E31000042","Metropolitan","Predominantly Urban","HC","On call firefighters","Black or Black British",0]
["2020/21","South Yorkshire","E31000042","Metropolitan","Predominantly Urban","HC","On call firefighters","Chinese or other ethnicity",0]
["2020/21","South Yorkshire","E31000042","Metropolitan","Predominantly Urban","HC","On call firefighters","Ethnic origin not stated",1]
["2020/21","South Yorkshire","E31000042","Metropolitan","Predominantly Urban","HC","On call firefighters","Mixed",0]
["2020/21","South Yorkshire","E31000042","Metropolitan","Predominantly Urban","HC","On call firefighters","White British or Irish",18]
["2020/21","South Yorkshire","E31000042","Metropolitan","Predominantly Urban","HC","Support staff","Asian or Asian British",0]
["2020/21","South Yorkshire","E31000042","Metropolitan","Predominantly Urban","HC","Support staff","Black or Black British",0]
["2020/21","South Yorkshire","E31000042","Metropolitan","Predominantly Urban","HC","Support staff","Chinese or other ethnicity",1]
["2020/21","South Yorkshire","E31000042","Metropolitan","Predominantly Urban","HC","Support staff","Ethnic origin not stated",0]
["2020/21","South Yorkshire","E31000042","Metropolitan","Predominantly Urban","HC","Support staff","Mixed",0]
["2020/21","South Yorkshire","E31000042","Metropolitan","Predominantly Urban","HC","Support staff","White British or Irish",9]
["2020/21","South Yorkshire","E31000042","Metropolitan","Predominantly Urban","HC","Wholetime firefighters","Asian or Asian British",0]
["2020/21","South Yorkshire","E31000042","Metropolitan","Predominantly Urban","HC","Wholetime firefighters","Black or Black British",0]
["2020/21","South Yorkshire","E31000042","Metropolitan","Predominantly Urban","HC","Wholetime firefighters","Chinese or other ethnicity",1]
["2020/21","South Yorkshire","E31000042","Metropolitan","Predominantly Urban","HC","Wholetime firefighters","Ethnic origin not stated",0]
["2020/21","South Yorkshire","E31000042","Metropolitan","Predominantly Urban","HC","Wholetime firefighters","Mixed",3]
["2020/21","South Yorkshire","E31000042","Metropolitan","Predominantly Urban","HC","Wholetime firefighters","White British or Irish",36]
["2020/21","Staffordshire","E31000033","Non-metropolitan","Significantly Rural","HC","Fire control","Asian or Asian British",0]
["2020/21","Staffordshire","E31000033","Non-metropolitan","Significantly Rural","HC","Fire control","Black or Black British",0]
["2020/21","Staffordshire","E31000033","Non-metropolitan","Significantly Rural","HC","Fire control","Chinese or other ethnicity",0]
["2020/21","Staffordshire","E31000033","Non-metropolitan","Significantly Rural","HC","Fire control","Ethnic origin not stated",0]
["2020/21","Staffordshire","E31000033","Non-metropolitan","Significantly Rural","HC","Fire control","Mixed",0]
["2020/21","Staffordshire","E31000033","Non-metropolitan","Significantly Rural","HC","Fire control","White British or Irish",0]
["2020/21","Staffordshire","E31000033","Non-metropolitan","Significantly Rural","HC","On call firefighters","Asian or Asian British",1]
["2020/21","Staffordshire","E31000033","Non-metropolitan","Significantly Rural","HC","On call firefighters","Black or Black British",2]
["2020/21","Staffordshire","E31000033","Non-metropolitan","Significantly Rural","HC","On call firefighters","Chinese or other ethnicity",2]
["2020/21","Staffordshire","E31000033","Non-metropolitan","Significantly Rural","HC","On call firefighters","Ethnic origin not stated",0]
["2020/21","Staffordshire","E31000033","Non-metropolitan","Significantly Rural","HC","On call firefighters","Mixed",0]
["2020/21","Staffordshire","E31000033","Non-metropolitan","Significantly Rural","HC","On call firefighters","White British or Irish",29]
["2020/21","Staffordshire","E31000033","Non-metropolitan","Significantly Rural","HC","Support staff","Asian or Asian British",0]
["2020/21","Staffordshire","E31000033","Non-metropolitan","Significantly Rural","HC","Support staff","Black or Black British",0]
["2020/21","Staffordshire","E31000033","Non-metropolitan","Significantly Rural","HC","Support staff","Chinese or other ethnicity",0]
["2020/21","Staffordshire","E31000033","Non-metropolitan","Significantly Rural","HC","Support staff","Ethnic origin not stated",1]
["2020/21","Staffordshire","E31000033","Non-metropolitan","Significantly Rural","HC","Support staff","Mixed",0]
["2020/21","Staffordshire","E31000033","Non-metropolitan","Significantly Rural","HC","Support staff","White British or Irish",6]
["2020/21","Staffordshire","E31000033","Non-metropolitan","Significantly Rural","HC","Wholetime firefighters","Asian or Asian British",0]
["2020/21","Staffordshire","E31000033","Non-metropolitan","Significantly Rural","HC","Wholetime firefighters","Black or Black British",0]
["2020/21","Staffordshire","E31000033","Non-metropolitan","Significantly Rural","HC","Wholetime firefighters","Chinese or other ethnicity",1]
["2020/21","Staffordshire","E31000033","Non-metropolitan","Significantly Rural","HC","Wholetime firefighters","Ethnic origin not stated",0]
["2020/21","Staffordshire","E31000033","Non-metropolitan","Significantly Rural","HC","Wholetime firefighters","Mixed",0]
["2020/21","Staffordshire","E31000033","Non-metropolitan","Significantly Rural","HC","Wholetime firefighters","White British or Irish",17]
["2020/21","Suffolk","E31000034","Non-metropolitan","Predominantly Rural","HC","Fire control","Asian or Asian British",0]
["2020/21","Suffolk","E31000034","Non-metropolitan","Predominantly Rural","HC","Fire control","Black or Black British",0]
["2020/21","Suffolk","E31000034","Non-metropolitan","Predominantly Rural","HC","Fire control","Chinese or other ethnicity",0]
["2020/21","Suffolk","E31000034","Non-metropolitan","Predominantly Rural","HC","Fire control","Ethnic origin not stated",0]
["2020/21","Suffolk","E31000034","Non-metropolitan","Predominantly Rural","HC","Fire control","Mixed",0]
["2020/21","Suffolk","E31000034","Non-metropolitan","Predominantly Rural","HC","Fire control","White British or Irish",0]
["2020/21","Suffolk","E31000034","Non-metropolitan","Predominantly Rural","HC","On call firefighters","Asian or Asian British",0]
["2020/21","Suffolk","E31000034","Non-metropolitan","Predominantly Rural","HC","On call firefighters","Black or Black British",0]
["2020/21","Suffolk","E31000034","Non-metropolitan","Predominantly Rural","HC","On call firefighters","Chinese or other ethnicity",0]
["2020/21","Suffolk","E31000034","Non-metropolitan","Predominantly Rural","HC","On call firefighters","Ethnic origin not stated",38]
["2020/21","Suffolk","E31000034","Non-metropolitan","Predominantly Rural","HC","On call firefighters","Mixed",0]
["2020/21","Suffolk","E31000034","Non-metropolitan","Predominantly Rural","HC","On call firefighters","White British or Irish",4]
["2020/21","Suffolk","E31000034","Non-metropolitan","Predominantly Rural","HC","Support staff","Asian or Asian British",1]
["2020/21","Suffolk","E31000034","Non-metropolitan","Predominantly Rural","HC","Support staff","Black or Black British",1]
["2020/21","Suffolk","E31000034","Non-metropolitan","Predominantly Rural","HC","Support staff","Chinese or other ethnicity",2]
["2020/21","Suffolk","E31000034","Non-metropolitan","Predominantly Rural","HC","Support staff","Ethnic origin not stated",8]
["2020/21","Suffolk","E31000034","Non-metropolitan","Predominantly Rural","HC","Support staff","Mixed",0]
["2020/21","Suffolk","E31000034","Non-metropolitan","Predominantly Rural","HC","Support staff","White British or Irish",5]
["2020/21","Suffolk","E31000034","Non-metropolitan","Predominantly Rural","HC","Wholetime firefighters","Asian or Asian British",0]
["2020/21","Suffolk","E31000034","Non-metropolitan","Predominantly Rural","HC","Wholetime firefighters","Black or Black British",0]
["2020/21","Suffolk","E31000034","Non-metropolitan","Predominantly Rural","HC","Wholetime firefighters","Chinese or other ethnicity",0]
["2020/21","Suffolk","E31000034","Non-metropolitan","Predominantly Rural","HC","Wholetime firefighters","Ethnic origin not stated",8]
["2020/21","Suffolk","E31000034","Non-metropolitan","Predominantly Rural","HC","Wholetime firefighters","Mixed",0]
["2020/21","Suffolk","E31000034","Non-metropolitan","Predominantly Rural","HC","Wholetime firefighters","White British or Irish",0]
["2020/21","Surrey","E31000035","Non-metropolitan","Predominantly Urban","HC","Fire control","Asian or Asian British",0]
["2020/21","Surrey","E31000035","Non-metropolitan","Predominantly Urban","HC","Fire control","Black or Black British",0]
["2020/21","Surrey","E31000035","Non-metropolitan","Predominantly Urban","HC","Fire control","Chinese or other ethnicity",0]
["2020/21","Surrey","E31000035","Non-metropolitan","Predominantly Urban","HC","Fire control","Ethnic origin not stated",0]
["2020/21","Surrey","E31000035","Non-metropolitan","Predominantly Urban","HC","Fire control","Mixed",0]
["2020/21","Surrey","E31000035","Non-metropolitan","Predominantly Urban","HC","Fire control","White British or Irish",9]
["2020/21","Surrey","E31000035","Non-metropolitan","Predominantly Urban","HC","On call firefighters","Asian or Asian British",0]
["2020/21","Surrey","E31000035","Non-metropolitan","Predominantly Urban","HC","On call firefighters","Black or Black British",0]
["2020/21","Surrey","E31000035","Non-metropolitan","Predominantly Urban","HC","On call firefighters","Chinese or other ethnicity",0]
["2020/21","Surrey","E31000035","Non-metropolitan","Predominantly Urban","HC","On call firefighters","Ethnic origin not stated",0]
["2020/21","Surrey","E31000035","Non-metropolitan","Predominantly Urban","HC","On call firefighters","Mixed",0]
["2020/21","Surrey","E31000035","Non-metropolitan","Predominantly Urban","HC","On call firefighters","White British or Irish",18]
["2020/21","Surrey","E31000035","Non-metropolitan","Predominantly Urban","HC","Support staff","Asian or Asian British",0]
["2020/21","Surrey","E31000035","Non-metropolitan","Predominantly Urban","HC","Support staff","Black or Black British",2]
["2020/21","Surrey","E31000035","Non-metropolitan","Predominantly Urban","HC","Support staff","Chinese or other ethnicity",0]
["2020/21","Surrey","E31000035","Non-metropolitan","Predominantly Urban","HC","Support staff","Ethnic origin not stated",6]
["2020/21","Surrey","E31000035","Non-metropolitan","Predominantly Urban","HC","Support staff","Mixed",0]
["2020/21","Surrey","E31000035","Non-metropolitan","Predominantly Urban","HC","Support staff","White British or Irish",17]
["2020/21","Surrey","E31000035","Non-metropolitan","Predominantly Urban","HC","Wholetime firefighters","Asian or Asian British",0]
["2020/21","Surrey","E31000035","Non-metropolitan","Predominantly Urban","HC","Wholetime firefighters","Black or Black British",0]
["2020/21","Surrey","E31000035","Non-metropolitan","Predominantly Urban","HC","Wholetime firefighters","Chinese or other ethnicity",0]
["2020/21","Surrey","E31000035","Non-metropolitan","Predominantly Urban","HC","Wholetime firefighters","Ethnic origin not stated",0]
["2020/21","Surrey","E31000035","Non-metropolitan","Predominantly Urban","HC","Wholetime firefighters","Mixed",0]
["2020/21","Surrey","E31000035","Non-metropolitan","Predominantly Urban","HC","Wholetime firefighters","White British or Irish",23]
["2020/21","Tyne and Wear","E31000043","Metropolitan","Predominantly Urban","HC","Fire control","Asian or Asian British",0]
["2020/21","Tyne and Wear","E31000043","Metropolitan","Predominantly Urban","HC","Fire control","Black or Black British",0]
["2020/21","Tyne and Wear","E31000043","Metropolitan","Predominantly Urban","HC","Fire control","Chinese or other ethnicity",0]
["2020/21","Tyne and Wear","E31000043","Metropolitan","Predominantly Urban","HC","Fire control","Ethnic origin not stated",0]
["2020/21","Tyne and Wear","E31000043","Metropolitan","Predominantly Urban","HC","Fire control","Mixed",0]
["2020/21","Tyne and Wear","E31000043","Metropolitan","Predominantly Urban","HC","Fire control","White British or Irish",3]
["2020/21","Tyne and Wear","E31000043","Metropolitan","Predominantly Urban","HC","On call firefighters","Asian or Asian British",0]
["2020/21","Tyne and Wear","E31000043","Metropolitan","Predominantly Urban","HC","On call firefighters","Black or Black British",0]
["2020/21","Tyne and Wear","E31000043","Metropolitan","Predominantly Urban","HC","On call firefighters","Chinese or other ethnicity",0]
["2020/21","Tyne and Wear","E31000043","Metropolitan","Predominantly Urban","HC","On call firefighters","Ethnic origin not stated",0]
["2020/21","Tyne and Wear","E31000043","Metropolitan","Predominantly Urban","HC","On call firefighters","Mixed",0]
["2020/21","Tyne and Wear","E31000043","Metropolitan","Predominantly Urban","HC","On call firefighters","White British or Irish",0]
["2020/21","Tyne and Wear","E31000043","Metropolitan","Predominantly Urban","HC","Support staff","Asian or Asian British",1]
["2020/21","Tyne and Wear","E31000043","Metropolitan","Predominantly Urban","HC","Support staff","Black or Black British",0]
["2020/21","Tyne and Wear","E31000043","Metropolitan","Predominantly Urban","HC","Support staff","Chinese or other ethnicity",0]
["2020/21","Tyne and Wear","E31000043","Metropolitan","Predominantly Urban","HC","Support staff","Ethnic origin not stated",0]
["2020/21","Tyne and Wear","E31000043","Metropolitan","Predominantly Urban","HC","Support staff","Mixed",0]
["2020/21","Tyne and Wear","E31000043","Metropolitan","Predominantly Urban","HC","Support staff","White British or Irish",22]
["2020/21","Tyne and Wear","E31000043","Metropolitan","Predominantly Urban","HC","Wholetime firefighters","Asian or Asian British",0]
["2020/21","Tyne and Wear","E31000043","Metropolitan","Predominantly Urban","HC","Wholetime firefighters","Black or Black British",0]
["2020/21","Tyne and Wear","E31000043","Metropolitan","Predominantly Urban","HC","Wholetime firefighters","Chinese or other ethnicity",1]
["2020/21","Tyne and Wear","E31000043","Metropolitan","Predominantly Urban","HC","Wholetime firefighters","Ethnic origin not stated",1]
["2020/21","Tyne and Wear","E31000043","Metropolitan","Predominantly Urban","HC","Wholetime firefighters","Mixed",1]
["2020/21","Tyne and Wear","E31000043","Metropolitan","Predominantly Urban","HC","Wholetime firefighters","White British or Irish",42]
["2020/21","Warwickshire","E31000036","Non-metropolitan","Significantly Rural","HC","Fire control","Asian or Asian British",0]
["2020/21","Warwickshire","E31000036","Non-metropolitan","Significantly Rural","HC","Fire control","Black or Black British",0]
["2020/21","Warwickshire","E31000036","Non-metropolitan","Significantly Rural","HC","Fire control","Chinese or other ethnicity",0]
["2020/21","Warwickshire","E31000036","Non-metropolitan","Significantly Rural","HC","Fire control","Ethnic origin not stated",0]
["2020/21","Warwickshire","E31000036","Non-metropolitan","Significantly Rural","HC","Fire control","Mixed",0]
["2020/21","Warwickshire","E31000036","Non-metropolitan","Significantly Rural","HC","Fire control","White British or Irish",2]
["2020/21","Warwickshire","E31000036","Non-metropolitan","Significantly Rural","HC","On call firefighters","Asian or Asian British",0]
["2020/21","Warwickshire","E31000036","Non-metropolitan","Significantly Rural","HC","On call firefighters","Black or Black British",0]
["2020/21","Warwickshire","E31000036","Non-metropolitan","Significantly Rural","HC","On call firefighters","Chinese or other ethnicity",0]
["2020/21","Warwickshire","E31000036","Non-metropolitan","Significantly Rural","HC","On call firefighters","Ethnic origin not stated",9]
["2020/21","Warwickshire","E31000036","Non-metropolitan","Significantly Rural","HC","On call firefighters","Mixed",0]
["2020/21","Warwickshire","E31000036","Non-metropolitan","Significantly Rural","HC","On call firefighters","White British or Irish",9]
["2020/21","Warwickshire","E31000036","Non-metropolitan","Significantly Rural","HC","Support staff","Asian or Asian British",0]
["2020/21","Warwickshire","E31000036","Non-metropolitan","Significantly Rural","HC","Support staff","Black or Black British",0]
["2020/21","Warwickshire","E31000036","Non-metropolitan","Significantly Rural","HC","Support staff","Chinese or other ethnicity",0]
["2020/21","Warwickshire","E31000036","Non-metropolitan","Significantly Rural","HC","Support staff","Ethnic origin not stated",1]
["2020/21","Warwickshire","E31000036","Non-metropolitan","Significantly Rural","HC","Support staff","Mixed",1]
["2020/21","Warwickshire","E31000036","Non-metropolitan","Significantly Rural","HC","Support staff","White British or Irish",13]
["2020/21","Warwickshire","E31000036","Non-metropolitan","Significantly Rural","HC","Wholetime firefighters","Asian or Asian British",0]
["2020/21","Warwickshire","E31000036","Non-metropolitan","Significantly Rural","HC","Wholetime firefighters","Black or Black British",0]
["2020/21","Warwickshire","E31000036","Non-metropolitan","Significantly Rural","HC","Wholetime firefighters","Chinese or other ethnicity",0]
["2020/21","Warwickshire","E31000036","Non-metropolitan","Significantly Rural","HC","Wholetime firefighters","Ethnic origin not stated",7]
["2020/21","Warwickshire","E31000036","Non-metropolitan","Significantly Rural","HC","Wholetime firefighters","Mixed",0]
["2020/21","Warwickshire","E31000036","Non-metropolitan","Significantly Rural","HC","Wholetime firefighters","White British or Irish",9]
["2020/21","West Midlands","E31000044","Metropolitan","Predominantly Urban","HC","Fire control","Asian or Asian British",0]
["2020/21","West Midlands","E31000044","Metropolitan","Predominantly Urban","HC","Fire control","Black or Black British",0]
["2020/21","West Midlands","E31000044","Metropolitan","Predominantly Urban","HC","Fire control","Chinese or other ethnicity",0]
["2020/21","West Midlands","E31000044","Metropolitan","Predominantly Urban","HC","Fire control","Ethnic origin not stated",5]
["2020/21","West Midlands","E31000044","Metropolitan","Predominantly Urban","HC","Fire control","Mixed",0]
["2020/21","West Midlands","E31000044","Metropolitan","Predominantly Urban","HC","Fire control","White British or Irish",3]
["2020/21","West Midlands","E31000044","Metropolitan","Predominantly Urban","HC","On call firefighters","Asian or Asian British",0]
["2020/21","West Midlands","E31000044","Metropolitan","Predominantly Urban","HC","On call firefighters","Black or Black British",0]
["2020/21","West Midlands","E31000044","Metropolitan","Predominantly Urban","HC","On call firefighters","Chinese or other ethnicity",0]
["2020/21","West Midlands","E31000044","Metropolitan","Predominantly Urban","HC","On call firefighters","Ethnic origin not stated",0]
["2020/21","West Midlands","E31000044","Metropolitan","Predominantly Urban","HC","On call firefighters","Mixed",0]
["2020/21","West Midlands","E31000044","Metropolitan","Predominantly Urban","HC","On call firefighters","White British or Irish",0]
["2020/21","West Midlands","E31000044","Metropolitan","Predominantly Urban","HC","Support staff","Asian or Asian British",8]
["2020/21","West Midlands","E31000044","Metropolitan","Predominantly Urban","HC","Support staff","Black or Black British",1]
["2020/21","West Midlands","E31000044","Metropolitan","Predominantly Urban","HC","Support staff","Chinese or other ethnicity",1]
["2020/21","West Midlands","E31000044","Metropolitan","Predominantly Urban","HC","Support staff","Ethnic origin not stated",7]
["2020/21","West Midlands","E31000044","Metropolitan","Predominantly Urban","HC","Support staff","Mixed",1]
["2020/21","West Midlands","E31000044","Metropolitan","Predominantly Urban","HC","Support staff","White British or Irish",14]
["2020/21","West Midlands","E31000044","Metropolitan","Predominantly Urban","HC","Wholetime firefighters","Asian or Asian British",2]
["2020/21","West Midlands","E31000044","Metropolitan","Predominantly Urban","HC","Wholetime firefighters","Black or Black British",3]
["2020/21","West Midlands","E31000044","Metropolitan","Predominantly Urban","HC","Wholetime firefighters","Chinese or other ethnicity",2]
["2020/21","West Midlands","E31000044","Metropolitan","Predominantly Urban","HC","Wholetime firefighters","Ethnic origin not stated",3]
["2020/21","West Midlands","E31000044","Metropolitan","Predominantly Urban","HC","Wholetime firefighters","Mixed",17]
["2020/21","West Midlands","E31000044","Metropolitan","Predominantly Urban","HC","Wholetime firefighters","White British or Irish",41]
["2020/21","West Sussex","E31000037","Non-metropolitan","Significantly Rural","HC","Fire control","Asian or Asian British",0]
["2020/21","West Sussex","E31000037","Non-metropolitan","Significantly Rural","HC","Fire control","Black or Black British",0]
["2020/21","West Sussex","E31000037","Non-metropolitan","Significantly Rural","HC","Fire control","Chinese or other ethnicity",0]
["2020/21","West Sussex","E31000037","Non-metropolitan","Significantly Rural","HC","Fire control","Ethnic origin not stated",0]
["2020/21","West Sussex","E31000037","Non-metropolitan","Significantly Rural","HC","Fire control","Mixed",0]
["2020/21","West Sussex","E31000037","Non-metropolitan","Significantly Rural","HC","Fire control","White British or Irish",0]
["2020/21","West Sussex","E31000037","Non-metropolitan","Significantly Rural","HC","On call firefighters","Asian or Asian British",0]
["2020/21","West Sussex","E31000037","Non-metropolitan","Significantly Rural","HC","On call firefighters","Black or Black British",1]
["2020/21","West Sussex","E31000037","Non-metropolitan","Significantly Rural","HC","On call firefighters","Chinese or other ethnicity",0]
["2020/21","West Sussex","E31000037","Non-metropolitan","Significantly Rural","HC","On call firefighters","Ethnic origin not stated",6]
["2020/21","West Sussex","E31000037","Non-metropolitan","Significantly Rural","HC","On call firefighters","Mixed",1]
["2020/21","West Sussex","E31000037","Non-metropolitan","Significantly Rural","HC","On call firefighters","White British or Irish",19]
["2020/21","West Sussex","E31000037","Non-metropolitan","Significantly Rural","HC","Support staff","Asian or Asian British",0]
["2020/21","West Sussex","E31000037","Non-metropolitan","Significantly Rural","HC","Support staff","Black or Black British",0]
["2020/21","West Sussex","E31000037","Non-metropolitan","Significantly Rural","HC","Support staff","Chinese or other ethnicity",1]
["2020/21","West Sussex","E31000037","Non-metropolitan","Significantly Rural","HC","Support staff","Ethnic origin not stated",4]
["2020/21","West Sussex","E31000037","Non-metropolitan","Significantly Rural","HC","Support staff","Mixed",0]
["2020/21","West Sussex","E31000037","Non-metropolitan","Significantly Rural","HC","Support staff","White British or Irish",22]
["2020/21","West Sussex","E31000037","Non-metropolitan","Significantly Rural","HC","Wholetime firefighters","Asian or Asian British",0]
["2020/21","West Sussex","E31000037","Non-metropolitan","Significantly Rural","HC","Wholetime firefighters","Black or Black British",0]
["2020/21","West Sussex","E31000037","Non-metropolitan","Significantly Rural","HC","Wholetime firefighters","Chinese or other ethnicity",0]
["2020/21","West Sussex","E31000037","Non-metropolitan","Significantly Rural","HC","Wholetime firefighters","Ethnic origin not stated",5]
["2020/21","West Sussex","E31000037","Non-metropolitan","Significantly Rural","HC","Wholetime firefighters","Mixed",0]
["2020/21","West Sussex","E31000037","Non-metropolitan","Significantly Rural","HC","Wholetime firefighters","White British or Irish",17]
["2020/21","West Yorkshire","E31000045","Metropolitan","Predominantly Urban","HC","Fire control","Asian or Asian British",0]
["2020/21","West Yorkshire","E31000045","Metropolitan","Predominantly Urban","HC","Fire control","Black or Black British",0]
["2020/21","West Yorkshire","E31000045","Metropolitan","Predominantly Urban","HC","Fire control","Chinese or other ethnicity",0]
["2020/21","West Yorkshire","E31000045","Metropolitan","Predominantly Urban","HC","Fire control","Ethnic origin not stated",1]
["2020/21","West Yorkshire","E31000045","Metropolitan","Predominantly Urban","HC","Fire control","Mixed",0]
["2020/21","West Yorkshire","E31000045","Metropolitan","Predominantly Urban","HC","Fire control","White British or Irish",4]
["2020/21","West Yorkshire","E31000045","Metropolitan","Predominantly Urban","HC","On call firefighters","Asian or Asian British",0]
["2020/21","West Yorkshire","E31000045","Metropolitan","Predominantly Urban","HC","On call firefighters","Black or Black British",0]
["2020/21","West Yorkshire","E31000045","Metropolitan","Predominantly Urban","HC","On call firefighters","Chinese or other ethnicity",1]
["2020/21","West Yorkshire","E31000045","Metropolitan","Predominantly Urban","HC","On call firefighters","Ethnic origin not stated",0]
["2020/21","West Yorkshire","E31000045","Metropolitan","Predominantly Urban","HC","On call firefighters","Mixed",0]
["2020/21","West Yorkshire","E31000045","Metropolitan","Predominantly Urban","HC","On call firefighters","White British or Irish",22]
["2020/21","West Yorkshire","E31000045","Metropolitan","Predominantly Urban","HC","Support staff","Asian or Asian British",0]
["2020/21","West Yorkshire","E31000045","Metropolitan","Predominantly Urban","HC","Support staff","Black or Black British",0]
["2020/21","West Yorkshire","E31000045","Metropolitan","Predominantly Urban","HC","Support staff","Chinese or other ethnicity",2]
["2020/21","West Yorkshire","E31000045","Metropolitan","Predominantly Urban","HC","Support staff","Ethnic origin not stated",15]
["2020/21","West Yorkshire","E31000045","Metropolitan","Predominantly Urban","HC","Support staff","Mixed",0]
["2020/21","West Yorkshire","E31000045","Metropolitan","Predominantly Urban","HC","Support staff","White British or Irish",8]
["2020/21","West Yorkshire","E31000045","Metropolitan","Predominantly Urban","HC","Wholetime firefighters","Asian or Asian British",0]
["2020/21","West Yorkshire","E31000045","Metropolitan","Predominantly Urban","HC","Wholetime firefighters","Black or Black British",0]
["2020/21","West Yorkshire","E31000045","Metropolitan","Predominantly Urban","HC","Wholetime firefighters","Chinese or other ethnicity",1]
["2020/21","West Yorkshire","E31000045","Metropolitan","Predominantly Urban","HC","Wholetime firefighters","Ethnic origin not stated",11]
["2020/21","West Yorkshire","E31000045","Metropolitan","Predominantly Urban","HC","Wholetime firefighters","Mixed",0]
["2020/21","West Yorkshire","E31000045","Metropolitan","Predominantly Urban","HC","Wholetime firefighters","White British or Irish",15]
["2021/22","Avon","E31000001","Non-metropolitan","Predominantly Urban","HC","Fire control","Asian or Asian British",0]
["2021/22","Avon","E31000001","Non-metropolitan","Predominantly Urban","HC","Fire control","Black or Black British",0]
["2021/22","Avon","E31000001","Non-metropolitan","Predominantly Urban","HC","Fire control","Chinese or other ethnicity",0]
["2021/22","Avon","E31000001","Non-metropolitan","Predominantly Urban","HC","Fire control","Ethnic origin not stated",0]
["2021/22","Avon","E31000001","Non-metropolitan","Predominantly Urban","HC","Fire control","Mixed",0]
["2021/22","Avon","E31000001","Non-metropolitan","Predominantly Urban","HC","Fire control","White British or Irish",6]
["2021/22","Avon","E31000001","Non-metropolitan","Predominantly Urban","HC","On call firefighters","Asian or Asian British",0]
["2021/22","Avon","E31000001","Non-metropolitan","Predominantly Urban","HC","On call firefighters","Black or Black British",0]
["2021/22","Avon","E31000001","Non-metropolitan","Predominantly Urban","HC","On call firefighters","Chinese or other ethnicity",0]
["2021/22","Avon","E31000001","Non-metropolitan","Predominantly Urban","HC","On call firefighters","Ethnic origin not stated",4]
["2021/22","Avon","E31000001","Non-metropolitan","Predominantly Urban","HC","On call firefighters","Mixed",0]
["2021/22","Avon","E31000001","Non-metropolitan","Predominantly Urban","HC","On call firefighters","White British or Irish",11]
["2021/22","Avon","E31000001","Non-metropolitan","Predominantly Urban","HC","Support staff","Asian or Asian British",0]
["2021/22","Avon","E31000001","Non-metropolitan","Predominantly Urban","HC","Support staff","Black or Black British",1]
["2021/22","Avon","E31000001","Non-metropolitan","Predominantly Urban","HC","Support staff","Chinese or other ethnicity",1]
["2021/22","Avon","E31000001","Non-metropolitan","Predominantly Urban","HC","Support staff","Ethnic origin not stated",2]
["2021/22","Avon","E31000001","Non-metropolitan","Predominantly Urban","HC","Support staff","Mixed",0]
["2021/22","Avon","E31000001","Non-metropolitan","Predominantly Urban","HC","Support staff","White British or Irish",19]
["2021/22","Avon","E31000001","Non-metropolitan","Predominantly Urban","HC","Wholetime firefighters","Asian or Asian British",0]
["2021/22","Avon","E31000001","Non-metropolitan","Predominantly Urban","HC","Wholetime firefighters","Black or Black British",2]
["2021/22","Avon","E31000001","Non-metropolitan","Predominantly Urban","HC","Wholetime firefighters","Chinese or other ethnicity",4]
["2021/22","Avon","E31000001","Non-metropolitan","Predominantly Urban","HC","Wholetime firefighters","Ethnic origin not stated",1]
["2021/22","Avon","E31000001","Non-metropolitan","Predominantly Urban","HC","Wholetime firefighters","Mixed",1]
["2021/22","Avon","E31000001","Non-metropolitan","Predominantly Urban","HC","Wholetime firefighters","White British or Irish",48]
["2021/22","Bedfordshire","E31000002","Non-metropolitan","Significantly Rural","HC","Fire control","Asian or Asian British",0]
["2021/22","Bedfordshire","E31000002","Non-metropolitan","Significantly Rural","HC","Fire control","Black or Black British",0]
["2021/22","Bedfordshire","E31000002","Non-metropolitan","Significantly Rural","HC","Fire control","Chinese or other ethnicity",0]
["2021/22","Bedfordshire","E31000002","Non-metropolitan","Significantly Rural","HC","Fire control","Ethnic origin not stated",0]
["2021/22","Bedfordshire","E31000002","Non-metropolitan","Significantly Rural","HC","Fire control","Mixed",0]
["2021/22","Bedfordshire","E31000002","Non-metropolitan","Significantly Rural","HC","Fire control","White British or Irish",2]
["2021/22","Bedfordshire","E31000002","Non-metropolitan","Significantly Rural","HC","On call firefighters","Asian or Asian British",0]
["2021/22","Bedfordshire","E31000002","Non-metropolitan","Significantly Rural","HC","On call firefighters","Black or Black British",2]
["2021/22","Bedfordshire","E31000002","Non-metropolitan","Significantly Rural","HC","On call firefighters","Chinese or other ethnicity",0]
["2021/22","Bedfordshire","E31000002","Non-metropolitan","Significantly Rural","HC","On call firefighters","Ethnic origin not stated",2]
["2021/22","Bedfordshire","E31000002","Non-metropolitan","Significantly Rural","HC","On call firefighters","Mixed",1]
["2021/22","Bedfordshire","E31000002","Non-metropolitan","Significantly Rural","HC","On call firefighters","White British or Irish",30]
["2021/22","Bedfordshire","E31000002","Non-metropolitan","Significantly Rural","HC","Support staff","Asian or Asian British",4]
["2021/22","Bedfordshire","E31000002","Non-metropolitan","Significantly Rural","HC","Support staff","Black or Black British",0]
["2021/22","Bedfordshire","E31000002","Non-metropolitan","Significantly Rural","HC","Support staff","Chinese or other ethnicity",1]
["2021/22","Bedfordshire","E31000002","Non-metropolitan","Significantly Rural","HC","Support staff","Ethnic origin not stated",0]
["2021/22","Bedfordshire","E31000002","Non-metropolitan","Significantly Rural","HC","Support staff","Mixed",0]
["2021/22","Bedfordshire","E31000002","Non-metropolitan","Significantly Rural","HC","Support staff","White British or Irish",17]
["2021/22","Bedfordshire","E31000002","Non-metropolitan","Significantly Rural","HC","Wholetime firefighters","Asian or Asian British",0]
["2021/22","Bedfordshire","E31000002","Non-metropolitan","Significantly Rural","HC","Wholetime firefighters","Black or Black British",0]
["2021/22","Bedfordshire","E31000002","Non-metropolitan","Significantly Rural","HC","Wholetime firefighters","Chinese or other ethnicity",1]
["2021/22","Bedfordshire","E31000002","Non-metropolitan","Significantly Rural","HC","Wholetime firefighters","Ethnic origin not stated",0]
["2021/22","Bedfordshire","E31000002","Non-metropolitan","Significantly Rural","HC","Wholetime firefighters","Mixed",0]
["2021/22","Bedfordshire","E31000002","Non-metropolitan","Significantly Rural","HC","Wholetime firefighters","White British or Irish",15]
["2021/22","Berkshire","E31000003","Non-metropolitan","Predominantly Urban","HC","Fire control","Asian or Asian British",0]
["2021/22","Berkshire","E31000003","Non-metropolitan","Predominantly Urban","HC","Fire control","Black or Black British",0]
["2021/22","Berkshire","E31000003","Non-metropolitan","Predominantly Urban","HC","Fire control","Chinese or other ethnicity",0]
["2021/22","Berkshire","E31000003","Non-metropolitan","Predominantly Urban","HC","Fire control","Ethnic origin not stated",0]
["2021/22","Berkshire","E31000003","Non-metropolitan","Predominantly Urban","HC","Fire control","Mixed",0]
["2021/22","Berkshire","E31000003","Non-metropolitan","Predominantly Urban","HC","Fire control","White British or Irish",6]
["2021/22","Berkshire","E31000003","Non-metropolitan","Predominantly Urban","HC","On call firefighters","Asian or Asian British",0]
["2021/22","Berkshire","E31000003","Non-metropolitan","Predominantly Urban","HC","On call firefighters","Black or Black British",0]
["2021/22","Berkshire","E31000003","Non-metropolitan","Predominantly Urban","HC","On call firefighters","Chinese or other ethnicity",1]
["2021/22","Berkshire","E31000003","Non-metropolitan","Predominantly Urban","HC","On call firefighters","Ethnic origin not stated",0]
["2021/22","Berkshire","E31000003","Non-metropolitan","Predominantly Urban","HC","On call firefighters","Mixed",0]
["2021/22","Berkshire","E31000003","Non-metropolitan","Predominantly Urban","HC","On call firefighters","White British or Irish",5]
["2021/22","Berkshire","E31000003","Non-metropolitan","Predominantly Urban","HC","Support staff","Asian or Asian British",0]
["2021/22","Berkshire","E31000003","Non-metropolitan","Predominantly Urban","HC","Support staff","Black or Black British",0]
["2021/22","Berkshire","E31000003","Non-metropolitan","Predominantly Urban","HC","Support staff","Chinese or other ethnicity",0]
["2021/22","Berkshire","E31000003","Non-metropolitan","Predominantly Urban","HC","Support staff","Ethnic origin not stated",0]
["2021/22","Berkshire","E31000003","Non-metropolitan","Predominantly Urban","HC","Support staff","Mixed",0]
["2021/22","Berkshire","E31000003","Non-metropolitan","Predominantly Urban","HC","Support staff","White British or Irish",16]
["2021/22","Berkshire","E31000003","Non-metropolitan","Predominantly Urban","HC","Wholetime firefighters","Asian or Asian British",0]
["2021/22","Berkshire","E31000003","Non-metropolitan","Predominantly Urban","HC","Wholetime firefighters","Black or Black British",0]
["2021/22","Berkshire","E31000003","Non-metropolitan","Predominantly Urban","HC","Wholetime firefighters","Chinese or other ethnicity",2]
["2021/22","Berkshire","E31000003","Non-metropolitan","Predominantly Urban","HC","Wholetime firefighters","Ethnic origin not stated",0]
["2021/22","Berkshire","E31000003","Non-metropolitan","Predominantly Urban","HC","Wholetime firefighters","Mixed",0]
["2021/22","Berkshire","E31000003","Non-metropolitan","Predominantly Urban","HC","Wholetime firefighters","White British or Irish",34]
["2021/22","Buckinghamshire","E31000004","Non-metropolitan","Significantly Rural","HC","Fire control","Asian or Asian British",0]
["2021/22","Buckinghamshire","E31000004","Non-metropolitan","Significantly Rural","HC","Fire control","Black or Black British",0]
["2021/22","Buckinghamshire","E31000004","Non-metropolitan","Significantly Rural","HC","Fire control","Chinese or other ethnicity",0]
["2021/22","Buckinghamshire","E31000004","Non-metropolitan","Significantly Rural","HC","Fire control","Ethnic origin not stated",0]
["2021/22","Buckinghamshire","E31000004","Non-metropolitan","Significantly Rural","HC","Fire control","Mixed",0]
["2021/22","Buckinghamshire","E31000004","Non-metropolitan","Significantly Rural","HC","Fire control","White British or Irish",0]
["2021/22","Buckinghamshire","E31000004","Non-metropolitan","Significantly Rural","HC","On call firefighters","Asian or Asian British",1]
["2021/22","Buckinghamshire","E31000004","Non-metropolitan","Significantly Rural","HC","On call firefighters","Black or Black British",0]
["2021/22","Buckinghamshire","E31000004","Non-metropolitan","Significantly Rural","HC","On call firefighters","Chinese or other ethnicity",3]
["2021/22","Buckinghamshire","E31000004","Non-metropolitan","Significantly Rural","HC","On call firefighters","Ethnic origin not stated",0]
["2021/22","Buckinghamshire","E31000004","Non-metropolitan","Significantly Rural","HC","On call firefighters","Mixed",1]
["2021/22","Buckinghamshire","E31000004","Non-metropolitan","Significantly Rural","HC","On call firefighters","White British or Irish",13]
["2021/22","Buckinghamshire","E31000004","Non-metropolitan","Significantly Rural","HC","Support staff","Asian or Asian British",0]
["2021/22","Buckinghamshire","E31000004","Non-metropolitan","Significantly Rural","HC","Support staff","Black or Black British",0]
["2021/22","Buckinghamshire","E31000004","Non-metropolitan","Significantly Rural","HC","Support staff","Chinese or other ethnicity",0]
["2021/22","Buckinghamshire","E31000004","Non-metropolitan","Significantly Rural","HC","Support staff","Ethnic origin not stated",0]
["2021/22","Buckinghamshire","E31000004","Non-metropolitan","Significantly Rural","HC","Support staff","Mixed",2]
["2021/22","Buckinghamshire","E31000004","Non-metropolitan","Significantly Rural","HC","Support staff","White British or Irish",11]
["2021/22","Buckinghamshire","E31000004","Non-metropolitan","Significantly Rural","HC","Wholetime firefighters","Asian or Asian British",0]
["2021/22","Buckinghamshire","E31000004","Non-metropolitan","Significantly Rural","HC","Wholetime firefighters","Black or Black British",0]
["2021/22","Buckinghamshire","E31000004","Non-metropolitan","Significantly Rural","HC","Wholetime firefighters","Chinese or other ethnicity",1]
["2021/22","Buckinghamshire","E31000004","Non-metropolitan","Significantly Rural","HC","Wholetime firefighters","Ethnic origin not stated",0]
["2021/22","Buckinghamshire","E31000004","Non-metropolitan","Significantly Rural","HC","Wholetime firefighters","Mixed",0]
["2021/22","Buckinghamshire","E31000004","Non-metropolitan","Significantly Rural","HC","Wholetime firefighters","White British or Irish",19]
["2021/22","Cambridgeshire","E31000005","Non-metropolitan","Predominantly Rural","HC","Fire control","Asian or Asian British",0]
["2021/22","Cambridgeshire","E31000005","Non-metropolitan","Predominantly Rural","HC","Fire control","Black or Black British",0]
["2021/22","Cambridgeshire","E31000005","Non-metropolitan","Predominantly Rural","HC","Fire control","Chinese or other ethnicity",0]
["2021/22","Cambridgeshire","E31000005","Non-metropolitan","Predominantly Rural","HC","Fire control","Ethnic origin not stated",0]
["2021/22","Cambridgeshire","E31000005","Non-metropolitan","Predominantly Rural","HC","Fire control","Mixed",0]
["2021/22","Cambridgeshire","E31000005","Non-metropolitan","Predominantly Rural","HC","Fire control","White British or Irish",1]
["2021/22","Cambridgeshire","E31000005","Non-metropolitan","Predominantly Rural","HC","On call firefighters","Asian or Asian British",0]
["2021/22","Cambridgeshire","E31000005","Non-metropolitan","Predominantly Rural","HC","On call firefighters","Black or Black British",0]
["2021/22","Cambridgeshire","E31000005","Non-metropolitan","Predominantly Rural","HC","On call firefighters","Chinese or other ethnicity",1]
["2021/22","Cambridgeshire","E31000005","Non-metropolitan","Predominantly Rural","HC","On call firefighters","Ethnic origin not stated",1]
["2021/22","Cambridgeshire","E31000005","Non-metropolitan","Predominantly Rural","HC","On call firefighters","Mixed",0]
["2021/22","Cambridgeshire","E31000005","Non-metropolitan","Predominantly Rural","HC","On call firefighters","White British or Irish",32]
["2021/22","Cambridgeshire","E31000005","Non-metropolitan","Predominantly Rural","HC","Support staff","Asian or Asian British",0]
["2021/22","Cambridgeshire","E31000005","Non-metropolitan","Predominantly Rural","HC","Support staff","Black or Black British",1]
["2021/22","Cambridgeshire","E31000005","Non-metropolitan","Predominantly Rural","HC","Support staff","Chinese or other ethnicity",0]
["2021/22","Cambridgeshire","E31000005","Non-metropolitan","Predominantly Rural","HC","Support staff","Ethnic origin not stated",5]
["2021/22","Cambridgeshire","E31000005","Non-metropolitan","Predominantly Rural","HC","Support staff","Mixed",0]
["2021/22","Cambridgeshire","E31000005","Non-metropolitan","Predominantly Rural","HC","Support staff","White British or Irish",12]
["2021/22","Cambridgeshire","E31000005","Non-metropolitan","Predominantly Rural","HC","Wholetime firefighters","Asian or Asian British",0]
["2021/22","Cambridgeshire","E31000005","Non-metropolitan","Predominantly Rural","HC","Wholetime firefighters","Black or Black British",0]
["2021/22","Cambridgeshire","E31000005","Non-metropolitan","Predominantly Rural","HC","Wholetime firefighters","Chinese or other ethnicity",0]
["2021/22","Cambridgeshire","E31000005","Non-metropolitan","Predominantly Rural","HC","Wholetime firefighters","Ethnic origin not stated",3]
["2021/22","Cambridgeshire","E31000005","Non-metropolitan","Predominantly Rural","HC","Wholetime firefighters","Mixed",0]
["2021/22","Cambridgeshire","E31000005","Non-metropolitan","Predominantly Rural","HC","Wholetime firefighters","White British or Irish",2]
["2021/22","Cheshire","E31000006","Non-metropolitan","Significantly Rural","HC","Fire control","Asian or Asian British",0]
["2021/22","Cheshire","E31000006","Non-metropolitan","Significantly Rural","HC","Fire control","Black or Black British",0]
["2021/22","Cheshire","E31000006","Non-metropolitan","Significantly Rural","HC","Fire control","Chinese or other ethnicity",0]
["2021/22","Cheshire","E31000006","Non-metropolitan","Significantly Rural","HC","Fire control","Ethnic origin not stated",0]
["2021/22","Cheshire","E31000006","Non-metropolitan","Significantly Rural","HC","Fire control","Mixed",0]
["2021/22","Cheshire","E31000006","Non-metropolitan","Significantly Rural","HC","Fire control","White British or Irish",0]
["2021/22","Cheshire","E31000006","Non-metropolitan","Significantly Rural","HC","On call firefighters","Asian or Asian British",0]
["2021/22","Cheshire","E31000006","Non-metropolitan","Significantly Rural","HC","On call firefighters","Black or Black British",0]
["2021/22","Cheshire","E31000006","Non-metropolitan","Significantly Rural","HC","On call firefighters","Chinese or other ethnicity",2]
["2021/22","Cheshire","E31000006","Non-metropolitan","Significantly Rural","HC","On call firefighters","Ethnic origin not stated",2]
["2021/22","Cheshire","E31000006","Non-metropolitan","Significantly Rural","HC","On call firefighters","Mixed",1]
["2021/22","Cheshire","E31000006","Non-metropolitan","Significantly Rural","HC","On call firefighters","White British or Irish",15]
["2021/22","Cheshire","E31000006","Non-metropolitan","Significantly Rural","HC","Support staff","Asian or Asian British",0]
["2021/22","Cheshire","E31000006","Non-metropolitan","Significantly Rural","HC","Support staff","Black or Black British",0]
["2021/22","Cheshire","E31000006","Non-metropolitan","Significantly Rural","HC","Support staff","Chinese or other ethnicity",1]
["2021/22","Cheshire","E31000006","Non-metropolitan","Significantly Rural","HC","Support staff","Ethnic origin not stated",8]
["2021/22","Cheshire","E31000006","Non-metropolitan","Significantly Rural","HC","Support staff","Mixed",0]
["2021/22","Cheshire","E31000006","Non-metropolitan","Significantly Rural","HC","Support staff","White British or Irish",21]
["2021/22","Cheshire","E31000006","Non-metropolitan","Significantly Rural","HC","Wholetime firefighters","Asian or Asian British",0]
["2021/22","Cheshire","E31000006","Non-metropolitan","Significantly Rural","HC","Wholetime firefighters","Black or Black British",0]
["2021/22","Cheshire","E31000006","Non-metropolitan","Significantly Rural","HC","Wholetime firefighters","Chinese or other ethnicity",0]
["2021/22","Cheshire","E31000006","Non-metropolitan","Significantly Rural","HC","Wholetime firefighters","Ethnic origin not stated",0]
["2021/22","Cheshire","E31000006","Non-metropolitan","Significantly Rural","HC","Wholetime firefighters","Mixed",0]
["2021/22","Cheshire","E31000006","Non-metropolitan","Significantly Rural","HC","Wholetime firefighters","White British or Irish",2]
["2021/22","Cleveland","E31000007","Non-metropolitan","Predominantly Urban","HC","Fire control","Asian or Asian British",0]
["2021/22","Cleveland","E31000007","Non-metropolitan","Predominantly Urban","HC","Fire control","Black or Black British",0]
["2021/22","Cleveland","E31000007","Non-metropolitan","Predominantly Urban","HC","Fire control","Chinese or other ethnicity",0]
["2021/22","Cleveland","E31000007","Non-metropolitan","Predominantly Urban","HC","Fire control","Ethnic origin not stated",0]
["2021/22","Cleveland","E31000007","Non-metropolitan","Predominantly Urban","HC","Fire control","Mixed",0]
["2021/22","Cleveland","E31000007","Non-metropolitan","Predominantly Urban","HC","Fire control","White British or Irish",0]
["2021/22","Cleveland","E31000007","Non-metropolitan","Predominantly Urban","HC","On call firefighters","Asian or Asian British",0]
["2021/22","Cleveland","E31000007","Non-metropolitan","Predominantly Urban","HC","On call firefighters","Black or Black British",0]
["2021/22","Cleveland","E31000007","Non-metropolitan","Predominantly Urban","HC","On call firefighters","Chinese or other ethnicity",1]
["2021/22","Cleveland","E31000007","Non-metropolitan","Predominantly Urban","HC","On call firefighters","Ethnic origin not stated",1]
["2021/22","Cleveland","E31000007","Non-metropolitan","Predominantly Urban","HC","On call firefighters","Mixed",0]
["2021/22","Cleveland","E31000007","Non-metropolitan","Predominantly Urban","HC","On call firefighters","White British or Irish",6]
["2021/22","Cleveland","E31000007","Non-metropolitan","Predominantly Urban","HC","Support staff","Asian or Asian British",0]
["2021/22","Cleveland","E31000007","Non-metropolitan","Predominantly Urban","HC","Support staff","Black or Black British",1]
["2021/22","Cleveland","E31000007","Non-metropolitan","Predominantly Urban","HC","Support staff","Chinese or other ethnicity",0]
["2021/22","Cleveland","E31000007","Non-metropolitan","Predominantly Urban","HC","Support staff","Ethnic origin not stated",4]
["2021/22","Cleveland","E31000007","Non-metropolitan","Predominantly Urban","HC","Support staff","Mixed",0]
["2021/22","Cleveland","E31000007","Non-metropolitan","Predominantly Urban","HC","Support staff","White British or Irish",14]
["2021/22","Cleveland","E31000007","Non-metropolitan","Predominantly Urban","HC","Wholetime firefighters","Asian or Asian British",0]
["2021/22","Cleveland","E31000007","Non-metropolitan","Predominantly Urban","HC","Wholetime firefighters","Black or Black British",0]
["2021/22","Cleveland","E31000007","Non-metropolitan","Predominantly Urban","HC","Wholetime firefighters","Chinese or other ethnicity",2]
["2021/22","Cleveland","E31000007","Non-metropolitan","Predominantly Urban","HC","Wholetime firefighters","Ethnic origin not stated",0]
["2021/22","Cleveland","E31000007","Non-metropolitan","Predominantly Urban","HC","Wholetime firefighters","Mixed",1]
["2021/22","Cleveland","E31000007","Non-metropolitan","Predominantly Urban","HC","Wholetime firefighters","White British or Irish",25]
["2021/22","Cornwall","E31000008","Non-metropolitan","Predominantly Rural","HC","Fire control","Asian or Asian British",0]
["2021/22","Cornwall","E31000008","Non-metropolitan","Predominantly Rural","HC","Fire control","Black or Black British",0]
["2021/22","Cornwall","E31000008","Non-metropolitan","Predominantly Rural","HC","Fire control","Chinese or other ethnicity",0]
["2021/22","Cornwall","E31000008","Non-metropolitan","Predominantly Rural","HC","Fire control","Ethnic origin not stated",0]
["2021/22","Cornwall","E31000008","Non-metropolitan","Predominantly Rural","HC","Fire control","Mixed",0]
["2021/22","Cornwall","E31000008","Non-metropolitan","Predominantly Rural","HC","Fire control","White British or Irish",1]
["2021/22","Cornwall","E31000008","Non-metropolitan","Predominantly Rural","HC","On call firefighters","Asian or Asian British",0]
["2021/22","Cornwall","E31000008","Non-metropolitan","Predominantly Rural","HC","On call firefighters","Black or Black British",0]
["2021/22","Cornwall","E31000008","Non-metropolitan","Predominantly Rural","HC","On call firefighters","Chinese or other ethnicity",0]
["2021/22","Cornwall","E31000008","Non-metropolitan","Predominantly Rural","HC","On call firefighters","Ethnic origin not stated",32]
["2021/22","Cornwall","E31000008","Non-metropolitan","Predominantly Rural","HC","On call firefighters","Mixed",0]
["2021/22","Cornwall","E31000008","Non-metropolitan","Predominantly Rural","HC","On call firefighters","White British or Irish",1]
["2021/22","Cornwall","E31000008","Non-metropolitan","Predominantly Rural","HC","Support staff","Asian or Asian British",0]
["2021/22","Cornwall","E31000008","Non-metropolitan","Predominantly Rural","HC","Support staff","Black or Black British",0]
["2021/22","Cornwall","E31000008","Non-metropolitan","Predominantly Rural","HC","Support staff","Chinese or other ethnicity",0]
["2021/22","Cornwall","E31000008","Non-metropolitan","Predominantly Rural","HC","Support staff","Ethnic origin not stated",3]
["2021/22","Cornwall","E31000008","Non-metropolitan","Predominantly Rural","HC","Support staff","Mixed",0]
["2021/22","Cornwall","E31000008","Non-metropolitan","Predominantly Rural","HC","Support staff","White British or Irish",8]
["2021/22","Cornwall","E31000008","Non-metropolitan","Predominantly Rural","HC","Wholetime firefighters","Asian or Asian British",0]
["2021/22","Cornwall","E31000008","Non-metropolitan","Predominantly Rural","HC","Wholetime firefighters","Black or Black British",0]
["2021/22","Cornwall","E31000008","Non-metropolitan","Predominantly Rural","HC","Wholetime firefighters","Chinese or other ethnicity",0]
["2021/22","Cornwall","E31000008","Non-metropolitan","Predominantly Rural","HC","Wholetime firefighters","Ethnic origin not stated",3]
["2021/22","Cornwall","E31000008","Non-metropolitan","Predominantly Rural","HC","Wholetime firefighters","Mixed",0]
["2021/22","Cornwall","E31000008","Non-metropolitan","Predominantly Rural","HC","Wholetime firefighters","White British or Irish",1]
["2021/22","Cumbria","E31000009","Non-metropolitan","Predominantly Rural","HC","Fire control","Asian or Asian British",0]
["2021/22","Cumbria","E31000009","Non-metropolitan","Predominantly Rural","HC","Fire control","Black or Black British",0]
["2021/22","Cumbria","E31000009","Non-metropolitan","Predominantly Rural","HC","Fire control","Chinese or other ethnicity",0]
["2021/22","Cumbria","E31000009","Non-metropolitan","Predominantly Rural","HC","Fire control","Ethnic origin not stated",0]
["2021/22","Cumbria","E31000009","Non-metropolitan","Predominantly Rural","HC","Fire control","Mixed",0]
["2021/22","Cumbria","E31000009","Non-metropolitan","Predominantly Rural","HC","Fire control","White British or Irish",0]
["2021/22","Cumbria","E31000009","Non-metropolitan","Predominantly Rural","HC","On call firefighters","Asian or Asian British",0]
["2021/22","Cumbria","E31000009","Non-metropolitan","Predominantly Rural","HC","On call firefighters","Black or Black British",0]
["2021/22","Cumbria","E31000009","Non-metropolitan","Predominantly Rural","HC","On call firefighters","Chinese or other ethnicity",0]
["2021/22","Cumbria","E31000009","Non-metropolitan","Predominantly Rural","HC","On call firefighters","Ethnic origin not stated",26]
["2021/22","Cumbria","E31000009","Non-metropolitan","Predominantly Rural","HC","On call firefighters","Mixed",0]
["2021/22","Cumbria","E31000009","Non-metropolitan","Predominantly Rural","HC","On call firefighters","White British or Irish",11]
["2021/22","Cumbria","E31000009","Non-metropolitan","Predominantly Rural","HC","Support staff","Asian or Asian British",0]
["2021/22","Cumbria","E31000009","Non-metropolitan","Predominantly Rural","HC","Support staff","Black or Black British",0]
["2021/22","Cumbria","E31000009","Non-metropolitan","Predominantly Rural","HC","Support staff","Chinese or other ethnicity",0]
["2021/22","Cumbria","E31000009","Non-metropolitan","Predominantly Rural","HC","Support staff","Ethnic origin not stated",0]
["2021/22","Cumbria","E31000009","Non-metropolitan","Predominantly Rural","HC","Support staff","Mixed",0]
["2021/22","Cumbria","E31000009","Non-metropolitan","Predominantly Rural","HC","Support staff","White British or Irish",6]
["2021/22","Cumbria","E31000009","Non-metropolitan","Predominantly Rural","HC","Wholetime firefighters","Asian or Asian British",3]
["2021/22","Cumbria","E31000009","Non-metropolitan","Predominantly Rural","HC","Wholetime firefighters","Black or Black British",0]
["2021/22","Cumbria","E31000009","Non-metropolitan","Predominantly Rural","HC","Wholetime firefighters","Chinese or other ethnicity",1]
["2021/22","Cumbria","E31000009","Non-metropolitan","Predominantly Rural","HC","Wholetime firefighters","Ethnic origin not stated",1]
["2021/22","Cumbria","E31000009","Non-metropolitan","Predominantly Rural","HC","Wholetime firefighters","Mixed",0]
["2021/22","Cumbria","E31000009","Non-metropolitan","Predominantly Rural","HC","Wholetime firefighters","White British or Irish",7]
["2021/22","Derbyshire","E31000010","Non-metropolitan","Significantly Rural","HC","Fire control","Asian or Asian British",0]
["2021/22","Derbyshire","E31000010","Non-metropolitan","Significantly Rural","HC","Fire control","Black or Black British",0]
["2021/22","Derbyshire","E31000010","Non-metropolitan","Significantly Rural","HC","Fire control","Chinese or other ethnicity",0]
["2021/22","Derbyshire","E31000010","Non-metropolitan","Significantly Rural","HC","Fire control","Ethnic origin not stated",3]
["2021/22","Derbyshire","E31000010","Non-metropolitan","Significantly Rural","HC","Fire control","Mixed",0]
["2021/22","Derbyshire","E31000010","Non-metropolitan","Significantly Rural","HC","Fire control","White British or Irish",4]
["2021/22","Derbyshire","E31000010","Non-metropolitan","Significantly Rural","HC","On call firefighters","Asian or Asian British",0]
["2021/22","Derbyshire","E31000010","Non-metropolitan","Significantly Rural","HC","On call firefighters","Black or Black British",0]
["2021/22","Derbyshire","E31000010","Non-metropolitan","Significantly Rural","HC","On call firefighters","Chinese or other ethnicity",0]
["2021/22","Derbyshire","E31000010","Non-metropolitan","Significantly Rural","HC","On call firefighters","Ethnic origin not stated",0]
["2021/22","Derbyshire","E31000010","Non-metropolitan","Significantly Rural","HC","On call firefighters","Mixed",0]
["2021/22","Derbyshire","E31000010","Non-metropolitan","Significantly Rural","HC","On call firefighters","White British or Irish",28]
["2021/22","Derbyshire","E31000010","Non-metropolitan","Significantly Rural","HC","Support staff","Asian or Asian British",0]
["2021/22","Derbyshire","E31000010","Non-metropolitan","Significantly Rural","HC","Support staff","Black or Black British",1]
["2021/22","Derbyshire","E31000010","Non-metropolitan","Significantly Rural","HC","Support staff","Chinese or other ethnicity",0]
["2021/22","Derbyshire","E31000010","Non-metropolitan","Significantly Rural","HC","Support staff","Ethnic origin not stated",4]
["2021/22","Derbyshire","E31000010","Non-metropolitan","Significantly Rural","HC","Support staff","Mixed",0]
["2021/22","Derbyshire","E31000010","Non-metropolitan","Significantly Rural","HC","Support staff","White British or Irish",23]
["2021/22","Derbyshire","E31000010","Non-metropolitan","Significantly Rural","HC","Wholetime firefighters","Asian or Asian British",0]
["2021/22","Derbyshire","E31000010","Non-metropolitan","Significantly Rural","HC","Wholetime firefighters","Black or Black British",0]
["2021/22","Derbyshire","E31000010","Non-metropolitan","Significantly Rural","HC","Wholetime firefighters","Chinese or other ethnicity",2]
["2021/22","Derbyshire","E31000010","Non-metropolitan","Significantly Rural","HC","Wholetime firefighters","Ethnic origin not stated",2]
["2021/22","Derbyshire","E31000010","Non-metropolitan","Significantly Rural","HC","Wholetime firefighters","Mixed",0]
["2021/22","Derbyshire","E31000010","Non-metropolitan","Significantly Rural","HC","Wholetime firefighters","White British or Irish",14]
["2021/22","Devon and Somerset","E31000011","Non-metropolitan","Predominantly Rural","HC","Fire control","Asian or Asian British",0]
["2021/22","Devon and Somerset","E31000011","Non-metropolitan","Predominantly Rural","HC","Fire control","Black or Black British",0]
["2021/22","Devon and Somerset","E31000011","Non-metropolitan","Predominantly Rural","HC","Fire control","Chinese or other ethnicity",0]
["2021/22","Devon and Somerset","E31000011","Non-metropolitan","Predominantly Rural","HC","Fire control","Ethnic origin not stated",0]
["2021/22","Devon and Somerset","E31000011","Non-metropolitan","Predominantly Rural","HC","Fire control","Mixed",0]
["2021/22","Devon and Somerset","E31000011","Non-metropolitan","Predominantly Rural","HC","Fire control","White British or Irish",3]
["2021/22","Devon and Somerset","E31000011","Non-metropolitan","Predominantly Rural","HC","On call firefighters","Asian or Asian British",0]
["2021/22","Devon and Somerset","E31000011","Non-metropolitan","Predominantly Rural","HC","On call firefighters","Black or Black British",0]
["2021/22","Devon and Somerset","E31000011","Non-metropolitan","Predominantly Rural","HC","On call firefighters","Chinese or other ethnicity",1]
["2021/22","Devon and Somerset","E31000011","Non-metropolitan","Predominantly Rural","HC","On call firefighters","Ethnic origin not stated",1]
["2021/22","Devon and Somerset","E31000011","Non-metropolitan","Predominantly Rural","HC","On call firefighters","Mixed",0]
["2021/22","Devon and Somerset","E31000011","Non-metropolitan","Predominantly Rural","HC","On call firefighters","White British or Irish",87]
["2021/22","Devon and Somerset","E31000011","Non-metropolitan","Predominantly Rural","HC","Support staff","Asian or Asian British",0]
["2021/22","Devon and Somerset","E31000011","Non-metropolitan","Predominantly Rural","HC","Support staff","Black or Black British",0]
["2021/22","Devon and Somerset","E31000011","Non-metropolitan","Predominantly Rural","HC","Support staff","Chinese or other ethnicity",3]
["2021/22","Devon and Somerset","E31000011","Non-metropolitan","Predominantly Rural","HC","Support staff","Ethnic origin not stated",2]
["2021/22","Devon and Somerset","E31000011","Non-metropolitan","Predominantly Rural","HC","Support staff","Mixed",0]
["2021/22","Devon and Somerset","E31000011","Non-metropolitan","Predominantly Rural","HC","Support staff","White British or Irish",68]
["2021/22","Devon and Somerset","E31000011","Non-metropolitan","Predominantly Rural","HC","Wholetime firefighters","Asian or Asian British",0]
["2021/22","Devon and Somerset","E31000011","Non-metropolitan","Predominantly Rural","HC","Wholetime firefighters","Black or Black British",0]
["2021/22","Devon and Somerset","E31000011","Non-metropolitan","Predominantly Rural","HC","Wholetime firefighters","Chinese or other ethnicity",3]
["2021/22","Devon and Somerset","E31000011","Non-metropolitan","Predominantly Rural","HC","Wholetime firefighters","Ethnic origin not stated",4]
["2021/22","Devon and Somerset","E31000011","Non-metropolitan","Predominantly Rural","HC","Wholetime firefighters","Mixed",2]
["2021/22","Devon and Somerset","E31000011","Non-metropolitan","Predominantly Rural","HC","Wholetime firefighters","White British or Irish",60]
["2021/22","Dorset and Wiltshire","E31000047","Non-metropolitan","Significantly Rural","HC","Fire control","Asian or Asian British",0]
["2021/22","Dorset and Wiltshire","E31000047","Non-metropolitan","Significantly Rural","HC","Fire control","Black or Black British",0]
["2021/22","Dorset and Wiltshire","E31000047","Non-metropolitan","Significantly Rural","HC","Fire control","Chinese or other ethnicity",0]
["2021/22","Dorset and Wiltshire","E31000047","Non-metropolitan","Significantly Rural","HC","Fire control","Ethnic origin not stated",0]
["2021/22","Dorset and Wiltshire","E31000047","Non-metropolitan","Significantly Rural","HC","Fire control","Mixed",0]
["2021/22","Dorset and Wiltshire","E31000047","Non-metropolitan","Significantly Rural","HC","Fire control","White British or Irish",3]
["2021/22","Dorset and Wiltshire","E31000047","Non-metropolitan","Significantly Rural","HC","On call firefighters","Asian or Asian British",0]
["2021/22","Dorset and Wiltshire","E31000047","Non-metropolitan","Significantly Rural","HC","On call firefighters","Black or Black British",0]
["2021/22","Dorset and Wiltshire","E31000047","Non-metropolitan","Significantly Rural","HC","On call firefighters","Chinese or other ethnicity",4]
["2021/22","Dorset and Wiltshire","E31000047","Non-metropolitan","Significantly Rural","HC","On call firefighters","Ethnic origin not stated",3]
["2021/22","Dorset and Wiltshire","E31000047","Non-metropolitan","Significantly Rural","HC","On call firefighters","Mixed",2]
["2021/22","Dorset and Wiltshire","E31000047","Non-metropolitan","Significantly Rural","HC","On call firefighters","White British or Irish",49]
["2021/22","Dorset and Wiltshire","E31000047","Non-metropolitan","Significantly Rural","HC","Support staff","Asian or Asian British",1]
["2021/22","Dorset and Wiltshire","E31000047","Non-metropolitan","Significantly Rural","HC","Support staff","Black or Black British",0]
["2021/22","Dorset and Wiltshire","E31000047","Non-metropolitan","Significantly Rural","HC","Support staff","Chinese or other ethnicity",4]
["2021/22","Dorset and Wiltshire","E31000047","Non-metropolitan","Significantly Rural","HC","Support staff","Ethnic origin not stated",2]
["2021/22","Dorset and Wiltshire","E31000047","Non-metropolitan","Significantly Rural","HC","Support staff","Mixed",2]
["2021/22","Dorset and Wiltshire","E31000047","Non-metropolitan","Significantly Rural","HC","Support staff","White British or Irish",57]
["2021/22","Dorset and Wiltshire","E31000047","Non-metropolitan","Significantly Rural","HC","Wholetime firefighters","Asian or Asian British",0]
["2021/22","Dorset and Wiltshire","E31000047","Non-metropolitan","Significantly Rural","HC","Wholetime firefighters","Black or Black British",0]
["2021/22","Dorset and Wiltshire","E31000047","Non-metropolitan","Significantly Rural","HC","Wholetime firefighters","Chinese or other ethnicity",1]
["2021/22","Dorset and Wiltshire","E31000047","Non-metropolitan","Significantly Rural","HC","Wholetime firefighters","Ethnic origin not stated",6]
["2021/22","Dorset and Wiltshire","E31000047","Non-metropolitan","Significantly Rural","HC","Wholetime firefighters","Mixed",1]
["2021/22","Dorset and Wiltshire","E31000047","Non-metropolitan","Significantly Rural","HC","Wholetime firefighters","White British or Irish",41]
["2021/22","Durham","E31000013","Non-metropolitan","Predominantly Rural","HC","Fire control","Asian or Asian British",0]
["2021/22","Durham","E31000013","Non-metropolitan","Predominantly Rural","HC","Fire control","Black or Black British",0]
["2021/22","Durham","E31000013","Non-metropolitan","Predominantly Rural","HC","Fire control","Chinese or other ethnicity",0]
["2021/22","Durham","E31000013","Non-metropolitan","Predominantly Rural","HC","Fire control","Ethnic origin not stated",0]
["2021/22","Durham","E31000013","Non-metropolitan","Predominantly Rural","HC","Fire control","Mixed",0]
["2021/22","Durham","E31000013","Non-metropolitan","Predominantly Rural","HC","Fire control","White British or Irish",2]
["2021/22","Durham","E31000013","Non-metropolitan","Predominantly Rural","HC","On call firefighters","Asian or Asian British",0]
["2021/22","Durham","E31000013","Non-metropolitan","Predominantly Rural","HC","On call firefighters","Black or Black British",0]
["2021/22","Durham","E31000013","Non-metropolitan","Predominantly Rural","HC","On call firefighters","Chinese or other ethnicity",0]
["2021/22","Durham","E31000013","Non-metropolitan","Predominantly Rural","HC","On call firefighters","Ethnic origin not stated",6]
["2021/22","Durham","E31000013","Non-metropolitan","Predominantly Rural","HC","On call firefighters","Mixed",0]
["2021/22","Durham","E31000013","Non-metropolitan","Predominantly Rural","HC","On call firefighters","White British or Irish",4]
["2021/22","Durham","E31000013","Non-metropolitan","Predominantly Rural","HC","Support staff","Asian or Asian British",0]
["2021/22","Durham","E31000013","Non-metropolitan","Predominantly Rural","HC","Support staff","Black or Black British",0]
["2021/22","Durham","E31000013","Non-metropolitan","Predominantly Rural","HC","Support staff","Chinese or other ethnicity",0]
["2021/22","Durham","E31000013","Non-metropolitan","Predominantly Rural","HC","Support staff","Ethnic origin not stated",3]
["2021/22","Durham","E31000013","Non-metropolitan","Predominantly Rural","HC","Support staff","Mixed",0]
["2021/22","Durham","E31000013","Non-metropolitan","Predominantly Rural","HC","Support staff","White British or Irish",19]
["2021/22","Durham","E31000013","Non-metropolitan","Predominantly Rural","HC","Wholetime firefighters","Asian or Asian British",0]
["2021/22","Durham","E31000013","Non-metropolitan","Predominantly Rural","HC","Wholetime firefighters","Black or Black British",0]
["2021/22","Durham","E31000013","Non-metropolitan","Predominantly Rural","HC","Wholetime firefighters","Chinese or other ethnicity",0]
["2021/22","Durham","E31000013","Non-metropolitan","Predominantly Rural","HC","Wholetime firefighters","Ethnic origin not stated",0]
["2021/22","Durham","E31000013","Non-metropolitan","Predominantly Rural","HC","Wholetime firefighters","Mixed",0]
["2021/22","Durham","E31000013","Non-metropolitan","Predominantly Rural","HC","Wholetime firefighters","White British or Irish",1]
["2021/22","East Sussex","E31000014","Non-metropolitan","Significantly Rural","HC","Fire control","Asian or Asian British",0]
["2021/22","East Sussex","E31000014","Non-metropolitan","Significantly Rural","HC","Fire control","Black or Black British",0]
["2021/22","East Sussex","E31000014","Non-metropolitan","Significantly Rural","HC","Fire control","Chinese or other ethnicity",0]
["2021/22","East Sussex","E31000014","Non-metropolitan","Significantly Rural","HC","Fire control","Ethnic origin not stated",0]
["2021/22","East Sussex","E31000014","Non-metropolitan","Significantly Rural","HC","Fire control","Mixed",0]
["2021/22","East Sussex","E31000014","Non-metropolitan","Significantly Rural","HC","Fire control","White British or Irish",0]
["2021/22","East Sussex","E31000014","Non-metropolitan","Significantly Rural","HC","On call firefighters","Asian or Asian British",0]
["2021/22","East Sussex","E31000014","Non-metropolitan","Significantly Rural","HC","On call firefighters","Black or Black British",0]
["2021/22","East Sussex","E31000014","Non-metropolitan","Significantly Rural","HC","On call firefighters","Chinese or other ethnicity",0]
["2021/22","East Sussex","E31000014","Non-metropolitan","Significantly Rural","HC","On call firefighters","Ethnic origin not stated",3]
["2021/22","East Sussex","E31000014","Non-metropolitan","Significantly Rural","HC","On call firefighters","Mixed",1]
["2021/22","East Sussex","E31000014","Non-metropolitan","Significantly Rural","HC","On call firefighters","White British or Irish",16]
["2021/22","East Sussex","E31000014","Non-metropolitan","Significantly Rural","HC","Support staff","Asian or Asian British",0]
["2021/22","East Sussex","E31000014","Non-metropolitan","Significantly Rural","HC","Support staff","Black or Black British",0]
["2021/22","East Sussex","E31000014","Non-metropolitan","Significantly Rural","HC","Support staff","Chinese or other ethnicity",0]
["2021/22","East Sussex","E31000014","Non-metropolitan","Significantly Rural","HC","Support staff","Ethnic origin not stated",3]
["2021/22","East Sussex","E31000014","Non-metropolitan","Significantly Rural","HC","Support staff","Mixed",0]
["2021/22","East Sussex","E31000014","Non-metropolitan","Significantly Rural","HC","Support staff","White British or Irish",24]
["2021/22","East Sussex","E31000014","Non-metropolitan","Significantly Rural","HC","Wholetime firefighters","Asian or Asian British",0]
["2021/22","East Sussex","E31000014","Non-metropolitan","Significantly Rural","HC","Wholetime firefighters","Black or Black British",0]
["2021/22","East Sussex","E31000014","Non-metropolitan","Significantly Rural","HC","Wholetime firefighters","Chinese or other ethnicity",0]
["2021/22","East Sussex","E31000014","Non-metropolitan","Significantly Rural","HC","Wholetime firefighters","Ethnic origin not stated",1]
["2021/22","East Sussex","E31000014","Non-metropolitan","Significantly Rural","HC","Wholetime firefighters","Mixed",1]
["2021/22","East Sussex","E31000014","Non-metropolitan","Significantly Rural","HC","Wholetime firefighters","White British or Irish",17]
["2021/22","Essex","E31000015","Non-metropolitan","Significantly Rural","HC","Fire control","Asian or Asian British",0]
["2021/22","Essex","E31000015","Non-metropolitan","Significantly Rural","HC","Fire control","Black or Black British",0]
["2021/22","Essex","E31000015","Non-metropolitan","Significantly Rural","HC","Fire control","Chinese or other ethnicity",0]
["2021/22","Essex","E31000015","Non-metropolitan","Significantly Rural","HC","Fire control","Ethnic origin not stated",0]
["2021/22","Essex","E31000015","Non-metropolitan","Significantly Rural","HC","Fire control","Mixed",0]
["2021/22","Essex","E31000015","Non-metropolitan","Significantly Rural","HC","Fire control","White British or Irish",0]
["2021/22","Essex","E31000015","Non-metropolitan","Significantly Rural","HC","On call firefighters","Asian or Asian British",0]
["2021/22","Essex","E31000015","Non-metropolitan","Significantly Rural","HC","On call firefighters","Black or Black British",0]
["2021/22","Essex","E31000015","Non-metropolitan","Significantly Rural","HC","On call firefighters","Chinese or other ethnicity",2]
["2021/22","Essex","E31000015","Non-metropolitan","Significantly Rural","HC","On call firefighters","Ethnic origin not stated",15]
["2021/22","Essex","E31000015","Non-metropolitan","Significantly Rural","HC","On call firefighters","Mixed",1]
["2021/22","Essex","E31000015","Non-metropolitan","Significantly Rural","HC","On call firefighters","White British or Irish",54]
["2021/22","Essex","E31000015","Non-metropolitan","Significantly Rural","HC","Support staff","Asian or Asian British",0]
["2021/22","Essex","E31000015","Non-metropolitan","Significantly Rural","HC","Support staff","Black or Black British",0]
["2021/22","Essex","E31000015","Non-metropolitan","Significantly Rural","HC","Support staff","Chinese or other ethnicity",1]
["2021/22","Essex","E31000015","Non-metropolitan","Significantly Rural","HC","Support staff","Ethnic origin not stated",8]
["2021/22","Essex","E31000015","Non-metropolitan","Significantly Rural","HC","Support staff","Mixed",0]
["2021/22","Essex","E31000015","Non-metropolitan","Significantly Rural","HC","Support staff","White British or Irish",6]
["2021/22","Essex","E31000015","Non-metropolitan","Significantly Rural","HC","Wholetime firefighters","Asian or Asian British",0]
["2021/22","Essex","E31000015","Non-metropolitan","Significantly Rural","HC","Wholetime firefighters","Black or Black British",1]
["2021/22","Essex","E31000015","Non-metropolitan","Significantly Rural","HC","Wholetime firefighters","Chinese or other ethnicity",0]
["2021/22","Essex","E31000015","Non-metropolitan","Significantly Rural","HC","Wholetime firefighters","Ethnic origin not stated",4]
["2021/22","Essex","E31000015","Non-metropolitan","Significantly Rural","HC","Wholetime firefighters","Mixed",1]
["2021/22","Essex","E31000015","Non-metropolitan","Significantly Rural","HC","Wholetime firefighters","White British or Irish",20]
["2021/22","Gloucestershire","E31000016","Non-metropolitan","Significantly Rural","HC","Fire control","Asian or Asian British",0]
["2021/22","Gloucestershire","E31000016","Non-metropolitan","Significantly Rural","HC","Fire control","Black or Black British",0]
["2021/22","Gloucestershire","E31000016","Non-metropolitan","Significantly Rural","HC","Fire control","Chinese or other ethnicity",0]
["2021/22","Gloucestershire","E31000016","Non-metropolitan","Significantly Rural","HC","Fire control","Ethnic origin not stated",2]
["2021/22","Gloucestershire","E31000016","Non-metropolitan","Significantly Rural","HC","Fire control","Mixed",0]
["2021/22","Gloucestershire","E31000016","Non-metropolitan","Significantly Rural","HC","Fire control","White British or Irish",1]
["2021/22","Gloucestershire","E31000016","Non-metropolitan","Significantly Rural","HC","On call firefighters","Asian or Asian British",0]
["2021/22","Gloucestershire","E31000016","Non-metropolitan","Significantly Rural","HC","On call firefighters","Black or Black British",0]
["2021/22","Gloucestershire","E31000016","Non-metropolitan","Significantly Rural","HC","On call firefighters","Chinese or other ethnicity",3]
["2021/22","Gloucestershire","E31000016","Non-metropolitan","Significantly Rural","HC","On call firefighters","Ethnic origin not stated",0]
["2021/22","Gloucestershire","E31000016","Non-metropolitan","Significantly Rural","HC","On call firefighters","Mixed",0]
["2021/22","Gloucestershire","E31000016","Non-metropolitan","Significantly Rural","HC","On call firefighters","White British or Irish",16]
["2021/22","Gloucestershire","E31000016","Non-metropolitan","Significantly Rural","HC","Support staff","Asian or Asian British",0]
["2021/22","Gloucestershire","E31000016","Non-metropolitan","Significantly Rural","HC","Support staff","Black or Black British",0]
["2021/22","Gloucestershire","E31000016","Non-metropolitan","Significantly Rural","HC","Support staff","Chinese or other ethnicity",0]
["2021/22","Gloucestershire","E31000016","Non-metropolitan","Significantly Rural","HC","Support staff","Ethnic origin not stated",3]
["2021/22","Gloucestershire","E31000016","Non-metropolitan","Significantly Rural","HC","Support staff","Mixed",0]
["2021/22","Gloucestershire","E31000016","Non-metropolitan","Significantly Rural","HC","Support staff","White British or Irish",4]
["2021/22","Gloucestershire","E31000016","Non-metropolitan","Significantly Rural","HC","Wholetime firefighters","Asian or Asian British",0]
["2021/22","Gloucestershire","E31000016","Non-metropolitan","Significantly Rural","HC","Wholetime firefighters","Black or Black British",0]
["2021/22","Gloucestershire","E31000016","Non-metropolitan","Significantly Rural","HC","Wholetime firefighters","Chinese or other ethnicity",2]
["2021/22","Gloucestershire","E31000016","Non-metropolitan","Significantly Rural","HC","Wholetime firefighters","Ethnic origin not stated",6]
["2021/22","Gloucestershire","E31000016","Non-metropolitan","Significantly Rural","HC","Wholetime firefighters","Mixed",1]
["2021/22","Gloucestershire","E31000016","Non-metropolitan","Significantly Rural","HC","Wholetime firefighters","White British or Irish",21]
["2021/22","Greater London","E31000046","Metropolitan","Predominantly Urban","HC","Fire control","Asian or Asian British",0]
["2021/22","Greater London","E31000046","Metropolitan","Predominantly Urban","HC","Fire control","Black or Black British",0]
["2021/22","Greater London","E31000046","Metropolitan","Predominantly Urban","HC","Fire control","Chinese or other ethnicity",0]
["2021/22","Greater London","E31000046","Metropolitan","Predominantly Urban","HC","Fire control","Ethnic origin not stated",2]
["2021/22","Greater London","E31000046","Metropolitan","Predominantly Urban","HC","Fire control","Mixed",3]
["2021/22","Greater London","E31000046","Metropolitan","Predominantly Urban","HC","Fire control","White British or Irish",12]
["2021/22","Greater London","E31000046","Metropolitan","Predominantly Urban","HC","On call firefighters","Asian or Asian British",0]
["2021/22","Greater London","E31000046","Metropolitan","Predominantly Urban","HC","On call firefighters","Black or Black British",0]
["2021/22","Greater London","E31000046","Metropolitan","Predominantly Urban","HC","On call firefighters","Chinese or other ethnicity",0]
["2021/22","Greater London","E31000046","Metropolitan","Predominantly Urban","HC","On call firefighters","Ethnic origin not stated",0]
["2021/22","Greater London","E31000046","Metropolitan","Predominantly Urban","HC","On call firefighters","Mixed",0]
["2021/22","Greater London","E31000046","Metropolitan","Predominantly Urban","HC","On call firefighters","White British or Irish",0]
["2021/22","Greater London","E31000046","Metropolitan","Predominantly Urban","HC","Support staff","Asian or Asian British",9]
["2021/22","Greater London","E31000046","Metropolitan","Predominantly Urban","HC","Support staff","Black or Black British",20]
["2021/22","Greater London","E31000046","Metropolitan","Predominantly Urban","HC","Support staff","Chinese or other ethnicity",7]
["2021/22","Greater London","E31000046","Metropolitan","Predominantly Urban","HC","Support staff","Ethnic origin not stated",11]
["2021/22","Greater London","E31000046","Metropolitan","Predominantly Urban","HC","Support staff","Mixed",10]
["2021/22","Greater London","E31000046","Metropolitan","Predominantly Urban","HC","Support staff","White British or Irish",75]
["2021/22","Greater London","E31000046","Metropolitan","Predominantly Urban","HC","Wholetime firefighters","Asian or Asian British",2]
["2021/22","Greater London","E31000046","Metropolitan","Predominantly Urban","HC","Wholetime firefighters","Black or Black British",7]
["2021/22","Greater London","E31000046","Metropolitan","Predominantly Urban","HC","Wholetime firefighters","Chinese or other ethnicity",4]
["2021/22","Greater London","E31000046","Metropolitan","Predominantly Urban","HC","Wholetime firefighters","Ethnic origin not stated",2]
["2021/22","Greater London","E31000046","Metropolitan","Predominantly Urban","HC","Wholetime firefighters","Mixed",6]
["2021/22","Greater London","E31000046","Metropolitan","Predominantly Urban","HC","Wholetime firefighters","White British or Irish",29]
["2021/22","Greater Manchester","E31000040","Metropolitan","Predominantly Urban","HC","Fire control","Asian or Asian British",0]
["2021/22","Greater Manchester","E31000040","Metropolitan","Predominantly Urban","HC","Fire control","Black or Black British",0]
["2021/22","Greater Manchester","E31000040","Metropolitan","Predominantly Urban","HC","Fire control","Chinese or other ethnicity",0]
["2021/22","Greater Manchester","E31000040","Metropolitan","Predominantly Urban","HC","Fire control","Ethnic origin not stated",0]
["2021/22","Greater Manchester","E31000040","Metropolitan","Predominantly Urban","HC","Fire control","Mixed",0]
["2021/22","Greater Manchester","E31000040","Metropolitan","Predominantly Urban","HC","Fire control","White British or Irish",0]
["2021/22","Greater Manchester","E31000040","Metropolitan","Predominantly Urban","HC","On call firefighters","Asian or Asian British",0]
["2021/22","Greater Manchester","E31000040","Metropolitan","Predominantly Urban","HC","On call firefighters","Black or Black British",0]
["2021/22","Greater Manchester","E31000040","Metropolitan","Predominantly Urban","HC","On call firefighters","Chinese or other ethnicity",0]
["2021/22","Greater Manchester","E31000040","Metropolitan","Predominantly Urban","HC","On call firefighters","Ethnic origin not stated",0]
["2021/22","Greater Manchester","E31000040","Metropolitan","Predominantly Urban","HC","On call firefighters","Mixed",0]
["2021/22","Greater Manchester","E31000040","Metropolitan","Predominantly Urban","HC","On call firefighters","White British or Irish",0]
["2021/22","Greater Manchester","E31000040","Metropolitan","Predominantly Urban","HC","Support staff","Asian or Asian British",0]
["2021/22","Greater Manchester","E31000040","Metropolitan","Predominantly Urban","HC","Support staff","Black or Black British",0]
["2021/22","Greater Manchester","E31000040","Metropolitan","Predominantly Urban","HC","Support staff","Chinese or other ethnicity",3]
["2021/22","Greater Manchester","E31000040","Metropolitan","Predominantly Urban","HC","Support staff","Ethnic origin not stated",0]
["2021/22","Greater Manchester","E31000040","Metropolitan","Predominantly Urban","HC","Support staff","Mixed",1]
["2021/22","Greater Manchester","E31000040","Metropolitan","Predominantly Urban","HC","Support staff","White British or Irish",35]
["2021/22","Greater Manchester","E31000040","Metropolitan","Predominantly Urban","HC","Wholetime firefighters","Asian or Asian British",0]
["2021/22","Greater Manchester","E31000040","Metropolitan","Predominantly Urban","HC","Wholetime firefighters","Black or Black British",3]
["2021/22","Greater Manchester","E31000040","Metropolitan","Predominantly Urban","HC","Wholetime firefighters","Chinese or other ethnicity",1]
["2021/22","Greater Manchester","E31000040","Metropolitan","Predominantly Urban","HC","Wholetime firefighters","Ethnic origin not stated",3]
["2021/22","Greater Manchester","E31000040","Metropolitan","Predominantly Urban","HC","Wholetime firefighters","Mixed",11]
["2021/22","Greater Manchester","E31000040","Metropolitan","Predominantly Urban","HC","Wholetime firefighters","White British or Irish",77]
["2021/22","Hampshire and Isle of Wight","E31000048","Non-metropolitan","Significantly Rural","HC","Fire control","Asian or Asian British",0]
["2021/22","Hampshire and Isle of Wight","E31000048","Non-metropolitan","Significantly Rural","HC","Fire control","Black or Black British",0]
["2021/22","Hampshire and Isle of Wight","E31000048","Non-metropolitan","Significantly Rural","HC","Fire control","Chinese or other ethnicity",0]
["2021/22","Hampshire and Isle of Wight","E31000048","Non-metropolitan","Significantly Rural","HC","Fire control","Ethnic origin not stated",0]
["2021/22","Hampshire and Isle of Wight","E31000048","Non-metropolitan","Significantly Rural","HC","Fire control","Mixed",0]
["2021/22","Hampshire and Isle of Wight","E31000048","Non-metropolitan","Significantly Rural","HC","Fire control","White British or Irish",3]
["2021/22","Hampshire and Isle of Wight","E31000048","Non-metropolitan","Significantly Rural","HC","On call firefighters","Asian or Asian British",0]
["2021/22","Hampshire and Isle of Wight","E31000048","Non-metropolitan","Significantly Rural","HC","On call firefighters","Black or Black British",0]
["2021/22","Hampshire and Isle of Wight","E31000048","Non-metropolitan","Significantly Rural","HC","On call firefighters","Chinese or other ethnicity",3]
["2021/22","Hampshire and Isle of Wight","E31000048","Non-metropolitan","Significantly Rural","HC","On call firefighters","Ethnic origin not stated",5]
["2021/22","Hampshire and Isle of Wight","E31000048","Non-metropolitan","Significantly Rural","HC","On call firefighters","Mixed",1]
["2021/22","Hampshire and Isle of Wight","E31000048","Non-metropolitan","Significantly Rural","HC","On call firefighters","White British or Irish",43]
["2021/22","Hampshire and Isle of Wight","E31000048","Non-metropolitan","Significantly Rural","HC","Support staff","Asian or Asian British",3]
["2021/22","Hampshire and Isle of Wight","E31000048","Non-metropolitan","Significantly Rural","HC","Support staff","Black or Black British",0]
["2021/22","Hampshire and Isle of Wight","E31000048","Non-metropolitan","Significantly Rural","HC","Support staff","Chinese or other ethnicity",3]
["2021/22","Hampshire and Isle of Wight","E31000048","Non-metropolitan","Significantly Rural","HC","Support staff","Ethnic origin not stated",7]
["2021/22","Hampshire and Isle of Wight","E31000048","Non-metropolitan","Significantly Rural","HC","Support staff","Mixed",0]
["2021/22","Hampshire and Isle of Wight","E31000048","Non-metropolitan","Significantly Rural","HC","Support staff","White British or Irish",52]
["2021/22","Hampshire and Isle of Wight","E31000048","Non-metropolitan","Significantly Rural","HC","Wholetime firefighters","Asian or Asian British",0]
["2021/22","Hampshire and Isle of Wight","E31000048","Non-metropolitan","Significantly Rural","HC","Wholetime firefighters","Black or Black British",0]
["2021/22","Hampshire and Isle of Wight","E31000048","Non-metropolitan","Significantly Rural","HC","Wholetime firefighters","Chinese or other ethnicity",1]
["2021/22","Hampshire and Isle of Wight","E31000048","Non-metropolitan","Significantly Rural","HC","Wholetime firefighters","Ethnic origin not stated",20]
["2021/22","Hampshire and Isle of Wight","E31000048","Non-metropolitan","Significantly Rural","HC","Wholetime firefighters","Mixed",2]
["2021/22","Hampshire and Isle of Wight","E31000048","Non-metropolitan","Significantly Rural","HC","Wholetime firefighters","White British or Irish",58]
["2021/22","Hereford and Worcester","E31000018","Non-metropolitan","Significantly Rural","HC","Fire control","Asian or Asian British",0]
["2021/22","Hereford and Worcester","E31000018","Non-metropolitan","Significantly Rural","HC","Fire control","Black or Black British",0]
["2021/22","Hereford and Worcester","E31000018","Non-metropolitan","Significantly Rural","HC","Fire control","Chinese or other ethnicity",0]
["2021/22","Hereford and Worcester","E31000018","Non-metropolitan","Significantly Rural","HC","Fire control","Ethnic origin not stated",0]
["2021/22","Hereford and Worcester","E31000018","Non-metropolitan","Significantly Rural","HC","Fire control","Mixed",0]
["2021/22","Hereford and Worcester","E31000018","Non-metropolitan","Significantly Rural","HC","Fire control","White British or Irish",2]
["2021/22","Hereford and Worcester","E31000018","Non-metropolitan","Significantly Rural","HC","On call firefighters","Asian or Asian British",0]
["2021/22","Hereford and Worcester","E31000018","Non-metropolitan","Significantly Rural","HC","On call firefighters","Black or Black British",0]
["2021/22","Hereford and Worcester","E31000018","Non-metropolitan","Significantly Rural","HC","On call firefighters","Chinese or other ethnicity",3]
["2021/22","Hereford and Worcester","E31000018","Non-metropolitan","Significantly Rural","HC","On call firefighters","Ethnic origin not stated",0]
["2021/22","Hereford and Worcester","E31000018","Non-metropolitan","Significantly Rural","HC","On call firefighters","Mixed",1]
["2021/22","Hereford and Worcester","E31000018","Non-metropolitan","Significantly Rural","HC","On call firefighters","White British or Irish",41]
["2021/22","Hereford and Worcester","E31000018","Non-metropolitan","Significantly Rural","HC","Support staff","Asian or Asian British",1]
["2021/22","Hereford and Worcester","E31000018","Non-metropolitan","Significantly Rural","HC","Support staff","Black or Black British",0]
["2021/22","Hereford and Worcester","E31000018","Non-metropolitan","Significantly Rural","HC","Support staff","Chinese or other ethnicity",2]
["2021/22","Hereford and Worcester","E31000018","Non-metropolitan","Significantly Rural","HC","Support staff","Ethnic origin not stated",1]
["2021/22","Hereford and Worcester","E31000018","Non-metropolitan","Significantly Rural","HC","Support staff","Mixed",2]
["2021/22","Hereford and Worcester","E31000018","Non-metropolitan","Significantly Rural","HC","Support staff","White British or Irish",15]
["2021/22","Hereford and Worcester","E31000018","Non-metropolitan","Significantly Rural","HC","Wholetime firefighters","Asian or Asian British",0]
["2021/22","Hereford and Worcester","E31000018","Non-metropolitan","Significantly Rural","HC","Wholetime firefighters","Black or Black British",0]
["2021/22","Hereford and Worcester","E31000018","Non-metropolitan","Significantly Rural","HC","Wholetime firefighters","Chinese or other ethnicity",1]
["2021/22","Hereford and Worcester","E31000018","Non-metropolitan","Significantly Rural","HC","Wholetime firefighters","Ethnic origin not stated",1]
["2021/22","Hereford and Worcester","E31000018","Non-metropolitan","Significantly Rural","HC","Wholetime firefighters","Mixed",1]
["2021/22","Hereford and Worcester","E31000018","Non-metropolitan","Significantly Rural","HC","Wholetime firefighters","White British or Irish",39]
["2021/22","Hertfordshire","E31000019","Non-metropolitan","Predominantly Urban","HC","Fire control","Asian or Asian British",0]
["2021/22","Hertfordshire","E31000019","Non-metropolitan","Predominantly Urban","HC","Fire control","Black or Black British",0]
["2021/22","Hertfordshire","E31000019","Non-metropolitan","Predominantly Urban","HC","Fire control","Chinese or other ethnicity",0]
["2021/22","Hertfordshire","E31000019","Non-metropolitan","Predominantly Urban","HC","Fire control","Ethnic origin not stated",0]
["2021/22","Hertfordshire","E31000019","Non-metropolitan","Predominantly Urban","HC","Fire control","Mixed",0]
["2021/22","Hertfordshire","E31000019","Non-metropolitan","Predominantly Urban","HC","Fire control","White British or Irish",2]
["2021/22","Hertfordshire","E31000019","Non-metropolitan","Predominantly Urban","HC","On call firefighters","Asian or Asian British",0]
["2021/22","Hertfordshire","E31000019","Non-metropolitan","Predominantly Urban","HC","On call firefighters","Black or Black British",0]
["2021/22","Hertfordshire","E31000019","Non-metropolitan","Predominantly Urban","HC","On call firefighters","Chinese or other ethnicity",3]
["2021/22","Hertfordshire","E31000019","Non-metropolitan","Predominantly Urban","HC","On call firefighters","Ethnic origin not stated",1]
["2021/22","Hertfordshire","E31000019","Non-metropolitan","Predominantly Urban","HC","On call firefighters","Mixed",0]
["2021/22","Hertfordshire","E31000019","Non-metropolitan","Predominantly Urban","HC","On call firefighters","White British or Irish",20]
["2021/22","Hertfordshire","E31000019","Non-metropolitan","Predominantly Urban","HC","Support staff","Asian or Asian British",1]
["2021/22","Hertfordshire","E31000019","Non-metropolitan","Predominantly Urban","HC","Support staff","Black or Black British",0]
["2021/22","Hertfordshire","E31000019","Non-metropolitan","Predominantly Urban","HC","Support staff","Chinese or other ethnicity",0]
["2021/22","Hertfordshire","E31000019","Non-metropolitan","Predominantly Urban","HC","Support staff","Ethnic origin not stated",0]
["2021/22","Hertfordshire","E31000019","Non-metropolitan","Predominantly Urban","HC","Support staff","Mixed",0]
["2021/22","Hertfordshire","E31000019","Non-metropolitan","Predominantly Urban","HC","Support staff","White British or Irish",9]
["2021/22","Hertfordshire","E31000019","Non-metropolitan","Predominantly Urban","HC","Wholetime firefighters","Asian or Asian British",0]
["2021/22","Hertfordshire","E31000019","Non-metropolitan","Predominantly Urban","HC","Wholetime firefighters","Black or Black British",0]
["2021/22","Hertfordshire","E31000019","Non-metropolitan","Predominantly Urban","HC","Wholetime firefighters","Chinese or other ethnicity",2]
["2021/22","Hertfordshire","E31000019","Non-metropolitan","Predominantly Urban","HC","Wholetime firefighters","Ethnic origin not stated",3]
["2021/22","Hertfordshire","E31000019","Non-metropolitan","Predominantly Urban","HC","Wholetime firefighters","Mixed",4]
["2021/22","Hertfordshire","E31000019","Non-metropolitan","Predominantly Urban","HC","Wholetime firefighters","White British or Irish",35]
["2021/22","Humberside","E31000020","Non-metropolitan","Significantly Rural","HC","Fire control","Asian or Asian British",0]
["2021/22","Humberside","E31000020","Non-metropolitan","Significantly Rural","HC","Fire control","Black or Black British",0]
["2021/22","Humberside","E31000020","Non-metropolitan","Significantly Rural","HC","Fire control","Chinese or other ethnicity",0]
["2021/22","Humberside","E31000020","Non-metropolitan","Significantly Rural","HC","Fire control","Ethnic origin not stated",0]
["2021/22","Humberside","E31000020","Non-metropolitan","Significantly Rural","HC","Fire control","Mixed",0]
["2021/22","Humberside","E31000020","Non-metropolitan","Significantly Rural","HC","Fire control","White British or Irish",3]
["2021/22","Humberside","E31000020","Non-metropolitan","Significantly Rural","HC","On call firefighters","Asian or Asian British",0]
["2021/22","Humberside","E31000020","Non-metropolitan","Significantly Rural","HC","On call firefighters","Black or Black British",0]
["2021/22","Humberside","E31000020","Non-metropolitan","Significantly Rural","HC","On call firefighters","Chinese or other ethnicity",0]
["2021/22","Humberside","E31000020","Non-metropolitan","Significantly Rural","HC","On call firefighters","Ethnic origin not stated",1]
["2021/22","Humberside","E31000020","Non-metropolitan","Significantly Rural","HC","On call firefighters","Mixed",0]
["2021/22","Humberside","E31000020","Non-metropolitan","Significantly Rural","HC","On call firefighters","White British or Irish",16]
["2021/22","Humberside","E31000020","Non-metropolitan","Significantly Rural","HC","Support staff","Asian or Asian British",1]
["2021/22","Humberside","E31000020","Non-metropolitan","Significantly Rural","HC","Support staff","Black or Black British",0]
["2021/22","Humberside","E31000020","Non-metropolitan","Significantly Rural","HC","Support staff","Chinese or other ethnicity",1]
["2021/22","Humberside","E31000020","Non-metropolitan","Significantly Rural","HC","Support staff","Ethnic origin not stated",0]
["2021/22","Humberside","E31000020","Non-metropolitan","Significantly Rural","HC","Support staff","Mixed",0]
["2021/22","Humberside","E31000020","Non-metropolitan","Significantly Rural","HC","Support staff","White British or Irish",15]
["2021/22","Humberside","E31000020","Non-metropolitan","Significantly Rural","HC","Wholetime firefighters","Asian or Asian British",0]
["2021/22","Humberside","E31000020","Non-metropolitan","Significantly Rural","HC","Wholetime firefighters","Black or Black British",0]
["2021/22","Humberside","E31000020","Non-metropolitan","Significantly Rural","HC","Wholetime firefighters","Chinese or other ethnicity",0]
["2021/22","Humberside","E31000020","Non-metropolitan","Significantly Rural","HC","Wholetime firefighters","Ethnic origin not stated",0]
["2021/22","Humberside","E31000020","Non-metropolitan","Significantly Rural","HC","Wholetime firefighters","Mixed",0]
["2021/22","Humberside","E31000020","Non-metropolitan","Significantly Rural","HC","Wholetime firefighters","White British or Irish",19]
["2021/22","Isles Of Scilly","E31000039","Non-metropolitan","Predominantly Rural","HC","Fire control","Asian or Asian British",0]
["2021/22","Isles Of Scilly","E31000039","Non-metropolitan","Predominantly Rural","HC","Fire control","Black or Black British",0]
["2021/22","Isles Of Scilly","E31000039","Non-metropolitan","Predominantly Rural","HC","Fire control","Chinese or other ethnicity",0]
["2021/22","Isles Of Scilly","E31000039","Non-metropolitan","Predominantly Rural","HC","Fire control","Ethnic origin not stated",0]
["2021/22","Isles Of Scilly","E31000039","Non-metropolitan","Predominantly Rural","HC","Fire control","Mixed",0]
["2021/22","Isles Of Scilly","E31000039","Non-metropolitan","Predominantly Rural","HC","Fire control","White British or Irish",0]
["2021/22","Isles Of Scilly","E31000039","Non-metropolitan","Predominantly Rural","HC","On call firefighters","Asian or Asian British",0]
["2021/22","Isles Of Scilly","E31000039","Non-metropolitan","Predominantly Rural","HC","On call firefighters","Black or Black British",0]
["2021/22","Isles Of Scilly","E31000039","Non-metropolitan","Predominantly Rural","HC","On call firefighters","Chinese or other ethnicity",0]
["2021/22","Isles Of Scilly","E31000039","Non-metropolitan","Predominantly Rural","HC","On call firefighters","Ethnic origin not stated",0]
["2021/22","Isles Of Scilly","E31000039","Non-metropolitan","Predominantly Rural","HC","On call firefighters","Mixed",0]
["2021/22","Isles Of Scilly","E31000039","Non-metropolitan","Predominantly Rural","HC","On call firefighters","White British or Irish",3]
["2021/22","Isles Of Scilly","E31000039","Non-metropolitan","Predominantly Rural","HC","Support staff","Asian or Asian British",0]
["2021/22","Isles Of Scilly","E31000039","Non-metropolitan","Predominantly Rural","HC","Support staff","Black or Black British",0]
["2021/22","Isles Of Scilly","E31000039","Non-metropolitan","Predominantly Rural","HC","Support staff","Chinese or other ethnicity",0]
["2021/22","Isles Of Scilly","E31000039","Non-metropolitan","Predominantly Rural","HC","Support staff","Ethnic origin not stated",0]
["2021/22","Isles Of Scilly","E31000039","Non-metropolitan","Predominantly Rural","HC","Support staff","Mixed",0]
["2021/22","Isles Of Scilly","E31000039","Non-metropolitan","Predominantly Rural","HC","Support staff","White British or Irish",0]
["2021/22","Isles Of Scilly","E31000039","Non-metropolitan","Predominantly Rural","HC","Wholetime firefighters","Asian or Asian British",0]
["2021/22","Isles Of Scilly","E31000039","Non-metropolitan","Predominantly Rural","HC","Wholetime firefighters","Black or Black British",0]
["2021/22","Isles Of Scilly","E31000039","Non-metropolitan","Predominantly Rural","HC","Wholetime firefighters","Chinese or other ethnicity",0]
["2021/22","Isles Of Scilly","E31000039","Non-metropolitan","Predominantly Rural","HC","Wholetime firefighters","Ethnic origin not stated",0]
["2021/22","Isles Of Scilly","E31000039","Non-metropolitan","Predominantly Rural","HC","Wholetime firefighters","Mixed",0]
["2021/22","Isles Of Scilly","E31000039","Non-metropolitan","Predominantly Rural","HC","Wholetime firefighters","White British or Irish",0]
["2021/22","Kent","E31000022","Non-metropolitan","Significantly Rural","HC","Fire control","Asian or Asian British",0]
["2021/22","Kent","E31000022","Non-metropolitan","Significantly Rural","HC","Fire control","Black or Black British",0]
["2021/22","Kent","E31000022","Non-metropolitan","Significantly Rural","HC","Fire control","Chinese or other ethnicity",0]
["2021/22","Kent","E31000022","Non-metropolitan","Significantly Rural","HC","Fire control","Ethnic origin not stated",2]
["2021/22","Kent","E31000022","Non-metropolitan","Significantly Rural","HC","Fire control","Mixed",0]
["2021/22","Kent","E31000022","Non-metropolitan","Significantly Rural","HC","Fire control","White British or Irish",3]
["2021/22","Kent","E31000022","Non-metropolitan","Significantly Rural","HC","On call firefighters","Asian or Asian British",0]
["2021/22","Kent","E31000022","Non-metropolitan","Significantly Rural","HC","On call firefighters","Black or Black British",0]
["2021/22","Kent","E31000022","Non-metropolitan","Significantly Rural","HC","On call firefighters","Chinese or other ethnicity",1]
["2021/22","Kent","E31000022","Non-metropolitan","Significantly Rural","HC","On call firefighters","Ethnic origin not stated",22]
["2021/22","Kent","E31000022","Non-metropolitan","Significantly Rural","HC","On call firefighters","Mixed",1]
["2021/22","Kent","E31000022","Non-metropolitan","Significantly Rural","HC","On call firefighters","White British or Irish",26]
["2021/22","Kent","E31000022","Non-metropolitan","Significantly Rural","HC","Support staff","Asian or Asian British",0]
["2021/22","Kent","E31000022","Non-metropolitan","Significantly Rural","HC","Support staff","Black or Black British",1]
["2021/22","Kent","E31000022","Non-metropolitan","Significantly Rural","HC","Support staff","Chinese or other ethnicity",1]
["2021/22","Kent","E31000022","Non-metropolitan","Significantly Rural","HC","Support staff","Ethnic origin not stated",8]
["2021/22","Kent","E31000022","Non-metropolitan","Significantly Rural","HC","Support staff","Mixed",1]
["2021/22","Kent","E31000022","Non-metropolitan","Significantly Rural","HC","Support staff","White British or Irish",32]
["2021/22","Kent","E31000022","Non-metropolitan","Significantly Rural","HC","Wholetime firefighters","Asian or Asian British",0]
["2021/22","Kent","E31000022","Non-metropolitan","Significantly Rural","HC","Wholetime firefighters","Black or Black British",0]
["2021/22","Kent","E31000022","Non-metropolitan","Significantly Rural","HC","Wholetime firefighters","Chinese or other ethnicity",1]
["2021/22","Kent","E31000022","Non-metropolitan","Significantly Rural","HC","Wholetime firefighters","Ethnic origin not stated",13]
["2021/22","Kent","E31000022","Non-metropolitan","Significantly Rural","HC","Wholetime firefighters","Mixed",2]
["2021/22","Kent","E31000022","Non-metropolitan","Significantly Rural","HC","Wholetime firefighters","White British or Irish",56]
["2021/22","Lancashire","E31000023","Non-metropolitan","Predominantly Urban","HC","Fire control","Asian or Asian British",0]
["2021/22","Lancashire","E31000023","Non-metropolitan","Predominantly Urban","HC","Fire control","Black or Black British",0]
["2021/22","Lancashire","E31000023","Non-metropolitan","Predominantly Urban","HC","Fire control","Chinese or other ethnicity",0]
["2021/22","Lancashire","E31000023","Non-metropolitan","Predominantly Urban","HC","Fire control","Ethnic origin not stated",0]
["2021/22","Lancashire","E31000023","Non-metropolitan","Predominantly Urban","HC","Fire control","Mixed",0]
["2021/22","Lancashire","E31000023","Non-metropolitan","Predominantly Urban","HC","Fire control","White British or Irish",0]
["2021/22","Lancashire","E31000023","Non-metropolitan","Predominantly Urban","HC","On call firefighters","Asian or Asian British",1]
["2021/22","Lancashire","E31000023","Non-metropolitan","Predominantly Urban","HC","On call firefighters","Black or Black British",0]
["2021/22","Lancashire","E31000023","Non-metropolitan","Predominantly Urban","HC","On call firefighters","Chinese or other ethnicity",1]
["2021/22","Lancashire","E31000023","Non-metropolitan","Predominantly Urban","HC","On call firefighters","Ethnic origin not stated",2]
["2021/22","Lancashire","E31000023","Non-metropolitan","Predominantly Urban","HC","On call firefighters","Mixed",0]
["2021/22","Lancashire","E31000023","Non-metropolitan","Predominantly Urban","HC","On call firefighters","White British or Irish",44]
["2021/22","Lancashire","E31000023","Non-metropolitan","Predominantly Urban","HC","Support staff","Asian or Asian British",6]
["2021/22","Lancashire","E31000023","Non-metropolitan","Predominantly Urban","HC","Support staff","Black or Black British",0]
["2021/22","Lancashire","E31000023","Non-metropolitan","Predominantly Urban","HC","Support staff","Chinese or other ethnicity",0]
["2021/22","Lancashire","E31000023","Non-metropolitan","Predominantly Urban","HC","Support staff","Ethnic origin not stated",4]
["2021/22","Lancashire","E31000023","Non-metropolitan","Predominantly Urban","HC","Support staff","Mixed",1]
["2021/22","Lancashire","E31000023","Non-metropolitan","Predominantly Urban","HC","Support staff","White British or Irish",31]
["2021/22","Lancashire","E31000023","Non-metropolitan","Predominantly Urban","HC","Wholetime firefighters","Asian or Asian British",0]
["2021/22","Lancashire","E31000023","Non-metropolitan","Predominantly Urban","HC","Wholetime firefighters","Black or Black British",0]
["2021/22","Lancashire","E31000023","Non-metropolitan","Predominantly Urban","HC","Wholetime firefighters","Chinese or other ethnicity",0]
["2021/22","Lancashire","E31000023","Non-metropolitan","Predominantly Urban","HC","Wholetime firefighters","Ethnic origin not stated",0]
["2021/22","Lancashire","E31000023","Non-metropolitan","Predominantly Urban","HC","Wholetime firefighters","Mixed",0]
["2021/22","Lancashire","E31000023","Non-metropolitan","Predominantly Urban","HC","Wholetime firefighters","White British or Irish",32]
["2021/22","Leicestershire","E31000024","Non-metropolitan","Significantly Rural","HC","Fire control","Asian or Asian British",0]
["2021/22","Leicestershire","E31000024","Non-metropolitan","Significantly Rural","HC","Fire control","Black or Black British",0]
["2021/22","Leicestershire","E31000024","Non-metropolitan","Significantly Rural","HC","Fire control","Chinese or other ethnicity",0]
["2021/22","Leicestershire","E31000024","Non-metropolitan","Significantly Rural","HC","Fire control","Ethnic origin not stated",0]
["2021/22","Leicestershire","E31000024","Non-metropolitan","Significantly Rural","HC","Fire control","Mixed",0]
["2021/22","Leicestershire","E31000024","Non-metropolitan","Significantly Rural","HC","Fire control","White British or Irish",0]
["2021/22","Leicestershire","E31000024","Non-metropolitan","Significantly Rural","HC","On call firefighters","Asian or Asian British",0]
["2021/22","Leicestershire","E31000024","Non-metropolitan","Significantly Rural","HC","On call firefighters","Black or Black British",0]
["2021/22","Leicestershire","E31000024","Non-metropolitan","Significantly Rural","HC","On call firefighters","Chinese or other ethnicity",0]
["2021/22","Leicestershire","E31000024","Non-metropolitan","Significantly Rural","HC","On call firefighters","Ethnic origin not stated",6]
["2021/22","Leicestershire","E31000024","Non-metropolitan","Significantly Rural","HC","On call firefighters","Mixed",0]
["2021/22","Leicestershire","E31000024","Non-metropolitan","Significantly Rural","HC","On call firefighters","White British or Irish",34]
["2021/22","Leicestershire","E31000024","Non-metropolitan","Significantly Rural","HC","Support staff","Asian or Asian British",1]
["2021/22","Leicestershire","E31000024","Non-metropolitan","Significantly Rural","HC","Support staff","Black or Black British",1]
["2021/22","Leicestershire","E31000024","Non-metropolitan","Significantly Rural","HC","Support staff","Chinese or other ethnicity",0]
["2021/22","Leicestershire","E31000024","Non-metropolitan","Significantly Rural","HC","Support staff","Ethnic origin not stated",1]
["2021/22","Leicestershire","E31000024","Non-metropolitan","Significantly Rural","HC","Support staff","Mixed",0]
["2021/22","Leicestershire","E31000024","Non-metropolitan","Significantly Rural","HC","Support staff","White British or Irish",10]
["2021/22","Leicestershire","E31000024","Non-metropolitan","Significantly Rural","HC","Wholetime firefighters","Asian or Asian British",2]
["2021/22","Leicestershire","E31000024","Non-metropolitan","Significantly Rural","HC","Wholetime firefighters","Black or Black British",1]
["2021/22","Leicestershire","E31000024","Non-metropolitan","Significantly Rural","HC","Wholetime firefighters","Chinese or other ethnicity",0]
["2021/22","Leicestershire","E31000024","Non-metropolitan","Significantly Rural","HC","Wholetime firefighters","Ethnic origin not stated",10]
["2021/22","Leicestershire","E31000024","Non-metropolitan","Significantly Rural","HC","Wholetime firefighters","Mixed",5]
["2021/22","Leicestershire","E31000024","Non-metropolitan","Significantly Rural","HC","Wholetime firefighters","White British or Irish",34]
["2021/22","Lincolnshire","E31000025","Non-metropolitan","Predominantly Rural","HC","Fire control","Asian or Asian British",0]
["2021/22","Lincolnshire","E31000025","Non-metropolitan","Predominantly Rural","HC","Fire control","Black or Black British",0]
["2021/22","Lincolnshire","E31000025","Non-metropolitan","Predominantly Rural","HC","Fire control","Chinese or other ethnicity",0]
["2021/22","Lincolnshire","E31000025","Non-metropolitan","Predominantly Rural","HC","Fire control","Ethnic origin not stated",0]
["2021/22","Lincolnshire","E31000025","Non-metropolitan","Predominantly Rural","HC","Fire control","Mixed",0]
["2021/22","Lincolnshire","E31000025","Non-metropolitan","Predominantly Rural","HC","Fire control","White British or Irish",0]
["2021/22","Lincolnshire","E31000025","Non-metropolitan","Predominantly Rural","HC","On call firefighters","Asian or Asian British",0]
["2021/22","Lincolnshire","E31000025","Non-metropolitan","Predominantly Rural","HC","On call firefighters","Black or Black British",0]
["2021/22","Lincolnshire","E31000025","Non-metropolitan","Predominantly Rural","HC","On call firefighters","Chinese or other ethnicity",0]
["2021/22","Lincolnshire","E31000025","Non-metropolitan","Predominantly Rural","HC","On call firefighters","Ethnic origin not stated",0]
["2021/22","Lincolnshire","E31000025","Non-metropolitan","Predominantly Rural","HC","On call firefighters","Mixed",0]
["2021/22","Lincolnshire","E31000025","Non-metropolitan","Predominantly Rural","HC","On call firefighters","White British or Irish",68]
["2021/22","Lincolnshire","E31000025","Non-metropolitan","Predominantly Rural","HC","Support staff","Asian or Asian British",0]
["2021/22","Lincolnshire","E31000025","Non-metropolitan","Predominantly Rural","HC","Support staff","Black or Black British",0]
["2021/22","Lincolnshire","E31000025","Non-metropolitan","Predominantly Rural","HC","Support staff","Chinese or other ethnicity",0]
["2021/22","Lincolnshire","E31000025","Non-metropolitan","Predominantly Rural","HC","Support staff","Ethnic origin not stated",0]
["2021/22","Lincolnshire","E31000025","Non-metropolitan","Predominantly Rural","HC","Support staff","Mixed",0]
["2021/22","Lincolnshire","E31000025","Non-metropolitan","Predominantly Rural","HC","Support staff","White British or Irish",0]
["2021/22","Lincolnshire","E31000025","Non-metropolitan","Predominantly Rural","HC","Wholetime firefighters","Asian or Asian British",0]
["2021/22","Lincolnshire","E31000025","Non-metropolitan","Predominantly Rural","HC","Wholetime firefighters","Black or Black British",0]
["2021/22","Lincolnshire","E31000025","Non-metropolitan","Predominantly Rural","HC","Wholetime firefighters","Chinese or other ethnicity",0]
["2021/22","Lincolnshire","E31000025","Non-metropolitan","Predominantly Rural","HC","Wholetime firefighters","Ethnic origin not stated",0]
["2021/22","Lincolnshire","E31000025","Non-metropolitan","Predominantly Rural","HC","Wholetime firefighters","Mixed",0]
["2021/22","Lincolnshire","E31000025","Non-metropolitan","Predominantly Rural","HC","Wholetime firefighters","White British or Irish",0]
["2021/22","Merseyside","E31000041","Metropolitan","Predominantly Urban","HC","Fire control","Asian or Asian British",0]
["2021/22","Merseyside","E31000041","Metropolitan","Predominantly Urban","HC","Fire control","Black or Black British",0]
["2021/22","Merseyside","E31000041","Metropolitan","Predominantly Urban","HC","Fire control","Chinese or other ethnicity",0]
["2021/22","Merseyside","E31000041","Metropolitan","Predominantly Urban","HC","Fire control","Ethnic origin not stated",0]
["2021/22","Merseyside","E31000041","Metropolitan","Predominantly Urban","HC","Fire control","Mixed",0]
["2021/22","Merseyside","E31000041","Metropolitan","Predominantly Urban","HC","Fire control","White British or Irish",0]
["2021/22","Merseyside","E31000041","Metropolitan","Predominantly Urban","HC","On call firefighters","Asian or Asian British",0]
["2021/22","Merseyside","E31000041","Metropolitan","Predominantly Urban","HC","On call firefighters","Black or Black British",1]
["2021/22","Merseyside","E31000041","Metropolitan","Predominantly Urban","HC","On call firefighters","Chinese or other ethnicity",0]
["2021/22","Merseyside","E31000041","Metropolitan","Predominantly Urban","HC","On call firefighters","Ethnic origin not stated",1]
["2021/22","Merseyside","E31000041","Metropolitan","Predominantly Urban","HC","On call firefighters","Mixed",1]
["2021/22","Merseyside","E31000041","Metropolitan","Predominantly Urban","HC","On call firefighters","White British or Irish",33]
["2021/22","Merseyside","E31000041","Metropolitan","Predominantly Urban","HC","Support staff","Asian or Asian British",0]
["2021/22","Merseyside","E31000041","Metropolitan","Predominantly Urban","HC","Support staff","Black or Black British",0]
["2021/22","Merseyside","E31000041","Metropolitan","Predominantly Urban","HC","Support staff","Chinese or other ethnicity",0]
["2021/22","Merseyside","E31000041","Metropolitan","Predominantly Urban","HC","Support staff","Ethnic origin not stated",0]
["2021/22","Merseyside","E31000041","Metropolitan","Predominantly Urban","HC","Support staff","Mixed",0]
["2021/22","Merseyside","E31000041","Metropolitan","Predominantly Urban","HC","Support staff","White British or Irish",31]
["2021/22","Merseyside","E31000041","Metropolitan","Predominantly Urban","HC","Wholetime firefighters","Asian or Asian British",1]
["2021/22","Merseyside","E31000041","Metropolitan","Predominantly Urban","HC","Wholetime firefighters","Black or Black British",1]
["2021/22","Merseyside","E31000041","Metropolitan","Predominantly Urban","HC","Wholetime firefighters","Chinese or other ethnicity",0]
["2021/22","Merseyside","E31000041","Metropolitan","Predominantly Urban","HC","Wholetime firefighters","Ethnic origin not stated",1]
["2021/22","Merseyside","E31000041","Metropolitan","Predominantly Urban","HC","Wholetime firefighters","Mixed",1]
["2021/22","Merseyside","E31000041","Metropolitan","Predominantly Urban","HC","Wholetime firefighters","White British or Irish",51]
["2021/22","Norfolk","E31000026","Non-metropolitan","Predominantly Rural","HC","Fire control","Asian or Asian British",0]
["2021/22","Norfolk","E31000026","Non-metropolitan","Predominantly Rural","HC","Fire control","Black or Black British",0]
["2021/22","Norfolk","E31000026","Non-metropolitan","Predominantly Rural","HC","Fire control","Chinese or other ethnicity",0]
["2021/22","Norfolk","E31000026","Non-metropolitan","Predominantly Rural","HC","Fire control","Ethnic origin not stated",3]
["2021/22","Norfolk","E31000026","Non-metropolitan","Predominantly Rural","HC","Fire control","Mixed",0]
["2021/22","Norfolk","E31000026","Non-metropolitan","Predominantly Rural","HC","Fire control","White British or Irish",0]
["2021/22","Norfolk","E31000026","Non-metropolitan","Predominantly Rural","HC","On call firefighters","Asian or Asian British",0]
["2021/22","Norfolk","E31000026","Non-metropolitan","Predominantly Rural","HC","On call firefighters","Black or Black British",0]
["2021/22","Norfolk","E31000026","Non-metropolitan","Predominantly Rural","HC","On call firefighters","Chinese or other ethnicity",0]
["2021/22","Norfolk","E31000026","Non-metropolitan","Predominantly Rural","HC","On call firefighters","Ethnic origin not stated",15]
["2021/22","Norfolk","E31000026","Non-metropolitan","Predominantly Rural","HC","On call firefighters","Mixed",1]
["2021/22","Norfolk","E31000026","Non-metropolitan","Predominantly Rural","HC","On call firefighters","White British or Irish",15]
["2021/22","Norfolk","E31000026","Non-metropolitan","Predominantly Rural","HC","Support staff","Asian or Asian British",0]
["2021/22","Norfolk","E31000026","Non-metropolitan","Predominantly Rural","HC","Support staff","Black or Black British",0]
["2021/22","Norfolk","E31000026","Non-metropolitan","Predominantly Rural","HC","Support staff","Chinese or other ethnicity",0]
["2021/22","Norfolk","E31000026","Non-metropolitan","Predominantly Rural","HC","Support staff","Ethnic origin not stated",15]
["2021/22","Norfolk","E31000026","Non-metropolitan","Predominantly Rural","HC","Support staff","Mixed",0]
["2021/22","Norfolk","E31000026","Non-metropolitan","Predominantly Rural","HC","Support staff","White British or Irish",5]
["2021/22","Norfolk","E31000026","Non-metropolitan","Predominantly Rural","HC","Wholetime firefighters","Asian or Asian British",0]
["2021/22","Norfolk","E31000026","Non-metropolitan","Predominantly Rural","HC","Wholetime firefighters","Black or Black British",0]
["2021/22","Norfolk","E31000026","Non-metropolitan","Predominantly Rural","HC","Wholetime firefighters","Chinese or other ethnicity",0]
["2021/22","Norfolk","E31000026","Non-metropolitan","Predominantly Rural","HC","Wholetime firefighters","Ethnic origin not stated",0]
["2021/22","Norfolk","E31000026","Non-metropolitan","Predominantly Rural","HC","Wholetime firefighters","Mixed",0]
["2021/22","Norfolk","E31000026","Non-metropolitan","Predominantly Rural","HC","Wholetime firefighters","White British or Irish",8]
["2021/22","North Yorkshire","E31000027","Non-metropolitan","Predominantly Rural","HC","Fire control","Asian or Asian British",0]
["2021/22","North Yorkshire","E31000027","Non-metropolitan","Predominantly Rural","HC","Fire control","Black or Black British",0]
["2021/22","North Yorkshire","E31000027","Non-metropolitan","Predominantly Rural","HC","Fire control","Chinese or other ethnicity",0]
["2021/22","North Yorkshire","E31000027","Non-metropolitan","Predominantly Rural","HC","Fire control","Ethnic origin not stated",0]
["2021/22","North Yorkshire","E31000027","Non-metropolitan","Predominantly Rural","HC","Fire control","Mixed",0]
["2021/22","North Yorkshire","E31000027","Non-metropolitan","Predominantly Rural","HC","Fire control","White British or Irish",1]
["2021/22","North Yorkshire","E31000027","Non-metropolitan","Predominantly Rural","HC","On call firefighters","Asian or Asian British",1]
["2021/22","North Yorkshire","E31000027","Non-metropolitan","Predominantly Rural","HC","On call firefighters","Black or Black British",0]
["2021/22","North Yorkshire","E31000027","Non-metropolitan","Predominantly Rural","HC","On call firefighters","Chinese or other ethnicity",1]
["2021/22","North Yorkshire","E31000027","Non-metropolitan","Predominantly Rural","HC","On call firefighters","Ethnic origin not stated",8]
["2021/22","North Yorkshire","E31000027","Non-metropolitan","Predominantly Rural","HC","On call firefighters","Mixed",0]
["2021/22","North Yorkshire","E31000027","Non-metropolitan","Predominantly Rural","HC","On call firefighters","White British or Irish",40]
["2021/22","North Yorkshire","E31000027","Non-metropolitan","Predominantly Rural","HC","Support staff","Asian or Asian British",0]
["2021/22","North Yorkshire","E31000027","Non-metropolitan","Predominantly Rural","HC","Support staff","Black or Black British",0]
["2021/22","North Yorkshire","E31000027","Non-metropolitan","Predominantly Rural","HC","Support staff","Chinese or other ethnicity",0]
["2021/22","North Yorkshire","E31000027","Non-metropolitan","Predominantly Rural","HC","Support staff","Ethnic origin not stated",0]
["2021/22","North Yorkshire","E31000027","Non-metropolitan","Predominantly Rural","HC","Support staff","Mixed",0]
["2021/22","North Yorkshire","E31000027","Non-metropolitan","Predominantly Rural","HC","Support staff","White British or Irish",6]
["2021/22","North Yorkshire","E31000027","Non-metropolitan","Predominantly Rural","HC","Wholetime firefighters","Asian or Asian British",0]
["2021/22","North Yorkshire","E31000027","Non-metropolitan","Predominantly Rural","HC","Wholetime firefighters","Black or Black British",0]
["2021/22","North Yorkshire","E31000027","Non-metropolitan","Predominantly Rural","HC","Wholetime firefighters","Chinese or other ethnicity",1]
["2021/22","North Yorkshire","E31000027","Non-metropolitan","Predominantly Rural","HC","Wholetime firefighters","Ethnic origin not stated",2]
["2021/22","North Yorkshire","E31000027","Non-metropolitan","Predominantly Rural","HC","Wholetime firefighters","Mixed",0]
["2021/22","North Yorkshire","E31000027","Non-metropolitan","Predominantly Rural","HC","Wholetime firefighters","White British or Irish",40]
["2021/22","Northamptonshire","E31000028","Non-metropolitan","Significantly Rural","HC","Fire control","Asian or Asian British",0]
["2021/22","Northamptonshire","E31000028","Non-metropolitan","Significantly Rural","HC","Fire control","Black or Black British",0]
["2021/22","Northamptonshire","E31000028","Non-metropolitan","Significantly Rural","HC","Fire control","Chinese or other ethnicity",0]
["2021/22","Northamptonshire","E31000028","Non-metropolitan","Significantly Rural","HC","Fire control","Ethnic origin not stated",4]
["2021/22","Northamptonshire","E31000028","Non-metropolitan","Significantly Rural","HC","Fire control","Mixed",0]
["2021/22","Northamptonshire","E31000028","Non-metropolitan","Significantly Rural","HC","Fire control","White British or Irish",0]
["2021/22","Northamptonshire","E31000028","Non-metropolitan","Significantly Rural","HC","On call firefighters","Asian or Asian British",0]
["2021/22","Northamptonshire","E31000028","Non-metropolitan","Significantly Rural","HC","On call firefighters","Black or Black British",0]
["2021/22","Northamptonshire","E31000028","Non-metropolitan","Significantly Rural","HC","On call firefighters","Chinese or other ethnicity",0]
["2021/22","Northamptonshire","E31000028","Non-metropolitan","Significantly Rural","HC","On call firefighters","Ethnic origin not stated",27]
["2021/22","Northamptonshire","E31000028","Non-metropolitan","Significantly Rural","HC","On call firefighters","Mixed",0]
["2021/22","Northamptonshire","E31000028","Non-metropolitan","Significantly Rural","HC","On call firefighters","White British or Irish",3]
["2021/22","Northamptonshire","E31000028","Non-metropolitan","Significantly Rural","HC","Support staff","Asian or Asian British",0]
["2021/22","Northamptonshire","E31000028","Non-metropolitan","Significantly Rural","HC","Support staff","Black or Black British",0]
["2021/22","Northamptonshire","E31000028","Non-metropolitan","Significantly Rural","HC","Support staff","Chinese or other ethnicity",0]
["2021/22","Northamptonshire","E31000028","Non-metropolitan","Significantly Rural","HC","Support staff","Ethnic origin not stated",7]
["2021/22","Northamptonshire","E31000028","Non-metropolitan","Significantly Rural","HC","Support staff","Mixed",0]
["2021/22","Northamptonshire","E31000028","Non-metropolitan","Significantly Rural","HC","Support staff","White British or Irish",1]
["2021/22","Northamptonshire","E31000028","Non-metropolitan","Significantly Rural","HC","Wholetime firefighters","Asian or Asian British",0]
["2021/22","Northamptonshire","E31000028","Non-metropolitan","Significantly Rural","HC","Wholetime firefighters","Black or Black British",0]
["2021/22","Northamptonshire","E31000028","Non-metropolitan","Significantly Rural","HC","Wholetime firefighters","Chinese or other ethnicity",0]
["2021/22","Northamptonshire","E31000028","Non-metropolitan","Significantly Rural","HC","Wholetime firefighters","Ethnic origin not stated",0]
["2021/22","Northamptonshire","E31000028","Non-metropolitan","Significantly Rural","HC","Wholetime firefighters","Mixed",0]
["2021/22","Northamptonshire","E31000028","Non-metropolitan","Significantly Rural","HC","Wholetime firefighters","White British or Irish",0]
["2021/22","Northumberland","E31000029","Non-metropolitan","Predominantly Rural","HC","Fire control","Asian or Asian British",0]
["2021/22","Northumberland","E31000029","Non-metropolitan","Predominantly Rural","HC","Fire control","Black or Black British",0]
["2021/22","Northumberland","E31000029","Non-metropolitan","Predominantly Rural","HC","Fire control","Chinese or other ethnicity",0]
["2021/22","Northumberland","E31000029","Non-metropolitan","Predominantly Rural","HC","Fire control","Ethnic origin not stated",0]
["2021/22","Northumberland","E31000029","Non-metropolitan","Predominantly Rural","HC","Fire control","Mixed",0]
["2021/22","Northumberland","E31000029","Non-metropolitan","Predominantly Rural","HC","Fire control","White British or Irish",0]
["2021/22","Northumberland","E31000029","Non-metropolitan","Predominantly Rural","HC","On call firefighters","Asian or Asian British",0]
["2021/22","Northumberland","E31000029","Non-metropolitan","Predominantly Rural","HC","On call firefighters","Black or Black British",0]
["2021/22","Northumberland","E31000029","Non-metropolitan","Predominantly Rural","HC","On call firefighters","Chinese or other ethnicity",0]
["2021/22","Northumberland","E31000029","Non-metropolitan","Predominantly Rural","HC","On call firefighters","Ethnic origin not stated",12]
["2021/22","Northumberland","E31000029","Non-metropolitan","Predominantly Rural","HC","On call firefighters","Mixed",0]
["2021/22","Northumberland","E31000029","Non-metropolitan","Predominantly Rural","HC","On call firefighters","White British or Irish",0]
["2021/22","Northumberland","E31000029","Non-metropolitan","Predominantly Rural","HC","Support staff","Asian or Asian British",0]
["2021/22","Northumberland","E31000029","Non-metropolitan","Predominantly Rural","HC","Support staff","Black or Black British",0]
["2021/22","Northumberland","E31000029","Non-metropolitan","Predominantly Rural","HC","Support staff","Chinese or other ethnicity",0]
["2021/22","Northumberland","E31000029","Non-metropolitan","Predominantly Rural","HC","Support staff","Ethnic origin not stated",2]
["2021/22","Northumberland","E31000029","Non-metropolitan","Predominantly Rural","HC","Support staff","Mixed",0]
["2021/22","Northumberland","E31000029","Non-metropolitan","Predominantly Rural","HC","Support staff","White British or Irish",0]
["2021/22","Northumberland","E31000029","Non-metropolitan","Predominantly Rural","HC","Wholetime firefighters","Asian or Asian British",0]
["2021/22","Northumberland","E31000029","Non-metropolitan","Predominantly Rural","HC","Wholetime firefighters","Black or Black British",0]
["2021/22","Northumberland","E31000029","Non-metropolitan","Predominantly Rural","HC","Wholetime firefighters","Chinese or other ethnicity",0]
["2021/22","Northumberland","E31000029","Non-metropolitan","Predominantly Rural","HC","Wholetime firefighters","Ethnic origin not stated",11]
["2021/22","Northumberland","E31000029","Non-metropolitan","Predominantly Rural","HC","Wholetime firefighters","Mixed",0]
["2021/22","Northumberland","E31000029","Non-metropolitan","Predominantly Rural","HC","Wholetime firefighters","White British or Irish",0]
["2021/22","Nottinghamshire","E31000030","Non-metropolitan","Predominantly Urban","HC","Fire control","Asian or Asian British",0]
["2021/22","Nottinghamshire","E31000030","Non-metropolitan","Predominantly Urban","HC","Fire control","Black or Black British",0]
["2021/22","Nottinghamshire","E31000030","Non-metropolitan","Predominantly Urban","HC","Fire control","Chinese or other ethnicity",0]
["2021/22","Nottinghamshire","E31000030","Non-metropolitan","Predominantly Urban","HC","Fire control","Ethnic origin not stated",0]
["2021/22","Nottinghamshire","E31000030","Non-metropolitan","Predominantly Urban","HC","Fire control","Mixed",0]
["2021/22","Nottinghamshire","E31000030","Non-metropolitan","Predominantly Urban","HC","Fire control","White British or Irish",0]
["2021/22","Nottinghamshire","E31000030","Non-metropolitan","Predominantly Urban","HC","On call firefighters","Asian or Asian British",0]
["2021/22","Nottinghamshire","E31000030","Non-metropolitan","Predominantly Urban","HC","On call firefighters","Black or Black British",0]
["2021/22","Nottinghamshire","E31000030","Non-metropolitan","Predominantly Urban","HC","On call firefighters","Chinese or other ethnicity",0]
["2021/22","Nottinghamshire","E31000030","Non-metropolitan","Predominantly Urban","HC","On call firefighters","Ethnic origin not stated",0]
["2021/22","Nottinghamshire","E31000030","Non-metropolitan","Predominantly Urban","HC","On call firefighters","Mixed",0]
["2021/22","Nottinghamshire","E31000030","Non-metropolitan","Predominantly Urban","HC","On call firefighters","White British or Irish",9]
["2021/22","Nottinghamshire","E31000030","Non-metropolitan","Predominantly Urban","HC","Support staff","Asian or Asian British",1]
["2021/22","Nottinghamshire","E31000030","Non-metropolitan","Predominantly Urban","HC","Support staff","Black or Black British",0]
["2021/22","Nottinghamshire","E31000030","Non-metropolitan","Predominantly Urban","HC","Support staff","Chinese or other ethnicity",3]
["2021/22","Nottinghamshire","E31000030","Non-metropolitan","Predominantly Urban","HC","Support staff","Ethnic origin not stated",1]
["2021/22","Nottinghamshire","E31000030","Non-metropolitan","Predominantly Urban","HC","Support staff","Mixed",1]
["2021/22","Nottinghamshire","E31000030","Non-metropolitan","Predominantly Urban","HC","Support staff","White British or Irish",15]
["2021/22","Nottinghamshire","E31000030","Non-metropolitan","Predominantly Urban","HC","Wholetime firefighters","Asian or Asian British",0]
["2021/22","Nottinghamshire","E31000030","Non-metropolitan","Predominantly Urban","HC","Wholetime firefighters","Black or Black British",1]
["2021/22","Nottinghamshire","E31000030","Non-metropolitan","Predominantly Urban","HC","Wholetime firefighters","Chinese or other ethnicity",1]
["2021/22","Nottinghamshire","E31000030","Non-metropolitan","Predominantly Urban","HC","Wholetime firefighters","Ethnic origin not stated",3]
["2021/22","Nottinghamshire","E31000030","Non-metropolitan","Predominantly Urban","HC","Wholetime firefighters","Mixed",5]
["2021/22","Nottinghamshire","E31000030","Non-metropolitan","Predominantly Urban","HC","Wholetime firefighters","White British or Irish",18]
["2021/22","Oxfordshire","E31000031","Non-metropolitan","Predominantly Rural","HC","Fire control","Asian or Asian British",0]
["2021/22","Oxfordshire","E31000031","Non-metropolitan","Predominantly Rural","HC","Fire control","Black or Black British",0]
["2021/22","Oxfordshire","E31000031","Non-metropolitan","Predominantly Rural","HC","Fire control","Chinese or other ethnicity",0]
["2021/22","Oxfordshire","E31000031","Non-metropolitan","Predominantly Rural","HC","Fire control","Ethnic origin not stated",0]
["2021/22","Oxfordshire","E31000031","Non-metropolitan","Predominantly Rural","HC","Fire control","Mixed",0]
["2021/22","Oxfordshire","E31000031","Non-metropolitan","Predominantly Rural","HC","Fire control","White British or Irish",0]
["2021/22","Oxfordshire","E31000031","Non-metropolitan","Predominantly Rural","HC","On call firefighters","Asian or Asian British",0]
["2021/22","Oxfordshire","E31000031","Non-metropolitan","Predominantly Rural","HC","On call firefighters","Black or Black British",0]
["2021/22","Oxfordshire","E31000031","Non-metropolitan","Predominantly Rural","HC","On call firefighters","Chinese or other ethnicity",3]
["2021/22","Oxfordshire","E31000031","Non-metropolitan","Predominantly Rural","HC","On call firefighters","Ethnic origin not stated",0]
["2021/22","Oxfordshire","E31000031","Non-metropolitan","Predominantly Rural","HC","On call firefighters","Mixed",1]
["2021/22","Oxfordshire","E31000031","Non-metropolitan","Predominantly Rural","HC","On call firefighters","White British or Irish",21]
["2021/22","Oxfordshire","E31000031","Non-metropolitan","Predominantly Rural","HC","Support staff","Asian or Asian British",0]
["2021/22","Oxfordshire","E31000031","Non-metropolitan","Predominantly Rural","HC","Support staff","Black or Black British",0]
["2021/22","Oxfordshire","E31000031","Non-metropolitan","Predominantly Rural","HC","Support staff","Chinese or other ethnicity",0]
["2021/22","Oxfordshire","E31000031","Non-metropolitan","Predominantly Rural","HC","Support staff","Ethnic origin not stated",1]
["2021/22","Oxfordshire","E31000031","Non-metropolitan","Predominantly Rural","HC","Support staff","Mixed",0]
["2021/22","Oxfordshire","E31000031","Non-metropolitan","Predominantly Rural","HC","Support staff","White British or Irish",2]
["2021/22","Oxfordshire","E31000031","Non-metropolitan","Predominantly Rural","HC","Wholetime firefighters","Asian or Asian British",0]
["2021/22","Oxfordshire","E31000031","Non-metropolitan","Predominantly Rural","HC","Wholetime firefighters","Black or Black British",0]
["2021/22","Oxfordshire","E31000031","Non-metropolitan","Predominantly Rural","HC","Wholetime firefighters","Chinese or other ethnicity",0]
["2021/22","Oxfordshire","E31000031","Non-metropolitan","Predominantly Rural","HC","Wholetime firefighters","Ethnic origin not stated",0]
["2021/22","Oxfordshire","E31000031","Non-metropolitan","Predominantly Rural","HC","Wholetime firefighters","Mixed",0]
["2021/22","Oxfordshire","E31000031","Non-metropolitan","Predominantly Rural","HC","Wholetime firefighters","White British or Irish",1]
["2021/22","Shropshire","E31000032","Non-metropolitan","Predominantly Rural","HC","Fire control","Asian or Asian British",0]
["2021/22","Shropshire","E31000032","Non-metropolitan","Predominantly Rural","HC","Fire control","Black or Black British",0]
["2021/22","Shropshire","E31000032","Non-metropolitan","Predominantly Rural","HC","Fire control","Chinese or other ethnicity",0]
["2021/22","Shropshire","E31000032","Non-metropolitan","Predominantly Rural","HC","Fire control","Ethnic origin not stated",0]
["2021/22","Shropshire","E31000032","Non-metropolitan","Predominantly Rural","HC","Fire control","Mixed",0]
["2021/22","Shropshire","E31000032","Non-metropolitan","Predominantly Rural","HC","Fire control","White British or Irish",0]
["2021/22","Shropshire","E31000032","Non-metropolitan","Predominantly Rural","HC","On call firefighters","Asian or Asian British",0]
["2021/22","Shropshire","E31000032","Non-metropolitan","Predominantly Rural","HC","On call firefighters","Black or Black British",0]
["2021/22","Shropshire","E31000032","Non-metropolitan","Predominantly Rural","HC","On call firefighters","Chinese or other ethnicity",0]
["2021/22","Shropshire","E31000032","Non-metropolitan","Predominantly Rural","HC","On call firefighters","Ethnic origin not stated",11]
["2021/22","Shropshire","E31000032","Non-metropolitan","Predominantly Rural","HC","On call firefighters","Mixed",0]
["2021/22","Shropshire","E31000032","Non-metropolitan","Predominantly Rural","HC","On call firefighters","White British or Irish",13]
["2021/22","Shropshire","E31000032","Non-metropolitan","Predominantly Rural","HC","Support staff","Asian or Asian British",0]
["2021/22","Shropshire","E31000032","Non-metropolitan","Predominantly Rural","HC","Support staff","Black or Black British",0]
["2021/22","Shropshire","E31000032","Non-metropolitan","Predominantly Rural","HC","Support staff","Chinese or other ethnicity",0]
["2021/22","Shropshire","E31000032","Non-metropolitan","Predominantly Rural","HC","Support staff","Ethnic origin not stated",1]
["2021/22","Shropshire","E31000032","Non-metropolitan","Predominantly Rural","HC","Support staff","Mixed",0]
["2021/22","Shropshire","E31000032","Non-metropolitan","Predominantly Rural","HC","Support staff","White British or Irish",5]
["2021/22","Shropshire","E31000032","Non-metropolitan","Predominantly Rural","HC","Wholetime firefighters","Asian or Asian British",0]
["2021/22","Shropshire","E31000032","Non-metropolitan","Predominantly Rural","HC","Wholetime firefighters","Black or Black British",0]
["2021/22","Shropshire","E31000032","Non-metropolitan","Predominantly Rural","HC","Wholetime firefighters","Chinese or other ethnicity",0]
["2021/22","Shropshire","E31000032","Non-metropolitan","Predominantly Rural","HC","Wholetime firefighters","Ethnic origin not stated",1]
["2021/22","Shropshire","E31000032","Non-metropolitan","Predominantly Rural","HC","Wholetime firefighters","Mixed",0]
["2021/22","Shropshire","E31000032","Non-metropolitan","Predominantly Rural","HC","Wholetime firefighters","White British or Irish",6]
["2021/22","South Yorkshire","E31000042","Metropolitan","Predominantly Urban","HC","Fire control","Asian or Asian British",0]
["2021/22","South Yorkshire","E31000042","Metropolitan","Predominantly Urban","HC","Fire control","Black or Black British",0]
["2021/22","South Yorkshire","E31000042","Metropolitan","Predominantly Urban","HC","Fire control","Chinese or other ethnicity",0]
["2021/22","South Yorkshire","E31000042","Metropolitan","Predominantly Urban","HC","Fire control","Ethnic origin not stated",0]
["2021/22","South Yorkshire","E31000042","Metropolitan","Predominantly Urban","HC","Fire control","Mixed",0]
["2021/22","South Yorkshire","E31000042","Metropolitan","Predominantly Urban","HC","Fire control","White British or Irish",2]
["2021/22","South Yorkshire","E31000042","Metropolitan","Predominantly Urban","HC","On call firefighters","Asian or Asian British",0]
["2021/22","South Yorkshire","E31000042","Metropolitan","Predominantly Urban","HC","On call firefighters","Black or Black British",0]
["2021/22","South Yorkshire","E31000042","Metropolitan","Predominantly Urban","HC","On call firefighters","Chinese or other ethnicity",2]
["2021/22","South Yorkshire","E31000042","Metropolitan","Predominantly Urban","HC","On call firefighters","Ethnic origin not stated",1]
["2021/22","South Yorkshire","E31000042","Metropolitan","Predominantly Urban","HC","On call firefighters","Mixed",1]
["2021/22","South Yorkshire","E31000042","Metropolitan","Predominantly Urban","HC","On call firefighters","White British or Irish",26]
["2021/22","South Yorkshire","E31000042","Metropolitan","Predominantly Urban","HC","Support staff","Asian or Asian British",0]
["2021/22","South Yorkshire","E31000042","Metropolitan","Predominantly Urban","HC","Support staff","Black or Black British",0]
["2021/22","South Yorkshire","E31000042","Metropolitan","Predominantly Urban","HC","Support staff","Chinese or other ethnicity",2]
["2021/22","South Yorkshire","E31000042","Metropolitan","Predominantly Urban","HC","Support staff","Ethnic origin not stated",0]
["2021/22","South Yorkshire","E31000042","Metropolitan","Predominantly Urban","HC","Support staff","Mixed",0]
["2021/22","South Yorkshire","E31000042","Metropolitan","Predominantly Urban","HC","Support staff","White British or Irish",24]
["2021/22","South Yorkshire","E31000042","Metropolitan","Predominantly Urban","HC","Wholetime firefighters","Asian or Asian British",0]
["2021/22","South Yorkshire","E31000042","Metropolitan","Predominantly Urban","HC","Wholetime firefighters","Black or Black British",0]
["2021/22","South Yorkshire","E31000042","Metropolitan","Predominantly Urban","HC","Wholetime firefighters","Chinese or other ethnicity",0]
["2021/22","South Yorkshire","E31000042","Metropolitan","Predominantly Urban","HC","Wholetime firefighters","Ethnic origin not stated",0]
["2021/22","South Yorkshire","E31000042","Metropolitan","Predominantly Urban","HC","Wholetime firefighters","Mixed",0]
["2021/22","South Yorkshire","E31000042","Metropolitan","Predominantly Urban","HC","Wholetime firefighters","White British or Irish",54]
["2021/22","Staffordshire","E31000033","Non-metropolitan","Significantly Rural","HC","Fire control","Asian or Asian British",0]
["2021/22","Staffordshire","E31000033","Non-metropolitan","Significantly Rural","HC","Fire control","Black or Black British",0]
["2021/22","Staffordshire","E31000033","Non-metropolitan","Significantly Rural","HC","Fire control","Chinese or other ethnicity",0]
["2021/22","Staffordshire","E31000033","Non-metropolitan","Significantly Rural","HC","Fire control","Ethnic origin not stated",0]
["2021/22","Staffordshire","E31000033","Non-metropolitan","Significantly Rural","HC","Fire control","Mixed",0]
["2021/22","Staffordshire","E31000033","Non-metropolitan","Significantly Rural","HC","Fire control","White British or Irish",0]
["2021/22","Staffordshire","E31000033","Non-metropolitan","Significantly Rural","HC","On call firefighters","Asian or Asian British",1]
["2021/22","Staffordshire","E31000033","Non-metropolitan","Significantly Rural","HC","On call firefighters","Black or Black British",2]
["2021/22","Staffordshire","E31000033","Non-metropolitan","Significantly Rural","HC","On call firefighters","Chinese or other ethnicity",1]
["2021/22","Staffordshire","E31000033","Non-metropolitan","Significantly Rural","HC","On call firefighters","Ethnic origin not stated",0]
["2021/22","Staffordshire","E31000033","Non-metropolitan","Significantly Rural","HC","On call firefighters","Mixed",0]
["2021/22","Staffordshire","E31000033","Non-metropolitan","Significantly Rural","HC","On call firefighters","White British or Irish",35]
["2021/22","Staffordshire","E31000033","Non-metropolitan","Significantly Rural","HC","Support staff","Asian or Asian British",0]
["2021/22","Staffordshire","E31000033","Non-metropolitan","Significantly Rural","HC","Support staff","Black or Black British",0]
["2021/22","Staffordshire","E31000033","Non-metropolitan","Significantly Rural","HC","Support staff","Chinese or other ethnicity",0]
["2021/22","Staffordshire","E31000033","Non-metropolitan","Significantly Rural","HC","Support staff","Ethnic origin not stated",0]
["2021/22","Staffordshire","E31000033","Non-metropolitan","Significantly Rural","HC","Support staff","Mixed",0]
["2021/22","Staffordshire","E31000033","Non-metropolitan","Significantly Rural","HC","Support staff","White British or Irish",18]
["2021/22","Staffordshire","E31000033","Non-metropolitan","Significantly Rural","HC","Wholetime firefighters","Asian or Asian British",1]
["2021/22","Staffordshire","E31000033","Non-metropolitan","Significantly Rural","HC","Wholetime firefighters","Black or Black British",2]
["2021/22","Staffordshire","E31000033","Non-metropolitan","Significantly Rural","HC","Wholetime firefighters","Chinese or other ethnicity",2]
["2021/22","Staffordshire","E31000033","Non-metropolitan","Significantly Rural","HC","Wholetime firefighters","Ethnic origin not stated",0]
["2021/22","Staffordshire","E31000033","Non-metropolitan","Significantly Rural","HC","Wholetime firefighters","Mixed",0]
["2021/22","Staffordshire","E31000033","Non-metropolitan","Significantly Rural","HC","Wholetime firefighters","White British or Irish",29]
["2021/22","Suffolk","E31000034","Non-metropolitan","Predominantly Rural","HC","Fire control","Asian or Asian British",0]
["2021/22","Suffolk","E31000034","Non-metropolitan","Predominantly Rural","HC","Fire control","Black or Black British",0]
["2021/22","Suffolk","E31000034","Non-metropolitan","Predominantly Rural","HC","Fire control","Chinese or other ethnicity",0]
["2021/22","Suffolk","E31000034","Non-metropolitan","Predominantly Rural","HC","Fire control","Ethnic origin not stated",0]
["2021/22","Suffolk","E31000034","Non-metropolitan","Predominantly Rural","HC","Fire control","Mixed",0]
["2021/22","Suffolk","E31000034","Non-metropolitan","Predominantly Rural","HC","Fire control","White British or Irish",0]
["2021/22","Suffolk","E31000034","Non-metropolitan","Predominantly Rural","HC","On call firefighters","Asian or Asian British",0]
["2021/22","Suffolk","E31000034","Non-metropolitan","Predominantly Rural","HC","On call firefighters","Black or Black British",0]
["2021/22","Suffolk","E31000034","Non-metropolitan","Predominantly Rural","HC","On call firefighters","Chinese or other ethnicity",0]
["2021/22","Suffolk","E31000034","Non-metropolitan","Predominantly Rural","HC","On call firefighters","Ethnic origin not stated",36]
["2021/22","Suffolk","E31000034","Non-metropolitan","Predominantly Rural","HC","On call firefighters","Mixed",0]
["2021/22","Suffolk","E31000034","Non-metropolitan","Predominantly Rural","HC","On call firefighters","White British or Irish",2]
["2021/22","Suffolk","E31000034","Non-metropolitan","Predominantly Rural","HC","Support staff","Asian or Asian British",0]
["2021/22","Suffolk","E31000034","Non-metropolitan","Predominantly Rural","HC","Support staff","Black or Black British",0]
["2021/22","Suffolk","E31000034","Non-metropolitan","Predominantly Rural","HC","Support staff","Chinese or other ethnicity",0]
["2021/22","Suffolk","E31000034","Non-metropolitan","Predominantly Rural","HC","Support staff","Ethnic origin not stated",3]
["2021/22","Suffolk","E31000034","Non-metropolitan","Predominantly Rural","HC","Support staff","Mixed",0]
["2021/22","Suffolk","E31000034","Non-metropolitan","Predominantly Rural","HC","Support staff","White British or Irish",7]
["2021/22","Suffolk","E31000034","Non-metropolitan","Predominantly Rural","HC","Wholetime firefighters","Asian or Asian British",0]
["2021/22","Suffolk","E31000034","Non-metropolitan","Predominantly Rural","HC","Wholetime firefighters","Black or Black British",0]
["2021/22","Suffolk","E31000034","Non-metropolitan","Predominantly Rural","HC","Wholetime firefighters","Chinese or other ethnicity",0]
["2021/22","Suffolk","E31000034","Non-metropolitan","Predominantly Rural","HC","Wholetime firefighters","Ethnic origin not stated",17]
["2021/22","Suffolk","E31000034","Non-metropolitan","Predominantly Rural","HC","Wholetime firefighters","Mixed",0]
["2021/22","Suffolk","E31000034","Non-metropolitan","Predominantly Rural","HC","Wholetime firefighters","White British or Irish",2]
["2021/22","Surrey","E31000035","Non-metropolitan","Predominantly Urban","HC","Fire control","Asian or Asian British",0]
["2021/22","Surrey","E31000035","Non-metropolitan","Predominantly Urban","HC","Fire control","Black or Black British",0]
["2021/22","Surrey","E31000035","Non-metropolitan","Predominantly Urban","HC","Fire control","Chinese or other ethnicity",0]
["2021/22","Surrey","E31000035","Non-metropolitan","Predominantly Urban","HC","Fire control","Ethnic origin not stated",0]
["2021/22","Surrey","E31000035","Non-metropolitan","Predominantly Urban","HC","Fire control","Mixed",0]
["2021/22","Surrey","E31000035","Non-metropolitan","Predominantly Urban","HC","Fire control","White British or Irish",9]
["2021/22","Surrey","E31000035","Non-metropolitan","Predominantly Urban","HC","On call firefighters","Asian or Asian British",0]
["2021/22","Surrey","E31000035","Non-metropolitan","Predominantly Urban","HC","On call firefighters","Black or Black British",0]
["2021/22","Surrey","E31000035","Non-metropolitan","Predominantly Urban","HC","On call firefighters","Chinese or other ethnicity",1]
["2021/22","Surrey","E31000035","Non-metropolitan","Predominantly Urban","HC","On call firefighters","Ethnic origin not stated",0]
["2021/22","Surrey","E31000035","Non-metropolitan","Predominantly Urban","HC","On call firefighters","Mixed",0]
["2021/22","Surrey","E31000035","Non-metropolitan","Predominantly Urban","HC","On call firefighters","White British or Irish",13]
["2021/22","Surrey","E31000035","Non-metropolitan","Predominantly Urban","HC","Support staff","Asian or Asian British",1]
["2021/22","Surrey","E31000035","Non-metropolitan","Predominantly Urban","HC","Support staff","Black or Black British",2]
["2021/22","Surrey","E31000035","Non-metropolitan","Predominantly Urban","HC","Support staff","Chinese or other ethnicity",1]
["2021/22","Surrey","E31000035","Non-metropolitan","Predominantly Urban","HC","Support staff","Ethnic origin not stated",6]
["2021/22","Surrey","E31000035","Non-metropolitan","Predominantly Urban","HC","Support staff","Mixed",0]
["2021/22","Surrey","E31000035","Non-metropolitan","Predominantly Urban","HC","Support staff","White British or Irish",17]
["2021/22","Surrey","E31000035","Non-metropolitan","Predominantly Urban","HC","Wholetime firefighters","Asian or Asian British",1]
["2021/22","Surrey","E31000035","Non-metropolitan","Predominantly Urban","HC","Wholetime firefighters","Black or Black British",0]
["2021/22","Surrey","E31000035","Non-metropolitan","Predominantly Urban","HC","Wholetime firefighters","Chinese or other ethnicity",1]
["2021/22","Surrey","E31000035","Non-metropolitan","Predominantly Urban","HC","Wholetime firefighters","Ethnic origin not stated",1]
["2021/22","Surrey","E31000035","Non-metropolitan","Predominantly Urban","HC","Wholetime firefighters","Mixed",0]
["2021/22","Surrey","E31000035","Non-metropolitan","Predominantly Urban","HC","Wholetime firefighters","White British or Irish",29]
["2021/22","Tyne and Wear","E31000043","Metropolitan","Predominantly Urban","HC","Fire control","Asian or Asian British",0]
["2021/22","Tyne and Wear","E31000043","Metropolitan","Predominantly Urban","HC","Fire control","Black or Black British",0]
["2021/22","Tyne and Wear","E31000043","Metropolitan","Predominantly Urban","HC","Fire control","Chinese or other ethnicity",0]
["2021/22","Tyne and Wear","E31000043","Metropolitan","Predominantly Urban","HC","Fire control","Ethnic origin not stated",0]
["2021/22","Tyne and Wear","E31000043","Metropolitan","Predominantly Urban","HC","Fire control","Mixed",0]
["2021/22","Tyne and Wear","E31000043","Metropolitan","Predominantly Urban","HC","Fire control","White British or Irish",2]
["2021/22","Tyne and Wear","E31000043","Metropolitan","Predominantly Urban","HC","On call firefighters","Asian or Asian British",0]
["2021/22","Tyne and Wear","E31000043","Metropolitan","Predominantly Urban","HC","On call firefighters","Black or Black British",0]
["2021/22","Tyne and Wear","E31000043","Metropolitan","Predominantly Urban","HC","On call firefighters","Chinese or other ethnicity",0]
["2021/22","Tyne and Wear","E31000043","Metropolitan","Predominantly Urban","HC","On call firefighters","Ethnic origin not stated",0]
["2021/22","Tyne and Wear","E31000043","Metropolitan","Predominantly Urban","HC","On call firefighters","Mixed",0]
["2021/22","Tyne and Wear","E31000043","Metropolitan","Predominantly Urban","HC","On call firefighters","White British or Irish",0]
["2021/22","Tyne and Wear","E31000043","Metropolitan","Predominantly Urban","HC","Support staff","Asian or Asian British",1]
["2021/22","Tyne and Wear","E31000043","Metropolitan","Predominantly Urban","HC","Support staff","Black or Black British",0]
["2021/22","Tyne and Wear","E31000043","Metropolitan","Predominantly Urban","HC","Support staff","Chinese or other ethnicity",1]
["2021/22","Tyne and Wear","E31000043","Metropolitan","Predominantly Urban","HC","Support staff","Ethnic origin not stated",0]
["2021/22","Tyne and Wear","E31000043","Metropolitan","Predominantly Urban","HC","Support staff","Mixed",0]
["2021/22","Tyne and Wear","E31000043","Metropolitan","Predominantly Urban","HC","Support staff","White British or Irish",26]
["2021/22","Tyne and Wear","E31000043","Metropolitan","Predominantly Urban","HC","Wholetime firefighters","Asian or Asian British",2]
["2021/22","Tyne and Wear","E31000043","Metropolitan","Predominantly Urban","HC","Wholetime firefighters","Black or Black British",0]
["2021/22","Tyne and Wear","E31000043","Metropolitan","Predominantly Urban","HC","Wholetime firefighters","Chinese or other ethnicity",1]
["2021/22","Tyne and Wear","E31000043","Metropolitan","Predominantly Urban","HC","Wholetime firefighters","Ethnic origin not stated",0]
["2021/22","Tyne and Wear","E31000043","Metropolitan","Predominantly Urban","HC","Wholetime firefighters","Mixed",1]
["2021/22","Tyne and Wear","E31000043","Metropolitan","Predominantly Urban","HC","Wholetime firefighters","White British or Irish",70]
["2021/22","Warwickshire","E31000036","Non-metropolitan","Significantly Rural","HC","Fire control","Asian or Asian British",0]
["2021/22","Warwickshire","E31000036","Non-metropolitan","Significantly Rural","HC","Fire control","Black or Black British",0]
["2021/22","Warwickshire","E31000036","Non-metropolitan","Significantly Rural","HC","Fire control","Chinese or other ethnicity",0]
["2021/22","Warwickshire","E31000036","Non-metropolitan","Significantly Rural","HC","Fire control","Ethnic origin not stated",0]
["2021/22","Warwickshire","E31000036","Non-metropolitan","Significantly Rural","HC","Fire control","Mixed",0]
["2021/22","Warwickshire","E31000036","Non-metropolitan","Significantly Rural","HC","Fire control","White British or Irish",4]
["2021/22","Warwickshire","E31000036","Non-metropolitan","Significantly Rural","HC","On call firefighters","Asian or Asian British",0]
["2021/22","Warwickshire","E31000036","Non-metropolitan","Significantly Rural","HC","On call firefighters","Black or Black British",0]
["2021/22","Warwickshire","E31000036","Non-metropolitan","Significantly Rural","HC","On call firefighters","Chinese or other ethnicity",0]
["2021/22","Warwickshire","E31000036","Non-metropolitan","Significantly Rural","HC","On call firefighters","Ethnic origin not stated",1]
["2021/22","Warwickshire","E31000036","Non-metropolitan","Significantly Rural","HC","On call firefighters","Mixed",0]
["2021/22","Warwickshire","E31000036","Non-metropolitan","Significantly Rural","HC","On call firefighters","White British or Irish",17]
["2021/22","Warwickshire","E31000036","Non-metropolitan","Significantly Rural","HC","Support staff","Asian or Asian British",0]
["2021/22","Warwickshire","E31000036","Non-metropolitan","Significantly Rural","HC","Support staff","Black or Black British",0]
["2021/22","Warwickshire","E31000036","Non-metropolitan","Significantly Rural","HC","Support staff","Chinese or other ethnicity",0]
["2021/22","Warwickshire","E31000036","Non-metropolitan","Significantly Rural","HC","Support staff","Ethnic origin not stated",2]
["2021/22","Warwickshire","E31000036","Non-metropolitan","Significantly Rural","HC","Support staff","Mixed",1]
["2021/22","Warwickshire","E31000036","Non-metropolitan","Significantly Rural","HC","Support staff","White British or Irish",9]
["2021/22","Warwickshire","E31000036","Non-metropolitan","Significantly Rural","HC","Wholetime firefighters","Asian or Asian British",1]
["2021/22","Warwickshire","E31000036","Non-metropolitan","Significantly Rural","HC","Wholetime firefighters","Black or Black British",0]
["2021/22","Warwickshire","E31000036","Non-metropolitan","Significantly Rural","HC","Wholetime firefighters","Chinese or other ethnicity",0]
["2021/22","Warwickshire","E31000036","Non-metropolitan","Significantly Rural","HC","Wholetime firefighters","Ethnic origin not stated",5]
["2021/22","Warwickshire","E31000036","Non-metropolitan","Significantly Rural","HC","Wholetime firefighters","Mixed",0]
["2021/22","Warwickshire","E31000036","Non-metropolitan","Significantly Rural","HC","Wholetime firefighters","White British or Irish",37]
["2021/22","West Midlands","E31000044","Metropolitan","Predominantly Urban","HC","Fire control","Asian or Asian British",0]
["2021/22","West Midlands","E31000044","Metropolitan","Predominantly Urban","HC","Fire control","Black or Black British",0]
["2021/22","West Midlands","E31000044","Metropolitan","Predominantly Urban","HC","Fire control","Chinese or other ethnicity",0]
["2021/22","West Midlands","E31000044","Metropolitan","Predominantly Urban","HC","Fire control","Ethnic origin not stated",1]
["2021/22","West Midlands","E31000044","Metropolitan","Predominantly Urban","HC","Fire control","Mixed",0]
["2021/22","West Midlands","E31000044","Metropolitan","Predominantly Urban","HC","Fire control","White British or Irish",7]
["2021/22","West Midlands","E31000044","Metropolitan","Predominantly Urban","HC","On call firefighters","Asian or Asian British",0]
["2021/22","West Midlands","E31000044","Metropolitan","Predominantly Urban","HC","On call firefighters","Black or Black British",0]
["2021/22","West Midlands","E31000044","Metropolitan","Predominantly Urban","HC","On call firefighters","Chinese or other ethnicity",0]
["2021/22","West Midlands","E31000044","Metropolitan","Predominantly Urban","HC","On call firefighters","Ethnic origin not stated",0]
["2021/22","West Midlands","E31000044","Metropolitan","Predominantly Urban","HC","On call firefighters","Mixed",0]
["2021/22","West Midlands","E31000044","Metropolitan","Predominantly Urban","HC","On call firefighters","White British or Irish",0]
["2021/22","West Midlands","E31000044","Metropolitan","Predominantly Urban","HC","Support staff","Asian or Asian British",1]
["2021/22","West Midlands","E31000044","Metropolitan","Predominantly Urban","HC","Support staff","Black or Black British",0]
["2021/22","West Midlands","E31000044","Metropolitan","Predominantly Urban","HC","Support staff","Chinese or other ethnicity",0]
["2021/22","West Midlands","E31000044","Metropolitan","Predominantly Urban","HC","Support staff","Ethnic origin not stated",5]
["2021/22","West Midlands","E31000044","Metropolitan","Predominantly Urban","HC","Support staff","Mixed",0]
["2021/22","West Midlands","E31000044","Metropolitan","Predominantly Urban","HC","Support staff","White British or Irish",13]
["2021/22","West Midlands","E31000044","Metropolitan","Predominantly Urban","HC","Wholetime firefighters","Asian or Asian British",4]
["2021/22","West Midlands","E31000044","Metropolitan","Predominantly Urban","HC","Wholetime firefighters","Black or Black British",6]
["2021/22","West Midlands","E31000044","Metropolitan","Predominantly Urban","HC","Wholetime firefighters","Chinese or other ethnicity",2]
["2021/22","West Midlands","E31000044","Metropolitan","Predominantly Urban","HC","Wholetime firefighters","Ethnic origin not stated",5]
["2021/22","West Midlands","E31000044","Metropolitan","Predominantly Urban","HC","Wholetime firefighters","Mixed",6]
["2021/22","West Midlands","E31000044","Metropolitan","Predominantly Urban","HC","Wholetime firefighters","White British or Irish",63]
["2021/22","West Sussex","E31000037","Non-metropolitan","Significantly Rural","HC","Fire control","Asian or Asian British",0]
["2021/22","West Sussex","E31000037","Non-metropolitan","Significantly Rural","HC","Fire control","Black or Black British",0]
["2021/22","West Sussex","E31000037","Non-metropolitan","Significantly Rural","HC","Fire control","Chinese or other ethnicity",0]
["2021/22","West Sussex","E31000037","Non-metropolitan","Significantly Rural","HC","Fire control","Ethnic origin not stated",0]
["2021/22","West Sussex","E31000037","Non-metropolitan","Significantly Rural","HC","Fire control","Mixed",0]
["2021/22","West Sussex","E31000037","Non-metropolitan","Significantly Rural","HC","Fire control","White British or Irish",0]
["2021/22","West Sussex","E31000037","Non-metropolitan","Significantly Rural","HC","On call firefighters","Asian or Asian British",0]
["2021/22","West Sussex","E31000037","Non-metropolitan","Significantly Rural","HC","On call firefighters","Black or Black British",0]
["2021/22","West Sussex","E31000037","Non-metropolitan","Significantly Rural","HC","On call firefighters","Chinese or other ethnicity",1]
["2021/22","West Sussex","E31000037","Non-metropolitan","Significantly Rural","HC","On call firefighters","Ethnic origin not stated",4]
["2021/22","West Sussex","E31000037","Non-metropolitan","Significantly Rural","HC","On call firefighters","Mixed",1]
["2021/22","West Sussex","E31000037","Non-metropolitan","Significantly Rural","HC","On call firefighters","White British or Irish",20]
["2021/22","West Sussex","E31000037","Non-metropolitan","Significantly Rural","HC","Support staff","Asian or Asian British",0]
["2021/22","West Sussex","E31000037","Non-metropolitan","Significantly Rural","HC","Support staff","Black or Black British",0]
["2021/22","West Sussex","E31000037","Non-metropolitan","Significantly Rural","HC","Support staff","Chinese or other ethnicity",0]
["2021/22","West Sussex","E31000037","Non-metropolitan","Significantly Rural","HC","Support staff","Ethnic origin not stated",13]
["2021/22","West Sussex","E31000037","Non-metropolitan","Significantly Rural","HC","Support staff","Mixed",0]
["2021/22","West Sussex","E31000037","Non-metropolitan","Significantly Rural","HC","Support staff","White British or Irish",4]
["2021/22","West Sussex","E31000037","Non-metropolitan","Significantly Rural","HC","Wholetime firefighters","Asian or Asian British",0]
["2021/22","West Sussex","E31000037","Non-metropolitan","Significantly Rural","HC","Wholetime firefighters","Black or Black British",0]
["2021/22","West Sussex","E31000037","Non-metropolitan","Significantly Rural","HC","Wholetime firefighters","Chinese or other ethnicity",0]
["2021/22","West Sussex","E31000037","Non-metropolitan","Significantly Rural","HC","Wholetime firefighters","Ethnic origin not stated",12]
["2021/22","West Sussex","E31000037","Non-metropolitan","Significantly Rural","HC","Wholetime firefighters","Mixed",0]
["2021/22","West Sussex","E31000037","Non-metropolitan","Significantly Rural","HC","Wholetime firefighters","White British or Irish",10]
["2021/22","West Yorkshire","E31000045","Metropolitan","Predominantly Urban","HC","Fire control","Asian or Asian British",0]
["2021/22","West Yorkshire","E31000045","Metropolitan","Predominantly Urban","HC","Fire control","Black or Black British",0]
["2021/22","West Yorkshire","E31000045","Metropolitan","Predominantly Urban","HC","Fire control","Chinese or other ethnicity",0]
["2021/22","West Yorkshire","E31000045","Metropolitan","Predominantly Urban","HC","Fire control","Ethnic origin not stated",0]
["2021/22","West Yorkshire","E31000045","Metropolitan","Predominantly Urban","HC","Fire control","Mixed",0]
["2021/22","West Yorkshire","E31000045","Metropolitan","Predominantly Urban","HC","Fire control","White British or Irish",5]
["2021/22","West Yorkshire","E31000045","Metropolitan","Predominantly Urban","HC","On call firefighters","Asian or Asian British",0]
["2021/22","West Yorkshire","E31000045","Metropolitan","Predominantly Urban","HC","On call firefighters","Black or Black British",0]
["2021/22","West Yorkshire","E31000045","Metropolitan","Predominantly Urban","HC","On call firefighters","Chinese or other ethnicity",2]
["2021/22","West Yorkshire","E31000045","Metropolitan","Predominantly Urban","HC","On call firefighters","Ethnic origin not stated",1]
["2021/22","West Yorkshire","E31000045","Metropolitan","Predominantly Urban","HC","On call firefighters","Mixed",0]
["2021/22","West Yorkshire","E31000045","Metropolitan","Predominantly Urban","HC","On call firefighters","White British or Irish",12]
["2021/22","West Yorkshire","E31000045","Metropolitan","Predominantly Urban","HC","Support staff","Asian or Asian British",1]
["2021/22","West Yorkshire","E31000045","Metropolitan","Predominantly Urban","HC","Support staff","Black or Black British",0]
["2021/22","West Yorkshire","E31000045","Metropolitan","Predominantly Urban","HC","Support staff","Chinese or other ethnicity",0]
["2021/22","West Yorkshire","E31000045","Metropolitan","Predominantly Urban","HC","Support staff","Ethnic origin not stated",12]
["2021/22","West Yorkshire","E31000045","Metropolitan","Predominantly Urban","HC","Support staff","Mixed",1]
["2021/22","West Yorkshire","E31000045","Metropolitan","Predominantly Urban","HC","Support staff","White British or Irish",22]
["2021/22","West Yorkshire","E31000045","Metropolitan","Predominantly Urban","HC","Wholetime firefighters","Asian or Asian British",0]
["2021/22","West Yorkshire","E31000045","Metropolitan","Predominantly Urban","HC","Wholetime firefighters","Black or Black British",0]
["2021/22","West Yorkshire","E31000045","Metropolitan","Predominantly Urban","HC","Wholetime firefighters","Chinese or other ethnicity",0]
["2021/22","West Yorkshire","E31000045","Metropolitan","Predominantly Urban","HC","Wholetime firefighters","Ethnic origin not stated",9]
["2021/22","West Yorkshire","E31000045","Metropolitan","Predominantly Urban","HC","Wholetime firefighters","Mixed",1]
["2021/22","West Yorkshire","E31000045","Metropolitan","Predominantly Urban","HC","Wholetime firefighters","White British or Irish",32]
["2022/23","Avon","E31000001","Non-metropolitan","Predominantly Urban","HC","Fire control","Asian or Asian British",0]
["2022/23","Avon","E31000001","Non-metropolitan","Predominantly Urban","HC","Fire control","Black or Black British",0]
["2022/23","Avon","E31000001","Non-metropolitan","Predominantly Urban","HC","Fire control","Chinese or other ethnicity",0]
["2022/23","Avon","E31000001","Non-metropolitan","Predominantly Urban","HC","Fire control","Ethnic origin not stated",0]
["2022/23","Avon","E31000001","Non-metropolitan","Predominantly Urban","HC","Fire control","Mixed",0]
["2022/23","Avon","E31000001","Non-metropolitan","Predominantly Urban","HC","Fire control","White British or Irish",7]
["2022/23","Avon","E31000001","Non-metropolitan","Predominantly Urban","HC","On call firefighters","Asian or Asian British",0]
["2022/23","Avon","E31000001","Non-metropolitan","Predominantly Urban","HC","On call firefighters","Black or Black British",0]
["2022/23","Avon","E31000001","Non-metropolitan","Predominantly Urban","HC","On call firefighters","Chinese or other ethnicity",0]
["2022/23","Avon","E31000001","Non-metropolitan","Predominantly Urban","HC","On call firefighters","Ethnic origin not stated",2]
["2022/23","Avon","E31000001","Non-metropolitan","Predominantly Urban","HC","On call firefighters","Mixed",0]
["2022/23","Avon","E31000001","Non-metropolitan","Predominantly Urban","HC","On call firefighters","White British or Irish",12]
["2022/23","Avon","E31000001","Non-metropolitan","Predominantly Urban","HC","Support staff","Asian or Asian British",0]
["2022/23","Avon","E31000001","Non-metropolitan","Predominantly Urban","HC","Support staff","Black or Black British",0]
["2022/23","Avon","E31000001","Non-metropolitan","Predominantly Urban","HC","Support staff","Chinese or other ethnicity",2]
["2022/23","Avon","E31000001","Non-metropolitan","Predominantly Urban","HC","Support staff","Ethnic origin not stated",4]
["2022/23","Avon","E31000001","Non-metropolitan","Predominantly Urban","HC","Support staff","Mixed",0]
["2022/23","Avon","E31000001","Non-metropolitan","Predominantly Urban","HC","Support staff","White British or Irish",40]
["2022/23","Avon","E31000001","Non-metropolitan","Predominantly Urban","HC","Wholetime firefighters","Asian or Asian British",0]
["2022/23","Avon","E31000001","Non-metropolitan","Predominantly Urban","HC","Wholetime firefighters","Black or Black British",0]
["2022/23","Avon","E31000001","Non-metropolitan","Predominantly Urban","HC","Wholetime firefighters","Chinese or other ethnicity",6]
["2022/23","Avon","E31000001","Non-metropolitan","Predominantly Urban","HC","Wholetime firefighters","Ethnic origin not stated",3]
["2022/23","Avon","E31000001","Non-metropolitan","Predominantly Urban","HC","Wholetime firefighters","Mixed",2]
["2022/23","Avon","E31000001","Non-metropolitan","Predominantly Urban","HC","Wholetime firefighters","White British or Irish",41]
["2022/23","Bedfordshire","E31000002","Non-metropolitan","Significantly Rural","HC","Fire control","Asian or Asian British",1]
["2022/23","Bedfordshire","E31000002","Non-metropolitan","Significantly Rural","HC","Fire control","Black or Black British",0]
["2022/23","Bedfordshire","E31000002","Non-metropolitan","Significantly Rural","HC","Fire control","Chinese or other ethnicity",0]
["2022/23","Bedfordshire","E31000002","Non-metropolitan","Significantly Rural","HC","Fire control","Ethnic origin not stated",0]
["2022/23","Bedfordshire","E31000002","Non-metropolitan","Significantly Rural","HC","Fire control","Mixed",0]
["2022/23","Bedfordshire","E31000002","Non-metropolitan","Significantly Rural","HC","Fire control","White British or Irish",3]
["2022/23","Bedfordshire","E31000002","Non-metropolitan","Significantly Rural","HC","On call firefighters","Asian or Asian British",0]
["2022/23","Bedfordshire","E31000002","Non-metropolitan","Significantly Rural","HC","On call firefighters","Black or Black British",0]
["2022/23","Bedfordshire","E31000002","Non-metropolitan","Significantly Rural","HC","On call firefighters","Chinese or other ethnicity",0]
["2022/23","Bedfordshire","E31000002","Non-metropolitan","Significantly Rural","HC","On call firefighters","Ethnic origin not stated",2]
["2022/23","Bedfordshire","E31000002","Non-metropolitan","Significantly Rural","HC","On call firefighters","Mixed",0]
["2022/23","Bedfordshire","E31000002","Non-metropolitan","Significantly Rural","HC","On call firefighters","White British or Irish",19]
["2022/23","Bedfordshire","E31000002","Non-metropolitan","Significantly Rural","HC","Support staff","Asian or Asian British",2]
["2022/23","Bedfordshire","E31000002","Non-metropolitan","Significantly Rural","HC","Support staff","Black or Black British",3]
["2022/23","Bedfordshire","E31000002","Non-metropolitan","Significantly Rural","HC","Support staff","Chinese or other ethnicity",6]
["2022/23","Bedfordshire","E31000002","Non-metropolitan","Significantly Rural","HC","Support staff","Ethnic origin not stated",17]
["2022/23","Bedfordshire","E31000002","Non-metropolitan","Significantly Rural","HC","Support staff","Mixed",0]
["2022/23","Bedfordshire","E31000002","Non-metropolitan","Significantly Rural","HC","Support staff","White British or Irish",20]
["2022/23","Bedfordshire","E31000002","Non-metropolitan","Significantly Rural","HC","Wholetime firefighters","Asian or Asian British",0]
["2022/23","Bedfordshire","E31000002","Non-metropolitan","Significantly Rural","HC","Wholetime firefighters","Black or Black British",1]
["2022/23","Bedfordshire","E31000002","Non-metropolitan","Significantly Rural","HC","Wholetime firefighters","Chinese or other ethnicity",0]
["2022/23","Bedfordshire","E31000002","Non-metropolitan","Significantly Rural","HC","Wholetime firefighters","Ethnic origin not stated",0]
["2022/23","Bedfordshire","E31000002","Non-metropolitan","Significantly Rural","HC","Wholetime firefighters","Mixed",0]
["2022/23","Bedfordshire","E31000002","Non-metropolitan","Significantly Rural","HC","Wholetime firefighters","White British or Irish",15]
["2022/23","Berkshire","E31000003","Non-metropolitan","Predominantly Urban","HC","Fire control","Asian or Asian British",0]
["2022/23","Berkshire","E31000003","Non-metropolitan","Predominantly Urban","HC","Fire control","Black or Black British",0]
["2022/23","Berkshire","E31000003","Non-metropolitan","Predominantly Urban","HC","Fire control","Chinese or other ethnicity",0]
["2022/23","Berkshire","E31000003","Non-metropolitan","Predominantly Urban","HC","Fire control","Ethnic origin not stated",0]
["2022/23","Berkshire","E31000003","Non-metropolitan","Predominantly Urban","HC","Fire control","Mixed",0]
["2022/23","Berkshire","E31000003","Non-metropolitan","Predominantly Urban","HC","Fire control","White British or Irish",4]
["2022/23","Berkshire","E31000003","Non-metropolitan","Predominantly Urban","HC","On call firefighters","Asian or Asian British",0]
["2022/23","Berkshire","E31000003","Non-metropolitan","Predominantly Urban","HC","On call firefighters","Black or Black British",0]
["2022/23","Berkshire","E31000003","Non-metropolitan","Predominantly Urban","HC","On call firefighters","Chinese or other ethnicity",1]
["2022/23","Berkshire","E31000003","Non-metropolitan","Predominantly Urban","HC","On call firefighters","Ethnic origin not stated",0]
["2022/23","Berkshire","E31000003","Non-metropolitan","Predominantly Urban","HC","On call firefighters","Mixed",0]
["2022/23","Berkshire","E31000003","Non-metropolitan","Predominantly Urban","HC","On call firefighters","White British or Irish",9]
["2022/23","Berkshire","E31000003","Non-metropolitan","Predominantly Urban","HC","Support staff","Asian or Asian British",1]
["2022/23","Berkshire","E31000003","Non-metropolitan","Predominantly Urban","HC","Support staff","Black or Black British",1]
["2022/23","Berkshire","E31000003","Non-metropolitan","Predominantly Urban","HC","Support staff","Chinese or other ethnicity",1]
["2022/23","Berkshire","E31000003","Non-metropolitan","Predominantly Urban","HC","Support staff","Ethnic origin not stated",0]
["2022/23","Berkshire","E31000003","Non-metropolitan","Predominantly Urban","HC","Support staff","Mixed",0]
["2022/23","Berkshire","E31000003","Non-metropolitan","Predominantly Urban","HC","Support staff","White British or Irish",17]
["2022/23","Berkshire","E31000003","Non-metropolitan","Predominantly Urban","HC","Wholetime firefighters","Asian or Asian British",0]
["2022/23","Berkshire","E31000003","Non-metropolitan","Predominantly Urban","HC","Wholetime firefighters","Black or Black British",0]
["2022/23","Berkshire","E31000003","Non-metropolitan","Predominantly Urban","HC","Wholetime firefighters","Chinese or other ethnicity",0]
["2022/23","Berkshire","E31000003","Non-metropolitan","Predominantly Urban","HC","Wholetime firefighters","Ethnic origin not stated",0]
["2022/23","Berkshire","E31000003","Non-metropolitan","Predominantly Urban","HC","Wholetime firefighters","Mixed",0]
["2022/23","Berkshire","E31000003","Non-metropolitan","Predominantly Urban","HC","Wholetime firefighters","White British or Irish",34]
["2022/23","Buckinghamshire","E31000004","Non-metropolitan","Significantly Rural","HC","Fire control","Asian or Asian British",0]
["2022/23","Buckinghamshire","E31000004","Non-metropolitan","Significantly Rural","HC","Fire control","Black or Black British",0]
["2022/23","Buckinghamshire","E31000004","Non-metropolitan","Significantly Rural","HC","Fire control","Chinese or other ethnicity",0]
["2022/23","Buckinghamshire","E31000004","Non-metropolitan","Significantly Rural","HC","Fire control","Ethnic origin not stated",0]
["2022/23","Buckinghamshire","E31000004","Non-metropolitan","Significantly Rural","HC","Fire control","Mixed",0]
["2022/23","Buckinghamshire","E31000004","Non-metropolitan","Significantly Rural","HC","Fire control","White British or Irish",0]
["2022/23","Buckinghamshire","E31000004","Non-metropolitan","Significantly Rural","HC","On call firefighters","Asian or Asian British",1]
["2022/23","Buckinghamshire","E31000004","Non-metropolitan","Significantly Rural","HC","On call firefighters","Black or Black British",0]
["2022/23","Buckinghamshire","E31000004","Non-metropolitan","Significantly Rural","HC","On call firefighters","Chinese or other ethnicity",0]
["2022/23","Buckinghamshire","E31000004","Non-metropolitan","Significantly Rural","HC","On call firefighters","Ethnic origin not stated",3]
["2022/23","Buckinghamshire","E31000004","Non-metropolitan","Significantly Rural","HC","On call firefighters","Mixed",3]
["2022/23","Buckinghamshire","E31000004","Non-metropolitan","Significantly Rural","HC","On call firefighters","White British or Irish",9]
["2022/23","Buckinghamshire","E31000004","Non-metropolitan","Significantly Rural","HC","Support staff","Asian or Asian British",0]
["2022/23","Buckinghamshire","E31000004","Non-metropolitan","Significantly Rural","HC","Support staff","Black or Black British",4]
["2022/23","Buckinghamshire","E31000004","Non-metropolitan","Significantly Rural","HC","Support staff","Chinese or other ethnicity",0]
["2022/23","Buckinghamshire","E31000004","Non-metropolitan","Significantly Rural","HC","Support staff","Ethnic origin not stated",2]
["2022/23","Buckinghamshire","E31000004","Non-metropolitan","Significantly Rural","HC","Support staff","Mixed",1]
["2022/23","Buckinghamshire","E31000004","Non-metropolitan","Significantly Rural","HC","Support staff","White British or Irish",23]
["2022/23","Buckinghamshire","E31000004","Non-metropolitan","Significantly Rural","HC","Wholetime firefighters","Asian or Asian British",1]
["2022/23","Buckinghamshire","E31000004","Non-metropolitan","Significantly Rural","HC","Wholetime firefighters","Black or Black British",1]
["2022/23","Buckinghamshire","E31000004","Non-metropolitan","Significantly Rural","HC","Wholetime firefighters","Chinese or other ethnicity",1]
["2022/23","Buckinghamshire","E31000004","Non-metropolitan","Significantly Rural","HC","Wholetime firefighters","Ethnic origin not stated",3]
["2022/23","Buckinghamshire","E31000004","Non-metropolitan","Significantly Rural","HC","Wholetime firefighters","Mixed",5]
["2022/23","Buckinghamshire","E31000004","Non-metropolitan","Significantly Rural","HC","Wholetime firefighters","White British or Irish",38]
["2022/23","Cambridgeshire","E31000005","Non-metropolitan","Predominantly Rural","HC","Fire control","Asian or Asian British",0]
["2022/23","Cambridgeshire","E31000005","Non-metropolitan","Predominantly Rural","HC","Fire control","Black or Black British",0]
["2022/23","Cambridgeshire","E31000005","Non-metropolitan","Predominantly Rural","HC","Fire control","Chinese or other ethnicity",0]
["2022/23","Cambridgeshire","E31000005","Non-metropolitan","Predominantly Rural","HC","Fire control","Ethnic origin not stated",0]
["2022/23","Cambridgeshire","E31000005","Non-metropolitan","Predominantly Rural","HC","Fire control","Mixed",0]
["2022/23","Cambridgeshire","E31000005","Non-metropolitan","Predominantly Rural","HC","Fire control","White British or Irish",0]
["2022/23","Cambridgeshire","E31000005","Non-metropolitan","Predominantly Rural","HC","On call firefighters","Asian or Asian British",0]
["2022/23","Cambridgeshire","E31000005","Non-metropolitan","Predominantly Rural","HC","On call firefighters","Black or Black British",2]
["2022/23","Cambridgeshire","E31000005","Non-metropolitan","Predominantly Rural","HC","On call firefighters","Chinese or other ethnicity",2]
["2022/23","Cambridgeshire","E31000005","Non-metropolitan","Predominantly Rural","HC","On call firefighters","Ethnic origin not stated",3]
["2022/23","Cambridgeshire","E31000005","Non-metropolitan","Predominantly Rural","HC","On call firefighters","Mixed",1]
["2022/23","Cambridgeshire","E31000005","Non-metropolitan","Predominantly Rural","HC","On call firefighters","White British or Irish",34]
["2022/23","Cambridgeshire","E31000005","Non-metropolitan","Predominantly Rural","HC","Support staff","Asian or Asian British",0]
["2022/23","Cambridgeshire","E31000005","Non-metropolitan","Predominantly Rural","HC","Support staff","Black or Black British",1]
["2022/23","Cambridgeshire","E31000005","Non-metropolitan","Predominantly Rural","HC","Support staff","Chinese or other ethnicity",1]
["2022/23","Cambridgeshire","E31000005","Non-metropolitan","Predominantly Rural","HC","Support staff","Ethnic origin not stated",7]
["2022/23","Cambridgeshire","E31000005","Non-metropolitan","Predominantly Rural","HC","Support staff","Mixed",0]
["2022/23","Cambridgeshire","E31000005","Non-metropolitan","Predominantly Rural","HC","Support staff","White British or Irish",8]
["2022/23","Cambridgeshire","E31000005","Non-metropolitan","Predominantly Rural","HC","Wholetime firefighters","Asian or Asian British",0]
["2022/23","Cambridgeshire","E31000005","Non-metropolitan","Predominantly Rural","HC","Wholetime firefighters","Black or Black British",0]
["2022/23","Cambridgeshire","E31000005","Non-metropolitan","Predominantly Rural","HC","Wholetime firefighters","Chinese or other ethnicity",0]
["2022/23","Cambridgeshire","E31000005","Non-metropolitan","Predominantly Rural","HC","Wholetime firefighters","Ethnic origin not stated",2]
["2022/23","Cambridgeshire","E31000005","Non-metropolitan","Predominantly Rural","HC","Wholetime firefighters","Mixed",0]
["2022/23","Cambridgeshire","E31000005","Non-metropolitan","Predominantly Rural","HC","Wholetime firefighters","White British or Irish",9]
["2022/23","Cheshire","E31000006","Non-metropolitan","Significantly Rural","HC","Fire control","Asian or Asian British",0]
["2022/23","Cheshire","E31000006","Non-metropolitan","Significantly Rural","HC","Fire control","Black or Black British",0]
["2022/23","Cheshire","E31000006","Non-metropolitan","Significantly Rural","HC","Fire control","Chinese or other ethnicity",0]
["2022/23","Cheshire","E31000006","Non-metropolitan","Significantly Rural","HC","Fire control","Ethnic origin not stated",0]
["2022/23","Cheshire","E31000006","Non-metropolitan","Significantly Rural","HC","Fire control","Mixed",0]
["2022/23","Cheshire","E31000006","Non-metropolitan","Significantly Rural","HC","Fire control","White British or Irish",0]
["2022/23","Cheshire","E31000006","Non-metropolitan","Significantly Rural","HC","On call firefighters","Asian or Asian British",0]
["2022/23","Cheshire","E31000006","Non-metropolitan","Significantly Rural","HC","On call firefighters","Black or Black British",0]
["2022/23","Cheshire","E31000006","Non-metropolitan","Significantly Rural","HC","On call firefighters","Chinese or other ethnicity",1]
["2022/23","Cheshire","E31000006","Non-metropolitan","Significantly Rural","HC","On call firefighters","Ethnic origin not stated",2]
["2022/23","Cheshire","E31000006","Non-metropolitan","Significantly Rural","HC","On call firefighters","Mixed",0]
["2022/23","Cheshire","E31000006","Non-metropolitan","Significantly Rural","HC","On call firefighters","White British or Irish",26]
["2022/23","Cheshire","E31000006","Non-metropolitan","Significantly Rural","HC","Support staff","Asian or Asian British",0]
["2022/23","Cheshire","E31000006","Non-metropolitan","Significantly Rural","HC","Support staff","Black or Black British",0]
["2022/23","Cheshire","E31000006","Non-metropolitan","Significantly Rural","HC","Support staff","Chinese or other ethnicity",0]
["2022/23","Cheshire","E31000006","Non-metropolitan","Significantly Rural","HC","Support staff","Ethnic origin not stated",1]
["2022/23","Cheshire","E31000006","Non-metropolitan","Significantly Rural","HC","Support staff","Mixed",1]
["2022/23","Cheshire","E31000006","Non-metropolitan","Significantly Rural","HC","Support staff","White British or Irish",15]
["2022/23","Cheshire","E31000006","Non-metropolitan","Significantly Rural","HC","Wholetime firefighters","Asian or Asian British",1]
["2022/23","Cheshire","E31000006","Non-metropolitan","Significantly Rural","HC","Wholetime firefighters","Black or Black British",1]
["2022/23","Cheshire","E31000006","Non-metropolitan","Significantly Rural","HC","Wholetime firefighters","Chinese or other ethnicity",0]
["2022/23","Cheshire","E31000006","Non-metropolitan","Significantly Rural","HC","Wholetime firefighters","Ethnic origin not stated",1]
["2022/23","Cheshire","E31000006","Non-metropolitan","Significantly Rural","HC","Wholetime firefighters","Mixed",0]
["2022/23","Cheshire","E31000006","Non-metropolitan","Significantly Rural","HC","Wholetime firefighters","White British or Irish",45]
["2022/23","Cleveland","E31000007","Non-metropolitan","Predominantly Urban","HC","Fire control","Asian or Asian British",0]
["2022/23","Cleveland","E31000007","Non-metropolitan","Predominantly Urban","HC","Fire control","Black or Black British",0]
["2022/23","Cleveland","E31000007","Non-metropolitan","Predominantly Urban","HC","Fire control","Chinese or other ethnicity",0]
["2022/23","Cleveland","E31000007","Non-metropolitan","Predominantly Urban","HC","Fire control","Ethnic origin not stated",0]
["2022/23","Cleveland","E31000007","Non-metropolitan","Predominantly Urban","HC","Fire control","Mixed",0]
["2022/23","Cleveland","E31000007","Non-metropolitan","Predominantly Urban","HC","Fire control","White British or Irish",2]
["2022/23","Cleveland","E31000007","Non-metropolitan","Predominantly Urban","HC","On call firefighters","Asian or Asian British",0]
["2022/23","Cleveland","E31000007","Non-metropolitan","Predominantly Urban","HC","On call firefighters","Black or Black British",0]
["2022/23","Cleveland","E31000007","Non-metropolitan","Predominantly Urban","HC","On call firefighters","Chinese or other ethnicity",0]
["2022/23","Cleveland","E31000007","Non-metropolitan","Predominantly Urban","HC","On call firefighters","Ethnic origin not stated",1]
["2022/23","Cleveland","E31000007","Non-metropolitan","Predominantly Urban","HC","On call firefighters","Mixed",0]
["2022/23","Cleveland","E31000007","Non-metropolitan","Predominantly Urban","HC","On call firefighters","White British or Irish",12]
["2022/23","Cleveland","E31000007","Non-metropolitan","Predominantly Urban","HC","Support staff","Asian or Asian British",0]
["2022/23","Cleveland","E31000007","Non-metropolitan","Predominantly Urban","HC","Support staff","Black or Black British",0]
["2022/23","Cleveland","E31000007","Non-metropolitan","Predominantly Urban","HC","Support staff","Chinese or other ethnicity",0]
["2022/23","Cleveland","E31000007","Non-metropolitan","Predominantly Urban","HC","Support staff","Ethnic origin not stated",0]
["2022/23","Cleveland","E31000007","Non-metropolitan","Predominantly Urban","HC","Support staff","Mixed",0]
["2022/23","Cleveland","E31000007","Non-metropolitan","Predominantly Urban","HC","Support staff","White British or Irish",16]
["2022/23","Cleveland","E31000007","Non-metropolitan","Predominantly Urban","HC","Wholetime firefighters","Asian or Asian British",0]
["2022/23","Cleveland","E31000007","Non-metropolitan","Predominantly Urban","HC","Wholetime firefighters","Black or Black British",0]
["2022/23","Cleveland","E31000007","Non-metropolitan","Predominantly Urban","HC","Wholetime firefighters","Chinese or other ethnicity",0]
["2022/23","Cleveland","E31000007","Non-metropolitan","Predominantly Urban","HC","Wholetime firefighters","Ethnic origin not stated",0]
["2022/23","Cleveland","E31000007","Non-metropolitan","Predominantly Urban","HC","Wholetime firefighters","Mixed",0]
["2022/23","Cleveland","E31000007","Non-metropolitan","Predominantly Urban","HC","Wholetime firefighters","White British or Irish",0]
["2022/23","Cornwall","E31000008","Non-metropolitan","Predominantly Rural","HC","Fire control","Asian or Asian British",0]
["2022/23","Cornwall","E31000008","Non-metropolitan","Predominantly Rural","HC","Fire control","Black or Black British",0]
["2022/23","Cornwall","E31000008","Non-metropolitan","Predominantly Rural","HC","Fire control","Chinese or other ethnicity",0]
["2022/23","Cornwall","E31000008","Non-metropolitan","Predominantly Rural","HC","Fire control","Ethnic origin not stated",0]
["2022/23","Cornwall","E31000008","Non-metropolitan","Predominantly Rural","HC","Fire control","Mixed",0]
["2022/23","Cornwall","E31000008","Non-metropolitan","Predominantly Rural","HC","Fire control","White British or Irish",0]
["2022/23","Cornwall","E31000008","Non-metropolitan","Predominantly Rural","HC","On call firefighters","Asian or Asian British",0]
["2022/23","Cornwall","E31000008","Non-metropolitan","Predominantly Rural","HC","On call firefighters","Black or Black British",0]
["2022/23","Cornwall","E31000008","Non-metropolitan","Predominantly Rural","HC","On call firefighters","Chinese or other ethnicity",0]
["2022/23","Cornwall","E31000008","Non-metropolitan","Predominantly Rural","HC","On call firefighters","Ethnic origin not stated",35]
["2022/23","Cornwall","E31000008","Non-metropolitan","Predominantly Rural","HC","On call firefighters","Mixed",0]
["2022/23","Cornwall","E31000008","Non-metropolitan","Predominantly Rural","HC","On call firefighters","White British or Irish",1]
["2022/23","Cornwall","E31000008","Non-metropolitan","Predominantly Rural","HC","Support staff","Asian or Asian British",0]
["2022/23","Cornwall","E31000008","Non-metropolitan","Predominantly Rural","HC","Support staff","Black or Black British",0]
["2022/23","Cornwall","E31000008","Non-metropolitan","Predominantly Rural","HC","Support staff","Chinese or other ethnicity",0]
["2022/23","Cornwall","E31000008","Non-metropolitan","Predominantly Rural","HC","Support staff","Ethnic origin not stated",8]
["2022/23","Cornwall","E31000008","Non-metropolitan","Predominantly Rural","HC","Support staff","Mixed",0]
["2022/23","Cornwall","E31000008","Non-metropolitan","Predominantly Rural","HC","Support staff","White British or Irish",2]
["2022/23","Cornwall","E31000008","Non-metropolitan","Predominantly Rural","HC","Wholetime firefighters","Asian or Asian British",0]
["2022/23","Cornwall","E31000008","Non-metropolitan","Predominantly Rural","HC","Wholetime firefighters","Black or Black British",0]
["2022/23","Cornwall","E31000008","Non-metropolitan","Predominantly Rural","HC","Wholetime firefighters","Chinese or other ethnicity",0]
["2022/23","Cornwall","E31000008","Non-metropolitan","Predominantly Rural","HC","Wholetime firefighters","Ethnic origin not stated",0]
["2022/23","Cornwall","E31000008","Non-metropolitan","Predominantly Rural","HC","Wholetime firefighters","Mixed",0]
["2022/23","Cornwall","E31000008","Non-metropolitan","Predominantly Rural","HC","Wholetime firefighters","White British or Irish",0]
["2022/23","Cumbria","E31000009","Non-metropolitan","Predominantly Rural","HC","Fire control","Asian or Asian British",0]
["2022/23","Cumbria","E31000009","Non-metropolitan","Predominantly Rural","HC","Fire control","Black or Black British",0]
["2022/23","Cumbria","E31000009","Non-metropolitan","Predominantly Rural","HC","Fire control","Chinese or other ethnicity",0]
["2022/23","Cumbria","E31000009","Non-metropolitan","Predominantly Rural","HC","Fire control","Ethnic origin not stated",0]
["2022/23","Cumbria","E31000009","Non-metropolitan","Predominantly Rural","HC","Fire control","Mixed",0]
["2022/23","Cumbria","E31000009","Non-metropolitan","Predominantly Rural","HC","Fire control","White British or Irish",0]
["2022/23","Cumbria","E31000009","Non-metropolitan","Predominantly Rural","HC","On call firefighters","Asian or Asian British",0]
["2022/23","Cumbria","E31000009","Non-metropolitan","Predominantly Rural","HC","On call firefighters","Black or Black British",0]
["2022/23","Cumbria","E31000009","Non-metropolitan","Predominantly Rural","HC","On call firefighters","Chinese or other ethnicity",0]
["2022/23","Cumbria","E31000009","Non-metropolitan","Predominantly Rural","HC","On call firefighters","Ethnic origin not stated",15]
["2022/23","Cumbria","E31000009","Non-metropolitan","Predominantly Rural","HC","On call firefighters","Mixed",0]
["2022/23","Cumbria","E31000009","Non-metropolitan","Predominantly Rural","HC","On call firefighters","White British or Irish",3]
["2022/23","Cumbria","E31000009","Non-metropolitan","Predominantly Rural","HC","Support staff","Asian or Asian British",0]
["2022/23","Cumbria","E31000009","Non-metropolitan","Predominantly Rural","HC","Support staff","Black or Black British",0]
["2022/23","Cumbria","E31000009","Non-metropolitan","Predominantly Rural","HC","Support staff","Chinese or other ethnicity",0]
["2022/23","Cumbria","E31000009","Non-metropolitan","Predominantly Rural","HC","Support staff","Ethnic origin not stated",0]
["2022/23","Cumbria","E31000009","Non-metropolitan","Predominantly Rural","HC","Support staff","Mixed",1]
["2022/23","Cumbria","E31000009","Non-metropolitan","Predominantly Rural","HC","Support staff","White British or Irish",0]
["2022/23","Cumbria","E31000009","Non-metropolitan","Predominantly Rural","HC","Wholetime firefighters","Asian or Asian British",0]
["2022/23","Cumbria","E31000009","Non-metropolitan","Predominantly Rural","HC","Wholetime firefighters","Black or Black British",0]
["2022/23","Cumbria","E31000009","Non-metropolitan","Predominantly Rural","HC","Wholetime firefighters","Chinese or other ethnicity",0]
["2022/23","Cumbria","E31000009","Non-metropolitan","Predominantly Rural","HC","Wholetime firefighters","Ethnic origin not stated",9]
["2022/23","Cumbria","E31000009","Non-metropolitan","Predominantly Rural","HC","Wholetime firefighters","Mixed",0]
["2022/23","Cumbria","E31000009","Non-metropolitan","Predominantly Rural","HC","Wholetime firefighters","White British or Irish",9]
["2022/23","Derbyshire","E31000010","Non-metropolitan","Significantly Rural","HC","Fire control","Asian or Asian British",0]
["2022/23","Derbyshire","E31000010","Non-metropolitan","Significantly Rural","HC","Fire control","Black or Black British",0]
["2022/23","Derbyshire","E31000010","Non-metropolitan","Significantly Rural","HC","Fire control","Chinese or other ethnicity",0]
["2022/23","Derbyshire","E31000010","Non-metropolitan","Significantly Rural","HC","Fire control","Ethnic origin not stated",0]
["2022/23","Derbyshire","E31000010","Non-metropolitan","Significantly Rural","HC","Fire control","Mixed",0]
["2022/23","Derbyshire","E31000010","Non-metropolitan","Significantly Rural","HC","Fire control","White British or Irish",0]
["2022/23","Derbyshire","E31000010","Non-metropolitan","Significantly Rural","HC","On call firefighters","Asian or Asian British",0]
["2022/23","Derbyshire","E31000010","Non-metropolitan","Significantly Rural","HC","On call firefighters","Black or Black British",0]
["2022/23","Derbyshire","E31000010","Non-metropolitan","Significantly Rural","HC","On call firefighters","Chinese or other ethnicity",0]
["2022/23","Derbyshire","E31000010","Non-metropolitan","Significantly Rural","HC","On call firefighters","Ethnic origin not stated",0]
["2022/23","Derbyshire","E31000010","Non-metropolitan","Significantly Rural","HC","On call firefighters","Mixed",1]
["2022/23","Derbyshire","E31000010","Non-metropolitan","Significantly Rural","HC","On call firefighters","White British or Irish",36]
["2022/23","Derbyshire","E31000010","Non-metropolitan","Significantly Rural","HC","Support staff","Asian or Asian British",0]
["2022/23","Derbyshire","E31000010","Non-metropolitan","Significantly Rural","HC","Support staff","Black or Black British",0]
["2022/23","Derbyshire","E31000010","Non-metropolitan","Significantly Rural","HC","Support staff","Chinese or other ethnicity",0]
["2022/23","Derbyshire","E31000010","Non-metropolitan","Significantly Rural","HC","Support staff","Ethnic origin not stated",9]
["2022/23","Derbyshire","E31000010","Non-metropolitan","Significantly Rural","HC","Support staff","Mixed",0]
["2022/23","Derbyshire","E31000010","Non-metropolitan","Significantly Rural","HC","Support staff","White British or Irish",18]
["2022/23","Derbyshire","E31000010","Non-metropolitan","Significantly Rural","HC","Wholetime firefighters","Asian or Asian British",1]
["2022/23","Derbyshire","E31000010","Non-metropolitan","Significantly Rural","HC","Wholetime firefighters","Black or Black British",0]
["2022/23","Derbyshire","E31000010","Non-metropolitan","Significantly Rural","HC","Wholetime firefighters","Chinese or other ethnicity",0]
["2022/23","Derbyshire","E31000010","Non-metropolitan","Significantly Rural","HC","Wholetime firefighters","Ethnic origin not stated",3]
["2022/23","Derbyshire","E31000010","Non-metropolitan","Significantly Rural","HC","Wholetime firefighters","Mixed",0]
["2022/23","Derbyshire","E31000010","Non-metropolitan","Significantly Rural","HC","Wholetime firefighters","White British or Irish",30]
["2022/23","Devon and Somerset","E31000011","Non-metropolitan","Predominantly Rural","HC","Fire control","Asian or Asian British",0]
["2022/23","Devon and Somerset","E31000011","Non-metropolitan","Predominantly Rural","HC","Fire control","Black or Black British",0]
["2022/23","Devon and Somerset","E31000011","Non-metropolitan","Predominantly Rural","HC","Fire control","Chinese or other ethnicity",0]
["2022/23","Devon and Somerset","E31000011","Non-metropolitan","Predominantly Rural","HC","Fire control","Ethnic origin not stated",0]
["2022/23","Devon and Somerset","E31000011","Non-metropolitan","Predominantly Rural","HC","Fire control","Mixed",0]
["2022/23","Devon and Somerset","E31000011","Non-metropolitan","Predominantly Rural","HC","Fire control","White British or Irish",3]
["2022/23","Devon and Somerset","E31000011","Non-metropolitan","Predominantly Rural","HC","On call firefighters","Asian or Asian British",1]
["2022/23","Devon and Somerset","E31000011","Non-metropolitan","Predominantly Rural","HC","On call firefighters","Black or Black British",1]
["2022/23","Devon and Somerset","E31000011","Non-metropolitan","Predominantly Rural","HC","On call firefighters","Chinese or other ethnicity",3]
["2022/23","Devon and Somerset","E31000011","Non-metropolitan","Predominantly Rural","HC","On call firefighters","Ethnic origin not stated",0]
["2022/23","Devon and Somerset","E31000011","Non-metropolitan","Predominantly Rural","HC","On call firefighters","Mixed",2]
["2022/23","Devon and Somerset","E31000011","Non-metropolitan","Predominantly Rural","HC","On call firefighters","White British or Irish",79]
["2022/23","Devon and Somerset","E31000011","Non-metropolitan","Predominantly Rural","HC","Support staff","Asian or Asian British",0]
["2022/23","Devon and Somerset","E31000011","Non-metropolitan","Predominantly Rural","HC","Support staff","Black or Black British",0]
["2022/23","Devon and Somerset","E31000011","Non-metropolitan","Predominantly Rural","HC","Support staff","Chinese or other ethnicity",1]
["2022/23","Devon and Somerset","E31000011","Non-metropolitan","Predominantly Rural","HC","Support staff","Ethnic origin not stated",0]
["2022/23","Devon and Somerset","E31000011","Non-metropolitan","Predominantly Rural","HC","Support staff","Mixed",0]
["2022/23","Devon and Somerset","E31000011","Non-metropolitan","Predominantly Rural","HC","Support staff","White British or Irish",19]
["2022/23","Devon and Somerset","E31000011","Non-metropolitan","Predominantly Rural","HC","Wholetime firefighters","Asian or Asian British",0]
["2022/23","Devon and Somerset","E31000011","Non-metropolitan","Predominantly Rural","HC","Wholetime firefighters","Black or Black British",0]
["2022/23","Devon and Somerset","E31000011","Non-metropolitan","Predominantly Rural","HC","Wholetime firefighters","Chinese or other ethnicity",5]
["2022/23","Devon and Somerset","E31000011","Non-metropolitan","Predominantly Rural","HC","Wholetime firefighters","Ethnic origin not stated",2]
["2022/23","Devon and Somerset","E31000011","Non-metropolitan","Predominantly Rural","HC","Wholetime firefighters","Mixed",0]
["2022/23","Devon and Somerset","E31000011","Non-metropolitan","Predominantly Rural","HC","Wholetime firefighters","White British or Irish",13]
["2022/23","Dorset and Wiltshire","E31000047","Non-metropolitan","Significantly Rural","HC","Fire control","Asian or Asian British",0]
["2022/23","Dorset and Wiltshire","E31000047","Non-metropolitan","Significantly Rural","HC","Fire control","Black or Black British",0]
["2022/23","Dorset and Wiltshire","E31000047","Non-metropolitan","Significantly Rural","HC","Fire control","Chinese or other ethnicity",1]
["2022/23","Dorset and Wiltshire","E31000047","Non-metropolitan","Significantly Rural","HC","Fire control","Ethnic origin not stated",0]
["2022/23","Dorset and Wiltshire","E31000047","Non-metropolitan","Significantly Rural","HC","Fire control","Mixed",0]
["2022/23","Dorset and Wiltshire","E31000047","Non-metropolitan","Significantly Rural","HC","Fire control","White British or Irish",9]
["2022/23","Dorset and Wiltshire","E31000047","Non-metropolitan","Significantly Rural","HC","On call firefighters","Asian or Asian British",1]
["2022/23","Dorset and Wiltshire","E31000047","Non-metropolitan","Significantly Rural","HC","On call firefighters","Black or Black British",0]
["2022/23","Dorset and Wiltshire","E31000047","Non-metropolitan","Significantly Rural","HC","On call firefighters","Chinese or other ethnicity",3]
["2022/23","Dorset and Wiltshire","E31000047","Non-metropolitan","Significantly Rural","HC","On call firefighters","Ethnic origin not stated",1]
["2022/23","Dorset and Wiltshire","E31000047","Non-metropolitan","Significantly Rural","HC","On call firefighters","Mixed",1]
["2022/23","Dorset and Wiltshire","E31000047","Non-metropolitan","Significantly Rural","HC","On call firefighters","White British or Irish",71]
["2022/23","Dorset and Wiltshire","E31000047","Non-metropolitan","Significantly Rural","HC","Support staff","Asian or Asian British",0]
["2022/23","Dorset and Wiltshire","E31000047","Non-metropolitan","Significantly Rural","HC","Support staff","Black or Black British",0]
["2022/23","Dorset and Wiltshire","E31000047","Non-metropolitan","Significantly Rural","HC","Support staff","Chinese or other ethnicity",1]
["2022/23","Dorset and Wiltshire","E31000047","Non-metropolitan","Significantly Rural","HC","Support staff","Ethnic origin not stated",3]
["2022/23","Dorset and Wiltshire","E31000047","Non-metropolitan","Significantly Rural","HC","Support staff","Mixed",0]
["2022/23","Dorset and Wiltshire","E31000047","Non-metropolitan","Significantly Rural","HC","Support staff","White British or Irish",31]
["2022/23","Dorset and Wiltshire","E31000047","Non-metropolitan","Significantly Rural","HC","Wholetime firefighters","Asian or Asian British",0]
["2022/23","Dorset and Wiltshire","E31000047","Non-metropolitan","Significantly Rural","HC","Wholetime firefighters","Black or Black British",0]
["2022/23","Dorset and Wiltshire","E31000047","Non-metropolitan","Significantly Rural","HC","Wholetime firefighters","Chinese or other ethnicity",0]
["2022/23","Dorset and Wiltshire","E31000047","Non-metropolitan","Significantly Rural","HC","Wholetime firefighters","Ethnic origin not stated",1]
["2022/23","Dorset and Wiltshire","E31000047","Non-metropolitan","Significantly Rural","HC","Wholetime firefighters","Mixed",0]
["2022/23","Dorset and Wiltshire","E31000047","Non-metropolitan","Significantly Rural","HC","Wholetime firefighters","White British or Irish",30]
["2022/23","Durham","E31000013","Non-metropolitan","Predominantly Rural","HC","Fire control","Asian or Asian British",0]
["2022/23","Durham","E31000013","Non-metropolitan","Predominantly Rural","HC","Fire control","Black or Black British",0]
["2022/23","Durham","E31000013","Non-metropolitan","Predominantly Rural","HC","Fire control","Chinese or other ethnicity",0]
["2022/23","Durham","E31000013","Non-metropolitan","Predominantly Rural","HC","Fire control","Ethnic origin not stated",0]
["2022/23","Durham","E31000013","Non-metropolitan","Predominantly Rural","HC","Fire control","Mixed",0]
["2022/23","Durham","E31000013","Non-metropolitan","Predominantly Rural","HC","Fire control","White British or Irish",1]
["2022/23","Durham","E31000013","Non-metropolitan","Predominantly Rural","HC","On call firefighters","Asian or Asian British",0]
["2022/23","Durham","E31000013","Non-metropolitan","Predominantly Rural","HC","On call firefighters","Black or Black British",0]
["2022/23","Durham","E31000013","Non-metropolitan","Predominantly Rural","HC","On call firefighters","Chinese or other ethnicity",0]
["2022/23","Durham","E31000013","Non-metropolitan","Predominantly Rural","HC","On call firefighters","Ethnic origin not stated",11]
["2022/23","Durham","E31000013","Non-metropolitan","Predominantly Rural","HC","On call firefighters","Mixed",0]
["2022/23","Durham","E31000013","Non-metropolitan","Predominantly Rural","HC","On call firefighters","White British or Irish",11]
["2022/23","Durham","E31000013","Non-metropolitan","Predominantly Rural","HC","Support staff","Asian or Asian British",0]
["2022/23","Durham","E31000013","Non-metropolitan","Predominantly Rural","HC","Support staff","Black or Black British",0]
["2022/23","Durham","E31000013","Non-metropolitan","Predominantly Rural","HC","Support staff","Chinese or other ethnicity",0]
["2022/23","Durham","E31000013","Non-metropolitan","Predominantly Rural","HC","Support staff","Ethnic origin not stated",5]
["2022/23","Durham","E31000013","Non-metropolitan","Predominantly Rural","HC","Support staff","Mixed",0]
["2022/23","Durham","E31000013","Non-metropolitan","Predominantly Rural","HC","Support staff","White British or Irish",8]
["2022/23","Durham","E31000013","Non-metropolitan","Predominantly Rural","HC","Wholetime firefighters","Asian or Asian British",0]
["2022/23","Durham","E31000013","Non-metropolitan","Predominantly Rural","HC","Wholetime firefighters","Black or Black British",0]
["2022/23","Durham","E31000013","Non-metropolitan","Predominantly Rural","HC","Wholetime firefighters","Chinese or other ethnicity",0]
["2022/23","Durham","E31000013","Non-metropolitan","Predominantly Rural","HC","Wholetime firefighters","Ethnic origin not stated",1]
["2022/23","Durham","E31000013","Non-metropolitan","Predominantly Rural","HC","Wholetime firefighters","Mixed",1]
["2022/23","Durham","E31000013","Non-metropolitan","Predominantly Rural","HC","Wholetime firefighters","White British or Irish",3]
["2022/23","East Sussex","E31000014","Non-metropolitan","Significantly Rural","HC","Fire control","Asian or Asian British",0]
["2022/23","East Sussex","E31000014","Non-metropolitan","Significantly Rural","HC","Fire control","Black or Black British",0]
["2022/23","East Sussex","E31000014","Non-metropolitan","Significantly Rural","HC","Fire control","Chinese or other ethnicity",0]
["2022/23","East Sussex","E31000014","Non-metropolitan","Significantly Rural","HC","Fire control","Ethnic origin not stated",0]
["2022/23","East Sussex","E31000014","Non-metropolitan","Significantly Rural","HC","Fire control","Mixed",0]
["2022/23","East Sussex","E31000014","Non-metropolitan","Significantly Rural","HC","Fire control","White British or Irish",0]
["2022/23","East Sussex","E31000014","Non-metropolitan","Significantly Rural","HC","On call firefighters","Asian or Asian British",0]
["2022/23","East Sussex","E31000014","Non-metropolitan","Significantly Rural","HC","On call firefighters","Black or Black British",0]
["2022/23","East Sussex","E31000014","Non-metropolitan","Significantly Rural","HC","On call firefighters","Chinese or other ethnicity",0]
["2022/23","East Sussex","E31000014","Non-metropolitan","Significantly Rural","HC","On call firefighters","Ethnic origin not stated",7]
["2022/23","East Sussex","E31000014","Non-metropolitan","Significantly Rural","HC","On call firefighters","Mixed",1]
["2022/23","East Sussex","E31000014","Non-metropolitan","Significantly Rural","HC","On call firefighters","White British or Irish",29]
["2022/23","East Sussex","E31000014","Non-metropolitan","Significantly Rural","HC","Support staff","Asian or Asian British",0]
["2022/23","East Sussex","E31000014","Non-metropolitan","Significantly Rural","HC","Support staff","Black or Black British",0]
["2022/23","East Sussex","E31000014","Non-metropolitan","Significantly Rural","HC","Support staff","Chinese or other ethnicity",0]
["2022/23","East Sussex","E31000014","Non-metropolitan","Significantly Rural","HC","Support staff","Ethnic origin not stated",7]
["2022/23","East Sussex","E31000014","Non-metropolitan","Significantly Rural","HC","Support staff","Mixed",0]
["2022/23","East Sussex","E31000014","Non-metropolitan","Significantly Rural","HC","Support staff","White British or Irish",33]
["2022/23","East Sussex","E31000014","Non-metropolitan","Significantly Rural","HC","Wholetime firefighters","Asian or Asian British",0]
["2022/23","East Sussex","E31000014","Non-metropolitan","Significantly Rural","HC","Wholetime firefighters","Black or Black British",0]
["2022/23","East Sussex","E31000014","Non-metropolitan","Significantly Rural","HC","Wholetime firefighters","Chinese or other ethnicity",0]
["2022/23","East Sussex","E31000014","Non-metropolitan","Significantly Rural","HC","Wholetime firefighters","Ethnic origin not stated",4]
["2022/23","East Sussex","E31000014","Non-metropolitan","Significantly Rural","HC","Wholetime firefighters","Mixed",2]
["2022/23","East Sussex","E31000014","Non-metropolitan","Significantly Rural","HC","Wholetime firefighters","White British or Irish",20]
["2022/23","Essex","E31000015","Non-metropolitan","Significantly Rural","HC","Fire control","Asian or Asian British",0]
["2022/23","Essex","E31000015","Non-metropolitan","Significantly Rural","HC","Fire control","Black or Black British",0]
["2022/23","Essex","E31000015","Non-metropolitan","Significantly Rural","HC","Fire control","Chinese or other ethnicity",0]
["2022/23","Essex","E31000015","Non-metropolitan","Significantly Rural","HC","Fire control","Ethnic origin not stated",0]
["2022/23","Essex","E31000015","Non-metropolitan","Significantly Rural","HC","Fire control","Mixed",0]
["2022/23","Essex","E31000015","Non-metropolitan","Significantly Rural","HC","Fire control","White British or Irish",6]
["2022/23","Essex","E31000015","Non-metropolitan","Significantly Rural","HC","On call firefighters","Asian or Asian British",0]
["2022/23","Essex","E31000015","Non-metropolitan","Significantly Rural","HC","On call firefighters","Black or Black British",1]
["2022/23","Essex","E31000015","Non-metropolitan","Significantly Rural","HC","On call firefighters","Chinese or other ethnicity",4]
["2022/23","Essex","E31000015","Non-metropolitan","Significantly Rural","HC","On call firefighters","Ethnic origin not stated",13]
["2022/23","Essex","E31000015","Non-metropolitan","Significantly Rural","HC","On call firefighters","Mixed",2]
["2022/23","Essex","E31000015","Non-metropolitan","Significantly Rural","HC","On call firefighters","White British or Irish",54]
["2022/23","Essex","E31000015","Non-metropolitan","Significantly Rural","HC","Support staff","Asian or Asian British",1]
["2022/23","Essex","E31000015","Non-metropolitan","Significantly Rural","HC","Support staff","Black or Black British",2]
["2022/23","Essex","E31000015","Non-metropolitan","Significantly Rural","HC","Support staff","Chinese or other ethnicity",3]
["2022/23","Essex","E31000015","Non-metropolitan","Significantly Rural","HC","Support staff","Ethnic origin not stated",18]
["2022/23","Essex","E31000015","Non-metropolitan","Significantly Rural","HC","Support staff","Mixed",0]
["2022/23","Essex","E31000015","Non-metropolitan","Significantly Rural","HC","Support staff","White British or Irish",27]
["2022/23","Essex","E31000015","Non-metropolitan","Significantly Rural","HC","Wholetime firefighters","Asian or Asian British",0]
["2022/23","Essex","E31000015","Non-metropolitan","Significantly Rural","HC","Wholetime firefighters","Black or Black British",1]
["2022/23","Essex","E31000015","Non-metropolitan","Significantly Rural","HC","Wholetime firefighters","Chinese or other ethnicity",1]
["2022/23","Essex","E31000015","Non-metropolitan","Significantly Rural","HC","Wholetime firefighters","Ethnic origin not stated",8]
["2022/23","Essex","E31000015","Non-metropolitan","Significantly Rural","HC","Wholetime firefighters","Mixed",3]
["2022/23","Essex","E31000015","Non-metropolitan","Significantly Rural","HC","Wholetime firefighters","White British or Irish",35]
["2022/23","Gloucestershire","E31000016","Non-metropolitan","Significantly Rural","HC","Fire control","Asian or Asian British",0]
["2022/23","Gloucestershire","E31000016","Non-metropolitan","Significantly Rural","HC","Fire control","Black or Black British",0]
["2022/23","Gloucestershire","E31000016","Non-metropolitan","Significantly Rural","HC","Fire control","Chinese or other ethnicity",0]
["2022/23","Gloucestershire","E31000016","Non-metropolitan","Significantly Rural","HC","Fire control","Ethnic origin not stated",0]
["2022/23","Gloucestershire","E31000016","Non-metropolitan","Significantly Rural","HC","Fire control","Mixed",0]
["2022/23","Gloucestershire","E31000016","Non-metropolitan","Significantly Rural","HC","Fire control","White British or Irish",0]
["2022/23","Gloucestershire","E31000016","Non-metropolitan","Significantly Rural","HC","On call firefighters","Asian or Asian British",1]
["2022/23","Gloucestershire","E31000016","Non-metropolitan","Significantly Rural","HC","On call firefighters","Black or Black British",0]
["2022/23","Gloucestershire","E31000016","Non-metropolitan","Significantly Rural","HC","On call firefighters","Chinese or other ethnicity",4]
["2022/23","Gloucestershire","E31000016","Non-metropolitan","Significantly Rural","HC","On call firefighters","Ethnic origin not stated",0]
["2022/23","Gloucestershire","E31000016","Non-metropolitan","Significantly Rural","HC","On call firefighters","Mixed",0]
["2022/23","Gloucestershire","E31000016","Non-metropolitan","Significantly Rural","HC","On call firefighters","White British or Irish",17]
["2022/23","Gloucestershire","E31000016","Non-metropolitan","Significantly Rural","HC","Support staff","Asian or Asian British",0]
["2022/23","Gloucestershire","E31000016","Non-metropolitan","Significantly Rural","HC","Support staff","Black or Black British",0]
["2022/23","Gloucestershire","E31000016","Non-metropolitan","Significantly Rural","HC","Support staff","Chinese or other ethnicity",3]
["2022/23","Gloucestershire","E31000016","Non-metropolitan","Significantly Rural","HC","Support staff","Ethnic origin not stated",3]
["2022/23","Gloucestershire","E31000016","Non-metropolitan","Significantly Rural","HC","Support staff","Mixed",0]
["2022/23","Gloucestershire","E31000016","Non-metropolitan","Significantly Rural","HC","Support staff","White British or Irish",7]
["2022/23","Gloucestershire","E31000016","Non-metropolitan","Significantly Rural","HC","Wholetime firefighters","Asian or Asian British",1]
["2022/23","Gloucestershire","E31000016","Non-metropolitan","Significantly Rural","HC","Wholetime firefighters","Black or Black British",0]
["2022/23","Gloucestershire","E31000016","Non-metropolitan","Significantly Rural","HC","Wholetime firefighters","Chinese or other ethnicity",3]
["2022/23","Gloucestershire","E31000016","Non-metropolitan","Significantly Rural","HC","Wholetime firefighters","Ethnic origin not stated",5]
["2022/23","Gloucestershire","E31000016","Non-metropolitan","Significantly Rural","HC","Wholetime firefighters","Mixed",2]
["2022/23","Gloucestershire","E31000016","Non-metropolitan","Significantly Rural","HC","Wholetime firefighters","White British or Irish",19]
["2022/23","Greater London","E31000046","Metropolitan","Predominantly Urban","HC","Fire control","Asian or Asian British",1]
["2022/23","Greater London","E31000046","Metropolitan","Predominantly Urban","HC","Fire control","Black or Black British",0]
["2022/23","Greater London","E31000046","Metropolitan","Predominantly Urban","HC","Fire control","Chinese or other ethnicity",1]
["2022/23","Greater London","E31000046","Metropolitan","Predominantly Urban","HC","Fire control","Ethnic origin not stated",2]
["2022/23","Greater London","E31000046","Metropolitan","Predominantly Urban","HC","Fire control","Mixed",2]
["2022/23","Greater London","E31000046","Metropolitan","Predominantly Urban","HC","Fire control","White British or Irish",5]
["2022/23","Greater London","E31000046","Metropolitan","Predominantly Urban","HC","On call firefighters","Asian or Asian British",0]
["2022/23","Greater London","E31000046","Metropolitan","Predominantly Urban","HC","On call firefighters","Black or Black British",0]
["2022/23","Greater London","E31000046","Metropolitan","Predominantly Urban","HC","On call firefighters","Chinese or other ethnicity",0]
["2022/23","Greater London","E31000046","Metropolitan","Predominantly Urban","HC","On call firefighters","Ethnic origin not stated",0]
["2022/23","Greater London","E31000046","Metropolitan","Predominantly Urban","HC","On call firefighters","Mixed",0]
["2022/23","Greater London","E31000046","Metropolitan","Predominantly Urban","HC","On call firefighters","White British or Irish",0]
["2022/23","Greater London","E31000046","Metropolitan","Predominantly Urban","HC","Support staff","Asian or Asian British",10]
["2022/23","Greater London","E31000046","Metropolitan","Predominantly Urban","HC","Support staff","Black or Black British",14]
["2022/23","Greater London","E31000046","Metropolitan","Predominantly Urban","HC","Support staff","Chinese or other ethnicity",11]
["2022/23","Greater London","E31000046","Metropolitan","Predominantly Urban","HC","Support staff","Ethnic origin not stated",14]
["2022/23","Greater London","E31000046","Metropolitan","Predominantly Urban","HC","Support staff","Mixed",1]
["2022/23","Greater London","E31000046","Metropolitan","Predominantly Urban","HC","Support staff","White British or Irish",64]
["2022/23","Greater London","E31000046","Metropolitan","Predominantly Urban","HC","Wholetime firefighters","Asian or Asian British",9]
["2022/23","Greater London","E31000046","Metropolitan","Predominantly Urban","HC","Wholetime firefighters","Black or Black British",19]
["2022/23","Greater London","E31000046","Metropolitan","Predominantly Urban","HC","Wholetime firefighters","Chinese or other ethnicity",29]
["2022/23","Greater London","E31000046","Metropolitan","Predominantly Urban","HC","Wholetime firefighters","Ethnic origin not stated",61]
["2022/23","Greater London","E31000046","Metropolitan","Predominantly Urban","HC","Wholetime firefighters","Mixed",19]
["2022/23","Greater London","E31000046","Metropolitan","Predominantly Urban","HC","Wholetime firefighters","White British or Irish",228]
["2022/23","Greater Manchester","E31000040","Metropolitan","Predominantly Urban","HC","Fire control","Asian or Asian British",0]
["2022/23","Greater Manchester","E31000040","Metropolitan","Predominantly Urban","HC","Fire control","Black or Black British",0]
["2022/23","Greater Manchester","E31000040","Metropolitan","Predominantly Urban","HC","Fire control","Chinese or other ethnicity",0]
["2022/23","Greater Manchester","E31000040","Metropolitan","Predominantly Urban","HC","Fire control","Ethnic origin not stated",0]
["2022/23","Greater Manchester","E31000040","Metropolitan","Predominantly Urban","HC","Fire control","Mixed",0]
["2022/23","Greater Manchester","E31000040","Metropolitan","Predominantly Urban","HC","Fire control","White British or Irish",0]
["2022/23","Greater Manchester","E31000040","Metropolitan","Predominantly Urban","HC","On call firefighters","Asian or Asian British",0]
["2022/23","Greater Manchester","E31000040","Metropolitan","Predominantly Urban","HC","On call firefighters","Black or Black British",0]
["2022/23","Greater Manchester","E31000040","Metropolitan","Predominantly Urban","HC","On call firefighters","Chinese or other ethnicity",0]
["2022/23","Greater Manchester","E31000040","Metropolitan","Predominantly Urban","HC","On call firefighters","Ethnic origin not stated",0]
["2022/23","Greater Manchester","E31000040","Metropolitan","Predominantly Urban","HC","On call firefighters","Mixed",0]
["2022/23","Greater Manchester","E31000040","Metropolitan","Predominantly Urban","HC","On call firefighters","White British or Irish",0]
["2022/23","Greater Manchester","E31000040","Metropolitan","Predominantly Urban","HC","Support staff","Asian or Asian British",2]
["2022/23","Greater Manchester","E31000040","Metropolitan","Predominantly Urban","HC","Support staff","Black or Black British",1]
["2022/23","Greater Manchester","E31000040","Metropolitan","Predominantly Urban","HC","Support staff","Chinese or other ethnicity",1]
["2022/23","Greater Manchester","E31000040","Metropolitan","Predominantly Urban","HC","Support staff","Ethnic origin not stated",4]
["2022/23","Greater Manchester","E31000040","Metropolitan","Predominantly Urban","HC","Support staff","Mixed",1]
["2022/23","Greater Manchester","E31000040","Metropolitan","Predominantly Urban","HC","Support staff","White British or Irish",80]
["2022/23","Greater Manchester","E31000040","Metropolitan","Predominantly Urban","HC","Wholetime firefighters","Asian or Asian British",1]
["2022/23","Greater Manchester","E31000040","Metropolitan","Predominantly Urban","HC","Wholetime firefighters","Black or Black British",1]
["2022/23","Greater Manchester","E31000040","Metropolitan","Predominantly Urban","HC","Wholetime firefighters","Chinese or other ethnicity",1]
["2022/23","Greater Manchester","E31000040","Metropolitan","Predominantly Urban","HC","Wholetime firefighters","Ethnic origin not stated",1]
["2022/23","Greater Manchester","E31000040","Metropolitan","Predominantly Urban","HC","Wholetime firefighters","Mixed",13]
["2022/23","Greater Manchester","E31000040","Metropolitan","Predominantly Urban","HC","Wholetime firefighters","White British or Irish",48]
["2022/23","Hampshire and Isle of Wight","E31000048","Non-metropolitan","Significantly Rural","HC","Fire control","Asian or Asian British",0]
["2022/23","Hampshire and Isle of Wight","E31000048","Non-metropolitan","Significantly Rural","HC","Fire control","Black or Black British",0]
["2022/23","Hampshire and Isle of Wight","E31000048","Non-metropolitan","Significantly Rural","HC","Fire control","Chinese or other ethnicity",0]
["2022/23","Hampshire and Isle of Wight","E31000048","Non-metropolitan","Significantly Rural","HC","Fire control","Ethnic origin not stated",0]
["2022/23","Hampshire and Isle of Wight","E31000048","Non-metropolitan","Significantly Rural","HC","Fire control","Mixed",0]
["2022/23","Hampshire and Isle of Wight","E31000048","Non-metropolitan","Significantly Rural","HC","Fire control","White British or Irish",5]
["2022/23","Hampshire and Isle of Wight","E31000048","Non-metropolitan","Significantly Rural","HC","On call firefighters","Asian or Asian British",0]
["2022/23","Hampshire and Isle of Wight","E31000048","Non-metropolitan","Significantly Rural","HC","On call firefighters","Black or Black British",0]
["2022/23","Hampshire and Isle of Wight","E31000048","Non-metropolitan","Significantly Rural","HC","On call firefighters","Chinese or other ethnicity",4]
["2022/23","Hampshire and Isle of Wight","E31000048","Non-metropolitan","Significantly Rural","HC","On call firefighters","Ethnic origin not stated",4]
["2022/23","Hampshire and Isle of Wight","E31000048","Non-metropolitan","Significantly Rural","HC","On call firefighters","Mixed",1]
["2022/23","Hampshire and Isle of Wight","E31000048","Non-metropolitan","Significantly Rural","HC","On call firefighters","White British or Irish",66]
["2022/23","Hampshire and Isle of Wight","E31000048","Non-metropolitan","Significantly Rural","HC","Support staff","Asian or Asian British",0]
["2022/23","Hampshire and Isle of Wight","E31000048","Non-metropolitan","Significantly Rural","HC","Support staff","Black or Black British",2]
["2022/23","Hampshire and Isle of Wight","E31000048","Non-metropolitan","Significantly Rural","HC","Support staff","Chinese or other ethnicity",4]
["2022/23","Hampshire and Isle of Wight","E31000048","Non-metropolitan","Significantly Rural","HC","Support staff","Ethnic origin not stated",8]
["2022/23","Hampshire and Isle of Wight","E31000048","Non-metropolitan","Significantly Rural","HC","Support staff","Mixed",0]
["2022/23","Hampshire and Isle of Wight","E31000048","Non-metropolitan","Significantly Rural","HC","Support staff","White British or Irish",63]
["2022/23","Hampshire and Isle of Wight","E31000048","Non-metropolitan","Significantly Rural","HC","Wholetime firefighters","Asian or Asian British",0]
["2022/23","Hampshire and Isle of Wight","E31000048","Non-metropolitan","Significantly Rural","HC","Wholetime firefighters","Black or Black British",0]
["2022/23","Hampshire and Isle of Wight","E31000048","Non-metropolitan","Significantly Rural","HC","Wholetime firefighters","Chinese or other ethnicity",3]
["2022/23","Hampshire and Isle of Wight","E31000048","Non-metropolitan","Significantly Rural","HC","Wholetime firefighters","Ethnic origin not stated",15]
["2022/23","Hampshire and Isle of Wight","E31000048","Non-metropolitan","Significantly Rural","HC","Wholetime firefighters","Mixed",1]
["2022/23","Hampshire and Isle of Wight","E31000048","Non-metropolitan","Significantly Rural","HC","Wholetime firefighters","White British or Irish",64]
["2022/23","Hereford and Worcester","E31000018","Non-metropolitan","Significantly Rural","HC","Fire control","Asian or Asian British",1]
["2022/23","Hereford and Worcester","E31000018","Non-metropolitan","Significantly Rural","HC","Fire control","Black or Black British",0]
["2022/23","Hereford and Worcester","E31000018","Non-metropolitan","Significantly Rural","HC","Fire control","Chinese or other ethnicity",0]
["2022/23","Hereford and Worcester","E31000018","Non-metropolitan","Significantly Rural","HC","Fire control","Ethnic origin not stated",0]
["2022/23","Hereford and Worcester","E31000018","Non-metropolitan","Significantly Rural","HC","Fire control","Mixed",0]
["2022/23","Hereford and Worcester","E31000018","Non-metropolitan","Significantly Rural","HC","Fire control","White British or Irish",4]
["2022/23","Hereford and Worcester","E31000018","Non-metropolitan","Significantly Rural","HC","On call firefighters","Asian or Asian British",0]
["2022/23","Hereford and Worcester","E31000018","Non-metropolitan","Significantly Rural","HC","On call firefighters","Black or Black British",0]
["2022/23","Hereford and Worcester","E31000018","Non-metropolitan","Significantly Rural","HC","On call firefighters","Chinese or other ethnicity",4]
["2022/23","Hereford and Worcester","E31000018","Non-metropolitan","Significantly Rural","HC","On call firefighters","Ethnic origin not stated",2]
["2022/23","Hereford and Worcester","E31000018","Non-metropolitan","Significantly Rural","HC","On call firefighters","Mixed",2]
["2022/23","Hereford and Worcester","E31000018","Non-metropolitan","Significantly Rural","HC","On call firefighters","White British or Irish",30]
["2022/23","Hereford and Worcester","E31000018","Non-metropolitan","Significantly Rural","HC","Support staff","Asian or Asian British",0]
["2022/23","Hereford and Worcester","E31000018","Non-metropolitan","Significantly Rural","HC","Support staff","Black or Black British",0]
["2022/23","Hereford and Worcester","E31000018","Non-metropolitan","Significantly Rural","HC","Support staff","Chinese or other ethnicity",0]
["2022/23","Hereford and Worcester","E31000018","Non-metropolitan","Significantly Rural","HC","Support staff","Ethnic origin not stated",1]
["2022/23","Hereford and Worcester","E31000018","Non-metropolitan","Significantly Rural","HC","Support staff","Mixed",0]
["2022/23","Hereford and Worcester","E31000018","Non-metropolitan","Significantly Rural","HC","Support staff","White British or Irish",29]
["2022/23","Hereford and Worcester","E31000018","Non-metropolitan","Significantly Rural","HC","Wholetime firefighters","Asian or Asian British",0]
["2022/23","Hereford and Worcester","E31000018","Non-metropolitan","Significantly Rural","HC","Wholetime firefighters","Black or Black British",0]
["2022/23","Hereford and Worcester","E31000018","Non-metropolitan","Significantly Rural","HC","Wholetime firefighters","Chinese or other ethnicity",0]
["2022/23","Hereford and Worcester","E31000018","Non-metropolitan","Significantly Rural","HC","Wholetime firefighters","Ethnic origin not stated",4]
["2022/23","Hereford and Worcester","E31000018","Non-metropolitan","Significantly Rural","HC","Wholetime firefighters","Mixed",0]
["2022/23","Hereford and Worcester","E31000018","Non-metropolitan","Significantly Rural","HC","Wholetime firefighters","White British or Irish",10]
["2022/23","Hertfordshire","E31000019","Non-metropolitan","Predominantly Urban","HC","Fire control","Asian or Asian British",0]
["2022/23","Hertfordshire","E31000019","Non-metropolitan","Predominantly Urban","HC","Fire control","Black or Black British",0]
["2022/23","Hertfordshire","E31000019","Non-metropolitan","Predominantly Urban","HC","Fire control","Chinese or other ethnicity",0]
["2022/23","Hertfordshire","E31000019","Non-metropolitan","Predominantly Urban","HC","Fire control","Ethnic origin not stated",0]
["2022/23","Hertfordshire","E31000019","Non-metropolitan","Predominantly Urban","HC","Fire control","Mixed",0]
["2022/23","Hertfordshire","E31000019","Non-metropolitan","Predominantly Urban","HC","Fire control","White British or Irish",6]
["2022/23","Hertfordshire","E31000019","Non-metropolitan","Predominantly Urban","HC","On call firefighters","Asian or Asian British",0]
["2022/23","Hertfordshire","E31000019","Non-metropolitan","Predominantly Urban","HC","On call firefighters","Black or Black British",0]
["2022/23","Hertfordshire","E31000019","Non-metropolitan","Predominantly Urban","HC","On call firefighters","Chinese or other ethnicity",1]
["2022/23","Hertfordshire","E31000019","Non-metropolitan","Predominantly Urban","HC","On call firefighters","Ethnic origin not stated",0]
["2022/23","Hertfordshire","E31000019","Non-metropolitan","Predominantly Urban","HC","On call firefighters","Mixed",1]
["2022/23","Hertfordshire","E31000019","Non-metropolitan","Predominantly Urban","HC","On call firefighters","White British or Irish",10]
["2022/23","Hertfordshire","E31000019","Non-metropolitan","Predominantly Urban","HC","Support staff","Asian or Asian British",1]
["2022/23","Hertfordshire","E31000019","Non-metropolitan","Predominantly Urban","HC","Support staff","Black or Black British",1]
["2022/23","Hertfordshire","E31000019","Non-metropolitan","Predominantly Urban","HC","Support staff","Chinese or other ethnicity",0]
["2022/23","Hertfordshire","E31000019","Non-metropolitan","Predominantly Urban","HC","Support staff","Ethnic origin not stated",0]
["2022/23","Hertfordshire","E31000019","Non-metropolitan","Predominantly Urban","HC","Support staff","Mixed",1]
["2022/23","Hertfordshire","E31000019","Non-metropolitan","Predominantly Urban","HC","Support staff","White British or Irish",21]
["2022/23","Hertfordshire","E31000019","Non-metropolitan","Predominantly Urban","HC","Wholetime firefighters","Asian or Asian British",0]
["2022/23","Hertfordshire","E31000019","Non-metropolitan","Predominantly Urban","HC","Wholetime firefighters","Black or Black British",0]
["2022/23","Hertfordshire","E31000019","Non-metropolitan","Predominantly Urban","HC","Wholetime firefighters","Chinese or other ethnicity",0]
["2022/23","Hertfordshire","E31000019","Non-metropolitan","Predominantly Urban","HC","Wholetime firefighters","Ethnic origin not stated",2]
["2022/23","Hertfordshire","E31000019","Non-metropolitan","Predominantly Urban","HC","Wholetime firefighters","Mixed",2]
["2022/23","Hertfordshire","E31000019","Non-metropolitan","Predominantly Urban","HC","Wholetime firefighters","White British or Irish",29]
["2022/23","Humberside","E31000020","Non-metropolitan","Significantly Rural","HC","Fire control","Asian or Asian British",0]
["2022/23","Humberside","E31000020","Non-metropolitan","Significantly Rural","HC","Fire control","Black or Black British",0]
["2022/23","Humberside","E31000020","Non-metropolitan","Significantly Rural","HC","Fire control","Chinese or other ethnicity",0]
["2022/23","Humberside","E31000020","Non-metropolitan","Significantly Rural","HC","Fire control","Ethnic origin not stated",0]
["2022/23","Humberside","E31000020","Non-metropolitan","Significantly Rural","HC","Fire control","Mixed",0]
["2022/23","Humberside","E31000020","Non-metropolitan","Significantly Rural","HC","Fire control","White British or Irish",0]
["2022/23","Humberside","E31000020","Non-metropolitan","Significantly Rural","HC","On call firefighters","Asian or Asian British",0]
["2022/23","Humberside","E31000020","Non-metropolitan","Significantly Rural","HC","On call firefighters","Black or Black British",0]
["2022/23","Humberside","E31000020","Non-metropolitan","Significantly Rural","HC","On call firefighters","Chinese or other ethnicity",1]
["2022/23","Humberside","E31000020","Non-metropolitan","Significantly Rural","HC","On call firefighters","Ethnic origin not stated",4]
["2022/23","Humberside","E31000020","Non-metropolitan","Significantly Rural","HC","On call firefighters","Mixed",2]
["2022/23","Humberside","E31000020","Non-metropolitan","Significantly Rural","HC","On call firefighters","White British or Irish",28]
["2022/23","Humberside","E31000020","Non-metropolitan","Significantly Rural","HC","Support staff","Asian or Asian British",0]
["2022/23","Humberside","E31000020","Non-metropolitan","Significantly Rural","HC","Support staff","Black or Black British",0]
["2022/23","Humberside","E31000020","Non-metropolitan","Significantly Rural","HC","Support staff","Chinese or other ethnicity",0]
["2022/23","Humberside","E31000020","Non-metropolitan","Significantly Rural","HC","Support staff","Ethnic origin not stated",0]
["2022/23","Humberside","E31000020","Non-metropolitan","Significantly Rural","HC","Support staff","Mixed",0]
["2022/23","Humberside","E31000020","Non-metropolitan","Significantly Rural","HC","Support staff","White British or Irish",17]
["2022/23","Humberside","E31000020","Non-metropolitan","Significantly Rural","HC","Wholetime firefighters","Asian or Asian British",0]
["2022/23","Humberside","E31000020","Non-metropolitan","Significantly Rural","HC","Wholetime firefighters","Black or Black British",1]
["2022/23","Humberside","E31000020","Non-metropolitan","Significantly Rural","HC","Wholetime firefighters","Chinese or other ethnicity",1]
["2022/23","Humberside","E31000020","Non-metropolitan","Significantly Rural","HC","Wholetime firefighters","Ethnic origin not stated",0]
["2022/23","Humberside","E31000020","Non-metropolitan","Significantly Rural","HC","Wholetime firefighters","Mixed",1]
["2022/23","Humberside","E31000020","Non-metropolitan","Significantly Rural","HC","Wholetime firefighters","White British or Irish",37]
["2022/23","Isles Of Scilly","E31000039","Non-metropolitan","Predominantly Rural","HC","Fire control","Asian or Asian British",0]
["2022/23","Isles Of Scilly","E31000039","Non-metropolitan","Predominantly Rural","HC","Fire control","Black or Black British",0]
["2022/23","Isles Of Scilly","E31000039","Non-metropolitan","Predominantly Rural","HC","Fire control","Chinese or other ethnicity",0]
["2022/23","Isles Of Scilly","E31000039","Non-metropolitan","Predominantly Rural","HC","Fire control","Ethnic origin not stated",0]
["2022/23","Isles Of Scilly","E31000039","Non-metropolitan","Predominantly Rural","HC","Fire control","Mixed",0]
["2022/23","Isles Of Scilly","E31000039","Non-metropolitan","Predominantly Rural","HC","Fire control","White British or Irish",0]
["2022/23","Isles Of Scilly","E31000039","Non-metropolitan","Predominantly Rural","HC","On call firefighters","Asian or Asian British",0]
["2022/23","Isles Of Scilly","E31000039","Non-metropolitan","Predominantly Rural","HC","On call firefighters","Black or Black British",0]
["2022/23","Isles Of Scilly","E31000039","Non-metropolitan","Predominantly Rural","HC","On call firefighters","Chinese or other ethnicity",0]
["2022/23","Isles Of Scilly","E31000039","Non-metropolitan","Predominantly Rural","HC","On call firefighters","Ethnic origin not stated",0]
["2022/23","Isles Of Scilly","E31000039","Non-metropolitan","Predominantly Rural","HC","On call firefighters","Mixed",0]
["2022/23","Isles Of Scilly","E31000039","Non-metropolitan","Predominantly Rural","HC","On call firefighters","White British or Irish",0]
["2022/23","Isles Of Scilly","E31000039","Non-metropolitan","Predominantly Rural","HC","Support staff","Asian or Asian British",0]
["2022/23","Isles Of Scilly","E31000039","Non-metropolitan","Predominantly Rural","HC","Support staff","Black or Black British",0]
["2022/23","Isles Of Scilly","E31000039","Non-metropolitan","Predominantly Rural","HC","Support staff","Chinese or other ethnicity",0]
["2022/23","Isles Of Scilly","E31000039","Non-metropolitan","Predominantly Rural","HC","Support staff","Ethnic origin not stated",0]
["2022/23","Isles Of Scilly","E31000039","Non-metropolitan","Predominantly Rural","HC","Support staff","Mixed",0]
["2022/23","Isles Of Scilly","E31000039","Non-metropolitan","Predominantly Rural","HC","Support staff","White British or Irish",0]
["2022/23","Isles Of Scilly","E31000039","Non-metropolitan","Predominantly Rural","HC","Wholetime firefighters","Asian or Asian British",0]
["2022/23","Isles Of Scilly","E31000039","Non-metropolitan","Predominantly Rural","HC","Wholetime firefighters","Black or Black British",0]
["2022/23","Isles Of Scilly","E31000039","Non-metropolitan","Predominantly Rural","HC","Wholetime firefighters","Chinese or other ethnicity",0]
["2022/23","Isles Of Scilly","E31000039","Non-metropolitan","Predominantly Rural","HC","Wholetime firefighters","Ethnic origin not stated",0]
["2022/23","Isles Of Scilly","E31000039","Non-metropolitan","Predominantly Rural","HC","Wholetime firefighters","Mixed",0]
["2022/23","Isles Of Scilly","E31000039","Non-metropolitan","Predominantly Rural","HC","Wholetime firefighters","White British or Irish",0]
["2022/23","Kent","E31000022","Non-metropolitan","Significantly Rural","HC","Fire control","Asian or Asian British",0]
["2022/23","Kent","E31000022","Non-metropolitan","Significantly Rural","HC","Fire control","Black or Black British",0]
["2022/23","Kent","E31000022","Non-metropolitan","Significantly Rural","HC","Fire control","Chinese or other ethnicity",0]
["2022/23","Kent","E31000022","Non-metropolitan","Significantly Rural","HC","Fire control","Ethnic origin not stated",2]
["2022/23","Kent","E31000022","Non-metropolitan","Significantly Rural","HC","Fire control","Mixed",0]
["2022/23","Kent","E31000022","Non-metropolitan","Significantly Rural","HC","Fire control","White British or Irish",0]
["2022/23","Kent","E31000022","Non-metropolitan","Significantly Rural","HC","On call firefighters","Asian or Asian British",0]
["2022/23","Kent","E31000022","Non-metropolitan","Significantly Rural","HC","On call firefighters","Black or Black British",0]
["2022/23","Kent","E31000022","Non-metropolitan","Significantly Rural","HC","On call firefighters","Chinese or other ethnicity",0]
["2022/23","Kent","E31000022","Non-metropolitan","Significantly Rural","HC","On call firefighters","Ethnic origin not stated",42]
["2022/23","Kent","E31000022","Non-metropolitan","Significantly Rural","HC","On call firefighters","Mixed",0]
["2022/23","Kent","E31000022","Non-metropolitan","Significantly Rural","HC","On call firefighters","White British or Irish",2]
["2022/23","Kent","E31000022","Non-metropolitan","Significantly Rural","HC","Support staff","Asian or Asian British",1]
["2022/23","Kent","E31000022","Non-metropolitan","Significantly Rural","HC","Support staff","Black or Black British",1]
["2022/23","Kent","E31000022","Non-metropolitan","Significantly Rural","HC","Support staff","Chinese or other ethnicity",1]
["2022/23","Kent","E31000022","Non-metropolitan","Significantly Rural","HC","Support staff","Ethnic origin not stated",38]
["2022/23","Kent","E31000022","Non-metropolitan","Significantly Rural","HC","Support staff","Mixed",0]
["2022/23","Kent","E31000022","Non-metropolitan","Significantly Rural","HC","Support staff","White British or Irish",6]
["2022/23","Kent","E31000022","Non-metropolitan","Significantly Rural","HC","Wholetime firefighters","Asian or Asian British",0]
["2022/23","Kent","E31000022","Non-metropolitan","Significantly Rural","HC","Wholetime firefighters","Black or Black British",0]
["2022/23","Kent","E31000022","Non-metropolitan","Significantly Rural","HC","Wholetime firefighters","Chinese or other ethnicity",0]
["2022/23","Kent","E31000022","Non-metropolitan","Significantly Rural","HC","Wholetime firefighters","Ethnic origin not stated",22]
["2022/23","Kent","E31000022","Non-metropolitan","Significantly Rural","HC","Wholetime firefighters","Mixed",0]
["2022/23","Kent","E31000022","Non-metropolitan","Significantly Rural","HC","Wholetime firefighters","White British or Irish",10]
["2022/23","Lancashire","E31000023","Non-metropolitan","Predominantly Urban","HC","Fire control","Asian or Asian British",0]
["2022/23","Lancashire","E31000023","Non-metropolitan","Predominantly Urban","HC","Fire control","Black or Black British",0]
["2022/23","Lancashire","E31000023","Non-metropolitan","Predominantly Urban","HC","Fire control","Chinese or other ethnicity",0]
["2022/23","Lancashire","E31000023","Non-metropolitan","Predominantly Urban","HC","Fire control","Ethnic origin not stated",0]
["2022/23","Lancashire","E31000023","Non-metropolitan","Predominantly Urban","HC","Fire control","Mixed",0]
["2022/23","Lancashire","E31000023","Non-metropolitan","Predominantly Urban","HC","Fire control","White British or Irish",0]
["2022/23","Lancashire","E31000023","Non-metropolitan","Predominantly Urban","HC","On call firefighters","Asian or Asian British",0]
["2022/23","Lancashire","E31000023","Non-metropolitan","Predominantly Urban","HC","On call firefighters","Black or Black British",1]
["2022/23","Lancashire","E31000023","Non-metropolitan","Predominantly Urban","HC","On call firefighters","Chinese or other ethnicity",2]
["2022/23","Lancashire","E31000023","Non-metropolitan","Predominantly Urban","HC","On call firefighters","Ethnic origin not stated",2]
["2022/23","Lancashire","E31000023","Non-metropolitan","Predominantly Urban","HC","On call firefighters","Mixed",1]
["2022/23","Lancashire","E31000023","Non-metropolitan","Predominantly Urban","HC","On call firefighters","White British or Irish",46]
["2022/23","Lancashire","E31000023","Non-metropolitan","Predominantly Urban","HC","Support staff","Asian or Asian British",0]
["2022/23","Lancashire","E31000023","Non-metropolitan","Predominantly Urban","HC","Support staff","Black or Black British",0]
["2022/23","Lancashire","E31000023","Non-metropolitan","Predominantly Urban","HC","Support staff","Chinese or other ethnicity",1]
["2022/23","Lancashire","E31000023","Non-metropolitan","Predominantly Urban","HC","Support staff","Ethnic origin not stated",0]
["2022/23","Lancashire","E31000023","Non-metropolitan","Predominantly Urban","HC","Support staff","Mixed",0]
["2022/23","Lancashire","E31000023","Non-metropolitan","Predominantly Urban","HC","Support staff","White British or Irish",29]
["2022/23","Lancashire","E31000023","Non-metropolitan","Predominantly Urban","HC","Wholetime firefighters","Asian or Asian British",0]
["2022/23","Lancashire","E31000023","Non-metropolitan","Predominantly Urban","HC","Wholetime firefighters","Black or Black British",0]
["2022/23","Lancashire","E31000023","Non-metropolitan","Predominantly Urban","HC","Wholetime firefighters","Chinese or other ethnicity",0]
["2022/23","Lancashire","E31000023","Non-metropolitan","Predominantly Urban","HC","Wholetime firefighters","Ethnic origin not stated",2]
["2022/23","Lancashire","E31000023","Non-metropolitan","Predominantly Urban","HC","Wholetime firefighters","Mixed",0]
["2022/23","Lancashire","E31000023","Non-metropolitan","Predominantly Urban","HC","Wholetime firefighters","White British or Irish",47]
["2022/23","Leicestershire","E31000024","Non-metropolitan","Significantly Rural","HC","Fire control","Asian or Asian British",0]
["2022/23","Leicestershire","E31000024","Non-metropolitan","Significantly Rural","HC","Fire control","Black or Black British",0]
["2022/23","Leicestershire","E31000024","Non-metropolitan","Significantly Rural","HC","Fire control","Chinese or other ethnicity",0]
["2022/23","Leicestershire","E31000024","Non-metropolitan","Significantly Rural","HC","Fire control","Ethnic origin not stated",0]
["2022/23","Leicestershire","E31000024","Non-metropolitan","Significantly Rural","HC","Fire control","Mixed",0]
["2022/23","Leicestershire","E31000024","Non-metropolitan","Significantly Rural","HC","Fire control","White British or Irish",0]
["2022/23","Leicestershire","E31000024","Non-metropolitan","Significantly Rural","HC","On call firefighters","Asian or Asian British",1]
["2022/23","Leicestershire","E31000024","Non-metropolitan","Significantly Rural","HC","On call firefighters","Black or Black British",0]
["2022/23","Leicestershire","E31000024","Non-metropolitan","Significantly Rural","HC","On call firefighters","Chinese or other ethnicity",1]
["2022/23","Leicestershire","E31000024","Non-metropolitan","Significantly Rural","HC","On call firefighters","Ethnic origin not stated",0]
["2022/23","Leicestershire","E31000024","Non-metropolitan","Significantly Rural","HC","On call firefighters","Mixed",1]
["2022/23","Leicestershire","E31000024","Non-metropolitan","Significantly Rural","HC","On call firefighters","White British or Irish",21]
["2022/23","Leicestershire","E31000024","Non-metropolitan","Significantly Rural","HC","Support staff","Asian or Asian British",1]
["2022/23","Leicestershire","E31000024","Non-metropolitan","Significantly Rural","HC","Support staff","Black or Black British",0]
["2022/23","Leicestershire","E31000024","Non-metropolitan","Significantly Rural","HC","Support staff","Chinese or other ethnicity",1]
["2022/23","Leicestershire","E31000024","Non-metropolitan","Significantly Rural","HC","Support staff","Ethnic origin not stated",1]
["2022/23","Leicestershire","E31000024","Non-metropolitan","Significantly Rural","HC","Support staff","Mixed",0]
["2022/23","Leicestershire","E31000024","Non-metropolitan","Significantly Rural","HC","Support staff","White British or Irish",22]
["2022/23","Leicestershire","E31000024","Non-metropolitan","Significantly Rural","HC","Wholetime firefighters","Asian or Asian British",0]
["2022/23","Leicestershire","E31000024","Non-metropolitan","Significantly Rural","HC","Wholetime firefighters","Black or Black British",0]
["2022/23","Leicestershire","E31000024","Non-metropolitan","Significantly Rural","HC","Wholetime firefighters","Chinese or other ethnicity",0]
["2022/23","Leicestershire","E31000024","Non-metropolitan","Significantly Rural","HC","Wholetime firefighters","Ethnic origin not stated",0]
["2022/23","Leicestershire","E31000024","Non-metropolitan","Significantly Rural","HC","Wholetime firefighters","Mixed",1]
["2022/23","Leicestershire","E31000024","Non-metropolitan","Significantly Rural","HC","Wholetime firefighters","White British or Irish",22]
["2022/23","Lincolnshire","E31000025","Non-metropolitan","Predominantly Rural","HC","Fire control","Asian or Asian British",0]
["2022/23","Lincolnshire","E31000025","Non-metropolitan","Predominantly Rural","HC","Fire control","Black or Black British",0]
["2022/23","Lincolnshire","E31000025","Non-metropolitan","Predominantly Rural","HC","Fire control","Chinese or other ethnicity",0]
["2022/23","Lincolnshire","E31000025","Non-metropolitan","Predominantly Rural","HC","Fire control","Ethnic origin not stated",0]
["2022/23","Lincolnshire","E31000025","Non-metropolitan","Predominantly Rural","HC","Fire control","Mixed",0]
["2022/23","Lincolnshire","E31000025","Non-metropolitan","Predominantly Rural","HC","Fire control","White British or Irish",0]
["2022/23","Lincolnshire","E31000025","Non-metropolitan","Predominantly Rural","HC","On call firefighters","Asian or Asian British",0]
["2022/23","Lincolnshire","E31000025","Non-metropolitan","Predominantly Rural","HC","On call firefighters","Black or Black British",0]
["2022/23","Lincolnshire","E31000025","Non-metropolitan","Predominantly Rural","HC","On call firefighters","Chinese or other ethnicity",2]
["2022/23","Lincolnshire","E31000025","Non-metropolitan","Predominantly Rural","HC","On call firefighters","Ethnic origin not stated",0]
["2022/23","Lincolnshire","E31000025","Non-metropolitan","Predominantly Rural","HC","On call firefighters","Mixed",0]
["2022/23","Lincolnshire","E31000025","Non-metropolitan","Predominantly Rural","HC","On call firefighters","White British or Irish",28]
["2022/23","Lincolnshire","E31000025","Non-metropolitan","Predominantly Rural","HC","Support staff","Asian or Asian British",0]
["2022/23","Lincolnshire","E31000025","Non-metropolitan","Predominantly Rural","HC","Support staff","Black or Black British",0]
["2022/23","Lincolnshire","E31000025","Non-metropolitan","Predominantly Rural","HC","Support staff","Chinese or other ethnicity",0]
["2022/23","Lincolnshire","E31000025","Non-metropolitan","Predominantly Rural","HC","Support staff","Ethnic origin not stated",0]
["2022/23","Lincolnshire","E31000025","Non-metropolitan","Predominantly Rural","HC","Support staff","Mixed",0]
["2022/23","Lincolnshire","E31000025","Non-metropolitan","Predominantly Rural","HC","Support staff","White British or Irish",3]
["2022/23","Lincolnshire","E31000025","Non-metropolitan","Predominantly Rural","HC","Wholetime firefighters","Asian or Asian British",0]
["2022/23","Lincolnshire","E31000025","Non-metropolitan","Predominantly Rural","HC","Wholetime firefighters","Black or Black British",0]
["2022/23","Lincolnshire","E31000025","Non-metropolitan","Predominantly Rural","HC","Wholetime firefighters","Chinese or other ethnicity",0]
["2022/23","Lincolnshire","E31000025","Non-metropolitan","Predominantly Rural","HC","Wholetime firefighters","Ethnic origin not stated",0]
["2022/23","Lincolnshire","E31000025","Non-metropolitan","Predominantly Rural","HC","Wholetime firefighters","Mixed",0]
["2022/23","Lincolnshire","E31000025","Non-metropolitan","Predominantly Rural","HC","Wholetime firefighters","White British or Irish",4]
["2022/23","Merseyside","E31000041","Metropolitan","Predominantly Urban","HC","Fire control","Asian or Asian British",0]
["2022/23","Merseyside","E31000041","Metropolitan","Predominantly Urban","HC","Fire control","Black or Black British",0]
["2022/23","Merseyside","E31000041","Metropolitan","Predominantly Urban","HC","Fire control","Chinese or other ethnicity",0]
["2022/23","Merseyside","E31000041","Metropolitan","Predominantly Urban","HC","Fire control","Ethnic origin not stated",0]
["2022/23","Merseyside","E31000041","Metropolitan","Predominantly Urban","HC","Fire control","Mixed",0]
["2022/23","Merseyside","E31000041","Metropolitan","Predominantly Urban","HC","Fire control","White British or Irish",6]
["2022/23","Merseyside","E31000041","Metropolitan","Predominantly Urban","HC","On call firefighters","Asian or Asian British",0]
["2022/23","Merseyside","E31000041","Metropolitan","Predominantly Urban","HC","On call firefighters","Black or Black British",1]
["2022/23","Merseyside","E31000041","Metropolitan","Predominantly Urban","HC","On call firefighters","Chinese or other ethnicity",2]
["2022/23","Merseyside","E31000041","Metropolitan","Predominantly Urban","HC","On call firefighters","Ethnic origin not stated",0]
["2022/23","Merseyside","E31000041","Metropolitan","Predominantly Urban","HC","On call firefighters","Mixed",2]
["2022/23","Merseyside","E31000041","Metropolitan","Predominantly Urban","HC","On call firefighters","White British or Irish",14]
["2022/23","Merseyside","E31000041","Metropolitan","Predominantly Urban","HC","Support staff","Asian or Asian British",0]
["2022/23","Merseyside","E31000041","Metropolitan","Predominantly Urban","HC","Support staff","Black or Black British",0]
["2022/23","Merseyside","E31000041","Metropolitan","Predominantly Urban","HC","Support staff","Chinese or other ethnicity",2]
["2022/23","Merseyside","E31000041","Metropolitan","Predominantly Urban","HC","Support staff","Ethnic origin not stated",0]
["2022/23","Merseyside","E31000041","Metropolitan","Predominantly Urban","HC","Support staff","Mixed",2]
["2022/23","Merseyside","E31000041","Metropolitan","Predominantly Urban","HC","Support staff","White British or Irish",39]
["2022/23","Merseyside","E31000041","Metropolitan","Predominantly Urban","HC","Wholetime firefighters","Asian or Asian British",0]
["2022/23","Merseyside","E31000041","Metropolitan","Predominantly Urban","HC","Wholetime firefighters","Black or Black British",1]
["2022/23","Merseyside","E31000041","Metropolitan","Predominantly Urban","HC","Wholetime firefighters","Chinese or other ethnicity",3]
["2022/23","Merseyside","E31000041","Metropolitan","Predominantly Urban","HC","Wholetime firefighters","Ethnic origin not stated",0]
["2022/23","Merseyside","E31000041","Metropolitan","Predominantly Urban","HC","Wholetime firefighters","Mixed",6]
["2022/23","Merseyside","E31000041","Metropolitan","Predominantly Urban","HC","Wholetime firefighters","White British or Irish",43]
["2022/23","Norfolk","E31000026","Non-metropolitan","Predominantly Rural","HC","Fire control","Asian or Asian British",0]
["2022/23","Norfolk","E31000026","Non-metropolitan","Predominantly Rural","HC","Fire control","Black or Black British",0]
["2022/23","Norfolk","E31000026","Non-metropolitan","Predominantly Rural","HC","Fire control","Chinese or other ethnicity",0]
["2022/23","Norfolk","E31000026","Non-metropolitan","Predominantly Rural","HC","Fire control","Ethnic origin not stated",1]
["2022/23","Norfolk","E31000026","Non-metropolitan","Predominantly Rural","HC","Fire control","Mixed",0]
["2022/23","Norfolk","E31000026","Non-metropolitan","Predominantly Rural","HC","Fire control","White British or Irish",0]
["2022/23","Norfolk","E31000026","Non-metropolitan","Predominantly Rural","HC","On call firefighters","Asian or Asian British",0]
["2022/23","Norfolk","E31000026","Non-metropolitan","Predominantly Rural","HC","On call firefighters","Black or Black British",0]
["2022/23","Norfolk","E31000026","Non-metropolitan","Predominantly Rural","HC","On call firefighters","Chinese or other ethnicity",0]
["2022/23","Norfolk","E31000026","Non-metropolitan","Predominantly Rural","HC","On call firefighters","Ethnic origin not stated",33]
["2022/23","Norfolk","E31000026","Non-metropolitan","Predominantly Rural","HC","On call firefighters","Mixed",0]
["2022/23","Norfolk","E31000026","Non-metropolitan","Predominantly Rural","HC","On call firefighters","White British or Irish",0]
["2022/23","Norfolk","E31000026","Non-metropolitan","Predominantly Rural","HC","Support staff","Asian or Asian British",0]
["2022/23","Norfolk","E31000026","Non-metropolitan","Predominantly Rural","HC","Support staff","Black or Black British",0]
["2022/23","Norfolk","E31000026","Non-metropolitan","Predominantly Rural","HC","Support staff","Chinese or other ethnicity",0]
["2022/23","Norfolk","E31000026","Non-metropolitan","Predominantly Rural","HC","Support staff","Ethnic origin not stated",8]
["2022/23","Norfolk","E31000026","Non-metropolitan","Predominantly Rural","HC","Support staff","Mixed",0]
["2022/23","Norfolk","E31000026","Non-metropolitan","Predominantly Rural","HC","Support staff","White British or Irish",1]
["2022/23","Norfolk","E31000026","Non-metropolitan","Predominantly Rural","HC","Wholetime firefighters","Asian or Asian British",0]
["2022/23","Norfolk","E31000026","Non-metropolitan","Predominantly Rural","HC","Wholetime firefighters","Black or Black British",0]
["2022/23","Norfolk","E31000026","Non-metropolitan","Predominantly Rural","HC","Wholetime firefighters","Chinese or other ethnicity",0]
["2022/23","Norfolk","E31000026","Non-metropolitan","Predominantly Rural","HC","Wholetime firefighters","Ethnic origin not stated",15]
["2022/23","Norfolk","E31000026","Non-metropolitan","Predominantly Rural","HC","Wholetime firefighters","Mixed",0]
["2022/23","Norfolk","E31000026","Non-metropolitan","Predominantly Rural","HC","Wholetime firefighters","White British or Irish",0]
["2022/23","North Yorkshire","E31000027","Non-metropolitan","Predominantly Rural","HC","Fire control","Asian or Asian British",0]
["2022/23","North Yorkshire","E31000027","Non-metropolitan","Predominantly Rural","HC","Fire control","Black or Black British",0]
["2022/23","North Yorkshire","E31000027","Non-metropolitan","Predominantly Rural","HC","Fire control","Chinese or other ethnicity",0]
["2022/23","North Yorkshire","E31000027","Non-metropolitan","Predominantly Rural","HC","Fire control","Ethnic origin not stated",0]
["2022/23","North Yorkshire","E31000027","Non-metropolitan","Predominantly Rural","HC","Fire control","Mixed",0]
["2022/23","North Yorkshire","E31000027","Non-metropolitan","Predominantly Rural","HC","Fire control","White British or Irish",0]
["2022/23","North Yorkshire","E31000027","Non-metropolitan","Predominantly Rural","HC","On call firefighters","Asian or Asian British",0]
["2022/23","North Yorkshire","E31000027","Non-metropolitan","Predominantly Rural","HC","On call firefighters","Black or Black British",0]
["2022/23","North Yorkshire","E31000027","Non-metropolitan","Predominantly Rural","HC","On call firefighters","Chinese or other ethnicity",0]
["2022/23","North Yorkshire","E31000027","Non-metropolitan","Predominantly Rural","HC","On call firefighters","Ethnic origin not stated",5]
["2022/23","North Yorkshire","E31000027","Non-metropolitan","Predominantly Rural","HC","On call firefighters","Mixed",0]
["2022/23","North Yorkshire","E31000027","Non-metropolitan","Predominantly Rural","HC","On call firefighters","White British or Irish",20]
["2022/23","North Yorkshire","E31000027","Non-metropolitan","Predominantly Rural","HC","Support staff","Asian or Asian British",0]
["2022/23","North Yorkshire","E31000027","Non-metropolitan","Predominantly Rural","HC","Support staff","Black or Black British",0]
["2022/23","North Yorkshire","E31000027","Non-metropolitan","Predominantly Rural","HC","Support staff","Chinese or other ethnicity",0]
["2022/23","North Yorkshire","E31000027","Non-metropolitan","Predominantly Rural","HC","Support staff","Ethnic origin not stated",3]
["2022/23","North Yorkshire","E31000027","Non-metropolitan","Predominantly Rural","HC","Support staff","Mixed",0]
["2022/23","North Yorkshire","E31000027","Non-metropolitan","Predominantly Rural","HC","Support staff","White British or Irish",1]
["2022/23","North Yorkshire","E31000027","Non-metropolitan","Predominantly Rural","HC","Wholetime firefighters","Asian or Asian British",0]
["2022/23","North Yorkshire","E31000027","Non-metropolitan","Predominantly Rural","HC","Wholetime firefighters","Black or Black British",0]
["2022/23","North Yorkshire","E31000027","Non-metropolitan","Predominantly Rural","HC","Wholetime firefighters","Chinese or other ethnicity",0]
["2022/23","North Yorkshire","E31000027","Non-metropolitan","Predominantly Rural","HC","Wholetime firefighters","Ethnic origin not stated",2]
["2022/23","North Yorkshire","E31000027","Non-metropolitan","Predominantly Rural","HC","Wholetime firefighters","Mixed",0]
["2022/23","North Yorkshire","E31000027","Non-metropolitan","Predominantly Rural","HC","Wholetime firefighters","White British or Irish",6]
["2022/23","Northamptonshire","E31000028","Non-metropolitan","Significantly Rural","HC","Fire control","Asian or Asian British",0]
["2022/23","Northamptonshire","E31000028","Non-metropolitan","Significantly Rural","HC","Fire control","Black or Black British",0]
["2022/23","Northamptonshire","E31000028","Non-metropolitan","Significantly Rural","HC","Fire control","Chinese or other ethnicity",0]
["2022/23","Northamptonshire","E31000028","Non-metropolitan","Significantly Rural","HC","Fire control","Ethnic origin not stated",5]
["2022/23","Northamptonshire","E31000028","Non-metropolitan","Significantly Rural","HC","Fire control","Mixed",0]
["2022/23","Northamptonshire","E31000028","Non-metropolitan","Significantly Rural","HC","Fire control","White British or Irish",1]
["2022/23","Northamptonshire","E31000028","Non-metropolitan","Significantly Rural","HC","On call firefighters","Asian or Asian British",0]
["2022/23","Northamptonshire","E31000028","Non-metropolitan","Significantly Rural","HC","On call firefighters","Black or Black British",0]
["2022/23","Northamptonshire","E31000028","Non-metropolitan","Significantly Rural","HC","On call firefighters","Chinese or other ethnicity",0]
["2022/23","Northamptonshire","E31000028","Non-metropolitan","Significantly Rural","HC","On call firefighters","Ethnic origin not stated",30]
["2022/23","Northamptonshire","E31000028","Non-metropolitan","Significantly Rural","HC","On call firefighters","Mixed",0]
["2022/23","Northamptonshire","E31000028","Non-metropolitan","Significantly Rural","HC","On call firefighters","White British or Irish",1]
["2022/23","Northamptonshire","E31000028","Non-metropolitan","Significantly Rural","HC","Support staff","Asian or Asian British",0]
["2022/23","Northamptonshire","E31000028","Non-metropolitan","Significantly Rural","HC","Support staff","Black or Black British",0]
["2022/23","Northamptonshire","E31000028","Non-metropolitan","Significantly Rural","HC","Support staff","Chinese or other ethnicity",0]
["2022/23","Northamptonshire","E31000028","Non-metropolitan","Significantly Rural","HC","Support staff","Ethnic origin not stated",3]
["2022/23","Northamptonshire","E31000028","Non-metropolitan","Significantly Rural","HC","Support staff","Mixed",0]
["2022/23","Northamptonshire","E31000028","Non-metropolitan","Significantly Rural","HC","Support staff","White British or Irish",0]
["2022/23","Northamptonshire","E31000028","Non-metropolitan","Significantly Rural","HC","Wholetime firefighters","Asian or Asian British",0]
["2022/23","Northamptonshire","E31000028","Non-metropolitan","Significantly Rural","HC","Wholetime firefighters","Black or Black British",0]
["2022/23","Northamptonshire","E31000028","Non-metropolitan","Significantly Rural","HC","Wholetime firefighters","Chinese or other ethnicity",1]
["2022/23","Northamptonshire","E31000028","Non-metropolitan","Significantly Rural","HC","Wholetime firefighters","Ethnic origin not stated",16]
["2022/23","Northamptonshire","E31000028","Non-metropolitan","Significantly Rural","HC","Wholetime firefighters","Mixed",0]
["2022/23","Northamptonshire","E31000028","Non-metropolitan","Significantly Rural","HC","Wholetime firefighters","White British or Irish",3]
["2022/23","Northumberland","E31000029","Non-metropolitan","Predominantly Rural","HC","Fire control","Asian or Asian British",0]
["2022/23","Northumberland","E31000029","Non-metropolitan","Predominantly Rural","HC","Fire control","Black or Black British",0]
["2022/23","Northumberland","E31000029","Non-metropolitan","Predominantly Rural","HC","Fire control","Chinese or other ethnicity",0]
["2022/23","Northumberland","E31000029","Non-metropolitan","Predominantly Rural","HC","Fire control","Ethnic origin not stated",0]
["2022/23","Northumberland","E31000029","Non-metropolitan","Predominantly Rural","HC","Fire control","Mixed",0]
["2022/23","Northumberland","E31000029","Non-metropolitan","Predominantly Rural","HC","Fire control","White British or Irish",0]
["2022/23","Northumberland","E31000029","Non-metropolitan","Predominantly Rural","HC","On call firefighters","Asian or Asian British",0]
["2022/23","Northumberland","E31000029","Non-metropolitan","Predominantly Rural","HC","On call firefighters","Black or Black British",0]
["2022/23","Northumberland","E31000029","Non-metropolitan","Predominantly Rural","HC","On call firefighters","Chinese or other ethnicity",0]
["2022/23","Northumberland","E31000029","Non-metropolitan","Predominantly Rural","HC","On call firefighters","Ethnic origin not stated",23]
["2022/23","Northumberland","E31000029","Non-metropolitan","Predominantly Rural","HC","On call firefighters","Mixed",0]
["2022/23","Northumberland","E31000029","Non-metropolitan","Predominantly Rural","HC","On call firefighters","White British or Irish",0]
["2022/23","Northumberland","E31000029","Non-metropolitan","Predominantly Rural","HC","Support staff","Asian or Asian British",0]
["2022/23","Northumberland","E31000029","Non-metropolitan","Predominantly Rural","HC","Support staff","Black or Black British",0]
["2022/23","Northumberland","E31000029","Non-metropolitan","Predominantly Rural","HC","Support staff","Chinese or other ethnicity",0]
["2022/23","Northumberland","E31000029","Non-metropolitan","Predominantly Rural","HC","Support staff","Ethnic origin not stated",3]
["2022/23","Northumberland","E31000029","Non-metropolitan","Predominantly Rural","HC","Support staff","Mixed",0]
["2022/23","Northumberland","E31000029","Non-metropolitan","Predominantly Rural","HC","Support staff","White British or Irish",0]
["2022/23","Northumberland","E31000029","Non-metropolitan","Predominantly Rural","HC","Wholetime firefighters","Asian or Asian British",0]
["2022/23","Northumberland","E31000029","Non-metropolitan","Predominantly Rural","HC","Wholetime firefighters","Black or Black British",0]
["2022/23","Northumberland","E31000029","Non-metropolitan","Predominantly Rural","HC","Wholetime firefighters","Chinese or other ethnicity",0]
["2022/23","Northumberland","E31000029","Non-metropolitan","Predominantly Rural","HC","Wholetime firefighters","Ethnic origin not stated",3]
["2022/23","Northumberland","E31000029","Non-metropolitan","Predominantly Rural","HC","Wholetime firefighters","Mixed",0]
["2022/23","Northumberland","E31000029","Non-metropolitan","Predominantly Rural","HC","Wholetime firefighters","White British or Irish",0]
["2022/23","Nottinghamshire","E31000030","Non-metropolitan","Predominantly Urban","HC","Fire control","Asian or Asian British",0]
["2022/23","Nottinghamshire","E31000030","Non-metropolitan","Predominantly Urban","HC","Fire control","Black or Black British",0]
["2022/23","Nottinghamshire","E31000030","Non-metropolitan","Predominantly Urban","HC","Fire control","Chinese or other ethnicity",0]
["2022/23","Nottinghamshire","E31000030","Non-metropolitan","Predominantly Urban","HC","Fire control","Ethnic origin not stated",0]
["2022/23","Nottinghamshire","E31000030","Non-metropolitan","Predominantly Urban","HC","Fire control","Mixed",0]
["2022/23","Nottinghamshire","E31000030","Non-metropolitan","Predominantly Urban","HC","Fire control","White British or Irish",0]
["2022/23","Nottinghamshire","E31000030","Non-metropolitan","Predominantly Urban","HC","On call firefighters","Asian or Asian British",0]
["2022/23","Nottinghamshire","E31000030","Non-metropolitan","Predominantly Urban","HC","On call firefighters","Black or Black British",0]
["2022/23","Nottinghamshire","E31000030","Non-metropolitan","Predominantly Urban","HC","On call firefighters","Chinese or other ethnicity",2]
["2022/23","Nottinghamshire","E31000030","Non-metropolitan","Predominantly Urban","HC","On call firefighters","Ethnic origin not stated",0]
["2022/23","Nottinghamshire","E31000030","Non-metropolitan","Predominantly Urban","HC","On call firefighters","Mixed",0]
["2022/23","Nottinghamshire","E31000030","Non-metropolitan","Predominantly Urban","HC","On call firefighters","White British or Irish",24]
["2022/23","Nottinghamshire","E31000030","Non-metropolitan","Predominantly Urban","HC","Support staff","Asian or Asian British",2]
["2022/23","Nottinghamshire","E31000030","Non-metropolitan","Predominantly Urban","HC","Support staff","Black or Black British",0]
["2022/23","Nottinghamshire","E31000030","Non-metropolitan","Predominantly Urban","HC","Support staff","Chinese or other ethnicity",1]
["2022/23","Nottinghamshire","E31000030","Non-metropolitan","Predominantly Urban","HC","Support staff","Ethnic origin not stated",5]
["2022/23","Nottinghamshire","E31000030","Non-metropolitan","Predominantly Urban","HC","Support staff","Mixed",0]
["2022/23","Nottinghamshire","E31000030","Non-metropolitan","Predominantly Urban","HC","Support staff","White British or Irish",16]
["2022/23","Nottinghamshire","E31000030","Non-metropolitan","Predominantly Urban","HC","Wholetime firefighters","Asian or Asian British",0]
["2022/23","Nottinghamshire","E31000030","Non-metropolitan","Predominantly Urban","HC","Wholetime firefighters","Black or Black British",0]
["2022/23","Nottinghamshire","E31000030","Non-metropolitan","Predominantly Urban","HC","Wholetime firefighters","Chinese or other ethnicity",0]
["2022/23","Nottinghamshire","E31000030","Non-metropolitan","Predominantly Urban","HC","Wholetime firefighters","Ethnic origin not stated",0]
["2022/23","Nottinghamshire","E31000030","Non-metropolitan","Predominantly Urban","HC","Wholetime firefighters","Mixed",0]
["2022/23","Nottinghamshire","E31000030","Non-metropolitan","Predominantly Urban","HC","Wholetime firefighters","White British or Irish",4]
["2022/23","Oxfordshire","E31000031","Non-metropolitan","Predominantly Rural","HC","Fire control","Asian or Asian British",0]
["2022/23","Oxfordshire","E31000031","Non-metropolitan","Predominantly Rural","HC","Fire control","Black or Black British",0]
["2022/23","Oxfordshire","E31000031","Non-metropolitan","Predominantly Rural","HC","Fire control","Chinese or other ethnicity",0]
["2022/23","Oxfordshire","E31000031","Non-metropolitan","Predominantly Rural","HC","Fire control","Ethnic origin not stated",0]
["2022/23","Oxfordshire","E31000031","Non-metropolitan","Predominantly Rural","HC","Fire control","Mixed",0]
["2022/23","Oxfordshire","E31000031","Non-metropolitan","Predominantly Rural","HC","Fire control","White British or Irish",0]
["2022/23","Oxfordshire","E31000031","Non-metropolitan","Predominantly Rural","HC","On call firefighters","Asian or Asian British",0]
["2022/23","Oxfordshire","E31000031","Non-metropolitan","Predominantly Rural","HC","On call firefighters","Black or Black British",0]
["2022/23","Oxfordshire","E31000031","Non-metropolitan","Predominantly Rural","HC","On call firefighters","Chinese or other ethnicity",5]
["2022/23","Oxfordshire","E31000031","Non-metropolitan","Predominantly Rural","HC","On call firefighters","Ethnic origin not stated",1]
["2022/23","Oxfordshire","E31000031","Non-metropolitan","Predominantly Rural","HC","On call firefighters","Mixed",1]
["2022/23","Oxfordshire","E31000031","Non-metropolitan","Predominantly Rural","HC","On call firefighters","White British or Irish",42]
["2022/23","Oxfordshire","E31000031","Non-metropolitan","Predominantly Rural","HC","Support staff","Asian or Asian British",0]
["2022/23","Oxfordshire","E31000031","Non-metropolitan","Predominantly Rural","HC","Support staff","Black or Black British",2]
["2022/23","Oxfordshire","E31000031","Non-metropolitan","Predominantly Rural","HC","Support staff","Chinese or other ethnicity",0]
["2022/23","Oxfordshire","E31000031","Non-metropolitan","Predominantly Rural","HC","Support staff","Ethnic origin not stated",1]
["2022/23","Oxfordshire","E31000031","Non-metropolitan","Predominantly Rural","HC","Support staff","Mixed",0]
["2022/23","Oxfordshire","E31000031","Non-metropolitan","Predominantly Rural","HC","Support staff","White British or Irish",8]
["2022/23","Oxfordshire","E31000031","Non-metropolitan","Predominantly Rural","HC","Wholetime firefighters","Asian or Asian British",0]
["2022/23","Oxfordshire","E31000031","Non-metropolitan","Predominantly Rural","HC","Wholetime firefighters","Black or Black British",0]
["2022/23","Oxfordshire","E31000031","Non-metropolitan","Predominantly Rural","HC","Wholetime firefighters","Chinese or other ethnicity",3]
["2022/23","Oxfordshire","E31000031","Non-metropolitan","Predominantly Rural","HC","Wholetime firefighters","Ethnic origin not stated",3]
["2022/23","Oxfordshire","E31000031","Non-metropolitan","Predominantly Rural","HC","Wholetime firefighters","Mixed",0]
["2022/23","Oxfordshire","E31000031","Non-metropolitan","Predominantly Rural","HC","Wholetime firefighters","White British or Irish",18]
["2022/23","Shropshire","E31000032","Non-metropolitan","Predominantly Rural","HC","Fire control","Asian or Asian British",0]
["2022/23","Shropshire","E31000032","Non-metropolitan","Predominantly Rural","HC","Fire control","Black or Black British",0]
["2022/23","Shropshire","E31000032","Non-metropolitan","Predominantly Rural","HC","Fire control","Chinese or other ethnicity",0]
["2022/23","Shropshire","E31000032","Non-metropolitan","Predominantly Rural","HC","Fire control","Ethnic origin not stated",0]
["2022/23","Shropshire","E31000032","Non-metropolitan","Predominantly Rural","HC","Fire control","Mixed",0]
["2022/23","Shropshire","E31000032","Non-metropolitan","Predominantly Rural","HC","Fire control","White British or Irish",0]
["2022/23","Shropshire","E31000032","Non-metropolitan","Predominantly Rural","HC","On call firefighters","Asian or Asian British",0]
["2022/23","Shropshire","E31000032","Non-metropolitan","Predominantly Rural","HC","On call firefighters","Black or Black British",0]
["2022/23","Shropshire","E31000032","Non-metropolitan","Predominantly Rural","HC","On call firefighters","Chinese or other ethnicity",0]
["2022/23","Shropshire","E31000032","Non-metropolitan","Predominantly Rural","HC","On call firefighters","Ethnic origin not stated",11]
["2022/23","Shropshire","E31000032","Non-metropolitan","Predominantly Rural","HC","On call firefighters","Mixed",0]
["2022/23","Shropshire","E31000032","Non-metropolitan","Predominantly Rural","HC","On call firefighters","White British or Irish",21]
["2022/23","Shropshire","E31000032","Non-metropolitan","Predominantly Rural","HC","Support staff","Asian or Asian British",0]
["2022/23","Shropshire","E31000032","Non-metropolitan","Predominantly Rural","HC","Support staff","Black or Black British",0]
["2022/23","Shropshire","E31000032","Non-metropolitan","Predominantly Rural","HC","Support staff","Chinese or other ethnicity",0]
["2022/23","Shropshire","E31000032","Non-metropolitan","Predominantly Rural","HC","Support staff","Ethnic origin not stated",2]
["2022/23","Shropshire","E31000032","Non-metropolitan","Predominantly Rural","HC","Support staff","Mixed",0]
["2022/23","Shropshire","E31000032","Non-metropolitan","Predominantly Rural","HC","Support staff","White British or Irish",6]
["2022/23","Shropshire","E31000032","Non-metropolitan","Predominantly Rural","HC","Wholetime firefighters","Asian or Asian British",0]
["2022/23","Shropshire","E31000032","Non-metropolitan","Predominantly Rural","HC","Wholetime firefighters","Black or Black British",0]
["2022/23","Shropshire","E31000032","Non-metropolitan","Predominantly Rural","HC","Wholetime firefighters","Chinese or other ethnicity",0]
["2022/23","Shropshire","E31000032","Non-metropolitan","Predominantly Rural","HC","Wholetime firefighters","Ethnic origin not stated",5]
["2022/23","Shropshire","E31000032","Non-metropolitan","Predominantly Rural","HC","Wholetime firefighters","Mixed",0]
["2022/23","Shropshire","E31000032","Non-metropolitan","Predominantly Rural","HC","Wholetime firefighters","White British or Irish",8]
["2022/23","South Yorkshire","E31000042","Metropolitan","Predominantly Urban","HC","Fire control","Asian or Asian British",0]
["2022/23","South Yorkshire","E31000042","Metropolitan","Predominantly Urban","HC","Fire control","Black or Black British",0]
["2022/23","South Yorkshire","E31000042","Metropolitan","Predominantly Urban","HC","Fire control","Chinese or other ethnicity",0]
["2022/23","South Yorkshire","E31000042","Metropolitan","Predominantly Urban","HC","Fire control","Ethnic origin not stated",0]
["2022/23","South Yorkshire","E31000042","Metropolitan","Predominantly Urban","HC","Fire control","Mixed",0]
["2022/23","South Yorkshire","E31000042","Metropolitan","Predominantly Urban","HC","Fire control","White British or Irish",0]
["2022/23","South Yorkshire","E31000042","Metropolitan","Predominantly Urban","HC","On call firefighters","Asian or Asian British",0]
["2022/23","South Yorkshire","E31000042","Metropolitan","Predominantly Urban","HC","On call firefighters","Black or Black British",0]
["2022/23","South Yorkshire","E31000042","Metropolitan","Predominantly Urban","HC","On call firefighters","Chinese or other ethnicity",1]
["2022/23","South Yorkshire","E31000042","Metropolitan","Predominantly Urban","HC","On call firefighters","Ethnic origin not stated",0]
["2022/23","South Yorkshire","E31000042","Metropolitan","Predominantly Urban","HC","On call firefighters","Mixed",0]
["2022/23","South Yorkshire","E31000042","Metropolitan","Predominantly Urban","HC","On call firefighters","White British or Irish",12]
["2022/23","South Yorkshire","E31000042","Metropolitan","Predominantly Urban","HC","Support staff","Asian or Asian British",3]
["2022/23","South Yorkshire","E31000042","Metropolitan","Predominantly Urban","HC","Support staff","Black or Black British",1]
["2022/23","South Yorkshire","E31000042","Metropolitan","Predominantly Urban","HC","Support staff","Chinese or other ethnicity",2]
["2022/23","South Yorkshire","E31000042","Metropolitan","Predominantly Urban","HC","Support staff","Ethnic origin not stated",0]
["2022/23","South Yorkshire","E31000042","Metropolitan","Predominantly Urban","HC","Support staff","Mixed",0]
["2022/23","South Yorkshire","E31000042","Metropolitan","Predominantly Urban","HC","Support staff","White British or Irish",27]
["2022/23","South Yorkshire","E31000042","Metropolitan","Predominantly Urban","HC","Wholetime firefighters","Asian or Asian British",0]
["2022/23","South Yorkshire","E31000042","Metropolitan","Predominantly Urban","HC","Wholetime firefighters","Black or Black British",0]
["2022/23","South Yorkshire","E31000042","Metropolitan","Predominantly Urban","HC","Wholetime firefighters","Chinese or other ethnicity",2]
["2022/23","South Yorkshire","E31000042","Metropolitan","Predominantly Urban","HC","Wholetime firefighters","Ethnic origin not stated",0]
["2022/23","South Yorkshire","E31000042","Metropolitan","Predominantly Urban","HC","Wholetime firefighters","Mixed",1]
["2022/23","South Yorkshire","E31000042","Metropolitan","Predominantly Urban","HC","Wholetime firefighters","White British or Irish",39]
["2022/23","Staffordshire","E31000033","Non-metropolitan","Significantly Rural","HC","Fire control","Asian or Asian British",0]
["2022/23","Staffordshire","E31000033","Non-metropolitan","Significantly Rural","HC","Fire control","Black or Black British",0]
["2022/23","Staffordshire","E31000033","Non-metropolitan","Significantly Rural","HC","Fire control","Chinese or other ethnicity",0]
["2022/23","Staffordshire","E31000033","Non-metropolitan","Significantly Rural","HC","Fire control","Ethnic origin not stated",0]
["2022/23","Staffordshire","E31000033","Non-metropolitan","Significantly Rural","HC","Fire control","Mixed",0]
["2022/23","Staffordshire","E31000033","Non-metropolitan","Significantly Rural","HC","Fire control","White British or Irish",0]
["2022/23","Staffordshire","E31000033","Non-metropolitan","Significantly Rural","HC","On call firefighters","Asian or Asian British",0]
["2022/23","Staffordshire","E31000033","Non-metropolitan","Significantly Rural","HC","On call firefighters","Black or Black British",0]
["2022/23","Staffordshire","E31000033","Non-metropolitan","Significantly Rural","HC","On call firefighters","Chinese or other ethnicity",3]
["2022/23","Staffordshire","E31000033","Non-metropolitan","Significantly Rural","HC","On call firefighters","Ethnic origin not stated",0]
["2022/23","Staffordshire","E31000033","Non-metropolitan","Significantly Rural","HC","On call firefighters","Mixed",0]
["2022/23","Staffordshire","E31000033","Non-metropolitan","Significantly Rural","HC","On call firefighters","White British or Irish",38]
["2022/23","Staffordshire","E31000033","Non-metropolitan","Significantly Rural","HC","Support staff","Asian or Asian British",0]
["2022/23","Staffordshire","E31000033","Non-metropolitan","Significantly Rural","HC","Support staff","Black or Black British",0]
["2022/23","Staffordshire","E31000033","Non-metropolitan","Significantly Rural","HC","Support staff","Chinese or other ethnicity",1]
["2022/23","Staffordshire","E31000033","Non-metropolitan","Significantly Rural","HC","Support staff","Ethnic origin not stated",0]
["2022/23","Staffordshire","E31000033","Non-metropolitan","Significantly Rural","HC","Support staff","Mixed",0]
["2022/23","Staffordshire","E31000033","Non-metropolitan","Significantly Rural","HC","Support staff","White British or Irish",27]
["2022/23","Staffordshire","E31000033","Non-metropolitan","Significantly Rural","HC","Wholetime firefighters","Asian or Asian British",0]
["2022/23","Staffordshire","E31000033","Non-metropolitan","Significantly Rural","HC","Wholetime firefighters","Black or Black British",0]
["2022/23","Staffordshire","E31000033","Non-metropolitan","Significantly Rural","HC","Wholetime firefighters","Chinese or other ethnicity",0]
["2022/23","Staffordshire","E31000033","Non-metropolitan","Significantly Rural","HC","Wholetime firefighters","Ethnic origin not stated",0]
["2022/23","Staffordshire","E31000033","Non-metropolitan","Significantly Rural","HC","Wholetime firefighters","Mixed",0]
["2022/23","Staffordshire","E31000033","Non-metropolitan","Significantly Rural","HC","Wholetime firefighters","White British or Irish",18]
["2022/23","Suffolk","E31000034","Non-metropolitan","Predominantly Rural","HC","Fire control","Asian or Asian British",0]
["2022/23","Suffolk","E31000034","Non-metropolitan","Predominantly Rural","HC","Fire control","Black or Black British",0]
["2022/23","Suffolk","E31000034","Non-metropolitan","Predominantly Rural","HC","Fire control","Chinese or other ethnicity",0]
["2022/23","Suffolk","E31000034","Non-metropolitan","Predominantly Rural","HC","Fire control","Ethnic origin not stated",0]
["2022/23","Suffolk","E31000034","Non-metropolitan","Predominantly Rural","HC","Fire control","Mixed",0]
["2022/23","Suffolk","E31000034","Non-metropolitan","Predominantly Rural","HC","Fire control","White British or Irish",0]
["2022/23","Suffolk","E31000034","Non-metropolitan","Predominantly Rural","HC","On call firefighters","Asian or Asian British",0]
["2022/23","Suffolk","E31000034","Non-metropolitan","Predominantly Rural","HC","On call firefighters","Black or Black British",0]
["2022/23","Suffolk","E31000034","Non-metropolitan","Predominantly Rural","HC","On call firefighters","Chinese or other ethnicity",0]
["2022/23","Suffolk","E31000034","Non-metropolitan","Predominantly Rural","HC","On call firefighters","Ethnic origin not stated",40]
["2022/23","Suffolk","E31000034","Non-metropolitan","Predominantly Rural","HC","On call firefighters","Mixed",0]
["2022/23","Suffolk","E31000034","Non-metropolitan","Predominantly Rural","HC","On call firefighters","White British or Irish",3]
["2022/23","Suffolk","E31000034","Non-metropolitan","Predominantly Rural","HC","Support staff","Asian or Asian British",0]
["2022/23","Suffolk","E31000034","Non-metropolitan","Predominantly Rural","HC","Support staff","Black or Black British",0]
["2022/23","Suffolk","E31000034","Non-metropolitan","Predominantly Rural","HC","Support staff","Chinese or other ethnicity",1]
["2022/23","Suffolk","E31000034","Non-metropolitan","Predominantly Rural","HC","Support staff","Ethnic origin not stated",5]
["2022/23","Suffolk","E31000034","Non-metropolitan","Predominantly Rural","HC","Support staff","Mixed",0]
["2022/23","Suffolk","E31000034","Non-metropolitan","Predominantly Rural","HC","Support staff","White British or Irish",13]
["2022/23","Suffolk","E31000034","Non-metropolitan","Predominantly Rural","HC","Wholetime firefighters","Asian or Asian British",0]
["2022/23","Suffolk","E31000034","Non-metropolitan","Predominantly Rural","HC","Wholetime firefighters","Black or Black British",0]
["2022/23","Suffolk","E31000034","Non-metropolitan","Predominantly Rural","HC","Wholetime firefighters","Chinese or other ethnicity",0]
["2022/23","Suffolk","E31000034","Non-metropolitan","Predominantly Rural","HC","Wholetime firefighters","Ethnic origin not stated",7]
["2022/23","Suffolk","E31000034","Non-metropolitan","Predominantly Rural","HC","Wholetime firefighters","Mixed",0]
["2022/23","Suffolk","E31000034","Non-metropolitan","Predominantly Rural","HC","Wholetime firefighters","White British or Irish",2]
["2022/23","Surrey","E31000035","Non-metropolitan","Predominantly Urban","HC","Fire control","Asian or Asian British",0]
["2022/23","Surrey","E31000035","Non-metropolitan","Predominantly Urban","HC","Fire control","Black or Black British",0]
["2022/23","Surrey","E31000035","Non-metropolitan","Predominantly Urban","HC","Fire control","Chinese or other ethnicity",1]
["2022/23","Surrey","E31000035","Non-metropolitan","Predominantly Urban","HC","Fire control","Ethnic origin not stated",0]
["2022/23","Surrey","E31000035","Non-metropolitan","Predominantly Urban","HC","Fire control","Mixed",0]
["2022/23","Surrey","E31000035","Non-metropolitan","Predominantly Urban","HC","Fire control","White British or Irish",8]
["2022/23","Surrey","E31000035","Non-metropolitan","Predominantly Urban","HC","On call firefighters","Asian or Asian British",0]
["2022/23","Surrey","E31000035","Non-metropolitan","Predominantly Urban","HC","On call firefighters","Black or Black British",0]
["2022/23","Surrey","E31000035","Non-metropolitan","Predominantly Urban","HC","On call firefighters","Chinese or other ethnicity",0]
["2022/23","Surrey","E31000035","Non-metropolitan","Predominantly Urban","HC","On call firefighters","Ethnic origin not stated",0]
["2022/23","Surrey","E31000035","Non-metropolitan","Predominantly Urban","HC","On call firefighters","Mixed",0]
["2022/23","Surrey","E31000035","Non-metropolitan","Predominantly Urban","HC","On call firefighters","White British or Irish",2]
["2022/23","Surrey","E31000035","Non-metropolitan","Predominantly Urban","HC","Support staff","Asian or Asian British",2]
["2022/23","Surrey","E31000035","Non-metropolitan","Predominantly Urban","HC","Support staff","Black or Black British",1]
["2022/23","Surrey","E31000035","Non-metropolitan","Predominantly Urban","HC","Support staff","Chinese or other ethnicity",2]
["2022/23","Surrey","E31000035","Non-metropolitan","Predominantly Urban","HC","Support staff","Ethnic origin not stated",6]
["2022/23","Surrey","E31000035","Non-metropolitan","Predominantly Urban","HC","Support staff","Mixed",0]
["2022/23","Surrey","E31000035","Non-metropolitan","Predominantly Urban","HC","Support staff","White British or Irish",13]
["2022/23","Surrey","E31000035","Non-metropolitan","Predominantly Urban","HC","Wholetime firefighters","Asian or Asian British",0]
["2022/23","Surrey","E31000035","Non-metropolitan","Predominantly Urban","HC","Wholetime firefighters","Black or Black British",1]
["2022/23","Surrey","E31000035","Non-metropolitan","Predominantly Urban","HC","Wholetime firefighters","Chinese or other ethnicity",3]
["2022/23","Surrey","E31000035","Non-metropolitan","Predominantly Urban","HC","Wholetime firefighters","Ethnic origin not stated",0]
["2022/23","Surrey","E31000035","Non-metropolitan","Predominantly Urban","HC","Wholetime firefighters","Mixed",0]
["2022/23","Surrey","E31000035","Non-metropolitan","Predominantly Urban","HC","Wholetime firefighters","White British or Irish",91]
["2022/23","Tyne and Wear","E31000043","Metropolitan","Predominantly Urban","HC","Fire control","Asian or Asian British",0]
["2022/23","Tyne and Wear","E31000043","Metropolitan","Predominantly Urban","HC","Fire control","Black or Black British",0]
["2022/23","Tyne and Wear","E31000043","Metropolitan","Predominantly Urban","HC","Fire control","Chinese or other ethnicity",0]
["2022/23","Tyne and Wear","E31000043","Metropolitan","Predominantly Urban","HC","Fire control","Ethnic origin not stated",0]
["2022/23","Tyne and Wear","E31000043","Metropolitan","Predominantly Urban","HC","Fire control","Mixed",0]
["2022/23","Tyne and Wear","E31000043","Metropolitan","Predominantly Urban","HC","Fire control","White British or Irish",1]
["2022/23","Tyne and Wear","E31000043","Metropolitan","Predominantly Urban","HC","On call firefighters","Asian or Asian British",0]
["2022/23","Tyne and Wear","E31000043","Metropolitan","Predominantly Urban","HC","On call firefighters","Black or Black British",0]
["2022/23","Tyne and Wear","E31000043","Metropolitan","Predominantly Urban","HC","On call firefighters","Chinese or other ethnicity",0]
["2022/23","Tyne and Wear","E31000043","Metropolitan","Predominantly Urban","HC","On call firefighters","Ethnic origin not stated",0]
["2022/23","Tyne and Wear","E31000043","Metropolitan","Predominantly Urban","HC","On call firefighters","Mixed",0]
["2022/23","Tyne and Wear","E31000043","Metropolitan","Predominantly Urban","HC","On call firefighters","White British or Irish",1]
["2022/23","Tyne and Wear","E31000043","Metropolitan","Predominantly Urban","HC","Support staff","Asian or Asian British",0]
["2022/23","Tyne and Wear","E31000043","Metropolitan","Predominantly Urban","HC","Support staff","Black or Black British",0]
["2022/23","Tyne and Wear","E31000043","Metropolitan","Predominantly Urban","HC","Support staff","Chinese or other ethnicity",3]
["2022/23","Tyne and Wear","E31000043","Metropolitan","Predominantly Urban","HC","Support staff","Ethnic origin not stated",19]
["2022/23","Tyne and Wear","E31000043","Metropolitan","Predominantly Urban","HC","Support staff","Mixed",0]
["2022/23","Tyne and Wear","E31000043","Metropolitan","Predominantly Urban","HC","Support staff","White British or Irish",45]
["2022/23","Tyne and Wear","E31000043","Metropolitan","Predominantly Urban","HC","Wholetime firefighters","Asian or Asian British",0]
["2022/23","Tyne and Wear","E31000043","Metropolitan","Predominantly Urban","HC","Wholetime firefighters","Black or Black British",0]
["2022/23","Tyne and Wear","E31000043","Metropolitan","Predominantly Urban","HC","Wholetime firefighters","Chinese or other ethnicity",2]
["2022/23","Tyne and Wear","E31000043","Metropolitan","Predominantly Urban","HC","Wholetime firefighters","Ethnic origin not stated",3]
["2022/23","Tyne and Wear","E31000043","Metropolitan","Predominantly Urban","HC","Wholetime firefighters","Mixed",1]
["2022/23","Tyne and Wear","E31000043","Metropolitan","Predominantly Urban","HC","Wholetime firefighters","White British or Irish",54]
["2022/23","Warwickshire","E31000036","Non-metropolitan","Significantly Rural","HC","Fire control","Asian or Asian British",0]
["2022/23","Warwickshire","E31000036","Non-metropolitan","Significantly Rural","HC","Fire control","Black or Black British",0]
["2022/23","Warwickshire","E31000036","Non-metropolitan","Significantly Rural","HC","Fire control","Chinese or other ethnicity",0]
["2022/23","Warwickshire","E31000036","Non-metropolitan","Significantly Rural","HC","Fire control","Ethnic origin not stated",1]
["2022/23","Warwickshire","E31000036","Non-metropolitan","Significantly Rural","HC","Fire control","Mixed",0]
["2022/23","Warwickshire","E31000036","Non-metropolitan","Significantly Rural","HC","Fire control","White British or Irish",3]
["2022/23","Warwickshire","E31000036","Non-metropolitan","Significantly Rural","HC","On call firefighters","Asian or Asian British",0]
["2022/23","Warwickshire","E31000036","Non-metropolitan","Significantly Rural","HC","On call firefighters","Black or Black British",0]
["2022/23","Warwickshire","E31000036","Non-metropolitan","Significantly Rural","HC","On call firefighters","Chinese or other ethnicity",0]
["2022/23","Warwickshire","E31000036","Non-metropolitan","Significantly Rural","HC","On call firefighters","Ethnic origin not stated",1]
["2022/23","Warwickshire","E31000036","Non-metropolitan","Significantly Rural","HC","On call firefighters","Mixed",0]
["2022/23","Warwickshire","E31000036","Non-metropolitan","Significantly Rural","HC","On call firefighters","White British or Irish",16]
["2022/23","Warwickshire","E31000036","Non-metropolitan","Significantly Rural","HC","Support staff","Asian or Asian British",1]
["2022/23","Warwickshire","E31000036","Non-metropolitan","Significantly Rural","HC","Support staff","Black or Black British",0]
["2022/23","Warwickshire","E31000036","Non-metropolitan","Significantly Rural","HC","Support staff","Chinese or other ethnicity",0]
["2022/23","Warwickshire","E31000036","Non-metropolitan","Significantly Rural","HC","Support staff","Ethnic origin not stated",3]
["2022/23","Warwickshire","E31000036","Non-metropolitan","Significantly Rural","HC","Support staff","Mixed",0]
["2022/23","Warwickshire","E31000036","Non-metropolitan","Significantly Rural","HC","Support staff","White British or Irish",7]
["2022/23","Warwickshire","E31000036","Non-metropolitan","Significantly Rural","HC","Wholetime firefighters","Asian or Asian British",0]
["2022/23","Warwickshire","E31000036","Non-metropolitan","Significantly Rural","HC","Wholetime firefighters","Black or Black British",0]
["2022/23","Warwickshire","E31000036","Non-metropolitan","Significantly Rural","HC","Wholetime firefighters","Chinese or other ethnicity",0]
["2022/23","Warwickshire","E31000036","Non-metropolitan","Significantly Rural","HC","Wholetime firefighters","Ethnic origin not stated",8]
["2022/23","Warwickshire","E31000036","Non-metropolitan","Significantly Rural","HC","Wholetime firefighters","Mixed",0]
["2022/23","Warwickshire","E31000036","Non-metropolitan","Significantly Rural","HC","Wholetime firefighters","White British or Irish",10]
["2022/23","West Midlands","E31000044","Metropolitan","Predominantly Urban","HC","Fire control","Asian or Asian British",1]
["2022/23","West Midlands","E31000044","Metropolitan","Predominantly Urban","HC","Fire control","Black or Black British",0]
["2022/23","West Midlands","E31000044","Metropolitan","Predominantly Urban","HC","Fire control","Chinese or other ethnicity",0]
["2022/23","West Midlands","E31000044","Metropolitan","Predominantly Urban","HC","Fire control","Ethnic origin not stated",1]
["2022/23","West Midlands","E31000044","Metropolitan","Predominantly Urban","HC","Fire control","Mixed",0]
["2022/23","West Midlands","E31000044","Metropolitan","Predominantly Urban","HC","Fire control","White British or Irish",5]
["2022/23","West Midlands","E31000044","Metropolitan","Predominantly Urban","HC","On call firefighters","Asian or Asian British",0]
["2022/23","West Midlands","E31000044","Metropolitan","Predominantly Urban","HC","On call firefighters","Black or Black British",0]
["2022/23","West Midlands","E31000044","Metropolitan","Predominantly Urban","HC","On call firefighters","Chinese or other ethnicity",0]
["2022/23","West Midlands","E31000044","Metropolitan","Predominantly Urban","HC","On call firefighters","Ethnic origin not stated",0]
["2022/23","West Midlands","E31000044","Metropolitan","Predominantly Urban","HC","On call firefighters","Mixed",0]
["2022/23","West Midlands","E31000044","Metropolitan","Predominantly Urban","HC","On call firefighters","White British or Irish",0]
["2022/23","West Midlands","E31000044","Metropolitan","Predominantly Urban","HC","Support staff","Asian or Asian British",0]
["2022/23","West Midlands","E31000044","Metropolitan","Predominantly Urban","HC","Support staff","Black or Black British",1]
["2022/23","West Midlands","E31000044","Metropolitan","Predominantly Urban","HC","Support staff","Chinese or other ethnicity",2]
["2022/23","West Midlands","E31000044","Metropolitan","Predominantly Urban","HC","Support staff","Ethnic origin not stated",11]
["2022/23","West Midlands","E31000044","Metropolitan","Predominantly Urban","HC","Support staff","Mixed",1]
["2022/23","West Midlands","E31000044","Metropolitan","Predominantly Urban","HC","Support staff","White British or Irish",15]
["2022/23","West Midlands","E31000044","Metropolitan","Predominantly Urban","HC","Wholetime firefighters","Asian or Asian British",3]
["2022/23","West Midlands","E31000044","Metropolitan","Predominantly Urban","HC","Wholetime firefighters","Black or Black British",4]
["2022/23","West Midlands","E31000044","Metropolitan","Predominantly Urban","HC","Wholetime firefighters","Chinese or other ethnicity",2]
["2022/23","West Midlands","E31000044","Metropolitan","Predominantly Urban","HC","Wholetime firefighters","Ethnic origin not stated",5]
["2022/23","West Midlands","E31000044","Metropolitan","Predominantly Urban","HC","Wholetime firefighters","Mixed",12]
["2022/23","West Midlands","E31000044","Metropolitan","Predominantly Urban","HC","Wholetime firefighters","White British or Irish",63]
["2022/23","West Sussex","E31000037","Non-metropolitan","Significantly Rural","HC","Fire control","Asian or Asian British",0]
["2022/23","West Sussex","E31000037","Non-metropolitan","Significantly Rural","HC","Fire control","Black or Black British",0]
["2022/23","West Sussex","E31000037","Non-metropolitan","Significantly Rural","HC","Fire control","Chinese or other ethnicity",0]
["2022/23","West Sussex","E31000037","Non-metropolitan","Significantly Rural","HC","Fire control","Ethnic origin not stated",0]
["2022/23","West Sussex","E31000037","Non-metropolitan","Significantly Rural","HC","Fire control","Mixed",0]
["2022/23","West Sussex","E31000037","Non-metropolitan","Significantly Rural","HC","Fire control","White British or Irish",0]
["2022/23","West Sussex","E31000037","Non-metropolitan","Significantly Rural","HC","On call firefighters","Asian or Asian British",0]
["2022/23","West Sussex","E31000037","Non-metropolitan","Significantly Rural","HC","On call firefighters","Black or Black British",0]
["2022/23","West Sussex","E31000037","Non-metropolitan","Significantly Rural","HC","On call firefighters","Chinese or other ethnicity",0]
["2022/23","West Sussex","E31000037","Non-metropolitan","Significantly Rural","HC","On call firefighters","Ethnic origin not stated",10]
["2022/23","West Sussex","E31000037","Non-metropolitan","Significantly Rural","HC","On call firefighters","Mixed",0]
["2022/23","West Sussex","E31000037","Non-metropolitan","Significantly Rural","HC","On call firefighters","White British or Irish",17]
["2022/23","West Sussex","E31000037","Non-metropolitan","Significantly Rural","HC","Support staff","Asian or Asian British",0]
["2022/23","West Sussex","E31000037","Non-metropolitan","Significantly Rural","HC","Support staff","Black or Black British",0]
["2022/23","West Sussex","E31000037","Non-metropolitan","Significantly Rural","HC","Support staff","Chinese or other ethnicity",1]
["2022/23","West Sussex","E31000037","Non-metropolitan","Significantly Rural","HC","Support staff","Ethnic origin not stated",8]
["2022/23","West Sussex","E31000037","Non-metropolitan","Significantly Rural","HC","Support staff","Mixed",0]
["2022/23","West Sussex","E31000037","Non-metropolitan","Significantly Rural","HC","Support staff","White British or Irish",2]
["2022/23","West Sussex","E31000037","Non-metropolitan","Significantly Rural","HC","Wholetime firefighters","Asian or Asian British",0]
["2022/23","West Sussex","E31000037","Non-metropolitan","Significantly Rural","HC","Wholetime firefighters","Black or Black British",0]
["2022/23","West Sussex","E31000037","Non-metropolitan","Significantly Rural","HC","Wholetime firefighters","Chinese or other ethnicity",0]
["2022/23","West Sussex","E31000037","Non-metropolitan","Significantly Rural","HC","Wholetime firefighters","Ethnic origin not stated",14]
["2022/23","West Sussex","E31000037","Non-metropolitan","Significantly Rural","HC","Wholetime firefighters","Mixed",0]
["2022/23","West Sussex","E31000037","Non-metropolitan","Significantly Rural","HC","Wholetime firefighters","White British or Irish",7]
["2022/23","West Yorkshire","E31000045","Metropolitan","Predominantly Urban","HC","Fire control","Asian or Asian British",0]
["2022/23","West Yorkshire","E31000045","Metropolitan","Predominantly Urban","HC","Fire control","Black or Black British",0]
["2022/23","West Yorkshire","E31000045","Metropolitan","Predominantly Urban","HC","Fire control","Chinese or other ethnicity",0]
["2022/23","West Yorkshire","E31000045","Metropolitan","Predominantly Urban","HC","Fire control","Ethnic origin not stated",2]
["2022/23","West Yorkshire","E31000045","Metropolitan","Predominantly Urban","HC","Fire control","Mixed",0]
["2022/23","West Yorkshire","E31000045","Metropolitan","Predominantly Urban","HC","Fire control","White British or Irish",3]
["2022/23","West Yorkshire","E31000045","Metropolitan","Predominantly Urban","HC","On call firefighters","Asian or Asian British",0]
["2022/23","West Yorkshire","E31000045","Metropolitan","Predominantly Urban","HC","On call firefighters","Black or Black British",0]
["2022/23","West Yorkshire","E31000045","Metropolitan","Predominantly Urban","HC","On call firefighters","Chinese or other ethnicity",0]
["2022/23","West Yorkshire","E31000045","Metropolitan","Predominantly Urban","HC","On call firefighters","Ethnic origin not stated",1]
["2022/23","West Yorkshire","E31000045","Metropolitan","Predominantly Urban","HC","On call firefighters","Mixed",0]
["2022/23","West Yorkshire","E31000045","Metropolitan","Predominantly Urban","HC","On call firefighters","White British or Irish",15]
["2022/23","West Yorkshire","E31000045","Metropolitan","Predominantly Urban","HC","Support staff","Asian or Asian British",2]
["2022/23","West Yorkshire","E31000045","Metropolitan","Predominantly Urban","HC","Support staff","Black or Black British",0]
["2022/23","West Yorkshire","E31000045","Metropolitan","Predominantly Urban","HC","Support staff","Chinese or other ethnicity",0]
["2022/23","West Yorkshire","E31000045","Metropolitan","Predominantly Urban","HC","Support staff","Ethnic origin not stated",8]
["2022/23","West Yorkshire","E31000045","Metropolitan","Predominantly Urban","HC","Support staff","Mixed",0]
["2022/23","West Yorkshire","E31000045","Metropolitan","Predominantly Urban","HC","Support staff","White British or Irish",27]
["2022/23","West Yorkshire","E31000045","Metropolitan","Predominantly Urban","HC","Wholetime firefighters","Asian or Asian British",2]
["2022/23","West Yorkshire","E31000045","Metropolitan","Predominantly Urban","HC","Wholetime firefighters","Black or Black British",1]
["2022/23","West Yorkshire","E31000045","Metropolitan","Predominantly Urban","HC","Wholetime firefighters","Chinese or other ethnicity",2]
["2022/23","West Yorkshire","E31000045","Metropolitan","Predominantly Urban","HC","Wholetime firefighters","Ethnic origin not stated",27]
["2022/23","West Yorkshire","E31000045","Metropolitan","Predominantly Urban","HC","Wholetime firefighters","Mixed",6]
["2022/23","West Yorkshire","E31000045","Metropolitan","Predominantly Urban","HC","Wholetime firefighters","White British or Irish",43]
["2020/21","West Sussex","E31000037","Non-metropolitan","Significantly Rural","HC","Support staff","Ethnic origin not stated",12]

{"sheet":"FIRE1121_working","index":3,"n_rows":56,"n_cols":54,"rows_kept":56,"cut":false,"hidden":true,"merged":[[64,0,64,8]]}
[]
[]
[{"$f":"FIRE1121!A3","v":"2022/23"}]
[null,"Wholetime firefighters",{"$nulls":8},"On call firefighters",{"$nulls":8},"Total firefighters",{"$nulls":8},"Fire Control",{"$nulls":8},"Support Staff",{"$nulls":8},"Total Staff"]
["Year2","White British or Irish","Mixed","Asian or Asian British","Black or Black British","Chinese or Other Ethnicity","Ethnic origin not stated","Percentage that are EM","Percentage that are not stated",null,"White British or Irish","Mixed","Asian or Asian British","Black or Black British","Chinese or Other Ethnicity","Ethnic origin not stated","Percentage that are EM","Percentage that are not stated",null,"White British or Irish","Mixed","Asian or Asian British","Black or Black British","Chinese or Other Ethnicity","Ethnic origin not stated","Percentage that are EM","Percentage that are not stated",null,"White British or Irish","Mixed","Asian or Asian British","Black or Black British","Chinese or Other Ethnicity","Ethnic origin not stated","Percentage that are EM","Percentage that are not stated",null,"White British or Irish","Mixed","Asian or Asian British","Black or Black British","Chinese or Other Ethnicity","Ethnic origin not stated","Percentage that are EM","Percentage that are not stated",null,"White British or Irish","Mixed","Asian or Asian British","Black or Black British","Chinese or Other Ethnicity","Ethnic origin not stated","Percentage that are EM","Percentage that are not stated"]
["England",{"$f":"SUMPRODUCT((Data!$A$2:$A$22772=$A$3)*(Data!$H$2:$H$22772=B$5)*(Data!$G$2:$G$22772=$B$4)*(Data!$I$2:$I$22772))","v":1249},{"$f":"SUMPRODUCT((Data!$A$2:$A$22772=$A$3)*(Data!$H$2:$H$22772=C$5)*(Data!$G$2:$G$22772=$B$4)*(Data!$I$2:$I$22772))","v":78},{"$f":"SUMPRODUCT((Data!$A$2:$A$22772=$A$3)*(Data!$H$2:$H$22772=D$5)*(Data!$G$2:$G$22772=$B$4)*(Data!$I$2:$I$22772))","v":19},{"$f":"SUMPRODUCT((Data!$A$2:$A$22772=$A$3)*(Data!$H$2:$H$22772=E$5)*(Data!$G$2:$G$22772=$B$4)*(Data!$I$2:$I$22772))","v":32},{"$f":"SUMPRODUCT((Data!$A$2:$A$22772=$A$3)*(Data!$H$2:$H$22772=F$5)*(Data!$G$2:$G$22772=$B$4)*(Data!$I$2:$I$22772))","v":68},{"$f":"SUMPRODUCT((Data!$A$2:$A$22772=$A$3)*(Data!$H$2:$H$22772=G$5)*(Data!$G$2:$G$22772=$B$4)*(Data!$I$2:$I$22772))","v":257},{"$f":"IF(SUM(B6:F6)=0,\"-\",SUM(C6:F6)/SUM(B6:F6))","v":0.13623789764868602},{"$f":"IF(SUM(B6:G6)=0,\"-\",G6/SUM(B6:G6))","v":0.15091015854374634},null,{"$f":"SUMPRODUCT((Data!$A$2:$A$22772=$A$3)*(Data!$H$2:$H$22772=K$5)*(Data!$G$2:$G$22772=$K$4)*(Data!$I$2:$I$22772))","v":879},{"$f":"SUMPRODUCT((Data!$A$2:$A$22772=$A$3)*(Data!$H$2:$H$22772=L$5)*(Data!$G$2:$G$22772=$K$4)*(Data!$I$2:$I$22772))","v":22},{"$f":"SUMPRODUCT((Data!$A$2:$A$22772=$A$3)*(Data!$H$2:$H$22772=M$5)*(Data!$G$2:$G$22772=$K$4)*(Data!$I$2:$I$22772))","v":5},{"$f":"SUMPRODUCT((Data!$A$2:$A$22772=$A$3)*(Data!$H$2:$H$22772=N$5)*(Data!$G$2:$G$22772=$K$4)*(Data!$I$2:$I$22772))","v":6},{"$f":"SUMPRODUCT((Data!$A$2:$A$22772=$A$3)*(Data!$H$2:$H$22772=O$5)*(Data!$G$2:$G$22772=$K$4)*(Data!$I$2:$I$22772))","v":46},{"$f":"SUMPRODUCT((Data!$A$2:$A$22772=$A$3)*(Data!$H$2:$H$22772=P$5)*(Data!$G$2:$G$22772=$K$4)*(Data!$I$2:$I$22772))","v":304},{"$f":"IF(SUM(K6:O6)=0,\"-\",SUM(L6:O6)/SUM(K6:O6))","v":8.2463465553235901E-2},{"$f":"IF(SUM(K6:P6)=0,\"-\",P6/SUM(K6:P6))","v":0.24088748019017434},null,{"$f":"B6+K6","v":2128},{"$f":"C6+L6","v":100},24,38,114,561,{"$f":"IF(SUM(T6:X6)=0,\"-\",SUM(U6:X6)/SUM(T6:X6))","v":0.11480865224625623},{"$f":"IF(SUM(T6:Y6)=0,\"-\",Y6/SUM(T6:Y6))","v":0.18920741989881956},null,{"$f":"SUMPRODUCT((Data!$A$2:$A$22772=$A$3)*(Data!$H$2:$H$22772=AC$5)*(Data!$G$2:$G$22772=$AC$4)*(Data!$I$2:$I$22772))","v":82},{"$f":"SUMPRODUCT((Data!$A$2:$A$22772=$A$3)*(Data!$H$2:$H$22772=AD$5)*(Data!$G$2:$G$22772=$AC$4)*(Data!$I$2:$I$22772))","v":2},{"$f":"SUMPRODUCT((Data!$A$2:$A$22772=$A$3)*(Data!$H$2:$H$22772=AE$5)*(Data!$G$2:$G$22772=$AC$4)*(Data!$I$2:$I$22772))","v":4},{"$f":"SUMPRODUCT((Data!$A$2:$A$22772=$A$3)*(Data!$H$2:$H$22772=AF$5)*(Data!$G$2:$G$22772=$AC$4)*(Data!$I$2:$I$22772))","v":0},{"$f":"SUMPRODUCT((Data!$A$2:$A$22772=$A$3)*(Data!$H$2:$H$22772=AG$5)*(Data!$G$2:$G$22772=$AC$4)*(Data!$I$2:$I$22772))","v":3},{"$f":"SUMPRODUCT((Data!$A$2:$A$22772=$A$3)*(Data!$H$2:$H$22772=AH$5)*(Data!$G$2:$G$22772=$AC$4)*(Data!$I$2:$I$22772))","v":14},{"$f":"IF(SUM(AC6:AG6)=0,\"-\",SUM(AD6:AG6)/SUM(AC6:AG6))","v":9.8901098901098897E-2},{"$f":"IF(SUM(AC6:AH6)=0,\"-\",AH6/SUM(AC6:AH6))","v":0.13333333333333333},null,{"$f":"SUMPRODUCT((Data!$A$2:$A$22772=$A$3)*(Data!$H$2:$H$22772=AL$5)*(Data!$G$2:$G$22772=$AL$4)*(Data!$I$2:$I$22772))","v":865},{"$f":"SUMPRODUCT((Data!$A$2:$A$22772=$A$3)*(Data!$H$2:$H$22772=AM$5)*(Data!$G$2:$G$22772=$AL$4)*(Data!$I$2:$I$22772))","v":9},{"$f":"SUMPRODUCT((Data!$A$2:$A$22772=$A$3)*(Data!$H$2:$H$22772=AN$5)*(Data!$G$2:$G$22772=$AL$4)*(Data!$I$2:$I$22772))","v":29},{"$f":"SUMPRODUCT((Data!$A$2:$A$22772=$A$3)*(Data!$H$2:$H$22772=AO$5)*(Data!$G$2:$G$22772=$AL$4)*(Data!$I$2:$I$22772))","v":35},{"$f":"SUMPRODUCT((Data!$A$2:$A$22772=$A$3)*(Data!$H$2:$H$22772=AP$5)*(Data!$G$2:$G$22772=$AL$4)*(Data!$I$2:$I$22772))","v":52},{"$f":"SUMPRODUCT((Data!$A$2:$A$22772=$A$3)*(Data!$H$2:$H$22772=AQ$5)*(Data!$G$2:$G$22772=$AL$4)*(Data!$I$2:$I$22772))","v":235},{"$f":"IF(SUM(AL6:AP6)=0,\"-\",SUM(AM6:AP6)/SUM(AL6:AP6))","v":0.12626262626262627},{"$f":"IF(SUM(AL6:AQ6)=0,\"-\",AQ6/SUM(AL6:AQ6))","v":0.19183673469387755},null,{"$f":"T6+AC6+AL6","v":3075},{"$f":"U6+AD6+AM6","v":111},57,73,169,810,{"$f":"IF(SUM(AU6:AY6)=0,\"-\",SUM(AV6:AY6)/SUM(AU6:AY6))","v":0.11764705882352941},{"$f":"IF(SUM(AU6:AZ6)=0,\"-\",AZ6/SUM(AU6:AZ6))","v":0.18859138533178113}]
["Non-metropolitan",{"$f":"SUMPRODUCT((Data!$A$2:$A$22772=$A$3)*(Data!$D$2:$D$22772=$A7)*(Data!$H$2:$H$22772=B$5)*(Data!$G$2:$G$22772=$B$4)*(Data!$I$2:$I$22772))","v":731},{"$f":"SUMPRODUCT((Data!$A$2:$A$22772=$A$3)*(Data!$D$2:$D$22772=$A7)*(Data!$H$2:$H$22772=C$5)*(Data!$G$2:$G$22772=$B$4)*(Data!$I$2:$I$22772))","v":20},{"$f":"SUMPRODUCT((Data!$A$2:$A$22772=$A$3)*(Data!$D$2:$D$22772=$A7)*(Data!$H$2:$H$22772=D$5)*(Data!$G$2:$G$22772=$B$4)*(Data!$I$2:$I$22772))","v":4},{"$f":"SUMPRODUCT((Data!$A$2:$A$22772=$A$3)*(Data!$D$2:$D$22772=$A7)*(Data!$H$2:$H$22772=E$5)*(Data!$G$2:$G$22772=$B$4)*(Data!$I$2:$I$22772))","v":6},{"$f":"SUMPRODUCT((Data!$A$2:$A$22772=$A$3)*(Data!$D$2:$D$22772=$A7)*(Data!$H$2:$H$22772=F$5)*(Data!$G$2:$G$22772=$B$4)*(Data!$I$2:$I$22772))","v":27},{"$f":"SUMPRODUCT((Data!$A$2:$A$22772=$A$3)*(Data!$D$2:$D$22772=$A7)*(Data!$H$2:$H$22772=G$5)*(Data!$G$2:$G$22772=$B$4)*(Data!$I$2:$I$22772))","v":160},{"$f":"IF(SUM(B7:F7)=0,\"-\",SUM(C7:F7)/SUM(B7:F7))","v":7.2335025380710655E-2},{"$f":"IF(SUM(B7:G7)=0,\"-\",G7/SUM(B7:G7))","v":0.16877637130801687},null,{"$f":"SUMPRODUCT((Data!$A$2:$A$22772=$A$3)*(Data!$D$2:$D$22772=$A7)*(Data!$H$2:$H$22772=K$5)*(Data!$G$2:$G$22772=$K$4)*(Data!$I$2:$I$22772))","v":837},{"$f":"SUMPRODUCT((Data!$A$2:$A$22772=$A$3)*(Data!$D$2:$D$22772=$A7)*(Data!$H$2:$H$22772=L$5)*(Data!$G$2:$G$22772=$K$4)*(Data!$I$2:$I$22772))","v":20},{"$f":"SUMPRODUCT((Data!$A$2:$A$22772=$A$3)*(Data!$D$2:$D$22772=$A7)*(Data!$H$2:$H$22772=M$5)*(Data!$G$2:$G$22772=$K$4)*(Data!$I$2:$I$22772))","v":5},{"$f":"SUMPRODUCT((Data!$A$2:$A$22772=$A$3)*(Data!$D$2:$D$22772=$A7)*(Data!$H$2:$H$22772=N$5)*(Data!$G$2:$G$22772=$K$4)*(Data!$I$2:$I$22772))","v":5},{"$f":"SUMPRODUCT((Data!$A$2:$A$22772=$A$3)*(Data!$D$2:$D$22772=$A7)*(Data!$H$2:$H$22772=O$5)*(Data!$G$2:$G$22772=$K$4)*(Data!$I$2:$I$22772))","v":43},{"$f":"SUMPRODUCT((Data!$A$2:$A$22772=$A$3)*(Data!$D$2:$D$22772=$A7)*(Data!$H$2:$H$22772=P$5)*(Data!$G$2:$G$22772=$K$4)*(Data!$I$2:$I$22772))","v":303},{"$f":"IF(SUM(K7:O7)=0,\"-\",SUM(L7:O7)/SUM(K7:O7))","v":8.0219780219780226E-2},{"$f":"IF(SUM(K7:P7)=0,\"-\",P7/SUM(K7:P7))","v":0.24979389942291838},null,{"$f":"B7+K7","v":1568},40,9,11,70,463,{"$f":"IF(SUM(T7:X7)=0,\"-\",SUM(U7:X7)/SUM(T7:X7))","v":7.656065959952886E-2},{"$f":"IF(SUM(T7:Y7)=0,\"-\",Y7/SUM(T7:Y7))","v":0.21425266080518279},null,{"$f":"SUMPRODUCT((Data!$A$2:$A$22772=$A$3)*(Data!$D$2:$D$22772=$A7)*(Data!$H$2:$H$22772=AC$5)*(Data!$G$2:$G$22772=$AC$4)*(Data!$I$2:$I$22772))","v":62},{"$f":"SUMPRODUCT((Data!$A$2:$A$22772=$A$3)*(Data!$D$2:$D$22772=$A7)*(Data!$H$2:$H$22772=AD$5)*(Data!$G$2:$G$22772=$AC$4)*(Data!$I$2:$I$22772))","v":0},{"$f":"SUMPRODUCT((Data!$A$2:$A$22772=$A$3)*(Data!$D$2:$D$22772=$A7)*(Data!$H$2:$H$22772=AE$5)*(Data!$G$2:$G$22772=$AC$4)*(Data!$I$2:$I$22772))","v":2},{"$f":"SUMPRODUCT((Data!$A$2:$A$22772=$A$3)*(Data!$D$2:$D$22772=$A7)*(Data!$H$2:$H$22772=AF$5)*(Data!$G$2:$G$22772=$AC$4)*(Data!$I$2:$I$22772))","v":0},{"$f":"SUMPRODUCT((Data!$A$2:$A$22772=$A$3)*(Data!$D$2:$D$22772=$A7)*(Data!$H$2:$H$22772=AG$5)*(Data!$G$2:$G$22772=$AC$4)*(Data!$I$2:$I$22772))","v":2},{"$f":"SUMPRODUCT((Data!$A$2:$A$22772=$A$3)*(Data!$D$2:$D$22772=$A7)*(Data!$H$2:$H$22772=AH$5)*(Data!$G$2:$G$22772=$AC$4)*(Data!$I$2:$I$22772))","v":9},{"$f":"IF(SUM(AC7:AG7)=0,\"-\",SUM(AD7:AG7)/SUM(AC7:AG7))","v":6.0606060606060608E-2},{"$f":"IF(SUM(AC7:AH7)=0,\"-\",AH7/SUM(AC7:AH7))","v":0.12},null,{"$f":"SUMPRODUCT((Data!$A$2:$A$22772=$A$3)*(Data!$D$2:$D$22772=$A7)*(Data!$H$2:$H$22772=AL$5)*(Data!$G$2:$G$22772=$AL$4)*(Data!$I$2:$I$22772))","v":568},{"$f":"SUMPRODUCT((Data!$A$2:$A$22772=$A$3)*(Data!$D$2:$D$22772=$A7)*(Data!$H$2:$H$22772=AM$5)*(Data!$G$2:$G$22772=$AL$4)*(Data!$I$2:$I$22772))","v":4},{"$f":"SUMPRODUCT((Data!$A$2:$A$22772=$A$3)*(Data!$D$2:$D$22772=$A7)*(Data!$H$2:$H$22772=AN$5)*(Data!$G$2:$G$22772=$AL$4)*(Data!$I$2:$I$22772))","v":12},{"$f":"SUMPRODUCT((Data!$A$2:$A$22772=$A$3)*(Data!$D$2:$D$22772=$A7)*(Data!$H$2:$H$22772=AO$5)*(Data!$G$2:$G$22772=$AL$4)*(Data!$I$2:$I$22772))","v":18},{"$f":"SUMPRODUCT((Data!$A$2:$A$22772=$A$3)*(Data!$D$2:$D$22772=$A7)*(Data!$H$2:$H$22772=AP$5)*(Data!$G$2:$G$22772=$AL$4)*(Data!$I$2:$I$22772))","v":31},{"$f":"SUMPRODUCT((Data!$A$2:$A$22772=$A$3)*(Data!$D$2:$D$22772=$A7)*(Data!$H$2:$H$22772=AQ$5)*(Data!$G$2:$G$22772=$AL$4)*(Data!$I$2:$I$22772))","v":179},{"$f":"IF(SUM(AL7:AP7)=0,\"-\",SUM(AM7:AP7)/SUM(AL7:AP7))","v":0.10268562401263823},{"$f":"IF(SUM(AL7:AQ7)=0,\"-\",AQ7/SUM(AL7:AQ7))","v":0.22044334975369459},null,{"$f":"T7+AC7+AL7","v":2198},44,23,29,103,651,{"$f":"IF(SUM(AU7:AY7)=0,\"-\",SUM(AV7:AY7)/SUM(AU7:AY7))","v":8.3020442219440965E-2},{"$f":"IF(SUM(AU7:AZ7)=0,\"-\",AZ7/SUM(AU7:AZ7))","v":0.21358267716535434}]
["Metropolitan",{"$f":"SUMPRODUCT((Data!$A$2:$A$22772=$A$3)*(Data!$D$2:$D$22772=$A8)*(Data!$H$2:$H$22772=B$5)*(Data!$G$2:$G$22772=$B$4)*(Data!$I$2:$I$22772))","v":518},{"$f":"SUMPRODUCT((Data!$A$2:$A$22772=$A$3)*(Data!$D$2:$D$22772=$A8)*(Data!$H$2:$H$22772=C$5)*(Data!$G$2:$G$22772=$B$4)*(Data!$I$2:$I$22772))","v":58},{"$f":"SUMPRODUCT((Data!$A$2:$A$22772=$A$3)*(Data!$D$2:$D$22772=$A8)*(Data!$H$2:$H$22772=D$5)*(Data!$G$2:$G$22772=$B$4)*(Data!$I$2:$I$22772))","v":15},{"$f":"SUMPRODUCT((Data!$A$2:$A$22772=$A$3)*(Data!$D$2:$D$22772=$A8)*(Data!$H$2:$H$22772=E$5)*(Data!$G$2:$G$22772=$B$4)*(Data!$I$2:$I$22772))","v":26},{"$f":"SUMPRODUCT((Data!$A$2:$A$22772=$A$3)*(Data!$D$2:$D$22772=$A8)*(Data!$H$2:$H$22772=F$5)*(Data!$G$2:$G$22772=$B$4)*(Data!$I$2:$I$22772))","v":41},{"$f":"SUMPRODUCT((Data!$A$2:$A$22772=$A$3)*(Data!$D$2:$D$22772=$A8)*(Data!$H$2:$H$22772=G$5)*(Data!$G$2:$G$22772=$B$4)*(Data!$I$2:$I$22772))","v":97},0.21276595744680851,0.12847682119205298,null,{"$f":"SUMPRODUCT((Data!$A$2:$A$22772=$A$3)*(Data!$D$2:$D$22772=$A8)*(Data!$H$2:$H$22772=K$5)*(Data!$G$2:$G$22772=$K$4)*(Data!$I$2:$I$22772))","v":42},{"$f":"SUMPRODUCT((Data!$A$2:$A$22772=$A$3)*(Data!$D$2:$D$22772=$A8)*(Data!$H$2:$H$22772=L$5)*(Data!$G$2:$G$22772=$K$4)*(Data!$I$2:$I$22772))","v":2},{"$f":"SUMPRODUCT((Data!$A$2:$A$22772=$A$3)*(Data!$D$2:$D$22772=$A8)*(Data!$H$2:$H$22772=M$5)*(Data!$G$2:$G$22772=$K$4)*(Data!$I$2:$I$22772))","v":0},{"$f":"SUMPRODUCT((Data!$A$2:$A$22772=$A$3)*(Data!$D$2:$D$22772=$A8)*(Data!$H$2:$H$22772=N$5)*(Data!$G$2:$G$22772=$K$4)*(Data!$I$2:$I$22772))","v":1},{"$f":"SUMPRODUCT((Data!$A$2:$A$22772=$A$3)*(Data!$D$2:$D$22772=$A8)*(Data!$H$2:$H$22772=O$5)*(Data!$G$2:$G$22772=$K$4)*(Data!$I$2:$I$22772))","v":3},{"$f":"SUMPRODUCT((Data!$A$2:$A$22772=$A$3)*(Data!$D$2:$D$22772=$A8)*(Data!$H$2:$H$22772=P$5)*(Data!$G$2:$G$22772=$K$4)*(Data!$I$2:$I$22772))","v":1},0.125,2.0408163265306121E-2,null,560,60,15,27,44,98,0.20679886685552407,0.12189054726368159,null,{"$f":"SUMPRODUCT((Data!$A$2:$A$22772=$A$3)*(Data!$D$2:$D$22772=$A8)*(Data!$H$2:$H$22772=AC$5)*(Data!$G$2:$G$22772=$AC$4)*(Data!$I$2:$I$22772))","v":20},{"$f":"SUMPRODUCT((Data!$A$2:$A$22772=$A$3)*(Data!$D$2:$D$22772=$A8)*(Data!$H$2:$H$22772=AD$5)*(Data!$G$2:$G$22772=$AC$4)*(Data!$I$2:$I$22772))","v":2},{"$f":"SUMPRODUCT((Data!$A$2:$A$22772=$A$3)*(Data!$D$2:$D$22772=$A8)*(Data!$H$2:$H$22772=AE$5)*(Data!$G$2:$G$22772=$AC$4)*(Data!$I$2:$I$22772))","v":2},{"$f":"SUMPRODUCT((Data!$A$2:$A$22772=$A$3)*(Data!$D$2:$D$22772=$A8)*(Data!$H$2:$H$22772=AF$5)*(Data!$G$2:$G$22772=$AC$4)*(Data!$I$2:$I$22772))","v":0},{"$f":"SUMPRODUCT((Data!$A$2:$A$22772=$A$3)*(Data!$D$2:$D$22772=$A8)*(Data!$H$2:$H$22772=AG$5)*(Data!$G$2:$G$22772=$AC$4)*(Data!$I$2:$I$22772))","v":1},{"$f":"SUMPRODUCT((Data!$A$2:$A$22772=$A$3)*(Data!$D$2:$D$22772=$A8)*(Data!$H$2:$H$22772=AH$5)*(Data!$G$2:$G$22772=$AC$4)*(Data!$I$2:$I$22772))","v":5},0.2,0.16666666666666666,null,{"$f":"SUMPRODUCT((Data!$A$2:$A$22772=$A$3)*(Data!$D$2:$D$22772=$A8)*(Data!$H$2:$H$22772=AL$5)*(Data!$G$2:$G$22772=$AL$4)*(Data!$I$2:$I$22772))","v":297},{"$f":"SUMPRODUCT((Data!$A$2:$A$22772=$A$3)*(Data!$D$2:$D$22772=$A8)*(Data!$H$2:$H$22772=AM$5)*(Data!$G$2:$G$22772=$AL$4)*(Data!$I$2:$I$22772))","v":5},{"$f":"SUMPRODUCT((Data!$A$2:$A$22772=$A$3)*(Data!$D$2:$D$22772=$A8)*(Data!$H$2:$H$22772=AN$5)*(Data!$G$2:$G$22772=$AL$4)*(Data!$I$2:$I$22772))","v":17},{"$f":"SUMPRODUCT((Data!$A$2:$A$22772=$A$3)*(Data!$D$2:$D$22772=$A8)*(Data!$H$2:$H$22772=AO$5)*(Data!$G$2:$G$22772=$AL$4)*(Data!$I$2:$I$22772))","v":17},{"$f":"SUMPRODUCT((Data!$A$2:$A$22772=$A$3)*(Data!$D$2:$D$22772=$A8)*(Data!$H$2:$H$22772=AP$5)*(Data!$G$2:$G$22772=$AL$4)*(Data!$I$2:$I$22772))","v":21},{"$f":"SUMPRODUCT((Data!$A$2:$A$22772=$A$3)*(Data!$D$2:$D$22772=$A8)*(Data!$H$2:$H$22772=AQ$5)*(Data!$G$2:$G$22772=$AL$4)*(Data!$I$2:$I$22772))","v":56},0.16806722689075632,0.13559322033898305,null,877,67,34,44,66,159,0.19393382352941177,0.12750601443464316]
["Predominantly Urban",{"$f":"SUMPRODUCT((Data!$A$2:$A$22772=$A$3)*(Data!$E$2:$E$22772=$A9)*(Data!$H$2:$H$22772=B$5)*(Data!$G$2:$G$22772=$B$4)*(Data!$I$2:$I$22772))","v":764},{"$f":"SUMPRODUCT((Data!$A$2:$A$22772=$A$3)*(Data!$E$2:$E$22772=$A9)*(Data!$H$2:$H$22772=C$5)*(Data!$G$2:$G$22772=$B$4)*(Data!$I$2:$I$22772))","v":62},{"$f":"SUMPRODUCT((Data!$A$2:$A$22772=$A$3)*(Data!$E$2:$E$22772=$A9)*(Data!$H$2:$H$22772=D$5)*(Data!$G$2:$G$22772=$B$4)*(Data!$I$2:$I$22772))","v":15},{"$f":"SUMPRODUCT((Data!$A$2:$A$22772=$A$3)*(Data!$E$2:$E$22772=$A9)*(Data!$H$2:$H$22772=E$5)*(Data!$G$2:$G$22772=$B$4)*(Data!$I$2:$I$22772))","v":27},{"$f":"SUMPRODUCT((Data!$A$2:$A$22772=$A$3)*(Data!$E$2:$E$22772=$A9)*(Data!$H$2:$H$22772=F$5)*(Data!$G$2:$G$22772=$B$4)*(Data!$I$2:$I$22772))","v":50},{"$f":"SUMPRODUCT((Data!$A$2:$A$22772=$A$3)*(Data!$E$2:$E$22772=$A9)*(Data!$H$2:$H$22772=G$5)*(Data!$G$2:$G$22772=$B$4)*(Data!$I$2:$I$22772))","v":104},0.16775599128540306,0.10176125244618395,null,{"$f":"SUMPRODUCT((Data!$A$2:$A$22772=$A$3)*(Data!$E$2:$E$22772=$A9)*(Data!$H$2:$H$22772=K$5)*(Data!$G$2:$G$22772=$K$4)*(Data!$I$2:$I$22772))","v":157},{"$f":"SUMPRODUCT((Data!$A$2:$A$22772=$A$3)*(Data!$E$2:$E$22772=$A9)*(Data!$H$2:$H$22772=L$5)*(Data!$G$2:$G$22772=$K$4)*(Data!$I$2:$I$22772))","v":4},{"$f":"SUMPRODUCT((Data!$A$2:$A$22772=$A$3)*(Data!$E$2:$E$22772=$A9)*(Data!$H$2:$H$22772=M$5)*(Data!$G$2:$G$22772=$K$4)*(Data!$I$2:$I$22772))","v":0},{"$f":"SUMPRODUCT((Data!$A$2:$A$22772=$A$3)*(Data!$E$2:$E$22772=$A9)*(Data!$H$2:$H$22772=N$5)*(Data!$G$2:$G$22772=$K$4)*(Data!$I$2:$I$22772))","v":2},{"$f":"SUMPRODUCT((Data!$A$2:$A$22772=$A$3)*(Data!$E$2:$E$22772=$A9)*(Data!$H$2:$H$22772=O$5)*(Data!$G$2:$G$22772=$K$4)*(Data!$I$2:$I$22772))","v":9},{"$f":"SUMPRODUCT((Data!$A$2:$A$22772=$A$3)*(Data!$E$2:$E$22772=$A9)*(Data!$H$2:$H$22772=P$5)*(Data!$G$2:$G$22772=$K$4)*(Data!$I$2:$I$22772))","v":6},8.7209302325581398E-2,3.3707865168539325E-2,null,921,66,15,29,59,110,0.15504587155963304,9.166666666666666E-2,null,{"$f":"SUMPRODUCT((Data!$A$2:$A$22772=$A$3)*(Data!$E$2:$E$22772=$A9)*(Data!$H$2:$H$22772=AC$5)*(Data!$G$2:$G$22772=$AC$4)*(Data!$I$2:$I$22772))","v":47},{"$f":"SUMPRODUCT((Data!$A$2:$A$22772=$A$3)*(Data!$E$2:$E$22772=$A9)*(Data!$H$2:$H$22772=AD$5)*(Data!$G$2:$G$22772=$AC$4)*(Data!$I$2:$I$22772))","v":2},{"$f":"SUMPRODUCT((Data!$A$2:$A$22772=$A$3)*(Data!$E$2:$E$22772=$A9)*(Data!$H$2:$H$22772=AE$5)*(Data!$G$2:$G$22772=$AC$4)*(Data!$I$2:$I$22772))","v":2},{"$f":"SUMPRODUCT((Data!$A$2:$A$22772=$A$3)*(Data!$E$2:$E$22772=$A9)*(Data!$H$2:$H$22772=AF$5)*(Data!$G$2:$G$22772=$AC$4)*(Data!$I$2:$I$22772))","v":0},{"$f":"SUMPRODUCT((Data!$A$2:$A$22772=$A$3)*(Data!$E$2:$E$22772=$A9)*(Data!$H$2:$H$22772=AG$5)*(Data!$G$2:$G$22772=$AC$4)*(Data!$I$2:$I$22772))","v":2},{"$f":"SUMPRODUCT((Data!$A$2:$A$22772=$A$3)*(Data!$E$2:$E$22772=$A9)*(Data!$H$2:$H$22772=AH$5)*(Data!$G$2:$G$22772=$AC$4)*(Data!$I$2:$I$22772))","v":5},0.11320754716981132,8.6206896551724144E-2,null,{"$f":"SUMPRODUCT((Data!$A$2:$A$22772=$A$3)*(Data!$E$2:$E$22772=$A9)*(Data!$H$2:$H$22772=AL$5)*(Data!$G$2:$G$22772=$AL$4)*(Data!$I$2:$I$22772))","v":449},{"$f":"SUMPRODUCT((Data!$A$2:$A$22772=$A$3)*(Data!$E$2:$E$22772=$A9)*(Data!$H$2:$H$22772=AM$5)*(Data!$G$2:$G$22772=$AL$4)*(Data!$I$2:$I$22772))","v":6},{"$f":"SUMPRODUCT((Data!$A$2:$A$22772=$A$3)*(Data!$E$2:$E$22772=$A9)*(Data!$H$2:$H$22772=AN$5)*(Data!$G$2:$G$22772=$AL$4)*(Data!$I$2:$I$22772))","v":23},{"$f":"SUMPRODUCT((Data!$A$2:$A$22772=$A$3)*(Data!$E$2:$E$22772=$A9)*(Data!$H$2:$H$22772=AO$5)*(Data!$G$2:$G$22772=$AL$4)*(Data!$I$2:$I$22772))","v":20},{"$f":"SUMPRODUCT((Data!$A$2:$A$22772=$A$3)*(Data!$E$2:$E$22772=$A9)*(Data!$H$2:$H$22772=AP$5)*(Data!$G$2:$G$22772=$AL$4)*(Data!$I$2:$I$22772))","v":28},{"$f":"SUMPRODUCT((Data!$A$2:$A$22772=$A$3)*(Data!$E$2:$E$22772=$A9)*(Data!$H$2:$H$22772=AQ$5)*(Data!$G$2:$G$22772=$AL$4)*(Data!$I$2:$I$22772))","v":71},0.14638783269961977,0.11892797319932999,null,1417,74,40,49,89,186,0.15098861593768723,0.10026954177897573]
["Significantly Rural",{"$f":"SUMPRODUCT((Data!$A$2:$A$22772=$A$3)*(Data!$E$2:$E$22772=$A10)*(Data!$H$2:$H$22772=B$5)*(Data!$G$2:$G$22772=$B$4)*(Data!$I$2:$I$22772))","v":413},{"$f":"SUMPRODUCT((Data!$A$2:$A$22772=$A$3)*(Data!$E$2:$E$22772=$A10)*(Data!$H$2:$H$22772=C$5)*(Data!$G$2:$G$22772=$B$4)*(Data!$I$2:$I$22772))","v":15},{"$f":"SUMPRODUCT((Data!$A$2:$A$22772=$A$3)*(Data!$E$2:$E$22772=$A10)*(Data!$H$2:$H$22772=D$5)*(Data!$G$2:$G$22772=$B$4)*(Data!$I$2:$I$22772))","v":4},{"$f":"SUMPRODUCT((Data!$A$2:$A$22772=$A$3)*(Data!$E$2:$E$22772=$A10)*(Data!$H$2:$H$22772=E$5)*(Data!$G$2:$G$22772=$B$4)*(Data!$I$2:$I$22772))","v":5},{"$f":"SUMPRODUCT((Data!$A$2:$A$22772=$A$3)*(Data!$E$2:$E$22772=$A10)*(Data!$H$2:$H$22772=F$5)*(Data!$G$2:$G$22772=$B$4)*(Data!$I$2:$I$22772))","v":10},{"$f":"SUMPRODUCT((Data!$A$2:$A$22772=$A$3)*(Data!$E$2:$E$22772=$A10)*(Data!$H$2:$H$22772=G$5)*(Data!$G$2:$G$22772=$B$4)*(Data!$I$2:$I$22772))","v":104},7.6062639821029079E-2,0.18874773139745918,null,{"$f":"SUMPRODUCT((Data!$A$2:$A$22772=$A$3)*(Data!$E$2:$E$22772=$A10)*(Data!$H$2:$H$22772=K$5)*(Data!$G$2:$G$22772=$K$4)*(Data!$I$2:$I$22772))","v":480},{"$f":"SUMPRODUCT((Data!$A$2:$A$22772=$A$3)*(Data!$E$2:$E$22772=$A10)*(Data!$H$2:$H$22772=L$5)*(Data!$G$2:$G$22772=$K$4)*(Data!$I$2:$I$22772))","v":14},{"$f":"SUMPRODUCT((Data!$A$2:$A$22772=$A$3)*(Data!$E$2:$E$22772=$A10)*(Data!$H$2:$H$22772=M$5)*(Data!$G$2:$G$22772=$K$4)*(Data!$I$2:$I$22772))","v":4},{"$f":"SUMPRODUCT((Data!$A$2:$A$22772=$A$3)*(Data!$E$2:$E$22772=$A10)*(Data!$H$2:$H$22772=N$5)*(Data!$G$2:$G$22772=$K$4)*(Data!$I$2:$I$22772))","v":1},{"$f":"SUMPRODUCT((Data!$A$2:$A$22772=$A$3)*(Data!$E$2:$E$22772=$A10)*(Data!$H$2:$H$22772=O$5)*(Data!$G$2:$G$22772=$K$4)*(Data!$I$2:$I$22772))","v":25},{"$f":"SUMPRODUCT((Data!$A$2:$A$22772=$A$3)*(Data!$E$2:$E$22772=$A10)*(Data!$H$2:$H$22772=P$5)*(Data!$G$2:$G$22772=$K$4)*(Data!$I$2:$I$22772))","v":121},8.3969465648854963E-2,0.18759689922480621,null,893,29,8,6,35,225,8.0329557157569523E-2,0.18812709030100336,null,{"$f":"SUMPRODUCT((Data!$A$2:$A$22772=$A$3)*(Data!$E$2:$E$22772=$A10)*(Data!$H$2:$H$22772=AC$5)*(Data!$G$2:$G$22772=$AC$4)*(Data!$I$2:$I$22772))","v":31},{"$f":"SUMPRODUCT((Data!$A$2:$A$22772=$A$3)*(Data!$E$2:$E$22772=$A10)*(Data!$H$2:$H$22772=AD$5)*(Data!$G$2:$G$22772=$AC$4)*(Data!$I$2:$I$22772))","v":0},{"$f":"SUMPRODUCT((Data!$A$2:$A$22772=$A$3)*(Data!$E$2:$E$22772=$A10)*(Data!$H$2:$H$22772=AE$5)*(Data!$G$2:$G$22772=$AC$4)*(Data!$I$2:$I$22772))","v":2},{"$f":"SUMPRODUCT((Data!$A$2:$A$22772=$A$3)*(Data!$E$2:$E$22772=$A10)*(Data!$H$2:$H$22772=AF$5)*(Data!$G$2:$G$22772=$AC$4)*(Data!$I$2:$I$22772))","v":0},{"$f":"SUMPRODUCT((Data!$A$2:$A$22772=$A$3)*(Data!$E$2:$E$22772=$A10)*(Data!$H$2:$H$22772=AG$5)*(Data!$G$2:$G$22772=$AC$4)*(Data!$I$2:$I$22772))","v":1},{"$f":"SUMPRODUCT((Data!$A$2:$A$22772=$A$3)*(Data!$E$2:$E$22772=$A10)*(Data!$H$2:$H$22772=AH$5)*(Data!$G$2:$G$22772=$AC$4)*(Data!$I$2:$I$22772))","v":8},8.8235294117647065E-2,0.19047619047619047,null,{"$f":"SUMPRODUCT((Data!$A$2:$A$22772=$A$3)*(Data!$E$2:$E$22772=$A10)*(Data!$H$2:$H$22772=AL$5)*(Data!$G$2:$G$22772=$AL$4)*(Data!$I$2:$I$22772))","v":347},{"$f":"SUMPRODUCT((Data!$A$2:$A$22772=$A$3)*(Data!$E$2:$E$22772=$A10)*(Data!$H$2:$H$22772=AM$5)*(Data!$G$2:$G$22772=$AL$4)*(Data!$I$2:$I$22772))","v":2},{"$f":"SUMPRODUCT((Data!$A$2:$A$22772=$A$3)*(Data!$E$2:$E$22772=$A10)*(Data!$H$2:$H$22772=AN$5)*(Data!$G$2:$G$22772=$AL$4)*(Data!$I$2:$I$22772))","v":6},{"$f":"SUMPRODUCT((Data!$A$2:$A$22772=$A$3)*(Data!$E$2:$E$22772=$A10)*(Data!$H$2:$H$22772=AO$5)*(Data!$G$2:$G$22772=$AL$4)*(Data!$I$2:$I$22772))","v":12},{"$f":"SUMPRODUCT((Data!$A$2:$A$22772=$A$3)*(Data!$E$2:$E$22772=$A10)*(Data!$H$2:$H$22772=AP$5)*(Data!$G$2:$G$22772=$AL$4)*(Data!$I$2:$I$22772))","v":21},{"$f":"SUMPRODUCT((Data!$A$2:$A$22772=$A$3)*(Data!$E$2:$E$22772=$A10)*(Data!$H$2:$H$22772=AQ$5)*(Data!$G$2:$G$22772=$AL$4)*(Data!$I$2:$I$22772))","v":122},0.1056701030927835,0.23921568627450981,null,1271,31,16,18,57,355,8.7580760947595121E-2,0.20308924485125859]
["Predominantly Rural",{"$f":"SUMPRODUCT((Data!$A$2:$A$22772=$A$3)*(Data!$E$2:$E$22772=$A11)*(Data!$H$2:$H$22772=B$5)*(Data!$G$2:$G$22772=$B$4)*(Data!$I$2:$I$22772))","v":72},{"$f":"SUMPRODUCT((Data!$A$2:$A$22772=$A$3)*(Data!$E$2:$E$22772=$A11)*(Data!$H$2:$H$22772=C$5)*(Data!$G$2:$G$22772=$B$4)*(Data!$I$2:$I$22772))","v":1},{"$f":"SUMPRODUCT((Data!$A$2:$A$22772=$A$3)*(Data!$E$2:$E$22772=$A11)*(Data!$H$2:$H$22772=D$5)*(Data!$G$2:$G$22772=$B$4)*(Data!$I$2:$I$22772))","v":0},{"$f":"SUMPRODUCT((Data!$A$2:$A$22772=$A$3)*(Data!$E$2:$E$22772=$A11)*(Data!$H$2:$H$22772=E$5)*(Data!$G$2:$G$22772=$B$4)*(Data!$I$2:$I$22772))","v":0},{"$f":"SUMPRODUCT((Data!$A$2:$A$22772=$A$3)*(Data!$E$2:$E$22772=$A11)*(Data!$H$2:$H$22772=F$5)*(Data!$G$2:$G$22772=$B$4)*(Data!$I$2:$I$22772))","v":8},{"$f":"SUMPRODUCT((Data!$A$2:$A$22772=$A$3)*(Data!$E$2:$E$22772=$A11)*(Data!$H$2:$H$22772=G$5)*(Data!$G$2:$G$22772=$B$4)*(Data!$I$2:$I$22772))","v":49},0.1111111111111111,0.37692307692307692,null,{"$f":"SUMPRODUCT((Data!$A$2:$A$22772=$A$3)*(Data!$E$2:$E$22772=$A11)*(Data!$H$2:$H$22772=K$5)*(Data!$G$2:$G$22772=$K$4)*(Data!$I$2:$I$22772))","v":242},{"$f":"SUMPRODUCT((Data!$A$2:$A$22772=$A$3)*(Data!$E$2:$E$22772=$A11)*(Data!$H$2:$H$22772=L$5)*(Data!$G$2:$G$22772=$K$4)*(Data!$I$2:$I$22772))","v":4},{"$f":"SUMPRODUCT((Data!$A$2:$A$22772=$A$3)*(Data!$E$2:$E$22772=$A11)*(Data!$H$2:$H$22772=M$5)*(Data!$G$2:$G$22772=$K$4)*(Data!$I$2:$I$22772))","v":1},{"$f":"SUMPRODUCT((Data!$A$2:$A$22772=$A$3)*(Data!$E$2:$E$22772=$A11)*(Data!$H$2:$H$22772=N$5)*(Data!$G$2:$G$22772=$K$4)*(Data!$I$2:$I$22772))","v":3},{"$f":"SUMPRODUCT((Data!$A$2:$A$22772=$A$3)*(Data!$E$2:$E$22772=$A11)*(Data!$H$2:$H$22772=O$5)*(Data!$G$2:$G$22772=$K$4)*(Data!$I$2:$I$22772))","v":12},{"$f":"SUMPRODUCT((Data!$A$2:$A$22772=$A$3)*(Data!$E$2:$E$22772=$A11)*(Data!$H$2:$H$22772=P$5)*(Data!$G$2:$G$22772=$K$4)*(Data!$I$2:$I$22772))","v":177},7.6335877862595422E-2,0.4031890660592255,null,314,5,1,3,20,226,8.4548104956268216E-2,0.39718804920913886,null,{"$f":"SUMPRODUCT((Data!$A$2:$A$22772=$A$3)*(Data!$E$2:$E$22772=$A11)*(Data!$H$2:$H$22772=AC$5)*(Data!$G$2:$G$22772=$AC$4)*(Data!$I$2:$I$22772))","v":4},{"$f":"SUMPRODUCT((Data!$A$2:$A$22772=$A$3)*(Data!$E$2:$E$22772=$A11)*(Data!$H$2:$H$22772=AD$5)*(Data!$G$2:$G$22772=$AC$4)*(Data!$I$2:$I$22772))","v":0},{"$f":"SUMPRODUCT((Data!$A$2:$A$22772=$A$3)*(Data!$E$2:$E$22772=$A11)*(Data!$H$2:$H$22772=AE$5)*(Data!$G$2:$G$22772=$AC$4)*(Data!$I$2:$I$22772))","v":0},{"$f":"SUMPRODUCT((Data!$A$2:$A$22772=$A$3)*(Data!$E$2:$E$22772=$A11)*(Data!$H$2:$H$22772=AF$5)*(Data!$G$2:$G$22772=$AC$4)*(Data!$I$2:$I$22772))","v":0},{"$f":"SUMPRODUCT((Data!$A$2:$A$22772=$A$3)*(Data!$E$2:$E$22772=$A11)*(Data!$H$2:$H$22772=AG$5)*(Data!$G$2:$G$22772=$AC$4)*(Data!$I$2:$I$22772))","v":0},{"$f":"SUMPRODUCT((Data!$A$2:$A$22772=$A$3)*(Data!$E$2:$E$22772=$A11)*(Data!$H$2:$H$22772=AH$5)*(Data!$G$2:$G$22772=$AC$4)*(Data!$I$2:$I$22772))","v":1},0,0.2,null,{"$f":"SUMPRODUCT((Data!$A$2:$A$22772=$A$3)*(Data!$E$2:$E$22772=$A11)*(Data!$H$2:$H$22772=AL$5)*(Data!$G$2:$G$22772=$AL$4)*(Data!$I$2:$I$22772))","v":69},{"$f":"SUMPRODUCT((Data!$A$2:$A$22772=$A$3)*(Data!$E$2:$E$22772=$A11)*(Data!$H$2:$H$22772=AM$5)*(Data!$G$2:$G$22772=$AL$4)*(Data!$I$2:$I$22772))","v":1},{"$f":"SUMPRODUCT((Data!$A$2:$A$22772=$A$3)*(Data!$E$2:$E$22772=$A11)*(Data!$H$2:$H$22772=AN$5)*(Data!$G$2:$G$22772=$AL$4)*(Data!$I$2:$I$22772))","v":0},{"$f":"SUMPRODUCT((Data!$A$2:$A$22772=$A$3)*(Data!$E$2:$E$22772=$A11)*(Data!$H$2:$H$22772=AO$5)*(Data!$G$2:$G$22772=$AL$4)*(Data!$I$2:$I$22772))","v":3},{"$f":"SUMPRODUCT((Data!$A$2:$A$22772=$A$3)*(Data!$E$2:$E$22772=$A11)*(Data!$H$2:$H$22772=AP$5)*(Data!$G$2:$G$22772=$AL$4)*(Data!$I$2:$I$22772))","v":3},{"$f":"SUMPRODUCT((Data!$A$2:$A$22772=$A$3)*(Data!$E$2:$E$22772=$A11)*(Data!$H$2:$H$22772=AQ$5)*(Data!$G$2:$G$22772=$AL$4)*(Data!$I$2:$I$22772))","v":42},9.2105263157894732E-2,0.3559322033898305,null,387,6,1,6,23,269,8.5106382978723402E-2,0.38872832369942195]
["Avon",{"$f":"SUMPRODUCT((Data!$A$2:$A$22772=$A$3)*(Data!$G$2:$G$22772=$B$4)*(Data!$B$2:$B$22772=$A12)*(Data!$H$2:$H$22772=B$5)*(Data!$I$2:$I$22772))","v":41},{"$f":"SUMPRODUCT((Data!$A$2:$A$22772=$A$3)*(Data!$G$2:$G$22772=$B$4)*(Data!$B$2:$B$22772=$A12)*(Data!$H$2:$H$22772=C$5)*(Data!$I$2:$I$22772))","v":2},{"$f":"SUMPRODUCT((Data!$A$2:$A$22772=$A$3)*(Data!$G$2:$G$22772=$B$4)*(Data!$B$2:$B$22772=$A12)*(Data!$H$2:$H$22772=D$5)*(Data!$I$2:$I$22772))","v":0},{"$f":"SUMPRODUCT((Data!$A$2:$A$22772=$A$3)*(Data!$G$2:$G$22772=$B$4)*(Data!$B$2:$B$22772=$A12)*(Data!$H$2:$H$22772=E$5)*(Data!$I$2:$I$22772))","v":0},{"$f":"SUMPRODUCT((Data!$A$2:$A$22772=$A$3)*(Data!$G$2:$G$22772=$B$4)*(Data!$B$2:$B$22772=$A12)*(Data!$H$2:$H$22772=F$5)*(Data!$I$2:$I$22772))","v":6},{"$f":"SUMPRODUCT((Data!$A$2:$A$22772=$A$3)*(Data!$G$2:$G$22772=$B$4)*(Data!$B$2:$B$22772=$A12)*(Data!$H$2:$H$22772=G$5)*(Data!$I$2:$I$22772))","v":3},0.16326530612244897,5.7692307692307696E-2,null,{"$f":"SUMPRODUCT((Data!$A$2:$A$22772=$A$3)*(Data!$G$2:$G$22772=$K$4)*(Data!$B$2:$B$22772=$A12)*(Data!$H$2:$H$22772=K$5)*(Data!$I$2:$I$22772))","v":12},{"$f":"SUMPRODUCT((Data!$A$2:$A$22772=$A$3)*(Data!$G$2:$G$22772=$K$4)*(Data!$B$2:$B$22772=$A12)*(Data!$H$2:$H$22772=L$5)*(Data!$I$2:$I$22772))","v":0},{"$f":"SUMPRODUCT((Data!$A$2:$A$22772=$A$3)*(Data!$G$2:$G$22772=$K$4)*(Data!$B$2:$B$22772=$A12)*(Data!$H$2:$H$22772=M$5)*(Data!$I$2:$I$22772))","v":0},{"$f":"SUMPRODUCT((Data!$A$2:$A$22772=$A$3)*(Data!$G$2:$G$22772=$K$4)*(Data!$B$2:$B$22772=$A12)*(Data!$H$2:$H$22772=N$5)*(Data!$I$2:$I$22772))","v":0},{"$f":"SUMPRODUCT((Data!$A$2:$A$22772=$A$3)*(Data!$G$2:$G$22772=$K$4)*(Data!$B$2:$B$22772=$A12)*(Data!$H$2:$H$22772=O$5)*(Data!$I$2:$I$22772))","v":0},{"$f":"SUMPRODUCT((Data!$A$2:$A$22772=$A$3)*(Data!$G$2:$G$22772=$K$4)*(Data!$B$2:$B$22772=$A12)*(Data!$H$2:$H$22772=P$5)*(Data!$I$2:$I$22772))","v":2},0,0.14285714285714285,null,53,2,0,0,6,5,0.13114754098360656,7.575757575757576E-2,null,{"$f":"SUMPRODUCT((Data!$A$2:$A$22772=$A$3)*(Data!$G$2:$G$22772=$AC$4)*(Data!$B$2:$B$22772=$A12)*(Data!$H$2:$H$22772=AC$5)*(Data!$I$2:$I$22772))","v":7},{"$f":"SUMPRODUCT((Data!$A$2:$A$22772=$A$3)*(Data!$G$2:$G$22772=$AC$4)*(Data!$B$2:$B$22772=$A12)*(Data!$H$2:$H$22772=AD$5)*(Data!$I$2:$I$22772))","v":0},{"$f":"SUMPRODUCT((Data!$A$2:$A$22772=$A$3)*(Data!$G$2:$G$22772=$AC$4)*(Data!$B$2:$B$22772=$A12)*(Data!$H$2:$H$22772=AE$5)*(Data!$I$2:$I$22772))","v":0},{"$f":"SUMPRODUCT((Data!$A$2:$A$22772=$A$3)*(Data!$G$2:$G$22772=$AC$4)*(Data!$B$2:$B$22772=$A12)*(Data!$H$2:$H$22772=AF$5)*(Data!$I$2:$I$22772))","v":0},{"$f":"SUMPRODUCT((Data!$A$2:$A$22772=$A$3)*(Data!$G$2:$G$22772=$AC$4)*(Data!$B$2:$B$22772=$A12)*(Data!$H$2:$H$22772=AG$5)*(Data!$I$2:$I$22772))","v":0},{"$f":"SUMPRODUCT((Data!$A$2:$A$22772=$A$3)*(Data!$G$2:$G$22772=$AC$4)*(Data!$B$2:$B$22772=$A12)*(Data!$H$2:$H$22772=AH$5)*(Data!$I$2:$I$22772))","v":0},0,0,null,{"$f":"SUMPRODUCT((Data!$A$2:$A$22772=$A$3)*(Data!$G$2:$G$22772=$AL$4)*(Data!$B$2:$B$22772=$A12)*(Data!$H$2:$H$22772=AL$5)*(Data!$I$2:$I$22772))","v":40},{"$f":"SUMPRODUCT((Data!$A$2:$A$22772=$A$3)*(Data!$G$2:$G$22772=$AL$4)*(Data!$B$2:$B$22772=$A12)*(Data!$H$2:$H$22772=AM$5)*(Data!$I$2:$I$22772))","v":0},{"$f":"SUMPRODUCT((Data!$A$2:$A$22772=$A$3)*(Data!$G$2:$G$22772=$AL$4)*(Data!$B$2:$B$22772=$A12)*(Data!$H$2:$H$22772=AN$5)*(Data!$I$2:$I$22772))","v":0},{"$f":"SUMPRODUCT((Data!$A$2:$A$22772=$A$3)*(Data!$G$2:$G$22772=$AL$4)*(Data!$B$2:$B$22772=$A12)*(Data!$H$2:$H$22772=AO$5)*(Data!$I$2:$I$22772))","v":0},{"$f":"SUMPRODUCT((Data!$A$2:$A$22772=$A$3)*(Data!$G$2:$G$22772=$AL$4)*(Data!$B$2:$B$22772=$A12)*(Data!$H$2:$H$22772=AP$5)*(Data!$I$2:$I$22772))","v":2},{"$f":"SUMPRODUCT((Data!$A$2:$A$22772=$A$3)*(Data!$G$2:$G$22772=$AL$4)*(Data!$B$2:$B$22772=$A12)*(Data!$H$2:$H$22772=AQ$5)*(Data!$I$2:$I$22772))","v":4},4.7619047619047616E-2,8.6956521739130432E-2,null,100,2,0,0,8,9,9.0909090909090912E-2,7.5630252100840331E-2]
["Bedfordshire",{"$f":"SUMPRODUCT((Data!$A$2:$A$22772=$A$3)*(Data!$G$2:$G$22772=$B$4)*(Data!$B$2:$B$22772=$A13)*(Data!$H$2:$H$22772=B$5)*(Data!$I$2:$I$22772))","v":15},{"$f":"SUMPRODUCT((Data!$A$2:$A$22772=$A$3)*(Data!$G$2:$G$22772=$B$4)*(Data!$B$2:$B$22772=$A13)*(Data!$H$2:$H$22772=C$5)*(Data!$I$2:$I$22772))","v":0},{"$f":"SUMPRODUCT((Data!$A$2:$A$22772=$A$3)*(Data!$G$2:$G$22772=$B$4)*(Data!$B$2:$B$22772=$A13)*(Data!$H$2:$H$22772=D$5)*(Data!$I$2:$I$22772))","v":0},{"$f":"SUMPRODUCT((Data!$A$2:$A$22772=$A$3)*(Data!$G$2:$G$22772=$B$4)*(Data!$B$2:$B$22772=$A13)*(Data!$H$2:$H$22772=E$5)*(Data!$I$2:$I$22772))","v":1},{"$f":"SUMPRODUCT((Data!$A$2:$A$22772=$A$3)*(Data!$G$2:$G$22772=$B$4)*(Data!$B$2:$B$22772=$A13)*(Data!$H$2:$H$22772=F$5)*(Data!$I$2:$I$22772))","v":0},{"$f":"SUMPRODUCT((Data!$A$2:$A$22772=$A$3)*(Data!$G$2:$G$22772=$B$4)*(Data!$B$2:$B$22772=$A13)*(Data!$H$2:$H$22772=G$5)*(Data!$I$2:$I$22772))","v":0},6.25E-2,0,null,{"$f":"SUMPRODUCT((Data!$A$2:$A$22772=$A$3)*(Data!$G$2:$G$22772=$K$4)*(Data!$B$2:$B$22772=$A13)*(Data!$H$2:$H$22772=K$5)*(Data!$I$2:$I$22772))","v":19},{"$f":"SUMPRODUCT((Data!$A$2:$A$22772=$A$3)*(Data!$G$2:$G$22772=$K$4)*(Data!$B$2:$B$22772=$A13)*(Data!$H$2:$H$22772=L$5)*(Data!$I$2:$I$22772))","v":0},{"$f":"SUMPRODUCT((Data!$A$2:$A$22772=$A$3)*(Data!$G$2:$G$22772=$K$4)*(Data!$B$2:$B$22772=$A13)*(Data!$H$2:$H$22772=M$5)*(Data!$I$2:$I$22772))","v":0},{"$f":"SUMPRODUCT((Data!$A$2:$A$22772=$A$3)*(Data!$G$2:$G$22772=$K$4)*(Data!$B$2:$B$22772=$A13)*(Data!$H$2:$H$22772=N$5)*(Data!$I$2:$I$22772))","v":0},{"$f":"SUMPRODUCT((Data!$A$2:$A$22772=$A$3)*(Data!$G$2:$G$22772=$K$4)*(Data!$B$2:$B$22772=$A13)*(Data!$H$2:$H$22772=O$5)*(Data!$I$2:$I$22772))","v":0},{"$f":"SUMPRODUCT((Data!$A$2:$A$22772=$A$3)*(Data!$G$2:$G$22772=$K$4)*(Data!$B$2:$B$22772=$A13)*(Data!$H$2:$H$22772=P$5)*(Data!$I$2:$I$22772))","v":2},0,9.5238095238095233E-2,null,34,0,0,1,0,2,2.8571428571428571E-2,5.4054054054054057E-2,null,{"$f":"SUMPRODUCT((Data!$A$2:$A$22772=$A$3)*(Data!$G$2:$G$22772=$AC$4)*(Data!$B$2:$B$22772=$A13)*(Data!$H$2:$H$22772=AC$5)*(Data!$I$2:$I$22772))","v":3},{"$f":"SUMPRODUCT((Data!$A$2:$A$22772=$A$3)*(Data!$G$2:$G$22772=$AC$4)*(Data!$B$2:$B$22772=$A13)*(Data!$H$2:$H$22772=AD$5)*(Data!$I$2:$I$22772))","v":0},{"$f":"SUMPRODUCT((Data!$A$2:$A$22772=$A$3)*(Data!$G$2:$G$22772=$AC$4)*(Data!$B$2:$B$22772=$A13)*(Data!$H$2:$H$22772=AE$5)*(Data!$I$2:$I$22772))","v":1},{"$f":"SUMPRODUCT((Data!$A$2:$A$22772=$A$3)*(Data!$G$2:$G$22772=$AC$4)*(Data!$B$2:$B$22772=$A13)*(Data!$H$2:$H$22772=AF$5)*(Data!$I$2:$I$22772))","v":0},{"$f":"SUMPRODUCT((Data!$A$2:$A$22772=$A$3)*(Data!$G$2:$G$22772=$AC$4)*(Data!$B$2:$B$22772=$A13)*(Data!$H$2:$H$22772=AG$5)*(Data!$I$2:$I$22772))","v":0},{"$f":"SUMPRODUCT((Data!$A$2:$A$22772=$A$3)*(Data!$G$2:$G$22772=$AC$4)*(Data!$B$2:$B$22772=$A13)*(Data!$H$2:$H$22772=AH$5)*(Data!$I$2:$I$22772))","v":0},0.25,0,null,{"$f":"SUMPRODUCT((Data!$A$2:$A$22772=$A$3)*(Data!$G$2:$G$22772=$AL$4)*(Data!$B$2:$B$22772=$A13)*(Data!$H$2:$H$22772=AL$5)*(Data!$I$2:$I$22772))","v":20},{"$f":"SUMPRODUCT((Data!$A$2:$A$22772=$A$3)*(Data!$G$2:$G$22772=$AL$4)*(Data!$B$2:$B$22772=$A13)*(Data!$H$2:$H$22772=AM$5)*(Data!$I$2:$I$22772))","v":0},{"$f":"SUMPRODUCT((Data!$A$2:$A$22772=$A$3)*(Data!$G$2:$G$22772=$AL$4)*(Data!$B$2:$B$22772=$A13)*(Data!$H$2:$H$22772=AN$5)*(Data!$I$2:$I$22772))","v":2},{"$f":"SUMPRODUCT((Data!$A$2:$A$22772=$A$3)*(Data!$G$2:$G$22772=$AL$4)*(Data!$B$2:$B$22772=$A13)*(Data!$H$2:$H$22772=AO$5)*(Data!$I$2:$I$22772))","v":3},{"$f":"SUMPRODUCT((Data!$A$2:$A$22772=$A$3)*(Data!$G$2:$G$22772=$AL$4)*(Data!$B$2:$B$22772=$A13)*(Data!$H$2:$H$22772=AP$5)*(Data!$I$2:$I$22772))","v":6},{"$f":"SUMPRODUCT((Data!$A$2:$A$22772=$A$3)*(Data!$G$2:$G$22772=$AL$4)*(Data!$B$2:$B$22772=$A13)*(Data!$H$2:$H$22772=AQ$5)*(Data!$I$2:$I$22772))","v":17},0.35483870967741937,0.35416666666666669,null,57,0,3,4,6,19,0.18571428571428572,0.21348314606741572]
["Berkshire",{"$f":"SUMPRODUCT((Data!$A$2:$A$22772=$A$3)*(Data!$G$2:$G$22772=$B$4)*(Data!$B$2:$B$22772=$A14)*(Data!$H$2:$H$22772=B$5)*(Data!$I$2:$I$22772))","v":34},{"$f":"SUMPRODUCT((Data!$A$2:$A$22772=$A$3)*(Data!$G$2:$G$22772=$B$4)*(Data!$B$2:$B$22772=$A14)*(Data!$H$2:$H$22772=C$5)*(Data!$I$2:$I$22772))","v":0},{"$f":"SUMPRODUCT((Data!$A$2:$A$22772=$A$3)*(Data!$G$2:$G$22772=$B$4)*(Data!$B$2:$B$22772=$A14)*(Data!$H$2:$H$22772=D$5)*(Data!$I$2:$I$22772))","v":0},{"$f":"SUMPRODUCT((Data!$A$2:$A$22772=$A$3)*(Data!$G$2:$G$22772=$B$4)*(Data!$B$2:$B$22772=$A14)*(Data!$H$2:$H$22772=E$5)*(Data!$I$2:$I$22772))","v":0},{"$f":"SUMPRODUCT((Data!$A$2:$A$22772=$A$3)*(Data!$G$2:$G$22772=$B$4)*(Data!$B$2:$B$22772=$A14)*(Data!$H$2:$H$22772=F$5)*(Data!$I$2:$I$22772))","v":0},{"$f":"SUMPRODUCT((Data!$A$2:$A$22772=$A$3)*(Data!$G$2:$G$22772=$B$4)*(Data!$B$2:$B$22772=$A14)*(Data!$H$2:$H$22772=G$5)*(Data!$I$2:$I$22772))","v":0},0,0,null,{"$f":"SUMPRODUCT((Data!$A$2:$A$22772=$A$3)*(Data!$G$2:$G$22772=$K$4)*(Data!$B$2:$B$22772=$A14)*(Data!$H$2:$H$22772=K$5)*(Data!$I$2:$I$22772))","v":9},{"$f":"SUMPRODUCT((Data!$A$2:$A$22772=$A$3)*(Data!$G$2:$G$22772=$K$4)*(Data!$B$2:$B$22772=$A14)*(Data!$H$2:$H$22772=L$5)*(Data!$I$2:$I$22772))","v":0},{"$f":"SUMPRODUCT((Data!$A$2:$A$22772=$A$3)*(Data!$G$2:$G$22772=$K$4)*(Data!$B$2:$B$22772=$A14)*(Data!$H$2:$H$22772=M$5)*(Data!$I$2:$I$22772))","v":0},{"$f":"SUMPRODUCT((Data!$A$2:$A$22772=$A$3)*(Data!$G$2:$G$22772=$K$4)*(Data!$B$2:$B$22772=$A14)*(Data!$H$2:$H$22772=N$5)*(Data!$I$2:$I$22772))","v":0},{"$f":"SUMPRODUCT((Data!$A$2:$A$22772=$A$3)*(Data!$G$2:$G$22772=$K$4)*(Data!$B$2:$B$22772=$A14)*(Data!$H$2:$H$22772=O$5)*(Data!$I$2:$I$22772))","v":1},{"$f":"SUMPRODUCT((Data!$A$2:$A$22772=$A$3)*(Data!$G$2:$G$22772=$K$4)*(Data!$B$2:$B$22772=$A14)*(Data!$H$2:$H$22772=P$5)*(Data!$I$2:$I$22772))","v":0},0.1,0,null,43,0,0,0,1,0,2.2727272727272728E-2,0,null,{"$f":"SUMPRODUCT((Data!$A$2:$A$22772=$A$3)*(Data!$G$2:$G$22772=$AC$4)*(Data!$B$2:$B$22772=$A14)*(Data!$H$2:$H$22772=AC$5)*(Data!$I$2:$I$22772))","v":4},{"$f":"SUMPRODUCT((Data!$A$2:$A$22772=$A$3)*(Data!$G$2:$G$22772=$AC$4)*(Data!$B$2:$B$22772=$A14)*(Data!$H$2:$H$22772=AD$5)*(Data!$I$2:$I$22772))","v":0},{"$f":"SUMPRODUCT((Data!$A$2:$A$22772=$A$3)*(Data!$G$2:$G$22772=$AC$4)*(Data!$B$2:$B$22772=$A14)*(Data!$H$2:$H$22772=AE$5)*(Data!$I$2:$I$22772))","v":0},{"$f":"SUMPRODUCT((Data!$A$2:$A$22772=$A$3)*(Data!$G$2:$G$22772=$AC$4)*(Data!$B$2:$B$22772=$A14)*(Data!$H$2:$H$22772=AF$5)*(Data!$I$2:$I$22772))","v":0},{"$f":"SUMPRODUCT((Data!$A$2:$A$22772=$A$3)*(Data!$G$2:$G$22772=$AC$4)*(Data!$B$2:$B$22772=$A14)*(Data!$H$2:$H$22772=AG$5)*(Data!$I$2:$I$22772))","v":0},{"$f":"SUMPRODUCT((Data!$A$2:$A$22772=$A$3)*(Data!$G$2:$G$22772=$AC$4)*(Data!$B$2:$B$22772=$A14)*(Data!$H$2:$H$22772=AH$5)*(Data!$I$2:$I$22772))","v":0},0,0,null,{"$f":"SUMPRODUCT((Data!$A$2:$A$22772=$A$3)*(Data!$G$2:$G$22772=$AL$4)*(Data!$B$2:$B$22772=$A14)*(Data!$H$2:$H$22772=AL$5)*(Data!$I$2:$I$22772))","v":17},{"$f":"SUMPRODUCT((Data!$A$2:$A$22772=$A$3)*(Data!$G$2:$G$22772=$AL$4)*(Data!$B$2:$B$22772=$A14)*(Data!$H$2:$H$22772=AM$5)*(Data!$I$2:$I$22772))","v":0},{"$f":"SUMPRODUCT((Data!$A$2:$A$22772=$A$3)*(Data!$G$2:$G$22772=$AL$4)*(Data!$B$2:$B$22772=$A14)*(Data!$H$2:$H$22772=AN$5)*(Data!$I$2:$I$22772))","v":1},{"$f":"SUMPRODUCT((Data!$A$2:$A$22772=$A$3)*(Data!$G$2:$G$22772=$AL$4)*(Data!$B$2:$B$22772=$A14)*(Data!$H$2:$H$22772=AO$5)*(Data!$I$2:$I$22772))","v":1},{"$f":"SUMPRODUCT((Data!$A$2:$A$22772=$A$3)*(Data!$G$2:$G$22772=$AL$4)*(Data!$B$2:$B$22772=$A14)*(Data!$H$2:$H$22772=AP$5)*(Data!$I$2:$I$22772))","v":1},{"$f":"SUMPRODUCT((Data!$A$2:$A$22772=$A$3)*(Data!$G$2:$G$22772=$AL$4)*(Data!$B$2:$B$22772=$A14)*(Data!$H$2:$H$22772=AQ$5)*(Data!$I$2:$I$22772))","v":0},0.15,0,null,64,0,1,1,2,0,5.8823529411764705E-2,0]
["Buckinghamshire",{"$f":"SUMPRODUCT((Data!$A$2:$A$22772=$A$3)*(Data!$G$2:$G$22772=$B$4)*(Data!$B$2:$B$22772=$A15)*(Data!$H$2:$H$22772=B$5)*(Data!$I$2:$I$22772))","v":38},{"$f":"SUMPRODUCT((Data!$A$2:$A$22772=$A$3)*(Data!$G$2:$G$22772=$B$4)*(Data!$B$2:$B$22772=$A15)*(Data!$H$2:$H$22772=C$5)*(Data!$I$2:$I$22772))","v":5},{"$f":"SUMPRODUCT((Data!$A$2:$A$22772=$A$3)*(Data!$G$2:$G$22772=$B$4)*(Data!$B$2:$B$22772=$A15)*(Data!$H$2:$H$22772=D$5)*(Data!$I$2:$I$22772))","v":1},{"$f":"SUMPRODUCT((Data!$A$2:$A$22772=$A$3)*(Data!$G$2:$G$22772=$B$4)*(Data!$B$2:$B$22772=$A15)*(Data!$H$2:$H$22772=E$5)*(Data!$I$2:$I$22772))","v":1},{"$f":"SUMPRODUCT((Data!$A$2:$A$22772=$A$3)*(Data!$G$2:$G$22772=$B$4)*(Data!$B$2:$B$22772=$A15)*(Data!$H$2:$H$22772=F$5)*(Data!$I$2:$I$22772))","v":1},{"$f":"SUMPRODUCT((Data!$A$2:$A$22772=$A$3)*(Data!$G$2:$G$22772=$B$4)*(Data!$B$2:$B$22772=$A15)*(Data!$H$2:$H$22772=G$5)*(Data!$I$2:$I$22772))","v":3},0.17391304347826086,6.1224489795918366E-2,null,{"$f":"SUMPRODUCT((Data!$A$2:$A$22772=$A$3)*(Data!$G$2:$G$22772=$K$4)*(Data!$B$2:$B$22772=$A15)*(Data!$H$2:$H$22772=K$5)*(Data!$I$2:$I$22772))","v":9},{"$f":"SUMPRODUCT((Data!$A$2:$A$22772=$A$3)*(Data!$G$2:$G$22772=$K$4)*(Data!$B$2:$B$22772=$A15)*(Data!$H$2:$H$22772=L$5)*(Data!$I$2:$I$22772))","v":3},{"$f":"SUMPRODUCT((Data!$A$2:$A$22772=$A$3)*(Data!$G$2:$G$22772=$K$4)*(Data!$B$2:$B$22772=$A15)*(Data!$H$2:$H$22772=M$5)*(Data!$I$2:$I$22772))","v":1},{"$f":"SUMPRODUCT((Data!$A$2:$A$22772=$A$3)*(Data!$G$2:$G$22772=$K$4)*(Data!$B$2:$B$22772=$A15)*(Data!$H$2:$H$22772=N$5)*(Data!$I$2:$I$22772))","v":0},{"$f":"SUMPRODUCT((Data!$A$2:$A$22772=$A$3)*(Data!$G$2:$G$22772=$K$4)*(Data!$B$2:$B$22772=$A15)*(Data!$H$2:$H$22772=O$5)*(Data!$I$2:$I$22772))","v":0},{"$f":"SUMPRODUCT((Data!$A$2:$A$22772=$A$3)*(Data!$G$2:$G$22772=$K$4)*(Data!$B$2:$B$22772=$A15)*(Data!$H$2:$H$22772=P$5)*(Data!$I$2:$I$22772))","v":3},0.30769230769230771,0.1875,null,47,8,2,1,1,6,0.20338983050847459,9.2307692307692313E-2,null,{"$f":"SUMPRODUCT((Data!$A$2:$A$22772=$A$3)*(Data!$G$2:$G$22772=$AC$4)*(Data!$B$2:$B$22772=$A15)*(Data!$H$2:$H$22772=AC$5)*(Data!$I$2:$I$22772))","v":0},{"$f":"SUMPRODUCT((Data!$A$2:$A$22772=$A$3)*(Data!$G$2:$G$22772=$AC$4)*(Data!$B$2:$B$22772=$A15)*(Data!$H$2:$H$22772=AD$5)*(Data!$I$2:$I$22772))","v":0},{"$f":"SUMPRODUCT((Data!$A$2:$A$22772=$A$3)*(Data!$G$2:$G$22772=$AC$4)*(Data!$B$2:$B$22772=$A15)*(Data!$H$2:$H$22772=AE$5)*(Data!$I$2:$I$22772))","v":0},{"$f":"SUMPRODUCT((Data!$A$2:$A$22772=$A$3)*(Data!$G$2:$G$22772=$AC$4)*(Data!$B$2:$B$22772=$A15)*(Data!$H$2:$H$22772=AF$5)*(Data!$I$2:$I$22772))","v":0},{"$f":"SUMPRODUCT((Data!$A$2:$A$22772=$A$3)*(Data!$G$2:$G$22772=$AC$4)*(Data!$B$2:$B$22772=$A15)*(Data!$H$2:$H$22772=AG$5)*(Data!$I$2:$I$22772))","v":0},{"$f":"SUMPRODUCT((Data!$A$2:$A$22772=$A$3)*(Data!$G$2:$G$22772=$AC$4)*(Data!$B$2:$B$22772=$A15)*(Data!$H$2:$H$22772=AH$5)*(Data!$I$2:$I$22772))","v":0},"-","-",null,{"$f":"SUMPRODUCT((Data!$A$2:$A$22772=$A$3)*(Data!$G$2:$G$22772=$AL$4)*(Data!$B$2:$B$22772=$A15)*(Data!$H$2:$H$22772=AL$5)*(Data!$I$2:$I$22772))","v":23},{"$f":"SUMPRODUCT((Data!$A$2:$A$22772=$A$3)*(Data!$G$2:$G$22772=$AL$4)*(Data!$B$2:$B$22772=$A15)*(Data!$H$2:$H$22772=AM$5)*(Data!$I$2:$I$22772))","v":1},{"$f":"SUMPRODUCT((Data!$A$2:$A$22772=$A$3)*(Data!$G$2:$G$22772=$AL$4)*(Data!$B$2:$B$22772=$A15)*(Data!$H$2:$H$22772=AN$5)*(Data!$I$2:$I$22772))","v":0},{"$f":"SUMPRODUCT((Data!$A$2:$A$22772=$A$3)*(Data!$G$2:$G$22772=$AL$4)*(Data!$B$2:$B$22772=$A15)*(Data!$H$2:$H$22772=AO$5)*(Data!$I$2:$I$22772))","v":4},{"$f":"SUMPRODUCT((Data!$A$2:$A$22772=$A$3)*(Data!$G$2:$G$22772=$AL$4)*(Data!$B$2:$B$22772=$A15)*(Data!$H$2:$H$22772=AP$5)*(Data!$I$2:$I$22772))","v":0},{"$f":"SUMPRODUCT((Data!$A$2:$A$22772=$A$3)*(Data!$G$2:$G$22772=$AL$4)*(Data!$B$2:$B$22772=$A15)*(Data!$H$2:$H$22772=AQ$5)*(Data!$I$2:$I$22772))","v":2},0.17857142857142858,6.6666666666666666E-2,null,70,9,2,5,1,8,0.19540229885057472,8.4210526315789472E-2]
["Cambridgeshire",{"$f":"SUMPRODUCT((Data!$A$2:$A$22772=$A$3)*(Data!$G$2:$G$22772=$B$4)*(Data!$B$2:$B$22772=$A16)*(Data!$H$2:$H$22772=B$5)*(Data!$I$2:$I$22772))","v":9},{"$f":"SUMPRODUCT((Data!$A$2:$A$22772=$A$3)*(Data!$G$2:$G$22772=$B$4)*(Data!$B$2:$B$22772=$A16)*(Data!$H$2:$H$22772=C$5)*(Data!$I$2:$I$22772))","v":0},{"$f":"SUMPRODUCT((Data!$A$2:$A$22772=$A$3)*(Data!$G$2:$G$22772=$B$4)*(Data!$B$2:$B$22772=$A16)*(Data!$H$2:$H$22772=D$5)*(Data!$I$2:$I$22772))","v":0},{"$f":"SUMPRODUCT((Data!$A$2:$A$22772=$A$3)*(Data!$G$2:$G$22772=$B$4)*(Data!$B$2:$B$22772=$A16)*(Data!$H$2:$H$22772=E$5)*(Data!$I$2:$I$22772))","v":0},{"$f":"SUMPRODUCT((Data!$A$2:$A$22772=$A$3)*(Data!$G$2:$G$22772=$B$4)*(Data!$B$2:$B$22772=$A16)*(Data!$H$2:$H$22772=F$5)*(Data!$I$2:$I$22772))","v":0},{"$f":"SUMPRODUCT((Data!$A$2:$A$22772=$A$3)*(Data!$G$2:$G$22772=$B$4)*(Data!$B$2:$B$22772=$A16)*(Data!$H$2:$H$22772=G$5)*(Data!$I$2:$I$22772))","v":2},0,0.18181818181818182,null,{"$f":"SUMPRODUCT((Data!$A$2:$A$22772=$A$3)*(Data!$G$2:$G$22772=$K$4)*(Data!$B$2:$B$22772=$A16)*(Data!$H$2:$H$22772=K$5)*(Data!$I$2:$I$22772))","v":34},{"$f":"SUMPRODUCT((Data!$A$2:$A$22772=$A$3)*(Data!$G$2:$G$22772=$K$4)*(Data!$B$2:$B$22772=$A16)*(Data!$H$2:$H$22772=L$5)*(Data!$I$2:$I$22772))","v":1},{"$f":"SUMPRODUCT((Data!$A$2:$A$22772=$A$3)*(Data!$G$2:$G$22772=$K$4)*(Data!$B$2:$B$22772=$A16)*(Data!$H$2:$H$22772=M$5)*(Data!$I$2:$I$22772))","v":0},{"$f":"SUMPRODUCT((Data!$A$2:$A$22772=$A$3)*(Data!$G$2:$G$22772=$K$4)*(Data!$B$2:$B$22772=$A16)*(Data!$H$2:$H$22772=N$5)*(Data!$I$2:$I$22772))","v":2},{"$f":"SUMPRODUCT((Data!$A$2:$A$22772=$A$3)*(Data!$G$2:$G$22772=$K$4)*(Data!$B$2:$B$22772=$A16)*(Data!$H$2:$H$22772=O$5)*(Data!$I$2:$I$22772))","v":2},{"$f":"SUMPRODUCT((Data!$A$2:$A$22772=$A$3)*(Data!$G$2:$G$22772=$K$4)*(Data!$B$2:$B$22772=$A16)*(Data!$H$2:$H$22772=P$5)*(Data!$I$2:$I$22772))","v":3},0.12820512820512819,7.1428571428571425E-2,null,43,1,0,2,2,5,0.10416666666666667,9.4339622641509441E-2,null,{"$f":"SUMPRODUCT((Data!$A$2:$A$22772=$A$3)*(Data!$G$2:$G$22772=$AC$4)*(Data!$B$2:$B$22772=$A16)*(Data!$H$2:$H$22772=AC$5)*(Data!$I$2:$I$22772))","v":0},{"$f":"SUMPRODUCT((Data!$A$2:$A$22772=$A$3)*(Data!$G$2:$G$22772=$AC$4)*(Data!$B$2:$B$22772=$A16)*(Data!$H$2:$H$22772=AD$5)*(Data!$I$2:$I$22772))","v":0},{"$f":"SUMPRODUCT((Data!$A$2:$A$22772=$A$3)*(Data!$G$2:$G$22772=$AC$4)*(Data!$B$2:$B$22772=$A16)*(Data!$H$2:$H$22772=AE$5)*(Data!$I$2:$I$22772))","v":0},{"$f":"SUMPRODUCT((Data!$A$2:$A$22772=$A$3)*(Data!$G$2:$G$22772=$AC$4)*(Data!$B$2:$B$22772=$A16)*(Data!$H$2:$H$22772=AF$5)*(Data!$I$2:$I$22772))","v":0},{"$f":"SUMPRODUCT((Data!$A$2:$A$22772=$A$3)*(Data!$G$2:$G$22772=$AC$4)*(Data!$B$2:$B$22772=$A16)*(Data!$H$2:$H$22772=AG$5)*(Data!$I$2:$I$22772))","v":0},{"$f":"SUMPRODUCT((Data!$A$2:$A$22772=$A$3)*(Data!$G$2:$G$22772=$AC$4)*(Data!$B$2:$B$22772=$A16)*(Data!$H$2:$H$22772=AH$5)*(Data!$I$2:$I$22772))","v":0},"-","-",null,{"$f":"SUMPRODUCT((Data!$A$2:$A$22772=$A$3)*(Data!$G$2:$G$22772=$AL$4)*(Data!$B$2:$B$22772=$A16)*(Data!$H$2:$H$22772=AL$5)*(Data!$I$2:$I$22772))","v":8},{"$f":"SUMPRODUCT((Data!$A$2:$A$22772=$A$3)*(Data!$G$2:$G$22772=$AL$4)*(Data!$B$2:$B$22772=$A16)*(Data!$H$2:$H$22772=AM$5)*(Data!$I$2:$I$22772))","v":0},{"$f":"SUMPRODUCT((Data!$A$2:$A$22772=$A$3)*(Data!$G$2:$G$22772=$AL$4)*(Data!$B$2:$B$22772=$A16)*(Data!$H$2:$H$22772=AN$5)*(Data!$I$2:$I$22772))","v":0},{"$f":"SUMPRODUCT((Data!$A$2:$A$22772=$A$3)*(Data!$G$2:$G$22772=$AL$4)*(Data!$B$2:$B$22772=$A16)*(Data!$H$2:$H$22772=AO$5)*(Data!$I$2:$I$22772))","v":1},{"$f":"SUMPRODUCT((Data!$A$2:$A$22772=$A$3)*(Data!$G$2:$G$22772=$AL$4)*(Data!$B$2:$B$22772=$A16)*(Data!$H$2:$H$22772=AP$5)*(Data!$I$2:$I$22772))","v":1},{"$f":"SUMPRODUCT((Data!$A$2:$A$22772=$A$3)*(Data!$G$2:$G$22772=$AL$4)*(Data!$B$2:$B$22772=$A16)*(Data!$H$2:$H$22772=AQ$5)*(Data!$I$2:$I$22772))","v":7},0.2,0.41176470588235292,null,51,1,0,3,3,12,0.1206896551724138,0.17142857142857143]
["Cheshire",{"$f":"SUMPRODUCT((Data!$A$2:$A$22772=$A$3)*(Data!$G$2:$G$22772=$B$4)*(Data!$B$2:$B$22772=$A17)*(Data!$H$2:$H$22772=B$5)*(Data!$I$2:$I$22772))","v":45},{"$f":"SUMPRODUCT((Data!$A$2:$A$22772=$A$3)*(Data!$G$2:$G$22772=$B$4)*(Data!$B$2:$B$22772=$A17)*(Data!$H$2:$H$22772=C$5)*(Data!$I$2:$I$22772))","v":0},{"$f":"SUMPRODUCT((Data!$A$2:$A$22772=$A$3)*(Data!$G$2:$G$22772=$B$4)*(Data!$B$2:$B$22772=$A17)*(Data!$H$2:$H$22772=D$5)*(Data!$I$2:$I$22772))","v":1},{"$f":"SUMPRODUCT((Data!$A$2:$A$22772=$A$3)*(Data!$G$2:$G$22772=$B$4)*(Data!$B$2:$B$22772=$A17)*(Data!$H$2:$H$22772=E$5)*(Data!$I$2:$I$22772))","v":1},{"$f":"SUMPRODUCT((Data!$A$2:$A$22772=$A$3)*(Data!$G$2:$G$22772=$B$4)*(Data!$B$2:$B$22772=$A17)*(Data!$H$2:$H$22772=F$5)*(Data!$I$2:$I$22772))","v":0},{"$f":"SUMPRODUCT((Data!$A$2:$A$22772=$A$3)*(Data!$G$2:$G$22772=$B$4)*(Data!$B$2:$B$22772=$A17)*(Data!$H$2:$H$22772=G$5)*(Data!$I$2:$I$22772))","v":1},4.2553191489361701E-2,2.0833333333333332E-2,null,{"$f":"SUMPRODUCT((Data!$A$2:$A$22772=$A$3)*(Data!$G$2:$G$22772=$K$4)*(Data!$B$2:$B$22772=$A17)*(Data!$H$2:$H$22772=K$5)*(Data!$I$2:$I$22772))","v":26},{"$f":"SUMPRODUCT((Data!$A$2:$A$22772=$A$3)*(Data!$G$2:$G$22772=$K$4)*(Data!$B$2:$B$22772=$A17)*(Data!$H$2:$H$22772=L$5)*(Data!$I$2:$I$22772))","v":0},{"$f":"SUMPRODUCT((Data!$A$2:$A$22772=$A$3)*(Data!$G$2:$G$22772=$K$4)*(Data!$B$2:$B$22772=$A17)*(Data!$H$2:$H$22772=M$5)*(Data!$I$2:$I$22772))","v":0},{"$f":"SUMPRODUCT((Data!$A$2:$A$22772=$A$3)*(Data!$G$2:$G$22772=$K$4)*(Data!$B$2:$B$22772=$A17)*(Data!$H$2:$H$22772=N$5)*(Data!$I$2:$I$22772))","v":0},{"$f":"SUMPRODUCT((Data!$A$2:$A$22772=$A$3)*(Data!$G$2:$G$22772=$K$4)*(Data!$B$2:$B$22772=$A17)*(Data!$H$2:$H$22772=O$5)*(Data!$I$2:$I$22772))","v":1},{"$f":"SUMPRODUCT((Data!$A$2:$A$22772=$A$3)*(Data!$G$2:$G$22772=$K$4)*(Data!$B$2:$B$22772=$A17)*(Data!$H$2:$H$22772=P$5)*(Data!$I$2:$I$22772))","v":2},3.7037037037037035E-2,6.8965517241379309E-2,null,71,0,1,1,1,3,4.0540540540540543E-2,3.896103896103896E-2,null,{"$f":"SUMPRODUCT((Data!$A$2:$A$22772=$A$3)*(Data!$G$2:$G$22772=$AC$4)*(Data!$B$2:$B$22772=$A17)*(Data!$H$2:$H$22772=AC$5)*(Data!$I$2:$I$22772))","v":0},{"$f":"SUMPRODUCT((Data!$A$2:$A$22772=$A$3)*(Data!$G$2:$G$22772=$AC$4)*(Data!$B$2:$B$22772=$A17)*(Data!$H$2:$H$22772=AD$5)*(Data!$I$2:$I$22772))","v":0},{"$f":"SUMPRODUCT((Data!$A$2:$A$22772=$A$3)*(Data!$G$2:$G$22772=$AC$4)*(Data!$B$2:$B$22772=$A17)*(Data!$H$2:$H$22772=AE$5)*(Data!$I$2:$I$22772))","v":0},{"$f":"SUMPRODUCT((Data!$A$2:$A$22772=$A$3)*(Data!$G$2:$G$22772=$AC$4)*(Data!$B$2:$B$22772=$A17)*(Data!$H$2:$H$22772=AF$5)*(Data!$I$2:$I$22772))","v":0},{"$f":"SUMPRODUCT((Data!$A$2:$A$22772=$A$3)*(Data!$G$2:$G$22772=$AC$4)*(Data!$B$2:$B$22772=$A17)*(Data!$H$2:$H$22772=AG$5)*(Data!$I$2:$I$22772))","v":0},{"$f":"SUMPRODUCT((Data!$A$2:$A$22772=$A$3)*(Data!$G$2:$G$22772=$AC$4)*(Data!$B$2:$B$22772=$A17)*(Data!$H$2:$H$22772=AH$5)*(Data!$I$2:$I$22772))","v":0},"-","-",null,{"$f":"SUMPRODUCT((Data!$A$2:$A$22772=$A$3)*(Data!$G$2:$G$22772=$AL$4)*(Data!$B$2:$B$22772=$A17)*(Data!$H$2:$H$22772=AL$5)*(Data!$I$2:$I$22772))","v":15},{"$f":"SUMPRODUCT((Data!$A$2:$A$22772=$A$3)*(Data!$G$2:$G$22772=$AL$4)*(Data!$B$2:$B$22772=$A17)*(Data!$H$2:$H$22772=AM$5)*(Data!$I$2:$I$22772))","v":1},{"$f":"SUMPRODUCT((Data!$A$2:$A$22772=$A$3)*(Data!$G$2:$G$22772=$AL$4)*(Data!$B$2:$B$22772=$A17)*(Data!$H$2:$H$22772=AN$5)*(Data!$I$2:$I$22772))","v":0},{"$f":"SUMPRODUCT((Data!$A$2:$A$22772=$A$3)*(Data!$G$2:$G$22772=$AL$4)*(Data!$B$2:$B$22772=$A17)*(Data!$H$2:$H$22772=AO$5)*(Data!$I$2:$I$22772))","v":0},{"$f":"SUMPRODUCT((Data!$A$2:$A$22772=$A$3)*(Data!$G$2:$G$22772=$AL$4)*(Data!$B$2:$B$22772=$A17)*(Data!$H$2:$H$22772=AP$5)*(Data!$I$2:$I$22772))","v":0},{"$f":"SUMPRODUCT((Data!$A$2:$A$22772=$A$3)*(Data!$G$2:$G$22772=$AL$4)*(Data!$B$2:$B$22772=$A17)*(Data!$H$2:$H$22772=AQ$5)*(Data!$I$2:$I$22772))","v":1},6.25E-2,5.8823529411764705E-2,null,86,1,1,1,1,4,4.4444444444444446E-2,4.2553191489361701E-2]
["Cleveland",{"$f":"SUMPRODUCT((Data!$A$2:$A$22772=$A$3)*(Data!$G$2:$G$22772=$B$4)*(Data!$B$2:$B$22772=$A18)*(Data!$H$2:$H$22772=B$5)*(Data!$I$2:$I$22772))","v":0},{"$f":"SUMPRODUCT((Data!$A$2:$A$22772=$A$3)*(Data!$G$2:$G$22772=$B$4)*(Data!$B$2:$B$22772=$A18)*(Data!$H$2:$H$22772=C$5)*(Data!$I$2:$I$22772))","v":0},{"$f":"SUMPRODUCT((Data!$A$2:$A$22772=$A$3)*(Data!$G$2:$G$22772=$B$4)*(Data!$B$2:$B$22772=$A18)*(Data!$H$2:$H$22772=D$5)*(Data!$I$2:$I$22772))","v":0},{"$f":"SUMPRODUCT((Data!$A$2:$A$22772=$A$3)*(Data!$G$2:$G$22772=$B$4)*(Data!$B$2:$B$22772=$A18)*(Data!$H$2:$H$22772=E$5)*(Data!$I$2:$I$22772))","v":0},{"$f":"SUMPRODUCT((Data!$A$2:$A$22772=$A$3)*(Data!$G$2:$G$22772=$B$4)*(Data!$B$2:$B$22772=$A18)*(Data!$H$2:$H$22772=F$5)*(Data!$I$2:$I$22772))","v":0},{"$f":"SUMPRODUCT((Data!$A$2:$A$22772=$A$3)*(Data!$G$2:$G$22772=$B$4)*(Data!$B$2:$B$22772=$A18)*(Data!$H$2:$H$22772=G$5)*(Data!$I$2:$I$22772))","v":0},"-","-",null,{"$f":"SUMPRODUCT((Data!$A$2:$A$22772=$A$3)*(Data!$G$2:$G$22772=$K$4)*(Data!$B$2:$B$22772=$A18)*(Data!$H$2:$H$22772=K$5)*(Data!$I$2:$I$22772))","v":12},{"$f":"SUMPRODUCT((Data!$A$2:$A$22772=$A$3)*(Data!$G$2:$G$22772=$K$4)*(Data!$B$2:$B$22772=$A18)*(Data!$H$2:$H$22772=L$5)*(Data!$I$2:$I$22772))","v":0},{"$f":"SUMPRODUCT((Data!$A$2:$A$22772=$A$3)*(Data!$G$2:$G$22772=$K$4)*(Data!$B$2:$B$22772=$A18)*(Data!$H$2:$H$22772=M$5)*(Data!$I$2:$I$22772))","v":0},{"$f":"SUMPRODUCT((Data!$A$2:$A$22772=$A$3)*(Data!$G$2:$G$22772=$K$4)*(Data!$B$2:$B$22772=$A18)*(Data!$H$2:$H$22772=N$5)*(Data!$I$2:$I$22772))","v":0},{"$f":"SUMPRODUCT((Data!$A$2:$A$22772=$A$3)*(Data!$G$2:$G$22772=$K$4)*(Data!$B$2:$B$22772=$A18)*(Data!$H$2:$H$22772=O$5)*(Data!$I$2:$I$22772))","v":0},{"$f":"SUMPRODUCT((Data!$A$2:$A$22772=$A$3)*(Data!$G$2:$G$22772=$K$4)*(Data!$B$2:$B$22772=$A18)*(Data!$H$2:$H$22772=P$5)*(Data!$I$2:$I$22772))","v":1},0,7.6923076923076927E-2,null,12,0,0,0,0,1,0,7.6923076923076927E-2,null,{"$f":"SUMPRODUCT((Data!$A$2:$A$22772=$A$3)*(Data!$G$2:$G$22772=$AC$4)*(Data!$B$2:$B$22772=$A18)*(Data!$H$2:$H$22772=AC$5)*(Data!$I$2:$I$22772))","v":2},{"$f":"SUMPRODUCT((Data!$A$2:$A$22772=$A$3)*(Data!$G$2:$G$22772=$AC$4)*(Data!$B$2:$B$22772=$A18)*(Data!$H$2:$H$22772=AD$5)*(Data!$I$2:$I$22772))","v":0},{"$f":"SUMPRODUCT((Data!$A$2:$A$22772=$A$3)*(Data!$G$2:$G$22772=$AC$4)*(Data!$B$2:$B$22772=$A18)*(Data!$H$2:$H$22772=AE$5)*(Data!$I$2:$I$22772))","v":0},{"$f":"SUMPRODUCT((Data!$A$2:$A$22772=$A$3)*(Data!$G$2:$G$22772=$AC$4)*(Data!$B$2:$B$22772=$A18)*(Data!$H$2:$H$22772=AF$5)*(Data!$I$2:$I$22772))","v":0},{"$f":"SUMPRODUCT((Data!$A$2:$A$22772=$A$3)*(Data!$G$2:$G$22772=$AC$4)*(Data!$B$2:$B$22772=$A18)*(Data!$H$2:$H$22772=AG$5)*(Data!$I$2:$I$22772))","v":0},{"$f":"SUMPRODUCT((Data!$A$2:$A$22772=$A$3)*(Data!$G$2:$G$22772=$AC$4)*(Data!$B$2:$B$22772=$A18)*(Data!$H$2:$H$22772=AH$5)*(Data!$I$2:$I$22772))","v":0},0,0,null,{"$f":"SUMPRODUCT((Data!$A$2:$A$22772=$A$3)*(Data!$G$2:$G$22772=$AL$4)*(Data!$B$2:$B$22772=$A18)*(Data!$H$2:$H$22772=AL$5)*(Data!$I$2:$I$22772))","v":16},{"$f":"SUMPRODUCT((Data!$A$2:$A$22772=$A$3)*(Data!$G$2:$G$22772=$AL$4)*(Data!$B$2:$B$22772=$A18)*(Data!$H$2:$H$22772=AM$5)*(Data!$I$2:$I$22772))","v":0},{"$f":"SUMPRODUCT((Data!$A$2:$A$22772=$A$3)*(Data!$G$2:$G$22772=$AL$4)*(Data!$B$2:$B$22772=$A18)*(Data!$H$2:$H$22772=AN$5)*(Data!$I$2:$I$22772))","v":0},{"$f":"SUMPRODUCT((Data!$A$2:$A$22772=$A$3)*(Data!$G$2:$G$22772=$AL$4)*(Data!$B$2:$B$22772=$A18)*(Data!$H$2:$H$22772=AO$5)*(Data!$I$2:$I$22772))","v":0},{"$f":"SUMPRODUCT((Data!$A$2:$A$22772=$A$3)*(Data!$G$2:$G$22772=$AL$4)*(Data!$B$2:$B$22772=$A18)*(Data!$H$2:$H$22772=AP$5)*(Data!$I$2:$I$22772))","v":0},{"$f":"SUMPRODUCT((Data!$A$2:$A$22772=$A$3)*(Data!$G$2:$G$22772=$AL$4)*(Data!$B$2:$B$22772=$A18)*(Data!$H$2:$H$22772=AQ$5)*(Data!$I$2:$I$22772))","v":0},0,0,null,30,0,0,0,0,1,0,3.2258064516129031E-2]
["Cornwall",{"$f":"SUMPRODUCT((Data!$A$2:$A$22772=$A$3)*(Data!$G$2:$G$22772=$B$4)*(Data!$B$2:$B$22772=$A19)*(Data!$H$2:$H$22772=B$5)*(Data!$I$2:$I$22772))","v":0},{"$f":"SUMPRODUCT((Data!$A$2:$A$22772=$A$3)*(Data!$G$2:$G$22772=$B$4)*(Data!$B$2:$B$22772=$A19)*(Data!$H$2:$H$22772=C$5)*(Data!$I$2:$I$22772))","v":0},{"$f":"SUMPRODUCT((Data!$A$2:$A$22772=$A$3)*(Data!$G$2:$G$22772=$B$4)*(Data!$B$2:$B$22772=$A19)*(Data!$H$2:$H$22772=D$5)*(Data!$I$2:$I$22772))","v":0},{"$f":"SUMPRODUCT((Data!$A$2:$A$22772=$A$3)*(Data!$G$2:$G$22772=$B$4)*(Data!$B$2:$B$22772=$A19)*(Data!$H$2:$H$22772=E$5)*(Data!$I$2:$I$22772))","v":0},{"$f":"SUMPRODUCT((Data!$A$2:$A$22772=$A$3)*(Data!$G$2:$G$22772=$B$4)*(Data!$B$2:$B$22772=$A19)*(Data!$H$2:$H$22772=F$5)*(Data!$I$2:$I$22772))","v":0},{"$f":"SUMPRODUCT((Data!$A$2:$A$22772=$A$3)*(Data!$G$2:$G$22772=$B$4)*(Data!$B$2:$B$22772=$A19)*(Data!$H$2:$H$22772=G$5)*(Data!$I$2:$I$22772))","v":0},"-","-",null,{"$f":"SUMPRODUCT((Data!$A$2:$A$22772=$A$3)*(Data!$G$2:$G$22772=$K$4)*(Data!$B$2:$B$22772=$A19)*(Data!$H$2:$H$22772=K$5)*(Data!$I$2:$I$22772))","v":1},{"$f":"SUMPRODUCT((Data!$A$2:$A$22772=$A$3)*(Data!$G$2:$G$22772=$K$4)*(Data!$B$2:$B$22772=$A19)*(Data!$H$2:$H$22772=L$5)*(Data!$I$2:$I$22772))","v":0},{"$f":"SUMPRODUCT((Data!$A$2:$A$22772=$A$3)*(Data!$G$2:$G$22772=$K$4)*(Data!$B$2:$B$22772=$A19)*(Data!$H$2:$H$22772=M$5)*(Data!$I$2:$I$22772))","v":0},{"$f":"SUMPRODUCT((Data!$A$2:$A$22772=$A$3)*(Data!$G$2:$G$22772=$K$4)*(Data!$B$2:$B$22772=$A19)*(Data!$H$2:$H$22772=N$5)*(Data!$I$2:$I$22772))","v":0},{"$f":"SUMPRODUCT((Data!$A$2:$A$22772=$A$3)*(Data!$G$2:$G$22772=$K$4)*(Data!$B$2:$B$22772=$A19)*(Data!$H$2:$H$22772=O$5)*(Data!$I$2:$I$22772))","v":0},{"$f":"SUMPRODUCT((Data!$A$2:$A$22772=$A$3)*(Data!$G$2:$G$22772=$K$4)*(Data!$B$2:$B$22772=$A19)*(Data!$H$2:$H$22772=P$5)*(Data!$I$2:$I$22772))","v":35},0,0.97222222222222221,null,1,0,0,0,0,35,0,0.97222222222222221,null,{"$f":"SUMPRODUCT((Data!$A$2:$A$22772=$A$3)*(Data!$G$2:$G$22772=$AC$4)*(Data!$B$2:$B$22772=$A19)*(Data!$H$2:$H$22772=AC$5)*(Data!$I$2:$I$22772))","v":0},{"$f":"SUMPRODUCT((Data!$A$2:$A$22772=$A$3)*(Data!$G$2:$G$22772=$AC$4)*(Data!$B$2:$B$22772=$A19)*(Data!$H$2:$H$22772=AD$5)*(Data!$I$2:$I$22772))","v":0},{"$f":"SUMPRODUCT((Data!$A$2:$A$22772=$A$3)*(Data!$G$2:$G$22772=$AC$4)*(Data!$B$2:$B$22772=$A19)*(Data!$H$2:$H$22772=AE$5)*(Data!$I$2:$I$22772))","v":0},{"$f":"SUMPRODUCT((Data!$A$2:$A$22772=$A$3)*(Data!$G$2:$G$22772=$AC$4)*(Data!$B$2:$B$22772=$A19)*(Data!$H$2:$H$22772=AF$5)*(Data!$I$2:$I$22772))","v":0},{"$f":"SUMPRODUCT((Data!$A$2:$A$22772=$A$3)*(Data!$G$2:$G$22772=$AC$4)*(Data!$B$2:$B$22772=$A19)*(Data!$H$2:$H$22772=AG$5)*(Data!$I$2:$I$22772))","v":0},{"$f":"SUMPRODUCT((Data!$A$2:$A$22772=$A$3)*(Data!$G$2:$G$22772=$AC$4)*(Data!$B$2:$B$22772=$A19)*(Data!$H$2:$H$22772=AH$5)*(Data!$I$2:$I$22772))","v":0},"-","-",null,{"$f":"SUMPRODUCT((Data!$A$2:$A$22772=$A$3)*(Data!$G$2:$G$22772=$AL$4)*(Data!$B$2:$B$22772=$A19)*(Data!$H$2:$H$22772=AL$5)*(Data!$I$2:$I$22772))","v":2},{"$f":"SUMPRODUCT((Data!$A$2:$A$22772=$A$3)*(Data!$G$2:$G$22772=$AL$4)*(Data!$B$2:$B$22772=$A19)*(Data!$H$2:$H$22772=AM$5)*(Data!$I$2:$I$22772))","v":0},{"$f":"SUMPRODUCT((Data!$A$2:$A$22772=$A$3)*(Data!$G$2:$G$22772=$AL$4)*(Data!$B$2:$B$22772=$A19)*(Data!$H$2:$H$22772=AN$5)*(Data!$I$2:$I$22772))","v":0},{"$f":"SUMPRODUCT((Data!$A$2:$A$22772=$A$3)*(Data!$G$2:$G$22772=$AL$4)*(Data!$B$2:$B$22772=$A19)*(Data!$H$2:$H$22772=AO$5)*(Data!$I$2:$I$22772))","v":0},{"$f":"SUMPRODUCT((Data!$A$2:$A$22772=$A$3)*(Data!$G$2:$G$22772=$AL$4)*(Data!$B$2:$B$22772=$A19)*(Data!$H$2:$H$22772=AP$5)*(Data!$I$2:$I$22772))","v":0},{"$f":"SUMPRODUCT((Data!$A$2:$A$22772=$A$3)*(Data!$G$2:$G$22772=$AL$4)*(Data!$B$2:$B$22772=$A19)*(Data!$H$2:$H$22772=AQ$5)*(Data!$I$2:$I$22772))","v":8},0,0.8,null,3,0,0,0,0,43,0,0.93478260869565222]
["Cumbria",{"$f":"SUMPRODUCT((Data!$A$2:$A$22772=$A$3)*(Data!$G$2:$G$22772=$B$4)*(Data!$B$2:$B$22772=$A20)*(Data!$H$2:$H$22772=B$5)*(Data!$I$2:$I$22772))","v":9},{"$f":"SUMPRODUCT((Data!$A$2:$A$22772=$A$3)*(Data!$G$2:$G$22772=$B$4)*(Data!$B$2:$B$22772=$A20)*(Data!$H$2:$H$22772=C$5)*(Data!$I$2:$I$22772))","v":0},{"$f":"SUMPRODUCT((Data!$A$2:$A$22772=$A$3)*(Data!$G$2:$G$22772=$B$4)*(Data!$B$2:$B$22772=$A20)*(Data!$H$2:$H$22772=D$5)*(Data!$I$2:$I$22772))","v":0},{"$f":"SUMPRODUCT((Data!$A$2:$A$22772=$A$3)*(Data!$G$2:$G$22772=$B$4)*(Data!$B$2:$B$22772=$A20)*(Data!$H$2:$H$22772=E$5)*(Data!$I$2:$I$22772))","v":0},{"$f":"SUMPRODUCT((Data!$A$2:$A$22772=$A$3)*(Data!$G$2:$G$22772=$B$4)*(Data!$B$2:$B$22772=$A20)*(Data!$H$2:$H$22772=F$5)*(Data!$I$2:$I$22772))","v":0},{"$f":"SUMPRODUCT((Data!$A$2:$A$22772=$A$3)*(Data!$G$2:$G$22772=$B$4)*(Data!$B$2:$B$22772=$A20)*(Data!$H$2:$H$22772=G$5)*(Data!$I$2:$I$22772))","v":9},0,0.5,null,{"$f":"SUMPRODUCT((Data!$A$2:$A$22772=$A$3)*(Data!$G$2:$G$22772=$K$4)*(Data!$B$2:$B$22772=$A20)*(Data!$H$2:$H$22772=K$5)*(Data!$I$2:$I$22772))","v":3},{"$f":"SUMPRODUCT((Data!$A$2:$A$22772=$A$3)*(Data!$G$2:$G$22772=$K$4)*(Data!$B$2:$B$22772=$A20)*(Data!$H$2:$H$22772=L$5)*(Data!$I$2:$I$22772))","v":0},{"$f":"SUMPRODUCT((Data!$A$2:$A$22772=$A$3)*(Data!$G$2:$G$22772=$K$4)*(Data!$B$2:$B$22772=$A20)*(Data!$H$2:$H$22772=M$5)*(Data!$I$2:$I$22772))","v":0},{"$f":"SUMPRODUCT((Data!$A$2:$A$22772=$A$3)*(Data!$G$2:$G$22772=$K$4)*(Data!$B$2:$B$22772=$A20)*(Data!$H$2:$H$22772=N$5)*(Data!$I$2:$I$22772))","v":0},{"$f":"SUMPRODUCT((Data!$A$2:$A$22772=$A$3)*(Data!$G$2:$G$22772=$K$4)*(Data!$B$2:$B$22772=$A20)*(Data!$H$2:$H$22772=O$5)*(Data!$I$2:$I$22772))","v":0},{"$f":"SUMPRODUCT((Data!$A$2:$A$22772=$A$3)*(Data!$G$2:$G$22772=$K$4)*(Data!$B$2:$B$22772=$A20)*(Data!$H$2:$H$22772=P$5)*(Data!$I$2:$I$22772))","v":15},0,0.83333333333333337,null,12,0,0,0,0,24,0,0.66666666666666663,null,{"$f":"SUMPRODUCT((Data!$A$2:$A$22772=$A$3)*(Data!$G$2:$G$22772=$AC$4)*(Data!$B$2:$B$22772=$A20)*(Data!$H$2:$H$22772=AC$5)*(Data!$I$2:$I$22772))","v":0},{"$f":"SUMPRODUCT((Data!$A$2:$A$22772=$A$3)*(Data!$G$2:$G$22772=$AC$4)*(Data!$B$2:$B$22772=$A20)*(Data!$H$2:$H$22772=AD$5)*(Data!$I$2:$I$22772))","v":0},{"$f":"SUMPRODUCT((Data!$A$2:$A$22772=$A$3)*(Data!$G$2:$G$22772=$AC$4)*(Data!$B$2:$B$22772=$A20)*(Data!$H$2:$H$22772=AE$5)*(Data!$I$2:$I$22772))","v":0},{"$f":"SUMPRODUCT((Data!$A$2:$A$22772=$A$3)*(Data!$G$2:$G$22772=$AC$4)*(Data!$B$2:$B$22772=$A20)*(Data!$H$2:$H$22772=AF$5)*(Data!$I$2:$I$22772))","v":0},{"$f":"SUMPRODUCT((Data!$A$2:$A$22772=$A$3)*(Data!$G$2:$G$22772=$AC$4)*(Data!$B$2:$B$22772=$A20)*(Data!$H$2:$H$22772=AG$5)*(Data!$I$2:$I$22772))","v":0},{"$f":"SUMPRODUCT((Data!$A$2:$A$22772=$A$3)*(Data!$G$2:$G$22772=$AC$4)*(Data!$B$2:$B$22772=$A20)*(Data!$H$2:$H$22772=AH$5)*(Data!$I$2:$I$22772))","v":0},"-","-",null,{"$f":"SUMPRODUCT((Data!$A$2:$A$22772=$A$3)*(Data!$G$2:$G$22772=$AL$4)*(Data!$B$2:$B$22772=$A20)*(Data!$H$2:$H$22772=AL$5)*(Data!$I$2:$I$22772))","v":0},{"$f":"SUMPRODUCT((Data!$A$2:$A$22772=$A$3)*(Data!$G$2:$G$22772=$AL$4)*(Data!$B$2:$B$22772=$A20)*(Data!$H$2:$H$22772=AM$5)*(Data!$I$2:$I$22772))","v":1},{"$f":"SUMPRODUCT((Data!$A$2:$A$22772=$A$3)*(Data!$G$2:$G$22772=$AL$4)*(Data!$B$2:$B$22772=$A20)*(Data!$H$2:$H$22772=AN$5)*(Data!$I$2:$I$22772))","v":0},{"$f":"SUMPRODUCT((Data!$A$2:$A$22772=$A$3)*(Data!$G$2:$G$22772=$AL$4)*(Data!$B$2:$B$22772=$A20)*(Data!$H$2:$H$22772=AO$5)*(Data!$I$2:$I$22772))","v":0},{"$f":"SUMPRODUCT((Data!$A$2:$A$22772=$A$3)*(Data!$G$2:$G$22772=$AL$4)*(Data!$B$2:$B$22772=$A20)*(Data!$H$2:$H$22772=AP$5)*(Data!$I$2:$I$22772))","v":0},{"$f":"SUMPRODUCT((Data!$A$2:$A$22772=$A$3)*(Data!$G$2:$G$22772=$AL$4)*(Data!$B$2:$B$22772=$A20)*(Data!$H$2:$H$22772=AQ$5)*(Data!$I$2:$I$22772))","v":0},1,0,null,12,1,0,0,0,24,7.6923076923076927E-2,0.64864864864864868]
["Derbyshire",{"$f":"SUMPRODUCT((Data!$A$2:$A$22772=$A$3)*(Data!$G$2:$G$22772=$B$4)*(Data!$B$2:$B$22772=$A21)*(Data!$H$2:$H$22772=B$5)*(Data!$I$2:$I$22772))","v":30},{"$f":"SUMPRODUCT((Data!$A$2:$A$22772=$A$3)*(Data!$G$2:$G$22772=$B$4)*(Data!$B$2:$B$22772=$A21)*(Data!$H$2:$H$22772=C$5)*(Data!$I$2:$I$22772))","v":0},{"$f":"SUMPRODUCT((Data!$A$2:$A$22772=$A$3)*(Data!$G$2:$G$22772=$B$4)*(Data!$B$2:$B$22772=$A21)*(Data!$H$2:$H$22772=D$5)*(Data!$I$2:$I$22772))","v":1},{"$f":"SUMPRODUCT((Data!$A$2:$A$22772=$A$3)*(Data!$G$2:$G$22772=$B$4)*(Data!$B$2:$B$22772=$A21)*(Data!$H$2:$H$22772=E$5)*(Data!$I$2:$I$22772))","v":0},{"$f":"SUMPRODUCT((Data!$A$2:$A$22772=$A$3)*(Data!$G$2:$G$22772=$B$4)*(Data!$B$2:$B$22772=$A21)*(Data!$H$2:$H$22772=F$5)*(Data!$I$2:$I$22772))","v":0},{"$f":"SUMPRODUCT((Data!$A$2:$A$22772=$A$3)*(Data!$G$2:$G$22772=$B$4)*(Data!$B$2:$B$22772=$A21)*(Data!$H$2:$H$22772=G$5)*(Data!$I$2:$I$22772))","v":3},3.2258064516129031E-2,8.8235294117647065E-2,null,{"$f":"SUMPRODUCT((Data!$A$2:$A$22772=$A$3)*(Data!$G$2:$G$22772=$K$4)*(Data!$B$2:$B$22772=$A21)*(Data!$H$2:$H$22772=K$5)*(Data!$I$2:$I$22772))","v":36},{"$f":"SUMPRODUCT((Data!$A$2:$A$22772=$A$3)*(Data!$G$2:$G$22772=$K$4)*(Data!$B$2:$B$22772=$A21)*(Data!$H$2:$H$22772=L$5)*(Data!$I$2:$I$22772))","v":1},{"$f":"SUMPRODUCT((Data!$A$2:$A$22772=$A$3)*(Data!$G$2:$G$22772=$K$4)*(Data!$B$2:$B$22772=$A21)*(Data!$H$2:$H$22772=M$5)*(Data!$I$2:$I$22772))","v":0},{"$f":"SUMPRODUCT((Data!$A$2:$A$22772=$A$3)*(Data!$G$2:$G$22772=$K$4)*(Data!$B$2:$B$22772=$A21)*(Data!$H$2:$H$22772=N$5)*(Data!$I$2:$I$22772))","v":0},{"$f":"SUMPRODUCT((Data!$A$2:$A$22772=$A$3)*(Data!$G$2:$G$22772=$K$4)*(Data!$B$2:$B$22772=$A21)*(Data!$H$2:$H$22772=O$5)*(Data!$I$2:$I$22772))","v":0},{"$f":"SUMPRODUCT((Data!$A$2:$A$22772=$A$3)*(Data!$G$2:$G$22772=$K$4)*(Data!$B$2:$B$22772=$A21)*(Data!$H$2:$H$22772=P$5)*(Data!$I$2:$I$22772))","v":0},2.7027027027027029E-2,0,null,66,1,1,0,0,3,2.9411764705882353E-2,4.2253521126760563E-2,null,{"$f":"SUMPRODUCT((Data!$A$2:$A$22772=$A$3)*(Data!$G$2:$G$22772=$AC$4)*(Data!$B$2:$B$22772=$A21)*(Data!$H$2:$H$22772=AC$5)*(Data!$I$2:$I$22772))","v":0},{"$f":"SUMPRODUCT((Data!$A$2:$A$22772=$A$3)*(Data!$G$2:$G$22772=$AC$4)*(Data!$B$2:$B$22772=$A21)*(Data!$H$2:$H$22772=AD$5)*(Data!$I$2:$I$22772))","v":0},{"$f":"SUMPRODUCT((Data!$A$2:$A$22772=$A$3)*(Data!$G$2:$G$22772=$AC$4)*(Data!$B$2:$B$22772=$A21)*(Data!$H$2:$H$22772=AE$5)*(Data!$I$2:$I$22772))","v":0},{"$f":"SUMPRODUCT((Data!$A$2:$A$22772=$A$3)*(Data!$G$2:$G$22772=$AC$4)*(Data!$B$2:$B$22772=$A21)*(Data!$H$2:$H$22772=AF$5)*(Data!$I$2:$I$22772))","v":0},{"$f":"SUMPRODUCT((Data!$A$2:$A$22772=$A$3)*(Data!$G$2:$G$22772=$AC$4)*(Data!$B$2:$B$22772=$A21)*(Data!$H$2:$H$22772=AG$5)*(Data!$I$2:$I$22772))","v":0},{"$f":"SUMPRODUCT((Data!$A$2:$A$22772=$A$3)*(Data!$G$2:$G$22772=$AC$4)*(Data!$B$2:$B$22772=$A21)*(Data!$H$2:$H$22772=AH$5)*(Data!$I$2:$I$22772))","v":0},"-","-",null,{"$f":"SUMPRODUCT((Data!$A$2:$A$22772=$A$3)*(Data!$G$2:$G$22772=$AL$4)*(Data!$B$2:$B$22772=$A21)*(Data!$H$2:$H$22772=AL$5)*(Data!$I$2:$I$22772))","v":18},{"$f":"SUMPRODUCT((Data!$A$2:$A$22772=$A$3)*(Data!$G$2:$G$22772=$AL$4)*(Data!$B$2:$B$22772=$A21)*(Data!$H$2:$H$22772=AM$5)*(Data!$I$2:$I$22772))","v":0},{"$f":"SUMPRODUCT((Data!$A$2:$A$22772=$A$3)*(Data!$G$2:$G$22772=$AL$4)*(Data!$B$2:$B$22772=$A21)*(Data!$H$2:$H$22772=AN$5)*(Data!$I$2:$I$22772))","v":0},{"$f":"SUMPRODUCT((Data!$A$2:$A$22772=$A$3)*(Data!$G$2:$G$22772=$AL$4)*(Data!$B$2:$B$22772=$A21)*(Data!$H$2:$H$22772=AO$5)*(Data!$I$2:$I$22772))","v":0},{"$f":"SUMPRODUCT((Data!$A$2:$A$22772=$A$3)*(Data!$G$2:$G$22772=$AL$4)*(Data!$B$2:$B$22772=$A21)*(Data!$H$2:$H$22772=AP$5)*(Data!$I$2:$I$22772))","v":0},{"$f":"SUMPRODUCT((Data!$A$2:$A$22772=$A$3)*(Data!$G$2:$G$22772=$AL$4)*(Data!$B$2:$B$22772=$A21)*(Data!$H$2:$H$22772=AQ$5)*(Data!$I$2:$I$22772))","v":9},0,0.33333333333333331,null,84,1,1,0,0,12,2.3255813953488372E-2,0.12244897959183673]
["Devon and Somerset",{"$f":"SUMPRODUCT((Data!$A$2:$A$22772=$A$3)*(Data!$G$2:$G$22772=$B$4)*(Data!$B$2:$B$22772=$A22)*(Data!$H$2:$H$22772=B$5)*(Data!$I$2:$I$22772))","v":13},{"$f":"SUMPRODUCT((Data!$A$2:$A$22772=$A$3)*(Data!$G$2:$G$22772=$B$4)*(Data!$B$2:$B$22772=$A22)*(Data!$H$2:$H$22772=C$5)*(Data!$I$2:$I$22772))","v":0},{"$f":"SUMPRODUCT((Data!$A$2:$A$22772=$A$3)*(Data!$G$2:$G$22772=$B$4)*(Data!$B$2:$B$22772=$A22)*(Data!$H$2:$H$22772=D$5)*(Data!$I$2:$I$22772))","v":0},{"$f":"SUMPRODUCT((Data!$A$2:$A$22772=$A$3)*(Data!$G$2:$G$22772=$B$4)*(Data!$B$2:$B$22772=$A22)*(Data!$H$2:$H$22772=E$5)*(Data!$I$2:$I$22772))","v":0},{"$f":"SUMPRODUCT((Data!$A$2:$A$22772=$A$3)*(Data!$G$2:$G$22772=$B$4)*(Data!$B$2:$B$22772=$A22)*(Data!$H$2:$H$22772=F$5)*(Data!$I$2:$I$22772))","v":5},{"$f":"SUMPRODUCT((Data!$A$2:$A$22772=$A$3)*(Data!$G$2:$G$22772=$B$4)*(Data!$B$2:$B$22772=$A22)*(Data!$H$2:$H$22772=G$5)*(Data!$I$2:$I$22772))","v":2},0.27777777777777779,0.1,null,{"$f":"SUMPRODUCT((Data!$A$2:$A$22772=$A$3)*(Data!$G$2:$G$22772=$K$4)*(Data!$B$2:$B$22772=$A22)*(Data!$H$2:$H$22772=K$5)*(Data!$I$2:$I$22772))","v":79},{"$f":"SUMPRODUCT((Data!$A$2:$A$22772=$A$3)*(Data!$G$2:$G$22772=$K$4)*(Data!$B$2:$B$22772=$A22)*(Data!$H$2:$H$22772=L$5)*(Data!$I$2:$I$22772))","v":2},{"$f":"SUMPRODUCT((Data!$A$2:$A$22772=$A$3)*(Data!$G$2:$G$22772=$K$4)*(Data!$B$2:$B$22772=$A22)*(Data!$H$2:$H$22772=M$5)*(Data!$I$2:$I$22772))","v":1},{"$f":"SUMPRODUCT((Data!$A$2:$A$22772=$A$3)*(Data!$G$2:$G$22772=$K$4)*(Data!$B$2:$B$22772=$A22)*(Data!$H$2:$H$22772=N$5)*(Data!$I$2:$I$22772))","v":1},{"$f":"SUMPRODUCT((Data!$A$2:$A$22772=$A$3)*(Data!$G$2:$G$22772=$K$4)*(Data!$B$2:$B$22772=$A22)*(Data!$H$2:$H$22772=O$5)*(Data!$I$2:$I$22772))","v":3},{"$f":"SUMPRODUCT((Data!$A$2:$A$22772=$A$3)*(Data!$G$2:$G$22772=$K$4)*(Data!$B$2:$B$22772=$A22)*(Data!$H$2:$H$22772=P$5)*(Data!$I$2:$I$22772))","v":0},8.1395348837209308E-2,0,null,92,2,1,1,8,2,0.11538461538461539,1.8867924528301886E-2,null,{"$f":"SUMPRODUCT((Data!$A$2:$A$22772=$A$3)*(Data!$G$2:$G$22772=$AC$4)*(Data!$B$2:$B$22772=$A22)*(Data!$H$2:$H$22772=AC$5)*(Data!$I$2:$I$22772))","v":3},{"$f":"SUMPRODUCT((Data!$A$2:$A$22772=$A$3)*(Data!$G$2:$G$22772=$AC$4)*(Data!$B$2:$B$22772=$A22)*(Data!$H$2:$H$22772=AD$5)*(Data!$I$2:$I$22772))","v":0},{"$f":"SUMPRODUCT((Data!$A$2:$A$22772=$A$3)*(Data!$G$2:$G$22772=$AC$4)*(Data!$B$2:$B$22772=$A22)*(Data!$H$2:$H$22772=AE$5)*(Data!$I$2:$I$22772))","v":0},{"$f":"SUMPRODUCT((Data!$A$2:$A$22772=$A$3)*(Data!$G$2:$G$22772=$AC$4)*(Data!$B$2:$B$22772=$A22)*(Data!$H$2:$H$22772=AF$5)*(Data!$I$2:$I$22772))","v":0},{"$f":"SUMPRODUCT((Data!$A$2:$A$22772=$A$3)*(Data!$G$2:$G$22772=$AC$4)*(Data!$B$2:$B$22772=$A22)*(Data!$H$2:$H$22772=AG$5)*(Data!$I$2:$I$22772))","v":0},{"$f":"SUMPRODUCT((Data!$A$2:$A$22772=$A$3)*(Data!$G$2:$G$22772=$AC$4)*(Data!$B$2:$B$22772=$A22)*(Data!$H$2:$H$22772=AH$5)*(Data!$I$2:$I$22772))","v":0},0,0,null,{"$f":"SUMPRODUCT((Data!$A$2:$A$22772=$A$3)*(Data!$G$2:$G$22772=$AL$4)*(Data!$B$2:$B$22772=$A22)*(Data!$H$2:$H$22772=AL$5)*(Data!$I$2:$I$22772))","v":19},{"$f":"SUMPRODUCT((Data!$A$2:$A$22772=$A$3)*(Data!$G$2:$G$22772=$AL$4)*(Data!$B$2:$B$22772=$A22)*(Data!$H$2:$H$22772=AM$5)*(Data!$I$2:$I$22772))","v":0},{"$f":"SUMPRODUCT((Data!$A$2:$A$22772=$A$3)*(Data!$G$2:$G$22772=$AL$4)*(Data!$B$2:$B$22772=$A22)*(Data!$H$2:$H$22772=AN$5)*(Data!$I$2:$I$22772))","v":0},{"$f":"SUMPRODUCT((Data!$A$2:$A$22772=$A$3)*(Data!$G$2:$G$22772=$AL$4)*(Data!$B$2:$B$22772=$A22)*(Data!$H$2:$H$22772=AO$5)*(Data!$I$2:$I$22772))","v":0},{"$f":"SUMPRODUCT((Data!$A$2:$A$22772=$A$3)*(Data!$G$2:$G$22772=$AL$4)*(Data!$B$2:$B$22772=$A22)*(Data!$H$2:$H$22772=AP$5)*(Data!$I$2:$I$22772))","v":1},{"$f":"SUMPRODUCT((Data!$A$2:$A$22772=$A$3)*(Data!$G$2:$G$22772=$AL$4)*(Data!$B$2:$B$22772=$A22)*(Data!$H$2:$H$22772=AQ$5)*(Data!$I$2:$I$22772))","v":0},0.05,0,null,114,2,1,1,9,2,0.10236220472440945,1.5503875968992248E-2]
["Dorset and Wiltshire",{"$f":"SUMPRODUCT((Data!$A$2:$A$22772=$A$3)*(Data!$G$2:$G$22772=$B$4)*(Data!$B$2:$B$22772=$A23)*(Data!$H$2:$H$22772=B$5)*(Data!$I$2:$I$22772))","v":30},{"$f":"SUMPRODUCT((Data!$A$2:$A$22772=$A$3)*(Data!$G$2:$G$22772=$B$4)*(Data!$B$2:$B$22772=$A23)*(Data!$H$2:$H$22772=C$5)*(Data!$I$2:$I$22772))","v":0},{"$f":"SUMPRODUCT((Data!$A$2:$A$22772=$A$3)*(Data!$G$2:$G$22772=$B$4)*(Data!$B$2:$B$22772=$A23)*(Data!$H$2:$H$22772=D$5)*(Data!$I$2:$I$22772))","v":0},{"$f":"SUMPRODUCT((Data!$A$2:$A$22772=$A$3)*(Data!$G$2:$G$22772=$B$4)*(Data!$B$2:$B$22772=$A23)*(Data!$H$2:$H$22772=E$5)*(Data!$I$2:$I$22772))","v":0},{"$f":"SUMPRODUCT((Data!$A$2:$A$22772=$A$3)*(Data!$G$2:$G$22772=$B$4)*(Data!$B$2:$B$22772=$A23)*(Data!$H$2:$H$22772=F$5)*(Data!$I$2:$I$22772))","v":0},{"$f":"SUMPRODUCT((Data!$A$2:$A$22772=$A$3)*(Data!$G$2:$G$22772=$B$4)*(Data!$B$2:$B$22772=$A23)*(Data!$H$2:$H$22772=G$5)*(Data!$I$2:$I$22772))","v":1},0,3.2258064516129031E-2,null,{"$f":"SUMPRODUCT((Data!$A$2:$A$22772=$A$3)*(Data!$G$2:$G$22772=$K$4)*(Data!$B$2:$B$22772=$A23)*(Data!$H$2:$H$22772=K$5)*(Data!$I$2:$I$22772))","v":71},{"$f":"SUMPRODUCT((Data!$A$2:$A$22772=$A$3)*(Data!$G$2:$G$22772=$K$4)*(Data!$B$2:$B$22772=$A23)*(Data!$H$2:$H$22772=L$5)*(Data!$I$2:$I$22772))","v":1},{"$f":"SUMPRODUCT((Data!$A$2:$A$22772=$A$3)*(Data!$G$2:$G$22772=$K$4)*(Data!$B$2:$B$22772=$A23)*(Data!$H$2:$H$22772=M$5)*(Data!$I$2:$I$22772))","v":1},{"$f":"SUMPRODUCT((Data!$A$2:$A$22772=$A$3)*(Data!$G$2:$G$22772=$K$4)*(Data!$B$2:$B$22772=$A23)*(Data!$H$2:$H$22772=N$5)*(Data!$I$2:$I$22772))","v":0},{"$f":"SUMPRODUCT((Data!$A$2:$A$22772=$A$3)*(Data!$G$2:$G$22772=$K$4)*(Data!$B$2:$B$22772=$A23)*(Data!$H$2:$H$22772=O$5)*(Data!$I$2:$I$22772))","v":3},{"$f":"SUMPRODUCT((Data!$A$2:$A$22772=$A$3)*(Data!$G$2:$G$22772=$K$4)*(Data!$B$2:$B$22772=$A23)*(Data!$H$2:$H$22772=P$5)*(Data!$I$2:$I$22772))","v":1},6.5789473684210523E-2,1.2987012987012988E-2,null,101,1,1,0,3,2,4.716981132075472E-2,1.8518518518518517E-2,null,{"$f":"SUMPRODUCT((Data!$A$2:$A$22772=$A$3)*(Data!$G$2:$G$22772=$AC$4)*(Data!$B$2:$B$22772=$A23)*(Data!$H$2:$H$22772=AC$5)*(Data!$I$2:$I$22772))","v":9},{"$f":"SUMPRODUCT((Data!$A$2:$A$22772=$A$3)*(Data!$G$2:$G$22772=$AC$4)*(Data!$B$2:$B$22772=$A23)*(Data!$H$2:$H$22772=AD$5)*(Data!$I$2:$I$22772))","v":0},{"$f":"SUMPRODUCT((Data!$A$2:$A$22772=$A$3)*(Data!$G$2:$G$22772=$AC$4)*(Data!$B$2:$B$22772=$A23)*(Data!$H$2:$H$22772=AE$5)*(Data!$I$2:$I$22772))","v":0},{"$f":"SUMPRODUCT((Data!$A$2:$A$22772=$A$3)*(Data!$G$2:$G$22772=$AC$4)*(Data!$B$2:$B$22772=$A23)*(Data!$H$2:$H$22772=AF$5)*(Data!$I$2:$I$22772))","v":0},{"$f":"SUMPRODUCT((Data!$A$2:$A$22772=$A$3)*(Data!$G$2:$G$22772=$AC$4)*(Data!$B$2:$B$22772=$A23)*(Data!$H$2:$H$22772=AG$5)*(Data!$I$2:$I$22772))","v":1},{"$f":"SUMPRODUCT((Data!$A$2:$A$22772=$A$3)*(Data!$G$2:$G$22772=$AC$4)*(Data!$B$2:$B$22772=$A23)*(Data!$H$2:$H$22772=AH$5)*(Data!$I$2:$I$22772))","v":0},0.1,0,null,{"$f":"SUMPRODUCT((Data!$A$2:$A$22772=$A$3)*(Data!$G$2:$G$22772=$AL$4)*(Data!$B$2:$B$22772=$A23)*(Data!$H$2:$H$22772=AL$5)*(Data!$I$2:$I$22772))","v":31},{"$f":"SUMPRODUCT((Data!$A$2:$A$22772=$A$3)*(Data!$G$2:$G$22772=$AL$4)*(Data!$B$2:$B$22772=$A23)*(Data!$H$2:$H$22772=AM$5)*(Data!$I$2:$I$22772))","v":0},{"$f":"SUMPRODUCT((Data!$A$2:$A$22772=$A$3)*(Data!$G$2:$G$22772=$AL$4)*(Data!$B$2:$B$22772=$A23)*(Data!$H$2:$H$22772=AN$5)*(Data!$I$2:$I$22772))","v":0},{"$f":"SUMPRODUCT((Data!$A$2:$A$22772=$A$3)*(Data!$G$2:$G$22772=$AL$4)*(Data!$B$2:$B$22772=$A23)*(Data!$H$2:$H$22772=AO$5)*(Data!$I$2:$I$22772))","v":0},{"$f":"SUMPRODUCT((Data!$A$2:$A$22772=$A$3)*(Data!$G$2:$G$22772=$AL$4)*(Data!$B$2:$B$22772=$A23)*(Data!$H$2:$H$22772=AP$5)*(Data!$I$2:$I$22772))","v":1},{"$f":"SUMPRODUCT((Data!$A$2:$A$22772=$A$3)*(Data!$G$2:$G$22772=$AL$4)*(Data!$B$2:$B$22772=$A23)*(Data!$H$2:$H$22772=AQ$5)*(Data!$I$2:$I$22772))","v":3},3.125E-2,8.5714285714285715E-2,null,141,1,1,0,5,5,4.72972972972973E-2,3.2679738562091505E-2]
["Durham",{"$f":"SUMPRODUCT((Data!$A$2:$A$22772=$A$3)*(Data!$G$2:$G$22772=$B$4)*(Data!$B$2:$B$22772=$A24)*(Data!$H$2:$H$22772=B$5)*(Data!$I$2:$I$22772))","v":3},{"$f":"SUMPRODUCT((Data!$A$2:$A$22772=$A$3)*(Data!$G$2:$G$22772=$B$4)*(Data!$B$2:$B$22772=$A24)*(Data!$H$2:$H$22772=C$5)*(Data!$I$2:$I$22772))","v":1},{"$f":"SUMPRODUCT((Data!$A$2:$A$22772=$A$3)*(Data!$G$2:$G$22772=$B$4)*(Data!$B$2:$B$22772=$A24)*(Data!$H$2:$H$22772=D$5)*(Data!$I$2:$I$22772))","v":0},{"$f":"SUMPRODUCT((Data!$A$2:$A$22772=$A$3)*(Data!$G$2:$G$22772=$B$4)*(Data!$B$2:$B$22772=$A24)*(Data!$H$2:$H$22772=E$5)*(Data!$I$2:$I$22772))","v":0},{"$f":"SUMPRODUCT((Data!$A$2:$A$22772=$A$3)*(Data!$G$2:$G$22772=$B$4)*(Data!$B$2:$B$22772=$A24)*(Data!$H$2:$H$22772=F$5)*(Data!$I$2:$I$22772))","v":0},{"$f":"SUMPRODUCT((Data!$A$2:$A$22772=$A$3)*(Data!$G$2:$G$22772=$B$4)*(Data!$B$2:$B$22772=$A24)*(Data!$H$2:$H$22772=G$5)*(Data!$I$2:$I$22772))","v":1},0.25,0.2,null,{"$f":"SUMPRODUCT((Data!$A$2:$A$22772=$A$3)*(Data!$G$2:$G$22772=$K$4)*(Data!$B$2:$B$22772=$A24)*(Data!$H$2:$H$22772=K$5)*(Data!$I$2:$I$22772))","v":11},{"$f":"SUMPRODUCT((Data!$A$2:$A$22772=$A$3)*(Data!$G$2:$G$22772=$K$4)*(Data!$B$2:$B$22772=$A24)*(Data!$H$2:$H$22772=L$5)*(Data!$I$2:$I$22772))","v":0},{"$f":"SUMPRODUCT((Data!$A$2:$A$22772=$A$3)*(Data!$G$2:$G$22772=$K$4)*(Data!$B$2:$B$22772=$A24)*(Data!$H$2:$H$22772=M$5)*(Data!$I$2:$I$22772))","v":0},{"$f":"SUMPRODUCT((Data!$A$2:$A$22772=$A$3)*(Data!$G$2:$G$22772=$K$4)*(Data!$B$2:$B$22772=$A24)*(Data!$H$2:$H$22772=N$5)*(Data!$I$2:$I$22772))","v":0},{"$f":"SUMPRODUCT((Data!$A$2:$A$22772=$A$3)*(Data!$G$2:$G$22772=$K$4)*(Data!$B$2:$B$22772=$A24)*(Data!$H$2:$H$22772=O$5)*(Data!$I$2:$I$22772))","v":0},{"$f":"SUMPRODUCT((Data!$A$2:$A$22772=$A$3)*(Data!$G$2:$G$22772=$K$4)*(Data!$B$2:$B$22772=$A24)*(Data!$H$2:$H$22772=P$5)*(Data!$I$2:$I$22772))","v":11},0,0.5,null,14,1,0,0,0,12,6.6666666666666666E-2,0.44444444444444442,null,{"$f":"SUMPRODUCT((Data!$A$2:$A$22772=$A$3)*(Data!$G$2:$G$22772=$AC$4)*(Data!$B$2:$B$22772=$A24)*(Data!$H$2:$H$22772=AC$5)*(Data!$I$2:$I$22772))","v":1},{"$f":"SUMPRODUCT((Data!$A$2:$A$22772=$A$3)*(Data!$G$2:$G$22772=$AC$4)*(Data!$B$2:$B$22772=$A24)*(Data!$H$2:$H$22772=AD$5)*(Data!$I$2:$I$22772))","v":0},{"$f":"SUMPRODUCT((Data!$A$2:$A$22772=$A$3)*(Data!$G$2:$G$22772=$AC$4)*(Data!$B$2:$B$22772=$A24)*(Data!$H$2:$H$22772=AE$5)*(Data!$I$2:$I$22772))","v":0},{"$f":"SUMPRODUCT((Data!$A$2:$A$22772=$A$3)*(Data!$G$2:$G$22772=$AC$4)*(Data!$B$2:$B$22772=$A24)*(Data!$H$2:$H$22772=AF$5)*(Data!$I$2:$I$22772))","v":0},{"$f":"SUMPRODUCT((Data!$A$2:$A$22772=$A$3)*(Data!$G$2:$G$22772=$AC$4)*(Data!$B$2:$B$22772=$A24)*(Data!$H$2:$H$22772=AG$5)*(Data!$I$2:$I$22772))","v":0},{"$f":"SUMPRODUCT((Data!$A$2:$A$22772=$A$3)*(Data!$G$2:$G$22772=$AC$4)*(Data!$B$2:$B$22772=$A24)*(Data!$H$2:$H$22772=AH$5)*(Data!$I$2:$I$22772))","v":0},0,0,null,{"$f":"SUMPRODUCT((Data!$A$2:$A$22772=$A$3)*(Data!$G$2:$G$22772=$AL$4)*(Data!$B$2:$B$22772=$A24)*(Data!$H$2:$H$22772=AL$5)*(Data!$I$2:$I$22772))","v":8},{"$f":"SUMPRODUCT((Data!$A$2:$A$22772=$A$3)*(Data!$G$2:$G$22772=$AL$4)*(Data!$B$2:$B$22772=$A24)*(Data!$H$2:$H$22772=AM$5)*(Data!$I$2:$I$22772))","v":0},{"$f":"SUMPRODUCT((Data!$A$2:$A$22772=$A$3)*(Data!$G$2:$G$22772=$AL$4)*(Data!$B$2:$B$22772=$A24)*(Data!$H$2:$H$22772=AN$5)*(Data!$I$2:$I$22772))","v":0},{"$f":"SUMPRODUCT((Data!$A$2:$A$22772=$A$3)*(Data!$G$2:$G$22772=$AL$4)*(Data!$B$2:$B$22772=$A24)*(Data!$H$2:$H$22772=AO$5)*(Data!$I$2:$I$22772))","v":0},{"$f":"SUMPRODUCT((Data!$A$2:$A$22772=$A$3)*(Data!$G$2:$G$22772=$AL$4)*(Data!$B$2:$B$22772=$A24)*(Data!$H$2:$H$22772=AP$5)*(Data!$I$2:$I$22772))","v":0},{"$f":"SUMPRODUCT((Data!$A$2:$A$22772=$A$3)*(Data!$G$2:$G$22772=$AL$4)*(Data!$B$2:$B$22772=$A24)*(Data!$H$2:$H$22772=AQ$5)*(Data!$I$2:$I$22772))","v":5},0,0.38461538461538464,null,23,1,0,0,0,17,4.1666666666666664E-2,0.41463414634146339]
["East Sussex",{"$f":"SUMPRODUCT((Data!$A$2:$A$22772=$A$3)*(Data!$G$2:$G$22772=$B$4)*(Data!$B$2:$B$22772=$A25)*(Data!$H$2:$H$22772=B$5)*(Data!$I$2:$I$22772))","v":20},{"$f":"SUMPRODUCT((Data!$A$2:$A$22772=$A$3)*(Data!$G$2:$G$22772=$B$4)*(Data!$B$2:$B$22772=$A25)*(Data!$H$2:$H$22772=C$5)*(Data!$I$2:$I$22772))","v":2},{"$f":"SUMPRODUCT((Data!$A$2:$A$22772=$A$3)*(Data!$G$2:$G$22772=$B$4)*(Data!$B$2:$B$22772=$A25)*(Data!$H$2:$H$22772=D$5)*(Data!$I$2:$I$22772))","v":0},{"$f":"SUMPRODUCT((Data!$A$2:$A$22772=$A$3)*(Data!$G$2:$G$22772=$B$4)*(Data!$B$2:$B$22772=$A25)*(Data!$H$2:$H$22772=E$5)*(Data!$I$2:$I$22772))","v":0},{"$f":"SUMPRODUCT((Data!$A$2:$A$22772=$A$3)*(Data!$G$2:$G$22772=$B$4)*(Data!$B$2:$B$22772=$A25)*(Data!$H$2:$H$22772=F$5)*(Data!$I$2:$I$22772))","v":0},{"$f":"SUMPRODUCT((Data!$A$2:$A$22772=$A$3)*(Data!$G$2:$G$22772=$B$4)*(Data!$B$2:$B$22772=$A25)*(Data!$H$2:$H$22772=G$5)*(Data!$I$2:$I$22772))","v":4},9.0909090909090912E-2,0.15384615384615385,null,{"$f":"SUMPRODUCT((Data!$A$2:$A$22772=$A$3)*(Data!$G$2:$G$22772=$K$4)*(Data!$B$2:$B$22772=$A25)*(Data!$H$2:$H$22772=K$5)*(Data!$I$2:$I$22772))","v":29},{"$f":"SUMPRODUCT((Data!$A$2:$A$22772=$A$3)*(Data!$G$2:$G$22772=$K$4)*(Data!$B$2:$B$22772=$A25)*(Data!$H$2:$H$22772=L$5)*(Data!$I$2:$I$22772))","v":1},{"$f":"SUMPRODUCT((Data!$A$2:$A$22772=$A$3)*(Data!$G$2:$G$22772=$K$4)*(Data!$B$2:$B$22772=$A25)*(Data!$H$2:$H$22772=M$5)*(Data!$I$2:$I$22772))","v":0},{"$f":"SUMPRODUCT((Data!$A$2:$A$22772=$A$3)*(Data!$G$2:$G$22772=$K$4)*(Data!$B$2:$B$22772=$A25)*(Data!$H$2:$H$22772=N$5)*(Data!$I$2:$I$22772))","v":0},{"$f":"SUMPRODUCT((Data!$A$2:$A$22772=$A$3)*(Data!$G$2:$G$22772=$K$4)*(Data!$B$2:$B$22772=$A25)*(Data!$H$2:$H$22772=O$5)*(Data!$I$2:$I$22772))","v":0},{"$f":"SUMPRODUCT((Data!$A$2:$A$22772=$A$3)*(Data!$G$2:$G$22772=$K$4)*(Data!$B$2:$B$22772=$A25)*(Data!$H$2:$H$22772=P$5)*(Data!$I$2:$I$22772))","v":7},3.3333333333333333E-2,0.1891891891891892,null,49,3,0,0,0,11,5.7692307692307696E-2,0.17460317460317459,null,{"$f":"SUMPRODUCT((Data!$A$2:$A$22772=$A$3)*(Data!$G$2:$G$22772=$AC$4)*(Data!$B$2:$B$22772=$A25)*(Data!$H$2:$H$22772=AC$5)*(Data!$I$2:$I$22772))","v":0},{"$f":"SUMPRODUCT((Data!$A$2:$A$22772=$A$3)*(Data!$G$2:$G$22772=$AC$4)*(Data!$B$2:$B$22772=$A25)*(Data!$H$2:$H$22772=AD$5)*(Data!$I$2:$I$22772))","v":0},{"$f":"SUMPRODUCT((Data!$A$2:$A$22772=$A$3)*(Data!$G$2:$G$22772=$AC$4)*(Data!$B$2:$B$22772=$A25)*(Data!$H$2:$H$22772=AE$5)*(Data!$I$2:$I$22772))","v":0},{"$f":"SUMPRODUCT((Data!$A$2:$A$22772=$A$3)*(Data!$G$2:$G$22772=$AC$4)*(Data!$B$2:$B$22772=$A25)*(Data!$H$2:$H$22772=AF$5)*(Data!$I$2:$I$22772))","v":0},{"$f":"SUMPRODUCT((Data!$A$2:$A$22772=$A$3)*(Data!$G$2:$G$22772=$AC$4)*(Data!$B$2:$B$22772=$A25)*(Data!$H$2:$H$22772=AG$5)*(Data!$I$2:$I$22772))","v":0},{"$f":"SUMPRODUCT((Data!$A$2:$A$22772=$A$3)*(Data!$G$2:$G$22772=$AC$4)*(Data!$B$2:$B$22772=$A25)*(Data!$H$2:$H$22772=AH$5)*(Data!$I$2:$I$22772))","v":0},"-","-",null,{"$f":"SUMPRODUCT((Data!$A$2:$A$22772=$A$3)*(Data!$G$2:$G$22772=$AL$4)*(Data!$B$2:$B$22772=$A25)*(Data!$H$2:$H$22772=AL$5)*(Data!$I$2:$I$22772))","v":33},{"$f":"SUMPRODUCT((Data!$A$2:$A$22772=$A$3)*(Data!$G$2:$G$22772=$AL$4)*(Data!$B$2:$B$22772=$A25)*(Data!$H$2:$H$22772=AM$5)*(Data!$I$2:$I$22772))","v":0},{"$f":"SUMPRODUCT((Data!$A$2:$A$22772=$A$3)*(Data!$G$2:$G$22772=$AL$4)*(Data!$B$2:$B$22772=$A25)*(Data!$H$2:$H$22772=AN$5)*(Data!$I$2:$I$22772))","v":0},{"$f":"SUMPRODUCT((Data!$A$2:$A$22772=$A$3)*(Data!$G$2:$G$22772=$AL$4)*(Data!$B$2:$B$22772=$A25)*(Data!$H$2:$H$22772=AO$5)*(Data!$I$2:$I$22772))","v":0},{"$f":"SUMPRODUCT((Data!$A$2:$A$22772=$A$3)*(Data!$G$2:$G$22772=$AL$4)*(Data!$B$2:$B$22772=$A25)*(Data!$H$2:$H$22772=AP$5)*(Data!$I$2:$I$22772))","v":0},{"$f":"SUMPRODUCT((Data!$A$2:$A$22772=$A$3)*(Data!$G$2:$G$22772=$AL$4)*(Data!$B$2:$B$22772=$A25)*(Data!$H$2:$H$22772=AQ$5)*(Data!$I$2:$I$22772))","v":7},0,0.17499999999999999,null,82,3,0,0,0,18,3.5294117647058823E-2,0.17475728155339806]
["Essex",{"$f":"SUMPRODUCT((Data!$A$2:$A$22772=$A$3)*(Data!$G$2:$G$22772=$B$4)*(Data!$B$2:$B$22772=$A26)*(Data!$H$2:$H$22772=B$5)*(Data!$I$2:$I$22772))","v":35},{"$f":"SUMPRODUCT((Data!$A$2:$A$22772=$A$3)*(Data!$G$2:$G$22772=$B$4)*(Data!$B$2:$B$22772=$A26)*(Data!$H$2:$H$22772=C$5)*(Data!$I$2:$I$22772))","v":3},{"$f":"SUMPRODUCT((Data!$A$2:$A$22772=$A$3)*(Data!$G$2:$G$22772=$B$4)*(Data!$B$2:$B$22772=$A26)*(Data!$H$2:$H$22772=D$5)*(Data!$I$2:$I$22772))","v":0},{"$f":"SUMPRODUCT((Data!$A$2:$A$22772=$A$3)*(Data!$G$2:$G$22772=$B$4)*(Data!$B$2:$B$22772=$A26)*(Data!$H$2:$H$22772=E$5)*(Data!$I$2:$I$22772))","v":1},{"$f":"SUMPRODUCT((Data!$A$2:$A$22772=$A$3)*(Data!$G$2:$G$22772=$B$4)*(Data!$B$2:$B$22772=$A26)*(Data!$H$2:$H$22772=F$5)*(Data!$I$2:$I$22772))","v":1},{"$f":"SUMPRODUCT((Data!$A$2:$A$22772=$A$3)*(Data!$G$2:$G$22772=$B$4)*(Data!$B$2:$B$22772=$A26)*(Data!$H$2:$H$22772=G$5)*(Data!$I$2:$I$22772))","v":8},0.125,0.16666666666666666,null,{"$f":"SUMPRODUCT((Data!$A$2:$A$22772=$A$3)*(Data!$G$2:$G$22772=$K$4)*(Data!$B$2:$B$22772=$A26)*(Data!$H$2:$H$22772=K$5)*(Data!$I$2:$I$22772))","v":54},{"$f":"SUMPRODUCT((Data!$A$2:$A$22772=$A$3)*(Data!$G$2:$G$22772=$K$4)*(Data!$B$2:$B$22772=$A26)*(Data!$H$2:$H$22772=L$5)*(Data!$I$2:$I$22772))","v":2},{"$f":"SUMPRODUCT((Data!$A$2:$A$22772=$A$3)*(Data!$G$2:$G$22772=$K$4)*(Data!$B$2:$B$22772=$A26)*(Data!$H$2:$H$22772=M$5)*(Data!$I$2:$I$22772))","v":0},{"$f":"SUMPRODUCT((Data!$A$2:$A$22772=$A$3)*(Data!$G$2:$G$22772=$K$4)*(Data!$B$2:$B$22772=$A26)*(Data!$H$2:$H$22772=N$5)*(Data!$I$2:$I$22772))","v":1},{"$f":"SUMPRODUCT((Data!$A$2:$A$22772=$A$3)*(Data!$G$2:$G$22772=$K$4)*(Data!$B$2:$B$22772=$A26)*(Data!$H$2:$H$22772=O$5)*(Data!$I$2:$I$22772))","v":4},{"$f":"SUMPRODUCT((Data!$A$2:$A$22772=$A$3)*(Data!$G$2:$G$22772=$K$4)*(Data!$B$2:$B$22772=$A26)*(Data!$H$2:$H$22772=P$5)*(Data!$I$2:$I$22772))","v":13},0.11475409836065574,0.17567567567567569,null,89,5,0,2,5,21,0.11881188118811881,0.1721311475409836,null,{"$f":"SUMPRODUCT((Data!$A$2:$A$22772=$A$3)*(Data!$G$2:$G$22772=$AC$4)*(Data!$B$2:$B$22772=$A26)*(Data!$H$2:$H$22772=AC$5)*(Data!$I$2:$I$22772))","v":6},{"$f":"SUMPRODUCT((Data!$A$2:$A$22772=$A$3)*(Data!$G$2:$G$22772=$AC$4)*(Data!$B$2:$B$22772=$A26)*(Data!$H$2:$H$22772=AD$5)*(Data!$I$2:$I$22772))","v":0},{"$f":"SUMPRODUCT((Data!$A$2:$A$22772=$A$3)*(Data!$G$2:$G$22772=$AC$4)*(Data!$B$2:$B$22772=$A26)*(Data!$H$2:$H$22772=AE$5)*(Data!$I$2:$I$22772))","v":0},{"$f":"SUMPRODUCT((Data!$A$2:$A$22772=$A$3)*(Data!$G$2:$G$22772=$AC$4)*(Data!$B$2:$B$22772=$A26)*(Data!$H$2:$H$22772=AF$5)*(Data!$I$2:$I$22772))","v":0},{"$f":"SUMPRODUCT((Data!$A$2:$A$22772=$A$3)*(Data!$G$2:$G$22772=$AC$4)*(Data!$B$2:$B$22772=$A26)*(Data!$H$2:$H$22772=AG$5)*(Data!$I$2:$I$22772))","v":0},{"$f":"SUMPRODUCT((Data!$A$2:$A$22772=$A$3)*(Data!$G$2:$G$22772=$AC$4)*(Data!$B$2:$B$22772=$A26)*(Data!$H$2:$H$22772=AH$5)*(Data!$I$2:$I$22772))","v":0},0,0,null,{"$f":"SUMPRODUCT((Data!$A$2:$A$22772=$A$3)*(Data!$G$2:$G$22772=$AL$4)*(Data!$B$2:$B$22772=$A26)*(Data!$H$2:$H$22772=AL$5)*(Data!$I$2:$I$22772))","v":27},{"$f":"SUMPRODUCT((Data!$A$2:$A$22772=$A$3)*(Data!$G$2:$G$22772=$AL$4)*(Data!$B$2:$B$22772=$A26)*(Data!$H$2:$H$22772=AM$5)*(Data!$I$2:$I$22772))","v":0},{"$f":"SUMPRODUCT((Data!$A$2:$A$22772=$A$3)*(Data!$G$2:$G$22772=$AL$4)*(Data!$B$2:$B$22772=$A26)*(Data!$H$2:$H$22772=AN$5)*(Data!$I$2:$I$22772))","v":1},{"$f":"SUMPRODUCT((Data!$A$2:$A$22772=$A$3)*(Data!$G$2:$G$22772=$AL$4)*(Data!$B$2:$B$22772=$A26)*(Data!$H$2:$H$22772=AO$5)*(Data!$I$2:$I$22772))","v":2},{"$f":"SUMPRODUCT((Data!$A$2:$A$22772=$A$3)*(Data!$G$2:$G$22772=$AL$4)*(Data!$B$2:$B$22772=$A26)*(Data!$H$2:$H$22772=AP$5)*(Data!$I$2:$I$22772))","v":3},{"$f":"SUMPRODUCT((Data!$A$2:$A$22772=$A$3)*(Data!$G$2:$G$22772=$AL$4)*(Data!$B$2:$B$22772=$A26)*(Data!$H$2:$H$22772=AQ$5)*(Data!$I$2:$I$22772))","v":18},0.18181818181818182,0.35294117647058826,null,122,5,1,4,8,39,0.12857142857142856,0.21787709497206703]
["Gloucestershire",{"$f":"SUMPRODUCT((Data!$A$2:$A$22772=$A$3)*(Data!$G$2:$G$22772=$B$4)*(Data!$B$2:$B$22772=$A27)*(Data!$H$2:$H$22772=B$5)*(Data!$I$2:$I$22772))","v":19},{"$f":"SUMPRODUCT((Data!$A$2:$A$22772=$A$3)*(Data!$G$2:$G$22772=$B$4)*(Data!$B$2:$B$22772=$A27)*(Data!$H$2:$H$22772=C$5)*(Data!$I$2:$I$22772))","v":2},{"$f":"SUMPRODUCT((Data!$A$2:$A$22772=$A$3)*(Data!$G$2:$G$22772=$B$4)*(Data!$B$2:$B$22772=$A27)*(Data!$H$2:$H$22772=D$5)*(Data!$I$2:$I$22772))","v":1},{"$f":"SUMPRODUCT((Data!$A$2:$A$22772=$A$3)*(Data!$G$2:$G$22772=$B$4)*(Data!$B$2:$B$22772=$A27)*(Data!$H$2:$H$22772=E$5)*(Data!$I$2:$I$22772))","v":0},{"$f":"SUMPRODUCT((Data!$A$2:$A$22772=$A$3)*(Data!$G$2:$G$22772=$B$4)*(Data!$B$2:$B$22772=$A27)*(Data!$H$2:$H$22772=F$5)*(Data!$I$2:$I$22772))","v":3},{"$f":"SUMPRODUCT((Data!$A$2:$A$22772=$A$3)*(Data!$G$2:$G$22772=$B$4)*(Data!$B$2:$B$22772=$A27)*(Data!$H$2:$H$22772=G$5)*(Data!$I$2:$I$22772))","v":5},0.24,0.16666666666666666,null,{"$f":"SUMPRODUCT((Data!$A$2:$A$22772=$A$3)*(Data!$G$2:$G$22772=$K$4)*(Data!$B$2:$B$22772=$A27)*(Data!$H$2:$H$22772=K$5)*(Data!$I$2:$I$22772))","v":17},{"$f":"SUMPRODUCT((Data!$A$2:$A$22772=$A$3)*(Data!$G$2:$G$22772=$K$4)*(Data!$B$2:$B$22772=$A27)*(Data!$H$2:$H$22772=L$5)*(Data!$I$2:$I$22772))","v":0},{"$f":"SUMPRODUCT((Data!$A$2:$A$22772=$A$3)*(Data!$G$2:$G$22772=$K$4)*(Data!$B$2:$B$22772=$A27)*(Data!$H$2:$H$22772=M$5)*(Data!$I$2:$I$22772))","v":1},{"$f":"SUMPRODUCT((Data!$A$2:$A$22772=$A$3)*(Data!$G$2:$G$22772=$K$4)*(Data!$B$2:$B$22772=$A27)*(Data!$H$2:$H$22772=N$5)*(Data!$I$2:$I$22772))","v":0},{"$f":"SUMPRODUCT((Data!$A$2:$A$22772=$A$3)*(Data!$G$2:$G$22772=$K$4)*(Data!$B$2:$B$22772=$A27)*(Data!$H$2:$H$22772=O$5)*(Data!$I$2:$I$22772))","v":4},{"$f":"SUMPRODUCT((Data!$A$2:$A$22772=$A$3)*(Data!$G$2:$G$22772=$K$4)*(Data!$B$2:$B$22772=$A27)*(Data!$H$2:$H$22772=P$5)*(Data!$I$2:$I$22772))","v":0},0.22727272727272727,0,null,36,2,2,0,7,5,0.23404255319148937,9.6153846153846159E-2,null,{"$f":"SUMPRODUCT((Data!$A$2:$A$22772=$A$3)*(Data!$G$2:$G$22772=$AC$4)*(Data!$B$2:$B$22772=$A27)*(Data!$H$2:$H$22772=AC$5)*(Data!$I$2:$I$22772))","v":0},{"$f":"SUMPRODUCT((Data!$A$2:$A$22772=$A$3)*(Data!$G$2:$G$22772=$AC$4)*(Data!$B$2:$B$22772=$A27)*(Data!$H$2:$H$22772=AD$5)*(Data!$I$2:$I$22772))","v":0},{"$f":"SUMPRODUCT((Data!$A$2:$A$22772=$A$3)*(Data!$G$2:$G$22772=$AC$4)*(Data!$B$2:$B$22772=$A27)*(Data!$H$2:$H$22772=AE$5)*(Data!$I$2:$I$22772))","v":0},{"$f":"SUMPRODUCT((Data!$A$2:$A$22772=$A$3)*(Data!$G$2:$G$22772=$AC$4)*(Data!$B$2:$B$22772=$A27)*(Data!$H$2:$H$22772=AF$5)*(Data!$I$2:$I$22772))","v":0},{"$f":"SUMPRODUCT((Data!$A$2:$A$22772=$A$3)*(Data!$G$2:$G$22772=$AC$4)*(Data!$B$2:$B$22772=$A27)*(Data!$H$2:$H$22772=AG$5)*(Data!$I$2:$I$22772))","v":0},{"$f":"SUMPRODUCT((Data!$A$2:$A$22772=$A$3)*(Data!$G$2:$G$22772=$AC$4)*(Data!$B$2:$B$22772=$A27)*(Data!$H$2:$H$22772=AH$5)*(Data!$I$2:$I$22772))","v":0},"-","-",null,{"$f":"SUMPRODUCT((Data!$A$2:$A$22772=$A$3)*(Data!$G$2:$G$22772=$AL$4)*(Data!$B$2:$B$22772=$A27)*(Data!$H$2:$H$22772=AL$5)*(Data!$I$2:$I$22772))","v":7},{"$f":"SUMPRODUCT((Data!$A$2:$A$22772=$A$3)*(Data!$G$2:$G$22772=$AL$4)*(Data!$B$2:$B$22772=$A27)*(Data!$H$2:$H$22772=AM$5)*(Data!$I$2:$I$22772))","v":0},{"$f":"SUMPRODUCT((Data!$A$2:$A$22772=$A$3)*(Data!$G$2:$G$22772=$AL$4)*(Data!$B$2:$B$22772=$A27)*(Data!$H$2:$H$22772=AN$5)*(Data!$I$2:$I$22772))","v":0},{"$f":"SUMPRODUCT((Data!$A$2:$A$22772=$A$3)*(Data!$G$2:$G$22772=$AL$4)*(Data!$B$2:$B$22772=$A27)*(Data!$H$2:$H$22772=AO$5)*(Data!$I$2:$I$22772))","v":0},{"$f":"SUMPRODUCT((Data!$A$2:$A$22772=$A$3)*(Data!$G$2:$G$22772=$AL$4)*(Data!$B$2:$B$22772=$A27)*(Data!$H$2:$H$22772=AP$5)*(Data!$I$2:$I$22772))","v":3},{"$f":"SUMPRODUCT((Data!$A$2:$A$22772=$A$3)*(Data!$G$2:$G$22772=$AL$4)*(Data!$B$2:$B$22772=$A27)*(Data!$H$2:$H$22772=AQ$5)*(Data!$I$2:$I$22772))","v":3},0.3,0.23076923076923078,null,43,2,2,0,10,8,0.24561403508771928,0.12307692307692308]
["Greater London",{"$f":"SUMPRODUCT((Data!$A$2:$A$22772=$A$3)*(Data!$G$2:$G$22772=$B$4)*(Data!$B$2:$B$22772=$A28)*(Data!$H$2:$H$22772=B$5)*(Data!$I$2:$I$22772))","v":228},{"$f":"SUMPRODUCT((Data!$A$2:$A$22772=$A$3)*(Data!$G$2:$G$22772=$B$4)*(Data!$B$2:$B$22772=$A28)*(Data!$H$2:$H$22772=C$5)*(Data!$I$2:$I$22772))","v":19},{"$f":"SUMPRODUCT((Data!$A$2:$A$22772=$A$3)*(Data!$G$2:$G$22772=$B$4)*(Data!$B$2:$B$22772=$A28)*(Data!$H$2:$H$22772=D$5)*(Data!$I$2:$I$22772))","v":9},{"$f":"SUMPRODUCT((Data!$A$2:$A$22772=$A$3)*(Data!$G$2:$G$22772=$B$4)*(Data!$B$2:$B$22772=$A28)*(Data!$H$2:$H$22772=E$5)*(Data!$I$2:$I$22772))","v":19},{"$f":"SUMPRODUCT((Data!$A$2:$A$22772=$A$3)*(Data!$G$2:$G$22772=$B$4)*(Data!$B$2:$B$22772=$A28)*(Data!$H$2:$H$22772=F$5)*(Data!$I$2:$I$22772))","v":29},{"$f":"SUMPRODUCT((Data!$A$2:$A$22772=$A$3)*(Data!$G$2:$G$22772=$B$4)*(Data!$B$2:$B$22772=$A28)*(Data!$H$2:$H$22772=G$5)*(Data!$I$2:$I$22772))","v":61},0.25,0.16712328767123288,null,{"$f":"SUMPRODUCT((Data!$A$2:$A$22772=$A$3)*(Data!$G$2:$G$22772=$K$4)*(Data!$B$2:$B$22772=$A28)*(Data!$H$2:$H$22772=K$5)*(Data!$I$2:$I$22772))","v":0},{"$f":"SUMPRODUCT((Data!$A$2:$A$22772=$A$3)*(Data!$G$2:$G$22772=$K$4)*(Data!$B$2:$B$22772=$A28)*(Data!$H$2:$H$22772=L$5)*(Data!$I$2:$I$22772))","v":0},{"$f":"SUMPRODUCT((Data!$A$2:$A$22772=$A$3)*(Data!$G$2:$G$22772=$K$4)*(Data!$B$2:$B$22772=$A28)*(Data!$H$2:$H$22772=M$5)*(Data!$I$2:$I$22772))","v":0},{"$f":"SUMPRODUCT((Data!$A$2:$A$22772=$A$3)*(Data!$G$2:$G$22772=$K$4)*(Data!$B$2:$B$22772=$A28)*(Data!$H$2:$H$22772=N$5)*(Data!$I$2:$I$22772))","v":0},{"$f":"SUMPRODUCT((Data!$A$2:$A$22772=$A$3)*(Data!$G$2:$G$22772=$K$4)*(Data!$B$2:$B$22772=$A28)*(Data!$H$2:$H$22772=O$5)*(Data!$I$2:$I$22772))","v":0},{"$f":"SUMPRODUCT((Data!$A$2:$A$22772=$A$3)*(Data!$G$2:$G$22772=$K$4)*(Data!$B$2:$B$22772=$A28)*(Data!$H$2:$H$22772=P$5)*(Data!$I$2:$I$22772))","v":0},"-","-",null,228,19,9,19,29,61,0.25,0.16712328767123288,null,{"$f":"SUMPRODUCT((Data!$A$2:$A$22772=$A$3)*(Data!$G$2:$G$22772=$AC$4)*(Data!$B$2:$B$22772=$A28)*(Data!$H$2:$H$22772=AC$5)*(Data!$I$2:$I$22772))","v":5},{"$f":"SUMPRODUCT((Data!$A$2:$A$22772=$A$3)*(Data!$G$2:$G$22772=$AC$4)*(Data!$B$2:$B$22772=$A28)*(Data!$H$2:$H$22772=AD$5)*(Data!$I$2:$I$22772))","v":2},{"$f":"SUMPRODUCT((Data!$A$2:$A$22772=$A$3)*(Data!$G$2:$G$22772=$AC$4)*(Data!$B$2:$B$22772=$A28)*(Data!$H$2:$H$22772=AE$5)*(Data!$I$2:$I$22772))","v":1},{"$f":"SUMPRODUCT((Data!$A$2:$A$22772=$A$3)*(Data!$G$2:$G$22772=$AC$4)*(Data!$B$2:$B$22772=$A28)*(Data!$H$2:$H$22772=AF$5)*(Data!$I$2:$I$22772))","v":0},{"$f":"SUMPRODUCT((Data!$A$2:$A$22772=$A$3)*(Data!$G$2:$G$22772=$AC$4)*(Data!$B$2:$B$22772=$A28)*(Data!$H$2:$H$22772=AG$5)*(Data!$I$2:$I$22772))","v":1},{"$f":"SUMPRODUCT((Data!$A$2:$A$22772=$A$3)*(Data!$G$2:$G$22772=$AC$4)*(Data!$B$2:$B$22772=$A28)*(Data!$H$2:$H$22772=AH$5)*(Data!$I$2:$I$22772))","v":2},0.44444444444444442,0.18181818181818182,null,{"$f":"SUMPRODUCT((Data!$A$2:$A$22772=$A$3)*(Data!$G$2:$G$22772=$AL$4)*(Data!$B$2:$B$22772=$A28)*(Data!$H$2:$H$22772=AL$5)*(Data!$I$2:$I$22772))","v":64},{"$f":"SUMPRODUCT((Data!$A$2:$A$22772=$A$3)*(Data!$G$2:$G$22772=$AL$4)*(Data!$B$2:$B$22772=$A28)*(Data!$H$2:$H$22772=AM$5)*(Data!$I$2:$I$22772))","v":1},{"$f":"SUMPRODUCT((Data!$A$2:$A$22772=$A$3)*(Data!$G$2:$G$22772=$AL$4)*(Data!$B$2:$B$22772=$A28)*(Data!$H$2:$H$22772=AN$5)*(Data!$I$2:$I$22772))","v":10},{"$f":"SUMPRODUCT((Data!$A$2:$A$22772=$A$3)*(Data!$G$2:$G$22772=$AL$4)*(Data!$B$2:$B$22772=$A28)*(Data!$H$2:$H$22772=AO$5)*(Data!$I$2:$I$22772))","v":14},{"$f":"SUMPRODUCT((Data!$A$2:$A$22772=$A$3)*(Data!$G$2:$G$22772=$AL$4)*(Data!$B$2:$B$22772=$A28)*(Data!$H$2:$H$22772=AP$5)*(Data!$I$2:$I$22772))","v":11},{"$f":"SUMPRODUCT((Data!$A$2:$A$22772=$A$3)*(Data!$G$2:$G$22772=$AL$4)*(Data!$B$2:$B$22772=$A28)*(Data!$H$2:$H$22772=AQ$5)*(Data!$I$2:$I$22772))","v":14},0.36,0.12280701754385964,null,297,22,20,33,41,77,0.28087167070217917,0.15714285714285714]
["Greater Manchester",{"$f":"SUMPRODUCT((Data!$A$2:$A$22772=$A$3)*(Data!$G$2:$G$22772=$B$4)*(Data!$B$2:$B$22772=$A29)*(Data!$H$2:$H$22772=B$5)*(Data!$I$2:$I$22772))","v":48},{"$f":"SUMPRODUCT((Data!$A$2:$A$22772=$A$3)*(Data!$G$2:$G$22772=$B$4)*(Data!$B$2:$B$22772=$A29)*(Data!$H$2:$H$22772=C$5)*(Data!$I$2:$I$22772))","v":13},{"$f":"SUMPRODUCT((Data!$A$2:$A$22772=$A$3)*(Data!$G$2:$G$22772=$B$4)*(Data!$B$2:$B$22772=$A29)*(Data!$H$2:$H$22772=D$5)*(Data!$I$2:$I$22772))","v":1},{"$f":"SUMPRODUCT((Data!$A$2:$A$22772=$A$3)*(Data!$G$2:$G$22772=$B$4)*(Data!$B$2:$B$22772=$A29)*(Data!$H$2:$H$22772=E$5)*(Data!$I$2:$I$22772))","v":1},{"$f":"SUMPRODUCT((Data!$A$2:$A$22772=$A$3)*(Data!$G$2:$G$22772=$B$4)*(Data!$B$2:$B$22772=$A29)*(Data!$H$2:$H$22772=F$5)*(Data!$I$2:$I$22772))","v":1},{"$f":"SUMPRODUCT((Data!$A$2:$A$22772=$A$3)*(Data!$G$2:$G$22772=$B$4)*(Data!$B$2:$B$22772=$A29)*(Data!$H$2:$H$22772=G$5)*(Data!$I$2:$I$22772))","v":1},0.25,1.5384615384615385E-2,null,{"$f":"SUMPRODUCT((Data!$A$2:$A$22772=$A$3)*(Data!$G$2:$G$22772=$K$4)*(Data!$B$2:$B$22772=$A29)*(Data!$H$2:$H$22772=K$5)*(Data!$I$2:$I$22772))","v":0},{"$f":"SUMPRODUCT((Data!$A$2:$A$22772=$A$3)*(Data!$G$2:$G$22772=$K$4)*(Data!$B$2:$B$22772=$A29)*(Data!$H$2:$H$22772=L$5)*(Data!$I$2:$I$22772))","v":0},{"$f":"SUMPRODUCT((Data!$A$2:$A$22772=$A$3)*(Data!$G$2:$G$22772=$K$4)*(Data!$B$2:$B$22772=$A29)*(Data!$H$2:$H$22772=M$5)*(Data!$I$2:$I$22772))","v":0},{"$f":"SUMPRODUCT((Data!$A$2:$A$22772=$A$3)*(Data!$G$2:$G$22772=$K$4)*(Data!$B$2:$B$22772=$A29)*(Data!$H$2:$H$22772=N$5)*(Data!$I$2:$I$22772))","v":0},{"$f":"SUMPRODUCT((Data!$A$2:$A$22772=$A$3)*(Data!$G$2:$G$22772=$K$4)*(Data!$B$2:$B$22772=$A29)*(Data!$H$2:$H$22772=O$5)*(Data!$I$2:$I$22772))","v":0},{"$f":"SUMPRODUCT((Data!$A$2:$A$22772=$A$3)*(Data!$G$2:$G$22772=$K$4)*(Data!$B$2:$B$22772=$A29)*(Data!$H$2:$H$22772=P$5)*(Data!$I$2:$I$22772))","v":0},"-","-",null,48,13,1,1,1,1,0.25,1.5384615384615385E-2,null,{"$f":"SUMPRODUCT((Data!$A$2:$A$22772=$A$3)*(Data!$G$2:$G$22772=$AC$4)*(Data!$B$2:$B$22772=$A29)*(Data!$H$2:$H$22772=AC$5)*(Data!$I$2:$I$22772))","v":0},{"$f":"SUMPRODUCT((Data!$A$2:$A$22772=$A$3)*(Data!$G$2:$G$22772=$AC$4)*(Data!$B$2:$B$22772=$A29)*(Data!$H$2:$H$22772=AD$5)*(Data!$I$2:$I$22772))","v":0},{"$f":"SUMPRODUCT((Data!$A$2:$A$22772=$A$3)*(Data!$G$2:$G$22772=$AC$4)*(Data!$B$2:$B$22772=$A29)*(Data!$H$2:$H$22772=AE$5)*(Data!$I$2:$I$22772))","v":0},{"$f":"SUMPRODUCT((Data!$A$2:$A$22772=$A$3)*(Data!$G$2:$G$22772=$AC$4)*(Data!$B$2:$B$22772=$A29)*(Data!$H$2:$H$22772=AF$5)*(Data!$I$2:$I$22772))","v":0},{"$f":"SUMPRODUCT((Data!$A$2:$A$22772=$A$3)*(Data!$G$2:$G$22772=$AC$4)*(Data!$B$2:$B$22772=$A29)*(Data!$H$2:$H$22772=AG$5)*(Data!$I$2:$I$22772))","v":0},{"$f":"SUMPRODUCT((Data!$A$2:$A$22772=$A$3)*(Data!$G$2:$G$22772=$AC$4)*(Data!$B$2:$B$22772=$A29)*(Data!$H$2:$H$22772=AH$5)*(Data!$I$2:$I$22772))","v":0},"-","-",null,{"$f":"SUMPRODUCT((Data!$A$2:$A$22772=$A$3)*(Data!$G$2:$G$22772=$AL$4)*(Data!$B$2:$B$22772=$A29)*(Data!$H$2:$H$22772=AL$5)*(Data!$I$2:$I$22772))","v":80},{"$f":"SUMPRODUCT((Data!$A$2:$A$22772=$A$3)*(Data!$G$2:$G$22772=$AL$4)*(Data!$B$2:$B$22772=$A29)*(Data!$H$2:$H$22772=AM$5)*(Data!$I$2:$I$22772))","v":1},{"$f":"SUMPRODUCT((Data!$A$2:$A$22772=$A$3)*(Data!$G$2:$G$22772=$AL$4)*(Data!$B$2:$B$22772=$A29)*(Data!$H$2:$H$22772=AN$5)*(Data!$I$2:$I$22772))","v":2},{"$f":"SUMPRODUCT((Data!$A$2:$A$22772=$A$3)*(Data!$G$2:$G$22772=$AL$4)*(Data!$B$2:$B$22772=$A29)*(Data!$H$2:$H$22772=AO$5)*(Data!$I$2:$I$22772))","v":1},{"$f":"SUMPRODUCT((Data!$A$2:$A$22772=$A$3)*(Data!$G$2:$G$22772=$AL$4)*(Data!$B$2:$B$22772=$A29)*(Data!$H$2:$H$22772=AP$5)*(Data!$I$2:$I$22772))","v":1},{"$f":"SUMPRODUCT((Data!$A$2:$A$22772=$A$3)*(Data!$G$2:$G$22772=$AL$4)*(Data!$B$2:$B$22772=$A29)*(Data!$H$2:$H$22772=AQ$5)*(Data!$I$2:$I$22772))","v":4},5.8823529411764705E-2,4.49438202247191E-2,null,128,14,3,2,2,5,0.14093959731543623,3.2467532467532464E-2]
["Hampshire and Isle of Wight",{"$f":"SUMPRODUCT((Data!$A$2:$A$22772=$A$3)*(Data!$G$2:$G$22772=$B$4)*(Data!$B$2:$B$22772=$A30)*(Data!$H$2:$H$22772=B$5)*(Data!$I$2:$I$22772))","v":64},{"$f":"SUMPRODUCT((Data!$A$2:$A$22772=$A$3)*(Data!$G$2:$G$22772=$B$4)*(Data!$B$2:$B$22772=$A30)*(Data!$H$2:$H$22772=C$5)*(Data!$I$2:$I$22772))","v":1},{"$f":"SUMPRODUCT((Data!$A$2:$A$22772=$A$3)*(Data!$G$2:$G$22772=$B$4)*(Data!$B$2:$B$22772=$A30)*(Data!$H$2:$H$22772=D$5)*(Data!$I$2:$I$22772))","v":0},{"$f":"SUMPRODUCT((Data!$A$2:$A$22772=$A$3)*(Data!$G$2:$G$22772=$B$4)*(Data!$B$2:$B$22772=$A30)*(Data!$H$2:$H$22772=E$5)*(Data!$I$2:$I$22772))","v":0},{"$f":"SUMPRODUCT((Data!$A$2:$A$22772=$A$3)*(Data!$G$2:$G$22772=$B$4)*(Data!$B$2:$B$22772=$A30)*(Data!$H$2:$H$22772=F$5)*(Data!$I$2:$I$22772))","v":3},{"$f":"SUMPRODUCT((Data!$A$2:$A$22772=$A$3)*(Data!$G$2:$G$22772=$B$4)*(Data!$B$2:$B$22772=$A30)*(Data!$H$2:$H$22772=G$5)*(Data!$I$2:$I$22772))","v":15},5.8823529411764705E-2,0.18072289156626506,null,{"$f":"SUMPRODUCT((Data!$A$2:$A$22772=$A$3)*(Data!$G$2:$G$22772=$K$4)*(Data!$B$2:$B$22772=$A30)*(Data!$H$2:$H$22772=K$5)*(Data!$I$2:$I$22772))","v":66},{"$f":"SUMPRODUCT((Data!$A$2:$A$22772=$A$3)*(Data!$G$2:$G$22772=$K$4)*(Data!$B$2:$B$22772=$A30)*(Data!$H$2:$H$22772=L$5)*(Data!$I$2:$I$22772))","v":1},{"$f":"SUMPRODUCT((Data!$A$2:$A$22772=$A$3)*(Data!$G$2:$G$22772=$K$4)*(Data!$B$2:$B$22772=$A30)*(Data!$H$2:$H$22772=M$5)*(Data!$I$2:$I$22772))","v":0},{"$f":"SUMPRODUCT((Data!$A$2:$A$22772=$A$3)*(Data!$G$2:$G$22772=$K$4)*(Data!$B$2:$B$22772=$A30)*(Data!$H$2:$H$22772=N$5)*(Data!$I$2:$I$22772))","v":0},{"$f":"SUMPRODUCT((Data!$A$2:$A$22772=$A$3)*(Data!$G$2:$G$22772=$K$4)*(Data!$B$2:$B$22772=$A30)*(Data!$H$2:$H$22772=O$5)*(Data!$I$2:$I$22772))","v":4},{"$f":"SUMPRODUCT((Data!$A$2:$A$22772=$A$3)*(Data!$G$2:$G$22772=$K$4)*(Data!$B$2:$B$22772=$A30)*(Data!$H$2:$H$22772=P$5)*(Data!$I$2:$I$22772))","v":4},7.0422535211267609E-2,5.3333333333333337E-2,null,130,2,0,0,7,19,6.4748201438848921E-2,0.12025316455696203,null,{"$f":"SUMPRODUCT((Data!$A$2:$A$22772=$A$3)*(Data!$G$2:$G$22772=$AC$4)*(Data!$B$2:$B$22772=$A30)*(Data!$H$2:$H$22772=AC$5)*(Data!$I$2:$I$22772))","v":5},{"$f":"SUMPRODUCT((Data!$A$2:$A$22772=$A$3)*(Data!$G$2:$G$22772=$AC$4)*(Data!$B$2:$B$22772=$A30)*(Data!$H$2:$H$22772=AD$5)*(Data!$I$2:$I$22772))","v":0},{"$f":"SUMPRODUCT((Data!$A$2:$A$22772=$A$3)*(Data!$G$2:$G$22772=$AC$4)*(Data!$B$2:$B$22772=$A30)*(Data!$H$2:$H$22772=AE$5)*(Data!$I$2:$I$22772))","v":0},{"$f":"SUMPRODUCT((Data!$A$2:$A$22772=$A$3)*(Data!$G$2:$G$22772=$AC$4)*(Data!$B$2:$B$22772=$A30)*(Data!$H$2:$H$22772=AF$5)*(Data!$I$2:$I$22772))","v":0},{"$f":"SUMPRODUCT((Data!$A$2:$A$22772=$A$3)*(Data!$G$2:$G$22772=$AC$4)*(Data!$B$2:$B$22772=$A30)*(Data!$H$2:$H$22772=AG$5)*(Data!$I$2:$I$22772))","v":0},{"$f":"SUMPRODUCT((Data!$A$2:$A$22772=$A$3)*(Data!$G$2:$G$22772=$AC$4)*(Data!$B$2:$B$22772=$A30)*(Data!$H$2:$H$22772=AH$5)*(Data!$I$2:$I$22772))","v":0},0,0,null,{"$f":"SUMPRODUCT((Data!$A$2:$A$22772=$A$3)*(Data!$G$2:$G$22772=$AL$4)*(Data!$B$2:$B$22772=$A30)*(Data!$H$2:$H$22772=AL$5)*(Data!$I$2:$I$22772))","v":63},{"$f":"SUMPRODUCT((Data!$A$2:$A$22772=$A$3)*(Data!$G$2:$G$22772=$AL$4)*(Data!$B$2:$B$22772=$A30)*(Data!$H$2:$H$22772=AM$5)*(Data!$I$2:$I$22772))","v":0},{"$f":"SUMPRODUCT((Data!$A$2:$A$22772=$A$3)*(Data!$G$2:$G$22772=$AL$4)*(Data!$B$2:$B$22772=$A30)*(Data!$H$2:$H$22772=AN$5)*(Data!$I$2:$I$22772))","v":0},{"$f":"SUMPRODUCT((Data!$A$2:$A$22772=$A$3)*(Data!$G$2:$G$22772=$AL$4)*(Data!$B$2:$B$22772=$A30)*(Data!$H$2:$H$22772=AO$5)*(Data!$I$2:$I$22772))","v":2},{"$f":"SUMPRODUCT((Data!$A$2:$A$22772=$A$3)*(Data!$G$2:$G$22772=$AL$4)*(Data!$B$2:$B$22772=$A30)*(Data!$H$2:$H$22772=AP$5)*(Data!$I$2:$I$22772))","v":4},{"$f":"SUMPRODUCT((Data!$A$2:$A$22772=$A$3)*(Data!$G$2:$G$22772=$AL$4)*(Data!$B$2:$B$22772=$A30)*(Data!$H$2:$H$22772=AQ$5)*(Data!$I$2:$I$22772))","v":8},8.6956521739130432E-2,0.1038961038961039,null,198,2,0,2,11,27,7.0422535211267609E-2,0.1125]
["Hereford and Worcester",{"$f":"SUMPRODUCT((Data!$A$2:$A$22772=$A$3)*(Data!$G$2:$G$22772=$B$4)*(Data!$B$2:$B$22772=$A31)*(Data!$H$2:$H$22772=B$5)*(Data!$I$2:$I$22772))","v":10},{"$f":"SUMPRODUCT((Data!$A$2:$A$22772=$A$3)*(Data!$G$2:$G$22772=$B$4)*(Data!$B$2:$B$22772=$A31)*(Data!$H$2:$H$22772=C$5)*(Data!$I$2:$I$22772))","v":0},{"$f":"SUMPRODUCT((Data!$A$2:$A$22772=$A$3)*(Data!$G$2:$G$22772=$B$4)*(Data!$B$2:$B$22772=$A31)*(Data!$H$2:$H$22772=D$5)*(Data!$I$2:$I$22772))","v":0},{"$f":"SUMPRODUCT((Data!$A$2:$A$22772=$A$3)*(Data!$G$2:$G$22772=$B$4)*(Data!$B$2:$B$22772=$A31)*(Data!$H$2:$H$22772=E$5)*(Data!$I$2:$I$22772))","v":0},{"$f":"SUMPRODUCT((Data!$A$2:$A$22772=$A$3)*(Data!$G$2:$G$22772=$B$4)*(Data!$B$2:$B$22772=$A31)*(Data!$H$2:$H$22772=F$5)*(Data!$I$2:$I$22772))","v":0},{"$f":"SUMPRODUCT((Data!$A$2:$A$22772=$A$3)*(Data!$G$2:$G$22772=$B$4)*(Data!$B$2:$B$22772=$A31)*(Data!$H$2:$H$22772=G$5)*(Data!$I$2:$I$22772))","v":4},0,0.2857142857142857,null,{"$f":"SUMPRODUCT((Data!$A$2:$A$22772=$A$3)*(Data!$G$2:$G$22772=$K$4)*(Data!$B$2:$B$22772=$A31)*(Data!$H$2:$H$22772=K$5)*(Data!$I$2:$I$22772))","v":30},{"$f":"SUMPRODUCT((Data!$A$2:$A$22772=$A$3)*(Data!$G$2:$G$22772=$K$4)*(Data!$B$2:$B$22772=$A31)*(Data!$H$2:$H$22772=L$5)*(Data!$I$2:$I$22772))","v":2},{"$f":"SUMPRODUCT((Data!$A$2:$A$22772=$A$3)*(Data!$G$2:$G$22772=$K$4)*(Data!$B$2:$B$22772=$A31)*(Data!$H$2:$H$22772=M$5)*(Data!$I$2:$I$22772))","v":0},{"$f":"SUMPRODUCT((Data!$A$2:$A$22772=$A$3)*(Data!$G$2:$G$22772=$K$4)*(Data!$B$2:$B$22772=$A31)*(Data!$H$2:$H$22772=N$5)*(Data!$I$2:$I$22772))","v":0},{"$f":"SUMPRODUCT((Data!$A$2:$A$22772=$A$3)*(Data!$G$2:$G$22772=$K$4)*(Data!$B$2:$B$22772=$A31)*(Data!$H$2:$H$22772=O$5)*(Data!$I$2:$I$22772))","v":4},{"$f":"SUMPRODUCT((Data!$A$2:$A$22772=$A$3)*(Data!$G$2:$G$22772=$K$4)*(Data!$B$2:$B$22772=$A31)*(Data!$H$2:$H$22772=P$5)*(Data!$I$2:$I$22772))","v":2},0.16666666666666666,5.2631578947368418E-2,null,40,2,0,0,4,6,0.13043478260869565,0.11538461538461539,null,{"$f":"SUMPRODUCT((Data!$A$2:$A$22772=$A$3)*(Data!$G$2:$G$22772=$AC$4)*(Data!$B$2:$B$22772=$A31)*(Data!$H$2:$H$22772=AC$5)*(Data!$I$2:$I$22772))","v":4},{"$f":"SUMPRODUCT((Data!$A$2:$A$22772=$A$3)*(Data!$G$2:$G$22772=$AC$4)*(Data!$B$2:$B$22772=$A31)*(Data!$H$2:$H$22772=AD$5)*(Data!$I$2:$I$22772))","v":0},{"$f":"SUMPRODUCT((Data!$A$2:$A$22772=$A$3)*(Data!$G$2:$G$22772=$AC$4)*(Data!$B$2:$B$22772=$A31)*(Data!$H$2:$H$22772=AE$5)*(Data!$I$2:$I$22772))","v":1},{"$f":"SUMPRODUCT((Data!$A$2:$A$22772=$A$3)*(Data!$G$2:$G$22772=$AC$4)*(Data!$B$2:$B$22772=$A31)*(Data!$H$2:$H$22772=AF$5)*(Data!$I$2:$I$22772))","v":0},{"$f":"SUMPRODUCT((Data!$A$2:$A$22772=$A$3)*(Data!$G$2:$G$22772=$AC$4)*(Data!$B$2:$B$22772=$A31)*(Data!$H$2:$H$22772=AG$5)*(Data!$I$2:$I$22772))","v":0},{"$f":"SUMPRODUCT((Data!$A$2:$A$22772=$A$3)*(Data!$G$2:$G$22772=$AC$4)*(Data!$B$2:$B$22772=$A31)*(Data!$H$2:$H$22772=AH$5)*(Data!$I$2:$I$22772))","v":0},0.2,0,null,{"$f":"SUMPRODUCT((Data!$A$2:$A$22772=$A$3)*(Data!$G$2:$G$22772=$AL$4)*(Data!$B$2:$B$22772=$A31)*(Data!$H$2:$H$22772=AL$5)*(Data!$I$2:$I$22772))","v":29},{"$f":"SUMPRODUCT((Data!$A$2:$A$22772=$A$3)*(Data!$G$2:$G$22772=$AL$4)*(Data!$B$2:$B$22772=$A31)*(Data!$H$2:$H$22772=AM$5)*(Data!$I$2:$I$22772))","v":0},{"$f":"SUMPRODUCT((Data!$A$2:$A$22772=$A$3)*(Data!$G$2:$G$22772=$AL$4)*(Data!$B$2:$B$22772=$A31)*(Data!$H$2:$H$22772=AN$5)*(Data!$I$2:$I$22772))","v":0},{"$f":"SUMPRODUCT((Data!$A$2:$A$22772=$A$3)*(Data!$G$2:$G$22772=$AL$4)*(Data!$B$2:$B$22772=$A31)*(Data!$H$2:$H$22772=AO$5)*(Data!$I$2:$I$22772))","v":0},{"$f":"SUMPRODUCT((Data!$A$2:$A$22772=$A$3)*(Data!$G$2:$G$22772=$AL$4)*(Data!$B$2:$B$22772=$A31)*(Data!$H$2:$H$22772=AP$5)*(Data!$I$2:$I$22772))","v":0},{"$f":"SUMPRODUCT((Data!$A$2:$A$22772=$A$3)*(Data!$G$2:$G$22772=$AL$4)*(Data!$B$2:$B$22772=$A31)*(Data!$H$2:$H$22772=AQ$5)*(Data!$I$2:$I$22772))","v":1},0,3.3333333333333333E-2,null,73,2,1,0,4,7,8.7499999999999994E-2,8.0459770114942528E-2]
["Hertfordshire",{"$f":"SUMPRODUCT((Data!$A$2:$A$22772=$A$3)*(Data!$G$2:$G$22772=$B$4)*(Data!$B$2:$B$22772=$A32)*(Data!$H$2:$H$22772=B$5)*(Data!$I$2:$I$22772))","v":29},{"$f":"SUMPRODUCT((Data!$A$2:$A$22772=$A$3)*(Data!$G$2:$G$22772=$B$4)*(Data!$B$2:$B$22772=$A32)*(Data!$H$2:$H$22772=C$5)*(Data!$I$2:$I$22772))","v":2},{"$f":"SUMPRODUCT((Data!$A$2:$A$22772=$A$3)*(Data!$G$2:$G$22772=$B$4)*(Data!$B$2:$B$22772=$A32)*(Data!$H$2:$H$22772=D$5)*(Data!$I$2:$I$22772))","v":0},{"$f":"SUMPRODUCT((Data!$A$2:$A$22772=$A$3)*(Data!$G$2:$G$22772=$B$4)*(Data!$B$2:$B$22772=$A32)*(Data!$H$2:$H$22772=E$5)*(Data!$I$2:$I$22772))","v":0},{"$f":"SUMPRODUCT((Data!$A$2:$A$22772=$A$3)*(Data!$G$2:$G$22772=$B$4)*(Data!$B$2:$B$22772=$A32)*(Data!$H$2:$H$22772=F$5)*(Data!$I$2:$I$22772))","v":0},{"$f":"SUMPRODUCT((Data!$A$2:$A$22772=$A$3)*(Data!$G$2:$G$22772=$B$4)*(Data!$B$2:$B$22772=$A32)*(Data!$H$2:$H$22772=G$5)*(Data!$I$2:$I$22772))","v":2},6.4516129032258063E-2,6.0606060606060608E-2,null,{"$f":"SUMPRODUCT((Data!$A$2:$A$22772=$A$3)*(Data!$G$2:$G$22772=$K$4)*(Data!$B$2:$B$22772=$A32)*(Data!$H$2:$H$22772=K$5)*(Data!$I$2:$I$22772))","v":10},{"$f":"SUMPRODUCT((Data!$A$2:$A$22772=$A$3)*(Data!$G$2:$G$22772=$K$4)*(Data!$B$2:$B$22772=$A32)*(Data!$H$2:$H$22772=L$5)*(Data!$I$2:$I$22772))","v":1},{"$f":"SUMPRODUCT((Data!$A$2:$A$22772=$A$3)*(Data!$G$2:$G$22772=$K$4)*(Data!$B$2:$B$22772=$A32)*(Data!$H$2:$H$22772=M$5)*(Data!$I$2:$I$22772))","v":0},{"$f":"SUMPRODUCT((Data!$A$2:$A$22772=$A$3)*(Data!$G$2:$G$22772=$K$4)*(Data!$B$2:$B$22772=$A32)*(Data!$H$2:$H$22772=N$5)*(Data!$I$2:$I$22772))","v":0},{"$f":"SUMPRODUCT((Data!$A$2:$A$22772=$A$3)*(Data!$G$2:$G$22772=$K$4)*(Data!$B$2:$B$22772=$A32)*(Data!$H$2:$H$22772=O$5)*(Data!$I$2:$I$22772))","v":1},{"$f":"SUMPRODUCT((Data!$A$2:$A$22772=$A$3)*(Data!$G$2:$G$22772=$K$4)*(Data!$B$2:$B$22772=$A32)*(Data!$H$2:$H$22772=P$5)*(Data!$I$2:$I$22772))","v":0},0.16666666666666666,0,null,39,3,0,0,1,2,9.3023255813953487E-2,4.4444444444444446E-2,null,{"$f":"SUMPRODUCT((Data!$A$2:$A$22772=$A$3)*(Data!$G$2:$G$22772=$AC$4)*(Data!$B$2:$B$22772=$A32)*(Data!$H$2:$H$22772=AC$5)*(Data!$I$2:$I$22772))","v":6},{"$f":"SUMPRODUCT((Data!$A$2:$A$22772=$A$3)*(Data!$G$2:$G$22772=$AC$4)*(Data!$B$2:$B$22772=$A32)*(Data!$H$2:$H$22772=AD$5)*(Data!$I$2:$I$22772))","v":0},{"$f":"SUMPRODUCT((Data!$A$2:$A$22772=$A$3)*(Data!$G$2:$G$22772=$AC$4)*(Data!$B$2:$B$22772=$A32)*(Data!$H$2:$H$22772=AE$5)*(Data!$I$2:$I$22772))","v":0},{"$f":"SUMPRODUCT((Data!$A$2:$A$22772=$A$3)*(Data!$G$2:$G$22772=$AC$4)*(Data!$B$2:$B$22772=$A32)*(Data!$H$2:$H$22772=AF$5)*(Data!$I$2:$I$22772))","v":0},{"$f":"SUMPRODUCT((Data!$A$2:$A$22772=$A$3)*(Data!$G$2:$G$22772=$AC$4)*(Data!$B$2:$B$22772=$A32)*(Data!$H$2:$H$22772=AG$5)*(Data!$I$2:$I$22772))","v":0},{"$f":"SUMPRODUCT((Data!$A$2:$A$22772=$A$3)*(Data!$G$2:$G$22772=$AC$4)*(Data!$B$2:$B$22772=$A32)*(Data!$H$2:$H$22772=AH$5)*(Data!$I$2:$I$22772))","v":0},0,0,null,{"$f":"SUMPRODUCT((Data!$A$2:$A$22772=$A$3)*(Data!$G$2:$G$22772=$AL$4)*(Data!$B$2:$B$22772=$A32)*(Data!$H$2:$H$22772=AL$5)*(Data!$I$2:$I$22772))","v":21},{"$f":"SUMPRODUCT((Data!$A$2:$A$22772=$A$3)*(Data!$G$2:$G$22772=$AL$4)*(Data!$B$2:$B$22772=$A32)*(Data!$H$2:$H$22772=AM$5)*(Data!$I$2:$I$22772))","v":1},{"$f":"SUMPRODUCT((Data!$A$2:$A$22772=$A$3)*(Data!$G$2:$G$22772=$AL$4)*(Data!$B$2:$B$22772=$A32)*(Data!$H$2:$H$22772=AN$5)*(Data!$I$2:$I$22772))","v":1},{"$f":"SUMPRODUCT((Data!$A$2:$A$22772=$A$3)*(Data!$G$2:$G$22772=$AL$4)*(Data!$B$2:$B$22772=$A32)*(Data!$H$2:$H$22772=AO$5)*(Data!$I$2:$I$22772))","v":1},{"$f":"SUMPRODUCT((Data!$A$2:$A$22772=$A$3)*(Data!$G$2:$G$22772=$AL$4)*(Data!$B$2:$B$22772=$A32)*(Data!$H$2:$H$22772=AP$5)*(Data!$I$2:$I$22772))","v":0},{"$f":"SUMPRODUCT((Data!$A$2:$A$22772=$A$3)*(Data!$G$2:$G$22772=$AL$4)*(Data!$B$2:$B$22772=$A32)*(Data!$H$2:$H$22772=AQ$5)*(Data!$I$2:$I$22772))","v":0},0.125,0,null,66,4,1,1,1,2,9.5890410958904104E-2,2.6666666666666668E-2]
["Humberside",{"$f":"SUMPRODUCT((Data!$A$2:$A$22772=$A$3)*(Data!$G$2:$G$22772=$B$4)*(Data!$B$2:$B$22772=$A33)*(Data!$H$2:$H$22772=B$5)*(Data!$I$2:$I$22772))","v":37},{"$f":"SUMPRODUCT((Data!$A$2:$A$22772=$A$3)*(Data!$G$2:$G$22772=$B$4)*(Data!$B$2:$B$22772=$A33)*(Data!$H$2:$H$22772=C$5)*(Data!$I$2:$I$22772))","v":1},{"$f":"SUMPRODUCT((Data!$A$2:$A$22772=$A$3)*(Data!$G$2:$G$22772=$B$4)*(Data!$B$2:$B$22772=$A33)*(Data!$H$2:$H$22772=D$5)*(Data!$I$2:$I$22772))","v":0},{"$f":"SUMPRODUCT((Data!$A$2:$A$22772=$A$3)*(Data!$G$2:$G$22772=$B$4)*(Data!$B$2:$B$22772=$A33)*(Data!$H$2:$H$22772=E$5)*(Data!$I$2:$I$22772))","v":1},{"$f":"SUMPRODUCT((Data!$A$2:$A$22772=$A$3)*(Data!$G$2:$G$22772=$B$4)*(Data!$B$2:$B$22772=$A33)*(Data!$H$2:$H$22772=F$5)*(Data!$I$2:$I$22772))","v":1},{"$f":"SUMPRODUCT((Data!$A$2:$A$22772=$A$3)*(Data!$G$2:$G$22772=$B$4)*(Data!$B$2:$B$22772=$A33)*(Data!$H$2:$H$22772=G$5)*(Data!$I$2:$I$22772))","v":0},7.4999999999999997E-2,0,null,{"$f":"SUMPRODUCT((Data!$A$2:$A$22772=$A$3)*(Data!$G$2:$G$22772=$K$4)*(Data!$B$2:$B$22772=$A33)*(Data!$H$2:$H$22772=K$5)*(Data!$I$2:$I$22772))","v":28},{"$f":"SUMPRODUCT((Data!$A$2:$A$22772=$A$3)*(Data!$G$2:$G$22772=$K$4)*(Data!$B$2:$B$22772=$A33)*(Data!$H$2:$H$22772=L$5)*(Data!$I$2:$I$22772))","v":2},{"$f":"SUMPRODUCT((Data!$A$2:$A$22772=$A$3)*(Data!$G$2:$G$22772=$K$4)*(Data!$B$2:$B$22772=$A33)*(Data!$H$2:$H$22772=M$5)*(Data!$I$2:$I$22772))","v":0},{"$f":"SUMPRODUCT((Data!$A$2:$A$22772=$A$3)*(Data!$G$2:$G$22772=$K$4)*(Data!$B$2:$B$22772=$A33)*(Data!$H$2:$H$22772=N$5)*(Data!$I$2:$I$22772))","v":0},{"$f":"SUMPRODUCT((Data!$A$2:$A$22772=$A$3)*(Data!$G$2:$G$22772=$K$4)*(Data!$B$2:$B$22772=$A33)*(Data!$H$2:$H$22772=O$5)*(Data!$I$2:$I$22772))","v":1},{"$f":"SUMPRODUCT((Data!$A$2:$A$22772=$A$3)*(Data!$G$2:$G$22772=$K$4)*(Data!$B$2:$B$22772=$A33)*(Data!$H$2:$H$22772=P$5)*(Data!$I$2:$I$22772))","v":4},9.6774193548387094E-2,0.11428571428571428,null,65,3,0,1,2,4,8.4507042253521125E-2,5.3333333333333337E-2,null,{"$f":"SUMPRODUCT((Data!$A$2:$A$22772=$A$3)*(Data!$G$2:$G$22772=$AC$4)*(Data!$B$2:$B$22772=$A33)*(Data!$H$2:$H$22772=AC$5)*(Data!$I$2:$I$22772))","v":0},{"$f":"SUMPRODUCT((Data!$A$2:$A$22772=$A$3)*(Data!$G$2:$G$22772=$AC$4)*(Data!$B$2:$B$22772=$A33)*(Data!$H$2:$H$22772=AD$5)*(Data!$I$2:$I$22772))","v":0},{"$f":"SUMPRODUCT((Data!$A$2:$A$22772=$A$3)*(Data!$G$2:$G$22772=$AC$4)*(Data!$B$2:$B$22772=$A33)*(Data!$H$2:$H$22772=AE$5)*(Data!$I$2:$I$22772))","v":0},{"$f":"SUMPRODUCT((Data!$A$2:$A$22772=$A$3)*(Data!$G$2:$G$22772=$AC$4)*(Data!$B$2:$B$22772=$A33)*(Data!$H$2:$H$22772=AF$5)*(Data!$I$2:$I$22772))","v":0},{"$f":"SUMPRODUCT((Data!$A$2:$A$22772=$A$3)*(Data!$G$2:$G$22772=$AC$4)*(Data!$B$2:$B$22772=$A33)*(Data!$H$2:$H$22772=AG$5)*(Data!$I$2:$I$22772))","v":0},{"$f":"SUMPRODUCT((Data!$A$2:$A$22772=$A$3)*(Data!$G$2:$G$22772=$AC$4)*(Data!$B$2:$B$22772=$A33)*(Data!$H$2:$H$22772=AH$5)*(Data!$I$2:$I$22772))","v":0},"-","-",null,{"$f":"SUMPRODUCT((Data!$A$2:$A$22772=$A$3)*(Data!$G$2:$G$22772=$AL$4)*(Data!$B$2:$B$22772=$A33)*(Data!$H$2:$H$22772=AL$5)*(Data!$I$2:$I$22772))","v":17},{"$f":"SUMPRODUCT((Data!$A$2:$A$22772=$A$3)*(Data!$G$2:$G$22772=$AL$4)*(Data!$B$2:$B$22772=$A33)*(Data!$H$2:$H$22772=AM$5)*(Data!$I$2:$I$22772))","v":0},{"$f":"SUMPRODUCT((Data!$A$2:$A$22772=$A$3)*(Data!$G$2:$G$22772=$AL$4)*(Data!$B$2:$B$22772=$A33)*(Data!$H$2:$H$22772=AN$5)*(Data!$I$2:$I$22772))","v":0},{"$f":"SUMPRODUCT((Data!$A$2:$A$22772=$A$3)*(Data!$G$2:$G$22772=$AL$4)*(Data!$B$2:$B$22772=$A33)*(Data!$H$2:$H$22772=AO$5)*(Data!$I$2:$I$22772))","v":0},{"$f":"SUMPRODUCT((Data!$A$2:$A$22772=$A$3)*(Data!$G$2:$G$22772=$AL$4)*(Data!$B$2:$B$22772=$A33)*(Data!$H$2:$H$22772=AP$5)*(Data!$I$2:$I$22772))","v":0},{"$f":"SUMPRODUCT((Data!$A$2:$A$22772=$A$3)*(Data!$G$2:$G$22772=$AL$4)*(Data!$B$2:$B$22772=$A33)*(Data!$H$2:$H$22772=AQ$5)*(Data!$I$2:$I$22772))","v":0},0,0,null,82,3,0,1,2,4,6.8181818181818177E-2,4.3478260869565216E-2]
["Isles of Scilly",{"$f":"SUMPRODUCT((Data!$A$2:$A$22772=$A$3)*(Data!$G$2:$G$22772=$B$4)*(Data!$B$2:$B$22772=$A34)*(Data!$H$2:$H$22772=B$5)*(Data!$I$2:$I$22772))","v":0},{"$f":"SUMPRODUCT((Data!$A$2:$A$22772=$A$3)*(Data!$G$2:$G$22772=$B$4)*(Data!$B$2:$B$22772=$A34)*(Data!$H$2:$H$22772=C$5)*(Data!$I$2:$I$22772))","v":0},{"$f":"SUMPRODUCT((Data!$A$2:$A$22772=$A$3)*(Data!$G$2:$G$22772=$B$4)*(Data!$B$2:$B$22772=$A34)*(Data!$H$2:$H$22772=D$5)*(Data!$I$2:$I$22772))","v":0},{"$f":"SUMPRODUCT((Data!$A$2:$A$22772=$A$3)*(Data!$G$2:$G$22772=$B$4)*(Data!$B$2:$B$22772=$A34)*(Data!$H$2:$H$22772=E$5)*(Data!$I$2:$I$22772))","v":0},{"$f":"SUMPRODUCT((Data!$A$2:$A$22772=$A$3)*(Data!$G$2:$G$22772=$B$4)*(Data!$B$2:$B$22772=$A34)*(Data!$H$2:$H$22772=F$5)*(Data!$I$2:$I$22772))","v":0},{"$f":"SUMPRODUCT((Data!$A$2:$A$22772=$A$3)*(Data!$G$2:$G$22772=$B$4)*(Data!$B$2:$B$22772=$A34)*(Data!$H$2:$H$22772=G$5)*(Data!$I$2:$I$22772))","v":0},"-","-",null,{"$f":"SUMPRODUCT((Data!$A$2:$A$22772=$A$3)*(Data!$G$2:$G$22772=$K$4)*(Data!$B$2:$B$22772=$A34)*(Data!$H$2:$H$22772=K$5)*(Data!$I$2:$I$22772))","v":0},{"$f":"SUMPRODUCT((Data!$A$2:$A$22772=$A$3)*(Data!$G$2:$G$22772=$K$4)*(Data!$B$2:$B$22772=$A34)*(Data!$H$2:$H$22772=L$5)*(Data!$I$2:$I$22772))","v":0},{"$f":"SUMPRODUCT((Data!$A$2:$A$22772=$A$3)*(Data!$G$2:$G$22772=$K$4)*(Data!$B$2:$B$22772=$A34)*(Data!$H$2:$H$22772=M$5)*(Data!$I$2:$I$22772))","v":0},{"$f":"SUMPRODUCT((Data!$A$2:$A$22772=$A$3)*(Data!$G$2:$G$22772=$K$4)*(Data!$B$2:$B$22772=$A34)*(Data!$H$2:$H$22772=N$5)*(Data!$I$2:$I$22772))","v":0},{"$f":"SUMPRODUCT((Data!$A$2:$A$22772=$A$3)*(Data!$G$2:$G$22772=$K$4)*(Data!$B$2:$B$22772=$A34)*(Data!$H$2:$H$22772=O$5)*(Data!$I$2:$I$22772))","v":0},{"$f":"SUMPRODUCT((Data!$A$2:$A$22772=$A$3)*(Data!$G$2:$G$22772=$K$4)*(Data!$B$2:$B$22772=$A34)*(Data!$H$2:$H$22772=P$5)*(Data!$I$2:$I$22772))","v":0},"-","-",null,0,0,0,0,0,0,"-","-",null,{"$f":"SUMPRODUCT((Data!$A$2:$A$22772=$A$3)*(Data!$G$2:$G$22772=$AC$4)*(Data!$B$2:$B$22772=$A34)*(Data!$H$2:$H$22772=AC$5)*(Data!$I$2:$I$22772))","v":0},{"$f":"SUMPRODUCT((Data!$A$2:$A$22772=$A$3)*(Data!$G$2:$G$22772=$AC$4)*(Data!$B$2:$B$22772=$A34)*(Data!$H$2:$H$22772=AD$5)*(Data!$I$2:$I$22772))","v":0},{"$f":"SUMPRODUCT((Data!$A$2:$A$22772=$A$3)*(Data!$G$2:$G$22772=$AC$4)*(Data!$B$2:$B$22772=$A34)*(Data!$H$2:$H$22772=AE$5)*(Data!$I$2:$I$22772))","v":0},{"$f":"SUMPRODUCT((Data!$A$2:$A$22772=$A$3)*(Data!$G$2:$G$22772=$AC$4)*(Data!$B$2:$B$22772=$A34)*(Data!$H$2:$H$22772=AF$5)*(Data!$I$2:$I$22772))","v":0},{"$f":"SUMPRODUCT((Data!$A$2:$A$22772=$A$3)*(Data!$G$2:$G$22772=$AC$4)*(Data!$B$2:$B$22772=$A34)*(Data!$H$2:$H$22772=AG$5)*(Data!$I$2:$I$22772))","v":0},{"$f":"SUMPRODUCT((Data!$A$2:$A$22772=$A$3)*(Data!$G$2:$G$22772=$AC$4)*(Data!$B$2:$B$22772=$A34)*(Data!$H$2:$H$22772=AH$5)*(Data!$I$2:$I$22772))","v":0},"-","-",null,{"$f":"SUMPRODUCT((Data!$A$2:$A$22772=$A$3)*(Data!$G$2:$G$22772=$AL$4)*(Data!$B$2:$B$22772=$A34)*(Data!$H$2:$H$22772=AL$5)*(Data!$I$2:$I$22772))","v":0},{"$f":"SUMPRODUCT((Data!$A$2:$A$22772=$A$3)*(Data!$G$2:$G$22772=$AL$4)*(Data!$B$2:$B$22772=$A34)*(Data!$H$2:$H$22772=AM$5)*(Data!$I$2:$I$22772))","v":0},{"$f":"SUMPRODUCT((Data!$A$2:$A$22772=$A$3)*(Data!$G$2:$G$22772=$AL$4)*(Data!$B$2:$B$22772=$A34)*(Data!$H$2:$H$22772=AN$5)*(Data!$I$2:$I$22772))","v":0},{"$f":"SUMPRODUCT((Data!$A$2:$A$22772=$A$3)*(Data!$G$2:$G$22772=$AL$4)*(Data!$B$2:$B$22772=$A34)*(Data!$H$2:$H$22772=AO$5)*(Data!$I$2:$I$22772))","v":0},{"$f":"SUMPRODUCT((Data!$A$2:$A$22772=$A$3)*(Data!$G$2:$G$22772=$AL$4)*(Data!$B$2:$B$22772=$A34)*(Data!$H$2:$H$22772=AP$5)*(Data!$I$2:$I$22772))","v":0},{"$f":"SUMPRODUCT((Data!$A$2:$A$22772=$A$3)*(Data!$G$2:$G$22772=$AL$4)*(Data!$B$2:$B$22772=$A34)*(Data!$H$2:$H$22772=AQ$5)*(Data!$I$2:$I$22772))","v":0},"-","-",null,0,0,0,0,0,0,"-","-"]
["Kent",{"$f":"SUMPRODUCT((Data!$A$2:$A$22772=$A$3)*(Data!$G$2:$G$22772=$B$4)*(Data!$B$2:$B$22772=$A35)*(Data!$H$2:$H$22772=B$5)*(Data!$I$2:$I$22772))","v":10},{"$f":"SUMPRODUCT((Data!$A$2:$A$22772=$A$3)*(Data!$G$2:$G$22772=$B$4)*(Data!$B$2:$B$22772=$A35)*(Data!$H$2:$H$22772=C$5)*(Data!$I$2:$I$22772))","v":0},{"$f":"SUMPRODUCT((Data!$A$2:$A$22772=$A$3)*(Data!$G$2:$G$22772=$B$4)*(Data!$B$2:$B$22772=$A35)*(Data!$H$2:$H$22772=D$5)*(Data!$I$2:$I$22772))","v":0},{"$f":"SUMPRODUCT((Data!$A$2:$A$22772=$A$3)*(Data!$G$2:$G$22772=$B$4)*(Data!$B$2:$B$22772=$A35)*(Data!$H$2:$H$22772=E$5)*(Data!$I$2:$I$22772))","v":0},{"$f":"SUMPRODUCT((Data!$A$2:$A$22772=$A$3)*(Data!$G$2:$G$22772=$B$4)*(Data!$B$2:$B$22772=$A35)*(Data!$H$2:$H$22772=F$5)*(Data!$I$2:$I$22772))","v":0},{"$f":"SUMPRODUCT((Data!$A$2:$A$22772=$A$3)*(Data!$G$2:$G$22772=$B$4)*(Data!$B$2:$B$22772=$A35)*(Data!$H$2:$H$22772=G$5)*(Data!$I$2:$I$22772))","v":22},0,0.6875,null,{"$f":"SUMPRODUCT((Data!$A$2:$A$22772=$A$3)*(Data!$G$2:$G$22772=$K$4)*(Data!$B$2:$B$22772=$A35)*(Data!$H$2:$H$22772=K$5)*(Data!$I$2:$I$22772))","v":2},{"$f":"SUMPRODUCT((Data!$A$2:$A$22772=$A$3)*(Data!$G$2:$G$22772=$K$4)*(Data!$B$2:$B$22772=$A35)*(Data!$H$2:$H$22772=L$5)*(Data!$I$2:$I$22772))","v":0},{"$f":"SUMPRODUCT((Data!$A$2:$A$22772=$A$3)*(Data!$G$2:$G$22772=$K$4)*(Data!$B$2:$B$22772=$A35)*(Data!$H$2:$H$22772=M$5)*(Data!$I$2:$I$22772))","v":0},{"$f":"SUMPRODUCT((Data!$A$2:$A$22772=$A$3)*(Data!$G$2:$G$22772=$K$4)*(Data!$B$2:$B$22772=$A35)*(Data!$H$2:$H$22772=N$5)*(Data!$I$2:$I$22772))","v":0},{"$f":"SUMPRODUCT((Data!$A$2:$A$22772=$A$3)*(Data!$G$2:$G$22772=$K$4)*(Data!$B$2:$B$22772=$A35)*(Data!$H$2:$H$22772=O$5)*(Data!$I$2:$I$22772))","v":0},{"$f":"SUMPRODUCT((Data!$A$2:$A$22772=$A$3)*(Data!$G$2:$G$22772=$K$4)*(Data!$B$2:$B$22772=$A35)*(Data!$H$2:$H$22772=P$5)*(Data!$I$2:$I$22772))","v":42},0,0.95454545454545459,null,12,0,0,0,0,64,0,0.84210526315789469,null,{"$f":"SUMPRODUCT((Data!$A$2:$A$22772=$A$3)*(Data!$G$2:$G$22772=$AC$4)*(Data!$B$2:$B$22772=$A35)*(Data!$H$2:$H$22772=AC$5)*(Data!$I$2:$I$22772))","v":0},{"$f":"SUMPRODUCT((Data!$A$2:$A$22772=$A$3)*(Data!$G$2:$G$22772=$AC$4)*(Data!$B$2:$B$22772=$A35)*(Data!$H$2:$H$22772=AD$5)*(Data!$I$2:$I$22772))","v":0},{"$f":"SUMPRODUCT((Data!$A$2:$A$22772=$A$3)*(Data!$G$2:$G$22772=$AC$4)*(Data!$B$2:$B$22772=$A35)*(Data!$H$2:$H$22772=AE$5)*(Data!$I$2:$I$22772))","v":0},{"$f":"SUMPRODUCT((Data!$A$2:$A$22772=$A$3)*(Data!$G$2:$G$22772=$AC$4)*(Data!$B$2:$B$22772=$A35)*(Data!$H$2:$H$22772=AF$5)*(Data!$I$2:$I$22772))","v":0},{"$f":"SUMPRODUCT((Data!$A$2:$A$22772=$A$3)*(Data!$G$2:$G$22772=$AC$4)*(Data!$B$2:$B$22772=$A35)*(Data!$H$2:$H$22772=AG$5)*(Data!$I$2:$I$22772))","v":0},{"$f":"SUMPRODUCT((Data!$A$2:$A$22772=$A$3)*(Data!$G$2:$G$22772=$AC$4)*(Data!$B$2:$B$22772=$A35)*(Data!$H$2:$H$22772=AH$5)*(Data!$I$2:$I$22772))","v":2},"-",1,null,{"$f":"SUMPRODUCT((Data!$A$2:$A$22772=$A$3)*(Data!$G$2:$G$22772=$AL$4)*(Data!$B$2:$B$22772=$A35)*(Data!$H$2:$H$22772=AL$5)*(Data!$I$2:$I$22772))","v":6},{"$f":"SUMPRODUCT((Data!$A$2:$A$22772=$A$3)*(Data!$G$2:$G$22772=$AL$4)*(Data!$B$2:$B$22772=$A35)*(Data!$H$2:$H$22772=AM$5)*(Data!$I$2:$I$22772))","v":0},{"$f":"SUMPRODUCT((Data!$A$2:$A$22772=$A$3)*(Data!$G$2:$G$22772=$AL$4)*(Data!$B$2:$B$22772=$A35)*(Data!$H$2:$H$22772=AN$5)*(Data!$I$2:$I$22772))","v":1},{"$f":"SUMPRODUCT((Data!$A$2:$A$22772=$A$3)*(Data!$G$2:$G$22772=$AL$4)*(Data!$B$2:$B$22772=$A35)*(Data!$H$2:$H$22772=AO$5)*(Data!$I$2:$I$22772))","v":1},{"$f":"SUMPRODUCT((Data!$A$2:$A$22772=$A$3)*(Data!$G$2:$G$22772=$AL$4)*(Data!$B$2:$B$22772=$A35)*(Data!$H$2:$H$22772=AP$5)*(Data!$I$2:$I$22772))","v":1},{"$f":"SUMPRODUCT((Data!$A$2:$A$22772=$A$3)*(Data!$G$2:$G$22772=$AL$4)*(Data!$B$2:$B$22772=$A35)*(Data!$H$2:$H$22772=AQ$5)*(Data!$I$2:$I$22772))","v":38},0.33333333333333331,0.80851063829787229,null,18,0,1,1,1,104,0.14285714285714285,0.83199999999999996]
["Lancashire",{"$f":"SUMPRODUCT((Data!$A$2:$A$22772=$A$3)*(Data!$G$2:$G$22772=$B$4)*(Data!$B$2:$B$22772=$A36)*(Data!$H$2:$H$22772=B$5)*(Data!$I$2:$I$22772))","v":47},{"$f":"SUMPRODUCT((Data!$A$2:$A$22772=$A$3)*(Data!$G$2:$G$22772=$B$4)*(Data!$B$2:$B$22772=$A36)*(Data!$H$2:$H$22772=C$5)*(Data!$I$2:$I$22772))","v":0},{"$f":"SUMPRODUCT((Data!$A$2:$A$22772=$A$3)*(Data!$G$2:$G$22772=$B$4)*(Data!$B$2:$B$22772=$A36)*(Data!$H$2:$H$22772=D$5)*(Data!$I$2:$I$22772))","v":0},{"$f":"SUMPRODUCT((Data!$A$2:$A$22772=$A$3)*(Data!$G$2:$G$22772=$B$4)*(Data!$B$2:$B$22772=$A36)*(Data!$H$2:$H$22772=E$5)*(Data!$I$2:$I$22772))","v":0},{"$f":"SUMPRODUCT((Data!$A$2:$A$22772=$A$3)*(Data!$G$2:$G$22772=$B$4)*(Data!$B$2:$B$22772=$A36)*(Data!$H$2:$H$22772=F$5)*(Data!$I$2:$I$22772))","v":0},{"$f":"SUMPRODUCT((Data!$A$2:$A$22772=$A$3)*(Data!$G$2:$G$22772=$B$4)*(Data!$B$2:$B$22772=$A36)*(Data!$H$2:$H$22772=G$5)*(Data!$I$2:$I$22772))","v":2},0,4.0816326530612242E-2,null,{"$f":"SUMPRODUCT((Data!$A$2:$A$22772=$A$3)*(Data!$G$2:$G$22772=$K$4)*(Data!$B$2:$B$22772=$A36)*(Data!$H$2:$H$22772=K$5)*(Data!$I$2:$I$22772))","v":46},{"$f":"SUMPRODUCT((Data!$A$2:$A$22772=$A$3)*(Data!$G$2:$G$22772=$K$4)*(Data!$B$2:$B$22772=$A36)*(Data!$H$2:$H$22772=L$5)*(Data!$I$2:$I$22772))","v":1},{"$f":"SUMPRODUCT((Data!$A$2:$A$22772=$A$3)*(Data!$G$2:$G$22772=$K$4)*(Data!$B$2:$B$22772=$A36)*(Data!$H$2:$H$22772=M$5)*(Data!$I$2:$I$22772))","v":0},{"$f":"SUMPRODUCT((Data!$A$2:$A$22772=$A$3)*(Data!$G$2:$G$22772=$K$4)*(Data!$B$2:$B$22772=$A36)*(Data!$H$2:$H$22772=N$5)*(Data!$I$2:$I$22772))","v":1},{"$f":"SUMPRODUCT((Data!$A$2:$A$22772=$A$3)*(Data!$G$2:$G$22772=$K$4)*(Data!$B$2:$B$22772=$A36)*(Data!$H$2:$H$22772=O$5)*(Data!$I$2:$I$22772))","v":2},{"$f":"SUMPRODUCT((Data!$A$2:$A$22772=$A$3)*(Data!$G$2:$G$22772=$K$4)*(Data!$B$2:$B$22772=$A36)*(Data!$H$2:$H$22772=P$5)*(Data!$I$2:$I$22772))","v":2},0.08,3.8461538461538464E-2,null,93,1,0,1,2,4,4.1237113402061855E-2,3.9603960396039604E-2,null,{"$f":"SUMPRODUCT((Data!$A$2:$A$22772=$A$3)*(Data!$G$2:$G$22772=$AC$4)*(Data!$B$2:$B$22772=$A36)*(Data!$H$2:$H$22772=AC$5)*(Data!$I$2:$I$22772))","v":0},{"$f":"SUMPRODUCT((Data!$A$2:$A$22772=$A$3)*(Data!$G$2:$G$22772=$AC$4)*(Data!$B$2:$B$22772=$A36)*(Data!$H$2:$H$22772=AD$5)*(Data!$I$2:$I$22772))","v":0},{"$f":"SUMPRODUCT((Data!$A$2:$A$22772=$A$3)*(Data!$G$2:$G$22772=$AC$4)*(Data!$B$2:$B$22772=$A36)*(Data!$H$2:$H$22772=AE$5)*(Data!$I$2:$I$22772))","v":0},{"$f":"SUMPRODUCT((Data!$A$2:$A$22772=$A$3)*(Data!$G$2:$G$22772=$AC$4)*(Data!$B$2:$B$22772=$A36)*(Data!$H$2:$H$22772=AF$5)*(Data!$I$2:$I$22772))","v":0},{"$f":"SUMPRODUCT((Data!$A$2:$A$22772=$A$3)*(Data!$G$2:$G$22772=$AC$4)*(Data!$B$2:$B$22772=$A36)*(Data!$H$2:$H$22772=AG$5)*(Data!$I$2:$I$22772))","v":0},{"$f":"SUMPRODUCT((Data!$A$2:$A$22772=$A$3)*(Data!$G$2:$G$22772=$AC$4)*(Data!$B$2:$B$22772=$A36)*(Data!$H$2:$H$22772=AH$5)*(Data!$I$2:$I$22772))","v":0},"-","-",null,{"$f":"SUMPRODUCT((Data!$A$2:$A$22772=$A$3)*(Data!$G$2:$G$22772=$AL$4)*(Data!$B$2:$B$22772=$A36)*(Data!$H$2:$H$22772=AL$5)*(Data!$I$2:$I$22772))","v":29},{"$f":"SUMPRODUCT((Data!$A$2:$A$22772=$A$3)*(Data!$G$2:$G$22772=$AL$4)*(Data!$B$2:$B$22772=$A36)*(Data!$H$2:$H$22772=AM$5)*(Data!$I$2:$I$22772))","v":0},{"$f":"SUMPRODUCT((Data!$A$2:$A$22772=$A$3)*(Data!$G$2:$G$22772=$AL$4)*(Data!$B$2:$B$22772=$A36)*(Data!$H$2:$H$22772=AN$5)*(Data!$I$2:$I$22772))","v":0},{"$f":"SUMPRODUCT((Data!$A$2:$A$22772=$A$3)*(Data!$G$2:$G$22772=$AL$4)*(Data!$B$2:$B$22772=$A36)*(Data!$H$2:$H$22772=AO$5)*(Data!$I$2:$I$22772))","v":0},{"$f":"SUMPRODUCT((Data!$A$2:$A$22772=$A$3)*(Data!$G$2:$G$22772=$AL$4)*(Data!$B$2:$B$22772=$A36)*(Data!$H$2:$H$22772=AP$5)*(Data!$I$2:$I$22772))","v":1},{"$f":"SUMPRODUCT((Data!$A$2:$A$22772=$A$3)*(Data!$G$2:$G$22772=$AL$4)*(Data!$B$2:$B$22772=$A36)*(Data!$H$2:$H$22772=AQ$5)*(Data!$I$2:$I$22772))","v":0},3.3333333333333333E-2,0,null,122,1,0,1,3,4,3.937007874015748E-2,3.0534351145038167E-2]
["Leicestershire",{"$f":"SUMPRODUCT((Data!$A$2:$A$22772=$A$3)*(Data!$G$2:$G$22772=$B$4)*(Data!$B$2:$B$22772=$A37)*(Data!$H$2:$H$22772=B$5)*(Data!$I$2:$I$22772))","v":22},{"$f":"SUMPRODUCT((Data!$A$2:$A$22772=$A$3)*(Data!$G$2:$G$22772=$B$4)*(Data!$B$2:$B$22772=$A37)*(Data!$H$2:$H$22772=C$5)*(Data!$I$2:$I$22772))","v":1},{"$f":"SUMPRODUCT((Data!$A$2:$A$22772=$A$3)*(Data!$G$2:$G$22772=$B$4)*(Data!$B$2:$B$22772=$A37)*(Data!$H$2:$H$22772=D$5)*(Data!$I$2:$I$22772))","v":0},{"$f":"SUMPRODUCT((Data!$A$2:$A$22772=$A$3)*(Data!$G$2:$G$22772=$B$4)*(Data!$B$2:$B$22772=$A37)*(Data!$H$2:$H$22772=E$5)*(Data!$I$2:$I$22772))","v":0},{"$f":"SUMPRODUCT((Data!$A$2:$A$22772=$A$3)*(Data!$G$2:$G$22772=$B$4)*(Data!$B$2:$B$22772=$A37)*(Data!$H$2:$H$22772=F$5)*(Data!$I$2:$I$22772))","v":0},{"$f":"SUMPRODUCT((Data!$A$2:$A$22772=$A$3)*(Data!$G$2:$G$22772=$B$4)*(Data!$B$2:$B$22772=$A37)*(Data!$H$2:$H$22772=G$5)*(Data!$I$2:$I$22772))","v":0},4.3478260869565216E-2,0,null,{"$f":"SUMPRODUCT((Data!$A$2:$A$22772=$A$3)*(Data!$G$2:$G$22772=$K$4)*(Data!$B$2:$B$22772=$A37)*(Data!$H$2:$H$22772=K$5)*(Data!$I$2:$I$22772))","v":21},{"$f":"SUMPRODUCT((Data!$A$2:$A$22772=$A$3)*(Data!$G$2:$G$22772=$K$4)*(Data!$B$2:$B$22772=$A37)*(Data!$H$2:$H$22772=L$5)*(Data!$I$2:$I$22772))","v":1},{"$f":"SUMPRODUCT((Data!$A$2:$A$22772=$A$3)*(Data!$G$2:$G$22772=$K$4)*(Data!$B$2:$B$22772=$A37)*(Data!$H$2:$H$22772=M$5)*(Data!$I$2:$I$22772))","v":1},{"$f":"SUMPRODUCT((Data!$A$2:$A$22772=$A$3)*(Data!$G$2:$G$22772=$K$4)*(Data!$B$2:$B$22772=$A37)*(Data!$H$2:$H$22772=N$5)*(Data!$I$2:$I$22772))","v":0},{"$f":"SUMPRODUCT((Data!$A$2:$A$22772=$A$3)*(Data!$G$2:$G$22772=$K$4)*(Data!$B$2:$B$22772=$A37)*(Data!$H$2:$H$22772=O$5)*(Data!$I$2:$I$22772))","v":1},{"$f":"SUMPRODUCT((Data!$A$2:$A$22772=$A$3)*(Data!$G$2:$G$22772=$K$4)*(Data!$B$2:$B$22772=$A37)*(Data!$H$2:$H$22772=P$5)*(Data!$I$2:$I$22772))","v":0},0.125,0,null,43,2,1,0,1,0,8.5106382978723402E-2,0,null,{"$f":"SUMPRODUCT((Data!$A$2:$A$22772=$A$3)*(Data!$G$2:$G$22772=$AC$4)*(Data!$B$2:$B$22772=$A37)*(Data!$H$2:$H$22772=AC$5)*(Data!$I$2:$I$22772))","v":0},{"$f":"SUMPRODUCT((Data!$A$2:$A$22772=$A$3)*(Data!$G$2:$G$22772=$AC$4)*(Data!$B$2:$B$22772=$A37)*(Data!$H$2:$H$22772=AD$5)*(Data!$I$2:$I$22772))","v":0},{"$f":"SUMPRODUCT((Data!$A$2:$A$22772=$A$3)*(Data!$G$2:$G$22772=$AC$4)*(Data!$B$2:$B$22772=$A37)*(Data!$H$2:$H$22772=AE$5)*(Data!$I$2:$I$22772))","v":0},{"$f":"SUMPRODUCT((Data!$A$2:$A$22772=$A$3)*(Data!$G$2:$G$22772=$AC$4)*(Data!$B$2:$B$22772=$A37)*(Data!$H$2:$H$22772=AF$5)*(Data!$I$2:$I$22772))","v":0},{"$f":"SUMPRODUCT((Data!$A$2:$A$22772=$A$3)*(Data!$G$2:$G$22772=$AC$4)*(Data!$B$2:$B$22772=$A37)*(Data!$H$2:$H$22772=AG$5)*(Data!$I$2:$I$22772))","v":0},{"$f":"SUMPRODUCT((Data!$A$2:$A$22772=$A$3)*(Data!$G$2:$G$22772=$AC$4)*(Data!$B$2:$B$22772=$A37)*(Data!$H$2:$H$22772=AH$5)*(Data!$I$2:$I$22772))","v":0},"-","-",null,{"$f":"SUMPRODUCT((Data!$A$2:$A$22772=$A$3)*(Data!$G$2:$G$22772=$AL$4)*(Data!$B$2:$B$22772=$A37)*(Data!$H$2:$H$22772=AL$5)*(Data!$I$2:$I$22772))","v":22},{"$f":"SUMPRODUCT((Data!$A$2:$A$22772=$A$3)*(Data!$G$2:$G$22772=$AL$4)*(Data!$B$2:$B$22772=$A37)*(Data!$H$2:$H$22772=AM$5)*(Data!$I$2:$I$22772))","v":0},{"$f":"SUMPRODUCT((Data!$A$2:$A$22772=$A$3)*(Data!$G$2:$G$22772=$AL$4)*(Data!$B$2:$B$22772=$A37)*(Data!$H$2:$H$22772=AN$5)*(Data!$I$2:$I$22772))","v":1},{"$f":"SUMPRODUCT((Data!$A$2:$A$22772=$A$3)*(Data!$G$2:$G$22772=$AL$4)*(Data!$B$2:$B$22772=$A37)*(Data!$H$2:$H$22772=AO$5)*(Data!$I$2:$I$22772))","v":0},{"$f":"SUMPRODUCT((Data!$A$2:$A$22772=$A$3)*(Data!$G$2:$G$22772=$AL$4)*(Data!$B$2:$B$22772=$A37)*(Data!$H$2:$H$22772=AP$5)*(Data!$I$2:$I$22772))","v":1},{"$f":"SUMPRODUCT((Data!$A$2:$A$22772=$A$3)*(Data!$G$2:$G$22772=$AL$4)*(Data!$B$2:$B$22772=$A37)*(Data!$H$2:$H$22772=AQ$5)*(Data!$I$2:$I$22772))","v":1},8.3333333333333329E-2,0.04,null,65,2,2,0,2,1,8.4507042253521125E-2,1.3888888888888888E-2]
["Lincolnshire",{"$f":"SUMPRODUCT((Data!$A$2:$A$22772=$A$3)*(Data!$G$2:$G$22772=$B$4)*(Data!$B$2:$B$22772=$A38)*(Data!$H$2:$H$22772=B$5)*(Data!$I$2:$I$22772))","v":4},{"$f":"SUMPRODUCT((Data!$A$2:$A$22772=$A$3)*(Data!$G$2:$G$22772=$B$4)*(Data!$B$2:$B$22772=$A38)*(Data!$H$2:$H$22772=C$5)*(Data!$I$2:$I$22772))","v":0},{"$f":"SUMPRODUCT((Data!$A$2:$A$22772=$A$3)*(Data!$G$2:$G$22772=$B$4)*(Data!$B$2:$B$22772=$A38)*(Data!$H$2:$H$22772=D$5)*(Data!$I$2:$I$22772))","v":0},{"$f":"SUMPRODUCT((Data!$A$2:$A$22772=$A$3)*(Data!$G$2:$G$22772=$B$4)*(Data!$B$2:$B$22772=$A38)*(Data!$H$2:$H$22772=E$5)*(Data!$I$2:$I$22772))","v":0},{"$f":"SUMPRODUCT((Data!$A$2:$A$22772=$A$3)*(Data!$G$2:$G$22772=$B$4)*(Data!$B$2:$B$22772=$A38)*(Data!$H$2:$H$22772=F$5)*(Data!$I$2:$I$22772))","v":0},{"$f":"SUMPRODUCT((Data!$A$2:$A$22772=$A$3)*(Data!$G$2:$G$22772=$B$4)*(Data!$B$2:$B$22772=$A38)*(Data!$H$2:$H$22772=G$5)*(Data!$I$2:$I$22772))","v":0},0,0,null,{"$f":"SUMPRODUCT((Data!$A$2:$A$22772=$A$3)*(Data!$G$2:$G$22772=$K$4)*(Data!$B$2:$B$22772=$A38)*(Data!$H$2:$H$22772=K$5)*(Data!$I$2:$I$22772))","v":28},{"$f":"SUMPRODUCT((Data!$A$2:$A$22772=$A$3)*(Data!$G$2:$G$22772=$K$4)*(Data!$B$2:$B$22772=$A38)*(Data!$H$2:$H$22772=L$5)*(Data!$I$2:$I$22772))","v":0},{"$f":"SUMPRODUCT((Data!$A$2:$A$22772=$A$3)*(Data!$G$2:$G$22772=$K$4)*(Data!$B$2:$B$22772=$A38)*(Data!$H$2:$H$22772=M$5)*(Data!$I$2:$I$22772))","v":0},{"$f":"SUMPRODUCT((Data!$A$2:$A$22772=$A$3)*(Data!$G$2:$G$22772=$K$4)*(Data!$B$2:$B$22772=$A38)*(Data!$H$2:$H$22772=N$5)*(Data!$I$2:$I$22772))","v":0},{"$f":"SUMPRODUCT((Data!$A$2:$A$22772=$A$3)*(Data!$G$2:$G$22772=$K$4)*(Data!$B$2:$B$22772=$A38)*(Data!$H$2:$H$22772=O$5)*(Data!$I$2:$I$22772))","v":2},{"$f":"SUMPRODUCT((Data!$A$2:$A$22772=$A$3)*(Data!$G$2:$G$22772=$K$4)*(Data!$B$2:$B$22772=$A38)*(Data!$H$2:$H$22772=P$5)*(Data!$I$2:$I$22772))","v":0},6.6666666666666666E-2,0,null,32,0,0,0,2,0,5.8823529411764705E-2,0,null,{"$f":"SUMPRODUCT((Data!$A$2:$A$22772=$A$3)*(Data!$G$2:$G$22772=$AC$4)*(Data!$B$2:$B$22772=$A38)*(Data!$H$2:$H$22772=AC$5)*(Data!$I$2:$I$22772))","v":0},{"$f":"SUMPRODUCT((Data!$A$2:$A$22772=$A$3)*(Data!$G$2:$G$22772=$AC$4)*(Data!$B$2:$B$22772=$A38)*(Data!$H$2:$H$22772=AD$5)*(Data!$I$2:$I$22772))","v":0},{"$f":"SUMPRODUCT((Data!$A$2:$A$22772=$A$3)*(Data!$G$2:$G$22772=$AC$4)*(Data!$B$2:$B$22772=$A38)*(Data!$H$2:$H$22772=AE$5)*(Data!$I$2:$I$22772))","v":0},{"$f":"SUMPRODUCT((Data!$A$2:$A$22772=$A$3)*(Data!$G$2:$G$22772=$AC$4)*(Data!$B$2:$B$22772=$A38)*(Data!$H$2:$H$22772=AF$5)*(Data!$I$2:$I$22772))","v":0},{"$f":"SUMPRODUCT((Data!$A$2:$A$22772=$A$3)*(Data!$G$2:$G$22772=$AC$4)*(Data!$B$2:$B$22772=$A38)*(Data!$H$2:$H$22772=AG$5)*(Data!$I$2:$I$22772))","v":0},{"$f":"SUMPRODUCT((Data!$A$2:$A$22772=$A$3)*(Data!$G$2:$G$22772=$AC$4)*(Data!$B$2:$B$22772=$A38)*(Data!$H$2:$H$22772=AH$5)*(Data!$I$2:$I$22772))","v":0},"-","-",null,{"$f":"SUMPRODUCT((Data!$A$2:$A$22772=$A$3)*(Data!$G$2:$G$22772=$AL$4)*(Data!$B$2:$B$22772=$A38)*(Data!$H$2:$H$22772=AL$5)*(Data!$I$2:$I$22772))","v":3},{"$f":"SUMPRODUCT((Data!$A$2:$A$22772=$A$3)*(Data!$G$2:$G$22772=$AL$4)*(Data!$B$2:$B$22772=$A38)*(Data!$H$2:$H$22772=AM$5)*(Data!$I$2:$I$22772))","v":0},{"$f":"SUMPRODUCT((Data!$A$2:$A$22772=$A$3)*(Data!$G$2:$G$22772=$AL$4)*(Data!$B$2:$B$22772=$A38)*(Data!$H$2:$H$22772=AN$5)*(Data!$I$2:$I$22772))","v":0},{"$f":"SUMPRODUCT((Data!$A$2:$A$22772=$A$3)*(Data!$G$2:$G$22772=$AL$4)*(Data!$B$2:$B$22772=$A38)*(Data!$H$2:$H$22772=AO$5)*(Data!$I$2:$I$22772))","v":0},{"$f":"SUMPRODUCT((Data!$A$2:$A$22772=$A$3)*(Data!$G$2:$G$22772=$AL$4)*(Data!$B$2:$B$22772=$A38)*(Data!$H$2:$H$22772=AP$5)*(Data!$I$2:$I$22772))","v":0},{"$f":"SUMPRODUCT((Data!$A$2:$A$22772=$A$3)*(Data!$G$2:$G$22772=$AL$4)*(Data!$B$2:$B$22772=$A38)*(Data!$H$2:$H$22772=AQ$5)*(Data!$I$2:$I$22772))","v":0},0,0,null,35,0,0,0,2,0,5.4054054054054057E-2,0]
["Merseyside",{"$f":"SUMPRODUCT((Data!$A$2:$A$22772=$A$3)*(Data!$G$2:$G$22772=$B$4)*(Data!$B$2:$B$22772=$A39)*(Data!$H$2:$H$22772=B$5)*(Data!$I$2:$I$22772))","v":43},{"$f":"SUMPRODUCT((Data!$A$2:$A$22772=$A$3)*(Data!$G$2:$G$22772=$B$4)*(Data!$B$2:$B$22772=$A39)*(Data!$H$2:$H$22772=C$5)*(Data!$I$2:$I$22772))","v":6},{"$f":"SUMPRODUCT((Data!$A$2:$A$22772=$A$3)*(Data!$G$2:$G$22772=$B$4)*(Data!$B$2:$B$22772=$A39)*(Data!$H$2:$H$22772=D$5)*(Data!$I$2:$I$22772))","v":0},{"$f":"SUMPRODUCT((Data!$A$2:$A$22772=$A$3)*(Data!$G$2:$G$22772=$B$4)*(Data!$B$2:$B$22772=$A39)*(Data!$H$2:$H$22772=E$5)*(Data!$I$2:$I$22772))","v":1},{"$f":"SUMPRODUCT((Data!$A$2:$A$22772=$A$3)*(Data!$G$2:$G$22772=$B$4)*(Data!$B$2:$B$22772=$A39)*(Data!$H$2:$H$22772=F$5)*(Data!$I$2:$I$22772))","v":3},{"$f":"SUMPRODUCT((Data!$A$2:$A$22772=$A$3)*(Data!$G$2:$G$22772=$B$4)*(Data!$B$2:$B$22772=$A39)*(Data!$H$2:$H$22772=G$5)*(Data!$I$2:$I$22772))","v":0},0.18867924528301888,0,null,{"$f":"SUMPRODUCT((Data!$A$2:$A$22772=$A$3)*(Data!$G$2:$G$22772=$K$4)*(Data!$B$2:$B$22772=$A39)*(Data!$H$2:$H$22772=K$5)*(Data!$I$2:$I$22772))","v":14},{"$f":"SUMPRODUCT((Data!$A$2:$A$22772=$A$3)*(Data!$G$2:$G$22772=$K$4)*(Data!$B$2:$B$22772=$A39)*(Data!$H$2:$H$22772=L$5)*(Data!$I$2:$I$22772))","v":2},{"$f":"SUMPRODUCT((Data!$A$2:$A$22772=$A$3)*(Data!$G$2:$G$22772=$K$4)*(Data!$B$2:$B$22772=$A39)*(Data!$H$2:$H$22772=M$5)*(Data!$I$2:$I$22772))","v":0},{"$f":"SUMPRODUCT((Data!$A$2:$A$22772=$A$3)*(Data!$G$2:$G$22772=$K$4)*(Data!$B$2:$B$22772=$A39)*(Data!$H$2:$H$22772=N$5)*(Data!$I$2:$I$22772))","v":1},{"$f":"SUMPRODUCT((Data!$A$2:$A$22772=$A$3)*(Data!$G$2:$G$22772=$K$4)*(Data!$B$2:$B$22772=$A39)*(Data!$H$2:$H$22772=O$5)*(Data!$I$2:$I$22772))","v":2},{"$f":"SUMPRODUCT((Data!$A$2:$A$22772=$A$3)*(Data!$G$2:$G$22772=$K$4)*(Data!$B$2:$B$22772=$A39)*(Data!$H$2:$H$22772=P$5)*(Data!$I$2:$I$22772))","v":0},0.26315789473684209,0,null,57,8,0,2,5,0,0.20833333333333334,0,null,{"$f":"SUMPRODUCT((Data!$A$2:$A$22772=$A$3)*(Data!$G$2:$G$22772=$AC$4)*(Data!$B$2:$B$22772=$A39)*(Data!$H$2:$H$22772=AC$5)*(Data!$I$2:$I$22772))","v":6},{"$f":"SUMPRODUCT((Data!$A$2:$A$22772=$A$3)*(Data!$G$2:$G$22772=$AC$4)*(Data!$B$2:$B$22772=$A39)*(Data!$H$2:$H$22772=AD$5)*(Data!$I$2:$I$22772))","v":0},{"$f":"SUMPRODUCT((Data!$A$2:$A$22772=$A$3)*(Data!$G$2:$G$22772=$AC$4)*(Data!$B$2:$B$22772=$A39)*(Data!$H$2:$H$22772=AE$5)*(Data!$I$2:$I$22772))","v":0},{"$f":"SUMPRODUCT((Data!$A$2:$A$22772=$A$3)*(Data!$G$2:$G$22772=$AC$4)*(Data!$B$2:$B$22772=$A39)*(Data!$H$2:$H$22772=AF$5)*(Data!$I$2:$I$22772))","v":0},{"$f":"SUMPRODUCT((Data!$A$2:$A$22772=$A$3)*(Data!$G$2:$G$22772=$AC$4)*(Data!$B$2:$B$22772=$A39)*(Data!$H$2:$H$22772=AG$5)*(Data!$I$2:$I$22772))","v":0},{"$f":"SUMPRODUCT((Data!$A$2:$A$22772=$A$3)*(Data!$G$2:$G$22772=$AC$4)*(Data!$B$2:$B$22772=$A39)*(Data!$H$2:$H$22772=AH$5)*(Data!$I$2:$I$22772))","v":0},0,0,null,{"$f":"SUMPRODUCT((Data!$A$2:$A$22772=$A$3)*(Data!$G$2:$G$22772=$AL$4)*(Data!$B$2:$B$22772=$A39)*(Data!$H$2:$H$22772=AL$5)*(Data!$I$2:$I$22772))","v":39},{"$f":"SUMPRODUCT((Data!$A$2:$A$22772=$A$3)*(Data!$G$2:$G$22772=$AL$4)*(Data!$B$2:$B$22772=$A39)*(Data!$H$2:$H$22772=AM$5)*(Data!$I$2:$I$22772))","v":2},{"$f":"SUMPRODUCT((Data!$A$2:$A$22772=$A$3)*(Data!$G$2:$G$22772=$AL$4)*(Data!$B$2:$B$22772=$A39)*(Data!$H$2:$H$22772=AN$5)*(Data!$I$2:$I$22772))","v":0},{"$f":"SUMPRODUCT((Data!$A$2:$A$22772=$A$3)*(Data!$G$2:$G$22772=$AL$4)*(Data!$B$2:$B$22772=$A39)*(Data!$H$2:$H$22772=AO$5)*(Data!$I$2:$I$22772))","v":0},{"$f":"SUMPRODUCT((Data!$A$2:$A$22772=$A$3)*(Data!$G$2:$G$22772=$AL$4)*(Data!$B$2:$B$22772=$A39)*(Data!$H$2:$H$22772=AP$5)*(Data!$I$2:$I$22772))","v":2},{"$f":"SUMPRODUCT((Data!$A$2:$A$22772=$A$3)*(Data!$G$2:$G$22772=$AL$4)*(Data!$B$2:$B$22772=$A39)*(Data!$H$2:$H$22772=AQ$5)*(Data!$I$2:$I$22772))","v":0},9.3023255813953487E-2,0,null,102,10,0,2,7,0,0.15702479338842976,0]
["Norfolk",{"$f":"SUMPRODUCT((Data!$A$2:$A$22772=$A$3)*(Data!$G$2:$G$22772=$B$4)*(Data!$B$2:$B$22772=$A40)*(Data!$H$2:$H$22772=B$5)*(Data!$I$2:$I$22772))","v":0},{"$f":"SUMPRODUCT((Data!$A$2:$A$22772=$A$3)*(Data!$G$2:$G$22772=$B$4)*(Data!$B$2:$B$22772=$A40)*(Data!$H$2:$H$22772=C$5)*(Data!$I$2:$I$22772))","v":0},{"$f":"SUMPRODUCT((Data!$A$2:$A$22772=$A$3)*(Data!$G$2:$G$22772=$B$4)*(Data!$B$2:$B$22772=$A40)*(Data!$H$2:$H$22772=D$5)*(Data!$I$2:$I$22772))","v":0},{"$f":"SUMPRODUCT((Data!$A$2:$A$22772=$A$3)*(Data!$G$2:$G$22772=$B$4)*(Data!$B$2:$B$22772=$A40)*(Data!$H$2:$H$22772=E$5)*(Data!$I$2:$I$22772))","v":0},{"$f":"SUMPRODUCT((Data!$A$2:$A$22772=$A$3)*(Data!$G$2:$G$22772=$B$4)*(Data!$B$2:$B$22772=$A40)*(Data!$H$2:$H$22772=F$5)*(Data!$I$2:$I$22772))","v":0},{"$f":"SUMPRODUCT((Data!$A$2:$A$22772=$A$3)*(Data!$G$2:$G$22772=$B$4)*(Data!$B$2:$B$22772=$A40)*(Data!$H$2:$H$22772=G$5)*(Data!$I$2:$I$22772))","v":15},"-",1,null,{"$f":"SUMPRODUCT((Data!$A$2:$A$22772=$A$3)*(Data!$G$2:$G$22772=$K$4)*(Data!$B$2:$B$22772=$A40)*(Data!$H$2:$H$22772=K$5)*(Data!$I$2:$I$22772))","v":0},{"$f":"SUMPRODUCT((Data!$A$2:$A$22772=$A$3)*(Data!$G$2:$G$22772=$K$4)*(Data!$B$2:$B$22772=$A40)*(Data!$H$2:$H$22772=L$5)*(Data!$I$2:$I$22772))","v":0},{"$f":"SUMPRODUCT((Data!$A$2:$A$22772=$A$3)*(Data!$G$2:$G$22772=$K$4)*(Data!$B$2:$B$22772=$A40)*(Data!$H$2:$H$22772=M$5)*(Data!$I$2:$I$22772))","v":0},{"$f":"SUMPRODUCT((Data!$A$2:$A$22772=$A$3)*(Data!$G$2:$G$22772=$K$4)*(Data!$B$2:$B$22772=$A40)*(Data!$H$2:$H$22772=N$5)*(Data!$I$2:$I$22772))","v":0},{"$f":"SUMPRODUCT((Data!$A$2:$A$22772=$A$3)*(Data!$G$2:$G$22772=$K$4)*(Data!$B$2:$B$22772=$A40)*(Data!$H$2:$H$22772=O$5)*(Data!$I$2:$I$22772))","v":0},{"$f":"SUMPRODUCT((Data!$A$2:$A$22772=$A$3)*(Data!$G$2:$G$22772=$K$4)*(Data!$B$2:$B$22772=$A40)*(Data!$H$2:$H$22772=P$5)*(Data!$I$2:$I$22772))","v":33},"-",1,null,0,0,0,0,0,48,"-",1,null,{"$f":"SUMPRODUCT((Data!$A$2:$A$22772=$A$3)*(Data!$G$2:$G$22772=$AC$4)*(Data!$B$2:$B$22772=$A40)*(Data!$H$2:$H$22772=AC$5)*(Data!$I$2:$I$22772))","v":0},{"$f":"SUMPRODUCT((Data!$A$2:$A$22772=$A$3)*(Data!$G$2:$G$22772=$AC$4)*(Data!$B$2:$B$22772=$A40)*(Data!$H$2:$H$22772=AD$5)*(Data!$I$2:$I$22772))","v":0},{"$f":"SUMPRODUCT((Data!$A$2:$A$22772=$A$3)*(Data!$G$2:$G$22772=$AC$4)*(Data!$B$2:$B$22772=$A40)*(Data!$H$2:$H$22772=AE$5)*(Data!$I$2:$I$22772))","v":0},{"$f":"SUMPRODUCT((Data!$A$2:$A$22772=$A$3)*(Data!$G$2:$G$22772=$AC$4)*(Data!$B$2:$B$22772=$A40)*(Data!$H$2:$H$22772=AF$5)*(Data!$I$2:$I$22772))","v":0},{"$f":"SUMPRODUCT((Data!$A$2:$A$22772=$A$3)*(Data!$G$2:$G$22772=$AC$4)*(Data!$B$2:$B$22772=$A40)*(Data!$H$2:$H$22772=AG$5)*(Data!$I$2:$I$22772))","v":0},{"$f":"SUMPRODUCT((Data!$A$2:$A$22772=$A$3)*(Data!$G$2:$G$22772=$AC$4)*(Data!$B$2:$B$22772=$A40)*(Data!$H$2:$H$22772=AH$5)*(Data!$I$2:$I$22772))","v":1},"-",1,null,{"$f":"SUMPRODUCT((Data!$A$2:$A$22772=$A$3)*(Data!$G$2:$G$22772=$AL$4)*(Data!$B$2:$B$22772=$A40)*(Data!$H$2:$H$22772=AL$5)*(Data!$I$2:$I$22772))","v":1},{"$f":"SUMPRODUCT((Data!$A$2:$A$22772=$A$3)*(Data!$G$2:$G$22772=$AL$4)*(Data!$B$2:$B$22772=$A40)*(Data!$H$2:$H$22772=AM$5)*(Data!$I$2:$I$22772))","v":0},{"$f":"SUMPRODUCT((Data!$A$2:$A$22772=$A$3)*(Data!$G$2:$G$22772=$AL$4)*(Data!$B$2:$B$22772=$A40)*(Data!$H$2:$H$22772=AN$5)*(Data!$I$2:$I$22772))","v":0},{"$f":"SUMPRODUCT((Data!$A$2:$A$22772=$A$3)*(Data!$G$2:$G$22772=$AL$4)*(Data!$B$2:$B$22772=$A40)*(Data!$H$2:$H$22772=AO$5)*(Data!$I$2:$I$22772))","v":0},{"$f":"SUMPRODUCT((Data!$A$2:$A$22772=$A$3)*(Data!$G$2:$G$22772=$AL$4)*(Data!$B$2:$B$22772=$A40)*(Data!$H$2:$H$22772=AP$5)*(Data!$I$2:$I$22772))","v":0},{"$f":"SUMPRODUCT((Data!$A$2:$A$22772=$A$3)*(Data!$G$2:$G$22772=$AL$4)*(Data!$B$2:$B$22772=$A40)*(Data!$H$2:$H$22772=AQ$5)*(Data!$I$2:$I$22772))","v":8},0,0.88888888888888884,null,1,0,0,0,0,57,0,0.98275862068965514]
["North West Fire Control",{"$f":"SUMPRODUCT((Data!$A$2:$A$22772=$A$3)*(Data!$G$2:$G$22772=$B$4)*(Data!$B$2:$B$22772=$A41)*(Data!$H$2:$H$22772=B$5)*(Data!$I$2:$I$22772))","v":0},{"$f":"SUMPRODUCT((Data!$A$2:$A$22772=$A$3)*(Data!$G$2:$G$22772=$B$4)*(Data!$B$2:$B$22772=$A41)*(Data!$H$2:$H$22772=C$5)*(Data!$I$2:$I$22772))","v":0},{"$f":"SUMPRODUCT((Data!$A$2:$A$22772=$A$3)*(Data!$G$2:$G$22772=$B$4)*(Data!$B$2:$B$22772=$A41)*(Data!$H$2:$H$22772=D$5)*(Data!$I$2:$I$22772))","v":0},{"$f":"SUMPRODUCT((Data!$A$2:$A$22772=$A$3)*(Data!$G$2:$G$22772=$B$4)*(Data!$B$2:$B$22772=$A41)*(Data!$H$2:$H$22772=E$5)*(Data!$I$2:$I$22772))","v":0},{"$f":"SUMPRODUCT((Data!$A$2:$A$22772=$A$3)*(Data!$G$2:$G$22772=$B$4)*(Data!$B$2:$B$22772=$A41)*(Data!$H$2:$H$22772=F$5)*(Data!$I$2:$I$22772))","v":0},{"$f":"SUMPRODUCT((Data!$A$2:$A$22772=$A$3)*(Data!$G$2:$G$22772=$B$4)*(Data!$B$2:$B$22772=$A41)*(Data!$H$2:$H$22772=G$5)*(Data!$I$2:$I$22772))","v":0},"-","-",null,{"$f":"SUMPRODUCT((Data!$A$2:$A$22772=$A$3)*(Data!$G$2:$G$22772=$K$4)*(Data!$B$2:$B$22772=$A41)*(Data!$H$2:$H$22772=K$5)*(Data!$I$2:$I$22772))","v":0},{"$f":"SUMPRODUCT((Data!$A$2:$A$22772=$A$3)*(Data!$G$2:$G$22772=$K$4)*(Data!$B$2:$B$22772=$A41)*(Data!$H$2:$H$22772=L$5)*(Data!$I$2:$I$22772))","v":0},{"$f":"SUMPRODUCT((Data!$A$2:$A$22772=$A$3)*(Data!$G$2:$G$22772=$K$4)*(Data!$B$2:$B$22772=$A41)*(Data!$H$2:$H$22772=M$5)*(Data!$I$2:$I$22772))","v":0},{"$f":"SUMPRODUCT((Data!$A$2:$A$22772=$A$3)*(Data!$G$2:$G$22772=$K$4)*(Data!$B$2:$B$22772=$A41)*(Data!$H$2:$H$22772=N$5)*(Data!$I$2:$I$22772))","v":0},{"$f":"SUMPRODUCT((Data!$A$2:$A$22772=$A$3)*(Data!$G$2:$G$22772=$K$4)*(Data!$B$2:$B$22772=$A41)*(Data!$H$2:$H$22772=O$5)*(Data!$I$2:$I$22772))","v":0},{"$f":"SUMPRODUCT((Data!$A$2:$A$22772=$A$3)*(Data!$G$2:$G$22772=$K$4)*(Data!$B$2:$B$22772=$A41)*(Data!$H$2:$H$22772=P$5)*(Data!$I$2:$I$22772))","v":0},"-","-",null,0,0,0,0,0,0,"-","-",null,{"$f":"SUMPRODUCT((Data!$A$2:$A$22772=$A$3)*(Data!$G$2:$G$22772=$AC$4)*(Data!$B$2:$B$22772=$A41)*(Data!$H$2:$H$22772=AC$5)*(Data!$I$2:$I$22772))","v":0},{"$f":"SUMPRODUCT((Data!$A$2:$A$22772=$A$3)*(Data!$G$2:$G$22772=$AC$4)*(Data!$B$2:$B$22772=$A41)*(Data!$H$2:$H$22772=AD$5)*(Data!$I$2:$I$22772))","v":0},{"$f":"SUMPRODUCT((Data!$A$2:$A$22772=$A$3)*(Data!$G$2:$G$22772=$AC$4)*(Data!$B$2:$B$22772=$A41)*(Data!$H$2:$H$22772=AE$5)*(Data!$I$2:$I$22772))","v":0},{"$f":"SUMPRODUCT((Data!$A$2:$A$22772=$A$3)*(Data!$G$2:$G$22772=$AC$4)*(Data!$B$2:$B$22772=$A41)*(Data!$H$2:$H$22772=AF$5)*(Data!$I$2:$I$22772))","v":0},{"$f":"SUMPRODUCT((Data!$A$2:$A$22772=$A$3)*(Data!$G$2:$G$22772=$AC$4)*(Data!$B$2:$B$22772=$A41)*(Data!$H$2:$H$22772=AG$5)*(Data!$I$2:$I$22772))","v":0},{"$f":"SUMPRODUCT((Data!$A$2:$A$22772=$A$3)*(Data!$G$2:$G$22772=$AC$4)*(Data!$B$2:$B$22772=$A41)*(Data!$H$2:$H$22772=AH$5)*(Data!$I$2:$I$22772))","v":0},"-","-",null,{"$f":"SUMPRODUCT((Data!$A$2:$A$22772=$A$3)*(Data!$G$2:$G$22772=$AL$4)*(Data!$B$2:$B$22772=$A41)*(Data!$H$2:$H$22772=AL$5)*(Data!$I$2:$I$22772))","v":0},{"$f":"SUMPRODUCT((Data!$A$2:$A$22772=$A$3)*(Data!$G$2:$G$22772=$AL$4)*(Data!$B$2:$B$22772=$A41)*(Data!$H$2:$H$22772=AM$5)*(Data!$I$2:$I$22772))","v":0},{"$f":"SUMPRODUCT((Data!$A$2:$A$22772=$A$3)*(Data!$G$2:$G$22772=$AL$4)*(Data!$B$2:$B$22772=$A41)*(Data!$H$2:$H$22772=AN$5)*(Data!$I$2:$I$22772))","v":0},{"$f":"SUMPRODUCT((Data!$A$2:$A$22772=$A$3)*(Data!$G$2:$G$22772=$AL$4)*(Data!$B$2:$B$22772=$A41)*(Data!$H$2:$H$22772=AO$5)*(Data!$I$2:$I$22772))","v":0},{"$f":"SUMPRODUCT((Data!$A$2:$A$22772=$A$3)*(Data!$G$2:$G$22772=$AL$4)*(Data!$B$2:$B$22772=$A41)*(Data!$H$2:$H$22772=AP$5)*(Data!$I$2:$I$22772))","v":0},{"$f":"SUMPRODUCT((Data!$A$2:$A$22772=$A$3)*(Data!$G$2:$G$22772=$AL$4)*(Data!$B$2:$B$22772=$A41)*(Data!$H$2:$H$22772=AQ$5)*(Data!$I$2:$I$22772))","v":0},"-","-",null,0,0,0,0,0,0,"-","-"]
["North Yorkshire",{"$f":"SUMPRODUCT((Data!$A$2:$A$22772=$A$3)*(Data!$G$2:$G$22772=$B$4)*(Data!$B$2:$B$22772=$A42)*(Data!$H$2:$H$22772=B$5)*(Data!$I$2:$I$22772))","v":6},{"$f":"SUMPRODUCT((Data!$A$2:$A$22772=$A$3)*(Data!$G$2:$G$22772=$B$4)*(Data!$B$2:$B$22772=$A42)*(Data!$H$2:$H$22772=C$5)*(Data!$I$2:$I$22772))","v":0},{"$f":"SUMPRODUCT((Data!$A$2:$A$22772=$A$3)*(Data!$G$2:$G$22772=$B$4)*(Data!$B$2:$B$22772=$A42)*(Data!$H$2:$H$22772=D$5)*(Data!$I$2:$I$22772))","v":0},{"$f":"SUMPRODUCT((Data!$A$2:$A$22772=$A$3)*(Data!$G$2:$G$22772=$B$4)*(Data!$B$2:$B$22772=$A42)*(Data!$H$2:$H$22772=E$5)*(Data!$I$2:$I$22772))","v":0},{"$f":"SUMPRODUCT((Data!$A$2:$A$22772=$A$3)*(Data!$G$2:$G$22772=$B$4)*(Data!$B$2:$B$22772=$A42)*(Data!$H$2:$H$22772=F$5)*(Data!$I$2:$I$22772))","v":0},{"$f":"SUMPRODUCT((Data!$A$2:$A$22772=$A$3)*(Data!$G$2:$G$22772=$B$4)*(Data!$B$2:$B$22772=$A42)*(Data!$H$2:$H$22772=G$5)*(Data!$I$2:$I$22772))","v":2},0,0.25,null,{"$f":"SUMPRODUCT((Data!$A$2:$A$22772=$A$3)*(Data!$G$2:$G$22772=$K$4)*(Data!$B$2:$B$22772=$A42)*(Data!$H$2:$H$22772=K$5)*(Data!$I$2:$I$22772))","v":20},{"$f":"SUMPRODUCT((Data!$A$2:$A$22772=$A$3)*(Data!$G$2:$G$22772=$K$4)*(Data!$B$2:$B$22772=$A42)*(Data!$H$2:$H$22772=L$5)*(Data!$I$2:$I$22772))","v":0},{"$f":"SUMPRODUCT((Data!$A$2:$A$22772=$A$3)*(Data!$G$2:$G$22772=$K$4)*(Data!$B$2:$B$22772=$A42)*(Data!$H$2:$H$22772=M$5)*(Data!$I$2:$I$22772))","v":0},{"$f":"SUMPRODUCT((Data!$A$2:$A$22772=$A$3)*(Data!$G$2:$G$22772=$K$4)*(Data!$B$2:$B$22772=$A42)*(Data!$H$2:$H$22772=N$5)*(Data!$I$2:$I$22772))","v":0},{"$f":"SUMPRODUCT((Data!$A$2:$A$22772=$A$3)*(Data!$G$2:$G$22772=$K$4)*(Data!$B$2:$B$22772=$A42)*(Data!$H$2:$H$22772=O$5)*(Data!$I$2:$I$22772))","v":0},{"$f":"SUMPRODUCT((Data!$A$2:$A$22772=$A$3)*(Data!$G$2:$G$22772=$K$4)*(Data!$B$2:$B$22772=$A42)*(Data!$H$2:$H$22772=P$5)*(Data!$I$2:$I$22772))","v":5},0,0.2,null,26,0,0,0,0,7,0,0.21212121212121213,null,{"$f":"SUMPRODUCT((Data!$A$2:$A$22772=$A$3)*(Data!$G$2:$G$22772=$AC$4)*(Data!$B$2:$B$22772=$A42)*(Data!$H$2:$H$22772=AC$5)*(Data!$I$2:$I$22772))","v":0},{"$f":"SUMPRODUCT((Data!$A$2:$A$22772=$A$3)*(Data!$G$2:$G$22772=$AC$4)*(Data!$B$2:$B$22772=$A42)*(Data!$H$2:$H$22772=AD$5)*(Data!$I$2:$I$22772))","v":0},{"$f":"SUMPRODUCT((Data!$A$2:$A$22772=$A$3)*(Data!$G$2:$G$22772=$AC$4)*(Data!$B$2:$B$22772=$A42)*(Data!$H$2:$H$22772=AE$5)*(Data!$I$2:$I$22772))","v":0},{"$f":"SUMPRODUCT((Data!$A$2:$A$22772=$A$3)*(Data!$G$2:$G$22772=$AC$4)*(Data!$B$2:$B$22772=$A42)*(Data!$H$2:$H$22772=AF$5)*(Data!$I$2:$I$22772))","v":0},{"$f":"SUMPRODUCT((Data!$A$2:$A$22772=$A$3)*(Data!$G$2:$G$22772=$AC$4)*(Data!$B$2:$B$22772=$A42)*(Data!$H$2:$H$22772=AG$5)*(Data!$I$2:$I$22772))","v":0},{"$f":"SUMPRODUCT((Data!$A$2:$A$22772=$A$3)*(Data!$G$2:$G$22772=$AC$4)*(Data!$B$2:$B$22772=$A42)*(Data!$H$2:$H$22772=AH$5)*(Data!$I$2:$I$22772))","v":0},"-","-",null,{"$f":"SUMPRODUCT((Data!$A$2:$A$22772=$A$3)*(Data!$G$2:$G$22772=$AL$4)*(Data!$B$2:$B$22772=$A42)*(Data!$H$2:$H$22772=AL$5)*(Data!$I$2:$I$22772))","v":1},{"$f":"SUMPRODUCT((Data!$A$2:$A$22772=$A$3)*(Data!$G$2:$G$22772=$AL$4)*(Data!$B$2:$B$22772=$A42)*(Data!$H$2:$H$22772=AM$5)*(Data!$I$2:$I$22772))","v":0},{"$f":"SUMPRODUCT((Data!$A$2:$A$22772=$A$3)*(Data!$G$2:$G$22772=$AL$4)*(Data!$B$2:$B$22772=$A42)*(Data!$H$2:$H$22772=AN$5)*(Data!$I$2:$I$22772))","v":0},{"$f":"SUMPRODUCT((Data!$A$2:$A$22772=$A$3)*(Data!$G$2:$G$22772=$AL$4)*(Data!$B$2:$B$22772=$A42)*(Data!$H$2:$H$22772=AO$5)*(Data!$I$2:$I$22772))","v":0},{"$f":"SUMPRODUCT((Data!$A$2:$A$22772=$A$3)*(Data!$G$2:$G$22772=$AL$4)*(Data!$B$2:$B$22772=$A42)*(Data!$H$2:$H$22772=AP$5)*(Data!$I$2:$I$22772))","v":0},{"$f":"SUMPRODUCT((Data!$A$2:$A$22772=$A$3)*(Data!$G$2:$G$22772=$AL$4)*(Data!$B$2:$B$22772=$A42)*(Data!$H$2:$H$22772=AQ$5)*(Data!$I$2:$I$22772))","v":3},0,0.75,null,27,0,0,0,0,10,0,0.27027027027027029]
["Northamptonshire",{"$f":"SUMPRODUCT((Data!$A$2:$A$22772=$A$3)*(Data!$G$2:$G$22772=$B$4)*(Data!$B$2:$B$22772=$A43)*(Data!$H$2:$H$22772=B$5)*(Data!$I$2:$I$22772))","v":3},{"$f":"SUMPRODUCT((Data!$A$2:$A$22772=$A$3)*(Data!$G$2:$G$22772=$B$4)*(Data!$B$2:$B$22772=$A43)*(Data!$H$2:$H$22772=C$5)*(Data!$I$2:$I$22772))","v":0},{"$f":"SUMPRODUCT((Data!$A$2:$A$22772=$A$3)*(Data!$G$2:$G$22772=$B$4)*(Data!$B$2:$B$22772=$A43)*(Data!$H$2:$H$22772=D$5)*(Data!$I$2:$I$22772))","v":0},{"$f":"SUMPRODUCT((Data!$A$2:$A$22772=$A$3)*(Data!$G$2:$G$22772=$B$4)*(Data!$B$2:$B$22772=$A43)*(Data!$H$2:$H$22772=E$5)*(Data!$I$2:$I$22772))","v":0},{"$f":"SUMPRODUCT((Data!$A$2:$A$22772=$A$3)*(Data!$G$2:$G$22772=$B$4)*(Data!$B$2:$B$22772=$A43)*(Data!$H$2:$H$22772=F$5)*(Data!$I$2:$I$22772))","v":1},{"$f":"SUMPRODUCT((Data!$A$2:$A$22772=$A$3)*(Data!$G$2:$G$22772=$B$4)*(Data!$B$2:$B$22772=$A43)*(Data!$H$2:$H$22772=G$5)*(Data!$I$2:$I$22772))","v":16},0.25,0.8,null,{"$f":"SUMPRODUCT((Data!$A$2:$A$22772=$A$3)*(Data!$G$2:$G$22772=$K$4)*(Data!$B$2:$B$22772=$A43)*(Data!$H$2:$H$22772=K$5)*(Data!$I$2:$I$22772))","v":1},{"$f":"SUMPRODUCT((Data!$A$2:$A$22772=$A$3)*(Data!$G$2:$G$22772=$K$4)*(Data!$B$2:$B$22772=$A43)*(Data!$H$2:$H$22772=L$5)*(Data!$I$2:$I$22772))","v":0},{"$f":"SUMPRODUCT((Data!$A$2:$A$22772=$A$3)*(Data!$G$2:$G$22772=$K$4)*(Data!$B$2:$B$22772=$A43)*(Data!$H$2:$H$22772=M$5)*(Data!$I$2:$I$22772))","v":0},{"$f":"SUMPRODUCT((Data!$A$2:$A$22772=$A$3)*(Data!$G$2:$G$22772=$K$4)*(Data!$B$2:$B$22772=$A43)*(Data!$H$2:$H$22772=N$5)*(Data!$I$2:$I$22772))","v":0},{"$f":"SUMPRODUCT((Data!$A$2:$A$22772=$A$3)*(Data!$G$2:$G$22772=$K$4)*(Data!$B$2:$B$22772=$A43)*(Data!$H$2:$H$22772=O$5)*(Data!$I$2:$I$22772))","v":0},{"$f":"SUMPRODUCT((Data!$A$2:$A$22772=$A$3)*(Data!$G$2:$G$22772=$K$4)*(Data!$B$2:$B$22772=$A43)*(Data!$H$2:$H$22772=P$5)*(Data!$I$2:$I$22772))","v":30},0,0.967741935483871,null,4,0,0,0,1,46,0.2,0.90196078431372551,null,{"$f":"SUMPRODUCT((Data!$A$2:$A$22772=$A$3)*(Data!$G$2:$G$22772=$AC$4)*(Data!$B$2:$B$22772=$A43)*(Data!$H$2:$H$22772=AC$5)*(Data!$I$2:$I$22772))","v":1},{"$f":"SUMPRODUCT((Data!$A$2:$A$22772=$A$3)*(Data!$G$2:$G$22772=$AC$4)*(Data!$B$2:$B$22772=$A43)*(Data!$H$2:$H$22772=AD$5)*(Data!$I$2:$I$22772))","v":0},{"$f":"SUMPRODUCT((Data!$A$2:$A$22772=$A$3)*(Data!$G$2:$G$22772=$AC$4)*(Data!$B$2:$B$22772=$A43)*(Data!$H$2:$H$22772=AE$5)*(Data!$I$2:$I$22772))","v":0},{"$f":"SUMPRODUCT((Data!$A$2:$A$22772=$A$3)*(Data!$G$2:$G$22772=$AC$4)*(Data!$B$2:$B$22772=$A43)*(Data!$H$2:$H$22772=AF$5)*(Data!$I$2:$I$22772))","v":0},{"$f":"SUMPRODUCT((Data!$A$2:$A$22772=$A$3)*(Data!$G$2:$G$22772=$AC$4)*(Data!$B$2:$B$22772=$A43)*(Data!$H$2:$H$22772=AG$5)*(Data!$I$2:$I$22772))","v":0},{"$f":"SUMPRODUCT((Data!$A$2:$A$22772=$A$3)*(Data!$G$2:$G$22772=$AC$4)*(Data!$B$2:$B$22772=$A43)*(Data!$H$2:$H$22772=AH$5)*(Data!$I$2:$I$22772))","v":5},0,0.83333333333333337,null,{"$f":"SUMPRODUCT((Data!$A$2:$A$22772=$A$3)*(Data!$G$2:$G$22772=$AL$4)*(Data!$B$2:$B$22772=$A43)*(Data!$H$2:$H$22772=AL$5)*(Data!$I$2:$I$22772))","v":0},{"$f":"SUMPRODUCT((Data!$A$2:$A$22772=$A$3)*(Data!$G$2:$G$22772=$AL$4)*(Data!$B$2:$B$22772=$A43)*(Data!$H$2:$H$22772=AM$5)*(Data!$I$2:$I$22772))","v":0},{"$f":"SUMPRODUCT((Data!$A$2:$A$22772=$A$3)*(Data!$G$2:$G$22772=$AL$4)*(Data!$B$2:$B$22772=$A43)*(Data!$H$2:$H$22772=AN$5)*(Data!$I$2:$I$22772))","v":0},{"$f":"SUMPRODUCT((Data!$A$2:$A$22772=$A$3)*(Data!$G$2:$G$22772=$AL$4)*(Data!$B$2:$B$22772=$A43)*(Data!$H$2:$H$22772=AO$5)*(Data!$I$2:$I$22772))","v":0},{"$f":"SUMPRODUCT((Data!$A$2:$A$22772=$A$3)*(Data!$G$2:$G$22772=$AL$4)*(Data!$B$2:$B$22772=$A43)*(Data!$H$2:$H$22772=AP$5)*(Data!$I$2:$I$22772))","v":0},{"$f":"SUMPRODUCT((Data!$A$2:$A$22772=$A$3)*(Data!$G$2:$G$22772=$AL$4)*(Data!$B$2:$B$22772=$A43)*(Data!$H$2:$H$22772=AQ$5)*(Data!$I$2:$I$22772))","v":3},"-",1,null,5,0,0,0,1,54,0.16666666666666666,0.9]
["Northumberland",{"$f":"SUMPRODUCT((Data!$A$2:$A$22772=$A$3)*(Data!$G$2:$G$22772=$B$4)*(Data!$B$2:$B$22772=$A44)*(Data!$H$2:$H$22772=B$5)*(Data!$I$2:$I$22772))","v":0},{"$f":"SUMPRODUCT((Data!$A$2:$A$22772=$A$3)*(Data!$G$2:$G$22772=$B$4)*(Data!$B$2:$B$22772=$A44)*(Data!$H$2:$H$22772=C$5)*(Data!$I$2:$I$22772))","v":0},{"$f":"SUMPRODUCT((Data!$A$2:$A$22772=$A$3)*(Data!$G$2:$G$22772=$B$4)*(Data!$B$2:$B$22772=$A44)*(Data!$H$2:$H$22772=D$5)*(Data!$I$2:$I$22772))","v":0},{"$f":"SUMPRODUCT((Data!$A$2:$A$22772=$A$3)*(Data!$G$2:$G$22772=$B$4)*(Data!$B$2:$B$22772=$A44)*(Data!$H$2:$H$22772=E$5)*(Data!$I$2:$I$22772))","v":0},{"$f":"SUMPRODUCT((Data!$A$2:$A$22772=$A$3)*(Data!$G$2:$G$22772=$B$4)*(Data!$B$2:$B$22772=$A44)*(Data!$H$2:$H$22772=F$5)*(Data!$I$2:$I$22772))","v":0},{"$f":"SUMPRODUCT((Data!$A$2:$A$22772=$A$3)*(Data!$G$2:$G$22772=$B$4)*(Data!$B$2:$B$22772=$A44)*(Data!$H$2:$H$22772=G$5)*(Data!$I$2:$I$22772))","v":3},"-",1,null,{"$f":"SUMPRODUCT((Data!$A$2:$A$22772=$A$3)*(Data!$G$2:$G$22772=$K$4)*(Data!$B$2:$B$22772=$A44)*(Data!$H$2:$H$22772=K$5)*(Data!$I$2:$I$22772))","v":0},{"$f":"SUMPRODUCT((Data!$A$2:$A$22772=$A$3)*(Data!$G$2:$G$22772=$K$4)*(Data!$B$2:$B$22772=$A44)*(Data!$H$2:$H$22772=L$5)*(Data!$I$2:$I$22772))","v":0},{"$f":"SUMPRODUCT((Data!$A$2:$A$22772=$A$3)*(Data!$G$2:$G$22772=$K$4)*(Data!$B$2:$B$22772=$A44)*(Data!$H$2:$H$22772=M$5)*(Data!$I$2:$I$22772))","v":0},{"$f":"SUMPRODUCT((Data!$A$2:$A$22772=$A$3)*(Data!$G$2:$G$22772=$K$4)*(Data!$B$2:$B$22772=$A44)*(Data!$H$2:$H$22772=N$5)*(Data!$I$2:$I$22772))","v":0},{"$f":"SUMPRODUCT((Data!$A$2:$A$22772=$A$3)*(Data!$G$2:$G$22772=$K$4)*(Data!$B$2:$B$22772=$A44)*(Data!$H$2:$H$22772=O$5)*(Data!$I$2:$I$22772))","v":0},{"$f":"SUMPRODUCT((Data!$A$2:$A$22772=$A$3)*(Data!$G$2:$G$22772=$K$4)*(Data!$B$2:$B$22772=$A44)*(Data!$H$2:$H$22772=P$5)*(Data!$I$2:$I$22772))","v":23},"-",1,null,0,0,0,0,0,26,"-",1,null,{"$f":"SUMPRODUCT((Data!$A$2:$A$22772=$A$3)*(Data!$G$2:$G$22772=$AC$4)*(Data!$B$2:$B$22772=$A44)*(Data!$H$2:$H$22772=AC$5)*(Data!$I$2:$I$22772))","v":0},{"$f":"SUMPRODUCT((Data!$A$2:$A$22772=$A$3)*(Data!$G$2:$G$22772=$AC$4)*(Data!$B$2:$B$22772=$A44)*(Data!$H$2:$H$22772=AD$5)*(Data!$I$2:$I$22772))","v":0},{"$f":"SUMPRODUCT((Data!$A$2:$A$22772=$A$3)*(Data!$G$2:$G$22772=$AC$4)*(Data!$B$2:$B$22772=$A44)*(Data!$H$2:$H$22772=AE$5)*(Data!$I$2:$I$22772))","v":0},{"$f":"SUMPRODUCT((Data!$A$2:$A$22772=$A$3)*(Data!$G$2:$G$22772=$AC$4)*(Data!$B$2:$B$22772=$A44)*(Data!$H$2:$H$22772=AF$5)*(Data!$I$2:$I$22772))","v":0},{"$f":"SUMPRODUCT((Data!$A$2:$A$22772=$A$3)*(Data!$G$2:$G$22772=$AC$4)*(Data!$B$2:$B$22772=$A44)*(Data!$H$2:$H$22772=AG$5)*(Data!$I$2:$I$22772))","v":0},{"$f":"SUMPRODUCT((Data!$A$2:$A$22772=$A$3)*(Data!$G$2:$G$22772=$AC$4)*(Data!$B$2:$B$22772=$A44)*(Data!$H$2:$H$22772=AH$5)*(Data!$I$2:$I$22772))","v":0},"-","-",null,{"$f":"SUMPRODUCT((Data!$A$2:$A$22772=$A$3)*(Data!$G$2:$G$22772=$AL$4)*(Data!$B$2:$B$22772=$A44)*(Data!$H$2:$H$22772=AL$5)*(Data!$I$2:$I$22772))","v":0},{"$f":"SUMPRODUCT((Data!$A$2:$A$22772=$A$3)*(Data!$G$2:$G$22772=$AL$4)*(Data!$B$2:$B$22772=$A44)*(Data!$H$2:$H$22772=AM$5)*(Data!$I$2:$I$22772))","v":0},{"$f":"SUMPRODUCT((Data!$A$2:$A$22772=$A$3)*(Data!$G$2:$G$22772=$AL$4)*(Data!$B$2:$B$22772=$A44)*(Data!$H$2:$H$22772=AN$5)*(Data!$I$2:$I$22772))","v":0},{"$f":"SUMPRODUCT((Data!$A$2:$A$22772=$A$3)*(Data!$G$2:$G$22772=$AL$4)*(Data!$B$2:$B$22772=$A44)*(Data!$H$2:$H$22772=AO$5)*(Data!$I$2:$I$22772))","v":0},{"$f":"SUMPRODUCT((Data!$A$2:$A$22772=$A$3)*(Data!$G$2:$G$22772=$AL$4)*(Data!$B$2:$B$22772=$A44)*(Data!$H$2:$H$22772=AP$5)*(Data!$I$2:$I$22772))","v":0},{"$f":"SUMPRODUCT((Data!$A$2:$A$22772=$A$3)*(Data!$G$2:$G$22772=$AL$4)*(Data!$B$2:$B$22772=$A44)*(Data!$H$2:$H$22772=AQ$5)*(Data!$I$2:$I$22772))","v":3},"-",1,null,0,0,0,0,0,29,"-",1]
["Nottinghamshire",{"$f":"SUMPRODUCT((Data!$A$2:$A$22772=$A$3)*(Data!$G$2:$G$22772=$B$4)*(Data!$B$2:$B$22772=$A45)*(Data!$H$2:$H$22772=B$5)*(Data!$I$2:$I$22772))","v":4},{"$f":"SUMPRODUCT((Data!$A$2:$A$22772=$A$3)*(Data!$G$2:$G$22772=$B$4)*(Data!$B$2:$B$22772=$A45)*(Data!$H$2:$H$22772=C$5)*(Data!$I$2:$I$22772))","v":0},{"$f":"SUMPRODUCT((Data!$A$2:$A$22772=$A$3)*(Data!$G$2:$G$22772=$B$4)*(Data!$B$2:$B$22772=$A45)*(Data!$H$2:$H$22772=D$5)*(Data!$I$2:$I$22772))","v":0},{"$f":"SUMPRODUCT((Data!$A$2:$A$22772=$A$3)*(Data!$G$2:$G$22772=$B$4)*(Data!$B$2:$B$22772=$A45)*(Data!$H$2:$H$22772=E$5)*(Data!$I$2:$I$22772))","v":0},{"$f":"SUMPRODUCT((Data!$A$2:$A$22772=$A$3)*(Data!$G$2:$G$22772=$B$4)*(Data!$B$2:$B$22772=$A45)*(Data!$H$2:$H$22772=F$5)*(Data!$I$2:$I$22772))","v":0},{"$f":"SUMPRODUCT((Data!$A$2:$A$22772=$A$3)*(Data!$G$2:$G$22772=$B$4)*(Data!$B$2:$B$22772=$A45)*(Data!$H$2:$H$22772=G$5)*(Data!$I$2:$I$22772))","v":0},0,0,null,{"$f":"SUMPRODUCT((Data!$A$2:$A$22772=$A$3)*(Data!$G$2:$G$22772=$K$4)*(Data!$B$2:$B$22772=$A45)*(Data!$H$2:$H$22772=K$5)*(Data!$I$2:$I$22772))","v":24},{"$f":"SUMPRODUCT((Data!$A$2:$A$22772=$A$3)*(Data!$G$2:$G$22772=$K$4)*(Data!$B$2:$B$22772=$A45)*(Data!$H$2:$H$22772=L$5)*(Data!$I$2:$I$22772))","v":0},{"$f":"SUMPRODUCT((Data!$A$2:$A$22772=$A$3)*(Data!$G$2:$G$22772=$K$4)*(Data!$B$2:$B$22772=$A45)*(Data!$H$2:$H$22772=M$5)*(Data!$I$2:$I$22772))","v":0},{"$f":"SUMPRODUCT((Data!$A$2:$A$22772=$A$3)*(Data!$G$2:$G$22772=$K$4)*(Data!$B$2:$B$22772=$A45)*(Data!$H$2:$H$22772=N$5)*(Data!$I$2:$I$22772))","v":0},{"$f":"SUMPRODUCT((Data!$A$2:$A$22772=$A$3)*(Data!$G$2:$G$22772=$K$4)*(Data!$B$2:$B$22772=$A45)*(Data!$H$2:$H$22772=O$5)*(Data!$I$2:$I$22772))","v":2},{"$f":"SUMPRODUCT((Data!$A$2:$A$22772=$A$3)*(Data!$G$2:$G$22772=$K$4)*(Data!$B$2:$B$22772=$A45)*(Data!$H$2:$H$22772=P$5)*(Data!$I$2:$I$22772))","v":0},7.6923076923076927E-2,0,null,28,0,0,0,2,0,6.6666666666666666E-2,0,null,{"$f":"SUMPRODUCT((Data!$A$2:$A$22772=$A$3)*(Data!$G$2:$G$22772=$AC$4)*(Data!$B$2:$B$22772=$A45)*(Data!$H$2:$H$22772=AC$5)*(Data!$I$2:$I$22772))","v":0},{"$f":"SUMPRODUCT((Data!$A$2:$A$22772=$A$3)*(Data!$G$2:$G$22772=$AC$4)*(Data!$B$2:$B$22772=$A45)*(Data!$H$2:$H$22772=AD$5)*(Data!$I$2:$I$22772))","v":0},{"$f":"SUMPRODUCT((Data!$A$2:$A$22772=$A$3)*(Data!$G$2:$G$22772=$AC$4)*(Data!$B$2:$B$22772=$A45)*(Data!$H$2:$H$22772=AE$5)*(Data!$I$2:$I$22772))","v":0},{"$f":"SUMPRODUCT((Data!$A$2:$A$22772=$A$3)*(Data!$G$2:$G$22772=$AC$4)*(Data!$B$2:$B$22772=$A45)*(Data!$H$2:$H$22772=AF$5)*(Data!$I$2:$I$22772))","v":0},{"$f":"SUMPRODUCT((Data!$A$2:$A$22772=$A$3)*(Data!$G$2:$G$22772=$AC$4)*(Data!$B$2:$B$22772=$A45)*(Data!$H$2:$H$22772=AG$5)*(Data!$I$2:$I$22772))","v":0},{"$f":"SUMPRODUCT((Data!$A$2:$A$22772=$A$3)*(Data!$G$2:$G$22772=$AC$4)*(Data!$B$2:$B$22772=$A45)*(Data!$H$2:$H$22772=AH$5)*(Data!$I$2:$I$22772))","v":0},"-","-",null,{"$f":"SUMPRODUCT((Data!$A$2:$A$22772=$A$3)*(Data!$G$2:$G$22772=$AL$4)*(Data!$B$2:$B$22772=$A45)*(Data!$H$2:$H$22772=AL$5)*(Data!$I$2:$I$22772))","v":16},{"$f":"SUMPRODUCT((Data!$A$2:$A$22772=$A$3)*(Data!$G$2:$G$22772=$AL$4)*(Data!$B$2:$B$22772=$A45)*(Data!$H$2:$H$22772=AM$5)*(Data!$I$2:$I$22772))","v":0},{"$f":"SUMPRODUCT((Data!$A$2:$A$22772=$A$3)*(Data!$G$2:$G$22772=$AL$4)*(Data!$B$2:$B$22772=$A45)*(Data!$H$2:$H$22772=AN$5)*(Data!$I$2:$I$22772))","v":2},{"$f":"SUMPRODUCT((Data!$A$2:$A$22772=$A$3)*(Data!$G$2:$G$22772=$AL$4)*(Data!$B$2:$B$22772=$A45)*(Data!$H$2:$H$22772=AO$5)*(Data!$I$2:$I$22772))","v":0},{"$f":"SUMPRODUCT((Data!$A$2:$A$22772=$A$3)*(Data!$G$2:$G$22772=$AL$4)*(Data!$B$2:$B$22772=$A45)*(Data!$H$2:$H$22772=AP$5)*(Data!$I$2:$I$22772))","v":1},{"$f":"SUMPRODUCT((Data!$A$2:$A$22772=$A$3)*(Data!$G$2:$G$22772=$AL$4)*(Data!$B$2:$B$22772=$A45)*(Data!$H$2:$H$22772=AQ$5)*(Data!$I$2:$I$22772))","v":5},0.15789473684210525,0.20833333333333334,null,44,0,2,0,3,5,0.10204081632653061,9.2592592592592587E-2]
["Oxfordshire",{"$f":"SUMPRODUCT((Data!$A$2:$A$22772=$A$3)*(Data!$G$2:$G$22772=$B$4)*(Data!$B$2:$B$22772=$A46)*(Data!$H$2:$H$22772=B$5)*(Data!$I$2:$I$22772))","v":18},{"$f":"SUMPRODUCT((Data!$A$2:$A$22772=$A$3)*(Data!$G$2:$G$22772=$B$4)*(Data!$B$2:$B$22772=$A46)*(Data!$H$2:$H$22772=C$5)*(Data!$I$2:$I$22772))","v":0},{"$f":"SUMPRODUCT((Data!$A$2:$A$22772=$A$3)*(Data!$G$2:$G$22772=$B$4)*(Data!$B$2:$B$22772=$A46)*(Data!$H$2:$H$22772=D$5)*(Data!$I$2:$I$22772))","v":0},{"$f":"SUMPRODUCT((Data!$A$2:$A$22772=$A$3)*(Data!$G$2:$G$22772=$B$4)*(Data!$B$2:$B$22772=$A46)*(Data!$H$2:$H$22772=E$5)*(Data!$I$2:$I$22772))","v":0},{"$f":"SUMPRODUCT((Data!$A$2:$A$22772=$A$3)*(Data!$G$2:$G$22772=$B$4)*(Data!$B$2:$B$22772=$A46)*(Data!$H$2:$H$22772=F$5)*(Data!$I$2:$I$22772))","v":3},{"$f":"SUMPRODUCT((Data!$A$2:$A$22772=$A$3)*(Data!$G$2:$G$22772=$B$4)*(Data!$B$2:$B$22772=$A46)*(Data!$H$2:$H$22772=G$5)*(Data!$I$2:$I$22772))","v":3},0.14285714285714285,0.125,null,{"$f":"SUMPRODUCT((Data!$A$2:$A$22772=$A$3)*(Data!$G$2:$G$22772=$K$4)*(Data!$B$2:$B$22772=$A46)*(Data!$H$2:$H$22772=K$5)*(Data!$I$2:$I$22772))","v":42},{"$f":"SUMPRODUCT((Data!$A$2:$A$22772=$A$3)*(Data!$G$2:$G$22772=$K$4)*(Data!$B$2:$B$22772=$A46)*(Data!$H$2:$H$22772=L$5)*(Data!$I$2:$I$22772))","v":1},{"$f":"SUMPRODUCT((Data!$A$2:$A$22772=$A$3)*(Data!$G$2:$G$22772=$K$4)*(Data!$B$2:$B$22772=$A46)*(Data!$H$2:$H$22772=M$5)*(Data!$I$2:$I$22772))","v":0},{"$f":"SUMPRODUCT((Data!$A$2:$A$22772=$A$3)*(Data!$G$2:$G$22772=$K$4)*(Data!$B$2:$B$22772=$A46)*(Data!$H$2:$H$22772=N$5)*(Data!$I$2:$I$22772))","v":0},{"$f":"SUMPRODUCT((Data!$A$2:$A$22772=$A$3)*(Data!$G$2:$G$22772=$K$4)*(Data!$B$2:$B$22772=$A46)*(Data!$H$2:$H$22772=O$5)*(Data!$I$2:$I$22772))","v":5},{"$f":"SUMPRODUCT((Data!$A$2:$A$22772=$A$3)*(Data!$G$2:$G$22772=$K$4)*(Data!$B$2:$B$22772=$A46)*(Data!$H$2:$H$22772=P$5)*(Data!$I$2:$I$22772))","v":1},0.125,2.0408163265306121E-2,null,60,1,0,0,8,4,0.13043478260869565,5.4794520547945202E-2,null,{"$f":"SUMPRODUCT((Data!$A$2:$A$22772=$A$3)*(Data!$G$2:$G$22772=$AC$4)*(Data!$B$2:$B$22772=$A46)*(Data!$H$2:$H$22772=AC$5)*(Data!$I$2:$I$22772))","v":0},{"$f":"SUMPRODUCT((Data!$A$2:$A$22772=$A$3)*(Data!$G$2:$G$22772=$AC$4)*(Data!$B$2:$B$22772=$A46)*(Data!$H$2:$H$22772=AD$5)*(Data!$I$2:$I$22772))","v":0},{"$f":"SUMPRODUCT((Data!$A$2:$A$22772=$A$3)*(Data!$G$2:$G$22772=$AC$4)*(Data!$B$2:$B$22772=$A46)*(Data!$H$2:$H$22772=AE$5)*(Data!$I$2:$I$22772))","v":0},{"$f":"SUMPRODUCT((Data!$A$2:$A$22772=$A$3)*(Data!$G$2:$G$22772=$AC$4)*(Data!$B$2:$B$22772=$A46)*(Data!$H$2:$H$22772=AF$5)*(Data!$I$2:$I$22772))","v":0},{"$f":"SUMPRODUCT((Data!$A$2:$A$22772=$A$3)*(Data!$G$2:$G$22772=$AC$4)*(Data!$B$2:$B$22772=$A46)*(Data!$H$2:$H$22772=AG$5)*(Data!$I$2:$I$22772))","v":0},{"$f":"SUMPRODUCT((Data!$A$2:$A$22772=$A$3)*(Data!$G$2:$G$22772=$AC$4)*(Data!$B$2:$B$22772=$A46)*(Data!$H$2:$H$22772=AH$5)*(Data!$I$2:$I$22772))","v":0},"-","-",null,{"$f":"SUMPRODUCT((Data!$A$2:$A$22772=$A$3)*(Data!$G$2:$G$22772=$AL$4)*(Data!$B$2:$B$22772=$A46)*(Data!$H$2:$H$22772=AL$5)*(Data!$I$2:$I$22772))","v":8},{"$f":"SUMPRODUCT((Data!$A$2:$A$22772=$A$3)*(Data!$G$2:$G$22772=$AL$4)*(Data!$B$2:$B$22772=$A46)*(Data!$H$2:$H$22772=AM$5)*(Data!$I$2:$I$22772))","v":0},{"$f":"SUMPRODUCT((Data!$A$2:$A$22772=$A$3)*(Data!$G$2:$G$22772=$AL$4)*(Data!$B$2:$B$22772=$A46)*(Data!$H$2:$H$22772=AN$5)*(Data!$I$2:$I$22772))","v":0},{"$f":"SUMPRODUCT((Data!$A$2:$A$22772=$A$3)*(Data!$G$2:$G$22772=$AL$4)*(Data!$B$2:$B$22772=$A46)*(Data!$H$2:$H$22772=AO$5)*(Data!$I$2:$I$22772))","v":2},{"$f":"SUMPRODUCT((Data!$A$2:$A$22772=$A$3)*(Data!$G$2:$G$22772=$AL$4)*(Data!$B$2:$B$22772=$A46)*(Data!$H$2:$H$22772=AP$5)*(Data!$I$2:$I$22772))","v":0},{"$f":"SUMPRODUCT((Data!$A$2:$A$22772=$A$3)*(Data!$G$2:$G$22772=$AL$4)*(Data!$B$2:$B$22772=$A46)*(Data!$H$2:$H$22772=AQ$5)*(Data!$I$2:$I$22772))","v":1},0.2,9.0909090909090912E-2,null,68,1,0,2,8,5,0.13924050632911392,5.9523809523809521E-2]
["Shropshire",{"$f":"SUMPRODUCT((Data!$A$2:$A$22772=$A$3)*(Data!$G$2:$G$22772=$B$4)*(Data!$B$2:$B$22772=$A47)*(Data!$H$2:$H$22772=B$5)*(Data!$I$2:$I$22772))","v":8},{"$f":"SUMPRODUCT((Data!$A$2:$A$22772=$A$3)*(Data!$G$2:$G$22772=$B$4)*(Data!$B$2:$B$22772=$A47)*(Data!$H$2:$H$22772=C$5)*(Data!$I$2:$I$22772))","v":0},{"$f":"SUMPRODUCT((Data!$A$2:$A$22772=$A$3)*(Data!$G$2:$G$22772=$B$4)*(Data!$B$2:$B$22772=$A47)*(Data!$H$2:$H$22772=D$5)*(Data!$I$2:$I$22772))","v":0},{"$f":"SUMPRODUCT((Data!$A$2:$A$22772=$A$3)*(Data!$G$2:$G$22772=$B$4)*(Data!$B$2:$B$22772=$A47)*(Data!$H$2:$H$22772=E$5)*(Data!$I$2:$I$22772))","v":0},{"$f":"SUMPRODUCT((Data!$A$2:$A$22772=$A$3)*(Data!$G$2:$G$22772=$B$4)*(Data!$B$2:$B$22772=$A47)*(Data!$H$2:$H$22772=F$5)*(Data!$I$2:$I$22772))","v":0},{"$f":"SUMPRODUCT((Data!$A$2:$A$22772=$A$3)*(Data!$G$2:$G$22772=$B$4)*(Data!$B$2:$B$22772=$A47)*(Data!$H$2:$H$22772=G$5)*(Data!$I$2:$I$22772))","v":5},0,0.38461538461538464,null,{"$f":"SUMPRODUCT((Data!$A$2:$A$22772=$A$3)*(Data!$G$2:$G$22772=$K$4)*(Data!$B$2:$B$22772=$A47)*(Data!$H$2:$H$22772=K$5)*(Data!$I$2:$I$22772))","v":21},{"$f":"SUMPRODUCT((Data!$A$2:$A$22772=$A$3)*(Data!$G$2:$G$22772=$K$4)*(Data!$B$2:$B$22772=$A47)*(Data!$H$2:$H$22772=L$5)*(Data!$I$2:$I$22772))","v":0},{"$f":"SUMPRODUCT((Data!$A$2:$A$22772=$A$3)*(Data!$G$2:$G$22772=$K$4)*(Data!$B$2:$B$22772=$A47)*(Data!$H$2:$H$22772=M$5)*(Data!$I$2:$I$22772))","v":0},{"$f":"SUMPRODUCT((Data!$A$2:$A$22772=$A$3)*(Data!$G$2:$G$22772=$K$4)*(Data!$B$2:$B$22772=$A47)*(Data!$H$2:$H$22772=N$5)*(Data!$I$2:$I$22772))","v":0},{"$f":"SUMPRODUCT((Data!$A$2:$A$22772=$A$3)*(Data!$G$2:$G$22772=$K$4)*(Data!$B$2:$B$22772=$A47)*(Data!$H$2:$H$22772=O$5)*(Data!$I$2:$I$22772))","v":0},{"$f":"SUMPRODUCT((Data!$A$2:$A$22772=$A$3)*(Data!$G$2:$G$22772=$K$4)*(Data!$B$2:$B$22772=$A47)*(Data!$H$2:$H$22772=P$5)*(Data!$I$2:$I$22772))","v":11},0,0.34375,null,29,0,0,0,0,16,0,0.35555555555555557,null,{"$f":"SUMPRODUCT((Data!$A$2:$A$22772=$A$3)*(Data!$G$2:$G$22772=$AC$4)*(Data!$B$2:$B$22772=$A47)*(Data!$H$2:$H$22772=AC$5)*(Data!$I$2:$I$22772))","v":0},{"$f":"SUMPRODUCT((Data!$A$2:$A$22772=$A$3)*(Data!$G$2:$G$22772=$AC$4)*(Data!$B$2:$B$22772=$A47)*(Data!$H$2:$H$22772=AD$5)*(Data!$I$2:$I$22772))","v":0},{"$f":"SUMPRODUCT((Data!$A$2:$A$22772=$A$3)*(Data!$G$2:$G$22772=$AC$4)*(Data!$B$2:$B$22772=$A47)*(Data!$H$2:$H$22772=AE$5)*(Data!$I$2:$I$22772))","v":0},{"$f":"SUMPRODUCT((Data!$A$2:$A$22772=$A$3)*(Data!$G$2:$G$22772=$AC$4)*(Data!$B$2:$B$22772=$A47)*(Data!$H$2:$H$22772=AF$5)*(Data!$I$2:$I$22772))","v":0},{"$f":"SUMPRODUCT((Data!$A$2:$A$22772=$A$3)*(Data!$G$2:$G$22772=$AC$4)*(Data!$B$2:$B$22772=$A47)*(Data!$H$2:$H$22772=AG$5)*(Data!$I$2:$I$22772))","v":0},{"$f":"SUMPRODUCT((Data!$A$2:$A$22772=$A$3)*(Data!$G$2:$G$22772=$AC$4)*(Data!$B$2:$B$22772=$A47)*(Data!$H$2:$H$22772=AH$5)*(Data!$I$2:$I$22772))","v":0},"-","-",null,{"$f":"SUMPRODUCT((Data!$A$2:$A$22772=$A$3)*(Data!$G$2:$G$22772=$AL$4)*(Data!$B$2:$B$22772=$A47)*(Data!$H$2:$H$22772=AL$5)*(Data!$I$2:$I$22772))","v":6},{"$f":"SUMPRODUCT((Data!$A$2:$A$22772=$A$3)*(Data!$G$2:$G$22772=$AL$4)*(Data!$B$2:$B$22772=$A47)*(Data!$H$2:$H$22772=AM$5)*(Data!$I$2:$I$22772))","v":0},{"$f":"SUMPRODUCT((Data!$A$2:$A$22772=$A$3)*(Data!$G$2:$G$22772=$AL$4)*(Data!$B$2:$B$22772=$A47)*(Data!$H$2:$H$22772=AN$5)*(Data!$I$2:$I$22772))","v":0},{"$f":"SUMPRODUCT((Data!$A$2:$A$22772=$A$3)*(Data!$G$2:$G$22772=$AL$4)*(Data!$B$2:$B$22772=$A47)*(Data!$H$2:$H$22772=AO$5)*(Data!$I$2:$I$22772))","v":0},{"$f":"SUMPRODUCT((Data!$A$2:$A$22772=$A$3)*(Data!$G$2:$G$22772=$AL$4)*(Data!$B$2:$B$22772=$A47)*(Data!$H$2:$H$22772=AP$5)*(Data!$I$2:$I$22772))","v":0},{"$f":"SUMPRODUCT((Data!$A$2:$A$22772=$A$3)*(Data!$G$2:$G$22772=$AL$4)*(Data!$B$2:$B$22772=$A47)*(Data!$H$2:$H$22772=AQ$5)*(Data!$I$2:$I$22772))","v":2},0,0.25,null,35,0,0,0,0,18,0,0.33962264150943394]
["South Yorkshire",{"$f":"SUMPRODUCT((Data!$A$2:$A$22772=$A$3)*(Data!$G$2:$G$22772=$B$4)*(Data!$B$2:$B$22772=$A48)*(Data!$H$2:$H$22772=B$5)*(Data!$I$2:$I$22772))","v":39},{"$f":"SUMPRODUCT((Data!$A$2:$A$22772=$A$3)*(Data!$G$2:$G$22772=$B$4)*(Data!$B$2:$B$22772=$A48)*(Data!$H$2:$H$22772=C$5)*(Data!$I$2:$I$22772))","v":1},{"$f":"SUMPRODUCT((Data!$A$2:$A$22772=$A$3)*(Data!$G$2:$G$22772=$B$4)*(Data!$B$2:$B$22772=$A48)*(Data!$H$2:$H$22772=D$5)*(Data!$I$2:$I$22772))","v":0},{"$f":"SUMPRODUCT((Data!$A$2:$A$22772=$A$3)*(Data!$G$2:$G$22772=$B$4)*(Data!$B$2:$B$22772=$A48)*(Data!$H$2:$H$22772=E$5)*(Data!$I$2:$I$22772))","v":0},{"$f":"SUMPRODUCT((Data!$A$2:$A$22772=$A$3)*(Data!$G$2:$G$22772=$B$4)*(Data!$B$2:$B$22772=$A48)*(Data!$H$2:$H$22772=F$5)*(Data!$I$2:$I$22772))","v":2},{"$f":"SUMPRODUCT((Data!$A$2:$A$22772=$A$3)*(Data!$G$2:$G$22772=$B$4)*(Data!$B$2:$B$22772=$A48)*(Data!$H$2:$H$22772=G$5)*(Data!$I$2:$I$22772))","v":0},7.1428571428571425E-2,0,null,{"$f":"SUMPRODUCT((Data!$A$2:$A$22772=$A$3)*(Data!$G$2:$G$22772=$K$4)*(Data!$B$2:$B$22772=$A48)*(Data!$H$2:$H$22772=K$5)*(Data!$I$2:$I$22772))","v":12},{"$f":"SUMPRODUCT((Data!$A$2:$A$22772=$A$3)*(Data!$G$2:$G$22772=$K$4)*(Data!$B$2:$B$22772=$A48)*(Data!$H$2:$H$22772=L$5)*(Data!$I$2:$I$22772))","v":0},{"$f":"SUMPRODUCT((Data!$A$2:$A$22772=$A$3)*(Data!$G$2:$G$22772=$K$4)*(Data!$B$2:$B$22772=$A48)*(Data!$H$2:$H$22772=M$5)*(Data!$I$2:$I$22772))","v":0},{"$f":"SUMPRODUCT((Data!$A$2:$A$22772=$A$3)*(Data!$G$2:$G$22772=$K$4)*(Data!$B$2:$B$22772=$A48)*(Data!$H$2:$H$22772=N$5)*(Data!$I$2:$I$22772))","v":0},{"$f":"SUMPRODUCT((Data!$A$2:$A$22772=$A$3)*(Data!$G$2:$G$22772=$K$4)*(Data!$B$2:$B$22772=$A48)*(Data!$H$2:$H$22772=O$5)*(Data!$I$2:$I$22772))","v":1},{"$f":"SUMPRODUCT((Data!$A$2:$A$22772=$A$3)*(Data!$G$2:$G$22772=$K$4)*(Data!$B$2:$B$22772=$A48)*(Data!$H$2:$H$22772=P$5)*(Data!$I$2:$I$22772))","v":0},7.6923076923076927E-2,0,null,51,1,0,0,3,0,7.2727272727272724E-2,0,null,{"$f":"SUMPRODUCT((Data!$A$2:$A$22772=$A$3)*(Data!$G$2:$G$22772=$AC$4)*(Data!$B$2:$B$22772=$A48)*(Data!$H$2:$H$22772=AC$5)*(Data!$I$2:$I$22772))","v":0},{"$f":"SUMPRODUCT((Data!$A$2:$A$22772=$A$3)*(Data!$G$2:$G$22772=$AC$4)*(Data!$B$2:$B$22772=$A48)*(Data!$H$2:$H$22772=AD$5)*(Data!$I$2:$I$22772))","v":0},{"$f":"SUMPRODUCT((Data!$A$2:$A$22772=$A$3)*(Data!$G$2:$G$22772=$AC$4)*(Data!$B$2:$B$22772=$A48)*(Data!$H$2:$H$22772=AE$5)*(Data!$I$2:$I$22772))","v":0},{"$f":"SUMPRODUCT((Data!$A$2:$A$22772=$A$3)*(Data!$G$2:$G$22772=$AC$4)*(Data!$B$2:$B$22772=$A48)*(Data!$H$2:$H$22772=AF$5)*(Data!$I$2:$I$22772))","v":0},{"$f":"SUMPRODUCT((Data!$A$2:$A$22772=$A$3)*(Data!$G$2:$G$22772=$AC$4)*(Data!$B$2:$B$22772=$A48)*(Data!$H$2:$H$22772=AG$5)*(Data!$I$2:$I$22772))","v":0},{"$f":"SUMPRODUCT((Data!$A$2:$A$22772=$A$3)*(Data!$G$2:$G$22772=$AC$4)*(Data!$B$2:$B$22772=$A48)*(Data!$H$2:$H$22772=AH$5)*(Data!$I$2:$I$22772))","v":0},"-","-",null,{"$f":"SUMPRODUCT((Data!$A$2:$A$22772=$A$3)*(Data!$G$2:$G$22772=$AL$4)*(Data!$B$2:$B$22772=$A48)*(Data!$H$2:$H$22772=AL$5)*(Data!$I$2:$I$22772))","v":27},{"$f":"SUMPRODUCT((Data!$A$2:$A$22772=$A$3)*(Data!$G$2:$G$22772=$AL$4)*(Data!$B$2:$B$22772=$A48)*(Data!$H$2:$H$22772=AM$5)*(Data!$I$2:$I$22772))","v":0},{"$f":"SUMPRODUCT((Data!$A$2:$A$22772=$A$3)*(Data!$G$2:$G$22772=$AL$4)*(Data!$B$2:$B$22772=$A48)*(Data!$H$2:$H$22772=AN$5)*(Data!$I$2:$I$22772))","v":3},{"$f":"SUMPRODUCT((Data!$A$2:$A$22772=$A$3)*(Data!$G$2:$G$22772=$AL$4)*(Data!$B$2:$B$22772=$A48)*(Data!$H$2:$H$22772=AO$5)*(Data!$I$2:$I$22772))","v":1},{"$f":"SUMPRODUCT((Data!$A$2:$A$22772=$A$3)*(Data!$G$2:$G$22772=$AL$4)*(Data!$B$2:$B$22772=$A48)*(Data!$H$2:$H$22772=AP$5)*(Data!$I$2:$I$22772))","v":2},{"$f":"SUMPRODUCT((Data!$A$2:$A$22772=$A$3)*(Data!$G$2:$G$22772=$AL$4)*(Data!$B$2:$B$22772=$A48)*(Data!$H$2:$H$22772=AQ$5)*(Data!$I$2:$I$22772))","v":0},0.18181818181818182,0,null,78,1,3,1,5,0,0.11363636363636363,0]
["Staffordshire",{"$f":"SUMPRODUCT((Data!$A$2:$A$22772=$A$3)*(Data!$G$2:$G$22772=$B$4)*(Data!$B$2:$B$22772=$A49)*(Data!$H$2:$H$22772=B$5)*(Data!$I$2:$I$22772))","v":18},{"$f":"SUMPRODUCT((Data!$A$2:$A$22772=$A$3)*(Data!$G$2:$G$22772=$B$4)*(Data!$B$2:$B$22772=$A49)*(Data!$H$2:$H$22772=C$5)*(Data!$I$2:$I$22772))","v":0},{"$f":"SUMPRODUCT((Data!$A$2:$A$22772=$A$3)*(Data!$G$2:$G$22772=$B$4)*(Data!$B$2:$B$22772=$A49)*(Data!$H$2:$H$22772=D$5)*(Data!$I$2:$I$22772))","v":0},{"$f":"SUMPRODUCT((Data!$A$2:$A$22772=$A$3)*(Data!$G$2:$G$22772=$B$4)*(Data!$B$2:$B$22772=$A49)*(Data!$H$2:$H$22772=E$5)*(Data!$I$2:$I$22772))","v":0},{"$f":"SUMPRODUCT((Data!$A$2:$A$22772=$A$3)*(Data!$G$2:$G$22772=$B$4)*(Data!$B$2:$B$22772=$A49)*(Data!$H$2:$H$22772=F$5)*(Data!$I$2:$I$22772))","v":0},{"$f":"SUMPRODUCT((Data!$A$2:$A$22772=$A$3)*(Data!$G$2:$G$22772=$B$4)*(Data!$B$2:$B$22772=$A49)*(Data!$H$2:$H$22772=G$5)*(Data!$I$2:$I$22772))","v":0},0,0,null,{"$f":"SUMPRODUCT((Data!$A$2:$A$22772=$A$3)*(Data!$G$2:$G$22772=$K$4)*(Data!$B$2:$B$22772=$A49)*(Data!$H$2:$H$22772=K$5)*(Data!$I$2:$I$22772))","v":38},{"$f":"SUMPRODUCT((Data!$A$2:$A$22772=$A$3)*(Data!$G$2:$G$22772=$K$4)*(Data!$B$2:$B$22772=$A49)*(Data!$H$2:$H$22772=L$5)*(Data!$I$2:$I$22772))","v":0},{"$f":"SUMPRODUCT((Data!$A$2:$A$22772=$A$3)*(Data!$G$2:$G$22772=$K$4)*(Data!$B$2:$B$22772=$A49)*(Data!$H$2:$H$22772=M$5)*(Data!$I$2:$I$22772))","v":0},{"$f":"SUMPRODUCT((Data!$A$2:$A$22772=$A$3)*(Data!$G$2:$G$22772=$K$4)*(Data!$B$2:$B$22772=$A49)*(Data!$H$2:$H$22772=N$5)*(Data!$I$2:$I$22772))","v":0},{"$f":"SUMPRODUCT((Data!$A$2:$A$22772=$A$3)*(Data!$G$2:$G$22772=$K$4)*(Data!$B$2:$B$22772=$A49)*(Data!$H$2:$H$22772=O$5)*(Data!$I$2:$I$22772))","v":3},{"$f":"SUMPRODUCT((Data!$A$2:$A$22772=$A$3)*(Data!$G$2:$G$22772=$K$4)*(Data!$B$2:$B$22772=$A49)*(Data!$H$2:$H$22772=P$5)*(Data!$I$2:$I$22772))","v":0},7.3170731707317069E-2,0,null,56,0,0,0,3,0,5.0847457627118647E-2,0,null,{"$f":"SUMPRODUCT((Data!$A$2:$A$22772=$A$3)*(Data!$G$2:$G$22772=$AC$4)*(Data!$B$2:$B$22772=$A49)*(Data!$H$2:$H$22772=AC$5)*(Data!$I$2:$I$22772))","v":0},{"$f":"SUMPRODUCT((Data!$A$2:$A$22772=$A$3)*(Data!$G$2:$G$22772=$AC$4)*(Data!$B$2:$B$22772=$A49)*(Data!$H$2:$H$22772=AD$5)*(Data!$I$2:$I$22772))","v":0},{"$f":"SUMPRODUCT((Data!$A$2:$A$22772=$A$3)*(Data!$G$2:$G$22772=$AC$4)*(Data!$B$2:$B$22772=$A49)*(Data!$H$2:$H$22772=AE$5)*(Data!$I$2:$I$22772))","v":0},{"$f":"SUMPRODUCT((Data!$A$2:$A$22772=$A$3)*(Data!$G$2:$G$22772=$AC$4)*(Data!$B$2:$B$22772=$A49)*(Data!$H$2:$H$22772=AF$5)*(Data!$I$2:$I$22772))","v":0},{"$f":"SUMPRODUCT((Data!$A$2:$A$22772=$A$3)*(Data!$G$2:$G$22772=$AC$4)*(Data!$B$2:$B$22772=$A49)*(Data!$H$2:$H$22772=AG$5)*(Data!$I$2:$I$22772))","v":0},{"$f":"SUMPRODUCT((Data!$A$2:$A$22772=$A$3)*(Data!$G$2:$G$22772=$AC$4)*(Data!$B$2:$B$22772=$A49)*(Data!$H$2:$H$22772=AH$5)*(Data!$I$2:$I$22772))","v":0},"-","-",null,{"$f":"SUMPRODUCT((Data!$A$2:$A$22772=$A$3)*(Data!$G$2:$G$22772=$AL$4)*(Data!$B$2:$B$22772=$A49)*(Data!$H$2:$H$22772=AL$5)*(Data!$I$2:$I$22772))","v":27},{"$f":"SUMPRODUCT((Data!$A$2:$A$22772=$A$3)*(Data!$G$2:$G$22772=$AL$4)*(Data!$B$2:$B$22772=$A49)*(Data!$H$2:$H$22772=AM$5)*(Data!$I$2:$I$22772))","v":0},{"$f":"SUMPRODUCT((Data!$A$2:$A$22772=$A$3)*(Data!$G$2:$G$22772=$AL$4)*(Data!$B$2:$B$22772=$A49)*(Data!$H$2:$H$22772=AN$5)*(Data!$I$2:$I$22772))","v":0},{"$f":"SUMPRODUCT((Data!$A$2:$A$22772=$A$3)*(Data!$G$2:$G$22772=$AL$4)*(Data!$B$2:$B$22772=$A49)*(Data!$H$2:$H$22772=AO$5)*(Data!$I$2:$I$22772))","v":0},{"$f":"SUMPRODUCT((Data!$A$2:$A$22772=$A$3)*(Data!$G$2:$G$22772=$AL$4)*(Data!$B$2:$B$22772=$A49)*(Data!$H$2:$H$22772=AP$5)*(Data!$I$2:$I$22772))","v":1},{"$f":"SUMPRODUCT((Data!$A$2:$A$22772=$A$3)*(Data!$G$2:$G$22772=$AL$4)*(Data!$B$2:$B$22772=$A49)*(Data!$H$2:$H$22772=AQ$5)*(Data!$I$2:$I$22772))","v":0},3.5714285714285712E-2,0,null,83,0,0,0,4,0,4.5977011494252873E-2,0]
["Suffolk",{"$f":"SUMPRODUCT((Data!$A$2:$A$22772=$A$3)*(Data!$G$2:$G$22772=$B$4)*(Data!$B$2:$B$22772=$A50)*(Data!$H$2:$H$22772=B$5)*(Data!$I$2:$I$22772))","v":2},{"$f":"SUMPRODUCT((Data!$A$2:$A$22772=$A$3)*(Data!$G$2:$G$22772=$B$4)*(Data!$B$2:$B$22772=$A50)*(Data!$H$2:$H$22772=C$5)*(Data!$I$2:$I$22772))","v":0},{"$f":"SUMPRODUCT((Data!$A$2:$A$22772=$A$3)*(Data!$G$2:$G$22772=$B$4)*(Data!$B$2:$B$22772=$A50)*(Data!$H$2:$H$22772=D$5)*(Data!$I$2:$I$22772))","v":0},{"$f":"SUMPRODUCT((Data!$A$2:$A$22772=$A$3)*(Data!$G$2:$G$22772=$B$4)*(Data!$B$2:$B$22772=$A50)*(Data!$H$2:$H$22772=E$5)*(Data!$I$2:$I$22772))","v":0},{"$f":"SUMPRODUCT((Data!$A$2:$A$22772=$A$3)*(Data!$G$2:$G$22772=$B$4)*(Data!$B$2:$B$22772=$A50)*(Data!$H$2:$H$22772=F$5)*(Data!$I$2:$I$22772))","v":0},{"$f":"SUMPRODUCT((Data!$A$2:$A$22772=$A$3)*(Data!$G$2:$G$22772=$B$4)*(Data!$B$2:$B$22772=$A50)*(Data!$H$2:$H$22772=G$5)*(Data!$I$2:$I$22772))","v":7},0,0.77777777777777779,null,{"$f":"SUMPRODUCT((Data!$A$2:$A$22772=$A$3)*(Data!$G$2:$G$22772=$K$4)*(Data!$B$2:$B$22772=$A50)*(Data!$H$2:$H$22772=K$5)*(Data!$I$2:$I$22772))","v":3},{"$f":"SUMPRODUCT((Data!$A$2:$A$22772=$A$3)*(Data!$G$2:$G$22772=$K$4)*(Data!$B$2:$B$22772=$A50)*(Data!$H$2:$H$22772=L$5)*(Data!$I$2:$I$22772))","v":0},{"$f":"SUMPRODUCT((Data!$A$2:$A$22772=$A$3)*(Data!$G$2:$G$22772=$K$4)*(Data!$B$2:$B$22772=$A50)*(Data!$H$2:$H$22772=M$5)*(Data!$I$2:$I$22772))","v":0},{"$f":"SUMPRODUCT((Data!$A$2:$A$22772=$A$3)*(Data!$G$2:$G$22772=$K$4)*(Data!$B$2:$B$22772=$A50)*(Data!$H$2:$H$22772=N$5)*(Data!$I$2:$I$22772))","v":0},{"$f":"SUMPRODUCT((Data!$A$2:$A$22772=$A$3)*(Data!$G$2:$G$22772=$K$4)*(Data!$B$2:$B$22772=$A50)*(Data!$H$2:$H$22772=O$5)*(Data!$I$2:$I$22772))","v":0},{"$f":"SUMPRODUCT((Data!$A$2:$A$22772=$A$3)*(Data!$G$2:$G$22772=$K$4)*(Data!$B$2:$B$22772=$A50)*(Data!$H$2:$H$22772=P$5)*(Data!$I$2:$I$22772))","v":40},0,0.93023255813953487,null,5,0,0,0,0,47,0,0.90384615384615385,null,{"$f":"SUMPRODUCT((Data!$A$2:$A$22772=$A$3)*(Data!$G$2:$G$22772=$AC$4)*(Data!$B$2:$B$22772=$A50)*(Data!$H$2:$H$22772=AC$5)*(Data!$I$2:$I$22772))","v":0},{"$f":"SUMPRODUCT((Data!$A$2:$A$22772=$A$3)*(Data!$G$2:$G$22772=$AC$4)*(Data!$B$2:$B$22772=$A50)*(Data!$H$2:$H$22772=AD$5)*(Data!$I$2:$I$22772))","v":0},{"$f":"SUMPRODUCT((Data!$A$2:$A$22772=$A$3)*(Data!$G$2:$G$22772=$AC$4)*(Data!$B$2:$B$22772=$A50)*(Data!$H$2:$H$22772=AE$5)*(Data!$I$2:$I$22772))","v":0},{"$f":"SUMPRODUCT((Data!$A$2:$A$22772=$A$3)*(Data!$G$2:$G$22772=$AC$4)*(Data!$B$2:$B$22772=$A50)*(Data!$H$2:$H$22772=AF$5)*(Data!$I$2:$I$22772))","v":0},{"$f":"SUMPRODUCT((Data!$A$2:$A$22772=$A$3)*(Data!$G$2:$G$22772=$AC$4)*(Data!$B$2:$B$22772=$A50)*(Data!$H$2:$H$22772=AG$5)*(Data!$I$2:$I$22772))","v":0},{"$f":"SUMPRODUCT((Data!$A$2:$A$22772=$A$3)*(Data!$G$2:$G$22772=$AC$4)*(Data!$B$2:$B$22772=$A50)*(Data!$H$2:$H$22772=AH$5)*(Data!$I$2:$I$22772))","v":0},"-","-",null,{"$f":"SUMPRODUCT((Data!$A$2:$A$22772=$A$3)*(Data!$G$2:$G$22772=$AL$4)*(Data!$B$2:$B$22772=$A50)*(Data!$H$2:$H$22772=AL$5)*(Data!$I$2:$I$22772))","v":13},{"$f":"SUMPRODUCT((Data!$A$2:$A$22772=$A$3)*(Data!$G$2:$G$22772=$AL$4)*(Data!$B$2:$B$22772=$A50)*(Data!$H$2:$H$22772=AM$5)*(Data!$I$2:$I$22772))","v":0},{"$f":"SUMPRODUCT((Data!$A$2:$A$22772=$A$3)*(Data!$G$2:$G$22772=$AL$4)*(Data!$B$2:$B$22772=$A50)*(Data!$H$2:$H$22772=AN$5)*(Data!$I$2:$I$22772))","v":0},{"$f":"SUMPRODUCT((Data!$A$2:$A$22772=$A$3)*(Data!$G$2:$G$22772=$AL$4)*(Data!$B$2:$B$22772=$A50)*(Data!$H$2:$H$22772=AO$5)*(Data!$I$2:$I$22772))","v":0},{"$f":"SUMPRODUCT((Data!$A$2:$A$22772=$A$3)*(Data!$G$2:$G$22772=$AL$4)*(Data!$B$2:$B$22772=$A50)*(Data!$H$2:$H$22772=AP$5)*(Data!$I$2:$I$22772))","v":1},{"$f":"SUMPRODUCT((Data!$A$2:$A$22772=$A$3)*(Data!$G$2:$G$22772=$AL$4)*(Data!$B$2:$B$22772=$A50)*(Data!$H$2:$H$22772=AQ$5)*(Data!$I$2:$I$22772))","v":5},7.1428571428571425E-2,0.26315789473684209,null,18,0,0,0,1,52,5.2631578947368418E-2,0.73239436619718312]
["Surrey",{"$f":"SUMPRODUCT((Data!$A$2:$A$22772=$A$3)*(Data!$G$2:$G$22772=$B$4)*(Data!$B$2:$B$22772=$A51)*(Data!$H$2:$H$22772=B$5)*(Data!$I$2:$I$22772))","v":91},{"$f":"SUMPRODUCT((Data!$A$2:$A$22772=$A$3)*(Data!$G$2:$G$22772=$B$4)*(Data!$B$2:$B$22772=$A51)*(Data!$H$2:$H$22772=C$5)*(Data!$I$2:$I$22772))","v":0},{"$f":"SUMPRODUCT((Data!$A$2:$A$22772=$A$3)*(Data!$G$2:$G$22772=$B$4)*(Data!$B$2:$B$22772=$A51)*(Data!$H$2:$H$22772=D$5)*(Data!$I$2:$I$22772))","v":0},{"$f":"SUMPRODUCT((Data!$A$2:$A$22772=$A$3)*(Data!$G$2:$G$22772=$B$4)*(Data!$B$2:$B$22772=$A51)*(Data!$H$2:$H$22772=E$5)*(Data!$I$2:$I$22772))","v":1},{"$f":"SUMPRODUCT((Data!$A$2:$A$22772=$A$3)*(Data!$G$2:$G$22772=$B$4)*(Data!$B$2:$B$22772=$A51)*(Data!$H$2:$H$22772=F$5)*(Data!$I$2:$I$22772))","v":3},{"$f":"SUMPRODUCT((Data!$A$2:$A$22772=$A$3)*(Data!$G$2:$G$22772=$B$4)*(Data!$B$2:$B$22772=$A51)*(Data!$H$2:$H$22772=G$5)*(Data!$I$2:$I$22772))","v":0},4.2105263157894736E-2,0,null,{"$f":"SUMPRODUCT((Data!$A$2:$A$22772=$A$3)*(Data!$G$2:$G$22772=$K$4)*(Data!$B$2:$B$22772=$A51)*(Data!$H$2:$H$22772=K$5)*(Data!$I$2:$I$22772))","v":2},{"$f":"SUMPRODUCT((Data!$A$2:$A$22772=$A$3)*(Data!$G$2:$G$22772=$K$4)*(Data!$B$2:$B$22772=$A51)*(Data!$H$2:$H$22772=L$5)*(Data!$I$2:$I$22772))","v":0},{"$f":"SUMPRODUCT((Data!$A$2:$A$22772=$A$3)*(Data!$G$2:$G$22772=$K$4)*(Data!$B$2:$B$22772=$A51)*(Data!$H$2:$H$22772=M$5)*(Data!$I$2:$I$22772))","v":0},{"$f":"SUMPRODUCT((Data!$A$2:$A$22772=$A$3)*(Data!$G$2:$G$22772=$K$4)*(Data!$B$2:$B$22772=$A51)*(Data!$H$2:$H$22772=N$5)*(Data!$I$2:$I$22772))","v":0},{"$f":"SUMPRODUCT((Data!$A$2:$A$22772=$A$3)*(Data!$G$2:$G$22772=$K$4)*(Data!$B$2:$B$22772=$A51)*(Data!$H$2:$H$22772=O$5)*(Data!$I$2:$I$22772))","v":0},{"$f":"SUMPRODUCT((Data!$A$2:$A$22772=$A$3)*(Data!$G$2:$G$22772=$K$4)*(Data!$B$2:$B$22772=$A51)*(Data!$H$2:$H$22772=P$5)*(Data!$I$2:$I$22772))","v":0},0,0,null,93,0,0,1,3,0,4.1237113402061855E-2,0,null,{"$f":"SUMPRODUCT((Data!$A$2:$A$22772=$A$3)*(Data!$G$2:$G$22772=$AC$4)*(Data!$B$2:$B$22772=$A51)*(Data!$H$2:$H$22772=AC$5)*(Data!$I$2:$I$22772))","v":8},{"$f":"SUMPRODUCT((Data!$A$2:$A$22772=$A$3)*(Data!$G$2:$G$22772=$AC$4)*(Data!$B$2:$B$22772=$A51)*(Data!$H$2:$H$22772=AD$5)*(Data!$I$2:$I$22772))","v":0},{"$f":"SUMPRODUCT((Data!$A$2:$A$22772=$A$3)*(Data!$G$2:$G$22772=$AC$4)*(Data!$B$2:$B$22772=$A51)*(Data!$H$2:$H$22772=AE$5)*(Data!$I$2:$I$22772))","v":0},{"$f":"SUMPRODUCT((Data!$A$2:$A$22772=$A$3)*(Data!$G$2:$G$22772=$AC$4)*(Data!$B$2:$B$22772=$A51)*(Data!$H$2:$H$22772=AF$5)*(Data!$I$2:$I$22772))","v":0},{"$f":"SUMPRODUCT((Data!$A$2:$A$22772=$A$3)*(Data!$G$2:$G$22772=$AC$4)*(Data!$B$2:$B$22772=$A51)*(Data!$H$2:$H$22772=AG$5)*(Data!$I$2:$I$22772))","v":1},{"$f":"SUMPRODUCT((Data!$A$2:$A$22772=$A$3)*(Data!$G$2:$G$22772=$AC$4)*(Data!$B$2:$B$22772=$A51)*(Data!$H$2:$H$22772=AH$5)*(Data!$I$2:$I$22772))","v":0},0.1111111111111111,0,null,{"$f":"SUMPRODUCT((Data!$A$2:$A$22772=$A$3)*(Data!$G$2:$G$22772=$AL$4)*(Data!$B$2:$B$22772=$A51)*(Data!$H$2:$H$22772=AL$5)*(Data!$I$2:$I$22772))","v":13},{"$f":"SUMPRODUCT((Data!$A$2:$A$22772=$A$3)*(Data!$G$2:$G$22772=$AL$4)*(Data!$B$2:$B$22772=$A51)*(Data!$H$2:$H$22772=AM$5)*(Data!$I$2:$I$22772))","v":0},{"$f":"SUMPRODUCT((Data!$A$2:$A$22772=$A$3)*(Data!$G$2:$G$22772=$AL$4)*(Data!$B$2:$B$22772=$A51)*(Data!$H$2:$H$22772=AN$5)*(Data!$I$2:$I$22772))","v":2},{"$f":"SUMPRODUCT((Data!$A$2:$A$22772=$A$3)*(Data!$G$2:$G$22772=$AL$4)*(Data!$B$2:$B$22772=$A51)*(Data!$H$2:$H$22772=AO$5)*(Data!$I$2:$I$22772))","v":1},{"$f":"SUMPRODUCT((Data!$A$2:$A$22772=$A$3)*(Data!$G$2:$G$22772=$AL$4)*(Data!$B$2:$B$22772=$A51)*(Data!$H$2:$H$22772=AP$5)*(Data!$I$2:$I$22772))","v":2},{"$f":"SUMPRODUCT((Data!$A$2:$A$22772=$A$3)*(Data!$G$2:$G$22772=$AL$4)*(Data!$B$2:$B$22772=$A51)*(Data!$H$2:$H$22772=AQ$5)*(Data!$I$2:$I$22772))","v":6},0.27777777777777779,0.25,null,114,0,2,2,6,6,8.0645161290322578E-2,4.6153846153846156E-2]
["Tyne and Wear",{"$f":"SUMPRODUCT((Data!$A$2:$A$22772=$A$3)*(Data!$G$2:$G$22772=$B$4)*(Data!$B$2:$B$22772=$A52)*(Data!$H$2:$H$22772=B$5)*(Data!$I$2:$I$22772))","v":54},{"$f":"SUMPRODUCT((Data!$A$2:$A$22772=$A$3)*(Data!$G$2:$G$22772=$B$4)*(Data!$B$2:$B$22772=$A52)*(Data!$H$2:$H$22772=C$5)*(Data!$I$2:$I$22772))","v":1},{"$f":"SUMPRODUCT((Data!$A$2:$A$22772=$A$3)*(Data!$G$2:$G$22772=$B$4)*(Data!$B$2:$B$22772=$A52)*(Data!$H$2:$H$22772=D$5)*(Data!$I$2:$I$22772))","v":0},{"$f":"SUMPRODUCT((Data!$A$2:$A$22772=$A$3)*(Data!$G$2:$G$22772=$B$4)*(Data!$B$2:$B$22772=$A52)*(Data!$H$2:$H$22772=E$5)*(Data!$I$2:$I$22772))","v":0},{"$f":"SUMPRODUCT((Data!$A$2:$A$22772=$A$3)*(Data!$G$2:$G$22772=$B$4)*(Data!$B$2:$B$22772=$A52)*(Data!$H$2:$H$22772=F$5)*(Data!$I$2:$I$22772))","v":2},{"$f":"SUMPRODUCT((Data!$A$2:$A$22772=$A$3)*(Data!$G$2:$G$22772=$B$4)*(Data!$B$2:$B$22772=$A52)*(Data!$H$2:$H$22772=G$5)*(Data!$I$2:$I$22772))","v":3},5.2631578947368418E-2,0.05,null,{"$f":"SUMPRODUCT((Data!$A$2:$A$22772=$A$3)*(Data!$G$2:$G$22772=$K$4)*(Data!$B$2:$B$22772=$A52)*(Data!$H$2:$H$22772=K$5)*(Data!$I$2:$I$22772))","v":1},{"$f":"SUMPRODUCT((Data!$A$2:$A$22772=$A$3)*(Data!$G$2:$G$22772=$K$4)*(Data!$B$2:$B$22772=$A52)*(Data!$H$2:$H$22772=L$5)*(Data!$I$2:$I$22772))","v":0},{"$f":"SUMPRODUCT((Data!$A$2:$A$22772=$A$3)*(Data!$G$2:$G$22772=$K$4)*(Data!$B$2:$B$22772=$A52)*(Data!$H$2:$H$22772=M$5)*(Data!$I$2:$I$22772))","v":0},{"$f":"SUMPRODUCT((Data!$A$2:$A$22772=$A$3)*(Data!$G$2:$G$22772=$K$4)*(Data!$B$2:$B$22772=$A52)*(Data!$H$2:$H$22772=N$5)*(Data!$I$2:$I$22772))","v":0},{"$f":"SUMPRODUCT((Data!$A$2:$A$22772=$A$3)*(Data!$G$2:$G$22772=$K$4)*(Data!$B$2:$B$22772=$A52)*(Data!$H$2:$H$22772=O$5)*(Data!$I$2:$I$22772))","v":0},{"$f":"SUMPRODUCT((Data!$A$2:$A$22772=$A$3)*(Data!$G$2:$G$22772=$K$4)*(Data!$B$2:$B$22772=$A52)*(Data!$H$2:$H$22772=P$5)*(Data!$I$2:$I$22772))","v":0},0,0,null,55,1,0,0,2,3,5.1724137931034482E-2,4.9180327868852458E-2,null,{"$f":"SUMPRODUCT((Data!$A$2:$A$22772=$A$3)*(Data!$G$2:$G$22772=$AC$4)*(Data!$B$2:$B$22772=$A52)*(Data!$H$2:$H$22772=AC$5)*(Data!$I$2:$I$22772))","v":1},{"$f":"SUMPRODUCT((Data!$A$2:$A$22772=$A$3)*(Data!$G$2:$G$22772=$AC$4)*(Data!$B$2:$B$22772=$A52)*(Data!$H$2:$H$22772=AD$5)*(Data!$I$2:$I$22772))","v":0},{"$f":"SUMPRODUCT((Data!$A$2:$A$22772=$A$3)*(Data!$G$2:$G$22772=$AC$4)*(Data!$B$2:$B$22772=$A52)*(Data!$H$2:$H$22772=AE$5)*(Data!$I$2:$I$22772))","v":0},{"$f":"SUMPRODUCT((Data!$A$2:$A$22772=$A$3)*(Data!$G$2:$G$22772=$AC$4)*(Data!$B$2:$B$22772=$A52)*(Data!$H$2:$H$22772=AF$5)*(Data!$I$2:$I$22772))","v":0},{"$f":"SUMPRODUCT((Data!$A$2:$A$22772=$A$3)*(Data!$G$2:$G$22772=$AC$4)*(Data!$B$2:$B$22772=$A52)*(Data!$H$2:$H$22772=AG$5)*(Data!$I$2:$I$22772))","v":0},{"$f":"SUMPRODUCT((Data!$A$2:$A$22772=$A$3)*(Data!$G$2:$G$22772=$AC$4)*(Data!$B$2:$B$22772=$A52)*(Data!$H$2:$H$22772=AH$5)*(Data!$I$2:$I$22772))","v":0},0,0,null,{"$f":"SUMPRODUCT((Data!$A$2:$A$22772=$A$3)*(Data!$G$2:$G$22772=$AL$4)*(Data!$B$2:$B$22772=$A52)*(Data!$H$2:$H$22772=AL$5)*(Data!$I$2:$I$22772))","v":45},{"$f":"SUMPRODUCT((Data!$A$2:$A$22772=$A$3)*(Data!$G$2:$G$22772=$AL$4)*(Data!$B$2:$B$22772=$A52)*(Data!$H$2:$H$22772=AM$5)*(Data!$I$2:$I$22772))","v":0},{"$f":"SUMPRODUCT((Data!$A$2:$A$22772=$A$3)*(Data!$G$2:$G$22772=$AL$4)*(Data!$B$2:$B$22772=$A52)*(Data!$H$2:$H$22772=AN$5)*(Data!$I$2:$I$22772))","v":0},{"$f":"SUMPRODUCT((Data!$A$2:$A$22772=$A$3)*(Data!$G$2:$G$22772=$AL$4)*(Data!$B$2:$B$22772=$A52)*(Data!$H$2:$H$22772=AO$5)*(Data!$I$2:$I$22772))","v":0},{"$f":"SUMPRODUCT((Data!$A$2:$A$22772=$A$3)*(Data!$G$2:$G$22772=$AL$4)*(Data!$B$2:$B$22772=$A52)*(Data!$H$2:$H$22772=AP$5)*(Data!$I$2:$I$22772))","v":3},{"$f":"SUMPRODUCT((Data!$A$2:$A$22772=$A$3)*(Data!$G$2:$G$22772=$AL$4)*(Data!$B$2:$B$22772=$A52)*(Data!$H$2:$H$22772=AQ$5)*(Data!$I$2:$I$22772))","v":19},6.25E-2,0.28358208955223879,null,101,1,0,0,5,22,5.6074766355140186E-2,0.17054263565891473]
["Warwickshire",{"$f":"SUMPRODUCT((Data!$A$2:$A$22772=$A$3)*(Data!$G$2:$G$22772=$B$4)*(Data!$B$2:$B$22772=$A53)*(Data!$H$2:$H$22772=B$5)*(Data!$I$2:$I$22772))","v":10},{"$f":"SUMPRODUCT((Data!$A$2:$A$22772=$A$3)*(Data!$G$2:$G$22772=$B$4)*(Data!$B$2:$B$22772=$A53)*(Data!$H$2:$H$22772=C$5)*(Data!$I$2:$I$22772))","v":0},{"$f":"SUMPRODUCT((Data!$A$2:$A$22772=$A$3)*(Data!$G$2:$G$22772=$B$4)*(Data!$B$2:$B$22772=$A53)*(Data!$H$2:$H$22772=D$5)*(Data!$I$2:$I$22772))","v":0},{"$f":"SUMPRODUCT((Data!$A$2:$A$22772=$A$3)*(Data!$G$2:$G$22772=$B$4)*(Data!$B$2:$B$22772=$A53)*(Data!$H$2:$H$22772=E$5)*(Data!$I$2:$I$22772))","v":0},{"$f":"SUMPRODUCT((Data!$A$2:$A$22772=$A$3)*(Data!$G$2:$G$22772=$B$4)*(Data!$B$2:$B$22772=$A53)*(Data!$H$2:$H$22772=F$5)*(Data!$I$2:$I$22772))","v":0},{"$f":"SUMPRODUCT((Data!$A$2:$A$22772=$A$3)*(Data!$G$2:$G$22772=$B$4)*(Data!$B$2:$B$22772=$A53)*(Data!$H$2:$H$22772=G$5)*(Data!$I$2:$I$22772))","v":8},0,0.44444444444444442,null,{"$f":"SUMPRODUCT((Data!$A$2:$A$22772=$A$3)*(Data!$G$2:$G$22772=$K$4)*(Data!$B$2:$B$22772=$A53)*(Data!$H$2:$H$22772=K$5)*(Data!$I$2:$I$22772))","v":16},{"$f":"SUMPRODUCT((Data!$A$2:$A$22772=$A$3)*(Data!$G$2:$G$22772=$K$4)*(Data!$B$2:$B$22772=$A53)*(Data!$H$2:$H$22772=L$5)*(Data!$I$2:$I$22772))","v":0},{"$f":"SUMPRODUCT((Data!$A$2:$A$22772=$A$3)*(Data!$G$2:$G$22772=$K$4)*(Data!$B$2:$B$22772=$A53)*(Data!$H$2:$H$22772=M$5)*(Data!$I$2:$I$22772))","v":0},{"$f":"SUMPRODUCT((Data!$A$2:$A$22772=$A$3)*(Data!$G$2:$G$22772=$K$4)*(Data!$B$2:$B$22772=$A53)*(Data!$H$2:$H$22772=N$5)*(Data!$I$2:$I$22772))","v":0},{"$f":"SUMPRODUCT((Data!$A$2:$A$22772=$A$3)*(Data!$G$2:$G$22772=$K$4)*(Data!$B$2:$B$22772=$A53)*(Data!$H$2:$H$22772=O$5)*(Data!$I$2:$I$22772))","v":0},{"$f":"SUMPRODUCT((Data!$A$2:$A$22772=$A$3)*(Data!$G$2:$G$22772=$K$4)*(Data!$B$2:$B$22772=$A53)*(Data!$H$2:$H$22772=P$5)*(Data!$I$2:$I$22772))","v":1},0,5.8823529411764705E-2,null,26,0,0,0,0,9,0,0.25714285714285712,null,{"$f":"SUMPRODUCT((Data!$A$2:$A$22772=$A$3)*(Data!$G$2:$G$22772=$AC$4)*(Data!$B$2:$B$22772=$A53)*(Data!$H$2:$H$22772=AC$5)*(Data!$I$2:$I$22772))","v":3},{"$f":"SUMPRODUCT((Data!$A$2:$A$22772=$A$3)*(Data!$G$2:$G$22772=$AC$4)*(Data!$B$2:$B$22772=$A53)*(Data!$H$2:$H$22772=AD$5)*(Data!$I$2:$I$22772))","v":0},{"$f":"SUMPRODUCT((Data!$A$2:$A$22772=$A$3)*(Data!$G$2:$G$22772=$AC$4)*(Data!$B$2:$B$22772=$A53)*(Data!$H$2:$H$22772=AE$5)*(Data!$I$2:$I$22772))","v":0},{"$f":"SUMPRODUCT((Data!$A$2:$A$22772=$A$3)*(Data!$G$2:$G$22772=$AC$4)*(Data!$B$2:$B$22772=$A53)*(Data!$H$2:$H$22772=AF$5)*(Data!$I$2:$I$22772))","v":0},{"$f":"SUMPRODUCT((Data!$A$2:$A$22772=$A$3)*(Data!$G$2:$G$22772=$AC$4)*(Data!$B$2:$B$22772=$A53)*(Data!$H$2:$H$22772=AG$5)*(Data!$I$2:$I$22772))","v":0},{"$f":"SUMPRODUCT((Data!$A$2:$A$22772=$A$3)*(Data!$G$2:$G$22772=$AC$4)*(Data!$B$2:$B$22772=$A53)*(Data!$H$2:$H$22772=AH$5)*(Data!$I$2:$I$22772))","v":1},0,0.25,null,{"$f":"SUMPRODUCT((Data!$A$2:$A$22772=$A$3)*(Data!$G$2:$G$22772=$AL$4)*(Data!$B$2:$B$22772=$A53)*(Data!$H$2:$H$22772=AL$5)*(Data!$I$2:$I$22772))","v":7},{"$f":"SUMPRODUCT((Data!$A$2:$A$22772=$A$3)*(Data!$G$2:$G$22772=$AL$4)*(Data!$B$2:$B$22772=$A53)*(Data!$H$2:$H$22772=AM$5)*(Data!$I$2:$I$22772))","v":0},{"$f":"SUMPRODUCT((Data!$A$2:$A$22772=$A$3)*(Data!$G$2:$G$22772=$AL$4)*(Data!$B$2:$B$22772=$A53)*(Data!$H$2:$H$22772=AN$5)*(Data!$I$2:$I$22772))","v":1},{"$f":"SUMPRODUCT((Data!$A$2:$A$22772=$A$3)*(Data!$G$2:$G$22772=$AL$4)*(Data!$B$2:$B$22772=$A53)*(Data!$H$2:$H$22772=AO$5)*(Data!$I$2:$I$22772))","v":0},{"$f":"SUMPRODUCT((Data!$A$2:$A$22772=$A$3)*(Data!$G$2:$G$22772=$AL$4)*(Data!$B$2:$B$22772=$A53)*(Data!$H$2:$H$22772=AP$5)*(Data!$I$2:$I$22772))","v":0},{"$f":"SUMPRODUCT((Data!$A$2:$A$22772=$A$3)*(Data!$G$2:$G$22772=$AL$4)*(Data!$B$2:$B$22772=$A53)*(Data!$H$2:$H$22772=AQ$5)*(Data!$I$2:$I$22772))","v":3},0.125,0.27272727272727271,null,36,0,1,0,0,13,2.7027027027027029E-2,0.26]
["West Midlands",{"$f":"SUMPRODUCT((Data!$A$2:$A$22772=$A$3)*(Data!$G$2:$G$22772=$B$4)*(Data!$B$2:$B$22772=$A54)*(Data!$H$2:$H$22772=B$5)*(Data!$I$2:$I$22772))","v":63},{"$f":"SUMPRODUCT((Data!$A$2:$A$22772=$A$3)*(Data!$G$2:$G$22772=$B$4)*(Data!$B$2:$B$22772=$A54)*(Data!$H$2:$H$22772=C$5)*(Data!$I$2:$I$22772))","v":12},{"$f":"SUMPRODUCT((Data!$A$2:$A$22772=$A$3)*(Data!$G$2:$G$22772=$B$4)*(Data!$B$2:$B$22772=$A54)*(Data!$H$2:$H$22772=D$5)*(Data!$I$2:$I$22772))","v":3},{"$f":"SUMPRODUCT((Data!$A$2:$A$22772=$A$3)*(Data!$G$2:$G$22772=$B$4)*(Data!$B$2:$B$22772=$A54)*(Data!$H$2:$H$22772=E$5)*(Data!$I$2:$I$22772))","v":4},{"$f":"SUMPRODUCT((Data!$A$2:$A$22772=$A$3)*(Data!$G$2:$G$22772=$B$4)*(Data!$B$2:$B$22772=$A54)*(Data!$H$2:$H$22772=F$5)*(Data!$I$2:$I$22772))","v":2},{"$f":"SUMPRODUCT((Data!$A$2:$A$22772=$A$3)*(Data!$G$2:$G$22772=$B$4)*(Data!$B$2:$B$22772=$A54)*(Data!$H$2:$H$22772=G$5)*(Data!$I$2:$I$22772))","v":5},0.25,5.6179775280898875E-2,null,{"$f":"SUMPRODUCT((Data!$A$2:$A$22772=$A$3)*(Data!$G$2:$G$22772=$K$4)*(Data!$B$2:$B$22772=$A54)*(Data!$H$2:$H$22772=K$5)*(Data!$I$2:$I$22772))","v":0},{"$f":"SUMPRODUCT((Data!$A$2:$A$22772=$A$3)*(Data!$G$2:$G$22772=$K$4)*(Data!$B$2:$B$22772=$A54)*(Data!$H$2:$H$22772=L$5)*(Data!$I$2:$I$22772))","v":0},{"$f":"SUMPRODUCT((Data!$A$2:$A$22772=$A$3)*(Data!$G$2:$G$22772=$K$4)*(Data!$B$2:$B$22772=$A54)*(Data!$H$2:$H$22772=M$5)*(Data!$I$2:$I$22772))","v":0},{"$f":"SUMPRODUCT((Data!$A$2:$A$22772=$A$3)*(Data!$G$2:$G$22772=$K$4)*(Data!$B$2:$B$22772=$A54)*(Data!$H$2:$H$22772=N$5)*(Data!$I$2:$I$22772))","v":0},{"$f":"SUMPRODUCT((Data!$A$2:$A$22772=$A$3)*(Data!$G$2:$G$22772=$K$4)*(Data!$B$2:$B$22772=$A54)*(Data!$H$2:$H$22772=O$5)*(Data!$I$2:$I$22772))","v":0},{"$f":"SUMPRODUCT((Data!$A$2:$A$22772=$A$3)*(Data!$G$2:$G$22772=$K$4)*(Data!$B$2:$B$22772=$A54)*(Data!$H$2:$H$22772=P$5)*(Data!$I$2:$I$22772))","v":0},"-","-",null,63,12,3,4,2,5,0.25,5.6179775280898875E-2,null,{"$f":"SUMPRODUCT((Data!$A$2:$A$22772=$A$3)*(Data!$G$2:$G$22772=$AC$4)*(Data!$B$2:$B$22772=$A54)*(Data!$H$2:$H$22772=AC$5)*(Data!$I$2:$I$22772))","v":5},{"$f":"SUMPRODUCT((Data!$A$2:$A$22772=$A$3)*(Data!$G$2:$G$22772=$AC$4)*(Data!$B$2:$B$22772=$A54)*(Data!$H$2:$H$22772=AD$5)*(Data!$I$2:$I$22772))","v":0},{"$f":"SUMPRODUCT((Data!$A$2:$A$22772=$A$3)*(Data!$G$2:$G$22772=$AC$4)*(Data!$B$2:$B$22772=$A54)*(Data!$H$2:$H$22772=AE$5)*(Data!$I$2:$I$22772))","v":1},{"$f":"SUMPRODUCT((Data!$A$2:$A$22772=$A$3)*(Data!$G$2:$G$22772=$AC$4)*(Data!$B$2:$B$22772=$A54)*(Data!$H$2:$H$22772=AF$5)*(Data!$I$2:$I$22772))","v":0},{"$f":"SUMPRODUCT((Data!$A$2:$A$22772=$A$3)*(Data!$G$2:$G$22772=$AC$4)*(Data!$B$2:$B$22772=$A54)*(Data!$H$2:$H$22772=AG$5)*(Data!$I$2:$I$22772))","v":0},{"$f":"SUMPRODUCT((Data!$A$2:$A$22772=$A$3)*(Data!$G$2:$G$22772=$AC$4)*(Data!$B$2:$B$22772=$A54)*(Data!$H$2:$H$22772=AH$5)*(Data!$I$2:$I$22772))","v":1},0.16666666666666666,0.14285714285714285,null,{"$f":"SUMPRODUCT((Data!$A$2:$A$22772=$A$3)*(Data!$G$2:$G$22772=$AL$4)*(Data!$B$2:$B$22772=$A54)*(Data!$H$2:$H$22772=AL$5)*(Data!$I$2:$I$22772))","v":15},{"$f":"SUMPRODUCT((Data!$A$2:$A$22772=$A$3)*(Data!$G$2:$G$22772=$AL$4)*(Data!$B$2:$B$22772=$A54)*(Data!$H$2:$H$22772=AM$5)*(Data!$I$2:$I$22772))","v":1},{"$f":"SUMPRODUCT((Data!$A$2:$A$22772=$A$3)*(Data!$G$2:$G$22772=$AL$4)*(Data!$B$2:$B$22772=$A54)*(Data!$H$2:$H$22772=AN$5)*(Data!$I$2:$I$22772))","v":0},{"$f":"SUMPRODUCT((Data!$A$2:$A$22772=$A$3)*(Data!$G$2:$G$22772=$AL$4)*(Data!$B$2:$B$22772=$A54)*(Data!$H$2:$H$22772=AO$5)*(Data!$I$2:$I$22772))","v":1},{"$f":"SUMPRODUCT((Data!$A$2:$A$22772=$A$3)*(Data!$G$2:$G$22772=$AL$4)*(Data!$B$2:$B$22772=$A54)*(Data!$H$2:$H$22772=AP$5)*(Data!$I$2:$I$22772))","v":2},{"$f":"SUMPRODUCT((Data!$A$2:$A$22772=$A$3)*(Data!$G$2:$G$22772=$AL$4)*(Data!$B$2:$B$22772=$A54)*(Data!$H$2:$H$22772=AQ$5)*(Data!$I$2:$I$22772))","v":11},0.21052631578947367,0.36666666666666664,null,83,13,4,5,4,17,0.23853211009174313,0.13492063492063491]
["West Sussex",{"$f":"SUMPRODUCT((Data!$A$2:$A$22772=$A$3)*(Data!$G$2:$G$22772=$B$4)*(Data!$B$2:$B$22772=$A55)*(Data!$H$2:$H$22772=B$5)*(Data!$I$2:$I$22772))","v":7},{"$f":"SUMPRODUCT((Data!$A$2:$A$22772=$A$3)*(Data!$G$2:$G$22772=$B$4)*(Data!$B$2:$B$22772=$A55)*(Data!$H$2:$H$22772=C$5)*(Data!$I$2:$I$22772))","v":0},{"$f":"SUMPRODUCT((Data!$A$2:$A$22772=$A$3)*(Data!$G$2:$G$22772=$B$4)*(Data!$B$2:$B$22772=$A55)*(Data!$H$2:$H$22772=D$5)*(Data!$I$2:$I$22772))","v":0},{"$f":"SUMPRODUCT((Data!$A$2:$A$22772=$A$3)*(Data!$G$2:$G$22772=$B$4)*(Data!$B$2:$B$22772=$A55)*(Data!$H$2:$H$22772=E$5)*(Data!$I$2:$I$22772))","v":0},{"$f":"SUMPRODUCT((Data!$A$2:$A$22772=$A$3)*(Data!$G$2:$G$22772=$B$4)*(Data!$B$2:$B$22772=$A55)*(Data!$H$2:$H$22772=F$5)*(Data!$I$2:$I$22772))","v":0},{"$f":"SUMPRODUCT((Data!$A$2:$A$22772=$A$3)*(Data!$G$2:$G$22772=$B$4)*(Data!$B$2:$B$22772=$A55)*(Data!$H$2:$H$22772=G$5)*(Data!$I$2:$I$22772))","v":14},0,0.66666666666666663,null,{"$f":"SUMPRODUCT((Data!$A$2:$A$22772=$A$3)*(Data!$G$2:$G$22772=$K$4)*(Data!$B$2:$B$22772=$A55)*(Data!$H$2:$H$22772=K$5)*(Data!$I$2:$I$22772))","v":17},{"$f":"SUMPRODUCT((Data!$A$2:$A$22772=$A$3)*(Data!$G$2:$G$22772=$K$4)*(Data!$B$2:$B$22772=$A55)*(Data!$H$2:$H$22772=L$5)*(Data!$I$2:$I$22772))","v":0},{"$f":"SUMPRODUCT((Data!$A$2:$A$22772=$A$3)*(Data!$G$2:$G$22772=$K$4)*(Data!$B$2:$B$22772=$A55)*(Data!$H$2:$H$22772=M$5)*(Data!$I$2:$I$22772))","v":0},{"$f":"SUMPRODUCT((Data!$A$2:$A$22772=$A$3)*(Data!$G$2:$G$22772=$K$4)*(Data!$B$2:$B$22772=$A55)*(Data!$H$2:$H$22772=N$5)*(Data!$I$2:$I$22772))","v":0},{"$f":"SUMPRODUCT((Data!$A$2:$A$22772=$A$3)*(Data!$G$2:$G$22772=$K$4)*(Data!$B$2:$B$22772=$A55)*(Data!$H$2:$H$22772=O$5)*(Data!$I$2:$I$22772))","v":0},{"$f":"SUMPRODUCT((Data!$A$2:$A$22772=$A$3)*(Data!$G$2:$G$22772=$K$4)*(Data!$B$2:$B$22772=$A55)*(Data!$H$2:$H$22772=P$5)*(Data!$I$2:$I$22772))","v":10},0,0.37037037037037035,null,24,0,0,0,0,24,0,0.5,null,{"$f":"SUMPRODUCT((Data!$A$2:$A$22772=$A$3)*(Data!$G$2:$G$22772=$AC$4)*(Data!$B$2:$B$22772=$A55)*(Data!$H$2:$H$22772=AC$5)*(Data!$I$2:$I$22772))","v":0},{"$f":"SUMPRODUCT((Data!$A$2:$A$22772=$A$3)*(Data!$G$2:$G$22772=$AC$4)*(Data!$B$2:$B$22772=$A55)*(Data!$H$2:$H$22772=AD$5)*(Data!$I$2:$I$22772))","v":0},{"$f":"SUMPRODUCT((Data!$A$2:$A$22772=$A$3)*(Data!$G$2:$G$22772=$AC$4)*(Data!$B$2:$B$22772=$A55)*(Data!$H$2:$H$22772=AE$5)*(Data!$I$2:$I$22772))","v":0},{"$f":"SUMPRODUCT((Data!$A$2:$A$22772=$A$3)*(Data!$G$2:$G$22772=$AC$4)*(Data!$B$2:$B$22772=$A55)*(Data!$H$2:$H$22772=AF$5)*(Data!$I$2:$I$22772))","v":0},{"$f":"SUMPRODUCT((Data!$A$2:$A$22772=$A$3)*(Data!$G$2:$G$22772=$AC$4)*(Data!$B$2:$B$22772=$A55)*(Data!$H$2:$H$22772=AG$5)*(Data!$I$2:$I$22772))","v":0},{"$f":"SUMPRODUCT((Data!$A$2:$A$22772=$A$3)*(Data!$G$2:$G$22772=$AC$4)*(Data!$B$2:$B$22772=$A55)*(Data!$H$2:$H$22772=AH$5)*(Data!$I$2:$I$22772))","v":0},"-","-",null,{"$f":"SUMPRODUCT((Data!$A$2:$A$22772=$A$3)*(Data!$G$2:$G$22772=$AL$4)*(Data!$B$2:$B$22772=$A55)*(Data!$H$2:$H$22772=AL$5)*(Data!$I$2:$I$22772))","v":2},{"$f":"SUMPRODUCT((Data!$A$2:$A$22772=$A$3)*(Data!$G$2:$G$22772=$AL$4)*(Data!$B$2:$B$22772=$A55)*(Data!$H$2:$H$22772=AM$5)*(Data!$I$2:$I$22772))","v":0},{"$f":"SUMPRODUCT((Data!$A$2:$A$22772=$A$3)*(Data!$G$2:$G$22772=$AL$4)*(Data!$B$2:$B$22772=$A55)*(Data!$H$2:$H$22772=AN$5)*(Data!$I$2:$I$22772))","v":0},{"$f":"SUMPRODUCT((Data!$A$2:$A$22772=$A$3)*(Data!$G$2:$G$22772=$AL$4)*(Data!$B$2:$B$22772=$A55)*(Data!$H$2:$H$22772=AO$5)*(Data!$I$2:$I$22772))","v":0},{"$f":"SUMPRODUCT((Data!$A$2:$A$22772=$A$3)*(Data!$G$2:$G$22772=$AL$4)*(Data!$B$2:$B$22772=$A55)*(Data!$H$2:$H$22772=AP$5)*(Data!$I$2:$I$22772))","v":1},{"$f":"SUMPRODUCT((Data!$A$2:$A$22772=$A$3)*(Data!$G$2:$G$22772=$AL$4)*(Data!$B$2:$B$22772=$A55)*(Data!$H$2:$H$22772=AQ$5)*(Data!$I$2:$I$22772))","v":8},0.33333333333333331,0.72727272727272729,null,26,0,0,0,1,32,3.7037037037037035E-2,0.5423728813559322]
["West Yorkshire",{"$f":"SUMPRODUCT((Data!$A$2:$A$22772=$A$3)*(Data!$G$2:$G$22772=$B$4)*(Data!$B$2:$B$22772=$A56)*(Data!$H$2:$H$22772=B$5)*(Data!$I$2:$I$22772))","v":43},{"$f":"SUMPRODUCT((Data!$A$2:$A$22772=$A$3)*(Data!$G$2:$G$22772=$B$4)*(Data!$B$2:$B$22772=$A56)*(Data!$H$2:$H$22772=C$5)*(Data!$I$2:$I$22772))","v":6},{"$f":"SUMPRODUCT((Data!$A$2:$A$22772=$A$3)*(Data!$G$2:$G$22772=$B$4)*(Data!$B$2:$B$22772=$A56)*(Data!$H$2:$H$22772=D$5)*(Data!$I$2:$I$22772))","v":2},{"$f":"SUMPRODUCT((Data!$A$2:$A$22772=$A$3)*(Data!$G$2:$G$22772=$B$4)*(Data!$B$2:$B$22772=$A56)*(Data!$H$2:$H$22772=E$5)*(Data!$I$2:$I$22772))","v":1},{"$f":"SUMPRODUCT((Data!$A$2:$A$22772=$A$3)*(Data!$G$2:$G$22772=$B$4)*(Data!$B$2:$B$22772=$A56)*(Data!$H$2:$H$22772=F$5)*(Data!$I$2:$I$22772))","v":2},{"$f":"SUMPRODUCT((Data!$A$2:$A$22772=$A$3)*(Data!$G$2:$G$22772=$B$4)*(Data!$B$2:$B$22772=$A56)*(Data!$H$2:$H$22772=G$5)*(Data!$I$2:$I$22772))","v":27},0.20370370370370369,0.33333333333333331,null,{"$f":"SUMPRODUCT((Data!$A$2:$A$22772=$A$3)*(Data!$G$2:$G$22772=$K$4)*(Data!$B$2:$B$22772=$A56)*(Data!$H$2:$H$22772=K$5)*(Data!$I$2:$I$22772))","v":15},{"$f":"SUMPRODUCT((Data!$A$2:$A$22772=$A$3)*(Data!$G$2:$G$22772=$K$4)*(Data!$B$2:$B$22772=$A56)*(Data!$H$2:$H$22772=L$5)*(Data!$I$2:$I$22772))","v":0},{"$f":"SUMPRODUCT((Data!$A$2:$A$22772=$A$3)*(Data!$G$2:$G$22772=$K$4)*(Data!$B$2:$B$22772=$A56)*(Data!$H$2:$H$22772=M$5)*(Data!$I$2:$I$22772))","v":0},{"$f":"SUMPRODUCT((Data!$A$2:$A$22772=$A$3)*(Data!$G$2:$G$22772=$K$4)*(Data!$B$2:$B$22772=$A56)*(Data!$H$2:$H$22772=N$5)*(Data!$I$2:$I$22772))","v":0},{"$f":"SUMPRODUCT((Data!$A$2:$A$22772=$A$3)*(Data!$G$2:$G$22772=$K$4)*(Data!$B$2:$B$22772=$A56)*(Data!$H$2:$H$22772=O$5)*(Data!$I$2:$I$22772))","v":0},{"$f":"SUMPRODUCT((Data!$A$2:$A$22772=$A$3)*(Data!$G$2:$G$22772=$K$4)*(Data!$B$2:$B$22772=$A56)*(Data!$H$2:$H$22772=P$5)*(Data!$I$2:$I$22772))","v":1},0,6.25E-2,null,58,6,2,1,2,28,0.15942028985507245,0.28865979381443296,null,{"$f":"SUMPRODUCT((Data!$A$2:$A$22772=$A$3)*(Data!$G$2:$G$22772=$AC$4)*(Data!$B$2:$B$22772=$A56)*(Data!$H$2:$H$22772=AC$5)*(Data!$I$2:$I$22772))","v":3},{"$f":"SUMPRODUCT((Data!$A$2:$A$22772=$A$3)*(Data!$G$2:$G$22772=$AC$4)*(Data!$B$2:$B$22772=$A56)*(Data!$H$2:$H$22772=AD$5)*(Data!$I$2:$I$22772))","v":0},{"$f":"SUMPRODUCT((Data!$A$2:$A$22772=$A$3)*(Data!$G$2:$G$22772=$AC$4)*(Data!$B$2:$B$22772=$A56)*(Data!$H$2:$H$22772=AE$5)*(Data!$I$2:$I$22772))","v":0},{"$f":"SUMPRODUCT((Data!$A$2:$A$22772=$A$3)*(Data!$G$2:$G$22772=$AC$4)*(Data!$B$2:$B$22772=$A56)*(Data!$H$2:$H$22772=AF$5)*(Data!$I$2:$I$22772))","v":0},{"$f":"SUMPRODUCT((Data!$A$2:$A$22772=$A$3)*(Data!$G$2:$G$22772=$AC$4)*(Data!$B$2:$B$22772=$A56)*(Data!$H$2:$H$22772=AG$5)*(Data!$I$2:$I$22772))","v":0},{"$f":"SUMPRODUCT((Data!$A$2:$A$22772=$A$3)*(Data!$G$2:$G$22772=$AC$4)*(Data!$B$2:$B$22772=$A56)*(Data!$H$2:$H$22772=AH$5)*(Data!$I$2:$I$22772))","v":2},0,0.4,null,{"$f":"SUMPRODUCT((Data!$A$2:$A$22772=$A$3)*(Data!$G$2:$G$22772=$AL$4)*(Data!$B$2:$B$22772=$A56)*(Data!$H$2:$H$22772=AL$5)*(Data!$I$2:$I$22772))","v":27},{"$f":"SUMPRODUCT((Data!$A$2:$A$22772=$A$3)*(Data!$G$2:$G$22772=$AL$4)*(Data!$B$2:$B$22772=$A56)*(Data!$H$2:$H$22772=AM$5)*(Data!$I$2:$I$22772))","v":0},{"$f":"SUMPRODUCT((Data!$A$2:$A$22772=$A$3)*(Data!$G$2:$G$22772=$AL$4)*(Data!$B$2:$B$22772=$A56)*(Data!$H$2:$H$22772=AN$5)*(Data!$I$2:$I$22772))","v":2},{"$f":"SUMPRODUCT((Data!$A$2:$A$22772=$A$3)*(Data!$G$2:$G$22772=$AL$4)*(Data!$B$2:$B$22772=$A56)*(Data!$H$2:$H$22772=AO$5)*(Data!$I$2:$I$22772))","v":0},{"$f":"SUMPRODUCT((Data!$A$2:$A$22772=$A$3)*(Data!$G$2:$G$22772=$AL$4)*(Data!$B$2:$B$22772=$A56)*(Data!$H$2:$H$22772=AP$5)*(Data!$I$2:$I$22772))","v":0},{"$f":"SUMPRODUCT((Data!$A$2:$A$22772=$A$3)*(Data!$G$2:$G$22772=$AL$4)*(Data!$B$2:$B$22772=$A56)*(Data!$H$2:$H$22772=AQ$5)*(Data!$I$2:$I$22772))","v":8},6.8965517241379309E-2,0.21621621621621623,null,88,6,4,1,2,38,0.12871287128712872,0.2733812949640288]

{"sheet":"FIRE1121","index":4,"n_rows":137,"n_cols":58,"rows_kept":137,"cut":false,"hidden":false,"merged":[]}
["FIRE STATISTICS TABLE 1121: Staff joining fire authorities (headcount1), by fire and rescue authority2, ethnicity and role"]
["Select a year from the drop-down list in the orange box below:"]
["2022/23"]
[null,"Wholetime firefighters",{"$nulls":7},"blank","On call firefighters3",{"$nulls":7},"blank","Total firefighters",{"$nulls":7},"blank","Fire Control",{"$nulls":7},"blank","Support Staff",{"$nulls":7},"blank","Total Staff"]
["FRS2","White British or Irish","Mixed","Asian or Asian British","Black or Black British","Chinese or Other Ethnicity","Ethnic origin Not Stated","% from an ethnic minority4","% not stated","blank","White British or Irish","Mixed","Asian or Asian British","Black or Black British","Chinese or Other Ethnicity","Ethnic origin Not Stated","% from an ethnic minority4","% not stated","blank","White British or Irish","Mixed","Asian or Asian British","Black or Black British","Chinese or Other Ethnicity","Ethnic origin Not Stated","% from an ethnic minority4","% not stated","blank","White British or Irish","Mixed","Asian or Asian British","Black or Black British","Chinese or Other Ethnicity","Ethnic origin Not Stated","% from an ethnic minority4","% not stated","blank","White British or Irish","Mixed","Asian or Asian British","Black or Black British","Chinese or Other Ethnicity","Ethnic origin Not Stated","% from an ethnic minority4","% not stated","blank","White British or Irish","Mixed","Asian or Asian British","Black or Black British","Chinese or Other Ethnicity","Ethnic origin Not Stated","% from an ethnic minority4","% not stated","blank"]
["England",{"$f":"ROUND(FIRE1121_working!B6,0)","v":1249},{"$f":"ROUND(FIRE1121_working!C6,0)","v":78},{"$f":"ROUND(FIRE1121_working!D6,0)","v":19},{"$f":"ROUND(FIRE1121_working!E6,0)","v":32},{"$f":"ROUND(FIRE1121_working!F6,0)","v":68},{"$f":"ROUND(FIRE1121_working!G6,0)","v":257},{"$f":"IF(FIRE1121_working!H6=\"-\",\"-\",ROUND(FIRE1121_working!H6,3))","v":0.13600000000000001},{"$f":"IF(FIRE1121_working!I6=\"-\",\"-\",ROUND(FIRE1121_working!I6,3))","v":0.151},"blank",{"$f":"ROUND(FIRE1121_working!K6,0)","v":879},{"$f":"ROUND(FIRE1121_working!L6,0)","v":22},{"$f":"ROUND(FIRE1121_working!M6,0)","v":5},{"$f":"ROUND(FIRE1121_working!N6,0)","v":6},{"$f":"ROUND(FIRE1121_working!O6,0)","v":46},{"$f":"ROUND(FIRE1121_working!P6,0)","v":304},{"$f":"IF(FIRE1121_working!Q6=\"-\",\"-\",ROUND(FIRE1121_working!Q6,3))","v":8.2000000000000003E-2},{"$f":"IF(FIRE1121_working!R6=\"-\",\"-\",ROUND(FIRE1121_working!R6,3))","v":0.24099999999999999},"blank",{"$f":"ROUND(FIRE1121_working!T6,0)","v":2128},{"$f":"ROUND(FIRE1121_working!U6,0)","v":100},{"$f":"ROUND(FIRE1121_working!V6,0)","v":24},{"$f":"ROUND(FIRE1121_working!W6,0)","v":38},{"$f":"ROUND(FIRE1121_working!X6,0)","v":114},{"$f":"ROUND(FIRE1121_working!Y6,0)","v":561},{"$f":"IF(FIRE1121_working!Z6=\"-\",\"-\",ROUND(FIRE1121_working!Z6,3))","v":0.115},{"$f":"IF(FIRE1121_working!AA6=\"-\",\"-\",ROUND(FIRE1121_working!AA6,3))","v":0.189},"blank",{"$f":"ROUND(FIRE1121_working!AC6,0)","v":82},{"$f":"ROUND(FIRE1121_working!AD6,0)","v":2},{"$f":"ROUND(FIRE1121_working!AE6,0)","v":4},{"$f":"ROUND(FIRE1121_working!AF6,0)","v":0},{"$f":"ROUND(FIRE1121_working!AG6,0)","v":3},{"$f":"ROUND(FIRE1121_working!AH6,0)","v":14},{"$f":"IF(FIRE1121_working!AI6=\"-\",\"-\",ROUND(FIRE1121_working!AI6,3))","v":9.9000000000000005E-2},{"$f":"IF(FIRE1121_working!AJ6=\"-\",\"-\",ROUND(FIRE1121_working!AJ6,3))","v":0.13300000000000001},"blank",{"$f":"ROUND(FIRE1121_working!AL6,0)","v":865},{"$f":"ROUND(FIRE1121_working!AM6,0)","v":9},{"$f":"ROUND(FIRE1121_working!AN6,0)","v":29},{"$f":"ROUND(FIRE1121_working!AO6,0)","v":35},{"$f":"ROUND(FIRE1121_working!AP6,0)","v":52},{"$f":"ROUND(FIRE1121_working!AQ6,0)","v":235},{"$f":"IF(FIRE1121_working!AR6=\"-\",\"-\",ROUND(FIRE1121_working!AR6,3))","v":0.126},{"$f":"IF(FIRE1121_working!AS6=\"-\",\"-\",ROUND(FIRE1121_working!AS6,3))","v":0.192},"blank",{"$f":"ROUND(FIRE1121_working!AU6,0)","v":3075},{"$f":"ROUND(FIRE1121_working!AV6,0)","v":111},{"$f":"ROUND(FIRE1121_working!AW6,0)","v":57},{"$f":"ROUND(FIRE1121_working!AX6,0)","v":73},{"$f":"ROUND(FIRE1121_working!AY6,0)","v":169},{"$f":"ROUND(FIRE1121_working!AZ6,0)","v":810},{"$f":"IF(FIRE1121_working!BA6=\"-\",\"-\",ROUND(FIRE1121_working!BA6,3))","v":0.11799999999999999},{"$f":"IF(FIRE1121_working!BB6=\"-\",\"-\",ROUND(FIRE1121_working!BB6,3))","v":0.189},"blank"]
["Non-metropolitan",{"$f":"ROUND(FIRE1121_working!B7,0)","v":731},{"$f":"ROUND(FIRE1121_working!C7,0)","v":20},{"$f":"ROUND(FIRE1121_working!D7,0)","v":4},{"$f":"ROUND(FIRE1121_working!E7,0)","v":6},{"$f":"ROUND(FIRE1121_working!F7,0)","v":27},{"$f":"ROUND(FIRE1121_working!G7,0)","v":160},{"$f":"IF(FIRE1121_working!H7=\"-\",\"-\",ROUND(FIRE1121_working!H7,3))","v":7.1999999999999995E-2},{"$f":"IF(FIRE1121_working!I7=\"-\",\"-\",ROUND(FIRE1121_working!I7,3))","v":0.16900000000000001},"blank",{"$f":"ROUND(FIRE1121_working!K7,0)","v":837},{"$f":"ROUND(FIRE1121_working!L7,0)","v":20},{"$f":"ROUND(FIRE1121_working!M7,0)","v":5},{"$f":"ROUND(FIRE1121_working!N7,0)","v":5},{"$f":"ROUND(FIRE1121_working!O7,0)","v":43},{"$f":"ROUND(FIRE1121_working!P7,0)","v":303},{"$f":"IF(FIRE1121_working!Q7=\"-\",\"-\",ROUND(FIRE1121_working!Q7,3))","v":0.08},{"$f":"IF(FIRE1121_working!R7=\"-\",\"-\",ROUND(FIRE1121_working!R7,3))","v":0.25},"blank",{"$f":"ROUND(FIRE1121_working!T7,0)","v":1568},{"$f":"ROUND(FIRE1121_working!U7,0)","v":40},{"$f":"ROUND(FIRE1121_working!V7,0)","v":9},{"$f":"ROUND(FIRE1121_working!W7,0)","v":11},{"$f":"ROUND(FIRE1121_working!X7,0)","v":70},{"$f":"ROUND(FIRE1121_working!Y7,0)","v":463},{"$f":"IF(FIRE1121_working!Z7=\"-\",\"-\",ROUND(FIRE1121_working!Z7,3))","v":7.6999999999999999E-2},{"$f":"IF(FIRE1121_working!AA7=\"-\",\"-\",ROUND(FIRE1121_working!AA7,3))","v":0.214},"blank",{"$f":"ROUND(FIRE1121_working!AC7,0)","v":62},{"$f":"ROUND(FIRE1121_working!AD7,0)","v":0},{"$f":"ROUND(FIRE1121_working!AE7,0)","v":2},{"$f":"ROUND(FIRE1121_working!AF7,0)","v":0},{"$f":"ROUND(FIRE1121_working!AG7,0)","v":2},{"$f":"ROUND(FIRE1121_working!AH7,0)","v":9},{"$f":"IF(FIRE1121_working!AI7=\"-\",\"-\",ROUND(FIRE1121_working!AI7,3))","v":6.0999999999999999E-2},{"$f":"IF(FIRE1121_working!AJ7=\"-\",\"-\",ROUND(FIRE1121_working!AJ7,3))","v":0.12},"blank",{"$f":"ROUND(FIRE1121_working!AL7,0)","v":568},{"$f":"ROUND(FIRE1121_working!AM7,0)","v":4},{"$f":"ROUND(FIRE1121_working!AN7,0)","v":12},{"$f":"ROUND(FIRE1121_working!AO7,0)","v":18},{"$f":"ROUND(FIRE1121_working!AP7,0)","v":31},{"$f":"ROUND(FIRE1121_working!AQ7,0)","v":179},{"$f":"IF(FIRE1121_working!AR7=\"-\",\"-\",ROUND(FIRE1121_working!AR7,3))","v":0.10299999999999999},{"$f":"IF(FIRE1121_working!AS7=\"-\",\"-\",ROUND(FIRE1121_working!AS7,3))","v":0.22},"blank",{"$f":"ROUND(FIRE1121_working!AU7,0)","v":2198},{"$f":"ROUND(FIRE1121_working!AV7,0)","v":44},{"$f":"ROUND(FIRE1121_working!AW7,0)","v":23},{"$f":"ROUND(FIRE1121_working!AX7,0)","v":29},{"$f":"ROUND(FIRE1121_working!AY7,0)","v":103},{"$f":"ROUND(FIRE1121_working!AZ7,0)","v":651},{"$f":"IF(FIRE1121_working!BA7=\"-\",\"-\",ROUND(FIRE1121_working!BA7,3))","v":8.3000000000000004E-2},{"$f":"IF(FIRE1121_working!BB7=\"-\",\"-\",ROUND(FIRE1121_working!BB7,3))","v":0.214},"blank"]
["Metropolitan",{"$f":"ROUND(FIRE1121_working!B8,0)","v":518},{"$f":"ROUND(FIRE1121_working!C8,0)","v":58},{"$f":"ROUND(FIRE1121_working!D8,0)","v":15},{"$f":"ROUND(FIRE1121_working!E8,0)","v":26},{"$f":"ROUND(FIRE1121_working!F8,0)","v":41},{"$f":"ROUND(FIRE1121_working!G8,0)","v":97},{"$f":"IF(FIRE1121_working!H8=\"-\",\"-\",ROUND(FIRE1121_working!H8,3))","v":0.21299999999999999},{"$f":"IF(FIRE1121_working!I8=\"-\",\"-\",ROUND(FIRE1121_working!I8,3))","v":0.128},"blank",{"$f":"ROUND(FIRE1121_working!K8,0)","v":42},{"$f":"ROUND(FIRE1121_working!L8,0)","v":2},{"$f":"ROUND(FIRE1121_working!M8,0)","v":0},{"$f":"ROUND(FIRE1121_working!N8,0)","v":1},{"$f":"ROUND(FIRE1121_working!O8,0)","v":3},{"$f":"ROUND(FIRE1121_working!P8,0)","v":1},{"$f":"IF(FIRE1121_working!Q8=\"-\",\"-\",ROUND(FIRE1121_working!Q8,3))","v":0.125},{"$f":"IF(FIRE1121_working!R8=\"-\",\"-\",ROUND(FIRE1121_working!R8,3))","v":0.02},"blank",{"$f":"ROUND(FIRE1121_working!T8,0)","v":560},{"$f":"ROUND(FIRE1121_working!U8,0)","v":60},{"$f":"ROUND(FIRE1121_working!V8,0)","v":15},{"$f":"ROUND(FIRE1121_working!W8,0)","v":27},{"$f":"ROUND(FIRE1121_working!X8,0)","v":44},{"$f":"ROUND(FIRE1121_working!Y8,0)","v":98},{"$f":"IF(FIRE1121_working!Z8=\"-\",\"-\",ROUND(FIRE1121_working!Z8,3))","v":0.20699999999999999},{"$f":"IF(FIRE1121_working!AA8=\"-\",\"-\",ROUND(FIRE1121_working!AA8,3))","v":0.122},"blank",{"$f":"ROUND(FIRE1121_working!AC8,0)","v":20},{"$f":"ROUND(FIRE1121_working!AD8,0)","v":2},{"$f":"ROUND(FIRE1121_working!AE8,0)","v":2},{"$f":"ROUND(FIRE1121_working!AF8,0)","v":0},{"$f":"ROUND(FIRE1121_working!AG8,0)","v":1},{"$f":"ROUND(FIRE1121_working!AH8,0)","v":5},{"$f":"IF(FIRE1121_working!AI8=\"-\",\"-\",ROUND(FIRE1121_working!AI8,3))","v":0.2},{"$f":"IF(FIRE1121_working!AJ8=\"-\",\"-\",ROUND(FIRE1121_working!AJ8,3))","v":0.16700000000000001},"blank",{"$f":"ROUND(FIRE1121_working!AL8,0)","v":297},{"$f":"ROUND(FIRE1121_working!AM8,0)","v":5},{"$f":"ROUND(FIRE1121_working!AN8,0)","v":17},{"$f":"ROUND(FIRE1121_working!AO8,0)","v":17},{"$f":"ROUND(FIRE1121_working!AP8,0)","v":21},{"$f":"ROUND(FIRE1121_working!AQ8,0)","v":56},{"$f":"IF(FIRE1121_working!AR8=\"-\",\"-\",ROUND(FIRE1121_working!AR8,3))","v":0.16800000000000001},{"$f":"IF(FIRE1121_working!AS8=\"-\",\"-\",ROUND(FIRE1121_working!AS8,3))","v":0.13600000000000001},"blank",{"$f":"ROUND(FIRE1121_working!AU8,0)","v":877},{"$f":"ROUND(FIRE1121_working!AV8,0)","v":67},{"$f":"ROUND(FIRE1121_working!AW8,0)","v":34},{"$f":"ROUND(FIRE1121_working!AX8,0)","v":44},{"$f":"ROUND(FIRE1121_working!AY8,0)","v":66},{"$f":"ROUND(FIRE1121_working!AZ8,0)","v":159},{"$f":"IF(FIRE1121_working!BA8=\"-\",\"-\",ROUND(FIRE1121_working!BA8,3))","v":0.19400000000000001},{"$f":"IF(FIRE1121_working!BB8=\"-\",\"-\",ROUND(FIRE1121_working!BB8,3))","v":0.128},"blank"]
["Predominantly Urban",{"$f":"ROUND(FIRE1121_working!B9,0)","v":764},{"$f":"ROUND(FIRE1121_working!C9,0)","v":62},{"$f":"ROUND(FIRE1121_working!D9,0)","v":15},{"$f":"ROUND(FIRE1121_working!E9,0)","v":27},{"$f":"ROUND(FIRE1121_working!F9,0)","v":50},{"$f":"ROUND(FIRE1121_working!G9,0)","v":104},{"$f":"IF(FIRE1121_working!H9=\"-\",\"-\",ROUND(FIRE1121_working!H9,3))","v":0.16800000000000001},{"$f":"IF(FIRE1121_working!I9=\"-\",\"-\",ROUND(FIRE1121_working!I9,3))","v":0.10199999999999999},"blank",{"$f":"ROUND(FIRE1121_working!K9,0)","v":157},{"$f":"ROUND(FIRE1121_working!L9,0)","v":4},{"$f":"ROUND(FIRE1121_working!M9,0)","v":0},{"$f":"ROUND(FIRE1121_working!N9,0)","v":2},{"$f":"ROUND(FIRE1121_working!O9,0)","v":9},{"$f":"ROUND(FIRE1121_working!P9,0)","v":6},{"$f":"IF(FIRE1121_working!Q9=\"-\",\"-\",ROUND(FIRE1121_working!Q9,3))","v":8.6999999999999994E-2},{"$f":"IF(FIRE1121_working!R9=\"-\",\"-\",ROUND(FIRE1121_working!R9,3))","v":3.4000000000000002E-2},"blank",{"$f":"ROUND(FIRE1121_working!T9,0)","v":921},{"$f":"ROUND(FIRE1121_working!U9,0)","v":66},{"$f":"ROUND(FIRE1121_working!V9,0)","v":15},{"$f":"ROUND(FIRE1121_working!W9,0)","v":29},{"$f":"ROUND(FIRE1121_working!X9,0)","v":59},{"$f":"ROUND(FIRE1121_working!Y9,0)","v":110},{"$f":"IF(FIRE1121_working!Z9=\"-\",\"-\",ROUND(FIRE1121_working!Z9,3))","v":0.155},{"$f":"IF(FIRE1121_working!AA9=\"-\",\"-\",ROUND(FIRE1121_working!AA9,3))","v":9.1999999999999998E-2},"blank",{"$f":"ROUND(FIRE1121_working!AC9,0)","v":47},{"$f":"ROUND(FIRE1121_working!AD9,0)","v":2},{"$f":"ROUND(FIRE1121_working!AE9,0)","v":2},{"$f":"ROUND(FIRE1121_working!AF9,0)","v":0},{"$f":"ROUND(FIRE1121_working!AG9,0)","v":2},{"$f":"ROUND(FIRE1121_working!AH9,0)","v":5},{"$f":"IF(FIRE1121_working!AI9=\"-\",\"-\",ROUND(FIRE1121_working!AI9,3))","v":0.113},{"$f":"IF(FIRE1121_working!AJ9=\"-\",\"-\",ROUND(FIRE1121_working!AJ9,3))","v":8.5999999999999993E-2},"blank",{"$f":"ROUND(FIRE1121_working!AL9,0)","v":449},{"$f":"ROUND(FIRE1121_working!AM9,0)","v":6},{"$f":"ROUND(FIRE1121_working!AN9,0)","v":23},{"$f":"ROUND(FIRE1121_working!AO9,0)","v":20},{"$f":"ROUND(FIRE1121_working!AP9,0)","v":28},{"$f":"ROUND(FIRE1121_working!AQ9,0)","v":71},{"$f":"IF(FIRE1121_working!AR9=\"-\",\"-\",ROUND(FIRE1121_working!AR9,3))","v":0.14599999999999999},{"$f":"IF(FIRE1121_working!AS9=\"-\",\"-\",ROUND(FIRE1121_working!AS9,3))","v":0.11899999999999999},"blank",{"$f":"ROUND(FIRE1121_working!AU9,0)","v":1417},{"$f":"ROUND(FIRE1121_working!AV9,0)","v":74},{"$f":"ROUND(FIRE1121_working!AW9,0)","v":40},{"$f":"ROUND(FIRE1121_working!AX9,0)","v":49},{"$f":"ROUND(FIRE1121_working!AY9,0)","v":89},{"$f":"ROUND(FIRE1121_working!AZ9,0)","v":186},{"$f":"IF(FIRE1121_working!BA9=\"-\",\"-\",ROUND(FIRE1121_working!BA9,3))","v":0.151},{"$f":"IF(FIRE1121_working!BB9=\"-\",\"-\",ROUND(FIRE1121_working!BB9,3))","v":0.1},"blank"]
["Significantly Rural",{"$f":"ROUND(FIRE1121_working!B10,0)","v":413},{"$f":"ROUND(FIRE1121_working!C10,0)","v":15},{"$f":"ROUND(FIRE1121_working!D10,0)","v":4},{"$f":"ROUND(FIRE1121_working!E10,0)","v":5},{"$f":"ROUND(FIRE1121_working!F10,0)","v":10},{"$f":"ROUND(FIRE1121_working!G10,0)","v":104},{"$f":"IF(FIRE1121_working!H10=\"-\",\"-\",ROUND(FIRE1121_working!H10,3))","v":7.5999999999999998E-2},{"$f":"IF(FIRE1121_working!I10=\"-\",\"-\",ROUND(FIRE1121_working!I10,3))","v":0.189},"blank",{"$f":"ROUND(FIRE1121_working!K10,0)","v":480},{"$f":"ROUND(FIRE1121_working!L10,0)","v":14},{"$f":"ROUND(FIRE1121_working!M10,0)","v":4},{"$f":"ROUND(FIRE1121_working!N10,0)","v":1},{"$f":"ROUND(FIRE1121_working!O10,0)","v":25},{"$f":"ROUND(FIRE1121_working!P10,0)","v":121},{"$f":"IF(FIRE1121_working!Q10=\"-\",\"-\",ROUND(FIRE1121_working!Q10,3))","v":8.4000000000000005E-2},{"$f":"IF(FIRE1121_working!R10=\"-\",\"-\",ROUND(FIRE1121_working!R10,3))","v":0.188},"blank",{"$f":"ROUND(FIRE1121_working!T10,0)","v":893},{"$f":"ROUND(FIRE1121_working!U10,0)","v":29},{"$f":"ROUND(FIRE1121_working!V10,0)","v":8},{"$f":"ROUND(FIRE1121_working!W10,0)","v":6},{"$f":"ROUND(FIRE1121_working!X10,0)","v":35},{"$f":"ROUND(FIRE1121_working!Y10,0)","v":225},{"$f":"IF(FIRE1121_working!Z10=\"-\",\"-\",ROUND(FIRE1121_working!Z10,3))","v":0.08},{"$f":"IF(FIRE1121_working!AA10=\"-\",\"-\",ROUND(FIRE1121_working!AA10,3))","v":0.188},"blank",{"$f":"ROUND(FIRE1121_working!AC10,0)","v":31},{"$f":"ROUND(FIRE1121_working!AD10,0)","v":0},{"$f":"ROUND(FIRE1121_working!AE10,0)","v":2},{"$f":"ROUND(FIRE1121_working!AF10,0)","v":0},{"$f":"ROUND(FIRE1121_working!AG10,0)","v":1},{"$f":"ROUND(FIRE1121_working!AH10,0)","v":8},{"$f":"IF(FIRE1121_working!AI10=\"-\",\"-\",ROUND(FIRE1121_working!AI10,3))","v":8.7999999999999995E-2},{"$f":"IF(FIRE1121_working!AJ10=\"-\",\"-\",ROUND(FIRE1121_working!AJ10,3))","v":0.19},"blank",{"$f":"ROUND(FIRE1121_working!AL10,0)","v":347},{"$f":"ROUND(FIRE1121_working!AM10,0)","v":2},{"$f":"ROUND(FIRE1121_working!AN10,0)","v":6},{"$f":"ROUND(FIRE1121_working!AO10,0)","v":12},{"$f":"ROUND(FIRE1121_working!AP10,0)","v":21},{"$f":"ROUND(FIRE1121_working!AQ10,0)","v":122},{"$f":"IF(FIRE1121_working!AR10=\"-\",\"-\",ROUND(FIRE1121_working!AR10,3))","v":0.106},{"$f":"IF(FIRE1121_working!AS10=\"-\",\"-\",ROUND(FIRE1121_working!AS10,3))","v":0.23899999999999999},"blank",{"$f":"ROUND(FIRE1121_working!AU10,0)","v":1271},{"$f":"ROUND(FIRE1121_working!AV10,0)","v":31},{"$f":"ROUND(FIRE1121_working!AW10,0)","v":16},{"$f":"ROUND(FIRE1121_working!AX10,0)","v":18},{"$f":"ROUND(FIRE1121_working!AY10,0)","v":57},{"$f":"ROUND(FIRE1121_working!AZ10,0)","v":355},{"$f":"IF(FIRE1121_working!BA10=\"-\",\"-\",ROUND(FIRE1121_working!BA10,3))","v":8.7999999999999995E-2},{"$f":"IF(FIRE1121_working!BB10=\"-\",\"-\",ROUND(FIRE1121_working!BB10,3))","v":0.20300000000000001},"blank"]
["Predominantly Rural",{"$f":"ROUND(FIRE1121_working!B11,0)","v":72},{"$f":"ROUND(FIRE1121_working!C11,0)","v":1},{"$f":"ROUND(FIRE1121_working!D11,0)","v":0},{"$f":"ROUND(FIRE1121_working!E11,0)","v":0},{"$f":"ROUND(FIRE1121_working!F11,0)","v":8},{"$f":"ROUND(FIRE1121_working!G11,0)","v":49},{"$f":"IF(FIRE1121_working!H11=\"-\",\"-\",ROUND(FIRE1121_working!H11,3))","v":0.111},{"$f":"IF(FIRE1121_working!I11=\"-\",\"-\",ROUND(FIRE1121_working!I11,3))","v":0.377},"blank",{"$f":"ROUND(FIRE1121_working!K11,0)","v":242},{"$f":"ROUND(FIRE1121_working!L11,0)","v":4},{"$f":"ROUND(FIRE1121_working!M11,0)","v":1},{"$f":"ROUND(FIRE1121_working!N11,0)","v":3},{"$f":"ROUND(FIRE1121_working!O11,0)","v":12},{"$f":"ROUND(FIRE1121_working!P11,0)","v":177},{"$f":"IF(FIRE1121_working!Q11=\"-\",\"-\",ROUND(FIRE1121_working!Q11,3))","v":7.5999999999999998E-2},{"$f":"IF(FIRE1121_working!R11=\"-\",\"-\",ROUND(FIRE1121_working!R11,3))","v":0.40300000000000002},"blank",{"$f":"ROUND(FIRE1121_working!T11,0)","v":314},{"$f":"ROUND(FIRE1121_working!U11,0)","v":5},{"$f":"ROUND(FIRE1121_working!V11,0)","v":1},{"$f":"ROUND(FIRE1121_working!W11,0)","v":3},{"$f":"ROUND(FIRE1121_working!X11,0)","v":20},{"$f":"ROUND(FIRE1121_working!Y11,0)","v":226},{"$f":"IF(FIRE1121_working!Z11=\"-\",\"-\",ROUND(FIRE1121_working!Z11,3))","v":8.5000000000000006E-2},{"$f":"IF(FIRE1121_working!AA11=\"-\",\"-\",ROUND(FIRE1121_working!AA11,3))","v":0.39700000000000002},"blank",{"$f":"ROUND(FIRE1121_working!AC11,0)","v":4},{"$f":"ROUND(FIRE1121_working!AD11,0)","v":0},{"$f":"ROUND(FIRE1121_working!AE11,0)","v":0},{"$f":"ROUND(FIRE1121_working!AF11,0)","v":0},{"$f":"ROUND(FIRE1121_working!AG11,0)","v":0},{"$f":"ROUND(FIRE1121_working!AH11,0)","v":1},{"$f":"IF(FIRE1121_working!AI11=\"-\",\"-\",ROUND(FIRE1121_working!AI11,3))","v":0},{"$f":"IF(FIRE1121_working!AJ11=\"-\",\"-\",ROUND(FIRE1121_working!AJ11,3))","v":0.2},"blank",{"$f":"ROUND(FIRE1121_working!AL11,0)","v":69},{"$f":"ROUND(FIRE1121_working!AM11,0)","v":1},{"$f":"ROUND(FIRE1121_working!AN11,0)","v":0},{"$f":"ROUND(FIRE1121_working!AO11,0)","v":3},{"$f":"ROUND(FIRE1121_working!AP11,0)","v":3},{"$f":"ROUND(FIRE1121_working!AQ11,0)","v":42},{"$f":"IF(FIRE1121_working!AR11=\"-\",\"-\",ROUND(FIRE1121_working!AR11,3))","v":9.1999999999999998E-2},{"$f":"IF(FIRE1121_working!AS11=\"-\",\"-\",ROUND(FIRE1121_working!AS11,3))","v":0.35599999999999998},"blank",{"$f":"ROUND(FIRE1121_working!AU11,0)","v":387},{"$f":"ROUND(FIRE1121_working!AV11,0)","v":6},{"$f":"ROUND(FIRE1121_working!AW11,0)","v":1},{"$f":"ROUND(FIRE1121_working!AX11,0)","v":6},{"$f":"ROUND(FIRE1121_working!AY11,0)","v":23},{"$f":"ROUND(FIRE1121_working!AZ11,0)","v":269},{"$f":"IF(FIRE1121_working!BA11=\"-\",\"-\",ROUND(FIRE1121_working!BA11,3))","v":8.5000000000000006E-2},{"$f":"IF(FIRE1121_working!BB11=\"-\",\"-\",ROUND(FIRE1121_working!BB11,3))","v":0.38900000000000001},"blank"]
["Avon",{"$f":"ROUND(FIRE1121_working!B12,0)","v":41},{"$f":"ROUND(FIRE1121_working!C12,0)","v":2},{"$f":"ROUND(FIRE1121_working!D12,0)","v":0},{"$f":"ROUND(FIRE1121_working!E12,0)","v":0},{"$f":"ROUND(FIRE1121_working!F12,0)","v":6},{"$f":"ROUND(FIRE1121_working!G12,0)","v":3},{"$f":"IF(FIRE1121_working!H12=\"-\",\"-\",ROUND(FIRE1121_working!H12,3))","v":0.16300000000000001},{"$f":"IF(FIRE1121_working!I12=\"-\",\"-\",ROUND(FIRE1121_working!I12,3))","v":5.8000000000000003E-2},"blank",{"$f":"ROUND(FIRE1121_working!K12,0)","v":12},{"$f":"ROUND(FIRE1121_working!L12,0)","v":0},{"$f":"ROUND(FIRE1121_working!M12,0)","v":0},{"$f":"ROUND(FIRE1121_working!N12,0)","v":0},{"$f":"ROUND(FIRE1121_working!O12,0)","v":0},{"$f":"ROUND(FIRE1121_working!P12,0)","v":2},{"$f":"IF(FIRE1121_working!Q12=\"-\",\"-\",ROUND(FIRE1121_working!Q12,3))","v":0},{"$f":"IF(FIRE1121_working!R12=\"-\",\"-\",ROUND(FIRE1121_working!R12,3))","v":0.14299999999999999},"blank",{"$f":"ROUND(FIRE1121_working!T12,0)","v":53},{"$f":"ROUND(FIRE1121_working!U12,0)","v":2},{"$f":"ROUND(FIRE1121_working!V12,0)","v":0},{"$f":"ROUND(FIRE1121_working!W12,0)","v":0},{"$f":"ROUND(FIRE1121_working!X12,0)","v":6},{"$f":"ROUND(FIRE1121_working!Y12,0)","v":5},{"$f":"IF(FIRE1121_working!Z12=\"-\",\"-\",ROUND(FIRE1121_working!Z12,3))","v":0.13100000000000001},{"$f":"IF(FIRE1121_working!AA12=\"-\",\"-\",ROUND(FIRE1121_working!AA12,3))","v":7.5999999999999998E-2},"blank",{"$f":"ROUND(FIRE1121_working!AC12,0)","v":7},{"$f":"ROUND(FIRE1121_working!AD12,0)","v":0},{"$f":"ROUND(FIRE1121_working!AE12,0)","v":0},{"$f":"ROUND(FIRE1121_working!AF12,0)","v":0},{"$f":"ROUND(FIRE1121_working!AG12,0)","v":0},{"$f":"ROUND(FIRE1121_working!AH12,0)","v":0},{"$f":"IF(FIRE1121_working!AI12=\"-\",\"-\",ROUND(FIRE1121_working!AI12,3))","v":0},{"$f":"IF(FIRE1121_working!AJ12=\"-\",\"-\",ROUND(FIRE1121_working!AJ12,3))","v":0},"blank",{"$f":"ROUND(FIRE1121_working!AL12,0)","v":40},{"$f":"ROUND(FIRE1121_working!AM12,0)","v":0},{"$f":"ROUND(FIRE1121_working!AN12,0)","v":0},{"$f":"ROUND(FIRE1121_working!AO12,0)","v":0},{"$f":"ROUND(FIRE1121_working!AP12,0)","v":2},{"$f":"ROUND(FIRE1121_working!AQ12,0)","v":4},{"$f":"IF(FIRE1121_working!AR12=\"-\",\"-\",ROUND(FIRE1121_working!AR12,3))","v":4.8000000000000001E-2},{"$f":"IF(FIRE1121_working!AS12=\"-\",\"-\",ROUND(FIRE1121_working!AS12,3))","v":8.6999999999999994E-2},"blank",{"$f":"ROUND(FIRE1121_working!AU12,0)","v":100},{"$f":"ROUND(FIRE1121_working!AV12,0)","v":2},{"$f":"ROUND(FIRE1121_working!AW12,0)","v":0},{"$f":"ROUND(FIRE1121_working!AX12,0)","v":0},{"$f":"ROUND(FIRE1121_working!AY12,0)","v":8},{"$f":"ROUND(FIRE1121_working!AZ12,0)","v":9},{"$f":"IF(FIRE1121_working!BA12=\"-\",\"-\",ROUND(FIRE1121_working!BA12,3))","v":9.0999999999999998E-2},{"$f":"IF(FIRE1121_working!BB12=\"-\",\"-\",ROUND(FIRE1121_working!BB12,3))","v":7.5999999999999998E-2},"blank"]
["Bedfordshire",{"$f":"ROUND(FIRE1121_working!B13,0)","v":15},{"$f":"ROUND(FIRE1121_working!C13,0)","v":0},{"$f":"ROUND(FIRE1121_working!D13,0)","v":0},{"$f":"ROUND(FIRE1121_working!E13,0)","v":1},{"$f":"ROUND(FIRE1121_working!F13,0)","v":0},{"$f":"ROUND(FIRE1121_working!G13,0)","v":0},{"$f":"IF(FIRE1121_working!H13=\"-\",\"-\",ROUND(FIRE1121_working!H13,3))","v":6.3E-2},{"$f":"IF(FIRE1121_working!I13=\"-\",\"-\",ROUND(FIRE1121_working!I13,3))","v":0},"blank",{"$f":"ROUND(FIRE1121_working!K13,0)","v":19},{"$f":"ROUND(FIRE1121_working!L13,0)","v":0},{"$f":"ROUND(FIRE1121_working!M13,0)","v":0},{"$f":"ROUND(FIRE1121_working!N13,0)","v":0},{"$f":"ROUND(FIRE1121_working!O13,0)","v":0},{"$f":"ROUND(FIRE1121_working!P13,0)","v":2},{"$f":"IF(FIRE1121_working!Q13=\"-\",\"-\",ROUND(FIRE1121_working!Q13,3))","v":0},{"$f":"IF(FIRE1121_working!R13=\"-\",\"-\",ROUND(FIRE1121_working!R13,3))","v":9.5000000000000001E-2},"blank",{"$f":"ROUND(FIRE1121_working!T13,0)","v":34},{"$f":"ROUND(FIRE1121_working!U13,0)","v":0},{"$f":"ROUND(FIRE1121_working!V13,0)","v":0},{"$f":"ROUND(FIRE1121_working!W13,0)","v":1},{"$f":"ROUND(FIRE1121_working!X13,0)","v":0},{"$f":"ROUND(FIRE1121_working!Y13,0)","v":2},{"$f":"IF(FIRE1121_working!Z13=\"-\",\"-\",ROUND(FIRE1121_working!Z13,3))","v":2.9000000000000001E-2},{"$f":"IF(FIRE1121_working!AA13=\"-\",\"-\",ROUND(FIRE1121_working!AA13,3))","v":5.3999999999999999E-2},"blank",{"$f":"ROUND(FIRE1121_working!AC13,0)","v":3},{"$f":"ROUND(FIRE1121_working!AD13,0)","v":0},{"$f":"ROUND(FIRE1121_working!AE13,0)","v":1},{"$f":"ROUND(FIRE1121_working!AF13,0)","v":0},{"$f":"ROUND(FIRE1121_working!AG13,0)","v":0},{"$f":"ROUND(FIRE1121_working!AH13,0)","v":0},{"$f":"IF(FIRE1121_working!AI13=\"-\",\"-\",ROUND(FIRE1121_working!AI13,3))","v":0.25},{"$f":"IF(FIRE1121_working!AJ13=\"-\",\"-\",ROUND(FIRE1121_working!AJ13,3))","v":0},"blank",{"$f":"ROUND(FIRE1121_working!AL13,0)","v":20},{"$f":"ROUND(FIRE1121_working!AM13,0)","v":0},{"$f":"ROUND(FIRE1121_working!AN13,0)","v":2},{"$f":"ROUND(FIRE1121_working!AO13,0)","v":3},{"$f":"ROUND(FIRE1121_working!AP13,0)","v":6},{"$f":"ROUND(FIRE1121_working!AQ13,0)","v":17},{"$f":"IF(FIRE1121_working!AR13=\"-\",\"-\",ROUND(FIRE1121_working!AR13,3))","v":0.35499999999999998},{"$f":"IF(FIRE1121_working!AS13=\"-\",\"-\",ROUND(FIRE1121_working!AS13,3))","v":0.35399999999999998},"blank",{"$f":"ROUND(FIRE1121_working!AU13,0)","v":57},{"$f":"ROUND(FIRE1121_working!AV13,0)","v":0},{"$f":"ROUND(FIRE1121_working!AW13,0)","v":3},{"$f":"ROUND(FIRE1121_working!AX13,0)","v":4},{"$f":"ROUND(FIRE1121_working!AY13,0)","v":6},{"$f":"ROUND(FIRE1121_working!AZ13,0)","v":19},{"$f":"IF(FIRE1121_working!BA13=\"-\",\"-\",ROUND(FIRE1121_working!BA13,3))","v":0.186},{"$f":"IF(FIRE1121_working!BB13=\"-\",\"-\",ROUND(FIRE1121_working!BB13,3))","v":0.21299999999999999},"blank"]
["Berkshire",{"$f":"ROUND(FIRE1121_working!B14,0)","v":34},{"$f":"ROUND(FIRE1121_working!C14,0)","v":0},{"$f":"ROUND(FIRE1121_working!D14,0)","v":0},{"$f":"ROUND(FIRE1121_working!E14,0)","v":0},{"$f":"ROUND(FIRE1121_working!F14,0)","v":0},{"$f":"ROUND(FIRE1121_working!G14,0)","v":0},{"$f":"IF(FIRE1121_working!H14=\"-\",\"-\",ROUND(FIRE1121_working!H14,3))","v":0},{"$f":"IF(FIRE1121_working!I14=\"-\",\"-\",ROUND(FIRE1121_working!I14,3))","v":0},"blank",{"$f":"ROUND(FIRE1121_working!K14,0)","v":9},{"$f":"ROUND(FIRE1121_working!L14,0)","v":0},{"$f":"ROUND(FIRE1121_working!M14,0)","v":0},{"$f":"ROUND(FIRE1121_working!N14,0)","v":0},{"$f":"ROUND(FIRE1121_working!O14,0)","v":1},{"$f":"ROUND(FIRE1121_working!P14,0)","v":0},{"$f":"IF(FIRE1121_working!Q14=\"-\",\"-\",ROUND(FIRE1121_working!Q14,3))","v":0.1},{"$f":"IF(FIRE1121_working!R14=\"-\",\"-\",ROUND(FIRE1121_working!R14,3))","v":0},"blank",{"$f":"ROUND(FIRE1121_working!T14,0)","v":43},{"$f":"ROUND(FIRE1121_working!U14,0)","v":0},{"$f":"ROUND(FIRE1121_working!V14,0)","v":0},{"$f":"ROUND(FIRE1121_working!W14,0)","v":0},{"$f":"ROUND(FIRE1121_working!X14,0)","v":1},{"$f":"ROUND(FIRE1121_working!Y14,0)","v":0},{"$f":"IF(FIRE1121_working!Z14=\"-\",\"-\",ROUND(FIRE1121_working!Z14,3))","v":2.3E-2},{"$f":"IF(FIRE1121_working!AA14=\"-\",\"-\",ROUND(FIRE1121_working!AA14,3))","v":0},"blank",{"$f":"ROUND(FIRE1121_working!AC14,0)","v":4},{"$f":"ROUND(FIRE1121_working!AD14,0)","v":0},{"$f":"ROUND(FIRE1121_working!AE14,0)","v":0},{"$f":"ROUND(FIRE1121_working!AF14,0)","v":0},{"$f":"ROUND(FIRE1121_working!AG14,0)","v":0},{"$f":"ROUND(FIRE1121_working!AH14,0)","v":0},{"$f":"IF(FIRE1121_working!AI14=\"-\",\"-\",ROUND(FIRE1121_working!AI14,3))","v":0},{"$f":"IF(FIRE1121_working!AJ14=\"-\",\"-\",ROUND(FIRE1121_working!AJ14,3))","v":0},"blank",{"$f":"ROUND(FIRE1121_working!AL14,0)","v":17},{"$f":"ROUND(FIRE1121_working!AM14,0)","v":0},{"$f":"ROUND(FIRE1121_working!AN14,0)","v":1},{"$f":"ROUND(FIRE1121_working!AO14,0)","v":1},{"$f":"ROUND(FIRE1121_working!AP14,0)","v":1},{"$f":"ROUND(FIRE1121_working!AQ14,0)","v":0},{"$f":"IF(FIRE1121_working!AR14=\"-\",\"-\",ROUND(FIRE1121_working!AR14,3))","v":0.15},{"$f":"IF(FIRE1121_working!AS14=\"-\",\"-\",ROUND(FIRE1121_working!AS14,3))","v":0},"blank",{"$f":"ROUND(FIRE1121_working!AU14,0)","v":64},{"$f":"ROUND(FIRE1121_working!AV14,0)","v":0},{"$f":"ROUND(FIRE1121_working!AW14,0)","v":1},{"$f":"ROUND(FIRE1121_working!AX14,0)","v":1},{"$f":"ROUND(FIRE1121_working!AY14,0)","v":2},{"$f":"ROUND(FIRE1121_working!AZ14,0)","v":0},{"$f":"IF(FIRE1121_working!BA14=\"-\",\"-\",ROUND(FIRE1121_working!BA14,3))","v":5.8999999999999997E-2},{"$f":"IF(FIRE1121_working!BB14=\"-\",\"-\",ROUND(FIRE1121_working!BB14,3))","v":0},"blank"]
["Buckinghamshire",{"$f":"ROUND(FIRE1121_working!B15,0)","v":38},{"$f":"ROUND(FIRE1121_working!C15,0)","v":5},{"$f":"ROUND(FIRE1121_working!D15,0)","v":1},{"$f":"ROUND(FIRE1121_working!E15,0)","v":1},{"$f":"ROUND(FIRE1121_working!F15,0)","v":1},{"$f":"ROUND(FIRE1121_working!G15,0)","v":3},{"$f":"IF(FIRE1121_working!H15=\"-\",\"-\",ROUND(FIRE1121_working!H15,3))","v":0.17399999999999999},{"$f":"IF(FIRE1121_working!I15=\"-\",\"-\",ROUND(FIRE1121_working!I15,3))","v":6.0999999999999999E-2},"blank",{"$f":"ROUND(FIRE1121_working!K15,0)","v":9},{"$f":"ROUND(FIRE1121_working!L15,0)","v":3},{"$f":"ROUND(FIRE1121_working!M15,0)","v":1},{"$f":"ROUND(FIRE1121_working!N15,0)","v":0},{"$f":"ROUND(FIRE1121_working!O15,0)","v":0},{"$f":"ROUND(FIRE1121_working!P15,0)","v":3},{"$f":"IF(FIRE1121_working!Q15=\"-\",\"-\",ROUND(FIRE1121_working!Q15,3))","v":0.308},{"$f":"IF(FIRE1121_working!R15=\"-\",\"-\",ROUND(FIRE1121_working!R15,3))","v":0.188},"blank",{"$f":"ROUND(FIRE1121_working!T15,0)","v":47},{"$f":"ROUND(FIRE1121_working!U15,0)","v":8},{"$f":"ROUND(FIRE1121_working!V15,0)","v":2},{"$f":"ROUND(FIRE1121_working!W15,0)","v":1},{"$f":"ROUND(FIRE1121_working!X15,0)","v":1},{"$f":"ROUND(FIRE1121_working!Y15,0)","v":6},{"$f":"IF(FIRE1121_working!Z15=\"-\",\"-\",ROUND(FIRE1121_working!Z15,3))","v":0.20300000000000001},{"$f":"IF(FIRE1121_working!AA15=\"-\",\"-\",ROUND(FIRE1121_working!AA15,3))","v":9.1999999999999998E-2},"blank",{"$f":"ROUND(FIRE1121_working!AC15,0)","v":0},{"$f":"ROUND(FIRE1121_working!AD15,0)","v":0},{"$f":"ROUND(FIRE1121_working!AE15,0)","v":0},{"$f":"ROUND(FIRE1121_working!AF15,0)","v":0},{"$f":"ROUND(FIRE1121_working!AG15,0)","v":0},{"$f":"ROUND(FIRE1121_working!AH15,0)","v":0},{"$f":"IF(FIRE1121_working!AI15=\"-\",\"-\",ROUND(FIRE1121_working!AI15,3))","v":"-"},{"$f":"IF(FIRE1121_working!AJ15=\"-\",\"-\",ROUND(FIRE1121_working!AJ15,3))","v":"-"},"blank",{"$f":"ROUND(FIRE1121_working!AL15,0)","v":23},{"$f":"ROUND(FIRE1121_working!AM15,0)","v":1},{"$f":"ROUND(FIRE1121_working!AN15,0)","v":0},{"$f":"ROUND(FIRE1121_working!AO15,0)","v":4},{"$f":"ROUND(FIRE1121_working!AP15,0)","v":0},{"$f":"ROUND(FIRE1121_working!AQ15,0)","v":2},{"$f":"IF(FIRE1121_working!AR15=\"-\",\"-\",ROUND(FIRE1121_working!AR15,3))","v":0.17899999999999999},{"$f":"IF(FIRE1121_working!AS15=\"-\",\"-\",ROUND(FIRE1121_working!AS15,3))","v":6.7000000000000004E-2},"blank",{"$f":"ROUND(FIRE1121_working!AU15,0)","v":70},{"$f":"ROUND(FIRE1121_working!AV15,0)","v":9},{"$f":"ROUND(FIRE1121_working!AW15,0)","v":2},{"$f":"ROUND(FIRE1121_working!AX15,0)","v":5},{"$f":"ROUND(FIRE1121_working!AY15,0)","v":1},{"$f":"ROUND(FIRE1121_working!AZ15,0)","v":8},{"$f":"IF(FIRE1121_working!BA15=\"-\",\"-\",ROUND(FIRE1121_working!BA15,3))","v":0.19500000000000001},{"$f":"IF(FIRE1121_working!BB15=\"-\",\"-\",ROUND(FIRE1121_working!BB15,3))","v":8.4000000000000005E-2},"blank"]
["Cambridgeshire",{"$f":"ROUND(FIRE1121_working!B16,0)","v":9},{"$f":"ROUND(FIRE1121_working!C16,0)","v":0},{"$f":"ROUND(FIRE1121_working!D16,0)","v":0},{"$f":"ROUND(FIRE1121_working!E16,0)","v":0},{"$f":"ROUND(FIRE1121_working!F16,0)","v":0},{"$f":"ROUND(FIRE1121_working!G16,0)","v":2},{"$f":"IF(FIRE1121_working!H16=\"-\",\"-\",ROUND(FIRE1121_working!H16,3))","v":0},{"$f":"IF(FIRE1121_working!I16=\"-\",\"-\",ROUND(FIRE1121_working!I16,3))","v":0.182},"blank",{"$f":"ROUND(FIRE1121_working!K16,0)","v":34},{"$f":"ROUND(FIRE1121_working!L16,0)","v":1},{"$f":"ROUND(FIRE1121_working!M16,0)","v":0},{"$f":"ROUND(FIRE1121_working!N16,0)","v":2},{"$f":"ROUND(FIRE1121_working!O16,0)","v":2},{"$f":"ROUND(FIRE1121_working!P16,0)","v":3},{"$f":"IF(FIRE1121_working!Q16=\"-\",\"-\",ROUND(FIRE1121_working!Q16,3))","v":0.128},{"$f":"IF(FIRE1121_working!R16=\"-\",\"-\",ROUND(FIRE1121_working!R16,3))","v":7.0999999999999994E-2},"blank",{"$f":"ROUND(FIRE1121_working!T16,0)","v":43},{"$f":"ROUND(FIRE1121_working!U16,0)","v":1},{"$f":"ROUND(FIRE1121_working!V16,0)","v":0},{"$f":"ROUND(FIRE1121_working!W16,0)","v":2},{"$f":"ROUND(FIRE1121_working!X16,0)","v":2},{"$f":"ROUND(FIRE1121_working!Y16,0)","v":5},{"$f":"IF(FIRE1121_working!Z16=\"-\",\"-\",ROUND(FIRE1121_working!Z16,3))","v":0.104},{"$f":"IF(FIRE1121_working!AA16=\"-\",\"-\",ROUND(FIRE1121_working!AA16,3))","v":9.4E-2},"blank",{"$f":"ROUND(FIRE1121_working!AC16,0)","v":0},{"$f":"ROUND(FIRE1121_working!AD16,0)","v":0},{"$f":"ROUND(FIRE1121_working!AE16,0)","v":0},{"$f":"ROUND(FIRE1121_working!AF16,0)","v":0},{"$f":"ROUND(FIRE1121_working!AG16,0)","v":0},{"$f":"ROUND(FIRE1121_working!AH16,0)","v":0},{"$f":"IF(FIRE1121_working!AI16=\"-\",\"-\",ROUND(FIRE1121_working!AI16,3))","v":"-"},{"$f":"IF(FIRE1121_working!AJ16=\"-\",\"-\",ROUND(FIRE1121_working!AJ16,3))","v":"-"},"blank",{"$f":"ROUND(FIRE1121_working!AL16,0)","v":8},{"$f":"ROUND(FIRE1121_working!AM16,0)","v":0},{"$f":"ROUND(FIRE1121_working!AN16,0)","v":0},{"$f":"ROUND(FIRE1121_working!AO16,0)","v":1},{"$f":"ROUND(FIRE1121_working!AP16,0)","v":1},{"$f":"ROUND(FIRE1121_working!AQ16,0)","v":7},{"$f":"IF(FIRE1121_working!AR16=\"-\",\"-\",ROUND(FIRE1121_working!AR16,3))","v":0.2},{"$f":"IF(FIRE1121_working!AS16=\"-\",\"-\",ROUND(FIRE1121_working!AS16,3))","v":0.41199999999999998},"blank",{"$f":"ROUND(FIRE1121_working!AU16,0)","v":51},{"$f":"ROUND(FIRE1121_working!AV16,0)","v":1},{"$f":"ROUND(FIRE1121_working!AW16,0)","v":0},{"$f":"ROUND(FIRE1121_working!AX16,0)","v":3},{"$f":"ROUND(FIRE1121_working!AY16,0)","v":3},{"$f":"ROUND(FIRE1121_working!AZ16,0)","v":12},{"$f":"IF(FIRE1121_working!BA16=\"-\",\"-\",ROUND(FIRE1121_working!BA16,3))","v":0.121},{"$f":"IF(FIRE1121_working!BB16=\"-\",\"-\",ROUND(FIRE1121_working!BB16,3))","v":0.17100000000000001},"blank"]
["Cheshire",{"$f":"ROUND(FIRE1121_working!B17,0)","v":45},{"$f":"ROUND(FIRE1121_working!C17,0)","v":0},{"$f":"ROUND(FIRE1121_working!D17,0)","v":1},{"$f":"ROUND(FIRE1121_working!E17,0)","v":1},{"$f":"ROUND(FIRE1121_working!F17,0)","v":0},{"$f":"ROUND(FIRE1121_working!G17,0)","v":1},{"$f":"IF(FIRE1121_working!H17=\"-\",\"-\",ROUND(FIRE1121_working!H17,3))","v":4.2999999999999997E-2},{"$f":"IF(FIRE1121_working!I17=\"-\",\"-\",ROUND(FIRE1121_working!I17,3))","v":2.1000000000000001E-2},"blank",{"$f":"ROUND(FIRE1121_working!K17,0)","v":26},{"$f":"ROUND(FIRE1121_working!L17,0)","v":0},{"$f":"ROUND(FIRE1121_working!M17,0)","v":0},{"$f":"ROUND(FIRE1121_working!N17,0)","v":0},{"$f":"ROUND(FIRE1121_working!O17,0)","v":1},{"$f":"ROUND(FIRE1121_working!P17,0)","v":2},{"$f":"IF(FIRE1121_working!Q17=\"-\",\"-\",ROUND(FIRE1121_working!Q17,3))","v":3.6999999999999998E-2},{"$f":"IF(FIRE1121_working!R17=\"-\",\"-\",ROUND(FIRE1121_working!R17,3))","v":6.9000000000000006E-2},"blank",{"$f":"ROUND(FIRE1121_working!T17,0)","v":71},{"$f":"ROUND(FIRE1121_working!U17,0)","v":0},{"$f":"ROUND(FIRE1121_working!V17,0)","v":1},{"$f":"ROUND(FIRE1121_working!W17,0)","v":1},{"$f":"ROUND(FIRE1121_working!X17,0)","v":1},{"$f":"ROUND(FIRE1121_working!Y17,0)","v":3},{"$f":"IF(FIRE1121_working!Z17=\"-\",\"-\",ROUND(FIRE1121_working!Z17,3))","v":4.1000000000000002E-2},{"$f":"IF(FIRE1121_working!AA17=\"-\",\"-\",ROUND(FIRE1121_working!AA17,3))","v":3.9E-2},"blank",{"$f":"ROUND(FIRE1121_working!AC17,0)","v":0},{"$f":"ROUND(FIRE1121_working!AD17,0)","v":0},{"$f":"ROUND(FIRE1121_working!AE17,0)","v":0},{"$f":"ROUND(FIRE1121_working!AF17,0)","v":0},{"$f":"ROUND(FIRE1121_working!AG17,0)","v":0},{"$f":"ROUND(FIRE1121_working!AH17,0)","v":0},{"$f":"IF(FIRE1121_working!AI17=\"-\",\"-\",ROUND(FIRE1121_working!AI17,3))","v":"-"},{"$f":"IF(FIRE1121_working!AJ17=\"-\",\"-\",ROUND(FIRE1121_working!AJ17,3))","v":"-"},"blank",{"$f":"ROUND(FIRE1121_working!AL17,0)","v":15},{"$f":"ROUND(FIRE1121_working!AM17,0)","v":1},{"$f":"ROUND(FIRE1121_working!AN17,0)","v":0},{"$f":"ROUND(FIRE1121_working!AO17,0)","v":0},{"$f":"ROUND(FIRE1121_working!AP17,0)","v":0},{"$f":"ROUND(FIRE1121_working!AQ17,0)","v":1},{"$f":"IF(FIRE1121_working!AR17=\"-\",\"-\",ROUND(FIRE1121_working!AR17,3))","v":6.3E-2},{"$f":"IF(FIRE1121_working!AS17=\"-\",\"-\",ROUND(FIRE1121_working!AS17,3))","v":5.8999999999999997E-2},"blank",{"$f":"ROUND(FIRE1121_working!AU17,0)","v":86},{"$f":"ROUND(FIRE1121_working!AV17,0)","v":1},{"$f":"ROUND(FIRE1121_working!AW17,0)","v":1},{"$f":"ROUND(FIRE1121_working!AX17,0)","v":1},{"$f":"ROUND(FIRE1121_working!AY17,0)","v":1},{"$f":"ROUND(FIRE1121_working!AZ17,0)","v":4},{"$f":"IF(FIRE1121_working!BA17=\"-\",\"-\",ROUND(FIRE1121_working!BA17,3))","v":4.3999999999999997E-2},{"$f":"IF(FIRE1121_working!BB17=\"-\",\"-\",ROUND(FIRE1121_working!BB17,3))","v":4.2999999999999997E-2},"blank"]
["Cleveland",{"$f":"ROUND(FIRE1121_working!B18,0)","v":0},{"$f":"ROUND(FIRE1121_working!C18,0)","v":0},{"$f":"ROUND(FIRE1121_working!D18,0)","v":0},{"$f":"ROUND(FIRE1121_working!E18,0)","v":0},{"$f":"ROUND(FIRE1121_working!F18,0)","v":0},{"$f":"ROUND(FIRE1121_working!G18,0)","v":0},{"$f":"IF(FIRE1121_working!H18=\"-\",\"-\",ROUND(FIRE1121_working!H18,3))","v":"-"},{"$f":"IF(FIRE1121_working!I18=\"-\",\"-\",ROUND(FIRE1121_working!I18,3))","v":"-"},"blank",{"$f":"ROUND(FIRE1121_working!K18,0)","v":12},{"$f":"ROUND(FIRE1121_working!L18,0)","v":0},{"$f":"ROUND(FIRE1121_working!M18,0)","v":0},{"$f":"ROUND(FIRE1121_working!N18,0)","v":0},{"$f":"ROUND(FIRE1121_working!O18,0)","v":0},{"$f":"ROUND(FIRE1121_working!P18,0)","v":1},{"$f":"IF(FIRE1121_working!Q18=\"-\",\"-\",ROUND(FIRE1121_working!Q18,3))","v":0},{"$f":"IF(FIRE1121_working!R18=\"-\",\"-\",ROUND(FIRE1121_working!R18,3))","v":7.6999999999999999E-2},"blank",{"$f":"ROUND(FIRE1121_working!T18,0)","v":12},{"$f":"ROUND(FIRE1121_working!U18,0)","v":0},{"$f":"ROUND(FIRE1121_working!V18,0)","v":0},{"$f":"ROUND(FIRE1121_working!W18,0)","v":0},{"$f":"ROUND(FIRE1121_working!X18,0)","v":0},{"$f":"ROUND(FIRE1121_working!Y18,0)","v":1},{"$f":"IF(FIRE1121_working!Z18=\"-\",\"-\",ROUND(FIRE1121_working!Z18,3))","v":0},{"$f":"IF(FIRE1121_working!AA18=\"-\",\"-\",ROUND(FIRE1121_working!AA18,3))","v":7.6999999999999999E-2},"blank",{"$f":"ROUND(FIRE1121_working!AC18,0)","v":2},{"$f":"ROUND(FIRE1121_working!AD18,0)","v":0},{"$f":"ROUND(FIRE1121_working!AE18,0)","v":0},{"$f":"ROUND(FIRE1121_working!AF18,0)","v":0},{"$f":"ROUND(FIRE1121_working!AG18,0)","v":0},{"$f":"ROUND(FIRE1121_working!AH18,0)","v":0},{"$f":"IF(FIRE1121_working!AI18=\"-\",\"-\",ROUND(FIRE1121_working!AI18,3))","v":0},{"$f":"IF(FIRE1121_working!AJ18=\"-\",\"-\",ROUND(FIRE1121_working!AJ18,3))","v":0},"blank",{"$f":"ROUND(FIRE1121_working!AL18,0)","v":16},{"$f":"ROUND(FIRE1121_working!AM18,0)","v":0},{"$f":"ROUND(FIRE1121_working!AN18,0)","v":0},{"$f":"ROUND(FIRE1121_working!AO18,0)","v":0},{"$f":"ROUND(FIRE1121_working!AP18,0)","v":0},{"$f":"ROUND(FIRE1121_working!AQ18,0)","v":0},{"$f":"IF(FIRE1121_working!AR18=\"-\",\"-\",ROUND(FIRE1121_working!AR18,3))","v":0},{"$f":"IF(FIRE1121_working!AS18=\"-\",\"-\",ROUND(FIRE1121_working!AS18,3))","v":0},"blank",{"$f":"ROUND(FIRE1121_working!AU18,0)","v":30},{"$f":"ROUND(FIRE1121_working!AV18,0)","v":0},{"$f":"ROUND(FIRE1121_working!AW18,0)","v":0},{"$f":"ROUND(FIRE1121_working!AX18,0)","v":0},{"$f":"ROUND(FIRE1121_working!AY18,0)","v":0},{"$f":"ROUND(FIRE1121_working!AZ18,0)","v":1},{"$f":"IF(FIRE1121_working!BA18=\"-\",\"-\",ROUND(FIRE1121_working!BA18,3))","v":0},{"$f":"IF(FIRE1121_working!BB18=\"-\",\"-\",ROUND(FIRE1121_working!BB18,3))","v":3.2000000000000001E-2},"blank"]
["Cornwall",{"$f":"ROUND(FIRE1121_working!B19,0)","v":0},{"$f":"ROUND(FIRE1121_working!C19,0)","v":0},{"$f":"ROUND(FIRE1121_working!D19,0)","v":0},{"$f":"ROUND(FIRE1121_working!E19,0)","v":0},{"$f":"ROUND(FIRE1121_working!F19,0)","v":0},{"$f":"ROUND(FIRE1121_working!G19,0)","v":0},{"$f":"IF(FIRE1121_working!H19=\"-\",\"-\",ROUND(FIRE1121_working!H19,3))","v":"-"},{"$f":"IF(FIRE1121_working!I19=\"-\",\"-\",ROUND(FIRE1121_working!I19,3))","v":"-"},"blank",{"$f":"ROUND(FIRE1121_working!K19,0)","v":1},{"$f":"ROUND(FIRE1121_working!L19,0)","v":0},{"$f":"ROUND(FIRE1121_working!M19,0)","v":0},{"$f":"ROUND(FIRE1121_working!N19,0)","v":0},{"$f":"ROUND(FIRE1121_working!O19,0)","v":0},{"$f":"ROUND(FIRE1121_working!P19,0)","v":35},{"$f":"IF(FIRE1121_working!Q19=\"-\",\"-\",ROUND(FIRE1121_working!Q19,3))","v":0},{"$f":"IF(FIRE1121_working!R19=\"-\",\"-\",ROUND(FIRE1121_working!R19,3))","v":0.97199999999999998},"blank",{"$f":"ROUND(FIRE1121_working!T19,0)","v":1},{"$f":"ROUND(FIRE1121_working!U19,0)","v":0},{"$f":"ROUND(FIRE1121_working!V19,0)","v":0},{"$f":"ROUND(FIRE1121_working!W19,0)","v":0},{"$f":"ROUND(FIRE1121_working!X19,0)","v":0},{"$f":"ROUND(FIRE1121_working!Y19,0)","v":35},{"$f":"IF(FIRE1121_working!Z19=\"-\",\"-\",ROUND(FIRE1121_working!Z19,3))","v":0},{"$f":"IF(FIRE1121_working!AA19=\"-\",\"-\",ROUND(FIRE1121_working!AA19,3))","v":0.97199999999999998},"blank",{"$f":"ROUND(FIRE1121_working!AC19,0)","v":0},{"$f":"ROUND(FIRE1121_working!AD19,0)","v":0},{"$f":"ROUND(FIRE1121_working!AE19,0)","v":0},{"$f":"ROUND(FIRE1121_working!AF19,0)","v":0},{"$f":"ROUND(FIRE1121_working!AG19,0)","v":0},{"$f":"ROUND(FIRE1121_working!AH19,0)","v":0},{"$f":"IF(FIRE1121_working!AI19=\"-\",\"-\",ROUND(FIRE1121_working!AI19,3))","v":"-"},{"$f":"IF(FIRE1121_working!AJ19=\"-\",\"-\",ROUND(FIRE1121_working!AJ19,3))","v":"-"},"blank",{"$f":"ROUND(FIRE1121_working!AL19,0)","v":2},{"$f":"ROUND(FIRE1121_working!AM19,0)","v":0},{"$f":"ROUND(FIRE1121_working!AN19,0)","v":0},{"$f":"ROUND(FIRE1121_working!AO19,0)","v":0},{"$f":"ROUND(FIRE1121_working!AP19,0)","v":0},{"$f":"ROUND(FIRE1121_working!AQ19,0)","v":8},{"$f":"IF(FIRE1121_working!AR19=\"-\",\"-\",ROUND(FIRE1121_working!AR19,3))","v":0},{"$f":"IF(FIRE1121_working!AS19=\"-\",\"-\",ROUND(FIRE1121_working!AS19,3))","v":0.8},"blank",{"$f":"ROUND(FIRE1121_working!AU19,0)","v":3},{"$f":"ROUND(FIRE1121_working!AV19,0)","v":0},{"$f":"ROUND(FIRE1121_working!AW19,0)","v":0},{"$f":"ROUND(FIRE1121_working!AX19,0)","v":0},{"$f":"ROUND(FIRE1121_working!AY19,0)","v":0},{"$f":"ROUND(FIRE1121_working!AZ19,0)","v":43},{"$f":"IF(FIRE1121_working!BA19=\"-\",\"-\",ROUND(FIRE1121_working!BA19,3))","v":0},{"$f":"IF(FIRE1121_working!BB19=\"-\",\"-\",ROUND(FIRE1121_working!BB19,3))","v":0.93500000000000005},"blank"]
["Cumbria",{"$f":"ROUND(FIRE1121_working!B20,0)","v":9},{"$f":"ROUND(FIRE1121_working!C20,0)","v":0},{"$f":"ROUND(FIRE1121_working!D20,0)","v":0},{"$f":"ROUND(FIRE1121_working!E20,0)","v":0},{"$f":"ROUND(FIRE1121_working!F20,0)","v":0},{"$f":"ROUND(FIRE1121_working!G20,0)","v":9},{"$f":"IF(FIRE1121_working!H20=\"-\",\"-\",ROUND(FIRE1121_working!H20,3))","v":0},{"$f":"IF(FIRE1121_working!I20=\"-\",\"-\",ROUND(FIRE1121_working!I20,3))","v":0.5},"blank",{"$f":"ROUND(FIRE1121_working!K20,0)","v":3},{"$f":"ROUND(FIRE1121_working!L20,0)","v":0},{"$f":"ROUND(FIRE1121_working!M20,0)","v":0},{"$f":"ROUND(FIRE1121_working!N20,0)","v":0},{"$f":"ROUND(FIRE1121_working!O20,0)","v":0},{"$f":"ROUND(FIRE1121_working!P20,0)","v":15},{"$f":"IF(FIRE1121_working!Q20=\"-\",\"-\",ROUND(FIRE1121_working!Q20,3))","v":0},{"$f":"IF(FIRE1121_working!R20=\"-\",\"-\",ROUND(FIRE1121_working!R20,3))","v":0.83299999999999996},"blank",{"$f":"ROUND(FIRE1121_working!T20,0)","v":12},{"$f":"ROUND(FIRE1121_working!U20,0)","v":0},{"$f":"ROUND(FIRE1121_working!V20,0)","v":0},{"$f":"ROUND(FIRE1121_working!W20,0)","v":0},{"$f":"ROUND(FIRE1121_working!X20,0)","v":0},{"$f":"ROUND(FIRE1121_working!Y20,0)","v":24},{"$f":"IF(FIRE1121_working!Z20=\"-\",\"-\",ROUND(FIRE1121_working!Z20,3))","v":0},{"$f":"IF(FIRE1121_working!AA20=\"-\",\"-\",ROUND(FIRE1121_working!AA20,3))","v":0.66700000000000004},"blank",{"$f":"ROUND(FIRE1121_working!AC20,0)","v":0},{"$f":"ROUND(FIRE1121_working!AD20,0)","v":0},{"$f":"ROUND(FIRE1121_working!AE20,0)","v":0},{"$f":"ROUND(FIRE1121_working!AF20,0)","v":0},{"$f":"ROUND(FIRE1121_working!AG20,0)","v":0},{"$f":"ROUND(FIRE1121_working!AH20,0)","v":0},{"$f":"IF(FIRE1121_working!AI20=\"-\",\"-\",ROUND(FIRE1121_working!AI20,3))","v":"-"},{"$f":"IF(FIRE1121_working!AJ20=\"-\",\"-\",ROUND(FIRE1121_working!AJ20,3))","v":"-"},"blank",{"$f":"ROUND(FIRE1121_working!AL20,0)","v":0},{"$f":"ROUND(FIRE1121_working!AM20,0)","v":1},{"$f":"ROUND(FIRE1121_working!AN20,0)","v":0},{"$f":"ROUND(FIRE1121_working!AO20,0)","v":0},{"$f":"ROUND(FIRE1121_working!AP20,0)","v":0},{"$f":"ROUND(FIRE1121_working!AQ20,0)","v":0},{"$f":"IF(FIRE1121_working!AR20=\"-\",\"-\",ROUND(FIRE1121_working!AR20,3))","v":1},{"$f":"IF(FIRE1121_working!AS20=\"-\",\"-\",ROUND(FIRE1121_working!AS20,3))","v":0},"blank",{"$f":"ROUND(FIRE1121_working!AU20,0)","v":12},{"$f":"ROUND(FIRE1121_working!AV20,0)","v":1},{"$f":"ROUND(FIRE1121_working!AW20,0)","v":0},{"$f":"ROUND(FIRE1121_working!AX20,0)","v":0},{"$f":"ROUND(FIRE1121_working!AY20,0)","v":0},{"$f":"ROUND(FIRE1121_working!AZ20,0)","v":24},{"$f":"IF(FIRE1121_working!BA20=\"-\",\"-\",ROUND(FIRE1121_working!BA20,3))","v":7.6999999999999999E-2},{"$f":"IF(FIRE1121_working!BB20=\"-\",\"-\",ROUND(FIRE1121_working!BB20,3))","v":0.64900000000000002},"blank"]
["Derbyshire",{"$f":"ROUND(FIRE1121_working!B21,0)","v":30},{"$f":"ROUND(FIRE1121_working!C21,0)","v":0},{"$f":"ROUND(FIRE1121_working!D21,0)","v":1},{"$f":"ROUND(FIRE1121_working!E21,0)","v":0},{"$f":"ROUND(FIRE1121_working!F21,0)","v":0},{"$f":"ROUND(FIRE1121_working!G21,0)","v":3},{"$f":"IF(FIRE1121_working!H21=\"-\",\"-\",ROUND(FIRE1121_working!H21,3))","v":3.2000000000000001E-2},{"$f":"IF(FIRE1121_working!I21=\"-\",\"-\",ROUND(FIRE1121_working!I21,3))","v":8.7999999999999995E-2},"blank",{"$f":"ROUND(FIRE1121_working!K21,0)","v":36},{"$f":"ROUND(FIRE1121_working!L21,0)","v":1},{"$f":"ROUND(FIRE1121_working!M21,0)","v":0},{"$f":"ROUND(FIRE1121_working!N21,0)","v":0},{"$f":"ROUND(FIRE1121_working!O21,0)","v":0},{"$f":"ROUND(FIRE1121_working!P21,0)","v":0},{"$f":"IF(FIRE1121_working!Q21=\"-\",\"-\",ROUND(FIRE1121_working!Q21,3))","v":2.7E-2},{"$f":"IF(FIRE1121_working!R21=\"-\",\"-\",ROUND(FIRE1121_working!R21,3))","v":0},"blank",{"$f":"ROUND(FIRE1121_working!T21,0)","v":66},{"$f":"ROUND(FIRE1121_working!U21,0)","v":1},{"$f":"ROUND(FIRE1121_working!V21,0)","v":1},{"$f":"ROUND(FIRE1121_working!W21,0)","v":0},{"$f":"ROUND(FIRE1121_working!X21,0)","v":0},{"$f":"ROUND(FIRE1121_working!Y21,0)","v":3},{"$f":"IF(FIRE1121_working!Z21=\"-\",\"-\",ROUND(FIRE1121_working!Z21,3))","v":2.9000000000000001E-2},{"$f":"IF(FIRE1121_working!AA21=\"-\",\"-\",ROUND(FIRE1121_working!AA21,3))","v":4.2000000000000003E-2},"blank",{"$f":"ROUND(FIRE1121_working!AC21,0)","v":0},{"$f":"ROUND(FIRE1121_working!AD21,0)","v":0},{"$f":"ROUND(FIRE1121_working!AE21,0)","v":0},{"$f":"ROUND(FIRE1121_working!AF21,0)","v":0},{"$f":"ROUND(FIRE1121_working!AG21,0)","v":0},{"$f":"ROUND(FIRE1121_working!AH21,0)","v":0},{"$f":"IF(FIRE1121_working!AI21=\"-\",\"-\",ROUND(FIRE1121_working!AI21,3))","v":"-"},{"$f":"IF(FIRE1121_working!AJ21=\"-\",\"-\",ROUND(FIRE1121_working!AJ21,3))","v":"-"},"blank",{"$f":"ROUND(FIRE1121_working!AL21,0)","v":18},{"$f":"ROUND(FIRE1121_working!AM21,0)","v":0},{"$f":"ROUND(FIRE1121_working!AN21,0)","v":0},{"$f":"ROUND(FIRE1121_working!AO21,0)","v":0},{"$f":"ROUND(FIRE1121_working!AP21,0)","v":0},{"$f":"ROUND(FIRE1121_working!AQ21,0)","v":9},{"$f":"IF(FIRE1121_working!AR21=\"-\",\"-\",ROUND(FIRE1121_working!AR21,3))","v":0},{"$f":"IF(FIRE1121_working!AS21=\"-\",\"-\",ROUND(FIRE1121_working!AS21,3))","v":0.33300000000000002},"blank",{"$f":"ROUND(FIRE1121_working!AU21,0)","v":84},{"$f":"ROUND(FIRE1121_working!AV21,0)","v":1},{"$f":"ROUND(FIRE1121_working!AW21,0)","v":1},{"$f":"ROUND(FIRE1121_working!AX21,0)","v":0},{"$f":"ROUND(FIRE1121_working!AY21,0)","v":0},{"$f":"ROUND(FIRE1121_working!AZ21,0)","v":12},{"$f":"IF(FIRE1121_working!BA21=\"-\",\"-\",ROUND(FIRE1121_working!BA21,3))","v":2.3E-2},{"$f":"IF(FIRE1121_working!BB21=\"-\",\"-\",ROUND(FIRE1121_working!BB21,3))","v":0.122},"blank"]
["Devon and Somerset",{"$f":"ROUND(FIRE1121_working!B22,0)","v":13},{"$f":"ROUND(FIRE1121_working!C22,0)","v":0},{"$f":"ROUND(FIRE1121_working!D22,0)","v":0},{"$f":"ROUND(FIRE1121_working!E22,0)","v":0},{"$f":"ROUND(FIRE1121_working!F22,0)","v":5},{"$f":"ROUND(FIRE1121_working!G22,0)","v":2},{"$f":"IF(FIRE1121_working!H22=\"-\",\"-\",ROUND(FIRE1121_working!H22,3))","v":0.27800000000000002},{"$f":"IF(FIRE1121_working!I22=\"-\",\"-\",ROUND(FIRE1121_working!I22,3))","v":0.1},"blank",{"$f":"ROUND(FIRE1121_working!K22,0)","v":79},{"$f":"ROUND(FIRE1121_working!L22,0)","v":2},{"$f":"ROUND(FIRE1121_working!M22,0)","v":1},{"$f":"ROUND(FIRE1121_working!N22,0)","v":1},{"$f":"ROUND(FIRE1121_working!O22,0)","v":3},{"$f":"ROUND(FIRE1121_working!P22,0)","v":0},{"$f":"IF(FIRE1121_working!Q22=\"-\",\"-\",ROUND(FIRE1121_working!Q22,3))","v":8.1000000000000003E-2},{"$f":"IF(FIRE1121_working!R22=\"-\",\"-\",ROUND(FIRE1121_working!R22,3))","v":0},"blank",{"$f":"ROUND(FIRE1121_working!T22,0)","v":92},{"$f":"ROUND(FIRE1121_working!U22,0)","v":2},{"$f":"ROUND(FIRE1121_working!V22,0)","v":1},{"$f":"ROUND(FIRE1121_working!W22,0)","v":1},{"$f":"ROUND(FIRE1121_working!X22,0)","v":8},{"$f":"ROUND(FIRE1121_working!Y22,0)","v":2},{"$f":"IF(FIRE1121_working!Z22=\"-\",\"-\",ROUND(FIRE1121_working!Z22,3))","v":0.115},{"$f":"IF(FIRE1121_working!AA22=\"-\",\"-\",ROUND(FIRE1121_working!AA22,3))","v":1.9E-2},"blank",{"$f":"ROUND(FIRE1121_working!AC22,0)","v":3},{"$f":"ROUND(FIRE1121_working!AD22,0)","v":0},{"$f":"ROUND(FIRE1121_working!AE22,0)","v":0},{"$f":"ROUND(FIRE1121_working!AF22,0)","v":0},{"$f":"ROUND(FIRE1121_working!AG22,0)","v":0},{"$f":"ROUND(FIRE1121_working!AH22,0)","v":0},{"$f":"IF(FIRE1121_working!AI22=\"-\",\"-\",ROUND(FIRE1121_working!AI22,3))","v":0},{"$f":"IF(FIRE1121_working!AJ22=\"-\",\"-\",ROUND(FIRE1121_working!AJ22,3))","v":0},"blank",{"$f":"ROUND(FIRE1121_working!AL22,0)","v":19},{"$f":"ROUND(FIRE1121_working!AM22,0)","v":0},{"$f":"ROUND(FIRE1121_working!AN22,0)","v":0},{"$f":"ROUND(FIRE1121_working!AO22,0)","v":0},{"$f":"ROUND(FIRE1121_working!AP22,0)","v":1},{"$f":"ROUND(FIRE1121_working!AQ22,0)","v":0},{"$f":"IF(FIRE1121_working!AR22=\"-\",\"-\",ROUND(FIRE1121_working!AR22,3))","v":0.05},{"$f":"IF(FIRE1121_working!AS22=\"-\",\"-\",ROUND(FIRE1121_working!AS22,3))","v":0},"blank",{"$f":"ROUND(FIRE1121_working!AU22,0)","v":114},{"$f":"ROUND(FIRE1121_working!AV22,0)","v":2},{"$f":"ROUND(FIRE1121_working!AW22,0)","v":1},{"$f":"ROUND(FIRE1121_working!AX22,0)","v":1},{"$f":"ROUND(FIRE1121_working!AY22,0)","v":9},{"$f":"ROUND(FIRE1121_working!AZ22,0)","v":2},{"$f":"IF(FIRE1121_working!BA22=\"-\",\"-\",ROUND(FIRE1121_working!BA22,3))","v":0.10199999999999999},{"$f":"IF(FIRE1121_working!BB22=\"-\",\"-\",ROUND(FIRE1121_working!BB22,3))","v":1.6E-2},"blank"]
["Dorset and Wiltshire",{"$f":"ROUND(FIRE1121_working!B23,0)","v":30},{"$f":"ROUND(FIRE1121_working!C23,0)","v":0},{"$f":"ROUND(FIRE1121_working!D23,0)","v":0},{"$f":"ROUND(FIRE1121_working!E23,0)","v":0},{"$f":"ROUND(FIRE1121_working!F23,0)","v":0},{"$f":"ROUND(FIRE1121_working!G23,0)","v":1},{"$f":"IF(FIRE1121_working!H23=\"-\",\"-\",ROUND(FIRE1121_working!H23,3))","v":0},{"$f":"IF(FIRE1121_working!I23=\"-\",\"-\",ROUND(FIRE1121_working!I23,3))","v":3.2000000000000001E-2},"blank",{"$f":"ROUND(FIRE1121_working!K23,0)","v":71},{"$f":"ROUND(FIRE1121_working!L23,0)","v":1},{"$f":"ROUND(FIRE1121_working!M23,0)","v":1},{"$f":"ROUND(FIRE1121_working!N23,0)","v":0},{"$f":"ROUND(FIRE1121_working!O23,0)","v":3},{"$f":"ROUND(FIRE1121_working!P23,0)","v":1},{"$f":"IF(FIRE1121_working!Q23=\"-\",\"-\",ROUND(FIRE1121_working!Q23,3))","v":6.6000000000000003E-2},{"$f":"IF(FIRE1121_working!R23=\"-\",\"-\",ROUND(FIRE1121_working!R23,3))","v":1.2999999999999999E-2},"blank",{"$f":"ROUND(FIRE1121_working!T23,0)","v":101},{"$f":"ROUND(FIRE1121_working!U23,0)","v":1},{"$f":"ROUND(FIRE1121_working!V23,0)","v":1},{"$f":"ROUND(FIRE1121_working!W23,0)","v":0},{"$f":"ROUND(FIRE1121_working!X23,0)","v":3},{"$f":"ROUND(FIRE1121_working!Y23,0)","v":2},{"$f":"IF(FIRE1121_working!Z23=\"-\",\"-\",ROUND(FIRE1121_working!Z23,3))","v":4.7E-2},{"$f":"IF(FIRE1121_working!AA23=\"-\",\"-\",ROUND(FIRE1121_working!AA23,3))","v":1.9E-2},"blank",{"$f":"ROUND(FIRE1121_working!AC23,0)","v":9},{"$f":"ROUND(FIRE1121_working!AD23,0)","v":0},{"$f":"ROUND(FIRE1121_working!AE23,0)","v":0},{"$f":"ROUND(FIRE1121_working!AF23,0)","v":0},{"$f":"ROUND(FIRE1121_working!AG23,0)","v":1},{"$f":"ROUND(FIRE1121_working!AH23,0)","v":0},{"$f":"IF(FIRE1121_working!AI23=\"-\",\"-\",ROUND(FIRE1121_working!AI23,3))","v":0.1},{"$f":"IF(FIRE1121_working!AJ23=\"-\",\"-\",ROUND(FIRE1121_working!AJ23,3))","v":0},"blank",{"$f":"ROUND(FIRE1121_working!AL23,0)","v":31},{"$f":"ROUND(FIRE1121_working!AM23,0)","v":0},{"$f":"ROUND(FIRE1121_working!AN23,0)","v":0},{"$f":"ROUND(FIRE1121_working!AO23,0)","v":0},{"$f":"ROUND(FIRE1121_working!AP23,0)","v":1},{"$f":"ROUND(FIRE1121_working!AQ23,0)","v":3},{"$f":"IF(FIRE1121_working!AR23=\"-\",\"-\",ROUND(FIRE1121_working!AR23,3))","v":3.1E-2},{"$f":"IF(FIRE1121_working!AS23=\"-\",\"-\",ROUND(FIRE1121_working!AS23,3))","v":8.5999999999999993E-2},"blank",{"$f":"ROUND(FIRE1121_working!AU23,0)","v":141},{"$f":"ROUND(FIRE1121_working!AV23,0)","v":1},{"$f":"ROUND(FIRE1121_working!AW23,0)","v":1},{"$f":"ROUND(FIRE1121_working!AX23,0)","v":0},{"$f":"ROUND(FIRE1121_working!AY23,0)","v":5},{"$f":"ROUND(FIRE1121_working!AZ23,0)","v":5},{"$f":"IF(FIRE1121_working!BA23=\"-\",\"-\",ROUND(FIRE1121_working!BA23,3))","v":4.7E-2},{"$f":"IF(FIRE1121_working!BB23=\"-\",\"-\",ROUND(FIRE1121_working!BB23,3))","v":3.3000000000000002E-2},"blank"]
["Durham",{"$f":"ROUND(FIRE1121_working!B24,0)","v":3},{"$f":"ROUND(FIRE1121_working!C24,0)","v":1},{"$f":"ROUND(FIRE1121_working!D24,0)","v":0},{"$f":"ROUND(FIRE1121_working!E24,0)","v":0},{"$f":"ROUND(FIRE1121_working!F24,0)","v":0},{"$f":"ROUND(FIRE1121_working!G24,0)","v":1},{"$f":"IF(FIRE1121_working!H24=\"-\",\"-\",ROUND(FIRE1121_working!H24,3))","v":0.25},{"$f":"IF(FIRE1121_working!I24=\"-\",\"-\",ROUND(FIRE1121_working!I24,3))","v":0.2},"blank",{"$f":"ROUND(FIRE1121_working!K24,0)","v":11},{"$f":"ROUND(FIRE1121_working!L24,0)","v":0},{"$f":"ROUND(FIRE1121_working!M24,0)","v":0},{"$f":"ROUND(FIRE1121_working!N24,0)","v":0},{"$f":"ROUND(FIRE1121_working!O24,0)","v":0},{"$f":"ROUND(FIRE1121_working!P24,0)","v":11},{"$f":"IF(FIRE1121_working!Q24=\"-\",\"-\",ROUND(FIRE1121_working!Q24,3))","v":0},{"$f":"IF(FIRE1121_working!R24=\"-\",\"-\",ROUND(FIRE1121_working!R24,3))","v":0.5},"blank",{"$f":"ROUND(FIRE1121_working!T24,0)","v":14},{"$f":"ROUND(FIRE1121_working!U24,0)","v":1},{"$f":"ROUND(FIRE1121_working!V24,0)","v":0},{"$f":"ROUND(FIRE1121_working!W24,0)","v":0},{"$f":"ROUND(FIRE1121_working!X24,0)","v":0},{"$f":"ROUND(FIRE1121_working!Y24,0)","v":12},{"$f":"IF(FIRE1121_working!Z24=\"-\",\"-\",ROUND(FIRE1121_working!Z24,3))","v":6.7000000000000004E-2},{"$f":"IF(FIRE1121_working!AA24=\"-\",\"-\",ROUND(FIRE1121_working!AA24,3))","v":0.44400000000000001},"blank",{"$f":"ROUND(FIRE1121_working!AC24,0)","v":1},{"$f":"ROUND(FIRE1121_working!AD24,0)","v":0},{"$f":"ROUND(FIRE1121_working!AE24,0)","v":0},{"$f":"ROUND(FIRE1121_working!AF24,0)","v":0},{"$f":"ROUND(FIRE1121_working!AG24,0)","v":0},{"$f":"ROUND(FIRE1121_working!AH24,0)","v":0},{"$f":"IF(FIRE1121_working!AI24=\"-\",\"-\",ROUND(FIRE1121_working!AI24,3))","v":0},{"$f":"IF(FIRE1121_working!AJ24=\"-\",\"-\",ROUND(FIRE1121_working!AJ24,3))","v":0},"blank",{"$f":"ROUND(FIRE1121_working!AL24,0)","v":8},{"$f":"ROUND(FIRE1121_working!AM24,0)","v":0},{"$f":"ROUND(FIRE1121_working!AN24,0)","v":0},{"$f":"ROUND(FIRE1121_working!AO24,0)","v":0},{"$f":"ROUND(FIRE1121_working!AP24,0)","v":0},{"$f":"ROUND(FIRE1121_working!AQ24,0)","v":5},{"$f":"IF(FIRE1121_working!AR24=\"-\",\"-\",ROUND(FIRE1121_working!AR24,3))","v":0},{"$f":"IF(FIRE1121_working!AS24=\"-\",\"-\",ROUND(FIRE1121_working!AS24,3))","v":0.38500000000000001},"blank",{"$f":"ROUND(FIRE1121_working!AU24,0)","v":23},{"$f":"ROUND(FIRE1121_working!AV24,0)","v":1},{"$f":"ROUND(FIRE1121_working!AW24,0)","v":0},{"$f":"ROUND(FIRE1121_working!AX24,0)","v":0},{"$f":"ROUND(FIRE1121_working!AY24,0)","v":0},{"$f":"ROUND(FIRE1121_working!AZ24,0)","v":17},{"$f":"IF(FIRE1121_working!BA24=\"-\",\"-\",ROUND(FIRE1121_working!BA24,3))","v":4.2000000000000003E-2},{"$f":"IF(FIRE1121_working!BB24=\"-\",\"-\",ROUND(FIRE1121_working!BB24,3))","v":0.41499999999999998},"blank"]
["East Sussex",{"$f":"ROUND(FIRE1121_working!B25,0)","v":20},{"$f":"ROUND(FIRE1121_working!C25,0)","v":2},{"$f":"ROUND(FIRE1121_working!D25,0)","v":0},{"$f":"ROUND(FIRE1121_working!E25,0)","v":0},{"$f":"ROUND(FIRE1121_working!F25,0)","v":0},{"$f":"ROUND(FIRE1121_working!G25,0)","v":4},{"$f":"IF(FIRE1121_working!H25=\"-\",\"-\",ROUND(FIRE1121_working!H25,3))","v":9.0999999999999998E-2},{"$f":"IF(FIRE1121_working!I25=\"-\",\"-\",ROUND(FIRE1121_working!I25,3))","v":0.154},"blank",{"$f":"ROUND(FIRE1121_working!K25,0)","v":29},{"$f":"ROUND(FIRE1121_working!L25,0)","v":1},{"$f":"ROUND(FIRE1121_working!M25,0)","v":0},{"$f":"ROUND(FIRE1121_working!N25,0)","v":0},{"$f":"ROUND(FIRE1121_working!O25,0)","v":0},{"$f":"ROUND(FIRE1121_working!P25,0)","v":7},{"$f":"IF(FIRE1121_working!Q25=\"-\",\"-\",ROUND(FIRE1121_working!Q25,3))","v":3.3000000000000002E-2},{"$f":"IF(FIRE1121_working!R25=\"-\",\"-\",ROUND(FIRE1121_working!R25,3))","v":0.189},"blank",{"$f":"ROUND(FIRE1121_working!T25,0)","v":49},{"$f":"ROUND(FIRE1121_working!U25,0)","v":3},{"$f":"ROUND(FIRE1121_working!V25,0)","v":0},{"$f":"ROUND(FIRE1121_working!W25,0)","v":0},{"$f":"ROUND(FIRE1121_working!X25,0)","v":0},{"$f":"ROUND(FIRE1121_working!Y25,0)","v":11},{"$f":"IF(FIRE1121_working!Z25=\"-\",\"-\",ROUND(FIRE1121_working!Z25,3))","v":5.8000000000000003E-2},{"$f":"IF(FIRE1121_working!AA25=\"-\",\"-\",ROUND(FIRE1121_working!AA25,3))","v":0.17499999999999999},"blank",{"$f":"ROUND(FIRE1121_working!AC25,0)","v":0},{"$f":"ROUND(FIRE1121_working!AD25,0)","v":0},{"$f":"ROUND(FIRE1121_working!AE25,0)","v":0},{"$f":"ROUND(FIRE1121_working!AF25,0)","v":0},{"$f":"ROUND(FIRE1121_working!AG25,0)","v":0},{"$f":"ROUND(FIRE1121_working!AH25,0)","v":0},{"$f":"IF(FIRE1121_working!AI25=\"-\",\"-\",ROUND(FIRE1121_working!AI25,3))","v":"-"},{"$f":"IF(FIRE1121_working!AJ25=\"-\",\"-\",ROUND(FIRE1121_working!AJ25,3))","v":"-"},"blank",{"$f":"ROUND(FIRE1121_working!AL25,0)","v":33},{"$f":"ROUND(FIRE1121_working!AM25,0)","v":0},{"$f":"ROUND(FIRE1121_working!AN25,0)","v":0},{"$f":"ROUND(FIRE1121_working!AO25,0)","v":0},{"$f":"ROUND(FIRE1121_working!AP25,0)","v":0},{"$f":"ROUND(FIRE1121_working!AQ25,0)","v":7},{"$f":"IF(FIRE1121_working!AR25=\"-\",\"-\",ROUND(FIRE1121_working!AR25,3))","v":0},{"$f":"IF(FIRE1121_working!AS25=\"-\",\"-\",ROUND(FIRE1121_working!AS25,3))","v":0.17499999999999999},"blank",{"$f":"ROUND(FIRE1121_working!AU25,0)","v":82},{"$f":"ROUND(FIRE1121_working!AV25,0)","v":3},{"$f":"ROUND(FIRE1121_working!AW25,0)","v":0},{"$f":"ROUND(FIRE1121_working!AX25,0)","v":0},{"$f":"ROUND(FIRE1121_working!AY25,0)","v":0},{"$f":"ROUND(FIRE1121_working!AZ25,0)","v":18},{"$f":"IF(FIRE1121_working!BA25=\"-\",\"-\",ROUND(FIRE1121_working!BA25,3))","v":3.5000000000000003E-2},{"$f":"IF(FIRE1121_working!BB25=\"-\",\"-\",ROUND(FIRE1121_working!BB25,3))","v":0.17499999999999999},"blank"]
["Essex",{"$f":"ROUND(FIRE1121_working!B26,0)","v":35},{"$f":"ROUND(FIRE1121_working!C26,0)","v":3},{"$f":"ROUND(FIRE1121_working!D26,0)","v":0},{"$f":"ROUND(FIRE1121_working!E26,0)","v":1},{"$f":"ROUND(FIRE1121_working!F26,0)","v":1},{"$f":"ROUND(FIRE1121_working!G26,0)","v":8},{"$f":"IF(FIRE1121_working!H26=\"-\",\"-\",ROUND(FIRE1121_working!H26,3))","v":0.125},{"$f":"IF(FIRE1121_working!I26=\"-\",\"-\",ROUND(FIRE1121_working!I26,3))","v":0.16700000000000001},"blank",{"$f":"ROUND(FIRE1121_working!K26,0)","v":54},{"$f":"ROUND(FIRE1121_working!L26,0)","v":2},{"$f":"ROUND(FIRE1121_working!M26,0)","v":0},{"$f":"ROUND(FIRE1121_working!N26,0)","v":1},{"$f":"ROUND(FIRE1121_working!O26,0)","v":4},{"$f":"ROUND(FIRE1121_working!P26,0)","v":13},{"$f":"IF(FIRE1121_working!Q26=\"-\",\"-\",ROUND(FIRE1121_working!Q26,3))","v":0.115},{"$f":"IF(FIRE1121_working!R26=\"-\",\"-\",ROUND(FIRE1121_working!R26,3))","v":0.17599999999999999},"blank",{"$f":"ROUND(FIRE1121_working!T26,0)","v":89},{"$f":"ROUND(FIRE1121_working!U26,0)","v":5},{"$f":"ROUND(FIRE1121_working!V26,0)","v":0},{"$f":"ROUND(FIRE1121_working!W26,0)","v":2},{"$f":"ROUND(FIRE1121_working!X26,0)","v":5},{"$f":"ROUND(FIRE1121_working!Y26,0)","v":21},{"$f":"IF(FIRE1121_working!Z26=\"-\",\"-\",ROUND(FIRE1121_working!Z26,3))","v":0.11899999999999999},{"$f":"IF(FIRE1121_working!AA26=\"-\",\"-\",ROUND(FIRE1121_working!AA26,3))","v":0.17199999999999999},"blank",{"$f":"ROUND(FIRE1121_working!AC26,0)","v":6},{"$f":"ROUND(FIRE1121_working!AD26,0)","v":0},{"$f":"ROUND(FIRE1121_working!AE26,0)","v":0},{"$f":"ROUND(FIRE1121_working!AF26,0)","v":0},{"$f":"ROUND(FIRE1121_working!AG26,0)","v":0},{"$f":"ROUND(FIRE1121_working!AH26,0)","v":0},{"$f":"IF(FIRE1121_working!AI26=\"-\",\"-\",ROUND(FIRE1121_working!AI26,3))","v":0},{"$f":"IF(FIRE1121_working!AJ26=\"-\",\"-\",ROUND(FIRE1121_working!AJ26,3))","v":0},"blank",{"$f":"ROUND(FIRE1121_working!AL26,0)","v":27},{"$f":"ROUND(FIRE1121_working!AM26,0)","v":0},{"$f":"ROUND(FIRE1121_working!AN26,0)","v":1},{"$f":"ROUND(FIRE1121_working!AO26,0)","v":2},{"$f":"ROUND(FIRE1121_working!AP26,0)","v":3},{"$f":"ROUND(FIRE1121_working!AQ26,0)","v":18},{"$f":"IF(FIRE1121_working!AR26=\"-\",\"-\",ROUND(FIRE1121_working!AR26,3))","v":0.182},{"$f":"IF(FIRE1121_working!AS26=\"-\",\"-\",ROUND(FIRE1121_working!AS26,3))","v":0.35299999999999998},"blank",{"$f":"ROUND(FIRE1121_working!AU26,0)","v":122},{"$f":"ROUND(FIRE1121_working!AV26,0)","v":5},{"$f":"ROUND(FIRE1121_working!AW26,0)","v":1},{"$f":"ROUND(FIRE1121_working!AX26,0)","v":4},{"$f":"ROUND(FIRE1121_working!AY26,0)","v":8},{"$f":"ROUND(FIRE1121_working!AZ26,0)","v":39},{"$f":"IF(FIRE1121_working!BA26=\"-\",\"-\",ROUND(FIRE1121_working!BA26,3))","v":0.129},{"$f":"IF(FIRE1121_working!BB26=\"-\",\"-\",ROUND(FIRE1121_working!BB26,3))","v":0.218},"blank"]
["Gloucestershire",{"$f":"ROUND(FIRE1121_working!B27,0)","v":19},{"$f":"ROUND(FIRE1121_working!C27,0)","v":2},{"$f":"ROUND(FIRE1121_working!D27,0)","v":1},{"$f":"ROUND(FIRE1121_working!E27,0)","v":0},{"$f":"ROUND(FIRE1121_working!F27,0)","v":3},{"$f":"ROUND(FIRE1121_working!G27,0)","v":5},{"$f":"IF(FIRE1121_working!H27=\"-\",\"-\",ROUND(FIRE1121_working!H27,3))","v":0.24},{"$f":"IF(FIRE1121_working!I27=\"-\",\"-\",ROUND(FIRE1121_working!I27,3))","v":0.16700000000000001},"blank",{"$f":"ROUND(FIRE1121_working!K27,0)","v":17},{"$f":"ROUND(FIRE1121_working!L27,0)","v":0},{"$f":"ROUND(FIRE1121_working!M27,0)","v":1},{"$f":"ROUND(FIRE1121_working!N27,0)","v":0},{"$f":"ROUND(FIRE1121_working!O27,0)","v":4},{"$f":"ROUND(FIRE1121_working!P27,0)","v":0},{"$f":"IF(FIRE1121_working!Q27=\"-\",\"-\",ROUND(FIRE1121_working!Q27,3))","v":0.22700000000000001},{"$f":"IF(FIRE1121_working!R27=\"-\",\"-\",ROUND(FIRE1121_working!R27,3))","v":0},"blank",{"$f":"ROUND(FIRE1121_working!T27,0)","v":36},{"$f":"ROUND(FIRE1121_working!U27,0)","v":2},{"$f":"ROUND(FIRE1121_working!V27,0)","v":2},{"$f":"ROUND(FIRE1121_working!W27,0)","v":0},{"$f":"ROUND(FIRE1121_working!X27,0)","v":7},{"$f":"ROUND(FIRE1121_working!Y27,0)","v":5},{"$f":"IF(FIRE1121_working!Z27=\"-\",\"-\",ROUND(FIRE1121_working!Z27,3))","v":0.23400000000000001},{"$f":"IF(FIRE1121_working!AA27=\"-\",\"-\",ROUND(FIRE1121_working!AA27,3))","v":9.6000000000000002E-2},"blank",{"$f":"ROUND(FIRE1121_working!AC27,0)","v":0},{"$f":"ROUND(FIRE1121_working!AD27,0)","v":0},{"$f":"ROUND(FIRE1121_working!AE27,0)","v":0},{"$f":"ROUND(FIRE1121_working!AF27,0)","v":0},{"$f":"ROUND(FIRE1121_working!AG27,0)","v":0},{"$f":"ROUND(FIRE1121_working!AH27,0)","v":0},{"$f":"IF(FIRE1121_working!AI27=\"-\",\"-\",ROUND(FIRE1121_working!AI27,3))","v":"-"},{"$f":"IF(FIRE1121_working!AJ27=\"-\",\"-\",ROUND(FIRE1121_working!AJ27,3))","v":"-"},"blank",{"$f":"ROUND(FIRE1121_working!AL27,0)","v":7},{"$f":"ROUND(FIRE1121_working!AM27,0)","v":0},{"$f":"ROUND(FIRE1121_working!AN27,0)","v":0},{"$f":"ROUND(FIRE1121_working!AO27,0)","v":0},{"$f":"ROUND(FIRE1121_working!AP27,0)","v":3},{"$f":"ROUND(FIRE1121_working!AQ27,0)","v":3},{"$f":"IF(FIRE1121_working!AR27=\"-\",\"-\",ROUND(FIRE1121_working!AR27,3))","v":0.3},{"$f":"IF(FIRE1121_working!AS27=\"-\",\"-\",ROUND(FIRE1121_working!AS27,3))","v":0.23100000000000001},"blank",{"$f":"ROUND(FIRE1121_working!AU27,0)","v":43},{"$f":"ROUND(FIRE1121_working!AV27,0)","v":2},{"$f":"ROUND(FIRE1121_working!AW27,0)","v":2},{"$f":"ROUND(FIRE1121_working!AX27,0)","v":0},{"$f":"ROUND(FIRE1121_working!AY27,0)","v":10},{"$f":"ROUND(FIRE1121_working!AZ27,0)","v":8},{"$f":"IF(FIRE1121_working!BA27=\"-\",\"-\",ROUND(FIRE1121_working!BA27,3))","v":0.246},{"$f":"IF(FIRE1121_working!BB27=\"-\",\"-\",ROUND(FIRE1121_working!BB27,3))","v":0.123},"blank"]
["Greater London",{"$f":"ROUND(FIRE1121_working!B28,0)","v":228},{"$f":"ROUND(FIRE1121_working!C28,0)","v":19},{"$f":"ROUND(FIRE1121_working!D28,0)","v":9},{"$f":"ROUND(FIRE1121_working!E28,0)","v":19},{"$f":"ROUND(FIRE1121_working!F28,0)","v":29},{"$f":"ROUND(FIRE1121_working!G28,0)","v":61},{"$f":"IF(FIRE1121_working!H28=\"-\",\"-\",ROUND(FIRE1121_working!H28,3))","v":0.25},{"$f":"IF(FIRE1121_working!I28=\"-\",\"-\",ROUND(FIRE1121_working!I28,3))","v":0.16700000000000001},"blank",{"$f":"ROUND(FIRE1121_working!K28,0)","v":0},{"$f":"ROUND(FIRE1121_working!L28,0)","v":0},{"$f":"ROUND(FIRE1121_working!M28,0)","v":0},{"$f":"ROUND(FIRE1121_working!N28,0)","v":0},{"$f":"ROUND(FIRE1121_working!O28,0)","v":0},{"$f":"ROUND(FIRE1121_working!P28,0)","v":0},{"$f":"IF(FIRE1121_working!Q28=\"-\",\"-\",ROUND(FIRE1121_working!Q28,3))","v":"-"},{"$f":"IF(FIRE1121_working!R28=\"-\",\"-\",ROUND(FIRE1121_working!R28,3))","v":"-"},"blank",{"$f":"ROUND(FIRE1121_working!T28,0)","v":228},{"$f":"ROUND(FIRE1121_working!U28,0)","v":19},{"$f":"ROUND(FIRE1121_working!V28,0)","v":9},{"$f":"ROUND(FIRE1121_working!W28,0)","v":19},{"$f":"ROUND(FIRE1121_working!X28,0)","v":29},{"$f":"ROUND(FIRE1121_working!Y28,0)","v":61},{"$f":"IF(FIRE1121_working!Z28=\"-\",\"-\",ROUND(FIRE1121_working!Z28,3))","v":0.25},{"$f":"IF(FIRE1121_working!AA28=\"-\",\"-\",ROUND(FIRE1121_working!AA28,3))","v":0.16700000000000001},"blank",{"$f":"ROUND(FIRE1121_working!AC28,0)","v":5},{"$f":"ROUND(FIRE1121_working!AD28,0)","v":2},{"$f":"ROUND(FIRE1121_working!AE28,0)","v":1},{"$f":"ROUND(FIRE1121_working!AF28,0)","v":0},{"$f":"ROUND(FIRE1121_working!AG28,0)","v":1},{"$f":"ROUND(FIRE1121_working!AH28,0)","v":2},{"$f":"IF(FIRE1121_working!AI28=\"-\",\"-\",ROUND(FIRE1121_working!AI28,3))","v":0.44400000000000001},{"$f":"IF(FIRE1121_working!AJ28=\"-\",\"-\",ROUND(FIRE1121_working!AJ28,3))","v":0.182},"blank",{"$f":"ROUND(FIRE1121_working!AL28,0)","v":64},{"$f":"ROUND(FIRE1121_working!AM28,0)","v":1},{"$f":"ROUND(FIRE1121_working!AN28,0)","v":10},{"$f":"ROUND(FIRE1121_working!AO28,0)","v":14},{"$f":"ROUND(FIRE1121_working!AP28,0)","v":11},{"$f":"ROUND(FIRE1121_working!AQ28,0)","v":14},{"$f":"IF(FIRE1121_working!AR28=\"-\",\"-\",ROUND(FIRE1121_working!AR28,3))","v":0.36},{"$f":"IF(FIRE1121_working!AS28=\"-\",\"-\",ROUND(FIRE1121_working!AS28,3))","v":0.123},"blank",{"$f":"ROUND(FIRE1121_working!AU28,0)","v":297},{"$f":"ROUND(FIRE1121_working!AV28,0)","v":22},{"$f":"ROUND(FIRE1121_working!AW28,0)","v":20},{"$f":"ROUND(FIRE1121_working!AX28,0)","v":33},{"$f":"ROUND(FIRE1121_working!AY28,0)","v":41},{"$f":"ROUND(FIRE1121_working!AZ28,0)","v":77},{"$f":"IF(FIRE1121_working!BA28=\"-\",\"-\",ROUND(FIRE1121_working!BA28,3))","v":0.28100000000000003},{"$f":"IF(FIRE1121_working!BB28=\"-\",\"-\",ROUND(FIRE1121_working!BB28,3))","v":0.157},"blank"]
["Greater Manchester",{"$f":"ROUND(FIRE1121_working!B29,0)","v":48},{"$f":"ROUND(FIRE1121_working!C29,0)","v":13},{"$f":"ROUND(FIRE1121_working!D29,0)","v":1},{"$f":"ROUND(FIRE1121_working!E29,0)","v":1},{"$f":"ROUND(FIRE1121_working!F29,0)","v":1},{"$f":"ROUND(FIRE1121_working!G29,0)","v":1},{"$f":"IF(FIRE1121_working!H29=\"-\",\"-\",ROUND(FIRE1121_working!H29,3))","v":0.25},{"$f":"IF(FIRE1121_working!I29=\"-\",\"-\",ROUND(FIRE1121_working!I29,3))","v":1.4999999999999999E-2},"blank",{"$f":"ROUND(FIRE1121_working!K29,0)","v":0},{"$f":"ROUND(FIRE1121_working!L29,0)","v":0},{"$f":"ROUND(FIRE1121_working!M29,0)","v":0},{"$f":"ROUND(FIRE1121_working!N29,0)","v":0},{"$f":"ROUND(FIRE1121_working!O29,0)","v":0},{"$f":"ROUND(FIRE1121_working!P29,0)","v":0},{"$f":"IF(FIRE1121_working!Q29=\"-\",\"-\",ROUND(FIRE1121_working!Q29,3))","v":"-"},{"$f":"IF(FIRE1121_working!R29=\"-\",\"-\",ROUND(FIRE1121_working!R29,3))","v":"-"},"blank",{"$f":"ROUND(FIRE1121_working!T29,0)","v":48},{"$f":"ROUND(FIRE1121_working!U29,0)","v":13},{"$f":"ROUND(FIRE1121_working!V29,0)","v":1},{"$f":"ROUND(FIRE1121_working!W29,0)","v":1},{"$f":"ROUND(FIRE1121_working!X29,0)","v":1},{"$f":"ROUND(FIRE1121_working!Y29,0)","v":1},{"$f":"IF(FIRE1121_working!Z29=\"-\",\"-\",ROUND(FIRE1121_working!Z29,3))","v":0.25},{"$f":"IF(FIRE1121_working!AA29=\"-\",\"-\",ROUND(FIRE1121_working!AA29,3))","v":1.4999999999999999E-2},"blank",{"$f":"ROUND(FIRE1121_working!AC29,0)","v":0},{"$f":"ROUND(FIRE1121_working!AD29,0)","v":0},{"$f":"ROUND(FIRE1121_working!AE29,0)","v":0},{"$f":"ROUND(FIRE1121_working!AF29,0)","v":0},{"$f":"ROUND(FIRE1121_working!AG29,0)","v":0},{"$f":"ROUND(FIRE1121_working!AH29,0)","v":0},{"$f":"IF(FIRE1121_working!AI29=\"-\",\"-\",ROUND(FIRE1121_working!AI29,3))","v":"-"},{"$f":"IF(FIRE1121_working!AJ29=\"-\",\"-\",ROUND(FIRE1121_working!AJ29,3))","v":"-"},"blank",{"$f":"ROUND(FIRE1121_working!AL29,0)","v":80},{"$f":"ROUND(FIRE1121_working!AM29,0)","v":1},{"$f":"ROUND(FIRE1121_working!AN29,0)","v":2},{"$f":"ROUND(FIRE1121_working!AO29,0)","v":1},{"$f":"ROUND(FIRE1121_working!AP29,0)","v":1},{"$f":"ROUND(FIRE1121_working!AQ29,0)","v":4},{"$f":"IF(FIRE1121_working!AR29=\"-\",\"-\",ROUND(FIRE1121_working!AR29,3))","v":5.8999999999999997E-2},{"$f":"IF(FIRE1121_working!AS29=\"-\",\"-\",ROUND(FIRE1121_working!AS29,3))","v":4.4999999999999998E-2},"blank",{"$f":"ROUND(FIRE1121_working!AU29,0)","v":128},{"$f":"ROUND(FIRE1121_working!AV29,0)","v":14},{"$f":"ROUND(FIRE1121_working!AW29,0)","v":3},{"$f":"ROUND(FIRE1121_working!AX29,0)","v":2},{"$f":"ROUND(FIRE1121_working!AY29,0)","v":2},{"$f":"ROUND(FIRE1121_working!AZ29,0)","v":5},{"$f":"IF(FIRE1121_working!BA29=\"-\",\"-\",ROUND(FIRE1121_working!BA29,3))","v":0.14099999999999999},{"$f":"IF(FIRE1121_working!BB29=\"-\",\"-\",ROUND(FIRE1121_working!BB29,3))","v":3.2000000000000001E-2},"blank"]
["Hampshire and Isle of Wight",{"$f":"ROUND(FIRE1121_working!B30,0)","v":64},{"$f":"ROUND(FIRE1121_working!C30,0)","v":1},{"$f":"ROUND(FIRE1121_working!D30,0)","v":0},{"$f":"ROUND(FIRE1121_working!E30,0)","v":0},{"$f":"ROUND(FIRE1121_working!F30,0)","v":3},{"$f":"ROUND(FIRE1121_working!G30,0)","v":15},{"$f":"IF(FIRE1121_working!H30=\"-\",\"-\",ROUND(FIRE1121_working!H30,3))","v":5.8999999999999997E-2},{"$f":"IF(FIRE1121_working!I30=\"-\",\"-\",ROUND(FIRE1121_working!I30,3))","v":0.18099999999999999},"blank",{"$f":"ROUND(FIRE1121_working!K30,0)","v":66},{"$f":"ROUND(FIRE1121_working!L30,0)","v":1},{"$f":"ROUND(FIRE1121_working!M30,0)","v":0},{"$f":"ROUND(FIRE1121_working!N30,0)","v":0},{"$f":"ROUND(FIRE1121_working!O30,0)","v":4},{"$f":"ROUND(FIRE1121_working!P30,0)","v":4},{"$f":"IF(FIRE1121_working!Q30=\"-\",\"-\",ROUND(FIRE1121_working!Q30,3))","v":7.0000000000000007E-2},{"$f":"IF(FIRE1121_working!R30=\"-\",\"-\",ROUND(FIRE1121_working!R30,3))","v":5.2999999999999999E-2},"blank",{"$f":"ROUND(FIRE1121_working!T30,0)","v":130},{"$f":"ROUND(FIRE1121_working!U30,0)","v":2},{"$f":"ROUND(FIRE1121_working!V30,0)","v":0},{"$f":"ROUND(FIRE1121_working!W30,0)","v":0},{"$f":"ROUND(FIRE1121_working!X30,0)","v":7},{"$f":"ROUND(FIRE1121_working!Y30,0)","v":19},{"$f":"IF(FIRE1121_working!Z30=\"-\",\"-\",ROUND(FIRE1121_working!Z30,3))","v":6.5000000000000002E-2},{"$f":"IF(FIRE1121_working!AA30=\"-\",\"-\",ROUND(FIRE1121_working!AA30,3))","v":0.12},"blank",{"$f":"ROUND(FIRE1121_working!AC30,0)","v":5},{"$f":"ROUND(FIRE1121_working!AD30,0)","v":0},{"$f":"ROUND(FIRE1121_working!AE30,0)","v":0},{"$f":"ROUND(FIRE1121_working!AF30,0)","v":0},{"$f":"ROUND(FIRE1121_working!AG30,0)","v":0},{"$f":"ROUND(FIRE1121_working!AH30,0)","v":0},{"$f":"IF(FIRE1121_working!AI30=\"-\",\"-\",ROUND(FIRE1121_working!AI30,3))","v":0},{"$f":"IF(FIRE1121_working!AJ30=\"-\",\"-\",ROUND(FIRE1121_working!AJ30,3))","v":0},"blank",{"$f":"ROUND(FIRE1121_working!AL30,0)","v":63},{"$f":"ROUND(FIRE1121_working!AM30,0)","v":0},{"$f":"ROUND(FIRE1121_working!AN30,0)","v":0},{"$f":"ROUND(FIRE1121_working!AO30,0)","v":2},{"$f":"ROUND(FIRE1121_working!AP30,0)","v":4},{"$f":"ROUND(FIRE1121_working!AQ30,0)","v":8},{"$f":"IF(FIRE1121_working!AR30=\"-\",\"-\",ROUND(FIRE1121_working!AR30,3))","v":8.6999999999999994E-2},{"$f":"IF(FIRE1121_working!AS30=\"-\",\"-\",ROUND(FIRE1121_working!AS30,3))","v":0.104},"blank",{"$f":"ROUND(FIRE1121_working!AU30,0)","v":198},{"$f":"ROUND(FIRE1121_working!AV30,0)","v":2},{"$f":"ROUND(FIRE1121_working!AW30,0)","v":0},{"$f":"ROUND(FIRE1121_working!AX30,0)","v":2},{"$f":"ROUND(FIRE1121_working!AY30,0)","v":11},{"$f":"ROUND(FIRE1121_working!AZ30,0)","v":27},{"$f":"IF(FIRE1121_working!BA30=\"-\",\"-\",ROUND(FIRE1121_working!BA30,3))","v":7.0000000000000007E-2},{"$f":"IF(FIRE1121_working!BB30=\"-\",\"-\",ROUND(FIRE1121_working!BB30,3))","v":0.113},"blank"]
["Hereford and Worcester",{"$f":"ROUND(FIRE1121_working!B31,0)","v":10},{"$f":"ROUND(FIRE1121_working!C31,0)","v":0},{"$f":"ROUND(FIRE1121_working!D31,0)","v":0},{"$f":"ROUND(FIRE1121_working!E31,0)","v":0},{"$f":"ROUND(FIRE1121_working!F31,0)","v":0},{"$f":"ROUND(FIRE1121_working!G31,0)","v":4},{"$f":"IF(FIRE1121_working!H31=\"-\",\"-\",ROUND(FIRE1121_working!H31,3))","v":0},{"$f":"IF(FIRE1121_working!I31=\"-\",\"-\",ROUND(FIRE1121_working!I31,3))","v":0.28599999999999998},"blank",{"$f":"ROUND(FIRE1121_working!K31,0)","v":30},{"$f":"ROUND(FIRE1121_working!L31,0)","v":2},{"$f":"ROUND(FIRE1121_working!M31,0)","v":0},{"$f":"ROUND(FIRE1121_working!N31,0)","v":0},{"$f":"ROUND(FIRE1121_working!O31,0)","v":4},{"$f":"ROUND(FIRE1121_working!P31,0)","v":2},{"$f":"IF(FIRE1121_working!Q31=\"-\",\"-\",ROUND(FIRE1121_working!Q31,3))","v":0.16700000000000001},{"$f":"IF(FIRE1121_working!R31=\"-\",\"-\",ROUND(FIRE1121_working!R31,3))","v":5.2999999999999999E-2},"blank",{"$f":"ROUND(FIRE1121_working!T31,0)","v":40},{"$f":"ROUND(FIRE1121_working!U31,0)","v":2},{"$f":"ROUND(FIRE1121_working!V31,0)","v":0},{"$f":"ROUND(FIRE1121_working!W31,0)","v":0},{"$f":"ROUND(FIRE1121_working!X31,0)","v":4},{"$f":"ROUND(FIRE1121_working!Y31,0)","v":6},{"$f":"IF(FIRE1121_working!Z31=\"-\",\"-\",ROUND(FIRE1121_working!Z31,3))","v":0.13},{"$f":"IF(FIRE1121_working!AA31=\"-\",\"-\",ROUND(FIRE1121_working!AA31,3))","v":0.115},"blank",{"$f":"ROUND(FIRE1121_working!AC31,0)","v":4},{"$f":"ROUND(FIRE1121_working!AD31,0)","v":0},{"$f":"ROUND(FIRE1121_working!AE31,0)","v":1},{"$f":"ROUND(FIRE1121_working!AF31,0)","v":0},{"$f":"ROUND(FIRE1121_working!AG31,0)","v":0},{"$f":"ROUND(FIRE1121_working!AH31,0)","v":0},{"$f":"IF(FIRE1121_working!AI31=\"-\",\"-\",ROUND(FIRE1121_working!AI31,3))","v":0.2},{"$f":"IF(FIRE1121_working!AJ31=\"-\",\"-\",ROUND(FIRE1121_working!AJ31,3))","v":0},"blank",{"$f":"ROUND(FIRE1121_working!AL31,0)","v":29},{"$f":"ROUND(FIRE1121_working!AM31,0)","v":0},{"$f":"ROUND(FIRE1121_working!AN31,0)","v":0},{"$f":"ROUND(FIRE1121_working!AO31,0)","v":0},{"$f":"ROUND(FIRE1121_working!AP31,0)","v":0},{"$f":"ROUND(FIRE1121_working!AQ31,0)","v":1},{"$f":"IF(FIRE1121_working!AR31=\"-\",\"-\",ROUND(FIRE1121_working!AR31,3))","v":0},{"$f":"IF(FIRE1121_working!AS31=\"-\",\"-\",ROUND(FIRE1121_working!AS31,3))","v":3.3000000000000002E-2},"blank",{"$f":"ROUND(FIRE1121_working!AU31,0)","v":73},{"$f":"ROUND(FIRE1121_working!AV31,0)","v":2},{"$f":"ROUND(FIRE1121_working!AW31,0)","v":1},{"$f":"ROUND(FIRE1121_working!AX31,0)","v":0},{"$f":"ROUND(FIRE1121_working!AY31,0)","v":4},{"$f":"ROUND(FIRE1121_working!AZ31,0)","v":7},{"$f":"IF(FIRE1121_working!BA31=\"-\",\"-\",ROUND(FIRE1121_working!BA31,3))","v":8.7999999999999995E-2},{"$f":"IF(FIRE1121_working!BB31=\"-\",\"-\",ROUND(FIRE1121_working!BB31,3))","v":0.08},"blank"]
["Hertfordshire",{"$f":"ROUND(FIRE1121_working!B32,0)","v":29},{"$f":"ROUND(FIRE1121_working!C32,0)","v":2},{"$f":"ROUND(FIRE1121_working!D32,0)","v":0},{"$f":"ROUND(FIRE1121_working!E32,0)","v":0},{"$f":"ROUND(FIRE1121_working!F32,0)","v":0},{"$f":"ROUND(FIRE1121_working!G32,0)","v":2},{"$f":"IF(FIRE1121_working!H32=\"-\",\"-\",ROUND(FIRE1121_working!H32,3))","v":6.5000000000000002E-2},{"$f":"IF(FIRE1121_working!I32=\"-\",\"-\",ROUND(FIRE1121_working!I32,3))","v":6.0999999999999999E-2},"blank",{"$f":"ROUND(FIRE1121_working!K32,0)","v":10},{"$f":"ROUND(FIRE1121_working!L32,0)","v":1},{"$f":"ROUND(FIRE1121_working!M32,0)","v":0},{"$f":"ROUND(FIRE1121_working!N32,0)","v":0},{"$f":"ROUND(FIRE1121_working!O32,0)","v":1},{"$f":"ROUND(FIRE1121_working!P32,0)","v":0},{"$f":"IF(FIRE1121_working!Q32=\"-\",\"-\",ROUND(FIRE1121_working!Q32,3))","v":0.16700000000000001},{"$f":"IF(FIRE1121_working!R32=\"-\",\"-\",ROUND(FIRE1121_working!R32,3))","v":0},"blank",{"$f":"ROUND(FIRE1121_working!T32,0)","v":39},{"$f":"ROUND(FIRE1121_working!U32,0)","v":3},{"$f":"ROUND(FIRE1121_working!V32,0)","v":0},{"$f":"ROUND(FIRE1121_working!W32,0)","v":0},{"$f":"ROUND(FIRE1121_working!X32,0)","v":1},{"$f":"ROUND(FIRE1121_working!Y32,0)","v":2},{"$f":"IF(FIRE1121_working!Z32=\"-\",\"-\",ROUND(FIRE1121_working!Z32,3))","v":9.2999999999999999E-2},{"$f":"IF(FIRE1121_working!AA32=\"-\",\"-\",ROUND(FIRE1121_working!AA32,3))","v":4.3999999999999997E-2},"blank",{"$f":"ROUND(FIRE1121_working!AC32,0)","v":6},{"$f":"ROUND(FIRE1121_working!AD32,0)","v":0},{"$f":"ROUND(FIRE1121_working!AE32,0)","v":0},{"$f":"ROUND(FIRE1121_working!AF32,0)","v":0},{"$f":"ROUND(FIRE1121_working!AG32,0)","v":0},{"$f":"ROUND(FIRE1121_working!AH32,0)","v":0},{"$f":"IF(FIRE1121_working!AI32=\"-\",\"-\",ROUND(FIRE1121_working!AI32,3))","v":0},{"$f":"IF(FIRE1121_working!AJ32=\"-\",\"-\",ROUND(FIRE1121_working!AJ32,3))","v":0},"blank",{"$f":"ROUND(FIRE1121_working!AL32,0)","v":21},{"$f":"ROUND(FIRE1121_working!AM32,0)","v":1},{"$f":"ROUND(FIRE1121_working!AN32,0)","v":1},{"$f":"ROUND(FIRE1121_working!AO32,0)","v":1},{"$f":"ROUND(FIRE1121_working!AP32,0)","v":0},{"$f":"ROUND(FIRE1121_working!AQ32,0)","v":0},{"$f":"IF(FIRE1121_working!AR32=\"-\",\"-\",ROUND(FIRE1121_working!AR32,3))","v":0.125},{"$f":"IF(FIRE1121_working!AS32=\"-\",\"-\",ROUND(FIRE1121_working!AS32,3))","v":0},"blank",{"$f":"ROUND(FIRE1121_working!AU32,0)","v":66},{"$f":"ROUND(FIRE1121_working!AV32,0)","v":4},{"$f":"ROUND(FIRE1121_working!AW32,0)","v":1},{"$f":"ROUND(FIRE1121_working!AX32,0)","v":1},{"$f":"ROUND(FIRE1121_working!AY32,0)","v":1},{"$f":"ROUND(FIRE1121_working!AZ32,0)","v":2},{"$f":"IF(FIRE1121_working!BA32=\"-\",\"-\",ROUND(FIRE1121_working!BA32,3))","v":9.6000000000000002E-2},{"$f":"IF(FIRE1121_working!BB32=\"-\",\"-\",ROUND(FIRE1121_working!BB32,3))","v":2.7E-2},"blank"]
["Humberside",{"$f":"ROUND(FIRE1121_working!B33,0)","v":37},{"$f":"ROUND(FIRE1121_working!C33,0)","v":1},{"$f":"ROUND(FIRE1121_working!D33,0)","v":0},{"$f":"ROUND(FIRE1121_working!E33,0)","v":1},{"$f":"ROUND(FIRE1121_working!F33,0)","v":1},{"$f":"ROUND(FIRE1121_working!G33,0)","v":0},{"$f":"IF(FIRE1121_working!H33=\"-\",\"-\",ROUND(FIRE1121_working!H33,3))","v":7.4999999999999997E-2},{"$f":"IF(FIRE1121_working!I33=\"-\",\"-\",ROUND(FIRE1121_working!I33,3))","v":0},"blank",{"$f":"ROUND(FIRE1121_working!K33,0)","v":28},{"$f":"ROUND(FIRE1121_working!L33,0)","v":2},{"$f":"ROUND(FIRE1121_working!M33,0)","v":0},{"$f":"ROUND(FIRE1121_working!N33,0)","v":0},{"$f":"ROUND(FIRE1121_working!O33,0)","v":1},{"$f":"ROUND(FIRE1121_working!P33,0)","v":4},{"$f":"IF(FIRE1121_working!Q33=\"-\",\"-\",ROUND(FIRE1121_working!Q33,3))","v":9.7000000000000003E-2},{"$f":"IF(FIRE1121_working!R33=\"-\",\"-\",ROUND(FIRE1121_working!R33,3))","v":0.114},"blank",{"$f":"ROUND(FIRE1121_working!T33,0)","v":65},{"$f":"ROUND(FIRE1121_working!U33,0)","v":3},{"$f":"ROUND(FIRE1121_working!V33,0)","v":0},{"$f":"ROUND(FIRE1121_working!W33,0)","v":1},{"$f":"ROUND(FIRE1121_working!X33,0)","v":2},{"$f":"ROUND(FIRE1121_working!Y33,0)","v":4},{"$f":"IF(FIRE1121_working!Z33=\"-\",\"-\",ROUND(FIRE1121_working!Z33,3))","v":8.5000000000000006E-2},{"$f":"IF(FIRE1121_working!AA33=\"-\",\"-\",ROUND(FIRE1121_working!AA33,3))","v":5.2999999999999999E-2},"blank",{"$f":"ROUND(FIRE1121_working!AC33,0)","v":0},{"$f":"ROUND(FIRE1121_working!AD33,0)","v":0},{"$f":"ROUND(FIRE1121_working!AE33,0)","v":0},{"$f":"ROUND(FIRE1121_working!AF33,0)","v":0},{"$f":"ROUND(FIRE1121_working!AG33,0)","v":0},{"$f":"ROUND(FIRE1121_working!AH33,0)","v":0},{"$f":"IF(FIRE1121_working!AI33=\"-\",\"-\",ROUND(FIRE1121_working!AI33,3))","v":"-"},{"$f":"IF(FIRE1121_working!AJ33=\"-\",\"-\",ROUND(FIRE1121_working!AJ33,3))","v":"-"},"blank",{"$f":"ROUND(FIRE1121_working!AL33,0)","v":17},{"$f":"ROUND(FIRE1121_working!AM33,0)","v":0},{"$f":"ROUND(FIRE1121_working!AN33,0)","v":0},{"$f":"ROUND(FIRE1121_working!AO33,0)","v":0},{"$f":"ROUND(FIRE1121_working!AP33,0)","v":0},{"$f":"ROUND(FIRE1121_working!AQ33,0)","v":0},{"$f":"IF(FIRE1121_working!AR33=\"-\",\"-\",ROUND(FIRE1121_working!AR33,3))","v":0},{"$f":"IF(FIRE1121_working!AS33=\"-\",\"-\",ROUND(FIRE1121_working!AS33,3))","v":0},"blank",{"$f":"ROUND(FIRE1121_working!AU33,0)","v":82},{"$f":"ROUND(FIRE1121_working!AV33,0)","v":3},{"$f":"ROUND(FIRE1121_working!AW33,0)","v":0},{"$f":"ROUND(FIRE1121_working!AX33,0)","v":1},{"$f":"ROUND(FIRE1121_working!AY33,0)","v":2},{"$f":"ROUND(FIRE1121_working!AZ33,0)","v":4},{"$f":"IF(FIRE1121_working!BA33=\"-\",\"-\",ROUND(FIRE1121_working!BA33,3))","v":6.8000000000000005E-2},{"$f":"IF(FIRE1121_working!BB33=\"-\",\"-\",ROUND(FIRE1121_working!BB33,3))","v":4.2999999999999997E-2},"blank"]
["Isles of Scilly",{"$f":"ROUND(FIRE1121_working!B34,0)","v":0},{"$f":"ROUND(FIRE1121_working!C34,0)","v":0},{"$f":"ROUND(FIRE1121_working!D34,0)","v":0},{"$f":"ROUND(FIRE1121_working!E34,0)","v":0},{"$f":"ROUND(FIRE1121_working!F34,0)","v":0},{"$f":"ROUND(FIRE1121_working!G34,0)","v":0},{"$f":"IF(FIRE1121_working!H34=\"-\",\"-\",ROUND(FIRE1121_working!H34,3))","v":"-"},{"$f":"IF(FIRE1121_working!I34=\"-\",\"-\",ROUND(FIRE1121_working!I34,3))","v":"-"},"blank",{"$f":"ROUND(FIRE1121_working!K34,0)","v":0},{"$f":"ROUND(FIRE1121_working!L34,0)","v":0},{"$f":"ROUND(FIRE1121_working!M34,0)","v":0},{"$f":"ROUND(FIRE1121_working!N34,0)","v":0},{"$f":"ROUND(FIRE1121_working!O34,0)","v":0},{"$f":"ROUND(FIRE1121_working!P34,0)","v":0},{"$f":"IF(FIRE1121_working!Q34=\"-\",\"-\",ROUND(FIRE1121_working!Q34,3))","v":"-"},{"$f":"IF(FIRE1121_working!R34=\"-\",\"-\",ROUND(FIRE1121_working!R34,3))","v":"-"},"blank",{"$f":"ROUND(FIRE1121_working!T34,0)","v":0},{"$f":"ROUND(FIRE1121_working!U34,0)","v":0},{"$f":"ROUND(FIRE1121_working!V34,0)","v":0},{"$f":"ROUND(FIRE1121_working!W34,0)","v":0},{"$f":"ROUND(FIRE1121_working!X34,0)","v":0},{"$f":"ROUND(FIRE1121_working!Y34,0)","v":0},{"$f":"IF(FIRE1121_working!Z34=\"-\",\"-\",ROUND(FIRE1121_working!Z34,3))","v":"-"},{"$f":"IF(FIRE1121_working!AA34=\"-\",\"-\",ROUND(FIRE1121_working!AA34,3))","v":"-"},"blank",{"$f":"ROUND(FIRE1121_working!AC34,0)","v":0},{"$f":"ROUND(FIRE1121_working!AD34,0)","v":0},{"$f":"ROUND(FIRE1121_working!AE34,0)","v":0},{"$f":"ROUND(FIRE1121_working!AF34,0)","v":0},{"$f":"ROUND(FIRE1121_working!AG34,0)","v":0},{"$f":"ROUND(FIRE1121_working!AH34,0)","v":0},{"$f":"IF(FIRE1121_working!AI34=\"-\",\"-\",ROUND(FIRE1121_working!AI34,3))","v":"-"},{"$f":"IF(FIRE1121_working!AJ34=\"-\",\"-\",ROUND(FIRE1121_working!AJ34,3))","v":"-"},"blank",{"$f":"ROUND(FIRE1121_working!AL34,0)","v":0},{"$f":"ROUND(FIRE1121_working!AM34,0)","v":0},{"$f":"ROUND(FIRE1121_working!AN34,0)","v":0},{"$f":"ROUND(FIRE1121_working!AO34,0)","v":0},{"$f":"ROUND(FIRE1121_working!AP34,0)","v":0},{"$f":"ROUND(FIRE1121_working!AQ34,0)","v":0},{"$f":"IF(FIRE1121_working!AR34=\"-\",\"-\",ROUND(FIRE1121_working!AR34,3))","v":"-"},{"$f":"IF(FIRE1121_working!AS34=\"-\",\"-\",ROUND(FIRE1121_working!AS34,3))","v":"-"},"blank",{"$f":"ROUND(FIRE1121_working!AU34,0)","v":0},{"$f":"ROUND(FIRE1121_working!AV34,0)","v":0},{"$f":"ROUND(FIRE1121_working!AW34,0)","v":0},{"$f":"ROUND(FIRE1121_working!AX34,0)","v":0},{"$f":"ROUND(FIRE1121_working!AY34,0)","v":0},{"$f":"ROUND(FIRE1121_working!AZ34,0)","v":0},{"$f":"IF(FIRE1121_working!BA34=\"-\",\"-\",ROUND(FIRE1121_working!BA34,3))","v":"-"},{"$f":"IF(FIRE1121_working!BB34=\"-\",\"-\",ROUND(FIRE1121_working!BB34,3))","v":"-"},"blank"]
["Kent",{"$f":"ROUND(FIRE1121_working!B35,0)","v":10},{"$f":"ROUND(FIRE1121_working!C35,0)","v":0},{"$f":"ROUND(FIRE1121_working!D35,0)","v":0},{"$f":"ROUND(FIRE1121_working!E35,0)","v":0},{"$f":"ROUND(FIRE1121_working!F35,0)","v":0},{"$f":"ROUND(FIRE1121_working!G35,0)","v":22},{"$f":"IF(FIRE1121_working!H35=\"-\",\"-\",ROUND(FIRE1121_working!H35,3))","v":0},{"$f":"IF(FIRE1121_working!I35=\"-\",\"-\",ROUND(FIRE1121_working!I35,3))","v":0.68799999999999994},"blank",{"$f":"ROUND(FIRE1121_working!K35,0)","v":2},{"$f":"ROUND(FIRE1121_working!L35,0)","v":0},{"$f":"ROUND(FIRE1121_working!M35,0)","v":0},{"$f":"ROUND(FIRE1121_working!N35,0)","v":0},{"$f":"ROUND(FIRE1121_working!O35,0)","v":0},{"$f":"ROUND(FIRE1121_working!P35,0)","v":42},{"$f":"IF(FIRE1121_working!Q35=\"-\",\"-\",ROUND(FIRE1121_working!Q35,3))","v":0},{"$f":"IF(FIRE1121_working!R35=\"-\",\"-\",ROUND(FIRE1121_working!R35,3))","v":0.95499999999999996},"blank",{"$f":"ROUND(FIRE1121_working!T35,0)","v":12},{"$f":"ROUND(FIRE1121_working!U35,0)","v":0},{"$f":"ROUND(FIRE1121_working!V35,0)","v":0},{"$f":"ROUND(FIRE1121_working!W35,0)","v":0},{"$f":"ROUND(FIRE1121_working!X35,0)","v":0},{"$f":"ROUND(FIRE1121_working!Y35,0)","v":64},{"$f":"IF(FIRE1121_working!Z35=\"-\",\"-\",ROUND(FIRE1121_working!Z35,3))","v":0},{"$f":"IF(FIRE1121_working!AA35=\"-\",\"-\",ROUND(FIRE1121_working!AA35,3))","v":0.84199999999999997},"blank",{"$f":"ROUND(FIRE1121_working!AC35,0)","v":0},{"$f":"ROUND(FIRE1121_working!AD35,0)","v":0},{"$f":"ROUND(FIRE1121_working!AE35,0)","v":0},{"$f":"ROUND(FIRE1121_working!AF35,0)","v":0},{"$f":"ROUND(FIRE1121_working!AG35,0)","v":0},{"$f":"ROUND(FIRE1121_working!AH35,0)","v":2},{"$f":"IF(FIRE1121_working!AI35=\"-\",\"-\",ROUND(FIRE1121_working!AI35,3))","v":"-"},{"$f":"IF(FIRE1121_working!AJ35=\"-\",\"-\",ROUND(FIRE1121_working!AJ35,3))","v":1},"blank",{"$f":"ROUND(FIRE1121_working!AL35,0)","v":6},{"$f":"ROUND(FIRE1121_working!AM35,0)","v":0},{"$f":"ROUND(FIRE1121_working!AN35,0)","v":1},{"$f":"ROUND(FIRE1121_working!AO35,0)","v":1},{"$f":"ROUND(FIRE1121_working!AP35,0)","v":1},{"$f":"ROUND(FIRE1121_working!AQ35,0)","v":38},{"$f":"IF(FIRE1121_working!AR35=\"-\",\"-\",ROUND(FIRE1121_working!AR35,3))","v":0.33300000000000002},{"$f":"IF(FIRE1121_working!AS35=\"-\",\"-\",ROUND(FIRE1121_working!AS35,3))","v":0.80900000000000005},"blank",{"$f":"ROUND(FIRE1121_working!AU35,0)","v":18},{"$f":"ROUND(FIRE1121_working!AV35,0)","v":0},{"$f":"ROUND(FIRE1121_working!AW35,0)","v":1},{"$f":"ROUND(FIRE1121_working!AX35,0)","v":1},{"$f":"ROUND(FIRE1121_working!AY35,0)","v":1},{"$f":"ROUND(FIRE1121_working!AZ35,0)","v":104},{"$f":"IF(FIRE1121_working!BA35=\"-\",\"-\",ROUND(FIRE1121_working!BA35,3))","v":0.14299999999999999},{"$f":"IF(FIRE1121_working!BB35=\"-\",\"-\",ROUND(FIRE1121_working!BB35,3))","v":0.83199999999999996},"blank"]
["Lancashire",{"$f":"ROUND(FIRE1121_working!B36,0)","v":47},{"$f":"ROUND(FIRE1121_working!C36,0)","v":0},{"$f":"ROUND(FIRE1121_working!D36,0)","v":0},{"$f":"ROUND(FIRE1121_working!E36,0)","v":0},{"$f":"ROUND(FIRE1121_working!F36,0)","v":0},{"$f":"ROUND(FIRE1121_working!G36,0)","v":2},{"$f":"IF(FIRE1121_working!H36=\"-\",\"-\",ROUND(FIRE1121_working!H36,3))","v":0},{"$f":"IF(FIRE1121_working!I36=\"-\",\"-\",ROUND(FIRE1121_working!I36,3))","v":4.1000000000000002E-2},"blank",{"$f":"ROUND(FIRE1121_working!K36,0)","v":46},{"$f":"ROUND(FIRE1121_working!L36,0)","v":1},{"$f":"ROUND(FIRE1121_working!M36,0)","v":0},{"$f":"ROUND(FIRE1121_working!N36,0)","v":1},{"$f":"ROUND(FIRE1121_working!O36,0)","v":2},{"$f":"ROUND(FIRE1121_working!P36,0)","v":2},{"$f":"IF(FIRE1121_working!Q36=\"-\",\"-\",ROUND(FIRE1121_working!Q36,3))","v":0.08},{"$f":"IF(FIRE1121_working!R36=\"-\",\"-\",ROUND(FIRE1121_working!R36,3))","v":3.7999999999999999E-2},"blank",{"$f":"ROUND(FIRE1121_working!T36,0)","v":93},{"$f":"ROUND(FIRE1121_working!U36,0)","v":1},{"$f":"ROUND(FIRE1121_working!V36,0)","v":0},{"$f":"ROUND(FIRE1121_working!W36,0)","v":1},{"$f":"ROUND(FIRE1121_working!X36,0)","v":2},{"$f":"ROUND(FIRE1121_working!Y36,0)","v":4},{"$f":"IF(FIRE1121_working!Z36=\"-\",\"-\",ROUND(FIRE1121_working!Z36,3))","v":4.1000000000000002E-2},{"$f":"IF(FIRE1121_working!AA36=\"-\",\"-\",ROUND(FIRE1121_working!AA36,3))","v":0.04},"blank",{"$f":"ROUND(FIRE1121_working!AC36,0)","v":0},{"$f":"ROUND(FIRE1121_working!AD36,0)","v":0},{"$f":"ROUND(FIRE1121_working!AE36,0)","v":0},{"$f":"ROUND(FIRE1121_working!AF36,0)","v":0},{"$f":"ROUND(FIRE1121_working!AG36,0)","v":0},{"$f":"ROUND(FIRE1121_working!AH36,0)","v":0},{"$f":"IF(FIRE1121_working!AI36=\"-\",\"-\",ROUND(FIRE1121_working!AI36,3))","v":"-"},{"$f":"IF(FIRE1121_working!AJ36=\"-\",\"-\",ROUND(FIRE1121_working!AJ36,3))","v":"-"},"blank",{"$f":"ROUND(FIRE1121_working!AL36,0)","v":29},{"$f":"ROUND(FIRE1121_working!AM36,0)","v":0},{"$f":"ROUND(FIRE1121_working!AN36,0)","v":0},{"$f":"ROUND(FIRE1121_working!AO36,0)","v":0},{"$f":"ROUND(FIRE1121_working!AP36,0)","v":1},{"$f":"ROUND(FIRE1121_working!AQ36,0)","v":0},{"$f":"IF(FIRE1121_working!AR36=\"-\",\"-\",ROUND(FIRE1121_working!AR36,3))","v":3.3000000000000002E-2},{"$f":"IF(FIRE1121_working!AS36=\"-\",\"-\",ROUND(FIRE1121_working!AS36,3))","v":0},"blank",{"$f":"ROUND(FIRE1121_working!AU36,0)","v":122},{"$f":"ROUND(FIRE1121_working!AV36,0)","v":1},{"$f":"ROUND(FIRE1121_working!AW36,0)","v":0},{"$f":"ROUND(FIRE1121_working!AX36,0)","v":1},{"$f":"ROUND(FIRE1121_working!AY36,0)","v":3},{"$f":"ROUND(FIRE1121_working!AZ36,0)","v":4},{"$f":"IF(FIRE1121_working!BA36=\"-\",\"-\",ROUND(FIRE1121_working!BA36,3))","v":3.9E-2},{"$f":"IF(FIRE1121_working!BB36=\"-\",\"-\",ROUND(FIRE1121_working!BB36,3))","v":3.1E-2},"blank"]
["Leicestershire",{"$f":"ROUND(FIRE1121_working!B37,0)","v":22},{"$f":"ROUND(FIRE1121_working!C37,0)","v":1},{"$f":"ROUND(FIRE1121_working!D37,0)","v":0},{"$f":"ROUND(FIRE1121_working!E37,0)","v":0},{"$f":"ROUND(FIRE1121_working!F37,0)","v":0},{"$f":"ROUND(FIRE1121_working!G37,0)","v":0},{"$f":"IF(FIRE1121_working!H37=\"-\",\"-\",ROUND(FIRE1121_working!H37,3))","v":4.2999999999999997E-2},{"$f":"IF(FIRE1121_working!I37=\"-\",\"-\",ROUND(FIRE1121_working!I37,3))","v":0},"blank",{"$f":"ROUND(FIRE1121_working!K37,0)","v":21},{"$f":"ROUND(FIRE1121_working!L37,0)","v":1},{"$f":"ROUND(FIRE1121_working!M37,0)","v":1},{"$f":"ROUND(FIRE1121_working!N37,0)","v":0},{"$f":"ROUND(FIRE1121_working!O37,0)","v":1},{"$f":"ROUND(FIRE1121_working!P37,0)","v":0},{"$f":"IF(FIRE1121_working!Q37=\"-\",\"-\",ROUND(FIRE1121_working!Q37,3))","v":0.125},{"$f":"IF(FIRE1121_working!R37=\"-\",\"-\",ROUND(FIRE1121_working!R37,3))","v":0},"blank",{"$f":"ROUND(FIRE1121_working!T37,0)","v":43},{"$f":"ROUND(FIRE1121_working!U37,0)","v":2},{"$f":"ROUND(FIRE1121_working!V37,0)","v":1},{"$f":"ROUND(FIRE1121_working!W37,0)","v":0},{"$f":"ROUND(FIRE1121_working!X37,0)","v":1},{"$f":"ROUND(FIRE1121_working!Y37,0)","v":0},{"$f":"IF(FIRE1121_working!Z37=\"-\",\"-\",ROUND(FIRE1121_working!Z37,3))","v":8.5000000000000006E-2},{"$f":"IF(FIRE1121_working!AA37=\"-\",\"-\",ROUND(FIRE1121_working!AA37,3))","v":0},"blank",{"$f":"ROUND(FIRE1121_working!AC37,0)","v":0},{"$f":"ROUND(FIRE1121_working!AD37,0)","v":0},{"$f":"ROUND(FIRE1121_working!AE37,0)","v":0},{"$f":"ROUND(FIRE1121_working!AF37,0)","v":0},{"$f":"ROUND(FIRE1121_working!AG37,0)","v":0},{"$f":"ROUND(FIRE1121_working!AH37,0)","v":0},{"$f":"IF(FIRE1121_working!AI37=\"-\",\"-\",ROUND(FIRE1121_working!AI37,3))","v":"-"},{"$f":"IF(FIRE1121_working!AJ37=\"-\",\"-\",ROUND(FIRE1121_working!AJ37,3))","v":"-"},"blank",{"$f":"ROUND(FIRE1121_working!AL37,0)","v":22},{"$f":"ROUND(FIRE1121_working!AM37,0)","v":0},{"$f":"ROUND(FIRE1121_working!AN37,0)","v":1},{"$f":"ROUND(FIRE1121_working!AO37,0)","v":0},{"$f":"ROUND(FIRE1121_working!AP37,0)","v":1},{"$f":"ROUND(FIRE1121_working!AQ37,0)","v":1},{"$f":"IF(FIRE1121_working!AR37=\"-\",\"-\",ROUND(FIRE1121_working!AR37,3))","v":8.3000000000000004E-2},{"$f":"IF(FIRE1121_working!AS37=\"-\",\"-\",ROUND(FIRE1121_working!AS37,3))","v":0.04},"blank",{"$f":"ROUND(FIRE1121_working!AU37,0)","v":65},{"$f":"ROUND(FIRE1121_working!AV37,0)","v":2},{"$f":"ROUND(FIRE1121_working!AW37,0)","v":2},{"$f":"ROUND(FIRE1121_working!AX37,0)","v":0},{"$f":"ROUND(FIRE1121_working!AY37,0)","v":2},{"$f":"ROUND(FIRE1121_working!AZ37,0)","v":1},{"$f":"IF(FIRE1121_working!BA37=\"-\",\"-\",ROUND(FIRE1121_working!BA37,3))","v":8.5000000000000006E-2},{"$f":"IF(FIRE1121_working!BB37=\"-\",\"-\",ROUND(FIRE1121_working!BB37,3))","v":1.4E-2},"blank"]
["Lincolnshire",{"$f":"ROUND(FIRE1121_working!B38,0)","v":4},{"$f":"ROUND(FIRE1121_working!C38,0)","v":0},{"$f":"ROUND(FIRE1121_working!D38,0)","v":0},{"$f":"ROUND(FIRE1121_working!E38,0)","v":0},{"$f":"ROUND(FIRE1121_working!F38,0)","v":0},{"$f":"ROUND(FIRE1121_working!G38,0)","v":0},{"$f":"IF(FIRE1121_working!H38=\"-\",\"-\",ROUND(FIRE1121_working!H38,3))","v":0},{"$f":"IF(FIRE1121_working!I38=\"-\",\"-\",ROUND(FIRE1121_working!I38,3))","v":0},"blank",{"$f":"ROUND(FIRE1121_working!K38,0)","v":28},{"$f":"ROUND(FIRE1121_working!L38,0)","v":0},{"$f":"ROUND(FIRE1121_working!M38,0)","v":0},{"$f":"ROUND(FIRE1121_working!N38,0)","v":0},{"$f":"ROUND(FIRE1121_working!O38,0)","v":2},{"$f":"ROUND(FIRE1121_working!P38,0)","v":0},{"$f":"IF(FIRE1121_working!Q38=\"-\",\"-\",ROUND(FIRE1121_working!Q38,3))","v":6.7000000000000004E-2},{"$f":"IF(FIRE1121_working!R38=\"-\",\"-\",ROUND(FIRE1121_working!R38,3))","v":0},"blank",{"$f":"ROUND(FIRE1121_working!T38,0)","v":32},{"$f":"ROUND(FIRE1121_working!U38,0)","v":0},{"$f":"ROUND(FIRE1121_working!V38,0)","v":0},{"$f":"ROUND(FIRE1121_working!W38,0)","v":0},{"$f":"ROUND(FIRE1121_working!X38,0)","v":2},{"$f":"ROUND(FIRE1121_working!Y38,0)","v":0},{"$f":"IF(FIRE1121_working!Z38=\"-\",\"-\",ROUND(FIRE1121_working!Z38,3))","v":5.8999999999999997E-2},{"$f":"IF(FIRE1121_working!AA38=\"-\",\"-\",ROUND(FIRE1121_working!AA38,3))","v":0},"blank",{"$f":"ROUND(FIRE1121_working!AC38,0)","v":0},{"$f":"ROUND(FIRE1121_working!AD38,0)","v":0},{"$f":"ROUND(FIRE1121_working!AE38,0)","v":0},{"$f":"ROUND(FIRE1121_working!AF38,0)","v":0},{"$f":"ROUND(FIRE1121_working!AG38,0)","v":0},{"$f":"ROUND(FIRE1121_working!AH38,0)","v":0},{"$f":"IF(FIRE1121_working!AI38=\"-\",\"-\",ROUND(FIRE1121_working!AI38,3))","v":"-"},{"$f":"IF(FIRE1121_working!AJ38=\"-\",\"-\",ROUND(FIRE1121_working!AJ38,3))","v":"-"},"blank",{"$f":"ROUND(FIRE1121_working!AL38,0)","v":3},{"$f":"ROUND(FIRE1121_working!AM38,0)","v":0},{"$f":"ROUND(FIRE1121_working!AN38,0)","v":0},{"$f":"ROUND(FIRE1121_working!AO38,0)","v":0},{"$f":"ROUND(FIRE1121_working!AP38,0)","v":0},{"$f":"ROUND(FIRE1121_working!AQ38,0)","v":0},{"$f":"IF(FIRE1121_working!AR38=\"-\",\"-\",ROUND(FIRE1121_working!AR38,3))","v":0},{"$f":"IF(FIRE1121_working!AS38=\"-\",\"-\",ROUND(FIRE1121_working!AS38,3))","v":0},"blank",{"$f":"ROUND(FIRE1121_working!AU38,0)","v":35},{"$f":"ROUND(FIRE1121_working!AV38,0)","v":0},{"$f":"ROUND(FIRE1121_working!AW38,0)","v":0},{"$f":"ROUND(FIRE1121_working!AX38,0)","v":0},{"$f":"ROUND(FIRE1121_working!AY38,0)","v":2},{"$f":"ROUND(FIRE1121_working!AZ38,0)","v":0},{"$f":"IF(FIRE1121_working!BA38=\"-\",\"-\",ROUND(FIRE1121_working!BA38,3))","v":5.3999999999999999E-2},{"$f":"IF(FIRE1121_working!BB38=\"-\",\"-\",ROUND(FIRE1121_working!BB38,3))","v":0},"blank"]
["Merseyside",{"$f":"ROUND(FIRE1121_working!B39,0)","v":43},{"$f":"ROUND(FIRE1121_working!C39,0)","v":6},{"$f":"ROUND(FIRE1121_working!D39,0)","v":0},{"$f":"ROUND(FIRE1121_working!E39,0)","v":1},{"$f":"ROUND(FIRE1121_working!F39,0)","v":3},{"$f":"ROUND(FIRE1121_working!G39,0)","v":0},{"$f":"IF(FIRE1121_working!H39=\"-\",\"-\",ROUND(FIRE1121_working!H39,3))","v":0.189},{"$f":"IF(FIRE1121_working!I39=\"-\",\"-\",ROUND(FIRE1121_working!I39,3))","v":0},"blank",{"$f":"ROUND(FIRE1121_working!K39,0)","v":14},{"$f":"ROUND(FIRE1121_working!L39,0)","v":2},{"$f":"ROUND(FIRE1121_working!M39,0)","v":0},{"$f":"ROUND(FIRE1121_working!N39,0)","v":1},{"$f":"ROUND(FIRE1121_working!O39,0)","v":2},{"$f":"ROUND(FIRE1121_working!P39,0)","v":0},{"$f":"IF(FIRE1121_working!Q39=\"-\",\"-\",ROUND(FIRE1121_working!Q39,3))","v":0.26300000000000001},{"$f":"IF(FIRE1121_working!R39=\"-\",\"-\",ROUND(FIRE1121_working!R39,3))","v":0},"blank",{"$f":"ROUND(FIRE1121_working!T39,0)","v":57},{"$f":"ROUND(FIRE1121_working!U39,0)","v":8},{"$f":"ROUND(FIRE1121_working!V39,0)","v":0},{"$f":"ROUND(FIRE1121_working!W39,0)","v":2},{"$f":"ROUND(FIRE1121_working!X39,0)","v":5},{"$f":"ROUND(FIRE1121_working!Y39,0)","v":0},{"$f":"IF(FIRE1121_working!Z39=\"-\",\"-\",ROUND(FIRE1121_working!Z39,3))","v":0.20799999999999999},{"$f":"IF(FIRE1121_working!AA39=\"-\",\"-\",ROUND(FIRE1121_working!AA39,3))","v":0},"blank",{"$f":"ROUND(FIRE1121_working!AC39,0)","v":6},{"$f":"ROUND(FIRE1121_working!AD39,0)","v":0},{"$f":"ROUND(FIRE1121_working!AE39,0)","v":0},{"$f":"ROUND(FIRE1121_working!AF39,0)","v":0},{"$f":"ROUND(FIRE1121_working!AG39,0)","v":0},{"$f":"ROUND(FIRE1121_working!AH39,0)","v":0},{"$f":"IF(FIRE1121_working!AI39=\"-\",\"-\",ROUND(FIRE1121_working!AI39,3))","v":0},{"$f":"IF(FIRE1121_working!AJ39=\"-\",\"-\",ROUND(FIRE1121_working!AJ39,3))","v":0},"blank",{"$f":"ROUND(FIRE1121_working!AL39,0)","v":39},{"$f":"ROUND(FIRE1121_working!AM39,0)","v":2},{"$f":"ROUND(FIRE1121_working!AN39,0)","v":0},{"$f":"ROUND(FIRE1121_working!AO39,0)","v":0},{"$f":"ROUND(FIRE1121_working!AP39,0)","v":2},{"$f":"ROUND(FIRE1121_working!AQ39,0)","v":0},{"$f":"IF(FIRE1121_working!AR39=\"-\",\"-\",ROUND(FIRE1121_working!AR39,3))","v":9.2999999999999999E-2},{"$f":"IF(FIRE1121_working!AS39=\"-\",\"-\",ROUND(FIRE1121_working!AS39,3))","v":0},"blank",{"$f":"ROUND(FIRE1121_working!AU39,0)","v":102},{"$f":"ROUND(FIRE1121_working!AV39,0)","v":10},{"$f":"ROUND(FIRE1121_working!AW39,0)","v":0},{"$f":"ROUND(FIRE1121_working!AX39,0)","v":2},{"$f":"ROUND(FIRE1121_working!AY39,0)","v":7},{"$f":"ROUND(FIRE1121_working!AZ39,0)","v":0},{"$f":"IF(FIRE1121_working!BA39=\"-\",\"-\",ROUND(FIRE1121_working!BA39,3))","v":0.157},{"$f":"IF(FIRE1121_working!BB39=\"-\",\"-\",ROUND(FIRE1121_working!BB39,3))","v":0},"blank"]
["Norfolk",{"$f":"ROUND(FIRE1121_working!B40,0)","v":0},{"$f":"ROUND(FIRE1121_working!C40,0)","v":0},{"$f":"ROUND(FIRE1121_working!D40,0)","v":0},{"$f":"ROUND(FIRE1121_working!E40,0)","v":0},{"$f":"ROUND(FIRE1121_working!F40,0)","v":0},{"$f":"ROUND(FIRE1121_working!G40,0)","v":15},{"$f":"IF(FIRE1121_working!H40=\"-\",\"-\",ROUND(FIRE1121_working!H40,3))","v":"-"},{"$f":"IF(FIRE1121_working!I40=\"-\",\"-\",ROUND(FIRE1121_working!I40,3))","v":1},"blank",{"$f":"ROUND(FIRE1121_working!K40,0)","v":0},{"$f":"ROUND(FIRE1121_working!L40,0)","v":0},{"$f":"ROUND(FIRE1121_working!M40,0)","v":0},{"$f":"ROUND(FIRE1121_working!N40,0)","v":0},{"$f":"ROUND(FIRE1121_working!O40,0)","v":0},{"$f":"ROUND(FIRE1121_working!P40,0)","v":33},{"$f":"IF(FIRE1121_working!Q40=\"-\",\"-\",ROUND(FIRE1121_working!Q40,3))","v":"-"},{"$f":"IF(FIRE1121_working!R40=\"-\",\"-\",ROUND(FIRE1121_working!R40,3))","v":1},"blank",{"$f":"ROUND(FIRE1121_working!T40,0)","v":0},{"$f":"ROUND(FIRE1121_working!U40,0)","v":0},{"$f":"ROUND(FIRE1121_working!V40,0)","v":0},{"$f":"ROUND(FIRE1121_working!W40,0)","v":0},{"$f":"ROUND(FIRE1121_working!X40,0)","v":0},{"$f":"ROUND(FIRE1121_working!Y40,0)","v":48},{"$f":"IF(FIRE1121_working!Z40=\"-\",\"-\",ROUND(FIRE1121_working!Z40,3))","v":"-"},{"$f":"IF(FIRE1121_working!AA40=\"-\",\"-\",ROUND(FIRE1121_working!AA40,3))","v":1},"blank",{"$f":"ROUND(FIRE1121_working!AC40,0)","v":0},{"$f":"ROUND(FIRE1121_working!AD40,0)","v":0},{"$f":"ROUND(FIRE1121_working!AE40,0)","v":0},{"$f":"ROUND(FIRE1121_working!AF40,0)","v":0},{"$f":"ROUND(FIRE1121_working!AG40,0)","v":0},{"$f":"ROUND(FIRE1121_working!AH40,0)","v":1},{"$f":"IF(FIRE1121_working!AI40=\"-\",\"-\",ROUND(FIRE1121_working!AI40,3))","v":"-"},{"$f":"IF(FIRE1121_working!AJ40=\"-\",\"-\",ROUND(FIRE1121_working!AJ40,3))","v":1},"blank",{"$f":"ROUND(FIRE1121_working!AL40,0)","v":1},{"$f":"ROUND(FIRE1121_working!AM40,0)","v":0},{"$f":"ROUND(FIRE1121_working!AN40,0)","v":0},{"$f":"ROUND(FIRE1121_working!AO40,0)","v":0},{"$f":"ROUND(FIRE1121_working!AP40,0)","v":0},{"$f":"ROUND(FIRE1121_working!AQ40,0)","v":8},{"$f":"IF(FIRE1121_working!AR40=\"-\",\"-\",ROUND(FIRE1121_working!AR40,3))","v":0},{"$f":"IF(FIRE1121_working!AS40=\"-\",\"-\",ROUND(FIRE1121_working!AS40,3))","v":0.88900000000000001},"blank",{"$f":"ROUND(FIRE1121_working!AU40,0)","v":1},{"$f":"ROUND(FIRE1121_working!AV40,0)","v":0},{"$f":"ROUND(FIRE1121_working!AW40,0)","v":0},{"$f":"ROUND(FIRE1121_working!AX40,0)","v":0},{"$f":"ROUND(FIRE1121_working!AY40,0)","v":0},{"$f":"ROUND(FIRE1121_working!AZ40,0)","v":57},{"$f":"IF(FIRE1121_working!BA40=\"-\",\"-\",ROUND(FIRE1121_working!BA40,3))","v":0},{"$f":"IF(FIRE1121_working!BB40=\"-\",\"-\",ROUND(FIRE1121_working!BB40,3))","v":0.98299999999999998},"blank"]
["North West Fire Control",{"$f":"ROUND(FIRE1121_working!B41,0)","v":0},{"$f":"ROUND(FIRE1121_working!C41,0)","v":0},{"$f":"ROUND(FIRE1121_working!D41,0)","v":0},{"$f":"ROUND(FIRE1121_working!E41,0)","v":0},{"$f":"ROUND(FIRE1121_working!F41,0)","v":0},{"$f":"ROUND(FIRE1121_working!G41,0)","v":0},{"$f":"IF(FIRE1121_working!H41=\"-\",\"-\",ROUND(FIRE1121_working!H41,3))","v":"-"},{"$f":"IF(FIRE1121_working!I41=\"-\",\"-\",ROUND(FIRE1121_working!I41,3))","v":"-"},"blank",{"$f":"ROUND(FIRE1121_working!K41,0)","v":0},{"$f":"ROUND(FIRE1121_working!L41,0)","v":0},{"$f":"ROUND(FIRE1121_working!M41,0)","v":0},{"$f":"ROUND(FIRE1121_working!N41,0)","v":0},{"$f":"ROUND(FIRE1121_working!O41,0)","v":0},{"$f":"ROUND(FIRE1121_working!P41,0)","v":0},{"$f":"IF(FIRE1121_working!Q41=\"-\",\"-\",ROUND(FIRE1121_working!Q41,3))","v":"-"},{"$f":"IF(FIRE1121_working!R41=\"-\",\"-\",ROUND(FIRE1121_working!R41,3))","v":"-"},"blank",{"$f":"ROUND(FIRE1121_working!T41,0)","v":0},{"$f":"ROUND(FIRE1121_working!U41,0)","v":0},{"$f":"ROUND(FIRE1121_working!V41,0)","v":0},{"$f":"ROUND(FIRE1121_working!W41,0)","v":0},{"$f":"ROUND(FIRE1121_working!X41,0)","v":0},{"$f":"ROUND(FIRE1121_working!Y41,0)","v":0},{"$f":"IF(FIRE1121_working!Z41=\"-\",\"-\",ROUND(FIRE1121_working!Z41,3))","v":"-"},{"$f":"IF(FIRE1121_working!AA41=\"-\",\"-\",ROUND(FIRE1121_working!AA41,3))","v":"-"},"blank",{"$f":"ROUND(FIRE1121_working!AC41,0)","v":0},{"$f":"ROUND(FIRE1121_working!AD41,0)","v":0},{"$f":"ROUND(FIRE1121_working!AE41,0)","v":0},{"$f":"ROUND(FIRE1121_working!AF41,0)","v":0},{"$f":"ROUND(FIRE1121_working!AG41,0)","v":0},{"$f":"ROUND(FIRE1121_working!AH41,0)","v":0},{"$f":"IF(FIRE1121_working!AI41=\"-\",\"-\",ROUND(FIRE1121_working!AI41,3))","v":"-"},{"$f":"IF(FIRE1121_working!AJ41=\"-\",\"-\",ROUND(FIRE1121_working!AJ41,3))","v":"-"},"blank",{"$f":"ROUND(FIRE1121_working!AL41,0)","v":0},{"$f":"ROUND(FIRE1121_working!AM41,0)","v":0},{"$f":"ROUND(FIRE1121_working!AN41,0)","v":0},{"$f":"ROUND(FIRE1121_working!AO41,0)","v":0},{"$f":"ROUND(FIRE1121_working!AP41,0)","v":0},{"$f":"ROUND(FIRE1121_working!AQ41,0)","v":0},{"$f":"IF(FIRE1121_working!AR41=\"-\",\"-\",ROUND(FIRE1121_working!AR41,3))","v":"-"},{"$f":"IF(FIRE1121_working!AS41=\"-\",\"-\",ROUND(FIRE1121_working!AS41,3))","v":"-"},"blank",{"$f":"ROUND(FIRE1121_working!AU41,0)","v":0},{"$f":"ROUND(FIRE1121_working!AV41,0)","v":0},{"$f":"ROUND(FIRE1121_working!AW41,0)","v":0},{"$f":"ROUND(FIRE1121_working!AX41,0)","v":0},{"$f":"ROUND(FIRE1121_working!AY41,0)","v":0},{"$f":"ROUND(FIRE1121_working!AZ41,0)","v":0},{"$f":"IF(FIRE1121_working!BA41=\"-\",\"-\",ROUND(FIRE1121_working!BA41,3))","v":"-"},{"$f":"IF(FIRE1121_working!BB41=\"-\",\"-\",ROUND(FIRE1121_working!BB41,3))","v":"-"},"blank"]
["North Yorkshire",{"$f":"ROUND(FIRE1121_working!B42,0)","v":6},{"$f":"ROUND(FIRE1121_working!C42,0)","v":0},{"$f":"ROUND(FIRE1121_working!D42,0)","v":0},{"$f":"ROUND(FIRE1121_working!E42,0)","v":0},{"$f":"ROUND(FIRE1121_working!F42,0)","v":0},{"$f":"ROUND(FIRE1121_working!G42,0)","v":2},{"$f":"IF(FIRE1121_working!H42=\"-\",\"-\",ROUND(FIRE1121_working!H42,3))","v":0},{"$f":"IF(FIRE1121_working!I42=\"-\",\"-\",ROUND(FIRE1121_working!I42,3))","v":0.25},"blank",{"$f":"ROUND(FIRE1121_working!K42,0)","v":20},{"$f":"ROUND(FIRE1121_working!L42,0)","v":0},{"$f":"ROUND(FIRE1121_working!M42,0)","v":0},{"$f":"ROUND(FIRE1121_working!N42,0)","v":0},{"$f":"ROUND(FIRE1121_working!O42,0)","v":0},{"$f":"ROUND(FIRE1121_working!P42,0)","v":5},{"$f":"IF(FIRE1121_working!Q42=\"-\",\"-\",ROUND(FIRE1121_working!Q42,3))","v":0},{"$f":"IF(FIRE1121_working!R42=\"-\",\"-\",ROUND(FIRE1121_working!R42,3))","v":0.2},"blank",{"$f":"ROUND(FIRE1121_working!T42,0)","v":26},{"$f":"ROUND(FIRE1121_working!U42,0)","v":0},{"$f":"ROUND(FIRE1121_working!V42,0)","v":0},{"$f":"ROUND(FIRE1121_working!W42,0)","v":0},{"$f":"ROUND(FIRE1121_working!X42,0)","v":0},{"$f":"ROUND(FIRE1121_working!Y42,0)","v":7},{"$f":"IF(FIRE1121_working!Z42=\"-\",\"-\",ROUND(FIRE1121_working!Z42,3))","v":0},{"$f":"IF(FIRE1121_working!AA42=\"-\",\"-\",ROUND(FIRE1121_working!AA42,3))","v":0.21199999999999999},"blank",{"$f":"ROUND(FIRE1121_working!AC42,0)","v":0},{"$f":"ROUND(FIRE1121_working!AD42,0)","v":0},{"$f":"ROUND(FIRE1121_working!AE42,0)","v":0},{"$f":"ROUND(FIRE1121_working!AF42,0)","v":0},{"$f":"ROUND(FIRE1121_working!AG42,0)","v":0},{"$f":"ROUND(FIRE1121_working!AH42,0)","v":0},{"$f":"IF(FIRE1121_working!AI42=\"-\",\"-\",ROUND(FIRE1121_working!AI42,3))","v":"-"},{"$f":"IF(FIRE1121_working!AJ42=\"-\",\"-\",ROUND(FIRE1121_working!AJ42,3))","v":"-"},"blank",{"$f":"ROUND(FIRE1121_working!AL42,0)","v":1},{"$f":"ROUND(FIRE1121_working!AM42,0)","v":0},{"$f":"ROUND(FIRE1121_working!AN42,0)","v":0},{"$f":"ROUND(FIRE1121_working!AO42,0)","v":0},{"$f":"ROUND(FIRE1121_working!AP42,0)","v":0},{"$f":"ROUND(FIRE1121_working!AQ42,0)","v":3},{"$f":"IF(FIRE1121_working!AR42=\"-\",\"-\",ROUND(FIRE1121_working!AR42,3))","v":0},{"$f":"IF(FIRE1121_working!AS42=\"-\",\"-\",ROUND(FIRE1121_working!AS42,3))","v":0.75},"blank",{"$f":"ROUND(FIRE1121_working!AU42,0)","v":27},{"$f":"ROUND(FIRE1121_working!AV42,0)","v":0},{"$f":"ROUND(FIRE1121_working!AW42,0)","v":0},{"$f":"ROUND(FIRE1121_working!AX42,0)","v":0},{"$f":"ROUND(FIRE1121_working!AY42,0)","v":0},{"$f":"ROUND(FIRE1121_working!AZ42,0)","v":10},{"$f":"IF(FIRE1121_working!BA42=\"-\",\"-\",ROUND(FIRE1121_working!BA42,3))","v":0},{"$f":"IF(FIRE1121_working!BB42=\"-\",\"-\",ROUND(FIRE1121_working!BB42,3))","v":0.27},"blank"]
["Northamptonshire",{"$f":"ROUND(FIRE1121_working!B43,0)","v":3},{"$f":"ROUND(FIRE1121_working!C43,0)","v":0},{"$f":"ROUND(FIRE1121_working!D43,0)","v":0},{"$f":"ROUND(FIRE1121_working!E43,0)","v":0},{"$f":"ROUND(FIRE1121_working!F43,0)","v":1},{"$f":"ROUND(FIRE1121_working!G43,0)","v":16},{"$f":"IF(FIRE1121_working!H43=\"-\",\"-\",ROUND(FIRE1121_working!H43,3))","v":0.25},{"$f":"IF(FIRE1121_working!I43=\"-\",\"-\",ROUND(FIRE1121_working!I43,3))","v":0.8},"blank",{"$f":"ROUND(FIRE1121_working!K43,0)","v":1},{"$f":"ROUND(FIRE1121_working!L43,0)","v":0},{"$f":"ROUND(FIRE1121_working!M43,0)","v":0},{"$f":"ROUND(FIRE1121_working!N43,0)","v":0},{"$f":"ROUND(FIRE1121_working!O43,0)","v":0},{"$f":"ROUND(FIRE1121_working!P43,0)","v":30},{"$f":"IF(FIRE1121_working!Q43=\"-\",\"-\",ROUND(FIRE1121_working!Q43,3))","v":0},{"$f":"IF(FIRE1121_working!R43=\"-\",\"-\",ROUND(FIRE1121_working!R43,3))","v":0.96799999999999997},"blank",{"$f":"ROUND(FIRE1121_working!T43,0)","v":4},{"$f":"ROUND(FIRE1121_working!U43,0)","v":0},{"$f":"ROUND(FIRE1121_working!V43,0)","v":0},{"$f":"ROUND(FIRE1121_working!W43,0)","v":0},{"$f":"ROUND(FIRE1121_working!X43,0)","v":1},{"$f":"ROUND(FIRE1121_working!Y43,0)","v":46},{"$f":"IF(FIRE1121_working!Z43=\"-\",\"-\",ROUND(FIRE1121_working!Z43,3))","v":0.2},{"$f":"IF(FIRE1121_working!AA43=\"-\",\"-\",ROUND(FIRE1121_working!AA43,3))","v":0.90200000000000002},"blank",{"$f":"ROUND(FIRE1121_working!AC43,0)","v":1},{"$f":"ROUND(FIRE1121_working!AD43,0)","v":0},{"$f":"ROUND(FIRE1121_working!AE43,0)","v":0},{"$f":"ROUND(FIRE1121_working!AF43,0)","v":0},{"$f":"ROUND(FIRE1121_working!AG43,0)","v":0},{"$f":"ROUND(FIRE1121_working!AH43,0)","v":5},{"$f":"IF(FIRE1121_working!AI43=\"-\",\"-\",ROUND(FIRE1121_working!AI43,3))","v":0},{"$f":"IF(FIRE1121_working!AJ43=\"-\",\"-\",ROUND(FIRE1121_working!AJ43,3))","v":0.83299999999999996},"blank",{"$f":"ROUND(FIRE1121_working!AL43,0)","v":0},{"$f":"ROUND(FIRE1121_working!AM43,0)","v":0},{"$f":"ROUND(FIRE1121_working!AN43,0)","v":0},{"$f":"ROUND(FIRE1121_working!AO43,0)","v":0},{"$f":"ROUND(FIRE1121_working!AP43,0)","v":0},{"$f":"ROUND(FIRE1121_working!AQ43,0)","v":3},{"$f":"IF(FIRE1121_working!AR43=\"-\",\"-\",ROUND(FIRE1121_working!AR43,3))","v":"-"},{"$f":"IF(FIRE1121_working!AS43=\"-\",\"-\",ROUND(FIRE1121_working!AS43,3))","v":1},"blank",{"$f":"ROUND(FIRE1121_working!AU43,0)","v":5},{"$f":"ROUND(FIRE1121_working!AV43,0)","v":0},{"$f":"ROUND(FIRE1121_working!AW43,0)","v":0},{"$f":"ROUND(FIRE1121_working!AX43,0)","v":0},{"$f":"ROUND(FIRE1121_working!AY43,0)","v":1},{"$f":"ROUND(FIRE1121_working!AZ43,0)","v":54},{"$f":"IF(FIRE1121_working!BA43=\"-\",\"-\",ROUND(FIRE1121_working!BA43,3))","v":0.16700000000000001},{"$f":"IF(FIRE1121_working!BB43=\"-\",\"-\",ROUND(FIRE1121_working!BB43,3))","v":0.9},"blank"]
["Northumberland",{"$f":"ROUND(FIRE1121_working!B44,0)","v":0},{"$f":"ROUND(FIRE1121_working!C44,0)","v":0},{"$f":"ROUND(FIRE1121_working!D44,0)","v":0},{"$f":"ROUND(FIRE1121_working!E44,0)","v":0},{"$f":"ROUND(FIRE1121_working!F44,0)","v":0},{"$f":"ROUND(FIRE1121_working!G44,0)","v":3},{"$f":"IF(FIRE1121_working!H44=\"-\",\"-\",ROUND(FIRE1121_working!H44,3))","v":"-"},{"$f":"IF(FIRE1121_working!I44=\"-\",\"-\",ROUND(FIRE1121_working!I44,3))","v":1},"blank",{"$f":"ROUND(FIRE1121_working!K44,0)","v":0},{"$f":"ROUND(FIRE1121_working!L44,0)","v":0},{"$f":"ROUND(FIRE1121_working!M44,0)","v":0},{"$f":"ROUND(FIRE1121_working!N44,0)","v":0},{"$f":"ROUND(FIRE1121_working!O44,0)","v":0},{"$f":"ROUND(FIRE1121_working!P44,0)","v":23},{"$f":"IF(FIRE1121_working!Q44=\"-\",\"-\",ROUND(FIRE1121_working!Q44,3))","v":"-"},{"$f":"IF(FIRE1121_working!R44=\"-\",\"-\",ROUND(FIRE1121_working!R44,3))","v":1},"blank",{"$f":"ROUND(FIRE1121_working!T44,0)","v":0},{"$f":"ROUND(FIRE1121_working!U44,0)","v":0},{"$f":"ROUND(FIRE1121_working!V44,0)","v":0},{"$f":"ROUND(FIRE1121_working!W44,0)","v":0},{"$f":"ROUND(FIRE1121_working!X44,0)","v":0},{"$f":"ROUND(FIRE1121_working!Y44,0)","v":26},{"$f":"IF(FIRE1121_working!Z44=\"-\",\"-\",ROUND(FIRE1121_working!Z44,3))","v":"-"},{"$f":"IF(FIRE1121_working!AA44=\"-\",\"-\",ROUND(FIRE1121_working!AA44,3))","v":1},"blank",{"$f":"ROUND(FIRE1121_working!AC44,0)","v":0},{"$f":"ROUND(FIRE1121_working!AD44,0)","v":0},{"$f":"ROUND(FIRE1121_working!AE44,0)","v":0},{"$f":"ROUND(FIRE1121_working!AF44,0)","v":0},{"$f":"ROUND(FIRE1121_working!AG44,0)","v":0},{"$f":"ROUND(FIRE1121_working!AH44,0)","v":0},{"$f":"IF(FIRE1121_working!AI44=\"-\",\"-\",ROUND(FIRE1121_working!AI44,3))","v":"-"},{"$f":"IF(FIRE1121_working!AJ44=\"-\",\"-\",ROUND(FIRE1121_working!AJ44,3))","v":"-"},"blank",{"$f":"ROUND(FIRE1121_working!AL44,0)","v":0},{"$f":"ROUND(FIRE1121_working!AM44,0)","v":0},{"$f":"ROUND(FIRE1121_working!AN44,0)","v":0},{"$f":"ROUND(FIRE1121_working!AO44,0)","v":0},{"$f":"ROUND(FIRE1121_working!AP44,0)","v":0},{"$f":"ROUND(FIRE1121_working!AQ44,0)","v":3},{"$f":"IF(FIRE1121_working!AR44=\"-\",\"-\",ROUND(FIRE1121_working!AR44,3))","v":"-"},{"$f":"IF(FIRE1121_working!AS44=\"-\",\"-\",ROUND(FIRE1121_working!AS44,3))","v":1},"blank",{"$f":"ROUND(FIRE1121_working!AU44,0)","v":0},{"$f":"ROUND(FIRE1121_working!AV44,0)","v":0},{"$f":"ROUND(FIRE1121_working!AW44,0)","v":0},{"$f":"ROUND(FIRE1121_working!AX44,0)","v":0},{"$f":"ROUND(FIRE1121_working!AY44,0)","v":0},{"$f":"ROUND(FIRE1121_working!AZ44,0)","v":29},{"$f":"IF(FIRE1121_working!BA44=\"-\",\"-\",ROUND(FIRE1121_working!BA44,3))","v":"-"},{"$f":"IF(FIRE1121_working!BB44=\"-\",\"-\",ROUND(FIRE1121_working!BB44,3))","v":1},"blank"]
["Nottinghamshire",{"$f":"ROUND(FIRE1121_working!B45,0)","v":4},{"$f":"ROUND(FIRE1121_working!C45,0)","v":0},{"$f":"ROUND(FIRE1121_working!D45,0)","v":0},{"$f":"ROUND(FIRE1121_working!E45,0)","v":0},{"$f":"ROUND(FIRE1121_working!F45,0)","v":0},{"$f":"ROUND(FIRE1121_working!G45,0)","v":0},{"$f":"IF(FIRE1121_working!H45=\"-\",\"-\",ROUND(FIRE1121_working!H45,3))","v":0},{"$f":"IF(FIRE1121_working!I45=\"-\",\"-\",ROUND(FIRE1121_working!I45,3))","v":0},"blank",{"$f":"ROUND(FIRE1121_working!K45,0)","v":24},{"$f":"ROUND(FIRE1121_working!L45,0)","v":0},{"$f":"ROUND(FIRE1121_working!M45,0)","v":0},{"$f":"ROUND(FIRE1121_working!N45,0)","v":0},{"$f":"ROUND(FIRE1121_working!O45,0)","v":2},{"$f":"ROUND(FIRE1121_working!P45,0)","v":0},{"$f":"IF(FIRE1121_working!Q45=\"-\",\"-\",ROUND(FIRE1121_working!Q45,3))","v":7.6999999999999999E-2},{"$f":"IF(FIRE1121_working!R45=\"-\",\"-\",ROUND(FIRE1121_working!R45,3))","v":0},"blank",{"$f":"ROUND(FIRE1121_working!T45,0)","v":28},{"$f":"ROUND(FIRE1121_working!U45,0)","v":0},{"$f":"ROUND(FIRE1121_working!V45,0)","v":0},{"$f":"ROUND(FIRE1121_working!W45,0)","v":0},{"$f":"ROUND(FIRE1121_working!X45,0)","v":2},{"$f":"ROUND(FIRE1121_working!Y45,0)","v":0},{"$f":"IF(FIRE1121_working!Z45=\"-\",\"-\",ROUND(FIRE1121_working!Z45,3))","v":6.7000000000000004E-2},{"$f":"IF(FIRE1121_working!AA45=\"-\",\"-\",ROUND(FIRE1121_working!AA45,3))","v":0},"blank",{"$f":"ROUND(FIRE1121_working!AC45,0)","v":0},{"$f":"ROUND(FIRE1121_working!AD45,0)","v":0},{"$f":"ROUND(FIRE1121_working!AE45,0)","v":0},{"$f":"ROUND(FIRE1121_working!AF45,0)","v":0},{"$f":"ROUND(FIRE1121_working!AG45,0)","v":0},{"$f":"ROUND(FIRE1121_working!AH45,0)","v":0},{"$f":"IF(FIRE1121_working!AI45=\"-\",\"-\",ROUND(FIRE1121_working!AI45,3))","v":"-"},{"$f":"IF(FIRE1121_working!AJ45=\"-\",\"-\",ROUND(FIRE1121_working!AJ45,3))","v":"-"},"blank",{"$f":"ROUND(FIRE1121_working!AL45,0)","v":16},{"$f":"ROUND(FIRE1121_working!AM45,0)","v":0},{"$f":"ROUND(FIRE1121_working!AN45,0)","v":2},{"$f":"ROUND(FIRE1121_working!AO45,0)","v":0},{"$f":"ROUND(FIRE1121_working!AP45,0)","v":1},{"$f":"ROUND(FIRE1121_working!AQ45,0)","v":5},{"$f":"IF(FIRE1121_working!AR45=\"-\",\"-\",ROUND(FIRE1121_working!AR45,3))","v":0.158},{"$f":"IF(FIRE1121_working!AS45=\"-\",\"-\",ROUND(FIRE1121_working!AS45,3))","v":0.20799999999999999},"blank",{"$f":"ROUND(FIRE1121_working!AU45,0)","v":44},{"$f":"ROUND(FIRE1121_working!AV45,0)","v":0},{"$f":"ROUND(FIRE1121_working!AW45,0)","v":2},{"$f":"ROUND(FIRE1121_working!AX45,0)","v":0},{"$f":"ROUND(FIRE1121_working!AY45,0)","v":3},{"$f":"ROUND(FIRE1121_working!AZ45,0)","v":5},{"$f":"IF(FIRE1121_working!BA45=\"-\",\"-\",ROUND(FIRE1121_working!BA45,3))","v":0.10199999999999999},{"$f":"IF(FIRE1121_working!BB45=\"-\",\"-\",ROUND(FIRE1121_working!BB45,3))","v":9.2999999999999999E-2},"blank"]
["Oxfordshire",{"$f":"ROUND(FIRE1121_working!B46,0)","v":18},{"$f":"ROUND(FIRE1121_working!C46,0)","v":0},{"$f":"ROUND(FIRE1121_working!D46,0)","v":0},{"$f":"ROUND(FIRE1121_working!E46,0)","v":0},{"$f":"ROUND(FIRE1121_working!F46,0)","v":3},{"$f":"ROUND(FIRE1121_working!G46,0)","v":3},{"$f":"IF(FIRE1121_working!H46=\"-\",\"-\",ROUND(FIRE1121_working!H46,3))","v":0.14299999999999999},{"$f":"IF(FIRE1121_working!I46=\"-\",\"-\",ROUND(FIRE1121_working!I46,3))","v":0.125},"blank",{"$f":"ROUND(FIRE1121_working!K46,0)","v":42},{"$f":"ROUND(FIRE1121_working!L46,0)","v":1},{"$f":"ROUND(FIRE1121_working!M46,0)","v":0},{"$f":"ROUND(FIRE1121_working!N46,0)","v":0},{"$f":"ROUND(FIRE1121_working!O46,0)","v":5},{"$f":"ROUND(FIRE1121_working!P46,0)","v":1},{"$f":"IF(FIRE1121_working!Q46=\"-\",\"-\",ROUND(FIRE1121_working!Q46,3))","v":0.125},{"$f":"IF(FIRE1121_working!R46=\"-\",\"-\",ROUND(FIRE1121_working!R46,3))","v":0.02},"blank",{"$f":"ROUND(FIRE1121_working!T46,0)","v":60},{"$f":"ROUND(FIRE1121_working!U46,0)","v":1},{"$f":"ROUND(FIRE1121_working!V46,0)","v":0},{"$f":"ROUND(FIRE1121_working!W46,0)","v":0},{"$f":"ROUND(FIRE1121_working!X46,0)","v":8},{"$f":"ROUND(FIRE1121_working!Y46,0)","v":4},{"$f":"IF(FIRE1121_working!Z46=\"-\",\"-\",ROUND(FIRE1121_working!Z46,3))","v":0.13},{"$f":"IF(FIRE1121_working!AA46=\"-\",\"-\",ROUND(FIRE1121_working!AA46,3))","v":5.5E-2},"blank",{"$f":"ROUND(FIRE1121_working!AC46,0)","v":0},{"$f":"ROUND(FIRE1121_working!AD46,0)","v":0},{"$f":"ROUND(FIRE1121_working!AE46,0)","v":0},{"$f":"ROUND(FIRE1121_working!AF46,0)","v":0},{"$f":"ROUND(FIRE1121_working!AG46,0)","v":0},{"$f":"ROUND(FIRE1121_working!AH46,0)","v":0},{"$f":"IF(FIRE1121_working!AI46=\"-\",\"-\",ROUND(FIRE1121_working!AI46,3))","v":"-"},{"$f":"IF(FIRE1121_working!AJ46=\"-\",\"-\",ROUND(FIRE1121_working!AJ46,3))","v":"-"},"blank",{"$f":"ROUND(FIRE1121_working!AL46,0)","v":8},{"$f":"ROUND(FIRE1121_working!AM46,0)","v":0},{"$f":"ROUND(FIRE1121_working!AN46,0)","v":0},{"$f":"ROUND(FIRE1121_working!AO46,0)","v":2},{"$f":"ROUND(FIRE1121_working!AP46,0)","v":0},{"$f":"ROUND(FIRE1121_working!AQ46,0)","v":1},{"$f":"IF(FIRE1121_working!AR46=\"-\",\"-\",ROUND(FIRE1121_working!AR46,3))","v":0.2},{"$f":"IF(FIRE1121_working!AS46=\"-\",\"-\",ROUND(FIRE1121_working!AS46,3))","v":9.0999999999999998E-2},"blank",{"$f":"ROUND(FIRE1121_working!AU46,0)","v":68},{"$f":"ROUND(FIRE1121_working!AV46,0)","v":1},{"$f":"ROUND(FIRE1121_working!AW46,0)","v":0},{"$f":"ROUND(FIRE1121_working!AX46,0)","v":2},{"$f":"ROUND(FIRE1121_working!AY46,0)","v":8},{"$f":"ROUND(FIRE1121_working!AZ46,0)","v":5},{"$f":"IF(FIRE1121_working!BA46=\"-\",\"-\",ROUND(FIRE1121_working!BA46,3))","v":0.13900000000000001},{"$f":"IF(FIRE1121_working!BB46=\"-\",\"-\",ROUND(FIRE1121_working!BB46,3))","v":0.06},"blank"]
["Shropshire",{"$f":"ROUND(FIRE1121_working!B47,0)","v":8},{"$f":"ROUND(FIRE1121_working!C47,0)","v":0},{"$f":"ROUND(FIRE1121_working!D47,0)","v":0},{"$f":"ROUND(FIRE1121_working!E47,0)","v":0},{"$f":"ROUND(FIRE1121_working!F47,0)","v":0},{"$f":"ROUND(FIRE1121_working!G47,0)","v":5},{"$f":"IF(FIRE1121_working!H47=\"-\",\"-\",ROUND(FIRE1121_working!H47,3))","v":0},{"$f":"IF(FIRE1121_working!I47=\"-\",\"-\",ROUND(FIRE1121_working!I47,3))","v":0.38500000000000001},"blank",{"$f":"ROUND(FIRE1121_working!K47,0)","v":21},{"$f":"ROUND(FIRE1121_working!L47,0)","v":0},{"$f":"ROUND(FIRE1121_working!M47,0)","v":0},{"$f":"ROUND(FIRE1121_working!N47,0)","v":0},{"$f":"ROUND(FIRE1121_working!O47,0)","v":0},{"$f":"ROUND(FIRE1121_working!P47,0)","v":11},{"$f":"IF(FIRE1121_working!Q47=\"-\",\"-\",ROUND(FIRE1121_working!Q47,3))","v":0},{"$f":"IF(FIRE1121_working!R47=\"-\",\"-\",ROUND(FIRE1121_working!R47,3))","v":0.34399999999999997},"blank",{"$f":"ROUND(FIRE1121_working!T47,0)","v":29},{"$f":"ROUND(FIRE1121_working!U47,0)","v":0},{"$f":"ROUND(FIRE1121_working!V47,0)","v":0},{"$f":"ROUND(FIRE1121_working!W47,0)","v":0},{"$f":"ROUND(FIRE1121_working!X47,0)","v":0},{"$f":"ROUND(FIRE1121_working!Y47,0)","v":16},{"$f":"IF(FIRE1121_working!Z47=\"-\",\"-\",ROUND(FIRE1121_working!Z47,3))","v":0},{"$f":"IF(FIRE1121_working!AA47=\"-\",\"-\",ROUND(FIRE1121_working!AA47,3))","v":0.35599999999999998},"blank",{"$f":"ROUND(FIRE1121_working!AC47,0)","v":0},{"$f":"ROUND(FIRE1121_working!AD47,0)","v":0},{"$f":"ROUND(FIRE1121_working!AE47,0)","v":0},{"$f":"ROUND(FIRE1121_working!AF47,0)","v":0},{"$f":"ROUND(FIRE1121_working!AG47,0)","v":0},{"$f":"ROUND(FIRE1121_working!AH47,0)","v":0},{"$f":"IF(FIRE1121_working!AI47=\"-\",\"-\",ROUND(FIRE1121_working!AI47,3))","v":"-"},{"$f":"IF(FIRE1121_working!AJ47=\"-\",\"-\",ROUND(FIRE1121_working!AJ47,3))","v":"-"},"blank",{"$f":"ROUND(FIRE1121_working!AL47,0)","v":6},{"$f":"ROUND(FIRE1121_working!AM47,0)","v":0},{"$f":"ROUND(FIRE1121_working!AN47,0)","v":0},{"$f":"ROUND(FIRE1121_working!AO47,0)","v":0},{"$f":"ROUND(FIRE1121_working!AP47,0)","v":0},{"$f":"ROUND(FIRE1121_working!AQ47,0)","v":2},{"$f":"IF(FIRE1121_working!AR47=\"-\",\"-\",ROUND(FIRE1121_working!AR47,3))","v":0},{"$f":"IF(FIRE1121_working!AS47=\"-\",\"-\",ROUND(FIRE1121_working!AS47,3))","v":0.25},"blank",{"$f":"ROUND(FIRE1121_working!AU47,0)","v":35},{"$f":"ROUND(FIRE1121_working!AV47,0)","v":0},{"$f":"ROUND(FIRE1121_working!AW47,0)","v":0},{"$f":"ROUND(FIRE1121_working!AX47,0)","v":0},{"$f":"ROUND(FIRE1121_working!AY47,0)","v":0},{"$f":"ROUND(FIRE1121_working!AZ47,0)","v":18},{"$f":"IF(FIRE1121_working!BA47=\"-\",\"-\",ROUND(FIRE1121_working!BA47,3))","v":0},{"$f":"IF(FIRE1121_working!BB47=\"-\",\"-\",ROUND(FIRE1121_working!BB47,3))","v":0.34},"blank"]
["South Yorkshire",{"$f":"ROUND(FIRE1121_working!B48,0)","v":39},{"$f":"ROUND(FIRE1121_working!C48,0)","v":1},{"$f":"ROUND(FIRE1121_working!D48,0)","v":0},{"$f":"ROUND(FIRE1121_working!E48,0)","v":0},{"$f":"ROUND(FIRE1121_working!F48,0)","v":2},{"$f":"ROUND(FIRE1121_working!G48,0)","v":0},{"$f":"IF(FIRE1121_working!H48=\"-\",\"-\",ROUND(FIRE1121_working!H48,3))","v":7.0999999999999994E-2},{"$f":"IF(FIRE1121_working!I48=\"-\",\"-\",ROUND(FIRE1121_working!I48,3))","v":0},"blank",{"$f":"ROUND(FIRE1121_working!K48,0)","v":12},{"$f":"ROUND(FIRE1121_working!L48,0)","v":0},{"$f":"ROUND(FIRE1121_working!M48,0)","v":0},{"$f":"ROUND(FIRE1121_working!N48,0)","v":0},{"$f":"ROUND(FIRE1121_working!O48,0)","v":1},{"$f":"ROUND(FIRE1121_working!P48,0)","v":0},{"$f":"IF(FIRE1121_working!Q48=\"-\",\"-\",ROUND(FIRE1121_working!Q48,3))","v":7.6999999999999999E-2},{"$f":"IF(FIRE1121_working!R48=\"-\",\"-\",ROUND(FIRE1121_working!R48,3))","v":0},"blank",{"$f":"ROUND(FIRE1121_working!T48,0)","v":51},{"$f":"ROUND(FIRE1121_working!U48,0)","v":1},{"$f":"ROUND(FIRE1121_working!V48,0)","v":0},{"$f":"ROUND(FIRE1121_working!W48,0)","v":0},{"$f":"ROUND(FIRE1121_working!X48,0)","v":3},{"$f":"ROUND(FIRE1121_working!Y48,0)","v":0},{"$f":"IF(FIRE1121_working!Z48=\"-\",\"-\",ROUND(FIRE1121_working!Z48,3))","v":7.2999999999999995E-2},{"$f":"IF(FIRE1121_working!AA48=\"-\",\"-\",ROUND(FIRE1121_working!AA48,3))","v":0},"blank",{"$f":"ROUND(FIRE1121_working!AC48,0)","v":0},{"$f":"ROUND(FIRE1121_working!AD48,0)","v":0},{"$f":"ROUND(FIRE1121_working!AE48,0)","v":0},{"$f":"ROUND(FIRE1121_working!AF48,0)","v":0},{"$f":"ROUND(FIRE1121_working!AG48,0)","v":0},{"$f":"ROUND(FIRE1121_working!AH48,0)","v":0},{"$f":"IF(FIRE1121_working!AI48=\"-\",\"-\",ROUND(FIRE1121_working!AI48,3))","v":"-"},{"$f":"IF(FIRE1121_working!AJ48=\"-\",\"-\",ROUND(FIRE1121_working!AJ48,3))","v":"-"},"blank",{"$f":"ROUND(FIRE1121_working!AL48,0)","v":27},{"$f":"ROUND(FIRE1121_working!AM48,0)","v":0},{"$f":"ROUND(FIRE1121_working!AN48,0)","v":3},{"$f":"ROUND(FIRE1121_working!AO48,0)","v":1},{"$f":"ROUND(FIRE1121_working!AP48,0)","v":2},{"$f":"ROUND(FIRE1121_working!AQ48,0)","v":0},{"$f":"IF(FIRE1121_working!AR48=\"-\",\"-\",ROUND(FIRE1121_working!AR48,3))","v":0.182},{"$f":"IF(FIRE1121_working!AS48=\"-\",\"-\",ROUND(FIRE1121_working!AS48,3))","v":0},"blank",{"$f":"ROUND(FIRE1121_working!AU48,0)","v":78},{"$f":"ROUND(FIRE1121_working!AV48,0)","v":1},{"$f":"ROUND(FIRE1121_working!AW48,0)","v":3},{"$f":"ROUND(FIRE1121_working!AX48,0)","v":1},{"$f":"ROUND(FIRE1121_working!AY48,0)","v":5},{"$f":"ROUND(FIRE1121_working!AZ48,0)","v":0},{"$f":"IF(FIRE1121_working!BA48=\"-\",\"-\",ROUND(FIRE1121_working!BA48,3))","v":0.114},{"$f":"IF(FIRE1121_working!BB48=\"-\",\"-\",ROUND(FIRE1121_working!BB48,3))","v":0},"blank"]
["Staffordshire",{"$f":"ROUND(FIRE1121_working!B49,0)","v":18},{"$f":"ROUND(FIRE1121_working!C49,0)","v":0},{"$f":"ROUND(FIRE1121_working!D49,0)","v":0},{"$f":"ROUND(FIRE1121_working!E49,0)","v":0},{"$f":"ROUND(FIRE1121_working!F49,0)","v":0},{"$f":"ROUND(FIRE1121_working!G49,0)","v":0},{"$f":"IF(FIRE1121_working!H49=\"-\",\"-\",ROUND(FIRE1121_working!H49,3))","v":0},{"$f":"IF(FIRE1121_working!I49=\"-\",\"-\",ROUND(FIRE1121_working!I49,3))","v":0},"blank",{"$f":"ROUND(FIRE1121_working!K49,0)","v":38},{"$f":"ROUND(FIRE1121_working!L49,0)","v":0},{"$f":"ROUND(FIRE1121_working!M49,0)","v":0},{"$f":"ROUND(FIRE1121_working!N49,0)","v":0},{"$f":"ROUND(FIRE1121_working!O49,0)","v":3},{"$f":"ROUND(FIRE1121_working!P49,0)","v":0},{"$f":"IF(FIRE1121_working!Q49=\"-\",\"-\",ROUND(FIRE1121_working!Q49,3))","v":7.2999999999999995E-2},{"$f":"IF(FIRE1121_working!R49=\"-\",\"-\",ROUND(FIRE1121_working!R49,3))","v":0},"blank",{"$f":"ROUND(FIRE1121_working!T49,0)","v":56},{"$f":"ROUND(FIRE1121_working!U49,0)","v":0},{"$f":"ROUND(FIRE1121_working!V49,0)","v":0},{"$f":"ROUND(FIRE1121_working!W49,0)","v":0},{"$f":"ROUND(FIRE1121_working!X49,0)","v":3},{"$f":"ROUND(FIRE1121_working!Y49,0)","v":0},{"$f":"IF(FIRE1121_working!Z49=\"-\",\"-\",ROUND(FIRE1121_working!Z49,3))","v":5.0999999999999997E-2},{"$f":"IF(FIRE1121_working!AA49=\"-\",\"-\",ROUND(FIRE1121_working!AA49,3))","v":0},"blank",{"$f":"ROUND(FIRE1121_working!AC49,0)","v":0},{"$f":"ROUND(FIRE1121_working!AD49,0)","v":0},{"$f":"ROUND(FIRE1121_working!AE49,0)","v":0},{"$f":"ROUND(FIRE1121_working!AF49,0)","v":0},{"$f":"ROUND(FIRE1121_working!AG49,0)","v":0},{"$f":"ROUND(FIRE1121_working!AH49,0)","v":0},{"$f":"IF(FIRE1121_working!AI49=\"-\",\"-\",ROUND(FIRE1121_working!AI49,3))","v":"-"},{"$f":"IF(FIRE1121_working!AJ49=\"-\",\"-\",ROUND(FIRE1121_working!AJ49,3))","v":"-"},"blank",{"$f":"ROUND(FIRE1121_working!AL49,0)","v":27},{"$f":"ROUND(FIRE1121_working!AM49,0)","v":0},{"$f":"ROUND(FIRE1121_working!AN49,0)","v":0},{"$f":"ROUND(FIRE1121_working!AO49,0)","v":0},{"$f":"ROUND(FIRE1121_working!AP49,0)","v":1},{"$f":"ROUND(FIRE1121_working!AQ49,0)","v":0},{"$f":"IF(FIRE1121_working!AR49=\"-\",\"-\",ROUND(FIRE1121_working!AR49,3))","v":3.5999999999999997E-2},{"$f":"IF(FIRE1121_working!AS49=\"-\",\"-\",ROUND(FIRE1121_working!AS49,3))","v":0},"blank",{"$f":"ROUND(FIRE1121_working!AU49,0)","v":83},{"$f":"ROUND(FIRE1121_working!AV49,0)","v":0},{"$f":"ROUND(FIRE1121_working!AW49,0)","v":0},{"$f":"ROUND(FIRE1121_working!AX49,0)","v":0},{"$f":"ROUND(FIRE1121_working!AY49,0)","v":4},{"$f":"ROUND(FIRE1121_working!AZ49,0)","v":0},{"$f":"IF(FIRE1121_working!BA49=\"-\",\"-\",ROUND(FIRE1121_working!BA49,3))","v":4.5999999999999999E-2},{"$f":"IF(FIRE1121_working!BB49=\"-\",\"-\",ROUND(FIRE1121_working!BB49,3))","v":0},"blank"]
["Suffolk",{"$f":"ROUND(FIRE1121_working!B50,0)","v":2},{"$f":"ROUND(FIRE1121_working!C50,0)","v":0},{"$f":"ROUND(FIRE1121_working!D50,0)","v":0},{"$f":"ROUND(FIRE1121_working!E50,0)","v":0},{"$f":"ROUND(FIRE1121_working!F50,0)","v":0},{"$f":"ROUND(FIRE1121_working!G50,0)","v":7},{"$f":"IF(FIRE1121_working!H50=\"-\",\"-\",ROUND(FIRE1121_working!H50,3))","v":0},{"$f":"IF(FIRE1121_working!I50=\"-\",\"-\",ROUND(FIRE1121_working!I50,3))","v":0.77800000000000002},"blank",{"$f":"ROUND(FIRE1121_working!K50,0)","v":3},{"$f":"ROUND(FIRE1121_working!L50,0)","v":0},{"$f":"ROUND(FIRE1121_working!M50,0)","v":0},{"$f":"ROUND(FIRE1121_working!N50,0)","v":0},{"$f":"ROUND(FIRE1121_working!O50,0)","v":0},{"$f":"ROUND(FIRE1121_working!P50,0)","v":40},{"$f":"IF(FIRE1121_working!Q50=\"-\",\"-\",ROUND(FIRE1121_working!Q50,3))","v":0},{"$f":"IF(FIRE1121_working!R50=\"-\",\"-\",ROUND(FIRE1121_working!R50,3))","v":0.93},"blank",{"$f":"ROUND(FIRE1121_working!T50,0)","v":5},{"$f":"ROUND(FIRE1121_working!U50,0)","v":0},{"$f":"ROUND(FIRE1121_working!V50,0)","v":0},{"$f":"ROUND(FIRE1121_working!W50,0)","v":0},{"$f":"ROUND(FIRE1121_working!X50,0)","v":0},{"$f":"ROUND(FIRE1121_working!Y50,0)","v":47},{"$f":"IF(FIRE1121_working!Z50=\"-\",\"-\",ROUND(FIRE1121_working!Z50,3))","v":0},{"$f":"IF(FIRE1121_working!AA50=\"-\",\"-\",ROUND(FIRE1121_working!AA50,3))","v":0.90400000000000003},"blank",{"$f":"ROUND(FIRE1121_working!AC50,0)","v":0},{"$f":"ROUND(FIRE1121_working!AD50,0)","v":0},{"$f":"ROUND(FIRE1121_working!AE50,0)","v":0},{"$f":"ROUND(FIRE1121_working!AF50,0)","v":0},{"$f":"ROUND(FIRE1121_working!AG50,0)","v":0},{"$f":"ROUND(FIRE1121_working!AH50,0)","v":0},{"$f":"IF(FIRE1121_working!AI50=\"-\",\"-\",ROUND(FIRE1121_working!AI50,3))","v":"-"},{"$f":"IF(FIRE1121_working!AJ50=\"-\",\"-\",ROUND(FIRE1121_working!AJ50,3))","v":"-"},"blank",{"$f":"ROUND(FIRE1121_working!AL50,0)","v":13},{"$f":"ROUND(FIRE1121_working!AM50,0)","v":0},{"$f":"ROUND(FIRE1121_working!AN50,0)","v":0},{"$f":"ROUND(FIRE1121_working!AO50,0)","v":0},{"$f":"ROUND(FIRE1121_working!AP50,0)","v":1},{"$f":"ROUND(FIRE1121_working!AQ50,0)","v":5},{"$f":"IF(FIRE1121_working!AR50=\"-\",\"-\",ROUND(FIRE1121_working!AR50,3))","v":7.0999999999999994E-2},{"$f":"IF(FIRE1121_working!AS50=\"-\",\"-\",ROUND(FIRE1121_working!AS50,3))","v":0.26300000000000001},"blank",{"$f":"ROUND(FIRE1121_working!AU50,0)","v":18},{"$f":"ROUND(FIRE1121_working!AV50,0)","v":0},{"$f":"ROUND(FIRE1121_working!AW50,0)","v":0},{"$f":"ROUND(FIRE1121_working!AX50,0)","v":0},{"$f":"ROUND(FIRE1121_working!AY50,0)","v":1},{"$f":"ROUND(FIRE1121_working!AZ50,0)","v":52},{"$f":"IF(FIRE1121_working!BA50=\"-\",\"-\",ROUND(FIRE1121_working!BA50,3))","v":5.2999999999999999E-2},{"$f":"IF(FIRE1121_working!BB50=\"-\",\"-\",ROUND(FIRE1121_working!BB50,3))","v":0.73199999999999998},"blank"]
["Surrey",{"$f":"ROUND(FIRE1121_working!B51,0)","v":91},{"$f":"ROUND(FIRE1121_working!C51,0)","v":0},{"$f":"ROUND(FIRE1121_working!D51,0)","v":0},{"$f":"ROUND(FIRE1121_working!E51,0)","v":1},{"$f":"ROUND(FIRE1121_working!F51,0)","v":3},{"$f":"ROUND(FIRE1121_working!G51,0)","v":0},{"$f":"IF(FIRE1121_working!H51=\"-\",\"-\",ROUND(FIRE1121_working!H51,3))","v":4.2000000000000003E-2},{"$f":"IF(FIRE1121_working!I51=\"-\",\"-\",ROUND(FIRE1121_working!I51,3))","v":0},"blank",{"$f":"ROUND(FIRE1121_working!K51,0)","v":2},{"$f":"ROUND(FIRE1121_working!L51,0)","v":0},{"$f":"ROUND(FIRE1121_working!M51,0)","v":0},{"$f":"ROUND(FIRE1121_working!N51,0)","v":0},{"$f":"ROUND(FIRE1121_working!O51,0)","v":0},{"$f":"ROUND(FIRE1121_working!P51,0)","v":0},{"$f":"IF(FIRE1121_working!Q51=\"-\",\"-\",ROUND(FIRE1121_working!Q51,3))","v":0},{"$f":"IF(FIRE1121_working!R51=\"-\",\"-\",ROUND(FIRE1121_working!R51,3))","v":0},"blank",{"$f":"ROUND(FIRE1121_working!T51,0)","v":93},{"$f":"ROUND(FIRE1121_working!U51,0)","v":0},{"$f":"ROUND(FIRE1121_working!V51,0)","v":0},{"$f":"ROUND(FIRE1121_working!W51,0)","v":1},{"$f":"ROUND(FIRE1121_working!X51,0)","v":3},{"$f":"ROUND(FIRE1121_working!Y51,0)","v":0},{"$f":"IF(FIRE1121_working!Z51=\"-\",\"-\",ROUND(FIRE1121_working!Z51,3))","v":4.1000000000000002E-2},{"$f":"IF(FIRE1121_working!AA51=\"-\",\"-\",ROUND(FIRE1121_working!AA51,3))","v":0},"blank",{"$f":"ROUND(FIRE1121_working!AC51,0)","v":8},{"$f":"ROUND(FIRE1121_working!AD51,0)","v":0},{"$f":"ROUND(FIRE1121_working!AE51,0)","v":0},{"$f":"ROUND(FIRE1121_working!AF51,0)","v":0},{"$f":"ROUND(FIRE1121_working!AG51,0)","v":1},{"$f":"ROUND(FIRE1121_working!AH51,0)","v":0},{"$f":"IF(FIRE1121_working!AI51=\"-\",\"-\",ROUND(FIRE1121_working!AI51,3))","v":0.111},{"$f":"IF(FIRE1121_working!AJ51=\"-\",\"-\",ROUND(FIRE1121_working!AJ51,3))","v":0},"blank",{"$f":"ROUND(FIRE1121_working!AL51,0)","v":13},{"$f":"ROUND(FIRE1121_working!AM51,0)","v":0},{"$f":"ROUND(FIRE1121_working!AN51,0)","v":2},{"$f":"ROUND(FIRE1121_working!AO51,0)","v":1},{"$f":"ROUND(FIRE1121_working!AP51,0)","v":2},{"$f":"ROUND(FIRE1121_working!AQ51,0)","v":6},{"$f":"IF(FIRE1121_working!AR51=\"-\",\"-\",ROUND(FIRE1121_working!AR51,3))","v":0.27800000000000002},{"$f":"IF(FIRE1121_working!AS51=\"-\",\"-\",ROUND(FIRE1121_working!AS51,3))","v":0.25},"blank",{"$f":"ROUND(FIRE1121_working!AU51,0)","v":114},{"$f":"ROUND(FIRE1121_working!AV51,0)","v":0},{"$f":"ROUND(FIRE1121_working!AW51,0)","v":2},{"$f":"ROUND(FIRE1121_working!AX51,0)","v":2},{"$f":"ROUND(FIRE1121_working!AY51,0)","v":6},{"$f":"ROUND(FIRE1121_working!AZ51,0)","v":6},{"$f":"IF(FIRE1121_working!BA51=\"-\",\"-\",ROUND(FIRE1121_working!BA51,3))","v":8.1000000000000003E-2},{"$f":"IF(FIRE1121_working!BB51=\"-\",\"-\",ROUND(FIRE1121_working!BB51,3))","v":4.5999999999999999E-2},"blank"]
["Tyne and Wear",{"$f":"ROUND(FIRE1121_working!B52,0)","v":54},{"$f":"ROUND(FIRE1121_working!C52,0)","v":1},{"$f":"ROUND(FIRE1121_working!D52,0)","v":0},{"$f":"ROUND(FIRE1121_working!E52,0)","v":0},{"$f":"ROUND(FIRE1121_working!F52,0)","v":2},{"$f":"ROUND(FIRE1121_working!G52,0)","v":3},{"$f":"IF(FIRE1121_working!H52=\"-\",\"-\",ROUND(FIRE1121_working!H52,3))","v":5.2999999999999999E-2},{"$f":"IF(FIRE1121_working!I52=\"-\",\"-\",ROUND(FIRE1121_working!I52,3))","v":0.05},"blank",{"$f":"ROUND(FIRE1121_working!K52,0)","v":1},{"$f":"ROUND(FIRE1121_working!L52,0)","v":0},{"$f":"ROUND(FIRE1121_working!M52,0)","v":0},{"$f":"ROUND(FIRE1121_working!N52,0)","v":0},{"$f":"ROUND(FIRE1121_working!O52,0)","v":0},{"$f":"ROUND(FIRE1121_working!P52,0)","v":0},{"$f":"IF(FIRE1121_working!Q52=\"-\",\"-\",ROUND(FIRE1121_working!Q52,3))","v":0},{"$f":"IF(FIRE1121_working!R52=\"-\",\"-\",ROUND(FIRE1121_working!R52,3))","v":0},"blank",{"$f":"ROUND(FIRE1121_working!T52,0)","v":55},{"$f":"ROUND(FIRE1121_working!U52,0)","v":1},{"$f":"ROUND(FIRE1121_working!V52,0)","v":0},{"$f":"ROUND(FIRE1121_working!W52,0)","v":0},{"$f":"ROUND(FIRE1121_working!X52,0)","v":2},{"$f":"ROUND(FIRE1121_working!Y52,0)","v":3},{"$f":"IF(FIRE1121_working!Z52=\"-\",\"-\",ROUND(FIRE1121_working!Z52,3))","v":5.1999999999999998E-2},{"$f":"IF(FIRE1121_working!AA52=\"-\",\"-\",ROUND(FIRE1121_working!AA52,3))","v":4.9000000000000002E-2},"blank",{"$f":"ROUND(FIRE1121_working!AC52,0)","v":1},{"$f":"ROUND(FIRE1121_working!AD52,0)","v":0},{"$f":"ROUND(FIRE1121_working!AE52,0)","v":0},{"$f":"ROUND(FIRE1121_working!AF52,0)","v":0},{"$f":"ROUND(FIRE1121_working!AG52,0)","v":0},{"$f":"ROUND(FIRE1121_working!AH52,0)","v":0},{"$f":"IF(FIRE1121_working!AI52=\"-\",\"-\",ROUND(FIRE1121_working!AI52,3))","v":0},{"$f":"IF(FIRE1121_working!AJ52=\"-\",\"-\",ROUND(FIRE1121_working!AJ52,3))","v":0},"blank",{"$f":"ROUND(FIRE1121_working!AL52,0)","v":45},{"$f":"ROUND(FIRE1121_working!AM52,0)","v":0},{"$f":"ROUND(FIRE1121_working!AN52,0)","v":0},{"$f":"ROUND(FIRE1121_working!AO52,0)","v":0},{"$f":"ROUND(FIRE1121_working!AP52,0)","v":3},{"$f":"ROUND(FIRE1121_working!AQ52,0)","v":19},{"$f":"IF(FIRE1121_working!AR52=\"-\",\"-\",ROUND(FIRE1121_working!AR52,3))","v":6.3E-2},{"$f":"IF(FIRE1121_working!AS52=\"-\",\"-\",ROUND(FIRE1121_working!AS52,3))","v":0.28399999999999997},"blank",{"$f":"ROUND(FIRE1121_working!AU52,0)","v":101},{"$f":"ROUND(FIRE1121_working!AV52,0)","v":1},{"$f":"ROUND(FIRE1121_working!AW52,0)","v":0},{"$f":"ROUND(FIRE1121_working!AX52,0)","v":0},{"$f":"ROUND(FIRE1121_working!AY52,0)","v":5},{"$f":"ROUND(FIRE1121_working!AZ52,0)","v":22},{"$f":"IF(FIRE1121_working!BA52=\"-\",\"-\",ROUND(FIRE1121_working!BA52,3))","v":5.6000000000000001E-2},{"$f":"IF(FIRE1121_working!BB52=\"-\",\"-\",ROUND(FIRE1121_working!BB52,3))","v":0.17100000000000001},"blank"]
["Warwickshire",{"$f":"ROUND(FIRE1121_working!B53,0)","v":10},{"$f":"ROUND(FIRE1121_working!C53,0)","v":0},{"$f":"ROUND(FIRE1121_working!D53,0)","v":0},{"$f":"ROUND(FIRE1121_working!E53,0)","v":0},{"$f":"ROUND(FIRE1121_working!F53,0)","v":0},{"$f":"ROUND(FIRE1121_working!G53,0)","v":8},{"$f":"IF(FIRE1121_working!H53=\"-\",\"-\",ROUND(FIRE1121_working!H53,3))","v":0},{"$f":"IF(FIRE1121_working!I53=\"-\",\"-\",ROUND(FIRE1121_working!I53,3))","v":0.44400000000000001},"blank",{"$f":"ROUND(FIRE1121_working!K53,0)","v":16},{"$f":"ROUND(FIRE1121_working!L53,0)","v":0},{"$f":"ROUND(FIRE1121_working!M53,0)","v":0},{"$f":"ROUND(FIRE1121_working!N53,0)","v":0},{"$f":"ROUND(FIRE1121_working!O53,0)","v":0},{"$f":"ROUND(FIRE1121_working!P53,0)","v":1},{"$f":"IF(FIRE1121_working!Q53=\"-\",\"-\",ROUND(FIRE1121_working!Q53,3))","v":0},{"$f":"IF(FIRE1121_working!R53=\"-\",\"-\",ROUND(FIRE1121_working!R53,3))","v":5.8999999999999997E-2},"blank",{"$f":"ROUND(FIRE1121_working!T53,0)","v":26},{"$f":"ROUND(FIRE1121_working!U53,0)","v":0},{"$f":"ROUND(FIRE1121_working!V53,0)","v":0},{"$f":"ROUND(FIRE1121_working!W53,0)","v":0},{"$f":"ROUND(FIRE1121_working!X53,0)","v":0},{"$f":"ROUND(FIRE1121_working!Y53,0)","v":9},{"$f":"IF(FIRE1121_working!Z53=\"-\",\"-\",ROUND(FIRE1121_working!Z53,3))","v":0},{"$f":"IF(FIRE1121_working!AA53=\"-\",\"-\",ROUND(FIRE1121_working!AA53,3))","v":0.25700000000000001},"blank",{"$f":"ROUND(FIRE1121_working!AC53,0)","v":3},{"$f":"ROUND(FIRE1121_working!AD53,0)","v":0},{"$f":"ROUND(FIRE1121_working!AE53,0)","v":0},{"$f":"ROUND(FIRE1121_working!AF53,0)","v":0},{"$f":"ROUND(FIRE1121_working!AG53,0)","v":0},{"$f":"ROUND(FIRE1121_working!AH53,0)","v":1},{"$f":"IF(FIRE1121_working!AI53=\"-\",\"-\",ROUND(FIRE1121_working!AI53,3))","v":0},{"$f":"IF(FIRE1121_working!AJ53=\"-\",\"-\",ROUND(FIRE1121_working!AJ53,3))","v":0.25},"blank",{"$f":"ROUND(FIRE1121_working!AL53,0)","v":7},{"$f":"ROUND(FIRE1121_working!AM53,0)","v":0},{"$f":"ROUND(FIRE1121_working!AN53,0)","v":1},{"$f":"ROUND(FIRE1121_working!AO53,0)","v":0},{"$f":"ROUND(FIRE1121_working!AP53,0)","v":0},{"$f":"ROUND(FIRE1121_working!AQ53,0)","v":3},{"$f":"IF(FIRE1121_working!AR53=\"-\",\"-\",ROUND(FIRE1121_working!AR53,3))","v":0.125},{"$f":"IF(FIRE1121_working!AS53=\"-\",\"-\",ROUND(FIRE1121_working!AS53,3))","v":0.27300000000000002},"blank",{"$f":"ROUND(FIRE1121_working!AU53,0)","v":36},{"$f":"ROUND(FIRE1121_working!AV53,0)","v":0},{"$f":"ROUND(FIRE1121_working!AW53,0)","v":1},{"$f":"ROUND(FIRE1121_working!AX53,0)","v":0},{"$f":"ROUND(FIRE1121_working!AY53,0)","v":0},{"$f":"ROUND(FIRE1121_working!AZ53,0)","v":13},{"$f":"IF(FIRE1121_working!BA53=\"-\",\"-\",ROUND(FIRE1121_working!BA53,3))","v":2.7E-2},{"$f":"IF(FIRE1121_working!BB53=\"-\",\"-\",ROUND(FIRE1121_working!BB53,3))","v":0.26},"blank"]
["West Midlands",{"$f":"ROUND(FIRE1121_working!B54,0)","v":63},{"$f":"ROUND(FIRE1121_working!C54,0)","v":12},{"$f":"ROUND(FIRE1121_working!D54,0)","v":3},{"$f":"ROUND(FIRE1121_working!E54,0)","v":4},{"$f":"ROUND(FIRE1121_working!F54,0)","v":2},{"$f":"ROUND(FIRE1121_working!G54,0)","v":5},{"$f":"IF(FIRE1121_working!H54=\"-\",\"-\",ROUND(FIRE1121_working!H54,3))","v":0.25},{"$f":"IF(FIRE1121_working!I54=\"-\",\"-\",ROUND(FIRE1121_working!I54,3))","v":5.6000000000000001E-2},null,{"$f":"ROUND(FIRE1121_working!K54,0)","v":0},{"$f":"ROUND(FIRE1121_working!L54,0)","v":0},{"$f":"ROUND(FIRE1121_working!M54,0)","v":0},{"$f":"ROUND(FIRE1121_working!N54,0)","v":0},{"$f":"ROUND(FIRE1121_working!O54,0)","v":0},{"$f":"ROUND(FIRE1121_working!P54,0)","v":0},{"$f":"IF(FIRE1121_working!Q54=\"-\",\"-\",ROUND(FIRE1121_working!Q54,3))","v":"-"},{"$f":"IF(FIRE1121_working!R54=\"-\",\"-\",ROUND(FIRE1121_working!R54,3))","v":"-"},null,{"$f":"ROUND(FIRE1121_working!T54,0)","v":63},{"$f":"ROUND(FIRE1121_working!U54,0)","v":12},{"$f":"ROUND(FIRE1121_working!V54,0)","v":3},{"$f":"ROUND(FIRE1121_working!W54,0)","v":4},{"$f":"ROUND(FIRE1121_working!X54,0)","v":2},{"$f":"ROUND(FIRE1121_working!Y54,0)","v":5},{"$f":"IF(FIRE1121_working!Z54=\"-\",\"-\",ROUND(FIRE1121_working!Z54,3))","v":0.25},{"$f":"IF(FIRE1121_working!AA54=\"-\",\"-\",ROUND(FIRE1121_working!AA54,3))","v":5.6000000000000001E-2},null,{"$f":"ROUND(FIRE1121_working!AC54,0)","v":5},{"$f":"ROUND(FIRE1121_working!AD54,0)","v":0},{"$f":"ROUND(FIRE1121_working!AE54,0)","v":1},{"$f":"ROUND(FIRE1121_working!AF54,0)","v":0},{"$f":"ROUND(FIRE1121_working!AG54,0)","v":0},{"$f":"ROUND(FIRE1121_working!AH54,0)","v":1},{"$f":"IF(FIRE1121_working!AI54=\"-\",\"-\",ROUND(FIRE1121_working!AI54,3))","v":0.16700000000000001},{"$f":"IF(FIRE1121_working!AJ54=\"-\",\"-\",ROUND(FIRE1121_working!AJ54,3))","v":0.14299999999999999},null,{"$f":"ROUND(FIRE1121_working!AL54,0)","v":15},{"$f":"ROUND(FIRE1121_working!AM54,0)","v":1},{"$f":"ROUND(FIRE1121_working!AN54,0)","v":0},{"$f":"ROUND(FIRE1121_working!AO54,0)","v":1},{"$f":"ROUND(FIRE1121_working!AP54,0)","v":2},{"$f":"ROUND(FIRE1121_working!AQ54,0)","v":11},{"$f":"IF(FIRE1121_working!AR54=\"-\",\"-\",ROUND(FIRE1121_working!AR54,3))","v":0.21099999999999999},{"$f":"IF(FIRE1121_working!AS54=\"-\",\"-\",ROUND(FIRE1121_working!AS54,3))","v":0.36699999999999999},null,{"$f":"ROUND(FIRE1121_working!AU54,0)","v":83},{"$f":"ROUND(FIRE1121_working!AV54,0)","v":13},{"$f":"ROUND(FIRE1121_working!AW54,0)","v":4},{"$f":"ROUND(FIRE1121_working!AX54,0)","v":5},{"$f":"ROUND(FIRE1121_working!AY54,0)","v":4},{"$f":"ROUND(FIRE1121_working!AZ54,0)","v":17},{"$f":"IF(FIRE1121_working!BA54=\"-\",\"-\",ROUND(FIRE1121_working!BA54,3))","v":0.23899999999999999},{"$f":"IF(FIRE1121_working!BB54=\"-\",\"-\",ROUND(FIRE1121_working!BB54,3))","v":0.13500000000000001}]
["West Sussex",{"$f":"ROUND(FIRE1121_working!B55,0)","v":7},{"$f":"ROUND(FIRE1121_working!C55,0)","v":0},{"$f":"ROUND(FIRE1121_working!D55,0)","v":0},{"$f":"ROUND(FIRE1121_working!E55,0)","v":0},{"$f":"ROUND(FIRE1121_working!F55,0)","v":0},{"$f":"ROUND(FIRE1121_working!G55,0)","v":14},{"$f":"IF(FIRE1121_working!H55=\"-\",\"-\",ROUND(FIRE1121_working!H55,3))","v":0},{"$f":"IF(FIRE1121_working!I55=\"-\",\"-\",ROUND(FIRE1121_working!I55,3))","v":0.66700000000000004},null,{"$f":"ROUND(FIRE1121_working!K55,0)","v":17},{"$f":"ROUND(FIRE1121_working!L55,0)","v":0},{"$f":"ROUND(FIRE1121_working!M55,0)","v":0},{"$f":"ROUND(FIRE1121_working!N55,0)","v":0},{"$f":"ROUND(FIRE1121_working!O55,0)","v":0},{"$f":"ROUND(FIRE1121_working!P55,0)","v":10},{"$f":"IF(FIRE1121_working!Q55=\"-\",\"-\",ROUND(FIRE1121_working!Q55,3))","v":0},{"$f":"IF(FIRE1121_working!R55=\"-\",\"-\",ROUND(FIRE1121_working!R55,3))","v":0.37},null,{"$f":"ROUND(FIRE1121_working!T55,0)","v":24},{"$f":"ROUND(FIRE1121_working!U55,0)","v":0},{"$f":"ROUND(FIRE1121_working!V55,0)","v":0},{"$f":"ROUND(FIRE1121_working!W55,0)","v":0},{"$f":"ROUND(FIRE1121_working!X55,0)","v":0},{"$f":"ROUND(FIRE1121_working!Y55,0)","v":24},{"$f":"IF(FIRE1121_working!Z55=\"-\",\"-\",ROUND(FIRE1121_working!Z55,3))","v":0},{"$f":"IF(FIRE1121_working!AA55=\"-\",\"-\",ROUND(FIRE1121_working!AA55,3))","v":0.5},null,{"$f":"ROUND(FIRE1121_working!AC55,0)","v":0},{"$f":"ROUND(FIRE1121_working!AD55,0)","v":0},{"$f":"ROUND(FIRE1121_working!AE55,0)","v":0},{"$f":"ROUND(FIRE1121_working!AF55,0)","v":0},{"$f":"ROUND(FIRE1121_working!AG55,0)","v":0},{"$f":"ROUND(FIRE1121_working!AH55,0)","v":0},{"$f":"IF(FIRE1121_working!AI55=\"-\",\"-\",ROUND(FIRE1121_working!AI55,3))","v":"-"},{"$f":"IF(FIRE1121_working!AJ55=\"-\",\"-\",ROUND(FIRE1121_working!AJ55,3))","v":"-"},null,{"$f":"ROUND(FIRE1121_working!AL55,0)","v":2},{"$f":"ROUND(FIRE1121_working!AM55,0)","v":0},{"$f":"ROUND(FIRE1121_working!AN55,0)","v":0},{"$f":"ROUND(FIRE1121_working!AO55,0)","v":0},{"$f":"ROUND(FIRE1121_working!AP55,0)","v":1},{"$f":"ROUND(FIRE1121_working!AQ55,0)","v":8},{"$f":"IF(FIRE1121_working!AR55=\"-\",\"-\",ROUND(FIRE1121_working!AR55,3))","v":0.33300000000000002},{"$f":"IF(FIRE1121_working!AS55=\"-\",\"-\",ROUND(FIRE1121_working!AS55,3))","v":0.72699999999999998},null,{"$f":"ROUND(FIRE1121_working!AU55,0)","v":26},{"$f":"ROUND(FIRE1121_working!AV55,0)","v":0},{"$f":"ROUND(FIRE1121_working!AW55,0)","v":0},{"$f":"ROUND(FIRE1121_working!AX55,0)","v":0},{"$f":"ROUND(FIRE1121_working!AY55,0)","v":1},{"$f":"ROUND(FIRE1121_working!AZ55,0)","v":32},{"$f":"IF(FIRE1121_working!BA55=\"-\",\"-\",ROUND(FIRE1121_working!BA55,3))","v":3.6999999999999998E-2},{"$f":"IF(FIRE1121_working!BB55=\"-\",\"-\",ROUND(FIRE1121_working!BB55,3))","v":0.54200000000000004}]
["West Yorkshire",{"$f":"ROUND(FIRE1121_working!B56,0)","v":43},{"$f":"ROUND(FIRE1121_working!C56,0)","v":6},{"$f":"ROUND(FIRE1121_working!D56,0)","v":2},{"$f":"ROUND(FIRE1121_working!E56,0)","v":1},{"$f":"ROUND(FIRE1121_working!F56,0)","v":2},{"$f":"ROUND(FIRE1121_working!G56,0)","v":27},{"$f":"IF(FIRE1121_working!H56=\"-\",\"-\",ROUND(FIRE1121_working!H56,3))","v":0.20399999999999999},{"$f":"IF(FIRE1121_working!I56=\"-\",\"-\",ROUND(FIRE1121_working!I56,3))","v":0.33300000000000002},null,{"$f":"ROUND(FIRE1121_working!K56,0)","v":15},{"$f":"ROUND(FIRE1121_working!L56,0)","v":0},{"$f":"ROUND(FIRE1121_working!M56,0)","v":0},{"$f":"ROUND(FIRE1121_working!N56,0)","v":0},{"$f":"ROUND(FIRE1121_working!O56,0)","v":0},{"$f":"ROUND(FIRE1121_working!P56,0)","v":1},{"$f":"IF(FIRE1121_working!Q56=\"-\",\"-\",ROUND(FIRE1121_working!Q56,3))","v":0},{"$f":"IF(FIRE1121_working!R56=\"-\",\"-\",ROUND(FIRE1121_working!R56,3))","v":6.3E-2},null,{"$f":"ROUND(FIRE1121_working!T56,0)","v":58},{"$f":"ROUND(FIRE1121_working!U56,0)","v":6},{"$f":"ROUND(FIRE1121_working!V56,0)","v":2},{"$f":"ROUND(FIRE1121_working!W56,0)","v":1},{"$f":"ROUND(FIRE1121_working!X56,0)","v":2},{"$f":"ROUND(FIRE1121_working!Y56,0)","v":28},{"$f":"IF(FIRE1121_working!Z56=\"-\",\"-\",ROUND(FIRE1121_working!Z56,3))","v":0.159},{"$f":"IF(FIRE1121_working!AA56=\"-\",\"-\",ROUND(FIRE1121_working!AA56,3))","v":0.28899999999999998},null,{"$f":"ROUND(FIRE1121_working!AC56,0)","v":3},{"$f":"ROUND(FIRE1121_working!AD56,0)","v":0},{"$f":"ROUND(FIRE1121_working!AE56,0)","v":0},{"$f":"ROUND(FIRE1121_working!AF56,0)","v":0},{"$f":"ROUND(FIRE1121_working!AG56,0)","v":0},{"$f":"ROUND(FIRE1121_working!AH56,0)","v":2},{"$f":"IF(FIRE1121_working!AI56=\"-\",\"-\",ROUND(FIRE1121_working!AI56,3))","v":0},{"$f":"IF(FIRE1121_working!AJ56=\"-\",\"-\",ROUND(FIRE1121_working!AJ56,3))","v":0.4},null,{"$f":"ROUND(FIRE1121_working!AL56,0)","v":27},{"$f":"ROUND(FIRE1121_working!AM56,0)","v":0},{"$f":"ROUND(FIRE1121_working!AN56,0)","v":2},{"$f":"ROUND(FIRE1121_working!AO56,0)","v":0},{"$f":"ROUND(FIRE1121_working!AP56,0)","v":0},{"$f":"ROUND(FIRE1121_working!AQ56,0)","v":8},{"$f":"IF(FIRE1121_working!AR56=\"-\",\"-\",ROUND(FIRE1121_working!AR56,3))","v":6.9000000000000006E-2},{"$f":"IF(FIRE1121_working!AS56=\"-\",\"-\",ROUND(FIRE1121_working!AS56,3))","v":0.216},null,{"$f":"ROUND(FIRE1121_working!AU56,0)","v":88},{"$f":"ROUND(FIRE1121_working!AV56,0)","v":6},{"$f":"ROUND(FIRE1121_working!AW56,0)","v":4},{"$f":"ROUND(FIRE1121_working!AX56,0)","v":1},{"$f":"ROUND(FIRE1121_working!AY56,0)","v":2},{"$f":"ROUND(FIRE1121_working!AZ56,0)","v":38},{"$f":"IF(FIRE1121_working!BA56=\"-\",\"-\",ROUND(FIRE1121_working!BA56,3))","v":0.129},{"$f":"IF(FIRE1121_working!BB56=\"-\",\"-\",ROUND(FIRE1121_working!BB56,3))","v":0.27300000000000002}]
["1 The total number of employees."]
["2 For a list of FRAs and whether they are considered \"Metropolitan\", \"Non Metropolitan\", \"Predominantly Rural\", \"Significantly Rural\" or \"Predominantly Urban\" please see the FRS geographical categories sheet."]
["3 Also referred to as 'Retained Duty System firefighters'."]
["4 In previous years Home Office has published stats on \"White\" ethnicity. Recent advice from ONS is that \"other white ethnicity\" should be included as an ethnic minority and so this category has been moved from \"White\" to \"Chinese or Other Ethnicity\" and \"White\" renamed \"White British or Irish\". This has increased the percentage of staff from an ethnic minority compared to last year's statistics."]
["General notes"]
["Hampshire FRS and Isle of Wight FRS merged on 31st March 2021. Figures for previous years are the sum of the figures for the two individual FRSs. "]
["Staff on dual contracts have been recorded more than once e.g. firefighters on both a wholetime and an on-call contract are included in the wholetime firefighter and retained duty system firefighter figures above. \n "]
["The figures for 2016-17 were collected on a voluntary basis. Those eight FRSs with 0 new staff could be due to 0 new staff being recruited or due to the data being unavailable."]
["See table FIRE1132 for more detail on dual contracts."]
["Detailed notes can be found in the guidance document, which has been extended this year, and includes information on when control room mergers occurred etc."]
["\"-\" refers to data not captured."]
["Notes on data adjustments"]
["A huge amount of work has been undertaken by FRSs to improve the quality of data, including in previous years, and Home Office are grateful for this. This explains some small amendments in the national and local figures in previous years."]
["The full set of fire statistics releases, tables and guidance can be found on our landing page, here-"]
["https://www.gov.uk/government/collections/fire-statistics"]
["The statistics in this table are Official Statistics."]
["Source: Home Office Operational Statistics Data Collection, figures supplied by fire and rescue authorities."]
["Contact: FireStatistics@homeoffice.gov.uk"]
["End of table"]
{"$rows_empty":55}
[{"$nulls":57},"2022/23"]
[{"$nulls":57},"2021/22"]
[{"$nulls":57},"2020/21"]
[{"$nulls":57},"2019/20"]
[{"$nulls":57},"2018/19"]
[{"$nulls":57},"2017/18"]
[{"$nulls":57},"2016/17"]

{"sheet":"FRS geographical categories","index":5,"n_rows":52,"n_cols":3,"rows_kept":52,"cut":false,"hidden":false,"merged":[]}
["FRS Name","Urban/Rural category1","Met/Non-met category"]
["Avon","Predominantly Urban","Non-metropolitan"]
["Bedfordshire","Significantly Rural","Non-metropolitan"]
["Berkshire","Predominantly Urban","Non-metropolitan"]
["Buckinghamshire","Significantly Rural","Non-metropolitan"]
["Cambridgeshire","Predominantly Rural","Non-metropolitan"]
["Cheshire","Significantly Rural","Non-metropolitan"]
["Cleveland","Predominantly Urban","Non-metropolitan"]
["Cornwall","Predominantly Rural","Non-metropolitan"]
["Cumbria","Predominantly Rural","Non-metropolitan"]
["Derbyshire","Significantly Rural","Non-metropolitan"]
["Devon and Somerset","Predominantly Rural","Non-metropolitan"]
["Dorset and Wiltshire","Significantly Rural","Non-metropolitan"]
["Durham","Predominantly Rural","Non-metropolitan"]
["East Sussex","Significantly Rural","Non-metropolitan"]
["Essex","Significantly Rural","Non-metropolitan"]
["Gloucestershire","Significantly Rural","Non-metropolitan"]
["Greater London","Predominantly Urban","Metropolitan"]
["Greater Manchester","Predominantly Urban","Metropolitan"]
["Hampshire and Isle Of Wight","Significantly Rural","Non-metropolitan"]
["Hereford and Worcester","Significantly Rural","Non-metropolitan"]
["Hertfordshire","Predominantly Urban","Non-metropolitan"]
["Humberside","Significantly Rural","Non-metropolitan"]
["Isles Of Scilly","Predominantly Rural","Non-metropolitan"]
["Kent","Significantly Rural","Non-metropolitan"]
["Lancashire","Predominantly Urban","Non-metropolitan"]
["Leicestershire","Significantly Rural","Non-metropolitan"]
["Lincolnshire","Predominantly Rural","Non-metropolitan"]
["Merseyside","Predominantly Urban","Metropolitan"]
["Norfolk","Predominantly Rural","Non-metropolitan"]
["North Yorkshire","Predominantly Rural","Non-metropolitan"]
["Northamptonshire","Significantly Rural","Non-metropolitan"]
["Northumberland","Predominantly Rural","Non-metropolitan"]
["Nottinghamshire","Predominantly Urban","Non-metropolitan"]
["Oxfordshire","Predominantly Rural","Non-metropolitan"]
["Shropshire","Predominantly Rural","Non-metropolitan"]
["South Yorkshire","Predominantly Urban","Metropolitan"]
["Staffordshire","Significantly Rural","Non-metropolitan"]
["Suffolk","Predominantly Rural","Non-metropolitan"]
["Surrey","Predominantly Urban","Non-metropolitan"]
["Tyne and Wear","Predominantly Urban","Metropolitan"]
["Warwickshire","Significantly Rural","Non-metropolitan"]
["West Midlands","Predominantly Urban","Metropolitan"]
["West Sussex","Significantly Rural","Non-metropolitan"]
["West Yorkshire","Predominantly Urban","Metropolitan"]
["North West Fire Control","Predominantly Urban","Non-metropolitan"]
["1 Rural Urban classifications of Fire and Rescue Service as defined by Department for Environment, Food and Rural Affairs (DEFRA):"]
["Predominantly rural: 50% or more of their area is 'rural'"]
["Significantly rural: less than 74% of their area is 'urban' and 26% or more of their area is 'rural'"]
["Predominantly urban: 74% or more of their area is 'urban'"]
["North West Fire Control is not an FRS, but employs control staff and should be included to be consistent. The allocations here are based on the 4 FRSs it covers (Cumbria, Lancashire, Greater Manchester and Cheshire)."]
["end of table"]