{"text_format":"2","workbook":"xlsx","n_sheets":6,"sheets":["Cover_sheet","Contents","Data - incidents","Data - population","FIRE0101_working","FIRE0101"],"not_rendered":{"charts":0,"images":2,"macros":0,"external_links":0,"defined_names":2,"comments":0,"pivot_tables":0},"unopened":[],"bounds":{"document_bytes":16777216,"sheet_cells":100000,"run_cost":"one","rows_first":2000,"rows_last":500,"rows_between":2000,"halvings":0,"cell_chars":16384,"cell_head_chars":4096},"cells_cut":0,"cells_raw":0,"read":"whole","date_system":"1900"}

{"sheet":"Cover_sheet","index":0,"n_rows":14,"n_cols":1,"rows_kept":14,"cut":false,"hidden":false,"merged":[]}
[]
["Fire and rescue incident statistics"]
["England, year ending September 2023: data tables"]
["Table 0101"]
["Responsible Statistician: Helene Clark"]
["Email: Firestatistics@homeoffice.gov.uk"]
["Press enquiries: 0300 123 3535"]
["Published: 25 January 2024"]
["Next update: 25 April 2024"]
["Crown copyright © 2024"]
["Contents"]
["We’re always looking to improve the accessibility of our documents."]
["If you find any problems, or have any feedback, relating to accessibility"]
[" please email us at firestatistics@homeoffice.gov.uk"]

{"sheet":"Contents","index":1,"n_rows":8,"n_cols":5,"rows_kept":8,"cut":false,"hidden":false,"merged":[]}
["Fire and rescue incident statistics"]
["Publication Date: 25 January 2024"]
["To access data tables, select the table number or tabs. "]
["Cover sheet"]
["Sheet","Title","Detail","Period covered","National Statistics?"]
["FIRE0101","Incidents attended by fire and rescue services by nation and population","Shows the number of incidents attended by nation for financial years and the rate of incidents per million population.","1999/00 to 2022/23","Yes"]
["Data - incidents","Raw incident data for FIRE0101","Provides the raw incident data for the main summary table FIRE0101","1999/00 to 2022/23","Yes"]
["Data - population","Population figures by country","Shows the mid-year population estimate for each nation from the Office for National Statistics used in the incident rate calculations in the 'FIRE0101' worksheet.","1981/82 to 2022/23","Yes"]

{"sheet":"Data - incidents","index":2,"n_rows":62,"n_cols":3,"rows_kept":62,"cut":false,"hidden":false,"merged":[]}
["COUNTRY","FINANCIAL_YEAR","TOTAL_INCIDENTS"]
["England","2010/11",647360]
["England","2011/12",606941]
["England","2012/13",521324]
["England","2013/14",526895]
["England","2014/15",496277]
["England","2015/16",529716]
["England","2016/17",560775]
["England","2017/18",566217]
["England","2018/19",576594]
["England","2019/20",558033]
["England","2020/21",518321]
["England","2021/22",577187]
["England","2022/23",622497]
["England","2023/24",311268]
["England","1999/00",929573]
["England","2000/01",912741]
["England","2001/02",990793]
["England","2002/03",958142]
["England","2003/04",1016028]
["England","2004/05",861384]
["England","2005/06",843734]
["England","2006/07",854371]
["England","2007/08",791746]
["England","2008/09",717805]
["England","2009/10",680634]
["Scotland","2009/10",103820]
["Scotland","2010/11",101432]
["Scotland","2011/12",91566]
["Scotland","2012/13",83832]
["Scotland","2013/14",84882]
["Scotland","2014/15",85050]
["Scotland","2015/16",88869]
["Scotland","2016/17",91261]
["Scotland","2017/18",91901]
["Scotland","2018/19",92748]
["Scotland","2019/20",92075]
["Scotland","2020/21",85613]
["Scotland","2021/22",95734]
["Scotland","2022/23",99532]
["Wales","2001/02",63907]
["Wales","2002/03",62540]
["Wales","2003/04",63832]
["Wales","2004/05",52866]
["Wales","2005/06",52485]
["Wales","2006/07",56675]
["Wales","2007/08",55086]
["Wales","2008/09",49293]
["Wales","2009/10",46341]
["Wales","2010/11",46881]
["Wales","2011/12",39996]
["Wales","2012/13",36251]
["Wales","2013/14",38599]
["Wales","2014/15",36425]
["Wales","2015/16",36750]
["Wales","2016/17",37216]
["Wales","2017/18",36768]
["Wales","2018/19",36674]
["Wales","2019/20",34993]
["Wales","2020/21",32225]
["Wales","2021/22",34735]
["Wales","2022/23",37427]

{"sheet":"Data - population","index":3,"n_rows":169,"n_cols":4,"rows_kept":169,"cut":false,"hidden":false,"merged":[]}
["YEAR","FINANCIAL_YEAR","COUNTRY","TOTAL_POPULATION"]
[1981,"1981/82","England",46820800]
[1982,"1982/83","England",46777300]
[1983,"1983/84","England",46813700]
[1984,"1984/85","England",46912400]
[1985,"1985/86","England",47057400]
[1986,"1986/87","England",47187600]
[1987,"1987/88","England",47300400]
[1988,"1988/89","England",47412300]
[1989,"1989/90","England",47552700]
[1990,"1990/91","England",47699100]
[1991,"1991/92","England",47875000]
[1992,"1992/93","England",47998000]
[1993,"1993/94","England",48102300]
[1994,"1994/95","England",48228800]
[1995,"1995/96","England",48383500]
[1996,"1996/97","England",48519100]
[1997,"1997/98","England",48664800]
[1998,"1998/99","England",48820600]
[1999,"1999/00","England",49032900]
[2000,"2000/01","England",49233300]
[2001,"2001/02","England",49449700]
[2002,"2002/03","England",49679300]
[2003,"2003/04","England",49925500]
[2004,"2004/05","England",50194600]
[2005,"2005/06","England",50606000]
[2006,"2006/07","England",50965200]
[2007,"2007/08","England",51381100]
[2008,"2008/09","England",51815900]
[2009,"2009/10","England",52196400]
[2010,"2010/11","England",52642500]
[2011,"2011/12","England",53107200]
[2012,"2012/13","England",53506800]
[2013,"2013/14","England",53918700]
[2014,"2014/15","England",54370300]
[2015,"2015/16","England",54808700]
[2016,"2016/17","England",55289000]
[2017,"2017/18","England",55619500]
[2018,"2018/19","England",55924500]
[2019,"2019/20","England",56230100]
[2020,"2020/21","England",56326000]
[2021,"2021/22","England",56554900]
[2022,"2022/23","England",57106400]
[1981,"1981/82","Scotland",5180200]
[1982,"1982/83","Scotland",5164500]
[1983,"1983/84","Scotland",5148100]
[1984,"1984/85","Scotland",5138900]
[1985,"1985/86","Scotland",5127900]
[1986,"1986/87","Scotland",5111800]
[1987,"1987/88","Scotland",5099000]
[1988,"1988/89","Scotland",5077400]
[1989,"1989/90","Scotland",5078200]
[1990,"1990/91","Scotland",5081300]
[1991,"1991/92","Scotland",5083300]
[1992,"1992/93","Scotland",5085600]
[1993,"1993/94","Scotland",5092500]
[1994,"1994/95","Scotland",5102200]
[1995,"1995/96","Scotland",5103700]
[1996,"1996/97","Scotland",5092200]
[1997,"1997/98","Scotland",5083300]
[1998,"1998/99","Scotland",5077100]
[1999,"1999/00","Scotland",5072000]
[2000,"2000/01","Scotland",5062900]
[2001,"2001/02","Scotland",5064200]
[2002,"2002/03","Scotland",5066000]
[2003,"2003/04","Scotland",5068500]
[2004,"2004/05","Scotland",5084300]
[2005,"2005/06","Scotland",5110200]
[2006,"2006/07","Scotland",5133100]
[2007,"2007/08","Scotland",5170000]
[2008,"2008/09","Scotland",5202900]
[2009,"2009/10","Scotland",5231900]
[2010,"2010/11","Scotland",5262200]
[2011,"2011/12","Scotland",5299900]
[2012,"2012/13","Scotland",5313600]
[2013,"2013/14","Scotland",5327700]
[2014,"2014/15","Scotland",5347600]
[2015,"2015/16","Scotland",5373000]
[2016,"2016/17","Scotland",5404700]
[2017,"2017/18","Scotland",5424800]
[2018,"2018/19","Scotland",5438100]
[2019,"2019/20","Scotland",5463300]
[2020,"2020/21","Scotland",5466000]
[2021,"2021/22","Scotland",5479900]
[2022,"2022/23","Scotland",5436600]
[1981,"1981/82","Wales",2813500]
[1982,"1982/83","Wales",2804300]
[1983,"1983/84","Wales",2803300]
[1984,"1984/85","Wales",2800700]
[1985,"1985/86","Wales",2803400]
[1986,"1986/87","Wales",2810900]
[1987,"1987/88","Wales",2822600]
[1988,"1988/89","Wales",2841200]
[1989,"1989/90","Wales",2855200]
[1990,"1990/91","Wales",2861500]
[1991,"1991/92","Wales",2873000]
[1992,"1992/93","Wales",2877700]
[1993,"1993/94","Wales",2883600]
[1994,"1994/95","Wales",2887400]
[1995,"1995/96","Wales",2888500]
[1996,"1996/97","Wales",2891300]
[1997,"1997/98","Wales",2894900]
[1998,"1998/99","Wales",2899500]
[1999,"1999/00","Wales",2900600]
[2000,"2000/01","Wales",2906900]
[2001,"2001/02","Wales",2910200]
[2002,"2002/03","Wales",2922900]
[2003,"2003/04","Wales",2937700]
[2004,"2004/05","Wales",2957400]
[2005,"2005/06","Wales",2969300]
[2006,"2006/07","Wales",2985700]
[2007,"2007/08","Wales",3006300]
[2008,"2008/09","Wales",3025900]
[2009,"2009/10","Wales",3038900]
[2010,"2010/11","Wales",3050000]
[2011,"2011/12","Wales",3063800]
[2012,"2012/13","Wales",3070900]
[2013,"2013/14","Wales",3071100]
[2014,"2014/15","Wales",3073800]
[2015,"2015/16","Wales",3072700]
[2016,"2016/17","Wales",3077200]
[2017,"2017/18","Wales",3081400]
[2018,"2018/19","Wales",3083800]
[2019,"2019/20","Wales",3087700]
[2020,"2020/21","Wales",3104500]
[2021,"2021/22","Wales",3105600]
[2022,"2022/23","Wales",3131600]
[1981,"1981/82","Great Britain",54814500]
[1982,"1982/83","Great Britain",54746100]
[1983,"1983/84","Great Britain",54765100]
[1984,"1984/85","Great Britain",54852000]
[1985,"1985/86","Great Britain",54988700]
[1986,"1986/87","Great Britain",55110300]
[1987,"1987/88","Great Britain",55222000]
[1988,"1988/89","Great Britain",55330900]
[1989,"1989/90","Great Britain",55486100]
[1990,"1990/91","Great Britain",55641900]
[1991,"1991/92","Great Britain",55831300]
[1992,"1992/93","Great Britain",55961300]
[1993,"1993/94","Great Britain",56078400]
[1994,"1994/95","Great Britain",56218400]
[1995,"1995/96","Great Britain",56375700]
[1996,"1996/97","Great Britain",56502600]
[1997,"1997/98","Great Britain",56643000]
[1998,"1998/99","Great Britain",56797200]
[1999,"1999/00","Great Britain",57005500]
[2000,"2000/01","Great Britain",57203100]
[2001,"2001/02","Great Britain",57424200]
[2002,"2002/03","Great Britain",57668100]
[2003,"2003/04","Great Britain",57931700]
[2004,"2004/05","Great Britain",58236300]
[2005,"2005/06","Great Britain",58685500]
[2006,"2006/07","Great Britain",59084000]
[2007,"2007/08","Great Britain",59557400]
[2008,"2008/09","Great Britain",60044600]
[2009,"2009/10","Great Britain",60467200]
[2010,"2010/11","Great Britain",60954600]
[2011,"2011/12","Great Britain",61470800]
[2012,"2012/13","Great Britain",61891300]
[2013,"2013/14","Great Britain",62317400]
[2014,"2014/15","Great Britain",62791700]
[2015,"2015/16","Great Britain",63254400]
[2016,"2016/17","Great Britain",63770900]
[2017,"2017/18","Great Britain",64125700]
[2018,"2018/19","Great Britain",64446500]
[2019,"2019/20","Great Britain",64781100]
[2020,"2020/21","Great Britain",64896400]
[2021,"2021/22","Great Britain",65140400]
[2022,"2022/23","Great Britain",65674600]

{"sheet":"FIRE0101_working","index":4,"n_rows":27,"n_cols":15,"rows_kept":27,"cut":false,"hidden":true,"merged":[]}
[]
[null,"Total incidents",null,null,null,"Total incidents per 1 million people",{"$nulls":4},"Population"]
["Year","England","Scotland","Wales","Great Britain","England","Scotland","Wales","Great Britain",null,"England","Scotland","Wales","Great Britain"]
["1999/00",{"$f":"IF(SUMPRODUCT(('Data - incidents'!$A$2:$A$952=B$3)*('Data - incidents'!$B$2:$B$952=$A4)*('Data - incidents'!$C$2:$C$952))=0,\"..\",SUMPRODUCT(('Data - incidents'!$A$2:$A$952=B$3)*('Data - incidents'!$B$2:$B$952=$A4)*('Data - incidents'!$C$2:$C$952)))","v":929573},{"$f":"IF(SUMPRODUCT(('Data - incidents'!$A$2:$A$952=C$3)*('Data - incidents'!$B$2:$B$952=$A4)*('Data - incidents'!$C$2:$C$952))=0,\"..\",SUMPRODUCT(('Data - incidents'!$A$2:$A$952=C$3)*('Data - incidents'!$B$2:$B$952=$A4)*('Data - incidents'!$C$2:$C$952)))","v":".."},{"$f":"IF(SUMPRODUCT(('Data - incidents'!$A$2:$A$952=D$3)*('Data - incidents'!$B$2:$B$952=$A4)*('Data - incidents'!$C$2:$C$952))=0,\"..\",SUMPRODUCT(('Data - incidents'!$A$2:$A$952=D$3)*('Data - incidents'!$B$2:$B$952=$A4)*('Data - incidents'!$C$2:$C$952)))","v":".."},{"$f":"IF(OR(D4=\"..\",C4=\"..\",B4=\"..\"),\"..\",SUM(B4:D4))","v":".."},{"$f":"IF(OR(B4=\"..\",K4=\"..\"),\"..\",(1000000*B4)/K4)","v":18958.148508450449},{"$f":"IF(OR(C4=\"..\",L4=\"..\"),\"..\",(1000000*C4)/L4)","v":".."},{"$f":"IF(OR(D4=\"..\",M4=\"..\"),\"..\",(1000000*D4)/M4)","v":".."},{"$f":"IF(OR(E4=\"..\",N4=\"..\"),\"..\",(1000000*E4)/N4)","v":".."},null,{"$f":"SUMPRODUCT(('Data - population'!$B$2:$B$1001=FIRE0101_working!$A4)*('Data - population'!$C$2:$C$1001=FIRE0101_working!F$3)*('Data - population'!$D$2:$D$1001))","v":49032900},{"$f":"SUMPRODUCT(('Data - population'!$B$2:$B$1001=FIRE0101_working!$A4)*('Data - population'!$C$2:$C$1001=FIRE0101_working!G$3)*('Data - population'!$D$2:$D$1001))","v":5072000},{"$f":"SUMPRODUCT(('Data - population'!$B$2:$B$1001=FIRE0101_working!$A4)*('Data - population'!$C$2:$C$1001=FIRE0101_working!H$3)*('Data - population'!$D$2:$D$1001))","v":2900600},{"$f":"SUMPRODUCT(('Data - population'!$B$2:$B$1001=FIRE0101_working!$A4)*('Data - population'!$C$2:$C$1001=FIRE0101_working!I$3)*('Data - population'!$D$2:$D$1001))","v":57005500},{"$f":"K4+L4+M4-N4","v":0}]
["2000/01",{"$f":"IF(SUMPRODUCT(('Data - incidents'!$A$2:$A$952=B$3)*('Data - incidents'!$B$2:$B$952=$A5)*('Data - incidents'!$C$2:$C$952))=0,\"..\",SUMPRODUCT(('Data - incidents'!$A$2:$A$952=B$3)*('Data - incidents'!$B$2:$B$952=$A5)*('Data - incidents'!$C$2:$C$952)))","v":912741},{"$f":"IF(SUMPRODUCT(('Data - incidents'!$A$2:$A$952=C$3)*('Data - incidents'!$B$2:$B$952=$A5)*('Data - incidents'!$C$2:$C$952))=0,\"..\",SUMPRODUCT(('Data - incidents'!$A$2:$A$952=C$3)*('Data - incidents'!$B$2:$B$952=$A5)*('Data - incidents'!$C$2:$C$952)))","v":".."},{"$f":"IF(SUMPRODUCT(('Data - incidents'!$A$2:$A$952=D$3)*('Data - incidents'!$B$2:$B$952=$A5)*('Data - incidents'!$C$2:$C$952))=0,\"..\",SUMPRODUCT(('Data - incidents'!$A$2:$A$952=D$3)*('Data - incidents'!$B$2:$B$952=$A5)*('Data - incidents'!$C$2:$C$952)))","v":".."},{"$f":"IF(OR(D5=\"..\",C5=\"..\",B5=\"..\"),\"..\",SUM(B5:D5))","v":".."},18539.098536965834,"..","..","..",null,{"$f":"SUMPRODUCT(('Data - population'!$B$2:$B$1001=FIRE0101_working!$A5)*('Data - population'!$C$2:$C$1001=FIRE0101_working!F$3)*('Data - population'!$D$2:$D$1001))","v":49233300},{"$f":"SUMPRODUCT(('Data - population'!$B$2:$B$1001=FIRE0101_working!$A5)*('Data - population'!$C$2:$C$1001=FIRE0101_working!G$3)*('Data - population'!$D$2:$D$1001))","v":5062900},{"$f":"SUMPRODUCT(('Data - population'!$B$2:$B$1001=FIRE0101_working!$A5)*('Data - population'!$C$2:$C$1001=FIRE0101_working!H$3)*('Data - population'!$D$2:$D$1001))","v":2906900},{"$f":"SUMPRODUCT(('Data - population'!$B$2:$B$1001=FIRE0101_working!$A5)*('Data - population'!$C$2:$C$1001=FIRE0101_working!I$3)*('Data - population'!$D$2:$D$1001))","v":57203100},{"$f":"K5+L5+M5-N5","v":0}]
["2001/02",{"$f":"IF(SUMPRODUCT(('Data - incidents'!$A$2:$A$952=B$3)*('Data - incidents'!$B$2:$B$952=$A6)*('Data - incidents'!$C$2:$C$952))=0,\"..\",SUMPRODUCT(('Data - incidents'!$A$2:$A$952=B$3)*('Data - incidents'!$B$2:$B$952=$A6)*('Data - incidents'!$C$2:$C$952)))","v":990793},{"$f":"IF(SUMPRODUCT(('Data - incidents'!$A$2:$A$952=C$3)*('Data - incidents'!$B$2:$B$952=$A6)*('Data - incidents'!$C$2:$C$952))=0,\"..\",SUMPRODUCT(('Data - incidents'!$A$2:$A$952=C$3)*('Data - incidents'!$B$2:$B$952=$A6)*('Data - incidents'!$C$2:$C$952)))","v":".."},{"$f":"IF(SUMPRODUCT(('Data - incidents'!$A$2:$A$952=D$3)*('Data - incidents'!$B$2:$B$952=$A6)*('Data - incidents'!$C$2:$C$952))=0,\"..\",SUMPRODUCT(('Data - incidents'!$A$2:$A$952=D$3)*('Data - incidents'!$B$2:$B$952=$A6)*('Data - incidents'!$C$2:$C$952)))","v":63907},"..",20036.38040271225,"..",21959.659129956704,"..",null,{"$f":"SUMPRODUCT(('Data - population'!$B$2:$B$1001=FIRE0101_working!$A6)*('Data - population'!$C$2:$C$1001=FIRE0101_working!F$3)*('Data - population'!$D$2:$D$1001))","v":49449700},{"$f":"SUMPRODUCT(('Data - population'!$B$2:$B$1001=FIRE0101_working!$A6)*('Data - population'!$C$2:$C$1001=FIRE0101_working!G$3)*('Data - population'!$D$2:$D$1001))","v":5064200},{"$f":"SUMPRODUCT(('Data - population'!$B$2:$B$1001=FIRE0101_working!$A6)*('Data - population'!$C$2:$C$1001=FIRE0101_working!H$3)*('Data - population'!$D$2:$D$1001))","v":2910200},{"$f":"SUMPRODUCT(('Data - population'!$B$2:$B$1001=FIRE0101_working!$A6)*('Data - population'!$C$2:$C$1001=FIRE0101_working!I$3)*('Data - population'!$D$2:$D$1001))","v":57424200},-100]
["2002/03",{"$f":"IF(SUMPRODUCT(('Data - incidents'!$A$2:$A$952=B$3)*('Data - incidents'!$B$2:$B$952=$A7)*('Data - incidents'!$C$2:$C$952))=0,\"..\",SUMPRODUCT(('Data - incidents'!$A$2:$A$952=B$3)*('Data - incidents'!$B$2:$B$952=$A7)*('Data - incidents'!$C$2:$C$952)))","v":958142},{"$f":"IF(SUMPRODUCT(('Data - incidents'!$A$2:$A$952=C$3)*('Data - incidents'!$B$2:$B$952=$A7)*('Data - incidents'!$C$2:$C$952))=0,\"..\",SUMPRODUCT(('Data - incidents'!$A$2:$A$952=C$3)*('Data - incidents'!$B$2:$B$952=$A7)*('Data - incidents'!$C$2:$C$952)))","v":".."},{"$f":"IF(SUMPRODUCT(('Data - incidents'!$A$2:$A$952=D$3)*('Data - incidents'!$B$2:$B$952=$A7)*('Data - incidents'!$C$2:$C$952))=0,\"..\",SUMPRODUCT(('Data - incidents'!$A$2:$A$952=D$3)*('Data - incidents'!$B$2:$B$952=$A7)*('Data - incidents'!$C$2:$C$952)))","v":62540},"..",19286.543892526664,"..",21396.558212733929,"..",null,{"$f":"SUMPRODUCT(('Data - population'!$B$2:$B$1001=FIRE0101_working!$A7)*('Data - population'!$C$2:$C$1001=FIRE0101_working!F$3)*('Data - population'!$D$2:$D$1001))","v":49679300},{"$f":"SUMPRODUCT(('Data - population'!$B$2:$B$1001=FIRE0101_working!$A7)*('Data - population'!$C$2:$C$1001=FIRE0101_working!G$3)*('Data - population'!$D$2:$D$1001))","v":5066000},{"$f":"SUMPRODUCT(('Data - population'!$B$2:$B$1001=FIRE0101_working!$A7)*('Data - population'!$C$2:$C$1001=FIRE0101_working!H$3)*('Data - population'!$D$2:$D$1001))","v":2922900},{"$f":"SUMPRODUCT(('Data - population'!$B$2:$B$1001=FIRE0101_working!$A7)*('Data - population'!$C$2:$C$1001=FIRE0101_working!I$3)*('Data - population'!$D$2:$D$1001))","v":57668100},100]
["2003/04",{"$f":"IF(SUMPRODUCT(('Data - incidents'!$A$2:$A$952=B$3)*('Data - incidents'!$B$2:$B$952=$A8)*('Data - incidents'!$C$2:$C$952))=0,\"..\",SUMPRODUCT(('Data - incidents'!$A$2:$A$952=B$3)*('Data - incidents'!$B$2:$B$952=$A8)*('Data - incidents'!$C$2:$C$952)))","v":1016028},{"$f":"IF(SUMPRODUCT(('Data - incidents'!$A$2:$A$952=C$3)*('Data - incidents'!$B$2:$B$952=$A8)*('Data - incidents'!$C$2:$C$952))=0,\"..\",SUMPRODUCT(('Data - incidents'!$A$2:$A$952=C$3)*('Data - incidents'!$B$2:$B$952=$A8)*('Data - incidents'!$C$2:$C$952)))","v":".."},{"$f":"IF(SUMPRODUCT(('Data - incidents'!$A$2:$A$952=D$3)*('Data - incidents'!$B$2:$B$952=$A8)*('Data - incidents'!$C$2:$C$952))=0,\"..\",SUMPRODUCT(('Data - incidents'!$A$2:$A$952=D$3)*('Data - incidents'!$B$2:$B$952=$A8)*('Data - incidents'!$C$2:$C$952)))","v":63832},"..",20350.88281539494,"..",21728.563161657079,"..",null,{"$f":"SUMPRODUCT(('Data - population'!$B$2:$B$1001=FIRE0101_working!$A8)*('Data - population'!$C$2:$C$1001=FIRE0101_working!F$3)*('Data - population'!$D$2:$D$1001))","v":49925500},{"$f":"SUMPRODUCT(('Data - population'!$B$2:$B$1001=FIRE0101_working!$A8)*('Data - population'!$C$2:$C$1001=FIRE0101_working!G$3)*('Data - population'!$D$2:$D$1001))","v":5068500},{"$f":"SUMPRODUCT(('Data - population'!$B$2:$B$1001=FIRE0101_working!$A8)*('Data - population'!$C$2:$C$1001=FIRE0101_working!H$3)*('Data - population'!$D$2:$D$1001))","v":2937700},{"$f":"SUMPRODUCT(('Data - population'!$B$2:$B$1001=FIRE0101_working!$A8)*('Data - population'!$C$2:$C$1001=FIRE0101_working!I$3)*('Data - population'!$D$2:$D$1001))","v":57931700},0]
["2004/05",{"$f":"IF(SUMPRODUCT(('Data - incidents'!$A$2:$A$952=B$3)*('Data - incidents'!$B$2:$B$952=$A9)*('Data - incidents'!$C$2:$C$952))=0,\"..\",SUMPRODUCT(('Data - incidents'!$A$2:$A$952=B$3)*('Data - incidents'!$B$2:$B$952=$A9)*('Data - incidents'!$C$2:$C$952)))","v":861384},{"$f":"IF(SUMPRODUCT(('Data - incidents'!$A$2:$A$952=C$3)*('Data - incidents'!$B$2:$B$952=$A9)*('Data - incidents'!$C$2:$C$952))=0,\"..\",SUMPRODUCT(('Data - incidents'!$A$2:$A$952=C$3)*('Data - incidents'!$B$2:$B$952=$A9)*('Data - incidents'!$C$2:$C$952)))","v":".."},{"$f":"IF(SUMPRODUCT(('Data - incidents'!$A$2:$A$952=D$3)*('Data - incidents'!$B$2:$B$952=$A9)*('Data - incidents'!$C$2:$C$952))=0,\"..\",SUMPRODUCT(('Data - incidents'!$A$2:$A$952=D$3)*('Data - incidents'!$B$2:$B$952=$A9)*('Data - incidents'!$C$2:$C$952)))","v":52866},"..",17160.889816832885,"..",17875.836883749238,"..",null,{"$f":"SUMPRODUCT(('Data - population'!$B$2:$B$1001=FIRE0101_working!$A9)*('Data - population'!$C$2:$C$1001=FIRE0101_working!F$3)*('Data - population'!$D$2:$D$1001))","v":50194600},{"$f":"SUMPRODUCT(('Data - population'!$B$2:$B$1001=FIRE0101_working!$A9)*('Data - population'!$C$2:$C$1001=FIRE0101_working!G$3)*('Data - population'!$D$2:$D$1001))","v":5084300},{"$f":"SUMPRODUCT(('Data - population'!$B$2:$B$1001=FIRE0101_working!$A9)*('Data - population'!$C$2:$C$1001=FIRE0101_working!H$3)*('Data - population'!$D$2:$D$1001))","v":2957400},{"$f":"SUMPRODUCT(('Data - population'!$B$2:$B$1001=FIRE0101_working!$A9)*('Data - population'!$C$2:$C$1001=FIRE0101_working!I$3)*('Data - population'!$D$2:$D$1001))","v":58236300},0]
["2005/06",{"$f":"IF(SUMPRODUCT(('Data - incidents'!$A$2:$A$952=B$3)*('Data - incidents'!$B$2:$B$952=$A10)*('Data - incidents'!$C$2:$C$952))=0,\"..\",SUMPRODUCT(('Data - incidents'!$A$2:$A$952=B$3)*('Data - incidents'!$B$2:$B$952=$A10)*('Data - incidents'!$C$2:$C$952)))","v":843734},{"$f":"IF(SUMPRODUCT(('Data - incidents'!$A$2:$A$952=C$3)*('Data - incidents'!$B$2:$B$952=$A10)*('Data - incidents'!$C$2:$C$952))=0,\"..\",SUMPRODUCT(('Data - incidents'!$A$2:$A$952=C$3)*('Data - incidents'!$B$2:$B$952=$A10)*('Data - incidents'!$C$2:$C$952)))","v":".."},{"$f":"IF(SUMPRODUCT(('Data - incidents'!$A$2:$A$952=D$3)*('Data - incidents'!$B$2:$B$952=$A10)*('Data - incidents'!$C$2:$C$952))=0,\"..\",SUMPRODUCT(('Data - incidents'!$A$2:$A$952=D$3)*('Data - incidents'!$B$2:$B$952=$A10)*('Data - incidents'!$C$2:$C$952)))","v":52485},"..",16672.607991147295,"..",17675.883204795744,"..",null,{"$f":"SUMPRODUCT(('Data - population'!$B$2:$B$1001=FIRE0101_working!$A10)*('Data - population'!$C$2:$C$1001=FIRE0101_working!F$3)*('Data - population'!$D$2:$D$1001))","v":50606000},{"$f":"SUMPRODUCT(('Data - population'!$B$2:$B$1001=FIRE0101_working!$A10)*('Data - population'!$C$2:$C$1001=FIRE0101_working!G$3)*('Data - population'!$D$2:$D$1001))","v":5110200},{"$f":"SUMPRODUCT(('Data - population'!$B$2:$B$1001=FIRE0101_working!$A10)*('Data - population'!$C$2:$C$1001=FIRE0101_working!H$3)*('Data - population'!$D$2:$D$1001))","v":2969300},{"$f":"SUMPRODUCT(('Data - population'!$B$2:$B$1001=FIRE0101_working!$A10)*('Data - population'!$C$2:$C$1001=FIRE0101_working!I$3)*('Data - population'!$D$2:$D$1001))","v":58685500},0]
["2006/07",{"$f":"IF(SUMPRODUCT(('Data - incidents'!$A$2:$A$952=B$3)*('Data - incidents'!$B$2:$B$952=$A11)*('Data - incidents'!$C$2:$C$952))=0,\"..\",SUMPRODUCT(('Data - incidents'!$A$2:$A$952=B$3)*('Data - incidents'!$B$2:$B$952=$A11)*('Data - incidents'!$C$2:$C$952)))","v":854371},{"$f":"IF(SUMPRODUCT(('Data - incidents'!$A$2:$A$952=C$3)*('Data - incidents'!$B$2:$B$952=$A11)*('Data - incidents'!$C$2:$C$952))=0,\"..\",SUMPRODUCT(('Data - incidents'!$A$2:$A$952=C$3)*('Data - incidents'!$B$2:$B$952=$A11)*('Data - incidents'!$C$2:$C$952)))","v":".."},{"$f":"IF(SUMPRODUCT(('Data - incidents'!$A$2:$A$952=D$3)*('Data - incidents'!$B$2:$B$952=$A11)*('Data - incidents'!$C$2:$C$952))=0,\"..\",SUMPRODUCT(('Data - incidents'!$A$2:$A$952=D$3)*('Data - incidents'!$B$2:$B$952=$A11)*('Data - incidents'!$C$2:$C$952)))","v":56675},"..",16763.811385023506,"..",18982.14823994373,"..",null,{"$f":"SUMPRODUCT(('Data - population'!$B$2:$B$1001=FIRE0101_working!$A11)*('Data - population'!$C$2:$C$1001=FIRE0101_working!F$3)*('Data - population'!$D$2:$D$1001))","v":50965200},{"$f":"SUMPRODUCT(('Data - population'!$B$2:$B$1001=FIRE0101_working!$A11)*('Data - population'!$C$2:$C$1001=FIRE0101_working!G$3)*('Data - population'!$D$2:$D$1001))","v":5133100},{"$f":"SUMPRODUCT(('Data - population'!$B$2:$B$1001=FIRE0101_working!$A11)*('Data - population'!$C$2:$C$1001=FIRE0101_working!H$3)*('Data - population'!$D$2:$D$1001))","v":2985700},{"$f":"SUMPRODUCT(('Data - population'!$B$2:$B$1001=FIRE0101_working!$A11)*('Data - population'!$C$2:$C$1001=FIRE0101_working!I$3)*('Data - population'!$D$2:$D$1001))","v":59084000},0]
["2007/08",{"$f":"IF(SUMPRODUCT(('Data - incidents'!$A$2:$A$952=B$3)*('Data - incidents'!$B$2:$B$952=$A12)*('Data - incidents'!$C$2:$C$952))=0,\"..\",SUMPRODUCT(('Data - incidents'!$A$2:$A$952=B$3)*('Data - incidents'!$B$2:$B$952=$A12)*('Data - incidents'!$C$2:$C$952)))","v":791746},{"$f":"IF(SUMPRODUCT(('Data - incidents'!$A$2:$A$952=C$3)*('Data - incidents'!$B$2:$B$952=$A12)*('Data - incidents'!$C$2:$C$952))=0,\"..\",SUMPRODUCT(('Data - incidents'!$A$2:$A$952=C$3)*('Data - incidents'!$B$2:$B$952=$A12)*('Data - incidents'!$C$2:$C$952)))","v":".."},{"$f":"IF(SUMPRODUCT(('Data - incidents'!$A$2:$A$952=D$3)*('Data - incidents'!$B$2:$B$952=$A12)*('Data - incidents'!$C$2:$C$952))=0,\"..\",SUMPRODUCT(('Data - incidents'!$A$2:$A$952=D$3)*('Data - incidents'!$B$2:$B$952=$A12)*('Data - incidents'!$C$2:$C$952)))","v":55086},"..",15409.284736994732,"..",18323.520606725877,"..",null,{"$f":"SUMPRODUCT(('Data - population'!$B$2:$B$1001=FIRE0101_working!$A12)*('Data - population'!$C$2:$C$1001=FIRE0101_working!F$3)*('Data - population'!$D$2:$D$1001))","v":51381100},{"$f":"SUMPRODUCT(('Data - population'!$B$2:$B$1001=FIRE0101_working!$A12)*('Data - population'!$C$2:$C$1001=FIRE0101_working!G$3)*('Data - population'!$D$2:$D$1001))","v":5170000},{"$f":"SUMPRODUCT(('Data - population'!$B$2:$B$1001=FIRE0101_working!$A12)*('Data - population'!$C$2:$C$1001=FIRE0101_working!H$3)*('Data - population'!$D$2:$D$1001))","v":3006300},{"$f":"SUMPRODUCT(('Data - population'!$B$2:$B$1001=FIRE0101_working!$A12)*('Data - population'!$C$2:$C$1001=FIRE0101_working!I$3)*('Data - population'!$D$2:$D$1001))","v":59557400},0]
["2008/09",{"$f":"IF(SUMPRODUCT(('Data - incidents'!$A$2:$A$952=B$3)*('Data - incidents'!$B$2:$B$952=$A13)*('Data - incidents'!$C$2:$C$952))=0,\"..\",SUMPRODUCT(('Data - incidents'!$A$2:$A$952=B$3)*('Data - incidents'!$B$2:$B$952=$A13)*('Data - incidents'!$C$2:$C$952)))","v":717805},{"$f":"IF(SUMPRODUCT(('Data - incidents'!$A$2:$A$952=C$3)*('Data - incidents'!$B$2:$B$952=$A13)*('Data - incidents'!$C$2:$C$952))=0,\"..\",SUMPRODUCT(('Data - incidents'!$A$2:$A$952=C$3)*('Data - incidents'!$B$2:$B$952=$A13)*('Data - incidents'!$C$2:$C$952)))","v":".."},{"$f":"IF(SUMPRODUCT(('Data - incidents'!$A$2:$A$952=D$3)*('Data - incidents'!$B$2:$B$952=$A13)*('Data - incidents'!$C$2:$C$952))=0,\"..\",SUMPRODUCT(('Data - incidents'!$A$2:$A$952=D$3)*('Data - incidents'!$B$2:$B$952=$A13)*('Data - incidents'!$C$2:$C$952)))","v":49293},"..",13852.987210489444,"..",16290.35989292442,"..",null,{"$f":"SUMPRODUCT(('Data - population'!$B$2:$B$1001=FIRE0101_working!$A13)*('Data - population'!$C$2:$C$1001=FIRE0101_working!F$3)*('Data - population'!$D$2:$D$1001))","v":51815900},{"$f":"SUMPRODUCT(('Data - population'!$B$2:$B$1001=FIRE0101_working!$A13)*('Data - population'!$C$2:$C$1001=FIRE0101_working!G$3)*('Data - population'!$D$2:$D$1001))","v":5202900},{"$f":"SUMPRODUCT(('Data - population'!$B$2:$B$1001=FIRE0101_working!$A13)*('Data - population'!$C$2:$C$1001=FIRE0101_working!H$3)*('Data - population'!$D$2:$D$1001))","v":3025900},{"$f":"SUMPRODUCT(('Data - population'!$B$2:$B$1001=FIRE0101_working!$A13)*('Data - population'!$C$2:$C$1001=FIRE0101_working!I$3)*('Data - population'!$D$2:$D$1001))","v":60044600},100]
["2009/10",{"$f":"IF(SUMPRODUCT(('Data - incidents'!$A$2:$A$952=B$3)*('Data - incidents'!$B$2:$B$952=$A14)*('Data - incidents'!$C$2:$C$952))=0,\"..\",SUMPRODUCT(('Data - incidents'!$A$2:$A$952=B$3)*('Data - incidents'!$B$2:$B$952=$A14)*('Data - incidents'!$C$2:$C$952)))","v":680634},{"$f":"IF(SUMPRODUCT(('Data - incidents'!$A$2:$A$952=C$3)*('Data - incidents'!$B$2:$B$952=$A14)*('Data - incidents'!$C$2:$C$952))=0,\"..\",SUMPRODUCT(('Data - incidents'!$A$2:$A$952=C$3)*('Data - incidents'!$B$2:$B$952=$A14)*('Data - incidents'!$C$2:$C$952)))","v":103820},{"$f":"IF(SUMPRODUCT(('Data - incidents'!$A$2:$A$952=D$3)*('Data - incidents'!$B$2:$B$952=$A14)*('Data - incidents'!$C$2:$C$952))=0,\"..\",SUMPRODUCT(('Data - incidents'!$A$2:$A$952=D$3)*('Data - incidents'!$B$2:$B$952=$A14)*('Data - incidents'!$C$2:$C$952)))","v":46341},830795,{"$f":"IF(OR(B14=\"..\",K14=\"..\"),\"..\",(1000000*B14)/K14)","v":13039.864818263328},19843.651445937423,15249.267827174306,13739.597666172735,null,{"$f":"SUMPRODUCT(('Data - population'!$B$2:$B$1001=FIRE0101_working!$A14)*('Data - population'!$C$2:$C$1001=FIRE0101_working!F$3)*('Data - population'!$D$2:$D$1001))","v":52196400},{"$f":"SUMPRODUCT(('Data - population'!$B$2:$B$1001=FIRE0101_working!$A14)*('Data - population'!$C$2:$C$1001=FIRE0101_working!G$3)*('Data - population'!$D$2:$D$1001))","v":5231900},{"$f":"SUMPRODUCT(('Data - population'!$B$2:$B$1001=FIRE0101_working!$A14)*('Data - population'!$C$2:$C$1001=FIRE0101_working!H$3)*('Data - population'!$D$2:$D$1001))","v":3038900},{"$f":"SUMPRODUCT(('Data - population'!$B$2:$B$1001=FIRE0101_working!$A14)*('Data - population'!$C$2:$C$1001=FIRE0101_working!I$3)*('Data - population'!$D$2:$D$1001))","v":60467200},0]
["2010/11",{"$f":"IF(SUMPRODUCT(('Data - incidents'!$A$2:$A$952=B$3)*('Data - incidents'!$B$2:$B$952=$A15)*('Data - incidents'!$C$2:$C$952))=0,\"..\",SUMPRODUCT(('Data - incidents'!$A$2:$A$952=B$3)*('Data - incidents'!$B$2:$B$952=$A15)*('Data - incidents'!$C$2:$C$952)))","v":647360},{"$f":"IF(SUMPRODUCT(('Data - incidents'!$A$2:$A$952=C$3)*('Data - incidents'!$B$2:$B$952=$A15)*('Data - incidents'!$C$2:$C$952))=0,\"..\",SUMPRODUCT(('Data - incidents'!$A$2:$A$952=C$3)*('Data - incidents'!$B$2:$B$952=$A15)*('Data - incidents'!$C$2:$C$952)))","v":101432},{"$f":"IF(SUMPRODUCT(('Data - incidents'!$A$2:$A$952=D$3)*('Data - incidents'!$B$2:$B$952=$A15)*('Data - incidents'!$C$2:$C$952))=0,\"..\",SUMPRODUCT(('Data - incidents'!$A$2:$A$952=D$3)*('Data - incidents'!$B$2:$B$952=$A15)*('Data - incidents'!$C$2:$C$952)))","v":46881},795673,{"$f":"IF(OR(B15=\"..\",K15=\"..\"),\"..\",(1000000*B15)/K15)","v":12297.28831267512},19275.588157044582,15370.819672131147,13053.534925994101,null,{"$f":"SUMPRODUCT(('Data - population'!$B$2:$B$1001=FIRE0101_working!$A15)*('Data - population'!$C$2:$C$1001=FIRE0101_working!F$3)*('Data - population'!$D$2:$D$1001))","v":52642500},{"$f":"SUMPRODUCT(('Data - population'!$B$2:$B$1001=FIRE0101_working!$A15)*('Data - population'!$C$2:$C$1001=FIRE0101_working!G$3)*('Data - population'!$D$2:$D$1001))","v":5262200},{"$f":"SUMPRODUCT(('Data - population'!$B$2:$B$1001=FIRE0101_working!$A15)*('Data - population'!$C$2:$C$1001=FIRE0101_working!H$3)*('Data - population'!$D$2:$D$1001))","v":3050000},{"$f":"SUMPRODUCT(('Data - population'!$B$2:$B$1001=FIRE0101_working!$A15)*('Data - population'!$C$2:$C$1001=FIRE0101_working!I$3)*('Data - population'!$D$2:$D$1001))","v":60954600},100]
["2011/12",{"$f":"IF(SUMPRODUCT(('Data - incidents'!$A$2:$A$952=B$3)*('Data - incidents'!$B$2:$B$952=$A16)*('Data - incidents'!$C$2:$C$952))=0,\"..\",SUMPRODUCT(('Data - incidents'!$A$2:$A$952=B$3)*('Data - incidents'!$B$2:$B$952=$A16)*('Data - incidents'!$C$2:$C$952)))","v":606941},{"$f":"IF(SUMPRODUCT(('Data - incidents'!$A$2:$A$952=C$3)*('Data - incidents'!$B$2:$B$952=$A16)*('Data - incidents'!$C$2:$C$952))=0,\"..\",SUMPRODUCT(('Data - incidents'!$A$2:$A$952=C$3)*('Data - incidents'!$B$2:$B$952=$A16)*('Data - incidents'!$C$2:$C$952)))","v":91566},{"$f":"IF(SUMPRODUCT(('Data - incidents'!$A$2:$A$952=D$3)*('Data - incidents'!$B$2:$B$952=$A16)*('Data - incidents'!$C$2:$C$952))=0,\"..\",SUMPRODUCT(('Data - incidents'!$A$2:$A$952=D$3)*('Data - incidents'!$B$2:$B$952=$A16)*('Data - incidents'!$C$2:$C$952)))","v":39996},738503,11428.601018317668,{"$f":"IF(OR(C16=\"..\",L16=\"..\"),\"..\",(1000000*C16)/L16)","v":17276.929753391574},13054.376917553365,12013.883014374305,null,{"$f":"SUMPRODUCT(('Data - population'!$B$2:$B$1001=FIRE0101_working!$A16)*('Data - population'!$C$2:$C$1001=FIRE0101_working!F$3)*('Data - population'!$D$2:$D$1001))","v":53107200},{"$f":"SUMPRODUCT(('Data - population'!$B$2:$B$1001=FIRE0101_working!$A16)*('Data - population'!$C$2:$C$1001=FIRE0101_working!G$3)*('Data - population'!$D$2:$D$1001))","v":5299900},{"$f":"SUMPRODUCT(('Data - population'!$B$2:$B$1001=FIRE0101_working!$A16)*('Data - population'!$C$2:$C$1001=FIRE0101_working!H$3)*('Data - population'!$D$2:$D$1001))","v":3063800},{"$f":"SUMPRODUCT(('Data - population'!$B$2:$B$1001=FIRE0101_working!$A16)*('Data - population'!$C$2:$C$1001=FIRE0101_working!I$3)*('Data - population'!$D$2:$D$1001))","v":61470800},100]
["2012/13",{"$f":"IF(SUMPRODUCT(('Data - incidents'!$A$2:$A$952=B$3)*('Data - incidents'!$B$2:$B$952=$A17)*('Data - incidents'!$C$2:$C$952))=0,\"..\",SUMPRODUCT(('Data - incidents'!$A$2:$A$952=B$3)*('Data - incidents'!$B$2:$B$952=$A17)*('Data - incidents'!$C$2:$C$952)))","v":521324},{"$f":"IF(SUMPRODUCT(('Data - incidents'!$A$2:$A$952=C$3)*('Data - incidents'!$B$2:$B$952=$A17)*('Data - incidents'!$C$2:$C$952))=0,\"..\",SUMPRODUCT(('Data - incidents'!$A$2:$A$952=C$3)*('Data - incidents'!$B$2:$B$952=$A17)*('Data - incidents'!$C$2:$C$952)))","v":83832},{"$f":"IF(SUMPRODUCT(('Data - incidents'!$A$2:$A$952=D$3)*('Data - incidents'!$B$2:$B$952=$A17)*('Data - incidents'!$C$2:$C$952))=0,\"..\",SUMPRODUCT(('Data - incidents'!$A$2:$A$952=D$3)*('Data - incidents'!$B$2:$B$952=$A17)*('Data - incidents'!$C$2:$C$952)))","v":36251},641407,9743.1354519425568,15776.87443541102,{"$f":"IF(OR(D17=\"..\",M17=\"..\"),\"..\",(1000000*D17)/M17)","v":11804.682666319321},10363.443650399975,null,{"$f":"SUMPRODUCT(('Data - population'!$B$2:$B$1001=FIRE0101_working!$A17)*('Data - population'!$C$2:$C$1001=FIRE0101_working!F$3)*('Data - population'!$D$2:$D$1001))","v":53506800},{"$f":"SUMPRODUCT(('Data - population'!$B$2:$B$1001=FIRE0101_working!$A17)*('Data - population'!$C$2:$C$1001=FIRE0101_working!G$3)*('Data - population'!$D$2:$D$1001))","v":5313600},{"$f":"SUMPRODUCT(('Data - population'!$B$2:$B$1001=FIRE0101_working!$A17)*('Data - population'!$C$2:$C$1001=FIRE0101_working!H$3)*('Data - population'!$D$2:$D$1001))","v":3070900},{"$f":"SUMPRODUCT(('Data - population'!$B$2:$B$1001=FIRE0101_working!$A17)*('Data - population'!$C$2:$C$1001=FIRE0101_working!I$3)*('Data - population'!$D$2:$D$1001))","v":61891300},0]
["2013/14",{"$f":"IF(SUMPRODUCT(('Data - incidents'!$A$2:$A$952=B$3)*('Data - incidents'!$B$2:$B$952=$A18)*('Data - incidents'!$C$2:$C$952))=0,\"..\",SUMPRODUCT(('Data - incidents'!$A$2:$A$952=B$3)*('Data - incidents'!$B$2:$B$952=$A18)*('Data - incidents'!$C$2:$C$952)))","v":526895},{"$f":"IF(SUMPRODUCT(('Data - incidents'!$A$2:$A$952=C$3)*('Data - incidents'!$B$2:$B$952=$A18)*('Data - incidents'!$C$2:$C$952))=0,\"..\",SUMPRODUCT(('Data - incidents'!$A$2:$A$952=C$3)*('Data - incidents'!$B$2:$B$952=$A18)*('Data - incidents'!$C$2:$C$952)))","v":84882},{"$f":"IF(SUMPRODUCT(('Data - incidents'!$A$2:$A$952=D$3)*('Data - incidents'!$B$2:$B$952=$A18)*('Data - incidents'!$C$2:$C$952))=0,\"..\",SUMPRODUCT(('Data - incidents'!$A$2:$A$952=D$3)*('Data - incidents'!$B$2:$B$952=$A18)*('Data - incidents'!$C$2:$C$952)))","v":38599},650376,9772.0271445713643,15932.203389830509,12568.460812086874,{"$f":"IF(OR(E18=\"..\",N18=\"..\"),\"..\",(1000000*E18)/N18)","v":10436.507299726882},null,{"$f":"SUMPRODUCT(('Data - population'!$B$2:$B$1001=FIRE0101_working!$A18)*('Data - population'!$C$2:$C$1001=FIRE0101_working!F$3)*('Data - population'!$D$2:$D$1001))","v":53918700},{"$f":"SUMPRODUCT(('Data - population'!$B$2:$B$1001=FIRE0101_working!$A18)*('Data - population'!$C$2:$C$1001=FIRE0101_working!G$3)*('Data - population'!$D$2:$D$1001))","v":5327700},{"$f":"SUMPRODUCT(('Data - population'!$B$2:$B$1001=FIRE0101_working!$A18)*('Data - population'!$C$2:$C$1001=FIRE0101_working!H$3)*('Data - population'!$D$2:$D$1001))","v":3071100},{"$f":"SUMPRODUCT(('Data - population'!$B$2:$B$1001=FIRE0101_working!$A18)*('Data - population'!$C$2:$C$1001=FIRE0101_working!I$3)*('Data - population'!$D$2:$D$1001))","v":62317400},100]
["2014/15",{"$f":"IF(SUMPRODUCT(('Data - incidents'!$A$2:$A$952=B$3)*('Data - incidents'!$B$2:$B$952=$A19)*('Data - incidents'!$C$2:$C$952))=0,\"..\",SUMPRODUCT(('Data - incidents'!$A$2:$A$952=B$3)*('Data - incidents'!$B$2:$B$952=$A19)*('Data - incidents'!$C$2:$C$952)))","v":496277},{"$f":"IF(SUMPRODUCT(('Data - incidents'!$A$2:$A$952=C$3)*('Data - incidents'!$B$2:$B$952=$A19)*('Data - incidents'!$C$2:$C$952))=0,\"..\",SUMPRODUCT(('Data - incidents'!$A$2:$A$952=C$3)*('Data - incidents'!$B$2:$B$952=$A19)*('Data - incidents'!$C$2:$C$952)))","v":85050},{"$f":"IF(SUMPRODUCT(('Data - incidents'!$A$2:$A$952=D$3)*('Data - incidents'!$B$2:$B$952=$A19)*('Data - incidents'!$C$2:$C$952))=0,\"..\",SUMPRODUCT(('Data - incidents'!$A$2:$A$952=D$3)*('Data - incidents'!$B$2:$B$952=$A19)*('Data - incidents'!$C$2:$C$952)))","v":36425},617752,9127.7223042727364,15904.330914802902,11850.152905198776,9838.1155471184884,null,{"$f":"SUMPRODUCT(('Data - population'!$B$2:$B$1001=FIRE0101_working!$A19)*('Data - population'!$C$2:$C$1001=FIRE0101_working!F$3)*('Data - population'!$D$2:$D$1001))","v":54370300},{"$f":"SUMPRODUCT(('Data - population'!$B$2:$B$1001=FIRE0101_working!$A19)*('Data - population'!$C$2:$C$1001=FIRE0101_working!G$3)*('Data - population'!$D$2:$D$1001))","v":5347600},{"$f":"SUMPRODUCT(('Data - population'!$B$2:$B$1001=FIRE0101_working!$A19)*('Data - population'!$C$2:$C$1001=FIRE0101_working!H$3)*('Data - population'!$D$2:$D$1001))","v":3073800},{"$f":"SUMPRODUCT(('Data - population'!$B$2:$B$1001=FIRE0101_working!$A19)*('Data - population'!$C$2:$C$1001=FIRE0101_working!I$3)*('Data - population'!$D$2:$D$1001))","v":62791700},0]
["2015/16",{"$f":"IF(SUMPRODUCT(('Data - incidents'!$A$2:$A$952=B$3)*('Data - incidents'!$B$2:$B$952=$A20)*('Data - incidents'!$C$2:$C$952))=0,\"..\",SUMPRODUCT(('Data - incidents'!$A$2:$A$952=B$3)*('Data - incidents'!$B$2:$B$952=$A20)*('Data - incidents'!$C$2:$C$952)))","v":529716},{"$f":"IF(SUMPRODUCT(('Data - incidents'!$A$2:$A$952=C$3)*('Data - incidents'!$B$2:$B$952=$A20)*('Data - incidents'!$C$2:$C$952))=0,\"..\",SUMPRODUCT(('Data - incidents'!$A$2:$A$952=C$3)*('Data - incidents'!$B$2:$B$952=$A20)*('Data - incidents'!$C$2:$C$952)))","v":88869},{"$f":"IF(SUMPRODUCT(('Data - incidents'!$A$2:$A$952=D$3)*('Data - incidents'!$B$2:$B$952=$A20)*('Data - incidents'!$C$2:$C$952))=0,\"..\",SUMPRODUCT(('Data - incidents'!$A$2:$A$952=D$3)*('Data - incidents'!$B$2:$B$952=$A20)*('Data - incidents'!$C$2:$C$952)))","v":36750},655335,9664.8159872429005,16539.921831379117,11960.165326911185,10360.306950978904,null,{"$f":"SUMPRODUCT(('Data - population'!$B$2:$B$1001=FIRE0101_working!$A20)*('Data - population'!$C$2:$C$1001=FIRE0101_working!F$3)*('Data - population'!$D$2:$D$1001))","v":54808700},{"$f":"SUMPRODUCT(('Data - population'!$B$2:$B$1001=FIRE0101_working!$A20)*('Data - population'!$C$2:$C$1001=FIRE0101_working!G$3)*('Data - population'!$D$2:$D$1001))","v":5373000},{"$f":"SUMPRODUCT(('Data - population'!$B$2:$B$1001=FIRE0101_working!$A20)*('Data - population'!$C$2:$C$1001=FIRE0101_working!H$3)*('Data - population'!$D$2:$D$1001))","v":3072700},{"$f":"SUMPRODUCT(('Data - population'!$B$2:$B$1001=FIRE0101_working!$A20)*('Data - population'!$C$2:$C$1001=FIRE0101_working!I$3)*('Data - population'!$D$2:$D$1001))","v":63254400},0]
["2016/17",{"$f":"IF(SUMPRODUCT(('Data - incidents'!$A$2:$A$952=B$3)*('Data - incidents'!$B$2:$B$952=$A21)*('Data - incidents'!$C$2:$C$952))=0,\"..\",SUMPRODUCT(('Data - incidents'!$A$2:$A$952=B$3)*('Data - incidents'!$B$2:$B$952=$A21)*('Data - incidents'!$C$2:$C$952)))","v":560775},{"$f":"IF(SUMPRODUCT(('Data - incidents'!$A$2:$A$952=C$3)*('Data - incidents'!$B$2:$B$952=$A21)*('Data - incidents'!$C$2:$C$952))=0,\"..\",SUMPRODUCT(('Data - incidents'!$A$2:$A$952=C$3)*('Data - incidents'!$B$2:$B$952=$A21)*('Data - incidents'!$C$2:$C$952)))","v":91261},{"$f":"IF(SUMPRODUCT(('Data - incidents'!$A$2:$A$952=D$3)*('Data - incidents'!$B$2:$B$952=$A21)*('Data - incidents'!$C$2:$C$952))=0,\"..\",SUMPRODUCT(('Data - incidents'!$A$2:$A$952=D$3)*('Data - incidents'!$B$2:$B$952=$A21)*('Data - incidents'!$C$2:$C$952)))","v":37216},689252,10142.614263235002,16885.488556256591,12094.111529962303,10808.25266696879,null,{"$f":"SUMPRODUCT(('Data - population'!$B$2:$B$1001=FIRE0101_working!$A21)*('Data - population'!$C$2:$C$1001=FIRE0101_working!F$3)*('Data - population'!$D$2:$D$1001))","v":55289000},{"$f":"SUMPRODUCT(('Data - population'!$B$2:$B$1001=FIRE0101_working!$A21)*('Data - population'!$C$2:$C$1001=FIRE0101_working!G$3)*('Data - population'!$D$2:$D$1001))","v":5404700},{"$f":"SUMPRODUCT(('Data - population'!$B$2:$B$1001=FIRE0101_working!$A21)*('Data - population'!$C$2:$C$1001=FIRE0101_working!H$3)*('Data - population'!$D$2:$D$1001))","v":3077200},{"$f":"SUMPRODUCT(('Data - population'!$B$2:$B$1001=FIRE0101_working!$A21)*('Data - population'!$C$2:$C$1001=FIRE0101_working!I$3)*('Data - population'!$D$2:$D$1001))","v":63770900},0]
["2017/18",{"$f":"IF(SUMPRODUCT(('Data - incidents'!$A$2:$A$952=B$3)*('Data - incidents'!$B$2:$B$952=$A22)*('Data - incidents'!$C$2:$C$952))=0,\"..\",SUMPRODUCT(('Data - incidents'!$A$2:$A$952=B$3)*('Data - incidents'!$B$2:$B$952=$A22)*('Data - incidents'!$C$2:$C$952)))","v":566217},{"$f":"IF(SUMPRODUCT(('Data - incidents'!$A$2:$A$952=C$3)*('Data - incidents'!$B$2:$B$952=$A22)*('Data - incidents'!$C$2:$C$952))=0,\"..\",SUMPRODUCT(('Data - incidents'!$A$2:$A$952=C$3)*('Data - incidents'!$B$2:$B$952=$A22)*('Data - incidents'!$C$2:$C$952)))","v":91901},{"$f":"IF(SUMPRODUCT(('Data - incidents'!$A$2:$A$952=D$3)*('Data - incidents'!$B$2:$B$952=$A22)*('Data - incidents'!$C$2:$C$952))=0,\"..\",SUMPRODUCT(('Data - incidents'!$A$2:$A$952=D$3)*('Data - incidents'!$B$2:$B$952=$A22)*('Data - incidents'!$C$2:$C$952)))","v":36768},694886,10180.18860291804,16940.901047043208,11932.238592847407,10836.31055879312,null,{"$f":"SUMPRODUCT(('Data - population'!$B$2:$B$1001=FIRE0101_working!$A22)*('Data - population'!$C$2:$C$1001=FIRE0101_working!F$3)*('Data - population'!$D$2:$D$1001))","v":55619500},{"$f":"SUMPRODUCT(('Data - population'!$B$2:$B$1001=FIRE0101_working!$A22)*('Data - population'!$C$2:$C$1001=FIRE0101_working!G$3)*('Data - population'!$D$2:$D$1001))","v":5424800},{"$f":"SUMPRODUCT(('Data - population'!$B$2:$B$1001=FIRE0101_working!$A22)*('Data - population'!$C$2:$C$1001=FIRE0101_working!H$3)*('Data - population'!$D$2:$D$1001))","v":3081400},{"$f":"SUMPRODUCT(('Data - population'!$B$2:$B$1001=FIRE0101_working!$A22)*('Data - population'!$C$2:$C$1001=FIRE0101_working!I$3)*('Data - population'!$D$2:$D$1001))","v":64125700},0]
["2018/19",{"$f":"IF(SUMPRODUCT(('Data - incidents'!$A$2:$A$952=B$3)*('Data - incidents'!$B$2:$B$952=$A23)*('Data - incidents'!$C$2:$C$952))=0,\"..\",SUMPRODUCT(('Data - incidents'!$A$2:$A$952=B$3)*('Data - incidents'!$B$2:$B$952=$A23)*('Data - incidents'!$C$2:$C$952)))","v":576594},{"$f":"IF(SUMPRODUCT(('Data - incidents'!$A$2:$A$952=C$3)*('Data - incidents'!$B$2:$B$952=$A23)*('Data - incidents'!$C$2:$C$952))=0,\"..\",SUMPRODUCT(('Data - incidents'!$A$2:$A$952=C$3)*('Data - incidents'!$B$2:$B$952=$A23)*('Data - incidents'!$C$2:$C$952)))","v":92748},{"$f":"IF(SUMPRODUCT(('Data - incidents'!$A$2:$A$952=D$3)*('Data - incidents'!$B$2:$B$952=$A23)*('Data - incidents'!$C$2:$C$952))=0,\"..\",SUMPRODUCT(('Data - incidents'!$A$2:$A$952=D$3)*('Data - incidents'!$B$2:$B$952=$A23)*('Data - incidents'!$C$2:$C$952)))","v":36674},706016,10310.221816913874,17055.221492800796,11892.470328815098,10955.071260658066,null,{"$f":"SUMPRODUCT(('Data - population'!$B$2:$B$1001=FIRE0101_working!$A23)*('Data - population'!$C$2:$C$1001=FIRE0101_working!F$3)*('Data - population'!$D$2:$D$1001))","v":55924500},{"$f":"SUMPRODUCT(('Data - population'!$B$2:$B$1001=FIRE0101_working!$A23)*('Data - population'!$C$2:$C$1001=FIRE0101_working!G$3)*('Data - population'!$D$2:$D$1001))","v":5438100},{"$f":"SUMPRODUCT(('Data - population'!$B$2:$B$1001=FIRE0101_working!$A23)*('Data - population'!$C$2:$C$1001=FIRE0101_working!H$3)*('Data - population'!$D$2:$D$1001))","v":3083800},{"$f":"SUMPRODUCT(('Data - population'!$B$2:$B$1001=FIRE0101_working!$A23)*('Data - population'!$C$2:$C$1001=FIRE0101_working!I$3)*('Data - population'!$D$2:$D$1001))","v":64446500},{"$f":"K23+L23+M23-N23","v":-100}]
["2019/20",{"$f":"IF(SUMPRODUCT(('Data - incidents'!$A$2:$A$952=B$3)*('Data - incidents'!$B$2:$B$952=$A24)*('Data - incidents'!$C$2:$C$952))=0,\"..\",SUMPRODUCT(('Data - incidents'!$A$2:$A$952=B$3)*('Data - incidents'!$B$2:$B$952=$A24)*('Data - incidents'!$C$2:$C$952)))","v":558033},{"$f":"IF(SUMPRODUCT(('Data - incidents'!$A$2:$A$952=C$3)*('Data - incidents'!$B$2:$B$952=$A24)*('Data - incidents'!$C$2:$C$952))=0,\"..\",SUMPRODUCT(('Data - incidents'!$A$2:$A$952=C$3)*('Data - incidents'!$B$2:$B$952=$A24)*('Data - incidents'!$C$2:$C$952)))","v":92075},{"$f":"IF(SUMPRODUCT(('Data - incidents'!$A$2:$A$952=D$3)*('Data - incidents'!$B$2:$B$952=$A24)*('Data - incidents'!$C$2:$C$952))=0,\"..\",SUMPRODUCT(('Data - incidents'!$A$2:$A$952=D$3)*('Data - incidents'!$B$2:$B$952=$A24)*('Data - incidents'!$C$2:$C$952)))","v":34993},685101,9924.0975918591648,16853.367012611427,11333.031058716844,10575.630855295758,null,{"$f":"SUMPRODUCT(('Data - population'!$B$2:$B$1001=FIRE0101_working!$A24)*('Data - population'!$C$2:$C$1001=FIRE0101_working!F$3)*('Data - population'!$D$2:$D$1001))","v":56230100},{"$f":"SUMPRODUCT(('Data - population'!$B$2:$B$1001=FIRE0101_working!$A24)*('Data - population'!$C$2:$C$1001=FIRE0101_working!G$3)*('Data - population'!$D$2:$D$1001))","v":5463300},{"$f":"SUMPRODUCT(('Data - population'!$B$2:$B$1001=FIRE0101_working!$A24)*('Data - population'!$C$2:$C$1001=FIRE0101_working!H$3)*('Data - population'!$D$2:$D$1001))","v":3087700},{"$f":"SUMPRODUCT(('Data - population'!$B$2:$B$1001=FIRE0101_working!$A24)*('Data - population'!$C$2:$C$1001=FIRE0101_working!I$3)*('Data - population'!$D$2:$D$1001))","v":64781100},0]
["2020/21",{"$f":"IF(SUMPRODUCT(('Data - incidents'!$A$2:$A$952=B$3)*('Data - incidents'!$B$2:$B$952=$A25)*('Data - incidents'!$C$2:$C$952))=0,\"..\",SUMPRODUCT(('Data - incidents'!$A$2:$A$952=B$3)*('Data - incidents'!$B$2:$B$952=$A25)*('Data - incidents'!$C$2:$C$952)))","v":518321},{"$f":"IF(SUMPRODUCT(('Data - incidents'!$A$2:$A$952=C$3)*('Data - incidents'!$B$2:$B$952=$A25)*('Data - incidents'!$C$2:$C$952))=0,\"..\",SUMPRODUCT(('Data - incidents'!$A$2:$A$952=C$3)*('Data - incidents'!$B$2:$B$952=$A25)*('Data - incidents'!$C$2:$C$952)))","v":85613},{"$f":"IF(SUMPRODUCT(('Data - incidents'!$A$2:$A$952=D$3)*('Data - incidents'!$B$2:$B$952=$A25)*('Data - incidents'!$C$2:$C$952))=0,\"..\",SUMPRODUCT(('Data - incidents'!$A$2:$A$952=D$3)*('Data - incidents'!$B$2:$B$952=$A25)*('Data - incidents'!$C$2:$C$952)))","v":32225},636159,{"$f":"IF(OR(B25=\"..\",K25=\"..\"),\"..\",(1000000*B25)/K25)","v":9202.1624116748917},15662.824734723747,10380.093412787888,9802.6855110607066,null,{"$f":"SUMPRODUCT(('Data - population'!$B$2:$B$1001=FIRE0101_working!$A25)*('Data - population'!$C$2:$C$1001=FIRE0101_working!F$3)*('Data - population'!$D$2:$D$1001))","v":56326000},{"$f":"SUMPRODUCT(('Data - population'!$B$2:$B$1001=FIRE0101_working!$A25)*('Data - population'!$C$2:$C$1001=FIRE0101_working!G$3)*('Data - population'!$D$2:$D$1001))","v":5466000},{"$f":"SUMPRODUCT(('Data - population'!$B$2:$B$1001=FIRE0101_working!$A25)*('Data - population'!$C$2:$C$1001=FIRE0101_working!H$3)*('Data - population'!$D$2:$D$1001))","v":3104500},{"$f":"SUMPRODUCT(('Data - population'!$B$2:$B$1001=FIRE0101_working!$A25)*('Data - population'!$C$2:$C$1001=FIRE0101_working!I$3)*('Data - population'!$D$2:$D$1001))","v":64896400},{"$f":"K25+L25+M25-N25","v":100}]
["2021/22",{"$f":"IF(SUMPRODUCT(('Data - incidents'!$A$2:$A$952=B$3)*('Data - incidents'!$B$2:$B$952=$A26)*('Data - incidents'!$C$2:$C$952))=0,\"..\",SUMPRODUCT(('Data - incidents'!$A$2:$A$952=B$3)*('Data - incidents'!$B$2:$B$952=$A26)*('Data - incidents'!$C$2:$C$952)))","v":577187},{"$f":"IF(SUMPRODUCT(('Data - incidents'!$A$2:$A$952=C$3)*('Data - incidents'!$B$2:$B$952=$A26)*('Data - incidents'!$C$2:$C$952))=0,\"..\",SUMPRODUCT(('Data - incidents'!$A$2:$A$952=C$3)*('Data - incidents'!$B$2:$B$952=$A26)*('Data - incidents'!$C$2:$C$952)))","v":95734},{"$f":"IF(SUMPRODUCT(('Data - incidents'!$A$2:$A$952=D$3)*('Data - incidents'!$B$2:$B$952=$A26)*('Data - incidents'!$C$2:$C$952))=0,\"..\",SUMPRODUCT(('Data - incidents'!$A$2:$A$952=D$3)*('Data - incidents'!$B$2:$B$952=$A26)*('Data - incidents'!$C$2:$C$952)))","v":34735},{"$f":"IF(OR(D26=\"..\",C26=\"..\",B26=\"..\"),\"..\",SUM(B26:D26))","v":707656},{"$f":"IF(OR(B26=\"..\",K26=\"..\"),\"..\",(1000000*B26)/K26)","v":10205.782346003618},{"$f":"IF(OR(C26=\"..\",L26=\"..\"),\"..\",(1000000*C26)/L26)","v":17470.026825307032},{"$f":"IF(OR(D26=\"..\",M26=\"..\"),\"..\",(1000000*D26)/M26)","v":11184.63420917053},{"$f":"IF(OR(E26=\"..\",N26=\"..\"),\"..\",(1000000*E26)/N26)","v":10863.550116364038},null,{"$f":"SUMPRODUCT(('Data - population'!$B$2:$B$1001=FIRE0101_working!$A26)*('Data - population'!$C$2:$C$1001=FIRE0101_working!F$3)*('Data - population'!$D$2:$D$1001))","v":56554900},{"$f":"SUMPRODUCT(('Data - population'!$B$2:$B$1001=FIRE0101_working!$A26)*('Data - population'!$C$2:$C$1001=FIRE0101_working!G$3)*('Data - population'!$D$2:$D$1001))","v":5479900},{"$f":"SUMPRODUCT(('Data - population'!$B$2:$B$1001=FIRE0101_working!$A26)*('Data - population'!$C$2:$C$1001=FIRE0101_working!H$3)*('Data - population'!$D$2:$D$1001))","v":3105600},{"$f":"SUMPRODUCT(('Data - population'!$B$2:$B$1001=FIRE0101_working!$A26)*('Data - population'!$C$2:$C$1001=FIRE0101_working!I$3)*('Data - population'!$D$2:$D$1001))","v":65140400},{"$f":"K26+L26+M26-N26","v":0}]
["2022/23",{"$f":"IF(SUMPRODUCT(('Data - incidents'!$A$2:$A$952=B$3)*('Data - incidents'!$B$2:$B$952=$A27)*('Data - incidents'!$C$2:$C$952))=0,\"..\",SUMPRODUCT(('Data - incidents'!$A$2:$A$952=B$3)*('Data - incidents'!$B$2:$B$952=$A27)*('Data - incidents'!$C$2:$C$952)))","v":622497},{"$f":"IF(SUMPRODUCT(('Data - incidents'!$A$2:$A$952=C$3)*('Data - incidents'!$B$2:$B$952=$A27)*('Data - incidents'!$C$2:$C$952))=0,\"..\",SUMPRODUCT(('Data - incidents'!$A$2:$A$952=C$3)*('Data - incidents'!$B$2:$B$952=$A27)*('Data - incidents'!$C$2:$C$952)))","v":99532},{"$f":"IF(SUMPRODUCT(('Data - incidents'!$A$2:$A$952=D$3)*('Data - incidents'!$B$2:$B$952=$A27)*('Data - incidents'!$C$2:$C$952))=0,\"..\",SUMPRODUCT(('Data - incidents'!$A$2:$A$952=D$3)*('Data - incidents'!$B$2:$B$952=$A27)*('Data - incidents'!$C$2:$C$952)))","v":37427},{"$f":"IF(OR(D27=\"..\",C27=\"..\",B27=\"..\"),\"..\",SUM(B27:D27))","v":759456},{"$f":"IF(OR(B27=\"..\",K27=\"..\"),\"..\",(1000000*B27)/K27)","v":10900.65211605004},{"$f":"IF(OR(C27=\"..\",L27=\"..\"),\"..\",(1000000*C27)/L27)","v":18307.765883088694},{"$f":"IF(OR(D27=\"..\",M27=\"..\"),\"..\",(1000000*D27)/M27)","v":11951.398646059522},{"$f":"IF(OR(E27=\"..\",N27=\"..\"),\"..\",(1000000*E27)/N27)","v":11563.922734207745},null,{"$f":"IF(SUMPRODUCT(('Data - population'!$B$2:$B$1001=FIRE0101_working!$A27)*('Data - population'!$C$2:$C$1001=FIRE0101_working!F$3)*('Data - population'!$D$2:$D$1001))=0,\"..\",SUMPRODUCT(('Data - population'!$B$2:$B$1001=FIRE0101_working!$A27)*('Data - population'!$C$2:$C$1001=FIRE0101_working!F$3)*('Data - population'!$D$2:$D$1001)))","v":57106400},{"$f":"IF(SUMPRODUCT(('Data - population'!$B$2:$B$1001=FIRE0101_working!$A27)*('Data - population'!$C$2:$C$1001=FIRE0101_working!G$3)*('Data - population'!$D$2:$D$1001))=0,\"..\",SUMPRODUCT(('Data - population'!$B$2:$B$1001=FIRE0101_working!$A27)*('Data - population'!$C$2:$C$1001=FIRE0101_working!G$3)*('Data - population'!$D$2:$D$1001)))","v":5436600},{"$f":"IF(SUMPRODUCT(('Data - population'!$B$2:$B$1001=FIRE0101_working!$A27)*('Data - population'!$C$2:$C$1001=FIRE0101_working!H$3)*('Data - population'!$D$2:$D$1001))=0,\"..\",SUMPRODUCT(('Data - population'!$B$2:$B$1001=FIRE0101_working!$A27)*('Data - population'!$C$2:$C$1001=FIRE0101_working!H$3)*('Data - population'!$D$2:$D$1001)))","v":3131600},{"$f":"IF(SUMPRODUCT(('Data - population'!$B$2:$B$1001=FIRE0101_working!$A27)*('Data - population'!$C$2:$C$1001=FIRE0101_working!I$3)*('Data - population'!$D$2:$D$1001))=0,\"..\",SUMPRODUCT(('Data - population'!$B$2:$B$1001=FIRE0101_working!$A27)*('Data - population'!$C$2:$C$1001=FIRE0101_working!I$3)*('Data - population'!$D$2:$D$1001)))","v":65674600},{"$f":"K27+L27+M27-N27","v":0}]

{"sheet":"FIRE0101","index":5,"n_rows":52,"n_cols":9,"rows_kept":52,"cut":false,"hidden":false,"merged":[]}
["FIRE STATISTICS TABLE 0101: Incidents attended1 by fire and rescue services by nation and population2"]
[null,null,"Total incidents1",null,null,null,"Total incidents per 1 million people2"]
["Year","England3","Scotland4","Wales5,6","Great Britain","England3","Scotland4","Wales5,6","Great Britain"]
["1999/00",{"$f":"IF(FIRE0101_working!B4=\"..\",\"..\",ROUND(FIRE0101_working!B4,0))","v":929573},{"$f":"IF(FIRE0101_working!C4=\"..\",\"..\",ROUND(FIRE0101_working!C4,0))","v":".."},{"$f":"IF(FIRE0101_working!D4=\"..\",\"..\",ROUND(FIRE0101_working!D4,0))","v":".."},{"$f":"IF(FIRE0101_working!E4=\"..\",\"..\",ROUND(FIRE0101_working!E4,0))","v":".."},{"$f":"IF(FIRE0101_working!F4=\"..\",\"..\",ROUND(FIRE0101_working!F4,0))","v":18958},{"$f":"IF(FIRE0101_working!G4=\"..\",\"..\",ROUND(FIRE0101_working!G4,0))","v":".."},{"$f":"IF(FIRE0101_working!H4=\"..\",\"..\",ROUND(FIRE0101_working!H4,0))","v":".."},{"$f":"IF(FIRE0101_working!I4=\"..\",\"..\",ROUND(FIRE0101_working!I4,0))","v":".."}]
["2000/01",{"$f":"IF(FIRE0101_working!B5=\"..\",\"..\",ROUND(FIRE0101_working!B5,0))","v":912741},{"$f":"IF(FIRE0101_working!C5=\"..\",\"..\",ROUND(FIRE0101_working!C5,0))","v":".."},{"$f":"IF(FIRE0101_working!D5=\"..\",\"..\",ROUND(FIRE0101_working!D5,0))","v":".."},{"$f":"IF(FIRE0101_working!E5=\"..\",\"..\",ROUND(FIRE0101_working!E5,0))","v":".."},{"$f":"IF(FIRE0101_working!F5=\"..\",\"..\",ROUND(FIRE0101_working!F5,0))","v":18539},{"$f":"IF(FIRE0101_working!G5=\"..\",\"..\",ROUND(FIRE0101_working!G5,0))","v":".."},{"$f":"IF(FIRE0101_working!H5=\"..\",\"..\",ROUND(FIRE0101_working!H5,0))","v":".."},{"$f":"IF(FIRE0101_working!I5=\"..\",\"..\",ROUND(FIRE0101_working!I5,0))","v":".."}]
["2001/02",{"$f":"IF(FIRE0101_working!B6=\"..\",\"..\",ROUND(FIRE0101_working!B6,0))","v":990793},{"$f":"IF(FIRE0101_working!C6=\"..\",\"..\",ROUND(FIRE0101_working!C6,0))","v":".."},{"$f":"IF(FIRE0101_working!D6=\"..\",\"..\",ROUND(FIRE0101_working!D6,0))","v":63907},{"$f":"IF(FIRE0101_working!E6=\"..\",\"..\",ROUND(FIRE0101_working!E6,0))","v":".."},{"$f":"IF(FIRE0101_working!F6=\"..\",\"..\",ROUND(FIRE0101_working!F6,0))","v":20036},{"$f":"IF(FIRE0101_working!G6=\"..\",\"..\",ROUND(FIRE0101_working!G6,0))","v":".."},{"$f":"IF(FIRE0101_working!H6=\"..\",\"..\",ROUND(FIRE0101_working!H6,0))","v":21960},{"$f":"IF(FIRE0101_working!I6=\"..\",\"..\",ROUND(FIRE0101_working!I6,0))","v":".."}]
["2002/03",{"$f":"IF(FIRE0101_working!B7=\"..\",\"..\",ROUND(FIRE0101_working!B7,0))","v":958142},{"$f":"IF(FIRE0101_working!C7=\"..\",\"..\",ROUND(FIRE0101_working!C7,0))","v":".."},{"$f":"IF(FIRE0101_working!D7=\"..\",\"..\",ROUND(FIRE0101_working!D7,0))","v":62540},{"$f":"IF(FIRE0101_working!E7=\"..\",\"..\",ROUND(FIRE0101_working!E7,0))","v":".."},{"$f":"IF(FIRE0101_working!F7=\"..\",\"..\",ROUND(FIRE0101_working!F7,0))","v":19287},{"$f":"IF(FIRE0101_working!G7=\"..\",\"..\",ROUND(FIRE0101_working!G7,0))","v":".."},{"$f":"IF(FIRE0101_working!H7=\"..\",\"..\",ROUND(FIRE0101_working!H7,0))","v":21397},{"$f":"IF(FIRE0101_working!I7=\"..\",\"..\",ROUND(FIRE0101_working!I7,0))","v":".."}]
["2003/04",{"$f":"IF(FIRE0101_working!B8=\"..\",\"..\",ROUND(FIRE0101_working!B8,0))","v":1016028},{"$f":"IF(FIRE0101_working!C8=\"..\",\"..\",ROUND(FIRE0101_working!C8,0))","v":".."},{"$f":"IF(FIRE0101_working!D8=\"..\",\"..\",ROUND(FIRE0101_working!D8,0))","v":63832},{"$f":"IF(FIRE0101_working!E8=\"..\",\"..\",ROUND(FIRE0101_working!E8,0))","v":".."},{"$f":"IF(FIRE0101_working!F8=\"..\",\"..\",ROUND(FIRE0101_working!F8,0))","v":20351},{"$f":"IF(FIRE0101_working!G8=\"..\",\"..\",ROUND(FIRE0101_working!G8,0))","v":".."},{"$f":"IF(FIRE0101_working!H8=\"..\",\"..\",ROUND(FIRE0101_working!H8,0))","v":21729},{"$f":"IF(FIRE0101_working!I8=\"..\",\"..\",ROUND(FIRE0101_working!I8,0))","v":".."}]
["2004/05",{"$f":"IF(FIRE0101_working!B9=\"..\",\"..\",ROUND(FIRE0101_working!B9,0))","v":861384},{"$f":"IF(FIRE0101_working!C9=\"..\",\"..\",ROUND(FIRE0101_working!C9,0))","v":".."},{"$f":"IF(FIRE0101_working!D9=\"..\",\"..\",ROUND(FIRE0101_working!D9,0))","v":52866},{"$f":"IF(FIRE0101_working!E9=\"..\",\"..\",ROUND(FIRE0101_working!E9,0))","v":".."},{"$f":"IF(FIRE0101_working!F9=\"..\",\"..\",ROUND(FIRE0101_working!F9,0))","v":17161},{"$f":"IF(FIRE0101_working!G9=\"..\",\"..\",ROUND(FIRE0101_working!G9,0))","v":".."},{"$f":"IF(FIRE0101_working!H9=\"..\",\"..\",ROUND(FIRE0101_working!H9,0))","v":17876},{"$f":"IF(FIRE0101_working!I9=\"..\",\"..\",ROUND(FIRE0101_working!I9,0))","v":".."}]
["2005/06",{"$f":"IF(FIRE0101_working!B10=\"..\",\"..\",ROUND(FIRE0101_working!B10,0))","v":843734},{"$f":"IF(FIRE0101_working!C10=\"..\",\"..\",ROUND(FIRE0101_working!C10,0))","v":".."},{"$f":"IF(FIRE0101_working!D10=\"..\",\"..\",ROUND(FIRE0101_working!D10,0))","v":52485},{"$f":"IF(FIRE0101_working!E10=\"..\",\"..\",ROUND(FIRE0101_working!E10,0))","v":".."},{"$f":"IF(FIRE0101_working!F10=\"..\",\"..\",ROUND(FIRE0101_working!F10,0))","v":16673},{"$f":"IF(FIRE0101_working!G10=\"..\",\"..\",ROUND(FIRE0101_working!G10,0))","v":".."},{"$f":"IF(FIRE0101_working!H10=\"..\",\"..\",ROUND(FIRE0101_working!H10,0))","v":17676},{"$f":"IF(FIRE0101_working!I10=\"..\",\"..\",ROUND(FIRE0101_working!I10,0))","v":".."}]
["2006/07",{"$f":"IF(FIRE0101_working!B11=\"..\",\"..\",ROUND(FIRE0101_working!B11,0))","v":854371},{"$f":"IF(FIRE0101_working!C11=\"..\",\"..\",ROUND(FIRE0101_working!C11,0))","v":".."},{"$f":"IF(FIRE0101_working!D11=\"..\",\"..\",ROUND(FIRE0101_working!D11,0))","v":56675},{"$f":"IF(FIRE0101_working!E11=\"..\",\"..\",ROUND(FIRE0101_working!E11,0))","v":".."},{"$f":"IF(FIRE0101_working!F11=\"..\",\"..\",ROUND(FIRE0101_working!F11,0))","v":16764},{"$f":"IF(FIRE0101_working!G11=\"..\",\"..\",ROUND(FIRE0101_working!G11,0))","v":".."},{"$f":"IF(FIRE0101_working!H11=\"..\",\"..\",ROUND(FIRE0101_working!H11,0))","v":18982},{"$f":"IF(FIRE0101_working!I11=\"..\",\"..\",ROUND(FIRE0101_working!I11,0))","v":".."}]
["2007/08",{"$f":"IF(FIRE0101_working!B12=\"..\",\"..\",ROUND(FIRE0101_working!B12,0))","v":791746},{"$f":"IF(FIRE0101_working!C12=\"..\",\"..\",ROUND(FIRE0101_working!C12,0))","v":".."},{"$f":"IF(FIRE0101_working!D12=\"..\",\"..\",ROUND(FIRE0101_working!D12,0))","v":55086},{"$f":"IF(FIRE0101_working!E12=\"..\",\"..\",ROUND(FIRE0101_working!E12,0))","v":".."},{"$f":"IF(FIRE0101_working!F12=\"..\",\"..\",ROUND(FIRE0101_working!F12,0))","v":15409},{"$f":"IF(FIRE0101_working!G12=\"..\",\"..\",ROUND(FIRE0101_working!G12,0))","v":".."},{"$f":"IF(FIRE0101_working!H12=\"..\",\"..\",ROUND(FIRE0101_working!H12,0))","v":18324},{"$f":"IF(FIRE0101_working!I12=\"..\",\"..\",ROUND(FIRE0101_working!I12,0))","v":".."}]
["2008/09",{"$f":"IF(FIRE0101_working!B13=\"..\",\"..\",ROUND(FIRE0101_working!B13,0))","v":717805},{"$f":"IF(FIRE0101_working!C13=\"..\",\"..\",ROUND(FIRE0101_working!C13,0))","v":".."},{"$f":"IF(FIRE0101_working!D13=\"..\",\"..\",ROUND(FIRE0101_working!D13,0))","v":49293},{"$f":"IF(FIRE0101_working!E13=\"..\",\"..\",ROUND(FIRE0101_working!E13,0))","v":".."},{"$f":"IF(FIRE0101_working!F13=\"..\",\"..\",ROUND(FIRE0101_working!F13,0))","v":13853},{"$f":"IF(FIRE0101_working!G13=\"..\",\"..\",ROUND(FIRE0101_working!G13,0))","v":".."},{"$f":"IF(FIRE0101_working!H13=\"..\",\"..\",ROUND(FIRE0101_working!H13,0))","v":16290},{"$f":"IF(FIRE0101_working!I13=\"..\",\"..\",ROUND(FIRE0101_working!I13,0))","v":".."}]
["2009/10",{"$f":"IF(FIRE0101_working!B14=\"..\",\"..\",ROUND(FIRE0101_working!B14,0))","v":680634},{"$f":"IF(FIRE0101_working!C14=\"..\",\"..\",ROUND(FIRE0101_working!C14,0))","v":103820},{"$f":"IF(FIRE0101_working!D14=\"..\",\"..\",ROUND(FIRE0101_working!D14,0))","v":46341},{"$f":"IF(FIRE0101_working!E14=\"..\",\"..\",ROUND(FIRE0101_working!E14,0))","v":830795},{"$f":"IF(FIRE0101_working!F14=\"..\",\"..\",ROUND(FIRE0101_working!F14,0))","v":13040},{"$f":"IF(FIRE0101_working!G14=\"..\",\"..\",ROUND(FIRE0101_working!G14,0))","v":19844},{"$f":"IF(FIRE0101_working!H14=\"..\",\"..\",ROUND(FIRE0101_working!H14,0))","v":15249},{"$f":"IF(FIRE0101_working!I14=\"..\",\"..\",ROUND(FIRE0101_working!I14,0))","v":13740}]
["2010/11",{"$f":"IF(FIRE0101_working!B15=\"..\",\"..\",ROUND(FIRE0101_working!B15,0))","v":647360},{"$f":"IF(FIRE0101_working!C15=\"..\",\"..\",ROUND(FIRE0101_working!C15,0))","v":101432},{"$f":"IF(FIRE0101_working!D15=\"..\",\"..\",ROUND(FIRE0101_working!D15,0))","v":46881},{"$f":"IF(FIRE0101_working!E15=\"..\",\"..\",ROUND(FIRE0101_working!E15,0))","v":795673},{"$f":"IF(FIRE0101_working!F15=\"..\",\"..\",ROUND(FIRE0101_working!F15,0))","v":12297},{"$f":"IF(FIRE0101_working!G15=\"..\",\"..\",ROUND(FIRE0101_working!G15,0))","v":19276},{"$f":"IF(FIRE0101_working!H15=\"..\",\"..\",ROUND(FIRE0101_working!H15,0))","v":15371},{"$f":"IF(FIRE0101_working!I15=\"..\",\"..\",ROUND(FIRE0101_working!I15,0))","v":13054}]
["2011/12",{"$f":"IF(FIRE0101_working!B16=\"..\",\"..\",ROUND(FIRE0101_working!B16,0))","v":606941},{"$f":"IF(FIRE0101_working!C16=\"..\",\"..\",ROUND(FIRE0101_working!C16,0))","v":91566},{"$f":"IF(FIRE0101_working!D16=\"..\",\"..\",ROUND(FIRE0101_working!D16,0))","v":39996},{"$f":"IF(FIRE0101_working!E16=\"..\",\"..\",ROUND(FIRE0101_working!E16,0))","v":738503},{"$f":"IF(FIRE0101_working!F16=\"..\",\"..\",ROUND(FIRE0101_working!F16,0))","v":11429},{"$f":"IF(FIRE0101_working!G16=\"..\",\"..\",ROUND(FIRE0101_working!G16,0))","v":17277},{"$f":"IF(FIRE0101_working!H16=\"..\",\"..\",ROUND(FIRE0101_working!H16,0))","v":13054},{"$f":"IF(FIRE0101_working!I16=\"..\",\"..\",ROUND(FIRE0101_working!I16,0))","v":12014}]
["2012/13",{"$f":"IF(FIRE0101_working!B17=\"..\",\"..\",ROUND(FIRE0101_working!B17,0))","v":521324},{"$f":"IF(FIRE0101_working!C17=\"..\",\"..\",ROUND(FIRE0101_working!C17,0))","v":83832},{"$f":"IF(FIRE0101_working!D17=\"..\",\"..\",ROUND(FIRE0101_working!D17,0))","v":36251},{"$f":"IF(FIRE0101_working!E17=\"..\",\"..\",ROUND(FIRE0101_working!E17,0))","v":641407},{"$f":"IF(FIRE0101_working!F17=\"..\",\"..\",ROUND(FIRE0101_working!F17,0))","v":9743},{"$f":"IF(FIRE0101_working!G17=\"..\",\"..\",ROUND(FIRE0101_working!G17,0))","v":15777},{"$f":"IF(FIRE0101_working!H17=\"..\",\"..\",ROUND(FIRE0101_working!H17,0))","v":11805},{"$f":"IF(FIRE0101_working!I17=\"..\",\"..\",ROUND(FIRE0101_working!I17,0))","v":10363}]
["2013/14",{"$f":"IF(FIRE0101_working!B18=\"..\",\"..\",ROUND(FIRE0101_working!B18,0))","v":526895},{"$f":"IF(FIRE0101_working!C18=\"..\",\"..\",ROUND(FIRE0101_working!C18,0))","v":84882},{"$f":"IF(FIRE0101_working!D18=\"..\",\"..\",ROUND(FIRE0101_working!D18,0))","v":38599},{"$f":"IF(FIRE0101_working!E18=\"..\",\"..\",ROUND(FIRE0101_working!E18,0))","v":650376},{"$f":"IF(FIRE0101_working!F18=\"..\",\"..\",ROUND(FIRE0101_working!F18,0))","v":9772},{"$f":"IF(FIRE0101_working!G18=\"..\",\"..\",ROUND(FIRE0101_working!G18,0))","v":15932},{"$f":"IF(FIRE0101_working!H18=\"..\",\"..\",ROUND(FIRE0101_working!H18,0))","v":12568},{"$f":"IF(FIRE0101_working!I18=\"..\",\"..\",ROUND(FIRE0101_working!I18,0))","v":10437}]
["2014/15",{"$f":"IF(FIRE0101_working!B19=\"..\",\"..\",ROUND(FIRE0101_working!B19,0))","v":496277},{"$f":"IF(FIRE0101_working!C19=\"..\",\"..\",ROUND(FIRE0101_working!C19,0))","v":85050},{"$f":"IF(FIRE0101_working!D19=\"..\",\"..\",ROUND(FIRE0101_working!D19,0))","v":36425},{"$f":"IF(FIRE0101_working!E19=\"..\",\"..\",ROUND(FIRE0101_working!E19,0))","v":617752},{"$f":"IF(FIRE0101_working!F19=\"..\",\"..\",ROUND(FIRE0101_working!F19,0))","v":9128},{"$f":"IF(FIRE0101_working!G19=\"..\",\"..\",ROUND(FIRE0101_working!G19,0))","v":15904},{"$f":"IF(FIRE0101_working!H19=\"..\",\"..\",ROUND(FIRE0101_working!H19,0))","v":11850},{"$f":"IF(FIRE0101_working!I19=\"..\",\"..\",ROUND(FIRE0101_working!I19,0))","v":9838}]
["2015/16",{"$f":"IF(FIRE0101_working!B20=\"..\",\"..\",ROUND(FIRE0101_working!B20,0))","v":529716},{"$f":"IF(FIRE0101_working!C20=\"..\",\"..\",ROUND(FIRE0101_working!C20,0))","v":88869},{"$f":"IF(FIRE0101_working!D20=\"..\",\"..\",ROUND(FIRE0101_working!D20,0))","v":36750},{"$f":"IF(FIRE0101_working!E20=\"..\",\"..\",ROUND(FIRE0101_working!E20,0))","v":655335},{"$f":"IF(FIRE0101_working!F20=\"..\",\"..\",ROUND(FIRE0101_working!F20,0))","v":9665},{"$f":"IF(FIRE0101_working!G20=\"..\",\"..\",ROUND(FIRE0101_working!G20,0))","v":16540},{"$f":"IF(FIRE0101_working!H20=\"..\",\"..\",ROUND(FIRE0101_working!H20,0))","v":11960},{"$f":"IF(FIRE0101_working!I20=\"..\",\"..\",ROUND(FIRE0101_working!I20,0))","v":10360}]
["2016/17",{"$f":"IF(FIRE0101_working!B21=\"..\",\"..\",ROUND(FIRE0101_working!B21,0))","v":560775},{"$f":"IF(FIRE0101_working!C21=\"..\",\"..\",ROUND(FIRE0101_working!C21,0))","v":91261},{"$f":"IF(FIRE0101_working!D21=\"..\",\"..\",ROUND(FIRE0101_working!D21,0))","v":37216},{"$f":"IF(FIRE0101_working!E21=\"..\",\"..\",ROUND(FIRE0101_working!E21,0))","v":689252},{"$f":"IF(FIRE0101_working!F21=\"..\",\"..\",ROUND(FIRE0101_working!F21,0))","v":10143},{"$f":"IF(FIRE0101_working!G21=\"..\",\"..\",ROUND(FIRE0101_working!G21,0))","v":16885},{"$f":"IF(FIRE0101_working!H21=\"..\",\"..\",ROUND(FIRE0101_working!H21,0))","v":12094},{"$f":"IF(FIRE0101_working!I21=\"..\",\"..\",ROUND(FIRE0101_working!I21,0))","v":10808}]
["2017/18",{"$f":"IF(FIRE0101_working!B22=\"..\",\"..\",ROUND(FIRE0101_working!B22,0))","v":566217},{"$f":"IF(FIRE0101_working!C22=\"..\",\"..\",ROUND(FIRE0101_working!C22,0))","v":91901},{"$f":"IF(FIRE0101_working!D22=\"..\",\"..\",ROUND(FIRE0101_working!D22,0))","v":36768},{"$f":"IF(FIRE0101_working!E22=\"..\",\"..\",ROUND(FIRE0101_working!E22,0))","v":694886},{"$f":"IF(FIRE0101_working!F22=\"..\",\"..\",ROUND(FIRE0101_working!F22,0))","v":10180},{"$f":"IF(FIRE0101_working!G22=\"..\",\"..\",ROUND(FIRE0101_working!G22,0))","v":16941},{"$f":"IF(FIRE0101_working!H22=\"..\",\"..\",ROUND(FIRE0101_working!H22,0))","v":11932},{"$f":"IF(FIRE0101_working!I22=\"..\",\"..\",ROUND(FIRE0101_working!I22,0))","v":10836}]
["2018/19",{"$f":"IF(FIRE0101_working!B23=\"..\",\"..\",ROUND(FIRE0101_working!B23,0))","v":576594},{"$f":"IF(FIRE0101_working!C23=\"..\",\"..\",ROUND(FIRE0101_working!C23,0))","v":92748},{"$f":"IF(FIRE0101_working!D23=\"..\",\"..\",ROUND(FIRE0101_working!D23,0))","v":36674},{"$f":"IF(FIRE0101_working!E23=\"..\",\"..\",ROUND(FIRE0101_working!E23,0))","v":706016},{"$f":"IF(FIRE0101_working!F23=\"..\",\"..\",ROUND(FIRE0101_working!F23,0))","v":10310},{"$f":"IF(FIRE0101_working!G23=\"..\",\"..\",ROUND(FIRE0101_working!G23,0))","v":17055},{"$f":"IF(FIRE0101_working!H23=\"..\",\"..\",ROUND(FIRE0101_working!H23,0))","v":11892},{"$f":"IF(FIRE0101_working!I23=\"..\",\"..\",ROUND(FIRE0101_working!I23,0))","v":10955}]
["2019/20",{"$f":"IF(FIRE0101_working!B24=\"..\",\"..\",ROUND(FIRE0101_working!B24,0))","v":558033},{"$f":"IF(FIRE0101_working!C24=\"..\",\"..\",ROUND(FIRE0101_working!C24,0))","v":92075},{"$f":"IF(FIRE0101_working!D24=\"..\",\"..\",ROUND(FIRE0101_working!D24,0))","v":34993},{"$f":"IF(FIRE0101_working!E24=\"..\",\"..\",ROUND(FIRE0101_working!E24,0))","v":685101},{"$f":"IF(FIRE0101_working!F24=\"..\",\"..\",ROUND(FIRE0101_working!F24,0))","v":9924},{"$f":"IF(FIRE0101_working!G24=\"..\",\"..\",ROUND(FIRE0101_working!G24,0))","v":16853},{"$f":"IF(FIRE0101_working!H24=\"..\",\"..\",ROUND(FIRE0101_working!H24,0))","v":11333},{"$f":"IF(FIRE0101_working!I24=\"..\",\"..\",ROUND(FIRE0101_working!I24,0))","v":10576}]
["2020/21",{"$f":"IF(FIRE0101_working!B25=\"..\",\"..\",ROUND(FIRE0101_working!B25,0))","v":518321},{"$f":"IF(FIRE0101_working!C25=\"..\",\"..\",ROUND(FIRE0101_working!C25,0))","v":85613},{"$f":"IF(FIRE0101_working!D25=\"..\",\"..\",ROUND(FIRE0101_working!D25,0))","v":32225},{"$f":"IF(FIRE0101_working!E25=\"..\",\"..\",ROUND(FIRE0101_working!E25,0))","v":636159},{"$f":"IF(FIRE0101_working!F25=\"..\",\"..\",ROUND(FIRE0101_working!F25,0))","v":9202},{"$f":"IF(FIRE0101_working!G25=\"..\",\"..\",ROUND(FIRE0101_working!G25,0))","v":15663},{"$f":"IF(FIRE0101_working!H25=\"..\",\"..\",ROUND(FIRE0101_working!H25,0))","v":10380},{"$f":"IF(FIRE0101_working!I25=\"..\",\"..\",ROUND(FIRE0101_working!I25,0))","v":9803}]
["2021/22",{"$f":"IF(FIRE0101_working!B26=\"..\",\"..\",ROUND(FIRE0101_working!B26,0))","v":577187},{"$f":"IF(FIRE0101_working!C26=\"..\",\"..\",ROUND(FIRE0101_working!C26,0))","v":95734},{"$f":"IF(FIRE0101_working!D26=\"..\",\"..\",ROUND(FIRE0101_working!D26,0))","v":34735},{"$f":"IF(FIRE0101_working!E26=\"..\",\"..\",ROUND(FIRE0101_working!E26,0))","v":707656},{"$f":"IF(FIRE0101_working!F26=\"..\",\"..\",ROUND(FIRE0101_working!F26,0))","v":10206},{"$f":"IF(FIRE0101_working!G26=\"..\",\"..\",ROUND(FIRE0101_working!G26,0))","v":17470},{"$f":"IF(FIRE0101_working!H26=\"..\",\"..\",ROUND(FIRE0101_working!H26,0))","v":11185},{"$f":"IF(FIRE0101_working!I26=\"..\",\"..\",ROUND(FIRE0101_working!I26,0))","v":10864}]
["2022/23",{"$f":"IF(FIRE0101_working!B27=\"..\",\"..\",ROUND(FIRE0101_working!B27,0))","v":622497},{"$f":"IF(FIRE0101_working!C27=\"..\",\"..\",ROUND(FIRE0101_working!C27,0))","v":99532},{"$f":"IF(FIRE0101_working!D27=\"..\",\"..\",ROUND(FIRE0101_working!D27,0))","v":37427},{"$f":"IF(FIRE0101_working!E27=\"..\",\"..\",ROUND(FIRE0101_working!E27,0))","v":759456},{"$f":"IF(FIRE0101_working!F27=\"..\",\"..\",ROUND(FIRE0101_working!F27,0))","v":10901},{"$f":"IF(FIRE0101_working!G27=\"..\",\"..\",ROUND(FIRE0101_working!G27,0))","v":18308},{"$f":"IF(FIRE0101_working!H27=\"..\",\"..\",ROUND(FIRE0101_working!H27,0))","v":11951},{"$f":"IF(FIRE0101_working!I27=\"..\",\"..\",ROUND(FIRE0101_working!I27,0))","v":11564}]
["Footnotes"]
["1 Incidents attended includes fires, fire false alarms and non-fire incidents (special service incidents)."]
["2 Using the Office for National Statistics's mid year population estimates that fall in the relevant financial year. At the time of publication, the mid-2022 population estimate for Scotland was not yet available. The 2022/23 data for Scotland is therefore based on the population estimate in the 2022 Scotland Census - accessible here: "]
["Scotland's Census 2022 - Rounded population estimates | Scotland's Census (scotlandscensus.gov.uk)"]
["3 At the time of publication the rebate mid-year estimates have been used for England - Which can be accessible here",{"$nulls":6},"https://www.ons.gov.uk/peoplepopulationandcommunity/populationandmigration/populationestimates/datasets/estimatesofthepopulationforenglandandwales"]
["Figures for England are from the latest statistical release, published by the Home Office on 25 January 2024. The data in this table are consistent with records that reached the IRS by 13 November2023."]
["4 Figures for Scotland are from the latest statistical release, published by the Scottish Fire and Rescue Service on 31 Ocotber 2023. This included data received by 25 September 2023."]
["5 Figures for Wales are from the latest statistical release, published by the Welsh Government on 26 Ocotber 2023. This included data received by 22 August 2023."]
["6 Figures for Wales from 2001/02 to 2003/04 were published by DCLG. From 2004/05, fire was devolved and from 2004/05 to 2008/09 data are taken from the annual Operational data collection; "]
["2009/10 data onwards are taken from the IRS. Data from 2009/10 onwards have been adjusted to include special service incident false alarms; data previously published for 2004/05 to 2008/09 have not been amended but do include special service incident false alarms."]
["Note on 2009/10:"]
["Before 1 April 2009 fire incident statistics were based on the FDR1 paper form. This approach means the statistics for before this date can be less robust, "]
["especially for non-fire incidents which were based on a sample of returns. Since this date the statistics are based on an online collection tool, the Incident Recording System (IRS)."]
["General note:"]
["Fire data are collected by the Incident Recording System (IRS) which collects information on all incidents attended by fire and rescue services. "]
["For a variety of reasons some records take longer than others for fire and rescue services to upload to the IRS and therefore totals are constantly being amended (by relatively small numbers)."]
[".. denotes data not available."]
["The full set of fire statistics releases, tables and guidance can be found on our landing page, here-"]
["https://www.gov.uk/government/collections/fire-statistics"]
["The statistics in this table for England and Wales are National Statistics. The Scottish Fire and Rescue Service is working towards achieving UK Statistics Authority accreditation."]
["Source: Home Office Incident Recording System"]
["Contact: FireStatistics@homeoffice.gov.uk"]
["Contact: stats.inclusion@gov.wales"]
["Contact: National.Statistics@firescotland.gov.uk"]
["end of table"]