{"text_format":"3","workbook":"xlsx","n_sheets":13,"sheets":["Notes","Collections","DetailList","Find","Search","Changes","CollectionsPending","DetailListPending","RefsLookup","Lookups","Removed","Instuctions","Instructions"],"not_rendered":{"external_links":4,"defined_names":41,"comments":1},"read":"whole","date_system":"1900"}

{"sheet":"Notes","index":0,"n_rows":72,"n_cols":13,"rows_kept":72,"merged":[[4,2,5,11],[6,2,7,11],[26,1,26,11],[29,2,29,11],[32,2,32,11],[34,1,34,11],[37,9,37,12],[38,2,38,12],[40,1,40,10],[71,1,71,10]]}
[]
[null,"Single data list of central government data requirements from local government 2023-24",{"$nulls":10}," ( April 2023)"]
[]
[null,"Contents:"]
[null,{"$f":"HYPERLINK(\"#Collections!A1\",\"Collections\")","v":"Collections"},"The collections list sets out the \"top level\" data collections or returns for each central government department, arm's length body or other public body. There are hyperlinks to the relevant entry in the detailed list as well as links to websites with collection forms/guidance and examples of published data (where available)."]
[]
[null,{"$f":"HYPERLINK(\"#DetailList!A1\",\"Detail list\")","v":"Detail list"},"The detailed list is structured in two tiers - data collections and data topics. Information about each data collection is given in the shaded rows, with more detailed information about data topics within a collection listed underneath."]
[]
[null,{"$f":"HYPERLINK(\"#Find!B4\",\"Find collection\")","v":"Find collection"},"This tool allows you to find, and display information about, individual collections/returns by entering the reference number."]
[null,{"$f":"HYPERLINK(\"#Search!C6\",\"Search collections\")","v":"Search collections"},"This tool allows you to search for any collection/return names that contain the text you enter."]
[null,{"$f":"HYPERLINK(\"#Changes!A1\",\"Changes\")","v":"Changes"},"Record of substantive changes over previous versions of the list."]
[null,{"$f":"HYPERLINK(\"#CollectionsPending!A1\",\"Pending\")","v":"Pending"},"Potential collections which are under discussion, not yet finalised, or not yet agreed for inclusion in the list."]
[]
[null,"Explanation of key fields"]
[null,"Ref","Unique reference number for the collection and data topic."]
[null,{"$f":"HYPERLINK(\"#Notes!B76\",\"Dept\")","v":"Dept"},"The government department or agency responsible for the data collection (see table below)."]
[null,"New","A planned new or extended data collection."]
[null,"Rev.","An existing data collection which is currently being reviewed."]
[null,"National Statistics","If any of the data collected is used in the compilation of National Statistics."]
[null,"EU/Int. legal oblig.","The collection (or part of it) is required to fulfil legal obligations under European/International law and directives."]
[null,"UK legal obligation","The collection (or part of it) is required under UK legislation."]
[null,"Freq.","The frequency with which the collection is made."]
[null,"Authority group","The broad category of local authority the data is collected from (see the Detail List for further details in columns U - AS)."]
[null,"Links","Hyperlinks (where available) to the collection form or guidance, and an example of published data derived from the collection."]
[]
[null,"Notes:"]
[null,"The Single Data List is a list of all data returns that central government requires from local government. Most of the returns listed are completed directly by the local authority but returns are included in the list where the authority has some other form of mandatory involvement, such as in producing the Schools Census."]
[]
[null,"The list does not cover:","● Data returns which local authorities complete voluntarily;"]
[null,null,"● Data which local authorities may be required to provide in the course of applying for, or as a condition of receiving or participating in, a specific grant, project or programme;"]
[null,null,"● Returns not directly relating to their role as local authorities – for example because they are employers;"]
[null,null,"● Ad hoc requests for information; and"]
[null,null,"● Data that councils are required to publish locally to facilitate local accountability but which are not required to be submitted to central government – for example data provided under the Local Government Transparency Code of Recommended Practice."]
[]
[]
[]
[]
[null,"Department for Levelling Up, Housing and Communities"]
[null,"April  2023"]
[]
[null,"https://www.gov.uk/government/policies/making-local-councils-more-transparent-and-accountable-to-local-people/supporting-pages/single-data-list"]
[null,"Departmental acronyms"]
[null,"Dept.","Central government departments"]
[null,"CO","Cabinet Office"]
[null,"DBT/OPSS","Department for Business and Trade - Office  for Product Safety and Standards"]
[null,"DEFRA","Department for Environment, Food and Rural Affairs "]
[null,"DfE","Department for Education "]
[null,"DfT","Department for Transport"]
[null,"DHSC","Department of Health and Social Care"]
[null,"DHSC/OHID","Department of Health and Social Care -  Office for Health Improvement and Disparities "]
[null,"DLUHC","Department for Levelling Up, Housing and Communities"]
[null,"DWP","Department for Work and Pensions "]
[null,"HMT(DLUHC)","HM Treasury (via DLUHC)"]
[null,"HO","Home Office "]
[null,"ALB","Central government's arm's length bodies"]
[null,"DCMS/GC","Department for Culture, Media and Sport - Gambling Commission"]
[null,"DEFRA/EA","Department for Environment, Food and Rural Affairs - Environment Agency"]
[null,"DfE/Ofsted","Department for Education - Office for Standards in Education, Children’s Services and Skills"]
[null,"DfE/ESFA","Department for Education - Education and Skills Funding Agency"]
[null,"DHSC/NHSE","Department of Health and Social Care - National Health Service England"]
[null,"DLUHC/RSH","Department for Levelling Up, Housing and Communities - Regulator of Social Housing  "]
[null,"DWP/HSE","Department for Work and Pensions - Health and Safety Executive"]
[null,"MoJ/YJB","Ministry of Justice - Youth Justice Board"]
[null,"Other","Other independent public bodies"]
[null,"FSA","Food Standards Agency"]
[null,"ONS","Office for National Statistics"]
[null,"Other","Other independent bodies"]
[null,"DHSC/SfC","Department of Health and Social Care - Skills for Care"]
[null,"Other (x)","Other public bodies NOT part of the Single Data List (x)"]
[null,"EC","Electoral Commission"]
[]
[null,"(x) Collections by the Electoral Commission are included here for completeness. The Commission is a body entirely independent from Government, and these returns are not subject to the normal arrangements for the single data list."]

{"sheet":"Collections","index":1,"n_rows":157,"n_cols":25,"rows_kept":157,"merged":[[0,1,0,2]]}
[null,{"$f":"Search!B2","v":"Single data list of central government data requirements from local government 2023-24"},null,"New","Ref",".","Links",null,null,".","Frequency","Authority group","Data topics","Collection type","Comments","Link to return","Link to example of published data","ALB",".","Exists","Position","Type","Offset","Length: ",{"$f":"Lookups!D63+Lookups!D65","v":144}]
[null,{"$f":"IF($T2,OFFSET(DetailList!C$1,$W2,0),\"\")","v":"National Fraud Initiative (NFI)"},{"$f":"IF($T2,OFFSET(DetailList!E$1,$W2,0),\"\")","v":"CO"},{"$f":"IF($T2,OFFSET(DetailList!F$1,$W2,0),\"\")","v":0},{"$f":"IF($T2,OFFSET(DetailList!B$1,$W2,0),\"\")","v":"170-00"},null,{"$f":"IF(AND($T2,$V2=\"C\"),HYPERLINK(\"#DetailList!A\"&W2+1,\"Details\"),\"\")","v":"Details"},{"$f":"IF(AND($T2,$V2=\"C\",NOT(P2=0)),HYPERLINK(P2,\"Collection\"),\"\")","v":""},{"$f":"IF(AND($T2,$V2=\"C\",NOT(Q2=0)),HYPERLINK(Q2,\"Data\"),\"\")","v":"Data"},null,{"$f":"IF(Collections!$T2,OFFSET(DetailList!J$1,$W2,0),\"\")","v":"other-see comments"},{"$f":"IF(Collections!$T2,OFFSET(DetailList!K$1,$W2,0),\"\")","v":"All local authorities"},{"$f":"IF($T2,OFFSET(DetailList!AU$1,$W2,0),\"\")","v":1},{"$f":"IF($T2,OFFSET(DetailList!AS$1,$W2,0),\"\")","v":"client based"},null,{"$f":"IF($T2,OFFSET(DetailList!P$1,$W2,0),\"\")","v":0},{"$f":"IF($T2,OFFSET(DetailList!Q$1,$W2,0),\"\")","v":"https://assets.publishing.service.gov.uk/government/uploads/system/uploads/attachment_data/file/1121678/2022-12-02_NFI_report_2022__12v3__-_JQ.pdf"},{"$f":"IF($T2,OFFSET(DetailList!R$1,$W2,0),\"\")","v":0},null,{"$f":"U2<=Y$1","v":true},2,{"$f":"IF($T2,OFFSET(DetailList!A$1,$W2,0),\"\")","v":"C"},{"$f":"MATCH(U2,DetailList!BG:BG,0)-1","v":172}]
[null,{"$f":"IF($T3,OFFSET(DetailList!C$1,$W3,0),\"\")","v":"Weights and measures enforcement (section 70)"},{"$f":"IF($T3,OFFSET(DetailList!E$1,$W3,0),\"\")","v":"DBT/OPSS"},{"$f":"IF($T3,OFFSET(DetailList!F$1,$W3,0),\"\")","v":0},{"$f":"IF($T3,OFFSET(DetailList!B$1,$W3,0),\"\")","v":"001-00"},null,"Details","Collection","",null,{"$f":"IF(Collections!$T3,OFFSET(DetailList!J$1,$W3,0),\"\")","v":"annual"},{"$f":"IF(Collections!$T3,OFFSET(DetailList!K$1,$W3,0),\"\")","v":"Upper tier & single tier"},{"$f":"IF($T3,OFFSET(DetailList!AU$1,$W3,0),\"\")","v":2},{"$f":"IF($T3,OFFSET(DetailList!AS$1,$W3,0),\"\")","v":"aggregate/summary"},"Most is every two years but some aspects are annual. ",{"$f":"IF($T3,OFFSET(DetailList!P$1,$W3,0),\"\")","v":"www.gov.uk/government/publications/section-70-weights-and-measures-returns-and-reports"},{"$f":"IF($T3,OFFSET(DetailList!Q$1,$W3,0),\"\")","v":0},null,null,true,3,{"$f":"IF($T3,OFFSET(DetailList!A$1,$W3,0),\"\")","v":"C"},{"$f":"MATCH(U3,DetailList!BG:BG,0)-1","v":1}]
[null,{"$f":"IF($T4,OFFSET(DetailList!C$1,$W4,0),\"\")","v":"Animal activities licensing data return"},{"$f":"IF($T4,OFFSET(DetailList!E$1,$W4,0),\"\")","v":"DEFRA"},{"$f":"IF($T4,OFFSET(DetailList!F$1,$W4,0),\"\")","v":0},{"$f":"IF($T4,OFFSET(DetailList!B$1,$W4,0),\"\")","v":"266-00"},null,"Details","","",null,{"$f":"IF(Collections!$T4,OFFSET(DetailList!J$1,$W4,0),\"\")","v":"annual"},{"$f":"IF(Collections!$T4,OFFSET(DetailList!K$1,$W4,0),\"\")","v":"All local authorities"},{"$f":"IF($T4,OFFSET(DetailList!AU$1,$W4,0),\"\")","v":1},{"$f":"IF($T4,OFFSET(DetailList!AS$1,$W4,0),\"\")","v":0},null,{"$f":"IF($T4,OFFSET(DetailList!P$1,$W4,0),\"\")","v":0},{"$f":"IF($T4,OFFSET(DetailList!Q$1,$W4,0),\"\")","v":0},{"$f":"IF($T4,OFFSET(DetailList!R$1,$W4,0),\"\")","v":0},null,true,4,{"$f":"IF($T4,OFFSET(DetailList!A$1,$W4,0),\"\")","v":"C"},{"$f":"MATCH(U4,DetailList!BG:BG,0)-1","v":218}]
[null,{"$f":"IF($T5,OFFSET(DetailList!C$1,$W5,0),\"\")","v":"Animal Welfare: during transport"},{"$f":"IF($T5,OFFSET(DetailList!E$1,$W5,0),\"\")","v":"DEFRA"},{"$f":"IF($T5,OFFSET(DetailList!F$1,$W5,0),\"\")","v":0},{"$f":"IF($T5,OFFSET(DetailList!B$1,$W5,0),\"\")","v":"069-00"},null,"Details","","",null,{"$f":"IF(Collections!$T5,OFFSET(DetailList!J$1,$W5,0),\"\")","v":"annual"},{"$f":"IF(Collections!$T5,OFFSET(DetailList!K$1,$W5,0),\"\")","v":"All local authorities"},{"$f":"IF($T5,OFFSET(DetailList!AU$1,$W5,0),\"\")","v":1},{"$f":"IF($T5,OFFSET(DetailList!AS$1,$W5,0),\"\")","v":"case based"},null,{"$f":"IF($T5,OFFSET(DetailList!P$1,$W5,0),\"\")","v":0},{"$f":"IF($T5,OFFSET(DetailList!Q$1,$W5,0),\"\")","v":0},{"$f":"IF($T5,OFFSET(DetailList!R$1,$W5,0),\"\")","v":0},null,true,5,{"$f":"IF($T5,OFFSET(DetailList!A$1,$W5,0),\"\")","v":"C"},{"$f":"MATCH(U5,DetailList!BG:BG,0)-1","v":176}]
[null,{"$f":"IF($T6,OFFSET(DetailList!C$1,$W6,0),\"\")","v":"Animal Health & Welfare Management and Enforcement System (AMES)"},{"$f":"IF($T6,OFFSET(DetailList!E$1,$W6,0),\"\")","v":"DEFRA"},{"$f":"IF($T6,OFFSET(DetailList!F$1,$W6,0),\"\")","v":0},{"$f":"IF($T6,OFFSET(DetailList!B$1,$W6,0),\"\")","v":"071-00"},null,"Details","","",null,{"$f":"IF(Collections!$T6,OFFSET(DetailList!J$1,$W6,0),\"\")","v":"continuous"},{"$f":"IF(Collections!$T6,OFFSET(DetailList!K$1,$W6,0),\"\")","v":"All local authorities"},{"$f":"IF($T6,OFFSET(DetailList!AU$1,$W6,0),\"\")","v":10},{"$f":"IF($T6,OFFSET(DetailList!AS$1,$W6,0),\"\")","v":"case based"},null,{"$f":"IF($T6,OFFSET(DetailList!P$1,$W6,0),\"\")","v":0},{"$f":"IF($T6,OFFSET(DetailList!Q$1,$W6,0),\"\")","v":0},{"$f":"IF($T6,OFFSET(DetailList!R$1,$W6,0),\"\")","v":0},null,true,6,{"$f":"IF($T6,OFFSET(DetailList!A$1,$W6,0),\"\")","v":"C"},{"$f":"MATCH(U6,DetailList!BG:BG,0)-1","v":178}]
[null,{"$f":"IF($T7,OFFSET(DetailList!C$1,$W7,0),\"\")","v":"Return of expenditure incurred and prosecutions undertaken under the Animal Health Act 1981 and incidences of disease in imported animals"},{"$f":"IF($T7,OFFSET(DetailList!E$1,$W7,0),\"\")","v":"DEFRA"},{"$f":"IF($T7,OFFSET(DetailList!F$1,$W7,0),\"\")","v":0},{"$f":"IF($T7,OFFSET(DetailList!B$1,$W7,0),\"\")","v":"073-00"},null,"Details","","",null,{"$f":"IF(Collections!$T7,OFFSET(DetailList!J$1,$W7,0),\"\")","v":"every 6 months"},{"$f":"IF(Collections!$T7,OFFSET(DetailList!K$1,$W7,0),\"\")","v":"All local authorities"},{"$f":"IF($T7,OFFSET(DetailList!AU$1,$W7,0),\"\")","v":1},{"$f":"IF($T7,OFFSET(DetailList!AS$1,$W7,0),\"\")","v":"case based"},null,{"$f":"IF($T7,OFFSET(DetailList!P$1,$W7,0),\"\")","v":0},{"$f":"IF($T7,OFFSET(DetailList!Q$1,$W7,0),\"\")","v":0},{"$f":"IF($T7,OFFSET(DetailList!R$1,$W7,0),\"\")","v":0},null,true,7,{"$f":"IF($T7,OFFSET(DetailList!A$1,$W7,0),\"\")","v":"C"},{"$f":"MATCH(U7,DetailList!BG:BG,0)-1","v":189}]
[null,{"$f":"IF($T8,OFFSET(DetailList!C$1,$W8,0),\"\")","v":"Local Pollution Control Statistical Survey (LPCSS)"},{"$f":"IF($T8,OFFSET(DetailList!E$1,$W8,0),\"\")","v":"DEFRA"},{"$f":"IF($T8,OFFSET(DetailList!F$1,$W8,0),\"\")","v":0},{"$f":"IF($T8,OFFSET(DetailList!B$1,$W8,0),\"\")","v":"075-00"},null,"Details","","Data",null,{"$f":"IF(Collections!$T8,OFFSET(DetailList!J$1,$W8,0),\"\")","v":"annual"},{"$f":"IF(Collections!$T8,OFFSET(DetailList!K$1,$W8,0),\"\")","v":"Single tier & lower tier"},{"$f":"IF($T8,OFFSET(DetailList!AU$1,$W8,0),\"\")","v":6},{"$f":"IF($T8,OFFSET(DetailList!AS$1,$W8,0),\"\")","v":"aggregate/summary"},null,{"$f":"IF($T8,OFFSET(DetailList!P$1,$W8,0),\"\")","v":0},{"$f":"IF($T8,OFFSET(DetailList!Q$1,$W8,0),\"\")","v":"https://www.gov.uk/government/publications/local-pollution-control-statistics--2"},{"$f":"IF($T8,OFFSET(DetailList!R$1,$W8,0),\"\")","v":0},null,true,8,{"$f":"IF($T8,OFFSET(DetailList!A$1,$W8,0),\"\")","v":"C"},{"$f":"MATCH(U8,DetailList!BG:BG,0)-1","v":191}]
[null,{"$f":"IF($T9,OFFSET(DetailList!C$1,$W9,0),\"\")","v":"Flood and coastal erosion risk management and sustainable drainage systems"},{"$f":"IF($T9,OFFSET(DetailList!E$1,$W9,0),\"\")","v":"DEFRA"},{"$f":"IF($T9,OFFSET(DetailList!F$1,$W9,0),\"\")","v":0},{"$f":"IF($T9,OFFSET(DetailList!B$1,$W9,0),\"\")","v":"080-00"},null,"Details","","",null,{"$f":"IF(Collections!$T9,OFFSET(DetailList!J$1,$W9,0),\"\")","v":"annual"},{"$f":"IF(Collections!$T9,OFFSET(DetailList!K$1,$W9,0),\"\")","v":"Upper tier & single tier"},{"$f":"IF($T9,OFFSET(DetailList!AU$1,$W9,0),\"\")","v":4},{"$f":"IF($T9,OFFSET(DetailList!AS$1,$W9,0),\"\")","v":"aggregate/summary"},null,{"$f":"IF($T9,OFFSET(DetailList!P$1,$W9,0),\"\")","v":0},{"$f":"IF($T9,OFFSET(DetailList!Q$1,$W9,0),\"\")","v":0},{"$f":"IF($T9,OFFSET(DetailList!R$1,$W9,0),\"\")","v":0},null,true,9,{"$f":"IF($T9,OFFSET(DetailList!A$1,$W9,0),\"\")","v":"C"},{"$f":"MATCH(U9,DetailList!BG:BG,0)-1","v":198}]
[null,{"$f":"IF($T10,OFFSET(DetailList!C$1,$W10,0),\"\")","v":"Local nature conservation/biodiversity"},{"$f":"IF($T10,OFFSET(DetailList!E$1,$W10,0),\"\")","v":"DEFRA"},{"$f":"IF($T10,OFFSET(DetailList!F$1,$W10,0),\"\")","v":0},{"$f":"IF($T10,OFFSET(DetailList!B$1,$W10,0),\"\")","v":"160-00"},null,"Details","","Data",null,{"$f":"IF(Collections!$T10,OFFSET(DetailList!J$1,$W10,0),\"\")","v":"annual"},{"$f":"IF(Collections!$T10,OFFSET(DetailList!K$1,$W10,0),\"\")","v":"Upper tier & single tier"},{"$f":"IF($T10,OFFSET(DetailList!AU$1,$W10,0),\"\")","v":1},{"$f":"IF($T10,OFFSET(DetailList!AS$1,$W10,0),\"\")","v":"aggregate/summary"},null,{"$f":"IF($T10,OFFSET(DetailList!P$1,$W10,0),\"\")","v":0},{"$f":"IF($T10,OFFSET(DetailList!Q$1,$W10,0),\"\")","v":"https://www.gov.uk/government/statistical-data-sets/env10-local-sites-in-positive-conservation-management"},{"$f":"IF($T10,OFFSET(DetailList!R$1,$W10,0),\"\")","v":0},null,true,10,{"$f":"IF($T10,OFFSET(DetailList!A$1,$W10,0),\"\")","v":"C"},{"$f":"MATCH(U10,DetailList!BG:BG,0)-1","v":203}]
[null,{"$f":"IF($T11,OFFSET(DetailList!C$1,$W11,0),\"\")","v":"WasteDataFlow - LA waste management statistics"},{"$f":"IF($T11,OFFSET(DetailList!E$1,$W11,0),\"\")","v":"DEFRA"},{"$f":"IF($T11,OFFSET(DetailList!F$1,$W11,0),\"\")","v":0},{"$f":"IF($T11,OFFSET(DetailList!B$1,$W11,0),\"\")","v":"082-00"},null,"Details","Collection","Data",null,{"$f":"IF(Collections!$T11,OFFSET(DetailList!J$1,$W11,0),\"\")","v":"quarterly"},{"$f":"IF(Collections!$T11,OFFSET(DetailList!K$1,$W11,0),\"\")","v":"All local authorities"},{"$f":"IF($T11,OFFSET(DetailList!AU$1,$W11,0),\"\")","v":1},{"$f":"IF($T11,OFFSET(DetailList!AS$1,$W11,0),\"\")","v":"aggregate/summary"},null,{"$f":"IF($T11,OFFSET(DetailList!P$1,$W11,0),\"\")","v":"WasteDataFlow Waste Management"},{"$f":"IF($T11,OFFSET(DetailList!Q$1,$W11,0),\"\")","v":"Local authority collected waste management - annual results - GOV.UK (www.gov.uk)"},{"$f":"IF($T11,OFFSET(DetailList!R$1,$W11,0),\"\")","v":0},null,true,11,{"$f":"IF($T11,OFFSET(DetailList!A$1,$W11,0),\"\")","v":"C"},{"$f":"MATCH(U11,DetailList!BG:BG,0)-1","v":205}]
[null,{"$f":"IF($T12,OFFSET(DetailList!C$1,$W12,0),\"\")","v":"Local Authority Private Water Supplies Data submission"},{"$f":"IF($T12,OFFSET(DetailList!E$1,$W12,0),\"\")","v":"DEFRA"},{"$f":"IF($T12,OFFSET(DetailList!F$1,$W12,0),\"\")","v":0},{"$f":"IF($T12,OFFSET(DetailList!B$1,$W12,0),\"\")","v":"083-00"},null,"Details","","Data",null,{"$f":"IF(Collections!$T12,OFFSET(DetailList!J$1,$W12,0),\"\")","v":"annual"},{"$f":"IF(Collections!$T12,OFFSET(DetailList!K$1,$W12,0),\"\")","v":"Single tier & lower tier"},{"$f":"IF($T12,OFFSET(DetailList!AU$1,$W12,0),\"\")","v":2},{"$f":"IF($T12,OFFSET(DetailList!AS$1,$W12,0),\"\")","v":"case based"},null,{"$f":"IF($T12,OFFSET(DetailList!P$1,$W12,0),\"\")","v":0},{"$f":"IF($T12,OFFSET(DetailList!Q$1,$W12,0),\"\")","v":"http://dwi.defra.gov.uk/about/annual-report/index.htm"},{"$f":"IF($T12,OFFSET(DetailList!R$1,$W12,0),\"\")","v":0},null,true,12,{"$f":"IF($T12,OFFSET(DetailList!A$1,$W12,0),\"\")","v":"C"},{"$f":"MATCH(U12,DetailList!BG:BG,0)-1","v":207}]
[null,{"$f":"IF($T13,OFFSET(DetailList!C$1,$W13,0),\"\")","v":"Pollutant Release and Transfer Registers"},{"$f":"IF($T13,OFFSET(DetailList!E$1,$W13,0),\"\")","v":"DEFRA"},{"$f":"IF($T13,OFFSET(DetailList!F$1,$W13,0),\"\")","v":0},{"$f":"IF($T13,OFFSET(DetailList!B$1,$W13,0),\"\")","v":"256-00"},null,"Details","","Data",null,{"$f":"IF(Collections!$T13,OFFSET(DetailList!J$1,$W13,0),\"\")","v":"annual"},{"$f":"IF(Collections!$T13,OFFSET(DetailList!K$1,$W13,0),\"\")","v":"Single tier & lower tier"},{"$f":"IF($T13,OFFSET(DetailList!AU$1,$W13,0),\"\")","v":2},{"$f":"IF($T13,OFFSET(DetailList!AS$1,$W13,0),\"\")","v":0},null,{"$f":"IF($T13,OFFSET(DetailList!P$1,$W13,0),\"\")","v":0},{"$f":"IF($T13,OFFSET(DetailList!Q$1,$W13,0),\"\")","v":"http://prtr.defra.gov.uk/"},{"$f":"IF($T13,OFFSET(DetailList!R$1,$W13,0),\"\")","v":0},null,true,13,{"$f":"IF($T13,OFFSET(DetailList!A$1,$W13,0),\"\")","v":"C"},{"$f":"MATCH(U13,DetailList!BG:BG,0)-1","v":210}]
[null,{"$f":"IF($T14,OFFSET(DetailList!C$1,$W14,0),\"\")","v":"Local Authorities statistical information on Smallholdings (County Farms)"},{"$f":"IF($T14,OFFSET(DetailList!E$1,$W14,0),\"\")","v":"DEFRA"},{"$f":"IF($T14,OFFSET(DetailList!F$1,$W14,0),\"\")","v":0},{"$f":"IF($T14,OFFSET(DetailList!B$1,$W14,0),\"\")","v":"257-00"},null,"Details","","",null,{"$f":"IF(Collections!$T14,OFFSET(DetailList!J$1,$W14,0),\"\")","v":"annual"},{"$f":"IF(Collections!$T14,OFFSET(DetailList!K$1,$W14,0),\"\")","v":"Upper tier & single tier"},{"$f":"IF($T14,OFFSET(DetailList!AU$1,$W14,0),\"\")","v":4},{"$f":"IF($T14,OFFSET(DetailList!AS$1,$W14,0),\"\")","v":0},null,{"$f":"IF($T14,OFFSET(DetailList!P$1,$W14,0),\"\")","v":0},{"$f":"IF($T14,OFFSET(DetailList!Q$1,$W14,0),\"\")","v":0},{"$f":"IF($T14,OFFSET(DetailList!R$1,$W14,0),\"\")","v":0},null,true,14,{"$f":"IF($T14,OFFSET(DetailList!A$1,$W14,0),\"\")","v":"C"},{"$f":"MATCH(U14,DetailList!BG:BG,0)-1","v":213}]
[null,{"$f":"IF($T15,OFFSET(DetailList!C$1,$W15,0),\"\")","v":"Children in Need Census"},{"$f":"IF($T15,OFFSET(DetailList!E$1,$W15,0),\"\")","v":"DfE"},{"$f":"IF($T15,OFFSET(DetailList!F$1,$W15,0),\"\")","v":0},{"$f":"IF($T15,OFFSET(DetailList!B$1,$W15,0),\"\")","v":"087-00"},null,"Details","Collection","Data",null,{"$f":"IF(Collections!$T15,OFFSET(DetailList!J$1,$W15,0),\"\")","v":"annual"},{"$f":"IF(Collections!$T15,OFFSET(DetailList!K$1,$W15,0),\"\")","v":"Upper tier & single tier"},{"$f":"IF($T15,OFFSET(DetailList!AU$1,$W15,0),\"\")","v":8},{"$f":"IF($T15,OFFSET(DetailList!AS$1,$W15,0),\"\")","v":"client based"},null,{"$f":"IF($T15,OFFSET(DetailList!P$1,$W15,0),\"\")","v":"https://www.gov.uk/government/collections/statistics-children-in-need"},{"$f":"IF($T15,OFFSET(DetailList!Q$1,$W15,0),\"\")","v":"https://explore-education-statistics.service.gov.uk/find-statistics/characteristics-of-children-in-need"},{"$f":"IF($T15,OFFSET(DetailList!R$1,$W15,0),\"\")","v":0},null,true,15,{"$f":"IF($T15,OFFSET(DetailList!A$1,$W15,0),\"\")","v":"C"},{"$f":"MATCH(U15,DetailList!BG:BG,0)-1","v":230}]
[null,{"$f":"IF($T16,OFFSET(DetailList!C$1,$W16,0),\"\")","v":"Children Looked After (CLA) (SSDA903)"},{"$f":"IF($T16,OFFSET(DetailList!E$1,$W16,0),\"\")","v":"DfE"},{"$f":"IF($T16,OFFSET(DetailList!F$1,$W16,0),\"\")","v":0},{"$f":"IF($T16,OFFSET(DetailList!B$1,$W16,0),\"\")","v":"088-00"},null,"Details","Collection","Data",null,{"$f":"IF(Collections!$T16,OFFSET(DetailList!J$1,$W16,0),\"\")","v":"annual"},{"$f":"IF(Collections!$T16,OFFSET(DetailList!K$1,$W16,0),\"\")","v":"Upper tier & single tier"},{"$f":"IF($T16,OFFSET(DetailList!AU$1,$W16,0),\"\")","v":8},{"$f":"IF($T16,OFFSET(DetailList!AS$1,$W16,0),\"\")","v":"client based"},null,{"$f":"IF($T16,OFFSET(DetailList!P$1,$W16,0),\"\")","v":"Children looked after return 2https://www.gov.uk/government/publications/children-looked-after-return-2022-to-2023-guide022 to 2023: guide - GOV.UK (www.gov.uk)"},{"$f":"IF($T16,OFFSET(DetailList!Q$1,$W16,0),\"\")","v":"https://www.gov.uk/childcare-parenting/data-collection-for-looked-after-childrenChildren looked after in England including adoptions, Reporting Year 2022 – Explore education statistics – GOV.UK (explore-education-statistics.service.gov.uk)"},{"$f":"IF($T16,OFFSET(DetailList!R$1,$W16,0),\"\")","v":0},null,true,16,{"$f":"IF($T16,OFFSET(DetailList!A$1,$W16,0),\"\")","v":"C"},{"$f":"MATCH(U16,DetailList!BG:BG,0)-1","v":239}]
[null,{"$f":"IF($T17,OFFSET(DetailList!C$1,$W17,0),\"\")","v":"Children's Social Care Work Workforce"},{"$f":"IF($T17,OFFSET(DetailList!E$1,$W17,0),\"\")","v":"DfE"},{"$f":"IF($T17,OFFSET(DetailList!F$1,$W17,0),\"\")","v":0},{"$f":"IF($T17,OFFSET(DetailList!B$1,$W17,0),\"\")","v":"091-00"},null,"Details","Collection","Data",null,{"$f":"IF(Collections!$T17,OFFSET(DetailList!J$1,$W17,0),\"\")","v":"annual"},{"$f":"IF(Collections!$T17,OFFSET(DetailList!K$1,$W17,0),\"\")","v":"Upper tier & single tier"},{"$f":"IF($T17,OFFSET(DetailList!AU$1,$W17,0),\"\")","v":2},{"$f":"IF($T17,OFFSET(DetailList!AS$1,$W17,0),\"\")","v":"n/k"},null,{"$f":"IF($T17,OFFSET(DetailList!P$1,$W17,0),\"\")","v":"https://www.gov.uk/guidance/children-looked-after-return-guide-to-submitting-data"},{"$f":"IF($T17,OFFSET(DetailList!Q$1,$W17,0),\"\")","v":"https://www.gov.uk/government/collections/statistics-childrens-social-care-workforce"},{"$f":"IF($T17,OFFSET(DetailList!R$1,$W17,0),\"\")","v":0},null,true,17,{"$f":"IF($T17,OFFSET(DetailList!A$1,$W17,0),\"\")","v":"C"},{"$f":"MATCH(U17,DetailList!BG:BG,0)-1","v":248}]
[null,{"$f":"IF($T18,OFFSET(DetailList!C$1,$W18,0),\"\")","v":"Secure Children's Homes (SA1)"},{"$f":"IF($T18,OFFSET(DetailList!E$1,$W18,0),\"\")","v":"DfE"},{"$f":"IF($T18,OFFSET(DetailList!F$1,$W18,0),\"\")","v":0},{"$f":"IF($T18,OFFSET(DetailList!B$1,$W18,0),\"\")","v":"092-00"},null,"Details","Collection","Data",null,{"$f":"IF(Collections!$T18,OFFSET(DetailList!J$1,$W18,0),\"\")","v":"annual"},{"$f":"IF(Collections!$T18,OFFSET(DetailList!K$1,$W18,0),\"\")","v":"Upper tier & single tier"},{"$f":"IF($T18,OFFSET(DetailList!AU$1,$W18,0),\"\")","v":2},{"$f":"IF($T18,OFFSET(DetailList!AS$1,$W18,0),\"\")","v":"aggregate/summary"},null,{"$f":"IF($T18,OFFSET(DetailList!P$1,$W18,0),\"\")","v":"https://www.gov.uk/government/collections/statistics-secure-children-s-homes"},{"$f":"IF($T18,OFFSET(DetailList!Q$1,$W18,0),\"\")","v":"https://www.gov.https://www.gov.uk/government/statistics/children-accommodated-in-secure-childrens-homes-27-may-2021uk/government/statistics/children-accommodated-in-secure-childrens-homes-27-may-2021"},{"$f":"IF($T18,OFFSET(DetailList!R$1,$W18,0),\"\")","v":0},null,true,18,{"$f":"IF($T18,OFFSET(DetailList!A$1,$W18,0),\"\")","v":"C"},{"$f":"MATCH(U18,DetailList!BG:BG,0)-1","v":251}]
[null,{"$f":"IF($T19,OFFSET(DetailList!C$1,$W19,0),\"\")","v":"Early Years Census"},{"$f":"IF($T19,OFFSET(DetailList!E$1,$W19,0),\"\")","v":"DfE"},{"$f":"IF($T19,OFFSET(DetailList!F$1,$W19,0),\"\")","v":0},{"$f":"IF($T19,OFFSET(DetailList!B$1,$W19,0),\"\")","v":"096-00"},null,"Details","Collection","",null,{"$f":"IF(Collections!$T19,OFFSET(DetailList!J$1,$W19,0),\"\")","v":"annual"},{"$f":"IF(Collections!$T19,OFFSET(DetailList!K$1,$W19,0),\"\")","v":"Upper tier & single tier"},{"$f":"IF($T19,OFFSET(DetailList!AU$1,$W19,0),\"\")","v":10},{"$f":"IF($T19,OFFSET(DetailList!AS$1,$W19,0),\"\")","v":"client based"},null,{"$f":"IF($T19,OFFSET(DetailList!P$1,$W19,0),\"\")","v":"https://www.gov.uk/government/collections/early-years-census"},{"$f":"IF($T19,OFFSET(DetailList!Q$1,$W19,0),\"\")","v":0},{"$f":"IF($T19,OFFSET(DetailList!R$1,$W19,0),\"\")","v":0},null,true,19,{"$f":"IF($T19,OFFSET(DetailList!A$1,$W19,0),\"\")","v":"C"},{"$f":"MATCH(U19,DetailList!BG:BG,0)-1","v":254}]
[null,{"$f":"IF($T20,OFFSET(DetailList!C$1,$W20,0),\"\")","v":"Early Years Foundation Stage Profile (EYFSP)"},{"$f":"IF($T20,OFFSET(DetailList!E$1,$W20,0),\"\")","v":"DfE"},{"$f":"IF($T20,OFFSET(DetailList!F$1,$W20,0),\"\")","v":0},{"$f":"IF($T20,OFFSET(DetailList!B$1,$W20,0),\"\")","v":"098-00"},null,"Details","Collection","Data",null,{"$f":"IF(Collections!$T20,OFFSET(DetailList!J$1,$W20,0),\"\")","v":"annual"},{"$f":"IF(Collections!$T20,OFFSET(DetailList!K$1,$W20,0),\"\")","v":"Upper tier & single tier"},{"$f":"IF($T20,OFFSET(DetailList!AU$1,$W20,0),\"\")","v":2},{"$f":"IF($T20,OFFSET(DetailList!AS$1,$W20,0),\"\")","v":"client based"},null,{"$f":"IF($T20,OFFSET(DetailList!P$1,$W20,0),\"\")","v":"Early years foundation sthttps://www.gov.uk/guidance/early-years-foundation-stage-profile-return-how-to-submit-dataage profile return: how to submit data - GOV.UK (www.gov.uk)"},{"$f":"IF($T20,OFFSET(DetailList!Q$1,$W20,0),\"\")","v":"https://www.gov.uk/government/publications/early-years-foundation-stage-profile-return-2022-guide"},{"$f":"IF($T20,OFFSET(DetailList!R$1,$W20,0),\"\")","v":0},null,true,20,{"$f":"IF($T20,OFFSET(DetailList!A$1,$W20,0),\"\")","v":"C"},{"$f":"MATCH(U20,DetailList!BG:BG,0)-1","v":265}]
[null,{"$f":"IF($T21,OFFSET(DetailList!C$1,$W21,0),\"\")","v":"Admissions: Parental Preferences met"},{"$f":"IF($T21,OFFSET(DetailList!E$1,$W21,0),\"\")","v":"DfE"},{"$f":"IF($T21,OFFSET(DetailList!F$1,$W21,0),\"\")","v":0},{"$f":"IF($T21,OFFSET(DetailList!B$1,$W21,0),\"\")","v":"100-00"},null,"Details","Collection","Data",null,{"$f":"IF(Collections!$T21,OFFSET(DetailList!J$1,$W21,0),\"\")","v":"annual"},{"$f":"IF(Collections!$T21,OFFSET(DetailList!K$1,$W21,0),\"\")","v":"Upper tier & single tier"},{"$f":"IF($T21,OFFSET(DetailList!AU$1,$W21,0),\"\")","v":3},{"$f":"IF($T21,OFFSET(DetailList!AS$1,$W21,0),\"\")","v":"client based"},null,{"$f":"IF($T21,OFFSET(DetailList!P$1,$W21,0),\"\")","v":"https://www.gov.uk/government/collections/school-preference-data-collections"},{"$f":"IF($T21,OFFSET(DetailList!Q$1,$W21,0),\"\")","v":"https://www.gov.uk/government/collections/statistics-school-applications"},{"$f":"IF($T21,OFFSET(DetailList!R$1,$W21,0),\"\")","v":0},null,true,21,{"$f":"IF($T21,OFFSET(DetailList!A$1,$W21,0),\"\")","v":"C"},{"$f":"MATCH(U21,DetailList!BG:BG,0)-1","v":268}]
[null,{"$f":"IF($T22,OFFSET(DetailList!C$1,$W22,0),\"\")","v":"Admissions: report to the School Adjudicator"},{"$f":"IF($T22,OFFSET(DetailList!E$1,$W22,0),\"\")","v":"DfE"},{"$f":"IF($T22,OFFSET(DetailList!F$1,$W22,0),\"\")","v":0},{"$f":"IF($T22,OFFSET(DetailList!B$1,$W22,0),\"\")","v":"101-00"},null,"Details","","Data",null,{"$f":"IF(Collections!$T22,OFFSET(DetailList!J$1,$W22,0),\"\")","v":"annual"},{"$f":"IF(Collections!$T22,OFFSET(DetailList!K$1,$W22,0),\"\")","v":"Upper tier & single tier"},{"$f":"IF($T22,OFFSET(DetailList!AU$1,$W22,0),\"\")","v":1},{"$f":"IF($T22,OFFSET(DetailList!AS$1,$W22,0),\"\")","v":"aggregate/summary"},null,{"$f":"IF($T22,OFFSET(DetailList!P$1,$W22,0),\"\")","v":0},{"$f":"IF($T22,OFFSET(DetailList!Q$1,$W22,0),\"\")","v":"https://www.gov.uk/government/publications/osa-annual-report"},{"$f":"IF($T22,OFFSET(DetailList!R$1,$W22,0),\"\")","v":0},null,true,22,{"$f":"IF($T22,OFFSET(DetailList!A$1,$W22,0),\"\")","v":"C"},{"$f":"MATCH(U22,DetailList!BG:BG,0)-1","v":272}]
[null,{"$f":"IF($T23,OFFSET(DetailList!C$1,$W23,0),\"\")","v":"Key Stage assessment data"},{"$f":"IF($T23,OFFSET(DetailList!E$1,$W23,0),\"\")","v":"DfE"},{"$f":"IF($T23,OFFSET(DetailList!F$1,$W23,0),\"\")","v":0},{"$f":"IF($T23,OFFSET(DetailList!B$1,$W23,0),\"\")","v":"161-00"},null,"Details","Collection","Data",null,{"$f":"IF(Collections!$T23,OFFSET(DetailList!J$1,$W23,0),\"\")","v":"annual"},{"$f":"IF(Collections!$T23,OFFSET(DetailList!K$1,$W23,0),\"\")","v":"Upper tier & single tier"},{"$f":"IF($T23,OFFSET(DetailList!AU$1,$W23,0),\"\")","v":2},{"$f":"IF($T23,OFFSET(DetailList!AS$1,$W23,0),\"\")","v":"client based"},null,{"$f":"IF($T23,OFFSET(DetailList!P$1,$W23,0),\"\")","v":"https://www.gov.uk/guidance/key-stage-1-assessments"},{"$f":"IF($T23,OFFSET(DetailList!Q$1,$W23,0),\"\")","v":"https://explore-education-statistics.service.gov.uk/find-statistics/key-stage-1-and-phonics-screening-check-attainment"},{"$f":"IF($T23,OFFSET(DetailList!R$1,$W23,0),\"\")","v":0},null,true,23,{"$f":"IF($T23,OFFSET(DetailList!A$1,$W23,0),\"\")","v":"C"},{"$f":"MATCH(U23,DetailList!BG:BG,0)-1","v":274}]
[null,{"$f":"IF($T24,OFFSET(DetailList!C$1,$W24,0),\"\")","v":"School Census"},{"$f":"IF($T24,OFFSET(DetailList!E$1,$W24,0),\"\")","v":"DfE"},{"$f":"IF($T24,OFFSET(DetailList!F$1,$W24,0),\"\")","v":0},{"$f":"IF($T24,OFFSET(DetailList!B$1,$W24,0),\"\")","v":"159-00"},null,"Details","Collection","Data",null,{"$f":"IF(Collections!$T24,OFFSET(DetailList!J$1,$W24,0),\"\")","v":"termly (3/year)"},{"$f":"IF(Collections!$T24,OFFSET(DetailList!K$1,$W24,0),\"\")","v":"Upper tier & single tier"},{"$f":"IF($T24,OFFSET(DetailList!AU$1,$W24,0),\"\")","v":14},{"$f":"IF($T24,OFFSET(DetailList!AS$1,$W24,0),\"\")","v":"client based"},null,{"$f":"IF($T24,OFFSET(DetailList!P$1,$W24,0),\"\")","v":"https://www.gov.uk/government/collections/school-census \n"},{"$f":"IF($T24,OFFSET(DetailList!Q$1,$W24,0),\"\")","v":"https://www.gov.uk/government/collections/statistics-school-and-pupil-numbers"},{"$f":"IF($T24,OFFSET(DetailList!R$1,$W24,0),\"\")","v":0},null,true,24,{"$f":"IF($T24,OFFSET(DetailList!A$1,$W24,0),\"\")","v":"C"},{"$f":"MATCH(U24,DetailList!BG:BG,0)-1","v":277}]
[null,{"$f":"IF($T25,OFFSET(DetailList!C$1,$W25,0),\"\")","v":"Alternative Provision Census"},{"$f":"IF($T25,OFFSET(DetailList!E$1,$W25,0),\"\")","v":"DfE"},{"$f":"IF($T25,OFFSET(DetailList!F$1,$W25,0),\"\")","v":0},{"$f":"IF($T25,OFFSET(DetailList!B$1,$W25,0),\"\")","v":"102-00"},null,"Details","Collection","Data",null,{"$f":"IF(Collections!$T25,OFFSET(DetailList!J$1,$W25,0),\"\")","v":"annual"},{"$f":"IF(Collections!$T25,OFFSET(DetailList!K$1,$W25,0),\"\")","v":"Upper tier & single tier"},{"$f":"IF($T25,OFFSET(DetailList!AU$1,$W25,0),\"\")","v":5},{"$f":"IF($T25,OFFSET(DetailList!AS$1,$W25,0),\"\")","v":"client based"},null,{"$f":"IF($T25,OFFSET(DetailList!P$1,$W25,0),\"\")","v":"https://www.gov.uk/guidance/alternative-provision-ap-census"},{"$f":"IF($T25,OFFSET(DetailList!Q$1,$W25,0),\"\")","v":"https://www.gov.uk/government/collections/statistics-school-and-pupil-numbers"},{"$f":"IF($T25,OFFSET(DetailList!R$1,$W25,0),\"\")","v":0},null,true,25,{"$f":"IF($T25,OFFSET(DetailList!A$1,$W25,0),\"\")","v":"C"},{"$f":"MATCH(U25,DetailList!BG:BG,0)-1","v":292}]
[null,{"$f":"IF($T26,OFFSET(DetailList!C$1,$W26,0),\"\")","v":"Parental Responsibility Measures – Attendance "},{"$f":"IF($T26,OFFSET(DetailList!E$1,$W26,0),\"\")","v":"DfE"},{"$f":"IF($T26,OFFSET(DetailList!F$1,$W26,0),\"\")","v":0},{"$f":"IF($T26,OFFSET(DetailList!B$1,$W26,0),\"\")","v":"104-00"},null,"Details","Collection","Data",null,{"$f":"IF(Collections!$T26,OFFSET(DetailList!J$1,$W26,0),\"\")","v":"annual"},{"$f":"IF(Collections!$T26,OFFSET(DetailList!K$1,$W26,0),\"\")","v":"Upper tier & single tier"},{"$f":"IF($T26,OFFSET(DetailList!AU$1,$W26,0),\"\")","v":1},{"$f":"IF($T26,OFFSET(DetailList!AS$1,$W26,0),\"\")","v":"aggregate/summary"},null,{"$f":"IF($T26,OFFSET(DetailList!P$1,$W26,0),\"\")","v":"https://www.gov.uk/parental-responsibility-measures-attendance-census"},{"$f":"IF($T26,OFFSET(DetailList!Q$1,$W26,0),\"\")","v":"https://explore-education-statistics.service.gov.uk/find-statistics/parental-responsibility-measures/2020-21"},{"$f":"IF($T26,OFFSET(DetailList!R$1,$W26,0),\"\")","v":0},null,true,26,{"$f":"IF($T26,OFFSET(DetailList!A$1,$W26,0),\"\")","v":"C"},{"$f":"MATCH(U26,DetailList!BG:BG,0)-1","v":298}]
[null,{"$f":"IF($T27,OFFSET(DetailList!C$1,$W27,0),\"\")","v":"School Admissions Appeals "},{"$f":"IF($T27,OFFSET(DetailList!E$1,$W27,0),\"\")","v":"DfE"},{"$f":"IF($T27,OFFSET(DetailList!F$1,$W27,0),\"\")","v":0},{"$f":"IF($T27,OFFSET(DetailList!B$1,$W27,0),\"\")","v":"107-00"},null,"Details","Collection","Data",null,{"$f":"IF(Collections!$T27,OFFSET(DetailList!J$1,$W27,0),\"\")","v":"annual"},{"$f":"IF(Collections!$T27,OFFSET(DetailList!K$1,$W27,0),\"\")","v":"Upper tier & single tier"},{"$f":"IF($T27,OFFSET(DetailList!AU$1,$W27,0),\"\")","v":1},{"$f":"IF($T27,OFFSET(DetailList!AS$1,$W27,0),\"\")","v":"aggregate/summary"},null,{"$f":"IF($T27,OFFSET(DetailList!P$1,$W27,0),\"\")","v":"https://www.gov.uk/appeals-against-admissions-survey"},{"$f":"IF($T27,OFFSET(DetailList!Q$1,$W27,0),\"\")","v":"https://www.gov.uk/government/collections/statistics-admission-appeals"},{"$f":"IF($T27,OFFSET(DetailList!R$1,$W27,0),\"\")","v":0},null,true,27,{"$f":"IF($T27,OFFSET(DetailList!A$1,$W27,0),\"\")","v":"C"},{"$f":"MATCH(U27,DetailList!BG:BG,0)-1","v":300}]
[null,{"$f":"IF($T28,OFFSET(DetailList!C$1,$W28,0),\"\")","v":"School Capacity"},{"$f":"IF($T28,OFFSET(DetailList!E$1,$W28,0),\"\")","v":"DfE"},{"$f":"IF($T28,OFFSET(DetailList!F$1,$W28,0),\"\")","v":0},{"$f":"IF($T28,OFFSET(DetailList!B$1,$W28,0),\"\")","v":"108-00"},null,"Details","Collection","Data",null,{"$f":"IF(Collections!$T28,OFFSET(DetailList!J$1,$W28,0),\"\")","v":"annual"},{"$f":"IF(Collections!$T28,OFFSET(DetailList!K$1,$W28,0),\"\")","v":"Upper tier & single tier"},{"$f":"IF($T28,OFFSET(DetailList!AU$1,$W28,0),\"\")","v":1},{"$f":"IF($T28,OFFSET(DetailList!AS$1,$W28,0),\"\")","v":"client based"},null,{"$f":"IF($T28,OFFSET(DetailList!P$1,$W28,0),\"\")","v":"https://www.gov.uk/guidance/school-capacity-survey-guide-for-local-authorities"},{"$f":"IF($T28,OFFSET(DetailList!Q$1,$W28,0),\"\")","v":"https://www.gov.uk/government/collections/statistics-school-capacity"},{"$f":"IF($T28,OFFSET(DetailList!R$1,$W28,0),\"\")","v":0},null,true,28,{"$f":"IF($T28,OFFSET(DetailList!A$1,$W28,0),\"\")","v":"C"},{"$f":"MATCH(U28,DetailList!BG:BG,0)-1","v":302}]
[null,{"$f":"IF($T29,OFFSET(DetailList!C$1,$W29,0),\"\")","v":"School Condition"},{"$f":"IF($T29,OFFSET(DetailList!E$1,$W29,0),\"\")","v":"DfE"},{"$f":"IF($T29,OFFSET(DetailList!F$1,$W29,0),\"\")","v":0},{"$f":"IF($T29,OFFSET(DetailList!B$1,$W29,0),\"\")","v":"216-00"},null,"Details","Collection","Data",null,{"$f":"IF(Collections!$T29,OFFSET(DetailList!J$1,$W29,0),\"\")","v":"continuous"},{"$f":"IF(Collections!$T29,OFFSET(DetailList!K$1,$W29,0),\"\")","v":"Upper tier & single tier"},{"$f":"IF($T29,OFFSET(DetailList!AU$1,$W29,0),\"\")","v":1},{"$f":"IF($T29,OFFSET(DetailList!AS$1,$W29,0),\"\")","v":"aggregate/summary"},null,{"$f":"IF($T29,OFFSET(DetailList!P$1,$W29,0),\"\")","v":"https://www.gov.uk/guidance/school-capital-funding"},{"$f":"IF($T29,OFFSET(DetailList!Q$1,$W29,0),\"\")","v":"https://explore-education-statistics.service.gov.uk/find-statistics/school-funding-statistics"},{"$f":"IF($T29,OFFSET(DetailList!R$1,$W29,0),\"\")","v":0},null,true,29,{"$f":"IF($T29,OFFSET(DetailList!A$1,$W29,0),\"\")","v":"C"},{"$f":"MATCH(U29,DetailList!BG:BG,0)-1","v":304}]
[null,{"$f":"IF($T30,OFFSET(DetailList!C$1,$W30,0),\"\")","v":"School Exclusion Appeals "},{"$f":"IF($T30,OFFSET(DetailList!E$1,$W30,0),\"\")","v":"DfE"},{"$f":"IF($T30,OFFSET(DetailList!F$1,$W30,0),\"\")","v":0},{"$f":"IF($T30,OFFSET(DetailList!B$1,$W30,0),\"\")","v":"109-00"},null,"Details","Collection","Data",null,{"$f":"IF(Collections!$T30,OFFSET(DetailList!J$1,$W30,0),\"\")","v":"annual"},{"$f":"IF(Collections!$T30,OFFSET(DetailList!K$1,$W30,0),\"\")","v":"Upper tier & single tier"},{"$f":"IF($T30,OFFSET(DetailList!AU$1,$W30,0),\"\")","v":1},{"$f":"IF($T30,OFFSET(DetailList!AS$1,$W30,0),\"\")","v":"aggregate/summary"},null,{"$f":"IF($T30,OFFSET(DetailList!P$1,$W30,0),\"\")","v":"https://www.gov.uk/guidance/schools-exclusion-reviews-survey"},{"$f":"IF($T30,OFFSET(DetailList!Q$1,$W30,0),\"\")","v":"https://www.gov.uk/government/collections/statistics-exclusions"},{"$f":"IF($T30,OFFSET(DetailList!R$1,$W30,0),\"\")","v":0},null,true,30,{"$f":"IF($T30,OFFSET(DetailList!A$1,$W30,0),\"\")","v":"C"},{"$f":"MATCH(U30,DetailList!BG:BG,0)-1","v":306}]
[null,{"$f":"IF($T31,OFFSET(DetailList!C$1,$W31,0),\"\")","v":"School Workforce Reviews"},{"$f":"IF($T31,OFFSET(DetailList!E$1,$W31,0),\"\")","v":"DfE"},{"$f":"IF($T31,OFFSET(DetailList!F$1,$W31,0),\"\")","v":0},{"$f":"IF($T31,OFFSET(DetailList!B$1,$W31,0),\"\")","v":"111-00"},null,"Details","Collection","Data",null,{"$f":"IF(Collections!$T31,OFFSET(DetailList!J$1,$W31,0),\"\")","v":"annual"},{"$f":"IF(Collections!$T31,OFFSET(DetailList!K$1,$W31,0),\"\")","v":"Upper tier & single tier"},{"$f":"IF($T31,OFFSET(DetailList!AU$1,$W31,0),\"\")","v":8},{"$f":"IF($T31,OFFSET(DetailList!AS$1,$W31,0),\"\")","v":"client based"},null,{"$f":"IF($T31,OFFSET(DetailList!P$1,$W31,0),\"\")","v":"https://www.gov.uk/guidance/school-workforce-census"},{"$f":"IF($T31,OFFSET(DetailList!Q$1,$W31,0),\"\")","v":"www.gov.uk/government/collections/statistics-school-workforce"},{"$f":"IF($T31,OFFSET(DetailList!R$1,$W31,0),\"\")","v":0},null,true,31,{"$f":"IF($T31,OFFSET(DetailList!A$1,$W31,0),\"\")","v":"C"},{"$f":"MATCH(U31,DetailList!BG:BG,0)-1","v":308}]
[null,{"$f":"IF($T32,OFFSET(DetailList!C$1,$W32,0),\"\")","v":"Section 251 financial return"},{"$f":"IF($T32,OFFSET(DetailList!E$1,$W32,0),\"\")","v":"DfE"},{"$f":"IF($T32,OFFSET(DetailList!F$1,$W32,0),\"\")","v":0},{"$f":"IF($T32,OFFSET(DetailList!B$1,$W32,0),\"\")","v":"113-00"},null,"Details","Collection","",null,{"$f":"IF(Collections!$T32,OFFSET(DetailList!J$1,$W32,0),\"\")","v":"annual"},{"$f":"IF(Collections!$T32,OFFSET(DetailList!K$1,$W32,0),\"\")","v":"Upper tier & single tier"},{"$f":"IF($T32,OFFSET(DetailList!AU$1,$W32,0),\"\")","v":5},{"$f":"IF($T32,OFFSET(DetailList!AS$1,$W32,0),\"\")","v":"aggregate/summary"},null,{"$f":"IF($T32,OFFSET(DetailList!P$1,$W32,0),\"\")","v":"https://www.gov.uk/government/collections/section-251-materials"},{"$f":"IF($T32,OFFSET(DetailList!Q$1,$W32,0),\"\")","v":0},{"$f":"IF($T32,OFFSET(DetailList!R$1,$W32,0),\"\")","v":0},null,true,32,{"$f":"IF($T32,OFFSET(DetailList!A$1,$W32,0),\"\")","v":"C"},{"$f":"MATCH(U32,DetailList!BG:BG,0)-1","v":317}]
[null,{"$f":"IF($T33,OFFSET(DetailList!C$1,$W33,0),\"\")","v":"Teacher Pension Contributions"},{"$f":"IF($T33,OFFSET(DetailList!E$1,$W33,0),\"\")","v":"DfE"},{"$f":"IF($T33,OFFSET(DetailList!F$1,$W33,0),\"\")","v":0},{"$f":"IF($T33,OFFSET(DetailList!B$1,$W33,0),\"\")","v":"117-00"},null,"Details","","",null,{"$f":"IF(Collections!$T33,OFFSET(DetailList!J$1,$W33,0),\"\")","v":"annual"},{"$f":"IF(Collections!$T33,OFFSET(DetailList!K$1,$W33,0),\"\")","v":"Upper tier & single tier"},{"$f":"IF($T33,OFFSET(DetailList!AU$1,$W33,0),\"\")","v":1},{"$f":"IF($T33,OFFSET(DetailList!AS$1,$W33,0),\"\")","v":"aggregate/summary"},null,{"$f":"IF($T33,OFFSET(DetailList!P$1,$W33,0),\"\")","v":0},{"$f":"IF($T33,OFFSET(DetailList!Q$1,$W33,0),\"\")","v":0},{"$f":"IF($T33,OFFSET(DetailList!R$1,$W33,0),\"\")","v":0},null,{"$f":"U33<=Y$1","v":true},33,{"$f":"IF($T33,OFFSET(DetailList!A$1,$W33,0),\"\")","v":"C"},{"$f":"MATCH(U33,DetailList!BG:BG,0)-1","v":323}]
[null,{"$f":"IF($T34,OFFSET(DetailList!C$1,$W34,0),\"\")","v":"Teacher Pension Service"},{"$f":"IF($T34,OFFSET(DetailList!E$1,$W34,0),\"\")","v":"DfE"},{"$f":"IF($T34,OFFSET(DetailList!F$1,$W34,0),\"\")","v":0},{"$f":"IF($T34,OFFSET(DetailList!B$1,$W34,0),\"\")","v":"118-00"},null,"Details","","",null,{"$f":"IF(Collections!$T34,OFFSET(DetailList!J$1,$W34,0),\"\")","v":"annual"},{"$f":"IF(Collections!$T34,OFFSET(DetailList!K$1,$W34,0),\"\")","v":"Upper tier & single tier"},{"$f":"IF($T34,OFFSET(DetailList!AU$1,$W34,0),\"\")","v":1},{"$f":"IF($T34,OFFSET(DetailList!AS$1,$W34,0),\"\")","v":"aggregate/summary"},null,{"$f":"IF($T34,OFFSET(DetailList!P$1,$W34,0),\"\")","v":0},{"$f":"IF($T34,OFFSET(DetailList!Q$1,$W34,0),\"\")","v":0},{"$f":"IF($T34,OFFSET(DetailList!R$1,$W34,0),\"\")","v":0},null,true,34,{"$f":"IF($T34,OFFSET(DetailList!A$1,$W34,0),\"\")","v":"C"},{"$f":"MATCH(U34,DetailList!BG:BG,0)-1","v":325}]
[null,{"$f":"IF($T35,OFFSET(DetailList!C$1,$W35,0),\"\")","v":"Young people aged 16-19 (and up to 25 with SEND)"},{"$f":"IF($T35,OFFSET(DetailList!E$1,$W35,0),\"\")","v":"DfE"},{"$f":"IF($T35,OFFSET(DetailList!F$1,$W35,0),\"\")","v":0},{"$f":"IF($T35,OFFSET(DetailList!B$1,$W35,0),\"\")","v":"119-00"},null,"Details","Collection","Data",null,{"$f":"IF(Collections!$T35,OFFSET(DetailList!J$1,$W35,0),\"\")","v":"monthly"},{"$f":"IF(Collections!$T35,OFFSET(DetailList!K$1,$W35,0),\"\")","v":"Upper tier & single tier"},{"$f":"IF($T35,OFFSET(DetailList!AU$1,$W35,0),\"\")","v":1},{"$f":"IF($T35,OFFSET(DetailList!AS$1,$W35,0),\"\")","v":"aggregate/summary"},null,{"$f":"IF($T35,OFFSET(DetailList!P$1,$W35,0),\"\")","v":"https://www.gov.uk/government/collections/statistics-neet"},{"$f":"IF($T35,OFFSET(DetailList!Q$1,$W35,0),\"\")","v":"https://www.gov.uk/government/publications/neet-and-participation-local-authority-figures"},{"$f":"IF($T35,OFFSET(DetailList!R$1,$W35,0),\"\")","v":0},null,true,35,{"$f":"IF($T35,OFFSET(DetailList!A$1,$W35,0),\"\")","v":"C"},{"$f":"MATCH(U35,DetailList!BG:BG,0)-1","v":327}]
[null,{"$f":"IF($T36,OFFSET(DetailList!C$1,$W36,0),\"\")","v":"Chief Finance Officer Sign-Off Statements"},{"$f":"IF($T36,OFFSET(DetailList!E$1,$W36,0),\"\")","v":"DfE"},{"$f":"IF($T36,OFFSET(DetailList!F$1,$W36,0),\"\")","v":0},{"$f":"IF($T36,OFFSET(DetailList!B$1,$W36,0),\"\")","v":"120-00"},null,"Details","Collection","",null,{"$f":"IF(Collections!$T36,OFFSET(DetailList!J$1,$W36,0),\"\")","v":"annual"},{"$f":"IF(Collections!$T36,OFFSET(DetailList!K$1,$W36,0),\"\")","v":"Upper tier & single tier"},{"$f":"IF($T36,OFFSET(DetailList!AU$1,$W36,0),\"\")","v":1},{"$f":"IF($T36,OFFSET(DetailList!AS$1,$W36,0),\"\")","v":"aggregate/summary"},null,{"$f":"IF($T36,OFFSET(DetailList!P$1,$W36,0),\"\")","v":"https://www.gov.uk/guidance/dedicated-schools-grant-assurance-guidance-for-local-authorities"},{"$f":"IF($T36,OFFSET(DetailList!Q$1,$W36,0),\"\")","v":0},{"$f":"IF($T36,OFFSET(DetailList!R$1,$W36,0),\"\")","v":0},null,true,36,{"$f":"IF($T36,OFFSET(DetailList!A$1,$W36,0),\"\")","v":"C"},{"$f":"MATCH(U36,DetailList!BG:BG,0)-1","v":329}]
[null,{"$f":"IF($T37,OFFSET(DetailList!C$1,$W37,0),\"\")","v":"Consistent Financial Reporting (CFR)"},{"$f":"IF($T37,OFFSET(DetailList!E$1,$W37,0),\"\")","v":"DfE"},{"$f":"IF($T37,OFFSET(DetailList!F$1,$W37,0),\"\")","v":0},{"$f":"IF($T37,OFFSET(DetailList!B$1,$W37,0),\"\")","v":"171-00"},null,"Details","Collection","",null,{"$f":"IF(Collections!$T37,OFFSET(DetailList!J$1,$W37,0),\"\")","v":"annual"},{"$f":"IF(Collections!$T37,OFFSET(DetailList!K$1,$W37,0),\"\")","v":"Upper tier & single tier"},{"$f":"IF($T37,OFFSET(DetailList!AU$1,$W37,0),\"\")","v":1},{"$f":"IF($T37,OFFSET(DetailList!AS$1,$W37,0),\"\")","v":"client based"},null,{"$f":"IF($T37,OFFSET(DetailList!P$1,$W37,0),\"\")","v":"Consistehttps://www.gov.uk/guidance/consistent-financial-reporting-framework-cfr"},{"$f":"IF($T37,OFFSET(DetailList!Q$1,$W37,0),\"\")","v":0},{"$f":"IF($T37,OFFSET(DetailList!R$1,$W37,0),\"\")","v":0},null,true,37,{"$f":"IF($T37,OFFSET(DetailList!A$1,$W37,0),\"\")","v":"C"},{"$f":"MATCH(U37,DetailList!BG:BG,0)-1","v":331}]
[null,{"$f":"IF($T38,OFFSET(DetailList!C$1,$W38,0),\"\")","v":"Children with Statements of Special Educational Needs (SEN2)"},{"$f":"IF($T38,OFFSET(DetailList!E$1,$W38,0),\"\")","v":"DfE"},{"$f":"IF($T38,OFFSET(DetailList!F$1,$W38,0),\"\")","v":0},{"$f":"IF($T38,OFFSET(DetailList!B$1,$W38,0),\"\")","v":"189-00"},null,"Details","Collection","Data",null,{"$f":"IF(Collections!$T38,OFFSET(DetailList!J$1,$W38,0),\"\")","v":"annual"},{"$f":"IF(Collections!$T38,OFFSET(DetailList!K$1,$W38,0),\"\")","v":"Upper tier & single tier"},{"$f":"IF($T38,OFFSET(DetailList!AU$1,$W38,0),\"\")","v":1},{"$f":"IF($T38,OFFSET(DetailList!AS$1,$W38,0),\"\")","v":"aggregate/summary"},null,{"$f":"IF($T38,OFFSET(DetailList!P$1,$W38,0),\"\")","v":"https://www.gov.uk/schools-colleges-childrens-services/special-educational-needs-disabilities"},{"$f":"IF($T38,OFFSET(DetailList!Q$1,$W38,0),\"\")","v":"www.gov.uk/government/collections/statistics-special-educational-needs-sen"},{"$f":"IF($T38,OFFSET(DetailList!R$1,$W38,0),\"\")","v":0},null,true,38,{"$f":"IF($T38,OFFSET(DetailList!A$1,$W38,0),\"\")","v":"C"},{"$f":"MATCH(U38,DetailList!BG:BG,0)-1","v":333}]
[null,{"$f":"IF($T39,OFFSET(DetailList!C$1,$W39,0),\"\")","v":"Local Authority Data Collection of Linked and Federated Provision"},{"$f":"IF($T39,OFFSET(DetailList!E$1,$W39,0),\"\")","v":"DfE"},{"$f":"IF($T39,OFFSET(DetailList!F$1,$W39,0),\"\")","v":0},{"$f":"IF($T39,OFFSET(DetailList!B$1,$W39,0),\"\")","v":"224-00"},null,"Details","","",null,{"$f":"IF(Collections!$T39,OFFSET(DetailList!J$1,$W39,0),\"\")","v":"termly (3/year)"},{"$f":"IF(Collections!$T39,OFFSET(DetailList!K$1,$W39,0),\"\")","v":"Upper tier & single tier"},{"$f":"IF($T39,OFFSET(DetailList!AU$1,$W39,0),\"\")","v":1},{"$f":"IF($T39,OFFSET(DetailList!AS$1,$W39,0),\"\")","v":"aggregate/summary"},null,{"$f":"IF($T39,OFFSET(DetailList!P$1,$W39,0),\"\")","v":0},{"$f":"IF($T39,OFFSET(DetailList!Q$1,$W39,0),\"\")","v":0},{"$f":"IF($T39,OFFSET(DetailList!R$1,$W39,0),\"\")","v":"Y"},null,true,39,{"$f":"IF($T39,OFFSET(DetailList!A$1,$W39,0),\"\")","v":"C"},{"$f":"MATCH(U39,DetailList!BG:BG,0)-1","v":337}]
[null,{"$f":"IF($T40,OFFSET(DetailList!C$1,$W40,0),\"\")","v":"Concessionary Travel Survey"},{"$f":"IF($T40,OFFSET(DetailList!E$1,$W40,0),\"\")","v":"DfT"},{"$f":"IF($T40,OFFSET(DetailList!F$1,$W40,0),\"\")","v":0},{"$f":"IF($T40,OFFSET(DetailList!B$1,$W40,0),\"\")","v":"121-00"},null,"Details","Collection","Data",null,{"$f":"IF(Collections!$T40,OFFSET(DetailList!J$1,$W40,0),\"\")","v":"annual"},{"$f":"IF(Collections!$T40,OFFSET(DetailList!K$1,$W40,0),\"\")","v":"Upper tier & single tier"},{"$f":"IF($T40,OFFSET(DetailList!AU$1,$W40,0),\"\")","v":6},{"$f":"IF($T40,OFFSET(DetailList!AS$1,$W40,0),\"\")","v":"aggregate/summary"},null,{"$f":"IF($T40,OFFSET(DetailList!P$1,$W40,0),\"\")","v":"https://assets.publishing.service.gov.uk/government/uploads/system/uploads/attachment_data/file/1030575/concessionary-travel-survey-questionnaire-2021.pdf"},{"$f":"IF($T40,OFFSET(DetailList!Q$1,$W40,0),\"\")","v":"https://www.gov.uk/government/statistics/concessionary-travel-statistics-year-ending-march-2021"},{"$f":"IF($T40,OFFSET(DetailList!R$1,$W40,0),\"\")","v":0},null,true,40,{"$f":"IF($T40,OFFSET(DetailList!A$1,$W40,0),\"\")","v":"C"},{"$f":"MATCH(U40,DetailList!BG:BG,0)-1","v":345}]
[null,{"$f":"IF($T41,OFFSET(DetailList!C$1,$W41,0),\"\")","v":"Local bus punctuality"},{"$f":"IF($T41,OFFSET(DetailList!E$1,$W41,0),\"\")","v":"DfT"},{"$f":"IF($T41,OFFSET(DetailList!F$1,$W41,0),\"\")","v":0},{"$f":"IF($T41,OFFSET(DetailList!B$1,$W41,0),\"\")","v":"122-00"},null,"Details","Collection","Data",null,{"$f":"IF(Collections!$T41,OFFSET(DetailList!J$1,$W41,0),\"\")","v":"annual"},{"$f":"IF(Collections!$T41,OFFSET(DetailList!K$1,$W41,0),\"\")","v":"Upper tier & single tier"},{"$f":"IF($T41,OFFSET(DetailList!AU$1,$W41,0),\"\")","v":2},{"$f":"IF($T41,OFFSET(DetailList!AS$1,$W41,0),\"\")","v":"aggregate/summary"},null,{"$f":"IF($T41,OFFSET(DetailList!P$1,$W41,0),\"\")","v":"https://www.gov.uk/government/uploads/system/uploads/attachment_data/file/249575/punctuality-survey-questionnaire.pdf"},{"$f":"IF($T41,OFFSET(DetailList!Q$1,$W41,0),\"\")","v":"www.gov.uk/government/statistical-data-sets/bus09-frequency-and-waiting-times"},{"$f":"IF($T41,OFFSET(DetailList!R$1,$W41,0),\"\")","v":0},null,true,41,{"$f":"IF($T41,OFFSET(DetailList!A$1,$W41,0),\"\")","v":"C"},{"$f":"MATCH(U41,DetailList!BG:BG,0)-1","v":352}]
[null,{"$f":"IF($T42,OFFSET(DetailList!C$1,$W42,0),\"\")","v":"Taxi Survey"},{"$f":"IF($T42,OFFSET(DetailList!E$1,$W42,0),\"\")","v":"DfT"},{"$f":"IF($T42,OFFSET(DetailList!F$1,$W42,0),\"\")","v":0},{"$f":"IF($T42,OFFSET(DetailList!B$1,$W42,0),\"\")","v":"125-00"},null,"Details","Collection","Data",null,{"$f":"IF(Collections!$T42,OFFSET(DetailList!J$1,$W42,0),\"\")","v":"annual"},{"$f":"IF(Collections!$T42,OFFSET(DetailList!K$1,$W42,0),\"\")","v":"Single tier & lower tier"},{"$f":"IF($T42,OFFSET(DetailList!AU$1,$W42,0),\"\")","v":7},{"$f":"IF($T42,OFFSET(DetailList!AS$1,$W42,0),\"\")","v":"aggregate/summary"},null,{"$f":"IF($T42,OFFSET(DetailList!P$1,$W42,0),\"\")","v":"https://assets.publishing.service.gov.uk/government/uploads/system/uploads/attachment_data/file/1089894/taxi-and-phv-survey-questionnaire-2022.ods"},{"$f":"IF($T42,OFFSET(DetailList!Q$1,$W42,0),\"\")","v":"www.gov.uk/government/collections/taxi-statistics"},{"$f":"IF($T42,OFFSET(DetailList!R$1,$W42,0),\"\")","v":0},null,true,42,{"$f":"IF($T42,OFFSET(DetailList!A$1,$W42,0),\"\")","v":"C"},{"$f":"MATCH(U42,DetailList!BG:BG,0)-1","v":355}]
[null,{"$f":"IF($T43,OFFSET(DetailList!C$1,$W43,0),\"\")","v":"Blue Badge Parking Survey"},{"$f":"IF($T43,OFFSET(DetailList!E$1,$W43,0),\"\")","v":"DfT"},{"$f":"IF($T43,OFFSET(DetailList!F$1,$W43,0),\"\")","v":0},{"$f":"IF($T43,OFFSET(DetailList!B$1,$W43,0),\"\")","v":"127-00"},null,"Details","Collection","Data",null,{"$f":"IF(Collections!$T43,OFFSET(DetailList!J$1,$W43,0),\"\")","v":"annual"},{"$f":"IF(Collections!$T43,OFFSET(DetailList!K$1,$W43,0),\"\")","v":"Upper tier & single tier"},{"$f":"IF($T43,OFFSET(DetailList!AU$1,$W43,0),\"\")","v":1},{"$f":"IF($T43,OFFSET(DetailList!AS$1,$W43,0),\"\")","v":"aggregate/summary"},null,{"$f":"IF($T43,OFFSET(DetailList!P$1,$W43,0),\"\")","v":"https://www.gov.uk/transport-statistics-notes-and-guidance-disabled-parking-badges"},{"$f":"IF($T43,OFFSET(DetailList!Q$1,$W43,0),\"\")","v":"https://www.gov.uk/government/collections/disabled-parking-badges-statistics"},{"$f":"IF($T43,OFFSET(DetailList!R$1,$W43,0),\"\")","v":0},null,true,43,{"$f":"IF($T43,OFFSET(DetailList!A$1,$W43,0),\"\")","v":"C"},{"$f":"MATCH(U43,DetailList!BG:BG,0)-1","v":363}]
[null,{"$f":"IF($T44,OFFSET(DetailList!C$1,$W44,0),\"\")","v":"Highway inventory data "},{"$f":"IF($T44,OFFSET(DetailList!E$1,$W44,0),\"\")","v":"DfT"},{"$f":"IF($T44,OFFSET(DetailList!F$1,$W44,0),\"\")","v":0},{"$f":"IF($T44,OFFSET(DetailList!B$1,$W44,0),\"\")","v":"129-00"},null,"Details","","Data",null,{"$f":"IF(Collections!$T44,OFFSET(DetailList!J$1,$W44,0),\"\")","v":"as required"},{"$f":"IF(Collections!$T44,OFFSET(DetailList!K$1,$W44,0),\"\")","v":"Upper tier & single tier"},{"$f":"IF($T44,OFFSET(DetailList!AU$1,$W44,0),\"\")","v":1},{"$f":"IF($T44,OFFSET(DetailList!AS$1,$W44,0),\"\")","v":"aggregate/summary"},null,{"$f":"IF($T44,OFFSET(DetailList!P$1,$W44,0),\"\")","v":0},{"$f":"IF($T44,OFFSET(DetailList!Q$1,$W44,0),\"\")","v":"https://www.gov.uk/government/publications/highways-maintenance-funding-allocations-201516-to-202021"},{"$f":"IF($T44,OFFSET(DetailList!R$1,$W44,0),\"\")","v":0},null,true,44,{"$f":"IF($T44,OFFSET(DetailList!A$1,$W44,0),\"\")","v":"C"},{"$f":"MATCH(U44,DetailList!BG:BG,0)-1","v":365}]
[null,{"$f":"IF($T45,OFFSET(DetailList!C$1,$W45,0),\"\")","v":"Winter salt stock holdings"},{"$f":"IF($T45,OFFSET(DetailList!E$1,$W45,0),\"\")","v":"DfT"},{"$f":"IF($T45,OFFSET(DetailList!F$1,$W45,0),\"\")","v":0},{"$f":"IF($T45,OFFSET(DetailList!B$1,$W45,0),\"\")","v":"251-00"},null,"Details","","",null,{"$f":"IF(Collections!$T45,OFFSET(DetailList!J$1,$W45,0),\"\")","v":"as required"},{"$f":"IF(Collections!$T45,OFFSET(DetailList!K$1,$W45,0),\"\")","v":"Upper tier & single tier"},{"$f":"IF($T45,OFFSET(DetailList!AU$1,$W45,0),\"\")","v":1},{"$f":"IF($T45,OFFSET(DetailList!AS$1,$W45,0),\"\")","v":"aggregate/summary"},null,{"$f":"IF($T45,OFFSET(DetailList!P$1,$W45,0),\"\")","v":0},{"$f":"IF($T45,OFFSET(DetailList!Q$1,$W45,0),\"\")","v":0},{"$f":"IF($T45,OFFSET(DetailList!R$1,$W45,0),\"\")","v":0},null,true,45,{"$f":"IF($T45,OFFSET(DetailList!A$1,$W45,0),\"\")","v":"C"},{"$f":"MATCH(U45,DetailList!BG:BG,0)-1","v":367}]
[null,{"$f":"IF($T46,OFFSET(DetailList!C$1,$W46,0),\"\")","v":"Road condition data"},{"$f":"IF($T46,OFFSET(DetailList!E$1,$W46,0),\"\")","v":"DfT"},{"$f":"IF($T46,OFFSET(DetailList!F$1,$W46,0),\"\")","v":0},{"$f":"IF($T46,OFFSET(DetailList!B$1,$W46,0),\"\")","v":"130-00"},null,"Details","Collection","Data",null,{"$f":"IF(Collections!$T46,OFFSET(DetailList!J$1,$W46,0),\"\")","v":"annual"},{"$f":"IF(Collections!$T46,OFFSET(DetailList!K$1,$W46,0),\"\")","v":"Upper tier & single tier"},{"$f":"IF($T46,OFFSET(DetailList!AU$1,$W46,0),\"\")","v":4},{"$f":"IF($T46,OFFSET(DetailList!AS$1,$W46,0),\"\")","v":"aggregate/summary"},null,{"$f":"IF($T46,OFFSET(DetailList!P$1,$W46,0),\"\")","v":"https://www.gov.uk/government/collections/road-network-size-and-condition"},{"$f":"IF($T46,OFFSET(DetailList!Q$1,$W46,0),\"\")","v":"https://www.gov.uk/government/collections/road-network-size-and-condition"},{"$f":"IF($T46,OFFSET(DetailList!R$1,$W46,0),\"\")","v":0},null,true,46,{"$f":"IF($T46,OFFSET(DetailList!A$1,$W46,0),\"\")","v":"C"},{"$f":"MATCH(U46,DetailList!BG:BG,0)-1","v":369}]
[null,{"$f":"IF($T47,OFFSET(DetailList!C$1,$W47,0),\"\")","v":"Road Lengths Survey"},{"$f":"IF($T47,OFFSET(DetailList!E$1,$W47,0),\"\")","v":"DfT"},{"$f":"IF($T47,OFFSET(DetailList!F$1,$W47,0),\"\")","v":0},{"$f":"IF($T47,OFFSET(DetailList!B$1,$W47,0),\"\")","v":"132-00"},null,"Details","Collection","Data",null,{"$f":"IF(Collections!$T47,OFFSET(DetailList!J$1,$W47,0),\"\")","v":"annual"},{"$f":"IF(Collections!$T47,OFFSET(DetailList!K$1,$W47,0),\"\")","v":"Upper tier & single tier"},{"$f":"IF($T47,OFFSET(DetailList!AU$1,$W47,0),\"\")","v":1},{"$f":"IF($T47,OFFSET(DetailList!AS$1,$W47,0),\"\")","v":"aggregate/summary"},null,{"$f":"IF($T47,OFFSET(DetailList!P$1,$W47,0),\"\")","v":"https://www.gov.uk/government/collections/road-lengths"},{"$f":"IF($T47,OFFSET(DetailList!Q$1,$W47,0),\"\")","v":"https://www.gov.uk/government/collections/road-lengths"},{"$f":"IF($T47,OFFSET(DetailList!R$1,$W47,0),\"\")","v":0},null,true,47,{"$f":"IF($T47,OFFSET(DetailList!A$1,$W47,0),\"\")","v":"C"},{"$f":"MATCH(U47,DetailList!BG:BG,0)-1","v":374}]
[null,{"$f":"IF($T48,OFFSET(DetailList!C$1,$W48,0),\"\")","v":"Child Death Review Panels (LSCB1)"},{"$f":"IF($T48,OFFSET(DetailList!E$1,$W48,0),\"\")","v":"DHSC"},{"$f":"IF($T48,OFFSET(DetailList!F$1,$W48,0),\"\")","v":0},{"$f":"IF($T48,OFFSET(DetailList!B$1,$W48,0),\"\")","v":"086-00"},null,"Details","Collection","Data",null,{"$f":"IF(Collections!$T48,OFFSET(DetailList!J$1,$W48,0),\"\")","v":"annual"},{"$f":"IF(Collections!$T48,OFFSET(DetailList!K$1,$W48,0),\"\")","v":"Upper tier & single tier"},{"$f":"IF($T48,OFFSET(DetailList!AU$1,$W48,0),\"\")","v":1},{"$f":"IF($T48,OFFSET(DetailList!AS$1,$W48,0),\"\")","v":"aggregate/summary"},null,{"$f":"IF($T48,OFFSET(DetailList!P$1,$W48,0),\"\")","v":"https://www.gov.uk/guidance/child-death-review-data-collection-submitting-data"},{"$f":"IF($T48,OFFSET(DetailList!Q$1,$W48,0),\"\")","v":"https://www.ncmd.info/2020/11/12/cdr-data-2019-20/"},{"$f":"IF($T48,OFFSET(DetailList!R$1,$W48,0),\"\")","v":0},null,true,48,{"$f":"IF($T48,OFFSET(DetailList!A$1,$W48,0),\"\")","v":"C"},{"$f":"MATCH(U48,DetailList!BG:BG,0)-1","v":228}]
[null,{"$f":"IF($T49,OFFSET(DetailList!C$1,$W49,0),\"\")","v":"National Child Measurement Programme (NCMP)"},{"$f":"IF($T49,OFFSET(DetailList!E$1,$W49,0),\"\")","v":"DHSC/OHID"},{"$f":"IF($T49,OFFSET(DetailList!F$1,$W49,0),\"\")","v":0},{"$f":"IF($T49,OFFSET(DetailList!B$1,$W49,0),\"\")","v":"253-00"},null,"Details","Collection","Data",null,{"$f":"IF(Collections!$T49,OFFSET(DetailList!J$1,$W49,0),\"\")","v":"annual"},{"$f":"IF(Collections!$T49,OFFSET(DetailList!K$1,$W49,0),\"\")","v":"Upper tier & single tier"},{"$f":"IF($T49,OFFSET(DetailList!AU$1,$W49,0),\"\")","v":1},{"$f":"IF($T49,OFFSET(DetailList!AS$1,$W49,0),\"\")","v":"Individual"},null,{"$f":"IF($T49,OFFSET(DetailList!P$1,$W49,0),\"\")","v":"https://digital.nhs.uk/services/national-child-measurement-programme/it-system"},{"$f":"IF($T49,OFFSET(DetailList!Q$1,$W49,0),\"\")","v":"https://digital.nhs.uk/data-and-information/publications/statistical/national-child-measurement-programme/2021-22-school-year"},{"$f":"IF($T49,OFFSET(DetailList!R$1,$W49,0),\"\")","v":0},null,true,49,{"$f":"IF($T49,OFFSET(DetailList!A$1,$W49,0),\"\")","v":"C"},{"$f":"MATCH(U49,DetailList!BG:BG,0)-1","v":376}]
[null,{"$f":"IF($T50,OFFSET(DetailList!C$1,$W50,0),\"\")","v":"Collation of NHS Health Check quarterly data return"},{"$f":"IF($T50,OFFSET(DetailList!E$1,$W50,0),\"\")","v":"DHSC/OHID"},{"$f":"IF($T50,OFFSET(DetailList!F$1,$W50,0),\"\")","v":0},{"$f":"IF($T50,OFFSET(DetailList!B$1,$W50,0),\"\")","v":"254-00"},null,"Details","Collection","Data",null,{"$f":"IF(Collections!$T50,OFFSET(DetailList!J$1,$W50,0),\"\")","v":"quarterly"},{"$f":"IF(Collections!$T50,OFFSET(DetailList!K$1,$W50,0),\"\")","v":"Upper tier & single tier"},{"$f":"IF($T50,OFFSET(DetailList!AU$1,$W50,0),\"\")","v":2},{"$f":"IF($T50,OFFSET(DetailList!AS$1,$W50,0),\"\")","v":0},null,{"$f":"IF($T50,OFFSET(DetailList!P$1,$W50,0),\"\")","v":"https://www.healthcheck.nhs.uk/commissioners-and-providers/data/submit-quarterly-data/"},{"$f":"IF($T50,OFFSET(DetailList!Q$1,$W50,0),\"\")","v":"https://fingertips.phe.org.uk/profile/nhs-health-check-detailed"},{"$f":"IF($T50,OFFSET(DetailList!R$1,$W50,0),\"\")","v":0},null,true,50,{"$f":"IF($T50,OFFSET(DetailList!A$1,$W50,0),\"\")","v":"C"},{"$f":"MATCH(U50,DetailList!BG:BG,0)-1","v":378}]
[null,{"$f":"IF($T51,OFFSET(DetailList!C$1,$W51,0),\"\")","v":"Oral Health Surveys"},{"$f":"IF($T51,OFFSET(DetailList!E$1,$W51,0),\"\")","v":"DHSC/OHID"},{"$f":"IF($T51,OFFSET(DetailList!F$1,$W51,0),\"\")","v":0},{"$f":"IF($T51,OFFSET(DetailList!B$1,$W51,0),\"\")","v":"262-00"},null,"Details","","Data",null,{"$f":"IF(Collections!$T51,OFFSET(DetailList!J$1,$W51,0),\"\")","v":"annual"},{"$f":"IF(Collections!$T51,OFFSET(DetailList!K$1,$W51,0),\"\")","v":"all local authorities"},{"$f":"IF($T51,OFFSET(DetailList!AU$1,$W51,0),\"\")","v":1},{"$f":"IF($T51,OFFSET(DetailList!AS$1,$W51,0),\"\")","v":0},null,{"$f":"IF($T51,OFFSET(DetailList!P$1,$W51,0),\"\")","v":0},{"$f":"IF($T51,OFFSET(DetailList!Q$1,$W51,0),\"\")","v":"https://www.gov.uk/government/collections/oral-health"},{"$f":"IF($T51,OFFSET(DetailList!R$1,$W51,0),\"\")","v":0},null,true,51,{"$f":"IF($T51,OFFSET(DetailList!A$1,$W51,0),\"\")","v":"C"},{"$f":"MATCH(U51,DetailList!BG:BG,0)-1","v":381}]
[null,{"$f":"IF($T52,OFFSET(DetailList!C$1,$W52,0),\"\")","v":"House Building Return (P2a)"},{"$f":"IF($T52,OFFSET(DetailList!E$1,$W52,0),\"\")","v":"DLUHC"},{"$f":"IF($T52,OFFSET(DetailList!F$1,$W52,0),\"\")","v":0},{"$f":"IF($T52,OFFSET(DetailList!B$1,$W52,0),\"\")","v":"002-00"},null,"Details","Collection","Data",null,{"$f":"IF(Collections!$T52,OFFSET(DetailList!J$1,$W52,0),\"\")","v":"quarterly"},{"$f":"IF(Collections!$T52,OFFSET(DetailList!K$1,$W52,0),\"\")","v":"Single tier & lower tier"},{"$f":"IF($T52,OFFSET(DetailList!AU$1,$W52,0),\"\")","v":2},{"$f":"IF($T52,OFFSET(DetailList!AS$1,$W52,0),\"\")","v":"aggregate/summary"},null,{"$f":"IF($T52,OFFSET(DetailList!P$1,$W52,0),\"\")","v":"www.gov.uk/house-building-data-notes-and-definitions-includes-p2-full-guidance-notes-and-returns-form"},{"$f":"IF($T52,OFFSET(DetailList!Q$1,$W52,0),\"\")","v":"https://www.gov.uk/government/statistics/housing-supply-indicators-of-new-supply-england-july-to-september-2022"},{"$f":"IF($T52,OFFSET(DetailList!R$1,$W52,0),\"\")","v":0},null,true,52,{"$f":"IF($T52,OFFSET(DetailList!A$1,$W52,0),\"\")","v":"C"},{"$f":"MATCH(U52,DetailList!BG:BG,0)-1","v":4}]
[null,{"$f":"IF($T53,OFFSET(DetailList!C$1,$W53,0),\"\")","v":"Housing Flows Reconciliation Form (HFR)"},{"$f":"IF($T53,OFFSET(DetailList!E$1,$W53,0),\"\")","v":"DLUHC"},{"$f":"IF($T53,OFFSET(DetailList!F$1,$W53,0),\"\")","v":0},{"$f":"IF($T53,OFFSET(DetailList!B$1,$W53,0),\"\")","v":"003-00"},null,"Details","Collection","Data",null,{"$f":"IF(Collections!$T53,OFFSET(DetailList!J$1,$W53,0),\"\")","v":"annual"},{"$f":"IF(Collections!$T53,OFFSET(DetailList!K$1,$W53,0),\"\")","v":"Single tier & lower tier"},{"$f":"IF($T53,OFFSET(DetailList!AU$1,$W53,0),\"\")","v":5},{"$f":"IF($T53,OFFSET(DetailList!AS$1,$W53,0),\"\")","v":"aggregate/summary"},null,{"$f":"IF($T53,OFFSET(DetailList!P$1,$W53,0),\"\")","v":"www.gov.uk/dwelling-stock-data-notes-and-definitions-includes-hfr-full-guidance-notes-and-returns-form"},{"$f":"IF($T53,OFFSET(DetailList!Q$1,$W53,0),\"\")","v":"https://www.gov.uk/government/statistics/housing-supply-net-additional-dwellings-england-2021-to-2022"},{"$f":"IF($T53,OFFSET(DetailList!R$1,$W53,0),\"\")","v":0},null,true,53,{"$f":"IF($T53,OFFSET(DetailList!A$1,$W53,0),\"\")","v":"C"},{"$f":"MATCH(U53,DetailList!BG:BG,0)-1","v":7}]
[null,{"$f":"IF($T54,OFFSET(DetailList!C$1,$W54,0),\"\")","v":"CORE (Continuous Recording) of lettings and sales by local authorities"},{"$f":"IF($T54,OFFSET(DetailList!E$1,$W54,0),\"\")","v":"DLUHC"},{"$f":"IF($T54,OFFSET(DetailList!F$1,$W54,0),\"\")","v":0},{"$f":"IF($T54,OFFSET(DetailList!B$1,$W54,0),\"\")","v":"065-00"},null,"Details","Collection","Data",null,{"$f":"IF(Collections!$T54,OFFSET(DetailList!J$1,$W54,0),\"\")","v":"continuous"},{"$f":"IF(Collections!$T54,OFFSET(DetailList!K$1,$W54,0),\"\")","v":"Single tier & lower tier"},{"$f":"IF($T54,OFFSET(DetailList!AU$1,$W54,0),\"\")","v":2},{"$f":"IF($T54,OFFSET(DetailList!AS$1,$W54,0),\"\")","v":"case based"},null,{"$f":"IF($T54,OFFSET(DetailList!P$1,$W54,0),\"\")","v":"https://core.communities.gov.uk\nhttps://dluhc-core-production.london.cloudapps.digital/"},{"$f":"IF($T54,OFFSET(DetailList!Q$1,$W54,0),\"\")","v":"https://www.gov.uk/government/collections/rents-lettings-and-tenancies"},{"$f":"IF($T54,OFFSET(DetailList!R$1,$W54,0),\"\")","v":0},null,true,54,{"$f":"IF($T54,OFFSET(DetailList!A$1,$W54,0),\"\")","v":"C"},{"$f":"MATCH(U54,DetailList!BG:BG,0)-1","v":13}]
[null,{"$f":"IF($T55,OFFSET(DetailList!C$1,$W55,0),\"\")","v":"Rough Sleeping Snapshot Statistics"},{"$f":"IF($T55,OFFSET(DetailList!E$1,$W55,0),\"\")","v":"DLUHC"},{"$f":"IF($T55,OFFSET(DetailList!F$1,$W55,0),\"\")","v":0},{"$f":"IF($T55,OFFSET(DetailList!B$1,$W55,0),\"\")","v":"010-00"},null,"Details","Collection","Data",null,{"$f":"IF(Collections!$T55,OFFSET(DetailList!J$1,$W55,0),\"\")","v":"annual"},{"$f":"IF(Collections!$T55,OFFSET(DetailList!K$1,$W55,0),\"\")","v":"Single tier & lower tier"},{"$f":"IF($T55,OFFSET(DetailList!AU$1,$W55,0),\"\")","v":1},{"$f":"IF($T55,OFFSET(DetailList!AS$1,$W55,0),\"\")","v":"aggregate/summary"},null,{"$f":"IF($T55,OFFSET(DetailList!P$1,$W55,0),\"\")","v":"https://www.gov.uk/government/collections/homelessness-statistics#rough-sleeping"},{"$f":"IF($T55,OFFSET(DetailList!Q$1,$W55,0),\"\")","v":"https://www.gov.uk/government/collections/homelessness-statistics#rough-sleeping"},{"$f":"IF($T55,OFFSET(DetailList!R$1,$W55,0),\"\")","v":0},null,true,55,{"$f":"IF($T55,OFFSET(DetailList!A$1,$W55,0),\"\")","v":"C"},{"$f":"MATCH(U55,DetailList!BG:BG,0)-1","v":16}]
[null,{"$f":"IF($T56,OFFSET(DetailList!C$1,$W56,0),\"\")","v":"Count of traveller caravans"},{"$f":"IF($T56,OFFSET(DetailList!E$1,$W56,0),\"\")","v":"DLUHC"},{"$f":"IF($T56,OFFSET(DetailList!F$1,$W56,0),\"\")","v":0},{"$f":"IF($T56,OFFSET(DetailList!B$1,$W56,0),\"\")","v":"013-00"},null,"Details","","Data",null,{"$f":"IF(Collections!$T56,OFFSET(DetailList!J$1,$W56,0),\"\")","v":"every 6 months"},{"$f":"IF(Collections!$T56,OFFSET(DetailList!K$1,$W56,0),\"\")","v":"Single tier & lower tier"},{"$f":"IF($T56,OFFSET(DetailList!AU$1,$W56,0),\"\")","v":3},{"$f":"IF($T56,OFFSET(DetailList!AS$1,$W56,0),\"\")","v":"aggregate/summary"},null,{"$f":"IF($T56,OFFSET(DetailList!P$1,$W56,0),\"\")","v":0},{"$f":"IF($T56,OFFSET(DetailList!Q$1,$W56,0),\"\")","v":"https://www.gov.uk/government/collections/traveller-caravan-count"},{"$f":"IF($T56,OFFSET(DetailList!R$1,$W56,0),\"\")","v":0},null,true,56,{"$f":"IF($T56,OFFSET(DetailList!A$1,$W56,0),\"\")","v":"C"},{"$f":"MATCH(U56,DetailList!BG:BG,0)-1","v":18}]
[null,{"$f":"IF($T57,OFFSET(DetailList!C$1,$W57,0),\"\")","v":"Housing Capital Receipts pooling "},{"$f":"IF($T57,OFFSET(DetailList!E$1,$W57,0),\"\")","v":"DLUHC"},{"$f":"IF($T57,OFFSET(DetailList!F$1,$W57,0),\"\")","v":0},{"$f":"IF($T57,OFFSET(DetailList!B$1,$W57,0),\"\")","v":"167-00"},null,"Details","","Data",null,{"$f":"IF(Collections!$T57,OFFSET(DetailList!J$1,$W57,0),\"\")","v":" annual"},{"$f":"IF(Collections!$T57,OFFSET(DetailList!K$1,$W57,0),\"\")","v":"Single tier & lower tier"},{"$f":"IF($T57,OFFSET(DetailList!AU$1,$W57,0),\"\")","v":1},{"$f":"IF($T57,OFFSET(DetailList!AS$1,$W57,0),\"\")","v":"n/k"},null,{"$f":"IF($T57,OFFSET(DetailList!P$1,$W57,0),\"\")","v":0},{"$f":"IF($T57,OFFSET(DetailList!Q$1,$W57,0),\"\")","v":"https://www.gov.uk/government/statistical-data-sets/live-tables-on-social-housing-sales"},{"$f":"IF($T57,OFFSET(DetailList!R$1,$W57,0),\"\")","v":0},null,true,57,{"$f":"IF($T57,OFFSET(DetailList!A$1,$W57,0),\"\")","v":"C"},{"$f":"MATCH(U57,DetailList!BG:BG,0)-1","v":22}]
[null,{"$f":"IF($T58,OFFSET(DetailList!C$1,$W58,0),\"\")","v":"Annual Green Belt (AGB) return "},{"$f":"IF($T58,OFFSET(DetailList!E$1,$W58,0),\"\")","v":"DLUHC"},{"$f":"IF($T58,OFFSET(DetailList!F$1,$W58,0),\"\")","v":0},{"$f":"IF($T58,OFFSET(DetailList!B$1,$W58,0),\"\")","v":"020-00"},null,"Details","","Data",null,{"$f":"IF(Collections!$T58,OFFSET(DetailList!J$1,$W58,0),\"\")","v":"annual"},{"$f":"IF(Collections!$T58,OFFSET(DetailList!K$1,$W58,0),\"\")","v":"Single tier & lower tier"},{"$f":"IF($T58,OFFSET(DetailList!AU$1,$W58,0),\"\")","v":1},{"$f":"IF($T58,OFFSET(DetailList!AS$1,$W58,0),\"\")","v":"aggregate/summary"},null,{"$f":"IF($T58,OFFSET(DetailList!P$1,$W58,0),\"\")","v":0},{"$f":"IF($T58,OFFSET(DetailList!Q$1,$W58,0),\"\")","v":"https://www.gov.uk/government/collections/green-belt-statistics"},{"$f":"IF($T58,OFFSET(DetailList!R$1,$W58,0),\"\")","v":0},null,true,58,{"$f":"IF($T58,OFFSET(DetailList!A$1,$W58,0),\"\")","v":"C"},{"$f":"MATCH(U58,DetailList!BG:BG,0)-1","v":24}]
[null,{"$f":"IF($T59,OFFSET(DetailList!C$1,$W59,0),\"\")","v":"PS1/2 District matters planning statistical returns"},{"$f":"IF($T59,OFFSET(DetailList!E$1,$W59,0),\"\")","v":"DLUHC"},{"$f":"IF($T59,OFFSET(DetailList!F$1,$W59,0),\"\")","v":0},{"$f":"IF($T59,OFFSET(DetailList!B$1,$W59,0),\"\")","v":"021-00"},null,"Details","Collection","Data",null,{"$f":"IF(Collections!$T59,OFFSET(DetailList!J$1,$W59,0),\"\")","v":"quarterly"},{"$f":"IF(Collections!$T59,OFFSET(DetailList!K$1,$W59,0),\"\")","v":"Single tier & lower tier"},{"$f":"IF($T59,OFFSET(DetailList!AU$1,$W59,0),\"\")","v":11},{"$f":"IF($T59,OFFSET(DetailList!AS$1,$W59,0),\"\")","v":"aggregate/summary"},null,{"$f":"IF($T59,OFFSET(DetailList!P$1,$W59,0),\"\")","v":"www.gov.uk/government/publications/district-planning-matters-return-ps1-and-ps2"},{"$f":"IF($T59,OFFSET(DetailList!Q$1,$W59,0),\"\")","v":"https://www.gov.uk/government/collections/planning-applications-statistics"},{"$f":"IF($T59,OFFSET(DetailList!R$1,$W59,0),\"\")","v":0},null,true,59,{"$f":"IF($T59,OFFSET(DetailList!A$1,$W59,0),\"\")","v":"C"},{"$f":"MATCH(U59,DetailList!BG:BG,0)-1","v":26}]
[null,{"$f":"IF($T60,OFFSET(DetailList!C$1,$W60,0),\"\")","v":"CPS1/2 County matters planning statistical returns"},{"$f":"IF($T60,OFFSET(DetailList!E$1,$W60,0),\"\")","v":"DLUHC"},{"$f":"IF($T60,OFFSET(DetailList!F$1,$W60,0),\"\")","v":0},{"$f":"IF($T60,OFFSET(DetailList!B$1,$W60,0),\"\")","v":"022-00"},null,"Details","Collection","Data",null,{"$f":"IF(Collections!$T60,OFFSET(DetailList!J$1,$W60,0),\"\")","v":"quarterly"},{"$f":"IF(Collections!$T60,OFFSET(DetailList!K$1,$W60,0),\"\")","v":"Upper tier & single tier"},{"$f":"IF($T60,OFFSET(DetailList!AU$1,$W60,0),\"\")","v":5},{"$f":"IF($T60,OFFSET(DetailList!AS$1,$W60,0),\"\")","v":"aggregate/summary"},null,{"$f":"IF($T60,OFFSET(DetailList!P$1,$W60,0),\"\")","v":"https://www.gov.uk/government/publications/county-planning-matters-return-cps1-and-cps2"},{"$f":"IF($T60,OFFSET(DetailList!Q$1,$W60,0),\"\")","v":"https://www.gov.uk/government/collections/planning-applications-statistics"},{"$f":"IF($T60,OFFSET(DetailList!R$1,$W60,0),\"\")","v":0},null,true,60,{"$f":"IF($T60,OFFSET(DetailList!A$1,$W60,0),\"\")","v":"C"},{"$f":"MATCH(U60,DetailList!BG:BG,0)-1","v":38}]
[null,{"$f":"IF($T61,OFFSET(DetailList!C$1,$W61,0),\"\")","v":"Revenue Summary (RS)"},{"$f":"IF($T61,OFFSET(DetailList!E$1,$W61,0),\"\")","v":"DLUHC"},{"$f":"IF($T61,OFFSET(DetailList!F$1,$W61,0),\"\")","v":0},{"$f":"IF($T61,OFFSET(DetailList!B$1,$W61,0),\"\")","v":"026-00"},null,"Details","Collection","Data",null,{"$f":"IF(Collections!$T61,OFFSET(DetailList!J$1,$W61,0),\"\")","v":"annual"},{"$f":"IF(Collections!$T61,OFFSET(DetailList!K$1,$W61,0),\"\")","v":"All local authorities"},{"$f":"IF($T61,OFFSET(DetailList!AU$1,$W61,0),\"\")","v":1},{"$f":"IF($T61,OFFSET(DetailList!AS$1,$W61,0),\"\")","v":"aggregate/summary"},null,{"$f":"IF($T61,OFFSET(DetailList!P$1,$W61,0),\"\")","v":"www.gov.uk/government/collections/local-government-finance-miscellaneous-forms"},{"$f":"IF($T61,OFFSET(DetailList!Q$1,$W61,0),\"\")","v":"https://www.gov.uk/government/statistics/local-authority-revenue-expenditure-and-financing-england-2015-to-2016-final-outturn"},null,null,true,61,{"$f":"IF($T61,OFFSET(DetailList!A$1,$W61,0),\"\")","v":"C"},{"$f":"MATCH(U61,DetailList!BG:BG,0)-1","v":44}]
[null,{"$f":"IF($T62,OFFSET(DetailList!C$1,$W62,0),\"\")","v":"Revenue Grants (RG)"},{"$f":"IF($T62,OFFSET(DetailList!E$1,$W62,0),\"\")","v":"DLUHC"},{"$f":"IF($T62,OFFSET(DetailList!F$1,$W62,0),\"\")","v":0},{"$f":"IF($T62,OFFSET(DetailList!B$1,$W62,0),\"\")","v":"027-00"},null,"Details","Collection","Data",null,{"$f":"IF(Collections!$T62,OFFSET(DetailList!J$1,$W62,0),\"\")","v":"annual"},{"$f":"IF(Collections!$T62,OFFSET(DetailList!K$1,$W62,0),\"\")","v":"All local authorities"},{"$f":"IF($T62,OFFSET(DetailList!AU$1,$W62,0),\"\")","v":1},{"$f":"IF($T62,OFFSET(DetailList!AS$1,$W62,0),\"\")","v":"aggregate/summary"},null,{"$f":"IF($T62,OFFSET(DetailList!P$1,$W62,0),\"\")","v":"https://www.gov.uk/government/collections/local-government-finance-miscellaneous-forms"},{"$f":"IF($T62,OFFSET(DetailList!Q$1,$W62,0),\"\")","v":"https://www.gov.uk/government/statistics/local-authority-revenue-expenditure-and-financing-england-2015-to-2016-final-outturn"},{"$f":"IF($T62,OFFSET(DetailList!R$1,$W62,0),\"\")","v":0},null,true,62,{"$f":"IF($T62,OFFSET(DetailList!A$1,$W62,0),\"\")","v":"C"},{"$f":"MATCH(U62,DetailList!BG:BG,0)-1","v":46}]
[null,{"$f":"IF($T63,OFFSET(DetailList!C$1,$W63,0),\"\")","v":"Revenue Outturn (RO)"},{"$f":"IF($T63,OFFSET(DetailList!E$1,$W63,0),\"\")","v":"DLUHC"},{"$f":"IF($T63,OFFSET(DetailList!F$1,$W63,0),\"\")","v":0},{"$f":"IF($T63,OFFSET(DetailList!B$1,$W63,0),\"\")","v":"028-00"},null,"Details","Collection","Data",null,{"$f":"IF(Collections!$T63,OFFSET(DetailList!J$1,$W63,0),\"\")","v":"annual"},{"$f":"IF(Collections!$T63,OFFSET(DetailList!K$1,$W63,0),\"\")","v":"All local authorities"},{"$f":"IF($T63,OFFSET(DetailList!AU$1,$W63,0),\"\")","v":6},{"$f":"IF($T63,OFFSET(DetailList!AS$1,$W63,0),\"\")","v":"aggregate/summary"},null,{"$f":"IF($T63,OFFSET(DetailList!P$1,$W63,0),\"\")","v":"https://www.gov.uk/government/collections/local-government-finance-miscellaneous-forms"},{"$f":"IF($T63,OFFSET(DetailList!Q$1,$W63,0),\"\")","v":"https://www.gov.uk/government/statistics/local-authority-revenue-expenditure-and-financing-england-2015-to-2016-final-outturn"},{"$f":"IF($T63,OFFSET(DetailList!R$1,$W63,0),\"\")","v":0},null,true,63,{"$f":"IF($T63,OFFSET(DetailList!A$1,$W63,0),\"\")","v":"C"},{"$f":"MATCH(U63,DetailList!BG:BG,0)-1","v":48}]
[null,{"$f":"IF($T64,OFFSET(DetailList!C$1,$W64,0),\"\")","v":"Trading Services Return (TSR)"},{"$f":"IF($T64,OFFSET(DetailList!E$1,$W64,0),\"\")","v":"DLUHC"},{"$f":"IF($T64,OFFSET(DetailList!F$1,$W64,0),\"\")","v":0},{"$f":"IF($T64,OFFSET(DetailList!B$1,$W64,0),\"\")","v":"029-00"},null,"Details","Collection","Data",null,{"$f":"IF(Collections!$T64,OFFSET(DetailList!J$1,$W64,0),\"\")","v":"annual"},{"$f":"IF(Collections!$T64,OFFSET(DetailList!K$1,$W64,0),\"\")","v":"All local authorities"},{"$f":"IF($T64,OFFSET(DetailList!AU$1,$W64,0),\"\")","v":1},{"$f":"IF($T64,OFFSET(DetailList!AS$1,$W64,0),\"\")","v":"aggregate/summary"},null,{"$f":"IF($T64,OFFSET(DetailList!P$1,$W64,0),\"\")","v":"https://www.gov.uk/government/collections/local-government-finance-miscellaneous-forms"},{"$f":"IF($T64,OFFSET(DetailList!Q$1,$W64,0),\"\")","v":"https://www.gov.uk/government/statistics/local-authority-revenue-expenditure-and-financing-england-2015-to-2016-individual-local-authority-data-outturn"},{"$f":"IF($T64,OFFSET(DetailList!R$1,$W64,0),\"\")","v":0},null,true,64,{"$f":"IF($T64,OFFSET(DetailList!A$1,$W64,0),\"\")","v":"C"},{"$f":"MATCH(U64,DetailList!BG:BG,0)-1","v":55}]
[null,{"$f":"IF($T65,OFFSET(DetailList!C$1,$W65,0),\"\")","v":"Subjective Analysis Return (SAR)"},{"$f":"IF($T65,OFFSET(DetailList!E$1,$W65,0),\"\")","v":"DLUHC"},{"$f":"IF($T65,OFFSET(DetailList!F$1,$W65,0),\"\")","v":0},{"$f":"IF($T65,OFFSET(DetailList!B$1,$W65,0),\"\")","v":"030-00"},null,"Details","Collection","Data",null,{"$f":"IF(Collections!$T65,OFFSET(DetailList!J$1,$W65,0),\"\")","v":"annual"},{"$f":"IF(Collections!$T65,OFFSET(DetailList!K$1,$W65,0),\"\")","v":"Sample of authorities"},{"$f":"IF($T65,OFFSET(DetailList!AU$1,$W65,0),\"\")","v":1},{"$f":"IF($T65,OFFSET(DetailList!AS$1,$W65,0),\"\")","v":"aggregate/summary"},null,{"$f":"IF($T65,OFFSET(DetailList!P$1,$W65,0),\"\")","v":"https://www.gov.uk/government/collections/local-government-finance-miscellaneous-forms"},{"$f":"IF($T65,OFFSET(DetailList!Q$1,$W65,0),\"\")","v":"https://www.gov.uk/government/statistics/local-authority-revenue-expenditure-and-financing-england-2015-to-2016-final-outturn"},{"$f":"IF($T65,OFFSET(DetailList!R$1,$W65,0),\"\")","v":0},null,{"$f":"U65<=Y$1","v":true},65,{"$f":"IF($T65,OFFSET(DetailList!A$1,$W65,0),\"\")","v":"C"},{"$f":"MATCH(U65,DetailList!BG:BG,0)-1","v":57}]
[null,{"$f":"IF($T66,OFFSET(DetailList!C$1,$W66,0),\"\")","v":"Revenue Account budget (RA)"},{"$f":"IF($T66,OFFSET(DetailList!E$1,$W66,0),\"\")","v":"DLUHC"},{"$f":"IF($T66,OFFSET(DetailList!F$1,$W66,0),\"\")","v":0},{"$f":"IF($T66,OFFSET(DetailList!B$1,$W66,0),\"\")","v":"032-00"},null,{"$f":"IF(AND($T66,$V66=\"C\"),HYPERLINK(\"#DetailList!A\"&W66+1,\"Details\"),\"\")","v":"Details"},{"$f":"IF(AND($T66,$V66=\"C\",NOT(P66=0)),HYPERLINK(P66,\"Collection\"),\"\")","v":"Collection"},{"$f":"IF(AND($T66,$V66=\"C\",NOT(Q66=0)),HYPERLINK(Q66,\"Data\"),\"\")","v":"Data"},null,{"$f":"IF(Collections!$T66,OFFSET(DetailList!J$1,$W66,0),\"\")","v":"annual"},{"$f":"IF(Collections!$T66,OFFSET(DetailList!K$1,$W66,0),\"\")","v":"All local authorities"},{"$f":"IF($T66,OFFSET(DetailList!AU$1,$W66,0),\"\")","v":1},{"$f":"IF($T66,OFFSET(DetailList!AS$1,$W66,0),\"\")","v":"aggregate/summary"},null,{"$f":"IF($T66,OFFSET(DetailList!P$1,$W66,0),\"\")","v":"www.gov.uk/government/collections/local-government-finance-miscellaneous-forms"},{"$f":"IF($T66,OFFSET(DetailList!Q$1,$W66,0),\"\")","v":"https://www.gov.uk/government/statistics/local-authority-revenue-expenditure-and-financing-england-2016-to-2017-budget"},{"$f":"IF($T66,OFFSET(DetailList!R$1,$W66,0),\"\")","v":0},null,true,66,{"$f":"IF($T66,OFFSET(DetailList!A$1,$W66,0),\"\")","v":"C"},{"$f":"MATCH(U66,DetailList!BG:BG,0)-1","v":59}]
[null,{"$f":"IF($T67,OFFSET(DetailList!C$1,$W67,0),\"\")","v":"Revenue Account Specific and Special Grants (SG)"},{"$f":"IF($T67,OFFSET(DetailList!E$1,$W67,0),\"\")","v":"DLUHC"},{"$f":"IF($T67,OFFSET(DetailList!F$1,$W67,0),\"\")","v":0},{"$f":"IF($T67,OFFSET(DetailList!B$1,$W67,0),\"\")","v":"033-00"},null,"Details","Collection","Data",null,{"$f":"IF(Collections!$T67,OFFSET(DetailList!J$1,$W67,0),\"\")","v":"annual"},{"$f":"IF(Collections!$T67,OFFSET(DetailList!K$1,$W67,0),\"\")","v":"All local authorities"},{"$f":"IF($T67,OFFSET(DetailList!AU$1,$W67,0),\"\")","v":1},{"$f":"IF($T67,OFFSET(DetailList!AS$1,$W67,0),\"\")","v":"aggregate/summary"},null,{"$f":"IF($T67,OFFSET(DetailList!P$1,$W67,0),\"\")","v":"https://www.gov.uk/government/collections/local-government-finance-miscellaneous-forms"},{"$f":"IF($T67,OFFSET(DetailList!Q$1,$W67,0),\"\")","v":"https://www.gov.uk/government/statistics/local-authority-revenue-expenditure-and-financing-england-2016-to-2017-budget"},{"$f":"IF($T67,OFFSET(DetailList!R$1,$W67,0),\"\")","v":0},null,true,67,{"$f":"IF($T67,OFFSET(DetailList!A$1,$W67,0),\"\")","v":"C"},{"$f":"MATCH(U67,DetailList!BG:BG,0)-1","v":61}]
[null,{"$f":"IF($T68,OFFSET(DetailList!C$1,$W68,0),\"\")","v":"Capital Outturn Return (COR) Expenditure & Receipts"},{"$f":"IF($T68,OFFSET(DetailList!E$1,$W68,0),\"\")","v":"DLUHC"},{"$f":"IF($T68,OFFSET(DetailList!F$1,$W68,0),\"\")","v":0},{"$f":"IF($T68,OFFSET(DetailList!B$1,$W68,0),\"\")","v":"035-00"},null,"Details","Collection","Data",null,{"$f":"IF(Collections!$T68,OFFSET(DetailList!J$1,$W68,0),\"\")","v":"annual"},{"$f":"IF(Collections!$T68,OFFSET(DetailList!K$1,$W68,0),\"\")","v":"All local authorities"},{"$f":"IF($T68,OFFSET(DetailList!AU$1,$W68,0),\"\")","v":2},{"$f":"IF($T68,OFFSET(DetailList!AS$1,$W68,0),\"\")","v":"aggregate/summary"},null,{"$f":"IF($T68,OFFSET(DetailList!P$1,$W68,0),\"\")","v":"https://www.gov.uk/government/collections/local-government-finance-miscellaneous-forms"},{"$f":"IF($T68,OFFSET(DetailList!Q$1,$W68,0),\"\")","v":"https://www.gov.uk/government/statistics/local-authority-capital-expenditure-and-receipts-in-england-2015-to-2016-final-outturn"},{"$f":"IF($T68,OFFSET(DetailList!R$1,$W68,0),\"\")","v":0},null,true,68,{"$f":"IF($T68,OFFSET(DetailList!A$1,$W68,0),\"\")","v":"C"},{"$f":"MATCH(U68,DetailList!BG:BG,0)-1","v":63}]
[null,{"$f":"IF($T69,OFFSET(DetailList!C$1,$W69,0),\"\")","v":"Capital Outturn Return (COR) Financing"},{"$f":"IF($T69,OFFSET(DetailList!E$1,$W69,0),\"\")","v":"DLUHC"},{"$f":"IF($T69,OFFSET(DetailList!F$1,$W69,0),\"\")","v":0},{"$f":"IF($T69,OFFSET(DetailList!B$1,$W69,0),\"\")","v":"036-00"},null,"Details","Collection","Data",null,{"$f":"IF(Collections!$T69,OFFSET(DetailList!J$1,$W69,0),\"\")","v":"annual"},{"$f":"IF(Collections!$T69,OFFSET(DetailList!K$1,$W69,0),\"\")","v":"All local authorities"},{"$f":"IF($T69,OFFSET(DetailList!AU$1,$W69,0),\"\")","v":1},{"$f":"IF($T69,OFFSET(DetailList!AS$1,$W69,0),\"\")","v":"aggregate/summary"},null,{"$f":"IF($T69,OFFSET(DetailList!P$1,$W69,0),\"\")","v":"https://www.gov.uk/government/collections/local-government-finance-miscellaneous-forms"},{"$f":"IF($T69,OFFSET(DetailList!Q$1,$W69,0),\"\")","v":"https://www.gov.uk/government/statistics/local-authority-capital-expenditure-and-receipts-in-england-2015-to-2016-final-outturn"},{"$f":"IF($T69,OFFSET(DetailList!R$1,$W69,0),\"\")","v":0},null,true,69,{"$f":"IF($T69,OFFSET(DetailList!A$1,$W69,0),\"\")","v":"C"},{"$f":"MATCH(U69,DetailList!BG:BG,0)-1","v":66}]
[null,{"$f":"IF($T70,OFFSET(DetailList!C$1,$W70,0),\"\")","v":"Capital Outturn Return (COR) Prudential System"},{"$f":"IF($T70,OFFSET(DetailList!E$1,$W70,0),\"\")","v":"DLUHC"},{"$f":"IF($T70,OFFSET(DetailList!F$1,$W70,0),\"\")","v":0},{"$f":"IF($T70,OFFSET(DetailList!B$1,$W70,0),\"\")","v":"037-00"},null,"Details","Collection","Data",null,{"$f":"IF(Collections!$T70,OFFSET(DetailList!J$1,$W70,0),\"\")","v":"annual"},{"$f":"IF(Collections!$T70,OFFSET(DetailList!K$1,$W70,0),\"\")","v":"All local authorities"},{"$f":"IF($T70,OFFSET(DetailList!AU$1,$W70,0),\"\")","v":1},{"$f":"IF($T70,OFFSET(DetailList!AS$1,$W70,0),\"\")","v":"aggregate/summary"},null,{"$f":"IF($T70,OFFSET(DetailList!P$1,$W70,0),\"\")","v":"https://www.gov.uk/government/collections/local-government-finance-miscellaneous-forms"},{"$f":"IF($T70,OFFSET(DetailList!Q$1,$W70,0),\"\")","v":"https://www.gov.uk/government/statistics/local-authority-capital-expenditure-and-receipts-in-england-2015-to-2016-final-outturn"},{"$f":"IF($T70,OFFSET(DetailList!R$1,$W70,0),\"\")","v":0},null,true,70,{"$f":"IF($T70,OFFSET(DetailList!A$1,$W70,0),\"\")","v":"C"},{"$f":"MATCH(U70,DetailList!BG:BG,0)-1","v":68}]
[null,{"$f":"IF($T71,OFFSET(DetailList!C$1,$W71,0),\"\")","v":"Capital Outturn Return (COR)  receipts and major repairs reserve"},{"$f":"IF($T71,OFFSET(DetailList!E$1,$W71,0),\"\")","v":"DLUHC"},{"$f":"IF($T71,OFFSET(DetailList!F$1,$W71,0),\"\")","v":0},{"$f":"IF($T71,OFFSET(DetailList!B$1,$W71,0),\"\")","v":"038-00"},null,"Details","Collection","Data",null,{"$f":"IF(Collections!$T71,OFFSET(DetailList!J$1,$W71,0),\"\")","v":"annual"},{"$f":"IF(Collections!$T71,OFFSET(DetailList!K$1,$W71,0),\"\")","v":"All local authorities"},{"$f":"IF($T71,OFFSET(DetailList!AU$1,$W71,0),\"\")","v":2},{"$f":"IF($T71,OFFSET(DetailList!AS$1,$W71,0),\"\")","v":"aggregate/summary"},null,{"$f":"IF($T71,OFFSET(DetailList!P$1,$W71,0),\"\")","v":"https://www.gov.uk/government/collections/local-government-finance-miscellaneous-forms"},{"$f":"IF($T71,OFFSET(DetailList!Q$1,$W71,0),\"\")","v":"https://www.gov.uk/government/statistics/local-authority-capital-expenditure-and-receipts-in-england-2015-to-2016-final-outturn"},{"$f":"IF($T71,OFFSET(DetailList!R$1,$W71,0),\"\")","v":0},null,true,71,{"$f":"IF($T71,OFFSET(DetailList!A$1,$W71,0),\"\")","v":"C"},{"$f":"MATCH(U71,DetailList!BG:BG,0)-1","v":70}]
[null,{"$f":"IF($T72,OFFSET(DetailList!C$1,$W72,0),\"\")","v":"Capital Estimates Return (CER)"},{"$f":"IF($T72,OFFSET(DetailList!E$1,$W72,0),\"\")","v":"DLUHC"},{"$f":"IF($T72,OFFSET(DetailList!F$1,$W72,0),\"\")","v":0},{"$f":"IF($T72,OFFSET(DetailList!B$1,$W72,0),\"\")","v":"040-00"},null,"Details","Collection","Data",null,{"$f":"IF(Collections!$T72,OFFSET(DetailList!J$1,$W72,0),\"\")","v":"annual"},{"$f":"IF(Collections!$T72,OFFSET(DetailList!K$1,$W72,0),\"\")","v":"All local authorities"},{"$f":"IF($T72,OFFSET(DetailList!AU$1,$W72,0),\"\")","v":4},{"$f":"IF($T72,OFFSET(DetailList!AS$1,$W72,0),\"\")","v":"aggregate/summary"},null,{"$f":"IF($T72,OFFSET(DetailList!P$1,$W72,0),\"\")","v":"https://www.gov.uk/government/collections/local-government-finance-miscellaneous-forms"},{"$f":"IF($T72,OFFSET(DetailList!Q$1,$W72,0),\"\")","v":"https://www.gov.uk/government/statistics/local-authority-capital-expenditure-and-receipts-in-england-2015-to-2016-provisional-outturn-and-2016-to-2017-forecast"},{"$f":"IF($T72,OFFSET(DetailList!R$1,$W72,0),\"\")","v":0},null,true,72,{"$f":"IF($T72,OFFSET(DetailList!A$1,$W72,0),\"\")","v":"C"},{"$f":"MATCH(U72,DetailList!BG:BG,0)-1","v":73}]
[null,{"$f":"IF($T73,OFFSET(DetailList!C$1,$W73,0),\"\")","v":"Capital Payments and Receipts (CPR1 to CPR 4)"},{"$f":"IF($T73,OFFSET(DetailList!E$1,$W73,0),\"\")","v":"DLUHC"},{"$f":"IF($T73,OFFSET(DetailList!F$1,$W73,0),\"\")","v":0},{"$f":"IF($T73,OFFSET(DetailList!B$1,$W73,0),\"\")","v":"041-00"},null,"Details","Collection","Data",null,{"$f":"IF(Collections!$T73,OFFSET(DetailList!J$1,$W73,0),\"\")","v":"quarterly"},{"$f":"IF(Collections!$T73,OFFSET(DetailList!K$1,$W73,0),\"\")","v":"All local authorities"},{"$f":"IF($T73,OFFSET(DetailList!AU$1,$W73,0),\"\")","v":4},{"$f":"IF($T73,OFFSET(DetailList!AS$1,$W73,0),\"\")","v":"aggregate/summary"},null,{"$f":"IF($T73,OFFSET(DetailList!P$1,$W73,0),\"\")","v":"https://www.gov.uk/government/collections/local-government-finance-miscellaneous-forms"},{"$f":"IF($T73,OFFSET(DetailList!Q$1,$W73,0),\"\")","v":"https://www.gov.uk/government/statistical-data-sets/live-tables-on-local-government-finance#capital-payments-and-receipts"},{"$f":"IF($T73,OFFSET(DetailList!R$1,$W73,0),\"\")","v":0},null,true,73,{"$f":"IF($T73,OFFSET(DetailList!A$1,$W73,0),\"\")","v":"C"},{"$f":"MATCH(U73,DetailList!BG:BG,0)-1","v":78}]
[null,{"$f":"IF($T74,OFFSET(DetailList!C$1,$W74,0),\"\")","v":"Council Tax Requirement (CTR1/CTR2/CTR3/CTR4)"},{"$f":"IF($T74,OFFSET(DetailList!E$1,$W74,0),\"\")","v":"DLUHC"},{"$f":"IF($T74,OFFSET(DetailList!F$1,$W74,0),\"\")","v":0},{"$f":"IF($T74,OFFSET(DetailList!B$1,$W74,0),\"\")","v":"042-00"},null,"Details","Collection","Data",null,{"$f":"IF(Collections!$T74,OFFSET(DetailList!J$1,$W74,0),\"\")","v":"annual"},{"$f":"IF(Collections!$T74,OFFSET(DetailList!K$1,$W74,0),\"\")","v":"All local authorities, fire, police & GLA"},{"$f":"IF($T74,OFFSET(DetailList!AU$1,$W74,0),\"\")","v":8},{"$f":"IF($T74,OFFSET(DetailList!AS$1,$W74,0),\"\")","v":"aggregate/summary"},null,{"$f":"IF($T74,OFFSET(DetailList!P$1,$W74,0),\"\")","v":"www.gov.uk/government/collections/local-government-finance-miscellaneous-forms#council-tax,-non-domestic-rates,-pensions-and-borrowing-forms"},{"$f":"IF($T74,OFFSET(DetailList!Q$1,$W74,0),\"\")","v":"https://www.gov.uk/government/collections/council-tax-statistics"},{"$f":"IF($T74,OFFSET(DetailList!R$1,$W74,0),\"\")","v":0},null,true,74,{"$f":"IF($T74,OFFSET(DetailList!A$1,$W74,0),\"\")","v":"C"},{"$f":"MATCH(U74,DetailList!BG:BG,0)-1","v":83}]
[null,{"$f":"IF($T75,OFFSET(DetailList!C$1,$W75,0),\"\")","v":"Quarterly Return of Council Taxes and Non-domestic rates (QRC1 to QRC3)"},{"$f":"IF($T75,OFFSET(DetailList!E$1,$W75,0),\"\")","v":"DLUHC"},{"$f":"IF($T75,OFFSET(DetailList!F$1,$W75,0),\"\")","v":0},{"$f":"IF($T75,OFFSET(DetailList!B$1,$W75,0),\"\")","v":"043-00"},null,"Details","Collection","Data",null,{"$f":"IF(Collections!$T75,OFFSET(DetailList!J$1,$W75,0),\"\")","v":"quarterly"},{"$f":"IF(Collections!$T75,OFFSET(DetailList!K$1,$W75,0),\"\")","v":"Single tier & lower tier"},{"$f":"IF($T75,OFFSET(DetailList!AU$1,$W75,0),\"\")","v":3},{"$f":"IF($T75,OFFSET(DetailList!AS$1,$W75,0),\"\")","v":"aggregate/summary"},null,{"$f":"IF($T75,OFFSET(DetailList!P$1,$W75,0),\"\")","v":"www.gov.uk/government/collections/local-government-finance-miscellaneous-forms#council-tax,-non-domestic-rates,-pensions-and-borrowing-forms"},{"$f":"IF($T75,OFFSET(DetailList!Q$1,$W75,0),\"\")","v":"https://www.gov.uk/government/statistical-data-sets/live-tables-on-local-government-finance"},{"$f":"IF($T75,OFFSET(DetailList!R$1,$W75,0),\"\")","v":0},null,true,75,{"$f":"IF($T75,OFFSET(DetailList!A$1,$W75,0),\"\")","v":"C"},{"$f":"MATCH(U75,DetailList!BG:BG,0)-1","v":92}]
[null,{"$f":"IF($T76,OFFSET(DetailList!C$1,$W76,0),\"\")","v":"Quarterly Return of Council Taxes and Non-domestic rates (QRC4)"},{"$f":"IF($T76,OFFSET(DetailList!E$1,$W76,0),\"\")","v":"DLUHC"},{"$f":"IF($T76,OFFSET(DetailList!F$1,$W76,0),\"\")","v":0},{"$f":"IF($T76,OFFSET(DetailList!B$1,$W76,0),\"\")","v":"166-00"},null,"Details","Collection","Data",null,{"$f":"IF(Collections!$T76,OFFSET(DetailList!J$1,$W76,0),\"\")","v":"annual"},{"$f":"IF(Collections!$T76,OFFSET(DetailList!K$1,$W76,0),\"\")","v":"Single tier & lower tier"},{"$f":"IF($T76,OFFSET(DetailList!AU$1,$W76,0),\"\")","v":1},{"$f":"IF($T76,OFFSET(DetailList!AS$1,$W76,0),\"\")","v":"aggregate/summary"},null,{"$f":"IF($T76,OFFSET(DetailList!P$1,$W76,0),\"\")","v":"www.gov.uk/government/collections/local-government-finance-miscellaneous-forms#council-tax,-non-domestic-rates,-pensions-and-borrowing-forms"},{"$f":"IF($T76,OFFSET(DetailList!Q$1,$W76,0),\"\")","v":"https://www.gov.uk/government/collections/council-tax-statistics#collection-rates-for-council-tax-and-non-domestic-rates"},{"$f":"IF($T76,OFFSET(DetailList!R$1,$W76,0),\"\")","v":0},null,true,76,{"$f":"IF($T76,OFFSET(DetailList!A$1,$W76,0),\"\")","v":"C"},{"$f":"MATCH(U76,DetailList!BG:BG,0)-1","v":96}]
[null,{"$f":"IF($T77,OFFSET(DetailList!C$1,$W77,0),\"\")","v":"Quarterly Revenue Outturn (QRO)"},{"$f":"IF($T77,OFFSET(DetailList!E$1,$W77,0),\"\")","v":"DLUHC"},{"$f":"IF($T77,OFFSET(DetailList!F$1,$W77,0),\"\")","v":0},{"$f":"IF($T77,OFFSET(DetailList!B$1,$W77,0),\"\")","v":"044-00"},null,"Details","Collection","Data",null,{"$f":"IF(Collections!$T77,OFFSET(DetailList!J$1,$W77,0),\"\")","v":"quarterly"},{"$f":"IF(Collections!$T77,OFFSET(DetailList!K$1,$W77,0),\"\")","v":"All local authorities"},{"$f":"IF($T77,OFFSET(DetailList!AU$1,$W77,0),\"\")","v":1},{"$f":"IF($T77,OFFSET(DetailList!AS$1,$W77,0),\"\")","v":"aggregate/summary"},null,{"$f":"IF($T77,OFFSET(DetailList!P$1,$W77,0),\"\")","v":"https://www.gov.uk/government/policies/making-local-councils-more-transparent-and-accountable-to-local-people/supporting-pages/quarterly-revenue-outturn"},{"$f":"IF($T77,OFFSET(DetailList!Q$1,$W77,0),\"\")","v":"https://www.gov.uk/government/statistical-data-sets/live-tables-on-local-government-finance#quarterly-revenue-outturn"},{"$f":"IF($T77,OFFSET(DetailList!R$1,$W77,0),\"\")","v":0},null,true,77,{"$f":"IF($T77,OFFSET(DetailList!A$1,$W77,0),\"\")","v":"C"},{"$f":"MATCH(U77,DetailList!BG:BG,0)-1","v":98}]
[null,{"$f":"IF($T78,OFFSET(DetailList!C$1,$W78,0),\"\")","v":"Council Tax Base (CTB)"},{"$f":"IF($T78,OFFSET(DetailList!E$1,$W78,0),\"\")","v":"DLUHC"},{"$f":"IF($T78,OFFSET(DetailList!F$1,$W78,0),\"\")","v":0},{"$f":"IF($T78,OFFSET(DetailList!B$1,$W78,0),\"\")","v":"045-00"},null,"Details","Collection","Data",null,{"$f":"IF(Collections!$T78,OFFSET(DetailList!J$1,$W78,0),\"\")","v":"annual"},{"$f":"IF(Collections!$T78,OFFSET(DetailList!K$1,$W78,0),\"\")","v":"Single tier & lower tier"},{"$f":"IF($T78,OFFSET(DetailList!AU$1,$W78,0),\"\")","v":8},{"$f":"IF($T78,OFFSET(DetailList!AS$1,$W78,0),\"\")","v":"aggregate/summary"},null,{"$f":"IF($T78,OFFSET(DetailList!P$1,$W78,0),\"\")","v":"www.gov.uk/government/collections/local-government-finance-miscellaneous-forms#council-tax,-non-domestic-rates,-pensions-and-borrowing-forms"},{"$f":"IF($T78,OFFSET(DetailList!Q$1,$W78,0),\"\")","v":"https://www.gov.uk/government/collections/council-taxbase-statistics"},{"$f":"IF($T78,OFFSET(DetailList!R$1,$W78,0),\"\")","v":0},null,true,78,{"$f":"IF($T78,OFFSET(DetailList!A$1,$W78,0),\"\")","v":"C"},{"$f":"MATCH(U78,DetailList!BG:BG,0)-1","v":100}]
[null,{"$f":"IF($T79,OFFSET(DetailList!C$1,$W79,0),\"\")","v":"National Non-domestic Rates Return (NNDR) 1"},{"$f":"IF($T79,OFFSET(DetailList!E$1,$W79,0),\"\")","v":"DLUHC"},{"$f":"IF($T79,OFFSET(DetailList!F$1,$W79,0),\"\")","v":0},{"$f":"IF($T79,OFFSET(DetailList!B$1,$W79,0),\"\")","v":"046-00"},null,"Details","Collection","Data",null,{"$f":"IF(Collections!$T79,OFFSET(DetailList!J$1,$W79,0),\"\")","v":"annual"},{"$f":"IF(Collections!$T79,OFFSET(DetailList!K$1,$W79,0),\"\")","v":"Single tier & lower tier"},{"$f":"IF($T79,OFFSET(DetailList!AU$1,$W79,0),\"\")","v":6},{"$f":"IF($T79,OFFSET(DetailList!AS$1,$W79,0),\"\")","v":"aggregate/summary"},null,{"$f":"IF($T79,OFFSET(DetailList!P$1,$W79,0),\"\")","v":"www.gov.uk/government/collections/local-government-finance-miscellaneous-forms#council-tax,-non-domestic-rates,-pensions-and-borrowing-forms"},{"$f":"IF($T79,OFFSET(DetailList!Q$1,$W79,0),\"\")","v":"https://www.gov.uk/government/collections/national-non-domestic-rates-collected-by-councils"},{"$f":"IF($T79,OFFSET(DetailList!R$1,$W79,0),\"\")","v":0},null,true,79,{"$f":"IF($T79,OFFSET(DetailList!A$1,$W79,0),\"\")","v":"C"},{"$f":"MATCH(U79,DetailList!BG:BG,0)-1","v":109}]
[null,{"$f":"IF($T80,OFFSET(DetailList!C$1,$W80,0),\"\")","v":"National Non-domestic Rates Return (NNDR) 3"},{"$f":"IF($T80,OFFSET(DetailList!E$1,$W80,0),\"\")","v":"DLUHC"},{"$f":"IF($T80,OFFSET(DetailList!F$1,$W80,0),\"\")","v":0},{"$f":"IF($T80,OFFSET(DetailList!B$1,$W80,0),\"\")","v":"048-00"},null,"Details","Collection","Data",null,{"$f":"IF(Collections!$T80,OFFSET(DetailList!J$1,$W80,0),\"\")","v":"annual"},{"$f":"IF(Collections!$T80,OFFSET(DetailList!K$1,$W80,0),\"\")","v":"Single tier & lower tier"},{"$f":"IF($T80,OFFSET(DetailList!AU$1,$W80,0),\"\")","v":2},{"$f":"IF($T80,OFFSET(DetailList!AS$1,$W80,0),\"\")","v":"aggregate/summary"},null,{"$f":"IF($T80,OFFSET(DetailList!P$1,$W80,0),\"\")","v":"www.gov.uk/government/collections/local-government-finance-miscellaneous-forms#council-tax,-non-domestic-rates,-pensions-and-borrowing-forms"},{"$f":"IF($T80,OFFSET(DetailList!Q$1,$W80,0),\"\")","v":"https://www.gov.uk/government/collections/national-non-domestic-rates-collected-by-councils"},{"$f":"IF($T80,OFFSET(DetailList!R$1,$W80,0),\"\")","v":0},null,true,80,{"$f":"IF($T80,OFFSET(DetailList!A$1,$W80,0),\"\")","v":"C"},{"$f":"MATCH(U80,DetailList!BG:BG,0)-1","v":116}]
[null,{"$f":"IF($T81,OFFSET(DetailList!C$1,$W81,0),\"\")","v":"Local Government Pension Scheme Funds Form (SF3)"},{"$f":"IF($T81,OFFSET(DetailList!E$1,$W81,0),\"\")","v":"DLUHC"},{"$f":"IF($T81,OFFSET(DetailList!F$1,$W81,0),\"\")","v":0},{"$f":"IF($T81,OFFSET(DetailList!B$1,$W81,0),\"\")","v":"050-00"},null,"Details","Collection","Data",null,{"$f":"IF(Collections!$T81,OFFSET(DetailList!J$1,$W81,0),\"\")","v":"annual"},{"$f":"IF(Collections!$T81,OFFSET(DetailList!K$1,$W81,0),\"\")","v":"Administering authorities"},{"$f":"IF($T81,OFFSET(DetailList!AU$1,$W81,0),\"\")","v":11},{"$f":"IF($T81,OFFSET(DetailList!AS$1,$W81,0),\"\")","v":"aggregate/summary"},null,{"$f":"IF($T81,OFFSET(DetailList!P$1,$W81,0),\"\")","v":"www.gov.uk/government/collections/local-government-finance-miscellaneous-forms#council-tax,-non-domestic-rates,-pensions-and-borrowing-forms"},{"$f":"IF($T81,OFFSET(DetailList!Q$1,$W81,0),\"\")","v":"https://www.gov.uk/government/collections/local-government-pension-scheme#england-and-wales"},{"$f":"IF($T81,OFFSET(DetailList!R$1,$W81,0),\"\")","v":0},null,true,81,{"$f":"IF($T81,OFFSET(DetailList!A$1,$W81,0),\"\")","v":"C"},{"$f":"MATCH(U81,DetailList!BG:BG,0)-1","v":119}]
[null,{"$f":"IF($T82,OFFSET(DetailList!C$1,$W82,0),\"\")","v":"Monthly Borrowing and Lending Inquiry"},{"$f":"IF($T82,OFFSET(DetailList!E$1,$W82,0),\"\")","v":"DLUHC"},{"$f":"IF($T82,OFFSET(DetailList!F$1,$W82,0),\"\")","v":0},{"$f":"IF($T82,OFFSET(DetailList!B$1,$W82,0),\"\")","v":"051-00"},null,"Details","Collection","Data",null,{"$f":"IF(Collections!$T82,OFFSET(DetailList!J$1,$W82,0),\"\")","v":"monthly"},{"$f":"IF(Collections!$T82,OFFSET(DetailList!K$1,$W82,0),\"\")","v":"Sample of authorities"},{"$f":"IF($T82,OFFSET(DetailList!AU$1,$W82,0),\"\")","v":2},{"$f":"IF($T82,OFFSET(DetailList!AS$1,$W82,0),\"\")","v":"aggregate/summary"},null,{"$f":"IF($T82,OFFSET(DetailList!P$1,$W82,0),\"\")","v":"https://www.gov.uk/local-government-finance-miscellaneous-forms"},{"$f":"IF($T82,OFFSET(DetailList!Q$1,$W82,0),\"\")","v":"https://www.gov.uk/government/statistical-data-sets/live-tables-on-local-government-finance#borrowing-and-investment"},{"$f":"IF($T82,OFFSET(DetailList!R$1,$W82,0),\"\")","v":0},null,true,82,{"$f":"IF($T82,OFFSET(DetailList!A$1,$W82,0),\"\")","v":"C"},{"$f":"MATCH(U82,DetailList!BG:BG,0)-1","v":131}]
[null,{"$f":"IF($T83,OFFSET(DetailList!C$1,$W83,0),\"\")","v":"Quarterly Borrowing and Lending Inquiry"},{"$f":"IF($T83,OFFSET(DetailList!E$1,$W83,0),\"\")","v":"DLUHC"},{"$f":"IF($T83,OFFSET(DetailList!F$1,$W83,0),\"\")","v":0},{"$f":"IF($T83,OFFSET(DetailList!B$1,$W83,0),\"\")","v":"052-00"},null,"Details","Collection","Data",null,{"$f":"IF(Collections!$T83,OFFSET(DetailList!J$1,$W83,0),\"\")","v":"quarterly"},{"$f":"IF(Collections!$T83,OFFSET(DetailList!K$1,$W83,0),\"\")","v":"All local authorities"},{"$f":"IF($T83,OFFSET(DetailList!AU$1,$W83,0),\"\")","v":2},{"$f":"IF($T83,OFFSET(DetailList!AS$1,$W83,0),\"\")","v":"aggregate/summary"},null,{"$f":"IF($T83,OFFSET(DetailList!P$1,$W83,0),\"\")","v":"https://www.gov.uk/local-government-finance-miscellaneous-forms"},{"$f":"IF($T83,OFFSET(DetailList!Q$1,$W83,0),\"\")","v":"https://www.gov.uk/government/statistical-data-sets/live-tables-on-local-government-finance#borrowing-and-investment"},{"$f":"IF($T83,OFFSET(DetailList!R$1,$W83,0),\"\")","v":0},null,true,83,{"$f":"IF($T83,OFFSET(DetailList!A$1,$W83,0),\"\")","v":"C"},{"$f":"MATCH(U83,DetailList!BG:BG,0)-1","v":134}]
[null,{"$f":"IF($T84,OFFSET(DetailList!C$1,$W84,0),\"\")","v":"Self-Build and Custom Housebuilding (SBCH)"},{"$f":"IF($T84,OFFSET(DetailList!E$1,$W84,0),\"\")","v":"DLUHC"},{"$f":"IF($T84,OFFSET(DetailList!F$1,$W84,0),\"\")","v":0},{"$f":"IF($T84,OFFSET(DetailList!B$1,$W84,0),\"\")","v":"265-00"},null,"Details","","Data",null,{"$f":"IF(Collections!$T84,OFFSET(DetailList!J$1,$W84,0),\"\")","v":"annual"},{"$f":"IF(Collections!$T84,OFFSET(DetailList!K$1,$W84,0),\"\")","v":"Single tier & lower tier"},{"$f":"IF($T84,OFFSET(DetailList!AU$1,$W84,0),\"\")","v":1},{"$f":"IF($T84,OFFSET(DetailList!AS$1,$W84,0),\"\")","v":"aggregate/summary"},null,{"$f":"IF($T84,OFFSET(DetailList!P$1,$W84,0),\"\")","v":0},{"$f":"IF($T84,OFFSET(DetailList!Q$1,$W84,0),\"\")","v":"https://www.gov.uk/government/publications/self-build-and-custom-housebuilding-data-2016-2016-17-2017-18-and-2018-19"},{"$f":"IF($T84,OFFSET(DetailList!R$1,$W84,0),\"\")","v":0},null,true,84,{"$f":"IF($T84,OFFSET(DetailList!A$1,$W84,0),\"\")","v":"C"},{"$f":"MATCH(U84,DetailList!BG:BG,0)-1","v":137}]
[null,{"$f":"IF($T85,OFFSET(DetailList!C$1,$W85,0),\"\")","v":"Housing Delivery Test data "},{"$f":"IF($T85,OFFSET(DetailList!E$1,$W85,0),\"\")","v":"DLUHC"},{"$f":"IF($T85,OFFSET(DetailList!F$1,$W85,0),\"\")","v":0},{"$f":"IF($T85,OFFSET(DetailList!B$1,$W85,0),\"\")","v":"267-00"},null,"Details","","Data",null,{"$f":"IF(Collections!$T85,OFFSET(DetailList!J$1,$W85,0),\"\")","v":"annual"},{"$f":"IF(Collections!$T85,OFFSET(DetailList!K$1,$W85,0),\"\")","v":"Single tier & lower tier"},{"$f":"IF($T85,OFFSET(DetailList!AU$1,$W85,0),\"\")","v":1},{"$f":"IF($T85,OFFSET(DetailList!AS$1,$W85,0),\"\")","v":"aggregate/summary"},null,{"$f":"IF($T85,OFFSET(DetailList!P$1,$W85,0),\"\")","v":0},{"$f":"IF($T85,OFFSET(DetailList!Q$1,$W85,0),\"\")","v":"https://www.gov.uk/government/publications/housing-delivery-test-2021-measurement"},{"$f":"IF($T85,OFFSET(DetailList!R$1,$W85,0),\"\")","v":0},null,true,85,{"$f":"IF($T85,OFFSET(DetailList!A$1,$W85,0),\"\")","v":"C"},{"$f":"MATCH(U85,DetailList!BG:BG,0)-1","v":139}]
[null,{"$f":"IF($T86,OFFSET(DetailList!C$1,$W86,0),\"\")","v":"Local Authority Housing Statistics"},{"$f":"IF($T86,OFFSET(DetailList!E$1,$W86,0),\"\")","v":"DLUHC"},{"$f":"IF($T86,OFFSET(DetailList!F$1,$W86,0),\"\")","v":0},{"$f":"IF($T86,OFFSET(DetailList!B$1,$W86,0),\"\")","v":"252-00"},null,"Details","Collection","Data",null,{"$f":"IF(Collections!$T86,OFFSET(DetailList!J$1,$W86,0),\"\")","v":"Annual"},{"$f":"IF(Collections!$T86,OFFSET(DetailList!K$1,$W86,0),\"\")","v":"Single tier & lower tier"},{"$f":"IF($T86,OFFSET(DetailList!AU$1,$W86,0),\"\")","v":1},{"$f":"IF($T86,OFFSET(DetailList!AS$1,$W86,0),\"\")","v":"aggregate/summary"},null,{"$f":"IF($T86,OFFSET(DetailList!P$1,$W86,0),\"\")","v":"www.gov.uk/government/collections/local-authority-housing-data"},{"$f":"IF($T86,OFFSET(DetailList!Q$1,$W86,0),\"\")","v":"https://www.gov.uk/government/collections/local-authority-housing-data"},{"$f":"IF($T86,OFFSET(DetailList!R$1,$W86,0),\"\")","v":0},null,true,86,{"$f":"IF($T86,OFFSET(DetailList!A$1,$W86,0),\"\")","v":"C"},{"$f":"MATCH(U86,DetailList!BG:BG,0)-1","v":141}]
[null,{"$f":"IF($T87,OFFSET(DetailList!C$1,$W87,0),\"\")","v":"H-CLIC (Homelessness Case Level Information Collection) "},{"$f":"IF($T87,OFFSET(DetailList!E$1,$W87,0),\"\")","v":"DLUHC"},{"$f":"IF($T87,OFFSET(DetailList!F$1,$W87,0),\"\")","v":0},{"$f":"IF($T87,OFFSET(DetailList!B$1,$W87,0),\"\")","v":"268-00"},null,"Details","Collection","Data",null,{"$f":"IF(Collections!$T87,OFFSET(DetailList!J$1,$W87,0),\"\")","v":"Quarterly"},{"$f":"IF(Collections!$T87,OFFSET(DetailList!K$1,$W87,0),\"\")","v":"Single tier & lower tier"},{"$f":"IF($T87,OFFSET(DetailList!AU$1,$W87,0),\"\")","v":1},{"$f":"IF($T87,OFFSET(DetailList!AS$1,$W87,0),\"\")","v":"Case level data"},null,{"$f":"IF($T87,OFFSET(DetailList!P$1,$W87,0),\"\")","v":"https://delta.communities.gov.uk/document-repository/public/download?uri=/document-repository/HCLIC_Data_Specification_v1.5_approved.docx"},{"$f":"IF($T87,OFFSET(DetailList!Q$1,$W87,0),\"\")","v":"https://www.gov.uk/government/collections/homelessness-statistics#statutory-homelessness"},{"$f":"IF($T87,OFFSET(DetailList!R$1,$W87,0),\"\")","v":0},null,true,87,{"$f":"IF($T87,OFFSET(DetailList!A$1,$W87,0),\"\")","v":"C"},{"$f":"MATCH(U87,DetailList!BG:BG,0)-1","v":143}]
[null,{"$f":"IF($T88,OFFSET(DetailList!C$1,$W88,0),\"\")","v":"Names of additional Public Private Partnership / Private Finance Initiative Projects (for ONS & HMT)"},{"$f":"IF($T88,OFFSET(DetailList!E$1,$W88,0),\"\")","v":"DLUHC"},{"$f":"IF($T88,OFFSET(DetailList!F$1,$W88,0),\"\")","v":0},{"$f":"IF($T88,OFFSET(DetailList!B$1,$W88,0),\"\")","v":"271-00"},null,"Details","","",null,{"$f":"IF(Collections!$T88,OFFSET(DetailList!J$1,$W88,0),\"\")","v":"annual"},{"$f":"IF(Collections!$T88,OFFSET(DetailList!K$1,$W88,0),\"\")","v":"All local authorities"},{"$f":"IF($T88,OFFSET(DetailList!AU$1,$W88,0),\"\")","v":1},{"$f":"IF($T88,OFFSET(DetailList!AS$1,$W88,0),\"\")","v":0},null,{"$f":"IF($T88,OFFSET(DetailList!P$1,$W88,0),\"\")","v":0},{"$f":"IF($T88,OFFSET(DetailList!Q$1,$W88,0),\"\")","v":0},{"$f":"IF($T88,OFFSET(DetailList!R$1,$W88,0),\"\")","v":0},null,true,88,{"$f":"IF($T88,OFFSET(DetailList!A$1,$W88,0),\"\")","v":"C"},{"$f":"MATCH(U88,DetailList!BG:BG,0)-1","v":145}]
[null,{"$f":"IF($T89,OFFSET(DetailList!C$1,$W89,0),\"\")","v":"Exit payments"},{"$f":"IF($T89,OFFSET(DetailList!E$1,$W89,0),\"\")","v":"DLUHC"},{"$f":"IF($T89,OFFSET(DetailList!F$1,$W89,0),\"\")","v":0},{"$f":"IF($T89,OFFSET(DetailList!B$1,$W89,0),\"\")","v":"272-00"},null,"Details","Collection","Data",null,{"$f":"IF(Collections!$T89,OFFSET(DetailList!J$1,$W89,0),\"\")","v":"annual"},{"$f":"IF(Collections!$T89,OFFSET(DetailList!K$1,$W89,0),\"\")","v":"Council and combined authorities"},{"$f":"IF($T89,OFFSET(DetailList!AU$1,$W89,0),\"\")","v":1},{"$f":"IF($T89,OFFSET(DetailList!AS$1,$W89,0),\"\")","v":"aggregate/summary"},null,{"$f":"IF($T89,OFFSET(DetailList!P$1,$W89,0),\"\")","v":"https://delta.communities.gov.uk/document-repository/public/download?uri=/document-repository/Data_Commission_Special_Severance_Payments.xlsx "},{"$f":"IF($T89,OFFSET(DetailList!Q$1,$W89,0),\"\")","v":"https://www.gov.uk/government/statistics/local-authority-exit-payments-first-estimates-england-2019-20-and-2020-21"},{"$f":"IF($T89,OFFSET(DetailList!R$1,$W89,0),\"\")","v":0},null,true,89,{"$f":"IF($T89,OFFSET(DetailList!A$1,$W89,0),\"\")","v":"C"},{"$f":"MATCH(U89,DetailList!BG:BG,0)-1","v":147}]
[null,{"$f":"IF($T90,OFFSET(DetailList!C$1,$W90,0),\"\")","v":"Capital Outturn Return (COR) Local Authority Trading companies"},{"$f":"IF($T90,OFFSET(DetailList!E$1,$W90,0),\"\")","v":"DLUHC"},{"$f":"IF($T90,OFFSET(DetailList!F$1,$W90,0),\"\")","v":"Y"},{"$f":"IF($T90,OFFSET(DetailList!B$1,$W90,0),\"\")","v":"273-00"},null,"Details","","",null,{"$f":"IF(Collections!$T90,OFFSET(DetailList!J$1,$W90,0),\"\")","v":"annual"},{"$f":"IF(Collections!$T90,OFFSET(DetailList!K$1,$W90,0),\"\")","v":"All local authorities"},{"$f":"IF($T90,OFFSET(DetailList!AU$1,$W90,0),\"\")","v":0},{"$f":"IF($T90,OFFSET(DetailList!AS$1,$W90,0),\"\")","v":0},null,{"$f":"IF($T90,OFFSET(DetailList!P$1,$W90,0),\"\")","v":0},{"$f":"IF($T90,OFFSET(DetailList!Q$1,$W90,0),\"\")","v":0},{"$f":"IF($T90,OFFSET(DetailList!R$1,$W90,0),\"\")","v":0},null,true,90,{"$f":"IF($T90,OFFSET(DetailList!A$1,$W90,0),\"\")","v":"C"},{"$f":"MATCH(U90,DetailList!BG:BG,0)-1","v":149}]
[null,{"$f":"IF($T91,OFFSET(DetailList!C$1,$W91,0),\"\")","v":"Domestic Abuse Tier 1 Safe Accommodation"},{"$f":"IF($T91,OFFSET(DetailList!E$1,$W91,0),\"\")","v":"DLUHC"},{"$f":"IF($T91,OFFSET(DetailList!F$1,$W91,0),\"\")","v":"Y"},{"$f":"IF($T91,OFFSET(DetailList!B$1,$W91,0),\"\")","v":"274-00"},null,"Details","","",null,{"$f":"IF(Collections!$T91,OFFSET(DetailList!J$1,$W91,0),\"\")","v":"annual"},{"$f":"IF(Collections!$T91,OFFSET(DetailList!K$1,$W91,0),\"\")","v":"Uper tier & single tier"},{"$f":"IF($T91,OFFSET(DetailList!AU$1,$W91,0),\"\")","v":0},{"$f":"IF($T91,OFFSET(DetailList!AS$1,$W91,0),\"\")","v":"aggregate"},null,{"$f":"IF($T91,OFFSET(DetailList!P$1,$W91,0),\"\")","v":0},{"$f":"IF($T91,OFFSET(DetailList!Q$1,$W91,0),\"\")","v":0},{"$f":"IF($T91,OFFSET(DetailList!R$1,$W91,0),\"\")","v":0},null,true,91,{"$f":"IF($T91,OFFSET(DetailList!A$1,$W91,0),\"\")","v":"C"},{"$f":"MATCH(U91,DetailList!BG:BG,0)-1","v":151}]
[null,{"$f":"IF($T92,OFFSET(DetailList!C$1,$W92,0),\"\")","v":"Single Housing Benefit Extract (SHBE)"},{"$f":"IF($T92,OFFSET(DetailList!E$1,$W92,0),\"\")","v":"DWP"},{"$f":"IF($T92,OFFSET(DetailList!F$1,$W92,0),\"\")","v":0},{"$f":"IF($T92,OFFSET(DetailList!B$1,$W92,0),\"\")","v":"146-00"},null,"Details","","Data",null,{"$f":"IF(Collections!$T92,OFFSET(DetailList!J$1,$W92,0),\"\")","v":"monthly"},{"$f":"IF(Collections!$T92,OFFSET(DetailList!K$1,$W92,0),\"\")","v":"Single tier & lower tier"},{"$f":"IF($T92,OFFSET(DetailList!AU$1,$W92,0),\"\")","v":16},{"$f":"IF($T92,OFFSET(DetailList!AS$1,$W92,0),\"\")","v":"client based"},null,{"$f":"IF($T92,OFFSET(DetailList!P$1,$W92,0),\"\")","v":0},{"$f":"IF($T92,OFFSET(DetailList!Q$1,$W92,0),\"\")","v":"http://research.dwp.gov.uk/asd/index.php?page=hbctb"},{"$f":"IF($T92,OFFSET(DetailList!R$1,$W92,0),\"\")","v":0},null,true,92,{"$f":"IF($T92,OFFSET(DetailList!A$1,$W92,0),\"\")","v":"C"},{"$f":"MATCH(U92,DetailList!BG:BG,0)-1","v":439}]
[null,{"$f":"IF($T93,OFFSET(DetailList!C$1,$W93,0),\"\")","v":"Housing Benefits Recoveries Return"},{"$f":"IF($T93,OFFSET(DetailList!E$1,$W93,0),\"\")","v":"DWP"},{"$f":"IF($T93,OFFSET(DetailList!F$1,$W93,0),\"\")","v":0},{"$f":"IF($T93,OFFSET(DetailList!B$1,$W93,0),\"\")","v":"147-00"},null,"Details","","",null,{"$f":"IF(Collections!$T93,OFFSET(DetailList!J$1,$W93,0),\"\")","v":"quarterly"},{"$f":"IF(Collections!$T93,OFFSET(DetailList!K$1,$W93,0),\"\")","v":"Single tier & lower tier"},{"$f":"IF($T93,OFFSET(DetailList!AU$1,$W93,0),\"\")","v":1},{"$f":"IF($T93,OFFSET(DetailList!AS$1,$W93,0),\"\")","v":"aggregate/summary"},null,{"$f":"IF($T93,OFFSET(DetailList!P$1,$W93,0),\"\")","v":0},{"$f":"IF($T93,OFFSET(DetailList!Q$1,$W93,0),\"\")","v":0},{"$f":"IF($T93,OFFSET(DetailList!R$1,$W93,0),\"\")","v":0},null,true,93,{"$f":"IF($T93,OFFSET(DetailList!A$1,$W93,0),\"\")","v":"C"},{"$f":"MATCH(U93,DetailList!BG:BG,0)-1","v":456}]
[null,{"$f":"IF($T94,OFFSET(DetailList!C$1,$W94,0),\"\")","v":"Returns on outcome of DWP data-matching referrals on HB claims"},{"$f":"IF($T94,OFFSET(DetailList!E$1,$W94,0),\"\")","v":"DWP"},{"$f":"IF($T94,OFFSET(DetailList!F$1,$W94,0),\"\")","v":0},{"$f":"IF($T94,OFFSET(DetailList!B$1,$W94,0),\"\")","v":"148-00"},null,"Details","","",null,{"$f":"IF(Collections!$T94,OFFSET(DetailList!J$1,$W94,0),\"\")","v":"as required"},{"$f":"IF(Collections!$T94,OFFSET(DetailList!K$1,$W94,0),\"\")","v":"Single tier & lower tier"},{"$f":"IF($T94,OFFSET(DetailList!AU$1,$W94,0),\"\")","v":1},{"$f":"IF($T94,OFFSET(DetailList!AS$1,$W94,0),\"\")","v":"case based"},null,{"$f":"IF($T94,OFFSET(DetailList!P$1,$W94,0),\"\")","v":0},{"$f":"IF($T94,OFFSET(DetailList!Q$1,$W94,0),\"\")","v":0},{"$f":"IF($T94,OFFSET(DetailList!R$1,$W94,0),\"\")","v":0},null,true,94,{"$f":"IF($T94,OFFSET(DetailList!A$1,$W94,0),\"\")","v":"C"},{"$f":"MATCH(U94,DetailList!BG:BG,0)-1","v":458}]
[null,{"$f":"IF($T95,OFFSET(DetailList!C$1,$W95,0),\"\")","v":"Housing Benefit (HB)  subsidy estimates and claims"},{"$f":"IF($T95,OFFSET(DetailList!E$1,$W95,0),\"\")","v":"DWP"},{"$f":"IF($T95,OFFSET(DetailList!F$1,$W95,0),\"\")","v":0},{"$f":"IF($T95,OFFSET(DetailList!B$1,$W95,0),\"\")","v":"150-00"},null,"Details","","",null,{"$f":"IF(Collections!$T95,OFFSET(DetailList!J$1,$W95,0),\"\")","v":"four times a year"},{"$f":"IF(Collections!$T95,OFFSET(DetailList!K$1,$W95,0),\"\")","v":"Single tier & lower tier"},{"$f":"IF($T95,OFFSET(DetailList!AU$1,$W95,0),\"\")","v":1},{"$f":"IF($T95,OFFSET(DetailList!AS$1,$W95,0),\"\")","v":"aggregate/summary"},null,{"$f":"IF($T95,OFFSET(DetailList!P$1,$W95,0),\"\")","v":0},{"$f":"IF($T95,OFFSET(DetailList!Q$1,$W95,0),\"\")","v":0},{"$f":"IF($T95,OFFSET(DetailList!R$1,$W95,0),\"\")","v":0},null,true,95,{"$f":"IF($T95,OFFSET(DetailList!A$1,$W95,0),\"\")","v":"C"},{"$f":"MATCH(U95,DetailList!BG:BG,0)-1","v":460}]
[null,{"$f":"IF($T96,OFFSET(DetailList!C$1,$W96,0),\"\")","v":"Discretionary Housing Payment (DHP) estimates and claims"},{"$f":"IF($T96,OFFSET(DetailList!E$1,$W96,0),\"\")","v":"DWP"},{"$f":"IF($T96,OFFSET(DetailList!F$1,$W96,0),\"\")","v":0},{"$f":"IF($T96,OFFSET(DetailList!B$1,$W96,0),\"\")","v":"151-00"},null,"Details","","",null,{"$f":"IF(Collections!$T96,OFFSET(DetailList!J$1,$W96,0),\"\")","v":"three times a year"},{"$f":"IF(Collections!$T96,OFFSET(DetailList!K$1,$W96,0),\"\")","v":"Single tier & lower tier"},{"$f":"IF($T96,OFFSET(DetailList!AU$1,$W96,0),\"\")","v":1},{"$f":"IF($T96,OFFSET(DetailList!AS$1,$W96,0),\"\")","v":"aggregate/summary"},null,{"$f":"IF($T96,OFFSET(DetailList!P$1,$W96,0),\"\")","v":0},{"$f":"IF($T96,OFFSET(DetailList!Q$1,$W96,0),\"\")","v":0},{"$f":"IF($T96,OFFSET(DetailList!R$1,$W96,0),\"\")","v":0},null,true,96,{"$f":"IF($T96,OFFSET(DetailList!A$1,$W96,0),\"\")","v":"C"},{"$f":"MATCH(U96,DetailList!BG:BG,0)-1","v":462}]
[null,{"$f":"IF($T97,OFFSET(DetailList!C$1,$W97,0),\"\")","v":"Whole of Government Accounts (WGA)"},{"$f":"IF($T97,OFFSET(DetailList!E$1,$W97,0),\"\")","v":"HMT(DLUHC)"},{"$f":"IF($T97,OFFSET(DetailList!F$1,$W97,0),\"\")","v":0},{"$f":"IF($T97,OFFSET(DetailList!B$1,$W97,0),\"\")","v":"183-00"},null,"Details","","",null,{"$f":"IF(Collections!$T97,OFFSET(DetailList!J$1,$W97,0),\"\")","v":"annual"},{"$f":"IF(Collections!$T97,OFFSET(DetailList!K$1,$W97,0),\"\")","v":"All local authorities"},{"$f":"IF($T97,OFFSET(DetailList!AU$1,$W97,0),\"\")","v":2},{"$f":"IF($T97,OFFSET(DetailList!AS$1,$W97,0),\"\")","v":"aggregate/summary"},null,{"$f":"IF($T97,OFFSET(DetailList!P$1,$W97,0),\"\")","v":0},{"$f":"IF($T97,OFFSET(DetailList!Q$1,$W97,0),\"\")","v":0},{"$f":"IF($T97,OFFSET(DetailList!R$1,$W97,0),\"\")","v":0},null,{"$f":"U97<=Y$1","v":true},97,{"$f":"IF($T97,OFFSET(DetailList!A$1,$W97,0),\"\")","v":"C"},{"$f":"MATCH(U97,DetailList!BG:BG,0)-1","v":157}]
[null,{"$f":"IF($T98,OFFSET(DetailList!C$1,$W98,0),\"\")","v":"Fire and rescue incident data"},{"$f":"IF($T98,OFFSET(DetailList!E$1,$W98,0),\"\")","v":"HO"},{"$f":"IF($T98,OFFSET(DetailList!F$1,$W98,0),\"\")","v":0},{"$f":"IF($T98,OFFSET(DetailList!B$1,$W98,0),\"\")","v":"060-00"},null,"Details","Collection",null,null,{"$f":"IF(Collections!$T98,OFFSET(DetailList!J$1,$W98,0),\"\")","v":"monthly or quarterly"},{"$f":"IF(Collections!$T98,OFFSET(DetailList!K$1,$W98,0),\"\")","v":"Fire & rescue authorities"},{"$f":"IF($T98,OFFSET(DetailList!AU$1,$W98,0),\"\")","v":1},{"$f":"IF($T98,OFFSET(DetailList!AS$1,$W98,0),\"\")","v":"case based"},null,{"$f":"IF($T98,OFFSET(DetailList!P$1,$W98,0),\"\")","v":"https://www.gov.uk/government/publications/incident-recording-system-for-fire-and-rescue-authorities"},{"$f":"IF($T98,OFFSET(DetailList!Q$1,$W98,0),\"\")","v":"https://www.gov.uk/government/collections/fire-statistics"},{"$f":"IF($T98,OFFSET(DetailList!R$1,$W98,0),\"\")","v":0},null,true,98,{"$f":"IF($T98,OFFSET(DetailList!A$1,$W98,0),\"\")","v":"C"},{"$f":"MATCH(U98,DetailList!BG:BG,0)-1","v":160}]
[null,{"$f":"IF($T99,OFFSET(DetailList!C$1,$W99,0),\"\")","v":"Fire and rescue service non-financial annual returns"},{"$f":"IF($T99,OFFSET(DetailList!E$1,$W99,0),\"\")","v":"HO"},{"$f":"IF($T99,OFFSET(DetailList!F$1,$W99,0),\"\")","v":0},{"$f":"IF($T99,OFFSET(DetailList!B$1,$W99,0),\"\")","v":"061-00"},null,"Details","Collection",null,null,{"$f":"IF(Collections!$T99,OFFSET(DetailList!J$1,$W99,0),\"\")","v":"annual"},{"$f":"IF(Collections!$T99,OFFSET(DetailList!K$1,$W99,0),\"\")","v":"Fire & rescue authorities"},{"$f":"IF($T99,OFFSET(DetailList!AU$1,$W99,0),\"\")","v":5},{"$f":"IF($T99,OFFSET(DetailList!AS$1,$W99,0),\"\")","v":"aggregate/summary"},null,{"$f":"IF($T99,OFFSET(DetailList!P$1,$W99,0),\"\")","v":"https://www.gov.uk/government/collections/fire-statistics"},{"$f":"IF($T99,OFFSET(DetailList!Q$1,$W99,0),\"\")","v":"https://www.gov.uk/government/collections/fire-statistics"},"Y",null,true,99,"C",{"$f":"MATCH(U99,DetailList!BG:BG,0)-1","v":162}]
[null,{"$f":"IF($T100,OFFSET(DetailList!C$1,$W100,0),\"\")","v":"Fire Fighters Pension Fund - Non-financial data"},{"$f":"IF($T100,OFFSET(DetailList!E$1,$W100,0),\"\")","v":"HO"},{"$f":"IF($T100,OFFSET(DetailList!F$1,$W100,0),\"\")","v":0},{"$f":"IF($T100,OFFSET(DetailList!B$1,$W100,0),\"\")","v":"172-00"},{"$f":"IF($T100,OFFSET(DetailList!C$1,$W100,0),\"\")","v":"Fire Fighters Pension Fund - Non-financial data"},"Details","","Data",{"$f":"IF($T100,OFFSET(DetailList!G$1,$W100,0),\"\")","v":"N"},{"$f":"IF(Collections!$T100,OFFSET(DetailList!J$1,$W100,0),\"\")","v":"annual"},{"$f":"IF(Collections!$T100,OFFSET(DetailList!K$1,$W100,0),\"\")","v":"Fire & rescue authorities"},{"$f":"IF($T100,OFFSET(DetailList!AU$1,$W100,0),\"\")","v":1},{"$f":"IF($T100,OFFSET(DetailList!AS$1,$W100,0),\"\")","v":"aggregate/summary"},null,{"$f":"IF($T100,OFFSET(DetailList!P$1,$W100,0),\"\")","v":0},{"$f":"IF($T100,OFFSET(DetailList!Q$1,$W100,0),\"\")","v":"Fire statistics data tables - GOV.UK (www.gov.uk)"},"Y",null,true,100,{"$f":"IF($T100,OFFSET(DetailList!A$1,$W100,0),\"\")","v":"C"},{"$f":"MATCH(U100,DetailList!BG:BG,0)-1","v":168}]
[null,{"$f":"IF($T101,OFFSET(DetailList!C$1,$W101,0),\"\")","v":"Fire Fighters Pension Fund - Financial data"},{"$f":"IF($T101,OFFSET(DetailList!E$1,$W101,0),\"\")","v":"HO"},{"$f":"IF($T101,OFFSET(DetailList!F$1,$W101,0),\"\")","v":0},{"$f":"IF($T101,OFFSET(DetailList!B$1,$W101,0),\"\")","v":"173-00"},null,"Details","","Data",null,{"$f":"IF(Collections!$T101,OFFSET(DetailList!J$1,$W101,0),\"\")","v":"three times a year"},{"$f":"IF(Collections!$T101,OFFSET(DetailList!K$1,$W101,0),\"\")","v":"Fire & rescue authorities"},{"$f":"IF($T101,OFFSET(DetailList!AU$1,$W101,0),\"\")","v":1},{"$f":"IF($T101,OFFSET(DetailList!AS$1,$W101,0),\"\")","v":"aggregate/summary"},null,{"$f":"IF($T101,OFFSET(DetailList!P$1,$W101,0),\"\")","v":0},{"$f":"IF($T101,OFFSET(DetailList!Q$1,$W101,0),\"\")","v":"Fire statistics data tables - GOV.UK (www.gov.uk)"},"Y",null,true,101,{"$f":"IF($T101,OFFSET(DetailList!A$1,$W101,0),\"\")","v":"C"},{"$f":"MATCH(U101,DetailList!BG:BG,0)-1","v":170}]
[null,{"$f":"IF($T102,OFFSET(DetailList!C$1,$W102,0),\"\")","v":"Alcohol and Late Night Refreshment Licensing"},{"$f":"IF($T102,OFFSET(DetailList!E$1,$W102,0),\"\")","v":"HO"},{"$f":"IF($T102,OFFSET(DetailList!F$1,$W102,0),\"\")","v":0},{"$f":"IF($T102,OFFSET(DetailList!B$1,$W102,0),\"\")","v":"163-00"},null,"Details","Collection","Data",null,{"$f":"IF(Collections!$T102,OFFSET(DetailList!J$1,$W102,0),\"\")","v":"every 2 years"},{"$f":"IF(Collections!$T102,OFFSET(DetailList!K$1,$W102,0),\"\")","v":"Single tier & lower tier"},{"$f":"IF($T102,OFFSET(DetailList!AU$1,$W102,0),\"\")","v":1},{"$f":"IF($T102,OFFSET(DetailList!AS$1,$W102,0),\"\")","v":"aggregate/summary"},null,{"$f":"IF($T102,OFFSET(DetailList!P$1,$W102,0),\"\")","v":"https://www.gov.uk/government/collections/alcohol-and-late-night-refreshment-licensing-england-and-wales-statistics"},{"$f":"IF($T102,OFFSET(DetailList!Q$1,$W102,0),\"\")","v":"https://assets.publishing.service.gov.uk/government/uploads/system/uploads/attachment_data/file/1109599/alcohol-late-night-licensing-tables-2022.ods"},{"$f":"IF($T102,OFFSET(DetailList!R$1,$W102,0),\"\")","v":0},null,true,102,"C",{"$f":"MATCH(U102,DetailList!BG:BG,0)-1","v":533}]
[null,{"$f":"IF($T103,OFFSET(DetailList!C$1,$W103,0),\"\")","v":"Central government bodies, agencies and at arm's length bodies"},{"$f":"IF($T103,OFFSET(DetailList!E$1,$W103,0),\"\")","v":"Agency/body"},{"$f":"IF($T103,OFFSET(DetailList!F$1,$W103,0),\"\")","v":0},{"$f":"IF($T103,OFFSET(DetailList!B$1,$W103,0),\"\")","v":0},null,"Details","","",null,{"$f":"IF(Collections!$T103,OFFSET(DetailList!J$1,$W103,0),\"\")","v":0},{"$f":"IF(Collections!$T103,OFFSET(DetailList!K$1,$W103,0),\"\")","v":0},{"$f":"IF($T103,OFFSET(DetailList!AU$1,$W103,0),\"\")","v":0},{"$f":"IF($T103,OFFSET(DetailList!AS$1,$W103,0),\"\")","v":0},null,{"$f":"IF($T103,OFFSET(DetailList!P$1,$W103,0),\"\")","v":0},{"$f":"IF($T103,OFFSET(DetailList!Q$1,$W103,0),\"\")","v":0},{"$f":"IF($T103,OFFSET(DetailList!R$1,$W103,0),\"\")","v":0},null,true,103,"C",{"$f":"MATCH(U103,DetailList!BG:BG,0)-1","v":572}]
[null,{"$f":"IF($T104,OFFSET(DetailList!C$1,$W104,0),\"\")","v":"Gambling Licensing Authority Returns"},{"$f":"IF($T104,OFFSET(DetailList!E$1,$W104,0),\"\")","v":"DCMS/GC"},{"$f":"IF($T104,OFFSET(DetailList!F$1,$W104,0),\"\")","v":0},{"$f":"IF($T104,OFFSET(DetailList!B$1,$W104,0),\"\")","v":"207-00"},null,"Details","Collection","Data",null,{"$f":"IF(Collections!$T104,OFFSET(DetailList!J$1,$W104,0),\"\")","v":"annual"},{"$f":"IF(Collections!$T104,OFFSET(DetailList!K$1,$W104,0),\"\")","v":"Single tier & lower tier"},{"$f":"IF($T104,OFFSET(DetailList!AU$1,$W104,0),\"\")","v":1},{"$f":"IF($T104,OFFSET(DetailList!AS$1,$W104,0),\"\")","v":"aggregate/summary"},null,{"$f":"IF($T104,OFFSET(DetailList!P$1,$W104,0),\"\")","v":"http://www.gamblingcommission.gov.uk/for-licensing-authorities/Licensing-authority-returns.aspx"},{"$f":"IF($T104,OFFSET(DetailList!Q$1,$W104,0),\"\")","v":"http://www.gamblingcommission.gov.uk/for-licensing-authorities/Licensing-authority-returns.aspx"},{"$f":"IF($T104,OFFSET(DetailList!R$1,$W104,0),\"\")","v":"Y"},null,true,104,{"$f":"IF($T104,OFFSET(DetailList!A$1,$W104,0),\"\")","v":"C"},{"$f":"MATCH(U104,DetailList!BG:BG,0)-1","v":174}]
[null,{"$f":"IF($T105,OFFSET(DetailList!C$1,$W105,0),\"\")","v":"Developments in flood risk areas"},{"$f":"IF($T105,OFFSET(DetailList!E$1,$W105,0),\"\")","v":"DEFRA/EA"},{"$f":"IF($T105,OFFSET(DetailList!F$1,$W105,0),\"\")","v":0},{"$f":"IF($T105,OFFSET(DetailList!B$1,$W105,0),\"\")","v":"243-00"},null,"Details","","",null,{"$f":"IF(Collections!$T105,OFFSET(DetailList!J$1,$W105,0),\"\")","v":"annual"},{"$f":"IF(Collections!$T105,OFFSET(DetailList!K$1,$W105,0),\"\")","v":"Single tier & lower tier"},{"$f":"IF($T105,OFFSET(DetailList!AU$1,$W105,0),\"\")","v":1},{"$f":"IF($T105,OFFSET(DetailList!AS$1,$W105,0),\"\")","v":"aggregate/summary"},null,{"$f":"IF($T105,OFFSET(DetailList!P$1,$W105,0),\"\")","v":0},{"$f":"IF($T105,OFFSET(DetailList!Q$1,$W105,0),\"\")","v":0},{"$f":"IF($T105,OFFSET(DetailList!R$1,$W105,0),\"\")","v":0},null,true,105,{"$f":"IF($T105,OFFSET(DetailList!A$1,$W105,0),\"\")","v":"C"},{"$f":"MATCH(U105,DetailList!BG:BG,0)-1","v":220}]
[null,{"$f":"IF($T106,OFFSET(DetailList!C$1,$W106,0),\"\")","v":"Strategic Overview of Flood and Coastal Erosion risk"},{"$f":"IF($T106,OFFSET(DetailList!E$1,$W106,0),\"\")","v":"DEFRA/EA"},{"$f":"IF($T106,OFFSET(DetailList!F$1,$W106,0),\"\")","v":0},{"$f":"IF($T106,OFFSET(DetailList!B$1,$W106,0),\"\")","v":"245-00"},null,"Details","","",null,{"$f":"IF(Collections!$T106,OFFSET(DetailList!J$1,$W106,0),\"\")","v":"annual"},{"$f":"IF(Collections!$T106,OFFSET(DetailList!K$1,$W106,0),\"\")","v":"Upper tier & single tier"},{"$f":"IF($T106,OFFSET(DetailList!AU$1,$W106,0),\"\")","v":1},{"$f":"IF($T106,OFFSET(DetailList!AS$1,$W106,0),\"\")","v":"aggregate/summary"},null,{"$f":"IF($T106,OFFSET(DetailList!P$1,$W106,0),\"\")","v":0},{"$f":"IF($T106,OFFSET(DetailList!Q$1,$W106,0),\"\")","v":0},{"$f":"IF($T106,OFFSET(DetailList!R$1,$W106,0),\"\")","v":"Y"},null,true,106,{"$f":"IF($T106,OFFSET(DetailList!A$1,$W106,0),\"\")","v":"C"},{"$f":"MATCH(U106,DetailList!BG:BG,0)-1","v":222}]
[null,{"$f":"IF($T107,OFFSET(DetailList!C$1,$W107,0),\"\")","v":"Reporting on EU Flood Risk Regulations"},{"$f":"IF($T107,OFFSET(DetailList!E$1,$W107,0),\"\")","v":"DEFRA/EA"},{"$f":"IF($T107,OFFSET(DetailList!F$1,$W107,0),\"\")","v":0},{"$f":"IF($T107,OFFSET(DetailList!B$1,$W107,0),\"\")","v":"246-00"},null,"Details","","",null,{"$f":"IF(Collections!$T107,OFFSET(DetailList!J$1,$W107,0),\"\")","v":"every 2 years"},{"$f":"IF(Collections!$T107,OFFSET(DetailList!K$1,$W107,0),\"\")","v":"Upper tier & single tier"},{"$f":"IF($T107,OFFSET(DetailList!AU$1,$W107,0),\"\")","v":3},{"$f":"IF($T107,OFFSET(DetailList!AS$1,$W107,0),\"\")","v":"aggregate/summary"},null,{"$f":"IF($T107,OFFSET(DetailList!P$1,$W107,0),\"\")","v":0},{"$f":"IF($T107,OFFSET(DetailList!Q$1,$W107,0),\"\")","v":0},{"$f":"IF($T107,OFFSET(DetailList!R$1,$W107,0),\"\")","v":"Y"},null,true,107,{"$f":"IF($T107,OFFSET(DetailList!A$1,$W107,0),\"\")","v":"C"},{"$f":"MATCH(U107,DetailList!BG:BG,0)-1","v":224}]
[null,{"$f":"IF($T108,OFFSET(DetailList!C$1,$W108,0),\"\")","v":"Foster care data set and self assessment"},{"$f":"IF($T108,OFFSET(DetailList!E$1,$W108,0),\"\")","v":"DfE/Ofsted"},{"$f":"IF($T108,OFFSET(DetailList!F$1,$W108,0),\"\")","v":0},{"$f":"IF($T108,OFFSET(DetailList!B$1,$W108,0),\"\")","v":"222-00"},null,"Details","","",null,{"$f":"IF(Collections!$T108,OFFSET(DetailList!J$1,$W108,0),\"\")","v":"annual"},{"$f":"IF(Collections!$T108,OFFSET(DetailList!K$1,$W108,0),\"\")","v":"Upper tier & single tier"},{"$f":"IF($T108,OFFSET(DetailList!AU$1,$W108,0),\"\")","v":1},{"$f":"IF($T108,OFFSET(DetailList!AS$1,$W108,0),\"\")","v":"aggregate/summary"},null,{"$f":"IF($T108,OFFSET(DetailList!P$1,$W108,0),\"\")","v":0},{"$f":"IF($T108,OFFSET(DetailList!Q$1,$W108,0),\"\")","v":0},{"$f":"IF($T108,OFFSET(DetailList!R$1,$W108,0),\"\")","v":"Y"},null,true,108,{"$f":"IF($T108,OFFSET(DetailList!A$1,$W108,0),\"\")","v":"C"},{"$f":"MATCH(U108,DetailList!BG:BG,0)-1","v":335}]
[null,{"$f":"IF($T109,OFFSET(DetailList!C$1,$W109,0),\"\")","v":"Local Authority Adult and Community Learning provision."},{"$f":"IF($T109,OFFSET(DetailList!E$1,$W109,0),\"\")","v":"DfE/Ofsted"},{"$f":"IF($T109,OFFSET(DetailList!F$1,$W109,0),\"\")","v":0},{"$f":"IF($T109,OFFSET(DetailList!B$1,$W109,0),\"\")","v":"225-00"},null,"Details","","",null,{"$f":"IF(Collections!$T109,OFFSET(DetailList!J$1,$W109,0),\"\")","v":"as required"},{"$f":"IF(Collections!$T109,OFFSET(DetailList!K$1,$W109,0),\"\")","v":"Upper tier & single tier"},{"$f":"IF($T109,OFFSET(DetailList!AU$1,$W109,0),\"\")","v":1},{"$f":"IF($T109,OFFSET(DetailList!AS$1,$W109,0),\"\")","v":"aggregate/summary"},null,{"$f":"IF($T109,OFFSET(DetailList!P$1,$W109,0),\"\")","v":0},{"$f":"IF($T109,OFFSET(DetailList!Q$1,$W109,0),\"\")","v":0},{"$f":"IF($T109,OFFSET(DetailList!R$1,$W109,0),\"\")","v":"Y"},null,true,109,{"$f":"IF($T109,OFFSET(DetailList!A$1,$W109,0),\"\")","v":"C"},{"$f":"MATCH(U109,DetailList!BG:BG,0)-1","v":339}]
[null,{"$f":"IF($T110,OFFSET(DetailList!C$1,$W110,0),\"\")","v":"Schools capital outturn"},{"$f":"IF($T110,OFFSET(DetailList!E$1,$W110,0),\"\")","v":"DfE/ESFA"},{"$f":"IF($T110,OFFSET(DetailList!F$1,$W110,0),\"\")","v":0},{"$f":"IF($T110,OFFSET(DetailList!B$1,$W110,0),\"\")","v":"203-00"},null,"Details","Collection","Data",null,{"$f":"IF(Collections!$T110,OFFSET(DetailList!J$1,$W110,0),\"\")","v":"annual"},{"$f":"IF(Collections!$T110,OFFSET(DetailList!K$1,$W110,0),\"\")","v":"Upper tier & single tier"},{"$f":"IF($T110,OFFSET(DetailList!AU$1,$W110,0),\"\")","v":1},{"$f":"IF($T110,OFFSET(DetailList!AS$1,$W110,0),\"\")","v":"aggregate/summary"},null,{"$f":"IF($T110,OFFSET(DetailList!P$1,$W110,0),\"\")","v":"https://www.gov.uk/government/collections/local-authority-revenue-expenditure-and-financing"},{"$f":"IF($T110,OFFSET(DetailList!Q$1,$W110,0),\"\")","v":"www.gov.uk/government/publications/section-251-outturn-2013-to-2014-data"},{"$f":"IF($T110,OFFSET(DetailList!R$1,$W110,0),\"\")","v":"Y"},null,true,110,{"$f":"IF($T110,OFFSET(DetailList!A$1,$W110,0),\"\")","v":"C"},{"$f":"MATCH(U110,DetailList!BG:BG,0)-1","v":341}]
[null,{"$f":"IF($T111,OFFSET(DetailList!C$1,$W111,0),\"\")","v":"Information to support calculations of the minimum funding guarantee to Academies "},{"$f":"IF($T111,OFFSET(DetailList!E$1,$W111,0),\"\")","v":"DfE/ESFA"},{"$f":"IF($T111,OFFSET(DetailList!F$1,$W111,0),\"\")","v":0},{"$f":"IF($T111,OFFSET(DetailList!B$1,$W111,0),\"\")","v":"206-00"},null,"Details","Collection","",null,{"$f":"IF(Collections!$T111,OFFSET(DetailList!J$1,$W111,0),\"\")","v":"as required"},{"$f":"IF(Collections!$T111,OFFSET(DetailList!K$1,$W111,0),\"\")","v":"Upper tier & single tier"},{"$f":"IF($T111,OFFSET(DetailList!AU$1,$W111,0),\"\")","v":1},{"$f":"IF($T111,OFFSET(DetailList!AS$1,$W111,0),\"\")","v":"n/k"},null,{"$f":"IF($T111,OFFSET(DetailList!P$1,$W111,0),\"\")","v":"https://www.gov.uk/academies-funding-allocations"},{"$f":"IF($T111,OFFSET(DetailList!Q$1,$W111,0),\"\")","v":0},{"$f":"IF($T111,OFFSET(DetailList!R$1,$W111,0),\"\")","v":"Y"},null,true,111,{"$f":"IF($T111,OFFSET(DetailList!A$1,$W111,0),\"\")","v":"C"},{"$f":"MATCH(U111,DetailList!BG:BG,0)-1","v":343}]
[null,{"$f":"IF($T112,OFFSET(DetailList!C$1,$W112,0),\"\")","v":"Adult Social Care Client Level Data (CLD)"},{"$f":"IF($T112,OFFSET(DetailList!E$1,$W112,0),\"\")","v":"DHSC/NHSE"},{"$f":"IF($T112,OFFSET(DetailList!F$1,$W112,0),\"\")","v":"Y"},{"$f":"IF($T112,OFFSET(DetailList!B$1,$W112,0),\"\")","v":"275-00"},null,"Details","","",null,{"$f":"IF(Collections!$T112,OFFSET(DetailList!J$1,$W112,0),\"\")","v":"quarterly"},{"$f":"IF(Collections!$T112,OFFSET(DetailList!K$1,$W112,0),\"\")","v":"Upper tier & single tier"},{"$f":"IF($T112,OFFSET(DetailList!AU$1,$W112,0),\"\")","v":1},{"$f":"IF($T112,OFFSET(DetailList!AS$1,$W112,0),\"\")","v":0},null,{"$f":"IF($T112,OFFSET(DetailList!P$1,$W112,0),\"\")","v":0},{"$f":"IF($T112,OFFSET(DetailList!Q$1,$W112,0),\"\")","v":0},{"$f":"IF($T112,OFFSET(DetailList!R$1,$W112,0),\"\")","v":"Y"},null,true,112,{"$f":"IF($T112,OFFSET(DetailList!A$1,$W112,0),\"\")","v":"C"},{"$f":"MATCH(U112,DetailList!BG:BG,0)-1","v":437}]
[null,{"$f":"IF($T113,OFFSET(DetailList!C$1,$W113,0),\"\")","v":"Adult Social Care Survey (ASCS)"},{"$f":"IF($T113,OFFSET(DetailList!E$1,$W113,0),\"\")","v":"DHSC/NHSE"},{"$f":"IF($T113,OFFSET(DetailList!F$1,$W113,0),\"\")","v":0},{"$f":"IF($T113,OFFSET(DetailList!B$1,$W113,0),\"\")","v":"135-00"},null,"Details","Collection","Data",null,{"$f":"IF(Collections!$T113,OFFSET(DetailList!J$1,$W113,0),\"\")","v":"annual"},{"$f":"IF(Collections!$T113,OFFSET(DetailList!K$1,$W113,0),\"\")","v":"Upper tier & single tier"},{"$f":"IF($T113,OFFSET(DetailList!AU$1,$W113,0),\"\")","v":2},{"$f":"IF($T113,OFFSET(DetailList!AS$1,$W113,0),\"\")","v":"client based"},null,{"$f":"IF($T113,OFFSET(DetailList!P$1,$W113,0),\"\")","v":"https://digital.nhs.uk/data-and-information/data-collections-and-data-sets/data-collections/social-care-user-surveys"},{"$f":"IF($T113,OFFSET(DetailList!Q$1,$W113,0),\"\")","v":"https://digital.nhs.uk/data-and-information/publications/statistical/personal-social-services-adult-social-care-survey"},{"$f":"IF($T113,OFFSET(DetailList!R$1,$W113,0),\"\")","v":"Y"},null,true,113,{"$f":"IF($T113,OFFSET(DetailList!A$1,$W113,0),\"\")","v":"C"},{"$f":"MATCH(U113,DetailList!BG:BG,0)-1","v":383}]
[null,{"$f":"IF($T114,OFFSET(DetailList!C$1,$W114,0),\"\")","v":"Mental Health Guardianship (SSDA702) return"},{"$f":"IF($T114,OFFSET(DetailList!E$1,$W114,0),\"\")","v":"DHSC/NHSE"},{"$f":"IF($T114,OFFSET(DetailList!F$1,$W114,0),\"\")","v":0},{"$f":"IF($T114,OFFSET(DetailList!B$1,$W114,0),\"\")","v":"138-00"},null,"Details","Collection","Data",null,{"$f":"IF(Collections!$T114,OFFSET(DetailList!J$1,$W114,0),\"\")","v":"every 2 years"},{"$f":"IF(Collections!$T114,OFFSET(DetailList!K$1,$W114,0),\"\")","v":"Upper tier & single tier"},{"$f":"IF($T114,OFFSET(DetailList!AU$1,$W114,0),\"\")","v":1},{"$f":"IF($T114,OFFSET(DetailList!AS$1,$W114,0),\"\")","v":"client based"},null,{"$f":"IF($T114,OFFSET(DetailList!P$1,$W114,0),\"\")","v":"Adult social care data collections and guidance - NHS Digital"},{"$f":"IF($T114,OFFSET(DetailList!Q$1,$W114,0),\"\")","v":"Guardianship under the Mental Health Act, 1983 - NHS Digital"},{"$f":"IF($T114,OFFSET(DetailList!R$1,$W114,0),\"\")","v":"Y"},null,true,114,{"$f":"IF($T114,OFFSET(DetailList!A$1,$W114,0),\"\")","v":"C"},{"$f":"MATCH(U114,DetailList!BG:BG,0)-1","v":386}]
[null,{"$f":"IF($T115,OFFSET(DetailList!C$1,$W115,0),\"\")","v":"Deprivation of Liberty Safeguards (DoLS) Return"},{"$f":"IF($T115,OFFSET(DetailList!E$1,$W115,0),\"\")","v":"DHSC/NHSE"},{"$f":"IF($T115,OFFSET(DetailList!F$1,$W115,0),\"\")","v":0},{"$f":"IF($T115,OFFSET(DetailList!B$1,$W115,0),\"\")","v":"139-00"},null,"Details","Collection","Data",null,{"$f":"IF(Collections!$T115,OFFSET(DetailList!J$1,$W115,0),\"\")","v":"annual"},{"$f":"IF(Collections!$T115,OFFSET(DetailList!K$1,$W115,0),\"\")","v":"Upper tier & single tier"},{"$f":"IF($T115,OFFSET(DetailList!AU$1,$W115,0),\"\")","v":1},{"$f":"IF($T115,OFFSET(DetailList!AS$1,$W115,0),\"\")","v":"aggregate/summary"},null,{"$f":"IF($T115,OFFSET(DetailList!P$1,$W115,0),\"\")","v":"Adult social care data collections and guidance - NHS Digital"},{"$f":"IF($T115,OFFSET(DetailList!Q$1,$W115,0),\"\")","v":"Mental Capacity Act 2005, Deprivation of Liberty Safeguards - NHS Digital"},{"$f":"IF($T115,OFFSET(DetailList!R$1,$W115,0),\"\")","v":"Y"},null,true,115,{"$f":"IF($T115,OFFSET(DetailList!A$1,$W115,0),\"\")","v":"C"},{"$f":"MATCH(U115,DetailList!BG:BG,0)-1","v":388}]
[null,{"$f":"IF($T116,OFFSET(DetailList!C$1,$W116,0),\"\")","v":"Survey of Adult Carers in England (SACE)"},{"$f":"IF($T116,OFFSET(DetailList!E$1,$W116,0),\"\")","v":"DHSC/NHSE"},{"$f":"IF($T116,OFFSET(DetailList!F$1,$W116,0),\"\")","v":0},{"$f":"IF($T116,OFFSET(DetailList!B$1,$W116,0),\"\")","v":"140-00"},null,"Details","Collection","Data",null,{"$f":"IF(Collections!$T116,OFFSET(DetailList!J$1,$W116,0),\"\")","v":"every 2 years"},{"$f":"IF(Collections!$T116,OFFSET(DetailList!K$1,$W116,0),\"\")","v":"Upper tier & single tier"},{"$f":"IF($T116,OFFSET(DetailList!AU$1,$W116,0),\"\")","v":2},{"$f":"IF($T116,OFFSET(DetailList!AS$1,$W116,0),\"\")","v":"client based"},null,{"$f":"IF($T116,OFFSET(DetailList!P$1,$W116,0),\"\")","v":"https://digital.nhs.uk/data-and-information/data-collections-and-data-sets/data-collections/social-care-user-surveys"},{"$f":"IF($T116,OFFSET(DetailList!Q$1,$W116,0),\"\")","v":"https://digital.nhs.uk/data-and-information/publications/statistical/personal-social-services-survey-of-adult-carers"},{"$f":"IF($T116,OFFSET(DetailList!R$1,$W116,0),\"\")","v":"Y"},null,true,116,{"$f":"IF($T116,OFFSET(DetailList!A$1,$W116,0),\"\")","v":"C"},{"$f":"MATCH(U116,DetailList!BG:BG,0)-1","v":390}]
[null,{"$f":"IF($T117,OFFSET(DetailList!C$1,$W117,0),\"\")","v":"Register of blind and partially sighted people (SSDA902)"},{"$f":"IF($T117,OFFSET(DetailList!E$1,$W117,0),\"\")","v":"DHSC/NHSE"},{"$f":"IF($T117,OFFSET(DetailList!F$1,$W117,0),\"\")","v":0},{"$f":"IF($T117,OFFSET(DetailList!B$1,$W117,0),\"\")","v":"144-00"},null,"Details","Collection","Data",null,{"$f":"IF(Collections!$T117,OFFSET(DetailList!J$1,$W117,0),\"\")","v":"every 3 years"},{"$f":"IF(Collections!$T117,OFFSET(DetailList!K$1,$W117,0),\"\")","v":"Upper tier & single tier"},{"$f":"IF($T117,OFFSET(DetailList!AU$1,$W117,0),\"\")","v":3},{"$f":"IF($T117,OFFSET(DetailList!AS$1,$W117,0),\"\")","v":"aggregate/summary"},null,{"$f":"IF($T117,OFFSET(DetailList!P$1,$W117,0),\"\")","v":"Adult social care data collections and guidance - NHS Digital"},{"$f":"IF($T117,OFFSET(DetailList!Q$1,$W117,0),\"\")","v":"Registered Blind and Partially Sighted People - NHS Digital"},{"$f":"IF($T117,OFFSET(DetailList!R$1,$W117,0),\"\")","v":"Y"},null,true,117,{"$f":"IF($T117,OFFSET(DetailList!A$1,$W117,0),\"\")","v":"C"},{"$f":"MATCH(U117,DetailList!BG:BG,0)-1","v":395}]
[null,{"$f":"IF($T118,OFFSET(DetailList!C$1,$W118,0),\"\")","v":"Safeguarding Adults Collection"},{"$f":"IF($T118,OFFSET(DetailList!E$1,$W118,0),\"\")","v":"DHSC/NHSE"},{"$f":"IF($T118,OFFSET(DetailList!F$1,$W118,0),\"\")","v":0},{"$f":"IF($T118,OFFSET(DetailList!B$1,$W118,0),\"\")","v":"258-00"},null,"Details","Collection","Data",null,{"$f":"IF(Collections!$T118,OFFSET(DetailList!J$1,$W118,0),\"\")","v":"annual"},{"$f":"IF(Collections!$T118,OFFSET(DetailList!K$1,$W118,0),\"\")","v":"Upper tier & single tier"},{"$f":"IF($T118,OFFSET(DetailList!AU$1,$W118,0),\"\")","v":7},{"$f":"IF($T118,OFFSET(DetailList!AS$1,$W118,0),\"\")","v":"aggregate/summary"},null,{"$f":"IF($T118,OFFSET(DetailList!P$1,$W118,0),\"\")","v":"Adult social care data collections and guidance - NHS Digital"},{"$f":"IF($T118,OFFSET(DetailList!Q$1,$W118,0),\"\")","v":"Safeguarding Adults - NHS Digital"},{"$f":"IF($T118,OFFSET(DetailList!R$1,$W118,0),\"\")","v":"Y"},null,true,118,{"$f":"IF($T118,OFFSET(DetailList!A$1,$W118,0),\"\")","v":"C"},{"$f":"MATCH(U118,DetailList!BG:BG,0)-1","v":399}]
[null,{"$f":"IF($T119,OFFSET(DetailList!C$1,$W119,0),\"\")","v":"Short and Long Term Support (SALT)"},{"$f":"IF($T119,OFFSET(DetailList!E$1,$W119,0),\"\")","v":"DHSC/NHSE"},{"$f":"IF($T119,OFFSET(DetailList!F$1,$W119,0),\"\")","v":0},{"$f":"IF($T119,OFFSET(DetailList!B$1,$W119,0),\"\")","v":"260-00"},null,"Details","Collection","Data",null,{"$f":"IF(Collections!$T119,OFFSET(DetailList!J$1,$W119,0),\"\")","v":"Annual"},{"$f":"IF(Collections!$T119,OFFSET(DetailList!K$1,$W119,0),\"\")","v":"Upper tier & single tier"},{"$f":"IF($T119,OFFSET(DetailList!AU$1,$W119,0),\"\")","v":11},{"$f":"IF($T119,OFFSET(DetailList!AS$1,$W119,0),\"\")","v":"aggregate/summary"},null,{"$f":"IF($T119,OFFSET(DetailList!P$1,$W119,0),\"\")","v":"Adult social care data collections and guidance - NHS Digital"},{"$f":"IF($T119,OFFSET(DetailList!Q$1,$W119,0),\"\")","v":"https://digital.nhs.uk/data-and-information/publications/statistical/adult-social-care-activity-and-finance-report"},{"$f":"IF($T119,OFFSET(DetailList!R$1,$W119,0),\"\")","v":"Y"},null,true,119,{"$f":"IF($T119,OFFSET(DetailList!A$1,$W119,0),\"\")","v":"C"},{"$f":"MATCH(U119,DetailList!BG:BG,0)-1","v":407}]
[null,{"$f":"IF($T120,OFFSET(DetailList!C$1,$W120,0),\"\")","v":"Adult Social Care Finance Return (ASC-FR)"},{"$f":"IF($T120,OFFSET(DetailList!E$1,$W120,0),\"\")","v":"DHSC/NHSE"},{"$f":"IF($T120,OFFSET(DetailList!F$1,$W120,0),\"\")","v":0},{"$f":"IF($T120,OFFSET(DetailList!B$1,$W120,0),\"\")","v":"261-00"},null,"Details","Collection","Data",null,{"$f":"IF(Collections!$T120,OFFSET(DetailList!J$1,$W120,0),\"\")","v":"Annual"},{"$f":"IF(Collections!$T120,OFFSET(DetailList!K$1,$W120,0),\"\")","v":"Upper tier & single tier"},{"$f":"IF($T120,OFFSET(DetailList!AU$1,$W120,0),\"\")","v":4},{"$f":"IF($T120,OFFSET(DetailList!AS$1,$W120,0),\"\")","v":"aggregate/summary"},null,{"$f":"IF($T120,OFFSET(DetailList!P$1,$W120,0),\"\")","v":"Adult social care data collections and guidance - NHS Digital"},{"$f":"IF($T120,OFFSET(DetailList!Q$1,$W120,0),\"\")","v":"https://digital.nhs.uk/data-and-information/publications/statistical/adult-social-care-activity-and-finance-report"},{"$f":"IF($T120,OFFSET(DetailList!R$1,$W120,0),\"\")","v":"Y"},null,true,120,{"$f":"IF($T120,OFFSET(DetailList!A$1,$W120,0),\"\")","v":"C"},{"$f":"MATCH(U120,DetailList!BG:BG,0)-1","v":419}]
[null,{"$f":"IF($T121,OFFSET(DetailList!C$1,$W121,0),\"\")","v":"Deferred Payment Agreements (DPA)"},{"$f":"IF($T121,OFFSET(DetailList!E$1,$W121,0),\"\")","v":"DHSC/NHSE"},{"$f":"IF($T121,OFFSET(DetailList!F$1,$W121,0),\"\")","v":0},{"$f":"IF($T121,OFFSET(DetailList!B$1,$W121,0),\"\")","v":"263-00"},null,"Details","Collection","Data",null,{"$f":"IF(Collections!$T121,OFFSET(DetailList!J$1,$W121,0),\"\")","v":"Annual"},{"$f":"IF(Collections!$T121,OFFSET(DetailList!K$1,$W121,0),\"\")","v":"Upper tier & single tier"},{"$f":"IF($T121,OFFSET(DetailList!AU$1,$W121,0),\"\")","v":12},{"$f":"IF($T121,OFFSET(DetailList!AS$1,$W121,0),\"\")","v":"aggregate/summary"},null,{"$f":"IF($T121,OFFSET(DetailList!P$1,$W121,0),\"\")","v":"Adult social care data collections and guidance - NHS Digital"},{"$f":"IF($T121,OFFSET(DetailList!Q$1,$W121,0),\"\")","v":"Deferred Payment Agreements - NHS Digital"},{"$f":"IF($T121,OFFSET(DetailList!R$1,$W121,0),\"\")","v":"Y"},null,true,121,{"$f":"IF($T121,OFFSET(DetailList!A$1,$W121,0),\"\")","v":"C"},{"$f":"MATCH(U121,DetailList!BG:BG,0)-1","v":424}]
[null,{"$f":"IF($T122,OFFSET(DetailList!C$1,$W122,0),\"\")","v":"Local Authority Data Return (LADR)"},{"$f":"IF($T122,OFFSET(DetailList!E$1,$W122,0),\"\")","v":"DLUHC/RSH"},{"$f":"IF($T122,OFFSET(DetailList!F$1,$W122,0),\"\")","v":0},{"$f":"IF($T122,OFFSET(DetailList!B$1,$W122,0),\"\")","v":"270-00"},null,"Details","Collection","",null,{"$f":"IF(Collections!$T122,OFFSET(DetailList!J$1,$W122,0),\"\")","v":"annual"},{"$f":"IF(Collections!$T122,OFFSET(DetailList!K$1,$W122,0),\"\")","v":"All local authorities registered with RSH"},{"$f":"IF($T122,OFFSET(DetailList!AU$1,$W122,0),\"\")","v":1},{"$f":"IF($T122,OFFSET(DetailList!AS$1,$W122,0),\"\")","v":"aggregate/summary"},null,{"$f":"IF($T122,OFFSET(DetailList!P$1,$W122,0),\"\")","v":"https://nroshplus.regulatorofsocialhousing.org.uk/"},{"$f":"IF($T122,OFFSET(DetailList!Q$1,$W122,0),\"\")","v":0},{"$f":"IF($T122,OFFSET(DetailList!R$1,$W122,0),\"\")","v":0},null,true,122,{"$f":"IF($T122,OFFSET(DetailList!A$1,$W122,0),\"\")","v":"C"},{"$f":"MATCH(U122,DetailList!BG:BG,0)-1","v":153}]
[null,{"$f":"IF($T123,OFFSET(DetailList!C$1,$W123,0),\"\")","v":"Tenant Satisfaction Measures (TSM) "},{"$f":"IF($T123,OFFSET(DetailList!E$1,$W123,0),\"\")","v":"DLUHC/RSH"},{"$f":"IF($T123,OFFSET(DetailList!F$1,$W123,0),\"\")","v":"Y"},{"$f":"IF($T123,OFFSET(DetailList!B$1,$W123,0),\"\")","v":"276-00"},null,"Details","","",null,{"$f":"IF(Collections!$T123,OFFSET(DetailList!J$1,$W123,0),\"\")","v":"annual"},{"$f":"IF(Collections!$T123,OFFSET(DetailList!K$1,$W123,0),\"\")","v":"All local authorities registered with RSH"},{"$f":"IF($T123,OFFSET(DetailList!AU$1,$W123,0),\"\")","v":0},{"$f":"IF($T123,OFFSET(DetailList!AS$1,$W123,0),\"\")","v":"aggregate/summary"},null,{"$f":"IF($T123,OFFSET(DetailList!P$1,$W123,0),\"\")","v":0},{"$f":"IF($T123,OFFSET(DetailList!Q$1,$W123,0),\"\")","v":0},{"$f":"IF($T123,OFFSET(DetailList!R$1,$W123,0),\"\")","v":"Y"},null,true,123,{"$f":"IF($T123,OFFSET(DetailList!A$1,$W123,0),\"\")","v":"C"},{"$f":"MATCH(U123,DetailList!BG:BG,0)-1","v":155}]
[null,{"$f":"IF($T124,OFFSET(DetailList!C$1,$W124,0),\"\")","v":"Health & Safety Enforcement Data (LAE1)"},{"$f":"IF($T124,OFFSET(DetailList!E$1,$W124,0),\"\")","v":"DWP/HSE"},{"$f":"IF($T124,OFFSET(DetailList!F$1,$W124,0),\"\")","v":0},{"$f":"IF($T124,OFFSET(DetailList!B$1,$W124,0),\"\")","v":"154-00"},null,"Details","Collection","Data",null,{"$f":"IF(Collections!$T124,OFFSET(DetailList!J$1,$W124,0),\"\")","v":"annual"},{"$f":"IF(Collections!$T124,OFFSET(DetailList!K$1,$W124,0),\"\")","v":"All local authorities"},{"$f":"IF($T124,OFFSET(DetailList!AU$1,$W124,0),\"\")","v":4},{"$f":"IF($T124,OFFSET(DetailList!AS$1,$W124,0),\"\")","v":"aggregate/summary"},null,{"$f":"IF($T124,OFFSET(DetailList!P$1,$W124,0),\"\")","v":"Local Authority Health and Safety Return 2022 (hse.gov.uk) \nLA intervention and enforcement activity - HSE and LAs Working together - HSE          "},{"$f":"IF($T124,OFFSET(DetailList!Q$1,$W124,0),\"\")","v":"https://www.hse.gov.uk/lau/enforcement-lae1-returns.htm"},{"$f":"IF($T124,OFFSET(DetailList!R$1,$W124,0),\"\")","v":"Y"},null,true,124,{"$f":"IF($T124,OFFSET(DetailList!A$1,$W124,0),\"\")","v":"C"},{"$f":"MATCH(U124,DetailList!BG:BG,0)-1","v":464}]
[null,{"$f":"IF($T125,OFFSET(DetailList!C$1,$W125,0),\"\")","v":"Youth Justice Application Framework (YJAF)"},{"$f":"IF($T125,OFFSET(DetailList!E$1,$W125,0),\"\")","v":"MoJ/YJB"},{"$f":"IF($T125,OFFSET(DetailList!F$1,$W125,0),\"\")","v":0},{"$f":"IF($T125,OFFSET(DetailList!B$1,$W125,0),\"\")","v":"180-00"},null,"Details","","",null,{"$f":"IF(Collections!$T125,OFFSET(DetailList!J$1,$W125,0),\"\")","v":"quarterly"},{"$f":"IF(Collections!$T125,OFFSET(DetailList!K$1,$W125,0),\"\")","v":"Upper tier & single tier"},{"$f":"IF($T125,OFFSET(DetailList!AU$1,$W125,0),\"\")","v":1},{"$f":"IF($T125,OFFSET(DetailList!AS$1,$W125,0),\"\")","v":"case based"},null,{"$f":"IF($T125,OFFSET(DetailList!P$1,$W125,0),\"\")","v":0},{"$f":"IF($T125,OFFSET(DetailList!Q$1,$W125,0),\"\")","v":0},{"$f":"IF($T125,OFFSET(DetailList!R$1,$W125,0),\"\")","v":"Y"},null,true,125,{"$f":"IF($T125,OFFSET(DetailList!A$1,$W125,0),\"\")","v":"C"},{"$f":"MATCH(U125,DetailList!BG:BG,0)-1","v":535}]
[null,{"$f":"IF($T126,OFFSET(DetailList!C$1,$W126,0),\"\")","v":"Other independent public bodies"},{"$f":"IF($T126,OFFSET(DetailList!E$1,$W126,0),\"\")","v":"Other"},{"$f":"IF($T126,OFFSET(DetailList!F$1,$W126,0),\"\")","v":0},{"$f":"IF($T126,OFFSET(DetailList!B$1,$W126,0),\"\")","v":0},null,"","","",null,{"$f":"IF(Collections!$T126,OFFSET(DetailList!J$1,$W126,0),\"\")","v":0},{"$f":"IF(Collections!$T126,OFFSET(DetailList!K$1,$W126,0),\"\")","v":0},{"$f":"IF($T126,OFFSET(DetailList!AU$1,$W126,0),\"\")","v":0},{"$f":"IF($T126,OFFSET(DetailList!AS$1,$W126,0),\"\")","v":0},null,{"$f":"IF($T126,OFFSET(DetailList!P$1,$W126,0),\"\")","v":0},{"$f":"IF($T126,OFFSET(DetailList!Q$1,$W126,0),\"\")","v":0},{"$f":"IF($T126,OFFSET(DetailList!R$1,$W126,0),\"\")","v":0},null,true,126,{"$f":"IF($T126,OFFSET(DetailList!A$1,$W126,0),\"\")","v":"X"},{"$f":"MATCH(U126,DetailList!BG:BG,0)-1","v":573}]
[null,{"$f":"IF($T127,OFFSET(DetailList!C$1,$W127,0),\"\")","v":"Food Hygiene (LA food law enforcement monitoring return)"},{"$f":"IF($T127,OFFSET(DetailList!E$1,$W127,0),\"\")","v":"FSA"},{"$f":"IF($T127,OFFSET(DetailList!F$1,$W127,0),\"\")","v":0},{"$f":"IF($T127,OFFSET(DetailList!B$1,$W127,0),\"\")","v":"190-00"},null,"Details","","Data",null,{"$f":"IF(Collections!$T127,OFFSET(DetailList!J$1,$W127,0),\"\")","v":"quarterly"},{"$f":"IF(Collections!$T127,OFFSET(DetailList!K$1,$W127,0),\"\")","v":"Single tier & lower tier"},{"$f":"IF($T127,OFFSET(DetailList!AU$1,$W127,0),\"\")","v":24},{"$f":"IF($T127,OFFSET(DetailList!AS$1,$W127,0),\"\")","v":"aggregate/summary"},null,{"$f":"IF($T127,OFFSET(DetailList!P$1,$W127,0),\"\")","v":0},{"$f":"IF($T127,OFFSET(DetailList!Q$1,$W127,0),\"\")","v":"For an example of published data from the bespoke returns  see Annex 2 and 4 -  FSA 21-12-14 - LA Recovery Plan Update .docx (food.gov.uk)"},{"$f":"IF($T127,OFFSET(DetailList!R$1,$W127,0),\"\")","v":"Y"},null,true,127,{"$f":"IF($T127,OFFSET(DetailList!A$1,$W127,0),\"\")","v":"C"},{"$f":"MATCH(U127,DetailList!BG:BG,0)-1","v":469}]
[null,{"$f":"IF($T128,OFFSET(DetailList!C$1,$W128,0),\"\")","v":"Food Standards (LA food law enforcement monitoring return)"},{"$f":"IF($T128,OFFSET(DetailList!E$1,$W128,0),\"\")","v":"FSA"},{"$f":"IF($T128,OFFSET(DetailList!F$1,$W128,0),\"\")","v":0},{"$f":"IF($T128,OFFSET(DetailList!B$1,$W128,0),\"\")","v":"191-00"},null,"Details","","Data",null,{"$f":"IF(Collections!$T128,OFFSET(DetailList!J$1,$W128,0),\"\")","v":"quarterly"},{"$f":"IF(Collections!$T128,OFFSET(DetailList!K$1,$W128,0),\"\")","v":"Upper tier & single tier"},{"$f":"IF($T128,OFFSET(DetailList!AU$1,$W128,0),\"\")","v":17},{"$f":"IF($T128,OFFSET(DetailList!AS$1,$W128,0),\"\")","v":"aggregate/summary"},null,{"$f":"IF($T128,OFFSET(DetailList!P$1,$W128,0),\"\")","v":0},{"$f":"IF($T128,OFFSET(DetailList!Q$1,$W128,0),\"\")","v":"For an example of published data from the bespoke returns  see Annex 2 and 4 -  FSA 21-12-14 - LA Recovery Plan Update .docx (food.gov.uk)"},{"$f":"IF($T128,OFFSET(DetailList!R$1,$W128,0),\"\")","v":"Y"},null,true,128,{"$f":"IF($T128,OFFSET(DetailList!A$1,$W128,0),\"\")","v":"C"},{"$f":"MATCH(U128,DetailList!BG:BG,0)-1","v":494}]
[null,{"$f":"IF($T129,OFFSET(DetailList!C$1,$W129,0),\"\")","v":"Central Lists of Feed Business Establishments"},{"$f":"IF($T129,OFFSET(DetailList!E$1,$W129,0),\"\")","v":"FSA"},{"$f":"IF($T129,OFFSET(DetailList!F$1,$W129,0),\"\")","v":0},{"$f":"IF($T129,OFFSET(DetailList!B$1,$W129,0),\"\")","v":"193-00"},null,"Details","","Data",null,{"$f":"IF(Collections!$T129,OFFSET(DetailList!J$1,$W129,0),\"\")","v":"quarterly"},{"$f":"IF(Collections!$T129,OFFSET(DetailList!K$1,$W129,0),\"\")","v":"Upper tier & single tier"},{"$f":"IF($T129,OFFSET(DetailList!AU$1,$W129,0),\"\")","v":1},{"$f":"IF($T129,OFFSET(DetailList!AS$1,$W129,0),\"\")","v":"client based"},null,{"$f":"IF($T129,OFFSET(DetailList!P$1,$W129,0),\"\")","v":0},{"$f":"IF($T129,OFFSET(DetailList!Q$1,$W129,0),\"\")","v":"https://www.food.gov.uk/sites/default/files/media/document/approved-feed-establishments-uk-may-2019.xls"},{"$f":"IF($T129,OFFSET(DetailList!R$1,$W129,0),\"\")","v":"Y"},null,{"$f":"U129<=Y$1","v":true},129,{"$f":"IF($T129,OFFSET(DetailList!A$1,$W129,0),\"\")","v":"C"},{"$f":"MATCH(U129,DetailList!BG:BG,0)-1","v":512}]
[null,{"$f":"IF($T130,OFFSET(DetailList!C$1,$W130,0),\"\")","v":"Approved Food Premises"},{"$f":"IF($T130,OFFSET(DetailList!E$1,$W130,0),\"\")","v":"FSA"},{"$f":"IF($T130,OFFSET(DetailList!F$1,$W130,0),\"\")","v":0},{"$f":"IF($T130,OFFSET(DetailList!B$1,$W130,0),\"\")","v":"194-00"},null,{"$f":"IF(AND($T130,$V130=\"C\"),HYPERLINK(\"#DetailList!A\"&W130+1,\"Details\"),\"\")","v":"Details"},{"$f":"IF(AND($T130,$V130=\"C\",NOT(P130=0)),HYPERLINK(P130,\"Collection\"),\"\")","v":""},{"$f":"IF(AND($T130,$V130=\"C\",NOT(Q130=0)),HYPERLINK(Q130,\"Data\"),\"\")","v":"Data"},null,{"$f":"IF(Collections!$T130,OFFSET(DetailList!J$1,$W130,0),\"\")","v":"as required"},{"$f":"IF(Collections!$T130,OFFSET(DetailList!K$1,$W130,0),\"\")","v":"All local authorities"},{"$f":"IF($T130,OFFSET(DetailList!AU$1,$W130,0),\"\")","v":1},{"$f":"IF($T130,OFFSET(DetailList!AS$1,$W130,0),\"\")","v":"client based"},null,{"$f":"IF($T130,OFFSET(DetailList!P$1,$W130,0),\"\")","v":0},{"$f":"IF($T130,OFFSET(DetailList!Q$1,$W130,0),\"\")","v":"http://www.food.gov.uk/enforcement/sectorrules/approvedestabsuk/"},{"$f":"IF($T130,OFFSET(DetailList!R$1,$W130,0),\"\")","v":"Y"},null,true,130,{"$f":"IF($T130,OFFSET(DetailList!A$1,$W130,0),\"\")","v":"C"},{"$f":"MATCH(U130,DetailList!BG:BG,0)-1","v":514}]
[null,{"$f":"IF($T131,OFFSET(DetailList!C$1,$W131,0),\"\")","v":"Imported Food Safeguard Measures"},{"$f":"IF($T131,OFFSET(DetailList!E$1,$W131,0),\"\")","v":"FSA"},{"$f":"IF($T131,OFFSET(DetailList!F$1,$W131,0),\"\")","v":0},{"$f":"IF($T131,OFFSET(DetailList!B$1,$W131,0),\"\")","v":"195-00"},null,"Details","","",null,{"$f":"IF(Collections!$T131,OFFSET(DetailList!J$1,$W131,0),\"\")","v":"quarterly"},{"$f":"IF(Collections!$T131,OFFSET(DetailList!K$1,$W131,0),\"\")","v":"Other"},{"$f":"IF($T131,OFFSET(DetailList!AU$1,$W131,0),\"\")","v":2},{"$f":"IF($T131,OFFSET(DetailList!AS$1,$W131,0),\"\")","v":"case based"},null,{"$f":"IF($T131,OFFSET(DetailList!P$1,$W131,0),\"\")","v":0},{"$f":"IF($T131,OFFSET(DetailList!Q$1,$W131,0),\"\")","v":0},{"$f":"IF($T131,OFFSET(DetailList!R$1,$W131,0),\"\")","v":"Y"},null,true,131,{"$f":"IF($T131,OFFSET(DetailList!A$1,$W131,0),\"\")","v":"C"},{"$f":"MATCH(U131,DetailList!BG:BG,0)-1","v":516}]
[null,{"$f":"IF($T132,OFFSET(DetailList!C$1,$W132,0),\"\")","v":"Animal Feed Data returns"},{"$f":"IF($T132,OFFSET(DetailList!E$1,$W132,0),\"\")","v":"FSA"},{"$f":"IF($T132,OFFSET(DetailList!F$1,$W132,0),\"\")","v":0},{"$f":"IF($T132,OFFSET(DetailList!B$1,$W132,0),\"\")","v":"196-00"},null,"Details","","",null,{"$f":"IF(Collections!$T132,OFFSET(DetailList!J$1,$W132,0),\"\")","v":"annual"},{"$f":"IF(Collections!$T132,OFFSET(DetailList!K$1,$W132,0),\"\")","v":"Upper tier & single tier"},{"$f":"IF($T132,OFFSET(DetailList!AU$1,$W132,0),\"\")","v":8},{"$f":"IF($T132,OFFSET(DetailList!AS$1,$W132,0),\"\")","v":"aggregate/summary"},null,{"$f":"IF($T132,OFFSET(DetailList!P$1,$W132,0),\"\")","v":0},{"$f":"IF($T132,OFFSET(DetailList!Q$1,$W132,0),\"\")","v":0},{"$f":"IF($T132,OFFSET(DetailList!R$1,$W132,0),\"\")","v":"Y"},null,true,132,{"$f":"IF($T132,OFFSET(DetailList!A$1,$W132,0),\"\")","v":"C"},{"$f":"MATCH(U132,DetailList!BG:BG,0)-1","v":519}]
[null,{"$f":"IF($T133,OFFSET(DetailList!C$1,$W133,0),\"\")","v":"Food Hygiene Rating Scheme (FHRS)"},{"$f":"IF($T133,OFFSET(DetailList!E$1,$W133,0),\"\")","v":"FSA"},{"$f":"IF($T133,OFFSET(DetailList!F$1,$W133,0),\"\")","v":0},{"$f":"IF($T133,OFFSET(DetailList!B$1,$W133,0),\"\")","v":"197-00"},null,"Details","Collection","Data",null,{"$f":"IF(Collections!$T133,OFFSET(DetailList!J$1,$W133,0),\"\")","v":"monthly"},{"$f":"IF(Collections!$T133,OFFSET(DetailList!K$1,$W133,0),\"\")","v":"All local authorities"},{"$f":"IF($T133,OFFSET(DetailList!AU$1,$W133,0),\"\")","v":4},{"$f":"IF($T133,OFFSET(DetailList!AS$1,$W133,0),\"\")","v":"n/k"},null,{"$f":"IF($T133,OFFSET(DetailList!P$1,$W133,0),\"\")","v":"http://www.food.gov.uk/enforcement/enfcomm/fhrssteeringgroup/hygieneratingsguidance/"},{"$f":"IF($T133,OFFSET(DetailList!Q$1,$W133,0),\"\")","v":"http://www.food.gov.uk/ratings"},{"$f":"IF($T133,OFFSET(DetailList!R$1,$W133,0),\"\")","v":"Y"},null,true,133,{"$f":"IF($T133,OFFSET(DetailList!A$1,$W133,0),\"\")","v":"C"},{"$f":"MATCH(U133,DetailList!BG:BG,0)-1","v":528}]
[null,{"$f":"IF($T134,OFFSET(DetailList!C$1,$W134,0),\"\")","v":"Electoral Statistics"},{"$f":"IF($T134,OFFSET(DetailList!E$1,$W134,0),\"\")","v":"ONS"},{"$f":"IF($T134,OFFSET(DetailList!F$1,$W134,0),\"\")","v":0},{"$f":"IF($T134,OFFSET(DetailList!B$1,$W134,0),\"\")","v":"215-00"},{"$nulls":12},{"$f":"IF($T134,OFFSET(DetailList!R$1,$W134,0),\"\")","v":"Y"},null,{"$f":"U134<=Y$1","v":true},134,{"$f":"IF($T134,OFFSET(DetailList!A$1,$W134,0),\"\")","v":"C"},{"$f":"MATCH(U134,DetailList!BG:BG,0)-1","v":537}]
[null,{"$f":"IF($T135,OFFSET(DetailList!C$1,$W135,0),\"\")","v":"Quarterly Public Sector Employment Survey - local authority data collection"},{"$f":"IF($T135,OFFSET(DetailList!E$1,$W135,0),\"\")","v":"ONS"},{"$f":"IF($T135,OFFSET(DetailList!F$1,$W135,0),\"\")","v":0},{"$f":"IF($T135,OFFSET(DetailList!B$1,$W135,0),\"\")","v":"054-00"},null,{"$f":"IF(AND($T135,$V135=\"C\"),HYPERLINK(\"#DetailList!A\"&W135+1,\"Details\"),\"\")","v":"Details"},{"$f":"IF(AND($T135,$V135=\"C\",NOT(P135=0)),HYPERLINK(P135,\"Collection\"),\"\")","v":""},{"$f":"IF(AND($T135,$V135=\"C\",NOT(Q135=0)),HYPERLINK(Q135,\"Data\"),\"\")","v":""},null,{"$f":"IF(Collections!$T135,OFFSET(DetailList!J$1,$W135,0),\"\")","v":"quarterly"},{"$f":"IF(Collections!$T135,OFFSET(DetailList!K$1,$W135,0),\"\")","v":"All local authorities"},{"$f":"IF($T135,OFFSET(DetailList!AU$1,$W135,0),\"\")","v":2},{"$f":"IF($T135,OFFSET(DetailList!AS$1,$W135,0),\"\")","v":"aggregate/summary"},null,{"$f":"IF($T135,OFFSET(DetailList!P$1,$W135,0),\"\")","v":0},{"$f":"IF($T135,OFFSET(DetailList!Q$1,$W135,0),\"\")","v":0},{"$f":"IF($T135,OFFSET(DetailList!R$1,$W135,0),\"\")","v":"Y"},null,{"$f":"U135<=Y$1","v":true},135,{"$f":"IF($T135,OFFSET(DetailList!A$1,$W135,0),\"\")","v":"C"},{"$f":"MATCH(U135,DetailList!BG:BG,0)-1","v":539}]
[null,{"$f":"IF($T136,OFFSET(DetailList!C$1,$W136,0),\"\")","v":"Council Tax Data Acquisition from Local Authorities "},{"$f":"IF($T136,OFFSET(DetailList!E$1,$W136,0),\"\")","v":"ONS"},{"$f":"IF($T136,OFFSET(DetailList!F$1,$W136,0),\"\")","v":0},{"$f":"IF($T136,OFFSET(DetailList!B$1,$W136,0),\"\")","v":"269-00"},null,"Details","","",null,{"$f":"IF(Collections!$T136,OFFSET(DetailList!J$1,$W136,0),\"\")","v":"monthly"},{"$f":"IF(Collections!$T136,OFFSET(DetailList!K$1,$W136,0),\"\")","v":"All local authorities"},{"$f":"IF($T136,OFFSET(DetailList!AU$1,$W136,0),\"\")","v":1},{"$f":"IF($T136,OFFSET(DetailList!AS$1,$W136,0),\"\")","v":"Individual"},null,{"$f":"IF($T136,OFFSET(DetailList!P$1,$W136,0),\"\")","v":0},{"$f":"IF($T136,OFFSET(DetailList!Q$1,$W136,0),\"\")","v":0},{"$f":"IF($T136,OFFSET(DetailList!R$1,$W136,0),\"\")","v":"Y"},null,true,136,{"$f":"IF($T136,OFFSET(DetailList!A$1,$W136,0),\"\")","v":"C"},{"$f":"MATCH(U136,DetailList!BG:BG,0)-1","v":542}]
[null,{"$f":"IF($T137,OFFSET(DetailList!C$1,$W137,0),\"\")","v":"Other Independent bodies "},{"$f":"IF($T137,OFFSET(DetailList!E$1,$W137,0),\"\")","v":"Other (a)"},{"$f":"IF($T137,OFFSET(DetailList!F$1,$W137,0),\"\")","v":0},{"$f":"IF($T137,OFFSET(DetailList!B$1,$W137,0),\"\")","v":0},null,{"$f":"IF(AND($T137,$V137=\"C\"),HYPERLINK(\"#DetailList!A\"&W137+1,\"Details\"),\"\")","v":""},{"$f":"IF(AND($T137,$V137=\"C\",NOT(P137=0)),HYPERLINK(P137,\"Collection\"),\"\")","v":""},{"$f":"IF(AND($T137,$V137=\"C\",NOT(Q137=0)),HYPERLINK(Q137,\"Data\"),\"\")","v":""},null,{"$f":"IF(Collections!$T137,OFFSET(DetailList!J$1,$W137,0),\"\")","v":0},{"$f":"IF(Collections!$T137,OFFSET(DetailList!K$1,$W137,0),\"\")","v":0},{"$f":"IF($T137,OFFSET(DetailList!AU$1,$W137,0),\"\")","v":0},{"$f":"IF($T137,OFFSET(DetailList!AS$1,$W137,0),\"\")","v":0},null,{"$f":"IF($T137,OFFSET(DetailList!P$1,$W137,0),\"\")","v":0},{"$f":"IF($T137,OFFSET(DetailList!Q$1,$W137,0),\"\")","v":0},{"$f":"IF($T137,OFFSET(DetailList!R$1,$W137,0),\"\")","v":0},null,{"$f":"U137<=Y$1","v":true},137,{"$f":"IF($T137,OFFSET(DetailList!A$1,$W137,0),\"\")","v":"x"},{"$f":"MATCH(U137,DetailList!BG:BG,0)-1","v":575}]
[null,{"$f":"IF($T138,OFFSET(DetailList!C$1,$W138,0),\"\")","v":"Adult Social Care Workforce Data Set (ASC-WDS) "},{"$f":"IF($T138,OFFSET(DetailList!E$1,$W138,0),\"\")","v":"DHSC/SfC"},{"$f":"IF($T138,OFFSET(DetailList!F$1,$W138,0),\"\")","v":0},{"$f":"IF($T138,OFFSET(DetailList!B$1,$W138,0),\"\")","v":"142-00"},null,"Details","Collection","",null,{"$f":"IF(Collections!$T138,OFFSET(DetailList!J$1,$W138,0),\"\")","v":"annual"},{"$f":"IF(Collections!$T138,OFFSET(DetailList!K$1,$W138,0),\"\")","v":"Upper tier & single tier"},{"$f":"IF($T138,OFFSET(DetailList!AU$1,$W138,0),\"\")","v":1},{"$f":"IF($T138,OFFSET(DetailList!AS$1,$W138,0),\"\")","v":"client based"},null,{"$f":"IF($T138,OFFSET(DetailList!P$1,$W138,0),\"\")","v":"https://asc-wds.skillsforcare.org.uk/ "},{"$f":"IF($T138,OFFSET(DetailList!Q$1,$W138,0),\"\")","v":0},{"$f":"IF($T138,OFFSET(DetailList!R$1,$W138,0),\"\")","v":0},null,true,138,{"$f":"IF($T138,OFFSET(DetailList!A$1,$W138,0),\"\")","v":"C"},{"$f":"MATCH(U138,DetailList!BG:BG,0)-1","v":393}]
[null,{"$f":"IF($T139,OFFSET(DetailList!C$1,$W139,0),\"\")","v":"Other public bodies NOT part of the Single Data List (x)"},{"$f":"IF($T139,OFFSET(DetailList!E$1,$W139,0),\"\")","v":"Other (x)"},{"$f":"IF($T139,OFFSET(DetailList!F$1,$W139,0),\"\")","v":0},{"$f":"IF($T139,OFFSET(DetailList!B$1,$W139,0),\"\")","v":0},null,"","","",null,{"$f":"IF(Collections!$T139,OFFSET(DetailList!J$1,$W139,0),\"\")","v":0},{"$f":"IF(Collections!$T139,OFFSET(DetailList!K$1,$W139,0),\"\")","v":0},{"$f":"IF($T139,OFFSET(DetailList!AU$1,$W139,0),\"\")","v":0},{"$f":"IF($T139,OFFSET(DetailList!AS$1,$W139,0),\"\")","v":0},null,{"$f":"IF($T139,OFFSET(DetailList!P$1,$W139,0),\"\")","v":0},{"$f":"IF($T139,OFFSET(DetailList!Q$1,$W139,0),\"\")","v":0},{"$f":"IF($T139,OFFSET(DetailList!R$1,$W139,0),\"\")","v":0},null,true,139,{"$f":"IF($T139,OFFSET(DetailList!A$1,$W139,0),\"\")","v":"X"},{"$f":"MATCH(U139,DetailList!BG:BG,0)-1","v":574}]
[null,{"$f":"IF($T140,OFFSET(DetailList!C$1,$W140,0),\"\")","v":"Performance Standards for Electoral Registration Officers"},{"$f":"IF($T140,OFFSET(DetailList!E$1,$W140,0),\"\")","v":"EC"},{"$f":"IF($T140,OFFSET(DetailList!F$1,$W140,0),\"\")","v":0},{"$f":"IF($T140,OFFSET(DetailList!B$1,$W140,0),\"\")","v":"227-00"},null,"Details","","",null,{"$f":"IF(Collections!$T140,OFFSET(DetailList!J$1,$W140,0),\"\")","v":"annual"},{"$f":"IF(Collections!$T140,OFFSET(DetailList!K$1,$W140,0),\"\")","v":"Sample of authorities"},{"$f":"IF($T140,OFFSET(DetailList!AU$1,$W140,0),\"\")","v":1},{"$f":"IF($T140,OFFSET(DetailList!AS$1,$W140,0),\"\")","v":"aggregate/summary"},null,{"$f":"IF($T140,OFFSET(DetailList!P$1,$W140,0),\"\")","v":0},{"$f":"IF($T140,OFFSET(DetailList!Q$1,$W140,0),\"\")","v":0},{"$f":"IF($T140,OFFSET(DetailList!R$1,$W140,0),\"\")","v":"Y"},null,true,140,{"$f":"IF($T140,OFFSET(DetailList!A$1,$W140,0),\"\")","v":"C"},{"$f":"MATCH(U140,DetailList!BG:BG,0)-1","v":544}]
[null,{"$f":"IF($T141,OFFSET(DetailList!C$1,$W141,0),\"\")","v":"Performance Standards for Returning Officers "},{"$f":"IF($T141,OFFSET(DetailList!E$1,$W141,0),\"\")","v":"EC"},{"$f":"IF($T141,OFFSET(DetailList!F$1,$W141,0),\"\")","v":0},{"$f":"IF($T141,OFFSET(DetailList!B$1,$W141,0),\"\")","v":"228-00"},null,{"$f":"IF(AND($T141,$V141=\"C\"),HYPERLINK(\"#DetailList!A\"&W141+1,\"Details\"),\"\")","v":"Details"},{"$f":"IF(AND($T141,$V141=\"C\",NOT(P141=0)),HYPERLINK(P141,\"Collection\"),\"\")","v":""},{"$f":"IF(AND($T141,$V141=\"C\",NOT(Q141=0)),HYPERLINK(Q141,\"Data\"),\"\")","v":""},null,{"$f":"IF(Collections!$T141,OFFSET(DetailList!J$1,$W141,0),\"\")","v":"annual"},{"$f":"IF(Collections!$T141,OFFSET(DetailList!K$1,$W141,0),\"\")","v":"Sample of authorities"},{"$f":"IF($T141,OFFSET(DetailList!AU$1,$W141,0),\"\")","v":1},{"$f":"IF($T141,OFFSET(DetailList!AS$1,$W141,0),\"\")","v":"aggregate/summary"},null,{"$f":"IF($T141,OFFSET(DetailList!P$1,$W141,0),\"\")","v":0},{"$f":"IF($T141,OFFSET(DetailList!Q$1,$W141,0),\"\")","v":0},{"$f":"IF($T141,OFFSET(DetailList!R$1,$W141,0),\"\")","v":"Y"},null,{"$f":"U141<=Y$1","v":true},141,{"$f":"IF($T141,OFFSET(DetailList!A$1,$W141,0),\"\")","v":"C"},{"$f":"MATCH(U141,DetailList!BG:BG,0)-1","v":546}]
[null,{"$f":"IF($T142,OFFSET(DetailList!C$1,$W142,0),\"\")","v":"Statement of Postal Ballot Papers "},{"$f":"IF($T142,OFFSET(DetailList!E$1,$W142,0),\"\")","v":"EC"},{"$f":"IF($T142,OFFSET(DetailList!F$1,$W142,0),\"\")","v":0},{"$f":"IF($T142,OFFSET(DetailList!B$1,$W142,0),\"\")","v":"229-00"},null,"Details","","",null,{"$f":"IF(Collections!$T142,OFFSET(DetailList!J$1,$W142,0),\"\")","v":"annual"},{"$f":"IF(Collections!$T142,OFFSET(DetailList!K$1,$W142,0),\"\")","v":"All local authorities"},{"$f":"IF($T142,OFFSET(DetailList!AU$1,$W142,0),\"\")","v":1},{"$f":"IF($T142,OFFSET(DetailList!AS$1,$W142,0),\"\")","v":"n/k"},null,{"$f":"IF($T142,OFFSET(DetailList!P$1,$W142,0),\"\")","v":0},{"$f":"IF($T142,OFFSET(DetailList!Q$1,$W142,0),\"\")","v":0},{"$f":"IF($T142,OFFSET(DetailList!R$1,$W142,0),\"\")","v":"Y"},null,true,142,{"$f":"IF($T142,OFFSET(DetailList!A$1,$W142,0),\"\")","v":"C"},{"$f":"MATCH(U142,DetailList!BG:BG,0)-1","v":548}]
[null,{"$f":"IF($T143,OFFSET(DetailList!C$1,$W143,0),\"\")","v":"Return of statistical information relating to conduct of elections"},{"$f":"IF($T143,OFFSET(DetailList!E$1,$W143,0),\"\")","v":"EC"},{"$f":"IF($T143,OFFSET(DetailList!F$1,$W143,0),\"\")","v":0},{"$f":"IF($T143,OFFSET(DetailList!B$1,$W143,0),\"\")","v":"232-00"},null,"Details","","",null,{"$f":"IF(Collections!$T143,OFFSET(DetailList!J$1,$W143,0),\"\")","v":"annual"},{"$f":"IF(Collections!$T143,OFFSET(DetailList!K$1,$W143,0),\"\")","v":"All local authorities"},{"$f":"IF($T143,OFFSET(DetailList!AU$1,$W143,0),\"\")","v":1},{"$f":"IF($T143,OFFSET(DetailList!AS$1,$W143,0),\"\")","v":"aggregate/summary"},null,{"$f":"IF($T143,OFFSET(DetailList!P$1,$W143,0),\"\")","v":0},{"$f":"IF($T143,OFFSET(DetailList!Q$1,$W143,0),\"\")","v":0},{"$f":"IF($T143,OFFSET(DetailList!R$1,$W143,0),\"\")","v":"Y"},null,true,143,{"$f":"IF($T143,OFFSET(DetailList!A$1,$W143,0),\"\")","v":"C"},{"$f":"MATCH(U143,DetailList!BG:BG,0)-1","v":550}]
[null,{"$f":"IF($T144,OFFSET(DetailList!C$1,$W144,0),\"\")","v":"Statement of results"},{"$f":"IF($T144,OFFSET(DetailList!E$1,$W144,0),\"\")","v":"EC"},{"$f":"IF($T144,OFFSET(DetailList!F$1,$W144,0),\"\")","v":0},{"$f":"IF($T144,OFFSET(DetailList!B$1,$W144,0),\"\")","v":"250-00"},null,{"$f":"IF(AND($T144,$V144=\"C\"),HYPERLINK(\"#DetailList!A\"&W144+1,\"Details\"),\"\")","v":"Details"},{"$f":"IF(AND($T144,$V144=\"C\",NOT(P144=0)),HYPERLINK(P144,\"Collection\"),\"\")","v":""},{"$f":"IF(AND($T144,$V144=\"C\",NOT(Q144=0)),HYPERLINK(Q144,\"Data\"),\"\")","v":""},null,{"$f":"IF(Collections!$T144,OFFSET(DetailList!J$1,$W144,0),\"\")","v":"annual"},{"$f":"IF(Collections!$T144,OFFSET(DetailList!K$1,$W144,0),\"\")","v":"All local authorities"},{"$f":"IF($T144,OFFSET(DetailList!AU$1,$W144,0),\"\")","v":1},{"$f":"IF($T144,OFFSET(DetailList!AS$1,$W144,0),\"\")","v":"n/k"},null,{"$f":"IF($T144,OFFSET(DetailList!P$1,$W144,0),\"\")","v":0},{"$f":"IF($T144,OFFSET(DetailList!Q$1,$W144,0),\"\")","v":0},{"$f":"IF($T144,OFFSET(DetailList!R$1,$W144,0),\"\")","v":"Y"},null,{"$f":"U144<=Y$1","v":true},144,{"$f":"IF($T144,OFFSET(DetailList!A$1,$W144,0),\"\")","v":"C"},{"$f":"MATCH(U144,DetailList!BG:BG,0)-1","v":552}]
[null,{"$f":"IF($T145,OFFSET(DetailList!C$1,$W145,0),\"\")","v":""},{"$f":"IF($T145,OFFSET(DetailList!E$1,$W145,0),\"\")","v":""},{"$f":"IF($T145,OFFSET(DetailList!F$1,$W145,0),\"\")","v":""},{"$f":"IF($T145,OFFSET(DetailList!B$1,$W145,0),\"\")","v":""},null,"","","",null,{"$f":"IF(Collections!$T145,OFFSET(DetailList!J$1,$W145,0),\"\")","v":""},{"$f":"IF(Collections!$T145,OFFSET(DetailList!K$1,$W145,0),\"\")","v":""},{"$f":"IF($T145,OFFSET(DetailList!AU$1,$W145,0),\"\")","v":""},{"$f":"IF($T145,OFFSET(DetailList!AS$1,$W145,0),\"\")","v":""},null,{"$f":"IF($T145,OFFSET(DetailList!P$1,$W145,0),\"\")","v":""},{"$f":"IF($T145,OFFSET(DetailList!Q$1,$W145,0),\"\")","v":""},{"$f":"IF($T145,OFFSET(DetailList!R$1,$W145,0),\"\")","v":""},null,false,145,{"$f":"IF($T145,OFFSET(DetailList!A$1,$W145,0),\"\")","v":""},{"$f":"MATCH(U145,DetailList!BG:BG,0)-1","v":438}]
[null,{"$f":"IF($T146,OFFSET(DetailList!C$1,$W146,0),\"\")","v":""},{"$f":"IF($T146,OFFSET(DetailList!E$1,$W146,0),\"\")","v":""},{"$f":"IF($T146,OFFSET(DetailList!F$1,$W146,0),\"\")","v":""},{"$f":"IF($T146,OFFSET(DetailList!B$1,$W146,0),\"\")","v":""},null,{"$f":"IF(AND($T146,$V146=\"C\"),HYPERLINK(\"#DetailList!A\"&W146+1,\"Details\"),\"\")","v":""},{"$f":"IF(AND($T146,$V146=\"C\",NOT(P146=0)),HYPERLINK(P146,\"Collection\"),\"\")","v":""},{"$f":"IF(AND($T146,$V146=\"C\",NOT(Q146=0)),HYPERLINK(Q146,\"Data\"),\"\")","v":""},null,{"$f":"IF(Collections!$T146,OFFSET(DetailList!J$1,$W146,0),\"\")","v":""},{"$f":"IF(Collections!$T146,OFFSET(DetailList!K$1,$W146,0),\"\")","v":""},{"$f":"IF($T146,OFFSET(DetailList!AU$1,$W146,0),\"\")","v":""},{"$f":"IF($T146,OFFSET(DetailList!AS$1,$W146,0),\"\")","v":""},null,{"$f":"IF($T146,OFFSET(DetailList!P$1,$W146,0),\"\")","v":""},{"$f":"IF($T146,OFFSET(DetailList!Q$1,$W146,0),\"\")","v":""},{"$f":"IF($T146,OFFSET(DetailList!R$1,$W146,0),\"\")","v":""},null,{"$f":"U146<=Y$1","v":false},146,{"$f":"IF($T146,OFFSET(DetailList!A$1,$W146,0),\"\")","v":""},{"$f":"MATCH(U146,DetailList!BG:BG,0)-1","v":173}]
[null,{"$f":"IF($T147,OFFSET(DetailList!C$1,$W147,0),\"\")","v":""},{"$f":"IF($T147,OFFSET(DetailList!E$1,$W147,0),\"\")","v":""},{"$f":"IF($T147,OFFSET(DetailList!F$1,$W147,0),\"\")","v":""},{"$f":"IF($T147,OFFSET(DetailList!B$1,$W147,0),\"\")","v":""},null,"","","",null,{"$f":"IF(Collections!$T147,OFFSET(DetailList!J$1,$W147,0),\"\")","v":""},{"$f":"IF(Collections!$T147,OFFSET(DetailList!K$1,$W147,0),\"\")","v":""},{"$f":"IF($T147,OFFSET(DetailList!AU$1,$W147,0),\"\")","v":""},{"$f":"IF($T147,OFFSET(DetailList!AS$1,$W147,0),\"\")","v":""},null,{"$f":"IF($T147,OFFSET(DetailList!P$1,$W147,0),\"\")","v":""},{"$f":"IF($T147,OFFSET(DetailList!Q$1,$W147,0),\"\")","v":""},{"$f":"IF($T147,OFFSET(DetailList!R$1,$W147,0),\"\")","v":""},null,false,147,{"$f":"IF($T147,OFFSET(DetailList!A$1,$W147,0),\"\")","v":""},{"$f":"MATCH(U147,DetailList!BG:BG,0)-1","v":2}]
[null,{"$f":"IF($T148,OFFSET(DetailList!C$1,$W148,0),\"\")","v":""},{"$f":"IF($T148,OFFSET(DetailList!E$1,$W148,0),\"\")","v":""},{"$f":"IF($T148,OFFSET(DetailList!F$1,$W148,0),\"\")","v":""},{"$f":"IF($T148,OFFSET(DetailList!B$1,$W148,0),\"\")","v":""},null,"","","",null,{"$f":"IF(Collections!$T148,OFFSET(DetailList!J$1,$W148,0),\"\")","v":""},{"$f":"IF(Collections!$T148,OFFSET(DetailList!K$1,$W148,0),\"\")","v":""},{"$f":"IF($T148,OFFSET(DetailList!AU$1,$W148,0),\"\")","v":""},{"$f":"IF($T148,OFFSET(DetailList!AS$1,$W148,0),\"\")","v":""},null,{"$f":"IF($T148,OFFSET(DetailList!P$1,$W148,0),\"\")","v":""},{"$f":"IF($T148,OFFSET(DetailList!Q$1,$W148,0),\"\")","v":""},{"$f":"IF($T148,OFFSET(DetailList!R$1,$W148,0),\"\")","v":""},null,false,148,{"$f":"IF($T148,OFFSET(DetailList!A$1,$W148,0),\"\")","v":""},{"$f":"MATCH(U148,DetailList!BG:BG,0)-1","v":3}]
[null,{"$f":"IF($T149,OFFSET(DetailList!C$1,$W149,0),\"\")","v":""},{"$f":"IF($T149,OFFSET(DetailList!E$1,$W149,0),\"\")","v":""},{"$f":"IF($T149,OFFSET(DetailList!F$1,$W149,0),\"\")","v":""},{"$f":"IF($T149,OFFSET(DetailList!B$1,$W149,0),\"\")","v":""},null,"","","",null,{"$f":"IF(Collections!$T149,OFFSET(DetailList!J$1,$W149,0),\"\")","v":""},{"$f":"IF(Collections!$T149,OFFSET(DetailList!K$1,$W149,0),\"\")","v":""},{"$f":"IF($T149,OFFSET(DetailList!AU$1,$W149,0),\"\")","v":""},{"$f":"IF($T149,OFFSET(DetailList!AS$1,$W149,0),\"\")","v":""},null,{"$f":"IF($T149,OFFSET(DetailList!P$1,$W149,0),\"\")","v":""},{"$f":"IF($T149,OFFSET(DetailList!Q$1,$W149,0),\"\")","v":""},{"$f":"IF($T149,OFFSET(DetailList!R$1,$W149,0),\"\")","v":""},null,false,149,{"$f":"IF($T149,OFFSET(DetailList!A$1,$W149,0),\"\")","v":""},{"$f":"MATCH(U149,DetailList!BG:BG,0)-1","v":219}]
[null,{"$f":"IF($T150,OFFSET(DetailList!C$1,$W150,0),\"\")","v":""},{"$f":"IF($T150,OFFSET(DetailList!E$1,$W150,0),\"\")","v":""},{"$f":"IF($T150,OFFSET(DetailList!F$1,$W150,0),\"\")","v":""},{"$f":"IF($T150,OFFSET(DetailList!B$1,$W150,0),\"\")","v":""},null,"","","",null,{"$f":"IF(Collections!$T150,OFFSET(DetailList!J$1,$W150,0),\"\")","v":""},{"$f":"IF(Collections!$T150,OFFSET(DetailList!K$1,$W150,0),\"\")","v":""},{"$f":"IF($T150,OFFSET(DetailList!AU$1,$W150,0),\"\")","v":""},{"$f":"IF($T150,OFFSET(DetailList!AS$1,$W150,0),\"\")","v":""},null,{"$f":"IF($T150,OFFSET(DetailList!P$1,$W150,0),\"\")","v":""},{"$f":"IF($T150,OFFSET(DetailList!Q$1,$W150,0),\"\")","v":""},{"$f":"IF($T150,OFFSET(DetailList!R$1,$W150,0),\"\")","v":""},null,false,150,{"$f":"IF($T150,OFFSET(DetailList!A$1,$W150,0),\"\")","v":""},{"$f":"MATCH(U150,DetailList!BG:BG,0)-1","v":177}]
[null,{"$f":"IF($T151,OFFSET(DetailList!C$1,$W151,0),\"\")","v":""},{"$f":"IF($T151,OFFSET(DetailList!E$1,$W151,0),\"\")","v":""},{"$f":"IF($T151,OFFSET(DetailList!F$1,$W151,0),\"\")","v":""},{"$f":"IF($T151,OFFSET(DetailList!B$1,$W151,0),\"\")","v":""},null,{"$f":"IF(AND($T151,$V151=\"C\"),HYPERLINK(\"#DetailList!A\"&W151+1,\"Details\"),\"\")","v":""},{"$f":"IF(AND($T151,$V151=\"C\",NOT(P151=0)),HYPERLINK(P151,\"Collection\"),\"\")","v":""},{"$f":"IF(AND($T151,$V151=\"C\",NOT(Q151=0)),HYPERLINK(Q151,\"Data\"),\"\")","v":""},null,{"$f":"IF(Collections!$T151,OFFSET(DetailList!J$1,$W151,0),\"\")","v":""},{"$f":"IF(Collections!$T151,OFFSET(DetailList!K$1,$W151,0),\"\")","v":""},{"$f":"IF($T151,OFFSET(DetailList!AU$1,$W151,0),\"\")","v":""},{"$f":"IF($T151,OFFSET(DetailList!AS$1,$W151,0),\"\")","v":""},null,{"$f":"IF($T151,OFFSET(DetailList!P$1,$W151,0),\"\")","v":""},{"$f":"IF($T151,OFFSET(DetailList!Q$1,$W151,0),\"\")","v":""},{"$f":"IF($T151,OFFSET(DetailList!R$1,$W151,0),\"\")","v":""},null,{"$f":"U151<=Y$1","v":false},151,{"$f":"IF($T151,OFFSET(DetailList!A$1,$W151,0),\"\")","v":""},{"$f":"MATCH(U151,DetailList!BG:BG,0)-1","v":179}]
[null,{"$f":"IF($T152,OFFSET(DetailList!C$1,$W152,0),\"\")","v":""},{"$f":"IF($T152,OFFSET(DetailList!E$1,$W152,0),\"\")","v":""},{"$f":"IF($T152,OFFSET(DetailList!F$1,$W152,0),\"\")","v":""},{"$f":"IF($T152,OFFSET(DetailList!B$1,$W152,0),\"\")","v":""},null,"","","",null,{"$f":"IF(Collections!$T152,OFFSET(DetailList!J$1,$W152,0),\"\")","v":""},{"$f":"IF(Collections!$T152,OFFSET(DetailList!K$1,$W152,0),\"\")","v":""},{"$f":"IF($T152,OFFSET(DetailList!AU$1,$W152,0),\"\")","v":""},{"$f":"IF($T152,OFFSET(DetailList!AS$1,$W152,0),\"\")","v":""},null,{"$f":"IF($T152,OFFSET(DetailList!P$1,$W152,0),\"\")","v":""},{"$f":"IF($T152,OFFSET(DetailList!Q$1,$W152,0),\"\")","v":""},{"$f":"IF($T152,OFFSET(DetailList!R$1,$W152,0),\"\")","v":""},null,false,152,{"$f":"IF($T152,OFFSET(DetailList!A$1,$W152,0),\"\")","v":""},{"$f":"MATCH(U152,DetailList!BG:BG,0)-1","v":180}]
[null,{"$f":"IF($T153,OFFSET(DetailList!C$1,$W153,0),\"\")","v":""},{"$f":"IF($T153,OFFSET(DetailList!E$1,$W153,0),\"\")","v":""},{"$f":"IF($T153,OFFSET(DetailList!F$1,$W153,0),\"\")","v":""},{"$f":"IF($T153,OFFSET(DetailList!B$1,$W153,0),\"\")","v":""},null,"","","",null,{"$f":"IF(Collections!$T153,OFFSET(DetailList!J$1,$W153,0),\"\")","v":""},{"$f":"IF(Collections!$T153,OFFSET(DetailList!K$1,$W153,0),\"\")","v":""},{"$f":"IF($T153,OFFSET(DetailList!AU$1,$W153,0),\"\")","v":""},{"$f":"IF($T153,OFFSET(DetailList!AS$1,$W153,0),\"\")","v":""},null,{"$f":"IF($T153,OFFSET(DetailList!P$1,$W153,0),\"\")","v":""},{"$f":"IF($T153,OFFSET(DetailList!Q$1,$W153,0),\"\")","v":""},{"$f":"IF($T153,OFFSET(DetailList!R$1,$W153,0),\"\")","v":""},null,false,153,{"$f":"IF($T153,OFFSET(DetailList!A$1,$W153,0),\"\")","v":""},{"$f":"MATCH(U153,DetailList!BG:BG,0)-1","v":181}]
[null,{"$f":"IF($T154,OFFSET(DetailList!C$1,$W154,0),\"\")","v":""},{"$f":"IF($T154,OFFSET(DetailList!E$1,$W154,0),\"\")","v":""},{"$f":"IF($T154,OFFSET(DetailList!F$1,$W154,0),\"\")","v":""},{"$f":"IF($T154,OFFSET(DetailList!B$1,$W154,0),\"\")","v":""},null,"","","",null,{"$f":"IF(Collections!$T154,OFFSET(DetailList!J$1,$W154,0),\"\")","v":""},{"$f":"IF(Collections!$T154,OFFSET(DetailList!K$1,$W154,0),\"\")","v":""},{"$f":"IF($T154,OFFSET(DetailList!AU$1,$W154,0),\"\")","v":""},{"$f":"IF($T154,OFFSET(DetailList!AS$1,$W154,0),\"\")","v":""},null,{"$f":"IF($T154,OFFSET(DetailList!P$1,$W154,0),\"\")","v":""},{"$f":"IF($T154,OFFSET(DetailList!Q$1,$W154,0),\"\")","v":""},{"$f":"IF($T154,OFFSET(DetailList!R$1,$W154,0),\"\")","v":""},null,false,154,{"$f":"IF($T154,OFFSET(DetailList!A$1,$W154,0),\"\")","v":""},{"$f":"MATCH(U154,DetailList!BG:BG,0)-1","v":182}]
[null,{"$f":"IF($T155,OFFSET(DetailList!C$1,$W155,0),\"\")","v":""},{"$f":"IF($T155,OFFSET(DetailList!E$1,$W155,0),\"\")","v":""},{"$f":"IF($T155,OFFSET(DetailList!F$1,$W155,0),\"\")","v":""},{"$f":"IF($T155,OFFSET(DetailList!B$1,$W155,0),\"\")","v":""},null,"","","",null,{"$f":"IF(Collections!$T155,OFFSET(DetailList!J$1,$W155,0),\"\")","v":""},{"$f":"IF(Collections!$T155,OFFSET(DetailList!K$1,$W155,0),\"\")","v":""},{"$f":"IF($T155,OFFSET(DetailList!AU$1,$W155,0),\"\")","v":""},{"$f":"IF($T155,OFFSET(DetailList!AS$1,$W155,0),\"\")","v":""},null,{"$f":"IF($T155,OFFSET(DetailList!P$1,$W155,0),\"\")","v":""},{"$f":"IF($T155,OFFSET(DetailList!Q$1,$W155,0),\"\")","v":""},{"$f":"IF($T155,OFFSET(DetailList!R$1,$W155,0),\"\")","v":""},null,false,155,{"$f":"IF($T155,OFFSET(DetailList!A$1,$W155,0),\"\")","v":""},{"$f":"MATCH(U155,DetailList!BG:BG,0)-1","v":183}]
[null,{"$f":"IF($T156,OFFSET(DetailList!C$1,$W156,0),\"\")","v":""},{"$f":"IF($T156,OFFSET(DetailList!E$1,$W156,0),\"\")","v":""},{"$f":"IF($T156,OFFSET(DetailList!F$1,$W156,0),\"\")","v":""},{"$f":"IF($T156,OFFSET(DetailList!B$1,$W156,0),\"\")","v":""},null,"","","",null,{"$f":"IF(Collections!$T156,OFFSET(DetailList!J$1,$W156,0),\"\")","v":""},{"$f":"IF(Collections!$T156,OFFSET(DetailList!K$1,$W156,0),\"\")","v":""},{"$f":"IF($T156,OFFSET(DetailList!AU$1,$W156,0),\"\")","v":""},{"$f":"IF($T156,OFFSET(DetailList!AS$1,$W156,0),\"\")","v":""},null,{"$f":"IF($T156,OFFSET(DetailList!P$1,$W156,0),\"\")","v":""},{"$f":"IF($T156,OFFSET(DetailList!Q$1,$W156,0),\"\")","v":""},{"$f":"IF($T156,OFFSET(DetailList!R$1,$W156,0),\"\")","v":""},null,false,156,{"$f":"IF($T156,OFFSET(DetailList!A$1,$W156,0),\"\")","v":""},{"$f":"MATCH(U156,DetailList!BG:BG,0)-1","v":184}]
[null,{"$f":"IF($T157,OFFSET(DetailList!C$1,$W157,0),\"\")","v":""},{"$f":"IF($T157,OFFSET(DetailList!E$1,$W157,0),\"\")","v":""},{"$f":"IF($T157,OFFSET(DetailList!F$1,$W157,0),\"\")","v":""},{"$f":"IF($T157,OFFSET(DetailList!B$1,$W157,0),\"\")","v":""},null,"","","",null,{"$f":"IF(Collections!$T157,OFFSET(DetailList!J$1,$W157,0),\"\")","v":""},{"$f":"IF(Collections!$T157,OFFSET(DetailList!K$1,$W157,0),\"\")","v":""},{"$f":"IF($T157,OFFSET(DetailList!AU$1,$W157,0),\"\")","v":""},{"$f":"IF($T157,OFFSET(DetailList!AS$1,$W157,0),\"\")","v":""},null,{"$f":"IF($T157,OFFSET(DetailList!P$1,$W157,0),\"\")","v":""},{"$f":"IF($T157,OFFSET(DetailList!Q$1,$W157,0),\"\")","v":""},{"$f":"IF($T157,OFFSET(DetailList!R$1,$W157,0),\"\")","v":""},null,false,157,{"$f":"IF($T157,OFFSET(DetailList!A$1,$W157,0),\"\")","v":""},{"$f":"MATCH(U157,DetailList!BG:BG,0)-1","v":185}]

{"sheet":"DetailList","index":2,"n_rows":576,"n_cols":59,"rows_kept":576}
["     Level","Ref","Data collection name","Data topic","Dept.","     New","     National Statistics","     EU/Int. legal oblig.","     UK legal obligation","Freq.","Authority group","Short description","Comments","Links",".","Link to return","Link to example of published data","     Body/Agency/ALB","NI","     County council","     District council","     Metropolitan district","     Unitary authority","     London borough","     City of London","     Isles of Scilly","     Fire & rescue authority","     Police authority","     Joint waste authority","     Waste disposal authority","     National park authority","     Integrated transport authority","     GLA","     Transport for London","     London Development Agency","     London Fire & Emergency Planning authority","     Metropolitan Police Authority","     Broads Authority","     Joint authority","     Combined authority","     Parish council","     Parish meeting","LA class comments","LA classes","Collection type","Format","Data topics",".","Theme","Contact",".","Ref part 1","Ref part 2",".","Level","Dept. sort","List order","Unique ranking value","Rank"]
["C","001-00","Weights and measures enforcement (section 70)",null,"DBT/OPSS",{"$nulls":3},"Y","annual","Upper tier & single tier","The level of local weights and measures enforcement work.","Weights and Measures Act 1985 section 70. https://www.gov.uk/guidance/enforcement-of-the-weights-and-measures-act-1985  ",{"$f":"IF(OR($A2<>\"C\",P2=\"\"),\"\",HYPERLINK(P2,\"Collection\"))","v":"Collection"},{"$f":"IF(OR($A2<>\"C\",Q2=\"\"),\"\",HYPERLINK(Q2,\"Data\"))","v":""},"www.gov.uk/government/publications/section-70-weights-and-measures-returns-and-reports",{"$nulls":3},"Y",null,"Y","Y","Y","Y","Y",{"$nulls":17},"County council, Metropolitan district, Unitary authority, London borough, City of London, Isles of Scilly","aggregate/summary","Spreadsheet",2,null,"Trading standards","amanda.farrell@beis.gov.uk / gillian.asbury@beis.gov.uk",null,1,0,null,0,4,1,4001,3]
["D","001-01","Weights and measures enforcement (section 70)","Compliance of weighing and measuring equipment","DBT/OPSS",{"$nulls":3},"Y","annual","Upper tier & single tier",null,null,"","",null,null,0,{"$nulls":28},"",null,"Trading standards",null,null,1,1,null,1,4,2,1004002,147]
["D","001-02","Weights and measures enforcement (section 70)","Business compliance \n","DBT/OPSS",{"$nulls":3},"Y","annual","Upper tier & single tier",null,"Level of detail required will also be reduced this year due to data being available from other sources","","",null,null,0,{"$nulls":28},"",null,"Trading standards",null,null,1,2,null,1,4,3,1004003,148]
["C","002-00","House Building Return (P2a)",null,"DLUHC",null,"Y",null,null,"quarterly","Single tier & lower tier","New build housing starts and completions","The house building return collects building control reported starts and completions which are published in the quarterly 'Housing supply: indicators of new supply, England' statistical release. Data submitted via DLUHC's DELTA on-line service. ","Collection","Data","www.gov.uk/house-building-data-notes-and-definitions-includes-p2-full-guidance-notes-and-returns-form","https://www.gov.uk/government/statistics/housing-supply-indicators-of-new-supply-england-july-to-september-2022",null,155,null,"Y","Y","Y","Y","Y","Y",{"$nulls":17},"District council, Metropolitan district, Unitary authority, London borough, City of London, Isles of Scilly","aggregate/summary",null,2,null,"Housing","Neil Higgins",null,2,0,null,0,14,4,14004,52]
["D","002-01","House Building Return (P2a)","Number of new build dwellings started, split into private enterprise, HA, LA tenures","DLUHC",null,"Y",null,null,"quarterly","Single tier & lower tier",null,null,"","",null,null,0,{"$nulls":28},"",null,"Housing",null,null,2,1,null,1,14,5,1014005,291]
["D","002-02","House Building Return (P2a)","Number of new build dwellings completed, split into private enterprise, HA, LA tenures","DLUHC",null,"Y",null,null,"quarterly","Single tier & lower tier",null,null,"","",null,null,0,{"$nulls":28},"",null,"Housing",null,null,2,2,null,1,14,6,1014006,292]
["C","003-00","Housing Flows Reconciliation Form (HFR)",null,"DLUHC",null,"Y",null,null,"annual","Single tier & lower tier","Net supply of housing and dwelling stock estimates.","The HFR is collected annually from local authorities in all regions except London; statistics on housing flows for London boroughs are collected and provided by the GLA. Data submitted via DLUHC's DELTA on-line service. \nThe purpose of this return is to collect reliable statistics on the overall annual net change in the dwelling stock and the components of that change (house building completions, conversions, changes of use and demolitions) for each local authority district and to formally reconcile these totals with stock figures for the beginning and end of the financial year. The completions, conversions and changes of use data supplied on housing flows includes those approved by independent Approved Building Inspectors (eg NHBC); this is unlike the quarterly P2 house building return which only covers new build activity inspected by the authority's own building inspectors. The timing basis of these figures is designed to key in with the formulation of housing strategies and the reporting dates for dwelling stocks on the Local Authority Housing Statistics (LAHS). The intention is for these figures to provide a single set of definitive statistics for local authorities to use for housing strategies and PPS3 monitoring.\nDLUHC will use the figures to provide national and regional estimates of net housing supply and total dwelling stock in annual official statistics releases.","Collection","Data","www.gov.uk/dwelling-stock-data-notes-and-definitions-includes-hfr-full-guidance-notes-and-returns-form","https://www.gov.uk/government/statistics/housing-supply-net-additional-dwellings-england-2021-to-2022",null,154,null,"Y","Y","Y",null,null,"Y",{"$nulls":6},"Y",{"$nulls":9},"County councils sometimes provide data for some or all the districts in their area","District council, Metropolitan district, Unitary authority, Isles of Scilly, GLA","aggregate/summary",null,5,null,"Housing","Neil Higgins",null,3,0,null,0,14,7,14007,53]
["D","003-01","Housing Flows Reconciliation Form (HFR)","Housing Supply; net additional dwellings","DLUHC",null,"Y",null,null,"annual","Single tier & lower tier",null,null,"","",null,null,0,{"$nulls":28},"",null,"Housing",null,null,3,1,null,1,14,8,1014008,293]
["D","003-02","Housing Flows Reconciliation Form (HFR)","House building completions","DLUHC",null,"Y",null,null,"annual","Single tier & lower tier",null,null,"","",null,null,0,{"$nulls":28},"",null,"Housing",null,null,3,2,null,1,14,9,1014009,294]
["D","003-03","Housing Flows Reconciliation Form (HFR)","Conversions","DLUHC",null,"Y",null,null,"annual","Single tier & lower tier",null,null,"","",null,null,0,{"$nulls":28},"",null,"Housing",null,null,3,3,null,1,14,10,1014010,295]
["D","003-04","Housing Flows Reconciliation Form (HFR)","Changes of use","DLUHC",null,"Y",null,null,"annual","Single tier & lower tier",null,null,"","",null,null,0,{"$nulls":28},"",null,"Housing",null,null,3,4,null,1,14,11,1014011,296]
["D","003-05","Housing Flows Reconciliation Form (HFR)","Demolitions","DLUHC",null,"Y",null,null,"annual","Single tier & lower tier",null,null,"","",null,null,0,{"$nulls":28},"",null,"Housing",null,null,3,5,null,1,14,12,1014012,297]
["C","065-00","CORE (Continuous Recording) of lettings and sales by local authorities",null,"DLUHC",null,"Y",null,null,"continuous","Single tier & lower tier","Information on the characteristics of housing association and local authority new social housing tenants and the homes they rent and buy.",null,"Collection","Data","https://core.communities.gov.uk\nhttps://dluhc-core-production.london.cloudapps.digital/","https://www.gov.uk/government/collections/rents-lettings-and-tenancies",{"$nulls":3},"Y","Y","Y","Y","Y","Y",{"$nulls":17},"District council, Metropolitan district, Unitary authority, London borough, City of London, Isles of Scilly","case based",null,2,null,"Housing","Rachel.Worledge@communities.gov.uk; ",null,65,0,null,0,14,13,14013,54]
["D","065-01","CORE (Continuous Recording) of lettings and sales by local authorities","Information on the household characteristics and property details of new social housing lettings.","DLUHC",null,"Y",null,null,"continuous","Single tier & lower tier",null,null,"","",null,null,0,{"$nulls":28},"",null,"Housing",null,null,65,1,null,1,14,14,1014014,298]
["D","065-02","CORE (Continuous Recording) of lettings and sales by local authorities","Information on the household characteristics and property details of new social housing sales.","DLUHC",null,"Y",null,null,"continuous","Single tier & lower tier",null,null,"","",null,null,0,{"$nulls":28},"",null,"Housing",null,null,65,2,null,1,14,15,1014015,299]
["C","010-00","Rough Sleeping Snapshot Statistics",null,"DLUHC",null,"N",null,null,"annual","Single tier & lower tier","Rough sleeping Street Counts and Estimates","All Local authorities across England take an annual Autumn snapshot of rough sleeping using either a count-based estimate of visible rough sleeping, an evidence-based estimate meeting with local partners, or an evidence-based estimate meeting including a spotlight count in specific areas.  The snapshot can take place on a single date chosen by the local authority between 1st October and 30th November. The statistics provide a way of estimating the number of people sleeping rough across England on a single night and assessing change over time. They also provide some basic demographics details about those sleeping rough (age, gender, nationality).\n","Collection","Data","https://www.gov.uk/government/collections/homelessness-statistics#rough-sleeping","https://www.gov.uk/government/collections/homelessness-statistics#rough-sleeping",{"$nulls":3},"Y","Y","Y","Y","Y","Y",{"$nulls":17},"District council, Metropolitan district, Unitary authority, London borough, City of London, Isles of Scilly","aggregate/summary","Delta",1,null,"Housing","Jon White; Anthony Ash",null,10,0,null,0,14,16,14016,55]
["D","010-01","Rough Sleeping Snapshot Statistics","single night snapshot of the number of people sleeping rough","DLUHC",null,"N",null,null,"annual","Single tier & lower tier",null,null,"","",null,null,0,{"$nulls":28},"",null,"Housing",null,null,10,1,null,1,14,17,1014017,300]
["C","013-00","Count of traveller caravans",null,"DLUHC",null,"N",null,null,"every 6 months","Single tier & lower tier","Gypsy and traveller caravan count and site details",null,{"$f":"IF(OR($A19<>\"C\",P19=\"\"),\"\",HYPERLINK(P19,\"Collection\"))","v":""},{"$f":"IF(OR($A19<>\"C\",Q19=\"\"),\"\",HYPERLINK(Q19,\"Data\"))","v":"Data"},null,"https://www.gov.uk/government/collections/traveller-caravan-count",{"$nulls":3},"Y","Y","Y","Y","Y","Y",{"$nulls":17},"District council, Metropolitan district, Unitary authority, London borough, City of London, Isles of Scilly","aggregate/summary",null,3,null,"Housing","Jeremy Barton; Leonie Field",null,13,0,null,0,14,18,14018,56]
["D","013-01","Count of traveller caravans","Number of caravans present, by type of site","DLUHC",null,"N",null,null,"every 6 months","Single tier & lower tier",null,null,"","",null,null,0,{"$nulls":28},"",null,"Housing",null,null,13,1,null,1,14,19,1014019,301]
["D","013-02","Count of traveller caravans","Pitches by whether residential or transit - socially rented sites only","DLUHC",null,"N",null,null,"every 6 months","Single tier & lower tier",null,null,"","",null,null,0,{"$nulls":28},"",null,"Housing",null,null,13,2,null,1,14,20,1014020,302]
["D","013-03","Count of traveller caravans","Caravan capacity - socially rented sites only","DLUHC",null,"N",null,null,"every 6 months","Single tier & lower tier",null,null,"","",null,null,0,{"$nulls":28},"",null,"Housing",null,null,13,3,null,1,14,21,1014021,303]
["C","167-00","Housing Capital Receipts pooling ",null,"DLUHC",null,"N",null,null," annual","Single tier & lower tier","Data to inform the pooling of housing capital receipts","Used for ensuring that the correct pooling payments are made. Also informs quarterly publication of Right to Buy statistics.","","Data",null,"https://www.gov.uk/government/statistical-data-sets/live-tables-on-social-housing-sales",{"$nulls":3},"Y","Y","Y","Y","Y",{"$nulls":18},"District council, Metropolitan district, Unitary authority, London borough, City of London, Isles of Scilly","n/k",null,1,null,"Housing","Bryan Lea",null,167,0,null,0,14,22,14022,57]
["D","167-01","Housing Capital Receipts pooling ","Data to use in the calculation of pooling payments","DLUHC",null,"N",null,null," annual","Single tier & lower tier",null,null,"","",null,null,0,{"$nulls":27},"Delta","",null,"Housing",null,null,167,1,null,1,14,23,1014023,304]
["C","020-00","Annual Green Belt (AGB) return ",null,"DLUHC",null,"Y",null,null,"annual","Single tier & lower tier","Area of Green Belt land in each local authority area.",null,"","Data",null,"https://www.gov.uk/government/collections/green-belt-statistics",{"$nulls":3},"Y","Y","Y","Y","Y","Y",{"$nulls":17},"District council, Metropolitan district, Unitary authority, London borough, City of London, Isles of Scilly","aggregate/summary",null,1,null,"Planning","Andrew Presland",null,20,0,null,0,14,24,14024,58]
["D","020-01","Annual Green Belt (AGB) return ","Area of Green Belt land in each local authority area","DLUHC",null,"Y",null,null,"annual","Single tier & lower tier",null,null,"","",null,null,0,{"$nulls":28},"",null,"Planning",null,null,20,1,null,1,14,25,1014025,305]
["C","021-00","PS1/2 District matters planning statistical returns",null,"DLUHC",null,"Y",null,null,"quarterly","Single tier & lower tier","Data on planning applications received and decided by local authorities.",null,"Collection","Data","www.gov.uk/government/publications/district-planning-matters-return-ps1-and-ps2","https://www.gov.uk/government/collections/planning-applications-statistics",null,157,null,"Y","Y","Y","Y","Y","Y",{"$nulls":4},"Y",{"$nulls":6},"Y",{"$nulls":5},"District council, Metropolitan district, Unitary authority, London borough, City of London, Isles of Scilly, National park authority","aggregate/summary",null,11,null,"Planning","Andrew Presland",null,21,0,null,0,14,26,14026,59]
["D","021-01","PS1/2 District matters planning statistical returns","Planning applications","DLUHC",null,"Y",null,null,"quarterly","Single tier & lower tier",null,null,"","",null,null,0,{"$nulls":28},"",null,"Planning",null,null,21,1,null,1,14,27,1014027,306]
["D","021-02","PS1/2 District matters planning statistical returns","Planning decisions, broken down by type of development","DLUHC",null,"Y",null,null,"quarterly","Single tier & lower tier",null,null,"","",null,null,0,{"$nulls":28},"",null,"Planning",null,null,21,2,null,1,14,28,1014028,307]
["D","021-03","PS1/2 District matters planning statistical returns","Applications granted","DLUHC",null,"Y",null,null,"quarterly","Single tier & lower tier",null,null,"","",null,null,0,{"$nulls":28},"",null,"Planning",null,null,21,3,null,1,14,29,1014029,308]
["D","021-04","PS1/2 District matters planning statistical returns","Speed of applications","DLUHC",null,"Y",null,null,"quarterly","Single tier & lower tier",null,null,"","",null,null,0,{"$nulls":28},"",null,"Planning",null,null,21,4,null,1,14,30,1014030,309]
["D","021-05","PS1/2 District matters planning statistical returns","Residential applications","DLUHC",null,"Y",null,null,"quarterly","Single tier & lower tier",null,null,"","",null,null,0,{"$nulls":28},"",null,"Planning",null,null,21,5,null,1,14,31,1014031,310]
["D","021-06","PS1/2 District matters planning statistical returns","Applications for Traveller pitches","DLUHC",null,"Y",null,null,"quarterly","Single tier & lower tier",null,null,"","",null,null,0,{"$nulls":28},"",null,"Planning",null,null,21,6,null,1,14,32,1014032,311]
["D","021-07","PS1/2 District matters planning statistical returns","Householder developments","DLUHC",null,"Y",null,null,"quarterly","Single tier & lower tier",null,null,{"$f":"IF(OR($A34<>\"C\",P34=\"\"),\"\",HYPERLINK(P34,\"Collection\"))","v":""},{"$f":"IF(OR($A34<>\"C\",Q34=\"\"),\"\",HYPERLINK(Q34,\"Data\"))","v":""},null,null,0,{"$nulls":28},"",null,"Planning",null,null,21,7,null,1,14,33,1014033,312]
["D","021-08","PS1/2 District matters planning statistical returns","Enforcement action","DLUHC",null,"Y",null,null,"quarterly","Single tier & lower tier",null,null,"","",null,null,0,{"$nulls":28},"",null,"Planning",null,null,21,8,null,1,14,34,1014034,313]
["D","021-09","PS1/2 District matters planning statistical returns","Regulation 3 and 4 consents","DLUHC",null,"Y",null,null,"quarterly","Single tier & lower tier",null,null,"","",null,null,0,{"$nulls":28},"",null,"Planning",null,null,21,9,null,1,14,35,1014035,314]
["D","021-10","PS1/2 District matters planning statistical returns","Applications for prior approval for permitted development","DLUHC",null,"Y",null,null,"quarterly","Single tier & lower tier",null,null,"","",null,null,0,{"$nulls":28},"",null,"Planning",null,null,21,10,null,1,14,36,1014036,315]
["D","021-11","PS1/2 District matters planning statistical returns","Delegated applications","DLUHC",null,"Y",null,null,"quarterly","Single tier & lower tier",null,null,"","",null,null,0,{"$nulls":28},"",null,"Planning",null,null,21,11,null,1,14,37,1014037,316]
["C","022-00","CPS1/2 County matters planning statistical returns",null,"DLUHC",null,"Y",null,null,"quarterly","Upper tier & single tier","Data on planning applications received and decided by local authorities (county matters).",null,"Collection","Data","https://www.gov.uk/government/publications/county-planning-matters-return-cps1-and-cps2","https://www.gov.uk/government/collections/planning-applications-statistics",null,157,"Y",null,"Y","Y","Y","Y","Y",{"$nulls":4},"Y",{"$nulls":12},"County council, Metropolitan district, Unitary authority, London borough, City of London, Isles of Scilly, National park authority","aggregate/summary",null,5,null,"Planning","Andrew Presland",null,22,0,null,0,14,38,14038,60]
["D","022-01","CPS1/2 County matters planning statistical returns","Planning applications","DLUHC",null,"Y",null,null,"quarterly","Upper tier & single tier",null,null,"","",null,null,0,{"$nulls":28},"",null,"Planning",null,null,22,1,null,1,14,39,1014039,317]
["D","022-02","CPS1/2 County matters planning statistical returns","Planning decisions","DLUHC",null,"Y",null,null,"quarterly","Upper tier & single tier",null,null,"","",null,null,0,{"$nulls":28},"",null,"Planning",null,null,22,2,null,1,14,40,1014040,318]
["D","022-03","CPS1/2 County matters planning statistical returns","Speed of decisions","DLUHC",null,"Y",null,null,"quarterly","Upper tier & single tier",null,null,"","",null,null,0,{"$nulls":28},"",null,"Planning",null,null,22,3,null,1,14,41,1014041,319]
["D","022-04","CPS1/2 County matters planning statistical returns","Regulation 3 and 4 consents","DLUHC",null,"Y",null,null,"quarterly","Upper tier & single tier",null,null,"","",null,null,0,{"$nulls":28},"",null,"Planning",null,null,22,4,null,1,14,42,1014042,320]
["D","022-05","CPS1/2 County matters planning statistical returns","Enforcement action","DLUHC",null,"Y",null,null,"quarterly","Upper tier & single tier",null,null,"","",null,null,0,{"$nulls":28},"",null,"Planning",null,null,22,5,null,1,14,43,1014043,321]
["C","026-00","Revenue Summary (RS)",null,"DLUHC",null,"Y","Y","Y","annual","All local authorities","Estimates of local authority revenue expenditure and financing.","MHCLG are working with DH and DfE to minimise overlapand differing definitions between collections","Collection","Data","www.gov.uk/government/collections/local-government-finance-miscellaneous-forms","https://www.gov.uk/government/statistics/local-authority-revenue-expenditure-and-financing-england-2015-to-2016-final-outturn",null,null,"Y","Y","Y","Y","Y","Y","Y","Y","Y","Y","Y","Y","Y","Y",{"$nulls":10},"County council, District council, Metropolitan district, Unitary authority, London borough, City of London, Isles of Scilly, Fire & rescue authority, Police authority, Joint waste authority, Waste disposal authority, National park authority, Integrated transport authority, GLA","aggregate/summary","Excel",1,null,"Local government","Gavin Sayer",null,26,0,null,0,14,44,14044,61]
["D","026-01","Revenue Summary (RS)","Revenue outturn summary by service and category","DLUHC",null,"Y","Y","Y","annual","All local authorities",null,null,"","",null,null,0,{"$nulls":28},"",null,"Local government",null,null,26,1,null,1,14,45,1014045,322]
["C","027-00","Revenue Grants (RG)",null,"DLUHC",null,"Y","Y","Y","annual","All local authorities","Local authority revenue expenditure and financing.",null,"Collection","Data","https://www.gov.uk/government/collections/local-government-finance-miscellaneous-forms","https://www.gov.uk/government/statistics/local-authority-revenue-expenditure-and-financing-england-2015-to-2016-final-outturn",null,null,"Y","Y","Y","Y","Y","Y","Y","Y","Y","Y","Y","Y","Y","Y",{"$nulls":10},"County council, District council, Metropolitan district, Unitary authority, London borough, City of London, Isles of Scilly, Fire & rescue authority, Police authority, Joint waste authority, Waste disposal authority, National park authority, Integrated transport authority, GLA","aggregate/summary","Excel",1,null,"Local government","Gavin Sayer",null,27,0,null,0,14,46,14046,62]
["D","027-01","Revenue Grants (RG)","Specific and specific revenue grants by type: outturn","DLUHC",null,"Y","Y","Y","annual","All local authorities",null,null,"","",null,null,0,{"$nulls":28},"",null,"Local government",null,null,27,1,null,1,14,47,1014047,323]
["C","028-00","Revenue Outturn (RO)",null,"DLUHC",null,"Y","Y","Y","annual","All local authorities","Local authority revenue expenditure and financing.","MHCLG are working with DH and DfE to minimise overlapand differing definitions between collections","Collection","Data","https://www.gov.uk/government/collections/local-government-finance-miscellaneous-forms","https://www.gov.uk/government/statistics/local-authority-revenue-expenditure-and-financing-england-2015-to-2016-final-outturn",null,null,"Y","Y","Y","Y","Y","Y","Y","Y","Y","Y","Y","Y","Y","Y",{"$nulls":10},"County council, District council, Metropolitan district, Unitary authority, London borough, City of London, Isles of Scilly, Fire & rescue authority, Police authority, Joint waste authority, Waste disposal authority, National park authority, Integrated transport authority, GLA","aggregate/summary","Excel",6,null,"Local government","Gavin Sayer",null,28,0,null,0,14,48,14048,63]
["D","028-01","Revenue Outturn (RO)","Revenue outturn expenditure on education by service detail and category (RO1)","DLUHC",null,"Y","Y","Y","annual","All local authorities",null,null,"","",null,null,0,{"$nulls":28},"",null,"Local government",null,null,28,1,null,1,14,49,1014049,324]
["D","028-02","Revenue Outturn (RO)","Revenue outturn expenditure on highways and transport by service detail and category (RO2)","DLUHC",null,"Y","Y","Y","annual","All local authorities",null,null,"","",null,null,0,{"$nulls":28},"",null,"Local government",null,null,28,2,null,1,14,50,1014050,325]
["D","028-03","Revenue Outturn (RO)","Revenue outturn expenditure on social care by service detail and category (RO3)","DLUHC",null,"Y","Y","Y","annual","All local authorities",null,null,"","",null,null,0,{"$nulls":28},"",null,"Local government",null,null,28,3,null,1,14,51,1014051,326]
["D","028-04","Revenue Outturn (RO)","Revenue outturn expenditure on housing services (excluding Housing Revenue Account) by service detail and category (RO4)","DLUHC",null,"Y","Y","Y","annual","All local authorities",null,null,"","",null,null,0,{"$nulls":28},"",null,"Local government",null,null,28,4,null,1,14,52,1014052,327]
["D","028-05","Revenue Outturn (RO)","Revenue outturn expenditure on cultural, environmental, regulatory and planning services by service detail and category (RO5)","DLUHC",null,"Y","Y","Y","annual","All local authorities",null,null,"","",null,null,0,{"$nulls":28},"",null,"Local government",null,null,28,5,null,1,14,53,1014053,328]
["D","028-06","Revenue Outturn (RO)","Revenue outturn expenditure on protective, central and other services by service detail and category (RO6)","DLUHC",null,"Y","Y","Y","annual","All local authorities",null,null,"","",null,null,0,{"$nulls":28},"",null,"Local government",null,null,28,6,null,1,14,54,1014054,329]
["C","029-00","Trading Services Return (TSR)",null,"DLUHC",null,"Y",null,"Y","annual","All local authorities","Local authority revenue expenditure and financing.",null,"Collection","Data","https://www.gov.uk/government/collections/local-government-finance-miscellaneous-forms","https://www.gov.uk/government/statistics/local-authority-revenue-expenditure-and-financing-england-2015-to-2016-individual-local-authority-data-outturn",null,null,"Y","Y","Y","Y","Y","Y","Y","Y","Y","Y","Y","Y","Y","Y",{"$nulls":10},"County council, District council, Metropolitan district, Unitary authority, London borough, City of London, Isles of Scilly, Fire & rescue authority, Police authority, Joint waste authority, Waste disposal authority, National park authority, Integrated transport authority, GLA","aggregate/summary","Excel",1,null,"Local government","Gavin Sayer",null,29,0,null,0,14,55,14055,64]
["D","029-01","Trading Services Return (TSR)","Revenue outturn expenditure on trading services by service detail and category","DLUHC",null,"Y",null,null,"annual","All local authorities",null,null,"","",null,null,0,{"$nulls":28},"",null,"Local government",null,null,29,1,null,1,14,56,1014056,330]
["C","030-00","Subjective Analysis Return (SAR)",null,"DLUHC",null,"Y",null,"Y","annual","Sample of authorities","Local authority revenue expenditure and financing.","Sample of authorities.","Collection","Data","https://www.gov.uk/government/collections/local-government-finance-miscellaneous-forms","https://www.gov.uk/government/statistics/local-authority-revenue-expenditure-and-financing-england-2015-to-2016-final-outturn",null,null,"Y","Y","Y","Y","Y","Y","Y","Y","Y","Y","Y","Y","Y","Y",{"$nulls":9},"Sample of LAs only, part annual, part every 3 years","County council, District council, Metropolitan district, Unitary authority, London borough, City of London, Isles of Scilly, Fire & rescue authority, Police authority, Joint waste authority, Waste disposal authority, National park authority, Integrated transport authority, GLA","aggregate/summary","Excel",1,null,"Local government","Gavin Sayer",null,30,0,null,0,14,57,14057,65]
["D","030-01","Subjective Analysis Return (SAR)","Breakdown of revenue outturn expenditure on services by categories of pay, running expenses and income ","DLUHC",null,"Y",null,null,"annual","Sample of authorities",null,null,"","",null,null,0,{"$nulls":28},"",null,"Local government",null,null,30,1,null,1,14,58,1014058,331]
["C","032-00","Revenue Account budget (RA)",null,"DLUHC",null,"Y","Y","Y","annual","All local authorities","Local authority revenue expenditure and financing.",null,"Collection","Data","www.gov.uk/government/collections/local-government-finance-miscellaneous-forms","https://www.gov.uk/government/statistics/local-authority-revenue-expenditure-and-financing-england-2016-to-2017-budget",null,null,"Y","Y","Y","Y","Y","Y","Y","Y","Y","Y","Y","Y","Y","Y",{"$nulls":10},"County council, District council, Metropolitan district, Unitary authority, London borough, City of London, Isles of Scilly, Fire & rescue authority, Police authority, Joint waste authority, Waste disposal authority, National park authority, Integrated transport authority, GLA","aggregate/summary","DELTA (on-line form)",1,null,"Local government","Gavin Sayer",null,32,0,null,0,14,59,14059,66]
["D","032-01","Revenue Account budget (RA)","Revenue budget summary by service and category","DLUHC",null,"Y","Y",null,"annual","All local authorities",null,null,"","",null,null,0,{"$nulls":28},"",null,"Local government",null,null,32,1,null,1,14,60,1014060,332]
["C","033-00","Revenue Account Specific and Special Grants (SG)",null,"DLUHC",null,"Y","Y","Y","annual","All local authorities","Local authority revenue expenditure and financing.",null,"Collection","Data","https://www.gov.uk/government/collections/local-government-finance-miscellaneous-forms","https://www.gov.uk/government/statistics/local-authority-revenue-expenditure-and-financing-england-2016-to-2017-budget",null,null,"Y","Y","Y","Y","Y","Y","Y","Y","Y","Y","Y","Y","Y","Y",{"$nulls":10},"County council, District council, Metropolitan district, Unitary authority, London borough, City of London, Isles of Scilly, Fire & rescue authority, Police authority, Joint waste authority, Waste disposal authority, National park authority, Integrated transport authority, GLA","aggregate/summary","Excel",1,null,"Local government","Gavin Sayer",null,33,0,null,0,14,61,14061,67]
["D","033-01","Revenue Account Specific and Special Grants (SG)","Specific and specific revenue grants by type: outturn","DLUHC",null,"Y","Y",null,"annual","All local authorities",null,null,"","",null,null,0,{"$nulls":28},"",null,"Local government",null,null,33,1,null,1,14,62,1014062,333]
["C","035-00","Capital Outturn Return (COR) Expenditure & Receipts",null,"DLUHC",null,"Y","Y","Y","annual","All local authorities","Local authority capital expenditure and receipts.",null,"Collection","Data","https://www.gov.uk/government/collections/local-government-finance-miscellaneous-forms","https://www.gov.uk/government/statistics/local-authority-capital-expenditure-and-receipts-in-england-2015-to-2016-final-outturn",null,null,"Y","Y","Y","Y","Y","Y","Y","Y","Y","Y","Y","Y","Y","Y",{"$nulls":10},"County council, District council, Metropolitan district, Unitary authority, London borough, City of London, Isles of Scilly, Fire & rescue authority, Police authority, Joint waste authority, Waste disposal authority, National park authority, Integrated transport authority, GLA","aggregate/summary","Excel",2,null,"Local government","Gavin Sayer",null,35,0,null,0,14,63,14063,68]
["D","035-01","Capital Outturn Return (COR) Expenditure & Receipts","Capital expenditure by service detail and category ","DLUHC",null,"Y","Y",null,"annual","All local authorities",null,null,"","",null,null,0,{"$nulls":28},"",null,"Local government",null,null,35,1,null,1,14,64,1014064,334]
["D","035-02","Capital Outturn Return (COR) Expenditure & Receipts","Capital expenditure by service detail and category ","DLUHC",null,"Y","Y",null,"annual","All local authorities",null,null,{"$f":"IF(OR($A66<>\"C\",P66=\"\"),\"\",HYPERLINK(P66,\"Collection\"))","v":""},{"$f":"IF(OR($A66<>\"C\",Q66=\"\"),\"\",HYPERLINK(Q66,\"Data\"))","v":""},null,null,0,{"$nulls":28},"",null,"Local government",null,null,35,2,null,1,14,65,1014065,335]
["C","036-00","Capital Outturn Return (COR) Financing",null,"DLUHC",null,"Y","Y","Y","annual","All local authorities","Local authority capital expenditure and receipts.",null,"Collection","Data","https://www.gov.uk/government/collections/local-government-finance-miscellaneous-forms","https://www.gov.uk/government/statistics/local-authority-capital-expenditure-and-receipts-in-england-2015-to-2016-final-outturn",null,null,"Y","Y","Y","Y","Y","Y","Y","Y","Y","Y","Y","Y","Y","Y",{"$nulls":10},"County council, District council, Metropolitan district, Unitary authority, London borough, City of London, Isles of Scilly, Fire & rescue authority, Police authority, Joint waste authority, Waste disposal authority, National park authority, Integrated transport authority, GLA","aggregate/summary","Excel",1,null,"Local government","Gavin Sayer",null,36,0,null,0,14,66,14066,69]
["D","036-01","Capital Outturn Return (COR) Financing","Financing of capital expenditure","DLUHC",null,"Y","Y",null,"annual","All local authorities",null,null,"","",null,null,0,{"$nulls":28},"",null,"Local government",null,null,36,1,null,1,14,67,1014067,336]
["C","037-00","Capital Outturn Return (COR) Prudential System",null,"DLUHC",null,"Y","Y","Y","annual","All local authorities","Local authority capital expenditure and receipts.",null,"Collection","Data","https://www.gov.uk/government/collections/local-government-finance-miscellaneous-forms","https://www.gov.uk/government/statistics/local-authority-capital-expenditure-and-receipts-in-england-2015-to-2016-final-outturn",null,null,"Y","Y","Y","Y","Y","Y","Y","Y","Y","Y","Y","Y","Y","Y",{"$nulls":10},"County council, District council, Metropolitan district, Unitary authority, London borough, City of London, Isles of Scilly, Fire & rescue authority, Police authority, Joint waste authority, Waste disposal authority, National park authority, Integrated transport authority, GLA","aggregate/summary","Excel",1,null,"Local government","Gavin Sayer",null,37,0,null,0,14,68,14068,70]
["D","037-03","Capital Outturn Return (COR) Prudential System","Prudential system information","DLUHC",null,"Y","Y",null,"annual","All local authorities",null,null,"","",null,null,0,{"$nulls":28},"",null,"Local government",null,null,37,3,null,1,14,69,1014069,337]
["C","038-00","Capital Outturn Return (COR)  receipts and major repairs reserve",null,"DLUHC",null,"Y","Y","Y","annual","All local authorities","Local authority capital expenditure and receipts.",null,"Collection","Data","https://www.gov.uk/government/collections/local-government-finance-miscellaneous-forms","https://www.gov.uk/government/statistics/local-authority-capital-expenditure-and-receipts-in-england-2015-to-2016-final-outturn",null,null,"Y","Y","Y","Y","Y","Y","Y","Y","Y","Y","Y","Y","Y","Y",{"$nulls":10},"County council, District council, Metropolitan district, Unitary authority, London borough, City of London, Isles of Scilly, Fire & rescue authority, Police authority, Joint waste authority, Waste disposal authority, National park authority, Integrated transport authority, GLA","aggregate/summary","Excel",2,null,"Local government","Gavin Sayer",null,38,0,null,0,14,70,14070,71]
["D","038-01","Capital Outturn Return (COR)  receipts and major repairs reserve","Supplementary information on capital receipts","DLUHC",null,"Y","Y",null,"annual","All local authorities",null,null,"","",null,null,0,{"$nulls":28},"",null,"Local government",null,null,38,1,null,1,14,71,1014071,338]
["D","038-02","Capital Outturn Return (COR)  receipts and major repairs reserve","Supplementary information on the Major Repair Reserve","DLUHC",null,"Y","Y",null,"annual","All local authorities",null,null,"","",null,null,0,{"$nulls":28},"",null,"Local government",null,null,38,2,null,1,14,72,1014072,339]
["C","040-00","Capital Estimates Return (CER)",null,"DLUHC",null,"N","Y","Y","annual","All local authorities","Estimates of local authority capital expenditure and receipts.",null,"Collection","Data","https://www.gov.uk/government/collections/local-government-finance-miscellaneous-forms","https://www.gov.uk/government/statistics/local-authority-capital-expenditure-and-receipts-in-england-2015-to-2016-provisional-outturn-and-2016-to-2017-forecast",null,null,"Y","Y","Y","Y","Y","Y","Y","Y","Y","Y","Y","Y","Y","Y",{"$nulls":10},"County council, District council, Metropolitan district, Unitary authority, London borough, City of London, Isles of Scilly, Fire & rescue authority, Police authority, Joint waste authority, Waste disposal authority, National park authority, Integrated transport authority, GLA","aggregate/summary","Excel",4,null,"Local government","Gavin Sayer",null,40,0,null,0,14,73,14073,72]
["D","040-01","Capital Estimates Return (CER)","Capital expenditure by service detail and category","DLUHC",null,"N","Y",null,"annual","All local authorities",null,null,"","",null,null,0,{"$nulls":28},"",null,"Local government",null,null,40,1,null,1,14,74,1014074,340]
["D","040-02","Capital Estimates Return (CER)","Capital receipts by service detail and category ","DLUHC",null,"N","Y",null,"annual","All local authorities",null,null,"","",null,null,0,{"$nulls":28},"",null,"Local government",null,null,40,2,null,1,14,75,1014075,341]
["D","040-03","Capital Estimates Return (CER)","Financing of capital expenditure by source","DLUHC",null,"N","Y",null,"annual","All local authorities",null,null,"","",null,null,0,{"$nulls":28},"",null,"Local government",null,null,40,3,null,1,14,76,1014076,342]
["D","040-04","Capital Estimates Return (CER)","Prudential system information","DLUHC",null,"N","Y",null,"annual","All local authorities",null,null,"","",null,null,0,{"$nulls":28},"",null,"Local government",null,null,40,4,null,1,14,77,1014077,343]
["C","041-00","Capital Payments and Receipts (CPR1 to CPR 4)",null,"DLUHC",null,"N","Y","Y","quarterly","All local authorities","Estimates of local authority capital expenditure and receipts.",null,"Collection","Data","https://www.gov.uk/government/collections/local-government-finance-miscellaneous-forms","https://www.gov.uk/government/statistical-data-sets/live-tables-on-local-government-finance#capital-payments-and-receipts",null,null,"Y","Y","Y","Y","Y","Y","Y","Y","Y","Y","Y","Y","Y","Y",{"$nulls":10},"County council, District council, Metropolitan district, Unitary authority, London borough, City of London, Isles of Scilly, Fire & rescue authority, Police authority, Joint waste authority, Waste disposal authority, National park authority, Integrated transport authority, GLA","aggregate/summary","Excel",4,null,"Local government","Gavin Sayer",null,41,0,null,0,14,78,14078,73]
["D","041-01","Capital Payments and Receipts (CPR1 to CPR 4)","Capital expenditure by service detail and category","DLUHC",null,"N","Y",null,"quarterly","All local authorities",null,null,"","",null,null,0,{"$nulls":28},"",null,"Local government",null,null,41,1,null,1,14,79,1014079,344]
["D","041-02","Capital Payments and Receipts (CPR1 to CPR 4)","Capital receipts by service detail and category ","DLUHC",null,"N","Y",null,"quarterly","All local authorities",null,null,"","",null,null,0,{"$nulls":28},"",null,"Local government",null,null,41,2,null,1,14,80,1014080,345]
["D","041-03","Capital Payments and Receipts (CPR1 to CPR 4)","Financing of capital expenditure by source","DLUHC",null,"N","Y",null,"quarterly","All local authorities",null,null,"","",null,null,0,{"$nulls":28},"",null,"Local government",null,null,41,3,null,1,14,81,1014081,346]
["D","041-04","Capital Payments and Receipts (CPR1 to CPR 4)","Prudential system information","DLUHC",null,"N","Y",null,"quarterly","All local authorities",null,null,"","",null,null,0,{"$nulls":28},"",null,"Local government",null,null,41,4,null,1,14,82,1014082,347]
["C","042-00","Council Tax Requirement (CTR1/CTR2/CTR3/CTR4)",null,"DLUHC",null,"N",null,"Y","annual","All local authorities, fire, police & GLA","Details of the level of council tax set by local authorities in England","Parish data is submitted by billing authority. For 2018-19, CTR4 has been set up to collect data for Greater Manchester Combined Authority as it has 2 precepts and so can not be included in the CTR2 form.","Collection","Data","www.gov.uk/government/collections/local-government-finance-miscellaneous-forms#council-tax,-non-domestic-rates,-pensions-and-borrowing-forms","https://www.gov.uk/government/collections/council-tax-statistics",null,null,"Y","Y","Y","Y","Y","Y","Y","Y","Y",{"$nulls":4},"Y",{"$nulls":6},"Y","Y",null,null,"County council, District council, Metropolitan district, Unitary authority, London borough, City of London, Isles of Scilly, Fire & rescue authority, Police authority, GLA, Combined authorities","aggregate/summary","Delta",8,null,"Local government","Joanna Coleman",null,42,0,null,0,14,83,14083,74]
["D","042-03","Council Tax Requirement (CTR1/CTR2/CTR3/CTR4)","Collection Fund surpluses and deficits","DLUHC",null,"N",null,"Y","annual","All local authorities, fire, police & GLA",null,null,"","",null,null,0,{"$nulls":28},"",null,"Local government",null,null,42,3,null,1,14,84,1014084,348]
["D","042-04","Council Tax Requirement (CTR1/CTR2/CTR3/CTR4)","Council tax requirement","DLUHC",null,"N",null,"Y","annual","All local authorities, fire, police & GLA",null,null,"","",null,null,0,{"$nulls":28},"",null,"Local government",null,null,42,4,null,1,14,85,1014085,349]
["D","042-05","Council Tax Requirement (CTR1/CTR2/CTR3/CTR4)","Band D council tax","DLUHC",null,"N",null,"Y","annual","All local authorities, fire, police & GLA",null,null,"","",null,null,0,{"$nulls":28},"",null,"Local government",null,null,42,5,null,1,14,86,1014086,350]
["D","042-07","Council Tax Requirement (CTR1/CTR2/CTR3/CTR4)","Calculation of taxbase","DLUHC",null,"N",null,null,"annual","All local authorities, fire, police & GLA",null,null,"","",null,null,0,{"$nulls":28},"",null,"Local government",null,null,42,7,null,1,14,87,1014087,351]
["D","042-08","Council Tax Requirement (CTR1/CTR2/CTR3/CTR4)","Total parish precepts","DLUHC",null,"N",null,null,"annual","All local authorities, fire, police & GLA",null,null,"","",null,null,0,{"$nulls":28},"",null,"Local government",null,null,42,8,null,1,14,88,1014088,352]
["D","042-09","Council Tax Requirement (CTR1/CTR2/CTR3/CTR4)","Numbers of parishes and charter trustees","DLUHC",null,"N",null,null,"annual","All local authorities, fire, police & GLA",null,null,"","",null,null,0,{"$nulls":28},"",null,"Local government",null,null,42,9,null,1,14,89,1014089,353]
["D","042-10","Council Tax Requirement (CTR1/CTR2/CTR3/CTR4)","Taxbases of parishes and charter trustees","DLUHC",null,"N",null,null,"annual","All local authorities, fire, police & GLA",null,null,"","",null,null,0,{"$nulls":28},"",null,"Local government",null,null,42,10,null,1,14,90,1014090,354]
["D","042-11","Council Tax Requirement (CTR1/CTR2/CTR3/CTR4)","Number and taxbase of parishes and charter trustees issuing a council tax precept","DLUHC",null,"N",null,null,"annual","All local authorities, fire, police & GLA",null,null,"","",null,null,0,{"$nulls":28},"",null,"Local government",null,null,42,11,null,1,14,91,1014091,355]
["C","043-00","Quarterly Return of Council Taxes and Non-domestic rates (QRC1 to QRC3)",null,"DLUHC",null,"N",null,"Y","quarterly","Single tier & lower tier","Council Tax and NNDR receipts.",null,"Collection","Data","www.gov.uk/government/collections/local-government-finance-miscellaneous-forms#council-tax,-non-domestic-rates,-pensions-and-borrowing-forms","https://www.gov.uk/government/statistical-data-sets/live-tables-on-local-government-finance",{"$nulls":3},"Y","Y","Y","Y","Y","Y",{"$nulls":17},"District council, Metropolitan district, Unitary authority, London borough, City of London, Isles of Scilly","aggregate/summary"," DELTA (on-line form)",3,null,"Local government","Joanna Coleman",null,43,0,null,0,14,92,14092,75]
["D","043-01","Quarterly Return of Council Taxes and Non-domestic rates (QRC1 to QRC3)","Council tax receipts in each quarter","DLUHC",null,"N",null,null,"quarterly","Single tier & lower tier",null,null,"","",null,null,0,{"$nulls":28},"",null,"Local government",null,null,43,1,null,1,14,93,1014093,356]
["D","043-02","Quarterly Return of Council Taxes and Non-domestic rates (QRC1 to QRC3)","Non-domestic rate receipts in each quarter","DLUHC",null,"N",null,null,"quarterly","Single tier & lower tier",null,null,"","",null,null,0,{"$nulls":28},"",null,"Local government",null,null,43,2,null,1,14,94,1014094,357]
["D","043-03","Quarterly Return of Council Taxes and Non-domestic rates (QRC1 to QRC3)","Localised Council Tax support claimants","DLUHC",null,"N",null,null,"quarterly","Single tier & lower tier",null,null,"","",null,null,0,{"$nulls":28},"",null,"Local government",null,null,43,3,null,1,14,95,1014095,358]
["C","166-00","Quarterly Return of Council Taxes and Non-domestic rates (QRC4)",null,"DLUHC",null,"N",null,"Y","annual","Single tier & lower tier","Council Tax and NNDR receipts - end of year return.",null,"Collection","Data","www.gov.uk/government/collections/local-government-finance-miscellaneous-forms#council-tax,-non-domestic-rates,-pensions-and-borrowing-forms","https://www.gov.uk/government/collections/council-tax-statistics#collection-rates-for-council-tax-and-non-domestic-rates",{"$nulls":3},"Y","Y","Y","Y","Y","Y",{"$nulls":17},"District council, Metropolitan district, Unitary authority, London borough, City of London, Isles of Scilly","aggregate/summary"," DELTA (on-line form)",1,null,"Local government","Joanna Coleman",null,166,0,null,0,14,96,14096,76]
["D","166-01","Quarterly Return of Council Taxes and Non-domestic rates (QRC4)","Council Tax and non-domestic rate receipts - end of year return and number of localised council tax support claimants","DLUHC",null,"N",null,null,"annual","Single tier & lower tier",null,null,{"$f":"IF(OR($A98<>\"C\",P98=\"\"),\"\",HYPERLINK(P98,\"Collection\"))","v":""},{"$f":"IF(OR($A98<>\"C\",Q98=\"\"),\"\",HYPERLINK(Q98,\"Data\"))","v":""},null,null,0,{"$nulls":28},"",null,"Local government",null,null,166,1,null,1,14,97,1014097,359]
["C","044-00","Quarterly Revenue Outturn (QRO)",null,"DLUHC",null,"N",null,"Y","quarterly","All local authorities","Revenue expenditure in financial quarters 1 - 3",null,"Collection","Data","https://www.gov.uk/government/policies/making-local-councils-more-transparent-and-accountable-to-local-people/supporting-pages/quarterly-revenue-outturn","https://www.gov.uk/government/statistical-data-sets/live-tables-on-local-government-finance#quarterly-revenue-outturn",null,null,"Y","Y","Y","Y","Y","Y","Y","Y","Y","Y","Y","Y","Y","Y",{"$nulls":10},"County council, District council, Metropolitan district, Unitary authority, London borough, City of London, Isles of Scilly, Fire & rescue authority, Police authority, Joint waste authority, Waste disposal authority, National park authority, Integrated transport authority, GLA","aggregate/summary","DELTA (on-line form)",1,null,"Local government","Gavin Sayer",null,44,0,null,0,14,98,14098,77]
["D","044-01","Quarterly Revenue Outturn (QRO)","Quarterly revenue outturn by Net Current Expenditure","DLUHC",null,"N",null,null,"quarterly","All local authorities",null,null,"","",null,null,0,{"$nulls":28},"",null,"Local government",null,null,44,1,null,1,14,99,1014099,360]
["C","045-00","Council Tax Base (CTB)",null,"DLUHC",null,"N",null,"Y","annual","Single tier & lower tier","Calculation of council tax base for formula grant purposes",null,"Collection","Data","www.gov.uk/government/collections/local-government-finance-miscellaneous-forms#council-tax,-non-domestic-rates,-pensions-and-borrowing-forms","https://www.gov.uk/government/collections/council-taxbase-statistics",{"$nulls":3},"Y","Y","Y","Y","Y","Y",{"$nulls":17},"District council, Metropolitan district, Unitary authority, London borough, City of London, Isles of Scilly","aggregate/summary","Excel ",8,null,"Local government","Joanna Coleman",null,45,0,null,0,14,100,14100,78]
["D","045-01","Council Tax Base (CTB)","Numbers of dwellings on the Valuation list, by council tax band","DLUHC",null,"N",null,null,"annual","Single tier & lower tier",null,null,"","",null,null,0,{"$nulls":28},"",null,"Local government",null,null,45,1,null,1,14,101,1014101,361]
["D","045-02","Council Tax Base (CTB)","Numbers of other categories of dwelling by council tax band: exempt, demolished, chargeable, subject to discount","DLUHC",null,"N",null,null,"annual","Single tier & lower tier",null,null,"","",null,null,0,{"$nulls":28},"",null,"Local government",null,null,45,2,null,1,14,102,1014102,362]
["D","045-03","Council Tax Base (CTB)","Calculation of tax base for formula grant purposes","DLUHC",null,"N",null,null,"annual","Single tier & lower tier",null,null,"","",null,null,0,{"$nulls":28},"",null,"Local government",null,null,45,3,null,1,14,103,1014103,363]
["D","045-04","Council Tax Base (CTB)","Number of dwellings on the Valuation List that were in exempt classes A to W, number in each exemption class (CTB1(S) - Part 1)","DLUHC",null,"N",null,null,"annual","Single tier & lower tier",null,null,"","",null,null,0,{"$nulls":28},"",null,"Local government",null,null,45,4,null,1,14,104,1014104,364]
["D","045-05","Council Tax Base (CTB)","Information on locally-granted council tax discounts and exemptions: recent or planned use of the power and details of the discount or exemption  (CTB1(S) - Part 2A)","DLUHC",null,"N",null,null,"annual","Single tier & lower tier",null,null,"","",null,null,0,{"$nulls":28},"",null,"Local government",null,null,45,5,null,1,14,105,1014105,365]
["D","045-06","Council Tax Base (CTB)","Information on reductions in council tax discount for second homes and endings or reductions in council tax discount for long-term empty homes: numbers of homes in various percentage bands (CTB1(S) - Part 2B)","DLUHC",null,"N",null,null,"annual","Single tier & lower tier",null,null,"","",null,null,0,{"$nulls":28},"",null,"Local government",null,null,45,6,null,1,14,106,1014106,366]
["D","045-08","Council Tax Base (CTB)","Number of student exemptions from council tax, by band, in May and October (CTBS - Part 4  3)","DLUHC",null,"N",null,null,"annual","Single tier & lower tier",null,null,"","",null,null,0,{"$nulls":28},"",null,"Local government",null,null,45,8,null,1,14,107,1014107,367]
["D","045-09","Council Tax Base (CTB)","Council tax base/band D equivelent for LA levy setting. ","DLUHC",{"$nulls":4},"annual","Single tier & lower tier",null,null,"","",{"$nulls":31},"",{"$nulls":7},1,14,108,1014108,368]
["C","046-00","National Non-domestic Rates Return (NNDR) 1",null,"DLUHC",null,"N",null,"Y","annual","Single tier & lower tier","Statistical information on the non-domestic rate (also known as business rate) collection yield forecast and outturn.","NNDR1 was revised in 2013-14 to reflect the new rates retention system","Collection","Data","www.gov.uk/government/collections/local-government-finance-miscellaneous-forms#council-tax,-non-domestic-rates,-pensions-and-borrowing-forms","https://www.gov.uk/government/collections/national-non-domestic-rates-collected-by-councils",{"$nulls":3},"Y","Y","Y","Y","Y","Y",{"$nulls":17},"District council, Metropolitan district, Unitary authority, London borough, City of London, Isles of Scilly","aggregate/summary","Excel",6,null,"Local government","Joanna Coleman",null,46,0,null,0,14,109,14109,79]
["D","046-01","National Non-domestic Rates Return (NNDR) 1","Number of hereditaments on the rating list","DLUHC",null,"N",null,null,"annual","Single tier & lower tier",null,null,"","",null,null,0,{"$nulls":28},"",null,"Local government",null,null,46,1,null,1,14,110,1014110,369]
["D","046-02","National Non-domestic Rates Return (NNDR) 1","Aggregate rateable values","DLUHC",null,"N",null,null,"annual","Single tier & lower tier",null,null,"","",null,null,0,{"$nulls":28},"",null,"Local government",null,null,46,2,null,1,14,111,1014111,370]
["D","046-03","National Non-domestic Rates Return (NNDR) 1","Amounts of transitional relief","DLUHC",null,"N",null,null,"annual","Single tier & lower tier",null,null,"","",null,null,0,{"$nulls":28},"",null,"Local government",null,null,46,3,null,1,14,112,1014112,371]
["D","046-04","National Non-domestic Rates Return (NNDR) 1","Amounts of mandatory and discretionary reliefs, by type","DLUHC",null,"N",null,null,"annual","Single tier & lower tier",null,null,"","",null,null,0,{"$nulls":28},"",null,"Local government",null,null,46,4,null,1,14,113,1014113,372]
["D","046-05","National Non-domestic Rates Return (NNDR) 1","Other items used in the calculation of how the national non-domestic rates are distributed to central government and precepting authorities and also retained by the billing authority","DLUHC",null,"N",null,null,"annual","Single tier & lower tier",null,null,"","",null,null,0,{"$nulls":28},"",null,"Local government",null,null,46,5,null,1,14,114,1014114,373]
["D","046-06","National Non-domestic Rates Return (NNDR) 1","Numbers of hereditaments and estimated values associated with each type of mandatory relief, discretionary relief and small business rate relief (NNDR 1 - supplementary information)","DLUHC",null,"N",null,null,"annual","Single tier & lower tier",null,null,"","",null,null,0,{"$nulls":28},"",null,"Local government",null,null,46,6,null,1,14,115,1014115,374]
["C","048-00","National Non-domestic Rates Return (NNDR) 3",null,"DLUHC",null,"N",null,"Y","annual","Single tier & lower tier","Statistical information on the non-domestic rate (also known as business rate) collection yield forecast and outturn.",null,"Collection","Data","www.gov.uk/government/collections/local-government-finance-miscellaneous-forms#council-tax,-non-domestic-rates,-pensions-and-borrowing-forms","https://www.gov.uk/government/collections/national-non-domestic-rates-collected-by-councils",{"$nulls":3},"Y","Y","Y","Y","Y","Y",{"$nulls":17},"District council, Metropolitan district, Unitary authority, London borough, City of London, Isles of Scilly","aggregate/summary","Excel",2,null,"Local government","Joanna Coleman",null,48,0,null,0,14,116,14116,80]
["D","048-01","National Non-domestic Rates Return (NNDR) 3","Provisional Outturn information for most of the items collected on the NNDR1, including figures for previous year","DLUHC",null,"N",null,null,"annual","Single tier & lower tier",null,null,"","",null,null,0,{"$nulls":28},"",null,"Local government",null,null,48,1,null,1,14,117,1014117,375]
["D","048-02","National Non-domestic Rates Return (NNDR) 3","Final out-turn NNDR3 reflecting an amendments made as a result of auditing (NNDR3 audited).","DLUHC",null,"N",null,null,"annual","Single tier & lower tier",null,null,"","",null,null,0,{"$nulls":28},"",null,"Local government",null,null,48,2,null,1,14,118,1014118,376]
["C","050-00","Local Government Pension Scheme Funds Form (SF3)",null,"DLUHC",null,"N",null,"Y","annual","Administering authorities","Details of the local government pension scheme in England and Wales.",null,"Collection","Data","www.gov.uk/government/collections/local-government-finance-miscellaneous-forms#council-tax,-non-domestic-rates,-pensions-and-borrowing-forms","https://www.gov.uk/government/collections/local-government-pension-scheme#england-and-wales",null,null,"Y","Y","Y","Y","Y","Y",{"$nulls":17},"88 Administering Authorities","County council, District council, Metropolitan district, Unitary authority, London borough, City of London","aggregate/summary"," DELTA ",11,null,"Local government","Joanna Coleman",null,50,0,null,0,14,119,14119,81]
["D","050-01","Local Government Pension Scheme Funds Form (SF3)","Expenditure, broken down by category","DLUHC",null,"N",null,null,"annual","Administering authorities",null,null,"","",null,null,0,{"$nulls":28},"",null,"Local government",null,null,50,1,null,1,14,120,1014120,377]
["D","050-02","Local Government Pension Scheme Funds Form (SF3)","Income, broken down by category","DLUHC",null,"N",null,null,"annual","Administering authorities",null,null,"","",null,null,0,{"$nulls":28},"",null,"Local government",null,null,50,2,null,1,14,121,1014121,378]
["D","050-03","Local Government Pension Scheme Funds Form (SF3)","Membership of pension schemes (SF3 - Section A)","DLUHC",null,"N",null,null,"annual","Administering authorities",null,null,"","",null,null,0,{"$nulls":28},"",null,"Local government",null,null,50,3,null,1,14,122,1014122,379]
["D","050-04","Local Government Pension Scheme Funds Form (SF3)","Realisation of fund assets (SF3 - Section B)","DLUHC",null,"N",null,null,"annual","Administering authorities",null,null,"","",null,null,0,{"$nulls":28},"",null,"Local government",null,null,50,4,null,1,14,123,1014123,380]
["D","050-05","Local Government Pension Scheme Funds Form (SF3)","Employers' contributions (SF3 - Section C)","DLUHC",null,"N",null,null,"annual","Administering authorities",null,null,"","",null,null,0,{"$nulls":28},"",null,"Local government",null,null,50,5,null,1,14,124,1014124,381]
["D","050-06","Local Government Pension Scheme Funds Form (SF3)","Investment income (SF3 - Section D)","DLUHC",null,"N",null,null,"annual","Administering authorities",null,null,"","",null,null,0,{"$nulls":28},"",null,"Local government",null,null,50,6,null,1,14,125,1014125,382]
["D","050-07","Local Government Pension Scheme Funds Form (SF3)","Market value of the fund (SF3 - Section E)","DLUHC",null,"N",null,null,"annual","Administering authorities",null,null,"","",null,null,0,{"$nulls":28},"",null,"Local government",null,null,50,7,null,1,14,126,1014126,383]
["D","050-08","Local Government Pension Scheme Funds Form (SF3)","Pensions (increase) payments reimbursed by employers (SF3 - Section F)","DLUHC",null,"N",null,null,"annual","Administering authorities",null,null,"","",null,null,0,{"$nulls":28},"",null,"Local government",null,null,50,8,null,1,14,127,1014127,384]
["D","050-09","Local Government Pension Scheme Funds Form (SF3)","Administration staff of the fund (SF3 - Section G)","DLUHC",null,"N",null,null,"annual","Administering authorities",null,null,"","",null,null,0,{"$nulls":28},"",null,"Local government",null,null,50,9,null,1,14,128,1014128,385]
["D","050-10","Local Government Pension Scheme Funds Form (SF3)","Administration and fund management costs of the fund (SF3 - Section H)","DLUHC",null,"N",null,null,"annual","Administering authorities",null,null,{"$f":"IF(OR($A130<>\"C\",P130=\"\"),\"\",HYPERLINK(P130,\"Collection\"))","v":""},{"$f":"IF(OR($A130<>\"C\",Q130=\"\"),\"\",HYPERLINK(Q130,\"Data\"))","v":""},null,null,0,{"$nulls":28},"",null,"Local government",null,null,50,10,null,1,14,129,1014129,386]
["D","050-11","Local Government Pension Scheme Funds Form (SF3)","Retirements (SF3 - Section I)","DLUHC",null,"N",null,null,"annual","Administering authorities",null,null,"","",null,null,0,{"$nulls":28},"",null,"Local government",null,null,50,11,null,1,14,130,1014130,387]
["C","051-00","Monthly Borrowing and Lending Inquiry",null,"DLUHC",null,"N",null,"Y","monthly","Sample of authorities","Local authority borrowing and investments.",null,"Collection","Data","https://www.gov.uk/local-government-finance-miscellaneous-forms","https://www.gov.uk/government/statistical-data-sets/live-tables-on-local-government-finance#borrowing-and-investment",null,null,"Y","Y","Y","Y","Y","Y","Y","Y","Y","Y","Y","Y","Y","Y",{"$nulls":10},"County council, District council, Metropolitan district, Unitary authority, London borough, City of London, Isles of Scilly, Fire & rescue authority, Police authority, Joint waste authority, Waste disposal authority, National park authority, Integrated transport authority, GLA","aggregate/summary","DELTA (on-line form)",2,null,"Local government","Gavin Sayer",null,51,0,null,0,14,131,14131,82]
["D","051-01","Monthly Borrowing and Lending Inquiry","Borrowing: amounts outstanding for securities, temporary loans and longer-term loans, each broken down by category","DLUHC",null,"N",null,null,"monthly","Sample of authorities",null,null,"","",null,null,0,{"$nulls":28},"",null,"Local government",null,null,51,1,null,1,14,132,1014132,388]
["D","051-02","Monthly Borrowing and Lending Inquiry","Investments: amounts outstanding for internally- and externally-managed investments,  broken down by category","DLUHC",null,"N",null,null,"monthly","Sample of authorities",null,null,"","",null,null,0,{"$nulls":28},"",null,"Local government",null,null,51,2,null,1,14,133,1014133,389]
["C","052-00","Quarterly Borrowing and Lending Inquiry",null,"DLUHC",null,"N",null,"Y","quarterly","All local authorities","Details of local government borrowing and investments.",null,"Collection","Data","https://www.gov.uk/local-government-finance-miscellaneous-forms","https://www.gov.uk/government/statistical-data-sets/live-tables-on-local-government-finance#borrowing-and-investment",null,null,"Y","Y","Y","Y","Y","Y","Y","Y","Y","Y","Y","Y","Y","Y",{"$nulls":10},"County council, District council, Metropolitan district, Unitary authority, London borough, City of London, Isles of Scilly, Fire & rescue authority, Police authority, Joint waste authority, Waste disposal authority, National park authority, Integrated transport authority, GLA","aggregate/summary","DELTA (on-line form)",2,null,"Local government","Gavin Sayer",null,52,0,null,0,14,134,14134,83]
["D","052-01","Quarterly Borrowing and Lending Inquiry","Borrowing: amounts outstanding for securities, temporary loans and longer-term loans, each broken down by category","DLUHC",null,"N",null,null,"quarterly","All local authorities",null,null,"","",null,null,0,{"$nulls":28},"",null,"Local government",null,null,52,1,null,1,14,135,1014135,390]
["D","052-02","Quarterly Borrowing and Lending Inquiry","Investments: amounts outstanding for internally- and externally-managed investments,  broken down by category","DLUHC",null,"N",null,null,"quarterly","All local authorities",null,null,"","",null,null,0,{"$nulls":28},"",null,"Local government",null,null,52,2,null,1,14,136,1014136,391]
["C","265-00","Self-Build and Custom Housebuilding (SBCH)",null,"DLUHC",null,"N",null,null,"annual","Single tier & lower tier","Data on self-build and custom housbuilding registers.","Collection of data from relevant authorities regarding their duties under the Self-build and Custom Housebuilding Act 2015. Includes infromation regarding entries on the register, planning permissions granted and information on publicising the register. ",{"$nulls":3},"https://www.gov.uk/government/publications/self-build-and-custom-housebuilding-data-2016-2016-17-2017-18-and-2018-19",{"$nulls":3},"Y","Y","Y","Y","Y","Y",{"$nulls":4},"Y",{"$nulls":6},"Y",{"$nulls":5},"District council, Metropolitan district, Unitary authority, London borough, City of London, Isles of Scilly, National Park Authority, Broads ","aggregate/summary","DELTA (on-line form)",1,null,"Housing","Xavia Morbey",null,265,0,null,0,14,137,14137,84]
["D","265-01","Self-Build and Custom Housebuilding (SBCH)","Information regarding Self-build and Custom Housebuilding registers","DLUHC",{"$nulls":12},0,{"$nulls":33},265,1,null,1,14,138,1014138,392]
["C","267-00","Housing Delivery Test data ",null,"DLUHC",null,"N",null,null,"annual","Single tier & lower tier","Baseline data to enable calculation of the Housing Delivery Test (and potentially a permissions granted based additional test that is dependent on the outcome of the NPPF prospectus consultation).","Baseline data taken primarily from local plan and standard method (LHN) scores in order to enable calculation of Housing Delivery Test scores for relevant authorities. An additional data collection, collecting information on permissions granted but not built out, has been proposed in the current NPPF prospectus consultation. If accepted, this information may be required for future HDT data collectiions.    ",{"$nulls":3},"https://www.gov.uk/government/publications/housing-delivery-test-2021-measurement",0,null,null,"Y","Y","Y","Y","Y","Y",{"$nulls":16},"Development corporations also included. National Park and Broads Authority both approached outside of the SDL collection.","District council, Metropolitan district, Unitary authority, London borough, City of London, Isles of Scilly, Development Corporations","aggregate/summary","DELTA (on-line form)",1,null,"Planning","Chris Townsend; Thea Davis; Stephen Borrows",null,267,0,null,0,14,139,14139,85]
["D","267-01","Housing Delivery Test data ","Baseline data to enable calculation of the Housing Delivery Test","DLUHC",null,"N",null,null,"annual","Single tier & lower tier",{"$nulls":40},267,1,null,1,14,140,1014140,393]
["C","252-00","Local Authority Housing Statistics",null,"DLUHC",null,"Y",null,null,"Annual","Single tier & lower tier","Detailed information about local authority stock and stock management practices","submitted via MHCLG's DELTA on-line service","Collection","Data","www.gov.uk/government/collections/local-authority-housing-data","https://www.gov.uk/government/collections/local-authority-housing-data",{"$nulls":3},"Y","Y","Y","Y","Y","Y",{"$nulls":17},"Metropolitan District, Unitary Authority, Shire District, London Borough","aggregate/summary","Delta",1,null,"Housing","Miguel Marques dos Santos",null,252,0,null,0,14,141,14141,86]
["D","252-01","Local Authority Housing Statistics","Local Authority Housing Statistics","DLUHC",{"$nulls":4},"Annual","Single tier & lower tier",null,null,{"$f":"IF(OR($A143<>\"C\",P143=\"\"),\"\",HYPERLINK(P143,\"Collection\"))","v":""},{"$f":"IF(OR($A143<>\"C\",Q143=\"\"),\"\",HYPERLINK(Q143,\"Data\"))","v":""},null,null,0,{"$nulls":30},"Housing",null,null,252,1,null,1,14,142,1014142,394]
["C","268-00","H-CLIC (Homelessness Case Level Information Collection) ",null,"DLUHC",{"$nulls":3},"Y","Quarterly","Single tier & lower tier","statutory homelessness statistics and additional information on homelessness prevention and relief duties",null,{"$f":"IF(OR($A144<>\"C\",P144=\"\"),\"\",HYPERLINK(P144,\"Collection\"))","v":"Collection"},{"$f":"IF(OR($A144<>\"C\",Q144=\"\"),\"\",HYPERLINK(Q144,\"Data\"))","v":"Data"},"https://delta.communities.gov.uk/document-repository/public/download?uri=/document-repository/HCLIC_Data_Specification_v1.5_approved.docx","https://www.gov.uk/government/collections/homelessness-statistics#statutory-homelessness",{"$nulls":3},"Y","Y","Y","Y","Y","Y",{"$nulls":17},"Metropolitan District, Unitary Authority, Shire District, London Borough","Case level data","Delta XML or online form",1,null,"Local government","Danielle Ryan ",null,268,0,null,0,14,143,14143,87]
["D","268-01","H-CLIC (Homelessness Case Level Information Collection) ","Statutory Homelessness","DLUHC",{"$nulls":4},"Quarterly","Single tier & lower tier",null,null,{"$f":"IF(OR($A145<>\"C\",P145=\"\"),\"\",HYPERLINK(P145,\"Collection\"))","v":""},{"$nulls":3},0,{"$nulls":28},"",null,"Local government",null,null,268,1,null,1,14,144,1014144,395]
["C","271-00","Names of additional Public Private Partnership / Private Finance Initiative Projects (for ONS & HMT)",null,"DLUHC",null,"Y",null,null,"annual","All local authorities","New mini collection to list Public Private Partnership / Private Finance Initiative Projects which have both no central government involvement and which are not already on published HM Treasury list. ","This was introduced December 2019 in exchange for removing data items in the Revenue Outturn (026-01)  and Revenue Account Budget (032-01) for which amounts of PFI expenditure were required. By contrast, this new collection does not require any financial data.",{"$nulls":6},"Y","Y","Y","Y","Y","Y","Y","Y","Y","Y","Y","Y","Y","Y",{"$nulls":10},"County council, District council, Metropolitan district, Unitary authority, London borough, City of London, Isles of Scilly, Fire & rescue authority, Police authority, Joint waste authority, Waste disposal authority, National park authority, Integrated transport authority, GLA",null,null,1,null,null,"Gavin Sayer",null,271,0,null,0,14,145,14145,88]
["D","271-01","Names of additional Public Private Partnership / Private Finance Initiative Projects (for ONS & HMT)","National Accounts","DLUHC",null,"Y",null,null,"annual","All local authorities",{"$nulls":6},0,{"$nulls":33},271,1,null,1,14,146,1014146,396]
["C","272-00","Exit payments",null,"DLUHC",{"$nulls":4},"annual","Council and combined authorities","Data on the number and level of exit payments. ","An exit package in this context is any payment made by way of compensation for loss of employment and any other payments made to or receivable by the person in connection with the termination of their employment by the relevant authority. It can be by reason of redundancy or termination of contract by mutual agreement (eg for reasons of business efficiency or as a term in a conciliation agreement).  The scope of this data set includes those who opt not to join the Local Government Pension Scheme (LGPS) but does not include any teaching staff employed in LA maintained schools, regardless of the pension scheme in which they participate.  ",null,null,"https://delta.communities.gov.uk/document-repository/public/download?uri=/document-repository/Data_Commission_Special_Severance_Payments.xlsx ","https://www.gov.uk/government/statistics/local-authority-exit-payments-first-estimates-england-2019-20-and-2020-21",null,null,"Y","Y","Y","Y","Y","Y","Y",{"$nulls":6},"Y",{"$nulls":6},"Y",{"$nulls":3},"County council, District council, Metropolitan district, Unitary authority, London borough, City of London, Isles of Scilly, Combined authorities, GLA","aggregate/summary","DELTA",1,null,"Local Government",null,null,272,0,null,0,14,147,14147,89]
["D","272-01","Exit payments",null,"DLUHC",{"$nulls":46},272,1,null,1,14,148,1014148,397]
["C","273-00","Capital Outturn Return (COR) Local Authority Trading companies",null,"DLUHC","Y","Y","Y",null,"annual","All local authorities","list of local authority trading companies, subsidiaries, associates and joint ventures",{"$nulls":7},"Y","Y","Y","Y","Y","Y","Y","Y","Y","Y","Y","Y","Y","Y",{"$nulls":10},"County council, District council, Metropolitan district, Unitary authority, London borough, City of London, Isles of Scilly, Fire & rescue authority, Police authority, Joint waste authority, Waste disposal authority, National park authority, Integrated transport authority, GLA",{"$nulls":4},"Local government",null,null,273,0,null,0,14,149,14149,90]
["D","273-01","Capital Outturn Return (COR) Local Authority Trading companies","details of trading companies (and others) in which local authorities have a share","DLUHC",{"$nulls":43},"local government",null,null,273,1,null,1,14,150,1014150,398]
["C","274-00","Domestic Abuse Tier 1 Safe Accommodation",null,"DLUHC","Y",{"$nulls":3},"annual","Uper tier & single tier","Aggregate data on domestic abuse safe accommodation services and the support received by individuals using these services","New collection on domestic abuse following the Domestic Abuse Act 2021. Part 4 outlines the duty on upper and single tier authorities to provide support in safe accommodation services and report back on this to central government annually",{"$nulls":6},"Y",null,"Y","Y",null,null,"Y",{"$nulls":5},"Y",{"$nulls":11},"Unitary, upper tier authorities and GLA","aggregate","DELTA",null,null,"domestic abuse",null,null,274,0,null,0,14,151,14151,91]
["D","274-01","Domestic Abuse Tier 1 Safe Accommodation","Domestic abuse","DLUHC","Y",{"$nulls":45},274,1,null,1,14,152,1014152,399]
["C","270-00","Local Authority Data Return (LADR)",null,"DLUHC/RSH",null,"Y",null,null,"annual","All local authorities registered with RSH","Data on owned social housing stock and rents.","All providers who own social housing must be registered with the RSH and all Local Authority registered providers must complete the LADR. Data is provided to RSH in order that they can regulate compliance against the rent standard. The data submitted through LADR will be published in the RSH national statistic on social housing stock and rents.",{"$f":"IF(OR($A154<>\"C\",P154=\"\"),\"\",HYPERLINK(P154,\"Collection\"))","v":"Collection"},null,"https://nroshplus.regulatorofsocialhousing.org.uk/",{"$nulls":3},"Y","Y","Y","Y","Y","Y","Y",{"$nulls":16},"All Local Authorities who own social housing stock should complete the return","County Council, District council, Metropolitan district, Unitary authority, London borough, City of London, Isles of Scilly","aggregate/summary","NROSH+ online return",1,null,"Housing","amanda.hall@rsh.gov.uk",null,270,0,null,0,41,153,41153,122]
["D","270-01","Local Authority Data Return (LADR)","Collection of local authority social rent and stock holdings","DLUHC/RSH",null,"Y",null,null,"annual","All local authorities registered with RSH",{"$nulls":6},0,{"$nulls":30},"Housing",null,null,270,1,null,1,41,154,1041154,484]
["C","276-00","Tenant Satisfaction Measures (TSM) ",null,"DLUHC/RSH","Y",{"$nulls":3},"annual","All local authorities registered with RSH","Tenant Satisfaction measures as per the RSH TSM Standard","Tenant Satisfaction measures as required to meet the TSM standard; covering both management information and tenant perception measures",{"$nulls":4},"Y",null,"Y","Y","Y","Y","Y","Y","Y",{"$nulls":16},"All Local Authorities who own social housing stock should complete the return","County Council, District council, Metropolitan district, Unitary authority, London borough, City of London, Isles of Scilly","aggregate/summary","NROSH+ online return",null,null,"Housing",null,null,276,0,null,0,41,155,41155,123]
["D","276-01","Tenant Satisfaction Measures (TSM) ","Collection of management information and tenant perception measures as required under the RSH Tenant Satisfaction Measures (TSM) standard","DLUHC/RSH",{"$nulls":4},"annual","All local authorities registered with RSH",{"$nulls":37},"Housing",null,null,276,1,null,1,41,156,1041156,485]
["C","183-00","Whole of Government Accounts (WGA)",null,"HMT(DLUHC)",{"$nulls":3},"Y","annual","All local authorities","Local government element of consolidated financial accounts for the entire UK public sector on commercial accounting principles.","Whole of Government Accounts (WGA) initiative is to produce a set of consolidated financial accounts for the entire UK public sector on commercial accounting principles. The English local government element is the largest component of this consolidation including  450  local government bodies as designated by HM Treasury.",null,{"$f":"IF(OR($A158<>\"C\",Q158=\"\"),\"\",HYPERLINK(Q158,\"Data\"))","v":""},{"$nulls":4},"Y","Y","Y","Y","Y","Y","Y","Y","Y","Y","Y","Y","Y","Y","Y","Y","Y","Y","Y","Y","Y",{"$nulls":3},"County council, District council, Metropolitan district, Unitary authority, London borough, City of London, Isles of Scilly, Fire & rescue authority, Police authority, Joint waste authority, Waste disposal authority, National park authority, Integrated transport authority, GLA","aggregate/summary","OSCAR-on line form",2,null,"Local government","Rowe, Matthew - <Matthew.Rowe@hmtreasury.gov.uk>",null,183,0,null,0,19,157,19157,97]
["D","183-01","Whole of Government Accounts (WGA)","English local government sub-consolidation (unaudited)","HMT(DLUHC)",{"$nulls":3},"Y","annual","All local authorities",null,null,{"$f":"IF(OR($A159<>\"C\",P159=\"\"),\"\",HYPERLINK(P159,\"Collection\"))","v":""},"",null,null,0,{"$nulls":28},"",null,"Local government",null,null,183,1,null,1,19,158,1019158,420]
["D","183-02","Whole of Government Accounts (WGA)","English local government sub-consolidation (audited)","HMT(DLUHC)",{"$nulls":3},"Y","annual","All local authorities",null,null,"","",null,null,0,{"$nulls":28},"",null,"Local government",null,null,183,2,null,1,19,159,1019159,421]
["C","060-00","Fire and rescue incident data",null,"HO",null,"Y",null,null,"monthly or quarterly","Fire & rescue authorities","Details of Fires and other incidents attended by Fire and Rescue Services including details of casualties and those rescued.","Data are collected by FRSs for own use, and bulk transmitted to Home Office for national-level monitoring and analysis and production of National Statistics\n","Collection","Data","https://www.gov.uk/government/publications/incident-recording-system-for-fire-and-rescue-authorities","https://www.gov.uk/government/collections/fire-statistics",null,null,"Y",{"$nulls":5},"Y","Y",{"$nulls":8},"Y",{"$nulls":3},"Y",{"$nulls":3},"County council, Isles of Scilly, Fire & rescue authority, London Fire & Emergency Planning authority, Combined authority","case based",null,1,null,"Fire","Deborah Lader (deborah.lader@homeoffice.gov.uk) / Paul Gaught (paul.gaught@homeoffice.gov.uk)",null,60,0,null,0,20,160,20160,98]
["D","060-01","Fire and rescue incident data","e.g. type of incident, type of location, cause, damage, casualties and rescues and other action","HO",null,"Y",null,null,"monthly or quarterly","Fire & rescue authorities",null,null,"","",null,null,0,{"$nulls":28},"",null,"Fire",null,null,60,1,null,1,20,161,1020161,422]
["C","061-00","Fire and rescue service non-financial annual returns",null,"HO",null,"N",null,"Y","annual","Fire & rescue authorities","Fire and rescue service operational statistics.","\n","Collection","Data","https://www.gov.uk/government/collections/fire-statistics","https://www.gov.uk/government/collections/fire-statistics",null,null,"Y",{"$nulls":5},"Y","Y",{"$nulls":8},"Y",{"$nulls":3},"Y",{"$nulls":3},"County council, Isles of Scilly, Fire & rescue authority, London Fire & Emergency Planning authority, Combined authority","aggregate/summary",null,5,null,"Fire","Deborah Lader (deborah.lader@homeoffice.gov.uk) / Paul Gaught (paul.gaught@homeoffice.gov.uk)",null,61,0,null,0,20,162,20162,99]
["D","061-01","Fire and rescue service non-financial annual returns","Fire safety audits and related activities","HO",null,"N",null,"Y","annual","Fire & rescue authorities",null,null,"","",null,null,0,{"$nulls":28},"",null,"Fire",null,null,61,1,null,1,20,163,1020163,423]
["D","061-02","Fire and rescue service non-financial annual returns","FRS staff numbers","HO",null,"N",null,null,"annual","Fire & rescue authorities",null,"Addition of question on dual contracts; combine age and gender diversity data and add ‘Other’ to Men/Women","","",null,null,0,{"$nulls":28},"",null,"Fire",null,null,61,2,null,1,20,164,1020164,424]
["D","061-03","Fire and rescue service non-financial annual returns","Staff leaving FRSs","HO",null,"N",null,null,"annual","Fire & rescue authorities",null,null,"","",null,null,0,{"$nulls":28},"",null,"Fire",null,null,61,3,null,1,20,165,1020165,425]
["D","061-04","Fire and rescue service non-financial annual returns","Injuries to firefighters and accidents involving FRS vehicles","HO",null,"N",null,null,"annual","Fire & rescue authorities",null,"deletion of shifts lost due to injuries","","",null,null,0,{"$nulls":28},"",null,"Fire",null,null,61,4,null,1,20,166,1020166,426]
["D","061-05","Fire and rescue service non-financial annual returns","Community Fire Safety activity","HO",null,"N",null,null,"annual","Fire & rescue authorities",null,"Only record HFSCs as those which were in real life (defined as crossing the threshold), but to add a question on how many additional ‘non real life’/remote checks were carried out. Collect the number of HFSCs where one or more vulnerabilities/risk factors were known to be present.","","",null,null,0,{"$nulls":28},"",null,"Fire",null,null,61,5,null,1,20,167,1020167,427]
["C","172-00","Fire Fighters Pension Fund - Non-financial data",null,"HO",null,"N",null,null,"annual","Fire & rescue authorities","Data collected to determine the amount of Pensions Top Up grant to be paid to each of the 44 English FRAs.","Data collected to determine the correct amount of Pensions Top Up grant to be paid to each of the 44 English FRAs and the distribution of fire fighter pension funding. This data collected on DELTA.",null,"Data",null,"Fire statistics data tables - GOV.UK (www.gov.uk)",null,null,"Y",{"$nulls":6},"Y",{"$nulls":8},"Y",{"$nulls":3},"Y",{"$nulls":3},"County council, Fire & rescue authority, London Fire & Emergency Planning authority, Combined authority","aggregate/summary",null,1,null,"Fire","anthony.mooney@homeoffice.gsi.gov.uk",null,172,0,null,0,20,168,20168,100]
["D","172-01","Fire Fighters Pension Fund - Non-financial data","Non-financial data","HO",{"$nulls":4},"annual","Fire & rescue authorities",{"$nulls":6},0,{"$nulls":30},"Fire",null,null,172,1,null,1,20,169,1020169,428]
["C","173-00","Fire Fighters Pension Fund - Financial data",null,"HO",null,"N",null,"Y","three times a year","Fire & rescue authorities","Financial data collected to determine the amount of Pensions Top Up grant to be paid to each of the 44 English FRAs.","Financial data collected to determine the correct amount of Pensions Top Up grant to be paid to each of the 44 English FRAs and the distribution of fire fighter pension funding. This data collected on DELTA.",null,"Data",null,"Fire statistics data tables - GOV.UK (www.gov.uk)",null,null,"Y",{"$nulls":6},"Y",{"$nulls":8},"Y",{"$nulls":3},"Y",{"$nulls":3},"County council, Fire & rescue authority, London Fire & Emergency Planning authority, Combined authority","aggregate/summary",null,1,null,"Fire","anthony.mooney@homeoffice.gsi.gov.uk",null,173,0,null,0,20,170,20170,101]
["D","173-01","Fire Fighters Pension Fund - Financial data","Financial data","HO",{"$nulls":4},"three times a year","Fire & rescue authorities",{"$nulls":6},0,{"$nulls":30},"Fire",null,null,173,1,null,1,20,171,1020171,429]
["C","170-00","National Fraud Initiative (NFI)",null,"CO",null,"N",null,"Y","other-see comments","All local authorities","A data-matching exercise to identify fraud, errors and overpayments (e.g. of benefits and pensions).","The NFI has been undertaken by the Cabinet Office since 2015 (prior to this it was undertaken by the Audit Commission has been abolished). The mandatory data collection (every two years except a small number of annual submissions) is supplemented by voluntary submissions determined by participants.       Most of the data  is every two years but some aspects are annual.  Cabinet Office consult on the requirements each time before confirming.   For the latest report on their biannual data matching exercise covering the period March 2020 – March 2022 see relevant link",{"$f":"IF(OR($A173<>\"C\",P173=\"\"),\"\",HYPERLINK(P173,\"Collection\"))","v":""},{"$f":"IF(OR($A173<>\"C\",Q173=\"\"),\"\",HYPERLINK(Q173,\"Data\"))","v":"Data"},null,"https://assets.publishing.service.gov.uk/government/uploads/system/uploads/attachment_data/file/1121678/2022-12-02_NFI_report_2022__12v3__-_JQ.pdf",null,null,"Y","Y","Y","Y","Y","Y",null,"Y","Y","Y","Y",null,"Y","Y","Y",null,"Y","Y",null,null,"Y",{"$nulls":3},"County council, District council, Metropolitan district, Unitary authority, London borough, City of London, Isles of Scilly, Fire & rescue authority, Police authority, Joint waste authority, Waste disposal authority, National park authority, Integrated transport authority, GLA, Transport for London, London Development Agency, London Fire & Emergency Planning authority, Metropolitan Police Authority, Broads Authority, Joint authority, Combined authority","client based",null,1,null,"Local government","darren.shillington@cabinetoffice.gov.uk; nfiqueries@cabinetoffice.gov.uk",null,170,0,null,0,3,172,3172,2]
["D","170-01","National Fraud Initiative (NFI)","Data from a wide range of administrative sources.","CO",null,"N",null,null,"other-see comments","All local authorities",null,null,"","",null,null,0,{"$nulls":28},"",null,"Local government",null,null,170,1,null,1,3,173,1003173,146]
["C","207-00","Gambling Licensing Authority Returns",null,"DCMS/GC",null,"Y",null,"Y","annual","Single tier & lower tier","Summary statistics that reflect local regulatory activity (visits) and related administration (permits and notices)\n",null,"Collection","Data","http://www.gamblingcommission.gov.uk/for-licensing-authorities/Licensing-authority-returns.aspx","http://www.gamblingcommission.gov.uk/for-licensing-authorities/Licensing-authority-returns.aspx","Y",null,null,"Y","Y","Y","Y","Y","Y",{"$nulls":17},"District council, Metropolitan district, Unitary authority, London borough, City of London, Isles of Scilly","aggregate/summary",null,1,null,null,"Rob Burkitt <RBurkitt@gamblingcommission.gov.uk>",null,207,0,null,0,31,174,31174,104]
["D","207-01","Gambling Licensing Authority Returns","local regulatory activity (visits) and related administration (permits and notices)","DCMS/GC",null,"Y",null,"Y","annual","Single tier & lower tier",null,null,"","",null,null,"Y",{"$nulls":28},"",{"$nulls":4},207,1,null,1,31,175,1031175,431]
["C","069-00","Animal Welfare: during transport",null,"DEFRA",null,null,"Y","Y","annual","All local authorities","Non-discriminatory inspections of animals, their means of transport and accompanying documents. Relevant enforcement details following inspections.","The number of inspections must be carried out on an adequate proportion of the animals transported each year within the UK. Entered onto the AMES system both by LAs and AHVLA.","","",{"$nulls":4},"Y","Y","Y","Y","Y","Y","Y",{"$nulls":17},"County council, District council, Metropolitan district, Unitary authority, London borough, City of London, Isles of Scilly","case based",null,1,null,"Animal health/welfare","john.joseph@defra.gov.uk",null,69,0,null,0,8,176,8176,5]
["D","069-01","Animal Welfare: during transport","Non-discriminatory inspections of animals, their means of transport and accompanying documents.","DEFRA",null,null,"Y","Y","annual","All local authorities",null,null,"","",null,null,0,{"$nulls":28},"",null,"Animal health/welfare",null,null,69,1,null,1,8,177,1008177,150]
["C","071-00","Animal Health & Welfare Management and Enforcement System (AMES)",null,"DEFRA",null,null,"Y",null,"continuous","All local authorities","Information on actions / enforcement outcomes with respect to all welfare prosecutions","Enforcement activity undertaken by local authorities to provide premise history, intelligence and local and national management information to enable effective response to disease outbreaks.","","",{"$nulls":4},"Y","Y","Y","Y","Y","Y","Y",{"$nulls":17},"County council, District council, Metropolitan district, Unitary authority, London borough, City of London, Isles of Scilly","case based",null,10,null,"Animal health/welfare","john.joseph@defra.gov.uk",null,71,0,null,0,8,178,8178,6]
["D","071-01","Animal Health & Welfare Management and Enforcement System (AMES)","Abattoir ","DEFRA",{"$nulls":4},"continuous","All local authorities",null,null,"","",null,null,0,{"$nulls":28},"",null,"Animal health/welfare",null,null,71,1,null,1,8,179,1008179,151]
["D","071-02","Animal Health & Welfare Management and Enforcement System (AMES)","Business Advice ","DEFRA",{"$nulls":4},"continuous","All local authorities",{"$nulls":37},"Animal health/welfare",null,null,71,2,null,1,8,180,1008180,152]
["D","071-03","Animal Health & Welfare Management and Enforcement System (AMES)","Farm ","DEFRA",{"$nulls":4},"continuous","All local authorities",{"$nulls":37},"Animal health/welfare",null,null,71,3,null,1,8,181,1008181,153]
["D","071-04","Animal Health & Welfare Management and Enforcement System (AMES)","Knackers/Hunt Kennels/ABP ","DEFRA",{"$nulls":4},"continuous","All local authorities",{"$nulls":37},"Animal health/welfare",null,null,71,4,null,1,8,182,1008182,154]
["D","071-05","Animal Health & Welfare Management and Enforcement System (AMES)","Markets/Collection Centres ","DEFRA",{"$nulls":4},"continuous","All local authorities",{"$nulls":37},"Animal health/welfare",null,null,71,5,null,1,8,183,1008183,155]
["D","071-06","Animal Health & Welfare Management and Enforcement System (AMES)","Point of Entry ","DEFRA",{"$nulls":4},"continuous","All local authorities",{"$nulls":37},"Animal health/welfare",null,null,71,6,null,1,8,184,1008184,156]
["D","071-07","Animal Health & Welfare Management and Enforcement System (AMES)","Reconciliation ","DEFRA",{"$nulls":4},"continuous","All local authorities",{"$nulls":37},"Animal health/welfare",null,null,71,7,null,1,8,185,1008185,157]
["D","071-08","Animal Health & Welfare Management and Enforcement System (AMES)","Referrals ","DEFRA",{"$nulls":4},"continuous","All local authorities",{"$nulls":37},"Animal health/welfare",null,null,71,8,null,1,8,186,1008186,158]
["D","071-09","Animal Health & Welfare Management and Enforcement System (AMES)","Shows ","DEFRA",{"$nulls":4},"continuous","All local authorities",{"$nulls":37},"Animal health/welfare",null,null,71,9,null,1,8,187,1008187,159]
["D","071-10","Animal Health & Welfare Management and Enforcement System (AMES)","Welfare of Animals in Transport Order ","DEFRA",{"$nulls":4},"continuous","All local authorities",null,null,{"$f":"IF(OR($A189<>\"C\",P189=\"\"),\"\",HYPERLINK(P189,\"Collection\"))","v":""},{"$f":"IF(OR($A189<>\"C\",Q189=\"\"),\"\",HYPERLINK(Q189,\"Data\"))","v":""},null,null,0,{"$nulls":28},"",null,"Animal health/welfare",null,null,71,10,null,1,8,188,1008188,160]
["C","073-00","Return of expenditure incurred and prosecutions undertaken under the Animal Health Act 1981 and incidences of disease in imported animals",null,"DEFRA",{"$nulls":3},"Y","every 6 months","All local authorities","Prosecutions and other enforcement action taken under the Animal Health Act 1981 and other animal health and welfare legislation.","Form AH 134.\nSubmission of information is a statutory requirement under Section 81 of the Animal Health Act 1981","","",{"$nulls":4},"Y","Y","Y","Y","Y","Y","Y",{"$nulls":17},"County council, District council, Metropolitan district, Unitary authority, London borough, City of London, Isles of Scilly","case based","Word document form",1,null,"Animal health/welfare","john.joseph@defra.gov.uk",null,73,0,null,0,8,189,8189,7]
["D","073-01","Return of expenditure incurred and prosecutions undertaken under the Animal Health Act 1981 and incidences of disease in imported animals","Details of offence(s), offender and result for all animal health and welfare cases brought to court","DEFRA",{"$nulls":3},"Y","every 6 months","All local authorities",null,null,"","",null,null,0,{"$nulls":28},"",null,"Animal health/welfare",null,null,73,1,null,1,8,190,1008190,161]
["C","075-00","Local Pollution Control Statistical Survey (LPCSS)",null,"DEFRA",null,"Y","Y","Y","annual","Single tier & lower tier","Annual statistical survey on local authorities' statutory pollution prevention & control activities.","Some 19,000 industrial and other premises are regulated by local authorities to ensure that air emissions, and sometimes wider impacts, are minimised.  The data collected includes the number and types of installations which hold a permit;  the time taken by authorities to decide applications;  how many enforcement and other notices are served;  how many times each authority inspects the installations it regulates;  and how much money authorities raise from statutory charges levied on the regulated businesses.  Detailed information about each regulated installation is held by the relevant local authority on a public register which can be consulted free by anyone during reasonable working hours.","","Data",null,"https://www.gov.uk/government/publications/local-pollution-control-statistics--2",{"$nulls":3},"Y","Y","Y","Y","Y","Y",{"$nulls":17},"District council, Metropolitan district, Unitary authority, London borough, City of London, Isles of Scilly","aggregate/summary",null,6,null,"Environmental quality","john.joseph@defra.gov.uk",null,75,0,null,0,8,191,8191,8]
["D","075-01","Local Pollution Control Statistical Survey (LPCSS)","Number and types of installations which hold a permit","DEFRA",null,"Y","Y",null,"annual","Single tier & lower tier",null,null,"","",null,null,0,{"$nulls":28},"",null,"Environmental quality",null,null,75,1,null,1,8,192,1008192,162]
["D","075-02","Local Pollution Control Statistical Survey (LPCSS)","Time taken by authorities to decide applications","DEFRA",null,"Y","Y",null,"annual","Single tier & lower tier",null,null,"","",null,null,0,{"$nulls":28},"",null,"Environmental quality",null,null,75,2,null,1,8,193,1008193,163]
["D","075-03","Local Pollution Control Statistical Survey (LPCSS)","Number of enforcement and other notices served","DEFRA",null,"Y","Y",null,"annual","Single tier & lower tier",null,null,"","",null,null,0,{"$nulls":28},"",null,"Environmental quality",null,null,75,3,null,1,8,194,1008194,164]
["D","075-04","Local Pollution Control Statistical Survey (LPCSS)","How many times each authority inspects the installations it regulates","DEFRA",null,"Y","Y",null,"annual","Single tier & lower tier",null,null,"","",null,null,0,{"$nulls":28},"",null,"Environmental quality",null,null,75,4,null,1,8,195,1008195,165]
["D","075-05","Local Pollution Control Statistical Survey (LPCSS)","How much money authorities raise from statutory charges levied on the regulated businesses","DEFRA",null,"Y","Y",null,"annual","Single tier & lower tier",null,null,"","",null,null,0,{"$nulls":28},"",null,"Environmental quality",null,null,75,5,null,1,8,196,1008196,166]
["D","075-06","Local Pollution Control Statistical Survey (LPCSS)","Detailed information about each regulated installation","DEFRA",null,"Y","Y",null,"annual","Single tier & lower tier",null,null,"","",null,null,0,{"$nulls":28},"",null,"Environmental quality",null,null,75,6,null,1,8,197,1008197,167]
["C","080-00","Flood and coastal erosion risk management and sustainable drainage systems",null,"DEFRA",{"$nulls":3},"Y","annual","Upper tier & single tier","To monitor implementation of the Flood and Water Management Act 2010 and sustainable drainage systems.  ","080-01 deleted. A new question on section 19 investigations has been incorporated into the multiple choice questionaire under 080-08","","",{"$nulls":3},189,"Y",null,"Y","Y","Y","Y","Y",{"$nulls":17},"County council, Metropolitan district, Unitary authority, London borough, City of London, Isles of Scilly","aggregate/summary",null,4,null,"Flooding","john.joseph@defra.gov.uk",null,80,0,null,0,8,198,8198,9]
["D","080-03","Flood and coastal erosion risk management and sustainable drainage systems","Number of major planning applications on which the Lead Local Flood Authority were consulted with regards to surface water drainage.","DEFRA",{"$nulls":3},"Y","annual","Upper tier & single tier",null,null,"","",null,null,0,{"$nulls":28},"",null,"Flooding",null,null,80,3,null,1,8,199,1008199,168]
["D","080-04","Flood and coastal erosion risk management and sustainable drainage systems","The number of residential units within  planning decisions for major development where the application has been refused or made in line with LLFA advice on  surface water drainage.","DEFRA",{"$nulls":3},"Y","annual","Upper tier & single tier",null,null,"","",null,null,0,{"$nulls":28},"",null,"Flooding",null,null,80,4,null,1,8,200,1008200,169]
["D","080-05","Flood and coastal erosion risk management and sustainable drainage systems","The number of major development applications where the application has been refused or has been made in line with LLFA advice on surface water drainage.","DEFRA",{"$nulls":3},"Y","annual","Upper tier & single tier",null,null,"","",null,null,0,{"$nulls":28},"",null,"Flooding",null,null,80,5,null,1,8,201,1008201,170]
["D","080-08","Flood and coastal erosion risk management and sustainable drainage systems","Reporting in relation to implementating the Flood and Water Management Act (FWMA)","DEFRA",{"$nulls":3},"Y","annual","Upper tier & single tier","To monitor implementation of the Flood and Water Management Act 2010.  Multiple choice questionnaire for local authorities to report on their implementation of the Act covering local flood risk management strategies, partnership working, asset registers, section 19 flood investigations and capacity.","Changes have been made to quesitons being asked from 2018. Moving from asking 3 to 6 questions (1 of which on whether they have an asset register is time bounded).  Each question has multiple choice answers to minimise the burden.  ","","",null,null,0,{"$nulls":28},"",null,"Flooding",null,null,80,8,null,1,8,202,1008202,171]
["C","160-00","Local nature conservation/biodiversity",null,"DEFRA",{"$nulls":4},"annual","Upper tier & single tier","Proportion of Local Sites where positive conservation management is being achieved.","Proportion of Local Sites where positive conservation management is being achieved Local authorities have an important role in delivering UK's international and EU targets to halt the loss of biodiversity. Data on effectiveness of local delivery is essential. More than 42,000 LWS exist, covering over 5% of England and containing many important priority habitats. Their effective conservation is key to meeting national and international objectives for biodiversity.","","Data",null,"https://www.gov.uk/government/statistical-data-sets/env10-local-sites-in-positive-conservation-management",null,197,"Y",null,"Y","Y","Y","Y",{"$nulls":17},"There is a specific exemption for the Isles of Scilly.","County council, Metropolitan district, Unitary authority, London borough, City of London","aggregate/summary",null,1,null,"Biodiversity","john.joseph@defra.gov.uk",null,160,0,null,0,8,203,8203,10]
["D","160-01","Local nature conservation/biodiversity","Proportion of Local Sites where positive conservation management is being achieved.","DEFRA",{"$nulls":4},"annual","Upper tier & single tier",null,null,"","",null,null,0,{"$nulls":28},"",null,"Biodiversity",null,null,160,1,null,1,8,204,1008204,172]
["C","082-00","WasteDataFlow - LA waste management statistics",null,"DEFRA",null,"Y","Y",null,"quarterly","All local authorities","A range of data on LA waste and recycling activity, from collection to disposal","A range of data on LA waste and recycling activity, from collection to disposal.","Collection","Data","WasteDataFlow Waste Management","Local authority collected waste management - annual results - GOV.UK (www.gov.uk)",null,"191, 192, 193","Y","Y","Y","Y","Y","Y","Y",{"$nulls":17},"County council, District council, Metropolitan district, Unitary authority, London borough, City of London, Isles of Scilly","aggregate/summary",null,1,null,"Waste","john.joseph@defra.gov.uk",null,82,0,null,0,8,205,8205,11]
["D","082-01","WasteDataFlow - LA waste management statistics","The tonnage and method of collection and disposal of waste.","DEFRA",null,"Y","Y",null,"quarterly","All local authorities",null,null,"","",null,null,0,{"$nulls":28},"",null,"Waste",null,null,82,1,null,1,8,206,1008206,173]
["C","083-00","Local Authority Private Water Supplies Data submission",null,"DEFRA",null,null,"Y","Y","annual","Single tier & lower tier","Information relating to private water supplies intended for human consumption","Private Water Supplies Regulations 2009 (England)","","Data",null,"http://dwi.defra.gov.uk/about/annual-report/index.htm",{"$nulls":3},"Y","Y","Y","Y","Y","Y",{"$nulls":17},"District council, Metropolitan district, Unitary authority, London borough, City of London, Isles of Scilly","case based","Excel",2,null,"Water","john.joseph@defra.gov.uk",null,83,0,null,0,8,207,8207,12]
["D","083-01","Local Authority Private Water Supplies Data submission","Details of private water supplies","DEFRA",null,null,"Y",null,"annual","Single tier & lower tier",null,null,"","",null,null,0,{"$nulls":28},"",null,"Water",null,null,83,1,null,1,8,208,1008208,174]
["D","083-02","Local Authority Private Water Supplies Data submission","Details of samples taken from private water supplies","DEFRA",null,null,"Y",null,"annual","Single tier & lower tier",null,null,"","",null,null,0,{"$nulls":28},"",null,"Water",null,null,83,2,null,1,8,209,1008209,175]
["C","256-00","Pollutant Release and Transfer Registers",null,"DEFRA",null,null,"Y",null,"annual","Single tier & lower tier","This report feeds into the UK's publication of pollution data in fulfilment of EU and UNECE obligations.","Returns due by 31st May in each year.","","Data",null,"http://prtr.defra.gov.uk/",{"$nulls":28},"online reporting platform",2,null,null,"john.joseph@defra.gov.uk",null,256,0,null,0,8,210,8210,13]
["D","256-01","Pollutant Release and Transfer Registers","Contact, location and industrial activity information","DEFRA",null,null,"Y",null,"annual","Single tier & lower tier",null,null,"",{"$nulls":34},"Pollution",null,null,256,1,null,1,8,211,1008211,176]
["D","256-02","Pollutant Release and Transfer Registers","Emissions data (to air, land and water) and off site waste transfer.","DEFRA",null,null,"Y",null,"annual","Single tier & lower tier",null,null,"",{"$nulls":37},256,2,null,1,8,212,1008212,177]
["C","257-00","Local Authorities statistical information on Smallholdings (County Farms)",null,"DEFRA",{"$nulls":3},"Y","annual","Upper tier & single tier","In accordance with Section 59 of the Agricultural Act 1970 for the puposes of preparing the annual statutory report to Parliament.",{"$nulls":34},4,null,null,"john.joseph@defra.gov.uk",null,257,0,null,0,8,213,8213,14]
["D","257-01","Local Authorities statistical information on Smallholdings (County Farms)","Numbers of small-holdings and their area","DEFRA",{"$nulls":3},"Y","annual","Upper tier & single tier",{"$nulls":40},257,1,null,1,8,214,1008214,178]
["D","257-02","Local Authorities statistical information on Smallholdings (County Farms)","Tenancy details; number of tenancies, tenancies granted/terminated, rent rolls","DEFRA",{"$nulls":3},"Y","annual","Upper tier & single tier",{"$nulls":40},257,2,null,1,8,215,1008215,179]
["D","257-03","Local Authorities statistical information on Smallholdings (County Farms)","Land acquired and disposed of","DEFRA",{"$nulls":3},"Y","annual","Upper tier & single tier",{"$nulls":40},257,3,null,1,8,216,1008216,180]
["D","257-04","Local Authorities statistical information on Smallholdings (County Farms)","Operational and non operational account details","DEFRA",{"$nulls":3},"Y","annual","Upper tier & single tier",{"$nulls":40},257,4,null,1,8,217,1008217,181]
["C","266-00","Animal activities licensing data return",null,"DEFRA",null,"N","N","Y","annual","All local authorities","The collection data will be used to evaluate the success of amendments to the exisitng regulations around the animal activities licensing scheme. ",{"$nulls":5},0,null,"Y","Y","Y","Y","Y","Y","Y",{"$nulls":17},"County council, District council, Metropolitan district, Unitary authority, London borough, City of London, Isles of Scilly",null,null,1,null,null,"john.joseph@defra.gov.uk",null,266,0,null,0,7,218,7218,4]
["D","266-01","Animal activities licensing data return","Animal activities licensing data return","DEFRA",{"$nulls":4},"annual","All local authorities",{"$nulls":40},266,1,null,1,7,219,1007219,149]
["C","243-00","Developments in flood risk areas",null,"DEFRA/EA",{"$nulls":3},"Y","annual","Single tier & lower tier","Number of developments in flood risk areas","Previously recorded as data topic 080-02",{"$f":"IF(OR($A221<>\"C\",P221=\"\"),\"\",HYPERLINK(P221,\"Collection\"))","v":""},{"$f":"IF(OR($A221<>\"C\",Q221=\"\"),\"\",HYPERLINK(Q221,\"Data\"))","v":""},{"$nulls":5},"Y","Y","Y","Y","Y","Y",{"$nulls":17},"District council, Metropolitan district, Unitary authority, London borough, City of London, Isles of Scilly","aggregate/summary",null,1,null,"Flooding","john.joseph@defra.gov.uk",null,243,0,null,0,32,220,32220,105]
["D","243-01","Developments in flood risk areas","Notification of planning decisions for developments on which the Environment Agency has objected on flood risk grounds","DEFRA/EA",{"$nulls":3},"Y","annual","Single tier & lower tier",null,null,"","",null,null,0,{"$nulls":28},"",null,"Flooding",null,null,243,1,null,1,32,221,1032221,432]
["C","245-00","Strategic Overview of Flood and Coastal Erosion risk",null,"DEFRA/EA",{"$nulls":4},"annual","Upper tier & single tier","Properties at risk of flooding, or where flood risk has been reduced or managed","To provide the EA with information to undertake their strategic overview of flood and coastal erosion risk, and requirements under the Flood and Water Management Act. ","","",null,null,"Y",null,"Y",null,"Y","Y","Y","Y","Y",{"$nulls":17},"County council, Metropolitan district, Unitary authority, London borough, City of London, Isles of Scilly","aggregate/summary",null,1,null,null,"john.joseph@defra.gov.uk",null,245,0,null,0,32,222,32222,106]
["D","245-02","Strategic Overview of Flood and Coastal Erosion risk","Number of properties where flood or coastal erosion risk has been reduced / managed   \n\n","DEFRA/EA",{"$nulls":4},"annual","Upper tier & single tier",null,null,"","",null,null,"Y",{"$nulls":28},"",null,0,null,null,245,2,null,1,32,223,1032223,433]
["C","246-00","Reporting on EU Flood Risk Regulations",null,"DEFRA/EA",null,null,"Y",null,"every 2 years","Upper tier & single tier","Reporting to provide the EA with the information to fulfill their coordination role for the EU Flood Risk Regulations","This collection is made up of three elements which are each reported on six year cycles but with 2 year gaps between them.   To provide the EA with the information to fulfill their coordination role for the EU Flood Risk Regulations. ","","",null,null,"Y",null,"Y",null,"Y","Y","Y","Y","Y",{"$nulls":17},"County council, Metropolitan district, Unitary authority, London borough, City of London, Isles of Scilly","aggregate/summary",null,3,null,null,"john.joseph@defra.gov.uk",null,246,0,null,0,32,224,32224,107]
["D","246-01","Reporting on EU Flood Risk Regulations","Preliminary Flood Risk Assessment (2011)","DEFRA/EA",null,null,"Y",null,"every 6 years","Upper tier & single tier",null,"\n\n","","",null,null,"Y",{"$nulls":28},"",null,0,null,null,246,1,null,1,32,225,1032225,434]
["D","246-02","Reporting on EU Flood Risk Regulations","Flood Risk and Hazard Maps for their “Flood Risk Areas” (2013)","DEFRA/EA",null,null,"Y",null,"every 6 years","Upper tier & single tier",null,null,"","",null,null,"Y",{"$nulls":28},"",null,0,null,null,246,2,null,1,32,226,1032226,435]
["D","246-03","Reporting on EU Flood Risk Regulations","Flood Risk Management Plans for their “Flood Risk Areas” (2015)","DEFRA/EA",null,null,"Y",null,"every 6 years","Upper tier & single tier",null,null,"","",null,null,"Y",{"$nulls":28},"",null,0,null,null,246,3,null,1,32,227,1032227,436]
["C","086-00","Child Death Review Panels (LSCB1)",null,"DHSC",null,"N",null,"Y","annual","Upper tier & single tier","Reviews of child deaths by CDR Partners (Local Authorities and Clinical Commissioning Groups)","Clinical Commissioning Groups and Local Authorities are jointly responsible for local arrangements to establish Child Death Overview Panels (CDOPs); Local Safeguarding Children Boards were abolished in October 2019.  CDOPs will upload information for the LSCB1 data set to the National Child Mortality Database, and the University of Bristol will publish LSCB1 data in the NCMD’s Annual Report. ","Collection","Data","https://www.gov.uk/guidance/child-death-review-data-collection-submitting-data","https://www.ncmd.info/2020/11/12/cdr-data-2019-20/",null,null,"Y",null,"Y","Y","Y","Y","Y",{"$nulls":17},"County council, Metropolitan district, Unitary authority, London borough, City of London, Isles of Scilly","aggregate/summary",null,1,null,null,"nita.kabaria@dhsc.gov.uk;     ncmd-programme@bristol.ac.uk ",null,86,0,null,0,12,228,12228,48]
["D","086-01","Child Death Review Panels (LSCB1)","Number of child deaths reviewed, and number assessed as having modifiable factors.","DHSC",null,"N",null,"Y","annual","Upper tier & single tier",null,null,"","",null,null,0,{"$nulls":28},"",null,0,null,null,86,1,null,1,12,229,1012229,286]
["C","087-00","Children in Need Census",null,"DfE",null,"Y",null,"Y","annual","Upper tier & single tier","Children who are referred to social services and children in need who receive a service from a social services department.","Currently subject to internal DfE review","Collection","Data","https://www.gov.uk/government/collections/statistics-children-in-need","https://explore-education-statistics.service.gov.uk/find-statistics/characteristics-of-children-in-need",null,"59, 60, 64, 65, 67, 68","Y",null,"Y","Y","Y","Y","Y",{"$nulls":17},"County council, Metropolitan district, Unitary authority, London borough, City of London, Isles of Scilly","client based",null,8,null,null,"Paul Hirst  Paul.HIRST@education.gov.uk",null,87,0,null,0,9,230,9230,15]
["D","087-01","Children in Need Census","Child identifiers","DfE",null,"Y",null,"Y","annual","Upper tier & single tier",null,null,"","",null,null,0,{"$nulls":28},"",null,0,null,null,87,1,null,1,9,231,1009231,182]
["D","087-02","Children in Need Census","Child characteristics","DfE",null,"Y",null,"Y","annual","Upper tier & single tier",null,null,"","",null,null,0,{"$nulls":28},"",null,0,null,null,87,2,null,1,9,232,1009232,183]
["D","087-03","Children in Need Census","Children In Need details","DfE",null,"Y",null,"Y","annual","Upper tier & single tier",null,null,"","",null,null,0,{"$nulls":28},"",null,0,null,null,87,3,null,1,9,233,1009233,184]
["D","087-04","Children in Need Census","Service provision","DfE",null,"Y",null,"Y","annual","Upper tier & single tier",null,null,"","",null,null,0,{"$nulls":28},"",null,0,null,null,87,4,null,1,9,234,1009234,185]
["D","087-05","Children in Need Census","Child Protection Plans","DfE",null,"Y",null,"Y","annual","Upper tier & single tier",null,null,"","",null,null,0,{"$nulls":28},"",null,0,null,null,87,5,null,1,9,235,1009235,186]
["D","087-06","Children in Need Census","Source of Referral  ","DfE",null,"Y",null,"Y","annual","Upper tier & single tier",null,null,"","",null,null,0,{"$nulls":30},0,null,null,87,6,null,1,9,236,1009236,187]
["D","087-07","Children in Need Census","Parental/Child Factors at assessment ","DfE",null,"Y",null,"Y","annual","Upper tier & single tier",null,null,"","",null,null,0,{"$nulls":30},0,null,null,87,7,null,1,9,237,1009237,188]
["D","087-08","Children in Need Census","Interaction with lead social worker","DfE",null,"Y",null,"Y","annual","Upper tier & single tier",null,null,"","",null,null,0,{"$nulls":30},0,null,null,87,8,null,1,9,238,1009238,189]
["C","088-00","Children Looked After (CLA) (SSDA903)",null,"DfE",null,"Y",null,"Y","annual","Upper tier & single tier","Individual-level information about children who are looked after by local authorities, including placement, legal status, adoption from care, and education achievements.","The aim of the SSDA903 is to collect, annually, information about children who are looked after by local authorities; and for those who have recently left care, information as to their whereabouts.\n\nFor children who were looked after during the year, the information relates to their placement, legal status, adoption from care (where appropriate), and education achievements (if applicable).  For those who have recently left care, the information required relates to their activity and accommodation up to age 21. \n\nThe purpose of the SSDA903 is to provide the Government with the necessary information to evaluate the outcome of policy initiatives, and to monitor objectives on looked after children, both during their time in care, and on reaching adulthood.\n\n","Collection","Data","Children looked after return 2https://www.gov.uk/government/publications/children-looked-after-return-2022-to-2023-guide022 to 2023: guide - GOV.UK (www.gov.uk)","https://www.gov.uk/childcare-parenting/data-collection-for-looked-after-childrenChildren looked after in England including adoptions, Reporting Year 2022 – Explore education statistics – GOV.UK (explore-education-statistics.service.gov.uk)",null,"58, 61-63, 66, 99-101, 147, 148","Y",null,"Y","Y","Y","Y","Y",{"$nulls":17},"County council, Metropolitan district, Unitary authority, London borough, City of London, Isles of Scilly","client based","XML",8,null,null,"Paul Hirst  Paul.HIRST@education.gov.uk",null,88,0,null,0,9,239,9239,16]
["D","088-01","Children Looked After (CLA) (SSDA903)","Child’s personal details","DfE",null,"Y",null,"Y","annual","Upper tier & single tier",null,null,"","",null,null,0,{"$nulls":28},"",null,0,null,null,88,1,null,1,9,240,1009240,190]
["D","088-02","Children Looked After (CLA) (SSDA903)","Episode of care data items","DfE",null,"Y",null,"Y","annual","Upper tier & single tier",null,null,"","",null,null,0,{"$nulls":28},"",null,0,null,null,88,2,null,1,9,241,1009241,191]
["D","088-03","Children Looked After (CLA) (SSDA903)","Unaccompanied Asylum Seeking Child (UASC) data items","DfE",null,"Y",null,"Y","annual","Upper tier & single tier",null,null,"","",null,null,0,{"$nulls":28},"",null,0,null,null,88,3,null,1,9,242,1009242,192]
["D","088-04","Children Looked After (CLA) (SSDA903)","Data items relating to adoption","DfE",null,"Y",null,"Y","annual","Upper tier & single tier",null,null,"","",null,null,0,{"$nulls":28},"",null,0,null,null,88,4,null,1,9,243,1009243,193]
["D","088-05","Children Looked After (CLA) (SSDA903)","Care Leavers Education details","DfE",null,"Y",null,"Y","annual","Upper tier & single tier",null,null,"","",null,null,0,{"$nulls":28},"",null,0,null,null,88,5,null,1,9,244,1009244,194]
["D","088-06","Children Looked After (CLA) (SSDA903)","Looked after and ceased children details","DfE",null,"Y",null,"Y","annual","Upper tier & single tier",null,null,"","",null,null,0,{"$nulls":28},"",null,0,null,null,88,6,null,1,9,245,1009245,195]
["D","088-07","Children Looked After (CLA) (SSDA903)","Outcome Indicators (OC2) information","DfE",null,"Y",null,"Y","annual","Upper tier & single tier",null,null,"","",null,null,0,{"$nulls":28},"",null,0,null,null,88,7,null,1,9,246,1009246,196]
["D","088-08","Children Looked After (CLA) (SSDA903)","Strength and Difficulties questionnaire (SDQ) information","DfE",null,"Y",null,"Y","annual","Upper tier & single tier",null,null,"","",null,null,0,{"$nulls":28},"",null,0,null,null,88,8,null,1,9,247,1009247,197]
["C","091-00","Children's Social Care Work Workforce",null,"DfE",null,"N",null,null,"annual","Upper tier & single tier","Individual-level information about child and family social workers and agency social workers employed by local authorities, including personal details of social workers, role within the organisation, start and leaving dates and days missed due to sickness absence.\n\nAggregate information on child and family social worker vacancies held by local authorities.","Includes some voluntary data items for both local authority employed social workers and agency social workers. ","Collection","Data","https://www.gov.uk/guidance/children-looked-after-return-guide-to-submitting-data","https://www.gov.uk/government/collections/statistics-childrens-social-care-workforce",null,null,"Y",null,"Y","Y","Y","Y","Y",{"$nulls":17},"County council, Metropolitan district, Unitary authority, London borough, City of London, Isles of Scilly","n/k",null,2,null,0,"Paul Hirst  Paul.HIRST@education.gov.uk",null,91,0,null,0,9,248,9248,17]
["D","091-01","Children's Social Care Work Workforce","Local authority vacancies","DfE",null,"N",null,null,"annual","Upper tier & single tier",null,null,"","",null,null,0,{"$nulls":28},"",null,0,null,null,91,1,null,1,9,249,1009249,198]
["D","091-02","Children's Social Care Work Workforce","Individual workforce data","DfE",null,"N",null,null,"annual","Upper tier & single tier",{"$nulls":6},0,{"$nulls":33},91,2]
["C","092-00","Secure Children's Homes (SA1)",null,"DfE",null,"Y",null,"Y","annual","Upper tier & single tier","Information on places and children accommodated in secure children's homes.",null,"Collection","Data","https://www.gov.uk/government/collections/statistics-secure-children-s-homes","https://www.gov.https://www.gov.uk/government/statistics/children-accommodated-in-secure-childrens-homes-27-may-2021uk/government/statistics/children-accommodated-in-secure-childrens-homes-27-may-2021",null,null,"Y",null,"Y","Y","Y","Y","Y",{"$nulls":17},"County council, Metropolitan district, Unitary authority, London borough, City of London, Isles of Scilly","aggregate/summary",null,2,null,null,"Paul Hirst  Paul.HIRST@education.gov.uk",null,92,0,null,0,9,251,9251,18]
["D","092-01","Secure Children's Homes (SA1)","Number of places in secure children's homes","DfE",null,"Y",null,"Y","annual","Upper tier & single tier",null,null,"","",null,null,0,{"$nulls":28},"",null,0,null,null,92,1,null,1,9,252,1009252,199]
["D","092-02","Secure Children's Homes (SA1)","Number and characteristics of children accommodated","DfE",null,"Y",null,"Y","annual","Upper tier & single tier",null,null,{"$f":"IF(OR($A254<>\"C\",P254=\"\"),\"\",HYPERLINK(P254,\"Collection\"))","v":""},{"$f":"IF(OR($A254<>\"C\",Q254=\"\"),\"\",HYPERLINK(Q254,\"Data\"))","v":""},null,null,0,{"$nulls":28},"",null,0,null,null,92,2,null,1,9,253,1009253,200]
["C","096-00","Early Years Census",null,"DfE",null,"Y",null,"Y","annual","Upper tier & single tier","Children attending funded Private, Voluntary and Independent Early Years Providers in England; and Early Years settings with children in receipt of funded places",null,"Collection","","https://www.gov.uk/government/collections/early-years-census",{"$nulls":3},"Y",null,"Y","Y","Y","Y","Y",{"$nulls":17},"County council, Metropolitan district, Unitary authority, London borough, City of London, Isles of Scilly","client based",null,10,null,null,"Paul Hirst  Paul.HIRST@education.gov.uk",null,96,0,null,0,9,254,9254,19]
["D","096-01","Early Years Census","Child/pupil level: Pupil identifiers","DfE",null,"Y",null,"Y","annual","Upper tier & single tier",null,null,"","",null,null,0,{"$nulls":28},"",null,0,null,null,96,1,null,1,9,255,1009255,201]
["D","096-02","Early Years Census","Child/pupil level: Pupil characteristics","DfE",null,"Y",null,"Y","annual","Upper tier & single tier",null,null,"","",null,null,0,{"$nulls":28},"",null,0,null,null,96,2,null,1,9,256,1009256,202]
["D","096-03","Early Years Census","Child/pupil level: Funded hours","DfE",null,"Y",null,"Y","annual","Upper tier & single tier",null,null,"","",null,null,0,{"$nulls":28},"",null,0,null,null,96,3,null,1,9,257,1009257,203]
["D","096-04","Early Years Census","Child/pupil level: SEN provision","DfE",null,"Y",null,"Y","annual","Upper tier & single tier",null,null,"","",null,null,0,{"$nulls":28},"",null,0,null,null,96,4,null,1,9,258,1009258,204]
["D","096-05","Early Years Census","Child/pupil level: Home information","DfE",null,"Y",null,"Y","annual","Upper tier & single tier",null,null,"","",null,null,0,{"$nulls":28},"",null,0,null,null,96,5,null,1,9,259,1009259,205]
["D","096-06","Early Years Census","Establishment level: Establishment identifiers","DfE",null,"Y",null,"Y","annual","Upper tier & single tier",null,null,"","",null,null,0,{"$nulls":28},"",null,0,null,null,96,6,null,1,9,260,1009260,206]
["D","096-07","Early Years Census","Establishment level: Establishment characteristics","DfE",null,"Y",null,"Y","annual","Upper tier & single tier",null,null,"","",null,null,0,{"$nulls":28},"",null,0,null,null,96,7,null,1,9,261,1009261,207]
["D","096-08","Early Years Census","Establishment level: Information on teaching staff","DfE",null,"Y",null,"Y","annual","Upper tier & single tier",null,null,"","",null,null,0,{"$nulls":28},"",null,0,null,null,96,8,null,1,9,262,1009262,208]
["D","096-09","Early Years Census","Establishment level: Number of children","DfE",null,"Y",null,"Y","annual","Upper tier & single tier",null,null,"","",null,null,0,{"$nulls":28},"",null,0,null,null,96,9,null,1,9,263,1009263,209]
["D","096-10","Early Years Census","Early Years Census data for 2 year-olds","DfE",null,"Y",null,"Y","annual","Upper tier & single tier",null,null,"","",null,null,0,{"$nulls":28},"",null,0,null,null,96,10,null,1,9,264,1009264,210]
["C","098-00","Early Years Foundation Stage Profile (EYFSP)",null,"DfE",null,"Y",null,"Y","annual","Upper tier & single tier","Pupil level EYFSP scores",null,"Collection","Data","Early years foundation sthttps://www.gov.uk/guidance/early-years-foundation-stage-profile-return-how-to-submit-dataage profile return: how to submit data - GOV.UK (www.gov.uk)","https://www.gov.uk/government/publications/early-years-foundation-stage-profile-return-2022-guide",null,"72, 92","Y",null,"Y","Y","Y","Y","Y",{"$nulls":17},"County council, Metropolitan district, Unitary authority, London borough, City of London, Isles of Scilly","client based","Excel",2,null,null,"Paul Hirst  Paul.HIRST@education.gov.uk",null,98,0,null,0,9,265,9265,20]
["D","098-01","Early Years Foundation Stage Profile (EYFSP)","Pupil identifiers","DfE",null,"Y",null,"Y","annual","Upper tier & single tier",null,null,"","",null,null,0,{"$nulls":28},"",null,0,null,null,98,1,null,1,9,266,1009266,211]
["D","098-02","Early Years Foundation Stage Profile (EYFSP)","EYFSP assessment scale scores","DfE",null,"Y",null,"Y","annual","Upper tier & single tier",null,null,"","",null,null,0,{"$nulls":28},"",null,0,null,null,98,2,null,1,9,267,1009267,212]
["C","100-00","Admissions: Parental Preferences met",null,"DfE",{"$nulls":3},"Y","annual","Upper tier & single tier","Information on primary and secondary school applications made, preferences expressed and  applicants offered a place at a preferred school","Applicant level information will permit matching to other individual-level information.","Collection","Data","https://www.gov.uk/government/collections/school-preference-data-collections","https://www.gov.uk/government/collections/statistics-school-applications",null,null,"Y",null,"Y","Y","Y","Y","Y",{"$nulls":17},"County council, Metropolitan district, Unitary authority, London borough, City of London, Isles of Scilly","client based",null,3,null,null,"Paul Hirst  Paul.HIRST@education.gov.uk",null,100,0,null,0,9,268,9268,21]
["D","100-01","Admissions: Parental Preferences met","LA level information on number of secondary school applications, preferences and offers of places at a preferred school.\n","DfE",{"$nulls":3},"Y","annual","Upper tier & single tier",null,null,"","",null,null,0,{"$nulls":28},"",null,0,null,null,100,1,null,1,9,269,1009269,213]
["D","100-02","Admissions: Parental Preferences met","Detailed information about secondary school applications and offers made -  including applicant level data on institutions preferred by each applicant.","DfE",{"$nulls":4},"annual","Upper tier & single tier",null,null,"","",null,null,0,{"$nulls":28},"",null,0,null,null,100,2,null,1,9,270,1009270,214]
["D","100-03","Admissions: Parental Preferences met","Detailed information about primary school applications and offers made, including applicant level data on institutions preferred by each applicant.\n","DfE",{"$nulls":4},"annual","Upper tier & single tier",null,null,"","",null,null,0,{"$nulls":28},"",null,0,null,null,100,3,null,1,9,271,1009271,215]
["C","101-00","Admissions: report to the School Adjudicator",null,"DfE",{"$nulls":3},"Y","annual","Upper tier & single tier",null,null,"","Data",null,"https://www.gov.uk/government/publications/osa-annual-report",null,null,"Y",null,"Y","Y","Y","Y","Y",{"$nulls":17},"County council, Metropolitan district, Unitary authority, London borough, City of London, Isles of Scilly","aggregate/summary",null,1,null,null,"Paul Hirst  Paul.HIRST@education.gov.uk",null,101,0,null,0,9,272,9272,22]
["D","101-01","Admissions: report to the School Adjudicator","Local workings of school access and admission arrangements","DfE",{"$nulls":3},"Y","annual","Upper tier & single tier",null,null,"","",null,null,0,{"$nulls":28},"",null,0,null,null,101,1,null,1,9,273,1009273,216]
["C","161-00","Key Stage assessment data",null,"DfE",null,"Y",null,"Y","annual","Upper tier & single tier","National Curriculum assessments and tests",null,"Collection","Data","https://www.gov.uk/guidance/key-stage-1-assessments","https://explore-education-statistics.service.gov.uk/find-statistics/key-stage-1-and-phonics-screening-check-attainment",null,"73, 75, 76, 78-82, 84, 93, 94, 102, 104, 105, 107, 108","Y",null,"Y","Y","Y","Y","Y",{"$nulls":17},"County council, Metropolitan district, Unitary authority, London borough, City of London, Isles of Scilly","client based",null,2,null,null,"Paul Hirst  Paul.HIRST@education.gov.uk",null,161,0,null,0,9,274,9274,23]
["D","161-01","Key Stage assessment data","Information on National Curriculum assessments and qualifications taken by students (e.g. GCSEs or GCE A Levels)","DfE",null,"Y",null,null,"annual","Upper tier & single tier",null,null,"","",null,null,0,{"$nulls":28},"",null,0,null,null,161,1,null,1,9,275,1009275,217]
["D","161-02","Key Stage assessment data","Year 1 - Phonics collection begins in 2012","DfE",null,"Y",null,null,"annual","Upper tier & single tier",null,null,"","",null,null,0,{"$nulls":28},"",null,0,null,null,161,2,null,1,9,276,1009276,218]
["C","159-00","School Census",null,"DfE",null,"Y","Y","Y","termly (3/year)","Upper tier & single tier","School- and pupil-level information for nursery, primary, middle, secondary and special schools.","The School Census is collected from schools but involves LAs in cleaning of data, sorting out duplicate pupil issues between schools, and general cross-LA liaison and school support","Collection","Data","https://www.gov.uk/government/collections/school-census \n","https://www.gov.uk/government/collections/statistics-school-and-pupil-numbers",null,"79-82, 84, 87, 91, 105, 107, 108, 114","Y",null,"Y","Y","Y","Y","Y",{"$nulls":17},"County council, Metropolitan district, Unitary authority, London borough, City of London, Isles of Scilly","client based",null,14,null,null,"Paul Hirst  Paul.HIRST@education.gov.uk",null,159,0,null,0,9,277,9277,24]
["D","159-01","School Census","School Level: Characteristics","DfE",{"$nulls":4},"termly (3/year)","Upper tier & single tier",null,null,"","",null,null,0,{"$nulls":28},"",null,0,null,null,159,1,null,1,9,278,1009278,219]
["D","159-02","School Census","School Level: Location","DfE",{"$nulls":4},"annual","Upper tier & single tier",{"$nulls":40},159,2,null,1,9,279,1009279,220]
["D","159-03","School Census","School Level: Admissions Appeals","DfE",{"$nulls":4},"annual","Upper tier & single tier",{"$nulls":40},159,3,null,1,9,280,1009280,221]
["D","159-04","School Census","School Level: Reconciliation","DfE",{"$nulls":4},"annual","Upper tier & single tier",{"$nulls":40},159,4,null,1,9,281,1009281,222]
["D","159-05","School Census","School Level: Class Information","DfE",{"$nulls":4},"annual","Upper tier & single tier",{"$nulls":40},159,5,null,1,9,282,1009282,223]
["D","159-06","School Census","School Level: Miscellaneous","DfE",{"$nulls":4},"annual","Upper tier & single tier",{"$nulls":40},159,6,null,1,9,283,1009283,224]
["D","159-07","School Census","Pupil Level: Identifiers ","DfE",{"$nulls":4},"termly (3/year)","Upper tier & single tier",{"$nulls":40},159,7,null,1,9,284,1009284,225]
["D","159-08","School Census","Pupil Level: Characteristics","DfE",{"$nulls":4},"termly (3/year)","Upper tier & single tier",{"$nulls":40},159,8,null,1,9,285,1009285,226]
["D","159-09","School Census","Pupil Level: Status","DfE",{"$nulls":4},"termly (3/year)","Upper tier & single tier",{"$nulls":40},159,9,null,1,9,286,1009286,227]
["D","159-10","School Census","Pupil Level: SEN","DfE",{"$nulls":4},"termly (3/year)","Upper tier & single tier",{"$nulls":40},159,10,null,1,9,287,1009287,228]
["D","159-11","School Census","Pupil Level: Exclusions","DfE",{"$nulls":4},"termly (3/year)","Upper tier & single tier",{"$nulls":40},159,11,null,1,9,288,1009288,229]
["D","159-12","School Census","Pupil Level: Home Information","DfE",{"$nulls":4},"termly (3/year)","Upper tier & single tier",{"$nulls":40},159,12,null,1,9,289,1009289,230]
["D","159-13","School Census","Pupil Level: Attendance","DfE",{"$nulls":4},"termly (3/year)","Upper tier & single tier",{"$nulls":40},159,13,null,1,9,290,1009290,231]
["D","159-14","School Census","Learning Aims ","DfE",{"$nulls":4},"annual","Upper tier & single tier",null,null,{"$f":"IF(OR($A292<>\"C\",P292=\"\"),\"\",HYPERLINK(P292,\"Collection\"))","v":""},{"$f":"IF(OR($A292<>\"C\",Q292=\"\"),\"\",HYPERLINK(Q292,\"Data\"))","v":""},null,null,0,{"$nulls":28},"",null,0,null,null,159,14,null,1,9,291,1009291,232]
["C","102-00","Alternative Provision Census",null,"DfE",null,"Y",null,"Y","annual","Upper tier & single tier","The AP Census collects individual items of data about pupils who attend Alternative Provision education.",null,"Collection","Data","https://www.gov.uk/guidance/alternative-provision-ap-census","https://www.gov.uk/government/collections/statistics-school-and-pupil-numbers",null,null,"Y",null,"Y","Y","Y","Y","Y",{"$nulls":17},"County council, Metropolitan district, Unitary authority, London borough, City of London, Isles of Scilly","client based",null,5,null,null,"Paul Hirst  Paul.HIRST@education.gov.uk",null,102,0,null,0,9,292,9292,25]
["D","102-01","Alternative Provision Census","Pupil identifiers","DfE",null,"Y",null,"Y","annual","Upper tier & single tier",null,null,"","",null,null,0,{"$nulls":28},"",null,0,null,null,102,1,null,1,9,293,1009293,233]
["D","102-02","Alternative Provision Census","Pupil characteristics","DfE",null,"Y",null,"Y","annual","Upper tier & single tier",null,null,"","",null,null,0,{"$nulls":28},"",null,0,null,null,102,2,null,1,9,294,1009294,234]
["D","102-03","Alternative Provision Census","Type of alternative provision","DfE",null,"Y",null,"Y","annual","Upper tier & single tier",null,null,"","",null,null,0,{"$nulls":28},"",null,0,null,null,102,3,null,1,9,295,1009295,235]
["D","102-04","Alternative Provision Census","SEN provision","DfE",null,"Y",null,"Y","annual","Upper tier & single tier",null,null,"","",null,null,0,{"$nulls":28},"",null,0,null,null,102,4,null,1,9,296,1009296,236]
["D","102-05","Alternative Provision Census","Home information","DfE",null,"Y",null,"Y","annual","Upper tier & single tier",null,null,"","",null,null,0,{"$nulls":28},"",null,0,null,null,102,5,null,1,9,297,1009297,237]
["C","104-00","Parental Responsibility Measures – Attendance ",null,"DfE",null,"N",null,"Y","annual","Upper tier & single tier","LAs' use of parenting contracts, parenting orders and penalty notices can  result in court action so it is important that they maintain accurate data and records.  ",null,"Collection","Data","https://www.gov.uk/parental-responsibility-measures-attendance-census","https://explore-education-statistics.service.gov.uk/find-statistics/parental-responsibility-measures/2020-21",null,null,"Y",null,"Y","Y","Y","Y","Y",{"$nulls":17},"County council, Metropolitan district, Unitary authority, London borough, City of London, Isles of Scilly","aggregate/summary",null,1,null,null,"Paul Hirst  Paul.HIRST@education.gov.uk",null,104,0,null,0,9,298,9298,26]
["D","104-01","Parental Responsibility Measures – Attendance ","Measures to encourage parents to take responsibility for their children’s poor attendance","DfE",null,"N",null,"Y","annual","Upper tier & single tier",null,null,"","",null,null,0,{"$nulls":28},"",null,0,null,null,104,1,null,1,9,299,1009299,238]
["C","107-00","School Admissions Appeals ",null,"DfE",null,"Y",null,"Y","annual","Upper tier & single tier","The survey collects information about appeals lodged by parents before 1 September, against the non-admission of their children to their preferred school.",null,"Collection","Data","https://www.gov.uk/appeals-against-admissions-survey","https://www.gov.uk/government/collections/statistics-admission-appeals",null,null,"Y",null,"Y","Y","Y","Y","Y",{"$nulls":17},"County council, Metropolitan district, Unitary authority, London borough, City of London, Isles of Scilly","aggregate/summary",null,1,null,null,"Paul Hirst  Paul.HIRST@education.gov.uk",null,107,0,null,0,9,300,9300,27]
["D","107-01","School Admissions Appeals ","Number, and result, of appeals about school admissions","DfE",null,"Y",null,"Y","annual","Upper tier & single tier",null,null,{"$f":"IF(OR($A302<>\"C\",P302=\"\"),\"\",HYPERLINK(P302,\"Collection\"))","v":""},"",null,null,0,{"$nulls":28},"",null,0,null,null,107,1,null,1,9,301,1009301,239]
["C","108-00","School Capacity",null,"DfE",null,"Y",null,"Y","annual","Upper tier & single tier","Returns used to identify shortage school places/surplus and are used in Capital allocations",null,"Collection","Data","https://www.gov.uk/guidance/school-capacity-survey-guide-for-local-authorities","https://www.gov.uk/government/collections/statistics-school-capacity",null,null,"Y",null,"Y","Y","Y","Y","Y",{"$nulls":17},"County council, Metropolitan district, Unitary authority, London borough, City of London, Isles of Scilly","client based",null,1,null,null,"Paul Hirst  Paul.HIRST@education.gsi.gov.uk",null,108,0,null,0,9,302,9302,28]
["D","108-01","School Capacity","school level capacity data and LA pupil forecasts.","DfE",null,"Y",null,"Y","annual","Upper tier & single tier",null,null,"","",null,null,0,{"$nulls":28},"",null,0,null,null,108,1,null,1,9,303,1009303,240]
["C","216-00","School Condition",null,"DfE",null,"Y",null,"Y","continuous","Upper tier & single tier","To survey all schools in a regular programme on the condition of their estate to provide a robust basis for local prioritisation of maintenance allocations.",null,"Collection","Data","https://www.gov.uk/guidance/school-capital-funding","https://explore-education-statistics.service.gov.uk/find-statistics/school-funding-statistics",null,null,"Y",null,"Y","Y","Y","Y","Y",{"$nulls":17},"County council, Metropolitan district, Unitary authority, London borough, City of London, Isles of Scilly","aggregate/summary",null,1,null,null,"Paul Hirst  Paul.HIRST@education.gov.uk",null,216,0,null,0,9,304,9304,29]
["D","216-01","School Condition","Condition of school estate","DfE",null,"Y",null,"Y","continuous","Upper tier & single tier",null,null,"","",null,null,0,{"$nulls":28},"",null,0,null,null,216,1,null,1,9,305,1009305,241]
["C","109-00","School Exclusion Appeals ",null,"DfE",null,"Y",null,"Y","annual","Upper tier & single tier","The collection records the number and outcomes of all exclusion reviews that parents or guardians lodge (ask for) and an independent review panel determines (decides) in schools and alternative provision settings in your local authority during the academic year.",null,"Collection","Data","https://www.gov.uk/guidance/schools-exclusion-reviews-survey","https://www.gov.uk/government/collections/statistics-exclusions",null,null,"Y",null,"Y","Y","Y","Y","Y",{"$nulls":17},"County council, Metropolitan district, Unitary authority, London borough, City of London, Isles of Scilly","aggregate/summary",null,1,null,null,"Paul Hirst  Paul.HIRST@education.gov.uk",null,109,0,null,0,9,306,9306,30]
["D","109-01","School Exclusion Appeals ","Number, and result, of appeals against school exclusions","DfE",null,"Y",null,"Y","annual","Upper tier & single tier",null,null,"","",null,null,0,{"$nulls":28},"",null,0,null,null,109,1,null,1,9,307,1009307,242]
["C","111-00","School Workforce Reviews",null,"DfE",null,"Y",null,"Y","annual","Upper tier & single tier","Individual level data on teachers & support staff; school - level information on staff & vacancies; LA level headcount of Educational Psychologists","Individual level data on teachers and support staff from local authorities, local authority-maintained schools and academies. School - level information on teacher vacancies and other staff information. LA level headcount of Educational Psychologists","Collection","Data","https://www.gov.uk/guidance/school-workforce-census","www.gov.uk/government/collections/statistics-school-workforce",null,null,"Y",null,"Y","Y","Y","Y","Y",{"$nulls":17},"County council, Metropolitan district, Unitary authority, London borough, City of London, Isles of Scilly","client based",null,8,null,null,"Paul Hirst  Paul.HIRST@education.gov.uk",null,111,0,null,0,9,308,9308,31]
["D","111-01","School Workforce Reviews","School level: Vacancies","DfE",null,"Y",null,"Y","annual","Upper tier & single tier",null,null,"","",null,null,0,{"$nulls":28},"",null,0,null,null,111,1,null,1,9,309,1009309,243]
["D","111-02","School Workforce Reviews","School level: Staff information","DfE",null,"Y",null,"Y","annual","Upper tier & single tier",null,null,"","",null,null,0,{"$nulls":28},"",null,0,null,null,111,2,null,1,9,310,1009310,244]
["D","111-03","School Workforce Reviews","Workforce level: Staff identifiers and characteristics","DfE",null,"Y",null,"Y","annual","Upper tier & single tier",null,null,"","",null,null,0,{"$nulls":28},"",null,0,null,null,111,3,null,1,9,311,1009311,245]
["D","111-04","School Workforce Reviews","Workforce level: Contract/Service Agreement","DfE",null,"Y",null,"Y","annual","Upper tier & single tier",null,null,"","",null,null,0,{"$nulls":28},"",null,0,null,null,111,4,null,1,9,312,1009312,246]
["D","111-05","School Workforce Reviews","Workforce level: Absence","DfE",null,"Y",null,"Y","annual","Upper tier & single tier",null,null,"","",null,null,0,{"$nulls":28},"",null,0,null,null,111,5,null,1,9,313,1009313,247]
["D","111-06","School Workforce Reviews","Workforce level: Curriculum","DfE",null,"Y",null,"Y","annual","Upper tier & single tier",null,null,"","",null,null,0,{"$nulls":28},"",null,0,null,null,111,6,null,1,9,314,1009314,248]
["D","111-07","School Workforce Reviews","Workforce level: Qualification","DfE",null,"Y",null,"Y","annual","Upper tier & single tier",null,null,"","",null,null,0,{"$nulls":28},"",null,0,null,null,111,7,null,1,9,315,1009315,249]
["D","111-08","School Workforce Reviews","LA - level: Educational Psychologists","DfE",null,"Y",null,"Y","annual","Upper tier & single tier",null,null,"","",null,null,0,{"$nulls":28},"",null,0,null,null,111,8,null,1,9,316,1009316,250]
["C","113-00","Section 251 financial return",null,"DfE",null,"N",null,"Y","annual","Upper tier & single tier","Local authority school funding plans (budget statements and outturn).",null,"Collection","","https://www.gov.uk/government/collections/section-251-materials",{"$nulls":3},"Y",null,"Y","Y","Y","Y","Y",{"$nulls":17},"County council, Metropolitan district, Unitary authority, London borough, City of London, Isles of Scilly","aggregate/summary",null,5,null,null,"Paul Hirst  Paul.HIRST@education.gov.uk",null,113,0,null,0,9,317,9317,32]
["D","113-01","Section 251 financial return","LA's planned spending on educational and children's social care provision","DfE",null,"N",null,"Y","annual","Upper tier & single tier",null,null,"","",null,null,0,{"$nulls":28},"",null,0,null,null,113,1,null,1,9,318,1009318,251]
["D","113-02","Section 251 financial return","Summary of main formula funding elements and budget share per pupil or place share","DfE",null,"N",null,"Y","annual","Upper tier & single tier",null,null,"","",null,null,0,{"$nulls":28},"",null,0,null,null,113,2,null,1,9,319,1009319,252]
["D","113-03","Section 251 financial return","How LA formula is applied","DfE",null,"N",null,"Y","annual","Upper tier & single tier",null,null,"","",null,null,0,{"$nulls":28},"",null,0,null,null,113,3,null,1,9,320,1009320,253]
["D","113-04","Section 251 financial return","Detail of every formula factor","DfE",null,"N",null,"Y","annual","Upper tier & single tier",null,null,"","",null,null,0,{"$nulls":28},"",null,0,null,null,113,4,null,1,9,321,1009321,254]
["D","113-05","Section 251 financial return","LA's actual spending on educational and children's social care provision","DfE",null,"N",null,"Y","annual","Upper tier & single tier",null,null,"","",null,null,0,{"$nulls":28},"",null,0,null,null,113,5,null,1,9,322,1009322,255]
["C","117-00","Teacher Pension Contributions",null,"DfE",null,"Y",null,"Y","annual","Upper tier & single tier",null,null,"","",{"$nulls":4},"Y",null,"Y","Y","Y","Y","Y",{"$nulls":17},"County council, Metropolitan district, Unitary authority, London borough, City of London, Isles of Scilly","aggregate/summary",null,1,null,null,"Paul Hirst  Paul.HIRST@education.gov.uk",null,117,0,null,0,9,323,9323,33]
["D","117-01","Teacher Pension Contributions","Audits the contributions provided to the Teachers’ Pension Scheme","DfE",null,"Y",null,"Y","annual","Upper tier & single tier",null,null,"","",null,null,0,{"$nulls":28},"",null,0,null,null,117,1,null,1,9,324,1009324,256]
["C","118-00","Teacher Pension Service",null,"DfE",null,"Y",null,"Y","annual","Upper tier & single tier",null,null,"","",{"$nulls":4},"Y",null,"Y","Y","Y","Y","Y",{"$nulls":17},"County council, Metropolitan district, Unitary authority, London borough, City of London, Isles of Scilly","aggregate/summary",null,1,null,null,"Paul Hirst  Paul.HIRST@education.gov.uk",null,118,0,null,0,9,325,9325,34]
["D","118-01","Teacher Pension Service","Information on contributing members to the Teachers' Pension Scheme","DfE",null,"Y",null,"Y","annual","Upper tier & single tier",null,null,"","",null,null,0,{"$nulls":28},"",null,0,null,null,118,1,null,1,9,326,1009326,257]
["C","119-00","Young people aged 16-19 (and up to 25 with SEND)",null,"DfE",null,"Y",null,null,"monthly","Upper tier & single tier","Participation of young people in education employment or training","Collected via monthly CCIS returns","Collection","Data","https://www.gov.uk/government/collections/statistics-neet","https://www.gov.uk/government/publications/neet-and-participation-local-authority-figures",null,117,"Y",null,"Y","Y","Y","Y","Y",{"$nulls":17},"County council, Metropolitan district, Unitary authority, London borough, City of London, Isles of Scilly","aggregate/summary",null,1,null,null,"Paul Hirst  Paul.HIRST@education.gov.uk",null,119,0,null,0,9,327,9327,35]
["D","119-01","Young people aged 16-19 (and up to 25 with SEND)","Intended and actual destinations of young people on leaving school; numbers with an offer of a place in learning; current activity of young people resident in the LA area","DfE",null,"Y",null,null,"monthly","Upper tier & single tier",null,null,{"$f":"IF(OR($A329<>\"C\",P329=\"\"),\"\",HYPERLINK(P329,\"Collection\"))","v":""},"",null,null,0,{"$nulls":28},"",null,0,null,null,119,1,null,1,9,328,1009328,258]
["C","120-00","Chief Finance Officer Sign-Off Statements",null,"DfE",null,"N",null,"Y","annual","Upper tier & single tier",null,null,{"$f":"IF(OR($A330<>\"C\",P330=\"\"),\"\",HYPERLINK(P330,\"Collection\"))","v":"Collection"},"","https://www.gov.uk/guidance/dedicated-schools-grant-assurance-guidance-for-local-authorities",{"$nulls":3},"Y",null,"Y","Y","Y","Y","Y",{"$nulls":17},"County council, Metropolitan district, Unitary authority, London borough, City of London, Isles of Scilly","aggregate/summary",null,1,null,null,"Paul Hirst  Paul.HIRST@education.gov.uk",null,120,0,null,0,9,329,9329,36]
["D","120-01","Chief Finance Officer Sign-Off Statements","Sign-off certificates forming an integral part of the Department’s financial assurance framework for the distribution of the Dedicated Schools Grant, Local Delivery Support Grant and Diploma Formula Grant","DfE",null,"N",null,"Y","annual","Upper tier & single tier",null,null,{"$f":"IF(OR($A331<>\"C\",P331=\"\"),\"\",HYPERLINK(P331,\"Collection\"))","v":""},"",null,null,0,{"$nulls":28},"",null,0,null,null,120,1,null,1,9,330,1009330,259]
["C","171-00","Consistent Financial Reporting (CFR)",null,"DfE",null,"N",null,"Y","annual","Upper tier & single tier","CFR standardises and streamlines the reporting of school finances of all maintained schools in England and provides income and expenditure data across a wide range of categories.",null,{"$f":"IF(OR($A332<>\"C\",P332=\"\"),\"\",HYPERLINK(P332,\"Collection\"))","v":"Collection"},"Data","Consistehttps://www.gov.uk/guidance/consistent-financial-reporting-framework-cfr",{"$nulls":3},"Y",null,"Y","Y","Y","Y","Y",{"$nulls":17},"County council, Metropolitan district, Unitary authority, London borough, City of London, Isles of Scilly","client based",null,1,null,null,"Paul Hirst  Paul.HIRST@education.gov.uk",null,171,0,null,0,9,331,9331,37]
["D","171-01","Consistent Financial Reporting (CFR)","Standardised reporting of school finances of maintained schools in England","DfE",null,"N",null,"Y","annual","Upper tier & single tier",null,null,{"$f":"IF(OR($A333<>\"C\",P333=\"\"),\"\",HYPERLINK(P333,\"Collection\"))","v":""},{"$f":"IF(OR($A333<>\"C\",Q333=\"\"),\"\",HYPERLINK(Q333,\"Data\"))","v":""},null,null,0,{"$nulls":28},"",null,0,null,null,171,1,null,1,9,332,1009332,260]
["C","189-00","Children with Statements of Special Educational Needs (SEN2)",null,"DfE",null,"Y",null,"Y","annual","Upper tier & single tier","Monitors spending on pupils with SEN statements",null,"Collection","Data","https://www.gov.uk/schools-colleges-childrens-services/special-educational-needs-disabilities","www.gov.uk/government/collections/statistics-special-educational-needs-sen",null,null,"Y",null,"Y","Y","Y","Y","Y",{"$nulls":17},"County council, Metropolitan district, Unitary authority, London borough, City of London, Isles of Scilly","aggregate/summary",null,1,null,null,"Paul Hirst  Paul.HIRST@education.gov.uk",null,189,0,null,0,9,333,9333,38]
["D","189-01","Children with Statements of Special Educational Needs (SEN2)","Pupils with SEN statements","DfE",null,"Y",null,"Y","annual","Upper tier & single tier",null,null,{"$f":"IF(OR($A335<>\"C\",P335=\"\"),\"\",HYPERLINK(P335,\"Collection\"))","v":""},"",null,null,0,{"$nulls":28},"",null,0,null,null,189,1,null,1,9,334,1009334,261]
["C","222-00","Foster care data set and self assessment",null,"DfE/Ofsted",{"$nulls":4},"annual","Upper tier & single tier","Data to inform the inspection of fostering agencies and provide information about the agency and its performance.",null,"","",null,null,"Y",null,"Y",null,"Y","Y","Y","Y","Y",{"$nulls":17},"County council, Metropolitan district, Unitary authority, London borough, City of London, Isles of Scilly","aggregate/summary",null,1,null,null,"Paul Hirst  Paul.HIRST@education.gov.uk",null,222,0,null,0,34,335,34335,108]
["D","222-01","Foster care data set and self assessment","Information on fostering households, foster carers, and the children fostered.","DfE/Ofsted",{"$nulls":4},"annual","Upper tier & single tier",null,null,"","",null,null,"Y",{"$nulls":28},"",null,0,null,null,222,1,null,1,34,336,1034336,437]
["C","224-00","Local Authority Data Collection of Linked and Federated Provision",null,"DfE",{"$nulls":4},"termly (3/year)","Upper tier & single tier","Data on information on school organisation, children’s centres and 14-19 partnership arrangements in the LAs.    ",null,"","",null,null,"Y",null,"Y",null,"Y","Y","Y","Y","Y",{"$nulls":17},"County council, Metropolitan district, Unitary authority, London borough, City of London, Isles of Scilly","aggregate/summary",null,1,null,null,"Paul Hirst  Paul.HIRST@education.gov.uk",null,224,0,null,0,9,337,9337,39]
["D","224-01","Local Authority Data Collection of Linked and Federated Provision","School organisation, children’s centres and 14-19 partnership arrangements in LAs","DfE",{"$nulls":4},"termly (3/year)","Upper tier & single tier",null,null,"","",null,null,"Y",{"$nulls":28},"",null,0,null,null,224,1,null,1,9,338,1009338,262]
["C","225-00","Local Authority Adult and Community Learning provision.",null,"DfE/Ofsted",{"$nulls":3},"Y","as required","Upper tier & single tier","Data to facilitate the planning and inspection process of ACL provision.","Data collected in advance of an inspection, on numbers and characteristics of learners and the programmes on offer","","",null,null,"Y",null,"Y",null,"Y","Y","Y","Y","Y",{"$nulls":17},"County council, Metropolitan district, Unitary authority, London borough, City of London, Isles of Scilly","aggregate/summary",null,1,null,null,"Paul Hirst  Paul.HIRST@education.gov.uk",null,225,0,null,0,34,339,34339,109]
["D","225-01","Local Authority Adult and Community Learning provision.","Numbers and characteristics of learners and the programmes on offer","DfE/Ofsted",{"$nulls":3},"Y","as required","Upper tier & single tier",null,null,"","",null,null,"Y",{"$nulls":28},"",null,0,null,null,225,1,null,1,34,340,1034340,438]
["C","203-00","Schools capital outturn",null,"DfE/ESFA",{"$nulls":4},"annual","Upper tier & single tier","Returns quantifying LA spend of school capital grants within time limits. ","Collected via LOGASnet. Required annually for audit purposes. Not published. ","Collection","Data","https://www.gov.uk/government/collections/local-authority-revenue-expenditure-and-financing","www.gov.uk/government/publications/section-251-outturn-2013-to-2014-data","Y",null,"Y",null,"Y","Y","Y","Y","Y",{"$nulls":17},"County council, Metropolitan district, Unitary authority, London borough, City of London, Isles of Scilly","aggregate/summary",null,1,null,null,"Paul Hirst  Paul.HIRST@education.gov.uk",null,203,0,null,0,35,341,35341,110]
["D","203-01","Schools capital outturn","Spend of school capital grant  funds","DfE/ESFA",{"$nulls":4},"annual","Upper tier & single tier",null,null,{"$f":"IF(OR($A343<>\"C\",P343=\"\"),\"\",HYPERLINK(P343,\"Collection\"))","v":""},"",null,null,"Y",{"$nulls":28},"",null,0,null,null,203,1,null,1,35,342,1035342,439]
["C","206-00","Information to support calculations of the minimum funding guarantee to Academies ",null,"DfE/ESFA",{"$nulls":4},"as required","Upper tier & single tier","Breakdown of spend by school and by a range of categories ","Data to inform the application of the MFG; it specifically shows us, by LA, what we should exclude","Collection","","https://www.gov.uk/academies-funding-allocations",null,"Y",null,"Y",null,"Y","Y","Y","Y","Y",{"$nulls":17},"County council, Metropolitan district, Unitary authority, London borough, City of London, Isles of Scilly","n/k",null,1,null,null,"Paul Hirst  Paul.HIRST@education.gov.uk",null,206,0,null,0,35,343,35343,111]
["D","206-01","Information to support calculations of the minimum funding guarantee to Academies ","Data to inform the application of the MFG","DfE/ESFA",{"$nulls":4},"as required","Upper tier & single tier",null,null,{"$f":"IF(OR($A345<>\"C\",P345=\"\"),\"\",HYPERLINK(P345,\"Collection\"))","v":""},"",null,null,"Y",{"$nulls":28},"",null,0,null,null,206,1,null,1,35,344,1035344,440]
["C","121-00","Concessionary Travel Survey",null,"DfT",null,"Y",null,null,"annual","Upper tier & single tier","Survey of Travel Concession Authorities","The aim of this survey is to seek information from local authorities on their historic and current reimbursement arrangements for concessionary travel to inform the potential development of proposed changes to the current regime from April 2011. \nThe data collected will be used by DfT to model the financial implications of any proposed changes to the reimbursement regime at individual local authority level. The data will not be used to assess the validity of any existing reimbursement practices adopted by Local Authorities.\n","Collection","Data","https://assets.publishing.service.gov.uk/government/uploads/system/uploads/attachment_data/file/1030575/concessionary-travel-survey-questionnaire-2021.pdf","https://www.gov.uk/government/statistics/concessionary-travel-statistics-year-ending-march-2021",null,null,"Y",null,null,"Y",null,null,"Y",{"$nulls":5},"Y",{"$nulls":10},"From 1 April 2011 responsibility for administration of concessionary travel is transferred from district councils to county councils.","County council, Unitary authority, Isles of Scilly, Integrated transport authority, London Councils (for London boroughs and TfL)","aggregate/summary",null,6,null,null,"bus.statistics@dft.gsi.gov.uk Pat.Kilbey@dft.gov.uk",null,121,0,null,0,11,345,11345,40]
["D","121-01","Concessionary Travel Survey","Current expenditure on concessionary travel","DfT",null,"Y",null,null,"annual","Upper tier & single tier",null,null,{"$f":"IF(OR($A347<>\"C\",P347=\"\"),\"\",HYPERLINK(P347,\"Collection\"))","v":""},"",null,null,0,{"$nulls":28},"",null,0,null,null,121,1,null,1,11,346,1011346,263]
["D","121-02","Concessionary Travel Survey","Discretionary elements of concessionary travel scheme","DfT",null,"Y",null,null,"annual","Upper tier & single tier",null,null,"","",null,null,0,{"$nulls":28},"",null,0,null,null,121,2,null,1,11,347,1011347,264]
["D","121-03","Concessionary Travel Survey","Number of concessionary bus journeys","DfT",null,"Y",null,null,"annual","Upper tier & single tier",null,null,"","",null,null,0,{"$nulls":28},"",null,0,null,null,121,3,null,1,11,348,1011348,265]
["D","121-04","Concessionary Travel Survey","Number of concessionary pass holders","DfT",null,"Y",null,null,"annual","Upper tier & single tier",null,null,"","",null,null,0,{"$nulls":28},"",null,0,null,null,121,4,null,1,11,349,1011349,266]
["D","121-05","Concessionary Travel Survey","Average commercial fares and reimbursement rates","DfT",null,"Y",null,null,"annual","Upper tier & single tier",null,null,"","",null,null,0,{"$nulls":28},"",null,0,null,null,121,5,null,1,11,350,1011350,267]
["D","121-06","Concessionary Travel Survey","Additional costs","DfT",null,"Y",null,null,"annual","Upper tier & single tier",null,null,"","",null,null,0,{"$nulls":28},"",null,0,null,null,121,6,null,1,11,351,1011351,268]
["C","122-00","Local bus punctuality",null,"DfT",null,"N",null,null,"annual","Upper tier & single tier","Bus services conforming to timetable.","Bus punctuality formerly formerly NI 178.","Collection","Data","https://www.gov.uk/government/uploads/system/uploads/attachment_data/file/249575/punctuality-survey-questionnaire.pdf","www.gov.uk/government/statistical-data-sets/bus09-frequency-and-waiting-times",null,178,"Y",null,null,"Y",{"$nulls":8},"Y",null,"Y",{"$nulls":9},"County council, Unitary authority, Integrated transport authority, Transport for London","aggregate/summary",null,2,null,null,"bus.statistics@dft.gsi.gov.uk Pat.Kilbey@dft.gov.uk",null,122,0,null,0,11,352,11352,41]
["D","122-01","Local bus punctuality","Percentage of nonfrequent buses on time","DfT",null,"N",null,null,"annual","Upper tier & single tier",null,null,{"$f":"IF(OR($A354<>\"C\",P354=\"\"),\"\",HYPERLINK(P354,\"Collection\"))","v":""},"",null,null,0,{"$nulls":28},"",null,0,null,null,122,1,null,1,11,353,1011353,269]
["D","122-02","Local bus punctuality","Average excess waiting time for frequent services","DfT",null,"N",null,null,"annual","Upper tier & single tier",null,null,{"$f":"IF(OR($A355<>\"C\",P355=\"\"),\"\",HYPERLINK(P355,\"Collection\"))","v":""},"",null,null,0,{"$nulls":28},"",null,0,null,null,122,2,null,1,11,354,1011354,270]
["C","125-00","Taxi Survey",null,"DfT",null,"Y",null,null,"annual","Single tier & lower tier","Survey of the number of licensed taxis and public hire vehicles.",null,"Collection","Data","https://assets.publishing.service.gov.uk/government/uploads/system/uploads/attachment_data/file/1089894/taxi-and-phv-survey-questionnaire-2022.ods","www.gov.uk/government/collections/taxi-statistics",{"$nulls":3},"Y","Y","Y",null,null,"Y",{"$nulls":7},"Y",{"$nulls":9},"District council, Metropolitan district, Unitary authority, Isles of Scilly, Transport for London","aggregate/summary",null,7,null,null,"bus.statistics@dft.gsi.gov.uk Pat.Kilbey@dft.gov.uk",null,125,0,null,0,11,355,11355,42]
["D","125-01","Taxi Survey","Licensed Taxis","DfT",null,"Y",null,null,"annual","Single tier & lower tier",null,null,{"$f":"IF(OR($A357<>\"C\",P357=\"\"),\"\",HYPERLINK(P357,\"Collection\"))","v":""},"",null,null,0,{"$nulls":28},"",null,0,null,null,125,1,null,1,11,356,1011356,271]
["D","125-02","Taxi Survey","Licensed taxis with Wheelchair Accessible Requirement","DfT",null,"Y",null,null,"annual","Single tier & lower tier",null,null,"","",null,null,0,{"$nulls":28},"",null,0,null,null,125,2,null,1,11,357,1011357,272]
["D","125-03","Taxi Survey","Licensed Taxi Limits","DfT",null,"Y",null,null,"annual","Single tier & lower tier",null,null,"","",null,null,0,{"$nulls":28},"",null,0,null,null,125,3,null,1,11,358,1011358,273]
["D","125-04","Taxi Survey","Private Hire Vehicles (PHVs)","DfT",null,"Y",null,null,"annual","Single tier & lower tier",null,null,"","",null,null,0,{"$nulls":28},"",null,0,null,null,125,4,null,1,11,359,1011359,274]
["D","125-05","Taxi Survey","Taxi and PHV Drivers","DfT",null,"Y",null,null,"annual","Single tier & lower tier",null,null,"","",null,null,0,{"$nulls":28},"",null,0,null,null,125,5,null,1,11,360,1011360,275]
["D","125-06","Taxi Survey","Private Hire Vehicle Operators","DfT",null,"Y",null,null,"annual","Single tier & lower tier",null,null,"","",null,null,0,{"$nulls":28},"",null,0,null,null,125,6,null,1,11,361,1011361,276]
["D","125-07","Taxi Survey","General policies","DfT",null,"Y",null,null,"annual","Single tier & lower tier",null,null,"","",null,null,0,{"$nulls":28},"",null,0,null,null,125,7,null,1,11,362,1011362,277]
["C","127-00","Blue Badge Parking Survey",null,"DfT",null,"Y",null,null,"annual","Upper tier & single tier","Survey of the number of Blue Badges (disabled parking badges)","Most of the survey data collection has not been required since the implementation of the national operational database in 2015/16 (Blue Badge Improvement System). Burden on LAs from 2015/16 has been negligible (data relating to blue badge prosecutions).","Collection",{"$f":"IF(OR($A364<>\"C\",Q364=\"\"),\"\",HYPERLINK(Q364,\"Data\"))","v":"Data"},"https://www.gov.uk/transport-statistics-notes-and-guidance-disabled-parking-badges","https://www.gov.uk/government/collections/disabled-parking-badges-statistics",null,null,"Y",null,"Y","Y","Y","Y","Y",{"$nulls":17},"County council, Metropolitan district, Unitary authority, London borough, City of London, Isles of Scilly","aggregate/summary",null,1,null,null,"bus.statistics@dft.gsi.gov.uk Pat.Kilbey@dft.gov.uk",null,127,0,null,0,11,363,11363,43]
["D","127-04","Blue Badge Parking Survey","Number of Prosecutions for Abuse of the Scheme","DfT",null,"Y",null,null,"as required","Upper tier & single tier",null,null,{"$f":"IF(OR($A365<>\"C\",P365=\"\"),\"\",HYPERLINK(P365,\"Collection\"))","v":""},"",null,null,0,{"$nulls":28},"",null,0,null,null,127,4,null,1,11,364,1011364,278]
["C","129-00","Highway inventory data ",null,"DfT",{"$nulls":4},"as required","Upper tier & single tier","Highway inventory data, for use in determining highway maintenance funding","The data are used to calculate funding allocations for the local authority highways maintenance capital grant. Funding allocations are generated via a standard formula which includes highways inventory data. The department has confirmed funding for 2021/22 using these data.","","Data",null,"https://www.gov.uk/government/publications/highways-maintenance-funding-allocations-201516-to-202021",null,null,"Y",null,"Y","Y",{"$nulls":8},"Y",{"$nulls":11},"County council, Metropolitan district, Unitary authority, Integrated transport authority","aggregate/summary",null,1,null,null,"bus.statistics@dft.gsi.gov.uk Pat.Kilbey@dft.gov.uk",null,129,0,null,0,11,365,11365,44]
["D","129-01","Highway inventory data ","Numbers and characteristics of bridges and lighting","DfT",{"$nulls":4},"as required","Upper tier & single tier",null,null,"","",null,null,0,{"$nulls":28},"",null,0,null,null,129,1,null,1,11,366,1011366,279]
["C","251-00","Winter salt stock holdings",null,"DfT",{"$nulls":4},"as required","Upper tier & single tier","Winter salt stock holdings","Formerly data topic 129-02","","",{"$nulls":4},"Y",null,"Y","Y",{"$nulls":8},"Y",{"$nulls":11},"County council, Metropolitan district, Unitary authority, Integrated transport authority","aggregate/summary",null,1,null,null,"bus.statistics@dft.gsi.gov.uk Pat.Kilbey@dft.gov.uk",null,251,0,null,0,11,367,11367,45]
["D","251-01","Winter salt stock holdings","Local authority winter service salt stock holdings","DfT",{"$nulls":4},"as required","Upper tier & single tier",null,null,"","",null,null,0,{"$nulls":28},"",null,0,null,null,251,1,null,1,11,368,1011368,280]
["C","130-00","Road condition data",null,"DfT",null,"N",null,null,"annual","Upper tier & single tier","Data collection of the condition of local authority managed roads and maintenance activity. ","formerly NIs 168 and 169","Collection","Data","https://www.gov.uk/government/collections/road-network-size-and-condition","https://www.gov.uk/government/collections/road-network-size-and-condition",null,"168, 169","Y",null,"Y","Y","Y","Y",{"$nulls":8},"Y",{"$nulls":9},"County council, Metropolitan district, Unitary authority, London borough, City of London, Transport for London","aggregate/summary",null,4,null,null,"bus.statistics@dft.gsi.gov.uk Pat.Kilbey@dft.gov.uk",null,130,0,null,0,11,369,11369,46]
["D","130-01","Road condition data","Principal roads where maintenance should be considered","DfT",null,"N",null,null,"annual","Upper tier & single tier",null,null,"","",null,null,0,{"$nulls":28},"",null,0,null,null,130,1,null,1,11,370,1011370,281]
["D","130-02","Road condition data","Non-principal classified roads where maintenance should be considered","DfT",null,"N",null,null,"annual","Upper tier & single tier",null,null,"","",null,null,0,{"$nulls":28},"",null,0,null,null,130,2,null,1,11,371,1011371,282]
["D","130-03","Road condition data","Skidding resistance surveys","DfT",null,"Y",null,null,"annual","Upper tier & single tier",null,null,"","",null,null,0,{"$nulls":28},"",null,0,null,null,130,3,null,1,11,372,1011372,283]
["D","130-04","Road condition data","Carriageway work done survey","DfT",null,"Y",null,null,"annual","Upper tier & single tier",null,null,"","",null,null,0,{"$nulls":28},"",null,0,null,null,130,4,null,1,11,373,1011373,284]
["C","132-00","Road Lengths Survey",null,"DfT",null,"Y",null,null,"annual","Upper tier & single tier","Measures the length of roads (by road type)",null,"Collection","Data","https://www.gov.uk/government/collections/road-lengths","https://www.gov.uk/government/collections/road-lengths",null,null,"Y",null,"Y","Y","Y","Y","Y",{"$nulls":7},"Y",{"$nulls":9},"County council, Metropolitan district, Unitary authority, London borough, City of London, Isles of Scilly, Transport for London","aggregate/summary",null,1,null,null,"bus.statistics@dft.gsi.gov.uk Pat.Kilbey@dft.gov.uk",null,132,0,null,0,11,374,11374,47]
["D","132-01","Road Lengths Survey","Local authority estimate of road lengths","DfT",null,"Y",null,null,"annual","Upper tier & single tier",null,null,"","",null,null,0,{"$nulls":28},"",null,0,null,null,132,1,null,1,11,375,1011375,285]
["C","253-00","National Child Measurement Programme (NCMP)",null,"DHSC/OHID",null,"Y",null,null,"annual","Upper tier & single tier","Data on prevalence of child obesity in Reception Year and Year 6 by local authority. ","Local authorities will return data to NHS England. Data underpins the Public Health Outcomes Framework Indicator on excess weight in 4-5 and 10-11 year olds, and the Government's ambition to halve childhood obesity rates by 2030 and to significantly reduce the health inequalities that persist","Collection","Data","https://digital.nhs.uk/services/national-child-measurement-programme/it-system","https://digital.nhs.uk/data-and-information/publications/statistical/national-child-measurement-programme/2021-22-school-year",null,null,"Y",null,"Y","Y","Y","Y","Y",{"$nulls":17},"County council, District council, Metropolitan district, Unitary authority, London borough, City of London, Isles of Scilly","Individual",null,1,null,null,"Robert Kyffin <Robert.Kyffin@phe.gov.uk> ",null,253,0,null,0,13,376,13376,49]
["D","253-01","National Child Measurement Programme (NCMP)","Heights, weights and other relevant information on children in Reception and year 6, and relevant information about each child, as well as number of children eligible for inclusion.","DHSC/OHID",{"$nulls":8},"",{"$nulls":3},0,{"$nulls":33},253,1,null,1,13,377,1013377,287]
["C","254-00","Collation of NHS Health Check quarterly data return",null,"DHSC/OHID",null,"N",null,null,"quarterly","Upper tier & single tier","To help to monitor achievement of Public Health Outcome Framework Indicators and other key public health policies","NHS Health Checks is a mandated service for local authorities to provide.  Data collected for this indicator provides information on the number of NHS Health Checks that are conducted so provides an indication of how well the programme is taken up and how accessible it is. Indicators are published at: https://fingertips.phe.org.uk/profile/nhs-health-check-detailed. Further information on the NHS Health Check programme can be found at: http://www.healthcheck.nhs.uk/","Collection",{"$f":"IF(OR($A379<>\"C\",Q379=\"\"),\"\",HYPERLINK(Q379,\"Data\"))","v":"Data"},"https://www.healthcheck.nhs.uk/commissioners-and-providers/data/submit-quarterly-data/","https://fingertips.phe.org.uk/profile/nhs-health-check-detailed",null,null,"Y",null,"Y","Y","Y","Y","Y",{"$nulls":17},"County council, Unitary authority, Metropolitan district, London boroughs, City of London, Isles of Scilly",null,null,2,null,null,"Robert Kyffin <Robert.Kyffin@phe.gov.uk>  ",null,254,0,null,0,13,378,13378,50]
["D","254-01","Collation of NHS Health Check quarterly data return","Percentage of eligible population aged 40-74 offered an NHS Health Check in the financial year ","DHSC/OHID",{"$nulls":8},"",{"$f":"IF(OR($A380<>\"C\",Q380=\"\"),\"\",HYPERLINK(Q380,\"Data\"))","v":""},null,null,0,{"$nulls":26},"Individual",{"$nulls":3},0,null,null,254,1,null,1,13,379,1013379,288]
["D","254-02","Collation of NHS Health Check quarterly data return","Percentage of eligible population aged 40-74 offered an NHS Health Check who received an NHS Health Check in the financial year","DHSC/OHID",{"$nulls":8},"",{"$nulls":3},0,{"$nulls":30},0,null,null,254,2,null,1,13,380,1013380,289]
["C","262-00","Oral Health Surveys",null,"DHSC/OHID",{"$nulls":4},"annual","all local authorities","Oral Health Surveys","Commissioned by local authorities. Data on children are Offical Statistics and are PHOF measures.","",{"$f":"IF(OR($A382<>\"C\",Q382=\"\"),\"\",HYPERLINK(Q382,\"Data\"))","v":"Data"},null,"https://www.gov.uk/government/collections/oral-health",null,null,"Y","Y","Y","Y","Y","Y","Y",{"$nulls":17},"County council, Metropolitan district, Unitary authority, London borough",null,null,1,null,null,"Robert Kyffin <Robert.Kyffin@phe.gov.uk>  ",null,262,0,null,0,13,381,13381,51]
["D","262-01","Oral Health Surveys","Oral Health Surveys","DHSC/OHID",{"$nulls":4},"annual","all local authorities","Oral Health Surveys","Commissioned by local authorities ",{"$nulls":4},0,{"$nulls":30},0,null,null,262,1,null,1,13,382,1013382,290]
["C","135-00","Adult Social Care Survey (ASCS)",null,"DHSC/NHSE",{"$nulls":4},"annual","Upper tier & single tier","Survey of the outcomes and experience of people who use Council-commissioned long term adult social care",null,{"$f":"IF(OR($A384<>\"C\",P384=\"\"),\"\",HYPERLINK(P384,\"Collection\"))","v":"Collection"},{"$f":"IF(OR($A384<>\"C\",Q384=\"\"),\"\",HYPERLINK(Q384,\"Data\"))","v":"Data"},"https://digital.nhs.uk/data-and-information/data-collections-and-data-sets/data-collections/social-care-user-surveys","https://digital.nhs.uk/data-and-information/publications/statistical/personal-social-services-adult-social-care-survey","Y",null,"Y",null,"Y","Y","Y","Y","Y",{"$nulls":17},"County council, Metropolitan district, Unitary authority, London borough, City of London, Isles of Scilly","client based",null,2,null,null,"Bolton, Sylvia <Sylvia.bolton@dhsc.gov.uk>",null,135,0,null,0,39,383,39383,113]
["D","135-01","Adult Social Care Survey (ASCS)","A questionnaire to collect information about experiences of social care services and support from a sample of all service users and associated administrative data","DHSC/NHSE",{"$nulls":4},"annual","Upper tier & single tier",null,null,"","",null,null,"Y",{"$nulls":28},"",null,0,null,null,135,1,null,1,39,384,1039384,441]
["D","135-02","Adult Social Care Survey (ASCS)","Eligible population data","DHSC/NHSE",{"$nulls":4},"annual","Upper tier & single tier",null,null,"","",null,null,"Y",{"$nulls":28},"",null,0,null,null,135,2,null,1,39,385,1039385,442]
["C","138-00","Mental Health Guardianship (SSDA702) return",null,"DHSC/NHSE",null,"Y",null,null,"every 2 years","Upper tier & single tier","The SSDA702 return captures information on patients subject to Guardianship under sections 7 & 37 of the Mental Health Act 1983.",null,"Collection","Data","Adult social care data collections and guidance - NHS Digital","Guardianship under the Mental Health Act, 1983 - NHS Digital","Y",null,"Y",null,"Y","Y","Y","Y","Y",{"$nulls":17},"County council, Metropolitan district, Unitary authority, London borough, City of London, Isles of Scilly","client based",null,1,null,null,"Bolton, Sylvia <Sylvia.bolton@dhsc.gov.uk>",null,138,0,null,0,39,386,39386,114]
["D","138-01","Mental Health Guardianship (SSDA702) return","Information on each guardianship case current, commenced, or closed during the reporting period.","DHSC/NHSE",null,"Y",null,null,"every 2 years","Upper tier & single tier",null,null,"","",null,null,"Y",{"$nulls":28},"",null,0,null,null,138,1,null,1,39,387,1039387,443]
["C","139-00","Deprivation of Liberty Safeguards (DoLS) Return",null,"DHSC/NHSE",{"$nulls":4},"annual","Upper tier & single tier","The DoLS return collects information in relation to those individuals lawfully deprived of their liberty to protect them from harm, under the provisions in the Mental Capacity Act 2009","Collect by LA's with social care responsibilities","Collection","Data","Adult social care data collections and guidance - NHS Digital","Mental Capacity Act 2005, Deprivation of Liberty Safeguards - NHS Digital","Y",null,"Y",null,"Y","Y","Y","Y","Y",{"$nulls":17},"County council, Metropolitan district, Unitary authority, London borough, City of London, Isles of Scilly","aggregate/summary",null,1,null,null,"Bolton, Sylvia <Sylvia.bolton@dhsc.gov.uk>",null,139,0,null,0,39,388,39388,115]
["D","139-01","Deprivation of Liberty Safeguards (DoLS) Return","Case level authorisation information, including significant dates, personal characteristics etc","DHSC/NHSE",{"$nulls":4},"annual","Upper tier & single tier",null,null,"","",null,null,"Y",{"$nulls":28},"",null,0,null,null,139,1,null,1,39,389,1039389,444]
["C","140-00","Survey of Adult Carers in England (SACE)",null,"DHSC/NHSE",{"$nulls":4},"every 2 years","Upper tier & single tier","The Carers Survey is a survey of the outcomes and experience of carers known to councils",null,"Collection","Data","https://digital.nhs.uk/data-and-information/data-collections-and-data-sets/data-collections/social-care-user-surveys","https://digital.nhs.uk/data-and-information/publications/statistical/personal-social-services-survey-of-adult-carers","Y",null,"Y",null,"Y","Y","Y","Y","Y",{"$nulls":17},"County council, Metropolitan district, Unitary authority, London borough, City of London, Isles of Scilly","client based",null,2,null,null,"Bolton, Sylvia <Sylvia.bolton@dhsc.gov.uk>",null,140,0,null,0,39,390,39390,116]
["D","140-01","Survey of Adult Carers in England (SACE)","Individual survey returns. ","DHSC/NHSE",{"$nulls":4},"every 2 years","Upper tier & single tier",null,null,"","",null,null,"Y",{"$nulls":28},"",null,0,null,null,140,1,null,1,39,391,1039391,445]
["D","140-02","Survey of Adult Carers in England (SACE)","Eligible population data","DHSC/NHSE",{"$nulls":4},"every 2 years","Upper tier & single tier",null,null,"","",null,null,"Y",{"$nulls":28},"",null,0,null,null,140,2,null,1,39,392,1039392,446]
["C","142-00","Adult Social Care Workforce Data Set (ASC-WDS) ",null,"DHSC/SfC",null,"Y",null,null,"annual","Upper tier & single tier","Information on the workforce in the social care sector","The ASC-WDS collects information on the size and structure of the adult social care sector, types of care services that are provided and a detailed picture of the workforce, including retention, demographics, pay rates and qualifications by job role and employment status. The ASC-WDS is completed by adult social care employers on behalf of their workplace and their staff. Publications can be found here www.skillsforcare.org.uk/WIpublications. ","Collection","","https://asc-wds.skillsforcare.org.uk/ ",{"$nulls":3},"Y","Y","Y","Y","Y","Y","Y",{"$nulls":17},"County council, Metropolitan district, Unitary authority, London borough, City of London, Isles of Scilly","client based",null,1,null,null,"Sylvia.bolton@dhsc.gov.uk;  Sarah.Davison@skillsforcare.org.uk",null,142,0,null,0,52,393,52393,138]
["D","142-00","Adult Social Care Workforce Data Set (ASC-WDS) ","Detailed worker-level information.","DHSC/SFC",null,"Y",null,null,"annual","Upper tier & single tier",null,null,"","",{"$nulls":31},"",null,0,null,null,142,0,null,1,52,394,1052394,552]
["C","144-00","Register of blind and partially sighted people (SSDA902)",null,"DHSC/NHSE",null,"Y",null,null,"every 3 years","Upper tier & single tier","The SSDA902 collects information on the number of blind or partially sighted people registered locally, on a three-yearly basis","To help streamline data collection processes, this data, whilst separate, will be collected within the SALT collection.","Collection","Data","Adult social care data collections and guidance - NHS Digital","Registered Blind and Partially Sighted People - NHS Digital","Y",null,"Y",null,"Y","Y","Y","Y","Y",{"$nulls":17},"County council, Metropolitan district, Unitary authority, London borough, City of London, Isles of Scilly","aggregate/summary",null,3,null,null,"Bolton, Sylvia <Sylvia.bolton@dhsc.gov.uk>",null,144,0,null,0,39,395,39395,117]
["D","144-01","Register of blind and partially sighted people (SSDA902)","Blind/severely sight impaired persons and partial sight/sight impaired persons - Numbers on the register and new registrations","DHSC/NHSE",null,"Y",null,null,"every 3 years","Upper tier & single tier",null,null,"","",null,null,"Y",{"$nulls":28},"",null,0,null,null,144,1,null,1,39,396,1039396,447]
["D","144-02","Register of blind and partially sighted people (SSDA902)","Blind/severely sight impaired persons registered at 31 March who have an additional disability - by age","DHSC/NHSE",null,"Y",null,null,"every 3 years","Upper tier & single tier",null,null,"","",null,null,"Y",{"$nulls":28},"",null,0,null,null,144,2,null,1,39,397,1039397,448]
["D","144-03","Register of blind and partially sighted people (SSDA902)","Partial/sight impaired persons registered at 31 March  who have an additional disability - by age","DHSC/NHSE",null,"Y",null,null,"every 3 years","Upper tier & single tier",null,null,"","",null,null,"Y",{"$nulls":28},"",null,0,null,null,144,3,null,1,39,398,1039398,449]
["C","258-00","Safeguarding Adults Collection",null,"DHSC/NHSE",{"$nulls":4},"annual","Upper tier & single tier","Safeguarding Adults is a statutory duty for Councils with Adult Social Services Responsibilities in England under the Care Act 2014, in order to safeguard vulnerable adults from abuse or neglect. The data is collected directly from these councils, also known as local authorities in this publication.",null,"Collection","Data","Adult social care data collections and guidance - NHS Digital","Safeguarding Adults - NHS Digital","Y",null,"Y",null,"Y","Y","Y","Y","Y",{"$nulls":17},"County council, Metropolitan district, Unitary authority, London borough, City of London, Isles of Scilly","aggregate/summary",null,7,null,null,"Bolton, Sylvia <Sylvia.bolton@dhsc.gov.uk>",null,258,0,null,0,39,399,39399,118]
["D","258-01","Safeguarding Adults Collection","Numbers of individuals subject to a safeguarding enquiry per annum, whether previously known or unknown to the council by age, gender, ethncity and primary client group,","DHSC/NHSE",{"$nulls":4},"annual","Upper tier & single tier",null,null,"","",null,null,"Y",{"$nulls":33},258,1,null,1,39,400,1039400,450]
["D","258-02","Safeguarding Adults Collection","Numbers of concluded enquiries in a 12 month period by organisation or individual believed to be the source of the risk by abuse or source of risk Four additional categories of enquiry added 2017/18: Domestic Abuse, Sexual Exploitation, Modern Slavery and Self Neglect","DHSC/NHSE",{"$nulls":4},"annual","Upper tier & single tier",{"$nulls":6},"Y",{"$nulls":33},258,2,null,1,39,401,1039401,451]
["D","258-03","Safeguarding Adults Collection","Numbers of concluded enquiries in a 12 month period by organisation or individual believed to be the source of the risk by location/setting","DHSC/NHSE",{"$nulls":4},"annual","Upper tier & single tier",null,null,{"$f":"IF(OR($A403<>\"C\",P403=\"\"),\"\",HYPERLINK(P403,\"Collection\"))","v":""},{"$f":"IF(OR($A403<>\"C\",Q403=\"\"),\"\",HYPERLINK(Q403,\"Data\"))","v":""},null,null,"Y",{"$nulls":33},258,3,null,1,39,402,1039402,452]
["D","258-04","Safeguarding Adults Collection","Numbers of concluded enquiries in a 12 month period by organisation or individual believed to be the source of risk by the result of the action taken","DHSC/NHSE",{"$nulls":4},"annual","Upper tier & single tier",{"$nulls":6},"Y",{"$nulls":33},258,4,null,1,39,403,1039403,453]
["D","258-05","Safeguarding Adults Collection","Numbers of concluded enquiries in a 12 month period by organisation or individual believed to be the source of risk by conclusion","DHSC/NHSE",{"$nulls":4},"annual","Upper tier & single tier",{"$nulls":6},"Y",{"$nulls":33},258,5,null,1,39,404,1039404,454]
["D","258-06","Safeguarding Adults Collection","Number of concluded enquiries in a 12 month period where the individual was assessed as lacking capacity to make informed choices and decision about their safety by age","DHSC/NHSE",{"$nulls":4},"annual","Upper tier & single tier",{"$nulls":6},"Y",{"$nulls":33},258,6,null,1,39,405,1039405,455]
["D","258-07","Safeguarding Adults Collection","Numbers of Serious Case Reviews in a 12 month period indicating the outcomes broken down by  Death or   Other","DHSC/NHSE",{"$nulls":4},"annual","Upper tier & single tier",{"$nulls":6},"Y",{"$nulls":33},258,7,null,1,39,406,1039406,456]
["C","260-00","Short and Long Term Support (SALT)",null,"DHSC/NHSE",null,"Y",null,null,"Annual","Upper tier & single tier","The SALT data collection is a set of measures produced through consultation with stakeholders as part of the Zero Based Review (ZBR) of social care data collections. It comprises two main sections, short term support  and long term support. The SALT collection replaces both the RAP and ASC-CAR collections, and retains some aspects of the latter.",null,{"$f":"IF(OR($A408<>\"C\",P408=\"\"),\"\",HYPERLINK(P408,\"Collection\"))","v":"Collection"},{"$f":"IF(OR($A408<>\"C\",Q408=\"\"),\"\",HYPERLINK(Q408,\"Data\"))","v":"Data"},"Adult social care data collections and guidance - NHS Digital","https://digital.nhs.uk/data-and-information/publications/statistical/adult-social-care-activity-and-finance-report","Y",null,"Y",null,"Y","Y","Y","Y","Y",{"$nulls":17},"County council, Metropolitan district, Unitary authority, London borough, City of London, Isles of Scilly","aggregate/summary","excel",11,null,null,"Bolton, Sylvia <Sylvia.bolton@dhsc.gov.uk>",null,260,0,null,0,39,407,39407,119]
["D","260-01","Short and Long Term Support (SALT)","STS001 - Numbers of requests for support received from NEW CLIENTS, broken down by the different sequels to that request. ","DHSC/NHSE",null,"Y",null,null,"Annual","Upper tier & single tier",{"$nulls":6},"Y",{"$nulls":33},260,1,null,1,39,408,1039408,457]
["D","260-02","Short and Long Term Support (SALT)","STS002a - Of NEW clients where the sequel to a request for support was ‘Short Term Support to Maximise Independence’ a breakdown of what followed the period of short term support   ","DHSC/NHSE",null,"Y",null,null,"Annual","Upper tier & single tier",{"$nulls":6},"Y",{"$nulls":33},260,2,null,1,39,409,1039409,458]
["D","260-03","Short and Long Term Support (SALT)","STS002b - Of EXISTING clients who have received ‘Short Term Support to Maximise Independence’ a breakdown of what followed the period of short term support From 17/18 - Carer status not known during ST-Max and Redesign of sequels and new table for support setting.","DHSC/NHSE",null,"Y",null,null,"Annual","Upper tier & single tier",{"$nulls":6},"Y",{"$nulls":33},260,3,null,1,39,410,1039410,459]
["D","260-05","Short and Long Term Support (SALT)","STS004 - Proportion of older people (65 and over) who were still at home 91 days after discharge from hospital into reablement / rehabilitation services","DHSC/NHSE",null,"Y",null,null,"Annual","Upper tier & single tier",{"$nulls":6},"Y",{"$nulls":33},260,5,null,1,39,411,1039411,460]
["D","260-06","Short and Long Term Support (SALT)","LTS001a -The number of people accessing long term support during the year to 31st March","DHSC/NHSE",null,"Y",null,null,"Annual","Upper tier & single tier",{"$nulls":6},"Y",{"$nulls":33},260,6,null,1,39,412,1039412,461]
["D","260-07","Short and Long Term Support (SALT)","LTS001b - Of the clients in LTS001a, the number of people accessing long term support at the year-end (31st March) From 17/18 - Full cost clients in each setting","DHSC/NHSE",null,"Y",null,null,"Annual","Upper tier & single tier",{"$nulls":6},"Y",{"$nulls":33},260,7,null,1,39,413,1039413,462]
["D","260-08","Short and Long Term Support (SALT)","LTS001c - Of the clients in LTS001b, the number of people who have been accessing long term support for more than 12 months at the year end (31st March) From 17/18 - Full cost clients in each setting","DHSC/NHSE",null,"Y",null,null,"Annual","Upper tier & single tier",{"$nulls":6},"Y",{"$nulls":33},260,8,null,1,39,414,1039414,463]
["D","260-09","Short and Long Term Support (SALT)","LTS002a  - Those clients receiving long term support recorded in LTS001a who received an unplanned review during the year PLUS planned reviews for those clients that led to a care home admission. Signifcant event of \"Provider Failure\" now mandatory","DHSC/NHSE",null,"Y",null,null,"Annual","Upper tier & single tier",{"$nulls":6},"Y",{"$nulls":33},260,9,null,1,39,415,1039415,464]
["D","260-10","Short and Long Term Support (SALT)","LTS002b -Those clients receiving long term support for more than 12 months at the year-end (LTS001c), for whom an unplanned or planned review of care needs took place during the year and the sequel to that review. Signifcant event of \"Provider Failure\" now mandatory","DHSC/NHSE",null,"Y",null,null,"Annual","Upper tier & single tier",{"$nulls":6},"Y",{"$nulls":33},260,10,null,1,39,416,1039416,465]
["D","260-11","Short and Long Term Support (SALT)","LTS003 - Carer support provided during the year, broken down by the age of the carer, Primary Support Reason of the client and the type of support provided","DHSC/NHSE",null,"Y",null,null,"Annual","Upper tier & single tier",{"$nulls":6},"Y",{"$nulls":33},260,11,null,1,39,417,1039417,466]
["D","260-12","Short and Long Term Support (SALT)","LTS004 - Accommodation and employment status of working age clients with a Learning Disability","DHSC/NHSE",null,"Y",null,null,"Annual","Upper tier & single tier",{"$nulls":6},"Y",{"$nulls":33},260,12,null,1,39,418,1039418,467]
["C","261-00","Adult Social Care Finance Return (ASC-FR)",null,"DHSC/NHSE",null,"Y",null,null,"Annual","Upper tier & single tier","The Adult Social Care Finance Return (ASC-FR) replaced the Personal Social Services Expenditure and Unit Costs Return (PSS-EX1) in 2014-15 and reflects important aspects of the principles underpinning the transformation of social care. The new financial reporting framework includes the following measures:\n• FR001 – Long Term Support\n• FR002 – Short Term Support\n• FR003 – Social Support\n• FR004 – Assistive Equipment and Technology\n• FR005 – Expenditure on Social Care Activities\n• FR006 – Information and Early Intervention\n• FR007 – Expenditure on Commissioning and Service Delivery",null,{"$f":"IF(OR($A420<>\"C\",P420=\"\"),\"\",HYPERLINK(P420,\"Collection\"))","v":"Collection"},{"$f":"IF(OR($A420<>\"C\",Q420=\"\"),\"\",HYPERLINK(Q420,\"Data\"))","v":"Data"},"Adult social care data collections and guidance - NHS Digital","https://digital.nhs.uk/data-and-information/publications/statistical/adult-social-care-activity-and-finance-report","Y",null,"Y",null,"Y","Y","Y","Y","Y",{"$nulls":17},"County council, Metropolitan district, Unitary authority, London borough, City of London, Isles of Scilly","aggregate/summary","excel",4,null,null,"Bolton, Sylvia <Sylvia.bolton@dhsc.gov.uk>",null,261,0,null,0,39,419,39419,120]
["D","261-01","Adult Social Care Finance Return (ASC-FR)"," FR001 – Long Term Support, Expenditure and income data on Long Term care, split by support type, primary support reason and age band.","DHSC/NHSE",null,"Y",null,null,"Annual","Upper tier & single tier",{"$nulls":6},"Y",{"$nulls":33},261,1,null,1,39,420,1039420,468]
["D","261-02","Adult Social Care Finance Return (ASC-FR)"," FR002 – Short Term Support, Expenditure and income data on short term support, split by primary support reason and age band.","DHSC/NHSE",null,"Y",null,null,"Annual","Upper tier & single tier",{"$nulls":6},"Y",{"$nulls":33},261,2,null,1,39,421,1039421,469]
["D","261-03","Adult Social Care Finance Return (ASC-FR)","FR003 – Social Support,  FR004 – Assistive Equipment and Technology, FR005 – Expenditure on Social Care Activities,  FR006 – Information and Early Intervention,  FR007 – Expenditure on Commissioning and Service Delivery -  Expenditure and income data on non-short or long term support services. To include income from BCF from 2017/18.","DHSC/NHSE",null,"Y",null,null,"Annual","Upper tier & single tier",{"$nulls":6},"Y",{"$nulls":33},261,3,null,1,39,422,1039422,470]
["D","261-04","Adult Social Care Finance Return (ASC-FR)","Activity data related to short and long term care, provided by number of weeks of care provided split by provision type and type of support.","DHSC/NHSE",null,"Y",null,null,"Annual","Upper tier & single tier",{"$nulls":6},"Y",{"$nulls":33},261,4,null,1,39,423,1039423,471]
["C","263-00","Deferred Payment Agreements (DPA)",null,"DHSC/NHSE",{"$nulls":4},"Annual","Upper tier & single tier","Information on the Deferred Payment Agreements (DPAs) that local authorities have arranged with clients to help with the payment of the costs of their care.",null,{"$f":"IF(OR($A425<>\"C\",P425=\"\"),\"\",HYPERLINK(P425,\"Collection\"))","v":"Collection"},{"$f":"IF(OR($A425<>\"C\",Q425=\"\"),\"\",HYPERLINK(Q425,\"Data\"))","v":"Data"},"Adult social care data collections and guidance - NHS Digital","Deferred Payment Agreements - NHS Digital","Y",null,"Y",null,"Y","Y","Y","Y","Y",{"$nulls":17},"County council, Metropolitan district, Unitary authority, London borough, City of London, Isles of Scilly","aggregate/summary",null,12,null,null,"Bolton, Sylvia <Sylvia.bolton@dhsc.gov.uk>",null,263,0,null,0,39,424,39424,121]
["D","263-01","Deferred Payment Agreements (DPA)","1a - Number of DPAs at end of financial year, number of new DPAs, number of DPAs written off and number of DPAs recovered during the year, split by those where client met and did not meet the statutory eligibility criteria (18-64) From 18/19 onwards data also split between \"traditional\" and  \"loan style\" DPAs","DHSC/NHSE",{"$nulls":4},"Annual","Upper tier & single tier",{"$nulls":6},"Y",{"$nulls":33},263,1,null,1,39,425,1039425,472]
["D","263-02","Deferred Payment Agreements (DPA)","1b - Number of DPAs at end of financial year, number of new DPAs, number of DPAs written off and number of DPAs recovered during the year, split by those where client met and did not meet the statutory eligibility criteria (65+) From 18/19 onwards data also split between \"traditional\" and  \"loan style\" DPAs","DHSC/NHSE",{"$nulls":4},"Annual","Upper tier & single tier",{"$nulls":6},"Y",{"$nulls":33},263,2,null,1,39,426,1039426,473]
["D","263-03","Deferred Payment Agreements (DPA)","2a - Total value of outstanding DPAs at end of financial year, total value of DPAs, total value of DPAs written off, total value of DPAs recovered during the year and payments against existing DPAs split by those where client met and did not meet the statutory eligibility criteria (18-64) From 18/19 onwards data also split between \"traditional\" and  \"loan style\" DPAs","DHSC/NHSE",{"$nulls":4},"Annual","Upper tier & single tier",{"$nulls":6},"Y",{"$nulls":33},263,3,null,1,39,427,1039427,474]
["D","263-04","Deferred Payment Agreements (DPA)","2b - Total value of outstanding DPAs at end of financial year, total value of DPAs, total value of DPAs written off, total value of DPAs recovered during the year and payments against existing DPAs split by those where client met and did not meet the statutory eligibility criteria (65+)","DHSC/NHSE",{"$nulls":4},"Annual","Upper tier & single tier",{"$nulls":6},"Y",{"$nulls":33},263,4,null,1,39,428,1039428,475]
["D","263-05","Deferred Payment Agreements (DPA)","3a - New requests for DPAs during the year, split by those provided with top-up and no top-up, and if not provided, reason by LA or client, split by age","DHSC/NHSE",{"$nulls":4},"Annual","Upper tier & single tier",{"$nulls":6},"Y",{"$nulls":33},263,5,null,1,39,429,1039429,476]
["D","263-06","Deferred Payment Agreements (DPA)","3b - Reason for DPA request split by Bridging Loan, Lifetime Loan or Other, split by age","DHSC/NHSE",{"$nulls":4},"Annual","Upper tier & single tier",{"$nulls":6},"Y",{"$nulls":33},263,6,null,1,39,430,1039430,477]
["D","263-07","Deferred Payment Agreements (DPA)","3c – Planned use of property during DPA: Sale, Rent, Family Member, Empty, split by age","DHSC/NHSE",{"$nulls":4},"Annual","Upper tier & single tier",{"$nulls":6},"Y",{"$nulls":33},263,7,null,1,39,431,1039431,478]
["D","263-08","Deferred Payment Agreements (DPA)","3d – Security provided for DPA: Secured with first charge, secured with second or other charge or by other means, split by age","DHSC/NHSE",{"$nulls":4},"Annual","Upper tier & single tier",{"$nulls":6},"Y",{"$nulls":33},263,8,null,1,39,432,1039432,479]
["D","263-09","Deferred Payment Agreements (DPA)","4a - State and individual contributions to DPA: full cost, user contribution and LA contribution, split by age","DHSC/NHSE",{"$nulls":4},"Annual","Upper tier & single tier",{"$nulls":6},"Y",{"$nulls":33},263,9,null,1,39,433,1039433,480]
["D","263-10","Deferred Payment Agreements (DPA)","4b - Distribution of weekly value of DPAs, split by age","DHSC/NHSE",{"$nulls":4},"Annual","Upper tier & single tier",{"$nulls":6},"Y",{"$nulls":33},263,10,null,1,39,434,1039434,481]
["D","263-11","Deferred Payment Agreements (DPA)","5a - DPAs recovered, split by length of time in place and reason for ending (18-64s)","DHSC/NHSE",{"$nulls":4},"Annual","Upper tier & single tier",{"$nulls":6},"Y",{"$nulls":33},263,11,null,1,39,435,1039435,482]
["D","263-12","Deferred Payment Agreements (DPA)","5b - DPAs recovered, split by length of time in place and reason for ending (65+)","DHSC/NHSE",{"$nulls":4},"Annual","Upper tier & single tier",{"$nulls":6},"Y",{"$nulls":33},263,12,null,1,39,436,1039436,483]
["C","275-00","Adult Social Care Client Level Data (CLD)",null,"DHSC/NHSE","Y",{"$nulls":3},"quarterly","Upper tier & single tier",{"$nulls":6},"Y",null,"Y",null,"Y","Y","Y","Y","Y",{"$nulls":17},"County council, Metropolitan district, Unitary authority, London borough, City of London, Isles of Scilly",null,null,1,{"$nulls":4},275,0,null,0,37,437,37437,112]
["D","275-01","Adult Social Care Client Level Data (CLD)","Detailed client (service-user) level information","DHSC/NHSE",{"$nulls":4},"quarterly","Upper tier & single tier",{"$nulls":6},"Y",{"$nulls":33},275,1,null,1,null,438,1000438,145]
["C","146-00","Single Housing Benefit Extract (SHBE)",null,"DWP",null,"Y",null,null,"monthly","Single tier & lower tier","Scan of each LA’s Housing Benefit (HB) system (case level and operational information)","used, amongst other things, to inform administration subsidy funding, provide for counter fraud and error data-matching, inform forecasting and policy work, produce published statistics on caseload, speed of processing and number of changes actioned.",{"$f":"IF(OR($A440<>\"C\",P440=\"\"),\"\",HYPERLINK(P440,\"Collection\"))","v":""},{"$f":"IF(OR($A440<>\"C\",Q440=\"\"),\"\",HYPERLINK(Q440,\"Data\"))","v":"Data"},null,"http://research.dwp.gov.uk/asd/index.php?page=hbctb",null,"180, 181",null,"Y","Y","Y","Y","Y","Y",{"$nulls":17},"District council, Metropolitan district, Unitary authority, London borough, City of London, Isles of Scilly","client based",null,16,null,null,"PHILIP.J.SHARPLES@DWP.GOV.UK\nKAY.BENDELL@DWP.GOV.UK",null,146,0,null,0,15,439,15439,92]
["D","146-01","Single Housing Benefit Extract (SHBE)","Personal information in respect of claimant, partner and any dependents","DWP",null,"Y",null,null,"monthly","Single tier & lower tier",null,null,"","",null,null,0,{"$nulls":28},"",null,0,null,null,146,1,null,1,15,440,1015440,400]
["D","146-02","Single Housing Benefit Extract (SHBE)","Details on tenancy, address and accommodation (eg number of rooms, type of accommodation)","DWP",null,"Y",null,null,"monthly","Single tier & lower tier",null,null,"","",null,null,0,{"$nulls":28},"",null,0,null,null,146,2,null,1,15,441,1015441,401]
["D","146-03","Single Housing Benefit Extract (SHBE)","Personal information in respect of claimant, partner and any dependents","DWP",null,"Y",null,null,"monthly","Single tier & lower tier",null,null,"","",null,null,0,{"$nulls":28},"",null,0,null,null,146,3,null,1,15,442,1015442,402]
["D","146-04","Single Housing Benefit Extract (SHBE)","Details on tenancy, address and accommodation (eg number of rooms, type of accommodation)","DWP",null,"Y",null,null,"monthly","Single tier & lower tier",null,null,"","",null,null,0,{"$nulls":28},"",null,0,null,null,146,4,null,1,15,443,1015443,403]
["D","146-05","Single Housing Benefit Extract (SHBE)","Personal information in respect of claimant, partner and any dependents","DWP",null,"Y",null,null,"monthly","Single tier & lower tier",null,null,"","",null,null,0,{"$nulls":28},"",null,0,null,null,146,5,null,1,15,444,1015444,404]
["D","146-06","Single Housing Benefit Extract (SHBE)","Details on tenancy, address and accommodation (eg number of rooms, type of accommodation)","DWP",null,"Y",null,null,"monthly","Single tier & lower tier",null,null,"","",null,null,0,{"$nulls":28},"",null,0,null,null,146,6,null,1,15,445,1015445,405]
["D","146-08","Single Housing Benefit Extract (SHBE)","Personal information in respect of claimant, partner and any dependents","DWP",null,"Y",null,null,"monthly","Single tier & lower tier",null,null,"","",null,null,0,{"$nulls":28},"",null,0,null,null,146,8,null,1,15,446,1015446,406]
["D","146-09","Single Housing Benefit Extract (SHBE)","Details on tenancy, address and accommodation (eg number of rooms, type of accommodation)","DWP",null,"Y",null,null,"monthly","Single tier & lower tier",null,null,"","",null,null,0,{"$nulls":28},"",null,0,null,null,146,9,null,1,15,447,1015447,407]
["D","146-10","Single Housing Benefit Extract (SHBE)","Personal information in respect of claimant, partner and any dependents","DWP",null,"Y",null,null,"monthly","Single tier & lower tier",null,null,"","",null,null,0,{"$nulls":28},"",null,0,null,null,146,10,null,1,15,448,1015448,408]
["D","146-11","Single Housing Benefit Extract (SHBE)","Details on tenancy, address and accommodation (eg number of rooms, type of accommodation)","DWP",null,"Y",null,null,"monthly","Single tier & lower tier",null,null,"","",null,null,0,{"$nulls":28},"",null,0,null,null,146,11,null,1,15,449,1015449,409]
["D","146-12","Single Housing Benefit Extract (SHBE)","Personal information in respect of claimant, partner and any dependents","DWP",null,"Y",null,null,"monthly","Single tier & lower tier",null,null,"","",null,null,0,{"$nulls":28},"",null,0,null,null,146,12,null,1,15,450,1015450,410]
["D","146-13","Single Housing Benefit Extract (SHBE)","Details on tenancy, address and accommodation (eg number of rooms, type of accommodation)","DWP",null,"Y",null,null,"monthly","Single tier & lower tier",null,null,"","",null,null,0,{"$nulls":28},"",null,0,null,null,146,13,null,1,15,451,1015451,411]
["D","146-14","Single Housing Benefit Extract (SHBE)","Personal information in respect of claimant, partner and any dependents","DWP",null,"Y",null,null,"monthly","Single tier & lower tier",null,null,"","",null,null,0,{"$nulls":28},"",null,0,null,null,146,14,null,1,15,452,1015452,412]
["D","146-15","Single Housing Benefit Extract (SHBE)","Details on tenancy, address and accommodation (eg number of rooms, type of accommodation)","DWP",null,"Y",null,null,"monthly","Single tier & lower tier",null,null,"","",null,null,0,{"$nulls":28},"",null,0,null,null,146,15,null,1,15,453,1015453,413]
["D","146-16","Single Housing Benefit Extract (SHBE)","Personal information in respect of claimant, partner and any dependents","DWP",null,"Y",null,null,"monthly","Single tier & lower tier",null,null,"","",null,null,0,{"$nulls":28},"",null,0,null,null,146,16,null,1,15,454,1015454,414]
["D","146-17","Single Housing Benefit Extract (SHBE)","Details on tenancy, address and accommodation (eg number of rooms, type of accommodation)","DWP",null,"Y",null,null,"monthly","Single tier & lower tier",null,null,"","",null,null,0,{"$nulls":28},"",null,0,null,null,146,17,null,1,15,455,1015455,415]
["C","147-00","Housing Benefits Recoveries Return",null,"DWP",{"$nulls":4},"quarterly","Single tier & lower tier","Information on overpayments, recovery and write-off.","o HB overpayments outstanding at start of period;\no new HB overpayments identified in the quarter;\no value of HB overpayments recovered in the quarter; and \no value of overpayments written off during the quarter;","","",{"$nulls":5},"Y","Y","Y","Y","Y","Y",{"$nulls":17},"District council, Metropolitan district, Unitary authority, London borough, City of London, Isles of Scilly","aggregate/summary",null,1,null,null,"PHILIP.J.SHARPLES@DWP.GOV.UK\nKAY.BENDELL@DWP.GOV.UK",null,147,0,null,0,15,456,15456,93]
["D","147-01","Housing Benefits Recoveries Return","Information on HB overpayments (outstanding, newly identified, recovered and written off)","DWP",{"$nulls":4},"quarterly","Single tier & lower tier",null,null,"","",null,null,0,{"$nulls":28},"",null,0,null,null,147,1,null,1,15,457,1015457,416]
["C","148-00","Returns on outcome of DWP data-matching referrals on HB claims",null,"DWP",{"$nulls":4},"as required","Single tier & lower tier","Outcomes of data matching referrals.",null,"","",{"$nulls":5},"Y","Y","Y","Y","Y","Y",{"$nulls":17},"District council, Metropolitan district, Unitary authority, London borough, City of London, Isles of Scilly","case based",null,1,null,null,"PHILIP.J.SHARPLES@DWP.GOV.UK\nKAY.BENDELL@DWP.GOV.UK",null,148,0,null,0,15,458,15458,94]
["D","148-01","Returns on outcome of DWP data-matching referrals on HB claims","Data-matching referrals  - outcomes","DWP",{"$nulls":4},"as required","Single tier & lower tier",null,null,"","",null,null,0,{"$nulls":28},"",null,0,null,null,148,1,null,1,15,459,1015459,417]
["C","150-00","Housing Benefit (HB)  subsidy estimates and claims",null,"DWP",{"$nulls":4},"four times a year","Single tier & lower tier","HB subsidy estimates and claims","Housing Benefit (HB) subsidy claims are made in accordance with an annual, statutory process. The information supplied enables DWP to pay LAs for benefit expenditure properly incurred and in accordance with legislation.  LAs are required to submit an:\no initial estimate (March before year commences)\no mid year estimate (August)\no initial claim (May after the year ends)\no audited claim (Nov after the year end)\nThe process provides DWP with the amount each LA has paid out in respect of HB broken down into categories in respect of rent allowance& rent rebate including overpaid benefit.","","",{"$nulls":5},"Y","Y","Y","Y","Y","Y",{"$nulls":17},"District council, Metropolitan district, Unitary authority, London borough, City of London, Isles of Scilly","aggregate/summary",null,1,null,null,"PHILIP.J.SHARPLES@DWP.GOV.UK\nKAY.BENDELL@DWP.GOV.UK",null,150,0,null,0,15,460,15460,95]
["D","150-01","Housing Benefit (HB)  subsidy estimates and claims","Information on HB  expenditure necessary for DWP to award subsidy","DWP",{"$nulls":4},"four times a year","Single tier & lower tier",null,null,"","",null,null,0,{"$nulls":28},"",null,0,null,null,150,1,null,1,15,461,1015461,418]
["C","151-00","Discretionary Housing Payment (DHP) estimates and claims",null,"DWP",{"$nulls":4},"three times a year","Single tier & lower tier","DHP estimates and claims","Discretionary Housing Payment (DHP) claims (Annual process)\no initial estimate (March)\no mid-year estimate (August)\no final claim (May)\nThe process enables DWP to provide LAs with the funding necessary for them to operate the DHP scheme. ","","",{"$nulls":5},"Y","Y","Y","Y","Y","Y",{"$nulls":17},"District council, Metropolitan district, Unitary authority, London borough, City of London, Isles of Scilly","aggregate/summary",null,1,null,null,"PHILIP.J.SHARPLES@DWP.GOV.UK\nKAY.BENDELL@DWP.GOV.UK",null,151,0,null,0,15,462,15462,96]
["D","151-01","Discretionary Housing Payment (DHP) estimates and claims","Information on payments made to enable DWP to award funding.","DWP",{"$nulls":4},"three times a year","Single tier & lower tier",null,null,"","",null,null,0,{"$nulls":28},"",null,0,null,null,151,1,null,1,15,463,1015463,419]
["C","154-00","Health & Safety Enforcement Data (LAE1)",null,"DWP/HSE",null,"Y",null,null,"annual","All local authorities","Number of health and safety inspections, enforcement actions and staff resources in carrying out these functions","Collated data used for national statistics, ministerial briefings, FOI requests and for LAs to benchmark their activities against similar authorities.  ","Collection","Data","Local Authority Health and Safety Return 2022 (hse.gov.uk) \nLA intervention and enforcement activity - HSE and LAs Working together - HSE          ","https://www.hse.gov.uk/lau/enforcement-lae1-returns.htm","Y",null,"Y","Y","Y","Y","Y","Y","Y",{"$nulls":17},"County council, District council, Metropolitan district, Unitary authority, London borough, City of London, Isles of Scilly","aggregate/summary","HELex",4,null,null,"Alexander.Tsavalos@hse.gov.uk; tara.burgess.hse.gov.uk",null,154,0,null,0,42,464,42464,124]
["D","154-01","Health & Safety Enforcement Data (LAE1)","Staff resources devoted to health and safety enforcement work.","DWP/HSE",null,"Y",null,null,"annual","All local authorities",null,null,"","",null,null,"Y",{"$nulls":28},"",null,0,null,null,154,1,null,1,42,465,1042465,486]
["D","154-02","Health & Safety Enforcement Data (LAE1)","Summary of local authority health and safety activity","DWP/HSE",null,"Y",null,null,"annual","All local authorities",null,null,"","",null,null,"Y",{"$nulls":28},"",null,0,null,null,154,2,null,1,42,466,1042466,487]
["D","154-03","Health & Safety Enforcement Data (LAE1)","Number of enforcement actions","DWP/HSE",null,"Y",null,null,"annual","All local authorities",null,null,"","",null,null,"Y",{"$nulls":28},"",null,0,null,null,154,3,null,1,42,467,1042467,488]
["D","154-04","Health & Safety Enforcement Data (LAE1)","Peer review of local authority health and safety regulatory activities","DWP/HSE",null,"Y",null,null,"annual","All local authorities",{"$nulls":40},154,4,null,1,42,468,1042468,489]
["C","190-00","Food Hygiene (LA food law enforcement monitoring return)",null,"FSA",null,null,"Y",null,"quarterly","Single tier & lower tier","Data on enforcement and official controls relating to food hygiene","There will be a bespoke end of year return in April 2023. Bespoke returns are a temporary measure while new official control delivery models for food hygiene and food standards control and a new approach for the collection of data on the delivery of official food and feed controls are being developed. During the transition period, LAs will be required to obtain information and data from their records and management information systems and manually enter it into quarterly returns. Although the questions are more detailed than during the Covid recovery period, they aim to limit the burden on LAs.",{"$nulls":3},"For an example of published data from the bespoke returns  see Annex 2 and 4 -  FSA 21-12-14 - LA Recovery Plan Update .docx (food.gov.uk)","Y",null,null,"Y","Y","Y","Y","Y","Y",{"$nulls":16},"Plus Port Health Authorities","District council, Metropolitan district, Unitary authority, London borough, City of London, Isles of Scilly, Port health authorities","aggregate/summary","excel",24,null,null,"Asif.Chowdhury@food.gov.uk",null,190,0,null,0,49,469,49469,127]
["D","190-01","Food Hygiene (LA food law enforcement monitoring return)","How much FH FTE resource is required to deliver the service in accordance with the FLCoP and the No. of FTE professional posts allocated/occupied/diverted at a fixed date. The actual number of allocated and occupied officers,suitably qualified, Regulatory  support officers and trainees - see comments","FSA",null,null,"Y",null," quarterly","Single tier & lower tier",null,"The questions on allocated, occupied and diverted FTEs were asked quarterly in 2022/23.\nThe questions about the How much FTE resource has been identified in the local authority’s service plan in accordance with the FLCoP is new and is Pending and annual. \nThe questions about the actual number of allocated and occupied officers, Suitably qualified, Regulatory support officers and trainees was is in the 2022/23 annual return but are now proposed quarterly. \nThere was also an annual question for 2022/23 about how many occupied FTE posts were vacated: Because of officers retiring: Because of retention issues, and this question is now also pending for an annual return. \nAlso see detailed pending tab for further information regarding porposed changes for this data topic ",{"$f":"IF(OR($A471<>\"C\",P471=\"\"),\"\",HYPERLINK(P471,\"Collection\"))","v":""},{"$f":"IF(OR($A471<>\"C\",Q471=\"\"),\"\",HYPERLINK(Q471,\"Data\"))","v":""},null,null,"Y",{"$nulls":28},"",null,0,null,null,190,1,null,1,49,470,1049470,491]
["D","190-04","Food Hygiene (LA food law enforcement monitoring return)","No. of premises as at 31st March, by risk rating ","FSA",null,null,"Y",null," quarterly","Single tier & lower tier",null,null,{"$f":"IF(OR($A472<>\"C\",P472=\"\"),\"\",HYPERLINK(P472,\"Collection\"))","v":""},"",null,null,"Y",{"$nulls":28},"",null,0,null,null,190,4,null,1,49,471,1049471,492]
["D","190-05","Food Hygiene (LA food law enforcement monitoring return)","No. of Interventions carried out by risk rating and interventions due and ouitstanding.","FSA",null,null,"Y",null," quarterly","Single tier & lower tier",{"$nulls":6},"Y",{"$nulls":30},0,null,null,190,5,null,1,49,472,1049472,493]
["D","190-15","Food Hygiene (LA food law enforcement monitoring return)","No. new registrations: Are they considered based on risk and prioritised","FSA",null,null,"Y",null," quarterly","Single tier & lower tier",null,null,{"$f":"IF(OR($A474<>\"C\",P474=\"\"),\"\",HYPERLINK(P474,\"Collection\"))","v":""},"",null,null,"Y",{"$nulls":28},"",null,0,null,null,190,15,null,1,49,473,1049473,494]
["D","190-16","Food Hygiene (LA food law enforcement monitoring return)","No. of premises by premises rating ","FSA",null,null,"Y",null," quarterly","Single tier & lower tier",null,null,"","",null,null,"Y",{"$nulls":28},"",null,0,null,null,190,16,null,1,49,474,1049474,495]
["D","190-17","Food Hygiene (LA food law enforcement monitoring return)","No. of establishments subject to voluntary closure during the financial year","FSA",null,null,"Y",null," quarterly","Single tier & lower tier",null,null,"","",null,null,"Y",{"$nulls":28},"",null,0,null,null,190,17,null,1,49,475,1049475,496]
["D","190-18","Food Hygiene (LA food law enforcement monitoring return)","No. of establishments subject to seizure, detention & surrender of food, ","FSA",null,null,"Y",null," quarterly","Single tier & lower tier",null,null,"","",null,null,"Y",{"$nulls":28},"",null,0,null,null,190,18,null,1,49,476,1049476,497]
["D","190-19","Food Hygiene (LA food law enforcement monitoring return)","No. of establishments subject to suspension/revocation of approval or licence","FSA",null,null,"Y",null," quarterly","Single tier & lower tier",null,null,"","",null,null,"Y",{"$nulls":28},"",null,0,null,null,190,19,null,1,49,477,1049477,498]
["D","190-20","Food Hygiene (LA food law enforcement monitoring return)","No. of establishments subject to emergency prohibition notice","FSA",null,null,"Y",null," quarterly","Single tier & lower tier",null,null,"","",null,null,"Y",{"$nulls":28},"",null,0,null,null,190,20,null,1,49,478,1049478,499]
["D","190-21","Food Hygiene (LA food law enforcement monitoring return)","No. of establishments subject to prohibition order","FSA",null,null,"Y",null," quarterly","Single tier & lower tier",null,null,"","",null,null,"Y",{"$nulls":28},"",null,0,null,null,190,21,null,1,49,479,1049479,500]
["D","190-22","Food Hygiene (LA food law enforcement monitoring return)","No. of establishments subject to simple caution","FSA",null,null,"Y",null," quarterly","Single tier & lower tier",null,null,"","",null,null,"Y",{"$nulls":28},"",null,0,null,null,190,22,null,1,49,480,1049480,501]
["D","190-23","Food Hygiene (LA food law enforcement monitoring return)","No. of establishments subject to improvement notices","FSA",null,null,"Y",null," quarterly","Single tier & lower tier",null,null,"","",null,null,"Y",{"$nulls":28},"",null,0,null,null,190,23,null,1,49,481,1049481,502]
["D","190-24","Food Hygiene (LA food law enforcement monitoring return)","No. of establishments (approved premises) subject to remedial action & detention notices","FSA",null,null,"Y",null," quarterly","Single tier & lower tier",null,null,"","",null,null,"Y",{"$nulls":28},"",null,0,null,null,190,24,null,1,49,482,1049482,503]
["D","190-25","Food Hygiene (LA food law enforcement monitoring return)","No. of establishments subject to written warnings","FSA",null,null,"Y",null," quarterly","Single tier & lower tier",null,null,"","",null,null,"Y",{"$nulls":28},"",null,0,null,null,190,25,null,1,49,483,1049483,504]
["D","190-26","Food Hygiene (LA food law enforcement monitoring return)","No. of prosecutions instigated ","FSA",null,null,"Y",null," quarterly","Single tier & lower tier",null,null,"","",null,null,"Y",{"$nulls":28},"",null,0,null,null,190,26,null,1,49,484,1049484,505]
["D","190-35","Food Hygiene (LA food law enforcement monitoring return)","Number of food hygiene complaints received and investigated","FSA",null,null,"Y",null," quarterly","Single tier & lower tier",null,null,"","",null,null,"Y",{"$nulls":28},"",null,0,null,null,190,35,null,1,49,485,1049485,506]
["D","190-36","Food Hygiene (LA food law enforcement monitoring return)","Number of complaints about the hygiene of food premises received and investigated","FSA",null,null,"Y",null," quarterly","Single tier & lower tier",null,null,"","",null,null,"Y",{"$nulls":28},"",null,0,null,null,190,36,null,1,49,486,1049486,507]
["D","190-37","Food Hygiene (LA food law enforcement monitoring return)","Microbiological contamination: No. of analyses ","FSA",null,null,"Y",null,"annual","Single tier & lower tier",null,null,"","",null,null,"Y",{"$nulls":28},"",null,0,null,null,190,37,null,1,49,487,1049487,508]
["D","190-41","Food Hygiene (LA food law enforcement monitoring return)","Other contamination: No. of analyses ","FSA",null,null,"Y",null,"annual","Single tier & lower tier",null,null,"","",null,null,"Y",{"$nulls":28},"",null,0,null,null,190,41,null,1,49,488,1049488,509]
["D","190-44","Food Hygiene (LA food law enforcement monitoring return)","Composition: No. of analyses ","FSA",null,null,"Y",null,"annual","Single tier & lower tier",null,null,"","",null,null,"Y",{"$nulls":28},"",null,0,null,null,190,44,null,1,49,489,1049489,510]
["D","190-47","Food Hygiene (LA food law enforcement monitoring return)","Labelling and presentation: No. of analyses ","FSA",null,null,"Y",null,"annual","Single tier & lower tier",null,null,"","",null,null,"Y",{"$nulls":28},"",null,0,null,null,190,47,null,1,49,490,1049490,511]
["D","190-48","Food Hygiene (LA food law enforcement monitoring return)","Sampling for allergens: No. of analyses ","FSA",null,null,"Y",null,"annual","Single tier & lower tier",null,null,"","",null,null,"Y",{"$nulls":28},"",null,0,null,null,190,48,null,1,49,491,1049491,512]
["D","190-50","Food Hygiene (LA food law enforcement monitoring return)","Others: No. of analyses ","FSA",null,null,"Y",null,"annual","Single tier & lower tier",null,null,"","",null,null,"Y",{"$nulls":28},"",null,0,null,null,190,50,null,1,49,492,1049492,513]
["D","190-53","Food Hygiene (LA food law enforcement monitoring return)","Total samples taken","FSA",null,null,"Y",null,"annual","Single tier & lower tier",null,null,"","",null,null,"Y",{"$nulls":28},"",null,0,null,null,190,53,null,1,49,493,1049493,514]
["C","191-00","Food Standards (LA food law enforcement monitoring return)",null,"FSA",null,null,"Y",null,"quarterly","Upper tier & single tier","Data on enforcement and official controls relating to food standards","There will be a bespoke end ofyear survey in April 2023. Bespoke returns are a temporary measure while new official control delivery models for food hygiene and food standards control and a new approach for the collection of data on the delivery of official food and feed controls are being developed.  During the transition period LAs will be required to obtain information and from their records and management information systems and manually enter it into the quarterly return.  Although the questions are more detailed than during the Covid recovery period, they aim to limit the burden on LAs.",{"$nulls":3},"For an example of published data from the bespoke returns  see Annex 2 and 4 -  FSA 21-12-14 - LA Recovery Plan Update .docx (food.gov.uk)","Y",null,"Y",null,"Y","Y","Y","Y","Y",{"$nulls":16},"Plus Port Health Authorities","County council, Metropolitan district, Unitary authority, London borough, City of London, Isles of Scilly, Port health authorities","aggregate/summary","excel",17,null,null,"Asif.Chowdhury@food.gov.uk",null,191,0,null,0,49,494,49494,128]
["D","191-01","Food Standards (LA food law enforcement monitoring return)","How much FS FTE resource is required to deliver the service in accordance with the FLCoP and the No. of FTE professional posts allocated/occupied/diverted for FS at fixed date. The actual number of allocated and occupied officers,suitably qualified, Regulatory  support officers and trainees","FSA",null,null,"Y",null,"quarterly","Upper tier & single tier",null,"The questions on allocated, occupied and diverted FTEs were asked quarterly in 2022/23.\nThe questions about the How much FTE resource has been identified in the local authority’s service plan in accordance with the FLCoP is new and is Pending and annual. \nThe questions about the actual number of allocated and occupied officers, Suitably qualified, Regulatory support officers and trainees was is in the 2022/23 annual return but are now proposed quarterly. \nThere was also an annual question for 2022/23 about how many occupied FTE posts were vacated: Because of officers retiring: Because of retention issues, and this question is now also pending for an annual return. \nAlso see detailed pending tab for further information regarding porposed changes for this data topic ",{"$f":"IF(OR($A496<>\"C\",P496=\"\"),\"\",HYPERLINK(P496,\"Collection\"))","v":""},{"$f":"IF(OR($A496<>\"C\",Q496=\"\"),\"\",HYPERLINK(Q496,\"Data\"))","v":""},null,null,"Y",{"$nulls":28},"",null,0,null,null,191,1,null,1,49,495,1049495,515]
["D","191-05","Food Standards (LA food law enforcement monitoring return)","No. of Interventions carried out by risk rating and interventions due and ouitstanding.","FSA",null,null,"Y",null,"quarterly","Upper tier & single tier",null,null,{"$f":"IF(OR($A497<>\"C\",P497=\"\"),\"\",HYPERLINK(P497,\"Collection\"))","v":""},"",null,null,"Y",{"$nulls":28},"",null,0,null,null,191,5,null,1,49,496,1049496,516]
["D","191-15","Food Standards (LA food law enforcement monitoring return)","No. new registrations. Are they considered based on risk and prioritised.","FSA",null,null,"Y",null,"quarterly","Upper tier & single tier",null,null,{"$f":"IF(OR($A498<>\"C\",P498=\"\"),\"\",HYPERLINK(P498,\"Collection\"))","v":""},"",null,null,"Y",{"$nulls":28},"",null,0,null,null,191,15,null,1,49,497,1049497,517]
["D","191-16","Food Standards (LA food law enforcement monitoring return)","No. of premises as at 1st April, by premises rating","FSA",null,null,"Y",null,"quarterly","Upper tier & single tier",null,null,"","",null,null,"Y",{"$nulls":28},"",null,0,null,null,191,16,null,1,49,498,1049498,518]
["D","191-17","Food Standards (LA food law enforcement monitoring return)","No. of establishments subject to seizure, detention & surrender of food","FSA",null,null,"Y",null,"quarterly","Upper tier & single tier",null,null,"","",null,null,"Y",{"$nulls":28},"",null,0,null,null,191,17,null,1,49,499,1049499,519]
["D","191-18","Food Standards (LA food law enforcement monitoring return)","No. of establishments subject to improvement notices","FSA",null,null,"Y",null,"quarterly","Upper tier & single tier",null,null,"","",null,null,"Y",{"$nulls":28},"",null,0,null,null,191,18,null,1,49,500,1049500,520]
["D","191-19","Food Standards (LA food law enforcement monitoring return)","No. of establishments subject to simple caution","FSA",null,null,"Y",null,"quarterly","Upper tier & single tier",null,null,"","",null,null,"Y",{"$nulls":28},"",null,0,null,null,191,19,null,1,49,501,1049501,521]
["D","191-21","Food Standards (LA food law enforcement monitoring return)","No. of establishments subject to written warnings","FSA",null,null,"Y",null,"quarterly","Upper tier & single tier",null,null,"","",null,null,"Y",{"$nulls":28},"",null,0,null,null,191,21,null,1,49,502,1049502,522]
["D","191-22","Food Standards (LA food law enforcement monitoring return)","No. of prosecutions instigated ","FSA",null,null,"Y",null,"quarterly","Upper tier & single tier",null,null,"","",null,null,"Y",{"$nulls":28},"",null,0,null,null,191,22,null,1,49,503,1049503,523]
["D","191-31","Food Standards (LA food law enforcement monitoring return)","Number of food complaints received and investigated","FSA",null,null,"Y",null,"quarterly","Upper tier & single tier",null,null,"","",null,null,"Y",{"$nulls":28},"",null,0,null,null,191,31,null,1,49,504,1049504,524]
["D","191-34","Food Standards (LA food law enforcement monitoring return)","Microbiological contamination: No. of analyses ","FSA",null,null,"Y",null,"annual","Upper tier & single tier",null,null,"","",null,null,"Y",{"$nulls":28},"",null,0,null,null,191,34,null,1,49,505,1049505,525]
["D","191-38","Food Standards (LA food law enforcement monitoring return)","Other contamination: No. of analyses ","FSA",null,null,"Y",null,"annual","Upper tier & single tier",null,null,"","",null,null,"Y",{"$nulls":28},"",null,0,null,null,191,38,null,1,49,506,1049506,526]
["D","191-41","Food Standards (LA food law enforcement monitoring return)","Composition: No. of analyses ","FSA",null,null,"Y",null,"annual","Upper tier & single tier",null,null,"","",null,null,"Y",{"$nulls":28},"",null,0,null,null,191,41,null,1,49,507,1049507,527]
["D","191-44","Food Standards (LA food law enforcement monitoring return)","Labelling and presentation: No. of analyses  ","FSA",null,null,"Y",null,"annual","Upper tier & single tier",null,null,"","",null,null,"Y",{"$nulls":28},"",null,0,null,null,191,44,null,1,49,508,1049508,528]
["D","191-45","Food Standards (LA food law enforcement monitoring return)","Sampling for allergens: No of analyses ","FSA",null,null,"Y",null,"annual","Upper tier & single tier",null,null,"","",null,null,"Y",{"$nulls":28},"",null,0,null,null,191,45,null,1,49,509,1049509,529]
["D","191-47","Food Standards (LA food law enforcement monitoring return)","Others: No. of analyses ","FSA",null,null,"Y",null,"annual","Upper tier & single tier",null,null,"","",null,null,"Y",{"$nulls":28},"",null,0,null,null,191,47,null,1,49,510,1049510,530]
["D","191-50","Food Standards (LA food law enforcement monitoring return)","Total samples taken","FSA",null,null,"Y",null,"annual","Upper tier & single tier",null,null,"","",null,null,"Y",{"$nulls":28},"",null,0,null,null,191,50,null,1,49,511,1049511,531]
["C","193-00","Central Lists of Feed Business Establishments",null,"FSA",null,null,"Y",null,"quarterly","Upper tier & single tier","Names and addresses of approval/registered feed business establishments, manufacturing, marketing or using feed.",null,"","Data",null,"https://www.food.gov.uk/sites/default/files/media/document/approved-feed-establishments-uk-may-2019.xls","Y",null,"Y",null,"Y","Y","Y","Y","Y",{"$nulls":17},"County council, Metropolitan district, Unitary authority, London borough, City of London, Isles of Scilly","client based",null,1,{"$nulls":4},193,0,null,0,49,512,49512,129]
["D","193-01","Central Lists of Feed Business Establishments","Details of feed business establishments approved and registered by local authorities","FSA",null,null,"Y",null,"every 12 months","Upper tier & single tier",null,null,"","",null,null,"Y",{"$nulls":28},"",null,0,null,null,193,1,null,1,49,513,1049513,532]
["C","194-00","Approved Food Premises",null,"FSA",null,null,"Y",null,"as required","All local authorities","Information about the granting of a new approval to a food establishment, or when an existing approval is amended or revoked. ","Establishments in GB who have also expressed an interest in exporting to the EU are published separately by Defra here Businesses approved to export to the EU - GOV.UK (www.gov.uk) ","","Data",null,"http://www.food.gov.uk/enforcement/sectorrules/approvedestabsuk/","Y",null,"Y","Y","Y","Y","Y","Y","Y",{"$nulls":17},"County council, District council, Metropolitan district, Unitary authority, London borough, City of London, Isles of Scilly","client based",null,1,{"$nulls":4},194,0,null,0,49,514,49514,130]
["D","194-01","Approved Food Premises","Whole return","FSA",null,null,"Y",null,"as required","All local authorities",null,null,"","",null,null,"Y",{"$nulls":28},"",null,0,null,null,194,1,null,1,49,515,1049515,533]
["C","195-00","Imported Food Safeguard Measures",null,"FSA",null,null,"Y",null,"quarterly","Other","Specific EU safeguard measures require provision of sampling information on specific commodities from certain countries.",null,"","",null,null,"Y",null,"Y","Y","Y","Y","Y","Y","Y",{"$nulls":16},"Plus port health authorities.\nOnly those responsible for Ports and Airports.","County council, District council, Metropolitan district, Unitary authority, London borough, City of London, Isles of Scilly, and Port health authorities, who are responsible for Ports and Airports.","case based",null,2,{"$nulls":4},195,0,null,0,49,516,49516,131]
["D","195-01","Imported Food Safeguard Measures","Consignment details","FSA",null,null,"Y",null,"quarterly","Other","This data is now only collected from Port Health Authorities and LAs for imports that do not require pre- notification via a Common Entry Document and from certain hazards","From 1 January 2021 the FSA obtains this information from the UK web-based electronic pre-notification system called IPAFFS","","",null,null,"Y",{"$nulls":28},"",null,0,null,null,195,1,null,1,49,517,1049517,534]
["D","195-01","Imported Food Safeguard Measures","Sample results","FSA",null,null,"Y",null,"quarterly","Other","This  data is now only collected from Port Health Authorities and LAs for imports that do not require pre- notification via a Common Entry Document and from certain hazards","From 1 January 2021 the FSA obtains this information from the UK web-based electronic pre-notification system called IPAFFS","","",null,null,"Y",{"$nulls":28},"",null,0,null,null,195,1,null,1,49,518,1049518,535]
["C","196-00","Animal Feed Data returns",null,"FSA",null,null,"Y",null,"annual","Upper tier & single tier","Information on official controls undertaken, enforcement resources available, sampling results, enforcement actions and lists of registered/approved premises. ",null,"","",null,null,"Y",null,"Y",null,"Y","Y","Y","Y","Y",{"$nulls":17},"County council, Metropolitan district, Unitary authority, London borough, City of London, Isles of Scilly","aggregate/summary","excel",8,null,null,"Asif.Chowdhury@food.gov.uk",null,196,0,null,0,49,519,49519,132]
["D","196-01","Animal Feed Data returns","No. of Premises as at 31st March 202X, by type of premises","FSA",null,null,"Y",null,"annual","Upper tier & single tier",null,null,"","",null,null,"Y",{"$nulls":28},"",null,0,null,null,196,1,null,1,49,520,1049520,536]
["D","196-02","Animal Feed Data returns","No. inspections/audit achieved in the financial year, by type of premises","FSA",null,null,"Y",null,"annual","Upper tier & single tier",null,null,"","",null,null,"Y",{"$nulls":28},"",null,0,null,null,196,2,null,1,49,521,1049521,537]
["D","196-03","Animal Feed Data returns","No. of revisits achieved in the financial year, by type of premises","FSA",null,null,"Y",null,"annual","Upper tier & single tier",null,null,"","",null,null,"Y",{"$nulls":28},"",null,0,null,null,196,3,null,1,49,522,1049522,538]
["D","196-04","Animal Feed Data returns","No. of premises given advice in the financial year, by type of premises","FSA",null,null,"Y",null,"annual","Upper tier & single tier",null,null,"","",null,null,"Y",{"$nulls":28},"",null,0,null,null,196,4,null,1,49,523,1049523,539]
["D","196-05","Animal Feed Data returns","No. of other active interventions achieved in the financial year, by type of premises","FSA",null,null,"Y",null,"annual","Upper tier & single tier",null,null,"","",null,null,"Y",{"$nulls":28},"",null,0,null,null,196,5,null,1,49,524,1049524,540]
["D","196-06","Animal Feed Data returns","No. of sampling visits, by type of premises","FSA",null,null,"Y",null,"annual","Upper tier & single tier",null,null,"","",null,null,"Y",{"$nulls":28},"",null,0,null,null,196,6,null,1,49,525,1049525,541]
["D","196-07","Animal Feed Data returns","No. of establishments subject to written warnings during the financial year, by type of premises","FSA",null,null,"Y",null,"annual","Upper tier & single tier",null,null,"","",null,null,"Y",{"$nulls":28},"",null,0,null,null,196,7,null,1,49,526,1049526,542]
["D","196-08","Animal Feed Data returns","No.of formal enforcement actions used","FSA",null,null,"Y",null,"annual","Upper tier & single tier",null,null,"","",null,null,"Y",{"$nulls":28},"",null,0,null,null,196,8,null,1,49,527,1049527,543]
["C","197-00","Food Hygiene Rating Scheme (FHRS)",null,"FSA",{"$nulls":4},"monthly","All local authorities","Scheme to provide information to consumers about standards of hygiene in places where they eat out or buy food.","Local authority participation in the FHRS is  voluntary","Collection","Data","http://www.food.gov.uk/enforcement/enfcomm/fhrssteeringgroup/hygieneratingsguidance/","http://www.food.gov.uk/ratings","Y",null,"Y","Y","Y","Y","Y","Y","Y",{"$nulls":17},"County council, District council, Metropolitan district, Unitary authority, London borough, City of London, Isles of Scilly","n/k",null,4,null,null,"Asif.Chowdhury@food.gov.uk",null,197,0,null,0,49,528,49528,133]
["D","197-01","Food Hygiene Rating Scheme (FHRS)","Details of establishments supplying food direct to the consumer","FSA",{"$nulls":4},"monthly","All local authorities",null,null,"","",null,null,"Y",{"$nulls":28},"",null,0,null,null,197,1,null,1,49,529,1049529,544]
["D","197-02","Food Hygiene Rating Scheme (FHRS)","Level of food hygiene and safety compliance by score","FSA",{"$nulls":4},"monthly","All local authorities",null,null,"","",null,null,"Y",{"$nulls":28},"",null,0,null,null,197,2,null,1,49,530,1049530,545]
["D","197-03","Food Hygiene Rating Scheme (FHRS)","Level of structural compliance : by score","FSA",{"$nulls":4},"monthly","All local authorities",null,null,"","",null,null,"Y",{"$nulls":28},"",null,0,null,null,197,3,null,1,49,531,1049531,546]
["D","197-04","Food Hygiene Rating Scheme (FHRS)","Confidence in management/control systems:by score ","FSA",{"$nulls":4},"monthly","All local authorities",null,null,"","",null,null,"Y",{"$nulls":28},"",null,0,null,null,197,4,null,1,49,532,1049532,547]
["C","163-00","Alcohol and Late Night Refreshment Licensing",null,"HO",{"$nulls":4},"every 2 years","Single tier & lower tier","Collection from local authorities to monitor impact of Licensing Act 2003 and subsequent changes to legislation. ","Alcohol and Late Night Refreshment Licensing\nFrequency is every two years. ","Collection","Data","https://www.gov.uk/government/collections/alcohol-and-late-night-refreshment-licensing-england-and-wales-statistics","https://assets.publishing.service.gov.uk/government/uploads/system/uploads/attachment_data/file/1109599/alcohol-late-night-licensing-tables-2022.ods",{"$nulls":3},"Y","Y","Y","Y","Y","Y",{"$nulls":17},"District council, Metropolitan district, Unitary authority, London borough, City of London, Isles of Scilly","aggregate/summary",null,1,null,null,"Tina.Heath@homeoffice.gov.uk",null,163,0,null,0,20,533,20533,102]
["D","163-01","Alcohol and Late Night Refreshment Licensing","Information on the numbers of alcohol and late night refreshment licences granted. Includes statistics on premises licences, club premises certificates, personal licences, late night refreshment and 24-hour alcohol licences","HO",{"$nulls":4},"every 2 years","Single tier & lower tier",null,null,{"$f":"IF(OR($A535<>\"C\",P535=\"\"),\"\",HYPERLINK(P535,\"Collection\"))","v":""},{"$f":"IF(OR($A535<>\"C\",Q535=\"\"),\"\",HYPERLINK(Q535,\"Data\"))","v":""},null,null,0,{"$nulls":28},"",null,0,null,null,163,1,null,1,20,534,1020534,430]
["C","180-00","Youth Justice Application Framework (YJAF)",null,"MoJ/YJB",{"$nulls":4},"quarterly","Upper tier & single tier"," A management information system that receives data directly from Youth Justice Service (YJS) and youth secure estate case management systems as well as bespoke summary data returns.",null,"","",null,null,"Y",null,"Y",null,"Y","Y","Y",{"$nulls":18},"Some YOTs cover more than one authority.","County council, Metropolitan district, Unitary authority, London borough","case based",null,1,null,null,"stephen.kennedy@yjb.gov.uk\nInformationandanalysis@yjb.gov.uk",null,180,0,null,0,47,535,47535,125]
["D","180-01","Youth Justice Application Framework (YJAF)","Case-level and summary-level data.","MoJ/YJB",{"$nulls":4},"quarterly","Upper tier & single tier",null,null,"","",null,null,"Y",{"$nulls":28},"",null,0,null,null,180,1,null,1,47,536,1047536,490]
["C","215-00","Electoral Statistics",null,"ONS",null,"Y",null,null,"annual","All local authorities","Numbers of people who are registered to vote for local government and Parliamentary elections",null,"","Data",null,"http://www.ons.gov.uk/ons/rel/pop-estimate/electoral-statistics-for-uk/2011/stb---2011-electoral-statistics.html","Y",null,"Y","Y","Y","Y","Y","Y","Y",{"$nulls":17},"County council, District council, Metropolitan district, Unitary authority, London borough, City of London, Isles of Scilly","aggregate/summary",null,1,null,null,"White, Andy <andy.white@ons.gov.uk>",null,215,0,null,0,50,537,50537,134]
["D","215-01","Electoral Statistics","Numbers of local government and Parliamentary electors","ONS",null,"Y",null,null,"annual","All local authorities",null,null,"","",null,null,"Y",{"$nulls":28},"",null,0,null,null,215,1,null,1,50,538,1050538,548]
["C","054-00","Quarterly Public Sector Employment Survey - local authority data collection",null,"ONS",null,"Y",null,null,"quarterly","All local authorities","Local government employment.",null,"","",null,null,"Y",null,"Y","Y","Y","Y","Y","Y","Y","Y",{"$nulls":3},"Y",null,"Y","Y",null,"Y",null,"Y",{"$nulls":5},"County council, District council, Metropolitan district, Unitary authority, London borough, City of London, Isles of Scilly","aggregate/summary",null,2,null,"Local government","PSE@ons.gov.uk)",null,54,0,null,0,50,539,50539,135]
["D","054-01","Quarterly Public Sector Employment Survey - local authority data collection","Full-time equivalent and headcount numbers","ONS",null,"Y",null,null,"quarterly","All local authorities",null,null,"","",null,null,"Y",{"$nulls":28},"",null,0,null,null,54,1,null,1,50,540,1050540,549]
["D","054-02","Quarterly Public Sector Employment Survey - local authority data collection","Breakdowns by gender, whether part-time/full-time. Whether casual permanent","ONS",null,"Y",null,null,"quarterly","All local authorities",null,null,"","",null,null,"Y",{"$nulls":28},"",null,0,null,null,54,2,null,1,50,541,1050541,550]
["C","269-00","Council Tax Data Acquisition from Local Authorities ",null,"ONS",null,"Y",null,null,"monthly","All local authorities","The information is extracted from local authorities Revenue & Benefits system on 13th of each month and transferred to ONS securely.  The software to extract the files have been produced and provided to local authorities by their service provider.  ","ONS is collecting Council Tax data from local authorities in England, Wales and Scotland to improve statistics for the public good, including but not limited to the operation and quality assurance of the 2021 Census, and the production of the Admin Data Census as requested by Central Government.  Council Tax data will be used to improve the quality and timeliness of a range of national statistics including population, migration, housing, poverty and equality.  Council tax data will be linked and matched to various other administrative data sources held by ONS, within a secure environment, to achieve improvements in our statistical outputs.  More accurate small geographical level statistics can also be produced using Council Tax data, which in turn will allow for improved and better targeted decision-making and spending. ","",{"$nulls":3},"Y",null,"Y","Y","Y","Y","Y","Y","Y","Y",{"$nulls":3},"Y",null,"Y","Y",null,"Y",null,"Y",{"$nulls":5},"County council, District council, Metropolitan district, Unitary authority, London borough, City of London, Isles of Scilly","Individual","csv piped deliminated extract and manifest files",1,null,"Local government","council.tax@ons.gov.uk; john.ashworth@ons.gov.uk",null,269,0,null,0,50,542,50542,136]
["D","269-01","Council Tax Data Acquisition from Local Authorities ","Record-level extract including personal information on each household in England liable for Council Tax ","ONS",null,"Y",null,null,"monthly","All local authorities",null,"ONS are committed to addressing all individual LA respondents’ data protection concerns. ",{"$nulls":4},"Y",{"$nulls":26},"Individual",{"$nulls":3},0,null,null,269,1,null,1,50,543,1050543,551]
["C","227-00","Performance Standards for Electoral Registration Officers",null,"EC",{"$nulls":4},"annual","Sample of authorities","Performance Standards for Electoral Registration Officers","The Commission collects electoral registration data annually from all Electoral Registration Officers at the conclusion of the annual canvass and publication fo the revised electoral registers on 1 December.",{"$f":"IF(OR($A545<>\"C\",P545=\"\"),\"\",HYPERLINK(P545,\"Collection\"))","v":""},{"$f":"IF(OR($A545<>\"C\",Q545=\"\"),\"\",HYPERLINK(Q545,\"Data\"))","v":""},null,null,"Y",null,"Y","Y","Y","Y","Y","Y","Y",{"$nulls":17},"County council, District council, Metropolitan district, Unitary authority, London borough, City of London, Isles of Scilly","aggregate/summary",null,1,null,null,"Melanie Davidson <mdavidson@electoralcommission.org.uk>",null,227,0,null,0,54,544,54544,140]
["D","227-01","Performance Standards for Electoral Registration Officers","Performance Standards for Electoral Registration Officers","EC",{"$nulls":4},"annual","Sample of authorities",null,null,"","",null,null,"Y",{"$nulls":28},"",null,0,null,null,227,1,null,1,54,545,1054545,553]
["C","228-00","Performance Standards for Returning Officers ",null,"EC",{"$nulls":4},"annual","Sample of authorities","Performance Standards for Returning Officers ","The Commission collects electoral administration data for all elections. ","","",null,null,"Y",null,"Y","Y","Y","Y","Y","Y","Y",{"$nulls":17},"County council, District council, Metropolitan district, Unitary authority, London borough, City of London, Isles of Scilly","aggregate/summary",null,1,null,null,"Melanie Davidson <mdavidson@electoralcommission.org.uk>",null,228,0,null,0,54,546,54546,141]
["D","228-01","Performance Standards for Returning Officers ","Performance Standards for Returning Officers ","EC",{"$nulls":4},"annual","Sample of authorities",null,null,"","",null,null,"Y",{"$nulls":28},"",null,0,null,null,228,1,null,1,54,547,1054547,554]
["C","229-00","Statement of Postal Ballot Papers ",null,"EC",{"$nulls":4},"annual","All local authorities","Statement of Postal Ballot Papers ","The Commission collects electoral administration data for all elections.  This includes data relating to postal ballots","","",null,null,"Y",null,"Y","Y","Y","Y","Y","Y","Y",{"$nulls":17},"County council, District council, Metropolitan district, Unitary authority, London borough, City of London, Isles of Scilly","n/k",null,1,null,0,null,null,0,0,0,0,54,548,54548,142]
["D","229-01","Statement of Postal Ballot Papers ","Statement of Postal Ballot Papers ","EC",{"$nulls":43},0,null,null,0,1,null,1,54,549,1054549,555]
["C","232-00","Return of statistical information relating to conduct of elections",null,"EC",{"$nulls":4},"annual","All local authorities","Statistical information relating to conduct of elections","The Commission collects electoral administration data for all elections","","",null,null,"Y",null,"Y","Y","Y","Y","Y","Y","Y",{"$nulls":17},"County council, District council, Metropolitan district, Unitary authority, London borough, City of London, Isles of Scilly","aggregate/summary",null,1,null,null,"Melanie Davidson <mdavidson@electoralcommission.org.uk>",null,232,0,null,0,54,550,54550,143]
["D","232-01","Return of statistical information relating to conduct of elections","Statistical information relating to conduct of elections","EC",{"$nulls":4},"annual","All local authorities",null,null,"","",null,"http://www.electoralcommission.org.uk/our-work/our-research/electoral-data","Y",{"$nulls":28},"",null,0,null,null,232,1,null,1,54,551,1054551,556]
["C","250-00","Statement of results",null,"EC",{"$nulls":4},"annual","All local authorities","Statement of results","The Commission collects electoral administration data for all elections. Some of this data comes from the declaration of results, eg electorate size. However, the Commission does not collect the results themselves.","","",null,null,"Y",null,"Y","Y","Y","Y","Y","Y","Y",{"$nulls":17},"County council, District council, Metropolitan district, Unitary authority, London borough, City of London, Isles of Scilly","n/k",null,1,null,null,"Melanie Davidson <mdavidson@electoralcommission.org.uk>",null,250,0,null,0,54,552,54552,144]
["D","250-01","Statement of results","Statement of results","EC",{"$nulls":4},"annual","All local authorities",null,null,"","",null,"http://www.electoralcommission.org.uk/our-work/our-research/electoral-data","Y",{"$nulls":28},"",null,0,null,null,250,1,null,1,54,553,1054553,557]
[{"$nulls":13},"","",{"$nulls":38},0]
{"$rows_empty":16}
["X",null,"Central government departments",null,"Dept.",{"$nulls":8},{"$f":"IF(OR($A572<>\"C\",P572=\"\"),\"\",HYPERLINK(P572,\"Collection\"))","v":""},{"$f":"IF(OR($A572<>\"C\",Q572=\"\"),\"\",HYPERLINK(Q572,\"Data\"))","v":""},{"$nulls":39},0,1,571,1571,1]
["X",null,"Central government bodies, agencies and at arm's length bodies",null,"Agency/body",{"$nulls":8},{"$f":"IF(OR($A573<>\"C\",P573=\"\"),\"\",HYPERLINK(P573,\"Collection\"))","v":""},{"$f":"IF(OR($A573<>\"C\",Q573=\"\"),\"\",HYPERLINK(Q573,\"Data\"))","v":""},{"$nulls":39},0,24,572,24572,103]
["X",null,"Other independent public bodies",null,"Other",{"$nulls":8},{"$f":"IF(OR($A574<>\"C\",P574=\"\"),\"\",HYPERLINK(P574,\"Collection\"))","v":""},{"$f":"IF(OR($A574<>\"C\",Q574=\"\"),\"\",HYPERLINK(Q574,\"Data\"))","v":""},{"$nulls":39},0,48,573,48573,126]
["X",null,"Other public bodies NOT part of the Single Data List (x)",null,"Other (x)",{"$nulls":8},{"$f":"IF(OR($A575<>\"C\",P575=\"\"),\"\",HYPERLINK(P575,\"Collection\"))","v":""},{"$f":"IF(OR($A575<>\"C\",Q575=\"\"),\"\",HYPERLINK(Q575,\"Data\"))","v":""},{"$nulls":39},0,53,574,53574,139]
["x",null,"Other Independent bodies ",null,"Other (a)",{"$nulls":8},{"$f":"IF(OR($A576<>\"C\",P576=\"\"),\"\",HYPERLINK(P576,\"Collection\"))","v":""},{"$f":"IF(OR($A576<>\"C\",Q576=\"\"),\"\",HYPERLINK(Q576,\"Data\"))","v":""},{"$nulls":39},0,51,575,51575,137]

{"sheet":"Find","index":3,"n_rows":81,"n_cols":68,"rows_kept":81}
[]
[null,"Find collections/returns by reference number",{"$nulls":10},"Row",{"$f":"RefsLookup!B1","v":"Ref part 1"},{"$f":"RefsLookup!C1","v":"Row Main"},{"$f":"RefsLookup!D1","v":"Row Pending"},{"$f":"RefsLookup!E1","v":"Row Removed"},{"$f":"RefsLookup!F1","v":"Collection name"},{"$f":"RefsLookup!G1","v":"Dept"},{"$f":"RefsLookup!H1","v":"Topics"},{"$f":"RefsLookup!I1","v":"List"},{"$f":"RefsLookup!J1","v":"Exists"},{"$f":"RefsLookup!K1","v":"Error"},null,"Max ref"]
[{"$nulls":12},{"$f":"MATCH(B4,RefsLookup!B:B,0)","v":2},{"$f":"OFFSET(RefsLookup!B$1,$M$3-1,0)","v":1},{"$f":"OFFSET(RefsLookup!C$1,$M$3-1,0)","v":2},{"$f":"OFFSET(RefsLookup!D$1,$M$3-1,0)","v":2},{"$f":"OFFSET(RefsLookup!E$1,$M$3-1,0)","v":{"$error":"#N/A"}},{"$f":"OFFSET(RefsLookup!F$1,$M$3-1,0)","v":"Weights and measures enforcement (section 70)"},{"$f":"OFFSET(RefsLookup!G$1,$M$3-1,0)","v":"DBT/OPSS"},{"$f":"OFFSET(RefsLookup!H$1,$M$3-1,0)","v":2},{"$f":"OFFSET(RefsLookup!I$1,$M$3-1,0)","v":1},{"$f":"OFFSET(RefsLookup!J$1,$M$3-1,0)","v":true},{"$f":"OFFSET(RefsLookup!K$1,$M$3-1,0)","v":true},null,277]
[null,{"v":1,"d":"001"}]
[]
[null,{"$f":"Notes!B2","v":"Single data list of central government data requirements from local government 2023-24"},null,null,"Link",{"$nulls":3},"List","Name","Worksheet","Row",{"$f":"DetailList!A1","v":"     Level"},{"$f":"DetailList!B1","v":"Ref"},{"$f":"DetailList!C1","v":"Data collection name"},{"$f":"DetailList!D1","v":"Data topic"},{"$f":"DetailList!E1","v":"Dept."},{"$f":"DetailList!F1","v":"     New"},{"$f":"DetailList!#REF!","v":{"$error":"#REF!"}},{"$f":"DetailList!G1","v":"     National Statistics"},{"$f":"DetailList!H1","v":"     EU/Int. legal oblig."},{"$f":"DetailList!I1","v":"     UK legal obligation"},{"$f":"DetailList!J1","v":"Freq."},{"$f":"DetailList!K1","v":"Authority group"},{"$f":"DetailList!L1","v":"Short description"},{"$f":"DetailList!M1","v":"Comments"},{"$f":"DetailList!N1","v":"Links"},{"$f":"DetailList!O1","v":"."},{"$f":"DetailList!P1","v":"Link to return"},{"$f":"DetailList!Q1","v":"Link to example of published data"},{"$f":"DetailList!R1","v":"     Body/Agency/ALB"},{"$f":"DetailList!S1","v":"NI"},{"$f":"DetailList!T1","v":"     County council"},{"$f":"DetailList!U1","v":"     District council"},{"$f":"DetailList!V1","v":"     Metropolitan district"},{"$f":"DetailList!W1","v":"     Unitary authority"},{"$f":"DetailList!X1","v":"     London borough"},{"$f":"DetailList!Y1","v":"     City of London"},{"$f":"DetailList!Z1","v":"     Isles of Scilly"},{"$f":"DetailList!AA1","v":"     Fire & rescue authority"},{"$f":"DetailList!AB1","v":"     Police authority"},{"$f":"DetailList!AC1","v":"     Joint waste authority"},{"$f":"DetailList!AD1","v":"     Waste disposal authority"},{"$f":"DetailList!AE1","v":"     National park authority"},{"$f":"DetailList!AF1","v":"     Integrated transport authority"},{"$f":"DetailList!AG1","v":"     GLA"},{"$f":"DetailList!AH1","v":"     Transport for London"},{"$f":"DetailList!AI1","v":"     London Development Agency"},{"$f":"DetailList!AJ1","v":"     London Fire & Emergency Planning authority"},{"$f":"DetailList!AK1","v":"     Metropolitan Police Authority"},{"$f":"DetailList!AL1","v":"     Broads Authority"},{"$f":"DetailList!AM1","v":"     Joint authority"},{"$f":"DetailList!AN1","v":"     Combined authority"},{"$f":"DetailList!AO1","v":"     Parish council"},{"$f":"DetailList!AP1","v":"     Parish meeting"},{"$f":"DetailList!AQ1","v":"LA class comments"},{"$f":"DetailList!AR1","v":"LA classes"},{"$f":"DetailList!AS1","v":"Collection type"},{"$f":"DetailList!AT1","v":"Format"},{"$f":"DetailList!AU1","v":"Data topics"},{"$f":"DetailList!AV1","v":"."},{"$f":"DetailList!AW1","v":"Theme"},{"$f":"DetailList!AX1","v":"Contact"},{"$f":"DetailList!#REF!","v":{"$error":"#REF!"}},{"$f":"DetailList!#REF!","v":{"$error":"#REF!"}},{"$f":"DetailList!AY1","v":"."},{"$f":"DetailList!AZ1","v":"Ref part 1"},{"$f":"DetailList!BA1","v":"Ref part 2"}]
[null,null,{"$f":"CHOOSE(I11,O11,\"PENDING: [\"&O11&\"]\",\" +++++ REMOVED [\"&O11&\"] +++++\")","v":"Weights and measures enforcement (section 70)"},null,{"$f":"HYPERLINK(\"#\"&K11&\"!A\"&L11,J11)","v":"Detailed list"},{"$nulls":3},1,"Detailed list","DetailList",{"$f":"O3","v":2},{"$f":"OFFSET(DetailList!A$1,$O$3-1,0)","v":"C"},{"$f":"OFFSET(DetailList!B$1,$O$3-1,0)","v":"001-00"},{"$f":"OFFSET(DetailList!C$1,$O$3-1,0)","v":"Weights and measures enforcement (section 70)"},{"$f":"OFFSET(DetailList!D$1,$O$3-1,0)","v":0},{"$f":"OFFSET(DetailList!E$1,$O$3-1,0)","v":"DBT/OPSS"},{"$f":"OFFSET(DetailList!F$1,$O$3-1,0)","v":0},{"$f":"OFFSET(DetailList!#REF!,$O$3-1,0)","v":{"$error":"#REF!"}},{"$f":"OFFSET(DetailList!G$1,$O$3-1,0)","v":0},{"$f":"OFFSET(DetailList!H$1,$O$3-1,0)","v":0},{"$f":"OFFSET(DetailList!I$1,$O$3-1,0)","v":"Y"},{"$f":"OFFSET(DetailList!J$1,$O$3-1,0)","v":"annual"},{"$f":"OFFSET(DetailList!K$1,$O$3-1,0)","v":"Upper tier & single tier"},{"$f":"OFFSET(DetailList!L$1,$O$3-1,0)","v":"The level of local weights and measures enforcement work."},{"$f":"OFFSET(DetailList!M$1,$O$3-1,0)","v":"Weights and Measures Act 1985 section 70. https://www.gov.uk/guidance/enforcement-of-the-weights-and-measures-act-1985  "},{"$f":"OFFSET(DetailList!N$1,$O$3-1,0)","v":"Collection"},{"$f":"OFFSET(DetailList!O$1,$O$3-1,0)","v":""},{"$f":"OFFSET(DetailList!P$1,$O$3-1,0)","v":"www.gov.uk/government/publications/section-70-weights-and-measures-returns-and-reports"},{"$f":"OFFSET(DetailList!Q$1,$O$3-1,0)","v":0},{"$f":"OFFSET(DetailList!R$1,$O$3-1,0)","v":0},{"$f":"OFFSET(DetailList!S$1,$O$3-1,0)","v":0},{"$f":"OFFSET(DetailList!T$1,$O$3-1,0)","v":"Y"},{"$f":"OFFSET(DetailList!U$1,$O$3-1,0)","v":0},{"$f":"OFFSET(DetailList!V$1,$O$3-1,0)","v":"Y"},{"$f":"OFFSET(DetailList!W$1,$O$3-1,0)","v":"Y"},{"$f":"OFFSET(DetailList!X$1,$O$3-1,0)","v":"Y"},{"$f":"OFFSET(DetailList!Y$1,$O$3-1,0)","v":"Y"},{"$f":"OFFSET(DetailList!Z$1,$O$3-1,0)","v":"Y"},{"$f":"OFFSET(DetailList!AA$1,$O$3-1,0)","v":0},{"$f":"OFFSET(DetailList!AB$1,$O$3-1,0)","v":0},{"$f":"OFFSET(DetailList!AC$1,$O$3-1,0)","v":0},{"$f":"OFFSET(DetailList!AD$1,$O$3-1,0)","v":0},{"$f":"OFFSET(DetailList!AE$1,$O$3-1,0)","v":0},{"$f":"OFFSET(DetailList!AF$1,$O$3-1,0)","v":0},{"$f":"OFFSET(DetailList!AG$1,$O$3-1,0)","v":0},{"$f":"OFFSET(DetailList!AH$1,$O$3-1,0)","v":0},{"$f":"OFFSET(DetailList!AI$1,$O$3-1,0)","v":0},{"$f":"OFFSET(DetailList!AJ$1,$O$3-1,0)","v":0},{"$f":"OFFSET(DetailList!AK$1,$O$3-1,0)","v":0},{"$f":"OFFSET(DetailList!AL$1,$O$3-1,0)","v":0},{"$f":"OFFSET(DetailList!AM$1,$O$3-1,0)","v":0},{"$f":"OFFSET(DetailList!AN$1,$O$3-1,0)","v":0},{"$f":"OFFSET(DetailList!AO$1,$O$3-1,0)","v":0},{"$f":"OFFSET(DetailList!AP$1,$O$3-1,0)","v":0},{"$f":"OFFSET(DetailList!AQ$1,$O$3-1,0)","v":0},{"$f":"OFFSET(DetailList!AR$1,$O$3-1,0)","v":"County council, Metropolitan district, Unitary authority, London borough, City of London, Isles of Scilly"},{"$f":"OFFSET(DetailList!AS$1,$O$3-1,0)","v":"aggregate/summary"},{"$f":"OFFSET(DetailList!AT$1,$O$3-1,0)","v":"Spreadsheet"},{"$f":"OFFSET(DetailList!AU$1,$O$3-1,0)","v":2},{"$f":"OFFSET(DetailList!AV$1,$O$3-1,0)","v":0},{"$f":"OFFSET(DetailList!AW$1,$O$3-1,0)","v":"Trading standards"},{"$f":"OFFSET(DetailList!AX$1,$O$3-1,0)","v":"amanda.farrell@beis.gov.uk / gillian.asbury@beis.gov.uk"},{"$f":"OFFSET(DetailList!#REF!,$O$3-1,0)","v":{"$error":"#REF!"}},{"$f":"OFFSET(DetailList!#REF!,$O$3-1,0)","v":{"$error":"#REF!"}},{"$f":"OFFSET(DetailList!AY$1,$O$3-1,0)","v":0},{"$f":"OFFSET(DetailList!AZ$1,$O$3-1,0)","v":1},{"$f":"OFFSET(DetailList!BA$1,$O$3-1,0)","v":0}]
[null,"Department",{"$f":"Q11&\" (\"&Q12&\")\"","v":"DBT/OPSS (Department for Business and Trade - Office for Product Safety & Standards)"}," ",{"$nulls":4},2,"Detailed List - Pending","DetailListPending",{"$f":"P3","v":2},{"$f":"OFFSET(DetailListPending!A$1,$P$3-1,0)","v":"D"},{"$f":"OFFSET(DetailListPending!B$1,$P$3-1,0)","v":"190-01"},{"$f":"OFFSET(DetailListPending!C$1,$P$3-1,0)","v":"Food Hygiene (LA food law enforcement monitoring return)"},{"$f":"OFFSET(DetailListPending!D$1,$P$3-1,0)","v":"How much FH FTE resource is required to deliver the service in accordance with the FLCoP and the No. of FTE professional posts allocated/occupied/diverted at a fixed date. The actual number of allocated and occupied officers,suitably qualified, Regualtory support officers and trainees. Also New pending binary question - Has the local authority used Contractors/Agency staff in the last quarter? Yes/No"},{"$f":"OFFSET(DetailListPending!E$1,$P$3-1,0)","v":"FSA"},{"$f":"OFFSET(DetailListPending!F$1,$P$3-1,0)","v":0},{"$f":"OFFSET(DetailListPending!#REF!,$P$3-1,0)","v":{"$error":"#REF!"}},{"$f":"OFFSET(DetailListPending!G$1,$P$3-1,0)","v":0},{"$f":"OFFSET(DetailListPending!H$1,$P$3-1,0)","v":"Y"},{"$f":"OFFSET(DetailListPending!I$1,$P$3-1,0)","v":0},{"$f":"OFFSET(DetailListPending!J$1,$P$3-1,0)","v":" quarterly"},{"$f":"OFFSET(DetailListPending!K$1,$P$3-1,0)","v":"Single tier & lower tier"},{"$f":"OFFSET(DetailListPending!L$1,$P$3-1,0)","v":0},{"$f":"OFFSET(DetailListPending!M$1,$P$3-1,0)","v":"Data needed to assess resource considered necessary by the LA, allocated, available and diverted resource plus a breakdown of number of officers into three categories. The FTE related questions are proposed as annual questions while other resource questions are proposed quarterly"},{"$f":"OFFSET(DetailListPending!N$1,$P$3-1,0)","v":""},{"$f":"OFFSET(DetailListPending!O$1,$P$3-1,0)","v":""},{"$f":"OFFSET(DetailListPending!P$1,$P$3-1,0)","v":0},{"$f":"OFFSET(DetailListPending!Q$1,$P$3-1,0)","v":0},{"$f":"OFFSET(DetailListPending!R$1,$P$3-1,0)","v":"Y"},{"$f":"OFFSET(DetailListPending!S$1,$P$3-1,0)","v":0},{"$f":"OFFSET(DetailListPending!T$1,$P$3-1,0)","v":0},{"$f":"OFFSET(DetailListPending!U$1,$P$3-1,0)","v":0},{"$f":"OFFSET(DetailListPending!V$1,$P$3-1,0)","v":0},{"$f":"OFFSET(DetailListPending!W$1,$P$3-1,0)","v":0},{"$f":"OFFSET(DetailListPending!X$1,$P$3-1,0)","v":0},{"$f":"OFFSET(DetailListPending!Y$1,$P$3-1,0)","v":0},{"$f":"OFFSET(DetailListPending!Z$1,$P$3-1,0)","v":0},{"$f":"OFFSET(DetailListPending!AA$1,$P$3-1,0)","v":0},{"$f":"OFFSET(DetailListPending!AB$1,$P$3-1,0)","v":0},{"$f":"OFFSET(DetailListPending!AC$1,$P$3-1,0)","v":0},{"$f":"OFFSET(DetailListPending!AD$1,$P$3-1,0)","v":0},{"$f":"OFFSET(DetailListPending!AE$1,$P$3-1,0)","v":0},{"$f":"OFFSET(DetailListPending!AF$1,$P$3-1,0)","v":0},{"$f":"OFFSET(DetailListPending!AG$1,$P$3-1,0)","v":0},{"$f":"OFFSET(DetailListPending!AH$1,$P$3-1,0)","v":0},{"$f":"OFFSET(DetailListPending!AI$1,$P$3-1,0)","v":0},{"$f":"OFFSET(DetailListPending!AJ$1,$P$3-1,0)","v":0},{"$f":"OFFSET(DetailListPending!AK$1,$P$3-1,0)","v":0},{"$f":"OFFSET(DetailListPending!AL$1,$P$3-1,0)","v":0},{"$f":"OFFSET(DetailListPending!AM$1,$P$3-1,0)","v":0},{"$f":"OFFSET(DetailListPending!AN$1,$P$3-1,0)","v":0},{"$f":"OFFSET(DetailListPending!AO$1,$P$3-1,0)","v":0},{"$f":"OFFSET(DetailListPending!AP$1,$P$3-1,0)","v":0},{"$f":"OFFSET(DetailListPending!AQ$1,$P$3-1,0)","v":0},{"$f":"OFFSET(DetailListPending!AR$1,$P$3-1,0)","v":0},{"$f":"OFFSET(DetailListPending!AS$1,$P$3-1,0)","v":0},{"$f":"OFFSET(DetailListPending!AT$1,$P$3-1,0)","v":""},{"$f":"OFFSET(DetailListPending!AU$1,$P$3-1,0)","v":0},{"$f":"OFFSET(DetailListPending!AV$1,$P$3-1,0)","v":0},{"$f":"OFFSET(DetailListPending!AW$1,$P$3-1,0)","v":0},{"$f":"OFFSET(DetailListPending!AX$1,$P$3-1,0)","v":0},{"$f":"OFFSET(DetailListPending!#REF!,$P$3-1,0)","v":{"$error":"#REF!"}},{"$f":"OFFSET(DetailListPending!#REF!,$P$3-1,0)","v":{"$error":"#REF!"}},{"$f":"OFFSET(DetailListPending!AY$1,$P$3-1,0)","v":190},{"$f":"OFFSET(DetailListPending!AZ$1,$P$3-1,0)","v":1},{"$f":"OFFSET(DetailListPending!BA$1,$P$3-1,0)","v":0}]
[null,"New",{"$f":"IF(R11=\"Y\",\"Yes\",\"No\")","v":"No"}," ",{"$nulls":4},3,"Removed list","Removed",{"$f":"Q3","v":{"$error":"#N/A"}},{"$f":"OFFSET(Removed!A$1,$Q$3-1,0)","v":{"$error":"#N/A"}},{"$f":"OFFSET(Removed!B$1,$Q$3-1,0)","v":{"$error":"#N/A"}},{"$f":"OFFSET(Removed!C$1,$Q$3-1,0)","v":{"$error":"#N/A"}},{"$f":"OFFSET(Removed!D$1,$Q$3-1,0)","v":{"$error":"#N/A"}},{"$f":"OFFSET(Removed!E$1,$Q$3-1,0)","v":{"$error":"#N/A"}},{"$f":"OFFSET(Removed!F$1,$Q$3-1,0)","v":{"$error":"#N/A"}},{"$f":"OFFSET(Removed!#REF!,$Q$3-1,0)","v":{"$error":"#REF!"}},{"$f":"OFFSET(Removed!G$1,$Q$3-1,0)","v":{"$error":"#N/A"}},{"$f":"OFFSET(Removed!H$1,$Q$3-1,0)","v":{"$error":"#N/A"}},{"$f":"OFFSET(Removed!I$1,$Q$3-1,0)","v":{"$error":"#N/A"}},{"$f":"OFFSET(Removed!J$1,$Q$3-1,0)","v":{"$error":"#N/A"}},{"$f":"OFFSET(Removed!K$1,$Q$3-1,0)","v":{"$error":"#N/A"}},{"$f":"OFFSET(Removed!L$1,$Q$3-1,0)","v":{"$error":"#N/A"}},{"$f":"OFFSET(Removed!M$1,$Q$3-1,0)","v":{"$error":"#N/A"}},{"$f":"OFFSET(Removed!N$1,$Q$3-1,0)","v":{"$error":"#N/A"}},{"$f":"OFFSET(Removed!O$1,$Q$3-1,0)","v":{"$error":"#N/A"}},{"$f":"OFFSET(Removed!P$1,$Q$3-1,0)","v":{"$error":"#N/A"}},{"$f":"OFFSET(Removed!Q$1,$Q$3-1,0)","v":{"$error":"#N/A"}},{"$f":"OFFSET(Removed!R$1,$Q$3-1,0)","v":{"$error":"#N/A"}},{"$f":"OFFSET(Removed!S$1,$Q$3-1,0)","v":{"$error":"#N/A"}},{"$f":"OFFSET(Removed!T$1,$Q$3-1,0)","v":{"$error":"#N/A"}},{"$f":"OFFSET(Removed!U$1,$Q$3-1,0)","v":{"$error":"#N/A"}},{"$f":"OFFSET(Removed!V$1,$Q$3-1,0)","v":{"$error":"#N/A"}},{"$f":"OFFSET(Removed!W$1,$Q$3-1,0)","v":{"$error":"#N/A"}},{"$f":"OFFSET(Removed!X$1,$Q$3-1,0)","v":{"$error":"#N/A"}},{"$f":"OFFSET(Removed!Y$1,$Q$3-1,0)","v":{"$error":"#N/A"}},{"$f":"OFFSET(Removed!Z$1,$Q$3-1,0)","v":{"$error":"#N/A"}},{"$f":"OFFSET(Removed!AA$1,$Q$3-1,0)","v":{"$error":"#N/A"}},{"$f":"OFFSET(Removed!AB$1,$Q$3-1,0)","v":{"$error":"#N/A"}},{"$f":"OFFSET(Removed!AC$1,$Q$3-1,0)","v":{"$error":"#N/A"}},{"$f":"OFFSET(Removed!AD$1,$Q$3-1,0)","v":{"$error":"#N/A"}},{"$f":"OFFSET(Removed!AE$1,$Q$3-1,0)","v":{"$error":"#N/A"}},{"$f":"OFFSET(Removed!AF$1,$Q$3-1,0)","v":{"$error":"#N/A"}},{"$f":"OFFSET(Removed!AG$1,$Q$3-1,0)","v":{"$error":"#N/A"}},{"$f":"OFFSET(Removed!AH$1,$Q$3-1,0)","v":{"$error":"#N/A"}},{"$f":"OFFSET(Removed!AI$1,$Q$3-1,0)","v":{"$error":"#N/A"}},{"$f":"OFFSET(Removed!AJ$1,$Q$3-1,0)","v":{"$error":"#N/A"}},{"$f":"OFFSET(Removed!AK$1,$Q$3-1,0)","v":{"$error":"#N/A"}},{"$f":"OFFSET(Removed!AL$1,$Q$3-1,0)","v":{"$error":"#N/A"}},{"$f":"OFFSET(Removed!AM$1,$Q$3-1,0)","v":{"$error":"#N/A"}},{"$f":"OFFSET(Removed!AN$1,$Q$3-1,0)","v":{"$error":"#N/A"}},{"$f":"OFFSET(Removed!AO$1,$Q$3-1,0)","v":{"$error":"#N/A"}},{"$f":"OFFSET(Removed!AP$1,$Q$3-1,0)","v":{"$error":"#N/A"}},{"$f":"OFFSET(Removed!AQ$1,$Q$3-1,0)","v":{"$error":"#N/A"}},{"$f":"OFFSET(Removed!AR$1,$Q$3-1,0)","v":{"$error":"#N/A"}},{"$f":"OFFSET(Removed!AS$1,$Q$3-1,0)","v":{"$error":"#N/A"}},{"$f":"OFFSET(Removed!AT$1,$Q$3-1,0)","v":{"$error":"#N/A"}},{"$f":"OFFSET(Removed!AU$1,$Q$3-1,0)","v":{"$error":"#N/A"}},{"$f":"OFFSET(Removed!AV$1,$Q$3-1,0)","v":{"$error":"#N/A"}},{"$f":"OFFSET(Removed!AW$1,$Q$3-1,0)","v":{"$error":"#N/A"}},{"$f":"OFFSET(Removed!AX$1,$Q$3-1,0)","v":{"$error":"#N/A"}},{"$f":"OFFSET(Removed!#REF!,$Q$3-1,0)","v":{"$error":"#REF!"}},{"$f":"OFFSET(Removed!#REF!,$Q$3-1,0)","v":{"$error":"#REF!"}},{"$f":"OFFSET(Removed!AY$1,$Q$3-1,0)","v":{"$error":"#N/A"}},{"$f":"OFFSET(Removed!AZ$1,$Q$3-1,0)","v":{"$error":"#N/A"}},{"$f":"OFFSET(Removed!BA$1,$Q$3-1,0)","v":{"$error":"#N/A"}}]
[null,"Status",{"$f":"IF(T11=\"Y\",\"National Statistics, \",\"\")&IF(U11=\"Y\",\"EU/Int. legal obligations, \",\"\")&IF(V11=\"Y\",\"UK legislative requirement\",\"\")","v":"UK legislative requirement"}," "]
[null,{"$f":"DetailList!L1","v":"Short description"},{"$f":"Y11","v":"The level of local weights and measures enforcement work."}," ",{"$nulls":3},"Selected",{"$f":"OFFSET(I$6,$U$3,0)","v":1},"Detailed list","DetailList",2,"C","001-00","Weights and measures enforcement (section 70)",0,"DBT/OPSS",0,{"$error":"#REF!"},0,0,"Y","annual","Upper tier & single tier","The level of local weights and measures enforcement work.","Weights and Measures Act 1985 section 70. https://www.gov.uk/guidance/enforcement-of-the-weights-and-measures-act-1985  ","Collection","","www.gov.uk/government/publications/section-70-weights-and-measures-returns-and-reports",0,0,0,"Y",0,"Y","Y","Y","Y","Y",0,{"$f":"OFFSET(AO$6,$U$3,0)","v":0},0,0,0,0,0,0,0,0,0,0,0,0,0,0,0,"County council, Metropolitan district, Unitary authority, London borough, City of London, Isles of Scilly","aggregate/summary","Spreadsheet",2,0,"Trading standards","amanda.farrell@beis.gov.uk / gillian.asbury@beis.gov.uk",{"$error":"#REF!"},{"$error":"#REF!"},0,1,0]
[null,"Frequency",{"$f":"W11","v":"annual"}," ",{"$nulls":12},{"$f":"OFFSET(Lookups!B2,MATCH(Q11,DeptAbbr,0),0)","v":"Department for Business and Trade - Office for Product Safety & Standards"}]
[null,{"$f":"DetailList!K1","v":"Authority group"},{"$f":"X11","v":"Upper tier & single tier"}," "]
[null,{"$f":"DetailList!M1","v":"Comments"},{"$f":"Z11","v":"Weights and Measures Act 1985 section 70. https://www.gov.uk/guidance/enforcement-of-the-weights-and-measures-act-1985  "}," "]
[null,"Former NI numbers",{"$f":"AF11","v":0}," "]
[null,"Collection link",{"$f":"IF(AC11=0,\"none\",HYPERLINK(AC11,AC11))","v":"www.gov.uk/government/publications/section-70-weights-and-measures-returns-and-reports"}," "]
[null,"Data link",{"$f":"IF(AD11=0,\"none\",HYPERLINK(AD11,AD11))","v":"none"}," "]
[null,{"$f":"BE6","v":"LA classes"},{"$f":"BE11","v":"County council, Metropolitan district, Unitary authority, London borough, City of London, Isles of Scilly"}," "]
[null,{"$f":"BD6","v":"LA class comments"},{"$f":"BD11","v":0}," "]
[{"$nulls":3}," "]
[null,{"$f":"BH11&\" data topics:\"","v":"2 data topics:"},null," ",{"$nulls":8},"Exists",{"$f":"BH11","v":2},{"$f":"DetailList!AU1","v":"Data topics"}]
[null,{"$f":"IF($M22,OFFSET(INDIRECT($K$11&\"!B$1\"),$L$11+$N22-1,0),\"\")","v":"001-01"},{"$f":"IF($M22,OFFSET(INDIRECT($K$11&\"!D$1\"),$L$11+$N22-1,0),\"\")","v":"Compliance of weighing and measuring equipment"}," ",{"$nulls":8},{"$f":"$N22<=$N$21","v":true},1]
[null,{"$f":"IF($M23,OFFSET(INDIRECT($K$11&\"!B$1\"),$L$11+$N23-1,0),\"\")","v":"001-02"},{"$f":"IF($M23,OFFSET(INDIRECT($K$11&\"!D$1\"),$L$11+$N23-1,0),\"\")","v":"Business compliance \n"}," ",{"$nulls":8},{"$f":"$N23<=$N$21","v":true},2]
[null,"",""," ",{"$nulls":8},false,3]
[null,"",""," ",{"$nulls":8},false,4]
[null,"",""," ",{"$nulls":8},false,5]
[null,"",""," ",{"$nulls":8},false,6]
[null,"",""," ",{"$nulls":8},false,7]
[null,"",""," ",{"$nulls":8},false,8]
[null,"",""," ",{"$nulls":8},false,9]
[null,"",""," ",{"$nulls":8},false,10]
[null,"",""," ",{"$nulls":8},false,11]
[null,"",""," ",{"$nulls":8},false,12]
[null,"",""," ",{"$nulls":8},false,13]
[null,"",""," ",{"$nulls":8},false,14]
[null,"",""," ",{"$nulls":8},false,15]
[null,"",""," ",{"$nulls":8},false,16]
[null,"",""," ",{"$nulls":8},false,17]
[null,"",""," ",{"$nulls":8},false,18]
[null,"",""," ",{"$nulls":8},false,19]
[null,"",""," ",{"$nulls":8},false,20]
[null,"",""," ",{"$nulls":8},false,21]
[null,"",""," ",{"$nulls":8},false,22]
[null,"",""," ",{"$nulls":8},false,23]
[null,"",""," ",{"$nulls":8},false,24]
[null,"",""," ",{"$nulls":8},false,25]
[null,"",""," ",{"$nulls":8},false,26]
[null,"",""," ",{"$nulls":8},false,27]
[null,"",""," ",{"$nulls":8},false,28]
[null,"",""," ",{"$nulls":8},false,29]
[null,"",""," ",{"$nulls":8},false,30]
[null,"",""," ",{"$nulls":8},false,31]
[null,"",""," ",{"$nulls":8},false,32]
[null,"",""," ",{"$nulls":8},false,33]
[null,"",""," ",{"$nulls":8},false,34]
[null,"",""," ",{"$nulls":8},false,35]
[null,"",""," ",{"$nulls":8},false,36]
[null,"",""," ",{"$nulls":8},false,37]
[null,"",""," ",{"$nulls":8},false,38]
[null,"",""," ",{"$nulls":8},false,39]
[null,"",""," ",{"$nulls":8},false,40]
[null,"",""," ",{"$nulls":8},false,41]
[null,"",""," ",{"$nulls":8},false,42]
[null,"",""," ",{"$nulls":8},false,43]
[null,"",""," ",{"$nulls":8},false,44]
[null,"",""," ",{"$nulls":8},false,45]
[null,"",""," ",{"$nulls":8},false,46]
[null,"",""," ",{"$nulls":8},false,47]
[null,"",""," ",{"$nulls":8},false,48]
[null,"",""," ",{"$nulls":8},false,49]
[null,"",""," ",{"$nulls":8},false,50]
[null,"",""," ",{"$nulls":8},false,51]
[null,"",""," ",{"$nulls":8},false,52]
[null,"",""," ",{"$nulls":8},false,53]
[null,"",""," ",{"$nulls":8},false,54]
[null,"",""," ",{"$nulls":8},false,55]
[null,"",""," ",{"$nulls":8},false,56]
[null,"",""," ",{"$nulls":8},false,57]
[null,"",""," ",{"$nulls":8},false,58]
[null,"",""," ",{"$nulls":8},false,59]
[null,"",""," ",{"$nulls":8},false,60]

{"sheet":"Search","index":4,"n_rows":59,"n_cols":18,"rows_kept":59}
[]
[null,{"$f":"Notes!B2","v":"Single data list of central government data requirements from local government 2023-24"},{"$nulls":9},"List","Name","Worksheet"]
[null,"Search collections/returns",{"$nulls":9},1,"Detailed list","DetailList"]
[{"$nulls":11},2,"Detailed List - Pending","DetailListPending"]
[null,null,"Type any text to search in Collection name and press enter",{"$nulls":8},3,"Removed list","Removed"]
[]
[{"$nulls":3},{"$f":"IF(L59=50,\"first 50 results\",L59&\" results\")","v":"first 50 results"}]
[null,"Ref","Data collection name","Dept","Link",{"$nulls":6},"Exists","RefsLookup next match","RefsLookup row (cum)",{"$f":"RefsLookup!C1","v":"Row Main"},{"$f":"RefsLookup!D1","v":"Row Pending"},{"$f":"RefsLookup!E1","v":"Row Removed"},{"$f":"RefsLookup!I1","v":"List"}]
[null,{"$f":"TEXT(OFFSET(RefsLookup!B$1,$N9-1,0),\"000\")&\"-00\"","v":"Ref part 1-00"},{"$f":"OFFSET(RefsLookup!F$1,$N9-1,0)","v":"Collection name"},{"$f":"OFFSET(RefsLookup!G$1,$N9-1,0)","v":"Dept"},{"$f":"IF(L9,HYPERLINK(\"#\"&OFFSET(N$2,R9,0)&\"!A\"&OFFSET(N9,0,R9),\"Go\"),\"\")","v":{"$error":"#VALUE!"}},{"$nulls":6},{"$f":"NOT(ISNA(M9))","v":true},{"$f":"MATCH(\"*\"&$C$6&\"*\",RefsLookup!F:F,0)","v":1},{"$f":"M9","v":1},{"$f":"OFFSET(RefsLookup!C$1,$N9-1,0)","v":"Row Main"},{"$f":"OFFSET(RefsLookup!D$1,$N9-1,0)","v":"Row Pending"},{"$f":"OFFSET(RefsLookup!E$1,$N9-1,0)","v":"Row Removed"},{"$f":"OFFSET(RefsLookup!I$1,$N9-1,0)","v":"List"}]
[null,{"$f":"TEXT(OFFSET(RefsLookup!B$1,$N10-1,0),\"000\")&\"-00\"","v":"001-00"},{"$f":"OFFSET(RefsLookup!F$1,$N10-1,0)","v":"Weights and measures enforcement (section 70)"},{"$f":"OFFSET(RefsLookup!G$1,$N10-1,0)","v":"DBT/OPSS"},{"$f":"IF(L10,HYPERLINK(\"#\"&OFFSET(N$2,R10,0)&\"!A\"&OFFSET(N10,0,R10),\"Go\"),\"\")","v":"Go"},{"$nulls":6},true,{"$f":"MATCH(\"*\"&$C$6&\"*\",INDIRECT(\"RefsLookup!F\"&N9+1&\":F501\"),0)","v":1},{"$f":"N9+M10","v":2},{"$f":"OFFSET(RefsLookup!C$1,$N10-1,0)","v":2},{"$f":"OFFSET(RefsLookup!D$1,$N10-1,0)","v":2},{"$f":"OFFSET(RefsLookup!E$1,$N10-1,0)","v":{"$error":"#N/A"}},{"$f":"OFFSET(RefsLookup!I$1,$N10-1,0)","v":1}]
[null,{"$f":"TEXT(OFFSET(RefsLookup!B$1,$N11-1,0),\"000\")&\"-00\"","v":"002-00"},{"$f":"OFFSET(RefsLookup!F$1,$N11-1,0)","v":"House Building Return (P2a)"},{"$f":"OFFSET(RefsLookup!G$1,$N11-1,0)","v":"DLUHC"},"Go",{"$nulls":6},true,{"$f":"MATCH(\"*\"&$C$6&\"*\",INDIRECT(\"RefsLookup!F\"&N10+1&\":F501\"),0)","v":1},{"$f":"N10+M11","v":3},{"$f":"OFFSET(RefsLookup!C$1,$N11-1,0)","v":5},{"$f":"OFFSET(RefsLookup!D$1,$N11-1,0)","v":{"$error":"#N/A"}},{"$f":"OFFSET(RefsLookup!E$1,$N11-1,0)","v":{"$error":"#N/A"}},{"$f":"OFFSET(RefsLookup!I$1,$N11-1,0)","v":1}]
[null,{"$f":"TEXT(OFFSET(RefsLookup!B$1,$N12-1,0),\"000\")&\"-00\"","v":"003-00"},{"$f":"OFFSET(RefsLookup!F$1,$N12-1,0)","v":"Housing Flows Reconciliation Form (HFR)"},{"$f":"OFFSET(RefsLookup!G$1,$N12-1,0)","v":"DLUHC"},"Go",{"$nulls":6},true,1,4,{"$f":"OFFSET(RefsLookup!C$1,$N12-1,0)","v":8},{"$f":"OFFSET(RefsLookup!D$1,$N12-1,0)","v":{"$error":"#N/A"}},{"$f":"OFFSET(RefsLookup!E$1,$N12-1,0)","v":{"$error":"#N/A"}},{"$f":"OFFSET(RefsLookup!I$1,$N12-1,0)","v":1}]
[null,{"$f":"TEXT(OFFSET(RefsLookup!B$1,$N13-1,0),\"000\")&\"-00\"","v":"004-00"},{"$f":"OFFSET(RefsLookup!F$1,$N13-1,0)","v":"   REMOVED [Housing Strategy Statistical Appendix (HSSA)]"},{"$f":"OFFSET(RefsLookup!G$1,$N13-1,0)","v":"DCLG"},"Go",{"$nulls":6},true,1,5,{"$f":"OFFSET(RefsLookup!C$1,$N13-1,0)","v":{"$error":"#N/A"}},{"$f":"OFFSET(RefsLookup!D$1,$N13-1,0)","v":{"$error":"#N/A"}},{"$f":"OFFSET(RefsLookup!E$1,$N13-1,0)","v":228},{"$f":"OFFSET(RefsLookup!I$1,$N13-1,0)","v":3}]
[null,{"$f":"TEXT(OFFSET(RefsLookup!B$1,$N14-1,0),\"000\")&\"-00\"","v":"005-00"},{"$f":"OFFSET(RefsLookup!F$1,$N14-1,0)","v":"   REMOVED [HRA Business Plan Statistical Appendix (BPSA)]"},{"$f":"OFFSET(RefsLookup!G$1,$N14-1,0)","v":"DCLG"},"Go",{"$nulls":6},true,1,6,{"$f":"OFFSET(RefsLookup!C$1,$N14-1,0)","v":{"$error":"#N/A"}},{"$f":"OFFSET(RefsLookup!D$1,$N14-1,0)","v":{"$error":"#N/A"}},{"$f":"OFFSET(RefsLookup!E$1,$N14-1,0)","v":240},{"$f":"OFFSET(RefsLookup!I$1,$N14-1,0)","v":3}]
[null,{"$f":"TEXT(OFFSET(RefsLookup!B$1,$N15-1,0),\"000\")&\"-00\"","v":"006-00"},{"$f":"OFFSET(RefsLookup!F$1,$N15-1,0)","v":"   REMOVED [Business Plan Statistical Appendix - Early Decent Homes (BPSA-EDH)]"},{"$f":"OFFSET(RefsLookup!G$1,$N15-1,0)","v":"DCLG"},"Go",{"$nulls":6},true,1,7,{"$f":"OFFSET(RefsLookup!C$1,$N15-1,0)","v":{"$error":"#N/A"}},{"$f":"OFFSET(RefsLookup!D$1,$N15-1,0)","v":{"$error":"#N/A"}},{"$f":"OFFSET(RefsLookup!E$1,$N15-1,0)","v":48},{"$f":"OFFSET(RefsLookup!I$1,$N15-1,0)","v":3}]
[null,{"$f":"TEXT(OFFSET(RefsLookup!B$1,$N16-1,0),\"000\")&\"-00\"","v":"007-00"},{"$f":"OFFSET(RefsLookup!F$1,$N16-1,0)","v":"   REMOVED [Mortgage Rescue Scheme return]"},{"$f":"OFFSET(RefsLookup!G$1,$N16-1,0)","v":"DCLG"},"Go",{"$nulls":6},true,1,8,{"$f":"OFFSET(RefsLookup!C$1,$N16-1,0)","v":{"$error":"#N/A"}},{"$f":"OFFSET(RefsLookup!D$1,$N16-1,0)","v":{"$error":"#N/A"}},{"$f":"OFFSET(RefsLookup!E$1,$N16-1,0)","v":326},{"$f":"OFFSET(RefsLookup!I$1,$N16-1,0)","v":3}]
[null,{"$f":"TEXT(OFFSET(RefsLookup!B$1,$N17-1,0),\"000\")&\"-00\"","v":"008-00"},{"$f":"OFFSET(RefsLookup!F$1,$N17-1,0)","v":"   REMOVED [Housing Monitoring (P1B)]"},{"$f":"OFFSET(RefsLookup!G$1,$N17-1,0)","v":"DCLG"},"Go",{"$nulls":6},true,1,9,{"$f":"OFFSET(RefsLookup!C$1,$N17-1,0)","v":{"$error":"#N/A"}},{"$f":"OFFSET(RefsLookup!D$1,$N17-1,0)","v":{"$error":"#N/A"}},{"$f":"OFFSET(RefsLookup!E$1,$N17-1,0)","v":246},{"$f":"OFFSET(RefsLookup!I$1,$N17-1,0)","v":3}]
[null,{"$f":"TEXT(OFFSET(RefsLookup!B$1,$N18-1,0),\"000\")&\"-00\"","v":"009-00"},{"$f":"OFFSET(RefsLookup!F$1,$N18-1,0)","v":"   REMOVED [Local Authority activity under the homelessness provisions of the 1996 Housing Act (P1E)]"},{"$f":"OFFSET(RefsLookup!G$1,$N18-1,0)","v":"MHCLG"},"Go",{"$nulls":6},true,1,10,{"$f":"OFFSET(RefsLookup!C$1,$N18-1,0)","v":{"$error":"#N/A"}},{"$f":"OFFSET(RefsLookup!D$1,$N18-1,0)","v":{"$error":"#N/A"}},{"$f":"OFFSET(RefsLookup!E$1,$N18-1,0)","v":404},{"$f":"OFFSET(RefsLookup!I$1,$N18-1,0)","v":3}]
[null,{"$f":"TEXT(OFFSET(RefsLookup!B$1,$N19-1,0),\"000\")&\"-00\"","v":"010-00"},{"$f":"OFFSET(RefsLookup!F$1,$N19-1,0)","v":"Rough Sleeping Snapshot Statistics"},{"$f":"OFFSET(RefsLookup!G$1,$N19-1,0)","v":"DLUHC"},"Go",{"$nulls":6},true,1,11,{"$f":"OFFSET(RefsLookup!C$1,$N19-1,0)","v":17},{"$f":"OFFSET(RefsLookup!D$1,$N19-1,0)","v":{"$error":"#N/A"}},{"$f":"OFFSET(RefsLookup!E$1,$N19-1,0)","v":{"$error":"#N/A"}},{"$f":"OFFSET(RefsLookup!I$1,$N19-1,0)","v":1}]
[null,{"$f":"TEXT(OFFSET(RefsLookup!B$1,$N20-1,0),\"000\")&\"-00\"","v":"011-00"},{"$f":"OFFSET(RefsLookup!F$1,$N20-1,0)","v":"   REMOVED [Supporting People Client Records and Outcomes]"},{"$f":"OFFSET(RefsLookup!G$1,$N20-1,0)","v":"DCLG"},"Go",{"$nulls":6},true,1,12,{"$f":"OFFSET(RefsLookup!C$1,$N20-1,0)","v":{"$error":"#N/A"}},{"$f":"OFFSET(RefsLookup!D$1,$N20-1,0)","v":{"$error":"#N/A"}},{"$f":"OFFSET(RefsLookup!E$1,$N20-1,0)","v":41},{"$f":"OFFSET(RefsLookup!I$1,$N20-1,0)","v":3}]
[null,{"$f":"TEXT(OFFSET(RefsLookup!B$1,$N21-1,0),\"000\")&\"-00\"","v":"012-00"},{"$f":"OFFSET(RefsLookup!F$1,$N21-1,0)","v":"   REMOVED [Supporting People Local System data]"},{"$f":"OFFSET(RefsLookup!G$1,$N21-1,0)","v":"DCLG"},"Go",{"$nulls":6},true,1,13,{"$f":"OFFSET(RefsLookup!C$1,$N21-1,0)","v":{"$error":"#N/A"}},{"$f":"OFFSET(RefsLookup!D$1,$N21-1,0)","v":{"$error":"#N/A"}},{"$f":"OFFSET(RefsLookup!E$1,$N21-1,0)","v":55},{"$f":"OFFSET(RefsLookup!I$1,$N21-1,0)","v":3}]
[null,{"$f":"TEXT(OFFSET(RefsLookup!B$1,$N22-1,0),\"000\")&\"-00\"","v":"013-00"},{"$f":"OFFSET(RefsLookup!F$1,$N22-1,0)","v":"Count of traveller caravans"},{"$f":"OFFSET(RefsLookup!G$1,$N22-1,0)","v":"DLUHC"},"Go",{"$nulls":6},true,1,14,{"$f":"OFFSET(RefsLookup!C$1,$N22-1,0)","v":19},{"$f":"OFFSET(RefsLookup!D$1,$N22-1,0)","v":{"$error":"#N/A"}},{"$f":"OFFSET(RefsLookup!E$1,$N22-1,0)","v":{"$error":"#N/A"}},{"$f":"OFFSET(RefsLookup!I$1,$N22-1,0)","v":1}]
[null,{"$f":"TEXT(OFFSET(RefsLookup!B$1,$N23-1,0),\"000\")&\"-00\"","v":"014-00"},{"$f":"OFFSET(RefsLookup!F$1,$N23-1,0)","v":"   REMOVED [Housing Revenue Account Subsidy Claim form - first advance]"},{"$f":"OFFSET(RefsLookup!G$1,$N23-1,0)","v":"DCLG"},"Go",{"$nulls":6},true,1,15,{"$f":"OFFSET(RefsLookup!C$1,$N23-1,0)","v":{"$error":"#N/A"}},{"$f":"OFFSET(RefsLookup!D$1,$N23-1,0)","v":{"$error":"#N/A"}},{"$f":"OFFSET(RefsLookup!E$1,$N23-1,0)","v":120},{"$f":"OFFSET(RefsLookup!I$1,$N23-1,0)","v":3}]
[null,{"$f":"TEXT(OFFSET(RefsLookup!B$1,$N24-1,0),\"000\")&\"-00\"","v":"015-00"},{"$f":"OFFSET(RefsLookup!F$1,$N24-1,0)","v":"   REMOVED [Housing Revenue Account Subsidy Claim form - second advance]"},{"$f":"OFFSET(RefsLookup!G$1,$N24-1,0)","v":"DCLG"},"Go",{"$nulls":6},true,1,16,{"$f":"OFFSET(RefsLookup!C$1,$N24-1,0)","v":{"$error":"#N/A"}},{"$f":"OFFSET(RefsLookup!D$1,$N24-1,0)","v":{"$error":"#N/A"}},{"$f":"OFFSET(RefsLookup!E$1,$N24-1,0)","v":139},{"$f":"OFFSET(RefsLookup!I$1,$N24-1,0)","v":3}]
[null,{"$f":"TEXT(OFFSET(RefsLookup!B$1,$N25-1,0),\"000\")&\"-00\"","v":"016-00"},{"$f":"OFFSET(RefsLookup!F$1,$N25-1,0)","v":"   REMOVED [HRA Subsidy Claim form - advance final (FINAL COLLECTION IN 2012/13)]"},{"$f":"OFFSET(RefsLookup!G$1,$N25-1,0)","v":"DCLG"},"Go",{"$nulls":6},true,1,17,{"$f":"OFFSET(RefsLookup!C$1,$N25-1,0)","v":{"$error":"#N/A"}},{"$f":"OFFSET(RefsLookup!D$1,$N25-1,0)","v":{"$error":"#N/A"}},{"$f":"OFFSET(RefsLookup!E$1,$N25-1,0)","v":267},{"$f":"OFFSET(RefsLookup!I$1,$N25-1,0)","v":3}]
[null,{"$f":"TEXT(OFFSET(RefsLookup!B$1,$N26-1,0),\"000\")&\"-00\"","v":"017-00"},{"$f":"OFFSET(RefsLookup!F$1,$N26-1,0)","v":"   REMOVED [HRA Subsidy Claim form - auditor final (FINAL COLLECTION IN 2012/13)]"},{"$f":"OFFSET(RefsLookup!G$1,$N26-1,0)","v":"DCLG"},"Go",{"$nulls":6},true,1,18,{"$f":"OFFSET(RefsLookup!C$1,$N26-1,0)","v":{"$error":"#N/A"}},{"$f":"OFFSET(RefsLookup!D$1,$N26-1,0)","v":{"$error":"#N/A"}},{"$f":"OFFSET(RefsLookup!E$1,$N26-1,0)","v":273},{"$f":"OFFSET(RefsLookup!I$1,$N26-1,0)","v":3}]
[null,{"$f":"TEXT(OFFSET(RefsLookup!B$1,$N27-1,0),\"000\")&\"-00\"","v":"018-00"},{"$f":"OFFSET(RefsLookup!F$1,$N27-1,0)","v":"   REMOVED [Housing Revenue Account Subsidy base data forms]"},{"$f":"OFFSET(RefsLookup!G$1,$N27-1,0)","v":"DCLG"},"Go",{"$nulls":6},true,1,19,{"$f":"OFFSET(RefsLookup!C$1,$N27-1,0)","v":{"$error":"#N/A"}},{"$f":"OFFSET(RefsLookup!D$1,$N27-1,0)","v":{"$error":"#N/A"}},{"$f":"OFFSET(RefsLookup!E$1,$N27-1,0)","v":145},{"$f":"OFFSET(RefsLookup!I$1,$N27-1,0)","v":3}]
[null,{"$f":"TEXT(OFFSET(RefsLookup!B$1,$N28-1,0),\"000\")&\"-00\"","v":"019-00"},{"$f":"OFFSET(RefsLookup!F$1,$N28-1,0)","v":"   REMOVED [Affordable Housing Grant - UNDER CONSIDERATION]"},{"$f":"OFFSET(RefsLookup!G$1,$N28-1,0)","v":"DCLG"},"Go",{"$nulls":6},true,1,20,{"$f":"OFFSET(RefsLookup!C$1,$N28-1,0)","v":{"$error":"#N/A"}},{"$f":"OFFSET(RefsLookup!D$1,$N28-1,0)","v":{"$error":"#N/A"}},{"$f":"OFFSET(RefsLookup!E$1,$N28-1,0)","v":67},{"$f":"OFFSET(RefsLookup!I$1,$N28-1,0)","v":3}]
[null,{"$f":"TEXT(OFFSET(RefsLookup!B$1,$N29-1,0),\"000\")&\"-00\"","v":"020-00"},{"$f":"OFFSET(RefsLookup!F$1,$N29-1,0)","v":"Annual Green Belt (AGB) return "},{"$f":"OFFSET(RefsLookup!G$1,$N29-1,0)","v":"DLUHC"},"Go",{"$nulls":6},true,1,21,{"$f":"OFFSET(RefsLookup!C$1,$N29-1,0)","v":25},{"$f":"OFFSET(RefsLookup!D$1,$N29-1,0)","v":{"$error":"#N/A"}},{"$f":"OFFSET(RefsLookup!E$1,$N29-1,0)","v":{"$error":"#N/A"}},{"$f":"OFFSET(RefsLookup!I$1,$N29-1,0)","v":1}]
[null,{"$f":"TEXT(OFFSET(RefsLookup!B$1,$N30-1,0),\"000\")&\"-00\"","v":"021-00"},{"$f":"OFFSET(RefsLookup!F$1,$N30-1,0)","v":"PS1/2 District matters planning statistical returns"},{"$f":"OFFSET(RefsLookup!G$1,$N30-1,0)","v":"DLUHC"},"Go",{"$nulls":6},true,1,22,{"$f":"OFFSET(RefsLookup!C$1,$N30-1,0)","v":27},{"$f":"OFFSET(RefsLookup!D$1,$N30-1,0)","v":{"$error":"#N/A"}},{"$f":"OFFSET(RefsLookup!E$1,$N30-1,0)","v":{"$error":"#N/A"}},{"$f":"OFFSET(RefsLookup!I$1,$N30-1,0)","v":1}]
[null,{"$f":"TEXT(OFFSET(RefsLookup!B$1,$N31-1,0),\"000\")&\"-00\"","v":"022-00"},{"$f":"OFFSET(RefsLookup!F$1,$N31-1,0)","v":"CPS1/2 County matters planning statistical returns"},{"$f":"OFFSET(RefsLookup!G$1,$N31-1,0)","v":"DLUHC"},"Go",{"$nulls":6},true,1,23,{"$f":"OFFSET(RefsLookup!C$1,$N31-1,0)","v":39},{"$f":"OFFSET(RefsLookup!D$1,$N31-1,0)","v":{"$error":"#N/A"}},{"$f":"OFFSET(RefsLookup!E$1,$N31-1,0)","v":{"$error":"#N/A"}},{"$f":"OFFSET(RefsLookup!I$1,$N31-1,0)","v":1}]
[null,{"$f":"TEXT(OFFSET(RefsLookup!B$1,$N32-1,0),\"000\")&\"-00\"","v":"023-00"},{"$f":"OFFSET(RefsLookup!F$1,$N32-1,0)","v":"   REMOVED [Five-year land supply for housing]"},{"$f":"OFFSET(RefsLookup!G$1,$N32-1,0)","v":"DCLG"},"Go",{"$nulls":6},true,1,24,{"$f":"OFFSET(RefsLookup!C$1,$N32-1,0)","v":{"$error":"#N/A"}},{"$f":"OFFSET(RefsLookup!D$1,$N32-1,0)","v":{"$error":"#N/A"}},{"$f":"OFFSET(RefsLookup!E$1,$N32-1,0)","v":29},{"$f":"OFFSET(RefsLookup!I$1,$N32-1,0)","v":3}]
[null,{"$f":"TEXT(OFFSET(RefsLookup!B$1,$N33-1,0),\"000\")&\"-00\"","v":"024-00"},{"$f":"OFFSET(RefsLookup!F$1,$N33-1,0)","v":"   REMOVED [Annual Monitoring Reports (AMR)]"},{"$f":"OFFSET(RefsLookup!G$1,$N33-1,0)","v":"DCLG"},"Go",{"$nulls":6},true,1,25,{"$f":"OFFSET(RefsLookup!C$1,$N33-1,0)","v":{"$error":"#N/A"}},{"$f":"OFFSET(RefsLookup!D$1,$N33-1,0)","v":{"$error":"#N/A"}},{"$f":"OFFSET(RefsLookup!E$1,$N33-1,0)","v":151},{"$f":"OFFSET(RefsLookup!I$1,$N33-1,0)","v":3}]
[null,{"$f":"TEXT(OFFSET(RefsLookup!B$1,$N34-1,0),\"000\")&\"-00\"","v":"025-00"},{"$f":"OFFSET(RefsLookup!F$1,$N34-1,0)","v":"   REMOVED [Local Development Framework Database (GOs)]"},{"$f":"OFFSET(RefsLookup!G$1,$N34-1,0)","v":"DCLG"},"Go",{"$nulls":6},true,1,26,{"$f":"OFFSET(RefsLookup!C$1,$N34-1,0)","v":{"$error":"#N/A"}},{"$f":"OFFSET(RefsLookup!D$1,$N34-1,0)","v":{"$error":"#N/A"}},{"$f":"OFFSET(RefsLookup!E$1,$N34-1,0)","v":6},{"$f":"OFFSET(RefsLookup!I$1,$N34-1,0)","v":3}]
[null,{"$f":"TEXT(OFFSET(RefsLookup!B$1,$N35-1,0),\"000\")&\"-00\"","v":"026-00"},{"$f":"OFFSET(RefsLookup!F$1,$N35-1,0)","v":"Revenue Summary (RS)"},{"$f":"OFFSET(RefsLookup!G$1,$N35-1,0)","v":"DLUHC"},"Go",{"$nulls":6},true,1,27,{"$f":"OFFSET(RefsLookup!C$1,$N35-1,0)","v":45},{"$f":"OFFSET(RefsLookup!D$1,$N35-1,0)","v":{"$error":"#N/A"}},{"$f":"OFFSET(RefsLookup!E$1,$N35-1,0)","v":{"$error":"#N/A"}},{"$f":"OFFSET(RefsLookup!I$1,$N35-1,0)","v":1}]
[null,{"$f":"TEXT(OFFSET(RefsLookup!B$1,$N36-1,0),\"000\")&\"-00\"","v":"027-00"},{"$f":"OFFSET(RefsLookup!F$1,$N36-1,0)","v":"Revenue Grants (RG)"},{"$f":"OFFSET(RefsLookup!G$1,$N36-1,0)","v":"DLUHC"},"Go",{"$nulls":6},true,1,28,{"$f":"OFFSET(RefsLookup!C$1,$N36-1,0)","v":47},{"$f":"OFFSET(RefsLookup!D$1,$N36-1,0)","v":{"$error":"#N/A"}},{"$f":"OFFSET(RefsLookup!E$1,$N36-1,0)","v":{"$error":"#N/A"}},{"$f":"OFFSET(RefsLookup!I$1,$N36-1,0)","v":1}]
[null,{"$f":"TEXT(OFFSET(RefsLookup!B$1,$N37-1,0),\"000\")&\"-00\"","v":"028-00"},{"$f":"OFFSET(RefsLookup!F$1,$N37-1,0)","v":"Revenue Outturn (RO)"},{"$f":"OFFSET(RefsLookup!G$1,$N37-1,0)","v":"DLUHC"},"Go",{"$nulls":6},true,1,29,{"$f":"OFFSET(RefsLookup!C$1,$N37-1,0)","v":49},{"$f":"OFFSET(RefsLookup!D$1,$N37-1,0)","v":{"$error":"#N/A"}},{"$f":"OFFSET(RefsLookup!E$1,$N37-1,0)","v":{"$error":"#N/A"}},{"$f":"OFFSET(RefsLookup!I$1,$N37-1,0)","v":1}]
[null,{"$f":"TEXT(OFFSET(RefsLookup!B$1,$N38-1,0),\"000\")&\"-00\"","v":"029-00"},{"$f":"OFFSET(RefsLookup!F$1,$N38-1,0)","v":"Trading Services Return (TSR)"},{"$f":"OFFSET(RefsLookup!G$1,$N38-1,0)","v":"DLUHC"},"Go",{"$nulls":6},true,1,30,{"$f":"OFFSET(RefsLookup!C$1,$N38-1,0)","v":56},{"$f":"OFFSET(RefsLookup!D$1,$N38-1,0)","v":{"$error":"#N/A"}},{"$f":"OFFSET(RefsLookup!E$1,$N38-1,0)","v":{"$error":"#N/A"}},{"$f":"OFFSET(RefsLookup!I$1,$N38-1,0)","v":1}]
[null,{"$f":"TEXT(OFFSET(RefsLookup!B$1,$N39-1,0),\"000\")&\"-00\"","v":"030-00"},{"$f":"OFFSET(RefsLookup!F$1,$N39-1,0)","v":"Subjective Analysis Return (SAR)"},{"$f":"OFFSET(RefsLookup!G$1,$N39-1,0)","v":"DLUHC"},"Go",{"$nulls":6},true,1,31,{"$f":"OFFSET(RefsLookup!C$1,$N39-1,0)","v":58},{"$f":"OFFSET(RefsLookup!D$1,$N39-1,0)","v":{"$error":"#N/A"}},{"$f":"OFFSET(RefsLookup!E$1,$N39-1,0)","v":{"$error":"#N/A"}},{"$f":"OFFSET(RefsLookup!I$1,$N39-1,0)","v":1}]
[null,{"$f":"TEXT(OFFSET(RefsLookup!B$1,$N40-1,0),\"000\")&\"-00\"","v":"031-00"},{"$f":"OFFSET(RefsLookup!F$1,$N40-1,0)","v":"   REMOVED [Business Improvement Districts Outturn (BIDO)]"},{"$f":"OFFSET(RefsLookup!G$1,$N40-1,0)","v":"DCLG"},"Go",{"$nulls":6},true,1,32,{"$f":"OFFSET(RefsLookup!C$1,$N40-1,0)","v":{"$error":"#N/A"}},{"$f":"OFFSET(RefsLookup!D$1,$N40-1,0)","v":{"$error":"#N/A"}},{"$f":"OFFSET(RefsLookup!E$1,$N40-1,0)","v":255},{"$f":"OFFSET(RefsLookup!I$1,$N40-1,0)","v":3}]
[null,{"$f":"TEXT(OFFSET(RefsLookup!B$1,$N41-1,0),\"000\")&\"-00\"","v":"032-00"},{"$f":"OFFSET(RefsLookup!F$1,$N41-1,0)","v":"Revenue Account budget (RA)"},{"$f":"OFFSET(RefsLookup!G$1,$N41-1,0)","v":"DLUHC"},"Go",{"$nulls":6},{"$f":"NOT(ISNA(M41))","v":true},1,33,{"$f":"OFFSET(RefsLookup!C$1,$N41-1,0)","v":60},{"$f":"OFFSET(RefsLookup!D$1,$N41-1,0)","v":{"$error":"#N/A"}},{"$f":"OFFSET(RefsLookup!E$1,$N41-1,0)","v":{"$error":"#N/A"}},{"$f":"OFFSET(RefsLookup!I$1,$N41-1,0)","v":1}]
[null,{"$f":"TEXT(OFFSET(RefsLookup!B$1,$N42-1,0),\"000\")&\"-00\"","v":"033-00"},{"$f":"OFFSET(RefsLookup!F$1,$N42-1,0)","v":"Revenue Account Specific and Special Grants (SG)"},{"$f":"OFFSET(RefsLookup!G$1,$N42-1,0)","v":"DLUHC"},"Go",{"$nulls":6},true,1,34,{"$f":"OFFSET(RefsLookup!C$1,$N42-1,0)","v":62},{"$f":"OFFSET(RefsLookup!D$1,$N42-1,0)","v":{"$error":"#N/A"}},{"$f":"OFFSET(RefsLookup!E$1,$N42-1,0)","v":{"$error":"#N/A"}},{"$f":"OFFSET(RefsLookup!I$1,$N42-1,0)","v":1}]
[null,{"$f":"TEXT(OFFSET(RefsLookup!B$1,$N43-1,0),\"000\")&\"-00\"","v":"034-00"},{"$f":"OFFSET(RefsLookup!F$1,$N43-1,0)","v":"   REMOVED [Business Improvement Districts (BID) Revenue Account]"},{"$f":"OFFSET(RefsLookup!G$1,$N43-1,0)","v":"DCLG"},"Go",{"$nulls":6},true,1,35,{"$f":"OFFSET(RefsLookup!C$1,$N43-1,0)","v":{"$error":"#N/A"}},{"$f":"OFFSET(RefsLookup!D$1,$N43-1,0)","v":{"$error":"#N/A"}},{"$f":"OFFSET(RefsLookup!E$1,$N43-1,0)","v":257},{"$f":"OFFSET(RefsLookup!I$1,$N43-1,0)","v":3}]
[null,{"$f":"TEXT(OFFSET(RefsLookup!B$1,$N44-1,0),\"000\")&\"-00\"","v":"035-00"},{"$f":"OFFSET(RefsLookup!F$1,$N44-1,0)","v":"Capital Outturn Return (COR) Expenditure & Receipts"},{"$f":"OFFSET(RefsLookup!G$1,$N44-1,0)","v":"DLUHC"},"Go",{"$nulls":6},true,1,36,{"$f":"OFFSET(RefsLookup!C$1,$N44-1,0)","v":64},{"$f":"OFFSET(RefsLookup!D$1,$N44-1,0)","v":{"$error":"#N/A"}},{"$f":"OFFSET(RefsLookup!E$1,$N44-1,0)","v":{"$error":"#N/A"}},{"$f":"OFFSET(RefsLookup!I$1,$N44-1,0)","v":1}]
[null,{"$f":"TEXT(OFFSET(RefsLookup!B$1,$N45-1,0),\"000\")&\"-00\"","v":"036-00"},{"$f":"OFFSET(RefsLookup!F$1,$N45-1,0)","v":"Capital Outturn Return (COR) Financing"},{"$f":"OFFSET(RefsLookup!G$1,$N45-1,0)","v":"DLUHC"},"Go",{"$nulls":6},true,1,37,{"$f":"OFFSET(RefsLookup!C$1,$N45-1,0)","v":67},{"$f":"OFFSET(RefsLookup!D$1,$N45-1,0)","v":{"$error":"#N/A"}},{"$f":"OFFSET(RefsLookup!E$1,$N45-1,0)","v":{"$error":"#N/A"}},{"$f":"OFFSET(RefsLookup!I$1,$N45-1,0)","v":1}]
[null,{"$f":"TEXT(OFFSET(RefsLookup!B$1,$N46-1,0),\"000\")&\"-00\"","v":"037-00"},{"$f":"OFFSET(RefsLookup!F$1,$N46-1,0)","v":"Capital Outturn Return (COR) Prudential System"},{"$f":"OFFSET(RefsLookup!G$1,$N46-1,0)","v":"DLUHC"},"Go",{"$nulls":6},true,1,38,{"$f":"OFFSET(RefsLookup!C$1,$N46-1,0)","v":69},{"$f":"OFFSET(RefsLookup!D$1,$N46-1,0)","v":{"$error":"#N/A"}},{"$f":"OFFSET(RefsLookup!E$1,$N46-1,0)","v":{"$error":"#N/A"}},{"$f":"OFFSET(RefsLookup!I$1,$N46-1,0)","v":1}]
[null,{"$f":"TEXT(OFFSET(RefsLookup!B$1,$N47-1,0),\"000\")&\"-00\"","v":"038-00"},{"$f":"OFFSET(RefsLookup!F$1,$N47-1,0)","v":"Capital Outturn Return (COR)  receipts and major repairs reserve"},{"$f":"OFFSET(RefsLookup!G$1,$N47-1,0)","v":"DLUHC"},"Go",{"$nulls":6},true,1,39,{"$f":"OFFSET(RefsLookup!C$1,$N47-1,0)","v":71},{"$f":"OFFSET(RefsLookup!D$1,$N47-1,0)","v":{"$error":"#N/A"}},{"$f":"OFFSET(RefsLookup!E$1,$N47-1,0)","v":{"$error":"#N/A"}},{"$f":"OFFSET(RefsLookup!I$1,$N47-1,0)","v":1}]
[null,{"$f":"TEXT(OFFSET(RefsLookup!B$1,$N48-1,0),\"000\")&\"-00\"","v":"039-00"},{"$f":"OFFSET(RefsLookup!F$1,$N48-1,0)","v":"   REMOVED [Capital Forecast Return (CFR)]"},{"$f":"OFFSET(RefsLookup!G$1,$N48-1,0)","v":"DCLG"},"Go",{"$nulls":6},true,1,40,{"$f":"OFFSET(RefsLookup!C$1,$N48-1,0)","v":{"$error":"#N/A"}},{"$f":"OFFSET(RefsLookup!D$1,$N48-1,0)","v":{"$error":"#N/A"}},{"$f":"OFFSET(RefsLookup!E$1,$N48-1,0)","v":375},{"$f":"OFFSET(RefsLookup!I$1,$N48-1,0)","v":3}]
[null,{"$f":"TEXT(OFFSET(RefsLookup!B$1,$N49-1,0),\"000\")&\"-00\"","v":"040-00"},{"$f":"OFFSET(RefsLookup!F$1,$N49-1,0)","v":"Capital Estimates Return (CER)"},{"$f":"OFFSET(RefsLookup!G$1,$N49-1,0)","v":"DLUHC"},"Go",{"$nulls":6},true,1,41,{"$f":"OFFSET(RefsLookup!C$1,$N49-1,0)","v":74},{"$f":"OFFSET(RefsLookup!D$1,$N49-1,0)","v":{"$error":"#N/A"}},{"$f":"OFFSET(RefsLookup!E$1,$N49-1,0)","v":{"$error":"#N/A"}},{"$f":"OFFSET(RefsLookup!I$1,$N49-1,0)","v":1}]
[null,{"$f":"TEXT(OFFSET(RefsLookup!B$1,$N50-1,0),\"000\")&\"-00\"","v":"041-00"},{"$f":"OFFSET(RefsLookup!F$1,$N50-1,0)","v":"Capital Payments and Receipts (CPR1 to CPR 4)"},{"$f":"OFFSET(RefsLookup!G$1,$N50-1,0)","v":"DLUHC"},"Go",{"$nulls":6},true,1,42,{"$f":"OFFSET(RefsLookup!C$1,$N50-1,0)","v":79},{"$f":"OFFSET(RefsLookup!D$1,$N50-1,0)","v":{"$error":"#N/A"}},{"$f":"OFFSET(RefsLookup!E$1,$N50-1,0)","v":{"$error":"#N/A"}},{"$f":"OFFSET(RefsLookup!I$1,$N50-1,0)","v":1}]
[null,{"$f":"TEXT(OFFSET(RefsLookup!B$1,$N51-1,0),\"000\")&\"-00\"","v":"042-00"},{"$f":"OFFSET(RefsLookup!F$1,$N51-1,0)","v":"Council Tax Requirement (CTR1/CTR2/CTR3/CTR4)"},{"$f":"OFFSET(RefsLookup!G$1,$N51-1,0)","v":"DLUHC"},"Go",{"$nulls":6},true,1,43,{"$f":"OFFSET(RefsLookup!C$1,$N51-1,0)","v":84},{"$f":"OFFSET(RefsLookup!D$1,$N51-1,0)","v":{"$error":"#N/A"}},{"$f":"OFFSET(RefsLookup!E$1,$N51-1,0)","v":{"$error":"#N/A"}},{"$f":"OFFSET(RefsLookup!I$1,$N51-1,0)","v":1}]
[null,{"$f":"TEXT(OFFSET(RefsLookup!B$1,$N52-1,0),\"000\")&\"-00\"","v":"043-00"},{"$f":"OFFSET(RefsLookup!F$1,$N52-1,0)","v":"Quarterly Return of Council Taxes and Non-domestic rates (QRC1 to QRC3)"},{"$f":"OFFSET(RefsLookup!G$1,$N52-1,0)","v":"DLUHC"},"Go",{"$nulls":6},true,1,44,{"$f":"OFFSET(RefsLookup!C$1,$N52-1,0)","v":93},{"$f":"OFFSET(RefsLookup!D$1,$N52-1,0)","v":{"$error":"#N/A"}},{"$f":"OFFSET(RefsLookup!E$1,$N52-1,0)","v":{"$error":"#N/A"}},{"$f":"OFFSET(RefsLookup!I$1,$N52-1,0)","v":1}]
[null,{"$f":"TEXT(OFFSET(RefsLookup!B$1,$N53-1,0),\"000\")&\"-00\"","v":"044-00"},{"$f":"OFFSET(RefsLookup!F$1,$N53-1,0)","v":"Quarterly Revenue Outturn (QRO)"},{"$f":"OFFSET(RefsLookup!G$1,$N53-1,0)","v":"DLUHC"},"Go",{"$nulls":6},true,1,45,{"$f":"OFFSET(RefsLookup!C$1,$N53-1,0)","v":99},{"$f":"OFFSET(RefsLookup!D$1,$N53-1,0)","v":{"$error":"#N/A"}},{"$f":"OFFSET(RefsLookup!E$1,$N53-1,0)","v":{"$error":"#N/A"}},{"$f":"OFFSET(RefsLookup!I$1,$N53-1,0)","v":1}]
[null,{"$f":"TEXT(OFFSET(RefsLookup!B$1,$N54-1,0),\"000\")&\"-00\"","v":"045-00"},{"$f":"OFFSET(RefsLookup!F$1,$N54-1,0)","v":"Council Tax Base (CTB)"},{"$f":"OFFSET(RefsLookup!G$1,$N54-1,0)","v":"DLUHC"},"Go",{"$nulls":6},true,1,46,{"$f":"OFFSET(RefsLookup!C$1,$N54-1,0)","v":101},{"$f":"OFFSET(RefsLookup!D$1,$N54-1,0)","v":{"$error":"#N/A"}},{"$f":"OFFSET(RefsLookup!E$1,$N54-1,0)","v":{"$error":"#N/A"}},{"$f":"OFFSET(RefsLookup!I$1,$N54-1,0)","v":1}]
[null,{"$f":"TEXT(OFFSET(RefsLookup!B$1,$N55-1,0),\"000\")&\"-00\"","v":"046-00"},{"$f":"OFFSET(RefsLookup!F$1,$N55-1,0)","v":"National Non-domestic Rates Return (NNDR) 1"},{"$f":"OFFSET(RefsLookup!G$1,$N55-1,0)","v":"DLUHC"},"Go",{"$nulls":6},true,1,47,{"$f":"OFFSET(RefsLookup!C$1,$N55-1,0)","v":110},{"$f":"OFFSET(RefsLookup!D$1,$N55-1,0)","v":{"$error":"#N/A"}},{"$f":"OFFSET(RefsLookup!E$1,$N55-1,0)","v":{"$error":"#N/A"}},{"$f":"OFFSET(RefsLookup!I$1,$N55-1,0)","v":1}]
[null,{"$f":"TEXT(OFFSET(RefsLookup!B$1,$N56-1,0),\"000\")&\"-00\"","v":"047-00"},{"$f":"OFFSET(RefsLookup!F$1,$N56-1,0)","v":"   REMOVED [National Non-domestic Rates Return (NNDR) mid year forecast]"},{"$f":"OFFSET(RefsLookup!G$1,$N56-1,0)","v":"DCLG"},"Go",{"$nulls":6},true,1,48,{"$f":"OFFSET(RefsLookup!C$1,$N56-1,0)","v":{"$error":"#N/A"}},{"$f":"OFFSET(RefsLookup!D$1,$N56-1,0)","v":{"$error":"#N/A"}},{"$f":"OFFSET(RefsLookup!E$1,$N56-1,0)","v":377},{"$f":"OFFSET(RefsLookup!I$1,$N56-1,0)","v":3}]
[null,{"$f":"TEXT(OFFSET(RefsLookup!B$1,$N57-1,0),\"000\")&\"-00\"","v":"048-00"},{"$f":"OFFSET(RefsLookup!F$1,$N57-1,0)","v":"National Non-domestic Rates Return (NNDR) 3"},{"$f":"OFFSET(RefsLookup!G$1,$N57-1,0)","v":"DLUHC"},"Go",{"$nulls":6},true,1,49,{"$f":"OFFSET(RefsLookup!C$1,$N57-1,0)","v":117},{"$f":"OFFSET(RefsLookup!D$1,$N57-1,0)","v":{"$error":"#N/A"}},{"$f":"OFFSET(RefsLookup!E$1,$N57-1,0)","v":{"$error":"#N/A"}},{"$f":"OFFSET(RefsLookup!I$1,$N57-1,0)","v":1}]
[null,{"$f":"TEXT(OFFSET(RefsLookup!B$1,$N58-1,0),\"000\")&\"-00\"","v":"049-00"},{"$f":"OFFSET(RefsLookup!F$1,$N58-1,0)","v":"   REMOVED [Merged with 048]"},{"$f":"OFFSET(RefsLookup!G$1,$N58-1,0)","v":"DCLG"},"Go",{"$nulls":6},true,1,50,{"$f":"OFFSET(RefsLookup!C$1,$N58-1,0)","v":{"$error":"#N/A"}},{"$f":"OFFSET(RefsLookup!D$1,$N58-1,0)","v":{"$error":"#N/A"}},{"$f":"OFFSET(RefsLookup!E$1,$N58-1,0)","v":27},{"$f":"OFFSET(RefsLookup!I$1,$N58-1,0)","v":3}]
[{"$nulls":11},{"$f":"COUNTIF(L9:L58,TRUE)","v":50}]

{"sheet":"Changes","index":5,"n_rows":259,"n_cols":13,"rows_kept":259}
[null,"Working version","Circulated version","Date","Add","Delete","Amend","Structure","Description","Main list","Alt. list",null,{"$f":"COUNTA(B:B)","v":160}]
[null,1.11,3,"2011-01-05",null,null,"Y",null,"Quarterly Return of Council Taxes and Non-domestic rates (QRC4) (new collection ref 166) split-off from Quarterly Return of Council Taxes and Non-domestic rates (QRC 1 to QRC4) (collection ref 043).","Y"]
[null,1.11,3,"2011-01-05",null,null,"Y",null,"National Non-domestic Rates Return (NNDR) 3 audited (formerly collection ref 049) merged with National Non-domestic Rates Return (NNDR) 3 (collection ref 048) as new data topic 048-02.","Y"]
[null,1.11,3,"2011-01-06",null,null,"Y",null,"Added four new data topics to Annual Monitoring Reports: Core output indicators (collection ref 024, new data topics 024-17 to 024-20) for business development indicators which were previously omitted in error.","Y"]
[null,1.11,3,"2011-01-06",null,"Y",null,null,"Five-year land supply for housing (former collection ref 023) deleted as this is no longer a separate collection and is included in the Annual Monitoring Reports: Core output indicators (collection ref 024) as AMR H2(c) (data topic 024-04).","Y"]
[null,1.12,3,"2011-01-11",null,"Y",null,null,"PSV Bus and Coach Operators Survey (former collection ref 123-00) removed from the list as it is not a local government specific collection, and not a mandatory survey.","Y"]
[null,1.12,3,"2011-01-12","Y",{"$nulls":3},"Added two new collections to cover housing capital receipts pooling (new collection refs 167 & 168).","Y"]
[null,1.12,3,"2011-01-12","Y",{"$nulls":3},"Added new collection relating to Disabled Facilities Grant (new collection ref 169).","Y"]
[null,1.13,4,"2011-01-14","Y",{"$nulls":3},"Added new collection relating to the Audit Commission's National Fraud Initiative (new collection ref 170).","Y"]
[null,1.14,4,"2011-01-17","Y",{"$nulls":3},"Added new collection for DfE - Consistent Financial Reporting (New collection ref 171)","Y"]
[null,1.14,4,"2011-01-19","Y",{"$nulls":3},"Added two new collections for DCLG to cover Fire Fighters Pension Fund (new collections refs 172 and 173)","Y"]
[null,1.15,5,"2011-01-20",null,null,"Y",null,"Quarterly Housing monitoring (P1B) (ref 008) changed from quarterly to annual and renamed to reflect this.","Y"]
[null,1.15,5,"2011-01-20",null,null,"Y",null,"Additional detail and data topics for a number of adult social care collections (refs 133 to 137, 139, 140 & 144).","Y"]
[null,1.15,5,"2011-01-20","Y",{"$nulls":3},"Added three new adult social care collections (New collection refs 174 to 176) - all of which are proposed for deletion subject to National Statistics review.","Y"]
[null,1.15,5,"2011-01-20","Y",{"$nulls":3},"Added new collection for DCLG/OS - Parish council boundaries (new collection ref 177).","Y"]
[null,1.15,5,"2011-01-20",null,null,"Y",null,"Collection ref 062 (formerly local authority expenditure over £500) has been retitled \"Data Transparency - numerical information\", and data topics added to cover all the categories of data in the proposed Code of Recommended Practice for Local Authorities on Data Transparency","Y"]
[null,1.15,5,"2011-01-21",null,"Y",null,null,"Disabled Facilities Grant (collection ref 169) removed from the list. No longer likely to be required after ringfencing is removed in 2011/12.","Y"]
[null,1.15,5,"2011-01-24","Y",{"$nulls":3},"Added two new transport collections covering Local Sustainable Transport Fund and smart & integrated ticketing (new collection refs 178 & 179).","Y"]
[null,1.15,5,"2011-01-26",null,"Y",null,null,"Deleted two data topics from animal products imports collection (former data topics refs 068-01 and 068-03), leaving a single data topic for that collection.","Y"]
[null,1.16,6,"2011-01-27",null,"Y",null,null,"Deleted Supporting People Client Records and Outcomes (former collection ref 011-00) because this is a collection from service providers and not local authorities.","Y"]
[null,1.16,6,"2011-01-28",null,"Y",null,null,"Deleted Business Plan Statistical Appendix - Early Decent Homes (BPSA-EDH) (former collection ref 006) as this was a one-off collection in 2010, the content of which is already covered by the main BPSA return.","Y"]
[null,1.16,6,"2011-01-31",null,"Y",null,null,"Removed Young people within the Youth Justice System who are sentenced to custody (former collection ref 156), as from April 2011 this will move to automatic collection from case management system by the Youth Justice Board.","Y"]
[null,1.16,6,"2011-01-31","Y",{"$nulls":3},"Added Youth Justice Management Information System (YJMIS) as a collection (new collection ref 180).","Y"]
[null,1.16,6,"2011-01-31",null,"Y",null,null,"Data topic Blue Badge Parking Survey - Number of On-street Parking Bays (ref 127-06) deleted, as this information will not be collected in future.","Y"]
[null,1.17,6,"2011-01-31",{"$nulls":3},"Y","ALB collections (except DCLG's, but including ONS) moved to separate ALBs  list.","Y","Y"]
[null,1.17,6,"2011-02-01","Y",{"$nulls":3},"Added new education collection: Section 251 financial return - outturn (ref 182).","Y"]
[null,1.17,6,"2011-02-02","Y",{"$nulls":3},"Added new collection: Whole of Government Accounts (WGA) (ref 183).","Y"]
[null,1.17,6,"2011-02-02","Y",{"$nulls":3},"Added new collection: County Matters Planning Fees statistical returns (FEE 2) (ref 184)","Y"]
[null,1.18,7,"2011-02-03",{"$nulls":3},"Y","Added a cross-reference to former NIS numbers in the Detail list (column Z), and a new column for this information in the Collections list.","Y","Y"]
[null,1.18,7,"2011-02-04","Y",{"$nulls":3},"Added new potential education collection - Bullying (new collection ref 185) to the main list.","Y"]
[null,1.18,7,"2011-02-04",null,"Y",null,null,"Collection ref 099 (Extension of nursery funding to 2 year-olds) has been removed as this information will be collected through the Early Years Census (ref 096). A data topic has been added to reflect this.","Y"]
[null,{"v":2,"d":"2.00"},8,"2011-02-16",null,"Y",null,null,"Removed Supporting People Local System data (former collection ref 012). Data collection will cease with effect from May 2011.","Y"]
[null,{"v":2,"d":"2.00"},8,"2011-02-28",null,null,"Y",null,"BIS data collection Weights and measures enforcement (section 70) (ref 001) moved from main list to ALB list, since it is actually collected by the NMO.","Y","Y"]
[null,{"v":2,"d":"2.00"},8,"2011-02-28","Y",{"$nulls":3},"Added Individualised Learner Record (ILR) (collection ref 186) to the ALBs list.",null,"Y"]
[null,{"v":2,"d":"2.00"},8,"2011-02-28","Y",{"$nulls":3},"Added Skills Funding Claims and Use of Funds (collection ref 187) to the ALBs list.",null,"Y"]
[null,{"v":2,"d":"2.00"},8,"2011-02-28","Y",{"$nulls":3},"Added possible new DfE collection - Institution level data for maintained schools converting to academy status (collection ref 188) to the main list.","Y"]
[null,{"v":2,"d":"2.00"},8,"2011-02-28","Y",{"$nulls":3},"Added missing DfE collection Children with Statements of Special Educational Needs (SEN2) (collection ref 189) to the main list.","Y"]
[null,{"v":2,"d":"2.00"},8,"2011-02-28","Y",{"$nulls":3},"Added eight FSA collections to the ALB list (refs 190 - 197).",null,"Y"]
[null,{"v":2,"d":"2.00"},8,"2011-03-01","Y",{"$nulls":3},"Added two Children's Workforce Development Council collections (refs 198 & 199) to the ALBs list.",null,"Y"]
[null,{"v":2,"d":"2.00"},8,"2011-03-01","Y",{"$nulls":3},"Added two General Teaching Council collections (refs 200 & 201) to the ALBs list.",null,"Y"]
[null,{"v":2,"d":"2.00"},8,"2011-03-01","Y",{"$nulls":3},"Added two Partnerships for Schools collections (refs 202 & 203) to the ALBs list.",null,"Y"]
[null,{"v":2,"d":"2.00"},8,"2011-03-01","Y",{"$nulls":3},"Added three YPLA collections (refs 204 - 206) to the ALBs list.",null,"Y"]
[null,{"v":2,"d":"2.00"},8,"2011-03-01","Y",{"$nulls":3},"Added five Gambling Commission collections (refs 207 - 211) to the ALBs list.",null,"Y"]
[null,{"v":2,"d":"2.00"},8,"2011-03-01","Y",{"$nulls":3},"Added new collection on Public Sector Equality Duty (ref 212) to the main list. (Subsequently removed along with the other local accountability datasets - v2.03)","Y"]
[null,{"v":2,"d":"2.00"},8,"2011-03-02","Y",{"$nulls":3},"Added two missing collections on public procurement (refs 213 & 214) to the main list.","Y"]
[null,{"v":2,"d":"2.00"},8,"2011-03-02","Y",{"$nulls":3},"Added an ONS collection on electoral statistics (ref 215) to the ALBs list.",null,"Y"]
[null,{"v":2,"d":"2.00"},8,"2011-03-02",{"$nulls":3},"Y","Added new set of columns to detail lists to more precisely describe the types of authority to which collections apply.","Y","Y"]
[null,2.01,8,"2011-03-08",null,"Y",null,null,"Removed three DfE collections which are voluntary (refs 093 - Childcare and Early Years Providers Survey, 095 - Children's Centres, and 103 - Music Grant - use of).","Y"]
[null,2.01,8,"2011-03-08","Y",{"$nulls":3},"Added new DfE collection on School condition to the main list (new collection ref 216-00).","Y"]
[null,2.02,8,"2011-03-09",null,"Y",null,null,"Removed redundant DfE collection on Standards Fund (ref 116) (Subsequently reinstated as final collection will be required in Autumn 2011 - v2.06)","Y"]
[null,2.02,8,"2011-03-09",null,"Y",null,null,"Removed redundant DH collection CRILL (ref 141), which is being discontinued.","Y"]
[null,2.02,8,"2011-03-09",null,"Y",null,null,"Removed DH collection Register of blind and partially sighted people (SSDA902) (ref 144) which is being discontinued. (Deleted in error - subsequently reinstated to main list - v2.06)","Y"]
[null,2.02,8,"2011-03-09",null,"Y",null,null,"Removed DCLG collection on Affordable Housing Grant (ref 019) as this information will come from HCA management data.","Y"]
[null,2.02,8,"2011-03-09",null,"Y",null,null,"Removed DEFRA collection - Compliance with Government Buying Standards (ref 081) as this is a voluntary survey.","Y"]
[null,2.02,8,"2011-03-09",null,"Y",null,null,"Removed DfT collection - Bikeability (ref 126) as this only applies to authorities which apply for funding.","Y"]
[null,2.02,8,"2011-03-09",null,null,"Y",null,"A number of collections flagged as \"Under review\" following discussions with departments (refs 004, 007, 022, 079, 087, 102, 134, 135, 136 & 142)","Y"]
[null,2.02,8,"2011-03-10","Y",{"$nulls":3},"Added ten Ofsted collections to the ALB list (refs 217 to 226)",null,"Y"]
[null,2.02,8,"2011-03-10","Y",{"$nulls":3},"Added two placeholders for Electoral Commission collections to the ALB list.",null,"Y"]
[null,2.03,8,"2011-03-11",{"$nulls":3},"Y","\"Find\" and \"Search\" utilities amended to work across all three lists (Main, ALBs and Removed)."]
[null,2.03,8,"2011-03-11",null,"Y",null,null,"Removed three local accountability/data transparency collections from the main list as these are not data collections (062 - Data Transparency - numerical information, 212 - Public Sector Equality Duty & 157 - Speed camera inventory).","Y"]
[null,2.03,8,"2011-03-11",null,"Y",null,null,"Removed three potential new DCLG departmental indicator collections from the main list which are not due for introduction before 2012 or later ( 056 - Community Budgets, 057 - Community Infrastructure Levy & 058 - Neighbourhood Plans).","Y"]
[null,2.03,8,"2011-03-11",{"$nulls":3},"Y","Removed the \"Main reason for collection\" column from all detail sheets and re-formatted the \"Collections\" sheets to list collections by department and list order.","Y","Y"]
[null,2.04,9,"2011-03-14",null,"Y",null,null,"Removed potential new DCLG departmental indicator collection from the main list - 055 Local decision-making, as this will be measured using data from existing local government finance collections.","Y"]
[null,2.04,9,"2011-03-14",null,"Y",null,null,"Removed potential new DCLG departmental indicator collection from the main list - 059-00 New mutuals and co-operatives, which will not be collected from local authorities (following discussion in the CLIP Finance Sub-Group).","Y"]
[null,2.04,9,"2011-03-15",null,"Y",null,null,"Removed DCLG/HCA collection 064 - Investment Management System as this only covered bid-based funding which is no longer current. (Subsequently reinstated in respect of MRS monitoring - v2.07, and then removed again - v2.08)","Y"]
[null,2.04,9,"2011-03-15",null,"Y",null,null,"Removed DCLG/HCA collection 164 - Private Finance Initiative as this relates to bid-based funding.","Y"]
[null,2.04,9,"2011-03-15",null,"Y",null,null,"Removed DCLG/HCA collection 165 - Thames Gateway as this will no longer be an HCA funding scheme from 2011/12.","Y"]
[null,2.05,9,"2011-03-17",null,"Y","Y",null,"Removed three data topics from 061-00 Fire and rescue service non-financial annual returns: 061-06: Promotions, 061-07: Training, 061-08: Emergency call numbers. Changed title of data topic 061-04: Health and Safety to \"Injuries to firefighters\"","Y"]
[null,2.05,9,"2011-03-18",null,"Y",null,null,"Removed PfS collection 202-00: Schools capacity from the ALB list as this was a duplicate of collection 108-00 in the main list.",null,"Y"]
[null,2.05,9,"2011-03-18",null,"Y",null,null,"Removed two Children's Workforce Development Council (CWDC) collections which are not mandatory from the ALB list (198-00: Educational Psychology workforce planning survey, and 199-00: Foster Care Training, Support and Development Standards Audit).",null,"Y"]
[null,2.05,9,"2011-03-18",null,"Y",null,null,"Removed 7 Ofsted collections which are not mandatory from the ALB list (217-00: Adoption data set and adoption self assessment, 218-00: Children’s Services Assessment (commissioned services), 220-00: Residential family centres’ data, 221-00: Safeguarding & Looked After Children data, 222-00: Foster care data set and self assessment, 223-00: Point of inspection placing authorities’ questionnaire, 226-00: Pre-inspection data for private fostering services).",null,"Y"]
[null,2.05,9,"2011-03-18",null,"Y",null,null,"Removed DfT collection 131-00: Major transport scheme spend, as it is a consequence of participating in voluntary funding arrangements.",null,"Y"]
[null,2.06,9,"2011-03-21",{"$nulls":3},"Y","Removed individual \"reasons for collection\" columns from the detail lists.","Y","Y"]
[null,2.06,9,"2011-03-28","Y",{"$nulls":3},"Added six collections for the Electoral Commission (refs 227 - 232) to the ALB list.",null,"Y"]
[null,2.06,9,"2011-03-29","Y",{"$nulls":3},"DH collection Register of blind and partially sighted people (SSDA902) (ref 144) reinstated onto main list as it had been removed in error.","Y"]
[null,2.06,9,"2011-03-29",null,null,"Y",null,"Three DH collections marked as proposed for deletion subject to formal National Statistics consultation (refs 174 - Register of deaf or hard of hearing people (SSDA910), 175 - Grant Funded Services (GFS1) return, and 176 - Personal Social Services Staffing (SSDS001) return)","Y"]
[null,2.06,9,"2011-03-29","Y",{"$nulls":3},"DfE collection 116 (Standards Fund monitoring) reinstated to main list since final collections for 2010/11 data will be required in Autumn 2011.","Y"]
[null,2.06,9,"2011-03-29",null,null,"Y",null,"New data topics added to DfE collection 100 - Admissions: Parental Preferences met, to extend the scope to primary schools and individual level data.","Y"]
[null,2.07,9,"2011-03-30","Y",{"$nulls":3},"Reinstated DCLG/HCA collection 064 - Investment Management System to the main list in respect of MRS management (new data topic). (Subsequently removed again - v2.08)","Y"]
[null,2.08,9,"2011-04-01",null,"Y",null,null,"Removed DCLG/HCA collection 064 - Investment Management System from the main list in respect of MRS management because this is not data collected from local authorities.","Y"]
[null,2.08,9,"2011-04-04",null,"Y",null,null,"Removed DfT collection 178 - Local Sustainable Transport Fund from the main list as it only applies to authorities which bid for funding.","Y"]
[null,2.09,9,"2011-04-05",null,null,"Y",null,"MoJ/YJB collection 180 - Youth Justice Management Information System (YJMIS) moved from main list to ALB list.","Y","Y"]
[null,2.09,9,"2011-04-05",null,null,"Y",null,"DfE collection 110 - School Workforce Census - LA level merged with ref 111 - School Workforce Census.","Y"]
[null,2.09,9,"2011-04-06",null,null,"Y",null,"DH/HPA collection 143 moved from main list to ALB list and re-titled Health protection Part 2A Order notifications","Y","Y"]
[null,2.09,9,"2011-04-06","Y",{"$nulls":3},"New DH/HPA collection 233 - Notification of Infectious Diseases (NOIDs) added to ALB list",null,"Y"]
[null,2.09,9,"2011-04-08",null,"Y",null,null,"Removed DCLG collection 014 - Housing Revenue Account Subsidy Claim form - first advance, as this has now been collected for the last time.","Y"]
[null,2.09,9,"2011-04-08",null,null,"Y",null,"Detailed data topics added to DCLG Housing Revenue Account Subsidy Claim form collections 015, 016 & 017 to reflect the fact that the first advance claim form (former collection ref 014) to which they referred, has now been removed from the list.","Y"]
[null,2.09,9,"2011-04-08","Y",{"$nulls":3},"Added new DfE/YPLA collection ref 234 - 16-19 Bursary Fund to the ALB list.",null,"Y"]
[null,3.01,10,"2011-04-20",null,null,"Y",null,"DCLG/TSA collection 065 - CORE (Continuous Recording) of lettings and sales by local authorities, no longer under review.","Y"]
[null,3.01,10,"2011-04-27","Y",{"$nulls":3},"Reinstated seven Ofsted collections onto the ALB list as these have been confirmed as requirements (217-00: Adoption data set and adoption self assessment, 218-00: Children’s Services Assessment (commissioned services), 220-00: Residential family centres’ data, 221-00: Safeguarding & Looked After Children data, 222-00: Foster care data set and self assessment, 223-00: Point of inspection placing authorities’ questionnaire, 226-00: Pre-inspection data for private fostering services).",null,"Y"]
[null,3.01,10,"2011-05-06",null,"Y",null,null,"Removed DfT (formerly DCLG) collection ref 214 - Utilities Contract Regulations 2006 from main list, as this return is not local authority specific.","Y"]
[null,3.01,10,"2011-05-23",null,null,"Y",null,"Corrections to the local authority classes applicable for collection ref 160-00.","Y"]
[null,3.01,10,"2011-06-01",null,null,"Y",null,"DfE collection ref 085 - Child and Adolescent Mental Health Service (CAMHS), marked as under review as it has been proposed for cessation.","Y"]
[null,3.01,10,"2011-06-01","Y",{"$nulls":3},"Added new HO/IPS-GRO collection ref 235-00 - Registrar General's annual return to the ALB list.",null,"Y"]
[null,3.01,10,"2011-06-01","Y",{"$nulls":3},"Added five new Ofsted collections to the ALB list (236-00: AfterCare survey of those who have left care in the past year; 237-00: Care4Me survey; 238-00: Staff questionnaire, maintained day, boarding and residential special schools; 239-00: Children’s centre self-evaluation form; 240-00: Post inspection survey)",null,"Y"]
[null,3.01,10,"2011-06-01",null,null,"Y",null,"DfE/YPLA collection ref 204-00: Young Apprenticeships (YA) marked as to cease during 2011/12",null,"Y"]
[null,3.01,10,"2011-06-02",null,"Y",null,null,"Removed DfE/YPLA collection ref 205-00: Education Business Partnership Services (EBPS) from the ALB list as that programme has now ceased",null,"Y"]
[null,3.02,10,"2011-06-02","Y",{"$nulls":3},"Added new HMRC/VOA collection ref 241-00: Billing authority report (BAR), to the ALB list",null,"Y"]
[null,3.02,10,"2011-06-06",null,"Y",null,null,"Removed DCLG/TSA collection 066: National Register of Social Housing (NROSH), from the main list as this collection has been discontinued.","Y"]
[null,3.02,10,"2011-06-08",null,null,"Y",null,"Removed data topics 024-01 to 024-20 from DCLG collection ref 024: Annual Monitoring Reports: Core output indicators, following the withdrawal of guidance on the COIs","Y"]
[null,3.02,10,"2011-06-08",null,null,"Y",null,"Renamed and amended DCLG collection ref 024: Annual Monitoring Reports to reflect the removal of the Core output indicators..","Y"]
[null,3.02,10,"2011-06-09","Y",{"$nulls":3},"Added new DCLG/AC collection ref 242: Fraud and Corruption Survey to the ALB list.",null,"Y"]
[null,3.02,10,"2011-06-21",null,null,"Y",null,"Removed DEFRA data topics 082-02 & 082-03: WasteDataFlow, as these have been combined within data topic 082-01.","Y"]
[null,3.02,10,"2011-06-21","Y",null,"Y",null,"DEFRA data topic 080-02 split-off to create new separate collection ref 243: Developments in flood risk areas","Y"]
[null,3.02,10,"2011-06-21","Y",{"$nulls":3},"Added new DEFRA/EA collection ref 244: Flood risk management capacity, to ALB list",null,"Y"]
[null,3.02,10,"2011-06-21","Y",{"$nulls":3},"Added new DEFRA/EA collection ref 245: Strategic Overview of Flood and Coastal Erosion risk, to ALB list",null,"Y"]
[null,3.02,10,"2011-06-21","Y",{"$nulls":3},"Added new DEFRA/EA collection ref 246: Reporting on EU flood risk regulations, to ALB list",null,"Y"]
[null,4.01,10,"2011-06-22",{"$nulls":3},"Y","All ALB list entries integrated into the main list","Y","Y"]
[null,4.01,10,"2011-06-22",{"$nulls":3},"Y","ALBs lists renamed \"Pending\" to record potential collections which are not due in the current year or are not yet finalised or agreed for inclusion on the Single Data List.",null,"Y"]
[null,4.01,10,"2011-06-22","Y",{"$nulls":3},"Former DCLG collection ref 056: Community Budgets, restored from the Removed list to the Pending list.",null,"Y"]
[null,4.01,10,"2011-06-22","Y",{"$nulls":3},"Added new DEFRA/EA collections refs 247 & 248: Reporting on EU Flood Risk Regulations to the Pending list, which relate to collections in 2013 and 2015 (subsequently moved onto main list).",null,"Y"]
[null,4.01,10,"2011-06-22",{"$nulls":3},"Y","\"Former NI\" column removed from Collections lists","Y","Y"]
[null,4.03,11,"2011-06-28",null,null,"Y",null,"MoJ/YJB collection 180 - Youth Justice Management Information System (YJMIS) no longer under review.","Y"]
[null,4.03,11,"2011-07-08",null,"Y",null,null,"Removed DfE collection ref 185: Bullying, as this proposed new collection is not currently being pursued.","Y"]
[null,4.03,11,"2011-07-08",null,null,"Y",null,"DCLG collection ref 008: Housing Monitoring (P1B), marked as under review as there are proposals to merge this with HSSA (collection ref 004).","Y"]
[null,4.04,11,"2011-07-11",{"$nulls":3},"Y","Introduced fourth category of body with data reporting requirements: \"Other public bodies NOT part of the Single Data List\" to accommodate organisations such as the Electoral Commission which are independent of central government and therefore not subject to the normal arrangements underpinning the Single Data List","Y"]
[null,4.04,11,"2011-07-11","Y",{"$nulls":3},"Added two new Electoral Commission collections: 249 - Electoral Registration supporting data, and 250 - Statement of results","Y"]
[null,4.04,11,"2011-07-11","Y",{"$nulls":3},"Added new data topic ref 080-08 to DEFRA collection ref 080: Flood and coastal erosion risk management and sustainable drainage systems.","Y"]
[null,4.04,11,"2011-07-11",null,null,"Y",null,"DfT collection 129 - Highway inventory data moved to \"Pending list as it is only collected on an ad hoc basis about every three years (subsequently moved back to main list)","Y","Y"]
[null,4.04,11,"2011-07-11","Y",{"$nulls":3},"New DfT collection ref 251 - Winter salt stock holdings (formerly data topic 129-02)","Y"]
[null,4.04,11,"2011-07-11",null,"Y",null,null,"Removed DfT collection ref 179: Smart & Integrated Ticketing, as future surveys will be on a voluntary ad-hoc basis,","Y"]
[null,5.02,12,"2011-07-28",null,null,"Y",null,"Ordnance Survey collections ref 158 & 177 reassigned to BIS following machinery of government changes.","Y"]
[null,5.02,12,"2011-08-08",null,"Y",null,null,"Removed HO/IPS-GRO collection ref 235: Registrar General's annual return, as this is a voluntary return which only applies to those authorities which have signed-up to the national standards framework .","Y"]
[null,5.02,12,"2011-08-19",null,"Y",null,null,"Removed DCLG collections ref 015 & 018: Housing Revenue Account Subsidy Claim forms - second advance and base data, as the final instance of these forms were completed at end August 2011. No further instances of these collections will be required following the reform of HRA subsidy in 2012.","Y"]
[null,6.01,12,"2011-10-07",null,null,"Y",null,"Moved DEFRA/EA collections refs 247 & 248: Reporting on EU Flood Risk Regulations, which relate to collections in 2013 and 2015, from the Pending list onto main list and merged with 246.","Y","Y"]
[null,6.01,12,"2011-10-07",null,null,"Y",null,"DfT collection 129 - Highway inventory data moved back from \"Pending\" list to main list to reflect decision that main list should contain all ongoing or upcoming collections even if data is not due to be collected in the current year.","Y","Y"]
[null,6.01,12,"2011-10-18",null,"Y",null,null,"Removed DCLG collection ref 024 - Annual Monitoring Reports, as these are no longer collected centrally (although the requirement to produce the reports remains).","Y"]
[null,6.01,12,"2011-10-18",null,"Y",null,null,"Removed DCLG collection ref 063 - National land use database of previously-developed brownfield land (NLUD-PDL), as this collection is voluntary and transactional/operational in nature and so not relevant for inclusion on the Single Data List.","Y"]
[null,6.01,12,"2011-10-18",null,null,"Y",null,"New data topic added to DEFRA collection 071 - Animal Health & Welfare Management and Enforcement System (AMES): on farm enforcement activity. This was previously included under collection 069 - Animal Welfare: during transport; on farm, which has been re-named - Animal Welfare: during transport.","Y"]
[null,6.01,12,"2011-10-18",null,"Y",null,null,"Removed DEFRA collection 072 - Contingency Planning/Capability for disease outbreak, as there is no requirement to report contingency plans or related data to central government.","Y"]
[null,6.01,12,"2011-10-18",null,"Y",null,null,"Removed DEFRA collection 074 - Stray dogs, as this data is not regularly collected by central government.","Y"]
[null,6.01,12,"2011-10-18",null,"Y",null,null,"Removed DfT/TC collection 124 - Standard bus permits, as this collection is transactional in nature and so not relevant for inclusion in the single data list.","Y"]
[null,6.01,12,"2011-10-18",null,"Y",null,null,"Removed DfT/ORR collection 181 - PTE/ITA Rail data, as this is collected from PTEs/ITAs in their role as providers of public transport and not local authorities.","Y"]
[null,6.01,12,"2011-10-18",null,"Y",null,null,"Removed DH/HPA collections 143 - Health protection Part 2A Order notifications, and 233 - Notification of Infectious Diseases (NOIDs), as these are transactional/operational in nature and so not relevant for the Single Data List.","Y"]
[null,6.01,12,"2011-10-18",null,"Y",null,null,"Removed DWP collection 152 - Circus database, as this is a voluntary operational database used to share information between enforcement authorities, and is not a central government collection.","Y"]
[null,6.01,12,"2011-10-18",null,"Y",null,null,"Removed DH collections 174 - Register of deaf or hard of hearing people (SSDA910), 175 - Grant Funded Services (GFS1), and 176 - Personal Social Services Staffing (SSDS001), as these have been discontinued.","Y"]
[null,6.01,12,"2011-10-18",null,"Y",null,null,"Removed DfE collection 201 - Fee Collection – Salary Deduction Process, as the final collection has completed.","Y"]
[null,6.01,12,"2011-10-18",null,"Y",null,null,"Removed DCMS/GC collections 209 - Gambling Temporary Use Notices, 210 - Club Machine Permits & Club Gaming Permits, and 211 - Gambling Premises data, as these are transactional information and so not relevant for the single data list.","Y"]
[null,6.01,12,"2011-10-18",null,"Y",null,null,"Removed HMRC/VOA collection 241 - Billing Authority Report (BAR), as this is transactional information and so not relevant for the single data list.","Y"]
[null,6.01,12,"2011-10-19",null,"Y",null,null,"Removed DfE/Ofsted collections 220-00 - Residential family centres’ data, 223-00 - Point of inspection placing authorities’ questionnaire, 226-00 - Pre-inspection data for private fostering services, 236-00 - AfterCare survey of those who have left care in the past year, 237-00 - Care4Me survey, 238-00 - Staff questionnaire, maintained day, boarding and residential special schools, 239 - Children’s centre self-evaluation form, and 240-00 - Post inspection survey, as these are not mandatory and local authority involvement is limited.","Y"]
[null,6.01,12,"2011-10-19",null,null,"Y",null,"DfE collection ref 182 - Section 251 financial return, outturn, merged with collection ref 113 - Section 251 financial return.","Y"]
[null,6.01,12,"2011-10-19",null,"Y",null,null,"Removed DfE collection 116 - Standards Fund monitoring, as this has now ended.","Y"]
[null,8.01,12,"2011-12-12",null,"Y",null,null,"Removed DfE collection 085-00 Child and Adolescent Mental Health Service (CAMHS) as coming to an end","Y"]
[null,8.01,12,"2011-12-12",null,"Y",null,null,"Removed DfE collection 089-00 Missing from Care and Home as collection ended","Y"]
[null,8.01,12,"2011-12-12",null,"Y",null,null,"Removed BIS/OS collection 158-00 Public rights of way as transactional data","Y"]
[null,8.01,12,"2011-12-12",null,"Y",null,null,"Removed BIS/OS collection 177-00 Parish council boundaries as transactional data","Y"]
[null,8.01,12,"2011-12-12",null,"Y",null,null,"Removed BIS/SFA collections 186-00 Individualised Learner Record (ILR) & 187-00 Skills Funding Claims and Use of Funds on the grounds that they are not relevant to or compulsory for every local authority as only applicable to a local authority when they have a contract with the Skills Funding Agency (SFA) to deliver further education.\n","Y"]
[null,8.01,12,"2012-01-04",null,null,"Y",null,"DEFRA collection 073-00 collection name updated from Prosecutions under the Animal Health Act 1981 (and other animal health and welfare legislation) (Section 80 Report) to Return of expenditure incurred and prosecutions undertaken under the Animal Health Act 1981 and incidences of disease in imported animals","Y"]
[null,8.01,12,"2012-01-04",null,null,"Y",null,"DEFRA collection 071-00 Animal Health & Welfare Management and Enforcement System (AMES). Data topics expanded to reflect the ten activity groups reported on.  ","Y"]
[null,8.01,12,"2012-01-04",null,null,"Y",null,"DfE collection 159-00 School Census. Number of data topics expanded to reflect the 14 constituent modules","Y"]
[null,8.01,12,"2012-01-23",null,"Y",null,null,"DCLG collection ref 056-00 Community Budgets (from 2013/14) removed from collections pending and deleted. ","Y"]
[null,8.02,12,"2012-02-06",null,"Y",null,null,"Removed DfE/YPLA collection  ref 234-00, 16-19 Bursary Fund . The mandatory information on 16-19 bursaries is incorporated into the School Census, Alternative Provision Census, and Pupil Referral Unit Census.  Separate collections of management and evaluation information are voluntary.","Y"]
[null,8.04,12,"2012-02-14",null,null,"Y",null,"DH/HSCIC collections C-133-00, C134-00, C-136-00 , Links to guidance on these returns have been updated. No updated guidance currently available but will appear at the location of the new link within the next few weeks."]
[null,8.04,12,"2012-02-14",null,null,"Y",null,"DH/HSCIC C134-00 HSCIC collection Referrals, Assessment and Packages of Care collection. Data topics D134-01 amended, D134-07 amended, D134-12 amended and D134-06 deleted\n"]
[null,8.04,12,"2012-02-14",null,null,"Y",null," DH/HSCIC C136-00 Adult Social Care Combined Activity Return (ASC-CAR) data topics D-136-03 amended & D136-04  Table S4 deleted"]
[null,8.04,12,"2012-02-14",null,null,"Y",null,"DH/HSCIC C-137-00,  Link to guidance on the Abuse of Vulnerable Adults collection has been updated. No updated guidance currently available but will appear at the location of the new link within the next few months. Changes to data topics"]
[null,8.04,12,"2012-02-17",null,null,"Y",null,"DCLG/TSA collection 065-00. On 17/02/2012 the CORE contract novated from the TSA to DCLG"]
[null,8.05,12,"2012-03-14",null,null,"Y",null,"DCLG collection ref 042 Budget Requirements changed to Council Tax Requirement from 2012 and data topic 042-01 deleted).   "]
[null,8.05,12,"2012-03-22",null,"Y",null,null,"Removed DCMS/GC collection ref 208-00 Small Society Lottery as this collection is transactional in nature and so not relevant for inclusion in the single data list."]
[null,{"v":9,"d":"9.00"},null,"2012-06-13",null,"Y",null,null,"Removed DCLG collections ref 004 Housing Strategy Statistical Appendix (HSSA), 005 HRA Business Plan Statistical Appendix (BPSA) & 008 Housing Monitoring (P1B) being replaced new collection Local Authority Housing Statistics (SDL ref 252) "]
[{"$nulls":3},"2012-06-13","Y",{"$nulls":3},"New DCLG collection: Local Authority Housing Statistics (SDL ref 252) New collection from April 2012 for 2011/12. This rationalises and replaces the HSSA, BPSA and P1b collections following a review and public consultation exercise in 2011/12."]
[{"$nulls":3},"2012-06-22",null,"Y",null,null,"Removed DCLG collection ref 031-00 Business Improvement Districts Outturn (BIDO)"]
[{"$nulls":3},"2012-10-15",null,"Y",null,null,"Removed DCLG collections ref  053-00 Quarterly Return of Wages and Salaries (QRW) and 034-00 Business Improvement Districts (BID) Revenue Account \n"]
[{"$nulls":3},"2012-10-17",null,null,"Y",null,"DfE collection Children's Centres Children’s Centres and other parts of the Early Intervention Grant  ref 094-00 moved to pending "]
[{"$nulls":3},"2012-10-17",null,"Y",null,null,"DfE collection Institution level data for maintained schools converting to academy status  ref 188-00 removed as LAs do not have a role in collecting this data"]
[{"$nulls":3},"2012-10-17",null,"Y",null,null,"DfE collection Special Educational Needs ref 114 removed as will not be required"]
[{"$nulls":3},"2012-10-30",null,"Y",null,null,"DCLG collections HRA Subsidy Claim form - advance final re 016  HRA Subsidy Claim form - auditor final ref 017 removed from list as final collections have now been made"]
[{"$nulls":3},"2012-11-28",null,null,"Y",null,"DFT collection Local bus and light rail punctuality data topic 122-03 removed from list as this didn't take place"]
[{"$nulls":3},"2012-11-28",null,null,"Y",null,"DFT collection Blue Badge Parking Survey data topic  127-02 Number of Applications and Assessments 127-03 Number of Badges Withdrawn127-05Number of Badges Lost or Stolen  removed"]
[{"$nulls":3},"2012-11-28",null,null,"Y",null,"Amended CORE collection to reflect Welfare Reform changes, mobility between affordable and social rent, and have rationalised some question responses."]
[{"$nulls":3},"2012-11-28",null,null,"Y",null," DH/HSCIC C136-00 Adult Social Care Combined Activity Return (ASC-CAR) data topics D-136-03 amended & D136-05  Table S5 deleted for 2012/13"]
[{"$nulls":3},"2012-11-28",null,null,"Y",null,"DH/HSCIC C134-00 HSCIC collection Referrals, Assessment and Packages of Care collection. Data topics D134-05 (A7) and D134-07 (A10) deleted for 2012/13\n"]
[{"$nulls":3},"2012-11-28","Y",{"$nulls":3},"DH/HSCIC C258-00 HSCIC collection Safeguarding collection introduced for 2013/14\n"]
[{"$nulls":3},"2012-11-28","Y",{"$nulls":3},"DEFRA/EA collections ref 244-00 Flood risk management capacity and ref 245-00 Strategic Overview of Flood and Coastal Erosion risk added as existing data collections "]
[{"$nulls":3},"2012-11-28",null,null,"Y",null,"DEFRA/EA collection ref 243-01 wording revised "]
[{"$nulls":3},"2012-11-28",null,"Y",null,null,"DfE/YPLA collection ref 204-00: Young Apprenticeships (YA) removed as has now ceased"]
[{"$nulls":3},"2012-11-28","Y",{"$nulls":3},"DH collections ref 253-00 National Child Measurement Program (NCMP), 254-00 Collation of NHS Health Check quarterly data return, 255-00 Collation of KT31 annual contraception data return added "]
[{"$nulls":3},"2013-02-11","Y",{"$nulls":3},"DfE collection ref 259-00 Child-level data on the reason a two-year-old is being funded for an early education place"]
[{"$nulls":3},"2013-03-01",null,null,"Y",null,"DCLG data topic 042-02 removed "]
[{"$nulls":3},"2013-03-01",null,null,"Y",null,"Revised data links to a number of DCLG data returns following migration to new gov.uk website"]
[{"$nulls":3},"2013-03-01",null,"Y",null,null,"DCLG data collection 168-00 removed as being integrated into LOGASNet collection and therefore can be considered part of data collection ref 167-00"]
[{"$nulls":3},"2012-03-01",null,null,"Y",null,"DCLG data collection National Non-domestic Rates Return (NNDR) 2: downward calculation SDL ref 047-00 description of form amended.  Whole of Government Accounts SDL ref 183-00 classes of BV LAs that this collection applies to corrected. Local Authority activity under the homelessness provisions of the 1996 Housing Act (P1E) SDL ref 009-00 title of data collection amended to reflect that that data no longer asks about repeat homelessness. "]
[{"$nulls":3},"2013-03-01",null,null,"Y",null,"DfE collection SDL ref 091-00 'Safeguarding - new information needs arising from Professor Munro's review' renamed as  'Children's Social Care Workforce'  Data collection ref 088-00 Children Looked After (CLA) (SSDA903, information and comments revised. URLs for links to a number of data collections also updated."]
[{"$nulls":3},"2013-03-01",null,"Y",null,null,"DfE SDL ref 094-00 Children’s Centres and other parts of the Early Intervention Grant removed"]
[{"$nulls":3},"2013-03-01",null,null,"Y",null,"DfT collections SDL ref 121-00 Concessionary travel comments box amended. SDL ref 122-00 Bus Punctuality  - reference to light railway removed. SDL ref 128 Civil Parking Enforcement - entry amended to show that data collection is under review.   "]
[{"$nulls":3},"2013-03-05",null,null,"Y",null,"DCLG data collections 042-00 Council Tax Data requirements, data topic 042-02 removed. 046-00 NNDR1 data topic 046-05 description revised. 047-00 NNDR2 data topic 047-01 revised. NNDR3 048-00 data topic revised. "]
[{"$nulls":3},"2013-03-05",null,null,"Y",null,"DWP data collections 146-00 Single Housing Benefit Extract, data topic 146-07 removed. 150-00 Housing Benefit and Council Tax Benefit renamed to remove reference to council tax benefit"]
[{"$nulls":3},"2013-03-05",null,null,"Y",null,"DH/HSCIC data collection 139-00 Deprivation of Liberty Safeguards, data topic details amended "]
[{"$nulls":3},"2014-03-11",null,null,"Y",null,"Minor changes to item descriptions and links"]
[{"$nulls":3},"2014-03-11",null,"Y",null,null,"DH data collection 255 Collation of KT31 annual contraception data return removed"]
[{"$nulls":3},"2014-03-11",null,"Y",null,null,"DfT data collection 128-00 Civil Parking Enforcement Survey removed"]
[{"$nulls":3},"2014-03-25",null,"Y","Y",null,"D 196-08 to D196-16 removed and replaced with one row with the Data 196-17 No. of formal enforcement actions used"]
[{"$nulls":3},"2014-03-25",null,"Y","Y",null,"EC collections 227 -00 Performance Standards for Electoral Registration Officers & 228-00 Performance Standards for Returning Officers auothority type changed to sample of authorities. Data collections 249-00 Electoral Registration supporting data 230-00 Annual Financial Information return 231-00 Electoral administration plans all removed"]
[{"$nulls":3},"2014-03-25",null,"Y",null,null,"DH data collections 133-00 Personal Social Services Expenditure (PSSEX1) return 134-00 Referrals, Assessments and Packages of Care (RAP) 136-00 Adult Social Care Combined Activity Return (ASC-CAR) all removed"]
[{"$nulls":3},"2014-03-25","Y",{"$nulls":3},"DH/HSCIC data collections 260-00 Short and Long Term Support (SALT) and 261-00 Adult Social Care Finance added Return (ASC-FR), "]
[{"$nulls":3},"2014-04-03","Y",{"$nulls":3},"DH/PHE data collection 262-00 oral health surveys added to collections pending. Frequency for DH/HSCIC data collections 139-00 Deprivation of Liberty Safeguards (DoLS) Return and 140-00 Carers Survey amended"]
[{"$nulls":3},"2014-04-23",null,"Y",null,null,"DEFRA data collection 070-00 Animal Movement Licensing System (AMLS) removed "]
[{"$nulls":3},"2014-04-23",null,"Y",null,null,"DCLG data collection 007-00 Mortgage Rescue Scheme return removed"]
[{"$nulls":3},"2015-02-11",null,"Y","Y",null,"DEFRA/EA data collection 244-00 Flood risk management capacity removed. Data topic 245-01 Number of properties estimated to be at risk from local flooding sources.removed"]
[{"$nulls":3},"2015-02-11",null,"Y","Y",null,"DFE data collections: 162-00 Family Intervention Project,  105-00 Pupil Referral Unit Census and 115-00 Special Educational Needs Statement Completion,  all removed.  Data collection 109–00 School Exclusions Appeals renamed School Exclusions Reviews. "]
[{"$nulls":3},"2015-02-11",null,null,"Y",null,"DfT Data topic 127-01 Total Number of Valid Badges on Issue removed and 127-04 no longer annual but as required. New Data topic 129-02 added to pending list"]
[{"$nulls":3},"2015-02-11",null,"Y",null,null,"DH/HSCIC data collection 137-00 Abuse of Vulnerable Adults (AVA) return removed"]
[{"$nulls":3},"2015-02-12",null,null,"Y",null,"FSA data-topics,190-28,29,30,31,32,33,34,39,40,43,46,49,52,55,56,58& 59 removed data topics 191-24,25,26.27.28,29,30,32,33,36,37,40,43,46,49,52,53 & 55 removed "]
[{"$nulls":3},"2015-02-15",null,"Y",null,null,"DWP/HSE data collection 153-00 LPG pipework inspection  removed as campaign now concluded"]
[{"$nulls":3},"2015-02-15",null,"Y",null,null,"DCLG/AC data collection 242-00 Fraud and Corruption Survey removed"]
[{"$nulls":3},"2015-02-17",null,"Y","Y",null,"DCLG data collections 184-00 County Matters Planning Fees statistical return (FEE2)  ann 039-00 Capital Forecast Return Return (CFR) removed. DCLG data topic 021-12 planning fees collected removed and whole of data collection 021-00 renamed PS1/2 General Development Control statistical returns "]
[{"$nulls":3},"2015-02-17","Y",{"$nulls":3},"DH/PHE data collection 262-00 oral health surveys added (was previously pending)"]
[{"$nulls":3},"2015-02-24",null,"Y",null,null,"DCLG data collection 047-00 National Non-domestic Rates Return (NNDR) mid year forecast removed"]
[{"$nulls":3},"2016-02-13",null,"Y","Y",null,"DEFRA data collections 068-00 Imports of products of animal origin from third countries and 079-00 Fly-tipping incidents (Flycapture) removed. 080-00 Flood and coastal erosion risk management and sustainable drainage systems - Data topics 080-03,04 &,05 amended and 080-06 &07 removed"]
[{"$nulls":3},"2016-02-13",null,"Y","Y",null,"DFE data collection 119-00 NEET 16-18 Year-Olds renamed as Young people aged 16-19 (and up to 25 with SEND) Data collections removed: 090-00 Private Fostering (PF1), 217-00 Adoption data set and adoption self assessment, 218-00 Placement data collection & 219-00 Childcare inspection data. Data collection 224-00 Local Authority Data Collection of Linked and Federated Provision now DfE rather DfE/OFSTED"]
[{"$nulls":3},"2016-02-14","Y",null,"Y",null,"DH HSCIC add new data collection 263-00 Deferred Payment Agreements (DPA) and delete data topic 260-04"]
[{"$nulls":3},"2016-02-14",null,"Y","Y",null,"DWP data collection 149-00  Returns on individual HB related prosecutions and sanctions removed.  Data collection 147-00 renamed as Housing Benefits Recoveries Return and data topic 147-02 removed. "]
[{"$nulls":3},"2016-02-14",null,null,"Y",null,"DCLG data topics 042-06 CTR – Level and expected use of reserves and 045-07 CTB – Number of Dwellings disregarded have both been removed from the collection"]
[{"$nulls":3},"2016-02-15",null,null,"Y",null," Pending DfT data topic 129-01 removed "]
[{"$nulls":3},"2016-03-01",null,null,"Y",null,"DWP/HSE data collection 153-00 Health & Safety Prosecutions database - amendments made to data topics"]
[{"$nulls":3},"2016-03-01",null,null,"Y",null,"Fire data collections on list  060-00, 061-00, 172-00 and 173-00 transferred from DCLG to HO"]
[{"$nulls":3},"2017-01-30",null,null,"Y",null,"MOJ/YJB data collection 180-00 name changed from Youth Justice Management Information System (YJMIS) to Youth Justice Application Framework (YJAF) "]
[{"$nulls":3},"2017-01-30",null,null,"Y",null,"DCLG data collections 43-03 166-01 and 48-01 data topics amended"]
[{"$nulls":3},"2017-01-30",null,"Y",null,null,"DCLG data collection 213-00 Public Contracts Regulations 2006 removed"]
[{"$nulls":3},"2017-01-30",null,null,"Y",null,"DCLG 002 House Building Return (P2a) data topics amended 003 Housing Flows Reconciliation Form (HFR) data topic amended "]
[{"$nulls":3},"2017-01-30",null,"Y",null,null,"DfE/OFSTED data collection 221 – Social Care Data: removed as information now collected as part of 088 – Children Looked After."]
[{"$nulls":3},"2017-01-30",null,null,"Y",null,"HO FRS data collections - minor changes to details "]
[{"$nulls":3},"2017-01-30",null,null,"Y",null,"DfT data collection 125-00 Taxi Survey frequency changed to every two years"]
[{"$nulls":3},"2017-01-30",null,null,"Y",null,"DH/NHSDdata collection 263-00 Deferred Payment Agreements (DPA) 6 new data topics added (263-09 to 263-14). Safeguarding Adults Collection (SAC) 258-02 added to. Adult Social Care Finance Return (ASC-FR) 261-03 added to. Short and Long Term Support (SALT) 260-00 additions to a number of data topics Adult Social Care Finance Return (ASC-FR) 261-00. Information no longer required on: - Bridging data to maintain a time series when this collection replaced PSS-EX1 - Information on long term clients in receipt of short term support.Mental Health Guardianship Return 138-00\nFrequency to be reduced from annual to biennial from 2017-18\n"]
[{"$nulls":3},"2018-01-25",null,"Y",null,null,"DEFRA/ data collection 078 Incidents under the Environmental Damage Regulations 2009 removed"]
[{"$nulls":3},"2018-01-28",null,null,"Y",null,"DEFRA data topic 080-01 A new question on section 19 investigations has been incorporated into the multiple choice questionaire under 080-08"]
[{"$nulls":3},"2018-02-06",null,null,"Y",null,"DfT data collection 125 Taxi Survey frequency changed from every two years to annual  "]
[{"$nulls":3},"2018-02-06",null,null,"Y",null,"DHSC/NHSD data topics 263-13 and 263-14 removed "]
[{"$nulls":3},"2018-02-06","Y","Y","Y",null,"MHCLG data collection 009-00 Local Authority activity under the homelessness provisions of the 1996 Housing Act (P1E) deleted and replaced with new collection 264-00 Local Authority activity under the homelessness provisions of the 2017 Homelessness reduction Act and 1996 Housing Act"]
[{"$nulls":3},"2018-03-02","Y",{"$nulls":3},"MHCL data collection 0265 Self-Build and Custom Housebuilding (SBCH) added. Pending DEFRA data collection  266-00 Animal activities licensing data return added"]
[{"$nulls":3},"2018-03-13",null,null,"Y",null,"DfE data  collection 086-00 Child Death Review Panels (LSCB1) now being collected by DH/NHSD"]
[{"$nulls":3},"2018-04-18","Y",{"$nulls":3},"New MHCLG data collection 267-00 Housing Delivery Test Data addded"]
[{"$nulls":3},"2019-02-04","Y","Y",null,null,"MHCLG  data collection 264-00 Local Authority activity under the homelessness provisions of the 2017 Homelessness reduction Act and 1996 Housing Act deleted as replaced by new data collection 268-00 H-CLIC (Homelessness Case Level Information Collection) "]
[{"$nulls":3},"2019-02-04",null,null,"Y",null,"MHCLG data collection 167-00 reference to LOGASnet removed from collection title as now collected through delta "]
[{"$nulls":3},"2019-02-05",null,"Y","Y",null,"DFE data collection 259-00 Child-level data on the reason a two-year-old is being funded for an early education place removed. Changes to agencies for data collections 200-00, 203-00 and 203-00. Title of data collection 091-00 amended to include the word Work in title. "]
[{"$nulls":3},"2019-02-12",null,"Y","Y",null,"DWP/HSE data collection 155-00 Health & Safety Prosecutions database removed as prosecution data is now requested as part of the LAE1 return.  Data topics amended and added to DWP collection 154-00 Health & Safety Enforcement Data (LAE1)"]
[{"$nulls":3},"2019-02-12",null,null,"Y",null,"Title of MHCLG data collection 010-00 changed from Rough Sleepers to  Rough sleeping Streets Counts and Estimates. Data topic 010-02 removed as sperate data topic line not required"]
[{"$nulls":3},"2020-01-07","Y",{"$nulls":3},"Introduction of new Local Authority Data Return (LADR)  270-00 on social housing rent by Regulator of Social Housing for all stock-holding authorities. Includes some questions previously included in the Local Authority Housing Statistic (LAHS)."]
[{"$nulls":6},"Y",null,"MHCLG data collection no 10-00 title changed from Rough sleeping Streets Counts and Estimates to Rough Sleeping Snapshot Statistics. Comments also updated."]
[{"$nulls":3},"2020-01-07","Y",{"$nulls":3},"New data collection 271-00 New mini collection to list Public Private Partnership / Private Finance Initiative Projects which have both no central government involvement and which are not already on published HM Treasury list."]
[{"$nulls":3},"2020-02-16",{"$nulls":4},"135-00 Change of name from Adult Social Care Survey (ASCS)   to Survey of Adult Carers in England’"]
[{"$nulls":4},"Y","Y",null,null,"FSA data-topic 191-20 removed and data topics 191-56-59 added"]
[{"$nulls":3},"2020-02-16","Y",{"$nulls":3},"ONS new data collection 269-00 Council Tax Data Acquisition from Local Authorities "]
[{"$nulls":3},"2020-02-17",null,"Y",null,null,"Data collection 067 Emissions from local authority own estate and operations removed  "]
[{"$nulls":3},"2020-03-18",null,null,"Y",null,"Data collection 142-00 renamed from National Minimum Data Set for Social Care (NMDS-SC)  to Adult Social Care Workforce Data Set (ASC-WDS) "]
[{"$nulls":3},"2021-01-18",null,null,"Y",null,"135-00 correction to name of data collection and reverts back to Adult Social Care Survey (ASCS) 140-00 Carers Survey- change to full name of the survey in DetailList: ‘Survey of Adult Carers in England (SACE)’"]
[{"$nulls":3},"2021-01-20",null,null,"Y",null,"MHCLG Amendment to collection names. 020-00 Changed ‘AGB1’ to’ AGB’. 021-00  Changed from ‘PS1/2 General Development Control statistical returns’ to ‘PS1/2 district matters planning returns’ and 022-00 Changed from ‘CPS1/2 General Development Control statistical returns’ to ‘CPS1/2 county matters planning returns’"]
[{"$nulls":3},"2021-02-12",null,null,"Y",null,"Data collection 268-00 H-CLIC data specification updated and approved by CLIP-H.  No new fields added, only some removed/improved (not to increase burdens).  No mandatory enforcement."]
[{"$nulls":3},"2021-10-20",null,null,"Y",null,"MHCLG renamed DLUHC and PHE renamed OHID"]
[{"$nulls":3},"2022-03-02",null,null,"Y",null,"DCMS data collection 207-00 The following data points have been removed from the annual collection\nMachine entitlement\nAlcohol licensed premises (automatic entitlement) – Taken up this year\nAlcohol licensed premises (automatic entitlement) – All active entitlements\nAlcohol licensed premises (automatic entitlement) – Surrendered this year\nPermits\nAlcohol licensed premises gaming machine permits – Issued this year\nAlcohol licensed premises gaming machine permits – All active permits\nAlcohol licensed premises gaming machine permits – Surrendered this year\nUnlicensed family entertainment centre gaming machine permit – Issued this year\nUnlicensed family entertainment centre gaming machine permit – All active permits\nUnlicensed family entertainment centre gaming machine permit – Surrendered this year\nClub machine permits – Issued this year\nClub machine permits – All active permits\nClub machine permits – Surrendered this year\nClub gaming permits – Issued this year\nClub gaming permits – All active permits\nClub gaming permits – Surrendered this year\nNotices\nGambling temporary use notices received 1 April – 31 March\nGambling temporary use notices number of days 1 April – 31 March\nOccasional use notices received 1 April – 31 March\nOccasional use notices number of days 1 April – 31 March"]
[{"$nulls":3},"2022-03-02",null,"Y",null,null,"DfE/TRA data collection 0200 removed Newly Qualified Teachers - Induction Returns"]
[{"$nulls":3},"2022-03-05",null,null,"Y",null,"DFT Data collection  125-00 to  reflect survey changes agreed and  made in 2020 new data topic added 125-07 General Policies amended title of 125-01 "]
[{"$nulls":6},"Y",null,"Entry for data collection SDL 142-00 Adult Social Care Workforce Data Set (ASC-WDS) amended as publication is no longer published by NHSD (moved to Skills for Care)  "]
[{"$nulls":6},"Y",null,"Alcohol and Late Night Refreshment Licensing data collection 163-00 . Frequency changed from annual to every two years. There will be a publication in 2022."]
[{"$nulls":6},"Y",null,"190-00 -Food Hygiene - LAEMS replaced by Local Authority food law enforcement monitoring return and several data topics amended or deleted. \n191-00 Food Standards LAEMS replaced by Local Authority food law enforcement monitoring return  and several data topics amended or deleted\n192-00 Imported Foods (LAEMS) removed "]
[{"$nulls":3},"2022-03-05",null,null,"Y",null,"Data collection 268-00 H-CLIC data specification updated and approved by CLIP-H to include new gender identity field. "]
[{"$nulls":3},"2022-03-05","Y",{"$nulls":3},"New Data collection added on exit payments SDL ref 272-00"]
[{"$nulls":3},"2023-03-05","Y",{"$nulls":3},"New data collections added;\nCapital Outturn Return (COR) Local Authority Trading companies SDL ref: 273-00\nDomestic Abuse Tier 1 Safe Accommodation SDL ref: 274-00\nAdult Social Care Client Level Data (CLD) SDL ref:275-00\nTenant Satisfaction Measures (TSM)  SDL ref: 276-00\n "]
[{"$nulls":3},"17/03.2023","Y","Y","Y",null,"FSA data topics  190-02,  190-03, 191-02 and 191-03 removed. Number of FSA data topics added to pending data collection list"]

{"sheet":"CollectionsPending","index":6,"n_rows":203,"n_cols":25,"rows_kept":203,"hidden":true,"merged":[[0,1,0,2]]}
[null,"Single Data List - Pending collections\nPotential collections which are not yet finalised or agreed for inclusion on the Single Data List.",null,"New","Ref",".","Links",null,null,".","Frequency","Authority group","Data topics","Collection type",".","Link to return","Link to example of published data","ALB",".","Exists","Position","Type","Offset","Length: ",{"$f":"Lookups!E63+Lookups!E65","v":0}]
[null,{"$f":"IF($T2,OFFSET(DetailListPending!C$1,$W2,0),\"\")","v":""},{"$f":"IF($T2,OFFSET(DetailListPending!E$1,$W2,0),\"\")","v":""},{"$f":"IF($T2,OFFSET(DetailListPending!F$1,$W2,0),\"\")","v":""},{"$f":"IF($T2,OFFSET(DetailListPending!B$1,$W2,0),\"\")","v":""},null,{"$f":"IF(AND($T2,$V2=\"C\"),HYPERLINK(\"#DetailListALBs!A\"&W2+1,\"Details\"),\"\")","v":""},{"$f":"IF(AND($T2,$V2=\"C\",NOT(P2=0)),HYPERLINK(P2,\"Collection\"),\"\")","v":""},{"$f":"IF(AND($T2,$V2=\"C\",NOT(Q2=0)),HYPERLINK(Q2,\"Data\"),\"\")","v":""},null,{"$f":"IF($T2,OFFSET(DetailListPending!J$1,$W2,0),\"\")","v":""},{"$f":"IF($T2,OFFSET(DetailListPending!K$1,$W2,0),\"\")","v":""},{"$f":"IF($T2,OFFSET(DetailListPending!AU$1,$W2,0),\"\")","v":""},{"$f":"IF($T2,OFFSET(DetailListPending!AS$1,$W2,0),\"\")","v":""},null,{"$f":"IF($T2,OFFSET(DetailListPending!P$1,$W2,0),\"\")","v":""},{"$f":"IF($T2,OFFSET(DetailListPending!Q$1,$W2,0),\"\")","v":""},{"$f":"IF($T2,OFFSET(DetailListPending!R$1,$W2,0),\"\")","v":""},null,{"$f":"U2<=Y$1","v":false},1,{"$f":"IF($T2,OFFSET(DetailListPending!A$1,$W2,0),\"\")","v":""},{"$f":"MATCH(U2,DetailListPending!BG:BG,0)-1","v":{"$error":"#N/A"}}]
[null,{"$f":"IF($T3,OFFSET(DetailListPending!C$1,$W3,0),\"\")","v":""},{"$f":"IF($T3,OFFSET(DetailListPending!E$1,$W3,0),\"\")","v":""},{"$f":"IF($T3,OFFSET(DetailListPending!F$1,$W3,0),\"\")","v":""},{"$f":"IF($T3,OFFSET(DetailListPending!B$1,$W3,0),\"\")","v":""},null,{"$f":"IF(AND($T3,$V3=\"C\"),HYPERLINK(\"#DetailListALBs!A\"&W3+1,\"Details\"),\"\")","v":""},{"$f":"IF(AND($T3,$V3=\"C\",NOT(P3=0)),HYPERLINK(P3,\"Collection\"),\"\")","v":""},{"$f":"IF(AND($T3,$V3=\"C\",NOT(Q3=0)),HYPERLINK(Q3,\"Data\"),\"\")","v":""},null,{"$f":"IF($T3,OFFSET(DetailListPending!J$1,$W3,0),\"\")","v":""},{"$f":"IF($T3,OFFSET(DetailListPending!K$1,$W3,0),\"\")","v":""},{"$f":"IF($T3,OFFSET(DetailListPending!AU$1,$W3,0),\"\")","v":""},{"$f":"IF($T3,OFFSET(DetailListPending!AS$1,$W3,0),\"\")","v":""},null,{"$f":"IF($T3,OFFSET(DetailListPending!P$1,$W3,0),\"\")","v":""},{"$f":"IF($T3,OFFSET(DetailListPending!Q$1,$W3,0),\"\")","v":""},{"$f":"IF($T3,OFFSET(DetailListPending!R$1,$W3,0),\"\")","v":""},null,false,2,{"$f":"IF($T3,OFFSET(DetailListPending!A$1,$W3,0),\"\")","v":""},{"$f":"MATCH(U3,DetailListPending!BG:BG,0)-1","v":{"$error":"#N/A"}}]
[null,{"$f":"IF($T4,OFFSET(DetailListPending!C$1,$W4,0),\"\")","v":""},{"$f":"IF($T4,OFFSET(DetailListPending!E$1,$W4,0),\"\")","v":""},{"$f":"IF($T4,OFFSET(DetailListPending!F$1,$W4,0),\"\")","v":""},{"$f":"IF($T4,OFFSET(DetailListPending!B$1,$W4,0),\"\")","v":""},null,"","","",null,{"$f":"IF($T4,OFFSET(DetailListPending!J$1,$W4,0),\"\")","v":""},{"$f":"IF($T4,OFFSET(DetailListPending!K$1,$W4,0),\"\")","v":""},{"$f":"IF($T4,OFFSET(DetailListPending!AU$1,$W4,0),\"\")","v":""},{"$f":"IF($T4,OFFSET(DetailListPending!AS$1,$W4,0),\"\")","v":""},null,{"$f":"IF($T4,OFFSET(DetailListPending!P$1,$W4,0),\"\")","v":""},{"$f":"IF($T4,OFFSET(DetailListPending!Q$1,$W4,0),\"\")","v":""},{"$f":"IF($T4,OFFSET(DetailListPending!R$1,$W4,0),\"\")","v":""},null,false,3,{"$f":"IF($T4,OFFSET(DetailListPending!A$1,$W4,0),\"\")","v":""},{"$f":"MATCH(U4,DetailListPending!BG:BG,0)-1","v":{"$error":"#N/A"}}]
[null,{"$f":"IF($T5,OFFSET(DetailListPending!C$1,$W5,0),\"\")","v":""},{"$f":"IF($T5,OFFSET(DetailListPending!E$1,$W5,0),\"\")","v":""},{"$f":"IF($T5,OFFSET(DetailListPending!F$1,$W5,0),\"\")","v":""},{"$f":"IF($T5,OFFSET(DetailListPending!B$1,$W5,0),\"\")","v":""},null,"","","",null,{"$f":"IF($T5,OFFSET(DetailListPending!J$1,$W5,0),\"\")","v":""},{"$f":"IF($T5,OFFSET(DetailListPending!K$1,$W5,0),\"\")","v":""},{"$f":"IF($T5,OFFSET(DetailListPending!AU$1,$W5,0),\"\")","v":""},{"$f":"IF($T5,OFFSET(DetailListPending!AS$1,$W5,0),\"\")","v":""},null,{"$f":"IF($T5,OFFSET(DetailListPending!P$1,$W5,0),\"\")","v":""},{"$f":"IF($T5,OFFSET(DetailListPending!Q$1,$W5,0),\"\")","v":""},{"$f":"IF($T5,OFFSET(DetailListPending!R$1,$W5,0),\"\")","v":""},null,false,4,{"$f":"IF($T5,OFFSET(DetailListPending!A$1,$W5,0),\"\")","v":""},{"$f":"MATCH(U5,DetailListPending!BG:BG,0)-1","v":{"$error":"#N/A"}}]
[null,{"$f":"IF($T6,OFFSET(DetailListPending!C$1,$W6,0),\"\")","v":""},{"$f":"IF($T6,OFFSET(DetailListPending!E$1,$W6,0),\"\")","v":""},{"$f":"IF($T6,OFFSET(DetailListPending!F$1,$W6,0),\"\")","v":""},{"$f":"IF($T6,OFFSET(DetailListPending!B$1,$W6,0),\"\")","v":""},null,"","","",null,{"$f":"IF($T6,OFFSET(DetailListPending!J$1,$W6,0),\"\")","v":""},{"$f":"IF($T6,OFFSET(DetailListPending!K$1,$W6,0),\"\")","v":""},{"$f":"IF($T6,OFFSET(DetailListPending!AU$1,$W6,0),\"\")","v":""},{"$f":"IF($T6,OFFSET(DetailListPending!AS$1,$W6,0),\"\")","v":""},null,{"$f":"IF($T6,OFFSET(DetailListPending!P$1,$W6,0),\"\")","v":""},{"$f":"IF($T6,OFFSET(DetailListPending!Q$1,$W6,0),\"\")","v":""},{"$f":"IF($T6,OFFSET(DetailListPending!R$1,$W6,0),\"\")","v":""},null,false,5,{"$f":"IF($T6,OFFSET(DetailListPending!A$1,$W6,0),\"\")","v":""},{"$f":"MATCH(U6,DetailListPending!BG:BG,0)-1","v":{"$error":"#N/A"}}]
[null,{"$f":"IF($T7,OFFSET(DetailListPending!C$1,$W7,0),\"\")","v":""},{"$f":"IF($T7,OFFSET(DetailListPending!E$1,$W7,0),\"\")","v":""},{"$f":"IF($T7,OFFSET(DetailListPending!F$1,$W7,0),\"\")","v":""},{"$f":"IF($T7,OFFSET(DetailListPending!B$1,$W7,0),\"\")","v":""},null,"","","",null,{"$f":"IF($T7,OFFSET(DetailListPending!J$1,$W7,0),\"\")","v":""},{"$f":"IF($T7,OFFSET(DetailListPending!K$1,$W7,0),\"\")","v":""},{"$f":"IF($T7,OFFSET(DetailListPending!AU$1,$W7,0),\"\")","v":""},{"$f":"IF($T7,OFFSET(DetailListPending!AS$1,$W7,0),\"\")","v":""},null,{"$f":"IF($T7,OFFSET(DetailListPending!P$1,$W7,0),\"\")","v":""},{"$f":"IF($T7,OFFSET(DetailListPending!Q$1,$W7,0),\"\")","v":""},{"$f":"IF($T7,OFFSET(DetailListPending!R$1,$W7,0),\"\")","v":""},null,false,6,{"$f":"IF($T7,OFFSET(DetailListPending!A$1,$W7,0),\"\")","v":""},{"$f":"MATCH(U7,DetailListPending!BG:BG,0)-1","v":{"$error":"#N/A"}}]
[null,{"$f":"IF($T8,OFFSET(DetailListPending!C$1,$W8,0),\"\")","v":""},{"$f":"IF($T8,OFFSET(DetailListPending!E$1,$W8,0),\"\")","v":""},{"$f":"IF($T8,OFFSET(DetailListPending!F$1,$W8,0),\"\")","v":""},{"$f":"IF($T8,OFFSET(DetailListPending!B$1,$W8,0),\"\")","v":""},null,"","","",null,{"$f":"IF($T8,OFFSET(DetailListPending!J$1,$W8,0),\"\")","v":""},{"$f":"IF($T8,OFFSET(DetailListPending!K$1,$W8,0),\"\")","v":""},{"$f":"IF($T8,OFFSET(DetailListPending!AU$1,$W8,0),\"\")","v":""},{"$f":"IF($T8,OFFSET(DetailListPending!AS$1,$W8,0),\"\")","v":""},null,{"$f":"IF($T8,OFFSET(DetailListPending!P$1,$W8,0),\"\")","v":""},{"$f":"IF($T8,OFFSET(DetailListPending!Q$1,$W8,0),\"\")","v":""},{"$f":"IF($T8,OFFSET(DetailListPending!R$1,$W8,0),\"\")","v":""},null,false,7,{"$f":"IF($T8,OFFSET(DetailListPending!A$1,$W8,0),\"\")","v":""},{"$f":"MATCH(U8,DetailListPending!BG:BG,0)-1","v":{"$error":"#N/A"}}]
[null,{"$f":"IF($T9,OFFSET(DetailListPending!C$1,$W9,0),\"\")","v":""},{"$f":"IF($T9,OFFSET(DetailListPending!E$1,$W9,0),\"\")","v":""},{"$f":"IF($T9,OFFSET(DetailListPending!F$1,$W9,0),\"\")","v":""},{"$f":"IF($T9,OFFSET(DetailListPending!B$1,$W9,0),\"\")","v":""},null,"","","",null,{"$f":"IF($T9,OFFSET(DetailListPending!J$1,$W9,0),\"\")","v":""},{"$f":"IF($T9,OFFSET(DetailListPending!K$1,$W9,0),\"\")","v":""},{"$f":"IF($T9,OFFSET(DetailListPending!AU$1,$W9,0),\"\")","v":""},{"$f":"IF($T9,OFFSET(DetailListPending!AS$1,$W9,0),\"\")","v":""},null,{"$f":"IF($T9,OFFSET(DetailListPending!P$1,$W9,0),\"\")","v":""},{"$f":"IF($T9,OFFSET(DetailListPending!Q$1,$W9,0),\"\")","v":""},{"$f":"IF($T9,OFFSET(DetailListPending!R$1,$W9,0),\"\")","v":""},null,false,8,{"$f":"IF($T9,OFFSET(DetailListPending!A$1,$W9,0),\"\")","v":""},{"$f":"MATCH(U9,DetailListPending!BG:BG,0)-1","v":{"$error":"#N/A"}}]
[null,{"$f":"IF($T10,OFFSET(DetailListPending!C$1,$W10,0),\"\")","v":""},{"$f":"IF($T10,OFFSET(DetailListPending!E$1,$W10,0),\"\")","v":""},{"$f":"IF($T10,OFFSET(DetailListPending!F$1,$W10,0),\"\")","v":""},{"$f":"IF($T10,OFFSET(DetailListPending!B$1,$W10,0),\"\")","v":""},null,"","","",null,{"$f":"IF($T10,OFFSET(DetailListPending!J$1,$W10,0),\"\")","v":""},{"$f":"IF($T10,OFFSET(DetailListPending!K$1,$W10,0),\"\")","v":""},{"$f":"IF($T10,OFFSET(DetailListPending!AU$1,$W10,0),\"\")","v":""},{"$f":"IF($T10,OFFSET(DetailListPending!AS$1,$W10,0),\"\")","v":""},null,{"$f":"IF($T10,OFFSET(DetailListPending!P$1,$W10,0),\"\")","v":""},{"$f":"IF($T10,OFFSET(DetailListPending!Q$1,$W10,0),\"\")","v":""},{"$f":"IF($T10,OFFSET(DetailListPending!R$1,$W10,0),\"\")","v":""},null,false,9,{"$f":"IF($T10,OFFSET(DetailListPending!A$1,$W10,0),\"\")","v":""},{"$f":"MATCH(U10,DetailListPending!BG:BG,0)-1","v":{"$error":"#N/A"}}]
[null,{"$f":"IF($T11,OFFSET(DetailListPending!C$1,$W11,0),\"\")","v":""},{"$f":"IF($T11,OFFSET(DetailListPending!E$1,$W11,0),\"\")","v":""},{"$f":"IF($T11,OFFSET(DetailListPending!F$1,$W11,0),\"\")","v":""},{"$f":"IF($T11,OFFSET(DetailListPending!B$1,$W11,0),\"\")","v":""},null,"","","",null,{"$f":"IF($T11,OFFSET(DetailListPending!J$1,$W11,0),\"\")","v":""},{"$f":"IF($T11,OFFSET(DetailListPending!K$1,$W11,0),\"\")","v":""},{"$f":"IF($T11,OFFSET(DetailListPending!AU$1,$W11,0),\"\")","v":""},{"$f":"IF($T11,OFFSET(DetailListPending!AS$1,$W11,0),\"\")","v":""},null,{"$f":"IF($T11,OFFSET(DetailListPending!P$1,$W11,0),\"\")","v":""},{"$f":"IF($T11,OFFSET(DetailListPending!Q$1,$W11,0),\"\")","v":""},{"$f":"IF($T11,OFFSET(DetailListPending!R$1,$W11,0),\"\")","v":""},null,false,10,{"$f":"IF($T11,OFFSET(DetailListPending!A$1,$W11,0),\"\")","v":""},{"$f":"MATCH(U11,DetailListPending!BG:BG,0)-1","v":{"$error":"#N/A"}}]
[null,{"$f":"IF($T12,OFFSET(DetailListPending!C$1,$W12,0),\"\")","v":""},{"$f":"IF($T12,OFFSET(DetailListPending!E$1,$W12,0),\"\")","v":""},{"$f":"IF($T12,OFFSET(DetailListPending!F$1,$W12,0),\"\")","v":""},{"$f":"IF($T12,OFFSET(DetailListPending!B$1,$W12,0),\"\")","v":""},null,"","","",null,{"$f":"IF($T12,OFFSET(DetailListPending!J$1,$W12,0),\"\")","v":""},{"$f":"IF($T12,OFFSET(DetailListPending!K$1,$W12,0),\"\")","v":""},{"$f":"IF($T12,OFFSET(DetailListPending!AU$1,$W12,0),\"\")","v":""},{"$f":"IF($T12,OFFSET(DetailListPending!AS$1,$W12,0),\"\")","v":""},null,{"$f":"IF($T12,OFFSET(DetailListPending!P$1,$W12,0),\"\")","v":""},{"$f":"IF($T12,OFFSET(DetailListPending!Q$1,$W12,0),\"\")","v":""},{"$f":"IF($T12,OFFSET(DetailListPending!R$1,$W12,0),\"\")","v":""},null,false,11,{"$f":"IF($T12,OFFSET(DetailListPending!A$1,$W12,0),\"\")","v":""},{"$f":"MATCH(U12,DetailListPending!BG:BG,0)-1","v":{"$error":"#N/A"}}]
[null,{"$f":"IF($T13,OFFSET(DetailListPending!C$1,$W13,0),\"\")","v":""},{"$f":"IF($T13,OFFSET(DetailListPending!E$1,$W13,0),\"\")","v":""},{"$f":"IF($T13,OFFSET(DetailListPending!F$1,$W13,0),\"\")","v":""},{"$f":"IF($T13,OFFSET(DetailListPending!B$1,$W13,0),\"\")","v":""},null,"","","",null,{"$f":"IF($T13,OFFSET(DetailListPending!J$1,$W13,0),\"\")","v":""},{"$f":"IF($T13,OFFSET(DetailListPending!K$1,$W13,0),\"\")","v":""},{"$f":"IF($T13,OFFSET(DetailListPending!AU$1,$W13,0),\"\")","v":""},{"$f":"IF($T13,OFFSET(DetailListPending!AS$1,$W13,0),\"\")","v":""},null,{"$f":"IF($T13,OFFSET(DetailListPending!P$1,$W13,0),\"\")","v":""},{"$f":"IF($T13,OFFSET(DetailListPending!Q$1,$W13,0),\"\")","v":""},{"$f":"IF($T13,OFFSET(DetailListPending!R$1,$W13,0),\"\")","v":""},null,false,12,{"$f":"IF($T13,OFFSET(DetailListPending!A$1,$W13,0),\"\")","v":""},{"$f":"MATCH(U13,DetailListPending!BG:BG,0)-1","v":{"$error":"#N/A"}}]
[null,{"$f":"IF($T14,OFFSET(DetailListPending!C$1,$W14,0),\"\")","v":""},{"$f":"IF($T14,OFFSET(DetailListPending!E$1,$W14,0),\"\")","v":""},{"$f":"IF($T14,OFFSET(DetailListPending!F$1,$W14,0),\"\")","v":""},{"$f":"IF($T14,OFFSET(DetailListPending!B$1,$W14,0),\"\")","v":""},null,"","","",null,{"$f":"IF($T14,OFFSET(DetailListPending!J$1,$W14,0),\"\")","v":""},{"$f":"IF($T14,OFFSET(DetailListPending!K$1,$W14,0),\"\")","v":""},{"$f":"IF($T14,OFFSET(DetailListPending!AU$1,$W14,0),\"\")","v":""},{"$f":"IF($T14,OFFSET(DetailListPending!AS$1,$W14,0),\"\")","v":""},null,{"$f":"IF($T14,OFFSET(DetailListPending!P$1,$W14,0),\"\")","v":""},{"$f":"IF($T14,OFFSET(DetailListPending!Q$1,$W14,0),\"\")","v":""},{"$f":"IF($T14,OFFSET(DetailListPending!R$1,$W14,0),\"\")","v":""},null,false,13,{"$f":"IF($T14,OFFSET(DetailListPending!A$1,$W14,0),\"\")","v":""},{"$f":"MATCH(U14,DetailListPending!BG:BG,0)-1","v":{"$error":"#N/A"}}]
[null,{"$f":"IF($T15,OFFSET(DetailListPending!C$1,$W15,0),\"\")","v":""},{"$f":"IF($T15,OFFSET(DetailListPending!E$1,$W15,0),\"\")","v":""},{"$f":"IF($T15,OFFSET(DetailListPending!F$1,$W15,0),\"\")","v":""},{"$f":"IF($T15,OFFSET(DetailListPending!B$1,$W15,0),\"\")","v":""},null,"","","",null,{"$f":"IF($T15,OFFSET(DetailListPending!J$1,$W15,0),\"\")","v":""},{"$f":"IF($T15,OFFSET(DetailListPending!K$1,$W15,0),\"\")","v":""},{"$f":"IF($T15,OFFSET(DetailListPending!AU$1,$W15,0),\"\")","v":""},{"$f":"IF($T15,OFFSET(DetailListPending!AS$1,$W15,0),\"\")","v":""},null,{"$f":"IF($T15,OFFSET(DetailListPending!P$1,$W15,0),\"\")","v":""},{"$f":"IF($T15,OFFSET(DetailListPending!Q$1,$W15,0),\"\")","v":""},{"$f":"IF($T15,OFFSET(DetailListPending!R$1,$W15,0),\"\")","v":""},null,false,14,{"$f":"IF($T15,OFFSET(DetailListPending!A$1,$W15,0),\"\")","v":""},{"$f":"MATCH(U15,DetailListPending!BG:BG,0)-1","v":{"$error":"#N/A"}}]
[null,{"$f":"IF($T16,OFFSET(DetailListPending!C$1,$W16,0),\"\")","v":""},{"$f":"IF($T16,OFFSET(DetailListPending!E$1,$W16,0),\"\")","v":""},{"$f":"IF($T16,OFFSET(DetailListPending!F$1,$W16,0),\"\")","v":""},{"$f":"IF($T16,OFFSET(DetailListPending!B$1,$W16,0),\"\")","v":""},null,"","","",null,{"$f":"IF($T16,OFFSET(DetailListPending!J$1,$W16,0),\"\")","v":""},{"$f":"IF($T16,OFFSET(DetailListPending!K$1,$W16,0),\"\")","v":""},{"$f":"IF($T16,OFFSET(DetailListPending!AU$1,$W16,0),\"\")","v":""},{"$f":"IF($T16,OFFSET(DetailListPending!AS$1,$W16,0),\"\")","v":""},null,{"$f":"IF($T16,OFFSET(DetailListPending!P$1,$W16,0),\"\")","v":""},{"$f":"IF($T16,OFFSET(DetailListPending!Q$1,$W16,0),\"\")","v":""},{"$f":"IF($T16,OFFSET(DetailListPending!R$1,$W16,0),\"\")","v":""},null,false,15,{"$f":"IF($T16,OFFSET(DetailListPending!A$1,$W16,0),\"\")","v":""},{"$f":"MATCH(U16,DetailListPending!BG:BG,0)-1","v":{"$error":"#N/A"}}]
[null,{"$f":"IF($T17,OFFSET(DetailListPending!C$1,$W17,0),\"\")","v":""},{"$f":"IF($T17,OFFSET(DetailListPending!E$1,$W17,0),\"\")","v":""},{"$f":"IF($T17,OFFSET(DetailListPending!F$1,$W17,0),\"\")","v":""},{"$f":"IF($T17,OFFSET(DetailListPending!B$1,$W17,0),\"\")","v":""},null,"","","",null,{"$f":"IF($T17,OFFSET(DetailListPending!J$1,$W17,0),\"\")","v":""},{"$f":"IF($T17,OFFSET(DetailListPending!K$1,$W17,0),\"\")","v":""},{"$f":"IF($T17,OFFSET(DetailListPending!AU$1,$W17,0),\"\")","v":""},{"$f":"IF($T17,OFFSET(DetailListPending!AS$1,$W17,0),\"\")","v":""},null,{"$f":"IF($T17,OFFSET(DetailListPending!P$1,$W17,0),\"\")","v":""},{"$f":"IF($T17,OFFSET(DetailListPending!Q$1,$W17,0),\"\")","v":""},{"$f":"IF($T17,OFFSET(DetailListPending!R$1,$W17,0),\"\")","v":""},null,false,16,{"$f":"IF($T17,OFFSET(DetailListPending!A$1,$W17,0),\"\")","v":""},{"$f":"MATCH(U17,DetailListPending!BG:BG,0)-1","v":{"$error":"#N/A"}}]
[null,{"$f":"IF($T18,OFFSET(DetailListPending!C$1,$W18,0),\"\")","v":""},{"$f":"IF($T18,OFFSET(DetailListPending!E$1,$W18,0),\"\")","v":""},{"$f":"IF($T18,OFFSET(DetailListPending!F$1,$W18,0),\"\")","v":""},{"$f":"IF($T18,OFFSET(DetailListPending!B$1,$W18,0),\"\")","v":""},null,"","","",null,{"$f":"IF($T18,OFFSET(DetailListPending!J$1,$W18,0),\"\")","v":""},{"$f":"IF($T18,OFFSET(DetailListPending!K$1,$W18,0),\"\")","v":""},{"$f":"IF($T18,OFFSET(DetailListPending!AU$1,$W18,0),\"\")","v":""},{"$f":"IF($T18,OFFSET(DetailListPending!AS$1,$W18,0),\"\")","v":""},null,{"$f":"IF($T18,OFFSET(DetailListPending!P$1,$W18,0),\"\")","v":""},{"$f":"IF($T18,OFFSET(DetailListPending!Q$1,$W18,0),\"\")","v":""},{"$f":"IF($T18,OFFSET(DetailListPending!R$1,$W18,0),\"\")","v":""},null,false,17,{"$f":"IF($T18,OFFSET(DetailListPending!A$1,$W18,0),\"\")","v":""},{"$f":"MATCH(U18,DetailListPending!BG:BG,0)-1","v":{"$error":"#N/A"}}]
[null,{"$f":"IF($T19,OFFSET(DetailListPending!C$1,$W19,0),\"\")","v":""},{"$f":"IF($T19,OFFSET(DetailListPending!E$1,$W19,0),\"\")","v":""},{"$f":"IF($T19,OFFSET(DetailListPending!F$1,$W19,0),\"\")","v":""},{"$f":"IF($T19,OFFSET(DetailListPending!B$1,$W19,0),\"\")","v":""},null,"","","",null,{"$f":"IF($T19,OFFSET(DetailListPending!J$1,$W19,0),\"\")","v":""},{"$f":"IF($T19,OFFSET(DetailListPending!K$1,$W19,0),\"\")","v":""},{"$f":"IF($T19,OFFSET(DetailListPending!AU$1,$W19,0),\"\")","v":""},{"$f":"IF($T19,OFFSET(DetailListPending!AS$1,$W19,0),\"\")","v":""},null,{"$f":"IF($T19,OFFSET(DetailListPending!P$1,$W19,0),\"\")","v":""},{"$f":"IF($T19,OFFSET(DetailListPending!Q$1,$W19,0),\"\")","v":""},{"$f":"IF($T19,OFFSET(DetailListPending!R$1,$W19,0),\"\")","v":""},null,false,18,{"$f":"IF($T19,OFFSET(DetailListPending!A$1,$W19,0),\"\")","v":""},{"$f":"MATCH(U19,DetailListPending!BG:BG,0)-1","v":{"$error":"#N/A"}}]
[null,{"$f":"IF($T20,OFFSET(DetailListPending!C$1,$W20,0),\"\")","v":""},{"$f":"IF($T20,OFFSET(DetailListPending!E$1,$W20,0),\"\")","v":""},{"$f":"IF($T20,OFFSET(DetailListPending!F$1,$W20,0),\"\")","v":""},{"$f":"IF($T20,OFFSET(DetailListPending!B$1,$W20,0),\"\")","v":""},null,"","","",null,{"$f":"IF($T20,OFFSET(DetailListPending!J$1,$W20,0),\"\")","v":""},{"$f":"IF($T20,OFFSET(DetailListPending!K$1,$W20,0),\"\")","v":""},{"$f":"IF($T20,OFFSET(DetailListPending!AU$1,$W20,0),\"\")","v":""},{"$f":"IF($T20,OFFSET(DetailListPending!AS$1,$W20,0),\"\")","v":""},null,{"$f":"IF($T20,OFFSET(DetailListPending!P$1,$W20,0),\"\")","v":""},{"$f":"IF($T20,OFFSET(DetailListPending!Q$1,$W20,0),\"\")","v":""},{"$f":"IF($T20,OFFSET(DetailListPending!R$1,$W20,0),\"\")","v":""},null,false,19,{"$f":"IF($T20,OFFSET(DetailListPending!A$1,$W20,0),\"\")","v":""},{"$f":"MATCH(U20,DetailListPending!BG:BG,0)-1","v":{"$error":"#N/A"}}]
[null,{"$f":"IF($T21,OFFSET(DetailListPending!C$1,$W21,0),\"\")","v":""},{"$f":"IF($T21,OFFSET(DetailListPending!E$1,$W21,0),\"\")","v":""},{"$f":"IF($T21,OFFSET(DetailListPending!F$1,$W21,0),\"\")","v":""},{"$f":"IF($T21,OFFSET(DetailListPending!B$1,$W21,0),\"\")","v":""},null,"","","",null,{"$f":"IF($T21,OFFSET(DetailListPending!J$1,$W21,0),\"\")","v":""},{"$f":"IF($T21,OFFSET(DetailListPending!K$1,$W21,0),\"\")","v":""},{"$f":"IF($T21,OFFSET(DetailListPending!AU$1,$W21,0),\"\")","v":""},{"$f":"IF($T21,OFFSET(DetailListPending!AS$1,$W21,0),\"\")","v":""},null,{"$f":"IF($T21,OFFSET(DetailListPending!P$1,$W21,0),\"\")","v":""},{"$f":"IF($T21,OFFSET(DetailListPending!Q$1,$W21,0),\"\")","v":""},{"$f":"IF($T21,OFFSET(DetailListPending!R$1,$W21,0),\"\")","v":""},null,false,20,{"$f":"IF($T21,OFFSET(DetailListPending!A$1,$W21,0),\"\")","v":""},{"$f":"MATCH(U21,DetailListPending!BG:BG,0)-1","v":{"$error":"#N/A"}}]
[null,{"$f":"IF($T22,OFFSET(DetailListPending!C$1,$W22,0),\"\")","v":""},{"$f":"IF($T22,OFFSET(DetailListPending!E$1,$W22,0),\"\")","v":""},{"$f":"IF($T22,OFFSET(DetailListPending!F$1,$W22,0),\"\")","v":""},{"$f":"IF($T22,OFFSET(DetailListPending!B$1,$W22,0),\"\")","v":""},null,"","","",null,{"$f":"IF($T22,OFFSET(DetailListPending!J$1,$W22,0),\"\")","v":""},{"$f":"IF($T22,OFFSET(DetailListPending!K$1,$W22,0),\"\")","v":""},{"$f":"IF($T22,OFFSET(DetailListPending!AU$1,$W22,0),\"\")","v":""},{"$f":"IF($T22,OFFSET(DetailListPending!AS$1,$W22,0),\"\")","v":""},null,{"$f":"IF($T22,OFFSET(DetailListPending!P$1,$W22,0),\"\")","v":""},{"$f":"IF($T22,OFFSET(DetailListPending!Q$1,$W22,0),\"\")","v":""},{"$f":"IF($T22,OFFSET(DetailListPending!R$1,$W22,0),\"\")","v":""},null,false,21,{"$f":"IF($T22,OFFSET(DetailListPending!A$1,$W22,0),\"\")","v":""},{"$f":"MATCH(U22,DetailListPending!BG:BG,0)-1","v":{"$error":"#N/A"}}]
[null,{"$f":"IF($T23,OFFSET(DetailListPending!C$1,$W23,0),\"\")","v":""},{"$f":"IF($T23,OFFSET(DetailListPending!E$1,$W23,0),\"\")","v":""},{"$f":"IF($T23,OFFSET(DetailListPending!F$1,$W23,0),\"\")","v":""},{"$f":"IF($T23,OFFSET(DetailListPending!B$1,$W23,0),\"\")","v":""},null,"","","",null,{"$f":"IF($T23,OFFSET(DetailListPending!J$1,$W23,0),\"\")","v":""},{"$f":"IF($T23,OFFSET(DetailListPending!K$1,$W23,0),\"\")","v":""},{"$f":"IF($T23,OFFSET(DetailListPending!AU$1,$W23,0),\"\")","v":""},{"$f":"IF($T23,OFFSET(DetailListPending!AS$1,$W23,0),\"\")","v":""},null,{"$f":"IF($T23,OFFSET(DetailListPending!P$1,$W23,0),\"\")","v":""},{"$f":"IF($T23,OFFSET(DetailListPending!Q$1,$W23,0),\"\")","v":""},{"$f":"IF($T23,OFFSET(DetailListPending!R$1,$W23,0),\"\")","v":""},null,false,22,{"$f":"IF($T23,OFFSET(DetailListPending!A$1,$W23,0),\"\")","v":""},{"$f":"MATCH(U23,DetailListPending!BG:BG,0)-1","v":{"$error":"#N/A"}}]
[null,{"$f":"IF($T24,OFFSET(DetailListPending!C$1,$W24,0),\"\")","v":""},{"$f":"IF($T24,OFFSET(DetailListPending!E$1,$W24,0),\"\")","v":""},{"$f":"IF($T24,OFFSET(DetailListPending!F$1,$W24,0),\"\")","v":""},{"$f":"IF($T24,OFFSET(DetailListPending!B$1,$W24,0),\"\")","v":""},null,"","","",null,{"$f":"IF($T24,OFFSET(DetailListPending!J$1,$W24,0),\"\")","v":""},{"$f":"IF($T24,OFFSET(DetailListPending!K$1,$W24,0),\"\")","v":""},{"$f":"IF($T24,OFFSET(DetailListPending!AU$1,$W24,0),\"\")","v":""},{"$f":"IF($T24,OFFSET(DetailListPending!AS$1,$W24,0),\"\")","v":""},null,{"$f":"IF($T24,OFFSET(DetailListPending!P$1,$W24,0),\"\")","v":""},{"$f":"IF($T24,OFFSET(DetailListPending!Q$1,$W24,0),\"\")","v":""},{"$f":"IF($T24,OFFSET(DetailListPending!R$1,$W24,0),\"\")","v":""},null,false,23,{"$f":"IF($T24,OFFSET(DetailListPending!A$1,$W24,0),\"\")","v":""},{"$f":"MATCH(U24,DetailListPending!BG:BG,0)-1","v":{"$error":"#N/A"}}]
[null,{"$f":"IF($T25,OFFSET(DetailListPending!C$1,$W25,0),\"\")","v":""},{"$f":"IF($T25,OFFSET(DetailListPending!E$1,$W25,0),\"\")","v":""},{"$f":"IF($T25,OFFSET(DetailListPending!F$1,$W25,0),\"\")","v":""},{"$f":"IF($T25,OFFSET(DetailListPending!B$1,$W25,0),\"\")","v":""},null,"","","",null,{"$f":"IF($T25,OFFSET(DetailListPending!J$1,$W25,0),\"\")","v":""},{"$f":"IF($T25,OFFSET(DetailListPending!K$1,$W25,0),\"\")","v":""},{"$f":"IF($T25,OFFSET(DetailListPending!AU$1,$W25,0),\"\")","v":""},{"$f":"IF($T25,OFFSET(DetailListPending!AS$1,$W25,0),\"\")","v":""},null,{"$f":"IF($T25,OFFSET(DetailListPending!P$1,$W25,0),\"\")","v":""},{"$f":"IF($T25,OFFSET(DetailListPending!Q$1,$W25,0),\"\")","v":""},{"$f":"IF($T25,OFFSET(DetailListPending!R$1,$W25,0),\"\")","v":""},null,false,24,{"$f":"IF($T25,OFFSET(DetailListPending!A$1,$W25,0),\"\")","v":""},{"$f":"MATCH(U25,DetailListPending!BG:BG,0)-1","v":{"$error":"#N/A"}}]
[null,{"$f":"IF($T26,OFFSET(DetailListPending!C$1,$W26,0),\"\")","v":""},{"$f":"IF($T26,OFFSET(DetailListPending!E$1,$W26,0),\"\")","v":""},{"$f":"IF($T26,OFFSET(DetailListPending!F$1,$W26,0),\"\")","v":""},{"$f":"IF($T26,OFFSET(DetailListPending!B$1,$W26,0),\"\")","v":""},null,"","","",null,{"$f":"IF($T26,OFFSET(DetailListPending!J$1,$W26,0),\"\")","v":""},{"$f":"IF($T26,OFFSET(DetailListPending!K$1,$W26,0),\"\")","v":""},{"$f":"IF($T26,OFFSET(DetailListPending!AU$1,$W26,0),\"\")","v":""},{"$f":"IF($T26,OFFSET(DetailListPending!AS$1,$W26,0),\"\")","v":""},null,{"$f":"IF($T26,OFFSET(DetailListPending!P$1,$W26,0),\"\")","v":""},{"$f":"IF($T26,OFFSET(DetailListPending!Q$1,$W26,0),\"\")","v":""},{"$f":"IF($T26,OFFSET(DetailListPending!R$1,$W26,0),\"\")","v":""},null,false,25,{"$f":"IF($T26,OFFSET(DetailListPending!A$1,$W26,0),\"\")","v":""},{"$f":"MATCH(U26,DetailListPending!BG:BG,0)-1","v":{"$error":"#N/A"}}]
[null,{"$f":"IF($T27,OFFSET(DetailListPending!C$1,$W27,0),\"\")","v":""},{"$f":"IF($T27,OFFSET(DetailListPending!E$1,$W27,0),\"\")","v":""},{"$f":"IF($T27,OFFSET(DetailListPending!F$1,$W27,0),\"\")","v":""},{"$f":"IF($T27,OFFSET(DetailListPending!B$1,$W27,0),\"\")","v":""},null,"","","",null,{"$f":"IF($T27,OFFSET(DetailListPending!J$1,$W27,0),\"\")","v":""},{"$f":"IF($T27,OFFSET(DetailListPending!K$1,$W27,0),\"\")","v":""},{"$f":"IF($T27,OFFSET(DetailListPending!AU$1,$W27,0),\"\")","v":""},{"$f":"IF($T27,OFFSET(DetailListPending!AS$1,$W27,0),\"\")","v":""},null,{"$f":"IF($T27,OFFSET(DetailListPending!P$1,$W27,0),\"\")","v":""},{"$f":"IF($T27,OFFSET(DetailListPending!Q$1,$W27,0),\"\")","v":""},{"$f":"IF($T27,OFFSET(DetailListPending!R$1,$W27,0),\"\")","v":""},null,false,26,{"$f":"IF($T27,OFFSET(DetailListPending!A$1,$W27,0),\"\")","v":""},{"$f":"MATCH(U27,DetailListPending!BG:BG,0)-1","v":{"$error":"#N/A"}}]
[null,{"$f":"IF($T28,OFFSET(DetailListPending!C$1,$W28,0),\"\")","v":""},{"$f":"IF($T28,OFFSET(DetailListPending!E$1,$W28,0),\"\")","v":""},{"$f":"IF($T28,OFFSET(DetailListPending!F$1,$W28,0),\"\")","v":""},{"$f":"IF($T28,OFFSET(DetailListPending!B$1,$W28,0),\"\")","v":""},null,"","","",null,{"$f":"IF($T28,OFFSET(DetailListPending!J$1,$W28,0),\"\")","v":""},{"$f":"IF($T28,OFFSET(DetailListPending!K$1,$W28,0),\"\")","v":""},{"$f":"IF($T28,OFFSET(DetailListPending!AU$1,$W28,0),\"\")","v":""},{"$f":"IF($T28,OFFSET(DetailListPending!AS$1,$W28,0),\"\")","v":""},null,{"$f":"IF($T28,OFFSET(DetailListPending!P$1,$W28,0),\"\")","v":""},{"$f":"IF($T28,OFFSET(DetailListPending!Q$1,$W28,0),\"\")","v":""},{"$f":"IF($T28,OFFSET(DetailListPending!R$1,$W28,0),\"\")","v":""},null,false,27,{"$f":"IF($T28,OFFSET(DetailListPending!A$1,$W28,0),\"\")","v":""},{"$f":"MATCH(U28,DetailListPending!BG:BG,0)-1","v":{"$error":"#N/A"}}]
[null,{"$f":"IF($T29,OFFSET(DetailListPending!C$1,$W29,0),\"\")","v":""},{"$f":"IF($T29,OFFSET(DetailListPending!E$1,$W29,0),\"\")","v":""},{"$f":"IF($T29,OFFSET(DetailListPending!F$1,$W29,0),\"\")","v":""},{"$f":"IF($T29,OFFSET(DetailListPending!B$1,$W29,0),\"\")","v":""},null,"","","",null,{"$f":"IF($T29,OFFSET(DetailListPending!J$1,$W29,0),\"\")","v":""},{"$f":"IF($T29,OFFSET(DetailListPending!K$1,$W29,0),\"\")","v":""},{"$f":"IF($T29,OFFSET(DetailListPending!AU$1,$W29,0),\"\")","v":""},{"$f":"IF($T29,OFFSET(DetailListPending!AS$1,$W29,0),\"\")","v":""},null,{"$f":"IF($T29,OFFSET(DetailListPending!P$1,$W29,0),\"\")","v":""},{"$f":"IF($T29,OFFSET(DetailListPending!Q$1,$W29,0),\"\")","v":""},{"$f":"IF($T29,OFFSET(DetailListPending!R$1,$W29,0),\"\")","v":""},null,false,28,{"$f":"IF($T29,OFFSET(DetailListPending!A$1,$W29,0),\"\")","v":""},{"$f":"MATCH(U29,DetailListPending!BG:BG,0)-1","v":{"$error":"#N/A"}}]
[null,{"$f":"IF($T30,OFFSET(DetailListPending!C$1,$W30,0),\"\")","v":""},{"$f":"IF($T30,OFFSET(DetailListPending!E$1,$W30,0),\"\")","v":""},{"$f":"IF($T30,OFFSET(DetailListPending!F$1,$W30,0),\"\")","v":""},{"$f":"IF($T30,OFFSET(DetailListPending!B$1,$W30,0),\"\")","v":""},null,"","","",null,{"$f":"IF($T30,OFFSET(DetailListPending!J$1,$W30,0),\"\")","v":""},{"$f":"IF($T30,OFFSET(DetailListPending!K$1,$W30,0),\"\")","v":""},{"$f":"IF($T30,OFFSET(DetailListPending!AU$1,$W30,0),\"\")","v":""},{"$f":"IF($T30,OFFSET(DetailListPending!AS$1,$W30,0),\"\")","v":""},null,{"$f":"IF($T30,OFFSET(DetailListPending!P$1,$W30,0),\"\")","v":""},{"$f":"IF($T30,OFFSET(DetailListPending!Q$1,$W30,0),\"\")","v":""},{"$f":"IF($T30,OFFSET(DetailListPending!R$1,$W30,0),\"\")","v":""},null,false,29,{"$f":"IF($T30,OFFSET(DetailListPending!A$1,$W30,0),\"\")","v":""},{"$f":"MATCH(U30,DetailListPending!BG:BG,0)-1","v":{"$error":"#N/A"}}]
[null,{"$f":"IF($T31,OFFSET(DetailListPending!C$1,$W31,0),\"\")","v":""},{"$f":"IF($T31,OFFSET(DetailListPending!E$1,$W31,0),\"\")","v":""},{"$f":"IF($T31,OFFSET(DetailListPending!F$1,$W31,0),\"\")","v":""},{"$f":"IF($T31,OFFSET(DetailListPending!B$1,$W31,0),\"\")","v":""},null,"","","",null,{"$f":"IF($T31,OFFSET(DetailListPending!J$1,$W31,0),\"\")","v":""},{"$f":"IF($T31,OFFSET(DetailListPending!K$1,$W31,0),\"\")","v":""},{"$f":"IF($T31,OFFSET(DetailListPending!AU$1,$W31,0),\"\")","v":""},{"$f":"IF($T31,OFFSET(DetailListPending!AS$1,$W31,0),\"\")","v":""},null,{"$f":"IF($T31,OFFSET(DetailListPending!P$1,$W31,0),\"\")","v":""},{"$f":"IF($T31,OFFSET(DetailListPending!Q$1,$W31,0),\"\")","v":""},{"$f":"IF($T31,OFFSET(DetailListPending!R$1,$W31,0),\"\")","v":""},null,false,30,{"$f":"IF($T31,OFFSET(DetailListPending!A$1,$W31,0),\"\")","v":""},{"$f":"MATCH(U31,DetailListPending!BG:BG,0)-1","v":{"$error":"#N/A"}}]
[null,{"$f":"IF($T32,OFFSET(DetailListPending!C$1,$W32,0),\"\")","v":""},{"$f":"IF($T32,OFFSET(DetailListPending!E$1,$W32,0),\"\")","v":""},{"$f":"IF($T32,OFFSET(DetailListPending!F$1,$W32,0),\"\")","v":""},{"$f":"IF($T32,OFFSET(DetailListPending!B$1,$W32,0),\"\")","v":""},null,"","","",null,{"$f":"IF($T32,OFFSET(DetailListPending!J$1,$W32,0),\"\")","v":""},{"$f":"IF($T32,OFFSET(DetailListPending!K$1,$W32,0),\"\")","v":""},{"$f":"IF($T32,OFFSET(DetailListPending!AU$1,$W32,0),\"\")","v":""},{"$f":"IF($T32,OFFSET(DetailListPending!AS$1,$W32,0),\"\")","v":""},null,{"$f":"IF($T32,OFFSET(DetailListPending!P$1,$W32,0),\"\")","v":""},{"$f":"IF($T32,OFFSET(DetailListPending!Q$1,$W32,0),\"\")","v":""},{"$f":"IF($T32,OFFSET(DetailListPending!R$1,$W32,0),\"\")","v":""},null,false,31,{"$f":"IF($T32,OFFSET(DetailListPending!A$1,$W32,0),\"\")","v":""},{"$f":"MATCH(U32,DetailListPending!BG:BG,0)-1","v":{"$error":"#N/A"}}]
[null,{"$f":"IF($T33,OFFSET(DetailListPending!C$1,$W33,0),\"\")","v":""},{"$f":"IF($T33,OFFSET(DetailListPending!E$1,$W33,0),\"\")","v":""},{"$f":"IF($T33,OFFSET(DetailListPending!F$1,$W33,0),\"\")","v":""},{"$f":"IF($T33,OFFSET(DetailListPending!B$1,$W33,0),\"\")","v":""},null,"","","",null,{"$f":"IF($T33,OFFSET(DetailListPending!J$1,$W33,0),\"\")","v":""},{"$f":"IF($T33,OFFSET(DetailListPending!K$1,$W33,0),\"\")","v":""},{"$f":"IF($T33,OFFSET(DetailListPending!AU$1,$W33,0),\"\")","v":""},{"$f":"IF($T33,OFFSET(DetailListPending!AS$1,$W33,0),\"\")","v":""},null,{"$f":"IF($T33,OFFSET(DetailListPending!P$1,$W33,0),\"\")","v":""},{"$f":"IF($T33,OFFSET(DetailListPending!Q$1,$W33,0),\"\")","v":""},{"$f":"IF($T33,OFFSET(DetailListPending!R$1,$W33,0),\"\")","v":""},null,false,32,{"$f":"IF($T33,OFFSET(DetailListPending!A$1,$W33,0),\"\")","v":""},{"$f":"MATCH(U33,DetailListPending!BG:BG,0)-1","v":{"$error":"#N/A"}}]
[null,{"$f":"IF($T34,OFFSET(DetailListPending!C$1,$W34,0),\"\")","v":""},{"$f":"IF($T34,OFFSET(DetailListPending!E$1,$W34,0),\"\")","v":""},{"$f":"IF($T34,OFFSET(DetailListPending!F$1,$W34,0),\"\")","v":""},{"$f":"IF($T34,OFFSET(DetailListPending!B$1,$W34,0),\"\")","v":""},null,"","","",null,{"$f":"IF($T34,OFFSET(DetailListPending!J$1,$W34,0),\"\")","v":""},{"$f":"IF($T34,OFFSET(DetailListPending!K$1,$W34,0),\"\")","v":""},{"$f":"IF($T34,OFFSET(DetailListPending!AU$1,$W34,0),\"\")","v":""},{"$f":"IF($T34,OFFSET(DetailListPending!AS$1,$W34,0),\"\")","v":""},null,{"$f":"IF($T34,OFFSET(DetailListPending!P$1,$W34,0),\"\")","v":""},{"$f":"IF($T34,OFFSET(DetailListPending!Q$1,$W34,0),\"\")","v":""},{"$f":"IF($T34,OFFSET(DetailListPending!R$1,$W34,0),\"\")","v":""},null,{"$f":"U34<=Y$1","v":false},33,{"$f":"IF($T34,OFFSET(DetailListPending!A$1,$W34,0),\"\")","v":""},{"$f":"MATCH(U34,DetailListPending!BG:BG,0)-1","v":{"$error":"#N/A"}}]
[null,{"$f":"IF($T35,OFFSET(DetailListPending!C$1,$W35,0),\"\")","v":""},{"$f":"IF($T35,OFFSET(DetailListPending!E$1,$W35,0),\"\")","v":""},{"$f":"IF($T35,OFFSET(DetailListPending!F$1,$W35,0),\"\")","v":""},{"$f":"IF($T35,OFFSET(DetailListPending!B$1,$W35,0),\"\")","v":""},null,"","","",null,{"$f":"IF($T35,OFFSET(DetailListPending!J$1,$W35,0),\"\")","v":""},{"$f":"IF($T35,OFFSET(DetailListPending!K$1,$W35,0),\"\")","v":""},{"$f":"IF($T35,OFFSET(DetailListPending!AU$1,$W35,0),\"\")","v":""},{"$f":"IF($T35,OFFSET(DetailListPending!AS$1,$W35,0),\"\")","v":""},null,{"$f":"IF($T35,OFFSET(DetailListPending!P$1,$W35,0),\"\")","v":""},{"$f":"IF($T35,OFFSET(DetailListPending!Q$1,$W35,0),\"\")","v":""},{"$f":"IF($T35,OFFSET(DetailListPending!R$1,$W35,0),\"\")","v":""},null,false,34,{"$f":"IF($T35,OFFSET(DetailListPending!A$1,$W35,0),\"\")","v":""},{"$f":"MATCH(U35,DetailListPending!BG:BG,0)-1","v":{"$error":"#N/A"}}]
[null,{"$f":"IF($T36,OFFSET(DetailListPending!C$1,$W36,0),\"\")","v":""},{"$f":"IF($T36,OFFSET(DetailListPending!E$1,$W36,0),\"\")","v":""},{"$f":"IF($T36,OFFSET(DetailListPending!F$1,$W36,0),\"\")","v":""},{"$f":"IF($T36,OFFSET(DetailListPending!B$1,$W36,0),\"\")","v":""},null,"","","",null,{"$f":"IF($T36,OFFSET(DetailListPending!J$1,$W36,0),\"\")","v":""},{"$f":"IF($T36,OFFSET(DetailListPending!K$1,$W36,0),\"\")","v":""},{"$f":"IF($T36,OFFSET(DetailListPending!AU$1,$W36,0),\"\")","v":""},{"$f":"IF($T36,OFFSET(DetailListPending!AS$1,$W36,0),\"\")","v":""},null,{"$f":"IF($T36,OFFSET(DetailListPending!P$1,$W36,0),\"\")","v":""},{"$f":"IF($T36,OFFSET(DetailListPending!Q$1,$W36,0),\"\")","v":""},{"$f":"IF($T36,OFFSET(DetailListPending!R$1,$W36,0),\"\")","v":""},null,false,35,{"$f":"IF($T36,OFFSET(DetailListPending!A$1,$W36,0),\"\")","v":""},{"$f":"MATCH(U36,DetailListPending!BG:BG,0)-1","v":{"$error":"#N/A"}}]
[null,{"$f":"IF($T37,OFFSET(DetailListPending!C$1,$W37,0),\"\")","v":""},{"$f":"IF($T37,OFFSET(DetailListPending!E$1,$W37,0),\"\")","v":""},{"$f":"IF($T37,OFFSET(DetailListPending!F$1,$W37,0),\"\")","v":""},{"$f":"IF($T37,OFFSET(DetailListPending!B$1,$W37,0),\"\")","v":""},null,"","","",null,{"$f":"IF($T37,OFFSET(DetailListPending!J$1,$W37,0),\"\")","v":""},{"$f":"IF($T37,OFFSET(DetailListPending!K$1,$W37,0),\"\")","v":""},{"$f":"IF($T37,OFFSET(DetailListPending!AU$1,$W37,0),\"\")","v":""},{"$f":"IF($T37,OFFSET(DetailListPending!AS$1,$W37,0),\"\")","v":""},null,{"$f":"IF($T37,OFFSET(DetailListPending!P$1,$W37,0),\"\")","v":""},{"$f":"IF($T37,OFFSET(DetailListPending!Q$1,$W37,0),\"\")","v":""},{"$f":"IF($T37,OFFSET(DetailListPending!R$1,$W37,0),\"\")","v":""},null,false,36,{"$f":"IF($T37,OFFSET(DetailListPending!A$1,$W37,0),\"\")","v":""},{"$f":"MATCH(U37,DetailListPending!BG:BG,0)-1","v":{"$error":"#N/A"}}]
[null,{"$f":"IF($T38,OFFSET(DetailListPending!C$1,$W38,0),\"\")","v":""},{"$f":"IF($T38,OFFSET(DetailListPending!E$1,$W38,0),\"\")","v":""},{"$f":"IF($T38,OFFSET(DetailListPending!F$1,$W38,0),\"\")","v":""},{"$f":"IF($T38,OFFSET(DetailListPending!B$1,$W38,0),\"\")","v":""},null,"","","",null,{"$f":"IF($T38,OFFSET(DetailListPending!J$1,$W38,0),\"\")","v":""},{"$f":"IF($T38,OFFSET(DetailListPending!K$1,$W38,0),\"\")","v":""},{"$f":"IF($T38,OFFSET(DetailListPending!AU$1,$W38,0),\"\")","v":""},{"$f":"IF($T38,OFFSET(DetailListPending!AS$1,$W38,0),\"\")","v":""},null,{"$f":"IF($T38,OFFSET(DetailListPending!P$1,$W38,0),\"\")","v":""},{"$f":"IF($T38,OFFSET(DetailListPending!Q$1,$W38,0),\"\")","v":""},{"$f":"IF($T38,OFFSET(DetailListPending!R$1,$W38,0),\"\")","v":""},null,false,37,{"$f":"IF($T38,OFFSET(DetailListPending!A$1,$W38,0),\"\")","v":""},{"$f":"MATCH(U38,DetailListPending!BG:BG,0)-1","v":{"$error":"#N/A"}}]
[null,{"$f":"IF($T39,OFFSET(DetailListPending!C$1,$W39,0),\"\")","v":""},{"$f":"IF($T39,OFFSET(DetailListPending!E$1,$W39,0),\"\")","v":""},{"$f":"IF($T39,OFFSET(DetailListPending!F$1,$W39,0),\"\")","v":""},{"$f":"IF($T39,OFFSET(DetailListPending!B$1,$W39,0),\"\")","v":""},null,"","","",null,{"$f":"IF($T39,OFFSET(DetailListPending!J$1,$W39,0),\"\")","v":""},{"$f":"IF($T39,OFFSET(DetailListPending!K$1,$W39,0),\"\")","v":""},{"$f":"IF($T39,OFFSET(DetailListPending!AU$1,$W39,0),\"\")","v":""},{"$f":"IF($T39,OFFSET(DetailListPending!AS$1,$W39,0),\"\")","v":""},null,{"$f":"IF($T39,OFFSET(DetailListPending!P$1,$W39,0),\"\")","v":""},{"$f":"IF($T39,OFFSET(DetailListPending!Q$1,$W39,0),\"\")","v":""},{"$f":"IF($T39,OFFSET(DetailListPending!R$1,$W39,0),\"\")","v":""},null,false,38,{"$f":"IF($T39,OFFSET(DetailListPending!A$1,$W39,0),\"\")","v":""},{"$f":"MATCH(U39,DetailListPending!BG:BG,0)-1","v":{"$error":"#N/A"}}]
[null,{"$f":"IF($T40,OFFSET(DetailListPending!C$1,$W40,0),\"\")","v":""},{"$f":"IF($T40,OFFSET(DetailListPending!E$1,$W40,0),\"\")","v":""},{"$f":"IF($T40,OFFSET(DetailListPending!F$1,$W40,0),\"\")","v":""},{"$f":"IF($T40,OFFSET(DetailListPending!B$1,$W40,0),\"\")","v":""},null,"","","",null,{"$f":"IF($T40,OFFSET(DetailListPending!J$1,$W40,0),\"\")","v":""},{"$f":"IF($T40,OFFSET(DetailListPending!K$1,$W40,0),\"\")","v":""},{"$f":"IF($T40,OFFSET(DetailListPending!AU$1,$W40,0),\"\")","v":""},{"$f":"IF($T40,OFFSET(DetailListPending!AS$1,$W40,0),\"\")","v":""},null,{"$f":"IF($T40,OFFSET(DetailListPending!P$1,$W40,0),\"\")","v":""},{"$f":"IF($T40,OFFSET(DetailListPending!Q$1,$W40,0),\"\")","v":""},{"$f":"IF($T40,OFFSET(DetailListPending!R$1,$W40,0),\"\")","v":""},null,false,39,{"$f":"IF($T40,OFFSET(DetailListPending!A$1,$W40,0),\"\")","v":""},{"$f":"MATCH(U40,DetailListPending!BG:BG,0)-1","v":{"$error":"#N/A"}}]
[null,{"$f":"IF($T41,OFFSET(DetailListPending!C$1,$W41,0),\"\")","v":""},{"$f":"IF($T41,OFFSET(DetailListPending!E$1,$W41,0),\"\")","v":""},{"$f":"IF($T41,OFFSET(DetailListPending!F$1,$W41,0),\"\")","v":""},{"$f":"IF($T41,OFFSET(DetailListPending!B$1,$W41,0),\"\")","v":""},null,"","","",null,{"$f":"IF($T41,OFFSET(DetailListPending!J$1,$W41,0),\"\")","v":""},{"$f":"IF($T41,OFFSET(DetailListPending!K$1,$W41,0),\"\")","v":""},{"$f":"IF($T41,OFFSET(DetailListPending!AU$1,$W41,0),\"\")","v":""},{"$f":"IF($T41,OFFSET(DetailListPending!AS$1,$W41,0),\"\")","v":""},null,{"$f":"IF($T41,OFFSET(DetailListPending!P$1,$W41,0),\"\")","v":""},{"$f":"IF($T41,OFFSET(DetailListPending!Q$1,$W41,0),\"\")","v":""},{"$f":"IF($T41,OFFSET(DetailListPending!R$1,$W41,0),\"\")","v":""},null,false,40,{"$f":"IF($T41,OFFSET(DetailListPending!A$1,$W41,0),\"\")","v":""},{"$f":"MATCH(U41,DetailListPending!BG:BG,0)-1","v":{"$error":"#N/A"}}]
[null,{"$f":"IF($T42,OFFSET(DetailListPending!C$1,$W42,0),\"\")","v":""},{"$f":"IF($T42,OFFSET(DetailListPending!E$1,$W42,0),\"\")","v":""},{"$f":"IF($T42,OFFSET(DetailListPending!F$1,$W42,0),\"\")","v":""},{"$f":"IF($T42,OFFSET(DetailListPending!B$1,$W42,0),\"\")","v":""},null,"","","",null,{"$f":"IF($T42,OFFSET(DetailListPending!J$1,$W42,0),\"\")","v":""},{"$f":"IF($T42,OFFSET(DetailListPending!K$1,$W42,0),\"\")","v":""},{"$f":"IF($T42,OFFSET(DetailListPending!AU$1,$W42,0),\"\")","v":""},{"$f":"IF($T42,OFFSET(DetailListPending!AS$1,$W42,0),\"\")","v":""},null,{"$f":"IF($T42,OFFSET(DetailListPending!P$1,$W42,0),\"\")","v":""},{"$f":"IF($T42,OFFSET(DetailListPending!Q$1,$W42,0),\"\")","v":""},{"$f":"IF($T42,OFFSET(DetailListPending!R$1,$W42,0),\"\")","v":""},null,false,41,{"$f":"IF($T42,OFFSET(DetailListPending!A$1,$W42,0),\"\")","v":""},{"$f":"MATCH(U42,DetailListPending!BG:BG,0)-1","v":{"$error":"#N/A"}}]
[null,{"$f":"IF($T43,OFFSET(DetailListPending!C$1,$W43,0),\"\")","v":""},{"$f":"IF($T43,OFFSET(DetailListPending!E$1,$W43,0),\"\")","v":""},{"$f":"IF($T43,OFFSET(DetailListPending!F$1,$W43,0),\"\")","v":""},{"$f":"IF($T43,OFFSET(DetailListPending!B$1,$W43,0),\"\")","v":""},null,"","","",null,{"$f":"IF($T43,OFFSET(DetailListPending!J$1,$W43,0),\"\")","v":""},{"$f":"IF($T43,OFFSET(DetailListPending!K$1,$W43,0),\"\")","v":""},{"$f":"IF($T43,OFFSET(DetailListPending!AU$1,$W43,0),\"\")","v":""},{"$f":"IF($T43,OFFSET(DetailListPending!AS$1,$W43,0),\"\")","v":""},null,{"$f":"IF($T43,OFFSET(DetailListPending!P$1,$W43,0),\"\")","v":""},{"$f":"IF($T43,OFFSET(DetailListPending!Q$1,$W43,0),\"\")","v":""},{"$f":"IF($T43,OFFSET(DetailListPending!R$1,$W43,0),\"\")","v":""},null,false,42,{"$f":"IF($T43,OFFSET(DetailListPending!A$1,$W43,0),\"\")","v":""},{"$f":"MATCH(U43,DetailListPending!BG:BG,0)-1","v":{"$error":"#N/A"}}]
[null,{"$f":"IF($T44,OFFSET(DetailListPending!C$1,$W44,0),\"\")","v":""},{"$f":"IF($T44,OFFSET(DetailListPending!E$1,$W44,0),\"\")","v":""},{"$f":"IF($T44,OFFSET(DetailListPending!F$1,$W44,0),\"\")","v":""},{"$f":"IF($T44,OFFSET(DetailListPending!B$1,$W44,0),\"\")","v":""},null,"","","",null,{"$f":"IF($T44,OFFSET(DetailListPending!J$1,$W44,0),\"\")","v":""},{"$f":"IF($T44,OFFSET(DetailListPending!K$1,$W44,0),\"\")","v":""},{"$f":"IF($T44,OFFSET(DetailListPending!AU$1,$W44,0),\"\")","v":""},{"$f":"IF($T44,OFFSET(DetailListPending!AS$1,$W44,0),\"\")","v":""},null,{"$f":"IF($T44,OFFSET(DetailListPending!P$1,$W44,0),\"\")","v":""},{"$f":"IF($T44,OFFSET(DetailListPending!Q$1,$W44,0),\"\")","v":""},{"$f":"IF($T44,OFFSET(DetailListPending!R$1,$W44,0),\"\")","v":""},null,false,43,{"$f":"IF($T44,OFFSET(DetailListPending!A$1,$W44,0),\"\")","v":""},{"$f":"MATCH(U44,DetailListPending!BG:BG,0)-1","v":{"$error":"#N/A"}}]
[null,{"$f":"IF($T45,OFFSET(DetailListPending!C$1,$W45,0),\"\")","v":""},{"$f":"IF($T45,OFFSET(DetailListPending!E$1,$W45,0),\"\")","v":""},{"$f":"IF($T45,OFFSET(DetailListPending!F$1,$W45,0),\"\")","v":""},{"$f":"IF($T45,OFFSET(DetailListPending!B$1,$W45,0),\"\")","v":""},null,"","","",null,{"$f":"IF($T45,OFFSET(DetailListPending!J$1,$W45,0),\"\")","v":""},{"$f":"IF($T45,OFFSET(DetailListPending!K$1,$W45,0),\"\")","v":""},{"$f":"IF($T45,OFFSET(DetailListPending!AU$1,$W45,0),\"\")","v":""},{"$f":"IF($T45,OFFSET(DetailListPending!AS$1,$W45,0),\"\")","v":""},null,{"$f":"IF($T45,OFFSET(DetailListPending!P$1,$W45,0),\"\")","v":""},{"$f":"IF($T45,OFFSET(DetailListPending!Q$1,$W45,0),\"\")","v":""},{"$f":"IF($T45,OFFSET(DetailListPending!R$1,$W45,0),\"\")","v":""},null,false,44,{"$f":"IF($T45,OFFSET(DetailListPending!A$1,$W45,0),\"\")","v":""},{"$f":"MATCH(U45,DetailListPending!BG:BG,0)-1","v":{"$error":"#N/A"}}]
[null,{"$f":"IF($T46,OFFSET(DetailListPending!C$1,$W46,0),\"\")","v":""},{"$f":"IF($T46,OFFSET(DetailListPending!E$1,$W46,0),\"\")","v":""},{"$f":"IF($T46,OFFSET(DetailListPending!F$1,$W46,0),\"\")","v":""},{"$f":"IF($T46,OFFSET(DetailListPending!B$1,$W46,0),\"\")","v":""},null,"","","",null,{"$f":"IF($T46,OFFSET(DetailListPending!J$1,$W46,0),\"\")","v":""},{"$f":"IF($T46,OFFSET(DetailListPending!K$1,$W46,0),\"\")","v":""},{"$f":"IF($T46,OFFSET(DetailListPending!AU$1,$W46,0),\"\")","v":""},{"$f":"IF($T46,OFFSET(DetailListPending!AS$1,$W46,0),\"\")","v":""},null,{"$f":"IF($T46,OFFSET(DetailListPending!P$1,$W46,0),\"\")","v":""},{"$f":"IF($T46,OFFSET(DetailListPending!Q$1,$W46,0),\"\")","v":""},{"$f":"IF($T46,OFFSET(DetailListPending!R$1,$W46,0),\"\")","v":""},null,false,45,{"$f":"IF($T46,OFFSET(DetailListPending!A$1,$W46,0),\"\")","v":""},{"$f":"MATCH(U46,DetailListPending!BG:BG,0)-1","v":{"$error":"#N/A"}}]
[null,{"$f":"IF($T47,OFFSET(DetailListPending!C$1,$W47,0),\"\")","v":""},{"$f":"IF($T47,OFFSET(DetailListPending!E$1,$W47,0),\"\")","v":""},{"$f":"IF($T47,OFFSET(DetailListPending!F$1,$W47,0),\"\")","v":""},{"$f":"IF($T47,OFFSET(DetailListPending!B$1,$W47,0),\"\")","v":""},null,"","","",null,{"$f":"IF($T47,OFFSET(DetailListPending!J$1,$W47,0),\"\")","v":""},{"$f":"IF($T47,OFFSET(DetailListPending!K$1,$W47,0),\"\")","v":""},{"$f":"IF($T47,OFFSET(DetailListPending!AU$1,$W47,0),\"\")","v":""},{"$f":"IF($T47,OFFSET(DetailListPending!AS$1,$W47,0),\"\")","v":""},null,{"$f":"IF($T47,OFFSET(DetailListPending!P$1,$W47,0),\"\")","v":""},{"$f":"IF($T47,OFFSET(DetailListPending!Q$1,$W47,0),\"\")","v":""},{"$f":"IF($T47,OFFSET(DetailListPending!R$1,$W47,0),\"\")","v":""},null,false,46,{"$f":"IF($T47,OFFSET(DetailListPending!A$1,$W47,0),\"\")","v":""},{"$f":"MATCH(U47,DetailListPending!BG:BG,0)-1","v":{"$error":"#N/A"}}]
[null,{"$f":"IF($T48,OFFSET(DetailListPending!C$1,$W48,0),\"\")","v":""},{"$f":"IF($T48,OFFSET(DetailListPending!E$1,$W48,0),\"\")","v":""},{"$f":"IF($T48,OFFSET(DetailListPending!F$1,$W48,0),\"\")","v":""},{"$f":"IF($T48,OFFSET(DetailListPending!B$1,$W48,0),\"\")","v":""},null,"","","",null,{"$f":"IF($T48,OFFSET(DetailListPending!J$1,$W48,0),\"\")","v":""},{"$f":"IF($T48,OFFSET(DetailListPending!K$1,$W48,0),\"\")","v":""},{"$f":"IF($T48,OFFSET(DetailListPending!AU$1,$W48,0),\"\")","v":""},{"$f":"IF($T48,OFFSET(DetailListPending!AS$1,$W48,0),\"\")","v":""},null,{"$f":"IF($T48,OFFSET(DetailListPending!P$1,$W48,0),\"\")","v":""},{"$f":"IF($T48,OFFSET(DetailListPending!Q$1,$W48,0),\"\")","v":""},{"$f":"IF($T48,OFFSET(DetailListPending!R$1,$W48,0),\"\")","v":""},null,false,47,{"$f":"IF($T48,OFFSET(DetailListPending!A$1,$W48,0),\"\")","v":""},{"$f":"MATCH(U48,DetailListPending!BG:BG,0)-1","v":{"$error":"#N/A"}}]
[null,{"$f":"IF($T49,OFFSET(DetailListPending!C$1,$W49,0),\"\")","v":""},{"$f":"IF($T49,OFFSET(DetailListPending!E$1,$W49,0),\"\")","v":""},{"$f":"IF($T49,OFFSET(DetailListPending!F$1,$W49,0),\"\")","v":""},{"$f":"IF($T49,OFFSET(DetailListPending!B$1,$W49,0),\"\")","v":""},null,"","","",null,{"$f":"IF($T49,OFFSET(DetailListPending!J$1,$W49,0),\"\")","v":""},{"$f":"IF($T49,OFFSET(DetailListPending!K$1,$W49,0),\"\")","v":""},{"$f":"IF($T49,OFFSET(DetailListPending!AU$1,$W49,0),\"\")","v":""},{"$f":"IF($T49,OFFSET(DetailListPending!AS$1,$W49,0),\"\")","v":""},null,{"$f":"IF($T49,OFFSET(DetailListPending!P$1,$W49,0),\"\")","v":""},{"$f":"IF($T49,OFFSET(DetailListPending!Q$1,$W49,0),\"\")","v":""},{"$f":"IF($T49,OFFSET(DetailListPending!R$1,$W49,0),\"\")","v":""},null,false,48,{"$f":"IF($T49,OFFSET(DetailListPending!A$1,$W49,0),\"\")","v":""},{"$f":"MATCH(U49,DetailListPending!BG:BG,0)-1","v":{"$error":"#N/A"}}]
[null,{"$f":"IF($T50,OFFSET(DetailListPending!C$1,$W50,0),\"\")","v":""},{"$f":"IF($T50,OFFSET(DetailListPending!E$1,$W50,0),\"\")","v":""},{"$f":"IF($T50,OFFSET(DetailListPending!F$1,$W50,0),\"\")","v":""},{"$f":"IF($T50,OFFSET(DetailListPending!B$1,$W50,0),\"\")","v":""},null,"","","",null,{"$f":"IF($T50,OFFSET(DetailListPending!J$1,$W50,0),\"\")","v":""},{"$f":"IF($T50,OFFSET(DetailListPending!K$1,$W50,0),\"\")","v":""},{"$f":"IF($T50,OFFSET(DetailListPending!AU$1,$W50,0),\"\")","v":""},{"$f":"IF($T50,OFFSET(DetailListPending!AS$1,$W50,0),\"\")","v":""},null,{"$f":"IF($T50,OFFSET(DetailListPending!P$1,$W50,0),\"\")","v":""},{"$f":"IF($T50,OFFSET(DetailListPending!Q$1,$W50,0),\"\")","v":""},{"$f":"IF($T50,OFFSET(DetailListPending!R$1,$W50,0),\"\")","v":""},null,false,49,{"$f":"IF($T50,OFFSET(DetailListPending!A$1,$W50,0),\"\")","v":""},{"$f":"MATCH(U50,DetailListPending!BG:BG,0)-1","v":{"$error":"#N/A"}}]
[null,{"$f":"IF($T51,OFFSET(DetailListPending!C$1,$W51,0),\"\")","v":""},{"$f":"IF($T51,OFFSET(DetailListPending!E$1,$W51,0),\"\")","v":""},{"$f":"IF($T51,OFFSET(DetailListPending!F$1,$W51,0),\"\")","v":""},{"$f":"IF($T51,OFFSET(DetailListPending!B$1,$W51,0),\"\")","v":""},null,"","","",null,{"$f":"IF($T51,OFFSET(DetailListPending!J$1,$W51,0),\"\")","v":""},{"$f":"IF($T51,OFFSET(DetailListPending!K$1,$W51,0),\"\")","v":""},{"$f":"IF($T51,OFFSET(DetailListPending!AU$1,$W51,0),\"\")","v":""},{"$f":"IF($T51,OFFSET(DetailListPending!AS$1,$W51,0),\"\")","v":""},null,{"$f":"IF($T51,OFFSET(DetailListPending!P$1,$W51,0),\"\")","v":""},{"$f":"IF($T51,OFFSET(DetailListPending!Q$1,$W51,0),\"\")","v":""},{"$f":"IF($T51,OFFSET(DetailListPending!R$1,$W51,0),\"\")","v":""},null,false,50,{"$f":"IF($T51,OFFSET(DetailListPending!A$1,$W51,0),\"\")","v":""},{"$f":"MATCH(U51,DetailListPending!BG:BG,0)-1","v":{"$error":"#N/A"}}]
[null,{"$f":"IF($T52,OFFSET(DetailListPending!C$1,$W52,0),\"\")","v":""},{"$f":"IF($T52,OFFSET(DetailListPending!E$1,$W52,0),\"\")","v":""},{"$f":"IF($T52,OFFSET(DetailListPending!F$1,$W52,0),\"\")","v":""},{"$f":"IF($T52,OFFSET(DetailListPending!B$1,$W52,0),\"\")","v":""},null,"","","",null,{"$f":"IF($T52,OFFSET(DetailListPending!J$1,$W52,0),\"\")","v":""},{"$f":"IF($T52,OFFSET(DetailListPending!K$1,$W52,0),\"\")","v":""},{"$f":"IF($T52,OFFSET(DetailListPending!AU$1,$W52,0),\"\")","v":""},{"$f":"IF($T52,OFFSET(DetailListPending!AS$1,$W52,0),\"\")","v":""},null,{"$f":"IF($T52,OFFSET(DetailListPending!P$1,$W52,0),\"\")","v":""},{"$f":"IF($T52,OFFSET(DetailListPending!Q$1,$W52,0),\"\")","v":""},{"$f":"IF($T52,OFFSET(DetailListPending!R$1,$W52,0),\"\")","v":""},null,false,51,{"$f":"IF($T52,OFFSET(DetailListPending!A$1,$W52,0),\"\")","v":""},{"$f":"MATCH(U52,DetailListPending!BG:BG,0)-1","v":{"$error":"#N/A"}}]
[null,{"$f":"IF($T53,OFFSET(DetailListPending!C$1,$W53,0),\"\")","v":""},{"$f":"IF($T53,OFFSET(DetailListPending!E$1,$W53,0),\"\")","v":""},{"$f":"IF($T53,OFFSET(DetailListPending!F$1,$W53,0),\"\")","v":""},{"$f":"IF($T53,OFFSET(DetailListPending!B$1,$W53,0),\"\")","v":""},null,"","","",null,{"$f":"IF($T53,OFFSET(DetailListPending!J$1,$W53,0),\"\")","v":""},{"$f":"IF($T53,OFFSET(DetailListPending!K$1,$W53,0),\"\")","v":""},{"$f":"IF($T53,OFFSET(DetailListPending!AU$1,$W53,0),\"\")","v":""},{"$f":"IF($T53,OFFSET(DetailListPending!AS$1,$W53,0),\"\")","v":""},null,{"$f":"IF($T53,OFFSET(DetailListPending!P$1,$W53,0),\"\")","v":""},{"$f":"IF($T53,OFFSET(DetailListPending!Q$1,$W53,0),\"\")","v":""},{"$f":"IF($T53,OFFSET(DetailListPending!R$1,$W53,0),\"\")","v":""},null,false,52,{"$f":"IF($T53,OFFSET(DetailListPending!A$1,$W53,0),\"\")","v":""},{"$f":"MATCH(U53,DetailListPending!BG:BG,0)-1","v":{"$error":"#N/A"}}]
[null,{"$f":"IF($T54,OFFSET(DetailListPending!C$1,$W54,0),\"\")","v":""},{"$f":"IF($T54,OFFSET(DetailListPending!E$1,$W54,0),\"\")","v":""},{"$f":"IF($T54,OFFSET(DetailListPending!F$1,$W54,0),\"\")","v":""},{"$f":"IF($T54,OFFSET(DetailListPending!B$1,$W54,0),\"\")","v":""},null,"","","",null,{"$f":"IF($T54,OFFSET(DetailListPending!J$1,$W54,0),\"\")","v":""},{"$f":"IF($T54,OFFSET(DetailListPending!K$1,$W54,0),\"\")","v":""},{"$f":"IF($T54,OFFSET(DetailListPending!AU$1,$W54,0),\"\")","v":""},{"$f":"IF($T54,OFFSET(DetailListPending!AS$1,$W54,0),\"\")","v":""},null,{"$f":"IF($T54,OFFSET(DetailListPending!P$1,$W54,0),\"\")","v":""},{"$f":"IF($T54,OFFSET(DetailListPending!Q$1,$W54,0),\"\")","v":""},{"$f":"IF($T54,OFFSET(DetailListPending!R$1,$W54,0),\"\")","v":""},null,false,53,{"$f":"IF($T54,OFFSET(DetailListPending!A$1,$W54,0),\"\")","v":""},{"$f":"MATCH(U54,DetailListPending!BG:BG,0)-1","v":{"$error":"#N/A"}}]
[null,{"$f":"IF($T55,OFFSET(DetailListPending!C$1,$W55,0),\"\")","v":""},{"$f":"IF($T55,OFFSET(DetailListPending!E$1,$W55,0),\"\")","v":""},{"$f":"IF($T55,OFFSET(DetailListPending!F$1,$W55,0),\"\")","v":""},{"$f":"IF($T55,OFFSET(DetailListPending!B$1,$W55,0),\"\")","v":""},null,"","","",null,{"$f":"IF($T55,OFFSET(DetailListPending!J$1,$W55,0),\"\")","v":""},{"$f":"IF($T55,OFFSET(DetailListPending!K$1,$W55,0),\"\")","v":""},{"$f":"IF($T55,OFFSET(DetailListPending!AU$1,$W55,0),\"\")","v":""},{"$f":"IF($T55,OFFSET(DetailListPending!AS$1,$W55,0),\"\")","v":""},null,{"$f":"IF($T55,OFFSET(DetailListPending!P$1,$W55,0),\"\")","v":""},{"$f":"IF($T55,OFFSET(DetailListPending!Q$1,$W55,0),\"\")","v":""},{"$f":"IF($T55,OFFSET(DetailListPending!R$1,$W55,0),\"\")","v":""},null,false,54,{"$f":"IF($T55,OFFSET(DetailListPending!A$1,$W55,0),\"\")","v":""},{"$f":"MATCH(U55,DetailListPending!BG:BG,0)-1","v":{"$error":"#N/A"}}]
[null,{"$f":"IF($T56,OFFSET(DetailListPending!C$1,$W56,0),\"\")","v":""},{"$f":"IF($T56,OFFSET(DetailListPending!E$1,$W56,0),\"\")","v":""},{"$f":"IF($T56,OFFSET(DetailListPending!F$1,$W56,0),\"\")","v":""},{"$f":"IF($T56,OFFSET(DetailListPending!B$1,$W56,0),\"\")","v":""},null,"","","",null,{"$f":"IF($T56,OFFSET(DetailListPending!J$1,$W56,0),\"\")","v":""},{"$f":"IF($T56,OFFSET(DetailListPending!K$1,$W56,0),\"\")","v":""},{"$f":"IF($T56,OFFSET(DetailListPending!AU$1,$W56,0),\"\")","v":""},{"$f":"IF($T56,OFFSET(DetailListPending!AS$1,$W56,0),\"\")","v":""},null,{"$f":"IF($T56,OFFSET(DetailListPending!P$1,$W56,0),\"\")","v":""},{"$f":"IF($T56,OFFSET(DetailListPending!Q$1,$W56,0),\"\")","v":""},{"$f":"IF($T56,OFFSET(DetailListPending!R$1,$W56,0),\"\")","v":""},null,false,55,{"$f":"IF($T56,OFFSET(DetailListPending!A$1,$W56,0),\"\")","v":""},{"$f":"MATCH(U56,DetailListPending!BG:BG,0)-1","v":{"$error":"#N/A"}}]
[null,{"$f":"IF($T57,OFFSET(DetailListPending!C$1,$W57,0),\"\")","v":""},{"$f":"IF($T57,OFFSET(DetailListPending!E$1,$W57,0),\"\")","v":""},{"$f":"IF($T57,OFFSET(DetailListPending!F$1,$W57,0),\"\")","v":""},{"$f":"IF($T57,OFFSET(DetailListPending!B$1,$W57,0),\"\")","v":""},null,"","","",null,{"$f":"IF($T57,OFFSET(DetailListPending!J$1,$W57,0),\"\")","v":""},{"$f":"IF($T57,OFFSET(DetailListPending!K$1,$W57,0),\"\")","v":""},{"$f":"IF($T57,OFFSET(DetailListPending!AU$1,$W57,0),\"\")","v":""},{"$f":"IF($T57,OFFSET(DetailListPending!AS$1,$W57,0),\"\")","v":""},null,{"$f":"IF($T57,OFFSET(DetailListPending!P$1,$W57,0),\"\")","v":""},{"$f":"IF($T57,OFFSET(DetailListPending!Q$1,$W57,0),\"\")","v":""},{"$f":"IF($T57,OFFSET(DetailListPending!R$1,$W57,0),\"\")","v":""},null,false,56,{"$f":"IF($T57,OFFSET(DetailListPending!A$1,$W57,0),\"\")","v":""},{"$f":"MATCH(U57,DetailListPending!BG:BG,0)-1","v":{"$error":"#N/A"}}]
[null,{"$f":"IF($T58,OFFSET(DetailListPending!C$1,$W58,0),\"\")","v":""},{"$f":"IF($T58,OFFSET(DetailListPending!E$1,$W58,0),\"\")","v":""},{"$f":"IF($T58,OFFSET(DetailListPending!F$1,$W58,0),\"\")","v":""},{"$f":"IF($T58,OFFSET(DetailListPending!B$1,$W58,0),\"\")","v":""},null,"","","",null,{"$f":"IF($T58,OFFSET(DetailListPending!J$1,$W58,0),\"\")","v":""},{"$f":"IF($T58,OFFSET(DetailListPending!K$1,$W58,0),\"\")","v":""},{"$f":"IF($T58,OFFSET(DetailListPending!AU$1,$W58,0),\"\")","v":""},{"$f":"IF($T58,OFFSET(DetailListPending!AS$1,$W58,0),\"\")","v":""},null,{"$f":"IF($T58,OFFSET(DetailListPending!P$1,$W58,0),\"\")","v":""},{"$f":"IF($T58,OFFSET(DetailListPending!Q$1,$W58,0),\"\")","v":""},{"$f":"IF($T58,OFFSET(DetailListPending!R$1,$W58,0),\"\")","v":""},null,false,57,{"$f":"IF($T58,OFFSET(DetailListPending!A$1,$W58,0),\"\")","v":""},{"$f":"MATCH(U58,DetailListPending!BG:BG,0)-1","v":{"$error":"#N/A"}}]
[null,{"$f":"IF($T59,OFFSET(DetailListPending!C$1,$W59,0),\"\")","v":""},{"$f":"IF($T59,OFFSET(DetailListPending!E$1,$W59,0),\"\")","v":""},{"$f":"IF($T59,OFFSET(DetailListPending!F$1,$W59,0),\"\")","v":""},{"$f":"IF($T59,OFFSET(DetailListPending!B$1,$W59,0),\"\")","v":""},null,"","","",null,{"$f":"IF($T59,OFFSET(DetailListPending!J$1,$W59,0),\"\")","v":""},{"$f":"IF($T59,OFFSET(DetailListPending!K$1,$W59,0),\"\")","v":""},{"$f":"IF($T59,OFFSET(DetailListPending!AU$1,$W59,0),\"\")","v":""},{"$f":"IF($T59,OFFSET(DetailListPending!AS$1,$W59,0),\"\")","v":""},null,{"$f":"IF($T59,OFFSET(DetailListPending!P$1,$W59,0),\"\")","v":""},{"$f":"IF($T59,OFFSET(DetailListPending!Q$1,$W59,0),\"\")","v":""},{"$f":"IF($T59,OFFSET(DetailListPending!R$1,$W59,0),\"\")","v":""},null,false,58,{"$f":"IF($T59,OFFSET(DetailListPending!A$1,$W59,0),\"\")","v":""},{"$f":"MATCH(U59,DetailListPending!BG:BG,0)-1","v":{"$error":"#N/A"}}]
[null,{"$f":"IF($T60,OFFSET(DetailListPending!C$1,$W60,0),\"\")","v":""},{"$f":"IF($T60,OFFSET(DetailListPending!E$1,$W60,0),\"\")","v":""},{"$f":"IF($T60,OFFSET(DetailListPending!F$1,$W60,0),\"\")","v":""},{"$f":"IF($T60,OFFSET(DetailListPending!B$1,$W60,0),\"\")","v":""},null,"","","",null,{"$f":"IF($T60,OFFSET(DetailListPending!J$1,$W60,0),\"\")","v":""},{"$f":"IF($T60,OFFSET(DetailListPending!K$1,$W60,0),\"\")","v":""},{"$f":"IF($T60,OFFSET(DetailListPending!AU$1,$W60,0),\"\")","v":""},{"$f":"IF($T60,OFFSET(DetailListPending!AS$1,$W60,0),\"\")","v":""},null,{"$f":"IF($T60,OFFSET(DetailListPending!P$1,$W60,0),\"\")","v":""},{"$f":"IF($T60,OFFSET(DetailListPending!Q$1,$W60,0),\"\")","v":""},{"$f":"IF($T60,OFFSET(DetailListPending!R$1,$W60,0),\"\")","v":""},null,false,59,{"$f":"IF($T60,OFFSET(DetailListPending!A$1,$W60,0),\"\")","v":""},{"$f":"MATCH(U60,DetailListPending!BG:BG,0)-1","v":{"$error":"#N/A"}}]
[null,{"$f":"IF($T61,OFFSET(DetailListPending!C$1,$W61,0),\"\")","v":""},{"$f":"IF($T61,OFFSET(DetailListPending!E$1,$W61,0),\"\")","v":""},{"$f":"IF($T61,OFFSET(DetailListPending!F$1,$W61,0),\"\")","v":""},{"$f":"IF($T61,OFFSET(DetailListPending!B$1,$W61,0),\"\")","v":""},null,"","","",null,{"$f":"IF($T61,OFFSET(DetailListPending!J$1,$W61,0),\"\")","v":""},{"$f":"IF($T61,OFFSET(DetailListPending!K$1,$W61,0),\"\")","v":""},{"$f":"IF($T61,OFFSET(DetailListPending!AU$1,$W61,0),\"\")","v":""},{"$f":"IF($T61,OFFSET(DetailListPending!AS$1,$W61,0),\"\")","v":""},null,{"$f":"IF($T61,OFFSET(DetailListPending!P$1,$W61,0),\"\")","v":""},{"$f":"IF($T61,OFFSET(DetailListPending!Q$1,$W61,0),\"\")","v":""},{"$f":"IF($T61,OFFSET(DetailListPending!R$1,$W61,0),\"\")","v":""},null,false,60,{"$f":"IF($T61,OFFSET(DetailListPending!A$1,$W61,0),\"\")","v":""},{"$f":"MATCH(U61,DetailListPending!BG:BG,0)-1","v":{"$error":"#N/A"}}]
[null,{"$f":"IF($T62,OFFSET(DetailListPending!C$1,$W62,0),\"\")","v":""},{"$f":"IF($T62,OFFSET(DetailListPending!E$1,$W62,0),\"\")","v":""},{"$f":"IF($T62,OFFSET(DetailListPending!F$1,$W62,0),\"\")","v":""},{"$f":"IF($T62,OFFSET(DetailListPending!B$1,$W62,0),\"\")","v":""},null,"","","",null,{"$f":"IF($T62,OFFSET(DetailListPending!J$1,$W62,0),\"\")","v":""},{"$f":"IF($T62,OFFSET(DetailListPending!K$1,$W62,0),\"\")","v":""},{"$f":"IF($T62,OFFSET(DetailListPending!AU$1,$W62,0),\"\")","v":""},{"$f":"IF($T62,OFFSET(DetailListPending!AS$1,$W62,0),\"\")","v":""},null,{"$f":"IF($T62,OFFSET(DetailListPending!P$1,$W62,0),\"\")","v":""},{"$f":"IF($T62,OFFSET(DetailListPending!Q$1,$W62,0),\"\")","v":""},{"$f":"IF($T62,OFFSET(DetailListPending!R$1,$W62,0),\"\")","v":""},null,false,61,{"$f":"IF($T62,OFFSET(DetailListPending!A$1,$W62,0),\"\")","v":""},{"$f":"MATCH(U62,DetailListPending!BG:BG,0)-1","v":{"$error":"#N/A"}}]
[null,{"$f":"IF($T63,OFFSET(DetailListPending!C$1,$W63,0),\"\")","v":""},{"$f":"IF($T63,OFFSET(DetailListPending!E$1,$W63,0),\"\")","v":""},{"$f":"IF($T63,OFFSET(DetailListPending!F$1,$W63,0),\"\")","v":""},{"$f":"IF($T63,OFFSET(DetailListPending!B$1,$W63,0),\"\")","v":""},null,"","","",null,{"$f":"IF($T63,OFFSET(DetailListPending!J$1,$W63,0),\"\")","v":""},{"$f":"IF($T63,OFFSET(DetailListPending!K$1,$W63,0),\"\")","v":""},{"$f":"IF($T63,OFFSET(DetailListPending!AU$1,$W63,0),\"\")","v":""},{"$f":"IF($T63,OFFSET(DetailListPending!AS$1,$W63,0),\"\")","v":""},null,{"$f":"IF($T63,OFFSET(DetailListPending!P$1,$W63,0),\"\")","v":""},{"$f":"IF($T63,OFFSET(DetailListPending!Q$1,$W63,0),\"\")","v":""},{"$f":"IF($T63,OFFSET(DetailListPending!R$1,$W63,0),\"\")","v":""},null,false,62,{"$f":"IF($T63,OFFSET(DetailListPending!A$1,$W63,0),\"\")","v":""},{"$f":"MATCH(U63,DetailListPending!BG:BG,0)-1","v":{"$error":"#N/A"}}]
[null,{"$f":"IF($T64,OFFSET(DetailListPending!C$1,$W64,0),\"\")","v":""},{"$f":"IF($T64,OFFSET(DetailListPending!E$1,$W64,0),\"\")","v":""},{"$f":"IF($T64,OFFSET(DetailListPending!F$1,$W64,0),\"\")","v":""},{"$f":"IF($T64,OFFSET(DetailListPending!B$1,$W64,0),\"\")","v":""},null,"","","",null,{"$f":"IF($T64,OFFSET(DetailListPending!J$1,$W64,0),\"\")","v":""},{"$f":"IF($T64,OFFSET(DetailListPending!K$1,$W64,0),\"\")","v":""},{"$f":"IF($T64,OFFSET(DetailListPending!AU$1,$W64,0),\"\")","v":""},{"$f":"IF($T64,OFFSET(DetailListPending!AS$1,$W64,0),\"\")","v":""},null,{"$f":"IF($T64,OFFSET(DetailListPending!P$1,$W64,0),\"\")","v":""},{"$f":"IF($T64,OFFSET(DetailListPending!Q$1,$W64,0),\"\")","v":""},{"$f":"IF($T64,OFFSET(DetailListPending!R$1,$W64,0),\"\")","v":""},null,false,63,{"$f":"IF($T64,OFFSET(DetailListPending!A$1,$W64,0),\"\")","v":""},{"$f":"MATCH(U64,DetailListPending!BG:BG,0)-1","v":{"$error":"#N/A"}}]
[null,{"$f":"IF($T65,OFFSET(DetailListPending!C$1,$W65,0),\"\")","v":""},{"$f":"IF($T65,OFFSET(DetailListPending!E$1,$W65,0),\"\")","v":""},{"$f":"IF($T65,OFFSET(DetailListPending!F$1,$W65,0),\"\")","v":""},{"$f":"IF($T65,OFFSET(DetailListPending!B$1,$W65,0),\"\")","v":""},null,"","","",null,{"$f":"IF($T65,OFFSET(DetailListPending!J$1,$W65,0),\"\")","v":""},{"$f":"IF($T65,OFFSET(DetailListPending!K$1,$W65,0),\"\")","v":""},{"$f":"IF($T65,OFFSET(DetailListPending!AU$1,$W65,0),\"\")","v":""},{"$f":"IF($T65,OFFSET(DetailListPending!AS$1,$W65,0),\"\")","v":""},null,{"$f":"IF($T65,OFFSET(DetailListPending!P$1,$W65,0),\"\")","v":""},{"$f":"IF($T65,OFFSET(DetailListPending!Q$1,$W65,0),\"\")","v":""},{"$f":"IF($T65,OFFSET(DetailListPending!R$1,$W65,0),\"\")","v":""},null,false,64,{"$f":"IF($T65,OFFSET(DetailListPending!A$1,$W65,0),\"\")","v":""},{"$f":"MATCH(U65,DetailListPending!BG:BG,0)-1","v":{"$error":"#N/A"}}]
[null,{"$f":"IF($T66,OFFSET(DetailListPending!C$1,$W66,0),\"\")","v":""},{"$f":"IF($T66,OFFSET(DetailListPending!E$1,$W66,0),\"\")","v":""},{"$f":"IF($T66,OFFSET(DetailListPending!F$1,$W66,0),\"\")","v":""},{"$f":"IF($T66,OFFSET(DetailListPending!B$1,$W66,0),\"\")","v":""},null,"","","",null,{"$f":"IF($T66,OFFSET(DetailListPending!J$1,$W66,0),\"\")","v":""},{"$f":"IF($T66,OFFSET(DetailListPending!K$1,$W66,0),\"\")","v":""},{"$f":"IF($T66,OFFSET(DetailListPending!AU$1,$W66,0),\"\")","v":""},{"$f":"IF($T66,OFFSET(DetailListPending!AS$1,$W66,0),\"\")","v":""},null,{"$f":"IF($T66,OFFSET(DetailListPending!P$1,$W66,0),\"\")","v":""},{"$f":"IF($T66,OFFSET(DetailListPending!Q$1,$W66,0),\"\")","v":""},{"$f":"IF($T66,OFFSET(DetailListPending!R$1,$W66,0),\"\")","v":""},null,{"$f":"U66<=Y$1","v":false},65,{"$f":"IF($T66,OFFSET(DetailListPending!A$1,$W66,0),\"\")","v":""},{"$f":"MATCH(U66,DetailListPending!BG:BG,0)-1","v":{"$error":"#N/A"}}]
[null,{"$f":"IF($T67,OFFSET(DetailListPending!C$1,$W67,0),\"\")","v":""},{"$f":"IF($T67,OFFSET(DetailListPending!E$1,$W67,0),\"\")","v":""},{"$f":"IF($T67,OFFSET(DetailListPending!F$1,$W67,0),\"\")","v":""},{"$f":"IF($T67,OFFSET(DetailListPending!B$1,$W67,0),\"\")","v":""},null,{"$f":"IF(AND($T67,$V67=\"C\"),HYPERLINK(\"#DetailListALBs!A\"&W67+1,\"Details\"),\"\")","v":""},{"$f":"IF(AND($T67,$V67=\"C\",NOT(P67=0)),HYPERLINK(P67,\"Collection\"),\"\")","v":""},{"$f":"IF(AND($T67,$V67=\"C\",NOT(Q67=0)),HYPERLINK(Q67,\"Data\"),\"\")","v":""},null,{"$f":"IF($T67,OFFSET(DetailListPending!J$1,$W67,0),\"\")","v":""},{"$f":"IF($T67,OFFSET(DetailListPending!K$1,$W67,0),\"\")","v":""},{"$f":"IF($T67,OFFSET(DetailListPending!AU$1,$W67,0),\"\")","v":""},{"$f":"IF($T67,OFFSET(DetailListPending!AS$1,$W67,0),\"\")","v":""},null,{"$f":"IF($T67,OFFSET(DetailListPending!P$1,$W67,0),\"\")","v":""},{"$f":"IF($T67,OFFSET(DetailListPending!Q$1,$W67,0),\"\")","v":""},{"$f":"IF($T67,OFFSET(DetailListPending!R$1,$W67,0),\"\")","v":""},null,false,66,{"$f":"IF($T67,OFFSET(DetailListPending!A$1,$W67,0),\"\")","v":""},{"$f":"MATCH(U67,DetailListPending!BG:BG,0)-1","v":{"$error":"#N/A"}}]
[null,{"$f":"IF($T68,OFFSET(DetailListPending!C$1,$W68,0),\"\")","v":""},{"$f":"IF($T68,OFFSET(DetailListPending!E$1,$W68,0),\"\")","v":""},{"$f":"IF($T68,OFFSET(DetailListPending!F$1,$W68,0),\"\")","v":""},{"$f":"IF($T68,OFFSET(DetailListPending!B$1,$W68,0),\"\")","v":""},null,"","","",null,{"$f":"IF($T68,OFFSET(DetailListPending!J$1,$W68,0),\"\")","v":""},{"$f":"IF($T68,OFFSET(DetailListPending!K$1,$W68,0),\"\")","v":""},{"$f":"IF($T68,OFFSET(DetailListPending!AU$1,$W68,0),\"\")","v":""},{"$f":"IF($T68,OFFSET(DetailListPending!AS$1,$W68,0),\"\")","v":""},null,{"$f":"IF($T68,OFFSET(DetailListPending!P$1,$W68,0),\"\")","v":""},{"$f":"IF($T68,OFFSET(DetailListPending!Q$1,$W68,0),\"\")","v":""},{"$f":"IF($T68,OFFSET(DetailListPending!R$1,$W68,0),\"\")","v":""},null,false,67,{"$f":"IF($T68,OFFSET(DetailListPending!A$1,$W68,0),\"\")","v":""},{"$f":"MATCH(U68,DetailListPending!BG:BG,0)-1","v":{"$error":"#N/A"}}]
[null,{"$f":"IF($T69,OFFSET(DetailListPending!C$1,$W69,0),\"\")","v":""},{"$f":"IF($T69,OFFSET(DetailListPending!E$1,$W69,0),\"\")","v":""},{"$f":"IF($T69,OFFSET(DetailListPending!F$1,$W69,0),\"\")","v":""},{"$f":"IF($T69,OFFSET(DetailListPending!B$1,$W69,0),\"\")","v":""},null,"","","",null,{"$f":"IF($T69,OFFSET(DetailListPending!J$1,$W69,0),\"\")","v":""},{"$f":"IF($T69,OFFSET(DetailListPending!K$1,$W69,0),\"\")","v":""},{"$f":"IF($T69,OFFSET(DetailListPending!AU$1,$W69,0),\"\")","v":""},{"$f":"IF($T69,OFFSET(DetailListPending!AS$1,$W69,0),\"\")","v":""},null,{"$f":"IF($T69,OFFSET(DetailListPending!P$1,$W69,0),\"\")","v":""},{"$f":"IF($T69,OFFSET(DetailListPending!Q$1,$W69,0),\"\")","v":""},{"$f":"IF($T69,OFFSET(DetailListPending!R$1,$W69,0),\"\")","v":""},null,false,68,{"$f":"IF($T69,OFFSET(DetailListPending!A$1,$W69,0),\"\")","v":""},{"$f":"MATCH(U69,DetailListPending!BG:BG,0)-1","v":{"$error":"#N/A"}}]
[null,{"$f":"IF($T70,OFFSET(DetailListPending!C$1,$W70,0),\"\")","v":""},{"$f":"IF($T70,OFFSET(DetailListPending!E$1,$W70,0),\"\")","v":""},{"$f":"IF($T70,OFFSET(DetailListPending!F$1,$W70,0),\"\")","v":""},{"$f":"IF($T70,OFFSET(DetailListPending!B$1,$W70,0),\"\")","v":""},null,"","","",null,{"$f":"IF($T70,OFFSET(DetailListPending!J$1,$W70,0),\"\")","v":""},{"$f":"IF($T70,OFFSET(DetailListPending!K$1,$W70,0),\"\")","v":""},{"$f":"IF($T70,OFFSET(DetailListPending!AU$1,$W70,0),\"\")","v":""},{"$f":"IF($T70,OFFSET(DetailListPending!AS$1,$W70,0),\"\")","v":""},null,{"$f":"IF($T70,OFFSET(DetailListPending!P$1,$W70,0),\"\")","v":""},{"$f":"IF($T70,OFFSET(DetailListPending!Q$1,$W70,0),\"\")","v":""},{"$f":"IF($T70,OFFSET(DetailListPending!R$1,$W70,0),\"\")","v":""},null,false,69,{"$f":"IF($T70,OFFSET(DetailListPending!A$1,$W70,0),\"\")","v":""},{"$f":"MATCH(U70,DetailListPending!BG:BG,0)-1","v":{"$error":"#N/A"}}]
[null,{"$f":"IF($T71,OFFSET(DetailListPending!C$1,$W71,0),\"\")","v":""},{"$f":"IF($T71,OFFSET(DetailListPending!E$1,$W71,0),\"\")","v":""},{"$f":"IF($T71,OFFSET(DetailListPending!F$1,$W71,0),\"\")","v":""},{"$f":"IF($T71,OFFSET(DetailListPending!B$1,$W71,0),\"\")","v":""},null,"","","",null,{"$f":"IF($T71,OFFSET(DetailListPending!J$1,$W71,0),\"\")","v":""},{"$f":"IF($T71,OFFSET(DetailListPending!K$1,$W71,0),\"\")","v":""},{"$f":"IF($T71,OFFSET(DetailListPending!AU$1,$W71,0),\"\")","v":""},{"$f":"IF($T71,OFFSET(DetailListPending!AS$1,$W71,0),\"\")","v":""},null,{"$f":"IF($T71,OFFSET(DetailListPending!P$1,$W71,0),\"\")","v":""},{"$f":"IF($T71,OFFSET(DetailListPending!Q$1,$W71,0),\"\")","v":""},{"$f":"IF($T71,OFFSET(DetailListPending!R$1,$W71,0),\"\")","v":""},null,false,70,{"$f":"IF($T71,OFFSET(DetailListPending!A$1,$W71,0),\"\")","v":""},{"$f":"MATCH(U71,DetailListPending!BG:BG,0)-1","v":{"$error":"#N/A"}}]
[null,{"$f":"IF($T72,OFFSET(DetailListPending!C$1,$W72,0),\"\")","v":""},{"$f":"IF($T72,OFFSET(DetailListPending!E$1,$W72,0),\"\")","v":""},{"$f":"IF($T72,OFFSET(DetailListPending!F$1,$W72,0),\"\")","v":""},{"$f":"IF($T72,OFFSET(DetailListPending!B$1,$W72,0),\"\")","v":""},null,"","","",null,{"$f":"IF($T72,OFFSET(DetailListPending!J$1,$W72,0),\"\")","v":""},{"$f":"IF($T72,OFFSET(DetailListPending!K$1,$W72,0),\"\")","v":""},{"$f":"IF($T72,OFFSET(DetailListPending!AU$1,$W72,0),\"\")","v":""},{"$f":"IF($T72,OFFSET(DetailListPending!AS$1,$W72,0),\"\")","v":""},null,{"$f":"IF($T72,OFFSET(DetailListPending!P$1,$W72,0),\"\")","v":""},{"$f":"IF($T72,OFFSET(DetailListPending!Q$1,$W72,0),\"\")","v":""},{"$f":"IF($T72,OFFSET(DetailListPending!R$1,$W72,0),\"\")","v":""},null,false,71,{"$f":"IF($T72,OFFSET(DetailListPending!A$1,$W72,0),\"\")","v":""},{"$f":"MATCH(U72,DetailListPending!BG:BG,0)-1","v":{"$error":"#N/A"}}]
[null,{"$f":"IF($T73,OFFSET(DetailListPending!C$1,$W73,0),\"\")","v":""},{"$f":"IF($T73,OFFSET(DetailListPending!E$1,$W73,0),\"\")","v":""},{"$f":"IF($T73,OFFSET(DetailListPending!F$1,$W73,0),\"\")","v":""},{"$f":"IF($T73,OFFSET(DetailListPending!B$1,$W73,0),\"\")","v":""},null,"","","",null,{"$f":"IF($T73,OFFSET(DetailListPending!J$1,$W73,0),\"\")","v":""},{"$f":"IF($T73,OFFSET(DetailListPending!K$1,$W73,0),\"\")","v":""},{"$f":"IF($T73,OFFSET(DetailListPending!AU$1,$W73,0),\"\")","v":""},{"$f":"IF($T73,OFFSET(DetailListPending!AS$1,$W73,0),\"\")","v":""},null,{"$f":"IF($T73,OFFSET(DetailListPending!P$1,$W73,0),\"\")","v":""},{"$f":"IF($T73,OFFSET(DetailListPending!Q$1,$W73,0),\"\")","v":""},{"$f":"IF($T73,OFFSET(DetailListPending!R$1,$W73,0),\"\")","v":""},null,false,72,{"$f":"IF($T73,OFFSET(DetailListPending!A$1,$W73,0),\"\")","v":""},{"$f":"MATCH(U73,DetailListPending!BG:BG,0)-1","v":{"$error":"#N/A"}}]
[null,{"$f":"IF($T74,OFFSET(DetailListPending!C$1,$W74,0),\"\")","v":""},{"$f":"IF($T74,OFFSET(DetailListPending!E$1,$W74,0),\"\")","v":""},{"$f":"IF($T74,OFFSET(DetailListPending!F$1,$W74,0),\"\")","v":""},{"$f":"IF($T74,OFFSET(DetailListPending!B$1,$W74,0),\"\")","v":""},null,"","","",null,{"$f":"IF($T74,OFFSET(DetailListPending!J$1,$W74,0),\"\")","v":""},{"$f":"IF($T74,OFFSET(DetailListPending!K$1,$W74,0),\"\")","v":""},{"$f":"IF($T74,OFFSET(DetailListPending!AU$1,$W74,0),\"\")","v":""},{"$f":"IF($T74,OFFSET(DetailListPending!AS$1,$W74,0),\"\")","v":""},null,{"$f":"IF($T74,OFFSET(DetailListPending!P$1,$W74,0),\"\")","v":""},{"$f":"IF($T74,OFFSET(DetailListPending!Q$1,$W74,0),\"\")","v":""},{"$f":"IF($T74,OFFSET(DetailListPending!R$1,$W74,0),\"\")","v":""},null,false,73,{"$f":"IF($T74,OFFSET(DetailListPending!A$1,$W74,0),\"\")","v":""},{"$f":"MATCH(U74,DetailListPending!BG:BG,0)-1","v":{"$error":"#N/A"}}]
[null,{"$f":"IF($T75,OFFSET(DetailListPending!C$1,$W75,0),\"\")","v":""},{"$f":"IF($T75,OFFSET(DetailListPending!E$1,$W75,0),\"\")","v":""},{"$f":"IF($T75,OFFSET(DetailListPending!F$1,$W75,0),\"\")","v":""},{"$f":"IF($T75,OFFSET(DetailListPending!B$1,$W75,0),\"\")","v":""},null,"","","",null,{"$f":"IF($T75,OFFSET(DetailListPending!J$1,$W75,0),\"\")","v":""},{"$f":"IF($T75,OFFSET(DetailListPending!K$1,$W75,0),\"\")","v":""},{"$f":"IF($T75,OFFSET(DetailListPending!AU$1,$W75,0),\"\")","v":""},{"$f":"IF($T75,OFFSET(DetailListPending!AS$1,$W75,0),\"\")","v":""},null,{"$f":"IF($T75,OFFSET(DetailListPending!P$1,$W75,0),\"\")","v":""},{"$f":"IF($T75,OFFSET(DetailListPending!Q$1,$W75,0),\"\")","v":""},{"$f":"IF($T75,OFFSET(DetailListPending!R$1,$W75,0),\"\")","v":""},null,false,74,{"$f":"IF($T75,OFFSET(DetailListPending!A$1,$W75,0),\"\")","v":""},{"$f":"MATCH(U75,DetailListPending!BG:BG,0)-1","v":{"$error":"#N/A"}}]
[null,{"$f":"IF($T76,OFFSET(DetailListPending!C$1,$W76,0),\"\")","v":""},{"$f":"IF($T76,OFFSET(DetailListPending!E$1,$W76,0),\"\")","v":""},{"$f":"IF($T76,OFFSET(DetailListPending!F$1,$W76,0),\"\")","v":""},{"$f":"IF($T76,OFFSET(DetailListPending!B$1,$W76,0),\"\")","v":""},null,"","","",null,{"$f":"IF($T76,OFFSET(DetailListPending!J$1,$W76,0),\"\")","v":""},{"$f":"IF($T76,OFFSET(DetailListPending!K$1,$W76,0),\"\")","v":""},{"$f":"IF($T76,OFFSET(DetailListPending!AU$1,$W76,0),\"\")","v":""},{"$f":"IF($T76,OFFSET(DetailListPending!AS$1,$W76,0),\"\")","v":""},null,{"$f":"IF($T76,OFFSET(DetailListPending!P$1,$W76,0),\"\")","v":""},{"$f":"IF($T76,OFFSET(DetailListPending!Q$1,$W76,0),\"\")","v":""},{"$f":"IF($T76,OFFSET(DetailListPending!R$1,$W76,0),\"\")","v":""},null,false,75,{"$f":"IF($T76,OFFSET(DetailListPending!A$1,$W76,0),\"\")","v":""},{"$f":"MATCH(U76,DetailListPending!BG:BG,0)-1","v":{"$error":"#N/A"}}]
[null,{"$f":"IF($T77,OFFSET(DetailListPending!C$1,$W77,0),\"\")","v":""},{"$f":"IF($T77,OFFSET(DetailListPending!E$1,$W77,0),\"\")","v":""},{"$f":"IF($T77,OFFSET(DetailListPending!F$1,$W77,0),\"\")","v":""},{"$f":"IF($T77,OFFSET(DetailListPending!B$1,$W77,0),\"\")","v":""},null,"","","",null,{"$f":"IF($T77,OFFSET(DetailListPending!J$1,$W77,0),\"\")","v":""},{"$f":"IF($T77,OFFSET(DetailListPending!K$1,$W77,0),\"\")","v":""},{"$f":"IF($T77,OFFSET(DetailListPending!AU$1,$W77,0),\"\")","v":""},{"$f":"IF($T77,OFFSET(DetailListPending!AS$1,$W77,0),\"\")","v":""},null,{"$f":"IF($T77,OFFSET(DetailListPending!P$1,$W77,0),\"\")","v":""},{"$f":"IF($T77,OFFSET(DetailListPending!Q$1,$W77,0),\"\")","v":""},{"$f":"IF($T77,OFFSET(DetailListPending!R$1,$W77,0),\"\")","v":""},null,false,76,{"$f":"IF($T77,OFFSET(DetailListPending!A$1,$W77,0),\"\")","v":""},{"$f":"MATCH(U77,DetailListPending!BG:BG,0)-1","v":{"$error":"#N/A"}}]
[null,{"$f":"IF($T78,OFFSET(DetailListPending!C$1,$W78,0),\"\")","v":""},{"$f":"IF($T78,OFFSET(DetailListPending!E$1,$W78,0),\"\")","v":""},{"$f":"IF($T78,OFFSET(DetailListPending!F$1,$W78,0),\"\")","v":""},{"$f":"IF($T78,OFFSET(DetailListPending!B$1,$W78,0),\"\")","v":""},null,"","","",null,{"$f":"IF($T78,OFFSET(DetailListPending!J$1,$W78,0),\"\")","v":""},{"$f":"IF($T78,OFFSET(DetailListPending!K$1,$W78,0),\"\")","v":""},{"$f":"IF($T78,OFFSET(DetailListPending!AU$1,$W78,0),\"\")","v":""},{"$f":"IF($T78,OFFSET(DetailListPending!AS$1,$W78,0),\"\")","v":""},null,{"$f":"IF($T78,OFFSET(DetailListPending!P$1,$W78,0),\"\")","v":""},{"$f":"IF($T78,OFFSET(DetailListPending!Q$1,$W78,0),\"\")","v":""},{"$f":"IF($T78,OFFSET(DetailListPending!R$1,$W78,0),\"\")","v":""},null,false,77,{"$f":"IF($T78,OFFSET(DetailListPending!A$1,$W78,0),\"\")","v":""},{"$f":"MATCH(U78,DetailListPending!BG:BG,0)-1","v":{"$error":"#N/A"}}]
[null,{"$f":"IF($T79,OFFSET(DetailListPending!C$1,$W79,0),\"\")","v":""},{"$f":"IF($T79,OFFSET(DetailListPending!E$1,$W79,0),\"\")","v":""},{"$f":"IF($T79,OFFSET(DetailListPending!F$1,$W79,0),\"\")","v":""},{"$f":"IF($T79,OFFSET(DetailListPending!B$1,$W79,0),\"\")","v":""},null,"","","",null,{"$f":"IF($T79,OFFSET(DetailListPending!J$1,$W79,0),\"\")","v":""},{"$f":"IF($T79,OFFSET(DetailListPending!K$1,$W79,0),\"\")","v":""},{"$f":"IF($T79,OFFSET(DetailListPending!AU$1,$W79,0),\"\")","v":""},{"$f":"IF($T79,OFFSET(DetailListPending!AS$1,$W79,0),\"\")","v":""},null,{"$f":"IF($T79,OFFSET(DetailListPending!P$1,$W79,0),\"\")","v":""},{"$f":"IF($T79,OFFSET(DetailListPending!Q$1,$W79,0),\"\")","v":""},{"$f":"IF($T79,OFFSET(DetailListPending!R$1,$W79,0),\"\")","v":""},null,false,78,{"$f":"IF($T79,OFFSET(DetailListPending!A$1,$W79,0),\"\")","v":""},{"$f":"MATCH(U79,DetailListPending!BG:BG,0)-1","v":{"$error":"#N/A"}}]
[null,{"$f":"IF($T80,OFFSET(DetailListPending!C$1,$W80,0),\"\")","v":""},{"$f":"IF($T80,OFFSET(DetailListPending!E$1,$W80,0),\"\")","v":""},{"$f":"IF($T80,OFFSET(DetailListPending!F$1,$W80,0),\"\")","v":""},{"$f":"IF($T80,OFFSET(DetailListPending!B$1,$W80,0),\"\")","v":""},null,"","","",null,{"$f":"IF($T80,OFFSET(DetailListPending!J$1,$W80,0),\"\")","v":""},{"$f":"IF($T80,OFFSET(DetailListPending!K$1,$W80,0),\"\")","v":""},{"$f":"IF($T80,OFFSET(DetailListPending!AU$1,$W80,0),\"\")","v":""},{"$f":"IF($T80,OFFSET(DetailListPending!AS$1,$W80,0),\"\")","v":""},null,{"$f":"IF($T80,OFFSET(DetailListPending!P$1,$W80,0),\"\")","v":""},{"$f":"IF($T80,OFFSET(DetailListPending!Q$1,$W80,0),\"\")","v":""},{"$f":"IF($T80,OFFSET(DetailListPending!R$1,$W80,0),\"\")","v":""},null,false,79,{"$f":"IF($T80,OFFSET(DetailListPending!A$1,$W80,0),\"\")","v":""},{"$f":"MATCH(U80,DetailListPending!BG:BG,0)-1","v":{"$error":"#N/A"}}]
[null,{"$f":"IF($T81,OFFSET(DetailListPending!C$1,$W81,0),\"\")","v":""},{"$f":"IF($T81,OFFSET(DetailListPending!E$1,$W81,0),\"\")","v":""},{"$f":"IF($T81,OFFSET(DetailListPending!F$1,$W81,0),\"\")","v":""},{"$f":"IF($T81,OFFSET(DetailListPending!B$1,$W81,0),\"\")","v":""},null,"","","",null,{"$f":"IF($T81,OFFSET(DetailListPending!J$1,$W81,0),\"\")","v":""},{"$f":"IF($T81,OFFSET(DetailListPending!K$1,$W81,0),\"\")","v":""},{"$f":"IF($T81,OFFSET(DetailListPending!AU$1,$W81,0),\"\")","v":""},{"$f":"IF($T81,OFFSET(DetailListPending!AS$1,$W81,0),\"\")","v":""},null,{"$f":"IF($T81,OFFSET(DetailListPending!P$1,$W81,0),\"\")","v":""},{"$f":"IF($T81,OFFSET(DetailListPending!Q$1,$W81,0),\"\")","v":""},{"$f":"IF($T81,OFFSET(DetailListPending!R$1,$W81,0),\"\")","v":""},null,false,80,{"$f":"IF($T81,OFFSET(DetailListPending!A$1,$W81,0),\"\")","v":""},{"$f":"MATCH(U81,DetailListPending!BG:BG,0)-1","v":{"$error":"#N/A"}}]
[null,{"$f":"IF($T82,OFFSET(DetailListPending!C$1,$W82,0),\"\")","v":""},{"$f":"IF($T82,OFFSET(DetailListPending!E$1,$W82,0),\"\")","v":""},{"$f":"IF($T82,OFFSET(DetailListPending!F$1,$W82,0),\"\")","v":""},{"$f":"IF($T82,OFFSET(DetailListPending!B$1,$W82,0),\"\")","v":""},null,"","","",null,{"$f":"IF($T82,OFFSET(DetailListPending!J$1,$W82,0),\"\")","v":""},{"$f":"IF($T82,OFFSET(DetailListPending!K$1,$W82,0),\"\")","v":""},{"$f":"IF($T82,OFFSET(DetailListPending!AU$1,$W82,0),\"\")","v":""},{"$f":"IF($T82,OFFSET(DetailListPending!AS$1,$W82,0),\"\")","v":""},null,{"$f":"IF($T82,OFFSET(DetailListPending!P$1,$W82,0),\"\")","v":""},{"$f":"IF($T82,OFFSET(DetailListPending!Q$1,$W82,0),\"\")","v":""},{"$f":"IF($T82,OFFSET(DetailListPending!R$1,$W82,0),\"\")","v":""},null,false,81,{"$f":"IF($T82,OFFSET(DetailListPending!A$1,$W82,0),\"\")","v":""},{"$f":"MATCH(U82,DetailListPending!BG:BG,0)-1","v":{"$error":"#N/A"}}]
[null,{"$f":"IF($T83,OFFSET(DetailListPending!C$1,$W83,0),\"\")","v":""},{"$f":"IF($T83,OFFSET(DetailListPending!E$1,$W83,0),\"\")","v":""},{"$f":"IF($T83,OFFSET(DetailListPending!F$1,$W83,0),\"\")","v":""},{"$f":"IF($T83,OFFSET(DetailListPending!B$1,$W83,0),\"\")","v":""},null,"","","",null,{"$f":"IF($T83,OFFSET(DetailListPending!J$1,$W83,0),\"\")","v":""},{"$f":"IF($T83,OFFSET(DetailListPending!K$1,$W83,0),\"\")","v":""},{"$f":"IF($T83,OFFSET(DetailListPending!AU$1,$W83,0),\"\")","v":""},{"$f":"IF($T83,OFFSET(DetailListPending!AS$1,$W83,0),\"\")","v":""},null,{"$f":"IF($T83,OFFSET(DetailListPending!P$1,$W83,0),\"\")","v":""},{"$f":"IF($T83,OFFSET(DetailListPending!Q$1,$W83,0),\"\")","v":""},{"$f":"IF($T83,OFFSET(DetailListPending!R$1,$W83,0),\"\")","v":""},null,false,82,{"$f":"IF($T83,OFFSET(DetailListPending!A$1,$W83,0),\"\")","v":""},{"$f":"MATCH(U83,DetailListPending!BG:BG,0)-1","v":{"$error":"#N/A"}}]
[null,{"$f":"IF($T84,OFFSET(DetailListPending!C$1,$W84,0),\"\")","v":""},{"$f":"IF($T84,OFFSET(DetailListPending!E$1,$W84,0),\"\")","v":""},{"$f":"IF($T84,OFFSET(DetailListPending!F$1,$W84,0),\"\")","v":""},{"$f":"IF($T84,OFFSET(DetailListPending!B$1,$W84,0),\"\")","v":""},null,"","","",null,{"$f":"IF($T84,OFFSET(DetailListPending!J$1,$W84,0),\"\")","v":""},{"$f":"IF($T84,OFFSET(DetailListPending!K$1,$W84,0),\"\")","v":""},{"$f":"IF($T84,OFFSET(DetailListPending!AU$1,$W84,0),\"\")","v":""},{"$f":"IF($T84,OFFSET(DetailListPending!AS$1,$W84,0),\"\")","v":""},null,{"$f":"IF($T84,OFFSET(DetailListPending!P$1,$W84,0),\"\")","v":""},{"$f":"IF($T84,OFFSET(DetailListPending!Q$1,$W84,0),\"\")","v":""},{"$f":"IF($T84,OFFSET(DetailListPending!R$1,$W84,0),\"\")","v":""},null,false,83,{"$f":"IF($T84,OFFSET(DetailListPending!A$1,$W84,0),\"\")","v":""},{"$f":"MATCH(U84,DetailListPending!BG:BG,0)-1","v":{"$error":"#N/A"}}]
[null,{"$f":"IF($T85,OFFSET(DetailListPending!C$1,$W85,0),\"\")","v":""},{"$f":"IF($T85,OFFSET(DetailListPending!E$1,$W85,0),\"\")","v":""},{"$f":"IF($T85,OFFSET(DetailListPending!F$1,$W85,0),\"\")","v":""},{"$f":"IF($T85,OFFSET(DetailListPending!B$1,$W85,0),\"\")","v":""},null,"","","",null,{"$f":"IF($T85,OFFSET(DetailListPending!J$1,$W85,0),\"\")","v":""},{"$f":"IF($T85,OFFSET(DetailListPending!K$1,$W85,0),\"\")","v":""},{"$f":"IF($T85,OFFSET(DetailListPending!AU$1,$W85,0),\"\")","v":""},{"$f":"IF($T85,OFFSET(DetailListPending!AS$1,$W85,0),\"\")","v":""},null,{"$f":"IF($T85,OFFSET(DetailListPending!P$1,$W85,0),\"\")","v":""},{"$f":"IF($T85,OFFSET(DetailListPending!Q$1,$W85,0),\"\")","v":""},{"$f":"IF($T85,OFFSET(DetailListPending!R$1,$W85,0),\"\")","v":""},null,false,84,{"$f":"IF($T85,OFFSET(DetailListPending!A$1,$W85,0),\"\")","v":""},{"$f":"MATCH(U85,DetailListPending!BG:BG,0)-1","v":{"$error":"#N/A"}}]
[null,{"$f":"IF($T86,OFFSET(DetailListPending!C$1,$W86,0),\"\")","v":""},{"$f":"IF($T86,OFFSET(DetailListPending!E$1,$W86,0),\"\")","v":""},{"$f":"IF($T86,OFFSET(DetailListPending!F$1,$W86,0),\"\")","v":""},{"$f":"IF($T86,OFFSET(DetailListPending!B$1,$W86,0),\"\")","v":""},null,"","","",null,{"$f":"IF($T86,OFFSET(DetailListPending!J$1,$W86,0),\"\")","v":""},{"$f":"IF($T86,OFFSET(DetailListPending!K$1,$W86,0),\"\")","v":""},{"$f":"IF($T86,OFFSET(DetailListPending!AU$1,$W86,0),\"\")","v":""},{"$f":"IF($T86,OFFSET(DetailListPending!AS$1,$W86,0),\"\")","v":""},null,{"$f":"IF($T86,OFFSET(DetailListPending!P$1,$W86,0),\"\")","v":""},{"$f":"IF($T86,OFFSET(DetailListPending!Q$1,$W86,0),\"\")","v":""},{"$f":"IF($T86,OFFSET(DetailListPending!R$1,$W86,0),\"\")","v":""},null,false,85,{"$f":"IF($T86,OFFSET(DetailListPending!A$1,$W86,0),\"\")","v":""},{"$f":"MATCH(U86,DetailListPending!BG:BG,0)-1","v":{"$error":"#N/A"}}]
[null,{"$f":"IF($T87,OFFSET(DetailListPending!C$1,$W87,0),\"\")","v":""},{"$f":"IF($T87,OFFSET(DetailListPending!E$1,$W87,0),\"\")","v":""},{"$f":"IF($T87,OFFSET(DetailListPending!F$1,$W87,0),\"\")","v":""},{"$f":"IF($T87,OFFSET(DetailListPending!B$1,$W87,0),\"\")","v":""},null,"","","",null,{"$f":"IF($T87,OFFSET(DetailListPending!J$1,$W87,0),\"\")","v":""},{"$f":"IF($T87,OFFSET(DetailListPending!K$1,$W87,0),\"\")","v":""},{"$f":"IF($T87,OFFSET(DetailListPending!AU$1,$W87,0),\"\")","v":""},{"$f":"IF($T87,OFFSET(DetailListPending!AS$1,$W87,0),\"\")","v":""},null,{"$f":"IF($T87,OFFSET(DetailListPending!P$1,$W87,0),\"\")","v":""},{"$f":"IF($T87,OFFSET(DetailListPending!Q$1,$W87,0),\"\")","v":""},{"$f":"IF($T87,OFFSET(DetailListPending!R$1,$W87,0),\"\")","v":""},null,false,86,{"$f":"IF($T87,OFFSET(DetailListPending!A$1,$W87,0),\"\")","v":""},{"$f":"MATCH(U87,DetailListPending!BG:BG,0)-1","v":{"$error":"#N/A"}}]
[null,{"$f":"IF($T88,OFFSET(DetailListPending!C$1,$W88,0),\"\")","v":""},{"$f":"IF($T88,OFFSET(DetailListPending!E$1,$W88,0),\"\")","v":""},{"$f":"IF($T88,OFFSET(DetailListPending!F$1,$W88,0),\"\")","v":""},{"$f":"IF($T88,OFFSET(DetailListPending!B$1,$W88,0),\"\")","v":""},null,"","","",null,{"$f":"IF($T88,OFFSET(DetailListPending!J$1,$W88,0),\"\")","v":""},{"$f":"IF($T88,OFFSET(DetailListPending!K$1,$W88,0),\"\")","v":""},{"$f":"IF($T88,OFFSET(DetailListPending!AU$1,$W88,0),\"\")","v":""},{"$f":"IF($T88,OFFSET(DetailListPending!AS$1,$W88,0),\"\")","v":""},null,{"$f":"IF($T88,OFFSET(DetailListPending!P$1,$W88,0),\"\")","v":""},{"$f":"IF($T88,OFFSET(DetailListPending!Q$1,$W88,0),\"\")","v":""},{"$f":"IF($T88,OFFSET(DetailListPending!R$1,$W88,0),\"\")","v":""},null,false,87,{"$f":"IF($T88,OFFSET(DetailListPending!A$1,$W88,0),\"\")","v":""},{"$f":"MATCH(U88,DetailListPending!BG:BG,0)-1","v":{"$error":"#N/A"}}]
[null,{"$f":"IF($T89,OFFSET(DetailListPending!C$1,$W89,0),\"\")","v":""},{"$f":"IF($T89,OFFSET(DetailListPending!E$1,$W89,0),\"\")","v":""},{"$f":"IF($T89,OFFSET(DetailListPending!F$1,$W89,0),\"\")","v":""},{"$f":"IF($T89,OFFSET(DetailListPending!B$1,$W89,0),\"\")","v":""},null,"","","",null,{"$f":"IF($T89,OFFSET(DetailListPending!J$1,$W89,0),\"\")","v":""},{"$f":"IF($T89,OFFSET(DetailListPending!K$1,$W89,0),\"\")","v":""},{"$f":"IF($T89,OFFSET(DetailListPending!AU$1,$W89,0),\"\")","v":""},{"$f":"IF($T89,OFFSET(DetailListPending!AS$1,$W89,0),\"\")","v":""},null,{"$f":"IF($T89,OFFSET(DetailListPending!P$1,$W89,0),\"\")","v":""},{"$f":"IF($T89,OFFSET(DetailListPending!Q$1,$W89,0),\"\")","v":""},{"$f":"IF($T89,OFFSET(DetailListPending!R$1,$W89,0),\"\")","v":""},null,false,88,{"$f":"IF($T89,OFFSET(DetailListPending!A$1,$W89,0),\"\")","v":""},{"$f":"MATCH(U89,DetailListPending!BG:BG,0)-1","v":{"$error":"#N/A"}}]
[null,{"$f":"IF($T90,OFFSET(DetailListPending!C$1,$W90,0),\"\")","v":""},{"$f":"IF($T90,OFFSET(DetailListPending!E$1,$W90,0),\"\")","v":""},{"$f":"IF($T90,OFFSET(DetailListPending!F$1,$W90,0),\"\")","v":""},{"$f":"IF($T90,OFFSET(DetailListPending!B$1,$W90,0),\"\")","v":""},null,"","","",null,{"$f":"IF($T90,OFFSET(DetailListPending!J$1,$W90,0),\"\")","v":""},{"$f":"IF($T90,OFFSET(DetailListPending!K$1,$W90,0),\"\")","v":""},{"$f":"IF($T90,OFFSET(DetailListPending!AU$1,$W90,0),\"\")","v":""},{"$f":"IF($T90,OFFSET(DetailListPending!AS$1,$W90,0),\"\")","v":""},null,{"$f":"IF($T90,OFFSET(DetailListPending!P$1,$W90,0),\"\")","v":""},{"$f":"IF($T90,OFFSET(DetailListPending!Q$1,$W90,0),\"\")","v":""},{"$f":"IF($T90,OFFSET(DetailListPending!R$1,$W90,0),\"\")","v":""},null,false,89,{"$f":"IF($T90,OFFSET(DetailListPending!A$1,$W90,0),\"\")","v":""},{"$f":"MATCH(U90,DetailListPending!BG:BG,0)-1","v":{"$error":"#N/A"}}]
[null,{"$f":"IF($T91,OFFSET(DetailListPending!C$1,$W91,0),\"\")","v":""},{"$f":"IF($T91,OFFSET(DetailListPending!E$1,$W91,0),\"\")","v":""},{"$f":"IF($T91,OFFSET(DetailListPending!F$1,$W91,0),\"\")","v":""},{"$f":"IF($T91,OFFSET(DetailListPending!B$1,$W91,0),\"\")","v":""},null,"","","",null,{"$f":"IF($T91,OFFSET(DetailListPending!J$1,$W91,0),\"\")","v":""},{"$f":"IF($T91,OFFSET(DetailListPending!K$1,$W91,0),\"\")","v":""},{"$f":"IF($T91,OFFSET(DetailListPending!AU$1,$W91,0),\"\")","v":""},{"$f":"IF($T91,OFFSET(DetailListPending!AS$1,$W91,0),\"\")","v":""},null,{"$f":"IF($T91,OFFSET(DetailListPending!P$1,$W91,0),\"\")","v":""},{"$f":"IF($T91,OFFSET(DetailListPending!Q$1,$W91,0),\"\")","v":""},{"$f":"IF($T91,OFFSET(DetailListPending!R$1,$W91,0),\"\")","v":""},null,false,90,{"$f":"IF($T91,OFFSET(DetailListPending!A$1,$W91,0),\"\")","v":""},{"$f":"MATCH(U91,DetailListPending!BG:BG,0)-1","v":{"$error":"#N/A"}}]
[null,{"$f":"IF($T92,OFFSET(DetailListPending!C$1,$W92,0),\"\")","v":""},{"$f":"IF($T92,OFFSET(DetailListPending!E$1,$W92,0),\"\")","v":""},{"$f":"IF($T92,OFFSET(DetailListPending!F$1,$W92,0),\"\")","v":""},{"$f":"IF($T92,OFFSET(DetailListPending!B$1,$W92,0),\"\")","v":""},null,"","","",null,{"$f":"IF($T92,OFFSET(DetailListPending!J$1,$W92,0),\"\")","v":""},{"$f":"IF($T92,OFFSET(DetailListPending!K$1,$W92,0),\"\")","v":""},{"$f":"IF($T92,OFFSET(DetailListPending!AU$1,$W92,0),\"\")","v":""},{"$f":"IF($T92,OFFSET(DetailListPending!AS$1,$W92,0),\"\")","v":""},null,{"$f":"IF($T92,OFFSET(DetailListPending!P$1,$W92,0),\"\")","v":""},{"$f":"IF($T92,OFFSET(DetailListPending!Q$1,$W92,0),\"\")","v":""},{"$f":"IF($T92,OFFSET(DetailListPending!R$1,$W92,0),\"\")","v":""},null,false,91,{"$f":"IF($T92,OFFSET(DetailListPending!A$1,$W92,0),\"\")","v":""},{"$f":"MATCH(U92,DetailListPending!BG:BG,0)-1","v":{"$error":"#N/A"}}]
[null,{"$f":"IF($T93,OFFSET(DetailListPending!C$1,$W93,0),\"\")","v":""},{"$f":"IF($T93,OFFSET(DetailListPending!E$1,$W93,0),\"\")","v":""},{"$f":"IF($T93,OFFSET(DetailListPending!F$1,$W93,0),\"\")","v":""},{"$f":"IF($T93,OFFSET(DetailListPending!B$1,$W93,0),\"\")","v":""},null,"","","",null,{"$f":"IF($T93,OFFSET(DetailListPending!J$1,$W93,0),\"\")","v":""},{"$f":"IF($T93,OFFSET(DetailListPending!K$1,$W93,0),\"\")","v":""},{"$f":"IF($T93,OFFSET(DetailListPending!AU$1,$W93,0),\"\")","v":""},{"$f":"IF($T93,OFFSET(DetailListPending!AS$1,$W93,0),\"\")","v":""},null,{"$f":"IF($T93,OFFSET(DetailListPending!P$1,$W93,0),\"\")","v":""},{"$f":"IF($T93,OFFSET(DetailListPending!Q$1,$W93,0),\"\")","v":""},{"$f":"IF($T93,OFFSET(DetailListPending!R$1,$W93,0),\"\")","v":""},null,false,92,{"$f":"IF($T93,OFFSET(DetailListPending!A$1,$W93,0),\"\")","v":""},{"$f":"MATCH(U93,DetailListPending!BG:BG,0)-1","v":{"$error":"#N/A"}}]
[null,{"$f":"IF($T94,OFFSET(DetailListPending!C$1,$W94,0),\"\")","v":""},{"$f":"IF($T94,OFFSET(DetailListPending!E$1,$W94,0),\"\")","v":""},{"$f":"IF($T94,OFFSET(DetailListPending!F$1,$W94,0),\"\")","v":""},{"$f":"IF($T94,OFFSET(DetailListPending!B$1,$W94,0),\"\")","v":""},null,"","","",null,{"$f":"IF($T94,OFFSET(DetailListPending!J$1,$W94,0),\"\")","v":""},{"$f":"IF($T94,OFFSET(DetailListPending!K$1,$W94,0),\"\")","v":""},{"$f":"IF($T94,OFFSET(DetailListPending!AU$1,$W94,0),\"\")","v":""},{"$f":"IF($T94,OFFSET(DetailListPending!AS$1,$W94,0),\"\")","v":""},null,{"$f":"IF($T94,OFFSET(DetailListPending!P$1,$W94,0),\"\")","v":""},{"$f":"IF($T94,OFFSET(DetailListPending!Q$1,$W94,0),\"\")","v":""},{"$f":"IF($T94,OFFSET(DetailListPending!R$1,$W94,0),\"\")","v":""},null,false,93,{"$f":"IF($T94,OFFSET(DetailListPending!A$1,$W94,0),\"\")","v":""},{"$f":"MATCH(U94,DetailListPending!BG:BG,0)-1","v":{"$error":"#N/A"}}]
[null,{"$f":"IF($T95,OFFSET(DetailListPending!C$1,$W95,0),\"\")","v":""},{"$f":"IF($T95,OFFSET(DetailListPending!E$1,$W95,0),\"\")","v":""},{"$f":"IF($T95,OFFSET(DetailListPending!F$1,$W95,0),\"\")","v":""},{"$f":"IF($T95,OFFSET(DetailListPending!B$1,$W95,0),\"\")","v":""},null,"","","",null,{"$f":"IF($T95,OFFSET(DetailListPending!J$1,$W95,0),\"\")","v":""},{"$f":"IF($T95,OFFSET(DetailListPending!K$1,$W95,0),\"\")","v":""},{"$f":"IF($T95,OFFSET(DetailListPending!AU$1,$W95,0),\"\")","v":""},{"$f":"IF($T95,OFFSET(DetailListPending!AS$1,$W95,0),\"\")","v":""},null,{"$f":"IF($T95,OFFSET(DetailListPending!P$1,$W95,0),\"\")","v":""},{"$f":"IF($T95,OFFSET(DetailListPending!Q$1,$W95,0),\"\")","v":""},{"$f":"IF($T95,OFFSET(DetailListPending!R$1,$W95,0),\"\")","v":""},null,false,94,{"$f":"IF($T95,OFFSET(DetailListPending!A$1,$W95,0),\"\")","v":""},{"$f":"MATCH(U95,DetailListPending!BG:BG,0)-1","v":{"$error":"#N/A"}}]
[null,{"$f":"IF($T96,OFFSET(DetailListPending!C$1,$W96,0),\"\")","v":""},{"$f":"IF($T96,OFFSET(DetailListPending!E$1,$W96,0),\"\")","v":""},{"$f":"IF($T96,OFFSET(DetailListPending!F$1,$W96,0),\"\")","v":""},{"$f":"IF($T96,OFFSET(DetailListPending!B$1,$W96,0),\"\")","v":""},null,"","","",null,{"$f":"IF($T96,OFFSET(DetailListPending!J$1,$W96,0),\"\")","v":""},{"$f":"IF($T96,OFFSET(DetailListPending!K$1,$W96,0),\"\")","v":""},{"$f":"IF($T96,OFFSET(DetailListPending!AU$1,$W96,0),\"\")","v":""},{"$f":"IF($T96,OFFSET(DetailListPending!AS$1,$W96,0),\"\")","v":""},null,{"$f":"IF($T96,OFFSET(DetailListPending!P$1,$W96,0),\"\")","v":""},{"$f":"IF($T96,OFFSET(DetailListPending!Q$1,$W96,0),\"\")","v":""},{"$f":"IF($T96,OFFSET(DetailListPending!R$1,$W96,0),\"\")","v":""},null,false,95,{"$f":"IF($T96,OFFSET(DetailListPending!A$1,$W96,0),\"\")","v":""},{"$f":"MATCH(U96,DetailListPending!BG:BG,0)-1","v":{"$error":"#N/A"}}]
[null,{"$f":"IF($T97,OFFSET(DetailListPending!C$1,$W97,0),\"\")","v":""},{"$f":"IF($T97,OFFSET(DetailListPending!E$1,$W97,0),\"\")","v":""},{"$f":"IF($T97,OFFSET(DetailListPending!F$1,$W97,0),\"\")","v":""},{"$f":"IF($T97,OFFSET(DetailListPending!B$1,$W97,0),\"\")","v":""},null,"","","",null,{"$f":"IF($T97,OFFSET(DetailListPending!J$1,$W97,0),\"\")","v":""},{"$f":"IF($T97,OFFSET(DetailListPending!K$1,$W97,0),\"\")","v":""},{"$f":"IF($T97,OFFSET(DetailListPending!AU$1,$W97,0),\"\")","v":""},{"$f":"IF($T97,OFFSET(DetailListPending!AS$1,$W97,0),\"\")","v":""},null,{"$f":"IF($T97,OFFSET(DetailListPending!P$1,$W97,0),\"\")","v":""},{"$f":"IF($T97,OFFSET(DetailListPending!Q$1,$W97,0),\"\")","v":""},{"$f":"IF($T97,OFFSET(DetailListPending!R$1,$W97,0),\"\")","v":""},null,false,96,{"$f":"IF($T97,OFFSET(DetailListPending!A$1,$W97,0),\"\")","v":""},{"$f":"MATCH(U97,DetailListPending!BG:BG,0)-1","v":{"$error":"#N/A"}}]
[null,{"$f":"IF($T98,OFFSET(DetailListPending!C$1,$W98,0),\"\")","v":""},{"$f":"IF($T98,OFFSET(DetailListPending!E$1,$W98,0),\"\")","v":""},{"$f":"IF($T98,OFFSET(DetailListPending!F$1,$W98,0),\"\")","v":""},{"$f":"IF($T98,OFFSET(DetailListPending!B$1,$W98,0),\"\")","v":""},null,"","","",null,{"$f":"IF($T98,OFFSET(DetailListPending!J$1,$W98,0),\"\")","v":""},{"$f":"IF($T98,OFFSET(DetailListPending!K$1,$W98,0),\"\")","v":""},{"$f":"IF($T98,OFFSET(DetailListPending!AU$1,$W98,0),\"\")","v":""},{"$f":"IF($T98,OFFSET(DetailListPending!AS$1,$W98,0),\"\")","v":""},null,{"$f":"IF($T98,OFFSET(DetailListPending!P$1,$W98,0),\"\")","v":""},{"$f":"IF($T98,OFFSET(DetailListPending!Q$1,$W98,0),\"\")","v":""},{"$f":"IF($T98,OFFSET(DetailListPending!R$1,$W98,0),\"\")","v":""},null,{"$f":"U98<=Y$1","v":false},97,{"$f":"IF($T98,OFFSET(DetailListPending!A$1,$W98,0),\"\")","v":""},{"$f":"MATCH(U98,DetailListPending!BG:BG,0)-1","v":{"$error":"#N/A"}}]
[null,{"$f":"IF($T99,OFFSET(DetailListPending!C$1,$W99,0),\"\")","v":""},{"$f":"IF($T99,OFFSET(DetailListPending!E$1,$W99,0),\"\")","v":""},{"$f":"IF($T99,OFFSET(DetailListPending!F$1,$W99,0),\"\")","v":""},{"$f":"IF($T99,OFFSET(DetailListPending!B$1,$W99,0),\"\")","v":""},null,"","","",null,{"$f":"IF($T99,OFFSET(DetailListPending!J$1,$W99,0),\"\")","v":""},{"$f":"IF($T99,OFFSET(DetailListPending!K$1,$W99,0),\"\")","v":""},{"$f":"IF($T99,OFFSET(DetailListPending!AU$1,$W99,0),\"\")","v":""},{"$f":"IF($T99,OFFSET(DetailListPending!AS$1,$W99,0),\"\")","v":""},null,{"$f":"IF($T99,OFFSET(DetailListPending!P$1,$W99,0),\"\")","v":""},{"$f":"IF($T99,OFFSET(DetailListPending!Q$1,$W99,0),\"\")","v":""},{"$f":"IF($T99,OFFSET(DetailListPending!R$1,$W99,0),\"\")","v":""},null,false,98,{"$f":"IF($T99,OFFSET(DetailListPending!A$1,$W99,0),\"\")","v":""},{"$f":"MATCH(U99,DetailListPending!BG:BG,0)-1","v":{"$error":"#N/A"}}]
[null,{"$f":"IF($T100,OFFSET(DetailListPending!C$1,$W100,0),\"\")","v":""},{"$f":"IF($T100,OFFSET(DetailListPending!E$1,$W100,0),\"\")","v":""},{"$f":"IF($T100,OFFSET(DetailListPending!F$1,$W100,0),\"\")","v":""},{"$f":"IF($T100,OFFSET(DetailListPending!B$1,$W100,0),\"\")","v":""},null,"","","",null,{"$f":"IF($T100,OFFSET(DetailListPending!J$1,$W100,0),\"\")","v":""},{"$f":"IF($T100,OFFSET(DetailListPending!K$1,$W100,0),\"\")","v":""},{"$f":"IF($T100,OFFSET(DetailListPending!AU$1,$W100,0),\"\")","v":""},{"$f":"IF($T100,OFFSET(DetailListPending!AS$1,$W100,0),\"\")","v":""},null,{"$f":"IF($T100,OFFSET(DetailListPending!P$1,$W100,0),\"\")","v":""},{"$f":"IF($T100,OFFSET(DetailListPending!Q$1,$W100,0),\"\")","v":""},{"$f":"IF($T100,OFFSET(DetailListPending!R$1,$W100,0),\"\")","v":""},null,false,99,{"$f":"IF($T100,OFFSET(DetailListPending!A$1,$W100,0),\"\")","v":""},{"$f":"MATCH(U100,DetailListPending!BG:BG,0)-1","v":{"$error":"#N/A"}}]
[null,{"$f":"IF($T101,OFFSET(DetailListPending!C$1,$W101,0),\"\")","v":""},{"$f":"IF($T101,OFFSET(DetailListPending!E$1,$W101,0),\"\")","v":""},{"$f":"IF($T101,OFFSET(DetailListPending!F$1,$W101,0),\"\")","v":""},{"$f":"IF($T101,OFFSET(DetailListPending!B$1,$W101,0),\"\")","v":""},null,"","","",null,{"$f":"IF($T101,OFFSET(DetailListPending!J$1,$W101,0),\"\")","v":""},{"$f":"IF($T101,OFFSET(DetailListPending!K$1,$W101,0),\"\")","v":""},{"$f":"IF($T101,OFFSET(DetailListPending!AU$1,$W101,0),\"\")","v":""},{"$f":"IF($T101,OFFSET(DetailListPending!AS$1,$W101,0),\"\")","v":""},null,{"$f":"IF($T101,OFFSET(DetailListPending!P$1,$W101,0),\"\")","v":""},{"$f":"IF($T101,OFFSET(DetailListPending!Q$1,$W101,0),\"\")","v":""},{"$f":"IF($T101,OFFSET(DetailListPending!R$1,$W101,0),\"\")","v":""},null,false,100,{"$f":"IF($T101,OFFSET(DetailListPending!A$1,$W101,0),\"\")","v":""},{"$f":"MATCH(U101,DetailListPending!BG:BG,0)-1","v":{"$error":"#N/A"}}]
[null,{"$f":"IF($T102,OFFSET(DetailListPending!C$1,$W102,0),\"\")","v":""},{"$f":"IF($T102,OFFSET(DetailListPending!E$1,$W102,0),\"\")","v":""},{"$f":"IF($T102,OFFSET(DetailListPending!F$1,$W102,0),\"\")","v":""},{"$f":"IF($T102,OFFSET(DetailListPending!B$1,$W102,0),\"\")","v":""},null,"","","",null,{"$f":"IF($T102,OFFSET(DetailListPending!J$1,$W102,0),\"\")","v":""},{"$f":"IF($T102,OFFSET(DetailListPending!K$1,$W102,0),\"\")","v":""},{"$f":"IF($T102,OFFSET(DetailListPending!AU$1,$W102,0),\"\")","v":""},{"$f":"IF($T102,OFFSET(DetailListPending!AS$1,$W102,0),\"\")","v":""},null,{"$f":"IF($T102,OFFSET(DetailListPending!P$1,$W102,0),\"\")","v":""},{"$f":"IF($T102,OFFSET(DetailListPending!Q$1,$W102,0),\"\")","v":""},{"$f":"IF($T102,OFFSET(DetailListPending!R$1,$W102,0),\"\")","v":""},null,false,101,{"$f":"IF($T102,OFFSET(DetailListPending!A$1,$W102,0),\"\")","v":""},{"$f":"MATCH(U102,DetailListPending!BG:BG,0)-1","v":{"$error":"#N/A"}}]
[null,{"$f":"IF($T103,OFFSET(DetailListPending!C$1,$W103,0),\"\")","v":""},{"$f":"IF($T103,OFFSET(DetailListPending!E$1,$W103,0),\"\")","v":""},{"$f":"IF($T103,OFFSET(DetailListPending!F$1,$W103,0),\"\")","v":""},{"$f":"IF($T103,OFFSET(DetailListPending!B$1,$W103,0),\"\")","v":""},null,"","","",null,{"$f":"IF($T103,OFFSET(DetailListPending!J$1,$W103,0),\"\")","v":""},{"$f":"IF($T103,OFFSET(DetailListPending!K$1,$W103,0),\"\")","v":""},{"$f":"IF($T103,OFFSET(DetailListPending!AU$1,$W103,0),\"\")","v":""},{"$f":"IF($T103,OFFSET(DetailListPending!AS$1,$W103,0),\"\")","v":""},null,{"$f":"IF($T103,OFFSET(DetailListPending!P$1,$W103,0),\"\")","v":""},{"$f":"IF($T103,OFFSET(DetailListPending!Q$1,$W103,0),\"\")","v":""},{"$f":"IF($T103,OFFSET(DetailListPending!R$1,$W103,0),\"\")","v":""},null,false,102,{"$f":"IF($T103,OFFSET(DetailListPending!A$1,$W103,0),\"\")","v":""},{"$f":"MATCH(U103,DetailListPending!BG:BG,0)-1","v":{"$error":"#N/A"}}]
[null,{"$f":"IF($T104,OFFSET(DetailListPending!C$1,$W104,0),\"\")","v":""},{"$f":"IF($T104,OFFSET(DetailListPending!E$1,$W104,0),\"\")","v":""},{"$f":"IF($T104,OFFSET(DetailListPending!F$1,$W104,0),\"\")","v":""},{"$f":"IF($T104,OFFSET(DetailListPending!B$1,$W104,0),\"\")","v":""},null,"","","",null,{"$f":"IF($T104,OFFSET(DetailListPending!J$1,$W104,0),\"\")","v":""},{"$f":"IF($T104,OFFSET(DetailListPending!K$1,$W104,0),\"\")","v":""},{"$f":"IF($T104,OFFSET(DetailListPending!AU$1,$W104,0),\"\")","v":""},{"$f":"IF($T104,OFFSET(DetailListPending!AS$1,$W104,0),\"\")","v":""},null,{"$f":"IF($T104,OFFSET(DetailListPending!P$1,$W104,0),\"\")","v":""},{"$f":"IF($T104,OFFSET(DetailListPending!Q$1,$W104,0),\"\")","v":""},{"$f":"IF($T104,OFFSET(DetailListPending!R$1,$W104,0),\"\")","v":""},null,false,103,{"$f":"IF($T104,OFFSET(DetailListPending!A$1,$W104,0),\"\")","v":""},{"$f":"MATCH(U104,DetailListPending!BG:BG,0)-1","v":{"$error":"#N/A"}}]
[null,{"$f":"IF($T105,OFFSET(DetailListPending!C$1,$W105,0),\"\")","v":""},{"$f":"IF($T105,OFFSET(DetailListPending!E$1,$W105,0),\"\")","v":""},{"$f":"IF($T105,OFFSET(DetailListPending!F$1,$W105,0),\"\")","v":""},{"$f":"IF($T105,OFFSET(DetailListPending!B$1,$W105,0),\"\")","v":""},null,"","","",null,{"$f":"IF($T105,OFFSET(DetailListPending!J$1,$W105,0),\"\")","v":""},{"$f":"IF($T105,OFFSET(DetailListPending!K$1,$W105,0),\"\")","v":""},{"$f":"IF($T105,OFFSET(DetailListPending!AU$1,$W105,0),\"\")","v":""},{"$f":"IF($T105,OFFSET(DetailListPending!AS$1,$W105,0),\"\")","v":""},null,{"$f":"IF($T105,OFFSET(DetailListPending!P$1,$W105,0),\"\")","v":""},{"$f":"IF($T105,OFFSET(DetailListPending!Q$1,$W105,0),\"\")","v":""},{"$f":"IF($T105,OFFSET(DetailListPending!R$1,$W105,0),\"\")","v":""},null,false,104,{"$f":"IF($T105,OFFSET(DetailListPending!A$1,$W105,0),\"\")","v":""},{"$f":"MATCH(U105,DetailListPending!BG:BG,0)-1","v":{"$error":"#N/A"}}]
[null,{"$f":"IF($T106,OFFSET(DetailListPending!C$1,$W106,0),\"\")","v":""},{"$f":"IF($T106,OFFSET(DetailListPending!E$1,$W106,0),\"\")","v":""},{"$f":"IF($T106,OFFSET(DetailListPending!F$1,$W106,0),\"\")","v":""},{"$f":"IF($T106,OFFSET(DetailListPending!B$1,$W106,0),\"\")","v":""},null,"","","",null,{"$f":"IF($T106,OFFSET(DetailListPending!J$1,$W106,0),\"\")","v":""},{"$f":"IF($T106,OFFSET(DetailListPending!K$1,$W106,0),\"\")","v":""},{"$f":"IF($T106,OFFSET(DetailListPending!AU$1,$W106,0),\"\")","v":""},{"$f":"IF($T106,OFFSET(DetailListPending!AS$1,$W106,0),\"\")","v":""},null,{"$f":"IF($T106,OFFSET(DetailListPending!P$1,$W106,0),\"\")","v":""},{"$f":"IF($T106,OFFSET(DetailListPending!Q$1,$W106,0),\"\")","v":""},{"$f":"IF($T106,OFFSET(DetailListPending!R$1,$W106,0),\"\")","v":""},null,false,105,{"$f":"IF($T106,OFFSET(DetailListPending!A$1,$W106,0),\"\")","v":""},{"$f":"MATCH(U106,DetailListPending!BG:BG,0)-1","v":{"$error":"#N/A"}}]
[null,{"$f":"IF($T107,OFFSET(DetailListPending!C$1,$W107,0),\"\")","v":""},{"$f":"IF($T107,OFFSET(DetailListPending!E$1,$W107,0),\"\")","v":""},{"$f":"IF($T107,OFFSET(DetailListPending!F$1,$W107,0),\"\")","v":""},{"$f":"IF($T107,OFFSET(DetailListPending!B$1,$W107,0),\"\")","v":""},null,"","","",null,{"$f":"IF($T107,OFFSET(DetailListPending!J$1,$W107,0),\"\")","v":""},{"$f":"IF($T107,OFFSET(DetailListPending!K$1,$W107,0),\"\")","v":""},{"$f":"IF($T107,OFFSET(DetailListPending!AU$1,$W107,0),\"\")","v":""},{"$f":"IF($T107,OFFSET(DetailListPending!AS$1,$W107,0),\"\")","v":""},null,{"$f":"IF($T107,OFFSET(DetailListPending!P$1,$W107,0),\"\")","v":""},{"$f":"IF($T107,OFFSET(DetailListPending!Q$1,$W107,0),\"\")","v":""},{"$f":"IF($T107,OFFSET(DetailListPending!R$1,$W107,0),\"\")","v":""},null,false,106,{"$f":"IF($T107,OFFSET(DetailListPending!A$1,$W107,0),\"\")","v":""},{"$f":"MATCH(U107,DetailListPending!BG:BG,0)-1","v":{"$error":"#N/A"}}]
[null,{"$f":"IF($T108,OFFSET(DetailListPending!C$1,$W108,0),\"\")","v":""},{"$f":"IF($T108,OFFSET(DetailListPending!E$1,$W108,0),\"\")","v":""},{"$f":"IF($T108,OFFSET(DetailListPending!F$1,$W108,0),\"\")","v":""},{"$f":"IF($T108,OFFSET(DetailListPending!B$1,$W108,0),\"\")","v":""},null,"","","",null,{"$f":"IF($T108,OFFSET(DetailListPending!J$1,$W108,0),\"\")","v":""},{"$f":"IF($T108,OFFSET(DetailListPending!K$1,$W108,0),\"\")","v":""},{"$f":"IF($T108,OFFSET(DetailListPending!AU$1,$W108,0),\"\")","v":""},{"$f":"IF($T108,OFFSET(DetailListPending!AS$1,$W108,0),\"\")","v":""},null,{"$f":"IF($T108,OFFSET(DetailListPending!P$1,$W108,0),\"\")","v":""},{"$f":"IF($T108,OFFSET(DetailListPending!Q$1,$W108,0),\"\")","v":""},{"$f":"IF($T108,OFFSET(DetailListPending!R$1,$W108,0),\"\")","v":""},null,false,107,{"$f":"IF($T108,OFFSET(DetailListPending!A$1,$W108,0),\"\")","v":""},{"$f":"MATCH(U108,DetailListPending!BG:BG,0)-1","v":{"$error":"#N/A"}}]
[null,{"$f":"IF($T109,OFFSET(DetailListPending!C$1,$W109,0),\"\")","v":""},{"$f":"IF($T109,OFFSET(DetailListPending!E$1,$W109,0),\"\")","v":""},{"$f":"IF($T109,OFFSET(DetailListPending!F$1,$W109,0),\"\")","v":""},{"$f":"IF($T109,OFFSET(DetailListPending!B$1,$W109,0),\"\")","v":""},null,"","","",null,{"$f":"IF($T109,OFFSET(DetailListPending!J$1,$W109,0),\"\")","v":""},{"$f":"IF($T109,OFFSET(DetailListPending!K$1,$W109,0),\"\")","v":""},{"$f":"IF($T109,OFFSET(DetailListPending!AU$1,$W109,0),\"\")","v":""},{"$f":"IF($T109,OFFSET(DetailListPending!AS$1,$W109,0),\"\")","v":""},null,{"$f":"IF($T109,OFFSET(DetailListPending!P$1,$W109,0),\"\")","v":""},{"$f":"IF($T109,OFFSET(DetailListPending!Q$1,$W109,0),\"\")","v":""},{"$f":"IF($T109,OFFSET(DetailListPending!R$1,$W109,0),\"\")","v":""},null,false,108,{"$f":"IF($T109,OFFSET(DetailListPending!A$1,$W109,0),\"\")","v":""},{"$f":"MATCH(U109,DetailListPending!BG:BG,0)-1","v":{"$error":"#N/A"}}]
[null,{"$f":"IF($T110,OFFSET(DetailListPending!C$1,$W110,0),\"\")","v":""},{"$f":"IF($T110,OFFSET(DetailListPending!E$1,$W110,0),\"\")","v":""},{"$f":"IF($T110,OFFSET(DetailListPending!F$1,$W110,0),\"\")","v":""},{"$f":"IF($T110,OFFSET(DetailListPending!B$1,$W110,0),\"\")","v":""},null,"","","",null,{"$f":"IF($T110,OFFSET(DetailListPending!J$1,$W110,0),\"\")","v":""},{"$f":"IF($T110,OFFSET(DetailListPending!K$1,$W110,0),\"\")","v":""},{"$f":"IF($T110,OFFSET(DetailListPending!AU$1,$W110,0),\"\")","v":""},{"$f":"IF($T110,OFFSET(DetailListPending!AS$1,$W110,0),\"\")","v":""},null,{"$f":"IF($T110,OFFSET(DetailListPending!P$1,$W110,0),\"\")","v":""},{"$f":"IF($T110,OFFSET(DetailListPending!Q$1,$W110,0),\"\")","v":""},{"$f":"IF($T110,OFFSET(DetailListPending!R$1,$W110,0),\"\")","v":""},null,false,109,{"$f":"IF($T110,OFFSET(DetailListPending!A$1,$W110,0),\"\")","v":""},{"$f":"MATCH(U110,DetailListPending!BG:BG,0)-1","v":{"$error":"#N/A"}}]
[null,{"$f":"IF($T111,OFFSET(DetailListPending!C$1,$W111,0),\"\")","v":""},{"$f":"IF($T111,OFFSET(DetailListPending!E$1,$W111,0),\"\")","v":""},{"$f":"IF($T111,OFFSET(DetailListPending!F$1,$W111,0),\"\")","v":""},{"$f":"IF($T111,OFFSET(DetailListPending!B$1,$W111,0),\"\")","v":""},null,"","","",null,{"$f":"IF($T111,OFFSET(DetailListPending!J$1,$W111,0),\"\")","v":""},{"$f":"IF($T111,OFFSET(DetailListPending!K$1,$W111,0),\"\")","v":""},{"$f":"IF($T111,OFFSET(DetailListPending!AU$1,$W111,0),\"\")","v":""},{"$f":"IF($T111,OFFSET(DetailListPending!AS$1,$W111,0),\"\")","v":""},null,{"$f":"IF($T111,OFFSET(DetailListPending!P$1,$W111,0),\"\")","v":""},{"$f":"IF($T111,OFFSET(DetailListPending!Q$1,$W111,0),\"\")","v":""},{"$f":"IF($T111,OFFSET(DetailListPending!R$1,$W111,0),\"\")","v":""},null,false,110,{"$f":"IF($T111,OFFSET(DetailListPending!A$1,$W111,0),\"\")","v":""},{"$f":"MATCH(U111,DetailListPending!BG:BG,0)-1","v":{"$error":"#N/A"}}]
[null,{"$f":"IF($T112,OFFSET(DetailListPending!C$1,$W112,0),\"\")","v":""},{"$f":"IF($T112,OFFSET(DetailListPending!E$1,$W112,0),\"\")","v":""},{"$f":"IF($T112,OFFSET(DetailListPending!F$1,$W112,0),\"\")","v":""},{"$f":"IF($T112,OFFSET(DetailListPending!B$1,$W112,0),\"\")","v":""},null,"","","",null,{"$f":"IF($T112,OFFSET(DetailListPending!J$1,$W112,0),\"\")","v":""},{"$f":"IF($T112,OFFSET(DetailListPending!K$1,$W112,0),\"\")","v":""},{"$f":"IF($T112,OFFSET(DetailListPending!AU$1,$W112,0),\"\")","v":""},{"$f":"IF($T112,OFFSET(DetailListPending!AS$1,$W112,0),\"\")","v":""},null,{"$f":"IF($T112,OFFSET(DetailListPending!P$1,$W112,0),\"\")","v":""},{"$f":"IF($T112,OFFSET(DetailListPending!Q$1,$W112,0),\"\")","v":""},{"$f":"IF($T112,OFFSET(DetailListPending!R$1,$W112,0),\"\")","v":""},null,false,111,{"$f":"IF($T112,OFFSET(DetailListPending!A$1,$W112,0),\"\")","v":""},{"$f":"MATCH(U112,DetailListPending!BG:BG,0)-1","v":{"$error":"#N/A"}}]
[null,{"$f":"IF($T113,OFFSET(DetailListPending!C$1,$W113,0),\"\")","v":""},{"$f":"IF($T113,OFFSET(DetailListPending!E$1,$W113,0),\"\")","v":""},{"$f":"IF($T113,OFFSET(DetailListPending!F$1,$W113,0),\"\")","v":""},{"$f":"IF($T113,OFFSET(DetailListPending!B$1,$W113,0),\"\")","v":""},null,"","","",null,{"$f":"IF($T113,OFFSET(DetailListPending!J$1,$W113,0),\"\")","v":""},{"$f":"IF($T113,OFFSET(DetailListPending!K$1,$W113,0),\"\")","v":""},{"$f":"IF($T113,OFFSET(DetailListPending!AU$1,$W113,0),\"\")","v":""},{"$f":"IF($T113,OFFSET(DetailListPending!AS$1,$W113,0),\"\")","v":""},null,{"$f":"IF($T113,OFFSET(DetailListPending!P$1,$W113,0),\"\")","v":""},{"$f":"IF($T113,OFFSET(DetailListPending!Q$1,$W113,0),\"\")","v":""},{"$f":"IF($T113,OFFSET(DetailListPending!R$1,$W113,0),\"\")","v":""},null,false,112,{"$f":"IF($T113,OFFSET(DetailListPending!A$1,$W113,0),\"\")","v":""},{"$f":"MATCH(U113,DetailListPending!BG:BG,0)-1","v":{"$error":"#N/A"}}]
[null,{"$f":"IF($T114,OFFSET(DetailListPending!C$1,$W114,0),\"\")","v":""},{"$f":"IF($T114,OFFSET(DetailListPending!E$1,$W114,0),\"\")","v":""},{"$f":"IF($T114,OFFSET(DetailListPending!F$1,$W114,0),\"\")","v":""},{"$f":"IF($T114,OFFSET(DetailListPending!B$1,$W114,0),\"\")","v":""},null,"","","",null,{"$f":"IF($T114,OFFSET(DetailListPending!J$1,$W114,0),\"\")","v":""},{"$f":"IF($T114,OFFSET(DetailListPending!K$1,$W114,0),\"\")","v":""},{"$f":"IF($T114,OFFSET(DetailListPending!AU$1,$W114,0),\"\")","v":""},{"$f":"IF($T114,OFFSET(DetailListPending!AS$1,$W114,0),\"\")","v":""},null,{"$f":"IF($T114,OFFSET(DetailListPending!P$1,$W114,0),\"\")","v":""},{"$f":"IF($T114,OFFSET(DetailListPending!Q$1,$W114,0),\"\")","v":""},{"$f":"IF($T114,OFFSET(DetailListPending!R$1,$W114,0),\"\")","v":""},null,false,113,{"$f":"IF($T114,OFFSET(DetailListPending!A$1,$W114,0),\"\")","v":""},{"$f":"MATCH(U114,DetailListPending!BG:BG,0)-1","v":{"$error":"#N/A"}}]
[null,{"$f":"IF($T115,OFFSET(DetailListPending!C$1,$W115,0),\"\")","v":""},{"$f":"IF($T115,OFFSET(DetailListPending!E$1,$W115,0),\"\")","v":""},{"$f":"IF($T115,OFFSET(DetailListPending!F$1,$W115,0),\"\")","v":""},{"$f":"IF($T115,OFFSET(DetailListPending!B$1,$W115,0),\"\")","v":""},null,"","","",null,{"$f":"IF($T115,OFFSET(DetailListPending!J$1,$W115,0),\"\")","v":""},{"$f":"IF($T115,OFFSET(DetailListPending!K$1,$W115,0),\"\")","v":""},{"$f":"IF($T115,OFFSET(DetailListPending!AU$1,$W115,0),\"\")","v":""},{"$f":"IF($T115,OFFSET(DetailListPending!AS$1,$W115,0),\"\")","v":""},null,{"$f":"IF($T115,OFFSET(DetailListPending!P$1,$W115,0),\"\")","v":""},{"$f":"IF($T115,OFFSET(DetailListPending!Q$1,$W115,0),\"\")","v":""},{"$f":"IF($T115,OFFSET(DetailListPending!R$1,$W115,0),\"\")","v":""},null,false,114,{"$f":"IF($T115,OFFSET(DetailListPending!A$1,$W115,0),\"\")","v":""},{"$f":"MATCH(U115,DetailListPending!BG:BG,0)-1","v":{"$error":"#N/A"}}]
[null,{"$f":"IF($T116,OFFSET(DetailListPending!C$1,$W116,0),\"\")","v":""},{"$f":"IF($T116,OFFSET(DetailListPending!E$1,$W116,0),\"\")","v":""},{"$f":"IF($T116,OFFSET(DetailListPending!F$1,$W116,0),\"\")","v":""},{"$f":"IF($T116,OFFSET(DetailListPending!B$1,$W116,0),\"\")","v":""},null,"","","",null,{"$f":"IF($T116,OFFSET(DetailListPending!J$1,$W116,0),\"\")","v":""},{"$f":"IF($T116,OFFSET(DetailListPending!K$1,$W116,0),\"\")","v":""},{"$f":"IF($T116,OFFSET(DetailListPending!AU$1,$W116,0),\"\")","v":""},{"$f":"IF($T116,OFFSET(DetailListPending!AS$1,$W116,0),\"\")","v":""},null,{"$f":"IF($T116,OFFSET(DetailListPending!P$1,$W116,0),\"\")","v":""},{"$f":"IF($T116,OFFSET(DetailListPending!Q$1,$W116,0),\"\")","v":""},{"$f":"IF($T116,OFFSET(DetailListPending!R$1,$W116,0),\"\")","v":""},null,false,115,{"$f":"IF($T116,OFFSET(DetailListPending!A$1,$W116,0),\"\")","v":""},{"$f":"MATCH(U116,DetailListPending!BG:BG,0)-1","v":{"$error":"#N/A"}}]
[null,{"$f":"IF($T117,OFFSET(DetailListPending!C$1,$W117,0),\"\")","v":""},{"$f":"IF($T117,OFFSET(DetailListPending!E$1,$W117,0),\"\")","v":""},{"$f":"IF($T117,OFFSET(DetailListPending!F$1,$W117,0),\"\")","v":""},{"$f":"IF($T117,OFFSET(DetailListPending!B$1,$W117,0),\"\")","v":""},null,"","","",null,{"$f":"IF($T117,OFFSET(DetailListPending!J$1,$W117,0),\"\")","v":""},{"$f":"IF($T117,OFFSET(DetailListPending!K$1,$W117,0),\"\")","v":""},{"$f":"IF($T117,OFFSET(DetailListPending!AU$1,$W117,0),\"\")","v":""},{"$f":"IF($T117,OFFSET(DetailListPending!AS$1,$W117,0),\"\")","v":""},null,{"$f":"IF($T117,OFFSET(DetailListPending!P$1,$W117,0),\"\")","v":""},{"$f":"IF($T117,OFFSET(DetailListPending!Q$1,$W117,0),\"\")","v":""},{"$f":"IF($T117,OFFSET(DetailListPending!R$1,$W117,0),\"\")","v":""},null,false,116,{"$f":"IF($T117,OFFSET(DetailListPending!A$1,$W117,0),\"\")","v":""},{"$f":"MATCH(U117,DetailListPending!BG:BG,0)-1","v":{"$error":"#N/A"}}]
[null,{"$f":"IF($T118,OFFSET(DetailListPending!C$1,$W118,0),\"\")","v":""},{"$f":"IF($T118,OFFSET(DetailListPending!E$1,$W118,0),\"\")","v":""},{"$f":"IF($T118,OFFSET(DetailListPending!F$1,$W118,0),\"\")","v":""},{"$f":"IF($T118,OFFSET(DetailListPending!B$1,$W118,0),\"\")","v":""},null,"","","",null,{"$f":"IF($T118,OFFSET(DetailListPending!J$1,$W118,0),\"\")","v":""},{"$f":"IF($T118,OFFSET(DetailListPending!K$1,$W118,0),\"\")","v":""},{"$f":"IF($T118,OFFSET(DetailListPending!AU$1,$W118,0),\"\")","v":""},{"$f":"IF($T118,OFFSET(DetailListPending!AS$1,$W118,0),\"\")","v":""},null,{"$f":"IF($T118,OFFSET(DetailListPending!P$1,$W118,0),\"\")","v":""},{"$f":"IF($T118,OFFSET(DetailListPending!Q$1,$W118,0),\"\")","v":""},{"$f":"IF($T118,OFFSET(DetailListPending!R$1,$W118,0),\"\")","v":""},null,false,117,{"$f":"IF($T118,OFFSET(DetailListPending!A$1,$W118,0),\"\")","v":""},{"$f":"MATCH(U118,DetailListPending!BG:BG,0)-1","v":{"$error":"#N/A"}}]
[null,{"$f":"IF($T119,OFFSET(DetailListPending!C$1,$W119,0),\"\")","v":""},{"$f":"IF($T119,OFFSET(DetailListPending!E$1,$W119,0),\"\")","v":""},{"$f":"IF($T119,OFFSET(DetailListPending!F$1,$W119,0),\"\")","v":""},{"$f":"IF($T119,OFFSET(DetailListPending!B$1,$W119,0),\"\")","v":""},null,"","","",null,{"$f":"IF($T119,OFFSET(DetailListPending!J$1,$W119,0),\"\")","v":""},{"$f":"IF($T119,OFFSET(DetailListPending!K$1,$W119,0),\"\")","v":""},{"$f":"IF($T119,OFFSET(DetailListPending!AU$1,$W119,0),\"\")","v":""},{"$f":"IF($T119,OFFSET(DetailListPending!AS$1,$W119,0),\"\")","v":""},null,{"$f":"IF($T119,OFFSET(DetailListPending!P$1,$W119,0),\"\")","v":""},{"$f":"IF($T119,OFFSET(DetailListPending!Q$1,$W119,0),\"\")","v":""},{"$f":"IF($T119,OFFSET(DetailListPending!R$1,$W119,0),\"\")","v":""},null,false,118,{"$f":"IF($T119,OFFSET(DetailListPending!A$1,$W119,0),\"\")","v":""},{"$f":"MATCH(U119,DetailListPending!BG:BG,0)-1","v":{"$error":"#N/A"}}]
[null,{"$f":"IF($T120,OFFSET(DetailListPending!C$1,$W120,0),\"\")","v":""},{"$f":"IF($T120,OFFSET(DetailListPending!E$1,$W120,0),\"\")","v":""},{"$f":"IF($T120,OFFSET(DetailListPending!F$1,$W120,0),\"\")","v":""},{"$f":"IF($T120,OFFSET(DetailListPending!B$1,$W120,0),\"\")","v":""},null,"","","",null,{"$f":"IF($T120,OFFSET(DetailListPending!J$1,$W120,0),\"\")","v":""},{"$f":"IF($T120,OFFSET(DetailListPending!K$1,$W120,0),\"\")","v":""},{"$f":"IF($T120,OFFSET(DetailListPending!AU$1,$W120,0),\"\")","v":""},{"$f":"IF($T120,OFFSET(DetailListPending!AS$1,$W120,0),\"\")","v":""},null,{"$f":"IF($T120,OFFSET(DetailListPending!P$1,$W120,0),\"\")","v":""},{"$f":"IF($T120,OFFSET(DetailListPending!Q$1,$W120,0),\"\")","v":""},{"$f":"IF($T120,OFFSET(DetailListPending!R$1,$W120,0),\"\")","v":""},null,false,119,{"$f":"IF($T120,OFFSET(DetailListPending!A$1,$W120,0),\"\")","v":""},{"$f":"MATCH(U120,DetailListPending!BG:BG,0)-1","v":{"$error":"#N/A"}}]
[null,{"$f":"IF($T121,OFFSET(DetailListPending!C$1,$W121,0),\"\")","v":""},{"$f":"IF($T121,OFFSET(DetailListPending!E$1,$W121,0),\"\")","v":""},{"$f":"IF($T121,OFFSET(DetailListPending!F$1,$W121,0),\"\")","v":""},{"$f":"IF($T121,OFFSET(DetailListPending!B$1,$W121,0),\"\")","v":""},null,"","","",null,{"$f":"IF($T121,OFFSET(DetailListPending!J$1,$W121,0),\"\")","v":""},{"$f":"IF($T121,OFFSET(DetailListPending!K$1,$W121,0),\"\")","v":""},{"$f":"IF($T121,OFFSET(DetailListPending!AU$1,$W121,0),\"\")","v":""},{"$f":"IF($T121,OFFSET(DetailListPending!AS$1,$W121,0),\"\")","v":""},null,{"$f":"IF($T121,OFFSET(DetailListPending!P$1,$W121,0),\"\")","v":""},{"$f":"IF($T121,OFFSET(DetailListPending!Q$1,$W121,0),\"\")","v":""},{"$f":"IF($T121,OFFSET(DetailListPending!R$1,$W121,0),\"\")","v":""},null,false,120,{"$f":"IF($T121,OFFSET(DetailListPending!A$1,$W121,0),\"\")","v":""},{"$f":"MATCH(U121,DetailListPending!BG:BG,0)-1","v":{"$error":"#N/A"}}]
[null,{"$f":"IF($T122,OFFSET(DetailListPending!C$1,$W122,0),\"\")","v":""},{"$f":"IF($T122,OFFSET(DetailListPending!E$1,$W122,0),\"\")","v":""},{"$f":"IF($T122,OFFSET(DetailListPending!F$1,$W122,0),\"\")","v":""},{"$f":"IF($T122,OFFSET(DetailListPending!B$1,$W122,0),\"\")","v":""},null,"","","",null,{"$f":"IF($T122,OFFSET(DetailListPending!J$1,$W122,0),\"\")","v":""},{"$f":"IF($T122,OFFSET(DetailListPending!K$1,$W122,0),\"\")","v":""},{"$f":"IF($T122,OFFSET(DetailListPending!AU$1,$W122,0),\"\")","v":""},{"$f":"IF($T122,OFFSET(DetailListPending!AS$1,$W122,0),\"\")","v":""},null,{"$f":"IF($T122,OFFSET(DetailListPending!P$1,$W122,0),\"\")","v":""},{"$f":"IF($T122,OFFSET(DetailListPending!Q$1,$W122,0),\"\")","v":""},{"$f":"IF($T122,OFFSET(DetailListPending!R$1,$W122,0),\"\")","v":""},null,false,121,{"$f":"IF($T122,OFFSET(DetailListPending!A$1,$W122,0),\"\")","v":""},{"$f":"MATCH(U122,DetailListPending!BG:BG,0)-1","v":{"$error":"#N/A"}}]
[null,{"$f":"IF($T123,OFFSET(DetailListPending!C$1,$W123,0),\"\")","v":""},{"$f":"IF($T123,OFFSET(DetailListPending!E$1,$W123,0),\"\")","v":""},{"$f":"IF($T123,OFFSET(DetailListPending!F$1,$W123,0),\"\")","v":""},{"$f":"IF($T123,OFFSET(DetailListPending!B$1,$W123,0),\"\")","v":""},null,"","","",null,{"$f":"IF($T123,OFFSET(DetailListPending!J$1,$W123,0),\"\")","v":""},{"$f":"IF($T123,OFFSET(DetailListPending!K$1,$W123,0),\"\")","v":""},{"$f":"IF($T123,OFFSET(DetailListPending!AU$1,$W123,0),\"\")","v":""},{"$f":"IF($T123,OFFSET(DetailListPending!AS$1,$W123,0),\"\")","v":""},null,{"$f":"IF($T123,OFFSET(DetailListPending!P$1,$W123,0),\"\")","v":""},{"$f":"IF($T123,OFFSET(DetailListPending!Q$1,$W123,0),\"\")","v":""},{"$f":"IF($T123,OFFSET(DetailListPending!R$1,$W123,0),\"\")","v":""},null,false,122,{"$f":"IF($T123,OFFSET(DetailListPending!A$1,$W123,0),\"\")","v":""},{"$f":"MATCH(U123,DetailListPending!BG:BG,0)-1","v":{"$error":"#N/A"}}]
[null,{"$f":"IF($T124,OFFSET(DetailListPending!C$1,$W124,0),\"\")","v":""},{"$f":"IF($T124,OFFSET(DetailListPending!E$1,$W124,0),\"\")","v":""},{"$f":"IF($T124,OFFSET(DetailListPending!F$1,$W124,0),\"\")","v":""},{"$f":"IF($T124,OFFSET(DetailListPending!B$1,$W124,0),\"\")","v":""},null,"","","",null,{"$f":"IF($T124,OFFSET(DetailListPending!J$1,$W124,0),\"\")","v":""},{"$f":"IF($T124,OFFSET(DetailListPending!K$1,$W124,0),\"\")","v":""},{"$f":"IF($T124,OFFSET(DetailListPending!AU$1,$W124,0),\"\")","v":""},{"$f":"IF($T124,OFFSET(DetailListPending!AS$1,$W124,0),\"\")","v":""},null,{"$f":"IF($T124,OFFSET(DetailListPending!P$1,$W124,0),\"\")","v":""},{"$f":"IF($T124,OFFSET(DetailListPending!Q$1,$W124,0),\"\")","v":""},{"$f":"IF($T124,OFFSET(DetailListPending!R$1,$W124,0),\"\")","v":""},null,false,123,{"$f":"IF($T124,OFFSET(DetailListPending!A$1,$W124,0),\"\")","v":""},{"$f":"MATCH(U124,DetailListPending!BG:BG,0)-1","v":{"$error":"#N/A"}}]
[null,{"$f":"IF($T125,OFFSET(DetailListPending!C$1,$W125,0),\"\")","v":""},{"$f":"IF($T125,OFFSET(DetailListPending!E$1,$W125,0),\"\")","v":""},{"$f":"IF($T125,OFFSET(DetailListPending!F$1,$W125,0),\"\")","v":""},{"$f":"IF($T125,OFFSET(DetailListPending!B$1,$W125,0),\"\")","v":""},null,"","","",null,{"$f":"IF($T125,OFFSET(DetailListPending!J$1,$W125,0),\"\")","v":""},{"$f":"IF($T125,OFFSET(DetailListPending!K$1,$W125,0),\"\")","v":""},{"$f":"IF($T125,OFFSET(DetailListPending!AU$1,$W125,0),\"\")","v":""},{"$f":"IF($T125,OFFSET(DetailListPending!AS$1,$W125,0),\"\")","v":""},null,{"$f":"IF($T125,OFFSET(DetailListPending!P$1,$W125,0),\"\")","v":""},{"$f":"IF($T125,OFFSET(DetailListPending!Q$1,$W125,0),\"\")","v":""},{"$f":"IF($T125,OFFSET(DetailListPending!R$1,$W125,0),\"\")","v":""},null,false,124,{"$f":"IF($T125,OFFSET(DetailListPending!A$1,$W125,0),\"\")","v":""},{"$f":"MATCH(U125,DetailListPending!BG:BG,0)-1","v":{"$error":"#N/A"}}]
[null,{"$f":"IF($T126,OFFSET(DetailListPending!C$1,$W126,0),\"\")","v":""},{"$f":"IF($T126,OFFSET(DetailListPending!E$1,$W126,0),\"\")","v":""},{"$f":"IF($T126,OFFSET(DetailListPending!F$1,$W126,0),\"\")","v":""},{"$f":"IF($T126,OFFSET(DetailListPending!B$1,$W126,0),\"\")","v":""},null,"","","",null,{"$f":"IF($T126,OFFSET(DetailListPending!J$1,$W126,0),\"\")","v":""},{"$f":"IF($T126,OFFSET(DetailListPending!K$1,$W126,0),\"\")","v":""},{"$f":"IF($T126,OFFSET(DetailListPending!AU$1,$W126,0),\"\")","v":""},{"$f":"IF($T126,OFFSET(DetailListPending!AS$1,$W126,0),\"\")","v":""},null,{"$f":"IF($T126,OFFSET(DetailListPending!P$1,$W126,0),\"\")","v":""},{"$f":"IF($T126,OFFSET(DetailListPending!Q$1,$W126,0),\"\")","v":""},{"$f":"IF($T126,OFFSET(DetailListPending!R$1,$W126,0),\"\")","v":""},null,false,125,{"$f":"IF($T126,OFFSET(DetailListPending!A$1,$W126,0),\"\")","v":""},{"$f":"MATCH(U126,DetailListPending!BG:BG,0)-1","v":{"$error":"#N/A"}}]
[null,{"$f":"IF($T127,OFFSET(DetailListPending!C$1,$W127,0),\"\")","v":""},{"$f":"IF($T127,OFFSET(DetailListPending!E$1,$W127,0),\"\")","v":""},{"$f":"IF($T127,OFFSET(DetailListPending!F$1,$W127,0),\"\")","v":""},{"$f":"IF($T127,OFFSET(DetailListPending!B$1,$W127,0),\"\")","v":""},null,"","","",null,{"$f":"IF($T127,OFFSET(DetailListPending!J$1,$W127,0),\"\")","v":""},{"$f":"IF($T127,OFFSET(DetailListPending!K$1,$W127,0),\"\")","v":""},{"$f":"IF($T127,OFFSET(DetailListPending!AU$1,$W127,0),\"\")","v":""},{"$f":"IF($T127,OFFSET(DetailListPending!AS$1,$W127,0),\"\")","v":""},null,{"$f":"IF($T127,OFFSET(DetailListPending!P$1,$W127,0),\"\")","v":""},{"$f":"IF($T127,OFFSET(DetailListPending!Q$1,$W127,0),\"\")","v":""},{"$f":"IF($T127,OFFSET(DetailListPending!R$1,$W127,0),\"\")","v":""},null,false,126,{"$f":"IF($T127,OFFSET(DetailListPending!A$1,$W127,0),\"\")","v":""},{"$f":"MATCH(U127,DetailListPending!BG:BG,0)-1","v":{"$error":"#N/A"}}]
[null,{"$f":"IF($T128,OFFSET(DetailListPending!C$1,$W128,0),\"\")","v":""},{"$f":"IF($T128,OFFSET(DetailListPending!E$1,$W128,0),\"\")","v":""},{"$f":"IF($T128,OFFSET(DetailListPending!F$1,$W128,0),\"\")","v":""},{"$f":"IF($T128,OFFSET(DetailListPending!B$1,$W128,0),\"\")","v":""},null,"","","",null,{"$f":"IF($T128,OFFSET(DetailListPending!J$1,$W128,0),\"\")","v":""},{"$f":"IF($T128,OFFSET(DetailListPending!K$1,$W128,0),\"\")","v":""},{"$f":"IF($T128,OFFSET(DetailListPending!AU$1,$W128,0),\"\")","v":""},{"$f":"IF($T128,OFFSET(DetailListPending!AS$1,$W128,0),\"\")","v":""},null,{"$f":"IF($T128,OFFSET(DetailListPending!P$1,$W128,0),\"\")","v":""},{"$f":"IF($T128,OFFSET(DetailListPending!Q$1,$W128,0),\"\")","v":""},{"$f":"IF($T128,OFFSET(DetailListPending!R$1,$W128,0),\"\")","v":""},null,false,127,{"$f":"IF($T128,OFFSET(DetailListPending!A$1,$W128,0),\"\")","v":""},{"$f":"MATCH(U128,DetailListPending!BG:BG,0)-1","v":{"$error":"#N/A"}}]
[null,{"$f":"IF($T129,OFFSET(DetailListPending!C$1,$W129,0),\"\")","v":""},{"$f":"IF($T129,OFFSET(DetailListPending!E$1,$W129,0),\"\")","v":""},{"$f":"IF($T129,OFFSET(DetailListPending!F$1,$W129,0),\"\")","v":""},{"$f":"IF($T129,OFFSET(DetailListPending!B$1,$W129,0),\"\")","v":""},null,"","","",null,{"$f":"IF($T129,OFFSET(DetailListPending!J$1,$W129,0),\"\")","v":""},{"$f":"IF($T129,OFFSET(DetailListPending!K$1,$W129,0),\"\")","v":""},{"$f":"IF($T129,OFFSET(DetailListPending!AU$1,$W129,0),\"\")","v":""},{"$f":"IF($T129,OFFSET(DetailListPending!AS$1,$W129,0),\"\")","v":""},null,{"$f":"IF($T129,OFFSET(DetailListPending!P$1,$W129,0),\"\")","v":""},{"$f":"IF($T129,OFFSET(DetailListPending!Q$1,$W129,0),\"\")","v":""},{"$f":"IF($T129,OFFSET(DetailListPending!R$1,$W129,0),\"\")","v":""},null,false,128,{"$f":"IF($T129,OFFSET(DetailListPending!A$1,$W129,0),\"\")","v":""},{"$f":"MATCH(U129,DetailListPending!BG:BG,0)-1","v":{"$error":"#N/A"}}]
[null,{"$f":"IF($T130,OFFSET(DetailListPending!C$1,$W130,0),\"\")","v":""},{"$f":"IF($T130,OFFSET(DetailListPending!E$1,$W130,0),\"\")","v":""},{"$f":"IF($T130,OFFSET(DetailListPending!F$1,$W130,0),\"\")","v":""},{"$f":"IF($T130,OFFSET(DetailListPending!B$1,$W130,0),\"\")","v":""},null,"","","",null,{"$f":"IF($T130,OFFSET(DetailListPending!J$1,$W130,0),\"\")","v":""},{"$f":"IF($T130,OFFSET(DetailListPending!K$1,$W130,0),\"\")","v":""},{"$f":"IF($T130,OFFSET(DetailListPending!AU$1,$W130,0),\"\")","v":""},{"$f":"IF($T130,OFFSET(DetailListPending!AS$1,$W130,0),\"\")","v":""},null,{"$f":"IF($T130,OFFSET(DetailListPending!P$1,$W130,0),\"\")","v":""},{"$f":"IF($T130,OFFSET(DetailListPending!Q$1,$W130,0),\"\")","v":""},{"$f":"IF($T130,OFFSET(DetailListPending!R$1,$W130,0),\"\")","v":""},null,{"$f":"U130<=Y$1","v":false},129,{"$f":"IF($T130,OFFSET(DetailListPending!A$1,$W130,0),\"\")","v":""},{"$f":"MATCH(U130,DetailListPending!BG:BG,0)-1","v":{"$error":"#N/A"}}]
[null,{"$f":"IF($T131,OFFSET(DetailListPending!C$1,$W131,0),\"\")","v":""},{"$f":"IF($T131,OFFSET(DetailListPending!E$1,$W131,0),\"\")","v":""},{"$f":"IF($T131,OFFSET(DetailListPending!F$1,$W131,0),\"\")","v":""},{"$f":"IF($T131,OFFSET(DetailListPending!B$1,$W131,0),\"\")","v":""},null,{"$f":"IF(AND($T131,$V131=\"C\"),HYPERLINK(\"#DetailListALBs!A\"&W131+1,\"Details\"),\"\")","v":""},{"$f":"IF(AND($T131,$V131=\"C\",NOT(P131=0)),HYPERLINK(P131,\"Collection\"),\"\")","v":""},{"$f":"IF(AND($T131,$V131=\"C\",NOT(Q131=0)),HYPERLINK(Q131,\"Data\"),\"\")","v":""},null,{"$f":"IF($T131,OFFSET(DetailListPending!J$1,$W131,0),\"\")","v":""},{"$f":"IF($T131,OFFSET(DetailListPending!K$1,$W131,0),\"\")","v":""},{"$f":"IF($T131,OFFSET(DetailListPending!AU$1,$W131,0),\"\")","v":""},{"$f":"IF($T131,OFFSET(DetailListPending!AS$1,$W131,0),\"\")","v":""},null,{"$f":"IF($T131,OFFSET(DetailListPending!P$1,$W131,0),\"\")","v":""},{"$f":"IF($T131,OFFSET(DetailListPending!Q$1,$W131,0),\"\")","v":""},{"$f":"IF($T131,OFFSET(DetailListPending!R$1,$W131,0),\"\")","v":""},null,false,130,{"$f":"IF($T131,OFFSET(DetailListPending!A$1,$W131,0),\"\")","v":""},{"$f":"MATCH(U131,DetailListPending!BG:BG,0)-1","v":{"$error":"#N/A"}}]
[null,{"$f":"IF($T132,OFFSET(DetailListPending!C$1,$W132,0),\"\")","v":""},{"$f":"IF($T132,OFFSET(DetailListPending!E$1,$W132,0),\"\")","v":""},{"$f":"IF($T132,OFFSET(DetailListPending!F$1,$W132,0),\"\")","v":""},{"$f":"IF($T132,OFFSET(DetailListPending!B$1,$W132,0),\"\")","v":""},null,"","","",null,{"$f":"IF($T132,OFFSET(DetailListPending!J$1,$W132,0),\"\")","v":""},{"$f":"IF($T132,OFFSET(DetailListPending!K$1,$W132,0),\"\")","v":""},{"$f":"IF($T132,OFFSET(DetailListPending!AU$1,$W132,0),\"\")","v":""},{"$f":"IF($T132,OFFSET(DetailListPending!AS$1,$W132,0),\"\")","v":""},null,{"$f":"IF($T132,OFFSET(DetailListPending!P$1,$W132,0),\"\")","v":""},{"$f":"IF($T132,OFFSET(DetailListPending!Q$1,$W132,0),\"\")","v":""},{"$f":"IF($T132,OFFSET(DetailListPending!R$1,$W132,0),\"\")","v":""},null,false,131,{"$f":"IF($T132,OFFSET(DetailListPending!A$1,$W132,0),\"\")","v":""},{"$f":"MATCH(U132,DetailListPending!BG:BG,0)-1","v":{"$error":"#N/A"}}]
[null,{"$f":"IF($T133,OFFSET(DetailListPending!C$1,$W133,0),\"\")","v":""},{"$f":"IF($T133,OFFSET(DetailListPending!E$1,$W133,0),\"\")","v":""},{"$f":"IF($T133,OFFSET(DetailListPending!F$1,$W133,0),\"\")","v":""},{"$f":"IF($T133,OFFSET(DetailListPending!B$1,$W133,0),\"\")","v":""},null,"","","",null,{"$f":"IF($T133,OFFSET(DetailListPending!J$1,$W133,0),\"\")","v":""},{"$f":"IF($T133,OFFSET(DetailListPending!K$1,$W133,0),\"\")","v":""},{"$f":"IF($T133,OFFSET(DetailListPending!AU$1,$W133,0),\"\")","v":""},{"$f":"IF($T133,OFFSET(DetailListPending!AS$1,$W133,0),\"\")","v":""},null,{"$f":"IF($T133,OFFSET(DetailListPending!P$1,$W133,0),\"\")","v":""},{"$f":"IF($T133,OFFSET(DetailListPending!Q$1,$W133,0),\"\")","v":""},{"$f":"IF($T133,OFFSET(DetailListPending!R$1,$W133,0),\"\")","v":""},null,false,132,{"$f":"IF($T133,OFFSET(DetailListPending!A$1,$W133,0),\"\")","v":""},{"$f":"MATCH(U133,DetailListPending!BG:BG,0)-1","v":{"$error":"#N/A"}}]
[null,{"$f":"IF($T134,OFFSET(DetailListPending!C$1,$W134,0),\"\")","v":""},{"$f":"IF($T134,OFFSET(DetailListPending!E$1,$W134,0),\"\")","v":""},{"$f":"IF($T134,OFFSET(DetailListPending!F$1,$W134,0),\"\")","v":""},{"$f":"IF($T134,OFFSET(DetailListPending!B$1,$W134,0),\"\")","v":""},null,"","","",null,{"$f":"IF($T134,OFFSET(DetailListPending!J$1,$W134,0),\"\")","v":""},{"$f":"IF($T134,OFFSET(DetailListPending!K$1,$W134,0),\"\")","v":""},{"$f":"IF($T134,OFFSET(DetailListPending!AU$1,$W134,0),\"\")","v":""},{"$f":"IF($T134,OFFSET(DetailListPending!AS$1,$W134,0),\"\")","v":""},null,{"$f":"IF($T134,OFFSET(DetailListPending!P$1,$W134,0),\"\")","v":""},{"$f":"IF($T134,OFFSET(DetailListPending!Q$1,$W134,0),\"\")","v":""},{"$f":"IF($T134,OFFSET(DetailListPending!R$1,$W134,0),\"\")","v":""},null,false,133,{"$f":"IF($T134,OFFSET(DetailListPending!A$1,$W134,0),\"\")","v":""},{"$f":"MATCH(U134,DetailListPending!BG:BG,0)-1","v":{"$error":"#N/A"}}]
[null,{"$f":"IF($T135,OFFSET(DetailListPending!C$1,$W135,0),\"\")","v":""},{"$f":"IF($T135,OFFSET(DetailListPending!E$1,$W135,0),\"\")","v":""},{"$f":"IF($T135,OFFSET(DetailListPending!F$1,$W135,0),\"\")","v":""},{"$f":"IF($T135,OFFSET(DetailListPending!B$1,$W135,0),\"\")","v":""},null,"","","",null,{"$f":"IF($T135,OFFSET(DetailListPending!J$1,$W135,0),\"\")","v":""},{"$f":"IF($T135,OFFSET(DetailListPending!K$1,$W135,0),\"\")","v":""},{"$f":"IF($T135,OFFSET(DetailListPending!AU$1,$W135,0),\"\")","v":""},{"$f":"IF($T135,OFFSET(DetailListPending!AS$1,$W135,0),\"\")","v":""},null,{"$f":"IF($T135,OFFSET(DetailListPending!P$1,$W135,0),\"\")","v":""},{"$f":"IF($T135,OFFSET(DetailListPending!Q$1,$W135,0),\"\")","v":""},{"$f":"IF($T135,OFFSET(DetailListPending!R$1,$W135,0),\"\")","v":""},null,false,134,{"$f":"IF($T135,OFFSET(DetailListPending!A$1,$W135,0),\"\")","v":""},{"$f":"MATCH(U135,DetailListPending!BG:BG,0)-1","v":{"$error":"#N/A"}}]
[null,{"$f":"IF($T136,OFFSET(DetailListPending!C$1,$W136,0),\"\")","v":""},{"$f":"IF($T136,OFFSET(DetailListPending!E$1,$W136,0),\"\")","v":""},{"$f":"IF($T136,OFFSET(DetailListPending!F$1,$W136,0),\"\")","v":""},{"$f":"IF($T136,OFFSET(DetailListPending!B$1,$W136,0),\"\")","v":""},null,"","","",null,{"$f":"IF($T136,OFFSET(DetailListPending!J$1,$W136,0),\"\")","v":""},{"$f":"IF($T136,OFFSET(DetailListPending!K$1,$W136,0),\"\")","v":""},{"$f":"IF($T136,OFFSET(DetailListPending!AU$1,$W136,0),\"\")","v":""},{"$f":"IF($T136,OFFSET(DetailListPending!AS$1,$W136,0),\"\")","v":""},null,{"$f":"IF($T136,OFFSET(DetailListPending!P$1,$W136,0),\"\")","v":""},{"$f":"IF($T136,OFFSET(DetailListPending!Q$1,$W136,0),\"\")","v":""},{"$f":"IF($T136,OFFSET(DetailListPending!R$1,$W136,0),\"\")","v":""},null,false,135,{"$f":"IF($T136,OFFSET(DetailListPending!A$1,$W136,0),\"\")","v":""},{"$f":"MATCH(U136,DetailListPending!BG:BG,0)-1","v":{"$error":"#N/A"}}]
[null,{"$f":"IF($T137,OFFSET(DetailListPending!C$1,$W137,0),\"\")","v":""},{"$f":"IF($T137,OFFSET(DetailListPending!E$1,$W137,0),\"\")","v":""},{"$f":"IF($T137,OFFSET(DetailListPending!F$1,$W137,0),\"\")","v":""},{"$f":"IF($T137,OFFSET(DetailListPending!B$1,$W137,0),\"\")","v":""},null,"","","",null,{"$f":"IF($T137,OFFSET(DetailListPending!J$1,$W137,0),\"\")","v":""},{"$f":"IF($T137,OFFSET(DetailListPending!K$1,$W137,0),\"\")","v":""},{"$f":"IF($T137,OFFSET(DetailListPending!AU$1,$W137,0),\"\")","v":""},{"$f":"IF($T137,OFFSET(DetailListPending!AS$1,$W137,0),\"\")","v":""},null,{"$f":"IF($T137,OFFSET(DetailListPending!P$1,$W137,0),\"\")","v":""},{"$f":"IF($T137,OFFSET(DetailListPending!Q$1,$W137,0),\"\")","v":""},{"$f":"IF($T137,OFFSET(DetailListPending!R$1,$W137,0),\"\")","v":""},null,false,136,{"$f":"IF($T137,OFFSET(DetailListPending!A$1,$W137,0),\"\")","v":""},{"$f":"MATCH(U137,DetailListPending!BG:BG,0)-1","v":{"$error":"#N/A"}}]
[null,{"$f":"IF($T138,OFFSET(DetailListPending!C$1,$W138,0),\"\")","v":""},{"$f":"IF($T138,OFFSET(DetailListPending!E$1,$W138,0),\"\")","v":""},{"$f":"IF($T138,OFFSET(DetailListPending!F$1,$W138,0),\"\")","v":""},{"$f":"IF($T138,OFFSET(DetailListPending!B$1,$W138,0),\"\")","v":""},null,"","","",null,{"$f":"IF($T138,OFFSET(DetailListPending!J$1,$W138,0),\"\")","v":""},{"$f":"IF($T138,OFFSET(DetailListPending!K$1,$W138,0),\"\")","v":""},{"$f":"IF($T138,OFFSET(DetailListPending!AU$1,$W138,0),\"\")","v":""},{"$f":"IF($T138,OFFSET(DetailListPending!AS$1,$W138,0),\"\")","v":""},null,{"$f":"IF($T138,OFFSET(DetailListPending!P$1,$W138,0),\"\")","v":""},{"$f":"IF($T138,OFFSET(DetailListPending!Q$1,$W138,0),\"\")","v":""},{"$f":"IF($T138,OFFSET(DetailListPending!R$1,$W138,0),\"\")","v":""},null,false,137,{"$f":"IF($T138,OFFSET(DetailListPending!A$1,$W138,0),\"\")","v":""},{"$f":"MATCH(U138,DetailListPending!BG:BG,0)-1","v":{"$error":"#N/A"}}]
[null,{"$f":"IF($T139,OFFSET(DetailListPending!C$1,$W139,0),\"\")","v":""},{"$f":"IF($T139,OFFSET(DetailListPending!E$1,$W139,0),\"\")","v":""},{"$f":"IF($T139,OFFSET(DetailListPending!F$1,$W139,0),\"\")","v":""},{"$f":"IF($T139,OFFSET(DetailListPending!B$1,$W139,0),\"\")","v":""},null,"","","",null,{"$f":"IF($T139,OFFSET(DetailListPending!J$1,$W139,0),\"\")","v":""},{"$f":"IF($T139,OFFSET(DetailListPending!K$1,$W139,0),\"\")","v":""},{"$f":"IF($T139,OFFSET(DetailListPending!AU$1,$W139,0),\"\")","v":""},{"$f":"IF($T139,OFFSET(DetailListPending!AS$1,$W139,0),\"\")","v":""},null,{"$f":"IF($T139,OFFSET(DetailListPending!P$1,$W139,0),\"\")","v":""},{"$f":"IF($T139,OFFSET(DetailListPending!Q$1,$W139,0),\"\")","v":""},{"$f":"IF($T139,OFFSET(DetailListPending!R$1,$W139,0),\"\")","v":""},null,false,138,{"$f":"IF($T139,OFFSET(DetailListPending!A$1,$W139,0),\"\")","v":""},{"$f":"MATCH(U139,DetailListPending!BG:BG,0)-1","v":{"$error":"#N/A"}}]
[null,{"$f":"IF($T140,OFFSET(DetailListPending!C$1,$W140,0),\"\")","v":""},{"$f":"IF($T140,OFFSET(DetailListPending!E$1,$W140,0),\"\")","v":""},{"$f":"IF($T140,OFFSET(DetailListPending!F$1,$W140,0),\"\")","v":""},{"$f":"IF($T140,OFFSET(DetailListPending!B$1,$W140,0),\"\")","v":""},null,"","","",null,{"$f":"IF($T140,OFFSET(DetailListPending!J$1,$W140,0),\"\")","v":""},{"$f":"IF($T140,OFFSET(DetailListPending!K$1,$W140,0),\"\")","v":""},{"$f":"IF($T140,OFFSET(DetailListPending!AU$1,$W140,0),\"\")","v":""},{"$f":"IF($T140,OFFSET(DetailListPending!AS$1,$W140,0),\"\")","v":""},null,{"$f":"IF($T140,OFFSET(DetailListPending!P$1,$W140,0),\"\")","v":""},{"$f":"IF($T140,OFFSET(DetailListPending!Q$1,$W140,0),\"\")","v":""},{"$f":"IF($T140,OFFSET(DetailListPending!R$1,$W140,0),\"\")","v":""},null,false,139,{"$f":"IF($T140,OFFSET(DetailListPending!A$1,$W140,0),\"\")","v":""},{"$f":"MATCH(U140,DetailListPending!BG:BG,0)-1","v":{"$error":"#N/A"}}]
[null,{"$f":"IF($T141,OFFSET(DetailListPending!C$1,$W141,0),\"\")","v":""},{"$f":"IF($T141,OFFSET(DetailListPending!E$1,$W141,0),\"\")","v":""},{"$f":"IF($T141,OFFSET(DetailListPending!F$1,$W141,0),\"\")","v":""},{"$f":"IF($T141,OFFSET(DetailListPending!B$1,$W141,0),\"\")","v":""},null,"","","",null,{"$f":"IF($T141,OFFSET(DetailListPending!J$1,$W141,0),\"\")","v":""},{"$f":"IF($T141,OFFSET(DetailListPending!K$1,$W141,0),\"\")","v":""},{"$f":"IF($T141,OFFSET(DetailListPending!AU$1,$W141,0),\"\")","v":""},{"$f":"IF($T141,OFFSET(DetailListPending!AS$1,$W141,0),\"\")","v":""},null,{"$f":"IF($T141,OFFSET(DetailListPending!P$1,$W141,0),\"\")","v":""},{"$f":"IF($T141,OFFSET(DetailListPending!Q$1,$W141,0),\"\")","v":""},{"$f":"IF($T141,OFFSET(DetailListPending!R$1,$W141,0),\"\")","v":""},null,false,140,{"$f":"IF($T141,OFFSET(DetailListPending!A$1,$W141,0),\"\")","v":""},{"$f":"MATCH(U141,DetailListPending!BG:BG,0)-1","v":{"$error":"#N/A"}}]
[null,{"$f":"IF($T142,OFFSET(DetailListPending!C$1,$W142,0),\"\")","v":""},{"$f":"IF($T142,OFFSET(DetailListPending!E$1,$W142,0),\"\")","v":""},{"$f":"IF($T142,OFFSET(DetailListPending!F$1,$W142,0),\"\")","v":""},{"$f":"IF($T142,OFFSET(DetailListPending!B$1,$W142,0),\"\")","v":""},null,"","","",null,{"$f":"IF($T142,OFFSET(DetailListPending!J$1,$W142,0),\"\")","v":""},{"$f":"IF($T142,OFFSET(DetailListPending!K$1,$W142,0),\"\")","v":""},{"$f":"IF($T142,OFFSET(DetailListPending!AU$1,$W142,0),\"\")","v":""},{"$f":"IF($T142,OFFSET(DetailListPending!AS$1,$W142,0),\"\")","v":""},null,{"$f":"IF($T142,OFFSET(DetailListPending!P$1,$W142,0),\"\")","v":""},{"$f":"IF($T142,OFFSET(DetailListPending!Q$1,$W142,0),\"\")","v":""},{"$f":"IF($T142,OFFSET(DetailListPending!R$1,$W142,0),\"\")","v":""},null,false,141,{"$f":"IF($T142,OFFSET(DetailListPending!A$1,$W142,0),\"\")","v":""},{"$f":"MATCH(U142,DetailListPending!BG:BG,0)-1","v":{"$error":"#N/A"}}]
[null,{"$f":"IF($T143,OFFSET(DetailListPending!C$1,$W143,0),\"\")","v":""},{"$f":"IF($T143,OFFSET(DetailListPending!E$1,$W143,0),\"\")","v":""},{"$f":"IF($T143,OFFSET(DetailListPending!F$1,$W143,0),\"\")","v":""},{"$f":"IF($T143,OFFSET(DetailListPending!B$1,$W143,0),\"\")","v":""},null,"","","",null,{"$f":"IF($T143,OFFSET(DetailListPending!J$1,$W143,0),\"\")","v":""},{"$f":"IF($T143,OFFSET(DetailListPending!K$1,$W143,0),\"\")","v":""},{"$f":"IF($T143,OFFSET(DetailListPending!AU$1,$W143,0),\"\")","v":""},{"$f":"IF($T143,OFFSET(DetailListPending!AS$1,$W143,0),\"\")","v":""},null,{"$f":"IF($T143,OFFSET(DetailListPending!P$1,$W143,0),\"\")","v":""},{"$f":"IF($T143,OFFSET(DetailListPending!Q$1,$W143,0),\"\")","v":""},{"$f":"IF($T143,OFFSET(DetailListPending!R$1,$W143,0),\"\")","v":""},null,false,142,{"$f":"IF($T143,OFFSET(DetailListPending!A$1,$W143,0),\"\")","v":""},{"$f":"MATCH(U143,DetailListPending!BG:BG,0)-1","v":{"$error":"#N/A"}}]
[null,{"$f":"IF($T144,OFFSET(DetailListPending!C$1,$W144,0),\"\")","v":""},{"$f":"IF($T144,OFFSET(DetailListPending!E$1,$W144,0),\"\")","v":""},{"$f":"IF($T144,OFFSET(DetailListPending!F$1,$W144,0),\"\")","v":""},{"$f":"IF($T144,OFFSET(DetailListPending!B$1,$W144,0),\"\")","v":""},null,"","","",null,{"$f":"IF($T144,OFFSET(DetailListPending!J$1,$W144,0),\"\")","v":""},{"$f":"IF($T144,OFFSET(DetailListPending!K$1,$W144,0),\"\")","v":""},{"$f":"IF($T144,OFFSET(DetailListPending!AU$1,$W144,0),\"\")","v":""},{"$f":"IF($T144,OFFSET(DetailListPending!AS$1,$W144,0),\"\")","v":""},null,{"$f":"IF($T144,OFFSET(DetailListPending!P$1,$W144,0),\"\")","v":""},{"$f":"IF($T144,OFFSET(DetailListPending!Q$1,$W144,0),\"\")","v":""},{"$f":"IF($T144,OFFSET(DetailListPending!R$1,$W144,0),\"\")","v":""},null,false,143,{"$f":"IF($T144,OFFSET(DetailListPending!A$1,$W144,0),\"\")","v":""},{"$f":"MATCH(U144,DetailListPending!BG:BG,0)-1","v":{"$error":"#N/A"}}]
[null,{"$f":"IF($T145,OFFSET(DetailListPending!C$1,$W145,0),\"\")","v":""},{"$f":"IF($T145,OFFSET(DetailListPending!E$1,$W145,0),\"\")","v":""},{"$f":"IF($T145,OFFSET(DetailListPending!F$1,$W145,0),\"\")","v":""},{"$f":"IF($T145,OFFSET(DetailListPending!B$1,$W145,0),\"\")","v":""},null,"","","",null,{"$f":"IF($T145,OFFSET(DetailListPending!J$1,$W145,0),\"\")","v":""},{"$f":"IF($T145,OFFSET(DetailListPending!K$1,$W145,0),\"\")","v":""},{"$f":"IF($T145,OFFSET(DetailListPending!AU$1,$W145,0),\"\")","v":""},{"$f":"IF($T145,OFFSET(DetailListPending!AS$1,$W145,0),\"\")","v":""},null,{"$f":"IF($T145,OFFSET(DetailListPending!P$1,$W145,0),\"\")","v":""},{"$f":"IF($T145,OFFSET(DetailListPending!Q$1,$W145,0),\"\")","v":""},{"$f":"IF($T145,OFFSET(DetailListPending!R$1,$W145,0),\"\")","v":""},null,false,144,{"$f":"IF($T145,OFFSET(DetailListPending!A$1,$W145,0),\"\")","v":""},{"$f":"MATCH(U145,DetailListPending!BG:BG,0)-1","v":{"$error":"#N/A"}}]
[null,{"$f":"IF($T146,OFFSET(DetailListPending!C$1,$W146,0),\"\")","v":""},{"$f":"IF($T146,OFFSET(DetailListPending!E$1,$W146,0),\"\")","v":""},{"$f":"IF($T146,OFFSET(DetailListPending!F$1,$W146,0),\"\")","v":""},{"$f":"IF($T146,OFFSET(DetailListPending!B$1,$W146,0),\"\")","v":""},null,"","","",null,{"$f":"IF($T146,OFFSET(DetailListPending!J$1,$W146,0),\"\")","v":""},{"$f":"IF($T146,OFFSET(DetailListPending!K$1,$W146,0),\"\")","v":""},{"$f":"IF($T146,OFFSET(DetailListPending!AU$1,$W146,0),\"\")","v":""},{"$f":"IF($T146,OFFSET(DetailListPending!AS$1,$W146,0),\"\")","v":""},null,{"$f":"IF($T146,OFFSET(DetailListPending!P$1,$W146,0),\"\")","v":""},{"$f":"IF($T146,OFFSET(DetailListPending!Q$1,$W146,0),\"\")","v":""},{"$f":"IF($T146,OFFSET(DetailListPending!R$1,$W146,0),\"\")","v":""},null,false,145,{"$f":"IF($T146,OFFSET(DetailListPending!A$1,$W146,0),\"\")","v":""},{"$f":"MATCH(U146,DetailListPending!BG:BG,0)-1","v":{"$error":"#N/A"}}]
[null,{"$f":"IF($T147,OFFSET(DetailListPending!C$1,$W147,0),\"\")","v":""},{"$f":"IF($T147,OFFSET(DetailListPending!E$1,$W147,0),\"\")","v":""},{"$f":"IF($T147,OFFSET(DetailListPending!F$1,$W147,0),\"\")","v":""},{"$f":"IF($T147,OFFSET(DetailListPending!B$1,$W147,0),\"\")","v":""},null,"","","",null,{"$f":"IF($T147,OFFSET(DetailListPending!J$1,$W147,0),\"\")","v":""},{"$f":"IF($T147,OFFSET(DetailListPending!K$1,$W147,0),\"\")","v":""},{"$f":"IF($T147,OFFSET(DetailListPending!AU$1,$W147,0),\"\")","v":""},{"$f":"IF($T147,OFFSET(DetailListPending!AS$1,$W147,0),\"\")","v":""},null,{"$f":"IF($T147,OFFSET(DetailListPending!P$1,$W147,0),\"\")","v":""},{"$f":"IF($T147,OFFSET(DetailListPending!Q$1,$W147,0),\"\")","v":""},{"$f":"IF($T147,OFFSET(DetailListPending!R$1,$W147,0),\"\")","v":""},null,false,146,{"$f":"IF($T147,OFFSET(DetailListPending!A$1,$W147,0),\"\")","v":""},{"$f":"MATCH(U147,DetailListPending!BG:BG,0)-1","v":{"$error":"#N/A"}}]
[null,{"$f":"IF($T148,OFFSET(DetailListPending!C$1,$W148,0),\"\")","v":""},{"$f":"IF($T148,OFFSET(DetailListPending!E$1,$W148,0),\"\")","v":""},{"$f":"IF($T148,OFFSET(DetailListPending!F$1,$W148,0),\"\")","v":""},{"$f":"IF($T148,OFFSET(DetailListPending!B$1,$W148,0),\"\")","v":""},null,"","","",null,{"$f":"IF($T148,OFFSET(DetailListPending!J$1,$W148,0),\"\")","v":""},{"$f":"IF($T148,OFFSET(DetailListPending!K$1,$W148,0),\"\")","v":""},{"$f":"IF($T148,OFFSET(DetailListPending!AU$1,$W148,0),\"\")","v":""},{"$f":"IF($T148,OFFSET(DetailListPending!AS$1,$W148,0),\"\")","v":""},null,{"$f":"IF($T148,OFFSET(DetailListPending!P$1,$W148,0),\"\")","v":""},{"$f":"IF($T148,OFFSET(DetailListPending!Q$1,$W148,0),\"\")","v":""},{"$f":"IF($T148,OFFSET(DetailListPending!R$1,$W148,0),\"\")","v":""},null,false,147,{"$f":"IF($T148,OFFSET(DetailListPending!A$1,$W148,0),\"\")","v":""},{"$f":"MATCH(U148,DetailListPending!BG:BG,0)-1","v":{"$error":"#N/A"}}]
[null,{"$f":"IF($T149,OFFSET(DetailListPending!C$1,$W149,0),\"\")","v":""},{"$f":"IF($T149,OFFSET(DetailListPending!E$1,$W149,0),\"\")","v":""},{"$f":"IF($T149,OFFSET(DetailListPending!F$1,$W149,0),\"\")","v":""},{"$f":"IF($T149,OFFSET(DetailListPending!B$1,$W149,0),\"\")","v":""},null,"","","",null,{"$f":"IF($T149,OFFSET(DetailListPending!J$1,$W149,0),\"\")","v":""},{"$f":"IF($T149,OFFSET(DetailListPending!K$1,$W149,0),\"\")","v":""},{"$f":"IF($T149,OFFSET(DetailListPending!AU$1,$W149,0),\"\")","v":""},{"$f":"IF($T149,OFFSET(DetailListPending!AS$1,$W149,0),\"\")","v":""},null,{"$f":"IF($T149,OFFSET(DetailListPending!P$1,$W149,0),\"\")","v":""},{"$f":"IF($T149,OFFSET(DetailListPending!Q$1,$W149,0),\"\")","v":""},{"$f":"IF($T149,OFFSET(DetailListPending!R$1,$W149,0),\"\")","v":""},null,false,148,{"$f":"IF($T149,OFFSET(DetailListPending!A$1,$W149,0),\"\")","v":""},{"$f":"MATCH(U149,DetailListPending!BG:BG,0)-1","v":{"$error":"#N/A"}}]
[null,{"$f":"IF($T150,OFFSET(DetailListPending!C$1,$W150,0),\"\")","v":""},{"$f":"IF($T150,OFFSET(DetailListPending!E$1,$W150,0),\"\")","v":""},{"$f":"IF($T150,OFFSET(DetailListPending!F$1,$W150,0),\"\")","v":""},{"$f":"IF($T150,OFFSET(DetailListPending!B$1,$W150,0),\"\")","v":""},null,"","","",null,{"$f":"IF($T150,OFFSET(DetailListPending!J$1,$W150,0),\"\")","v":""},{"$f":"IF($T150,OFFSET(DetailListPending!K$1,$W150,0),\"\")","v":""},{"$f":"IF($T150,OFFSET(DetailListPending!AU$1,$W150,0),\"\")","v":""},{"$f":"IF($T150,OFFSET(DetailListPending!AS$1,$W150,0),\"\")","v":""},null,{"$f":"IF($T150,OFFSET(DetailListPending!P$1,$W150,0),\"\")","v":""},{"$f":"IF($T150,OFFSET(DetailListPending!Q$1,$W150,0),\"\")","v":""},{"$f":"IF($T150,OFFSET(DetailListPending!R$1,$W150,0),\"\")","v":""},null,false,149,{"$f":"IF($T150,OFFSET(DetailListPending!A$1,$W150,0),\"\")","v":""},{"$f":"MATCH(U150,DetailListPending!BG:BG,0)-1","v":{"$error":"#N/A"}}]
[null,{"$f":"IF($T151,OFFSET(DetailListPending!C$1,$W151,0),\"\")","v":""},{"$f":"IF($T151,OFFSET(DetailListPending!E$1,$W151,0),\"\")","v":""},{"$f":"IF($T151,OFFSET(DetailListPending!F$1,$W151,0),\"\")","v":""},{"$f":"IF($T151,OFFSET(DetailListPending!B$1,$W151,0),\"\")","v":""},null,"","","",null,{"$f":"IF($T151,OFFSET(DetailListPending!J$1,$W151,0),\"\")","v":""},{"$f":"IF($T151,OFFSET(DetailListPending!K$1,$W151,0),\"\")","v":""},{"$f":"IF($T151,OFFSET(DetailListPending!AU$1,$W151,0),\"\")","v":""},{"$f":"IF($T151,OFFSET(DetailListPending!AS$1,$W151,0),\"\")","v":""},null,{"$f":"IF($T151,OFFSET(DetailListPending!P$1,$W151,0),\"\")","v":""},{"$f":"IF($T151,OFFSET(DetailListPending!Q$1,$W151,0),\"\")","v":""},{"$f":"IF($T151,OFFSET(DetailListPending!R$1,$W151,0),\"\")","v":""},null,false,150,{"$f":"IF($T151,OFFSET(DetailListPending!A$1,$W151,0),\"\")","v":""},{"$f":"MATCH(U151,DetailListPending!BG:BG,0)-1","v":{"$error":"#N/A"}}]
[null,{"$f":"IF($T152,OFFSET(DetailListPending!C$1,$W152,0),\"\")","v":""},{"$f":"IF($T152,OFFSET(DetailListPending!E$1,$W152,0),\"\")","v":""},{"$f":"IF($T152,OFFSET(DetailListPending!F$1,$W152,0),\"\")","v":""},{"$f":"IF($T152,OFFSET(DetailListPending!B$1,$W152,0),\"\")","v":""},null,"","","",null,{"$f":"IF($T152,OFFSET(DetailListPending!J$1,$W152,0),\"\")","v":""},{"$f":"IF($T152,OFFSET(DetailListPending!K$1,$W152,0),\"\")","v":""},{"$f":"IF($T152,OFFSET(DetailListPending!AU$1,$W152,0),\"\")","v":""},{"$f":"IF($T152,OFFSET(DetailListPending!AS$1,$W152,0),\"\")","v":""},null,{"$f":"IF($T152,OFFSET(DetailListPending!P$1,$W152,0),\"\")","v":""},{"$f":"IF($T152,OFFSET(DetailListPending!Q$1,$W152,0),\"\")","v":""},{"$f":"IF($T152,OFFSET(DetailListPending!R$1,$W152,0),\"\")","v":""},null,false,151,{"$f":"IF($T152,OFFSET(DetailListPending!A$1,$W152,0),\"\")","v":""},{"$f":"MATCH(U152,DetailListPending!BG:BG,0)-1","v":{"$error":"#N/A"}}]
[null,{"$f":"IF($T153,OFFSET(DetailListPending!C$1,$W153,0),\"\")","v":""},{"$f":"IF($T153,OFFSET(DetailListPending!E$1,$W153,0),\"\")","v":""},{"$f":"IF($T153,OFFSET(DetailListPending!F$1,$W153,0),\"\")","v":""},{"$f":"IF($T153,OFFSET(DetailListPending!B$1,$W153,0),\"\")","v":""},null,"","","",null,{"$f":"IF($T153,OFFSET(DetailListPending!J$1,$W153,0),\"\")","v":""},{"$f":"IF($T153,OFFSET(DetailListPending!K$1,$W153,0),\"\")","v":""},{"$f":"IF($T153,OFFSET(DetailListPending!AU$1,$W153,0),\"\")","v":""},{"$f":"IF($T153,OFFSET(DetailListPending!AS$1,$W153,0),\"\")","v":""},null,{"$f":"IF($T153,OFFSET(DetailListPending!P$1,$W153,0),\"\")","v":""},{"$f":"IF($T153,OFFSET(DetailListPending!Q$1,$W153,0),\"\")","v":""},{"$f":"IF($T153,OFFSET(DetailListPending!R$1,$W153,0),\"\")","v":""},null,false,152,{"$f":"IF($T153,OFFSET(DetailListPending!A$1,$W153,0),\"\")","v":""},{"$f":"MATCH(U153,DetailListPending!BG:BG,0)-1","v":{"$error":"#N/A"}}]
[null,{"$f":"IF($T154,OFFSET(DetailListPending!C$1,$W154,0),\"\")","v":""},{"$f":"IF($T154,OFFSET(DetailListPending!E$1,$W154,0),\"\")","v":""},{"$f":"IF($T154,OFFSET(DetailListPending!F$1,$W154,0),\"\")","v":""},{"$f":"IF($T154,OFFSET(DetailListPending!B$1,$W154,0),\"\")","v":""},null,"","","",null,{"$f":"IF($T154,OFFSET(DetailListPending!J$1,$W154,0),\"\")","v":""},{"$f":"IF($T154,OFFSET(DetailListPending!K$1,$W154,0),\"\")","v":""},{"$f":"IF($T154,OFFSET(DetailListPending!AU$1,$W154,0),\"\")","v":""},{"$f":"IF($T154,OFFSET(DetailListPending!AS$1,$W154,0),\"\")","v":""},null,{"$f":"IF($T154,OFFSET(DetailListPending!P$1,$W154,0),\"\")","v":""},{"$f":"IF($T154,OFFSET(DetailListPending!Q$1,$W154,0),\"\")","v":""},{"$f":"IF($T154,OFFSET(DetailListPending!R$1,$W154,0),\"\")","v":""},null,false,153,{"$f":"IF($T154,OFFSET(DetailListPending!A$1,$W154,0),\"\")","v":""},{"$f":"MATCH(U154,DetailListPending!BG:BG,0)-1","v":{"$error":"#N/A"}}]
[null,{"$f":"IF($T155,OFFSET(DetailListPending!C$1,$W155,0),\"\")","v":""},{"$f":"IF($T155,OFFSET(DetailListPending!E$1,$W155,0),\"\")","v":""},{"$f":"IF($T155,OFFSET(DetailListPending!F$1,$W155,0),\"\")","v":""},{"$f":"IF($T155,OFFSET(DetailListPending!B$1,$W155,0),\"\")","v":""},null,"","","",null,{"$f":"IF($T155,OFFSET(DetailListPending!J$1,$W155,0),\"\")","v":""},{"$f":"IF($T155,OFFSET(DetailListPending!K$1,$W155,0),\"\")","v":""},{"$f":"IF($T155,OFFSET(DetailListPending!AU$1,$W155,0),\"\")","v":""},{"$f":"IF($T155,OFFSET(DetailListPending!AS$1,$W155,0),\"\")","v":""},null,{"$f":"IF($T155,OFFSET(DetailListPending!P$1,$W155,0),\"\")","v":""},{"$f":"IF($T155,OFFSET(DetailListPending!Q$1,$W155,0),\"\")","v":""},{"$f":"IF($T155,OFFSET(DetailListPending!R$1,$W155,0),\"\")","v":""},null,false,154,{"$f":"IF($T155,OFFSET(DetailListPending!A$1,$W155,0),\"\")","v":""},{"$f":"MATCH(U155,DetailListPending!BG:BG,0)-1","v":{"$error":"#N/A"}}]
[null,{"$f":"IF($T156,OFFSET(DetailListPending!C$1,$W156,0),\"\")","v":""},{"$f":"IF($T156,OFFSET(DetailListPending!E$1,$W156,0),\"\")","v":""},{"$f":"IF($T156,OFFSET(DetailListPending!F$1,$W156,0),\"\")","v":""},{"$f":"IF($T156,OFFSET(DetailListPending!B$1,$W156,0),\"\")","v":""},null,"","","",null,{"$f":"IF($T156,OFFSET(DetailListPending!J$1,$W156,0),\"\")","v":""},{"$f":"IF($T156,OFFSET(DetailListPending!K$1,$W156,0),\"\")","v":""},{"$f":"IF($T156,OFFSET(DetailListPending!AU$1,$W156,0),\"\")","v":""},{"$f":"IF($T156,OFFSET(DetailListPending!AS$1,$W156,0),\"\")","v":""},null,{"$f":"IF($T156,OFFSET(DetailListPending!P$1,$W156,0),\"\")","v":""},{"$f":"IF($T156,OFFSET(DetailListPending!Q$1,$W156,0),\"\")","v":""},{"$f":"IF($T156,OFFSET(DetailListPending!R$1,$W156,0),\"\")","v":""},null,false,155,{"$f":"IF($T156,OFFSET(DetailListPending!A$1,$W156,0),\"\")","v":""},{"$f":"MATCH(U156,DetailListPending!BG:BG,0)-1","v":{"$error":"#N/A"}}]
[null,{"$f":"IF($T157,OFFSET(DetailListPending!C$1,$W157,0),\"\")","v":""},{"$f":"IF($T157,OFFSET(DetailListPending!E$1,$W157,0),\"\")","v":""},{"$f":"IF($T157,OFFSET(DetailListPending!F$1,$W157,0),\"\")","v":""},{"$f":"IF($T157,OFFSET(DetailListPending!B$1,$W157,0),\"\")","v":""},null,"","","",null,{"$f":"IF($T157,OFFSET(DetailListPending!J$1,$W157,0),\"\")","v":""},{"$f":"IF($T157,OFFSET(DetailListPending!K$1,$W157,0),\"\")","v":""},{"$f":"IF($T157,OFFSET(DetailListPending!AU$1,$W157,0),\"\")","v":""},{"$f":"IF($T157,OFFSET(DetailListPending!AS$1,$W157,0),\"\")","v":""},null,{"$f":"IF($T157,OFFSET(DetailListPending!P$1,$W157,0),\"\")","v":""},{"$f":"IF($T157,OFFSET(DetailListPending!Q$1,$W157,0),\"\")","v":""},{"$f":"IF($T157,OFFSET(DetailListPending!R$1,$W157,0),\"\")","v":""},null,false,156,{"$f":"IF($T157,OFFSET(DetailListPending!A$1,$W157,0),\"\")","v":""},{"$f":"MATCH(U157,DetailListPending!BG:BG,0)-1","v":{"$error":"#N/A"}}]
[null,{"$f":"IF($T158,OFFSET(DetailListPending!C$1,$W158,0),\"\")","v":""},{"$f":"IF($T158,OFFSET(DetailListPending!E$1,$W158,0),\"\")","v":""},{"$f":"IF($T158,OFFSET(DetailListPending!F$1,$W158,0),\"\")","v":""},{"$f":"IF($T158,OFFSET(DetailListPending!B$1,$W158,0),\"\")","v":""},null,"","","",null,{"$f":"IF($T158,OFFSET(DetailListPending!J$1,$W158,0),\"\")","v":""},{"$f":"IF($T158,OFFSET(DetailListPending!K$1,$W158,0),\"\")","v":""},{"$f":"IF($T158,OFFSET(DetailListPending!AU$1,$W158,0),\"\")","v":""},{"$f":"IF($T158,OFFSET(DetailListPending!AS$1,$W158,0),\"\")","v":""},null,{"$f":"IF($T158,OFFSET(DetailListPending!P$1,$W158,0),\"\")","v":""},{"$f":"IF($T158,OFFSET(DetailListPending!Q$1,$W158,0),\"\")","v":""},{"$f":"IF($T158,OFFSET(DetailListPending!R$1,$W158,0),\"\")","v":""},null,false,157,{"$f":"IF($T158,OFFSET(DetailListPending!A$1,$W158,0),\"\")","v":""},{"$f":"MATCH(U158,DetailListPending!BG:BG,0)-1","v":{"$error":"#N/A"}}]
[null,{"$f":"IF($T159,OFFSET(DetailListPending!C$1,$W159,0),\"\")","v":""},{"$f":"IF($T159,OFFSET(DetailListPending!E$1,$W159,0),\"\")","v":""},{"$f":"IF($T159,OFFSET(DetailListPending!F$1,$W159,0),\"\")","v":""},{"$f":"IF($T159,OFFSET(DetailListPending!B$1,$W159,0),\"\")","v":""},null,"","","",null,{"$f":"IF($T159,OFFSET(DetailListPending!J$1,$W159,0),\"\")","v":""},{"$f":"IF($T159,OFFSET(DetailListPending!K$1,$W159,0),\"\")","v":""},{"$f":"IF($T159,OFFSET(DetailListPending!AU$1,$W159,0),\"\")","v":""},{"$f":"IF($T159,OFFSET(DetailListPending!AS$1,$W159,0),\"\")","v":""},null,{"$f":"IF($T159,OFFSET(DetailListPending!P$1,$W159,0),\"\")","v":""},{"$f":"IF($T159,OFFSET(DetailListPending!Q$1,$W159,0),\"\")","v":""},{"$f":"IF($T159,OFFSET(DetailListPending!R$1,$W159,0),\"\")","v":""},null,false,158,{"$f":"IF($T159,OFFSET(DetailListPending!A$1,$W159,0),\"\")","v":""},{"$f":"MATCH(U159,DetailListPending!BG:BG,0)-1","v":{"$error":"#N/A"}}]
[null,{"$f":"IF($T160,OFFSET(DetailListPending!C$1,$W160,0),\"\")","v":""},{"$f":"IF($T160,OFFSET(DetailListPending!E$1,$W160,0),\"\")","v":""},{"$f":"IF($T160,OFFSET(DetailListPending!F$1,$W160,0),\"\")","v":""},{"$f":"IF($T160,OFFSET(DetailListPending!B$1,$W160,0),\"\")","v":""},null,"","","",null,{"$f":"IF($T160,OFFSET(DetailListPending!J$1,$W160,0),\"\")","v":""},{"$f":"IF($T160,OFFSET(DetailListPending!K$1,$W160,0),\"\")","v":""},{"$f":"IF($T160,OFFSET(DetailListPending!AU$1,$W160,0),\"\")","v":""},{"$f":"IF($T160,OFFSET(DetailListPending!AS$1,$W160,0),\"\")","v":""},null,{"$f":"IF($T160,OFFSET(DetailListPending!P$1,$W160,0),\"\")","v":""},{"$f":"IF($T160,OFFSET(DetailListPending!Q$1,$W160,0),\"\")","v":""},{"$f":"IF($T160,OFFSET(DetailListPending!R$1,$W160,0),\"\")","v":""},null,false,159,{"$f":"IF($T160,OFFSET(DetailListPending!A$1,$W160,0),\"\")","v":""},{"$f":"MATCH(U160,DetailListPending!BG:BG,0)-1","v":{"$error":"#N/A"}}]
[null,{"$f":"IF($T161,OFFSET(DetailListPending!C$1,$W161,0),\"\")","v":""},{"$f":"IF($T161,OFFSET(DetailListPending!E$1,$W161,0),\"\")","v":""},{"$f":"IF($T161,OFFSET(DetailListPending!F$1,$W161,0),\"\")","v":""},{"$f":"IF($T161,OFFSET(DetailListPending!B$1,$W161,0),\"\")","v":""},null,"","","",null,{"$f":"IF($T161,OFFSET(DetailListPending!J$1,$W161,0),\"\")","v":""},{"$f":"IF($T161,OFFSET(DetailListPending!K$1,$W161,0),\"\")","v":""},{"$f":"IF($T161,OFFSET(DetailListPending!AU$1,$W161,0),\"\")","v":""},{"$f":"IF($T161,OFFSET(DetailListPending!AS$1,$W161,0),\"\")","v":""},null,{"$f":"IF($T161,OFFSET(DetailListPending!P$1,$W161,0),\"\")","v":""},{"$f":"IF($T161,OFFSET(DetailListPending!Q$1,$W161,0),\"\")","v":""},{"$f":"IF($T161,OFFSET(DetailListPending!R$1,$W161,0),\"\")","v":""},null,false,160,{"$f":"IF($T161,OFFSET(DetailListPending!A$1,$W161,0),\"\")","v":""},{"$f":"MATCH(U161,DetailListPending!BG:BG,0)-1","v":{"$error":"#N/A"}}]
[null,{"$f":"IF($T162,OFFSET(DetailListPending!C$1,$W162,0),\"\")","v":""},{"$f":"IF($T162,OFFSET(DetailListPending!E$1,$W162,0),\"\")","v":""},{"$f":"IF($T162,OFFSET(DetailListPending!F$1,$W162,0),\"\")","v":""},{"$f":"IF($T162,OFFSET(DetailListPending!B$1,$W162,0),\"\")","v":""},null,"","","",null,{"$f":"IF($T162,OFFSET(DetailListPending!J$1,$W162,0),\"\")","v":""},{"$f":"IF($T162,OFFSET(DetailListPending!K$1,$W162,0),\"\")","v":""},{"$f":"IF($T162,OFFSET(DetailListPending!AU$1,$W162,0),\"\")","v":""},{"$f":"IF($T162,OFFSET(DetailListPending!AS$1,$W162,0),\"\")","v":""},null,{"$f":"IF($T162,OFFSET(DetailListPending!P$1,$W162,0),\"\")","v":""},{"$f":"IF($T162,OFFSET(DetailListPending!Q$1,$W162,0),\"\")","v":""},{"$f":"IF($T162,OFFSET(DetailListPending!R$1,$W162,0),\"\")","v":""},null,{"$f":"U162<=Y$1","v":false},161,{"$f":"IF($T162,OFFSET(DetailListPending!A$1,$W162,0),\"\")","v":""},{"$f":"MATCH(U162,DetailListPending!BG:BG,0)-1","v":{"$error":"#N/A"}}]
[null,{"$f":"IF($T163,OFFSET(DetailListPending!C$1,$W163,0),\"\")","v":""},{"$f":"IF($T163,OFFSET(DetailListPending!E$1,$W163,0),\"\")","v":""},{"$f":"IF($T163,OFFSET(DetailListPending!F$1,$W163,0),\"\")","v":""},{"$f":"IF($T163,OFFSET(DetailListPending!B$1,$W163,0),\"\")","v":""},null,"","","",null,{"$f":"IF($T163,OFFSET(DetailListPending!J$1,$W163,0),\"\")","v":""},{"$f":"IF($T163,OFFSET(DetailListPending!K$1,$W163,0),\"\")","v":""},{"$f":"IF($T163,OFFSET(DetailListPending!AU$1,$W163,0),\"\")","v":""},{"$f":"IF($T163,OFFSET(DetailListPending!AS$1,$W163,0),\"\")","v":""},null,{"$f":"IF($T163,OFFSET(DetailListPending!P$1,$W163,0),\"\")","v":""},{"$f":"IF($T163,OFFSET(DetailListPending!Q$1,$W163,0),\"\")","v":""},{"$f":"IF($T163,OFFSET(DetailListPending!R$1,$W163,0),\"\")","v":""},null,false,162,{"$f":"IF($T163,OFFSET(DetailListPending!A$1,$W163,0),\"\")","v":""},{"$f":"MATCH(U163,DetailListPending!BG:BG,0)-1","v":{"$error":"#N/A"}}]
[null,{"$f":"IF($T164,OFFSET(DetailListPending!C$1,$W164,0),\"\")","v":""},{"$f":"IF($T164,OFFSET(DetailListPending!E$1,$W164,0),\"\")","v":""},{"$f":"IF($T164,OFFSET(DetailListPending!F$1,$W164,0),\"\")","v":""},{"$f":"IF($T164,OFFSET(DetailListPending!B$1,$W164,0),\"\")","v":""},null,"","","",null,{"$f":"IF($T164,OFFSET(DetailListPending!J$1,$W164,0),\"\")","v":""},{"$f":"IF($T164,OFFSET(DetailListPending!K$1,$W164,0),\"\")","v":""},{"$f":"IF($T164,OFFSET(DetailListPending!AU$1,$W164,0),\"\")","v":""},{"$f":"IF($T164,OFFSET(DetailListPending!AS$1,$W164,0),\"\")","v":""},null,{"$f":"IF($T164,OFFSET(DetailListPending!P$1,$W164,0),\"\")","v":""},{"$f":"IF($T164,OFFSET(DetailListPending!Q$1,$W164,0),\"\")","v":""},{"$f":"IF($T164,OFFSET(DetailListPending!R$1,$W164,0),\"\")","v":""},null,false,163,{"$f":"IF($T164,OFFSET(DetailListPending!A$1,$W164,0),\"\")","v":""},{"$f":"MATCH(U164,DetailListPending!BG:BG,0)-1","v":{"$error":"#N/A"}}]
[null,{"$f":"IF($T165,OFFSET(DetailListPending!C$1,$W165,0),\"\")","v":""},{"$f":"IF($T165,OFFSET(DetailListPending!E$1,$W165,0),\"\")","v":""},{"$f":"IF($T165,OFFSET(DetailListPending!F$1,$W165,0),\"\")","v":""},{"$f":"IF($T165,OFFSET(DetailListPending!B$1,$W165,0),\"\")","v":""},null,"","","",null,{"$f":"IF($T165,OFFSET(DetailListPending!J$1,$W165,0),\"\")","v":""},{"$f":"IF($T165,OFFSET(DetailListPending!K$1,$W165,0),\"\")","v":""},{"$f":"IF($T165,OFFSET(DetailListPending!AU$1,$W165,0),\"\")","v":""},{"$f":"IF($T165,OFFSET(DetailListPending!AS$1,$W165,0),\"\")","v":""},null,{"$f":"IF($T165,OFFSET(DetailListPending!P$1,$W165,0),\"\")","v":""},{"$f":"IF($T165,OFFSET(DetailListPending!Q$1,$W165,0),\"\")","v":""},{"$f":"IF($T165,OFFSET(DetailListPending!R$1,$W165,0),\"\")","v":""},null,false,164,{"$f":"IF($T165,OFFSET(DetailListPending!A$1,$W165,0),\"\")","v":""},{"$f":"MATCH(U165,DetailListPending!BG:BG,0)-1","v":{"$error":"#N/A"}}]
[null,{"$f":"IF($T166,OFFSET(DetailListPending!C$1,$W166,0),\"\")","v":""},{"$f":"IF($T166,OFFSET(DetailListPending!E$1,$W166,0),\"\")","v":""},{"$f":"IF($T166,OFFSET(DetailListPending!F$1,$W166,0),\"\")","v":""},{"$f":"IF($T166,OFFSET(DetailListPending!B$1,$W166,0),\"\")","v":""},null,"","","",null,{"$f":"IF($T166,OFFSET(DetailListPending!J$1,$W166,0),\"\")","v":""},{"$f":"IF($T166,OFFSET(DetailListPending!K$1,$W166,0),\"\")","v":""},{"$f":"IF($T166,OFFSET(DetailListPending!AU$1,$W166,0),\"\")","v":""},{"$f":"IF($T166,OFFSET(DetailListPending!AS$1,$W166,0),\"\")","v":""},null,{"$f":"IF($T166,OFFSET(DetailListPending!P$1,$W166,0),\"\")","v":""},{"$f":"IF($T166,OFFSET(DetailListPending!Q$1,$W166,0),\"\")","v":""},{"$f":"IF($T166,OFFSET(DetailListPending!R$1,$W166,0),\"\")","v":""},null,false,165,{"$f":"IF($T166,OFFSET(DetailListPending!A$1,$W166,0),\"\")","v":""},{"$f":"MATCH(U166,DetailListPending!BG:BG,0)-1","v":{"$error":"#N/A"}}]
[null,{"$f":"IF($T167,OFFSET(DetailListPending!C$1,$W167,0),\"\")","v":""},{"$f":"IF($T167,OFFSET(DetailListPending!E$1,$W167,0),\"\")","v":""},{"$f":"IF($T167,OFFSET(DetailListPending!F$1,$W167,0),\"\")","v":""},{"$f":"IF($T167,OFFSET(DetailListPending!B$1,$W167,0),\"\")","v":""},null,"","","",null,{"$f":"IF($T167,OFFSET(DetailListPending!J$1,$W167,0),\"\")","v":""},{"$f":"IF($T167,OFFSET(DetailListPending!K$1,$W167,0),\"\")","v":""},{"$f":"IF($T167,OFFSET(DetailListPending!AU$1,$W167,0),\"\")","v":""},{"$f":"IF($T167,OFFSET(DetailListPending!AS$1,$W167,0),\"\")","v":""},null,{"$f":"IF($T167,OFFSET(DetailListPending!P$1,$W167,0),\"\")","v":""},{"$f":"IF($T167,OFFSET(DetailListPending!Q$1,$W167,0),\"\")","v":""},{"$f":"IF($T167,OFFSET(DetailListPending!R$1,$W167,0),\"\")","v":""},null,false,166,{"$f":"IF($T167,OFFSET(DetailListPending!A$1,$W167,0),\"\")","v":""},{"$f":"MATCH(U167,DetailListPending!BG:BG,0)-1","v":{"$error":"#N/A"}}]
[null,{"$f":"IF($T168,OFFSET(DetailListPending!C$1,$W168,0),\"\")","v":""},{"$f":"IF($T168,OFFSET(DetailListPending!E$1,$W168,0),\"\")","v":""},{"$f":"IF($T168,OFFSET(DetailListPending!F$1,$W168,0),\"\")","v":""},{"$f":"IF($T168,OFFSET(DetailListPending!B$1,$W168,0),\"\")","v":""},null,"","","",null,{"$f":"IF($T168,OFFSET(DetailListPending!J$1,$W168,0),\"\")","v":""},{"$f":"IF($T168,OFFSET(DetailListPending!K$1,$W168,0),\"\")","v":""},{"$f":"IF($T168,OFFSET(DetailListPending!AU$1,$W168,0),\"\")","v":""},{"$f":"IF($T168,OFFSET(DetailListPending!AS$1,$W168,0),\"\")","v":""},null,{"$f":"IF($T168,OFFSET(DetailListPending!P$1,$W168,0),\"\")","v":""},{"$f":"IF($T168,OFFSET(DetailListPending!Q$1,$W168,0),\"\")","v":""},{"$f":"IF($T168,OFFSET(DetailListPending!R$1,$W168,0),\"\")","v":""},null,false,167,{"$f":"IF($T168,OFFSET(DetailListPending!A$1,$W168,0),\"\")","v":""},{"$f":"MATCH(U168,DetailListPending!BG:BG,0)-1","v":{"$error":"#N/A"}}]
[null,{"$f":"IF($T169,OFFSET(DetailListPending!C$1,$W169,0),\"\")","v":""},{"$f":"IF($T169,OFFSET(DetailListPending!E$1,$W169,0),\"\")","v":""},{"$f":"IF($T169,OFFSET(DetailListPending!F$1,$W169,0),\"\")","v":""},{"$f":"IF($T169,OFFSET(DetailListPending!B$1,$W169,0),\"\")","v":""},null,"","","",null,{"$f":"IF($T169,OFFSET(DetailListPending!J$1,$W169,0),\"\")","v":""},{"$f":"IF($T169,OFFSET(DetailListPending!K$1,$W169,0),\"\")","v":""},{"$f":"IF($T169,OFFSET(DetailListPending!AU$1,$W169,0),\"\")","v":""},{"$f":"IF($T169,OFFSET(DetailListPending!AS$1,$W169,0),\"\")","v":""},null,{"$f":"IF($T169,OFFSET(DetailListPending!P$1,$W169,0),\"\")","v":""},{"$f":"IF($T169,OFFSET(DetailListPending!Q$1,$W169,0),\"\")","v":""},{"$f":"IF($T169,OFFSET(DetailListPending!R$1,$W169,0),\"\")","v":""},null,false,168,{"$f":"IF($T169,OFFSET(DetailListPending!A$1,$W169,0),\"\")","v":""},{"$f":"MATCH(U169,DetailListPending!BG:BG,0)-1","v":{"$error":"#N/A"}}]
[null,{"$f":"IF($T170,OFFSET(DetailListPending!C$1,$W170,0),\"\")","v":""},{"$f":"IF($T170,OFFSET(DetailListPending!E$1,$W170,0),\"\")","v":""},{"$f":"IF($T170,OFFSET(DetailListPending!F$1,$W170,0),\"\")","v":""},{"$f":"IF($T170,OFFSET(DetailListPending!B$1,$W170,0),\"\")","v":""},null,"","","",null,{"$f":"IF($T170,OFFSET(DetailListPending!J$1,$W170,0),\"\")","v":""},{"$f":"IF($T170,OFFSET(DetailListPending!K$1,$W170,0),\"\")","v":""},{"$f":"IF($T170,OFFSET(DetailListPending!AU$1,$W170,0),\"\")","v":""},{"$f":"IF($T170,OFFSET(DetailListPending!AS$1,$W170,0),\"\")","v":""},null,{"$f":"IF($T170,OFFSET(DetailListPending!P$1,$W170,0),\"\")","v":""},{"$f":"IF($T170,OFFSET(DetailListPending!Q$1,$W170,0),\"\")","v":""},{"$f":"IF($T170,OFFSET(DetailListPending!R$1,$W170,0),\"\")","v":""},null,false,169,{"$f":"IF($T170,OFFSET(DetailListPending!A$1,$W170,0),\"\")","v":""},{"$f":"MATCH(U170,DetailListPending!BG:BG,0)-1","v":{"$error":"#N/A"}}]
[null,{"$f":"IF($T171,OFFSET(DetailListPending!C$1,$W171,0),\"\")","v":""},{"$f":"IF($T171,OFFSET(DetailListPending!E$1,$W171,0),\"\")","v":""},{"$f":"IF($T171,OFFSET(DetailListPending!F$1,$W171,0),\"\")","v":""},{"$f":"IF($T171,OFFSET(DetailListPending!B$1,$W171,0),\"\")","v":""},null,"","","",null,{"$f":"IF($T171,OFFSET(DetailListPending!J$1,$W171,0),\"\")","v":""},{"$f":"IF($T171,OFFSET(DetailListPending!K$1,$W171,0),\"\")","v":""},{"$f":"IF($T171,OFFSET(DetailListPending!AU$1,$W171,0),\"\")","v":""},{"$f":"IF($T171,OFFSET(DetailListPending!AS$1,$W171,0),\"\")","v":""},null,{"$f":"IF($T171,OFFSET(DetailListPending!P$1,$W171,0),\"\")","v":""},{"$f":"IF($T171,OFFSET(DetailListPending!Q$1,$W171,0),\"\")","v":""},{"$f":"IF($T171,OFFSET(DetailListPending!R$1,$W171,0),\"\")","v":""},null,false,170,{"$f":"IF($T171,OFFSET(DetailListPending!A$1,$W171,0),\"\")","v":""},{"$f":"MATCH(U171,DetailListPending!BG:BG,0)-1","v":{"$error":"#N/A"}}]
[null,{"$f":"IF($T172,OFFSET(DetailListPending!C$1,$W172,0),\"\")","v":""},{"$f":"IF($T172,OFFSET(DetailListPending!E$1,$W172,0),\"\")","v":""},{"$f":"IF($T172,OFFSET(DetailListPending!F$1,$W172,0),\"\")","v":""},{"$f":"IF($T172,OFFSET(DetailListPending!B$1,$W172,0),\"\")","v":""},null,"","","",null,{"$f":"IF($T172,OFFSET(DetailListPending!J$1,$W172,0),\"\")","v":""},{"$f":"IF($T172,OFFSET(DetailListPending!K$1,$W172,0),\"\")","v":""},{"$f":"IF($T172,OFFSET(DetailListPending!AU$1,$W172,0),\"\")","v":""},{"$f":"IF($T172,OFFSET(DetailListPending!AS$1,$W172,0),\"\")","v":""},null,{"$f":"IF($T172,OFFSET(DetailListPending!P$1,$W172,0),\"\")","v":""},{"$f":"IF($T172,OFFSET(DetailListPending!Q$1,$W172,0),\"\")","v":""},{"$f":"IF($T172,OFFSET(DetailListPending!R$1,$W172,0),\"\")","v":""},null,false,171,{"$f":"IF($T172,OFFSET(DetailListPending!A$1,$W172,0),\"\")","v":""},{"$f":"MATCH(U172,DetailListPending!BG:BG,0)-1","v":{"$error":"#N/A"}}]
[null,{"$f":"IF($T173,OFFSET(DetailListPending!C$1,$W173,0),\"\")","v":""},{"$f":"IF($T173,OFFSET(DetailListPending!E$1,$W173,0),\"\")","v":""},{"$f":"IF($T173,OFFSET(DetailListPending!F$1,$W173,0),\"\")","v":""},{"$f":"IF($T173,OFFSET(DetailListPending!B$1,$W173,0),\"\")","v":""},null,"","","",null,{"$f":"IF($T173,OFFSET(DetailListPending!J$1,$W173,0),\"\")","v":""},{"$f":"IF($T173,OFFSET(DetailListPending!K$1,$W173,0),\"\")","v":""},{"$f":"IF($T173,OFFSET(DetailListPending!AU$1,$W173,0),\"\")","v":""},{"$f":"IF($T173,OFFSET(DetailListPending!AS$1,$W173,0),\"\")","v":""},null,{"$f":"IF($T173,OFFSET(DetailListPending!P$1,$W173,0),\"\")","v":""},{"$f":"IF($T173,OFFSET(DetailListPending!Q$1,$W173,0),\"\")","v":""},{"$f":"IF($T173,OFFSET(DetailListPending!R$1,$W173,0),\"\")","v":""},null,false,172,{"$f":"IF($T173,OFFSET(DetailListPending!A$1,$W173,0),\"\")","v":""},{"$f":"MATCH(U173,DetailListPending!BG:BG,0)-1","v":{"$error":"#N/A"}}]
[null,{"$f":"IF($T174,OFFSET(DetailListPending!C$1,$W174,0),\"\")","v":""},{"$f":"IF($T174,OFFSET(DetailListPending!E$1,$W174,0),\"\")","v":""},{"$f":"IF($T174,OFFSET(DetailListPending!F$1,$W174,0),\"\")","v":""},{"$f":"IF($T174,OFFSET(DetailListPending!B$1,$W174,0),\"\")","v":""},null,"","","",null,{"$f":"IF($T174,OFFSET(DetailListPending!J$1,$W174,0),\"\")","v":""},{"$f":"IF($T174,OFFSET(DetailListPending!K$1,$W174,0),\"\")","v":""},{"$f":"IF($T174,OFFSET(DetailListPending!AU$1,$W174,0),\"\")","v":""},{"$f":"IF($T174,OFFSET(DetailListPending!AS$1,$W174,0),\"\")","v":""},null,{"$f":"IF($T174,OFFSET(DetailListPending!P$1,$W174,0),\"\")","v":""},{"$f":"IF($T174,OFFSET(DetailListPending!Q$1,$W174,0),\"\")","v":""},{"$f":"IF($T174,OFFSET(DetailListPending!R$1,$W174,0),\"\")","v":""},null,false,173,{"$f":"IF($T174,OFFSET(DetailListPending!A$1,$W174,0),\"\")","v":""},{"$f":"MATCH(U174,DetailListPending!BG:BG,0)-1","v":{"$error":"#N/A"}}]
[null,{"$f":"IF($T175,OFFSET(DetailListPending!C$1,$W175,0),\"\")","v":""},{"$f":"IF($T175,OFFSET(DetailListPending!E$1,$W175,0),\"\")","v":""},{"$f":"IF($T175,OFFSET(DetailListPending!F$1,$W175,0),\"\")","v":""},{"$f":"IF($T175,OFFSET(DetailListPending!B$1,$W175,0),\"\")","v":""},null,"","","",null,{"$f":"IF($T175,OFFSET(DetailListPending!J$1,$W175,0),\"\")","v":""},{"$f":"IF($T175,OFFSET(DetailListPending!K$1,$W175,0),\"\")","v":""},{"$f":"IF($T175,OFFSET(DetailListPending!AU$1,$W175,0),\"\")","v":""},{"$f":"IF($T175,OFFSET(DetailListPending!AS$1,$W175,0),\"\")","v":""},null,{"$f":"IF($T175,OFFSET(DetailListPending!P$1,$W175,0),\"\")","v":""},{"$f":"IF($T175,OFFSET(DetailListPending!Q$1,$W175,0),\"\")","v":""},{"$f":"IF($T175,OFFSET(DetailListPending!R$1,$W175,0),\"\")","v":""},null,false,174,{"$f":"IF($T175,OFFSET(DetailListPending!A$1,$W175,0),\"\")","v":""},{"$f":"MATCH(U175,DetailListPending!BG:BG,0)-1","v":{"$error":"#N/A"}}]
[null,{"$f":"IF($T176,OFFSET(DetailListPending!C$1,$W176,0),\"\")","v":""},{"$f":"IF($T176,OFFSET(DetailListPending!E$1,$W176,0),\"\")","v":""},{"$f":"IF($T176,OFFSET(DetailListPending!F$1,$W176,0),\"\")","v":""},{"$f":"IF($T176,OFFSET(DetailListPending!B$1,$W176,0),\"\")","v":""},null,"","","",null,{"$f":"IF($T176,OFFSET(DetailListPending!J$1,$W176,0),\"\")","v":""},{"$f":"IF($T176,OFFSET(DetailListPending!K$1,$W176,0),\"\")","v":""},{"$f":"IF($T176,OFFSET(DetailListPending!AU$1,$W176,0),\"\")","v":""},{"$f":"IF($T176,OFFSET(DetailListPending!AS$1,$W176,0),\"\")","v":""},null,{"$f":"IF($T176,OFFSET(DetailListPending!P$1,$W176,0),\"\")","v":""},{"$f":"IF($T176,OFFSET(DetailListPending!Q$1,$W176,0),\"\")","v":""},{"$f":"IF($T176,OFFSET(DetailListPending!R$1,$W176,0),\"\")","v":""},null,false,175,{"$f":"IF($T176,OFFSET(DetailListPending!A$1,$W176,0),\"\")","v":""},{"$f":"MATCH(U176,DetailListPending!BG:BG,0)-1","v":{"$error":"#N/A"}}]
[null,{"$f":"IF($T177,OFFSET(DetailListPending!C$1,$W177,0),\"\")","v":""},{"$f":"IF($T177,OFFSET(DetailListPending!E$1,$W177,0),\"\")","v":""},{"$f":"IF($T177,OFFSET(DetailListPending!F$1,$W177,0),\"\")","v":""},{"$f":"IF($T177,OFFSET(DetailListPending!B$1,$W177,0),\"\")","v":""},null,"","","",null,{"$f":"IF($T177,OFFSET(DetailListPending!J$1,$W177,0),\"\")","v":""},{"$f":"IF($T177,OFFSET(DetailListPending!K$1,$W177,0),\"\")","v":""},{"$f":"IF($T177,OFFSET(DetailListPending!AU$1,$W177,0),\"\")","v":""},{"$f":"IF($T177,OFFSET(DetailListPending!AS$1,$W177,0),\"\")","v":""},null,{"$f":"IF($T177,OFFSET(DetailListPending!P$1,$W177,0),\"\")","v":""},{"$f":"IF($T177,OFFSET(DetailListPending!Q$1,$W177,0),\"\")","v":""},{"$f":"IF($T177,OFFSET(DetailListPending!R$1,$W177,0),\"\")","v":""},null,false,176,{"$f":"IF($T177,OFFSET(DetailListPending!A$1,$W177,0),\"\")","v":""},{"$f":"MATCH(U177,DetailListPending!BG:BG,0)-1","v":{"$error":"#N/A"}}]
[null,{"$f":"IF($T178,OFFSET(DetailListPending!C$1,$W178,0),\"\")","v":""},{"$f":"IF($T178,OFFSET(DetailListPending!E$1,$W178,0),\"\")","v":""},{"$f":"IF($T178,OFFSET(DetailListPending!F$1,$W178,0),\"\")","v":""},{"$f":"IF($T178,OFFSET(DetailListPending!B$1,$W178,0),\"\")","v":""},null,"","","",null,{"$f":"IF($T178,OFFSET(DetailListPending!J$1,$W178,0),\"\")","v":""},{"$f":"IF($T178,OFFSET(DetailListPending!K$1,$W178,0),\"\")","v":""},{"$f":"IF($T178,OFFSET(DetailListPending!AU$1,$W178,0),\"\")","v":""},{"$f":"IF($T178,OFFSET(DetailListPending!AS$1,$W178,0),\"\")","v":""},null,{"$f":"IF($T178,OFFSET(DetailListPending!P$1,$W178,0),\"\")","v":""},{"$f":"IF($T178,OFFSET(DetailListPending!Q$1,$W178,0),\"\")","v":""},{"$f":"IF($T178,OFFSET(DetailListPending!R$1,$W178,0),\"\")","v":""},null,false,177,{"$f":"IF($T178,OFFSET(DetailListPending!A$1,$W178,0),\"\")","v":""},{"$f":"MATCH(U178,DetailListPending!BG:BG,0)-1","v":{"$error":"#N/A"}}]
[null,{"$f":"IF($T179,OFFSET(DetailListPending!C$1,$W179,0),\"\")","v":""},{"$f":"IF($T179,OFFSET(DetailListPending!E$1,$W179,0),\"\")","v":""},{"$f":"IF($T179,OFFSET(DetailListPending!F$1,$W179,0),\"\")","v":""},{"$f":"IF($T179,OFFSET(DetailListPending!B$1,$W179,0),\"\")","v":""},null,"","","",null,{"$f":"IF($T179,OFFSET(DetailListPending!J$1,$W179,0),\"\")","v":""},{"$f":"IF($T179,OFFSET(DetailListPending!K$1,$W179,0),\"\")","v":""},{"$f":"IF($T179,OFFSET(DetailListPending!AU$1,$W179,0),\"\")","v":""},{"$f":"IF($T179,OFFSET(DetailListPending!AS$1,$W179,0),\"\")","v":""},null,{"$f":"IF($T179,OFFSET(DetailListPending!P$1,$W179,0),\"\")","v":""},{"$f":"IF($T179,OFFSET(DetailListPending!Q$1,$W179,0),\"\")","v":""},{"$f":"IF($T179,OFFSET(DetailListPending!R$1,$W179,0),\"\")","v":""},null,false,178,{"$f":"IF($T179,OFFSET(DetailListPending!A$1,$W179,0),\"\")","v":""},{"$f":"MATCH(U179,DetailListPending!BG:BG,0)-1","v":{"$error":"#N/A"}}]
[null,{"$f":"IF($T180,OFFSET(DetailListPending!C$1,$W180,0),\"\")","v":""},{"$f":"IF($T180,OFFSET(DetailListPending!E$1,$W180,0),\"\")","v":""},{"$f":"IF($T180,OFFSET(DetailListPending!F$1,$W180,0),\"\")","v":""},{"$f":"IF($T180,OFFSET(DetailListPending!B$1,$W180,0),\"\")","v":""},null,"","","",null,{"$f":"IF($T180,OFFSET(DetailListPending!J$1,$W180,0),\"\")","v":""},{"$f":"IF($T180,OFFSET(DetailListPending!K$1,$W180,0),\"\")","v":""},{"$f":"IF($T180,OFFSET(DetailListPending!AU$1,$W180,0),\"\")","v":""},{"$f":"IF($T180,OFFSET(DetailListPending!AS$1,$W180,0),\"\")","v":""},null,{"$f":"IF($T180,OFFSET(DetailListPending!P$1,$W180,0),\"\")","v":""},{"$f":"IF($T180,OFFSET(DetailListPending!Q$1,$W180,0),\"\")","v":""},{"$f":"IF($T180,OFFSET(DetailListPending!R$1,$W180,0),\"\")","v":""},null,false,179,{"$f":"IF($T180,OFFSET(DetailListPending!A$1,$W180,0),\"\")","v":""},{"$f":"MATCH(U180,DetailListPending!BG:BG,0)-1","v":{"$error":"#N/A"}}]
[null,{"$f":"IF($T181,OFFSET(DetailListPending!C$1,$W181,0),\"\")","v":""},{"$f":"IF($T181,OFFSET(DetailListPending!E$1,$W181,0),\"\")","v":""},{"$f":"IF($T181,OFFSET(DetailListPending!F$1,$W181,0),\"\")","v":""},{"$f":"IF($T181,OFFSET(DetailListPending!B$1,$W181,0),\"\")","v":""},null,"","","",null,{"$f":"IF($T181,OFFSET(DetailListPending!J$1,$W181,0),\"\")","v":""},{"$f":"IF($T181,OFFSET(DetailListPending!K$1,$W181,0),\"\")","v":""},{"$f":"IF($T181,OFFSET(DetailListPending!AU$1,$W181,0),\"\")","v":""},{"$f":"IF($T181,OFFSET(DetailListPending!AS$1,$W181,0),\"\")","v":""},null,{"$f":"IF($T181,OFFSET(DetailListPending!P$1,$W181,0),\"\")","v":""},{"$f":"IF($T181,OFFSET(DetailListPending!Q$1,$W181,0),\"\")","v":""},{"$f":"IF($T181,OFFSET(DetailListPending!R$1,$W181,0),\"\")","v":""},null,false,180,{"$f":"IF($T181,OFFSET(DetailListPending!A$1,$W181,0),\"\")","v":""},{"$f":"MATCH(U181,DetailListPending!BG:BG,0)-1","v":{"$error":"#N/A"}}]
[null,{"$f":"IF($T182,OFFSET(DetailListPending!C$1,$W182,0),\"\")","v":""},{"$f":"IF($T182,OFFSET(DetailListPending!E$1,$W182,0),\"\")","v":""},{"$f":"IF($T182,OFFSET(DetailListPending!F$1,$W182,0),\"\")","v":""},{"$f":"IF($T182,OFFSET(DetailListPending!B$1,$W182,0),\"\")","v":""},null,"","","",null,{"$f":"IF($T182,OFFSET(DetailListPending!J$1,$W182,0),\"\")","v":""},{"$f":"IF($T182,OFFSET(DetailListPending!K$1,$W182,0),\"\")","v":""},{"$f":"IF($T182,OFFSET(DetailListPending!AU$1,$W182,0),\"\")","v":""},{"$f":"IF($T182,OFFSET(DetailListPending!AS$1,$W182,0),\"\")","v":""},null,{"$f":"IF($T182,OFFSET(DetailListPending!P$1,$W182,0),\"\")","v":""},{"$f":"IF($T182,OFFSET(DetailListPending!Q$1,$W182,0),\"\")","v":""},{"$f":"IF($T182,OFFSET(DetailListPending!R$1,$W182,0),\"\")","v":""},null,false,181,{"$f":"IF($T182,OFFSET(DetailListPending!A$1,$W182,0),\"\")","v":""},{"$f":"MATCH(U182,DetailListPending!BG:BG,0)-1","v":{"$error":"#N/A"}}]
[null,{"$f":"IF($T183,OFFSET(DetailListPending!C$1,$W183,0),\"\")","v":""},{"$f":"IF($T183,OFFSET(DetailListPending!E$1,$W183,0),\"\")","v":""},{"$f":"IF($T183,OFFSET(DetailListPending!F$1,$W183,0),\"\")","v":""},{"$f":"IF($T183,OFFSET(DetailListPending!B$1,$W183,0),\"\")","v":""},null,"","","",null,{"$f":"IF($T183,OFFSET(DetailListPending!J$1,$W183,0),\"\")","v":""},{"$f":"IF($T183,OFFSET(DetailListPending!K$1,$W183,0),\"\")","v":""},{"$f":"IF($T183,OFFSET(DetailListPending!AU$1,$W183,0),\"\")","v":""},{"$f":"IF($T183,OFFSET(DetailListPending!AS$1,$W183,0),\"\")","v":""},null,{"$f":"IF($T183,OFFSET(DetailListPending!P$1,$W183,0),\"\")","v":""},{"$f":"IF($T183,OFFSET(DetailListPending!Q$1,$W183,0),\"\")","v":""},{"$f":"IF($T183,OFFSET(DetailListPending!R$1,$W183,0),\"\")","v":""},null,false,182,{"$f":"IF($T183,OFFSET(DetailListPending!A$1,$W183,0),\"\")","v":""},{"$f":"MATCH(U183,DetailListPending!BG:BG,0)-1","v":{"$error":"#N/A"}}]
[null,{"$f":"IF($T184,OFFSET(DetailListPending!C$1,$W184,0),\"\")","v":""},{"$f":"IF($T184,OFFSET(DetailListPending!E$1,$W184,0),\"\")","v":""},{"$f":"IF($T184,OFFSET(DetailListPending!F$1,$W184,0),\"\")","v":""},{"$f":"IF($T184,OFFSET(DetailListPending!B$1,$W184,0),\"\")","v":""},null,"","","",null,{"$f":"IF($T184,OFFSET(DetailListPending!J$1,$W184,0),\"\")","v":""},{"$f":"IF($T184,OFFSET(DetailListPending!K$1,$W184,0),\"\")","v":""},{"$f":"IF($T184,OFFSET(DetailListPending!AU$1,$W184,0),\"\")","v":""},{"$f":"IF($T184,OFFSET(DetailListPending!AS$1,$W184,0),\"\")","v":""},null,{"$f":"IF($T184,OFFSET(DetailListPending!P$1,$W184,0),\"\")","v":""},{"$f":"IF($T184,OFFSET(DetailListPending!Q$1,$W184,0),\"\")","v":""},{"$f":"IF($T184,OFFSET(DetailListPending!R$1,$W184,0),\"\")","v":""},null,false,183,{"$f":"IF($T184,OFFSET(DetailListPending!A$1,$W184,0),\"\")","v":""},{"$f":"MATCH(U184,DetailListPending!BG:BG,0)-1","v":{"$error":"#N/A"}}]
[null,{"$f":"IF($T185,OFFSET(DetailListPending!C$1,$W185,0),\"\")","v":""},{"$f":"IF($T185,OFFSET(DetailListPending!E$1,$W185,0),\"\")","v":""},{"$f":"IF($T185,OFFSET(DetailListPending!F$1,$W185,0),\"\")","v":""},{"$f":"IF($T185,OFFSET(DetailListPending!B$1,$W185,0),\"\")","v":""},null,"","","",null,{"$f":"IF($T185,OFFSET(DetailListPending!J$1,$W185,0),\"\")","v":""},{"$f":"IF($T185,OFFSET(DetailListPending!K$1,$W185,0),\"\")","v":""},{"$f":"IF($T185,OFFSET(DetailListPending!AU$1,$W185,0),\"\")","v":""},{"$f":"IF($T185,OFFSET(DetailListPending!AS$1,$W185,0),\"\")","v":""},null,{"$f":"IF($T185,OFFSET(DetailListPending!P$1,$W185,0),\"\")","v":""},{"$f":"IF($T185,OFFSET(DetailListPending!Q$1,$W185,0),\"\")","v":""},{"$f":"IF($T185,OFFSET(DetailListPending!R$1,$W185,0),\"\")","v":""},null,false,184,{"$f":"IF($T185,OFFSET(DetailListPending!A$1,$W185,0),\"\")","v":""},{"$f":"MATCH(U185,DetailListPending!BG:BG,0)-1","v":{"$error":"#N/A"}}]
[null,{"$f":"IF($T186,OFFSET(DetailListPending!C$1,$W186,0),\"\")","v":""},{"$f":"IF($T186,OFFSET(DetailListPending!E$1,$W186,0),\"\")","v":""},{"$f":"IF($T186,OFFSET(DetailListPending!F$1,$W186,0),\"\")","v":""},{"$f":"IF($T186,OFFSET(DetailListPending!B$1,$W186,0),\"\")","v":""},null,"","","",null,{"$f":"IF($T186,OFFSET(DetailListPending!J$1,$W186,0),\"\")","v":""},{"$f":"IF($T186,OFFSET(DetailListPending!K$1,$W186,0),\"\")","v":""},{"$f":"IF($T186,OFFSET(DetailListPending!AU$1,$W186,0),\"\")","v":""},{"$f":"IF($T186,OFFSET(DetailListPending!AS$1,$W186,0),\"\")","v":""},null,{"$f":"IF($T186,OFFSET(DetailListPending!P$1,$W186,0),\"\")","v":""},{"$f":"IF($T186,OFFSET(DetailListPending!Q$1,$W186,0),\"\")","v":""},{"$f":"IF($T186,OFFSET(DetailListPending!R$1,$W186,0),\"\")","v":""},null,false,185,{"$f":"IF($T186,OFFSET(DetailListPending!A$1,$W186,0),\"\")","v":""},{"$f":"MATCH(U186,DetailListPending!BG:BG,0)-1","v":{"$error":"#N/A"}}]
[null,{"$f":"IF($T187,OFFSET(DetailListPending!C$1,$W187,0),\"\")","v":""},{"$f":"IF($T187,OFFSET(DetailListPending!E$1,$W187,0),\"\")","v":""},{"$f":"IF($T187,OFFSET(DetailListPending!F$1,$W187,0),\"\")","v":""},{"$f":"IF($T187,OFFSET(DetailListPending!B$1,$W187,0),\"\")","v":""},null,"","","",null,{"$f":"IF($T187,OFFSET(DetailListPending!J$1,$W187,0),\"\")","v":""},{"$f":"IF($T187,OFFSET(DetailListPending!K$1,$W187,0),\"\")","v":""},{"$f":"IF($T187,OFFSET(DetailListPending!AU$1,$W187,0),\"\")","v":""},{"$f":"IF($T187,OFFSET(DetailListPending!AS$1,$W187,0),\"\")","v":""},null,{"$f":"IF($T187,OFFSET(DetailListPending!P$1,$W187,0),\"\")","v":""},{"$f":"IF($T187,OFFSET(DetailListPending!Q$1,$W187,0),\"\")","v":""},{"$f":"IF($T187,OFFSET(DetailListPending!R$1,$W187,0),\"\")","v":""},null,false,186,{"$f":"IF($T187,OFFSET(DetailListPending!A$1,$W187,0),\"\")","v":""},{"$f":"MATCH(U187,DetailListPending!BG:BG,0)-1","v":{"$error":"#N/A"}}]
[null,{"$f":"IF($T188,OFFSET(DetailListPending!C$1,$W188,0),\"\")","v":""},{"$f":"IF($T188,OFFSET(DetailListPending!E$1,$W188,0),\"\")","v":""},{"$f":"IF($T188,OFFSET(DetailListPending!F$1,$W188,0),\"\")","v":""},{"$f":"IF($T188,OFFSET(DetailListPending!B$1,$W188,0),\"\")","v":""},null,"","","",null,{"$f":"IF($T188,OFFSET(DetailListPending!J$1,$W188,0),\"\")","v":""},{"$f":"IF($T188,OFFSET(DetailListPending!K$1,$W188,0),\"\")","v":""},{"$f":"IF($T188,OFFSET(DetailListPending!AU$1,$W188,0),\"\")","v":""},{"$f":"IF($T188,OFFSET(DetailListPending!AS$1,$W188,0),\"\")","v":""},null,{"$f":"IF($T188,OFFSET(DetailListPending!P$1,$W188,0),\"\")","v":""},{"$f":"IF($T188,OFFSET(DetailListPending!Q$1,$W188,0),\"\")","v":""},{"$f":"IF($T188,OFFSET(DetailListPending!R$1,$W188,0),\"\")","v":""},null,false,187,{"$f":"IF($T188,OFFSET(DetailListPending!A$1,$W188,0),\"\")","v":""},{"$f":"MATCH(U188,DetailListPending!BG:BG,0)-1","v":{"$error":"#N/A"}}]
[null,{"$f":"IF($T189,OFFSET(DetailListPending!C$1,$W189,0),\"\")","v":""},{"$f":"IF($T189,OFFSET(DetailListPending!E$1,$W189,0),\"\")","v":""},{"$f":"IF($T189,OFFSET(DetailListPending!F$1,$W189,0),\"\")","v":""},{"$f":"IF($T189,OFFSET(DetailListPending!B$1,$W189,0),\"\")","v":""},null,"","","",null,{"$f":"IF($T189,OFFSET(DetailListPending!J$1,$W189,0),\"\")","v":""},{"$f":"IF($T189,OFFSET(DetailListPending!K$1,$W189,0),\"\")","v":""},{"$f":"IF($T189,OFFSET(DetailListPending!AU$1,$W189,0),\"\")","v":""},{"$f":"IF($T189,OFFSET(DetailListPending!AS$1,$W189,0),\"\")","v":""},null,{"$f":"IF($T189,OFFSET(DetailListPending!P$1,$W189,0),\"\")","v":""},{"$f":"IF($T189,OFFSET(DetailListPending!Q$1,$W189,0),\"\")","v":""},{"$f":"IF($T189,OFFSET(DetailListPending!R$1,$W189,0),\"\")","v":""},null,false,188,{"$f":"IF($T189,OFFSET(DetailListPending!A$1,$W189,0),\"\")","v":""},{"$f":"MATCH(U189,DetailListPending!BG:BG,0)-1","v":{"$error":"#N/A"}}]
[null,{"$f":"IF($T190,OFFSET(DetailListPending!C$1,$W190,0),\"\")","v":""},{"$f":"IF($T190,OFFSET(DetailListPending!E$1,$W190,0),\"\")","v":""},{"$f":"IF($T190,OFFSET(DetailListPending!F$1,$W190,0),\"\")","v":""},{"$f":"IF($T190,OFFSET(DetailListPending!B$1,$W190,0),\"\")","v":""},null,"","","",null,{"$f":"IF($T190,OFFSET(DetailListPending!J$1,$W190,0),\"\")","v":""},{"$f":"IF($T190,OFFSET(DetailListPending!K$1,$W190,0),\"\")","v":""},{"$f":"IF($T190,OFFSET(DetailListPending!AU$1,$W190,0),\"\")","v":""},{"$f":"IF($T190,OFFSET(DetailListPending!AS$1,$W190,0),\"\")","v":""},null,{"$f":"IF($T190,OFFSET(DetailListPending!P$1,$W190,0),\"\")","v":""},{"$f":"IF($T190,OFFSET(DetailListPending!Q$1,$W190,0),\"\")","v":""},{"$f":"IF($T190,OFFSET(DetailListPending!R$1,$W190,0),\"\")","v":""},null,false,189,{"$f":"IF($T190,OFFSET(DetailListPending!A$1,$W190,0),\"\")","v":""},{"$f":"MATCH(U190,DetailListPending!BG:BG,0)-1","v":{"$error":"#N/A"}}]
[null,{"$f":"IF($T191,OFFSET(DetailListPending!C$1,$W191,0),\"\")","v":""},{"$f":"IF($T191,OFFSET(DetailListPending!E$1,$W191,0),\"\")","v":""},{"$f":"IF($T191,OFFSET(DetailListPending!F$1,$W191,0),\"\")","v":""},{"$f":"IF($T191,OFFSET(DetailListPending!B$1,$W191,0),\"\")","v":""},null,"","","",null,{"$f":"IF($T191,OFFSET(DetailListPending!J$1,$W191,0),\"\")","v":""},{"$f":"IF($T191,OFFSET(DetailListPending!K$1,$W191,0),\"\")","v":""},{"$f":"IF($T191,OFFSET(DetailListPending!AU$1,$W191,0),\"\")","v":""},{"$f":"IF($T191,OFFSET(DetailListPending!AS$1,$W191,0),\"\")","v":""},null,{"$f":"IF($T191,OFFSET(DetailListPending!P$1,$W191,0),\"\")","v":""},{"$f":"IF($T191,OFFSET(DetailListPending!Q$1,$W191,0),\"\")","v":""},{"$f":"IF($T191,OFFSET(DetailListPending!R$1,$W191,0),\"\")","v":""},null,false,190,{"$f":"IF($T191,OFFSET(DetailListPending!A$1,$W191,0),\"\")","v":""},{"$f":"MATCH(U191,DetailListPending!BG:BG,0)-1","v":{"$error":"#N/A"}}]
[null,{"$f":"IF($T192,OFFSET(DetailListPending!C$1,$W192,0),\"\")","v":""},{"$f":"IF($T192,OFFSET(DetailListPending!E$1,$W192,0),\"\")","v":""},{"$f":"IF($T192,OFFSET(DetailListPending!F$1,$W192,0),\"\")","v":""},{"$f":"IF($T192,OFFSET(DetailListPending!B$1,$W192,0),\"\")","v":""},null,"","","",null,{"$f":"IF($T192,OFFSET(DetailListPending!J$1,$W192,0),\"\")","v":""},{"$f":"IF($T192,OFFSET(DetailListPending!K$1,$W192,0),\"\")","v":""},{"$f":"IF($T192,OFFSET(DetailListPending!AU$1,$W192,0),\"\")","v":""},{"$f":"IF($T192,OFFSET(DetailListPending!AS$1,$W192,0),\"\")","v":""},null,{"$f":"IF($T192,OFFSET(DetailListPending!P$1,$W192,0),\"\")","v":""},{"$f":"IF($T192,OFFSET(DetailListPending!Q$1,$W192,0),\"\")","v":""},{"$f":"IF($T192,OFFSET(DetailListPending!R$1,$W192,0),\"\")","v":""},null,false,191,{"$f":"IF($T192,OFFSET(DetailListPending!A$1,$W192,0),\"\")","v":""},{"$f":"MATCH(U192,DetailListPending!BG:BG,0)-1","v":{"$error":"#N/A"}}]
[null,{"$f":"IF($T193,OFFSET(DetailListPending!C$1,$W193,0),\"\")","v":""},{"$f":"IF($T193,OFFSET(DetailListPending!E$1,$W193,0),\"\")","v":""},{"$f":"IF($T193,OFFSET(DetailListPending!F$1,$W193,0),\"\")","v":""},{"$f":"IF($T193,OFFSET(DetailListPending!B$1,$W193,0),\"\")","v":""},null,"","","",null,{"$f":"IF($T193,OFFSET(DetailListPending!J$1,$W193,0),\"\")","v":""},{"$f":"IF($T193,OFFSET(DetailListPending!K$1,$W193,0),\"\")","v":""},{"$f":"IF($T193,OFFSET(DetailListPending!AU$1,$W193,0),\"\")","v":""},{"$f":"IF($T193,OFFSET(DetailListPending!AS$1,$W193,0),\"\")","v":""},null,{"$f":"IF($T193,OFFSET(DetailListPending!P$1,$W193,0),\"\")","v":""},{"$f":"IF($T193,OFFSET(DetailListPending!Q$1,$W193,0),\"\")","v":""},{"$f":"IF($T193,OFFSET(DetailListPending!R$1,$W193,0),\"\")","v":""},null,false,192,{"$f":"IF($T193,OFFSET(DetailListPending!A$1,$W193,0),\"\")","v":""},{"$f":"MATCH(U193,DetailListPending!BG:BG,0)-1","v":{"$error":"#N/A"}}]
[null,{"$f":"IF($T194,OFFSET(DetailListPending!C$1,$W194,0),\"\")","v":""},{"$f":"IF($T194,OFFSET(DetailListPending!E$1,$W194,0),\"\")","v":""},{"$f":"IF($T194,OFFSET(DetailListPending!F$1,$W194,0),\"\")","v":""},{"$f":"IF($T194,OFFSET(DetailListPending!B$1,$W194,0),\"\")","v":""},null,"","","",null,{"$f":"IF($T194,OFFSET(DetailListPending!J$1,$W194,0),\"\")","v":""},{"$f":"IF($T194,OFFSET(DetailListPending!K$1,$W194,0),\"\")","v":""},{"$f":"IF($T194,OFFSET(DetailListPending!AU$1,$W194,0),\"\")","v":""},{"$f":"IF($T194,OFFSET(DetailListPending!AS$1,$W194,0),\"\")","v":""},null,{"$f":"IF($T194,OFFSET(DetailListPending!P$1,$W194,0),\"\")","v":""},{"$f":"IF($T194,OFFSET(DetailListPending!Q$1,$W194,0),\"\")","v":""},{"$f":"IF($T194,OFFSET(DetailListPending!R$1,$W194,0),\"\")","v":""},null,{"$f":"U194<=Y$1","v":false},193,{"$f":"IF($T194,OFFSET(DetailListPending!A$1,$W194,0),\"\")","v":""},{"$f":"MATCH(U194,DetailListPending!BG:BG,0)-1","v":{"$error":"#N/A"}}]
[null,{"$f":"IF($T195,OFFSET(DetailListPending!C$1,$W195,0),\"\")","v":""},{"$f":"IF($T195,OFFSET(DetailListPending!E$1,$W195,0),\"\")","v":""},{"$f":"IF($T195,OFFSET(DetailListPending!F$1,$W195,0),\"\")","v":""},{"$f":"IF($T195,OFFSET(DetailListPending!B$1,$W195,0),\"\")","v":""},null,{"$f":"IF(AND($T195,$V195=\"C\"),HYPERLINK(\"#DetailListALBs!A\"&W195+1,\"Details\"),\"\")","v":""},{"$f":"IF(AND($T195,$V195=\"C\",NOT(P195=0)),HYPERLINK(P195,\"Collection\"),\"\")","v":""},{"$f":"IF(AND($T195,$V195=\"C\",NOT(Q195=0)),HYPERLINK(Q195,\"Data\"),\"\")","v":""},null,{"$f":"IF($T195,OFFSET(DetailListPending!J$1,$W195,0),\"\")","v":""},{"$f":"IF($T195,OFFSET(DetailListPending!K$1,$W195,0),\"\")","v":""},{"$f":"IF($T195,OFFSET(DetailListPending!AU$1,$W195,0),\"\")","v":""},{"$f":"IF($T195,OFFSET(DetailListPending!AS$1,$W195,0),\"\")","v":""},null,{"$f":"IF($T195,OFFSET(DetailListPending!P$1,$W195,0),\"\")","v":""},{"$f":"IF($T195,OFFSET(DetailListPending!Q$1,$W195,0),\"\")","v":""},{"$f":"IF($T195,OFFSET(DetailListPending!R$1,$W195,0),\"\")","v":""},null,false,194,{"$f":"IF($T195,OFFSET(DetailListPending!A$1,$W195,0),\"\")","v":""},{"$f":"MATCH(U195,DetailListPending!BG:BG,0)-1","v":{"$error":"#N/A"}}]
[null,{"$f":"IF($T196,OFFSET(DetailListPending!C$1,$W196,0),\"\")","v":""},{"$f":"IF($T196,OFFSET(DetailListPending!E$1,$W196,0),\"\")","v":""},{"$f":"IF($T196,OFFSET(DetailListPending!F$1,$W196,0),\"\")","v":""},{"$f":"IF($T196,OFFSET(DetailListPending!B$1,$W196,0),\"\")","v":""},null,"","","",null,{"$f":"IF($T196,OFFSET(DetailListPending!J$1,$W196,0),\"\")","v":""},{"$f":"IF($T196,OFFSET(DetailListPending!K$1,$W196,0),\"\")","v":""},{"$f":"IF($T196,OFFSET(DetailListPending!AU$1,$W196,0),\"\")","v":""},{"$f":"IF($T196,OFFSET(DetailListPending!AS$1,$W196,0),\"\")","v":""},null,{"$f":"IF($T196,OFFSET(DetailListPending!P$1,$W196,0),\"\")","v":""},{"$f":"IF($T196,OFFSET(DetailListPending!Q$1,$W196,0),\"\")","v":""},{"$f":"IF($T196,OFFSET(DetailListPending!R$1,$W196,0),\"\")","v":""},null,false,195,{"$f":"IF($T196,OFFSET(DetailListPending!A$1,$W196,0),\"\")","v":""},{"$f":"MATCH(U196,DetailListPending!BG:BG,0)-1","v":{"$error":"#N/A"}}]
[null,{"$f":"IF($T197,OFFSET(DetailListPending!C$1,$W197,0),\"\")","v":""},{"$f":"IF($T197,OFFSET(DetailListPending!E$1,$W197,0),\"\")","v":""},{"$f":"IF($T197,OFFSET(DetailListPending!F$1,$W197,0),\"\")","v":""},{"$f":"IF($T197,OFFSET(DetailListPending!B$1,$W197,0),\"\")","v":""},null,"","","",null,{"$f":"IF($T197,OFFSET(DetailListPending!J$1,$W197,0),\"\")","v":""},{"$f":"IF($T197,OFFSET(DetailListPending!K$1,$W197,0),\"\")","v":""},{"$f":"IF($T197,OFFSET(DetailListPending!AU$1,$W197,0),\"\")","v":""},{"$f":"IF($T197,OFFSET(DetailListPending!AS$1,$W197,0),\"\")","v":""},null,{"$f":"IF($T197,OFFSET(DetailListPending!P$1,$W197,0),\"\")","v":""},{"$f":"IF($T197,OFFSET(DetailListPending!Q$1,$W197,0),\"\")","v":""},{"$f":"IF($T197,OFFSET(DetailListPending!R$1,$W197,0),\"\")","v":""},null,false,196,{"$f":"IF($T197,OFFSET(DetailListPending!A$1,$W197,0),\"\")","v":""},{"$f":"MATCH(U197,DetailListPending!BG:BG,0)-1","v":{"$error":"#N/A"}}]
[null,{"$f":"IF($T198,OFFSET(DetailListPending!C$1,$W198,0),\"\")","v":""},{"$f":"IF($T198,OFFSET(DetailListPending!E$1,$W198,0),\"\")","v":""},{"$f":"IF($T198,OFFSET(DetailListPending!F$1,$W198,0),\"\")","v":""},{"$f":"IF($T198,OFFSET(DetailListPending!B$1,$W198,0),\"\")","v":""},null,"","","",null,{"$f":"IF($T198,OFFSET(DetailListPending!J$1,$W198,0),\"\")","v":""},{"$f":"IF($T198,OFFSET(DetailListPending!K$1,$W198,0),\"\")","v":""},{"$f":"IF($T198,OFFSET(DetailListPending!AU$1,$W198,0),\"\")","v":""},{"$f":"IF($T198,OFFSET(DetailListPending!AS$1,$W198,0),\"\")","v":""},null,{"$f":"IF($T198,OFFSET(DetailListPending!P$1,$W198,0),\"\")","v":""},{"$f":"IF($T198,OFFSET(DetailListPending!Q$1,$W198,0),\"\")","v":""},{"$f":"IF($T198,OFFSET(DetailListPending!R$1,$W198,0),\"\")","v":""},null,false,197,{"$f":"IF($T198,OFFSET(DetailListPending!A$1,$W198,0),\"\")","v":""},{"$f":"MATCH(U198,DetailListPending!BG:BG,0)-1","v":{"$error":"#N/A"}}]
[null,{"$f":"IF($T199,OFFSET(DetailListPending!C$1,$W199,0),\"\")","v":""},{"$f":"IF($T199,OFFSET(DetailListPending!E$1,$W199,0),\"\")","v":""},{"$f":"IF($T199,OFFSET(DetailListPending!F$1,$W199,0),\"\")","v":""},{"$f":"IF($T199,OFFSET(DetailListPending!B$1,$W199,0),\"\")","v":""},null,"","","",null,{"$f":"IF($T199,OFFSET(DetailListPending!J$1,$W199,0),\"\")","v":""},{"$f":"IF($T199,OFFSET(DetailListPending!K$1,$W199,0),\"\")","v":""},{"$f":"IF($T199,OFFSET(DetailListPending!AU$1,$W199,0),\"\")","v":""},{"$f":"IF($T199,OFFSET(DetailListPending!AS$1,$W199,0),\"\")","v":""},null,{"$f":"IF($T199,OFFSET(DetailListPending!P$1,$W199,0),\"\")","v":""},{"$f":"IF($T199,OFFSET(DetailListPending!Q$1,$W199,0),\"\")","v":""},{"$f":"IF($T199,OFFSET(DetailListPending!R$1,$W199,0),\"\")","v":""},null,false,198,{"$f":"IF($T199,OFFSET(DetailListPending!A$1,$W199,0),\"\")","v":""},{"$f":"MATCH(U199,DetailListPending!BG:BG,0)-1","v":{"$error":"#N/A"}}]
[null,{"$f":"IF($T200,OFFSET(DetailListPending!C$1,$W200,0),\"\")","v":""},{"$f":"IF($T200,OFFSET(DetailListPending!E$1,$W200,0),\"\")","v":""},{"$f":"IF($T200,OFFSET(DetailListPending!F$1,$W200,0),\"\")","v":""},{"$f":"IF($T200,OFFSET(DetailListPending!B$1,$W200,0),\"\")","v":""},null,"","","",null,{"$f":"IF($T200,OFFSET(DetailListPending!J$1,$W200,0),\"\")","v":""},{"$f":"IF($T200,OFFSET(DetailListPending!K$1,$W200,0),\"\")","v":""},{"$f":"IF($T200,OFFSET(DetailListPending!AU$1,$W200,0),\"\")","v":""},{"$f":"IF($T200,OFFSET(DetailListPending!AS$1,$W200,0),\"\")","v":""},null,{"$f":"IF($T200,OFFSET(DetailListPending!P$1,$W200,0),\"\")","v":""},{"$f":"IF($T200,OFFSET(DetailListPending!Q$1,$W200,0),\"\")","v":""},{"$f":"IF($T200,OFFSET(DetailListPending!R$1,$W200,0),\"\")","v":""},null,false,199,{"$f":"IF($T200,OFFSET(DetailListPending!A$1,$W200,0),\"\")","v":""},{"$f":"MATCH(U200,DetailListPending!BG:BG,0)-1","v":{"$error":"#N/A"}}]
[null,{"$f":"IF($T201,OFFSET(DetailListPending!C$1,$W201,0),\"\")","v":""},{"$f":"IF($T201,OFFSET(DetailListPending!E$1,$W201,0),\"\")","v":""},{"$f":"IF($T201,OFFSET(DetailListPending!F$1,$W201,0),\"\")","v":""},{"$f":"IF($T201,OFFSET(DetailListPending!B$1,$W201,0),\"\")","v":""},null,"","","",null,{"$f":"IF($T201,OFFSET(DetailListPending!J$1,$W201,0),\"\")","v":""},{"$f":"IF($T201,OFFSET(DetailListPending!K$1,$W201,0),\"\")","v":""},{"$f":"IF($T201,OFFSET(DetailListPending!AU$1,$W201,0),\"\")","v":""},{"$f":"IF($T201,OFFSET(DetailListPending!AS$1,$W201,0),\"\")","v":""},null,{"$f":"IF($T201,OFFSET(DetailListPending!P$1,$W201,0),\"\")","v":""},{"$f":"IF($T201,OFFSET(DetailListPending!Q$1,$W201,0),\"\")","v":""},{"$f":"IF($T201,OFFSET(DetailListPending!R$1,$W201,0),\"\")","v":""},null,false,200,{"$f":"IF($T201,OFFSET(DetailListPending!A$1,$W201,0),\"\")","v":""},{"$f":"MATCH(U201,DetailListPending!BG:BG,0)-1","v":{"$error":"#N/A"}}]
[]
[{"$nulls":12},{"$f":"SUM(M2:M201)","v":0}]

{"sheet":"DetailListPending","index":7,"n_rows":25,"n_cols":59,"rows_kept":25}
["     Level","Ref","Data collection name","Data topic","Dept.","     New","     National Statistics","     EU/Int. legal oblig.","     UK legal obligation","Freq.","Authority group","Short description","Comments","Links",".","Link to return","Link to example of published data","     ALB","NI","     County council","     District council","     Metropolitan district","     Unitary authority","     London borough","     City of London","     Isles of Scilly","     Fire & rescue authority","     Police authority","     Joint waste authority","     Waste disposal authority","     National park authority","     Integrated transport authority","     GLA","     Transport for London","     London Development Agency","     London Fire & Emergency Planning authority","     Metropolitan Police Authority","     Broads Authority","     Joint authority","     Combined authority","     Parish council","     Parish meeting","Authority comments","Authority classes","Collection type","Format","Data topics",".","Theme","Contact",".","Ref part 1","Ref part 2",".","Level","Dept. sort","List order","Unique ranking value","Rank"]
["D","190-01","Food Hygiene (LA food law enforcement monitoring return)","How much FH FTE resource is required to deliver the service in accordance with the FLCoP and the No. of FTE professional posts allocated/occupied/diverted at a fixed date. The actual number of allocated and occupied officers,suitably qualified, Regualtory support officers and trainees. Also New pending binary question - Has the local authority used Contractors/Agency staff in the last quarter? Yes/No","FSA",null,null,"Y",null," quarterly","Single tier & lower tier",null,"Data needed to assess resource considered necessary by the LA, allocated, available and diverted resource plus a breakdown of number of officers into three categories. The FTE related questions are proposed as annual questions while other resource questions are proposed quarterly","","",null,null,"Y",{"$nulls":27},"",null,0,null,null,190,1,null,1,49,470,1049470,491]
[null,"190-15","Food Hygiene (LA food law enforcement monitoring return)","No. unrated businesses, No. new registrations: No.unrated inspected, Does the LA prioritise inspections at new registrations and if so the No. of inspections postponed because considered lower risk. ","FSA",null,null,"Y",null,"quarterly","Single tier & lower tier",null,"Two additional questions: 'Number of new registrations in the last quarter' and a new question 'Does the LA consider new food business registrations and approvals based on risk and prioritise inspections according",{"$nulls":4},"Y"]
[null,"190-xx","Food Hygiene (LA food law enforcement monitoring return)","No. of premises broken down by defined establishment categories.","FSA",null,null,"Y",null,"annual","Single tier & lower tier",null,"An indication of the establishment landscape and the demands placed on each local authority by the establishments in their area. Currently required for NI only",{"$nulls":4},"Y"]
[null,"190-xx","Food Hygiene (LA food law enforcement monitoring return)","No. of interventions carried out by defined intervention type and No.of revisits carried out following an inspection to check non-compliances have been remedied.","FSA",null,null,"Y",null,"quarterly","Single tier & lower tier",null,"The No. of revisits carried out following an inspection to check non-compliances have been remedied will provide information on if risk in the system is dealt with.",{"$nulls":4},"Y"]
[null,"190-xx",{"$f":"C16","v":"Food Standards (LA food law enforcement monitoring return)"},"Total No of enforcement actions broken down by establishment type.","FSA",null,null,"Y",null,"annual","Single tier & lower tier",null,"This will provide more information on the risk in the system.",{"$nulls":4},"Y"]
[null,"190-xx",{"$f":"C22","v":"Food Standards (LA food law enforcement monitoring return)"},"The number of establishments subject to Imported food notices (TARP and/or OFFC) ",{"$nulls":3},"Y",null,"quarterly","Single tier & lower tier",null,"Additional enforcement data has been proposed to monitor if LAs are using the full range of enforcement options available."]
[null,"190-xx","Food Hygiene (LA food law enforcement monitoring return)","Total number of satisfactory/unsatisfactory results by analytical type.","FSA",null,null,"Y",null,"annual","Single tier & lower tier",null,"The data for NI local authorities is required for the EU return. Pending data collection for England and Wales",{"$nulls":4},"Y"]
[null,"190-xx","Food Hygiene (LA food law enforcement monitoring return)","Total No of administrative enforcement actions and Total No of judicial actions in response to sample results. Questions for NI LAs and possibly for England and Wales.","FSA",null,null,"Y",null,"annual","Single tier & lower tier",null,"Will provide more information on the outcomes from sampling activity, Agreed for NI pending for England and Wales",{"$nulls":4},"Y"]
[null,"190-xx","Food Hygiene (LA food law enforcement monitoring return)","Proposal for reduced binary style questions to replace those in 190-02  ","FSA",null,null,"Y",null,"quarterly","Single tier & lower tier",null,"The actual questions are still under discussion. ",{"$nulls":4},"Y"]
[null,"190-xx","Food Hygiene (LA food law enforcement monitoring return)","Has the LA carried out any education campaigns Yes/No and free text box for more details.","FSA",null,null,"Y",null,"quarterly","Single tier & lower tier",null,"will indicate actions being taken to tackle known issues and to improve compliance in areas of concern. It will also help to build a wider picture of local authority activity and identify areas of good practice.",{"$nulls":4},"Y"]
[null,"191-01","Food Standards (LA food law enforcement monitoring return)","How much FS FTE resource is required to deliver the service in accordance with the FLCoP and the No. of FTE professional posts allocated/occupied/diverted at fixed date. The actual number of allocated and occupied officers,suitably qualified, Regualtory support officers and trainees. Also New pending binary question - Has the local authority used Contractors/Agency staff in the last quarter? Yes/No","FSA",null,null,"Y",null,"quarterly","Upper tier & single tier",null,"Data needed to assess resource considered necessary by the LA, allocated, available and diverted resource plus a breakdown of number of officers into three categories.  The FTE related questions are proposed as annual questions while other resource questions are proposed quarterly","","",null,null,"Y",{"$nulls":28},"",null,0,null,null,191,1,null,1,48,494,1048494,508]
[null,"191-15","Food Hygiene (LA food law enforcement monitoring return)","No. unrated businesses, No. new registrations: No.unrated inspected, Does the LA prioritise inspections at new registrations and if so the No. of inspections postponed because considered lower risk. ","FSA",null,null,"Y",null,"quarterly","Single tier & lower tier",null,"Two additional questions: 'Number of new registrations in the last quarter' and a new question 'Does the LA consider new food business registrations and approvals based on risk and prioritise inspections according",{"$nulls":4},"Y"]
[null,"191-xx","Food Hygiene (LA food law enforcement monitoring return)","Proposal for reduced binary style questions to replace those in 191-02  ","FSA",null,null,"Y",null,"quarterly","Single tier & lower tier",null,"The actual questions are still under discussion. ",{"$nulls":4},"Y"]
[null,"191-xx","Food Standards (LA food law enforcement monitoring return)","No. of premises broken down by defined establishment categories.","FSA",null,null,"Y",null,"annual","Upper tier & single tier",null,"An indication of the establishment landscape and the demands placed on each local authority by the establishments in their area. Currently required for NI only",{"$nulls":4},"Y"]
[null,"191-xx","Food Standards (LA food law enforcement monitoring return)","Total No.of interventions carried out by defined intervention type and No.of revisits carried out following an inspection to check non-compliances have been remedied.","FSA",null,null,"Y",null,"quarterly","Upper tier & single tier",null,"The No. of revisits carried out following an inspection to check non-compliances have been remedied will provide information on if risk in the system is dealt with.",{"$nulls":4},"Y"]
[null,"191-xx","Food Standards (LA food law enforcement monitoring return)","The number of establishments subject to Voluntary closure  ","FSA",null,null,"Y",null,"quarterly","Upper tier & single tier",null,"Additional enforcement data has been proposed to monitor if LAs are using the full range of enforcement options available."]
[null,"191-xx","Food Standards (LA food law enforcement monitoring return)","The number of establishments subject to Emergency prohibition notice ","FSA",null,null,"Y",null,"quarterly","Upper tier & single tier",null,"Additional enforcement data has been proposed to monitor if LAs are using the full range of enforcement options available."]
[null,"191-xx","Food Standards (LA food law enforcement monitoring return)","The number of establishments subject to Suspension/revocation of approval or licence ","FSA",null,null,"Y",null,"quarterly","Upper tier & single tier",null,"Additional enforcement data has been proposed to monitor if LAs are using the full range of enforcement options available."]
[null,"191-xx","Food Standards (LA food law enforcement monitoring return)","The number of establishments subject to Imported food notices (TARP and/or OFFC) ","FSA",null,null,"Y",null,"quarterly","Upper tier & single tier",null,"Additional enforcement data has been proposed to monitor if LAs are using the full range of enforcement options available."]
[null,"191-xx","Food Standards (LA food law enforcement monitoring return)","The number of establishments subject to Prohibition order  ","FSA",null,null,"Y",null,"quarterly","Upper tier & single tier",null,"Additional enforcement data has been proposed to monitor if LAs are using the full range of enforcement options available."]
[null,"191-xx","Food Standards (LA food law enforcement monitoring return)","Total No of enforcement actions broken down by establishment type.","FSA",null,null,"Y",null,"annual","Upper tier & single tier",null,"This will provide more information on the risk in the system.",{"$nulls":4},"Y"]
[null,"191-xx","Food Standards (LA food law enforcement monitoring return)","Total number of satisfactory/unsatisfactory results by analytical type.","FSA",null,null,"Y",null,"annual","Upper tier & single tier",null,"The data for NI local authorities is required for the EU return. Pending data collection for England and Wales",{"$nulls":4},"Y"]
[null,"191-xx","Food Standards (LA food law enforcement monitoring return)","Total No of administrative enforcement actions and Total No of judicial actions in response to sample results.  Questions for NI LAs and possibly for England and Wales.","FSA",null,null,"Y",null,"annual","Upper tier & single tier",null,"Will provide more information on the outcomes from sampling activity, Agreed for NI pending for England and Wales",{"$nulls":4},"Y"]
[null,"191-xx","Food Standards (LA food law enforcement monitoring return)","Has the LA carried out any education campaigns Yes/No and free text box for more details.","FSA",null,null,"Y",null,"quarterly","Upper tier & single tier",null,"Will indicate actions being taken to tackle known issues and to improve compliance in areas of concern. It will also help to build a wider picture of local authority activity and identify areas of good practice.",{"$nulls":4},"Y"]

{"sheet":"RefsLookup","index":8,"n_rows":503,"n_cols":11,"rows_kept":503,"hidden":true}
[null,"Ref part 1","Row Main","Row Pending","Row Removed","Collection name","Dept","Topics","List","Exists","Error"]
[null,{"v":1,"d":"001"},{"$f":"MATCH(B2,DetailList!AZ:AZ,0)","v":2},{"$f":"MATCH(B2,DetailListPending!AZ:AZ,0)","v":2},{"$f":"MATCH(B2,Removed!AZ$1:AZ$443,0)","v":{"$error":"#N/A"}},{"$f":"CHOOSE(I2,OFFSET(DetailList!C$1,$C2-1,0),\"PENDING: \"&OFFSET(DetailListPending!C$1,$D2-1,0),\"   REMOVED [\"&OFFSET(Removed!C$1,$E2-1,0)&\"]\")","v":"Weights and measures enforcement (section 70)"},{"$f":"CHOOSE(I2,OFFSET(DetailList!E$1,$C2-1,0),OFFSET(DetailListPending!E$1,$D2-1,0),OFFSET(Removed!E$1,$E2-1,0))","v":"DBT/OPSS"},{"$f":"CHOOSE(I2,OFFSET(DetailList!AU$1,$C2-1,0),\"Pending: \"&OFFSET(DetailListPending!AU$1,$D2-1,0),\"REMOVED [\"&OFFSET(Removed!AU$1,$E2-1,0)&\"]\")","v":2},{"$f":"IF(ISNUMBER(C2),1,IF(ISNUMBER(D2),2,IF(ISNUMBER(E2),3,NA())))","v":1},{"$f":"NOT(ISNA(I2))","v":true},{"$f":"AND(J2,COUNTIF(C2:E2,NA())<>2)","v":true}]
[null,{"v":2,"d":"002"},{"$f":"MATCH(B3,DetailList!AZ:AZ,0)","v":5},{"$f":"MATCH(B3,DetailListPending!AZ:AZ,0)","v":{"$error":"#N/A"}},{"$f":"MATCH(B3,Removed!AZ$1:AZ$443,0)","v":{"$error":"#N/A"}},{"$f":"CHOOSE(I3,OFFSET(DetailList!C$1,$C3-1,0),\"PENDING: \"&OFFSET(DetailListPending!C$1,$D3-1,0),\"   REMOVED [\"&OFFSET(Removed!C$1,$E3-1,0)&\"]\")","v":"House Building Return (P2a)"},{"$f":"CHOOSE(I3,OFFSET(DetailList!E$1,$C3-1,0),OFFSET(DetailListPending!E$1,$D3-1,0),OFFSET(Removed!E$1,$E3-1,0))","v":"DLUHC"},{"$f":"CHOOSE(I3,OFFSET(DetailList!AU$1,$C3-1,0),\"Pending: \"&OFFSET(DetailListPending!AU$1,$D3-1,0),\"REMOVED [\"&OFFSET(Removed!AU$1,$E3-1,0)&\"]\")","v":2},1,{"$f":"NOT(ISNA(I3))","v":true},{"$f":"AND(J3,COUNTIF(C3:E3,NA())<>2)","v":false}]
[null,{"v":3,"d":"003"},{"$f":"MATCH(B4,DetailList!AZ:AZ,0)","v":8},{"$f":"MATCH(B4,DetailListPending!AZ:AZ,0)","v":{"$error":"#N/A"}},{"$f":"MATCH(B4,Removed!AZ$1:AZ$443,0)","v":{"$error":"#N/A"}},{"$f":"CHOOSE(I4,OFFSET(DetailList!C$1,$C4-1,0),\"PENDING: \"&OFFSET(DetailListPending!C$1,$D4-1,0),\"   REMOVED [\"&OFFSET(Removed!C$1,$E4-1,0)&\"]\")","v":"Housing Flows Reconciliation Form (HFR)"},{"$f":"CHOOSE(I4,OFFSET(DetailList!E$1,$C4-1,0),OFFSET(DetailListPending!E$1,$D4-1,0),OFFSET(Removed!E$1,$E4-1,0))","v":"DLUHC"},{"$f":"CHOOSE(I4,OFFSET(DetailList!AU$1,$C4-1,0),\"Pending: \"&OFFSET(DetailListPending!AU$1,$D4-1,0),\"REMOVED [\"&OFFSET(Removed!AU$1,$E4-1,0)&\"]\")","v":5},1,true,false]
[null,{"v":4,"d":"004"},{"$f":"MATCH(B5,DetailList!AZ:AZ,0)","v":{"$error":"#N/A"}},{"$f":"MATCH(B5,DetailListPending!AZ:AZ,0)","v":{"$error":"#N/A"}},{"$f":"MATCH(B5,Removed!AZ$1:AZ$443,0)","v":228},{"$f":"CHOOSE(I5,OFFSET(DetailList!C$1,$C5-1,0),\"PENDING: \"&OFFSET(DetailListPending!C$1,$D5-1,0),\"   REMOVED [\"&OFFSET(Removed!C$1,$E5-1,0)&\"]\")","v":"   REMOVED [Housing Strategy Statistical Appendix (HSSA)]"},{"$f":"CHOOSE(I5,OFFSET(DetailList!E$1,$C5-1,0),OFFSET(DetailListPending!E$1,$D5-1,0),OFFSET(Removed!E$1,$E5-1,0))","v":"DCLG"},{"$f":"CHOOSE(I5,OFFSET(DetailList!AU$1,$C5-1,0),\"Pending: \"&OFFSET(DetailListPending!AU$1,$D5-1,0),\"REMOVED [\"&OFFSET(Removed!AU$1,$E5-1,0)&\"]\")","v":"REMOVED [11]"},3,true,false]
[null,{"v":5,"d":"005"},{"$f":"MATCH(B6,DetailList!AZ:AZ,0)","v":{"$error":"#N/A"}},{"$f":"MATCH(B6,DetailListPending!AZ:AZ,0)","v":{"$error":"#N/A"}},{"$f":"MATCH(B6,Removed!AZ$1:AZ$443,0)","v":240},{"$f":"CHOOSE(I6,OFFSET(DetailList!C$1,$C6-1,0),\"PENDING: \"&OFFSET(DetailListPending!C$1,$D6-1,0),\"   REMOVED [\"&OFFSET(Removed!C$1,$E6-1,0)&\"]\")","v":"   REMOVED [HRA Business Plan Statistical Appendix (BPSA)]"},{"$f":"CHOOSE(I6,OFFSET(DetailList!E$1,$C6-1,0),OFFSET(DetailListPending!E$1,$D6-1,0),OFFSET(Removed!E$1,$E6-1,0))","v":"DCLG"},{"$f":"CHOOSE(I6,OFFSET(DetailList!AU$1,$C6-1,0),\"Pending: \"&OFFSET(DetailListPending!AU$1,$D6-1,0),\"REMOVED [\"&OFFSET(Removed!AU$1,$E6-1,0)&\"]\")","v":"REMOVED [5]"},3,true,false]
[null,{"v":6,"d":"006"},{"$f":"MATCH(B7,DetailList!AZ:AZ,0)","v":{"$error":"#N/A"}},{"$f":"MATCH(B7,DetailListPending!AZ:AZ,0)","v":{"$error":"#N/A"}},{"$f":"MATCH(B7,Removed!AZ$1:AZ$443,0)","v":48},{"$f":"CHOOSE(I7,OFFSET(DetailList!C$1,$C7-1,0),\"PENDING: \"&OFFSET(DetailListPending!C$1,$D7-1,0),\"   REMOVED [\"&OFFSET(Removed!C$1,$E7-1,0)&\"]\")","v":"   REMOVED [Business Plan Statistical Appendix - Early Decent Homes (BPSA-EDH)]"},{"$f":"CHOOSE(I7,OFFSET(DetailList!E$1,$C7-1,0),OFFSET(DetailListPending!E$1,$D7-1,0),OFFSET(Removed!E$1,$E7-1,0))","v":"DCLG"},{"$f":"CHOOSE(I7,OFFSET(DetailList!AU$1,$C7-1,0),\"Pending: \"&OFFSET(DetailListPending!AU$1,$D7-1,0),\"REMOVED [\"&OFFSET(Removed!AU$1,$E7-1,0)&\"]\")","v":"REMOVED [2]"},3,true,false]
[null,{"v":7,"d":"007"},{"$f":"MATCH(B8,DetailList!AZ:AZ,0)","v":{"$error":"#N/A"}},{"$f":"MATCH(B8,DetailListPending!AZ:AZ,0)","v":{"$error":"#N/A"}},{"$f":"MATCH(B8,Removed!AZ$1:AZ$443,0)","v":326},{"$f":"CHOOSE(I8,OFFSET(DetailList!C$1,$C8-1,0),\"PENDING: \"&OFFSET(DetailListPending!C$1,$D8-1,0),\"   REMOVED [\"&OFFSET(Removed!C$1,$E8-1,0)&\"]\")","v":"   REMOVED [Mortgage Rescue Scheme return]"},{"$f":"CHOOSE(I8,OFFSET(DetailList!E$1,$C8-1,0),OFFSET(DetailListPending!E$1,$D8-1,0),OFFSET(Removed!E$1,$E8-1,0))","v":"DCLG"},{"$f":"CHOOSE(I8,OFFSET(DetailList!AU$1,$C8-1,0),\"Pending: \"&OFFSET(DetailListPending!AU$1,$D8-1,0),\"REMOVED [\"&OFFSET(Removed!AU$1,$E8-1,0)&\"]\")","v":"REMOVED [2]"},3,true,false]
[null,{"v":8,"d":"008"},{"$f":"MATCH(B9,DetailList!AZ:AZ,0)","v":{"$error":"#N/A"}},{"$f":"MATCH(B9,DetailListPending!AZ:AZ,0)","v":{"$error":"#N/A"}},{"$f":"MATCH(B9,Removed!AZ$1:AZ$443,0)","v":246},{"$f":"CHOOSE(I9,OFFSET(DetailList!C$1,$C9-1,0),\"PENDING: \"&OFFSET(DetailListPending!C$1,$D9-1,0),\"   REMOVED [\"&OFFSET(Removed!C$1,$E9-1,0)&\"]\")","v":"   REMOVED [Housing Monitoring (P1B)]"},{"$f":"CHOOSE(I9,OFFSET(DetailList!E$1,$C9-1,0),OFFSET(DetailListPending!E$1,$D9-1,0),OFFSET(Removed!E$1,$E9-1,0))","v":"DCLG"},{"$f":"CHOOSE(I9,OFFSET(DetailList!AU$1,$C9-1,0),\"Pending: \"&OFFSET(DetailListPending!AU$1,$D9-1,0),\"REMOVED [\"&OFFSET(Removed!AU$1,$E9-1,0)&\"]\")","v":"REMOVED [8]"},3,true,false]
[null,{"v":9,"d":"009"},{"$f":"MATCH(B10,DetailList!AZ:AZ,0)","v":{"$error":"#N/A"}},{"$f":"MATCH(B10,DetailListPending!AZ:AZ,0)","v":{"$error":"#N/A"}},{"$f":"MATCH(B10,Removed!AZ$1:AZ$443,0)","v":404},{"$f":"CHOOSE(I10,OFFSET(DetailList!C$1,$C10-1,0),\"PENDING: \"&OFFSET(DetailListPending!C$1,$D10-1,0),\"   REMOVED [\"&OFFSET(Removed!C$1,$E10-1,0)&\"]\")","v":"   REMOVED [Local Authority activity under the homelessness provisions of the 1996 Housing Act (P1E)]"},{"$f":"CHOOSE(I10,OFFSET(DetailList!E$1,$C10-1,0),OFFSET(DetailListPending!E$1,$D10-1,0),OFFSET(Removed!E$1,$E10-1,0))","v":"MHCLG"},{"$f":"CHOOSE(I10,OFFSET(DetailList!AU$1,$C10-1,0),\"Pending: \"&OFFSET(DetailListPending!AU$1,$D10-1,0),\"REMOVED [\"&OFFSET(Removed!AU$1,$E10-1,0)&\"]\")","v":"REMOVED [6]"},3,true,false]
[null,{"v":10,"d":"010"},{"$f":"MATCH(B11,DetailList!AZ:AZ,0)","v":17},{"$f":"MATCH(B11,DetailListPending!AZ:AZ,0)","v":{"$error":"#N/A"}},{"$f":"MATCH(B11,Removed!AZ$1:AZ$443,0)","v":{"$error":"#N/A"}},{"$f":"CHOOSE(I11,OFFSET(DetailList!C$1,$C11-1,0),\"PENDING: \"&OFFSET(DetailListPending!C$1,$D11-1,0),\"   REMOVED [\"&OFFSET(Removed!C$1,$E11-1,0)&\"]\")","v":"Rough Sleeping Snapshot Statistics"},{"$f":"CHOOSE(I11,OFFSET(DetailList!E$1,$C11-1,0),OFFSET(DetailListPending!E$1,$D11-1,0),OFFSET(Removed!E$1,$E11-1,0))","v":"DLUHC"},{"$f":"CHOOSE(I11,OFFSET(DetailList!AU$1,$C11-1,0),\"Pending: \"&OFFSET(DetailListPending!AU$1,$D11-1,0),\"REMOVED [\"&OFFSET(Removed!AU$1,$E11-1,0)&\"]\")","v":1},1,true,false]
[null,{"v":11,"d":"011"},{"$f":"MATCH(B12,DetailList!AZ:AZ,0)","v":{"$error":"#N/A"}},{"$f":"MATCH(B12,DetailListPending!AZ:AZ,0)","v":{"$error":"#N/A"}},{"$f":"MATCH(B12,Removed!AZ$1:AZ$443,0)","v":41},{"$f":"CHOOSE(I12,OFFSET(DetailList!C$1,$C12-1,0),\"PENDING: \"&OFFSET(DetailListPending!C$1,$D12-1,0),\"   REMOVED [\"&OFFSET(Removed!C$1,$E12-1,0)&\"]\")","v":"   REMOVED [Supporting People Client Records and Outcomes]"},{"$f":"CHOOSE(I12,OFFSET(DetailList!E$1,$C12-1,0),OFFSET(DetailListPending!E$1,$D12-1,0),OFFSET(Removed!E$1,$E12-1,0))","v":"DCLG"},{"$f":"CHOOSE(I12,OFFSET(DetailList!AU$1,$C12-1,0),\"Pending: \"&OFFSET(DetailListPending!AU$1,$D12-1,0),\"REMOVED [\"&OFFSET(Removed!AU$1,$E12-1,0)&\"]\")","v":"REMOVED [6]"},3,true,false]
[null,{"v":12,"d":"012"},{"$f":"MATCH(B13,DetailList!AZ:AZ,0)","v":{"$error":"#N/A"}},{"$f":"MATCH(B13,DetailListPending!AZ:AZ,0)","v":{"$error":"#N/A"}},{"$f":"MATCH(B13,Removed!AZ$1:AZ$443,0)","v":55},{"$f":"CHOOSE(I13,OFFSET(DetailList!C$1,$C13-1,0),\"PENDING: \"&OFFSET(DetailListPending!C$1,$D13-1,0),\"   REMOVED [\"&OFFSET(Removed!C$1,$E13-1,0)&\"]\")","v":"   REMOVED [Supporting People Local System data]"},{"$f":"CHOOSE(I13,OFFSET(DetailList!E$1,$C13-1,0),OFFSET(DetailListPending!E$1,$D13-1,0),OFFSET(Removed!E$1,$E13-1,0))","v":"DCLG"},{"$f":"CHOOSE(I13,OFFSET(DetailList!AU$1,$C13-1,0),\"Pending: \"&OFFSET(DetailListPending!AU$1,$D13-1,0),\"REMOVED [\"&OFFSET(Removed!AU$1,$E13-1,0)&\"]\")","v":"REMOVED [2]"},3,true,false]
[null,{"v":13,"d":"013"},{"$f":"MATCH(B14,DetailList!AZ:AZ,0)","v":19},{"$f":"MATCH(B14,DetailListPending!AZ:AZ,0)","v":{"$error":"#N/A"}},{"$f":"MATCH(B14,Removed!AZ$1:AZ$443,0)","v":{"$error":"#N/A"}},{"$f":"CHOOSE(I14,OFFSET(DetailList!C$1,$C14-1,0),\"PENDING: \"&OFFSET(DetailListPending!C$1,$D14-1,0),\"   REMOVED [\"&OFFSET(Removed!C$1,$E14-1,0)&\"]\")","v":"Count of traveller caravans"},{"$f":"CHOOSE(I14,OFFSET(DetailList!E$1,$C14-1,0),OFFSET(DetailListPending!E$1,$D14-1,0),OFFSET(Removed!E$1,$E14-1,0))","v":"DLUHC"},{"$f":"CHOOSE(I14,OFFSET(DetailList!AU$1,$C14-1,0),\"Pending: \"&OFFSET(DetailListPending!AU$1,$D14-1,0),\"REMOVED [\"&OFFSET(Removed!AU$1,$E14-1,0)&\"]\")","v":3},1,true,false]
[null,{"v":14,"d":"014"},{"$f":"MATCH(B15,DetailList!AZ:AZ,0)","v":{"$error":"#N/A"}},{"$f":"MATCH(B15,DetailListPending!AZ:AZ,0)","v":{"$error":"#N/A"}},{"$f":"MATCH(B15,Removed!AZ$1:AZ$443,0)","v":120},{"$f":"CHOOSE(I15,OFFSET(DetailList!C$1,$C15-1,0),\"PENDING: \"&OFFSET(DetailListPending!C$1,$D15-1,0),\"   REMOVED [\"&OFFSET(Removed!C$1,$E15-1,0)&\"]\")","v":"   REMOVED [Housing Revenue Account Subsidy Claim form - first advance]"},{"$f":"CHOOSE(I15,OFFSET(DetailList!E$1,$C15-1,0),OFFSET(DetailListPending!E$1,$D15-1,0),OFFSET(Removed!E$1,$E15-1,0))","v":"DCLG"},{"$f":"CHOOSE(I15,OFFSET(DetailList!AU$1,$C15-1,0),\"Pending: \"&OFFSET(DetailListPending!AU$1,$D15-1,0),\"REMOVED [\"&OFFSET(Removed!AU$1,$E15-1,0)&\"]\")","v":"REMOVED [5]"},3,true,false]
[null,{"v":15,"d":"015"},{"$f":"MATCH(B16,DetailList!AZ:AZ,0)","v":{"$error":"#N/A"}},{"$f":"MATCH(B16,DetailListPending!AZ:AZ,0)","v":{"$error":"#N/A"}},{"$f":"MATCH(B16,Removed!AZ$1:AZ$443,0)","v":139},{"$f":"CHOOSE(I16,OFFSET(DetailList!C$1,$C16-1,0),\"PENDING: \"&OFFSET(DetailListPending!C$1,$D16-1,0),\"   REMOVED [\"&OFFSET(Removed!C$1,$E16-1,0)&\"]\")","v":"   REMOVED [Housing Revenue Account Subsidy Claim form - second advance]"},{"$f":"CHOOSE(I16,OFFSET(DetailList!E$1,$C16-1,0),OFFSET(DetailListPending!E$1,$D16-1,0),OFFSET(Removed!E$1,$E16-1,0))","v":"DCLG"},{"$f":"CHOOSE(I16,OFFSET(DetailList!AU$1,$C16-1,0),\"Pending: \"&OFFSET(DetailListPending!AU$1,$D16-1,0),\"REMOVED [\"&OFFSET(Removed!AU$1,$E16-1,0)&\"]\")","v":"REMOVED [5]"},3,true,false]
[null,{"v":16,"d":"016"},{"$f":"MATCH(B17,DetailList!AZ:AZ,0)","v":{"$error":"#N/A"}},{"$f":"MATCH(B17,DetailListPending!AZ:AZ,0)","v":{"$error":"#N/A"}},{"$f":"MATCH(B17,Removed!AZ$1:AZ$443,0)","v":267},{"$f":"CHOOSE(I17,OFFSET(DetailList!C$1,$C17-1,0),\"PENDING: \"&OFFSET(DetailListPending!C$1,$D17-1,0),\"   REMOVED [\"&OFFSET(Removed!C$1,$E17-1,0)&\"]\")","v":"   REMOVED [HRA Subsidy Claim form - advance final (FINAL COLLECTION IN 2012/13)]"},{"$f":"CHOOSE(I17,OFFSET(DetailList!E$1,$C17-1,0),OFFSET(DetailListPending!E$1,$D17-1,0),OFFSET(Removed!E$1,$E17-1,0))","v":"DCLG"},{"$f":"CHOOSE(I17,OFFSET(DetailList!AU$1,$C17-1,0),\"Pending: \"&OFFSET(DetailListPending!AU$1,$D17-1,0),\"REMOVED [\"&OFFSET(Removed!AU$1,$E17-1,0)&\"]\")","v":"REMOVED [5]"},3,true,false]
[null,{"v":17,"d":"017"},{"$f":"MATCH(B18,DetailList!AZ:AZ,0)","v":{"$error":"#N/A"}},{"$f":"MATCH(B18,DetailListPending!AZ:AZ,0)","v":{"$error":"#N/A"}},{"$f":"MATCH(B18,Removed!AZ$1:AZ$443,0)","v":273},{"$f":"CHOOSE(I18,OFFSET(DetailList!C$1,$C18-1,0),\"PENDING: \"&OFFSET(DetailListPending!C$1,$D18-1,0),\"   REMOVED [\"&OFFSET(Removed!C$1,$E18-1,0)&\"]\")","v":"   REMOVED [HRA Subsidy Claim form - auditor final (FINAL COLLECTION IN 2012/13)]"},{"$f":"CHOOSE(I18,OFFSET(DetailList!E$1,$C18-1,0),OFFSET(DetailListPending!E$1,$D18-1,0),OFFSET(Removed!E$1,$E18-1,0))","v":"DCLG"},{"$f":"CHOOSE(I18,OFFSET(DetailList!AU$1,$C18-1,0),\"Pending: \"&OFFSET(DetailListPending!AU$1,$D18-1,0),\"REMOVED [\"&OFFSET(Removed!AU$1,$E18-1,0)&\"]\")","v":"REMOVED [5]"},3,true,false]
[null,{"v":18,"d":"018"},{"$f":"MATCH(B19,DetailList!AZ:AZ,0)","v":{"$error":"#N/A"}},{"$f":"MATCH(B19,DetailListPending!AZ:AZ,0)","v":{"$error":"#N/A"}},{"$f":"MATCH(B19,Removed!AZ$1:AZ$443,0)","v":145},{"$f":"CHOOSE(I19,OFFSET(DetailList!C$1,$C19-1,0),\"PENDING: \"&OFFSET(DetailListPending!C$1,$D19-1,0),\"   REMOVED [\"&OFFSET(Removed!C$1,$E19-1,0)&\"]\")","v":"   REMOVED [Housing Revenue Account Subsidy base data forms]"},{"$f":"CHOOSE(I19,OFFSET(DetailList!E$1,$C19-1,0),OFFSET(DetailListPending!E$1,$D19-1,0),OFFSET(Removed!E$1,$E19-1,0))","v":"DCLG"},{"$f":"CHOOSE(I19,OFFSET(DetailList!AU$1,$C19-1,0),\"Pending: \"&OFFSET(DetailListPending!AU$1,$D19-1,0),\"REMOVED [\"&OFFSET(Removed!AU$1,$E19-1,0)&\"]\")","v":"REMOVED [1]"},3,true,false]
[null,{"v":19,"d":"019"},{"$f":"MATCH(B20,DetailList!AZ:AZ,0)","v":{"$error":"#N/A"}},{"$f":"MATCH(B20,DetailListPending!AZ:AZ,0)","v":{"$error":"#N/A"}},{"$f":"MATCH(B20,Removed!AZ$1:AZ$443,0)","v":67},{"$f":"CHOOSE(I20,OFFSET(DetailList!C$1,$C20-1,0),\"PENDING: \"&OFFSET(DetailListPending!C$1,$D20-1,0),\"   REMOVED [\"&OFFSET(Removed!C$1,$E20-1,0)&\"]\")","v":"   REMOVED [Affordable Housing Grant - UNDER CONSIDERATION]"},{"$f":"CHOOSE(I20,OFFSET(DetailList!E$1,$C20-1,0),OFFSET(DetailListPending!E$1,$D20-1,0),OFFSET(Removed!E$1,$E20-1,0))","v":"DCLG"},{"$f":"CHOOSE(I20,OFFSET(DetailList!AU$1,$C20-1,0),\"Pending: \"&OFFSET(DetailListPending!AU$1,$D20-1,0),\"REMOVED [\"&OFFSET(Removed!AU$1,$E20-1,0)&\"]\")","v":"REMOVED [1]"},3,true,false]
[null,{"v":20,"d":"020"},{"$f":"MATCH(B21,DetailList!AZ:AZ,0)","v":25},{"$f":"MATCH(B21,DetailListPending!AZ:AZ,0)","v":{"$error":"#N/A"}},{"$f":"MATCH(B21,Removed!AZ$1:AZ$443,0)","v":{"$error":"#N/A"}},{"$f":"CHOOSE(I21,OFFSET(DetailList!C$1,$C21-1,0),\"PENDING: \"&OFFSET(DetailListPending!C$1,$D21-1,0),\"   REMOVED [\"&OFFSET(Removed!C$1,$E21-1,0)&\"]\")","v":"Annual Green Belt (AGB) return "},{"$f":"CHOOSE(I21,OFFSET(DetailList!E$1,$C21-1,0),OFFSET(DetailListPending!E$1,$D21-1,0),OFFSET(Removed!E$1,$E21-1,0))","v":"DLUHC"},{"$f":"CHOOSE(I21,OFFSET(DetailList!AU$1,$C21-1,0),\"Pending: \"&OFFSET(DetailListPending!AU$1,$D21-1,0),\"REMOVED [\"&OFFSET(Removed!AU$1,$E21-1,0)&\"]\")","v":1},1,true,false]
[null,{"v":21,"d":"021"},{"$f":"MATCH(B22,DetailList!AZ:AZ,0)","v":27},{"$f":"MATCH(B22,DetailListPending!AZ:AZ,0)","v":{"$error":"#N/A"}},{"$f":"MATCH(B22,Removed!AZ$1:AZ$443,0)","v":{"$error":"#N/A"}},{"$f":"CHOOSE(I22,OFFSET(DetailList!C$1,$C22-1,0),\"PENDING: \"&OFFSET(DetailListPending!C$1,$D22-1,0),\"   REMOVED [\"&OFFSET(Removed!C$1,$E22-1,0)&\"]\")","v":"PS1/2 District matters planning statistical returns"},{"$f":"CHOOSE(I22,OFFSET(DetailList!E$1,$C22-1,0),OFFSET(DetailListPending!E$1,$D22-1,0),OFFSET(Removed!E$1,$E22-1,0))","v":"DLUHC"},{"$f":"CHOOSE(I22,OFFSET(DetailList!AU$1,$C22-1,0),\"Pending: \"&OFFSET(DetailListPending!AU$1,$D22-1,0),\"REMOVED [\"&OFFSET(Removed!AU$1,$E22-1,0)&\"]\")","v":11},1,true,false]
[null,{"v":22,"d":"022"},{"$f":"MATCH(B23,DetailList!AZ:AZ,0)","v":39},{"$f":"MATCH(B23,DetailListPending!AZ:AZ,0)","v":{"$error":"#N/A"}},{"$f":"MATCH(B23,Removed!AZ$1:AZ$443,0)","v":{"$error":"#N/A"}},{"$f":"CHOOSE(I23,OFFSET(DetailList!C$1,$C23-1,0),\"PENDING: \"&OFFSET(DetailListPending!C$1,$D23-1,0),\"   REMOVED [\"&OFFSET(Removed!C$1,$E23-1,0)&\"]\")","v":"CPS1/2 County matters planning statistical returns"},{"$f":"CHOOSE(I23,OFFSET(DetailList!E$1,$C23-1,0),OFFSET(DetailListPending!E$1,$D23-1,0),OFFSET(Removed!E$1,$E23-1,0))","v":"DLUHC"},{"$f":"CHOOSE(I23,OFFSET(DetailList!AU$1,$C23-1,0),\"Pending: \"&OFFSET(DetailListPending!AU$1,$D23-1,0),\"REMOVED [\"&OFFSET(Removed!AU$1,$E23-1,0)&\"]\")","v":5},1,true,false]
[null,{"v":23,"d":"023"},{"$f":"MATCH(B24,DetailList!AZ:AZ,0)","v":{"$error":"#N/A"}},{"$f":"MATCH(B24,DetailListPending!AZ:AZ,0)","v":{"$error":"#N/A"}},{"$f":"MATCH(B24,Removed!AZ$1:AZ$443,0)","v":29},{"$f":"CHOOSE(I24,OFFSET(DetailList!C$1,$C24-1,0),\"PENDING: \"&OFFSET(DetailListPending!C$1,$D24-1,0),\"   REMOVED [\"&OFFSET(Removed!C$1,$E24-1,0)&\"]\")","v":"   REMOVED [Five-year land supply for housing]"},{"$f":"CHOOSE(I24,OFFSET(DetailList!E$1,$C24-1,0),OFFSET(DetailListPending!E$1,$D24-1,0),OFFSET(Removed!E$1,$E24-1,0))","v":"DCLG"},{"$f":"CHOOSE(I24,OFFSET(DetailList!AU$1,$C24-1,0),\"Pending: \"&OFFSET(DetailListPending!AU$1,$D24-1,0),\"REMOVED [\"&OFFSET(Removed!AU$1,$E24-1,0)&\"]\")","v":"REMOVED [1]"},3,true,false]
[null,{"v":24,"d":"024"},{"$f":"MATCH(B25,DetailList!AZ:AZ,0)","v":{"$error":"#N/A"}},{"$f":"MATCH(B25,DetailListPending!AZ:AZ,0)","v":{"$error":"#N/A"}},{"$f":"MATCH(B25,Removed!AZ$1:AZ$443,0)","v":151},{"$f":"CHOOSE(I25,OFFSET(DetailList!C$1,$C25-1,0),\"PENDING: \"&OFFSET(DetailListPending!C$1,$D25-1,0),\"   REMOVED [\"&OFFSET(Removed!C$1,$E25-1,0)&\"]\")","v":"   REMOVED [Annual Monitoring Reports (AMR)]"},{"$f":"CHOOSE(I25,OFFSET(DetailList!E$1,$C25-1,0),OFFSET(DetailListPending!E$1,$D25-1,0),OFFSET(Removed!E$1,$E25-1,0))","v":"DCLG"},{"$f":"CHOOSE(I25,OFFSET(DetailList!AU$1,$C25-1,0),\"Pending: \"&OFFSET(DetailListPending!AU$1,$D25-1,0),\"REMOVED [\"&OFFSET(Removed!AU$1,$E25-1,0)&\"]\")","v":"REMOVED [1]"},3,true,false]
[null,{"v":25,"d":"025"},{"$f":"MATCH(B26,DetailList!AZ:AZ,0)","v":{"$error":"#N/A"}},{"$f":"MATCH(B26,DetailListPending!AZ:AZ,0)","v":{"$error":"#N/A"}},{"$f":"MATCH(B26,Removed!AZ$1:AZ$443,0)","v":6},{"$f":"CHOOSE(I26,OFFSET(DetailList!C$1,$C26-1,0),\"PENDING: \"&OFFSET(DetailListPending!C$1,$D26-1,0),\"   REMOVED [\"&OFFSET(Removed!C$1,$E26-1,0)&\"]\")","v":"   REMOVED [Local Development Framework Database (GOs)]"},{"$f":"CHOOSE(I26,OFFSET(DetailList!E$1,$C26-1,0),OFFSET(DetailListPending!E$1,$D26-1,0),OFFSET(Removed!E$1,$E26-1,0))","v":"DCLG"},{"$f":"CHOOSE(I26,OFFSET(DetailList!AU$1,$C26-1,0),\"Pending: \"&OFFSET(DetailListPending!AU$1,$D26-1,0),\"REMOVED [\"&OFFSET(Removed!AU$1,$E26-1,0)&\"]\")","v":"REMOVED [1]"},3,true,false]
[null,{"v":26,"d":"026"},{"$f":"MATCH(B27,DetailList!AZ:AZ,0)","v":45},{"$f":"MATCH(B27,DetailListPending!AZ:AZ,0)","v":{"$error":"#N/A"}},{"$f":"MATCH(B27,Removed!AZ$1:AZ$443,0)","v":{"$error":"#N/A"}},{"$f":"CHOOSE(I27,OFFSET(DetailList!C$1,$C27-1,0),\"PENDING: \"&OFFSET(DetailListPending!C$1,$D27-1,0),\"   REMOVED [\"&OFFSET(Removed!C$1,$E27-1,0)&\"]\")","v":"Revenue Summary (RS)"},{"$f":"CHOOSE(I27,OFFSET(DetailList!E$1,$C27-1,0),OFFSET(DetailListPending!E$1,$D27-1,0),OFFSET(Removed!E$1,$E27-1,0))","v":"DLUHC"},{"$f":"CHOOSE(I27,OFFSET(DetailList!AU$1,$C27-1,0),\"Pending: \"&OFFSET(DetailListPending!AU$1,$D27-1,0),\"REMOVED [\"&OFFSET(Removed!AU$1,$E27-1,0)&\"]\")","v":1},1,true,false]
[null,{"v":27,"d":"027"},{"$f":"MATCH(B28,DetailList!AZ:AZ,0)","v":47},{"$f":"MATCH(B28,DetailListPending!AZ:AZ,0)","v":{"$error":"#N/A"}},{"$f":"MATCH(B28,Removed!AZ$1:AZ$443,0)","v":{"$error":"#N/A"}},{"$f":"CHOOSE(I28,OFFSET(DetailList!C$1,$C28-1,0),\"PENDING: \"&OFFSET(DetailListPending!C$1,$D28-1,0),\"   REMOVED [\"&OFFSET(Removed!C$1,$E28-1,0)&\"]\")","v":"Revenue Grants (RG)"},{"$f":"CHOOSE(I28,OFFSET(DetailList!E$1,$C28-1,0),OFFSET(DetailListPending!E$1,$D28-1,0),OFFSET(Removed!E$1,$E28-1,0))","v":"DLUHC"},{"$f":"CHOOSE(I28,OFFSET(DetailList!AU$1,$C28-1,0),\"Pending: \"&OFFSET(DetailListPending!AU$1,$D28-1,0),\"REMOVED [\"&OFFSET(Removed!AU$1,$E28-1,0)&\"]\")","v":1},1,true,false]
[null,{"v":28,"d":"028"},{"$f":"MATCH(B29,DetailList!AZ:AZ,0)","v":49},{"$f":"MATCH(B29,DetailListPending!AZ:AZ,0)","v":{"$error":"#N/A"}},{"$f":"MATCH(B29,Removed!AZ$1:AZ$443,0)","v":{"$error":"#N/A"}},{"$f":"CHOOSE(I29,OFFSET(DetailList!C$1,$C29-1,0),\"PENDING: \"&OFFSET(DetailListPending!C$1,$D29-1,0),\"   REMOVED [\"&OFFSET(Removed!C$1,$E29-1,0)&\"]\")","v":"Revenue Outturn (RO)"},{"$f":"CHOOSE(I29,OFFSET(DetailList!E$1,$C29-1,0),OFFSET(DetailListPending!E$1,$D29-1,0),OFFSET(Removed!E$1,$E29-1,0))","v":"DLUHC"},{"$f":"CHOOSE(I29,OFFSET(DetailList!AU$1,$C29-1,0),\"Pending: \"&OFFSET(DetailListPending!AU$1,$D29-1,0),\"REMOVED [\"&OFFSET(Removed!AU$1,$E29-1,0)&\"]\")","v":6},1,true,false]
[null,{"v":29,"d":"029"},{"$f":"MATCH(B30,DetailList!AZ:AZ,0)","v":56},{"$f":"MATCH(B30,DetailListPending!AZ:AZ,0)","v":{"$error":"#N/A"}},{"$f":"MATCH(B30,Removed!AZ$1:AZ$443,0)","v":{"$error":"#N/A"}},{"$f":"CHOOSE(I30,OFFSET(DetailList!C$1,$C30-1,0),\"PENDING: \"&OFFSET(DetailListPending!C$1,$D30-1,0),\"   REMOVED [\"&OFFSET(Removed!C$1,$E30-1,0)&\"]\")","v":"Trading Services Return (TSR)"},{"$f":"CHOOSE(I30,OFFSET(DetailList!E$1,$C30-1,0),OFFSET(DetailListPending!E$1,$D30-1,0),OFFSET(Removed!E$1,$E30-1,0))","v":"DLUHC"},{"$f":"CHOOSE(I30,OFFSET(DetailList!AU$1,$C30-1,0),\"Pending: \"&OFFSET(DetailListPending!AU$1,$D30-1,0),\"REMOVED [\"&OFFSET(Removed!AU$1,$E30-1,0)&\"]\")","v":1},1,true,false]
[null,{"v":30,"d":"030"},{"$f":"MATCH(B31,DetailList!AZ:AZ,0)","v":58},{"$f":"MATCH(B31,DetailListPending!AZ:AZ,0)","v":{"$error":"#N/A"}},{"$f":"MATCH(B31,Removed!AZ$1:AZ$443,0)","v":{"$error":"#N/A"}},{"$f":"CHOOSE(I31,OFFSET(DetailList!C$1,$C31-1,0),\"PENDING: \"&OFFSET(DetailListPending!C$1,$D31-1,0),\"   REMOVED [\"&OFFSET(Removed!C$1,$E31-1,0)&\"]\")","v":"Subjective Analysis Return (SAR)"},{"$f":"CHOOSE(I31,OFFSET(DetailList!E$1,$C31-1,0),OFFSET(DetailListPending!E$1,$D31-1,0),OFFSET(Removed!E$1,$E31-1,0))","v":"DLUHC"},{"$f":"CHOOSE(I31,OFFSET(DetailList!AU$1,$C31-1,0),\"Pending: \"&OFFSET(DetailListPending!AU$1,$D31-1,0),\"REMOVED [\"&OFFSET(Removed!AU$1,$E31-1,0)&\"]\")","v":1},1,true,false]
[null,{"v":31,"d":"031"},{"$f":"MATCH(B32,DetailList!AZ:AZ,0)","v":{"$error":"#N/A"}},{"$f":"MATCH(B32,DetailListPending!AZ:AZ,0)","v":{"$error":"#N/A"}},{"$f":"MATCH(B32,Removed!AZ$1:AZ$443,0)","v":255},{"$f":"CHOOSE(I32,OFFSET(DetailList!C$1,$C32-1,0),\"PENDING: \"&OFFSET(DetailListPending!C$1,$D32-1,0),\"   REMOVED [\"&OFFSET(Removed!C$1,$E32-1,0)&\"]\")","v":"   REMOVED [Business Improvement Districts Outturn (BIDO)]"},{"$f":"CHOOSE(I32,OFFSET(DetailList!E$1,$C32-1,0),OFFSET(DetailListPending!E$1,$D32-1,0),OFFSET(Removed!E$1,$E32-1,0))","v":"DCLG"},{"$f":"CHOOSE(I32,OFFSET(DetailList!AU$1,$C32-1,0),\"Pending: \"&OFFSET(DetailListPending!AU$1,$D32-1,0),\"REMOVED [\"&OFFSET(Removed!AU$1,$E32-1,0)&\"]\")","v":"REMOVED [1]"},3,true,false]
[null,{"v":32,"d":"032"},{"$f":"MATCH(B33,DetailList!AZ:AZ,0)","v":60},{"$f":"MATCH(B33,DetailListPending!AZ:AZ,0)","v":{"$error":"#N/A"}},{"$f":"MATCH(B33,Removed!AZ$1:AZ$443,0)","v":{"$error":"#N/A"}},{"$f":"CHOOSE(I33,OFFSET(DetailList!C$1,$C33-1,0),\"PENDING: \"&OFFSET(DetailListPending!C$1,$D33-1,0),\"   REMOVED [\"&OFFSET(Removed!C$1,$E33-1,0)&\"]\")","v":"Revenue Account budget (RA)"},{"$f":"CHOOSE(I33,OFFSET(DetailList!E$1,$C33-1,0),OFFSET(DetailListPending!E$1,$D33-1,0),OFFSET(Removed!E$1,$E33-1,0))","v":"DLUHC"},{"$f":"CHOOSE(I33,OFFSET(DetailList!AU$1,$C33-1,0),\"Pending: \"&OFFSET(DetailListPending!AU$1,$D33-1,0),\"REMOVED [\"&OFFSET(Removed!AU$1,$E33-1,0)&\"]\")","v":1},1,true,false]
[null,{"v":33,"d":"033"},{"$f":"MATCH(B34,DetailList!AZ:AZ,0)","v":62},{"$f":"MATCH(B34,DetailListPending!AZ:AZ,0)","v":{"$error":"#N/A"}},{"$f":"MATCH(B34,Removed!AZ$1:AZ$443,0)","v":{"$error":"#N/A"}},{"$f":"CHOOSE(I34,OFFSET(DetailList!C$1,$C34-1,0),\"PENDING: \"&OFFSET(DetailListPending!C$1,$D34-1,0),\"   REMOVED [\"&OFFSET(Removed!C$1,$E34-1,0)&\"]\")","v":"Revenue Account Specific and Special Grants (SG)"},{"$f":"CHOOSE(I34,OFFSET(DetailList!E$1,$C34-1,0),OFFSET(DetailListPending!E$1,$D34-1,0),OFFSET(Removed!E$1,$E34-1,0))","v":"DLUHC"},{"$f":"CHOOSE(I34,OFFSET(DetailList!AU$1,$C34-1,0),\"Pending: \"&OFFSET(DetailListPending!AU$1,$D34-1,0),\"REMOVED [\"&OFFSET(Removed!AU$1,$E34-1,0)&\"]\")","v":1},1,true,false]
[null,{"v":34,"d":"034"},{"$f":"MATCH(B35,DetailList!AZ:AZ,0)","v":{"$error":"#N/A"}},{"$f":"MATCH(B35,DetailListPending!AZ:AZ,0)","v":{"$error":"#N/A"}},{"$f":"MATCH(B35,Removed!AZ$1:AZ$443,0)","v":257},{"$f":"CHOOSE(I35,OFFSET(DetailList!C$1,$C35-1,0),\"PENDING: \"&OFFSET(DetailListPending!C$1,$D35-1,0),\"   REMOVED [\"&OFFSET(Removed!C$1,$E35-1,0)&\"]\")","v":"   REMOVED [Business Improvement Districts (BID) Revenue Account]"},{"$f":"CHOOSE(I35,OFFSET(DetailList!E$1,$C35-1,0),OFFSET(DetailListPending!E$1,$D35-1,0),OFFSET(Removed!E$1,$E35-1,0))","v":"DCLG"},{"$f":"CHOOSE(I35,OFFSET(DetailList!AU$1,$C35-1,0),\"Pending: \"&OFFSET(DetailListPending!AU$1,$D35-1,0),\"REMOVED [\"&OFFSET(Removed!AU$1,$E35-1,0)&\"]\")","v":"REMOVED [1]"},3,true,false]
[null,{"v":35,"d":"035"},{"$f":"MATCH(B36,DetailList!AZ:AZ,0)","v":64},{"$f":"MATCH(B36,DetailListPending!AZ:AZ,0)","v":{"$error":"#N/A"}},{"$f":"MATCH(B36,Removed!AZ$1:AZ$443,0)","v":{"$error":"#N/A"}},{"$f":"CHOOSE(I36,OFFSET(DetailList!C$1,$C36-1,0),\"PENDING: \"&OFFSET(DetailListPending!C$1,$D36-1,0),\"   REMOVED [\"&OFFSET(Removed!C$1,$E36-1,0)&\"]\")","v":"Capital Outturn Return (COR) Expenditure & Receipts"},{"$f":"CHOOSE(I36,OFFSET(DetailList!E$1,$C36-1,0),OFFSET(DetailListPending!E$1,$D36-1,0),OFFSET(Removed!E$1,$E36-1,0))","v":"DLUHC"},{"$f":"CHOOSE(I36,OFFSET(DetailList!AU$1,$C36-1,0),\"Pending: \"&OFFSET(DetailListPending!AU$1,$D36-1,0),\"REMOVED [\"&OFFSET(Removed!AU$1,$E36-1,0)&\"]\")","v":2},1,true,false]
[null,{"v":36,"d":"036"},{"$f":"MATCH(B37,DetailList!AZ:AZ,0)","v":67},{"$f":"MATCH(B37,DetailListPending!AZ:AZ,0)","v":{"$error":"#N/A"}},{"$f":"MATCH(B37,Removed!AZ$1:AZ$443,0)","v":{"$error":"#N/A"}},{"$f":"CHOOSE(I37,OFFSET(DetailList!C$1,$C37-1,0),\"PENDING: \"&OFFSET(DetailListPending!C$1,$D37-1,0),\"   REMOVED [\"&OFFSET(Removed!C$1,$E37-1,0)&\"]\")","v":"Capital Outturn Return (COR) Financing"},{"$f":"CHOOSE(I37,OFFSET(DetailList!E$1,$C37-1,0),OFFSET(DetailListPending!E$1,$D37-1,0),OFFSET(Removed!E$1,$E37-1,0))","v":"DLUHC"},{"$f":"CHOOSE(I37,OFFSET(DetailList!AU$1,$C37-1,0),\"Pending: \"&OFFSET(DetailListPending!AU$1,$D37-1,0),\"REMOVED [\"&OFFSET(Removed!AU$1,$E37-1,0)&\"]\")","v":1},1,true,false]
[null,{"v":37,"d":"037"},{"$f":"MATCH(B38,DetailList!AZ:AZ,0)","v":69},{"$f":"MATCH(B38,DetailListPending!AZ:AZ,0)","v":{"$error":"#N/A"}},{"$f":"MATCH(B38,Removed!AZ$1:AZ$443,0)","v":{"$error":"#N/A"}},{"$f":"CHOOSE(I38,OFFSET(DetailList!C$1,$C38-1,0),\"PENDING: \"&OFFSET(DetailListPending!C$1,$D38-1,0),\"   REMOVED [\"&OFFSET(Removed!C$1,$E38-1,0)&\"]\")","v":"Capital Outturn Return (COR) Prudential System"},{"$f":"CHOOSE(I38,OFFSET(DetailList!E$1,$C38-1,0),OFFSET(DetailListPending!E$1,$D38-1,0),OFFSET(Removed!E$1,$E38-1,0))","v":"DLUHC"},{"$f":"CHOOSE(I38,OFFSET(DetailList!AU$1,$C38-1,0),\"Pending: \"&OFFSET(DetailListPending!AU$1,$D38-1,0),\"REMOVED [\"&OFFSET(Removed!AU$1,$E38-1,0)&\"]\")","v":1},1,true,false]
[null,{"v":38,"d":"038"},{"$f":"MATCH(B39,DetailList!AZ:AZ,0)","v":71},{"$f":"MATCH(B39,DetailListPending!AZ:AZ,0)","v":{"$error":"#N/A"}},{"$f":"MATCH(B39,Removed!AZ$1:AZ$443,0)","v":{"$error":"#N/A"}},{"$f":"CHOOSE(I39,OFFSET(DetailList!C$1,$C39-1,0),\"PENDING: \"&OFFSET(DetailListPending!C$1,$D39-1,0),\"   REMOVED [\"&OFFSET(Removed!C$1,$E39-1,0)&\"]\")","v":"Capital Outturn Return (COR)  receipts and major repairs reserve"},{"$f":"CHOOSE(I39,OFFSET(DetailList!E$1,$C39-1,0),OFFSET(DetailListPending!E$1,$D39-1,0),OFFSET(Removed!E$1,$E39-1,0))","v":"DLUHC"},{"$f":"CHOOSE(I39,OFFSET(DetailList!AU$1,$C39-1,0),\"Pending: \"&OFFSET(DetailListPending!AU$1,$D39-1,0),\"REMOVED [\"&OFFSET(Removed!AU$1,$E39-1,0)&\"]\")","v":2},1,true,false]
[null,{"v":39,"d":"039"},{"$f":"MATCH(B40,DetailList!AZ:AZ,0)","v":{"$error":"#N/A"}},{"$f":"MATCH(B40,DetailListPending!AZ:AZ,0)","v":{"$error":"#N/A"}},{"$f":"MATCH(B40,Removed!AZ$1:AZ$443,0)","v":375},{"$f":"CHOOSE(I40,OFFSET(DetailList!C$1,$C40-1,0),\"PENDING: \"&OFFSET(DetailListPending!C$1,$D40-1,0),\"   REMOVED [\"&OFFSET(Removed!C$1,$E40-1,0)&\"]\")","v":"   REMOVED [Capital Forecast Return (CFR)]"},{"$f":"CHOOSE(I40,OFFSET(DetailList!E$1,$C40-1,0),OFFSET(DetailListPending!E$1,$D40-1,0),OFFSET(Removed!E$1,$E40-1,0))","v":"DCLG"},{"$f":"CHOOSE(I40,OFFSET(DetailList!AU$1,$C40-1,0),\"Pending: \"&OFFSET(DetailListPending!AU$1,$D40-1,0),\"REMOVED [\"&OFFSET(Removed!AU$1,$E40-1,0)&\"]\")","v":"REMOVED [1]"},3,true,false]
[null,{"v":40,"d":"040"},{"$f":"MATCH(B41,DetailList!AZ:AZ,0)","v":74},{"$f":"MATCH(B41,DetailListPending!AZ:AZ,0)","v":{"$error":"#N/A"}},{"$f":"MATCH(B41,Removed!AZ$1:AZ$443,0)","v":{"$error":"#N/A"}},{"$f":"CHOOSE(I41,OFFSET(DetailList!C$1,$C41-1,0),\"PENDING: \"&OFFSET(DetailListPending!C$1,$D41-1,0),\"   REMOVED [\"&OFFSET(Removed!C$1,$E41-1,0)&\"]\")","v":"Capital Estimates Return (CER)"},{"$f":"CHOOSE(I41,OFFSET(DetailList!E$1,$C41-1,0),OFFSET(DetailListPending!E$1,$D41-1,0),OFFSET(Removed!E$1,$E41-1,0))","v":"DLUHC"},{"$f":"CHOOSE(I41,OFFSET(DetailList!AU$1,$C41-1,0),\"Pending: \"&OFFSET(DetailListPending!AU$1,$D41-1,0),\"REMOVED [\"&OFFSET(Removed!AU$1,$E41-1,0)&\"]\")","v":4},1,true,false]
[null,{"v":41,"d":"041"},{"$f":"MATCH(B42,DetailList!AZ:AZ,0)","v":79},{"$f":"MATCH(B42,DetailListPending!AZ:AZ,0)","v":{"$error":"#N/A"}},{"$f":"MATCH(B42,Removed!AZ$1:AZ$443,0)","v":{"$error":"#N/A"}},{"$f":"CHOOSE(I42,OFFSET(DetailList!C$1,$C42-1,0),\"PENDING: \"&OFFSET(DetailListPending!C$1,$D42-1,0),\"   REMOVED [\"&OFFSET(Removed!C$1,$E42-1,0)&\"]\")","v":"Capital Payments and Receipts (CPR1 to CPR 4)"},{"$f":"CHOOSE(I42,OFFSET(DetailList!E$1,$C42-1,0),OFFSET(DetailListPending!E$1,$D42-1,0),OFFSET(Removed!E$1,$E42-1,0))","v":"DLUHC"},{"$f":"CHOOSE(I42,OFFSET(DetailList!AU$1,$C42-1,0),\"Pending: \"&OFFSET(DetailListPending!AU$1,$D42-1,0),\"REMOVED [\"&OFFSET(Removed!AU$1,$E42-1,0)&\"]\")","v":4},1,true,false]
[null,{"v":42,"d":"042"},{"$f":"MATCH(B43,DetailList!AZ:AZ,0)","v":84},{"$f":"MATCH(B43,DetailListPending!AZ:AZ,0)","v":{"$error":"#N/A"}},{"$f":"MATCH(B43,Removed!AZ$1:AZ$443,0)","v":{"$error":"#N/A"}},{"$f":"CHOOSE(I43,OFFSET(DetailList!C$1,$C43-1,0),\"PENDING: \"&OFFSET(DetailListPending!C$1,$D43-1,0),\"   REMOVED [\"&OFFSET(Removed!C$1,$E43-1,0)&\"]\")","v":"Council Tax Requirement (CTR1/CTR2/CTR3/CTR4)"},{"$f":"CHOOSE(I43,OFFSET(DetailList!E$1,$C43-1,0),OFFSET(DetailListPending!E$1,$D43-1,0),OFFSET(Removed!E$1,$E43-1,0))","v":"DLUHC"},{"$f":"CHOOSE(I43,OFFSET(DetailList!AU$1,$C43-1,0),\"Pending: \"&OFFSET(DetailListPending!AU$1,$D43-1,0),\"REMOVED [\"&OFFSET(Removed!AU$1,$E43-1,0)&\"]\")","v":8},1,true,false]
[null,{"v":43,"d":"043"},{"$f":"MATCH(B44,DetailList!AZ:AZ,0)","v":93},{"$f":"MATCH(B44,DetailListPending!AZ:AZ,0)","v":{"$error":"#N/A"}},{"$f":"MATCH(B44,Removed!AZ$1:AZ$443,0)","v":{"$error":"#N/A"}},{"$f":"CHOOSE(I44,OFFSET(DetailList!C$1,$C44-1,0),\"PENDING: \"&OFFSET(DetailListPending!C$1,$D44-1,0),\"   REMOVED [\"&OFFSET(Removed!C$1,$E44-1,0)&\"]\")","v":"Quarterly Return of Council Taxes and Non-domestic rates (QRC1 to QRC3)"},{"$f":"CHOOSE(I44,OFFSET(DetailList!E$1,$C44-1,0),OFFSET(DetailListPending!E$1,$D44-1,0),OFFSET(Removed!E$1,$E44-1,0))","v":"DLUHC"},{"$f":"CHOOSE(I44,OFFSET(DetailList!AU$1,$C44-1,0),\"Pending: \"&OFFSET(DetailListPending!AU$1,$D44-1,0),\"REMOVED [\"&OFFSET(Removed!AU$1,$E44-1,0)&\"]\")","v":3},1,true,false]
[null,{"v":44,"d":"044"},{"$f":"MATCH(B45,DetailList!AZ:AZ,0)","v":99},{"$f":"MATCH(B45,DetailListPending!AZ:AZ,0)","v":{"$error":"#N/A"}},{"$f":"MATCH(B45,Removed!AZ$1:AZ$443,0)","v":{"$error":"#N/A"}},{"$f":"CHOOSE(I45,OFFSET(DetailList!C$1,$C45-1,0),\"PENDING: \"&OFFSET(DetailListPending!C$1,$D45-1,0),\"   REMOVED [\"&OFFSET(Removed!C$1,$E45-1,0)&\"]\")","v":"Quarterly Revenue Outturn (QRO)"},{"$f":"CHOOSE(I45,OFFSET(DetailList!E$1,$C45-1,0),OFFSET(DetailListPending!E$1,$D45-1,0),OFFSET(Removed!E$1,$E45-1,0))","v":"DLUHC"},{"$f":"CHOOSE(I45,OFFSET(DetailList!AU$1,$C45-1,0),\"Pending: \"&OFFSET(DetailListPending!AU$1,$D45-1,0),\"REMOVED [\"&OFFSET(Removed!AU$1,$E45-1,0)&\"]\")","v":1},1,true,false]
[null,{"v":45,"d":"045"},{"$f":"MATCH(B46,DetailList!AZ:AZ,0)","v":101},{"$f":"MATCH(B46,DetailListPending!AZ:AZ,0)","v":{"$error":"#N/A"}},{"$f":"MATCH(B46,Removed!AZ$1:AZ$443,0)","v":{"$error":"#N/A"}},{"$f":"CHOOSE(I46,OFFSET(DetailList!C$1,$C46-1,0),\"PENDING: \"&OFFSET(DetailListPending!C$1,$D46-1,0),\"   REMOVED [\"&OFFSET(Removed!C$1,$E46-1,0)&\"]\")","v":"Council Tax Base (CTB)"},{"$f":"CHOOSE(I46,OFFSET(DetailList!E$1,$C46-1,0),OFFSET(DetailListPending!E$1,$D46-1,0),OFFSET(Removed!E$1,$E46-1,0))","v":"DLUHC"},{"$f":"CHOOSE(I46,OFFSET(DetailList!AU$1,$C46-1,0),\"Pending: \"&OFFSET(DetailListPending!AU$1,$D46-1,0),\"REMOVED [\"&OFFSET(Removed!AU$1,$E46-1,0)&\"]\")","v":8},1,true,false]
[null,{"v":46,"d":"046"},{"$f":"MATCH(B47,DetailList!AZ:AZ,0)","v":110},{"$f":"MATCH(B47,DetailListPending!AZ:AZ,0)","v":{"$error":"#N/A"}},{"$f":"MATCH(B47,Removed!AZ$1:AZ$443,0)","v":{"$error":"#N/A"}},{"$f":"CHOOSE(I47,OFFSET(DetailList!C$1,$C47-1,0),\"PENDING: \"&OFFSET(DetailListPending!C$1,$D47-1,0),\"   REMOVED [\"&OFFSET(Removed!C$1,$E47-1,0)&\"]\")","v":"National Non-domestic Rates Return (NNDR) 1"},{"$f":"CHOOSE(I47,OFFSET(DetailList!E$1,$C47-1,0),OFFSET(DetailListPending!E$1,$D47-1,0),OFFSET(Removed!E$1,$E47-1,0))","v":"DLUHC"},{"$f":"CHOOSE(I47,OFFSET(DetailList!AU$1,$C47-1,0),\"Pending: \"&OFFSET(DetailListPending!AU$1,$D47-1,0),\"REMOVED [\"&OFFSET(Removed!AU$1,$E47-1,0)&\"]\")","v":6},1,true,false]
[null,{"v":47,"d":"047"},{"$f":"MATCH(B48,DetailList!AZ:AZ,0)","v":{"$error":"#N/A"}},{"$f":"MATCH(B48,DetailListPending!AZ:AZ,0)","v":{"$error":"#N/A"}},{"$f":"MATCH(B48,Removed!AZ$1:AZ$443,0)","v":377},{"$f":"CHOOSE(I48,OFFSET(DetailList!C$1,$C48-1,0),\"PENDING: \"&OFFSET(DetailListPending!C$1,$D48-1,0),\"   REMOVED [\"&OFFSET(Removed!C$1,$E48-1,0)&\"]\")","v":"   REMOVED [National Non-domestic Rates Return (NNDR) mid year forecast]"},{"$f":"CHOOSE(I48,OFFSET(DetailList!E$1,$C48-1,0),OFFSET(DetailListPending!E$1,$D48-1,0),OFFSET(Removed!E$1,$E48-1,0))","v":"DCLG"},{"$f":"CHOOSE(I48,OFFSET(DetailList!AU$1,$C48-1,0),\"Pending: \"&OFFSET(DetailListPending!AU$1,$D48-1,0),\"REMOVED [\"&OFFSET(Removed!AU$1,$E48-1,0)&\"]\")","v":"REMOVED [1]"},3,true,false]
[null,{"v":48,"d":"048"},{"$f":"MATCH(B49,DetailList!AZ:AZ,0)","v":117},{"$f":"MATCH(B49,DetailListPending!AZ:AZ,0)","v":{"$error":"#N/A"}},{"$f":"MATCH(B49,Removed!AZ$1:AZ$443,0)","v":{"$error":"#N/A"}},{"$f":"CHOOSE(I49,OFFSET(DetailList!C$1,$C49-1,0),\"PENDING: \"&OFFSET(DetailListPending!C$1,$D49-1,0),\"   REMOVED [\"&OFFSET(Removed!C$1,$E49-1,0)&\"]\")","v":"National Non-domestic Rates Return (NNDR) 3"},{"$f":"CHOOSE(I49,OFFSET(DetailList!E$1,$C49-1,0),OFFSET(DetailListPending!E$1,$D49-1,0),OFFSET(Removed!E$1,$E49-1,0))","v":"DLUHC"},{"$f":"CHOOSE(I49,OFFSET(DetailList!AU$1,$C49-1,0),\"Pending: \"&OFFSET(DetailListPending!AU$1,$D49-1,0),\"REMOVED [\"&OFFSET(Removed!AU$1,$E49-1,0)&\"]\")","v":2},1,true,false]
[null,{"v":49,"d":"049"},{"$f":"MATCH(B50,DetailList!AZ:AZ,0)","v":{"$error":"#N/A"}},{"$f":"MATCH(B50,DetailListPending!AZ:AZ,0)","v":{"$error":"#N/A"}},{"$f":"MATCH(B50,Removed!AZ$1:AZ$443,0)","v":27},{"$f":"CHOOSE(I50,OFFSET(DetailList!C$1,$C50-1,0),\"PENDING: \"&OFFSET(DetailListPending!C$1,$D50-1,0),\"   REMOVED [\"&OFFSET(Removed!C$1,$E50-1,0)&\"]\")","v":"   REMOVED [Merged with 048]"},{"$f":"CHOOSE(I50,OFFSET(DetailList!E$1,$C50-1,0),OFFSET(DetailListPending!E$1,$D50-1,0),OFFSET(Removed!E$1,$E50-1,0))","v":"DCLG"},{"$f":"CHOOSE(I50,OFFSET(DetailList!AU$1,$C50-1,0),\"Pending: \"&OFFSET(DetailListPending!AU$1,$D50-1,0),\"REMOVED [\"&OFFSET(Removed!AU$1,$E50-1,0)&\"]\")","v":"REMOVED [1]"},3,true,false]
[null,{"v":50,"d":"050"},{"$f":"MATCH(B51,DetailList!AZ:AZ,0)","v":120},{"$f":"MATCH(B51,DetailListPending!AZ:AZ,0)","v":{"$error":"#N/A"}},{"$f":"MATCH(B51,Removed!AZ$1:AZ$443,0)","v":{"$error":"#N/A"}},{"$f":"CHOOSE(I51,OFFSET(DetailList!C$1,$C51-1,0),\"PENDING: \"&OFFSET(DetailListPending!C$1,$D51-1,0),\"   REMOVED [\"&OFFSET(Removed!C$1,$E51-1,0)&\"]\")","v":"Local Government Pension Scheme Funds Form (SF3)"},{"$f":"CHOOSE(I51,OFFSET(DetailList!E$1,$C51-1,0),OFFSET(DetailListPending!E$1,$D51-1,0),OFFSET(Removed!E$1,$E51-1,0))","v":"DLUHC"},{"$f":"CHOOSE(I51,OFFSET(DetailList!AU$1,$C51-1,0),\"Pending: \"&OFFSET(DetailListPending!AU$1,$D51-1,0),\"REMOVED [\"&OFFSET(Removed!AU$1,$E51-1,0)&\"]\")","v":11},1,true,false]
[null,{"v":51,"d":"051"},{"$f":"MATCH(B52,DetailList!AZ:AZ,0)","v":132},{"$f":"MATCH(B52,DetailListPending!AZ:AZ,0)","v":{"$error":"#N/A"}},{"$f":"MATCH(B52,Removed!AZ$1:AZ$443,0)","v":{"$error":"#N/A"}},{"$f":"CHOOSE(I52,OFFSET(DetailList!C$1,$C52-1,0),\"PENDING: \"&OFFSET(DetailListPending!C$1,$D52-1,0),\"   REMOVED [\"&OFFSET(Removed!C$1,$E52-1,0)&\"]\")","v":"Monthly Borrowing and Lending Inquiry"},{"$f":"CHOOSE(I52,OFFSET(DetailList!E$1,$C52-1,0),OFFSET(DetailListPending!E$1,$D52-1,0),OFFSET(Removed!E$1,$E52-1,0))","v":"DLUHC"},{"$f":"CHOOSE(I52,OFFSET(DetailList!AU$1,$C52-1,0),\"Pending: \"&OFFSET(DetailListPending!AU$1,$D52-1,0),\"REMOVED [\"&OFFSET(Removed!AU$1,$E52-1,0)&\"]\")","v":2},1,true,false]
[null,{"v":52,"d":"052"},{"$f":"MATCH(B53,DetailList!AZ:AZ,0)","v":135},{"$f":"MATCH(B53,DetailListPending!AZ:AZ,0)","v":{"$error":"#N/A"}},{"$f":"MATCH(B53,Removed!AZ$1:AZ$443,0)","v":{"$error":"#N/A"}},{"$f":"CHOOSE(I53,OFFSET(DetailList!C$1,$C53-1,0),\"PENDING: \"&OFFSET(DetailListPending!C$1,$D53-1,0),\"   REMOVED [\"&OFFSET(Removed!C$1,$E53-1,0)&\"]\")","v":"Quarterly Borrowing and Lending Inquiry"},{"$f":"CHOOSE(I53,OFFSET(DetailList!E$1,$C53-1,0),OFFSET(DetailListPending!E$1,$D53-1,0),OFFSET(Removed!E$1,$E53-1,0))","v":"DLUHC"},{"$f":"CHOOSE(I53,OFFSET(DetailList!AU$1,$C53-1,0),\"Pending: \"&OFFSET(DetailListPending!AU$1,$D53-1,0),\"REMOVED [\"&OFFSET(Removed!AU$1,$E53-1,0)&\"]\")","v":2},1,true,false]
[null,{"v":53,"d":"053"},{"$f":"MATCH(B54,DetailList!AZ:AZ,0)","v":{"$error":"#N/A"}},{"$f":"MATCH(B54,DetailListPending!AZ:AZ,0)","v":{"$error":"#N/A"}},{"$f":"MATCH(B54,Removed!AZ$1:AZ$443,0)","v":259},{"$f":"CHOOSE(I54,OFFSET(DetailList!C$1,$C54-1,0),\"PENDING: \"&OFFSET(DetailListPending!C$1,$D54-1,0),\"   REMOVED [\"&OFFSET(Removed!C$1,$E54-1,0)&\"]\")","v":"   REMOVED [Quarterly Return of Wages and Salaries (QRW)]"},{"$f":"CHOOSE(I54,OFFSET(DetailList!E$1,$C54-1,0),OFFSET(DetailListPending!E$1,$D54-1,0),OFFSET(Removed!E$1,$E54-1,0))","v":"DCLG"},{"$f":"CHOOSE(I54,OFFSET(DetailList!AU$1,$C54-1,0),\"Pending: \"&OFFSET(DetailListPending!AU$1,$D54-1,0),\"REMOVED [\"&OFFSET(Removed!AU$1,$E54-1,0)&\"]\")","v":"REMOVED [3]"},3,true,false]
[null,{"v":54,"d":"054"},{"$f":"MATCH(B55,DetailList!AZ:AZ,0)","v":540},{"$f":"MATCH(B55,DetailListPending!AZ:AZ,0)","v":{"$error":"#N/A"}},{"$f":"MATCH(B55,Removed!AZ$1:AZ$443,0)","v":{"$error":"#N/A"}},{"$f":"CHOOSE(I55,OFFSET(DetailList!C$1,$C55-1,0),\"PENDING: \"&OFFSET(DetailListPending!C$1,$D55-1,0),\"   REMOVED [\"&OFFSET(Removed!C$1,$E55-1,0)&\"]\")","v":"Quarterly Public Sector Employment Survey - local authority data collection"},{"$f":"CHOOSE(I55,OFFSET(DetailList!E$1,$C55-1,0),OFFSET(DetailListPending!E$1,$D55-1,0),OFFSET(Removed!E$1,$E55-1,0))","v":"ONS"},{"$f":"CHOOSE(I55,OFFSET(DetailList!AU$1,$C55-1,0),\"Pending: \"&OFFSET(DetailListPending!AU$1,$D55-1,0),\"REMOVED [\"&OFFSET(Removed!AU$1,$E55-1,0)&\"]\")","v":2},1,true,false]
[null,{"v":55,"d":"055"},{"$f":"MATCH(B56,DetailList!AZ:AZ,0)","v":{"$error":"#N/A"}},{"$f":"MATCH(B56,DetailListPending!AZ:AZ,0)","v":{"$error":"#N/A"}},{"$f":"MATCH(B56,Removed!AZ$1:AZ$443,0)","v":96},{"$f":"CHOOSE(I56,OFFSET(DetailList!C$1,$C56-1,0),\"PENDING: \"&OFFSET(DetailListPending!C$1,$D56-1,0),\"   REMOVED [\"&OFFSET(Removed!C$1,$E56-1,0)&\"]\")","v":"   REMOVED [Local decision-making]"},{"$f":"CHOOSE(I56,OFFSET(DetailList!E$1,$C56-1,0),OFFSET(DetailListPending!E$1,$D56-1,0),OFFSET(Removed!E$1,$E56-1,0))","v":"DCLG"},{"$f":"CHOOSE(I56,OFFSET(DetailList!AU$1,$C56-1,0),\"Pending: \"&OFFSET(DetailListPending!AU$1,$D56-1,0),\"REMOVED [\"&OFFSET(Removed!AU$1,$E56-1,0)&\"]\")","v":"REMOVED [1]"},3,true,false]
[null,{"v":56,"d":"056"},{"$f":"MATCH(B57,DetailList!AZ:AZ,0)","v":{"$error":"#N/A"}},{"$f":"MATCH(B57,DetailListPending!AZ:AZ,0)","v":{"$error":"#N/A"}},{"$f":"MATCH(B57,Removed!AZ$1:AZ$443,0)","v":222},{"$f":"CHOOSE(I57,OFFSET(DetailList!C$1,$C57-1,0),\"PENDING: \"&OFFSET(DetailListPending!C$1,$D57-1,0),\"   REMOVED [\"&OFFSET(Removed!C$1,$E57-1,0)&\"]\")","v":"   REMOVED [Community Budgets (from 2013/14)]"},{"$f":"CHOOSE(I57,OFFSET(DetailList!E$1,$C57-1,0),OFFSET(DetailListPending!E$1,$D57-1,0),OFFSET(Removed!E$1,$E57-1,0))","v":"DCLG"},{"$f":"CHOOSE(I57,OFFSET(DetailList!AU$1,$C57-1,0),\"Pending: \"&OFFSET(DetailListPending!AU$1,$D57-1,0),\"REMOVED [\"&OFFSET(Removed!AU$1,$E57-1,0)&\"]\")","v":"REMOVED [1]"},3,true,false]
[null,{"v":57,"d":"057"},{"$f":"MATCH(B58,DetailList!AZ:AZ,0)","v":{"$error":"#N/A"}},{"$f":"MATCH(B58,DetailListPending!AZ:AZ,0)","v":{"$error":"#N/A"}},{"$f":"MATCH(B58,Removed!AZ$1:AZ$443,0)","v":92},{"$f":"CHOOSE(I58,OFFSET(DetailList!C$1,$C58-1,0),\"PENDING: \"&OFFSET(DetailListPending!C$1,$D58-1,0),\"   REMOVED [\"&OFFSET(Removed!C$1,$E58-1,0)&\"]\")","v":"   REMOVED [Community Infrastructure Levy (from Dec 2012)]"},{"$f":"CHOOSE(I58,OFFSET(DetailList!E$1,$C58-1,0),OFFSET(DetailListPending!E$1,$D58-1,0),OFFSET(Removed!E$1,$E58-1,0))","v":"DCLG"},{"$f":"CHOOSE(I58,OFFSET(DetailList!AU$1,$C58-1,0),\"Pending: \"&OFFSET(DetailListPending!AU$1,$D58-1,0),\"REMOVED [\"&OFFSET(Removed!AU$1,$E58-1,0)&\"]\")","v":"REMOVED [1]"},3,true,false]
[null,{"v":58,"d":"058"},{"$f":"MATCH(B59,DetailList!AZ:AZ,0)","v":{"$error":"#N/A"}},{"$f":"MATCH(B59,DetailListPending!AZ:AZ,0)","v":{"$error":"#N/A"}},{"$f":"MATCH(B59,Removed!AZ$1:AZ$443,0)","v":94},{"$f":"CHOOSE(I59,OFFSET(DetailList!C$1,$C59-1,0),\"PENDING: \"&OFFSET(DetailListPending!C$1,$D59-1,0),\"   REMOVED [\"&OFFSET(Removed!C$1,$E59-1,0)&\"]\")","v":"   REMOVED [Neighbourhood Plans (from 2013)]"},{"$f":"CHOOSE(I59,OFFSET(DetailList!E$1,$C59-1,0),OFFSET(DetailListPending!E$1,$D59-1,0),OFFSET(Removed!E$1,$E59-1,0))","v":"DCLG"},{"$f":"CHOOSE(I59,OFFSET(DetailList!AU$1,$C59-1,0),\"Pending: \"&OFFSET(DetailListPending!AU$1,$D59-1,0),\"REMOVED [\"&OFFSET(Removed!AU$1,$E59-1,0)&\"]\")","v":"REMOVED [1]"},3,true,false]
[null,{"v":59,"d":"059"},{"$f":"MATCH(B60,DetailList!AZ:AZ,0)","v":{"$error":"#N/A"}},{"$f":"MATCH(B60,DetailListPending!AZ:AZ,0)","v":{"$error":"#N/A"}},{"$f":"MATCH(B60,Removed!AZ$1:AZ$443,0)","v":98},{"$f":"CHOOSE(I60,OFFSET(DetailList!C$1,$C60-1,0),\"PENDING: \"&OFFSET(DetailListPending!C$1,$D60-1,0),\"   REMOVED [\"&OFFSET(Removed!C$1,$E60-1,0)&\"]\")","v":"   REMOVED [New mutuals and co-operatives]"},{"$f":"CHOOSE(I60,OFFSET(DetailList!E$1,$C60-1,0),OFFSET(DetailListPending!E$1,$D60-1,0),OFFSET(Removed!E$1,$E60-1,0))","v":"DCLG"},{"$f":"CHOOSE(I60,OFFSET(DetailList!AU$1,$C60-1,0),\"Pending: \"&OFFSET(DetailListPending!AU$1,$D60-1,0),\"REMOVED [\"&OFFSET(Removed!AU$1,$E60-1,0)&\"]\")","v":"REMOVED [1]"},3,true,false]
[null,{"v":60,"d":"060"},{"$f":"MATCH(B61,DetailList!AZ:AZ,0)","v":161},{"$f":"MATCH(B61,DetailListPending!AZ:AZ,0)","v":{"$error":"#N/A"}},{"$f":"MATCH(B61,Removed!AZ$1:AZ$443,0)","v":{"$error":"#N/A"}},{"$f":"CHOOSE(I61,OFFSET(DetailList!C$1,$C61-1,0),\"PENDING: \"&OFFSET(DetailListPending!C$1,$D61-1,0),\"   REMOVED [\"&OFFSET(Removed!C$1,$E61-1,0)&\"]\")","v":"Fire and rescue incident data"},{"$f":"CHOOSE(I61,OFFSET(DetailList!E$1,$C61-1,0),OFFSET(DetailListPending!E$1,$D61-1,0),OFFSET(Removed!E$1,$E61-1,0))","v":"HO"},{"$f":"CHOOSE(I61,OFFSET(DetailList!AU$1,$C61-1,0),\"Pending: \"&OFFSET(DetailListPending!AU$1,$D61-1,0),\"REMOVED [\"&OFFSET(Removed!AU$1,$E61-1,0)&\"]\")","v":1},1,true,false]
[null,{"v":61,"d":"061"},{"$f":"MATCH(B62,DetailList!AZ:AZ,0)","v":163},{"$f":"MATCH(B62,DetailListPending!AZ:AZ,0)","v":{"$error":"#N/A"}},{"$f":"MATCH(B62,Removed!AZ$1:AZ$443,0)","v":{"$error":"#N/A"}},{"$f":"CHOOSE(I62,OFFSET(DetailList!C$1,$C62-1,0),\"PENDING: \"&OFFSET(DetailListPending!C$1,$D62-1,0),\"   REMOVED [\"&OFFSET(Removed!C$1,$E62-1,0)&\"]\")","v":"Fire and rescue service non-financial annual returns"},{"$f":"CHOOSE(I62,OFFSET(DetailList!E$1,$C62-1,0),OFFSET(DetailListPending!E$1,$D62-1,0),OFFSET(Removed!E$1,$E62-1,0))","v":"HO"},{"$f":"CHOOSE(I62,OFFSET(DetailList!AU$1,$C62-1,0),\"Pending: \"&OFFSET(DetailListPending!AU$1,$D62-1,0),\"REMOVED [\"&OFFSET(Removed!AU$1,$E62-1,0)&\"]\")","v":5},1,true,false]
[null,{"v":62,"d":"062"},{"$f":"MATCH(B63,DetailList!AZ:AZ,0)","v":{"$error":"#N/A"}},{"$f":"MATCH(B63,DetailListPending!AZ:AZ,0)","v":{"$error":"#N/A"}},{"$f":"MATCH(B63,Removed!AZ$1:AZ$443,0)","v":79},{"$f":"CHOOSE(I63,OFFSET(DetailList!C$1,$C63-1,0),\"PENDING: \"&OFFSET(DetailListPending!C$1,$D63-1,0),\"   REMOVED [\"&OFFSET(Removed!C$1,$E63-1,0)&\"]\")","v":"   REMOVED [Data Transparency - numerical information]"},{"$f":"CHOOSE(I63,OFFSET(DetailList!E$1,$C63-1,0),OFFSET(DetailListPending!E$1,$D63-1,0),OFFSET(Removed!E$1,$E63-1,0))","v":"DCLG"},{"$f":"CHOOSE(I63,OFFSET(DetailList!AU$1,$C63-1,0),\"Pending: \"&OFFSET(DetailListPending!AU$1,$D63-1,0),\"REMOVED [\"&OFFSET(Removed!AU$1,$E63-1,0)&\"]\")","v":"REMOVED [5]"},3,true,false]
[null,{"v":63,"d":"063"},{"$f":"MATCH(B64,DetailList!AZ:AZ,0)","v":{"$error":"#N/A"}},{"$f":"MATCH(B64,DetailListPending!AZ:AZ,0)","v":{"$error":"#N/A"}},{"$f":"MATCH(B64,Removed!AZ$1:AZ$443,0)","v":153},{"$f":"CHOOSE(I64,OFFSET(DetailList!C$1,$C64-1,0),\"PENDING: \"&OFFSET(DetailListPending!C$1,$D64-1,0),\"   REMOVED [\"&OFFSET(Removed!C$1,$E64-1,0)&\"]\")","v":"   REMOVED [National land use database of previously-developed brownfield land (NLUD-PDL)]"},{"$f":"CHOOSE(I64,OFFSET(DetailList!E$1,$C64-1,0),OFFSET(DetailListPending!E$1,$D64-1,0),OFFSET(Removed!E$1,$E64-1,0))","v":"DCLG/HCA"},{"$f":"CHOOSE(I64,OFFSET(DetailList!AU$1,$C64-1,0),\"Pending: \"&OFFSET(DetailListPending!AU$1,$D64-1,0),\"REMOVED [\"&OFFSET(Removed!AU$1,$E64-1,0)&\"]\")","v":"REMOVED [4]"},3,true,false]
[null,{"v":64,"d":"064"},{"$f":"MATCH(B65,DetailList!AZ:AZ,0)","v":{"$error":"#N/A"}},{"$f":"MATCH(B65,DetailListPending!AZ:AZ,0)","v":{"$error":"#N/A"}},{"$f":"MATCH(B65,Removed!AZ$1:AZ$443,0)","v":112},{"$f":"CHOOSE(I65,OFFSET(DetailList!C$1,$C65-1,0),\"PENDING: \"&OFFSET(DetailListPending!C$1,$D65-1,0),\"   REMOVED [\"&OFFSET(Removed!C$1,$E65-1,0)&\"]\")","v":"   REMOVED [Investment Management System]"},{"$f":"CHOOSE(I65,OFFSET(DetailList!E$1,$C65-1,0),OFFSET(DetailListPending!E$1,$D65-1,0),OFFSET(Removed!E$1,$E65-1,0))","v":"DCLG/HCA"},{"$f":"CHOOSE(I65,OFFSET(DetailList!AU$1,$C65-1,0),\"Pending: \"&OFFSET(DetailListPending!AU$1,$D65-1,0),\"REMOVED [\"&OFFSET(Removed!AU$1,$E65-1,0)&\"]\")","v":"REMOVED [3]"},3,true,false]
[null,{"v":65,"d":"065"},{"$f":"MATCH(B66,DetailList!AZ:AZ,0)","v":14},{"$f":"MATCH(B66,DetailListPending!AZ:AZ,0)","v":{"$error":"#N/A"}},{"$f":"MATCH(B66,Removed!AZ$1:AZ$443,0)","v":{"$error":"#N/A"}},{"$f":"CHOOSE(I66,OFFSET(DetailList!C$1,$C66-1,0),\"PENDING: \"&OFFSET(DetailListPending!C$1,$D66-1,0),\"   REMOVED [\"&OFFSET(Removed!C$1,$E66-1,0)&\"]\")","v":"CORE (Continuous Recording) of lettings and sales by local authorities"},{"$f":"CHOOSE(I66,OFFSET(DetailList!E$1,$C66-1,0),OFFSET(DetailListPending!E$1,$D66-1,0),OFFSET(Removed!E$1,$E66-1,0))","v":"DLUHC"},{"$f":"CHOOSE(I66,OFFSET(DetailList!AU$1,$C66-1,0),\"Pending: \"&OFFSET(DetailListPending!AU$1,$D66-1,0),\"REMOVED [\"&OFFSET(Removed!AU$1,$E66-1,0)&\"]\")","v":2},{"$f":"IF(ISNUMBER(C66),1,IF(ISNUMBER(D66),2,IF(ISNUMBER(E66),3,NA())))","v":1},true,false]
[null,{"v":66,"d":"066"},{"$f":"MATCH(B67,DetailList!AZ:AZ,0)","v":{"$error":"#N/A"}},{"$f":"MATCH(B67,DetailListPending!AZ:AZ,0)","v":{"$error":"#N/A"}},{"$f":"MATCH(B67,Removed!AZ$1:AZ$443,0)","v":131},{"$f":"CHOOSE(I67,OFFSET(DetailList!C$1,$C67-1,0),\"PENDING: \"&OFFSET(DetailListPending!C$1,$D67-1,0),\"   REMOVED [\"&OFFSET(Removed!C$1,$E67-1,0)&\"]\")","v":"   REMOVED [National Register of Social Housing (NROSH)]"},{"$f":"CHOOSE(I67,OFFSET(DetailList!E$1,$C67-1,0),OFFSET(DetailListPending!E$1,$D67-1,0),OFFSET(Removed!E$1,$E67-1,0))","v":"DCLG/TSA"},{"$f":"CHOOSE(I67,OFFSET(DetailList!AU$1,$C67-1,0),\"Pending: \"&OFFSET(DetailListPending!AU$1,$D67-1,0),\"REMOVED [\"&OFFSET(Removed!AU$1,$E67-1,0)&\"]\")","v":"REMOVED [1]"},3,{"$f":"NOT(ISNA(I67))","v":true},{"$f":"AND(J67,COUNTIF(C67:E67,NA())<>2)","v":false}]
[null,{"v":67,"d":"067"},{"$f":"MATCH(B68,DetailList!AZ:AZ,0)","v":{"$error":"#N/A"}},{"$f":"MATCH(B68,DetailListPending!AZ:AZ,0)","v":{"$error":"#N/A"}},{"$f":"MATCH(B68,Removed!AZ$1:AZ$443,0)","v":419},{"$f":"CHOOSE(I68,OFFSET(DetailList!C$1,$C68-1,0),\"PENDING: \"&OFFSET(DetailListPending!C$1,$D68-1,0),\"   REMOVED [\"&OFFSET(Removed!C$1,$E68-1,0)&\"]\")","v":"   REMOVED [Emissions from local authority own estate and operations ]"},{"$f":"CHOOSE(I68,OFFSET(DetailList!E$1,$C68-1,0),OFFSET(DetailListPending!E$1,$D68-1,0),OFFSET(Removed!E$1,$E68-1,0))","v":"BEIS"},{"$f":"CHOOSE(I68,OFFSET(DetailList!AU$1,$C68-1,0),\"Pending: \"&OFFSET(DetailListPending!AU$1,$D68-1,0),\"REMOVED [\"&OFFSET(Removed!AU$1,$E68-1,0)&\"]\")","v":"REMOVED [1]"},3,true,false]
[null,{"v":68,"d":"068"},{"$f":"MATCH(B69,DetailList!AZ:AZ,0)","v":{"$error":"#N/A"}},{"$f":"MATCH(B69,DetailListPending!AZ:AZ,0)","v":{"$error":"#N/A"}},{"$f":"MATCH(B69,Removed!AZ$1:AZ$443,0)","v":379},{"$f":"CHOOSE(I69,OFFSET(DetailList!C$1,$C69-1,0),\"PENDING: \"&OFFSET(DetailListPending!C$1,$D69-1,0),\"   REMOVED [\"&OFFSET(Removed!C$1,$E69-1,0)&\"]\")","v":"   REMOVED [Imports of products of animal origin from third countries]"},{"$f":"CHOOSE(I69,OFFSET(DetailList!E$1,$C69-1,0),OFFSET(DetailListPending!E$1,$D69-1,0),OFFSET(Removed!E$1,$E69-1,0))","v":"DEFRA"},{"$f":"CHOOSE(I69,OFFSET(DetailList!AU$1,$C69-1,0),\"Pending: \"&OFFSET(DetailListPending!AU$1,$D69-1,0),\"REMOVED [\"&OFFSET(Removed!AU$1,$E69-1,0)&\"]\")","v":"REMOVED [3]"},3,true,false]
[null,{"v":69,"d":"069"},{"$f":"MATCH(B70,DetailList!AZ:AZ,0)","v":177},{"$f":"MATCH(B70,DetailListPending!AZ:AZ,0)","v":{"$error":"#N/A"}},{"$f":"MATCH(B70,Removed!AZ$1:AZ$443,0)","v":{"$error":"#N/A"}},{"$f":"CHOOSE(I70,OFFSET(DetailList!C$1,$C70-1,0),\"PENDING: \"&OFFSET(DetailListPending!C$1,$D70-1,0),\"   REMOVED [\"&OFFSET(Removed!C$1,$E70-1,0)&\"]\")","v":"Animal Welfare: during transport"},{"$f":"CHOOSE(I70,OFFSET(DetailList!E$1,$C70-1,0),OFFSET(DetailListPending!E$1,$D70-1,0),OFFSET(Removed!E$1,$E70-1,0))","v":"DEFRA"},{"$f":"CHOOSE(I70,OFFSET(DetailList!AU$1,$C70-1,0),\"Pending: \"&OFFSET(DetailListPending!AU$1,$D70-1,0),\"REMOVED [\"&OFFSET(Removed!AU$1,$E70-1,0)&\"]\")","v":1},1,true,false]
[null,{"v":70,"d":"070"},{"$f":"MATCH(B71,DetailList!AZ:AZ,0)","v":{"$error":"#N/A"}},{"$f":"MATCH(B71,DetailListPending!AZ:AZ,0)","v":{"$error":"#N/A"}},{"$f":"MATCH(B71,Removed!AZ$1:AZ$443,0)","v":324},{"$f":"CHOOSE(I71,OFFSET(DetailList!C$1,$C71-1,0),\"PENDING: \"&OFFSET(DetailListPending!C$1,$D71-1,0),\"   REMOVED [\"&OFFSET(Removed!C$1,$E71-1,0)&\"]\")","v":"   REMOVED [Animal Movement Licensing System (AMLS)]"},{"$f":"CHOOSE(I71,OFFSET(DetailList!E$1,$C71-1,0),OFFSET(DetailListPending!E$1,$D71-1,0),OFFSET(Removed!E$1,$E71-1,0))","v":"DEFRA"},{"$f":"CHOOSE(I71,OFFSET(DetailList!AU$1,$C71-1,0),\"Pending: \"&OFFSET(DetailListPending!AU$1,$D71-1,0),\"REMOVED [\"&OFFSET(Removed!AU$1,$E71-1,0)&\"]\")","v":"REMOVED [1]"},3,true,false]
[null,{"v":71,"d":"071"},{"$f":"MATCH(B72,DetailList!AZ:AZ,0)","v":179},{"$f":"MATCH(B72,DetailListPending!AZ:AZ,0)","v":{"$error":"#N/A"}},{"$f":"MATCH(B72,Removed!AZ$1:AZ$443,0)","v":{"$error":"#N/A"}},{"$f":"CHOOSE(I72,OFFSET(DetailList!C$1,$C72-1,0),\"PENDING: \"&OFFSET(DetailListPending!C$1,$D72-1,0),\"   REMOVED [\"&OFFSET(Removed!C$1,$E72-1,0)&\"]\")","v":"Animal Health & Welfare Management and Enforcement System (AMES)"},{"$f":"CHOOSE(I72,OFFSET(DetailList!E$1,$C72-1,0),OFFSET(DetailListPending!E$1,$D72-1,0),OFFSET(Removed!E$1,$E72-1,0))","v":"DEFRA"},{"$f":"CHOOSE(I72,OFFSET(DetailList!AU$1,$C72-1,0),\"Pending: \"&OFFSET(DetailListPending!AU$1,$D72-1,0),\"REMOVED [\"&OFFSET(Removed!AU$1,$E72-1,0)&\"]\")","v":10},1,true,false]
[null,{"v":72,"d":"072"},{"$f":"MATCH(B73,DetailList!AZ:AZ,0)","v":{"$error":"#N/A"}},{"$f":"MATCH(B73,DetailListPending!AZ:AZ,0)","v":{"$error":"#N/A"}},{"$f":"MATCH(B73,Removed!AZ$1:AZ$443,0)","v":158},{"$f":"CHOOSE(I73,OFFSET(DetailList!C$1,$C73-1,0),\"PENDING: \"&OFFSET(DetailListPending!C$1,$D73-1,0),\"   REMOVED [\"&OFFSET(Removed!C$1,$E73-1,0)&\"]\")","v":"   REMOVED [Contingency Planning/Capability for disease outbreak]"},{"$f":"CHOOSE(I73,OFFSET(DetailList!E$1,$C73-1,0),OFFSET(DetailListPending!E$1,$D73-1,0),OFFSET(Removed!E$1,$E73-1,0))","v":"DEFRA"},{"$f":"CHOOSE(I73,OFFSET(DetailList!AU$1,$C73-1,0),\"Pending: \"&OFFSET(DetailListPending!AU$1,$D73-1,0),\"REMOVED [\"&OFFSET(Removed!AU$1,$E73-1,0)&\"]\")","v":"REMOVED [1]"},3,true,false]
[null,{"v":73,"d":"073"},{"$f":"MATCH(B74,DetailList!AZ:AZ,0)","v":190},{"$f":"MATCH(B74,DetailListPending!AZ:AZ,0)","v":{"$error":"#N/A"}},{"$f":"MATCH(B74,Removed!AZ$1:AZ$443,0)","v":{"$error":"#N/A"}},{"$f":"CHOOSE(I74,OFFSET(DetailList!C$1,$C74-1,0),\"PENDING: \"&OFFSET(DetailListPending!C$1,$D74-1,0),\"   REMOVED [\"&OFFSET(Removed!C$1,$E74-1,0)&\"]\")","v":"Return of expenditure incurred and prosecutions undertaken under the Animal Health Act 1981 and incidences of disease in imported animals"},{"$f":"CHOOSE(I74,OFFSET(DetailList!E$1,$C74-1,0),OFFSET(DetailListPending!E$1,$D74-1,0),OFFSET(Removed!E$1,$E74-1,0))","v":"DEFRA"},{"$f":"CHOOSE(I74,OFFSET(DetailList!AU$1,$C74-1,0),\"Pending: \"&OFFSET(DetailListPending!AU$1,$D74-1,0),\"REMOVED [\"&OFFSET(Removed!AU$1,$E74-1,0)&\"]\")","v":1},1,true,false]
[null,{"v":74,"d":"074"},{"$f":"MATCH(B75,DetailList!AZ:AZ,0)","v":{"$error":"#N/A"}},{"$f":"MATCH(B75,DetailListPending!AZ:AZ,0)","v":{"$error":"#N/A"}},{"$f":"MATCH(B75,Removed!AZ$1:AZ$443,0)","v":160},{"$f":"CHOOSE(I75,OFFSET(DetailList!C$1,$C75-1,0),\"PENDING: \"&OFFSET(DetailListPending!C$1,$D75-1,0),\"   REMOVED [\"&OFFSET(Removed!C$1,$E75-1,0)&\"]\")","v":"   REMOVED [Stray dogs]"},{"$f":"CHOOSE(I75,OFFSET(DetailList!E$1,$C75-1,0),OFFSET(DetailListPending!E$1,$D75-1,0),OFFSET(Removed!E$1,$E75-1,0))","v":"DEFRA"},{"$f":"CHOOSE(I75,OFFSET(DetailList!AU$1,$C75-1,0),\"Pending: \"&OFFSET(DetailListPending!AU$1,$D75-1,0),\"REMOVED [\"&OFFSET(Removed!AU$1,$E75-1,0)&\"]\")","v":"REMOVED [1]"},3,true,false]
[null,{"v":75,"d":"075"},{"$f":"MATCH(B76,DetailList!AZ:AZ,0)","v":192},{"$f":"MATCH(B76,DetailListPending!AZ:AZ,0)","v":{"$error":"#N/A"}},{"$f":"MATCH(B76,Removed!AZ$1:AZ$443,0)","v":{"$error":"#N/A"}},{"$f":"CHOOSE(I76,OFFSET(DetailList!C$1,$C76-1,0),\"PENDING: \"&OFFSET(DetailListPending!C$1,$D76-1,0),\"   REMOVED [\"&OFFSET(Removed!C$1,$E76-1,0)&\"]\")","v":"Local Pollution Control Statistical Survey (LPCSS)"},{"$f":"CHOOSE(I76,OFFSET(DetailList!E$1,$C76-1,0),OFFSET(DetailListPending!E$1,$D76-1,0),OFFSET(Removed!E$1,$E76-1,0))","v":"DEFRA"},{"$f":"CHOOSE(I76,OFFSET(DetailList!AU$1,$C76-1,0),\"Pending: \"&OFFSET(DetailListPending!AU$1,$D76-1,0),\"REMOVED [\"&OFFSET(Removed!AU$1,$E76-1,0)&\"]\")","v":6},1,true,false]
[null,{"v":76,"d":"076"},{"$f":"MATCH(B77,DetailList!AZ:AZ,0)","v":{"$error":"#N/A"}},{"$f":"MATCH(B77,DetailListPending!AZ:AZ,0)","v":{"$error":"#N/A"}},{"$f":"MATCH(B77,Removed!AZ$1:AZ$443,0)","v":8},{"$f":"CHOOSE(I77,OFFSET(DetailList!C$1,$C77-1,0),\"PENDING: \"&OFFSET(DetailListPending!C$1,$D77-1,0),\"   REMOVED [\"&OFFSET(Removed!C$1,$E77-1,0)&\"]\")","v":"   REMOVED [Local Air Quality Management (LAQM) reporting]"},{"$f":"CHOOSE(I77,OFFSET(DetailList!E$1,$C77-1,0),OFFSET(DetailListPending!E$1,$D77-1,0),OFFSET(Removed!E$1,$E77-1,0))","v":"DEFRA"},{"$f":"CHOOSE(I77,OFFSET(DetailList!AU$1,$C77-1,0),\"Pending: \"&OFFSET(DetailListPending!AU$1,$D77-1,0),\"REMOVED [\"&OFFSET(Removed!AU$1,$E77-1,0)&\"]\")","v":"REMOVED [1]"},3,true,false]
[null,{"v":77,"d":"077"},{"$f":"MATCH(B78,DetailList!AZ:AZ,0)","v":{"$error":"#N/A"}},{"$f":"MATCH(B78,DetailListPending!AZ:AZ,0)","v":{"$error":"#N/A"}},{"$f":"MATCH(B78,Removed!AZ$1:AZ$443,0)","v":2},{"$f":"CHOOSE(I78,OFFSET(DetailList!C$1,$C78-1,0),\"PENDING: \"&OFFSET(DetailListPending!C$1,$D78-1,0),\"   REMOVED [\"&OFFSET(Removed!C$1,$E78-1,0)&\"]\")","v":"   REMOVED [Fixed penalty notices issued for 15 offences [NO LONGER REQUIRED]]"},{"$f":"CHOOSE(I78,OFFSET(DetailList!E$1,$C78-1,0),OFFSET(DetailListPending!E$1,$D78-1,0),OFFSET(Removed!E$1,$E78-1,0))","v":"DEFRA"},{"$f":"CHOOSE(I78,OFFSET(DetailList!AU$1,$C78-1,0),\"Pending: \"&OFFSET(DetailListPending!AU$1,$D78-1,0),\"REMOVED [\"&OFFSET(Removed!AU$1,$E78-1,0)&\"]\")","v":"REMOVED [1]"},3,true,false]
[null,{"v":78,"d":"078"},{"$f":"MATCH(B79,DetailList!AZ:AZ,0)","v":{"$error":"#N/A"}},{"$f":"MATCH(B79,DetailListPending!AZ:AZ,0)","v":{"$error":"#N/A"}},{"$f":"MATCH(B79,Removed!AZ$1:AZ$443,0)","v":402},{"$f":"CHOOSE(I79,OFFSET(DetailList!C$1,$C79-1,0),\"PENDING: \"&OFFSET(DetailListPending!C$1,$D79-1,0),\"   REMOVED [\"&OFFSET(Removed!C$1,$E79-1,0)&\"]\")","v":"   REMOVED [Incidents under the Environmental Damage Regulations 2009 ]"},{"$f":"CHOOSE(I79,OFFSET(DetailList!E$1,$C79-1,0),OFFSET(DetailListPending!E$1,$D79-1,0),OFFSET(Removed!E$1,$E79-1,0))","v":"DEFRA"},{"$f":"CHOOSE(I79,OFFSET(DetailList!AU$1,$C79-1,0),\"Pending: \"&OFFSET(DetailListPending!AU$1,$D79-1,0),\"REMOVED [\"&OFFSET(Removed!AU$1,$E79-1,0)&\"]\")","v":"REMOVED [1]"},3,true,false]
[null,{"v":79,"d":"079"},{"$f":"MATCH(B80,DetailList!AZ:AZ,0)","v":{"$error":"#N/A"}},{"$f":"MATCH(B80,DetailListPending!AZ:AZ,0)","v":{"$error":"#N/A"}},{"$f":"MATCH(B80,Removed!AZ$1:AZ$443,0)","v":381},{"$f":"CHOOSE(I80,OFFSET(DetailList!C$1,$C80-1,0),\"PENDING: \"&OFFSET(DetailListPending!C$1,$D80-1,0),\"   REMOVED [\"&OFFSET(Removed!C$1,$E80-1,0)&\"]\")","v":"   REMOVED [Fly-tipping incidents (Flycapture)]"},{"$f":"CHOOSE(I80,OFFSET(DetailList!E$1,$C80-1,0),OFFSET(DetailListPending!E$1,$D80-1,0),OFFSET(Removed!E$1,$E80-1,0))","v":"DEFRA"},{"$f":"CHOOSE(I80,OFFSET(DetailList!AU$1,$C80-1,0),\"Pending: \"&OFFSET(DetailListPending!AU$1,$D80-1,0),\"REMOVED [\"&OFFSET(Removed!AU$1,$E80-1,0)&\"]\")","v":"REMOVED [4]"},3,true,false]
[null,{"v":80,"d":"080"},{"$f":"MATCH(B81,DetailList!AZ:AZ,0)","v":199},{"$f":"MATCH(B81,DetailListPending!AZ:AZ,0)","v":{"$error":"#N/A"}},{"$f":"MATCH(B81,Removed!AZ$1:AZ$443,0)","v":{"$error":"#N/A"}},{"$f":"CHOOSE(I81,OFFSET(DetailList!C$1,$C81-1,0),\"PENDING: \"&OFFSET(DetailListPending!C$1,$D81-1,0),\"   REMOVED [\"&OFFSET(Removed!C$1,$E81-1,0)&\"]\")","v":"Flood and coastal erosion risk management and sustainable drainage systems"},{"$f":"CHOOSE(I81,OFFSET(DetailList!E$1,$C81-1,0),OFFSET(DetailListPending!E$1,$D81-1,0),OFFSET(Removed!E$1,$E81-1,0))","v":"DEFRA"},{"$f":"CHOOSE(I81,OFFSET(DetailList!AU$1,$C81-1,0),\"Pending: \"&OFFSET(DetailListPending!AU$1,$D81-1,0),\"REMOVED [\"&OFFSET(Removed!AU$1,$E81-1,0)&\"]\")","v":4},1,true,false]
[null,{"v":81,"d":"081"},{"$f":"MATCH(B82,DetailList!AZ:AZ,0)","v":{"$error":"#N/A"}},{"$f":"MATCH(B82,DetailListPending!AZ:AZ,0)","v":{"$error":"#N/A"}},{"$f":"MATCH(B82,Removed!AZ$1:AZ$443,0)","v":69},{"$f":"CHOOSE(I82,OFFSET(DetailList!C$1,$C82-1,0),\"PENDING: \"&OFFSET(DetailListPending!C$1,$D82-1,0),\"   REMOVED [\"&OFFSET(Removed!C$1,$E82-1,0)&\"]\")","v":"   REMOVED [Compliance with Government Buying Standards - sustainable procurement specifications for goods and services]"},{"$f":"CHOOSE(I82,OFFSET(DetailList!E$1,$C82-1,0),OFFSET(DetailListPending!E$1,$D82-1,0),OFFSET(Removed!E$1,$E82-1,0))","v":"DEFRA"},{"$f":"CHOOSE(I82,OFFSET(DetailList!AU$1,$C82-1,0),\"Pending: \"&OFFSET(DetailListPending!AU$1,$D82-1,0),\"REMOVED [\"&OFFSET(Removed!AU$1,$E82-1,0)&\"]\")","v":"REMOVED [1]"},3,true,false]
[null,{"v":82,"d":"082"},{"$f":"MATCH(B83,DetailList!AZ:AZ,0)","v":206},{"$f":"MATCH(B83,DetailListPending!AZ:AZ,0)","v":{"$error":"#N/A"}},{"$f":"MATCH(B83,Removed!AZ$1:AZ$443,0)","v":{"$error":"#N/A"}},{"$f":"CHOOSE(I83,OFFSET(DetailList!C$1,$C83-1,0),\"PENDING: \"&OFFSET(DetailListPending!C$1,$D83-1,0),\"   REMOVED [\"&OFFSET(Removed!C$1,$E83-1,0)&\"]\")","v":"WasteDataFlow - LA waste management statistics"},{"$f":"CHOOSE(I83,OFFSET(DetailList!E$1,$C83-1,0),OFFSET(DetailListPending!E$1,$D83-1,0),OFFSET(Removed!E$1,$E83-1,0))","v":"DEFRA"},{"$f":"CHOOSE(I83,OFFSET(DetailList!AU$1,$C83-1,0),\"Pending: \"&OFFSET(DetailListPending!AU$1,$D83-1,0),\"REMOVED [\"&OFFSET(Removed!AU$1,$E83-1,0)&\"]\")","v":1},1,true,false]
[null,{"v":83,"d":"083"},{"$f":"MATCH(B84,DetailList!AZ:AZ,0)","v":208},{"$f":"MATCH(B84,DetailListPending!AZ:AZ,0)","v":{"$error":"#N/A"}},{"$f":"MATCH(B84,Removed!AZ$1:AZ$443,0)","v":{"$error":"#N/A"}},{"$f":"CHOOSE(I84,OFFSET(DetailList!C$1,$C84-1,0),\"PENDING: \"&OFFSET(DetailListPending!C$1,$D84-1,0),\"   REMOVED [\"&OFFSET(Removed!C$1,$E84-1,0)&\"]\")","v":"Local Authority Private Water Supplies Data submission"},{"$f":"CHOOSE(I84,OFFSET(DetailList!E$1,$C84-1,0),OFFSET(DetailListPending!E$1,$D84-1,0),OFFSET(Removed!E$1,$E84-1,0))","v":"DEFRA"},{"$f":"CHOOSE(I84,OFFSET(DetailList!AU$1,$C84-1,0),\"Pending: \"&OFFSET(DetailListPending!AU$1,$D84-1,0),\"REMOVED [\"&OFFSET(Removed!AU$1,$E84-1,0)&\"]\")","v":2},1,true,false]
[null,{"v":84,"d":"084"},{"$f":"MATCH(B85,DetailList!AZ:AZ,0)","v":{"$error":"#N/A"}},{"$f":"MATCH(B85,DetailListPending!AZ:AZ,0)","v":{"$error":"#N/A"}},{"$f":"MATCH(B85,Removed!AZ$1:AZ$443,0)","v":4},{"$f":"CHOOSE(I85,OFFSET(DetailList!C$1,$C85-1,0),\"PENDING: \"&OFFSET(DetailListPending!C$1,$D85-1,0),\"   REMOVED [\"&OFFSET(Removed!C$1,$E85-1,0)&\"]\")","v":"   REMOVED [Annual farming surveys, crops, livestock and labour.]"},{"$f":"CHOOSE(I85,OFFSET(DetailList!E$1,$C85-1,0),OFFSET(DetailListPending!E$1,$D85-1,0),OFFSET(Removed!E$1,$E85-1,0))","v":"DEFRA"},{"$f":"CHOOSE(I85,OFFSET(DetailList!AU$1,$C85-1,0),\"Pending: \"&OFFSET(DetailListPending!AU$1,$D85-1,0),\"REMOVED [\"&OFFSET(Removed!AU$1,$E85-1,0)&\"]\")","v":"REMOVED [1]"},3,true,false]
[null,{"v":85,"d":"085"},{"$f":"MATCH(B86,DetailList!AZ:AZ,0)","v":{"$error":"#N/A"}},{"$f":"MATCH(B86,DetailListPending!AZ:AZ,0)","v":{"$error":"#N/A"}},{"$f":"MATCH(B86,Removed!AZ$1:AZ$443,0)","v":210},{"$f":"CHOOSE(I86,OFFSET(DetailList!C$1,$C86-1,0),\"PENDING: \"&OFFSET(DetailListPending!C$1,$D86-1,0),\"   REMOVED [\"&OFFSET(Removed!C$1,$E86-1,0)&\"]\")","v":"   REMOVED [Child and Adolescent Mental Health Service (CAMHS)]"},{"$f":"CHOOSE(I86,OFFSET(DetailList!E$1,$C86-1,0),OFFSET(DetailListPending!E$1,$D86-1,0),OFFSET(Removed!E$1,$E86-1,0))","v":"DfE"},{"$f":"CHOOSE(I86,OFFSET(DetailList!AU$1,$C86-1,0),\"Pending: \"&OFFSET(DetailListPending!AU$1,$D86-1,0),\"REMOVED [\"&OFFSET(Removed!AU$1,$E86-1,0)&\"]\")","v":"REMOVED [1]"},3,true,false]
[null,{"v":86,"d":"086"},{"$f":"MATCH(B87,DetailList!AZ:AZ,0)","v":229},{"$f":"MATCH(B87,DetailListPending!AZ:AZ,0)","v":{"$error":"#N/A"}},{"$f":"MATCH(B87,Removed!AZ$1:AZ$443,0)","v":{"$error":"#N/A"}},{"$f":"CHOOSE(I87,OFFSET(DetailList!C$1,$C87-1,0),\"PENDING: \"&OFFSET(DetailListPending!C$1,$D87-1,0),\"   REMOVED [\"&OFFSET(Removed!C$1,$E87-1,0)&\"]\")","v":"Child Death Review Panels (LSCB1)"},{"$f":"CHOOSE(I87,OFFSET(DetailList!E$1,$C87-1,0),OFFSET(DetailListPending!E$1,$D87-1,0),OFFSET(Removed!E$1,$E87-1,0))","v":"DHSC"},{"$f":"CHOOSE(I87,OFFSET(DetailList!AU$1,$C87-1,0),\"Pending: \"&OFFSET(DetailListPending!AU$1,$D87-1,0),\"REMOVED [\"&OFFSET(Removed!AU$1,$E87-1,0)&\"]\")","v":1},1,true,false]
[null,{"v":87,"d":"087"},{"$f":"MATCH(B88,DetailList!AZ:AZ,0)","v":231},{"$f":"MATCH(B88,DetailListPending!AZ:AZ,0)","v":{"$error":"#N/A"}},{"$f":"MATCH(B88,Removed!AZ$1:AZ$443,0)","v":{"$error":"#N/A"}},{"$f":"CHOOSE(I88,OFFSET(DetailList!C$1,$C88-1,0),\"PENDING: \"&OFFSET(DetailListPending!C$1,$D88-1,0),\"   REMOVED [\"&OFFSET(Removed!C$1,$E88-1,0)&\"]\")","v":"Children in Need Census"},{"$f":"CHOOSE(I88,OFFSET(DetailList!E$1,$C88-1,0),OFFSET(DetailListPending!E$1,$D88-1,0),OFFSET(Removed!E$1,$E88-1,0))","v":"DfE"},{"$f":"CHOOSE(I88,OFFSET(DetailList!AU$1,$C88-1,0),\"Pending: \"&OFFSET(DetailListPending!AU$1,$D88-1,0),\"REMOVED [\"&OFFSET(Removed!AU$1,$E88-1,0)&\"]\")","v":8},1,true,false]
[null,{"v":88,"d":"088"},{"$f":"MATCH(B89,DetailList!AZ:AZ,0)","v":240},{"$f":"MATCH(B89,DetailListPending!AZ:AZ,0)","v":{"$error":"#N/A"}},{"$f":"MATCH(B89,Removed!AZ$1:AZ$443,0)","v":{"$error":"#N/A"}},{"$f":"CHOOSE(I89,OFFSET(DetailList!C$1,$C89-1,0),\"PENDING: \"&OFFSET(DetailListPending!C$1,$D89-1,0),\"   REMOVED [\"&OFFSET(Removed!C$1,$E89-1,0)&\"]\")","v":"Children Looked After (CLA) (SSDA903)"},{"$f":"CHOOSE(I89,OFFSET(DetailList!E$1,$C89-1,0),OFFSET(DetailListPending!E$1,$D89-1,0),OFFSET(Removed!E$1,$E89-1,0))","v":"DfE"},{"$f":"CHOOSE(I89,OFFSET(DetailList!AU$1,$C89-1,0),\"Pending: \"&OFFSET(DetailListPending!AU$1,$D89-1,0),\"REMOVED [\"&OFFSET(Removed!AU$1,$E89-1,0)&\"]\")","v":8},1,true,false]
[null,{"v":89,"d":"089"},{"$f":"MATCH(B90,DetailList!AZ:AZ,0)","v":{"$error":"#N/A"}},{"$f":"MATCH(B90,DetailListPending!AZ:AZ,0)","v":{"$error":"#N/A"}},{"$f":"MATCH(B90,Removed!AZ$1:AZ$443,0)","v":212},{"$f":"CHOOSE(I90,OFFSET(DetailList!C$1,$C90-1,0),\"PENDING: \"&OFFSET(DetailListPending!C$1,$D90-1,0),\"   REMOVED [\"&OFFSET(Removed!C$1,$E90-1,0)&\"]\")","v":"   REMOVED [Missing from Care and Home]"},{"$f":"CHOOSE(I90,OFFSET(DetailList!E$1,$C90-1,0),OFFSET(DetailListPending!E$1,$D90-1,0),OFFSET(Removed!E$1,$E90-1,0))","v":"DfE"},{"$f":"CHOOSE(I90,OFFSET(DetailList!AU$1,$C90-1,0),\"Pending: \"&OFFSET(DetailListPending!AU$1,$D90-1,0),\"REMOVED [\"&OFFSET(Removed!AU$1,$E90-1,0)&\"]\")","v":"REMOVED [1]"},3,true,false]
[null,{"v":90,"d":"090"},{"$f":"MATCH(B91,DetailList!AZ:AZ,0)","v":{"$error":"#N/A"}},{"$f":"MATCH(B91,DetailListPending!AZ:AZ,0)","v":{"$error":"#N/A"}},{"$f":"MATCH(B91,Removed!AZ$1:AZ$443,0)","v":386},{"$f":"CHOOSE(I91,OFFSET(DetailList!C$1,$C91-1,0),\"PENDING: \"&OFFSET(DetailListPending!C$1,$D91-1,0),\"   REMOVED [\"&OFFSET(Removed!C$1,$E91-1,0)&\"]\")","v":"   REMOVED [Private Fostering (PF1)]"},{"$f":"CHOOSE(I91,OFFSET(DetailList!E$1,$C91-1,0),OFFSET(DetailListPending!E$1,$D91-1,0),OFFSET(Removed!E$1,$E91-1,0))","v":"DfE"},{"$f":"CHOOSE(I91,OFFSET(DetailList!AU$1,$C91-1,0),\"Pending: \"&OFFSET(DetailListPending!AU$1,$D91-1,0),\"REMOVED [\"&OFFSET(Removed!AU$1,$E91-1,0)&\"]\")","v":"REMOVED [2]"},3,true,false]
[null,{"v":91,"d":"091"},{"$f":"MATCH(B92,DetailList!AZ:AZ,0)","v":249},{"$f":"MATCH(B92,DetailListPending!AZ:AZ,0)","v":{"$error":"#N/A"}},{"$f":"MATCH(B92,Removed!AZ$1:AZ$443,0)","v":{"$error":"#N/A"}},{"$f":"CHOOSE(I92,OFFSET(DetailList!C$1,$C92-1,0),\"PENDING: \"&OFFSET(DetailListPending!C$1,$D92-1,0),\"   REMOVED [\"&OFFSET(Removed!C$1,$E92-1,0)&\"]\")","v":"Children's Social Care Work Workforce"},{"$f":"CHOOSE(I92,OFFSET(DetailList!E$1,$C92-1,0),OFFSET(DetailListPending!E$1,$D92-1,0),OFFSET(Removed!E$1,$E92-1,0))","v":"DfE"},{"$f":"CHOOSE(I92,OFFSET(DetailList!AU$1,$C92-1,0),\"Pending: \"&OFFSET(DetailListPending!AU$1,$D92-1,0),\"REMOVED [\"&OFFSET(Removed!AU$1,$E92-1,0)&\"]\")","v":2},1,true,false]
[null,{"v":92,"d":"092"},{"$f":"MATCH(B93,DetailList!AZ:AZ,0)","v":252},{"$f":"MATCH(B93,DetailListPending!AZ:AZ,0)","v":{"$error":"#N/A"}},{"$f":"MATCH(B93,Removed!AZ$1:AZ$443,0)","v":{"$error":"#N/A"}},{"$f":"CHOOSE(I93,OFFSET(DetailList!C$1,$C93-1,0),\"PENDING: \"&OFFSET(DetailListPending!C$1,$D93-1,0),\"   REMOVED [\"&OFFSET(Removed!C$1,$E93-1,0)&\"]\")","v":"Secure Children's Homes (SA1)"},{"$f":"CHOOSE(I93,OFFSET(DetailList!E$1,$C93-1,0),OFFSET(DetailListPending!E$1,$D93-1,0),OFFSET(Removed!E$1,$E93-1,0))","v":"DfE"},{"$f":"CHOOSE(I93,OFFSET(DetailList!AU$1,$C93-1,0),\"Pending: \"&OFFSET(DetailListPending!AU$1,$D93-1,0),\"REMOVED [\"&OFFSET(Removed!AU$1,$E93-1,0)&\"]\")","v":2},1,true,false]
[null,{"v":93,"d":"093"},{"$f":"MATCH(B94,DetailList!AZ:AZ,0)","v":{"$error":"#N/A"}},{"$f":"MATCH(B94,DetailListPending!AZ:AZ,0)","v":{"$error":"#N/A"}},{"$f":"MATCH(B94,Removed!AZ$1:AZ$443,0)","v":58},{"$f":"CHOOSE(I94,OFFSET(DetailList!C$1,$C94-1,0),\"PENDING: \"&OFFSET(DetailListPending!C$1,$D94-1,0),\"   REMOVED [\"&OFFSET(Removed!C$1,$E94-1,0)&\"]\")","v":"   REMOVED [Childcare and Early Years Providers Survey]"},{"$f":"CHOOSE(I94,OFFSET(DetailList!E$1,$C94-1,0),OFFSET(DetailListPending!E$1,$D94-1,0),OFFSET(Removed!E$1,$E94-1,0))","v":"DfE"},{"$f":"CHOOSE(I94,OFFSET(DetailList!AU$1,$C94-1,0),\"Pending: \"&OFFSET(DetailListPending!AU$1,$D94-1,0),\"REMOVED [\"&OFFSET(Removed!AU$1,$E94-1,0)&\"]\")","v":"REMOVED [1]"},3,true,false]
[null,{"v":94,"d":"094"},{"$f":"MATCH(B95,DetailList!AZ:AZ,0)","v":{"$error":"#N/A"}},{"$f":"MATCH(B95,DetailListPending!AZ:AZ,0)","v":{"$error":"#N/A"}},{"$f":"MATCH(B95,Removed!AZ$1:AZ$443,0)","v":283},{"$f":"CHOOSE(I95,OFFSET(DetailList!C$1,$C95-1,0),\"PENDING: \"&OFFSET(DetailListPending!C$1,$D95-1,0),\"   REMOVED [\"&OFFSET(Removed!C$1,$E95-1,0)&\"]\")","v":"   REMOVED [Children’s Centres and other parts of the Early Intervention Grant]"},{"$f":"CHOOSE(I95,OFFSET(DetailList!E$1,$C95-1,0),OFFSET(DetailListPending!E$1,$D95-1,0),OFFSET(Removed!E$1,$E95-1,0))","v":"DfE"},{"$f":"CHOOSE(I95,OFFSET(DetailList!AU$1,$C95-1,0),\"Pending: \"&OFFSET(DetailListPending!AU$1,$D95-1,0),\"REMOVED [\"&OFFSET(Removed!AU$1,$E95-1,0)&\"]\")","v":"REMOVED [1]"},3,true,false]
[null,{"v":95,"d":"095"},{"$f":"MATCH(B96,DetailList!AZ:AZ,0)","v":{"$error":"#N/A"}},{"$f":"MATCH(B96,DetailListPending!AZ:AZ,0)","v":{"$error":"#N/A"}},{"$f":"MATCH(B96,Removed!AZ$1:AZ$443,0)","v":60},{"$f":"CHOOSE(I96,OFFSET(DetailList!C$1,$C96-1,0),\"PENDING: \"&OFFSET(DetailListPending!C$1,$D96-1,0),\"   REMOVED [\"&OFFSET(Removed!C$1,$E96-1,0)&\"]\")","v":"   REMOVED [Children's Centres ]"},{"$f":"CHOOSE(I96,OFFSET(DetailList!E$1,$C96-1,0),OFFSET(DetailListPending!E$1,$D96-1,0),OFFSET(Removed!E$1,$E96-1,0))","v":"DfE"},{"$f":"CHOOSE(I96,OFFSET(DetailList!AU$1,$C96-1,0),\"Pending: \"&OFFSET(DetailListPending!AU$1,$D96-1,0),\"REMOVED [\"&OFFSET(Removed!AU$1,$E96-1,0)&\"]\")","v":"REMOVED [2]"},3,true,false]
[null,{"v":96,"d":"096"},{"$f":"MATCH(B97,DetailList!AZ:AZ,0)","v":255},{"$f":"MATCH(B97,DetailListPending!AZ:AZ,0)","v":{"$error":"#N/A"}},{"$f":"MATCH(B97,Removed!AZ$1:AZ$443,0)","v":{"$error":"#N/A"}},{"$f":"CHOOSE(I97,OFFSET(DetailList!C$1,$C97-1,0),\"PENDING: \"&OFFSET(DetailListPending!C$1,$D97-1,0),\"   REMOVED [\"&OFFSET(Removed!C$1,$E97-1,0)&\"]\")","v":"Early Years Census"},{"$f":"CHOOSE(I97,OFFSET(DetailList!E$1,$C97-1,0),OFFSET(DetailListPending!E$1,$D97-1,0),OFFSET(Removed!E$1,$E97-1,0))","v":"DfE"},{"$f":"CHOOSE(I97,OFFSET(DetailList!AU$1,$C97-1,0),\"Pending: \"&OFFSET(DetailListPending!AU$1,$D97-1,0),\"REMOVED [\"&OFFSET(Removed!AU$1,$E97-1,0)&\"]\")","v":10},1,true,false]
[null,{"v":97,"d":"097"},{"$f":"MATCH(B98,DetailList!AZ:AZ,0)","v":{"$error":"#N/A"}},{"$f":"MATCH(B98,DetailListPending!AZ:AZ,0)","v":{"$error":"#N/A"}},{"$f":"MATCH(B98,Removed!AZ$1:AZ$443,0)","v":12},{"$f":"CHOOSE(I98,OFFSET(DetailList!C$1,$C98-1,0),\"PENDING: \"&OFFSET(DetailListPending!C$1,$D98-1,0),\"   REMOVED [\"&OFFSET(Removed!C$1,$E98-1,0)&\"]\")","v":"   REMOVED [Merged with 096]"},{"$f":"CHOOSE(I98,OFFSET(DetailList!E$1,$C98-1,0),OFFSET(DetailListPending!E$1,$D98-1,0),OFFSET(Removed!E$1,$E98-1,0))","v":"DfE"},{"$f":"CHOOSE(I98,OFFSET(DetailList!AU$1,$C98-1,0),\"Pending: \"&OFFSET(DetailListPending!AU$1,$D98-1,0),\"REMOVED [\"&OFFSET(Removed!AU$1,$E98-1,0)&\"]\")","v":"REMOVED [4]"},3,true,false]
[null,{"v":98,"d":"098"},{"$f":"MATCH(B99,DetailList!AZ:AZ,0)","v":266},{"$f":"MATCH(B99,DetailListPending!AZ:AZ,0)","v":{"$error":"#N/A"}},{"$f":"MATCH(B99,Removed!AZ$1:AZ$443,0)","v":{"$error":"#N/A"}},{"$f":"CHOOSE(I99,OFFSET(DetailList!C$1,$C99-1,0),\"PENDING: \"&OFFSET(DetailListPending!C$1,$D99-1,0),\"   REMOVED [\"&OFFSET(Removed!C$1,$E99-1,0)&\"]\")","v":"Early Years Foundation Stage Profile (EYFSP)"},{"$f":"CHOOSE(I99,OFFSET(DetailList!E$1,$C99-1,0),OFFSET(DetailListPending!E$1,$D99-1,0),OFFSET(Removed!E$1,$E99-1,0))","v":"DfE"},{"$f":"CHOOSE(I99,OFFSET(DetailList!AU$1,$C99-1,0),\"Pending: \"&OFFSET(DetailListPending!AU$1,$D99-1,0),\"REMOVED [\"&OFFSET(Removed!AU$1,$E99-1,0)&\"]\")","v":2},1,true,false]
[null,{"v":99,"d":"099"},{"$f":"MATCH(B100,DetailList!AZ:AZ,0)","v":{"$error":"#N/A"}},{"$f":"MATCH(B100,DetailListPending!AZ:AZ,0)","v":{"$error":"#N/A"}},{"$f":"MATCH(B100,Removed!AZ$1:AZ$443,0)","v":53},{"$f":"CHOOSE(I100,OFFSET(DetailList!C$1,$C100-1,0),\"PENDING: \"&OFFSET(DetailListPending!C$1,$D100-1,0),\"   REMOVED [\"&OFFSET(Removed!C$1,$E100-1,0)&\"]\")","v":"   REMOVED [Extension of nursery funding to 2 year-olds]"},{"$f":"CHOOSE(I100,OFFSET(DetailList!E$1,$C100-1,0),OFFSET(DetailListPending!E$1,$D100-1,0),OFFSET(Removed!E$1,$E100-1,0))","v":"DfE"},{"$f":"CHOOSE(I100,OFFSET(DetailList!AU$1,$C100-1,0),\"Pending: \"&OFFSET(DetailListPending!AU$1,$D100-1,0),\"REMOVED [\"&OFFSET(Removed!AU$1,$E100-1,0)&\"]\")","v":"REMOVED [1]"},3,true,false]
[null,100,{"$f":"MATCH(B101,DetailList!AZ:AZ,0)","v":269},{"$f":"MATCH(B101,DetailListPending!AZ:AZ,0)","v":{"$error":"#N/A"}},{"$f":"MATCH(B101,Removed!AZ$1:AZ$443,0)","v":{"$error":"#N/A"}},{"$f":"CHOOSE(I101,OFFSET(DetailList!C$1,$C101-1,0),\"PENDING: \"&OFFSET(DetailListPending!C$1,$D101-1,0),\"   REMOVED [\"&OFFSET(Removed!C$1,$E101-1,0)&\"]\")","v":"Admissions: Parental Preferences met"},{"$f":"CHOOSE(I101,OFFSET(DetailList!E$1,$C101-1,0),OFFSET(DetailListPending!E$1,$D101-1,0),OFFSET(Removed!E$1,$E101-1,0))","v":"DfE"},{"$f":"CHOOSE(I101,OFFSET(DetailList!AU$1,$C101-1,0),\"Pending: \"&OFFSET(DetailListPending!AU$1,$D101-1,0),\"REMOVED [\"&OFFSET(Removed!AU$1,$E101-1,0)&\"]\")","v":3},1,true,false]
[null,101,{"$f":"MATCH(B102,DetailList!AZ:AZ,0)","v":273},{"$f":"MATCH(B102,DetailListPending!AZ:AZ,0)","v":{"$error":"#N/A"}},{"$f":"MATCH(B102,Removed!AZ$1:AZ$443,0)","v":{"$error":"#N/A"}},{"$f":"CHOOSE(I102,OFFSET(DetailList!C$1,$C102-1,0),\"PENDING: \"&OFFSET(DetailListPending!C$1,$D102-1,0),\"   REMOVED [\"&OFFSET(Removed!C$1,$E102-1,0)&\"]\")","v":"Admissions: report to the School Adjudicator"},{"$f":"CHOOSE(I102,OFFSET(DetailList!E$1,$C102-1,0),OFFSET(DetailListPending!E$1,$D102-1,0),OFFSET(Removed!E$1,$E102-1,0))","v":"DfE"},{"$f":"CHOOSE(I102,OFFSET(DetailList!AU$1,$C102-1,0),\"Pending: \"&OFFSET(DetailListPending!AU$1,$D102-1,0),\"REMOVED [\"&OFFSET(Removed!AU$1,$E102-1,0)&\"]\")","v":1},1,true,false]
[null,102,{"$f":"MATCH(B103,DetailList!AZ:AZ,0)","v":293},{"$f":"MATCH(B103,DetailListPending!AZ:AZ,0)","v":{"$error":"#N/A"}},{"$f":"MATCH(B103,Removed!AZ$1:AZ$443,0)","v":{"$error":"#N/A"}},{"$f":"CHOOSE(I103,OFFSET(DetailList!C$1,$C103-1,0),\"PENDING: \"&OFFSET(DetailListPending!C$1,$D103-1,0),\"   REMOVED [\"&OFFSET(Removed!C$1,$E103-1,0)&\"]\")","v":"Alternative Provision Census"},{"$f":"CHOOSE(I103,OFFSET(DetailList!E$1,$C103-1,0),OFFSET(DetailListPending!E$1,$D103-1,0),OFFSET(Removed!E$1,$E103-1,0))","v":"DfE"},{"$f":"CHOOSE(I103,OFFSET(DetailList!AU$1,$C103-1,0),\"Pending: \"&OFFSET(DetailListPending!AU$1,$D103-1,0),\"REMOVED [\"&OFFSET(Removed!AU$1,$E103-1,0)&\"]\")","v":5},1,true,false]
[null,103,{"$f":"MATCH(B104,DetailList!AZ:AZ,0)","v":{"$error":"#N/A"}},{"$f":"MATCH(B104,DetailListPending!AZ:AZ,0)","v":{"$error":"#N/A"}},{"$f":"MATCH(B104,Removed!AZ$1:AZ$443,0)","v":63},{"$f":"CHOOSE(I104,OFFSET(DetailList!C$1,$C104-1,0),\"PENDING: \"&OFFSET(DetailListPending!C$1,$D104-1,0),\"   REMOVED [\"&OFFSET(Removed!C$1,$E104-1,0)&\"]\")","v":"   REMOVED [Music Grant - use of]"},{"$f":"CHOOSE(I104,OFFSET(DetailList!E$1,$C104-1,0),OFFSET(DetailListPending!E$1,$D104-1,0),OFFSET(Removed!E$1,$E104-1,0))","v":"DfE"},{"$f":"CHOOSE(I104,OFFSET(DetailList!AU$1,$C104-1,0),\"Pending: \"&OFFSET(DetailListPending!AU$1,$D104-1,0),\"REMOVED [\"&OFFSET(Removed!AU$1,$E104-1,0)&\"]\")","v":"REMOVED [1]"},3,true,false]
[null,104,{"$f":"MATCH(B105,DetailList!AZ:AZ,0)","v":299},{"$f":"MATCH(B105,DetailListPending!AZ:AZ,0)","v":{"$error":"#N/A"}},{"$f":"MATCH(B105,Removed!AZ$1:AZ$443,0)","v":{"$error":"#N/A"}},{"$f":"CHOOSE(I105,OFFSET(DetailList!C$1,$C105-1,0),\"PENDING: \"&OFFSET(DetailListPending!C$1,$D105-1,0),\"   REMOVED [\"&OFFSET(Removed!C$1,$E105-1,0)&\"]\")","v":"Parental Responsibility Measures – Attendance "},{"$f":"CHOOSE(I105,OFFSET(DetailList!E$1,$C105-1,0),OFFSET(DetailListPending!E$1,$D105-1,0),OFFSET(Removed!E$1,$E105-1,0))","v":"DfE"},{"$f":"CHOOSE(I105,OFFSET(DetailList!AU$1,$C105-1,0),\"Pending: \"&OFFSET(DetailListPending!AU$1,$D105-1,0),\"REMOVED [\"&OFFSET(Removed!AU$1,$E105-1,0)&\"]\")","v":1},1,true,false]
[null,105,{"$f":"MATCH(B106,DetailList!AZ:AZ,0)","v":{"$error":"#N/A"}},{"$f":"MATCH(B106,DetailListPending!AZ:AZ,0)","v":{"$error":"#N/A"}},{"$f":"MATCH(B106,Removed!AZ$1:AZ$443,0)","v":332},{"$f":"CHOOSE(I106,OFFSET(DetailList!C$1,$C106-1,0),\"PENDING: \"&OFFSET(DetailListPending!C$1,$D106-1,0),\"   REMOVED [\"&OFFSET(Removed!C$1,$E106-1,0)&\"]\")","v":"   REMOVED [Pupil Referral Unit Census]"},{"$f":"CHOOSE(I106,OFFSET(DetailList!E$1,$C106-1,0),OFFSET(DetailListPending!E$1,$D106-1,0),OFFSET(Removed!E$1,$E106-1,0))","v":"DfE"},{"$f":"CHOOSE(I106,OFFSET(DetailList!AU$1,$C106-1,0),\"Pending: \"&OFFSET(DetailListPending!AU$1,$D106-1,0),\"REMOVED [\"&OFFSET(Removed!AU$1,$E106-1,0)&\"]\")","v":"REMOVED [10]"},3,true,false]
[null,106,{"$f":"MATCH(B107,DetailList!AZ:AZ,0)","v":{"$error":"#N/A"}},{"$f":"MATCH(B107,DetailListPending!AZ:AZ,0)","v":{"$error":"#N/A"}},{"$f":"MATCH(B107,Removed!AZ$1:AZ$443,0)","v":17},{"$f":"CHOOSE(I107,OFFSET(DetailList!C$1,$C107-1,0),\"PENDING: \"&OFFSET(DetailListPending!C$1,$D107-1,0),\"   REMOVED [\"&OFFSET(Removed!C$1,$E107-1,0)&\"]\")","v":"   REMOVED [Merged with 105]"},{"$f":"CHOOSE(I107,OFFSET(DetailList!E$1,$C107-1,0),OFFSET(DetailListPending!E$1,$D107-1,0),OFFSET(Removed!E$1,$E107-1,0))","v":"DfE"},{"$f":"CHOOSE(I107,OFFSET(DetailList!AU$1,$C107-1,0),\"Pending: \"&OFFSET(DetailListPending!AU$1,$D107-1,0),\"REMOVED [\"&OFFSET(Removed!AU$1,$E107-1,0)&\"]\")","v":"REMOVED [3]"},3,true,false]
[null,107,{"$f":"MATCH(B108,DetailList!AZ:AZ,0)","v":301},{"$f":"MATCH(B108,DetailListPending!AZ:AZ,0)","v":{"$error":"#N/A"}},{"$f":"MATCH(B108,Removed!AZ$1:AZ$443,0)","v":{"$error":"#N/A"}},{"$f":"CHOOSE(I108,OFFSET(DetailList!C$1,$C108-1,0),\"PENDING: \"&OFFSET(DetailListPending!C$1,$D108-1,0),\"   REMOVED [\"&OFFSET(Removed!C$1,$E108-1,0)&\"]\")","v":"School Admissions Appeals "},{"$f":"CHOOSE(I108,OFFSET(DetailList!E$1,$C108-1,0),OFFSET(DetailListPending!E$1,$D108-1,0),OFFSET(Removed!E$1,$E108-1,0))","v":"DfE"},{"$f":"CHOOSE(I108,OFFSET(DetailList!AU$1,$C108-1,0),\"Pending: \"&OFFSET(DetailListPending!AU$1,$D108-1,0),\"REMOVED [\"&OFFSET(Removed!AU$1,$E108-1,0)&\"]\")","v":1},1,true,false]
[null,108,{"$f":"MATCH(B109,DetailList!AZ:AZ,0)","v":303},{"$f":"MATCH(B109,DetailListPending!AZ:AZ,0)","v":{"$error":"#N/A"}},{"$f":"MATCH(B109,Removed!AZ$1:AZ$443,0)","v":{"$error":"#N/A"}},{"$f":"CHOOSE(I109,OFFSET(DetailList!C$1,$C109-1,0),\"PENDING: \"&OFFSET(DetailListPending!C$1,$D109-1,0),\"   REMOVED [\"&OFFSET(Removed!C$1,$E109-1,0)&\"]\")","v":"School Capacity"},{"$f":"CHOOSE(I109,OFFSET(DetailList!E$1,$C109-1,0),OFFSET(DetailListPending!E$1,$D109-1,0),OFFSET(Removed!E$1,$E109-1,0))","v":"DfE"},{"$f":"CHOOSE(I109,OFFSET(DetailList!AU$1,$C109-1,0),\"Pending: \"&OFFSET(DetailListPending!AU$1,$D109-1,0),\"REMOVED [\"&OFFSET(Removed!AU$1,$E109-1,0)&\"]\")","v":1},1,true,false]
[null,109,{"$f":"MATCH(B110,DetailList!AZ:AZ,0)","v":307},{"$f":"MATCH(B110,DetailListPending!AZ:AZ,0)","v":{"$error":"#N/A"}},{"$f":"MATCH(B110,Removed!AZ$1:AZ$443,0)","v":{"$error":"#N/A"}},{"$f":"CHOOSE(I110,OFFSET(DetailList!C$1,$C110-1,0),\"PENDING: \"&OFFSET(DetailListPending!C$1,$D110-1,0),\"   REMOVED [\"&OFFSET(Removed!C$1,$E110-1,0)&\"]\")","v":"School Exclusion Appeals "},{"$f":"CHOOSE(I110,OFFSET(DetailList!E$1,$C110-1,0),OFFSET(DetailListPending!E$1,$D110-1,0),OFFSET(Removed!E$1,$E110-1,0))","v":"DfE"},{"$f":"CHOOSE(I110,OFFSET(DetailList!AU$1,$C110-1,0),\"Pending: \"&OFFSET(DetailListPending!AU$1,$D110-1,0),\"REMOVED [\"&OFFSET(Removed!AU$1,$E110-1,0)&\"]\")","v":1},1,true,false]
[null,110,{"$f":"MATCH(B111,DetailList!AZ:AZ,0)","v":{"$error":"#N/A"}},{"$f":"MATCH(B111,DetailListPending!AZ:AZ,0)","v":{"$error":"#N/A"}},{"$f":"MATCH(B111,Removed!AZ$1:AZ$443,0)","v":118},{"$f":"CHOOSE(I111,OFFSET(DetailList!C$1,$C111-1,0),\"PENDING: \"&OFFSET(DetailListPending!C$1,$D111-1,0),\"   REMOVED [\"&OFFSET(Removed!C$1,$E111-1,0)&\"]\")","v":"   REMOVED [Merged with 111]"},{"$f":"CHOOSE(I111,OFFSET(DetailList!E$1,$C111-1,0),OFFSET(DetailListPending!E$1,$D111-1,0),OFFSET(Removed!E$1,$E111-1,0))","v":"DfE"},{"$f":"CHOOSE(I111,OFFSET(DetailList!AU$1,$C111-1,0),\"Pending: \"&OFFSET(DetailListPending!AU$1,$D111-1,0),\"REMOVED [\"&OFFSET(Removed!AU$1,$E111-1,0)&\"]\")","v":"REMOVED [1]"},3,true,false]
[null,111,{"$f":"MATCH(B112,DetailList!AZ:AZ,0)","v":309},{"$f":"MATCH(B112,DetailListPending!AZ:AZ,0)","v":{"$error":"#N/A"}},{"$f":"MATCH(B112,Removed!AZ$1:AZ$443,0)","v":{"$error":"#N/A"}},{"$f":"CHOOSE(I112,OFFSET(DetailList!C$1,$C112-1,0),\"PENDING: \"&OFFSET(DetailListPending!C$1,$D112-1,0),\"   REMOVED [\"&OFFSET(Removed!C$1,$E112-1,0)&\"]\")","v":"School Workforce Reviews"},{"$f":"CHOOSE(I112,OFFSET(DetailList!E$1,$C112-1,0),OFFSET(DetailListPending!E$1,$D112-1,0),OFFSET(Removed!E$1,$E112-1,0))","v":"DfE"},{"$f":"CHOOSE(I112,OFFSET(DetailList!AU$1,$C112-1,0),\"Pending: \"&OFFSET(DetailListPending!AU$1,$D112-1,0),\"REMOVED [\"&OFFSET(Removed!AU$1,$E112-1,0)&\"]\")","v":8},1,true,false]
[null,112,{"$f":"MATCH(B113,DetailList!AZ:AZ,0)","v":{"$error":"#N/A"}},{"$f":"MATCH(B113,DetailListPending!AZ:AZ,0)","v":{"$error":"#N/A"}},{"$f":"MATCH(B113,Removed!AZ$1:AZ$443,0)","v":21},{"$f":"CHOOSE(I113,OFFSET(DetailList!C$1,$C113-1,0),\"PENDING: \"&OFFSET(DetailListPending!C$1,$D113-1,0),\"   REMOVED [\"&OFFSET(Removed!C$1,$E113-1,0)&\"]\")","v":"   REMOVED [Merged with 111]"},{"$f":"CHOOSE(I113,OFFSET(DetailList!E$1,$C113-1,0),OFFSET(DetailListPending!E$1,$D113-1,0),OFFSET(Removed!E$1,$E113-1,0))","v":"DfE"},{"$f":"CHOOSE(I113,OFFSET(DetailList!AU$1,$C113-1,0),\"Pending: \"&OFFSET(DetailListPending!AU$1,$D113-1,0),\"REMOVED [\"&OFFSET(Removed!AU$1,$E113-1,0)&\"]\")","v":"REMOVED [5]"},3,true,false]
[null,113,{"$f":"MATCH(B114,DetailList!AZ:AZ,0)","v":318},{"$f":"MATCH(B114,DetailListPending!AZ:AZ,0)","v":{"$error":"#N/A"}},{"$f":"MATCH(B114,Removed!AZ$1:AZ$443,0)","v":{"$error":"#N/A"}},{"$f":"CHOOSE(I114,OFFSET(DetailList!C$1,$C114-1,0),\"PENDING: \"&OFFSET(DetailListPending!C$1,$D114-1,0),\"   REMOVED [\"&OFFSET(Removed!C$1,$E114-1,0)&\"]\")","v":"Section 251 financial return"},{"$f":"CHOOSE(I114,OFFSET(DetailList!E$1,$C114-1,0),OFFSET(DetailListPending!E$1,$D114-1,0),OFFSET(Removed!E$1,$E114-1,0))","v":"DfE"},{"$f":"CHOOSE(I114,OFFSET(DetailList!AU$1,$C114-1,0),\"Pending: \"&OFFSET(DetailListPending!AU$1,$D114-1,0),\"REMOVED [\"&OFFSET(Removed!AU$1,$E114-1,0)&\"]\")","v":5},1,true,false]
[null,114,{"$f":"MATCH(B115,DetailList!AZ:AZ,0)","v":{"$error":"#N/A"}},{"$f":"MATCH(B115,DetailListPending!AZ:AZ,0)","v":{"$error":"#N/A"}},{"$f":"MATCH(B115,Removed!AZ$1:AZ$443,0)","v":265},{"$f":"CHOOSE(I115,OFFSET(DetailList!C$1,$C115-1,0),\"PENDING: \"&OFFSET(DetailListPending!C$1,$D115-1,0),\"   REMOVED [\"&OFFSET(Removed!C$1,$E115-1,0)&\"]\")","v":"   REMOVED [Special Educational Needs – new information needs arising from the Green Paper]"},{"$f":"CHOOSE(I115,OFFSET(DetailList!E$1,$C115-1,0),OFFSET(DetailListPending!E$1,$D115-1,0),OFFSET(Removed!E$1,$E115-1,0))","v":"DfE"},{"$f":"CHOOSE(I115,OFFSET(DetailList!AU$1,$C115-1,0),\"Pending: \"&OFFSET(DetailListPending!AU$1,$D115-1,0),\"REMOVED [\"&OFFSET(Removed!AU$1,$E115-1,0)&\"]\")","v":"REMOVED [1]"},3,true,false]
[null,115,{"$f":"MATCH(B116,DetailList!AZ:AZ,0)","v":{"$error":"#N/A"}},{"$f":"MATCH(B116,DetailListPending!AZ:AZ,0)","v":{"$error":"#N/A"}},{"$f":"MATCH(B116,Removed!AZ$1:AZ$443,0)","v":343},{"$f":"CHOOSE(I116,OFFSET(DetailList!C$1,$C116-1,0),\"PENDING: \"&OFFSET(DetailListPending!C$1,$D116-1,0),\"   REMOVED [\"&OFFSET(Removed!C$1,$E116-1,0)&\"]\")","v":"   REMOVED [Special Educational Needs Statement Completion]"},{"$f":"CHOOSE(I116,OFFSET(DetailList!E$1,$C116-1,0),OFFSET(DetailListPending!E$1,$D116-1,0),OFFSET(Removed!E$1,$E116-1,0))","v":"DfE"},{"$f":"CHOOSE(I116,OFFSET(DetailList!AU$1,$C116-1,0),\"Pending: \"&OFFSET(DetailListPending!AU$1,$D116-1,0),\"REMOVED [\"&OFFSET(Removed!AU$1,$E116-1,0)&\"]\")","v":"REMOVED [1]"},3,true,false]
[null,116,{"$f":"MATCH(B117,DetailList!AZ:AZ,0)","v":{"$error":"#N/A"}},{"$f":"MATCH(B117,DetailListPending!AZ:AZ,0)","v":{"$error":"#N/A"}},{"$f":"MATCH(B117,Removed!AZ$1:AZ$443,0)","v":208},{"$f":"CHOOSE(I117,OFFSET(DetailList!C$1,$C117-1,0),\"PENDING: \"&OFFSET(DetailListPending!C$1,$D117-1,0),\"   REMOVED [\"&OFFSET(Removed!C$1,$E117-1,0)&\"]\")","v":"   REMOVED [Standards Fund monitoring (TO CEASE DURING 2011/12)]"},{"$f":"CHOOSE(I117,OFFSET(DetailList!E$1,$C117-1,0),OFFSET(DetailListPending!E$1,$D117-1,0),OFFSET(Removed!E$1,$E117-1,0))","v":"DfE"},{"$f":"CHOOSE(I117,OFFSET(DetailList!AU$1,$C117-1,0),\"Pending: \"&OFFSET(DetailListPending!AU$1,$D117-1,0),\"REMOVED [\"&OFFSET(Removed!AU$1,$E117-1,0)&\"]\")","v":"REMOVED [1]"},3,true,false]
[null,117,{"$f":"MATCH(B118,DetailList!AZ:AZ,0)","v":324},{"$f":"MATCH(B118,DetailListPending!AZ:AZ,0)","v":{"$error":"#N/A"}},{"$f":"MATCH(B118,Removed!AZ$1:AZ$443,0)","v":{"$error":"#N/A"}},{"$f":"CHOOSE(I118,OFFSET(DetailList!C$1,$C118-1,0),\"PENDING: \"&OFFSET(DetailListPending!C$1,$D118-1,0),\"   REMOVED [\"&OFFSET(Removed!C$1,$E118-1,0)&\"]\")","v":"Teacher Pension Contributions"},{"$f":"CHOOSE(I118,OFFSET(DetailList!E$1,$C118-1,0),OFFSET(DetailListPending!E$1,$D118-1,0),OFFSET(Removed!E$1,$E118-1,0))","v":"DfE"},{"$f":"CHOOSE(I118,OFFSET(DetailList!AU$1,$C118-1,0),\"Pending: \"&OFFSET(DetailListPending!AU$1,$D118-1,0),\"REMOVED [\"&OFFSET(Removed!AU$1,$E118-1,0)&\"]\")","v":1},1,true,false]
[null,118,{"$f":"MATCH(B119,DetailList!AZ:AZ,0)","v":326},{"$f":"MATCH(B119,DetailListPending!AZ:AZ,0)","v":{"$error":"#N/A"}},{"$f":"MATCH(B119,Removed!AZ$1:AZ$443,0)","v":{"$error":"#N/A"}},{"$f":"CHOOSE(I119,OFFSET(DetailList!C$1,$C119-1,0),\"PENDING: \"&OFFSET(DetailListPending!C$1,$D119-1,0),\"   REMOVED [\"&OFFSET(Removed!C$1,$E119-1,0)&\"]\")","v":"Teacher Pension Service"},{"$f":"CHOOSE(I119,OFFSET(DetailList!E$1,$C119-1,0),OFFSET(DetailListPending!E$1,$D119-1,0),OFFSET(Removed!E$1,$E119-1,0))","v":"DfE"},{"$f":"CHOOSE(I119,OFFSET(DetailList!AU$1,$C119-1,0),\"Pending: \"&OFFSET(DetailListPending!AU$1,$D119-1,0),\"REMOVED [\"&OFFSET(Removed!AU$1,$E119-1,0)&\"]\")","v":1},1,true,false]
[null,119,{"$f":"MATCH(B120,DetailList!AZ:AZ,0)","v":328},{"$f":"MATCH(B120,DetailListPending!AZ:AZ,0)","v":{"$error":"#N/A"}},{"$f":"MATCH(B120,Removed!AZ$1:AZ$443,0)","v":{"$error":"#N/A"}},{"$f":"CHOOSE(I120,OFFSET(DetailList!C$1,$C120-1,0),\"PENDING: \"&OFFSET(DetailListPending!C$1,$D120-1,0),\"   REMOVED [\"&OFFSET(Removed!C$1,$E120-1,0)&\"]\")","v":"Young people aged 16-19 (and up to 25 with SEND)"},{"$f":"CHOOSE(I120,OFFSET(DetailList!E$1,$C120-1,0),OFFSET(DetailListPending!E$1,$D120-1,0),OFFSET(Removed!E$1,$E120-1,0))","v":"DfE"},{"$f":"CHOOSE(I120,OFFSET(DetailList!AU$1,$C120-1,0),\"Pending: \"&OFFSET(DetailListPending!AU$1,$D120-1,0),\"REMOVED [\"&OFFSET(Removed!AU$1,$E120-1,0)&\"]\")","v":1},1,true,false]
[null,120,{"$f":"MATCH(B121,DetailList!AZ:AZ,0)","v":330},{"$f":"MATCH(B121,DetailListPending!AZ:AZ,0)","v":{"$error":"#N/A"}},{"$f":"MATCH(B121,Removed!AZ$1:AZ$443,0)","v":{"$error":"#N/A"}},{"$f":"CHOOSE(I121,OFFSET(DetailList!C$1,$C121-1,0),\"PENDING: \"&OFFSET(DetailListPending!C$1,$D121-1,0),\"   REMOVED [\"&OFFSET(Removed!C$1,$E121-1,0)&\"]\")","v":"Chief Finance Officer Sign-Off Statements"},{"$f":"CHOOSE(I121,OFFSET(DetailList!E$1,$C121-1,0),OFFSET(DetailListPending!E$1,$D121-1,0),OFFSET(Removed!E$1,$E121-1,0))","v":"DfE"},{"$f":"CHOOSE(I121,OFFSET(DetailList!AU$1,$C121-1,0),\"Pending: \"&OFFSET(DetailListPending!AU$1,$D121-1,0),\"REMOVED [\"&OFFSET(Removed!AU$1,$E121-1,0)&\"]\")","v":1},1,true,false]
[null,121,{"$f":"MATCH(B122,DetailList!AZ:AZ,0)","v":346},{"$f":"MATCH(B122,DetailListPending!AZ:AZ,0)","v":{"$error":"#N/A"}},{"$f":"MATCH(B122,Removed!AZ$1:AZ$443,0)","v":{"$error":"#N/A"}},{"$f":"CHOOSE(I122,OFFSET(DetailList!C$1,$C122-1,0),\"PENDING: \"&OFFSET(DetailListPending!C$1,$D122-1,0),\"   REMOVED [\"&OFFSET(Removed!C$1,$E122-1,0)&\"]\")","v":"Concessionary Travel Survey"},{"$f":"CHOOSE(I122,OFFSET(DetailList!E$1,$C122-1,0),OFFSET(DetailListPending!E$1,$D122-1,0),OFFSET(Removed!E$1,$E122-1,0))","v":"DfT"},{"$f":"CHOOSE(I122,OFFSET(DetailList!AU$1,$C122-1,0),\"Pending: \"&OFFSET(DetailListPending!AU$1,$D122-1,0),\"REMOVED [\"&OFFSET(Removed!AU$1,$E122-1,0)&\"]\")","v":6},1,true,false]
[null,122,{"$f":"MATCH(B123,DetailList!AZ:AZ,0)","v":353},{"$f":"MATCH(B123,DetailListPending!AZ:AZ,0)","v":{"$error":"#N/A"}},{"$f":"MATCH(B123,Removed!AZ$1:AZ$443,0)","v":{"$error":"#N/A"}},{"$f":"CHOOSE(I123,OFFSET(DetailList!C$1,$C123-1,0),\"PENDING: \"&OFFSET(DetailListPending!C$1,$D123-1,0),\"   REMOVED [\"&OFFSET(Removed!C$1,$E123-1,0)&\"]\")","v":"Local bus punctuality"},{"$f":"CHOOSE(I123,OFFSET(DetailList!E$1,$C123-1,0),OFFSET(DetailListPending!E$1,$D123-1,0),OFFSET(Removed!E$1,$E123-1,0))","v":"DfT"},{"$f":"CHOOSE(I123,OFFSET(DetailList!AU$1,$C123-1,0),\"Pending: \"&OFFSET(DetailListPending!AU$1,$D123-1,0),\"REMOVED [\"&OFFSET(Removed!AU$1,$E123-1,0)&\"]\")","v":2},1,true,false]
[null,123,{"$f":"MATCH(B124,DetailList!AZ:AZ,0)","v":{"$error":"#N/A"}},{"$f":"MATCH(B124,DetailListPending!AZ:AZ,0)","v":{"$error":"#N/A"}},{"$f":"MATCH(B124,Removed!AZ$1:AZ$443,0)","v":31},{"$f":"CHOOSE(I124,OFFSET(DetailList!C$1,$C124-1,0),\"PENDING: \"&OFFSET(DetailListPending!C$1,$D124-1,0),\"   REMOVED [\"&OFFSET(Removed!C$1,$E124-1,0)&\"]\")","v":"   REMOVED [PSV Bus and Coach Operators Survey]"},{"$f":"CHOOSE(I124,OFFSET(DetailList!E$1,$C124-1,0),OFFSET(DetailListPending!E$1,$D124-1,0),OFFSET(Removed!E$1,$E124-1,0))","v":"DfT"},{"$f":"CHOOSE(I124,OFFSET(DetailList!AU$1,$C124-1,0),\"Pending: \"&OFFSET(DetailListPending!AU$1,$D124-1,0),\"REMOVED [\"&OFFSET(Removed!AU$1,$E124-1,0)&\"]\")","v":"REMOVED [7]"},3,true,false]
[null,124,{"$f":"MATCH(B125,DetailList!AZ:AZ,0)","v":{"$error":"#N/A"}},{"$f":"MATCH(B125,DetailListPending!AZ:AZ,0)","v":{"$error":"#N/A"}},{"$f":"MATCH(B125,Removed!AZ$1:AZ$443,0)","v":162},{"$f":"CHOOSE(I125,OFFSET(DetailList!C$1,$C125-1,0),\"PENDING: \"&OFFSET(DetailListPending!C$1,$D125-1,0),\"   REMOVED [\"&OFFSET(Removed!C$1,$E125-1,0)&\"]\")","v":"   REMOVED [Standard bus permits]"},{"$f":"CHOOSE(I125,OFFSET(DetailList!E$1,$C125-1,0),OFFSET(DetailListPending!E$1,$D125-1,0),OFFSET(Removed!E$1,$E125-1,0))","v":"DfT/TC"},{"$f":"CHOOSE(I125,OFFSET(DetailList!AU$1,$C125-1,0),\"Pending: \"&OFFSET(DetailListPending!AU$1,$D125-1,0),\"REMOVED [\"&OFFSET(Removed!AU$1,$E125-1,0)&\"]\")","v":"REMOVED [1]"},3,true,false]
[null,125,{"$f":"MATCH(B126,DetailList!AZ:AZ,0)","v":356},{"$f":"MATCH(B126,DetailListPending!AZ:AZ,0)","v":{"$error":"#N/A"}},{"$f":"MATCH(B126,Removed!AZ$1:AZ$443,0)","v":{"$error":"#N/A"}},{"$f":"CHOOSE(I126,OFFSET(DetailList!C$1,$C126-1,0),\"PENDING: \"&OFFSET(DetailListPending!C$1,$D126-1,0),\"   REMOVED [\"&OFFSET(Removed!C$1,$E126-1,0)&\"]\")","v":"Taxi Survey"},{"$f":"CHOOSE(I126,OFFSET(DetailList!E$1,$C126-1,0),OFFSET(DetailListPending!E$1,$D126-1,0),OFFSET(Removed!E$1,$E126-1,0))","v":"DfT"},{"$f":"CHOOSE(I126,OFFSET(DetailList!AU$1,$C126-1,0),\"Pending: \"&OFFSET(DetailListPending!AU$1,$D126-1,0),\"REMOVED [\"&OFFSET(Removed!AU$1,$E126-1,0)&\"]\")","v":7},1,true,false]
[null,126,{"$f":"MATCH(B127,DetailList!AZ:AZ,0)","v":{"$error":"#N/A"}},{"$f":"MATCH(B127,DetailListPending!AZ:AZ,0)","v":{"$error":"#N/A"}},{"$f":"MATCH(B127,Removed!AZ$1:AZ$443,0)","v":71},{"$f":"CHOOSE(I127,OFFSET(DetailList!C$1,$C127-1,0),\"PENDING: \"&OFFSET(DetailListPending!C$1,$D127-1,0),\"   REMOVED [\"&OFFSET(Removed!C$1,$E127-1,0)&\"]\")","v":"   REMOVED [Bikeability]"},{"$f":"CHOOSE(I127,OFFSET(DetailList!E$1,$C127-1,0),OFFSET(DetailListPending!E$1,$D127-1,0),OFFSET(Removed!E$1,$E127-1,0))","v":"DfT"},{"$f":"CHOOSE(I127,OFFSET(DetailList!AU$1,$C127-1,0),\"Pending: \"&OFFSET(DetailListPending!AU$1,$D127-1,0),\"REMOVED [\"&OFFSET(Removed!AU$1,$E127-1,0)&\"]\")","v":"REMOVED [7]"},3,true,false]
[null,127,{"$f":"MATCH(B128,DetailList!AZ:AZ,0)","v":364},{"$f":"MATCH(B128,DetailListPending!AZ:AZ,0)","v":{"$error":"#N/A"}},{"$f":"MATCH(B128,Removed!AZ$1:AZ$443,0)","v":{"$error":"#N/A"}},{"$f":"CHOOSE(I128,OFFSET(DetailList!C$1,$C128-1,0),\"PENDING: \"&OFFSET(DetailListPending!C$1,$D128-1,0),\"   REMOVED [\"&OFFSET(Removed!C$1,$E128-1,0)&\"]\")","v":"Blue Badge Parking Survey"},{"$f":"CHOOSE(I128,OFFSET(DetailList!E$1,$C128-1,0),OFFSET(DetailListPending!E$1,$D128-1,0),OFFSET(Removed!E$1,$E128-1,0))","v":"DfT"},{"$f":"CHOOSE(I128,OFFSET(DetailList!AU$1,$C128-1,0),\"Pending: \"&OFFSET(DetailListPending!AU$1,$D128-1,0),\"REMOVED [\"&OFFSET(Removed!AU$1,$E128-1,0)&\"]\")","v":1},1,true,false]
[null,128,{"$f":"MATCH(B129,DetailList!AZ:AZ,0)","v":{"$error":"#N/A"}},{"$f":"MATCH(B129,DetailListPending!AZ:AZ,0)","v":{"$error":"#N/A"}},{"$f":"MATCH(B129,Removed!AZ$1:AZ$443,0)","v":285},{"$f":"CHOOSE(I129,OFFSET(DetailList!C$1,$C129-1,0),\"PENDING: \"&OFFSET(DetailListPending!C$1,$D129-1,0),\"   REMOVED [\"&OFFSET(Removed!C$1,$E129-1,0)&\"]\")","v":"   REMOVED [Civil Parking Enforcement Survey]"},{"$f":"CHOOSE(I129,OFFSET(DetailList!E$1,$C129-1,0),OFFSET(DetailListPending!E$1,$D129-1,0),OFFSET(Removed!E$1,$E129-1,0))","v":"DfT"},{"$f":"CHOOSE(I129,OFFSET(DetailList!AU$1,$C129-1,0),\"Pending: \"&OFFSET(DetailListPending!AU$1,$D129-1,0),\"REMOVED [\"&OFFSET(Removed!AU$1,$E129-1,0)&\"]\")","v":"REMOVED [3]"},3,true,false]
[null,129,{"$f":"MATCH(B130,DetailList!AZ:AZ,0)","v":366},{"$f":"MATCH(B130,DetailListPending!AZ:AZ,0)","v":{"$error":"#N/A"}},{"$f":"MATCH(B130,Removed!AZ$1:AZ$443,0)","v":{"$error":"#N/A"}},{"$f":"CHOOSE(I130,OFFSET(DetailList!C$1,$C130-1,0),\"PENDING: \"&OFFSET(DetailListPending!C$1,$D130-1,0),\"   REMOVED [\"&OFFSET(Removed!C$1,$E130-1,0)&\"]\")","v":"Highway inventory data "},{"$f":"CHOOSE(I130,OFFSET(DetailList!E$1,$C130-1,0),OFFSET(DetailListPending!E$1,$D130-1,0),OFFSET(Removed!E$1,$E130-1,0))","v":"DfT"},{"$f":"CHOOSE(I130,OFFSET(DetailList!AU$1,$C130-1,0),\"Pending: \"&OFFSET(DetailListPending!AU$1,$D130-1,0),\"REMOVED [\"&OFFSET(Removed!AU$1,$E130-1,0)&\"]\")","v":1},{"$f":"IF(ISNUMBER(C130),1,IF(ISNUMBER(D130),2,IF(ISNUMBER(E130),3,NA())))","v":1},true,false]
[null,130,{"$f":"MATCH(B131,DetailList!AZ:AZ,0)","v":370},{"$f":"MATCH(B131,DetailListPending!AZ:AZ,0)","v":{"$error":"#N/A"}},{"$f":"MATCH(B131,Removed!AZ$1:AZ$443,0)","v":{"$error":"#N/A"}},{"$f":"CHOOSE(I131,OFFSET(DetailList!C$1,$C131-1,0),\"PENDING: \"&OFFSET(DetailListPending!C$1,$D131-1,0),\"   REMOVED [\"&OFFSET(Removed!C$1,$E131-1,0)&\"]\")","v":"Road condition data"},{"$f":"CHOOSE(I131,OFFSET(DetailList!E$1,$C131-1,0),OFFSET(DetailListPending!E$1,$D131-1,0),OFFSET(Removed!E$1,$E131-1,0))","v":"DfT"},{"$f":"CHOOSE(I131,OFFSET(DetailList!AU$1,$C131-1,0),\"Pending: \"&OFFSET(DetailListPending!AU$1,$D131-1,0),\"REMOVED [\"&OFFSET(Removed!AU$1,$E131-1,0)&\"]\")","v":4},1,{"$f":"NOT(ISNA(I131))","v":true},{"$f":"AND(J131,COUNTIF(C131:E131,NA())<>2)","v":false}]
[null,131,{"$f":"MATCH(B132,DetailList!AZ:AZ,0)","v":{"$error":"#N/A"}},{"$f":"MATCH(B132,DetailListPending!AZ:AZ,0)","v":{"$error":"#N/A"}},{"$f":"MATCH(B132,Removed!AZ$1:AZ$443,0)","v":110},{"$f":"CHOOSE(I132,OFFSET(DetailList!C$1,$C132-1,0),\"PENDING: \"&OFFSET(DetailListPending!C$1,$D132-1,0),\"   REMOVED [\"&OFFSET(Removed!C$1,$E132-1,0)&\"]\")","v":"   REMOVED [Major transport scheme spend]"},{"$f":"CHOOSE(I132,OFFSET(DetailList!E$1,$C132-1,0),OFFSET(DetailListPending!E$1,$D132-1,0),OFFSET(Removed!E$1,$E132-1,0))","v":"DfT"},{"$f":"CHOOSE(I132,OFFSET(DetailList!AU$1,$C132-1,0),\"Pending: \"&OFFSET(DetailListPending!AU$1,$D132-1,0),\"REMOVED [\"&OFFSET(Removed!AU$1,$E132-1,0)&\"]\")","v":"REMOVED [1]"},3,true,false]
[null,132,{"$f":"MATCH(B133,DetailList!AZ:AZ,0)","v":375},{"$f":"MATCH(B133,DetailListPending!AZ:AZ,0)","v":{"$error":"#N/A"}},{"$f":"MATCH(B133,Removed!AZ$1:AZ$443,0)","v":{"$error":"#N/A"}},{"$f":"CHOOSE(I133,OFFSET(DetailList!C$1,$C133-1,0),\"PENDING: \"&OFFSET(DetailListPending!C$1,$D133-1,0),\"   REMOVED [\"&OFFSET(Removed!C$1,$E133-1,0)&\"]\")","v":"Road Lengths Survey"},{"$f":"CHOOSE(I133,OFFSET(DetailList!E$1,$C133-1,0),OFFSET(DetailListPending!E$1,$D133-1,0),OFFSET(Removed!E$1,$E133-1,0))","v":"DfT"},{"$f":"CHOOSE(I133,OFFSET(DetailList!AU$1,$C133-1,0),\"Pending: \"&OFFSET(DetailListPending!AU$1,$D133-1,0),\"REMOVED [\"&OFFSET(Removed!AU$1,$E133-1,0)&\"]\")","v":1},1,true,false]
[null,133,{"$f":"MATCH(B134,DetailList!AZ:AZ,0)","v":{"$error":"#N/A"}},{"$f":"MATCH(B134,DetailListPending!AZ:AZ,0)","v":{"$error":"#N/A"}},{"$f":"MATCH(B134,Removed!AZ$1:AZ$443,0)","v":297},{"$f":"CHOOSE(I134,OFFSET(DetailList!C$1,$C134-1,0),\"PENDING: \"&OFFSET(DetailListPending!C$1,$D134-1,0),\"   REMOVED [\"&OFFSET(Removed!C$1,$E134-1,0)&\"]\")","v":"   REMOVED [Personal Social Services Expenditure (PSSEX1) return]"},{"$f":"CHOOSE(I134,OFFSET(DetailList!E$1,$C134-1,0),OFFSET(DetailListPending!E$1,$D134-1,0),OFFSET(Removed!E$1,$E134-1,0))","v":"DH/HSCIC"},{"$f":"CHOOSE(I134,OFFSET(DetailList!AU$1,$C134-1,0),\"Pending: \"&OFFSET(DetailListPending!AU$1,$D134-1,0),\"REMOVED [\"&OFFSET(Removed!AU$1,$E134-1,0)&\"]\")","v":"REMOVED [2]"},3,true,false]
[null,134,{"$f":"MATCH(B135,DetailList!AZ:AZ,0)","v":{"$error":"#N/A"}},{"$f":"MATCH(B135,DetailListPending!AZ:AZ,0)","v":{"$error":"#N/A"}},{"$f":"MATCH(B135,Removed!AZ$1:AZ$443,0)","v":300},{"$f":"CHOOSE(I135,OFFSET(DetailList!C$1,$C135-1,0),\"PENDING: \"&OFFSET(DetailListPending!C$1,$D135-1,0),\"   REMOVED [\"&OFFSET(Removed!C$1,$E135-1,0)&\"]\")","v":"   REMOVED [Referrals, Assessments and Packages of Care (RAP)]"},{"$f":"CHOOSE(I135,OFFSET(DetailList!E$1,$C135-1,0),OFFSET(DetailListPending!E$1,$D135-1,0),OFFSET(Removed!E$1,$E135-1,0))","v":"DH/HSCIC"},{"$f":"CHOOSE(I135,OFFSET(DetailList!AU$1,$C135-1,0),\"Pending: \"&OFFSET(DetailListPending!AU$1,$D135-1,0),\"REMOVED [\"&OFFSET(Removed!AU$1,$E135-1,0)&\"]\")","v":"REMOVED [16]"},3,true,false]
[null,135,{"$f":"MATCH(B136,DetailList!AZ:AZ,0)","v":384},{"$f":"MATCH(B136,DetailListPending!AZ:AZ,0)","v":{"$error":"#N/A"}},{"$f":"MATCH(B136,Removed!AZ$1:AZ$443,0)","v":{"$error":"#N/A"}},{"$f":"CHOOSE(I136,OFFSET(DetailList!C$1,$C136-1,0),\"PENDING: \"&OFFSET(DetailListPending!C$1,$D136-1,0),\"   REMOVED [\"&OFFSET(Removed!C$1,$E136-1,0)&\"]\")","v":"Adult Social Care Survey (ASCS)"},{"$f":"CHOOSE(I136,OFFSET(DetailList!E$1,$C136-1,0),OFFSET(DetailListPending!E$1,$D136-1,0),OFFSET(Removed!E$1,$E136-1,0))","v":"DHSC/NHSE"},{"$f":"CHOOSE(I136,OFFSET(DetailList!AU$1,$C136-1,0),\"Pending: \"&OFFSET(DetailListPending!AU$1,$D136-1,0),\"REMOVED [\"&OFFSET(Removed!AU$1,$E136-1,0)&\"]\")","v":2},1,true,false]
[null,136,{"$f":"MATCH(B137,DetailList!AZ:AZ,0)","v":{"$error":"#N/A"}},{"$f":"MATCH(B137,DetailListPending!AZ:AZ,0)","v":{"$error":"#N/A"}},{"$f":"MATCH(B137,Removed!AZ$1:AZ$443,0)","v":317},{"$f":"CHOOSE(I137,OFFSET(DetailList!C$1,$C137-1,0),\"PENDING: \"&OFFSET(DetailListPending!C$1,$D137-1,0),\"   REMOVED [\"&OFFSET(Removed!C$1,$E137-1,0)&\"]\")","v":"   REMOVED [Adult Social Care Combined Activity Return (ASC-CAR)]"},{"$f":"CHOOSE(I137,OFFSET(DetailList!E$1,$C137-1,0),OFFSET(DetailListPending!E$1,$D137-1,0),OFFSET(Removed!E$1,$E137-1,0))","v":"DH/HSCIC"},{"$f":"CHOOSE(I137,OFFSET(DetailList!AU$1,$C137-1,0),\"Pending: \"&OFFSET(DetailListPending!AU$1,$D137-1,0),\"REMOVED [\"&OFFSET(Removed!AU$1,$E137-1,0)&\"]\")","v":"REMOVED [6]"},3,true,false]
[null,137,{"$f":"MATCH(B138,DetailList!AZ:AZ,0)","v":{"$error":"#N/A"}},{"$f":"MATCH(B138,DetailListPending!AZ:AZ,0)","v":{"$error":"#N/A"}},{"$f":"MATCH(B138,Removed!AZ$1:AZ$443,0)","v":345},{"$f":"CHOOSE(I138,OFFSET(DetailList!C$1,$C138-1,0),\"PENDING: \"&OFFSET(DetailListPending!C$1,$D138-1,0),\"   REMOVED [\"&OFFSET(Removed!C$1,$E138-1,0)&\"]\")","v":"   REMOVED [Abuse of Vulnerable Adults (AVA) return]"},{"$f":"CHOOSE(I138,OFFSET(DetailList!E$1,$C138-1,0),OFFSET(DetailListPending!E$1,$D138-1,0),OFFSET(Removed!E$1,$E138-1,0))","v":"DH/HSCIC"},{"$f":"CHOOSE(I138,OFFSET(DetailList!AU$1,$C138-1,0),\"Pending: \"&OFFSET(DetailListPending!AU$1,$D138-1,0),\"REMOVED [\"&OFFSET(Removed!AU$1,$E138-1,0)&\"]\")","v":"REMOVED [15]"},3,true,false]
[null,138,{"$f":"MATCH(B139,DetailList!AZ:AZ,0)","v":387},{"$f":"MATCH(B139,DetailListPending!AZ:AZ,0)","v":{"$error":"#N/A"}},{"$f":"MATCH(B139,Removed!AZ$1:AZ$443,0)","v":{"$error":"#N/A"}},{"$f":"CHOOSE(I139,OFFSET(DetailList!C$1,$C139-1,0),\"PENDING: \"&OFFSET(DetailListPending!C$1,$D139-1,0),\"   REMOVED [\"&OFFSET(Removed!C$1,$E139-1,0)&\"]\")","v":"Mental Health Guardianship (SSDA702) return"},{"$f":"CHOOSE(I139,OFFSET(DetailList!E$1,$C139-1,0),OFFSET(DetailListPending!E$1,$D139-1,0),OFFSET(Removed!E$1,$E139-1,0))","v":"DHSC/NHSE"},{"$f":"CHOOSE(I139,OFFSET(DetailList!AU$1,$C139-1,0),\"Pending: \"&OFFSET(DetailListPending!AU$1,$D139-1,0),\"REMOVED [\"&OFFSET(Removed!AU$1,$E139-1,0)&\"]\")","v":1},1,true,false]
[null,139,{"$f":"MATCH(B140,DetailList!AZ:AZ,0)","v":389},{"$f":"MATCH(B140,DetailListPending!AZ:AZ,0)","v":{"$error":"#N/A"}},{"$f":"MATCH(B140,Removed!AZ$1:AZ$443,0)","v":{"$error":"#N/A"}},{"$f":"CHOOSE(I140,OFFSET(DetailList!C$1,$C140-1,0),\"PENDING: \"&OFFSET(DetailListPending!C$1,$D140-1,0),\"   REMOVED [\"&OFFSET(Removed!C$1,$E140-1,0)&\"]\")","v":"Deprivation of Liberty Safeguards (DoLS) Return"},{"$f":"CHOOSE(I140,OFFSET(DetailList!E$1,$C140-1,0),OFFSET(DetailListPending!E$1,$D140-1,0),OFFSET(Removed!E$1,$E140-1,0))","v":"DHSC/NHSE"},{"$f":"CHOOSE(I140,OFFSET(DetailList!AU$1,$C140-1,0),\"Pending: \"&OFFSET(DetailListPending!AU$1,$D140-1,0),\"REMOVED [\"&OFFSET(Removed!AU$1,$E140-1,0)&\"]\")","v":1},1,true,false]
[null,140,{"$f":"MATCH(B141,DetailList!AZ:AZ,0)","v":391},{"$f":"MATCH(B141,DetailListPending!AZ:AZ,0)","v":{"$error":"#N/A"}},{"$f":"MATCH(B141,Removed!AZ$1:AZ$443,0)","v":{"$error":"#N/A"}},{"$f":"CHOOSE(I141,OFFSET(DetailList!C$1,$C141-1,0),\"PENDING: \"&OFFSET(DetailListPending!C$1,$D141-1,0),\"   REMOVED [\"&OFFSET(Removed!C$1,$E141-1,0)&\"]\")","v":"Survey of Adult Carers in England (SACE)"},{"$f":"CHOOSE(I141,OFFSET(DetailList!E$1,$C141-1,0),OFFSET(DetailListPending!E$1,$D141-1,0),OFFSET(Removed!E$1,$E141-1,0))","v":"DHSC/NHSE"},{"$f":"CHOOSE(I141,OFFSET(DetailList!AU$1,$C141-1,0),\"Pending: \"&OFFSET(DetailListPending!AU$1,$D141-1,0),\"REMOVED [\"&OFFSET(Removed!AU$1,$E141-1,0)&\"]\")","v":2},1,true,false]
[null,141,{"$f":"MATCH(B142,DetailList!AZ:AZ,0)","v":{"$error":"#N/A"}},{"$f":"MATCH(B142,DetailListPending!AZ:AZ,0)","v":{"$error":"#N/A"}},{"$f":"MATCH(B142,Removed!AZ$1:AZ$443,0)","v":65},{"$f":"CHOOSE(I142,OFFSET(DetailList!C$1,$C142-1,0),\"PENDING: \"&OFFSET(DetailListPending!C$1,$D142-1,0),\"   REMOVED [\"&OFFSET(Removed!C$1,$E142-1,0)&\"]\")","v":"   REMOVED [Capturing Regulatory Information on a Local Level (CRILL)]"},{"$f":"CHOOSE(I142,OFFSET(DetailList!E$1,$C142-1,0),OFFSET(DetailListPending!E$1,$D142-1,0),OFFSET(Removed!E$1,$E142-1,0))","v":"DH"},{"$f":"CHOOSE(I142,OFFSET(DetailList!AU$1,$C142-1,0),\"Pending: \"&OFFSET(DetailListPending!AU$1,$D142-1,0),\"REMOVED [\"&OFFSET(Removed!AU$1,$E142-1,0)&\"]\")","v":"REMOVED [1]"},3,true,false]
[null,142,{"$f":"MATCH(B143,DetailList!AZ:AZ,0)","v":394},{"$f":"MATCH(B143,DetailListPending!AZ:AZ,0)","v":{"$error":"#N/A"}},{"$f":"MATCH(B143,Removed!AZ$1:AZ$443,0)","v":{"$error":"#N/A"}},{"$f":"CHOOSE(I143,OFFSET(DetailList!C$1,$C143-1,0),\"PENDING: \"&OFFSET(DetailListPending!C$1,$D143-1,0),\"   REMOVED [\"&OFFSET(Removed!C$1,$E143-1,0)&\"]\")","v":"Adult Social Care Workforce Data Set (ASC-WDS) "},{"$f":"CHOOSE(I143,OFFSET(DetailList!E$1,$C143-1,0),OFFSET(DetailListPending!E$1,$D143-1,0),OFFSET(Removed!E$1,$E143-1,0))","v":"DHSC/SfC"},{"$f":"CHOOSE(I143,OFFSET(DetailList!AU$1,$C143-1,0),\"Pending: \"&OFFSET(DetailListPending!AU$1,$D143-1,0),\"REMOVED [\"&OFFSET(Removed!AU$1,$E143-1,0)&\"]\")","v":1},1,true,false]
[null,143,{"$f":"MATCH(B144,DetailList!AZ:AZ,0)","v":{"$error":"#N/A"}},{"$f":"MATCH(B144,DetailListPending!AZ:AZ,0)","v":{"$error":"#N/A"}},{"$f":"MATCH(B144,Removed!AZ$1:AZ$443,0)","v":167},{"$f":"CHOOSE(I144,OFFSET(DetailList!C$1,$C144-1,0),\"PENDING: \"&OFFSET(DetailListPending!C$1,$D144-1,0),\"   REMOVED [\"&OFFSET(Removed!C$1,$E144-1,0)&\"]\")","v":"   REMOVED [Health protection Part 2A Order notifications]"},{"$f":"CHOOSE(I144,OFFSET(DetailList!E$1,$C144-1,0),OFFSET(DetailListPending!E$1,$D144-1,0),OFFSET(Removed!E$1,$E144-1,0))","v":"DH/HPA"},{"$f":"CHOOSE(I144,OFFSET(DetailList!AU$1,$C144-1,0),\"Pending: \"&OFFSET(DetailListPending!AU$1,$D144-1,0),\"REMOVED [\"&OFFSET(Removed!AU$1,$E144-1,0)&\"]\")","v":"REMOVED [1]"},3,true,false]
[null,144,{"$f":"MATCH(B145,DetailList!AZ:AZ,0)","v":396},{"$f":"MATCH(B145,DetailListPending!AZ:AZ,0)","v":{"$error":"#N/A"}},{"$f":"MATCH(B145,Removed!AZ$1:AZ$443,0)","v":{"$error":"#N/A"}},{"$f":"CHOOSE(I145,OFFSET(DetailList!C$1,$C145-1,0),\"PENDING: \"&OFFSET(DetailListPending!C$1,$D145-1,0),\"   REMOVED [\"&OFFSET(Removed!C$1,$E145-1,0)&\"]\")","v":"Register of blind and partially sighted people (SSDA902)"},{"$f":"CHOOSE(I145,OFFSET(DetailList!E$1,$C145-1,0),OFFSET(DetailListPending!E$1,$D145-1,0),OFFSET(Removed!E$1,$E145-1,0))","v":"DHSC/NHSE"},{"$f":"CHOOSE(I145,OFFSET(DetailList!AU$1,$C145-1,0),\"Pending: \"&OFFSET(DetailListPending!AU$1,$D145-1,0),\"REMOVED [\"&OFFSET(Removed!AU$1,$E145-1,0)&\"]\")","v":3},1,true,false]
[null,145,{"$f":"MATCH(B146,DetailList!AZ:AZ,0)","v":{"$error":"#N/A"}},{"$f":"MATCH(B146,DetailListPending!AZ:AZ,0)","v":{"$error":"#N/A"}},{"$f":"MATCH(B146,Removed!AZ$1:AZ$443,0)","v":10},{"$f":"CHOOSE(I146,OFFSET(DetailList!C$1,$C146-1,0),\"PENDING: \"&OFFSET(DetailListPending!C$1,$D146-1,0),\"   REMOVED [\"&OFFSET(Removed!C$1,$E146-1,0)&\"]\")","v":"   REMOVED [National Child Measurement Programme]"},{"$f":"CHOOSE(I146,OFFSET(DetailList!E$1,$C146-1,0),OFFSET(DetailListPending!E$1,$D146-1,0),OFFSET(Removed!E$1,$E146-1,0))","v":"DH"},{"$f":"CHOOSE(I146,OFFSET(DetailList!AU$1,$C146-1,0),\"Pending: \"&OFFSET(DetailListPending!AU$1,$D146-1,0),\"REMOVED [\"&OFFSET(Removed!AU$1,$E146-1,0)&\"]\")","v":"REMOVED [1]"},3,true,false]
[null,146,{"$f":"MATCH(B147,DetailList!AZ:AZ,0)","v":440},{"$f":"MATCH(B147,DetailListPending!AZ:AZ,0)","v":{"$error":"#N/A"}},{"$f":"MATCH(B147,Removed!AZ$1:AZ$443,0)","v":{"$error":"#N/A"}},{"$f":"CHOOSE(I147,OFFSET(DetailList!C$1,$C147-1,0),\"PENDING: \"&OFFSET(DetailListPending!C$1,$D147-1,0),\"   REMOVED [\"&OFFSET(Removed!C$1,$E147-1,0)&\"]\")","v":"Single Housing Benefit Extract (SHBE)"},{"$f":"CHOOSE(I147,OFFSET(DetailList!E$1,$C147-1,0),OFFSET(DetailListPending!E$1,$D147-1,0),OFFSET(Removed!E$1,$E147-1,0))","v":"DWP"},{"$f":"CHOOSE(I147,OFFSET(DetailList!AU$1,$C147-1,0),\"Pending: \"&OFFSET(DetailListPending!AU$1,$D147-1,0),\"REMOVED [\"&OFFSET(Removed!AU$1,$E147-1,0)&\"]\")","v":16},1,true,false]
[null,147,{"$f":"MATCH(B148,DetailList!AZ:AZ,0)","v":457},{"$f":"MATCH(B148,DetailListPending!AZ:AZ,0)","v":{"$error":"#N/A"}},{"$f":"MATCH(B148,Removed!AZ$1:AZ$443,0)","v":{"$error":"#N/A"}},{"$f":"CHOOSE(I148,OFFSET(DetailList!C$1,$C148-1,0),\"PENDING: \"&OFFSET(DetailListPending!C$1,$D148-1,0),\"   REMOVED [\"&OFFSET(Removed!C$1,$E148-1,0)&\"]\")","v":"Housing Benefits Recoveries Return"},{"$f":"CHOOSE(I148,OFFSET(DetailList!E$1,$C148-1,0),OFFSET(DetailListPending!E$1,$D148-1,0),OFFSET(Removed!E$1,$E148-1,0))","v":"DWP"},{"$f":"CHOOSE(I148,OFFSET(DetailList!AU$1,$C148-1,0),\"Pending: \"&OFFSET(DetailListPending!AU$1,$D148-1,0),\"REMOVED [\"&OFFSET(Removed!AU$1,$E148-1,0)&\"]\")","v":1},1,true,false]
[null,148,{"$f":"MATCH(B149,DetailList!AZ:AZ,0)","v":459},{"$f":"MATCH(B149,DetailListPending!AZ:AZ,0)","v":{"$error":"#N/A"}},{"$f":"MATCH(B149,Removed!AZ$1:AZ$443,0)","v":{"$error":"#N/A"}},{"$f":"CHOOSE(I149,OFFSET(DetailList!C$1,$C149-1,0),\"PENDING: \"&OFFSET(DetailListPending!C$1,$D149-1,0),\"   REMOVED [\"&OFFSET(Removed!C$1,$E149-1,0)&\"]\")","v":"Returns on outcome of DWP data-matching referrals on HB claims"},{"$f":"CHOOSE(I149,OFFSET(DetailList!E$1,$C149-1,0),OFFSET(DetailListPending!E$1,$D149-1,0),OFFSET(Removed!E$1,$E149-1,0))","v":"DWP"},{"$f":"CHOOSE(I149,OFFSET(DetailList!AU$1,$C149-1,0),\"Pending: \"&OFFSET(DetailListPending!AU$1,$D149-1,0),\"REMOVED [\"&OFFSET(Removed!AU$1,$E149-1,0)&\"]\")","v":1},1,true,false]
[null,149,{"$f":"MATCH(B150,DetailList!AZ:AZ,0)","v":{"$error":"#N/A"}},{"$f":"MATCH(B150,DetailListPending!AZ:AZ,0)","v":{"$error":"#N/A"}},{"$f":"MATCH(B150,Removed!AZ$1:AZ$443,0)","v":395},{"$f":"CHOOSE(I150,OFFSET(DetailList!C$1,$C150-1,0),\"PENDING: \"&OFFSET(DetailListPending!C$1,$D150-1,0),\"   REMOVED [\"&OFFSET(Removed!C$1,$E150-1,0)&\"]\")","v":"   REMOVED [Returns on individual HB related prosecutions and sanctions]"},{"$f":"CHOOSE(I150,OFFSET(DetailList!E$1,$C150-1,0),OFFSET(DetailListPending!E$1,$D150-1,0),OFFSET(Removed!E$1,$E150-1,0))","v":"DWP"},{"$f":"CHOOSE(I150,OFFSET(DetailList!AU$1,$C150-1,0),\"Pending: \"&OFFSET(DetailListPending!AU$1,$D150-1,0),\"REMOVED [\"&OFFSET(Removed!AU$1,$E150-1,0)&\"]\")","v":"REMOVED [1]"},3,true,false]
[null,150,{"$f":"MATCH(B151,DetailList!AZ:AZ,0)","v":461},{"$f":"MATCH(B151,DetailListPending!AZ:AZ,0)","v":{"$error":"#N/A"}},{"$f":"MATCH(B151,Removed!AZ$1:AZ$443,0)","v":{"$error":"#N/A"}},{"$f":"CHOOSE(I151,OFFSET(DetailList!C$1,$C151-1,0),\"PENDING: \"&OFFSET(DetailListPending!C$1,$D151-1,0),\"   REMOVED [\"&OFFSET(Removed!C$1,$E151-1,0)&\"]\")","v":"Housing Benefit (HB)  subsidy estimates and claims"},{"$f":"CHOOSE(I151,OFFSET(DetailList!E$1,$C151-1,0),OFFSET(DetailListPending!E$1,$D151-1,0),OFFSET(Removed!E$1,$E151-1,0))","v":"DWP"},{"$f":"CHOOSE(I151,OFFSET(DetailList!AU$1,$C151-1,0),\"Pending: \"&OFFSET(DetailListPending!AU$1,$D151-1,0),\"REMOVED [\"&OFFSET(Removed!AU$1,$E151-1,0)&\"]\")","v":1},1,true,false]
[null,151,{"$f":"MATCH(B152,DetailList!AZ:AZ,0)","v":463},{"$f":"MATCH(B152,DetailListPending!AZ:AZ,0)","v":{"$error":"#N/A"}},{"$f":"MATCH(B152,Removed!AZ$1:AZ$443,0)","v":{"$error":"#N/A"}},{"$f":"CHOOSE(I152,OFFSET(DetailList!C$1,$C152-1,0),\"PENDING: \"&OFFSET(DetailListPending!C$1,$D152-1,0),\"   REMOVED [\"&OFFSET(Removed!C$1,$E152-1,0)&\"]\")","v":"Discretionary Housing Payment (DHP) estimates and claims"},{"$f":"CHOOSE(I152,OFFSET(DetailList!E$1,$C152-1,0),OFFSET(DetailListPending!E$1,$D152-1,0),OFFSET(Removed!E$1,$E152-1,0))","v":"DWP"},{"$f":"CHOOSE(I152,OFFSET(DetailList!AU$1,$C152-1,0),\"Pending: \"&OFFSET(DetailListPending!AU$1,$D152-1,0),\"REMOVED [\"&OFFSET(Removed!AU$1,$E152-1,0)&\"]\")","v":1},1,true,false]
[null,152,{"$f":"MATCH(B153,DetailList!AZ:AZ,0)","v":{"$error":"#N/A"}},{"$f":"MATCH(B153,DetailListPending!AZ:AZ,0)","v":{"$error":"#N/A"}},{"$f":"MATCH(B153,Removed!AZ$1:AZ$443,0)","v":171},{"$f":"CHOOSE(I153,OFFSET(DetailList!C$1,$C153-1,0),\"PENDING: \"&OFFSET(DetailListPending!C$1,$D153-1,0),\"   REMOVED [\"&OFFSET(Removed!C$1,$E153-1,0)&\"]\")","v":"   REMOVED [Circus database]"},{"$f":"CHOOSE(I153,OFFSET(DetailList!E$1,$C153-1,0),OFFSET(DetailListPending!E$1,$D153-1,0),OFFSET(Removed!E$1,$E153-1,0))","v":"DWP/HSE"},{"$f":"CHOOSE(I153,OFFSET(DetailList!AU$1,$C153-1,0),\"Pending: \"&OFFSET(DetailListPending!AU$1,$D153-1,0),\"REMOVED [\"&OFFSET(Removed!AU$1,$E153-1,0)&\"]\")","v":"REMOVED [1]"},3,true,false]
[null,153,{"$f":"MATCH(B154,DetailList!AZ:AZ,0)","v":{"$error":"#N/A"}},{"$f":"MATCH(B154,DetailListPending!AZ:AZ,0)","v":{"$error":"#N/A"}},{"$f":"MATCH(B154,Removed!AZ$1:AZ$443,0)","v":361},{"$f":"CHOOSE(I154,OFFSET(DetailList!C$1,$C154-1,0),\"PENDING: \"&OFFSET(DetailListPending!C$1,$D154-1,0),\"   REMOVED [\"&OFFSET(Removed!C$1,$E154-1,0)&\"]\")","v":"   REMOVED [LPG pipework inspection ]"},{"$f":"CHOOSE(I154,OFFSET(DetailList!E$1,$C154-1,0),OFFSET(DetailListPending!E$1,$D154-1,0),OFFSET(Removed!E$1,$E154-1,0))","v":"DWP/HSE"},{"$f":"CHOOSE(I154,OFFSET(DetailList!AU$1,$C154-1,0),\"Pending: \"&OFFSET(DetailListPending!AU$1,$D154-1,0),\"REMOVED [\"&OFFSET(Removed!AU$1,$E154-1,0)&\"]\")","v":"REMOVED [1]"},3,true,false]
[null,154,{"$f":"MATCH(B155,DetailList!AZ:AZ,0)","v":465},{"$f":"MATCH(B155,DetailListPending!AZ:AZ,0)","v":{"$error":"#N/A"}},{"$f":"MATCH(B155,Removed!AZ$1:AZ$443,0)","v":{"$error":"#N/A"}},{"$f":"CHOOSE(I155,OFFSET(DetailList!C$1,$C155-1,0),\"PENDING: \"&OFFSET(DetailListPending!C$1,$D155-1,0),\"   REMOVED [\"&OFFSET(Removed!C$1,$E155-1,0)&\"]\")","v":"Health & Safety Enforcement Data (LAE1)"},{"$f":"CHOOSE(I155,OFFSET(DetailList!E$1,$C155-1,0),OFFSET(DetailListPending!E$1,$D155-1,0),OFFSET(Removed!E$1,$E155-1,0))","v":"DWP/HSE"},{"$f":"CHOOSE(I155,OFFSET(DetailList!AU$1,$C155-1,0),\"Pending: \"&OFFSET(DetailListPending!AU$1,$D155-1,0),\"REMOVED [\"&OFFSET(Removed!AU$1,$E155-1,0)&\"]\")","v":4},1,true,false]
[null,155,{"$f":"MATCH(B156,DetailList!AZ:AZ,0)","v":{"$error":"#N/A"}},{"$f":"MATCH(B156,DetailListPending!AZ:AZ,0)","v":{"$error":"#N/A"}},{"$f":"MATCH(B156,Removed!AZ$1:AZ$443,0)","v":415},{"$f":"CHOOSE(I156,OFFSET(DetailList!C$1,$C156-1,0),\"PENDING: \"&OFFSET(DetailListPending!C$1,$D156-1,0),\"   REMOVED [\"&OFFSET(Removed!C$1,$E156-1,0)&\"]\")","v":"   REMOVED [Health & Safety Prosecutions database]"},{"$f":"CHOOSE(I156,OFFSET(DetailList!E$1,$C156-1,0),OFFSET(DetailListPending!E$1,$D156-1,0),OFFSET(Removed!E$1,$E156-1,0))","v":"DWP/HSE"},{"$f":"CHOOSE(I156,OFFSET(DetailList!AU$1,$C156-1,0),\"Pending: \"&OFFSET(DetailListPending!AU$1,$D156-1,0),\"REMOVED [\"&OFFSET(Removed!AU$1,$E156-1,0)&\"]\")","v":"REMOVED [3]"},3,true,false]
[null,156,{"$f":"MATCH(B157,DetailList!AZ:AZ,0)","v":{"$error":"#N/A"}},{"$f":"MATCH(B157,DetailListPending!AZ:AZ,0)","v":{"$error":"#N/A"}},{"$f":"MATCH(B157,Removed!AZ$1:AZ$443,0)","v":51},{"$f":"CHOOSE(I157,OFFSET(DetailList!C$1,$C157-1,0),\"PENDING: \"&OFFSET(DetailListPending!C$1,$D157-1,0),\"   REMOVED [\"&OFFSET(Removed!C$1,$E157-1,0)&\"]\")","v":"   REMOVED [Young people within the Youth Justice System receiving a conviction in court who are sentenced to custody - UNDER REVIEW]"},{"$f":"CHOOSE(I157,OFFSET(DetailList!E$1,$C157-1,0),OFFSET(DetailListPending!E$1,$D157-1,0),OFFSET(Removed!E$1,$E157-1,0))","v":"MOJ"},{"$f":"CHOOSE(I157,OFFSET(DetailList!AU$1,$C157-1,0),\"Pending: \"&OFFSET(DetailListPending!AU$1,$D157-1,0),\"REMOVED [\"&OFFSET(Removed!AU$1,$E157-1,0)&\"]\")","v":"REMOVED [1]"},3,true,false]
[null,157,{"$f":"MATCH(B158,DetailList!AZ:AZ,0)","v":{"$error":"#N/A"}},{"$f":"MATCH(B158,DetailListPending!AZ:AZ,0)","v":{"$error":"#N/A"}},{"$f":"MATCH(B158,Removed!AZ$1:AZ$443,0)","v":90},{"$f":"CHOOSE(I158,OFFSET(DetailList!C$1,$C158-1,0),\"PENDING: \"&OFFSET(DetailListPending!C$1,$D158-1,0),\"   REMOVED [\"&OFFSET(Removed!C$1,$E158-1,0)&\"]\")","v":"   REMOVED [Speed camera inventory]"},{"$f":"CHOOSE(I158,OFFSET(DetailList!E$1,$C158-1,0),OFFSET(DetailListPending!E$1,$D158-1,0),OFFSET(Removed!E$1,$E158-1,0))","v":"DfT"},{"$f":"CHOOSE(I158,OFFSET(DetailList!AU$1,$C158-1,0),\"Pending: \"&OFFSET(DetailListPending!AU$1,$D158-1,0),\"REMOVED [\"&OFFSET(Removed!AU$1,$E158-1,0)&\"]\")","v":"REMOVED [1]"},3,true,false]
[null,158,{"$f":"MATCH(B159,DetailList!AZ:AZ,0)","v":{"$error":"#N/A"}},{"$f":"MATCH(B159,DetailListPending!AZ:AZ,0)","v":{"$error":"#N/A"}},{"$f":"MATCH(B159,Removed!AZ$1:AZ$443,0)","v":214},{"$f":"CHOOSE(I159,OFFSET(DetailList!C$1,$C159-1,0),\"PENDING: \"&OFFSET(DetailListPending!C$1,$D159-1,0),\"   REMOVED [\"&OFFSET(Removed!C$1,$E159-1,0)&\"]\")","v":"   REMOVED [Public rights of way]"},{"$f":"CHOOSE(I159,OFFSET(DetailList!E$1,$C159-1,0),OFFSET(DetailListPending!E$1,$D159-1,0),OFFSET(Removed!E$1,$E159-1,0))","v":"BIS/OS"},{"$f":"CHOOSE(I159,OFFSET(DetailList!AU$1,$C159-1,0),\"Pending: \"&OFFSET(DetailListPending!AU$1,$D159-1,0),\"REMOVED [\"&OFFSET(Removed!AU$1,$E159-1,0)&\"]\")","v":"REMOVED [1]"},3,true,false]
[null,159,{"$f":"MATCH(B160,DetailList!AZ:AZ,0)","v":278},{"$f":"MATCH(B160,DetailListPending!AZ:AZ,0)","v":{"$error":"#N/A"}},{"$f":"MATCH(B160,Removed!AZ$1:AZ$443,0)","v":{"$error":"#N/A"}},{"$f":"CHOOSE(I160,OFFSET(DetailList!C$1,$C160-1,0),\"PENDING: \"&OFFSET(DetailListPending!C$1,$D160-1,0),\"   REMOVED [\"&OFFSET(Removed!C$1,$E160-1,0)&\"]\")","v":"School Census"},{"$f":"CHOOSE(I160,OFFSET(DetailList!E$1,$C160-1,0),OFFSET(DetailListPending!E$1,$D160-1,0),OFFSET(Removed!E$1,$E160-1,0))","v":"DfE"},{"$f":"CHOOSE(I160,OFFSET(DetailList!AU$1,$C160-1,0),\"Pending: \"&OFFSET(DetailListPending!AU$1,$D160-1,0),\"REMOVED [\"&OFFSET(Removed!AU$1,$E160-1,0)&\"]\")","v":14},1,true,false]
[null,160,{"$f":"MATCH(B161,DetailList!AZ:AZ,0)","v":204},{"$f":"MATCH(B161,DetailListPending!AZ:AZ,0)","v":{"$error":"#N/A"}},{"$f":"MATCH(B161,Removed!AZ$1:AZ$443,0)","v":{"$error":"#N/A"}},{"$f":"CHOOSE(I161,OFFSET(DetailList!C$1,$C161-1,0),\"PENDING: \"&OFFSET(DetailListPending!C$1,$D161-1,0),\"   REMOVED [\"&OFFSET(Removed!C$1,$E161-1,0)&\"]\")","v":"Local nature conservation/biodiversity"},{"$f":"CHOOSE(I161,OFFSET(DetailList!E$1,$C161-1,0),OFFSET(DetailListPending!E$1,$D161-1,0),OFFSET(Removed!E$1,$E161-1,0))","v":"DEFRA"},{"$f":"CHOOSE(I161,OFFSET(DetailList!AU$1,$C161-1,0),\"Pending: \"&OFFSET(DetailListPending!AU$1,$D161-1,0),\"REMOVED [\"&OFFSET(Removed!AU$1,$E161-1,0)&\"]\")","v":1},1,true,false]
[null,161,{"$f":"MATCH(B162,DetailList!AZ:AZ,0)","v":275},{"$f":"MATCH(B162,DetailListPending!AZ:AZ,0)","v":{"$error":"#N/A"}},{"$f":"MATCH(B162,Removed!AZ$1:AZ$443,0)","v":{"$error":"#N/A"}},{"$f":"CHOOSE(I162,OFFSET(DetailList!C$1,$C162-1,0),\"PENDING: \"&OFFSET(DetailListPending!C$1,$D162-1,0),\"   REMOVED [\"&OFFSET(Removed!C$1,$E162-1,0)&\"]\")","v":"Key Stage assessment data"},{"$f":"CHOOSE(I162,OFFSET(DetailList!E$1,$C162-1,0),OFFSET(DetailListPending!E$1,$D162-1,0),OFFSET(Removed!E$1,$E162-1,0))","v":"DfE"},{"$f":"CHOOSE(I162,OFFSET(DetailList!AU$1,$C162-1,0),\"Pending: \"&OFFSET(DetailListPending!AU$1,$D162-1,0),\"REMOVED [\"&OFFSET(Removed!AU$1,$E162-1,0)&\"]\")","v":2},1,true,false]
[null,162,{"$f":"MATCH(B163,DetailList!AZ:AZ,0)","v":{"$error":"#N/A"}},{"$f":"MATCH(B163,DetailListPending!AZ:AZ,0)","v":{"$error":"#N/A"}},{"$f":"MATCH(B163,Removed!AZ$1:AZ$443,0)","v":330},{"$f":"CHOOSE(I163,OFFSET(DetailList!C$1,$C163-1,0),\"PENDING: \"&OFFSET(DetailListPending!C$1,$D163-1,0),\"   REMOVED [\"&OFFSET(Removed!C$1,$E163-1,0)&\"]\")","v":"   REMOVED [Family Intervention Project (FIP) monitoring]"},{"$f":"CHOOSE(I163,OFFSET(DetailList!E$1,$C163-1,0),OFFSET(DetailListPending!E$1,$D163-1,0),OFFSET(Removed!E$1,$E163-1,0))","v":"DfE"},{"$f":"CHOOSE(I163,OFFSET(DetailList!AU$1,$C163-1,0),\"Pending: \"&OFFSET(DetailListPending!AU$1,$D163-1,0),\"REMOVED [\"&OFFSET(Removed!AU$1,$E163-1,0)&\"]\")","v":"REMOVED [1]"},3,true,false]
[null,163,{"$f":"MATCH(B164,DetailList!AZ:AZ,0)","v":534},{"$f":"MATCH(B164,DetailListPending!AZ:AZ,0)","v":{"$error":"#N/A"}},{"$f":"MATCH(B164,Removed!AZ$1:AZ$443,0)","v":{"$error":"#N/A"}},{"$f":"CHOOSE(I164,OFFSET(DetailList!C$1,$C164-1,0),\"PENDING: \"&OFFSET(DetailListPending!C$1,$D164-1,0),\"   REMOVED [\"&OFFSET(Removed!C$1,$E164-1,0)&\"]\")","v":"Alcohol and Late Night Refreshment Licensing"},{"$f":"CHOOSE(I164,OFFSET(DetailList!E$1,$C164-1,0),OFFSET(DetailListPending!E$1,$D164-1,0),OFFSET(Removed!E$1,$E164-1,0))","v":"HO"},{"$f":"CHOOSE(I164,OFFSET(DetailList!AU$1,$C164-1,0),\"Pending: \"&OFFSET(DetailListPending!AU$1,$D164-1,0),\"REMOVED [\"&OFFSET(Removed!AU$1,$E164-1,0)&\"]\")","v":1},1,true,false]
[null,164,{"$f":"MATCH(B165,DetailList!AZ:AZ,0)","v":{"$error":"#N/A"}},{"$f":"MATCH(B165,DetailListPending!AZ:AZ,0)","v":{"$error":"#N/A"}},{"$f":"MATCH(B165,Removed!AZ$1:AZ$443,0)","v":100},{"$f":"CHOOSE(I165,OFFSET(DetailList!C$1,$C165-1,0),\"PENDING: \"&OFFSET(DetailListPending!C$1,$D165-1,0),\"   REMOVED [\"&OFFSET(Removed!C$1,$E165-1,0)&\"]\")","v":"   REMOVED [Private Finance Initiative]"},{"$f":"CHOOSE(I165,OFFSET(DetailList!E$1,$C165-1,0),OFFSET(DetailListPending!E$1,$D165-1,0),OFFSET(Removed!E$1,$E165-1,0))","v":"DCLG/HCA"},{"$f":"CHOOSE(I165,OFFSET(DetailList!AU$1,$C165-1,0),\"Pending: \"&OFFSET(DetailListPending!AU$1,$D165-1,0),\"REMOVED [\"&OFFSET(Removed!AU$1,$E165-1,0)&\"]\")","v":"REMOVED [1]"},3,true,false]
[null,165,{"$f":"MATCH(B166,DetailList!AZ:AZ,0)","v":{"$error":"#N/A"}},{"$f":"MATCH(B166,DetailListPending!AZ:AZ,0)","v":{"$error":"#N/A"}},{"$f":"MATCH(B166,Removed!AZ$1:AZ$443,0)","v":102},{"$f":"CHOOSE(I166,OFFSET(DetailList!C$1,$C166-1,0),\"PENDING: \"&OFFSET(DetailListPending!C$1,$D166-1,0),\"   REMOVED [\"&OFFSET(Removed!C$1,$E166-1,0)&\"]\")","v":"   REMOVED [Thames Gateway Programme]"},{"$f":"CHOOSE(I166,OFFSET(DetailList!E$1,$C166-1,0),OFFSET(DetailListPending!E$1,$D166-1,0),OFFSET(Removed!E$1,$E166-1,0))","v":"DCLG/HCA"},{"$f":"CHOOSE(I166,OFFSET(DetailList!AU$1,$C166-1,0),\"Pending: \"&OFFSET(DetailListPending!AU$1,$D166-1,0),\"REMOVED [\"&OFFSET(Removed!AU$1,$E166-1,0)&\"]\")","v":"REMOVED [1]"},3,true,false]
[null,166,{"$f":"MATCH(B167,DetailList!AZ:AZ,0)","v":97},{"$f":"MATCH(B167,DetailListPending!AZ:AZ,0)","v":{"$error":"#N/A"}},{"$f":"MATCH(B167,Removed!AZ$1:AZ$443,0)","v":{"$error":"#N/A"}},{"$f":"CHOOSE(I167,OFFSET(DetailList!C$1,$C167-1,0),\"PENDING: \"&OFFSET(DetailListPending!C$1,$D167-1,0),\"   REMOVED [\"&OFFSET(Removed!C$1,$E167-1,0)&\"]\")","v":"Quarterly Return of Council Taxes and Non-domestic rates (QRC4)"},{"$f":"CHOOSE(I167,OFFSET(DetailList!E$1,$C167-1,0),OFFSET(DetailListPending!E$1,$D167-1,0),OFFSET(Removed!E$1,$E167-1,0))","v":"DLUHC"},{"$f":"CHOOSE(I167,OFFSET(DetailList!AU$1,$C167-1,0),\"Pending: \"&OFFSET(DetailListPending!AU$1,$D167-1,0),\"REMOVED [\"&OFFSET(Removed!AU$1,$E167-1,0)&\"]\")","v":1},1,true,false]
[null,167,{"$f":"MATCH(B168,DetailList!AZ:AZ,0)","v":23},{"$f":"MATCH(B168,DetailListPending!AZ:AZ,0)","v":{"$error":"#N/A"}},{"$f":"MATCH(B168,Removed!AZ$1:AZ$443,0)","v":{"$error":"#N/A"}},{"$f":"CHOOSE(I168,OFFSET(DetailList!C$1,$C168-1,0),\"PENDING: \"&OFFSET(DetailListPending!C$1,$D168-1,0),\"   REMOVED [\"&OFFSET(Removed!C$1,$E168-1,0)&\"]\")","v":"Housing Capital Receipts pooling "},{"$f":"CHOOSE(I168,OFFSET(DetailList!E$1,$C168-1,0),OFFSET(DetailListPending!E$1,$D168-1,0),OFFSET(Removed!E$1,$E168-1,0))","v":"DLUHC"},{"$f":"CHOOSE(I168,OFFSET(DetailList!AU$1,$C168-1,0),\"Pending: \"&OFFSET(DetailListPending!AU$1,$D168-1,0),\"REMOVED [\"&OFFSET(Removed!AU$1,$E168-1,0)&\"]\")","v":1},1,true,false]
[null,168,{"$f":"MATCH(B169,DetailList!AZ:AZ,0)","v":{"$error":"#N/A"}},{"$f":"MATCH(B169,DetailListPending!AZ:AZ,0)","v":{"$error":"#N/A"}},{"$f":"MATCH(B169,Removed!AZ$1:AZ$443,0)","v":281},{"$f":"CHOOSE(I169,OFFSET(DetailList!C$1,$C169-1,0),\"PENDING: \"&OFFSET(DetailListPending!C$1,$D169-1,0),\"   REMOVED [\"&OFFSET(Removed!C$1,$E169-1,0)&\"]\")","v":"   REMOVED [Housing Capital Receipts pooling - signed paper return]"},{"$f":"CHOOSE(I169,OFFSET(DetailList!E$1,$C169-1,0),OFFSET(DetailListPending!E$1,$D169-1,0),OFFSET(Removed!E$1,$E169-1,0))","v":"DCLG"},{"$f":"CHOOSE(I169,OFFSET(DetailList!AU$1,$C169-1,0),\"Pending: \"&OFFSET(DetailListPending!AU$1,$D169-1,0),\"REMOVED [\"&OFFSET(Removed!AU$1,$E169-1,0)&\"]\")","v":"REMOVED [1]"},3,true,false]
[null,169,{"$f":"MATCH(B170,DetailList!AZ:AZ,0)","v":{"$error":"#N/A"}},{"$f":"MATCH(B170,DetailListPending!AZ:AZ,0)","v":{"$error":"#N/A"}},{"$f":"MATCH(B170,Removed!AZ$1:AZ$443,0)","v":39},{"$f":"CHOOSE(I170,OFFSET(DetailList!C$1,$C170-1,0),\"PENDING: \"&OFFSET(DetailListPending!C$1,$D170-1,0),\"   REMOVED [\"&OFFSET(Removed!C$1,$E170-1,0)&\"]\")","v":"   REMOVED [Disabled Facilities Grant]"},{"$f":"CHOOSE(I170,OFFSET(DetailList!E$1,$C170-1,0),OFFSET(DetailListPending!E$1,$D170-1,0),OFFSET(Removed!E$1,$E170-1,0))","v":"DCLG"},{"$f":"CHOOSE(I170,OFFSET(DetailList!AU$1,$C170-1,0),\"Pending: \"&OFFSET(DetailListPending!AU$1,$D170-1,0),\"REMOVED [\"&OFFSET(Removed!AU$1,$E170-1,0)&\"]\")","v":"REMOVED [1]"},3,true,false]
[null,170,{"$f":"MATCH(B171,DetailList!AZ:AZ,0)","v":173},{"$f":"MATCH(B171,DetailListPending!AZ:AZ,0)","v":{"$error":"#N/A"}},{"$f":"MATCH(B171,Removed!AZ$1:AZ$443,0)","v":{"$error":"#N/A"}},{"$f":"CHOOSE(I171,OFFSET(DetailList!C$1,$C171-1,0),\"PENDING: \"&OFFSET(DetailListPending!C$1,$D171-1,0),\"   REMOVED [\"&OFFSET(Removed!C$1,$E171-1,0)&\"]\")","v":"National Fraud Initiative (NFI)"},{"$f":"CHOOSE(I171,OFFSET(DetailList!E$1,$C171-1,0),OFFSET(DetailListPending!E$1,$D171-1,0),OFFSET(Removed!E$1,$E171-1,0))","v":"CO"},{"$f":"CHOOSE(I171,OFFSET(DetailList!AU$1,$C171-1,0),\"Pending: \"&OFFSET(DetailListPending!AU$1,$D171-1,0),\"REMOVED [\"&OFFSET(Removed!AU$1,$E171-1,0)&\"]\")","v":1},1,true,false]
[null,171,{"$f":"MATCH(B172,DetailList!AZ:AZ,0)","v":332},{"$f":"MATCH(B172,DetailListPending!AZ:AZ,0)","v":{"$error":"#N/A"}},{"$f":"MATCH(B172,Removed!AZ$1:AZ$443,0)","v":{"$error":"#N/A"}},{"$f":"CHOOSE(I172,OFFSET(DetailList!C$1,$C172-1,0),\"PENDING: \"&OFFSET(DetailListPending!C$1,$D172-1,0),\"   REMOVED [\"&OFFSET(Removed!C$1,$E172-1,0)&\"]\")","v":"Consistent Financial Reporting (CFR)"},{"$f":"CHOOSE(I172,OFFSET(DetailList!E$1,$C172-1,0),OFFSET(DetailListPending!E$1,$D172-1,0),OFFSET(Removed!E$1,$E172-1,0))","v":"DfE"},{"$f":"CHOOSE(I172,OFFSET(DetailList!AU$1,$C172-1,0),\"Pending: \"&OFFSET(DetailListPending!AU$1,$D172-1,0),\"REMOVED [\"&OFFSET(Removed!AU$1,$E172-1,0)&\"]\")","v":1},1,true,false]
[null,172,{"$f":"MATCH(B173,DetailList!AZ:AZ,0)","v":169},{"$f":"MATCH(B173,DetailListPending!AZ:AZ,0)","v":{"$error":"#N/A"}},{"$f":"MATCH(B173,Removed!AZ$1:AZ$443,0)","v":{"$error":"#N/A"}},{"$f":"CHOOSE(I173,OFFSET(DetailList!C$1,$C173-1,0),\"PENDING: \"&OFFSET(DetailListPending!C$1,$D173-1,0),\"   REMOVED [\"&OFFSET(Removed!C$1,$E173-1,0)&\"]\")","v":"Fire Fighters Pension Fund - Non-financial data"},{"$f":"CHOOSE(I173,OFFSET(DetailList!E$1,$C173-1,0),OFFSET(DetailListPending!E$1,$D173-1,0),OFFSET(Removed!E$1,$E173-1,0))","v":"HO"},{"$f":"CHOOSE(I173,OFFSET(DetailList!AU$1,$C173-1,0),\"Pending: \"&OFFSET(DetailListPending!AU$1,$D173-1,0),\"REMOVED [\"&OFFSET(Removed!AU$1,$E173-1,0)&\"]\")","v":1},1,true,false]
[null,173,{"$f":"MATCH(B174,DetailList!AZ:AZ,0)","v":171},{"$f":"MATCH(B174,DetailListPending!AZ:AZ,0)","v":{"$error":"#N/A"}},{"$f":"MATCH(B174,Removed!AZ$1:AZ$443,0)","v":{"$error":"#N/A"}},{"$f":"CHOOSE(I174,OFFSET(DetailList!C$1,$C174-1,0),\"PENDING: \"&OFFSET(DetailListPending!C$1,$D174-1,0),\"   REMOVED [\"&OFFSET(Removed!C$1,$E174-1,0)&\"]\")","v":"Fire Fighters Pension Fund - Financial data"},{"$f":"CHOOSE(I174,OFFSET(DetailList!E$1,$C174-1,0),OFFSET(DetailListPending!E$1,$D174-1,0),OFFSET(Removed!E$1,$E174-1,0))","v":"HO"},{"$f":"CHOOSE(I174,OFFSET(DetailList!AU$1,$C174-1,0),\"Pending: \"&OFFSET(DetailListPending!AU$1,$D174-1,0),\"REMOVED [\"&OFFSET(Removed!AU$1,$E174-1,0)&\"]\")","v":1},1,true,false]
[null,174,{"$f":"MATCH(B175,DetailList!AZ:AZ,0)","v":{"$error":"#N/A"}},{"$f":"MATCH(B175,DetailListPending!AZ:AZ,0)","v":{"$error":"#N/A"}},{"$f":"MATCH(B175,Removed!AZ$1:AZ$443,0)","v":173},{"$f":"CHOOSE(I175,OFFSET(DetailList!C$1,$C175-1,0),\"PENDING: \"&OFFSET(DetailListPending!C$1,$D175-1,0),\"   REMOVED [\"&OFFSET(Removed!C$1,$E175-1,0)&\"]\")","v":"   REMOVED [Register of deaf or hard of hearing people (SSDA910) (DELETED)]"},{"$f":"CHOOSE(I175,OFFSET(DetailList!E$1,$C175-1,0),OFFSET(DetailListPending!E$1,$D175-1,0),OFFSET(Removed!E$1,$E175-1,0))","v":"DH/HSCIC"},{"$f":"CHOOSE(I175,OFFSET(DetailList!AU$1,$C175-1,0),\"Pending: \"&OFFSET(DetailListPending!AU$1,$D175-1,0),\"REMOVED [\"&OFFSET(Removed!AU$1,$E175-1,0)&\"]\")","v":"REMOVED [1]"},3,true,false]
[null,175,{"$f":"MATCH(B176,DetailList!AZ:AZ,0)","v":{"$error":"#N/A"}},{"$f":"MATCH(B176,DetailListPending!AZ:AZ,0)","v":{"$error":"#N/A"}},{"$f":"MATCH(B176,Removed!AZ$1:AZ$443,0)","v":175},{"$f":"CHOOSE(I176,OFFSET(DetailList!C$1,$C176-1,0),\"PENDING: \"&OFFSET(DetailListPending!C$1,$D176-1,0),\"   REMOVED [\"&OFFSET(Removed!C$1,$E176-1,0)&\"]\")","v":"   REMOVED [Grant Funded Services (GFS1) return DELETED - Collection Ceased final data collected in November 2010]"},{"$f":"CHOOSE(I176,OFFSET(DetailList!E$1,$C176-1,0),OFFSET(DetailListPending!E$1,$D176-1,0),OFFSET(Removed!E$1,$E176-1,0))","v":"DH/HSCIC"},{"$f":"CHOOSE(I176,OFFSET(DetailList!AU$1,$C176-1,0),\"Pending: \"&OFFSET(DetailListPending!AU$1,$D176-1,0),\"REMOVED [\"&OFFSET(Removed!AU$1,$E176-1,0)&\"]\")","v":"REMOVED [2]"},3,true,false]
[null,176,{"$f":"MATCH(B177,DetailList!AZ:AZ,0)","v":{"$error":"#N/A"}},{"$f":"MATCH(B177,DetailListPending!AZ:AZ,0)","v":{"$error":"#N/A"}},{"$f":"MATCH(B177,Removed!AZ$1:AZ$443,0)","v":178},{"$f":"CHOOSE(I177,OFFSET(DetailList!C$1,$C177-1,0),\"PENDING: \"&OFFSET(DetailListPending!C$1,$D177-1,0),\"   REMOVED [\"&OFFSET(Removed!C$1,$E177-1,0)&\"]\")","v":"   REMOVED [Personal Social Services Staffing (SSDS001) return (DELETED)]"},{"$f":"CHOOSE(I177,OFFSET(DetailList!E$1,$C177-1,0),OFFSET(DetailListPending!E$1,$D177-1,0),OFFSET(Removed!E$1,$E177-1,0))","v":"DH/HSCIC"},{"$f":"CHOOSE(I177,OFFSET(DetailList!AU$1,$C177-1,0),\"Pending: \"&OFFSET(DetailListPending!AU$1,$D177-1,0),\"REMOVED [\"&OFFSET(Removed!AU$1,$E177-1,0)&\"]\")","v":"REMOVED [1]"},3,true,false]
[null,177,{"$f":"MATCH(B178,DetailList!AZ:AZ,0)","v":{"$error":"#N/A"}},{"$f":"MATCH(B178,DetailListPending!AZ:AZ,0)","v":{"$error":"#N/A"}},{"$f":"MATCH(B178,Removed!AZ$1:AZ$443,0)","v":216},{"$f":"CHOOSE(I178,OFFSET(DetailList!C$1,$C178-1,0),\"PENDING: \"&OFFSET(DetailListPending!C$1,$D178-1,0),\"   REMOVED [\"&OFFSET(Removed!C$1,$E178-1,0)&\"]\")","v":"   REMOVED [Parish council boundaries]"},{"$f":"CHOOSE(I178,OFFSET(DetailList!E$1,$C178-1,0),OFFSET(DetailListPending!E$1,$D178-1,0),OFFSET(Removed!E$1,$E178-1,0))","v":"BIS/OS"},{"$f":"CHOOSE(I178,OFFSET(DetailList!AU$1,$C178-1,0),\"Pending: \"&OFFSET(DetailListPending!AU$1,$D178-1,0),\"REMOVED [\"&OFFSET(Removed!AU$1,$E178-1,0)&\"]\")","v":"REMOVED [1]"},3,true,false]
[null,178,{"$f":"MATCH(B179,DetailList!AZ:AZ,0)","v":{"$error":"#N/A"}},{"$f":"MATCH(B179,DetailListPending!AZ:AZ,0)","v":{"$error":"#N/A"}},{"$f":"MATCH(B179,Removed!AZ$1:AZ$443,0)","v":116},{"$f":"CHOOSE(I179,OFFSET(DetailList!C$1,$C179-1,0),\"PENDING: \"&OFFSET(DetailListPending!C$1,$D179-1,0),\"   REMOVED [\"&OFFSET(Removed!C$1,$E179-1,0)&\"]\")","v":"   REMOVED [Local Sustainable Transport Fund]"},{"$f":"CHOOSE(I179,OFFSET(DetailList!E$1,$C179-1,0),OFFSET(DetailListPending!E$1,$D179-1,0),OFFSET(Removed!E$1,$E179-1,0))","v":"DfT"},{"$f":"CHOOSE(I179,OFFSET(DetailList!AU$1,$C179-1,0),\"Pending: \"&OFFSET(DetailListPending!AU$1,$D179-1,0),\"REMOVED [\"&OFFSET(Removed!AU$1,$E179-1,0)&\"]\")","v":"REMOVED [1]"},3,true,false]
[null,179,{"$f":"MATCH(B180,DetailList!AZ:AZ,0)","v":{"$error":"#N/A"}},{"$f":"MATCH(B180,DetailListPending!AZ:AZ,0)","v":{"$error":"#N/A"}},{"$f":"MATCH(B180,Removed!AZ$1:AZ$443,0)","v":135},{"$f":"CHOOSE(I180,OFFSET(DetailList!C$1,$C180-1,0),\"PENDING: \"&OFFSET(DetailListPending!C$1,$D180-1,0),\"   REMOVED [\"&OFFSET(Removed!C$1,$E180-1,0)&\"]\")","v":"   REMOVED [Smart & Integrated Ticketing]"},{"$f":"CHOOSE(I180,OFFSET(DetailList!E$1,$C180-1,0),OFFSET(DetailListPending!E$1,$D180-1,0),OFFSET(Removed!E$1,$E180-1,0))","v":"DfT"},{"$f":"CHOOSE(I180,OFFSET(DetailList!AU$1,$C180-1,0),\"Pending: \"&OFFSET(DetailListPending!AU$1,$D180-1,0),\"REMOVED [\"&OFFSET(Removed!AU$1,$E180-1,0)&\"]\")","v":"REMOVED [1]"},3,true,false]
[null,180,{"$f":"MATCH(B181,DetailList!AZ:AZ,0)","v":536},{"$f":"MATCH(B181,DetailListPending!AZ:AZ,0)","v":{"$error":"#N/A"}},{"$f":"MATCH(B181,Removed!AZ$1:AZ$443,0)","v":{"$error":"#N/A"}},{"$f":"CHOOSE(I181,OFFSET(DetailList!C$1,$C181-1,0),\"PENDING: \"&OFFSET(DetailListPending!C$1,$D181-1,0),\"   REMOVED [\"&OFFSET(Removed!C$1,$E181-1,0)&\"]\")","v":"Youth Justice Application Framework (YJAF)"},{"$f":"CHOOSE(I181,OFFSET(DetailList!E$1,$C181-1,0),OFFSET(DetailListPending!E$1,$D181-1,0),OFFSET(Removed!E$1,$E181-1,0))","v":"MoJ/YJB"},{"$f":"CHOOSE(I181,OFFSET(DetailList!AU$1,$C181-1,0),\"Pending: \"&OFFSET(DetailListPending!AU$1,$D181-1,0),\"REMOVED [\"&OFFSET(Removed!AU$1,$E181-1,0)&\"]\")","v":1},1,true,false]
[null,181,{"$f":"MATCH(B182,DetailList!AZ:AZ,0)","v":{"$error":"#N/A"}},{"$f":"MATCH(B182,DetailListPending!AZ:AZ,0)","v":{"$error":"#N/A"}},{"$f":"MATCH(B182,Removed!AZ$1:AZ$443,0)","v":164},{"$f":"CHOOSE(I182,OFFSET(DetailList!C$1,$C182-1,0),\"PENDING: \"&OFFSET(DetailListPending!C$1,$D182-1,0),\"   REMOVED [\"&OFFSET(Removed!C$1,$E182-1,0)&\"]\")","v":"   REMOVED [PTE/ITA Rail data]"},{"$f":"CHOOSE(I182,OFFSET(DetailList!E$1,$C182-1,0),OFFSET(DetailListPending!E$1,$D182-1,0),OFFSET(Removed!E$1,$E182-1,0))","v":"DfT/ORR"},{"$f":"CHOOSE(I182,OFFSET(DetailList!AU$1,$C182-1,0),\"Pending: \"&OFFSET(DetailListPending!AU$1,$D182-1,0),\"REMOVED [\"&OFFSET(Removed!AU$1,$E182-1,0)&\"]\")","v":"REMOVED [2]"},3,true,false]
[null,182,{"$f":"MATCH(B183,DetailList!AZ:AZ,0)","v":{"$error":"#N/A"}},{"$f":"MATCH(B183,DetailListPending!AZ:AZ,0)","v":{"$error":"#N/A"}},{"$f":"MATCH(B183,Removed!AZ$1:AZ$443,0)","v":206},{"$f":"CHOOSE(I183,OFFSET(DetailList!C$1,$C183-1,0),\"PENDING: \"&OFFSET(DetailListPending!C$1,$D183-1,0),\"   REMOVED [\"&OFFSET(Removed!C$1,$E183-1,0)&\"]\")","v":"   REMOVED [Merged with 113]"},{"$f":"CHOOSE(I183,OFFSET(DetailList!E$1,$C183-1,0),OFFSET(DetailListPending!E$1,$D183-1,0),OFFSET(Removed!E$1,$E183-1,0))","v":"DfE"},{"$f":"CHOOSE(I183,OFFSET(DetailList!AU$1,$C183-1,0),\"Pending: \"&OFFSET(DetailListPending!AU$1,$D183-1,0),\"REMOVED [\"&OFFSET(Removed!AU$1,$E183-1,0)&\"]\")","v":"REMOVED [1]"},3,true,false]
[null,183,{"$f":"MATCH(B184,DetailList!AZ:AZ,0)","v":158},{"$f":"MATCH(B184,DetailListPending!AZ:AZ,0)","v":{"$error":"#N/A"}},{"$f":"MATCH(B184,Removed!AZ$1:AZ$443,0)","v":{"$error":"#N/A"}},{"$f":"CHOOSE(I184,OFFSET(DetailList!C$1,$C184-1,0),\"PENDING: \"&OFFSET(DetailListPending!C$1,$D184-1,0),\"   REMOVED [\"&OFFSET(Removed!C$1,$E184-1,0)&\"]\")","v":"Whole of Government Accounts (WGA)"},{"$f":"CHOOSE(I184,OFFSET(DetailList!E$1,$C184-1,0),OFFSET(DetailListPending!E$1,$D184-1,0),OFFSET(Removed!E$1,$E184-1,0))","v":"HMT(DLUHC)"},{"$f":"CHOOSE(I184,OFFSET(DetailList!AU$1,$C184-1,0),\"Pending: \"&OFFSET(DetailListPending!AU$1,$D184-1,0),\"REMOVED [\"&OFFSET(Removed!AU$1,$E184-1,0)&\"]\")","v":2},1,true,false]
[null,184,{"$f":"MATCH(B185,DetailList!AZ:AZ,0)","v":{"$error":"#N/A"}},{"$f":"MATCH(B185,DetailListPending!AZ:AZ,0)","v":{"$error":"#N/A"}},{"$f":"MATCH(B185,Removed!AZ$1:AZ$443,0)","v":373},{"$f":"CHOOSE(I185,OFFSET(DetailList!C$1,$C185-1,0),\"PENDING: \"&OFFSET(DetailListPending!C$1,$D185-1,0),\"   REMOVED [\"&OFFSET(Removed!C$1,$E185-1,0)&\"]\")","v":"   REMOVED [County Matters Planning Fees statistical returns (FEE 2)]"},{"$f":"CHOOSE(I185,OFFSET(DetailList!E$1,$C185-1,0),OFFSET(DetailListPending!E$1,$D185-1,0),OFFSET(Removed!E$1,$E185-1,0))","v":"DCLG"},{"$f":"CHOOSE(I185,OFFSET(DetailList!AU$1,$C185-1,0),\"Pending: \"&OFFSET(DetailListPending!AU$1,$D185-1,0),\"REMOVED [\"&OFFSET(Removed!AU$1,$E185-1,0)&\"]\")","v":"REMOVED [1]"},3,true,false]
[null,185,{"$f":"MATCH(B186,DetailList!AZ:AZ,0)","v":{"$error":"#N/A"}},{"$f":"MATCH(B186,DetailListPending!AZ:AZ,0)","v":{"$error":"#N/A"}},{"$f":"MATCH(B186,Removed!AZ$1:AZ$443,0)","v":133},{"$f":"CHOOSE(I186,OFFSET(DetailList!C$1,$C186-1,0),\"PENDING: \"&OFFSET(DetailListPending!C$1,$D186-1,0),\"   REMOVED [\"&OFFSET(Removed!C$1,$E186-1,0)&\"]\")","v":"   REMOVED [Bullying]"},{"$f":"CHOOSE(I186,OFFSET(DetailList!E$1,$C186-1,0),OFFSET(DetailListPending!E$1,$D186-1,0),OFFSET(Removed!E$1,$E186-1,0))","v":"DfE"},{"$f":"CHOOSE(I186,OFFSET(DetailList!AU$1,$C186-1,0),\"Pending: \"&OFFSET(DetailListPending!AU$1,$D186-1,0),\"REMOVED [\"&OFFSET(Removed!AU$1,$E186-1,0)&\"]\")","v":"REMOVED [1]"},3,true,false]
[null,186,{"$f":"MATCH(B187,DetailList!AZ:AZ,0)","v":{"$error":"#N/A"}},{"$f":"MATCH(B187,DetailListPending!AZ:AZ,0)","v":{"$error":"#N/A"}},{"$f":"MATCH(B187,Removed!AZ$1:AZ$443,0)","v":218},{"$f":"CHOOSE(I187,OFFSET(DetailList!C$1,$C187-1,0),\"PENDING: \"&OFFSET(DetailListPending!C$1,$D187-1,0),\"   REMOVED [\"&OFFSET(Removed!C$1,$E187-1,0)&\"]\")","v":"   REMOVED [Individualised Learner Record (ILR)]"},{"$f":"CHOOSE(I187,OFFSET(DetailList!E$1,$C187-1,0),OFFSET(DetailListPending!E$1,$D187-1,0),OFFSET(Removed!E$1,$E187-1,0))","v":"BIS/SFA"},{"$f":"CHOOSE(I187,OFFSET(DetailList!AU$1,$C187-1,0),\"Pending: \"&OFFSET(DetailListPending!AU$1,$D187-1,0),\"REMOVED [\"&OFFSET(Removed!AU$1,$E187-1,0)&\"]\")","v":"REMOVED [1]"},3,true,false]
[null,187,{"$f":"MATCH(B188,DetailList!AZ:AZ,0)","v":{"$error":"#N/A"}},{"$f":"MATCH(B188,DetailListPending!AZ:AZ,0)","v":{"$error":"#N/A"}},{"$f":"MATCH(B188,Removed!AZ$1:AZ$443,0)","v":220},{"$f":"CHOOSE(I188,OFFSET(DetailList!C$1,$C188-1,0),\"PENDING: \"&OFFSET(DetailListPending!C$1,$D188-1,0),\"   REMOVED [\"&OFFSET(Removed!C$1,$E188-1,0)&\"]\")","v":"   REMOVED [Skills Funding Claims and Use of Funds]"},{"$f":"CHOOSE(I188,OFFSET(DetailList!E$1,$C188-1,0),OFFSET(DetailListPending!E$1,$D188-1,0),OFFSET(Removed!E$1,$E188-1,0))","v":"BIS/SFA"},{"$f":"CHOOSE(I188,OFFSET(DetailList!AU$1,$C188-1,0),\"Pending: \"&OFFSET(DetailListPending!AU$1,$D188-1,0),\"REMOVED [\"&OFFSET(Removed!AU$1,$E188-1,0)&\"]\")","v":"REMOVED [1]"},3,true,false]
[null,188,{"$f":"MATCH(B189,DetailList!AZ:AZ,0)","v":{"$error":"#N/A"}},{"$f":"MATCH(B189,DetailListPending!AZ:AZ,0)","v":{"$error":"#N/A"}},{"$f":"MATCH(B189,Removed!AZ$1:AZ$443,0)","v":263},{"$f":"CHOOSE(I189,OFFSET(DetailList!C$1,$C189-1,0),\"PENDING: \"&OFFSET(DetailListPending!C$1,$D189-1,0),\"   REMOVED [\"&OFFSET(Removed!C$1,$E189-1,0)&\"]\")","v":"   REMOVED [Institution level data for maintained schools converting to academy status ]"},{"$f":"CHOOSE(I189,OFFSET(DetailList!E$1,$C189-1,0),OFFSET(DetailListPending!E$1,$D189-1,0),OFFSET(Removed!E$1,$E189-1,0))","v":"DfE"},{"$f":"CHOOSE(I189,OFFSET(DetailList!AU$1,$C189-1,0),\"Pending: \"&OFFSET(DetailListPending!AU$1,$D189-1,0),\"REMOVED [\"&OFFSET(Removed!AU$1,$E189-1,0)&\"]\")","v":"REMOVED [1]"},3,true,false]
[null,189,{"$f":"MATCH(B190,DetailList!AZ:AZ,0)","v":334},{"$f":"MATCH(B190,DetailListPending!AZ:AZ,0)","v":{"$error":"#N/A"}},{"$f":"MATCH(B190,Removed!AZ$1:AZ$443,0)","v":{"$error":"#N/A"}},{"$f":"CHOOSE(I190,OFFSET(DetailList!C$1,$C190-1,0),\"PENDING: \"&OFFSET(DetailListPending!C$1,$D190-1,0),\"   REMOVED [\"&OFFSET(Removed!C$1,$E190-1,0)&\"]\")","v":"Children with Statements of Special Educational Needs (SEN2)"},{"$f":"CHOOSE(I190,OFFSET(DetailList!E$1,$C190-1,0),OFFSET(DetailListPending!E$1,$D190-1,0),OFFSET(Removed!E$1,$E190-1,0))","v":"DfE"},{"$f":"CHOOSE(I190,OFFSET(DetailList!AU$1,$C190-1,0),\"Pending: \"&OFFSET(DetailListPending!AU$1,$D190-1,0),\"REMOVED [\"&OFFSET(Removed!AU$1,$E190-1,0)&\"]\")","v":1},1,true,false]
[null,190,{"$f":"MATCH(B191,DetailList!AZ:AZ,0)","v":470},{"$f":"MATCH(B191,DetailListPending!AZ:AZ,0)","v":{"$error":"#N/A"}},{"$f":"MATCH(B191,Removed!AZ$1:AZ$443,0)","v":{"$error":"#N/A"}},{"$f":"CHOOSE(I191,OFFSET(DetailList!C$1,$C191-1,0),\"PENDING: \"&OFFSET(DetailListPending!C$1,$D191-1,0),\"   REMOVED [\"&OFFSET(Removed!C$1,$E191-1,0)&\"]\")","v":"Food Hygiene (LA food law enforcement monitoring return)"},{"$f":"CHOOSE(I191,OFFSET(DetailList!E$1,$C191-1,0),OFFSET(DetailListPending!E$1,$D191-1,0),OFFSET(Removed!E$1,$E191-1,0))","v":"FSA"},{"$f":"CHOOSE(I191,OFFSET(DetailList!AU$1,$C191-1,0),\"Pending: \"&OFFSET(DetailListPending!AU$1,$D191-1,0),\"REMOVED [\"&OFFSET(Removed!AU$1,$E191-1,0)&\"]\")","v":24},1,true,false]
[null,191,{"$f":"MATCH(B192,DetailList!AZ:AZ,0)","v":495},{"$f":"MATCH(B192,DetailListPending!AZ:AZ,0)","v":12},{"$f":"MATCH(B192,Removed!AZ$1:AZ$443,0)","v":{"$error":"#N/A"}},{"$f":"CHOOSE(I192,OFFSET(DetailList!C$1,$C192-1,0),\"PENDING: \"&OFFSET(DetailListPending!C$1,$D192-1,0),\"   REMOVED [\"&OFFSET(Removed!C$1,$E192-1,0)&\"]\")","v":"Food Standards (LA food law enforcement monitoring return)"},{"$f":"CHOOSE(I192,OFFSET(DetailList!E$1,$C192-1,0),OFFSET(DetailListPending!E$1,$D192-1,0),OFFSET(Removed!E$1,$E192-1,0))","v":"FSA"},{"$f":"CHOOSE(I192,OFFSET(DetailList!AU$1,$C192-1,0),\"Pending: \"&OFFSET(DetailListPending!AU$1,$D192-1,0),\"REMOVED [\"&OFFSET(Removed!AU$1,$E192-1,0)&\"]\")","v":17},1,true,true]
[null,192,{"$f":"MATCH(B193,DetailList!AZ:AZ,0)","v":{"$error":"#N/A"}},{"$f":"MATCH(B193,DetailListPending!AZ:AZ,0)","v":{"$error":"#N/A"}},{"$f":"MATCH(B193,Removed!AZ$1:AZ$443,0)","v":423},{"$f":"CHOOSE(I193,OFFSET(DetailList!C$1,$C193-1,0),\"PENDING: \"&OFFSET(DetailListPending!C$1,$D193-1,0),\"   REMOVED [\"&OFFSET(Removed!C$1,$E193-1,0)&\"]\")","v":"   REMOVED [Imported Food (LAEMS)]"},{"$f":"CHOOSE(I193,OFFSET(DetailList!E$1,$C193-1,0),OFFSET(DetailListPending!E$1,$D193-1,0),OFFSET(Removed!E$1,$E193-1,0))","v":"FSA"},{"$f":"CHOOSE(I193,OFFSET(DetailList!AU$1,$C193-1,0),\"Pending: \"&OFFSET(DetailListPending!AU$1,$D193-1,0),\"REMOVED [\"&OFFSET(Removed!AU$1,$E193-1,0)&\"]\")","v":"REMOVED [18]"},3,true,false]
[null,193,{"$f":"MATCH(B194,DetailList!AZ:AZ,0)","v":513},{"$f":"MATCH(B194,DetailListPending!AZ:AZ,0)","v":{"$error":"#N/A"}},{"$f":"MATCH(B194,Removed!AZ$1:AZ$443,0)","v":{"$error":"#N/A"}},{"$f":"CHOOSE(I194,OFFSET(DetailList!C$1,$C194-1,0),\"PENDING: \"&OFFSET(DetailListPending!C$1,$D194-1,0),\"   REMOVED [\"&OFFSET(Removed!C$1,$E194-1,0)&\"]\")","v":"Central Lists of Feed Business Establishments"},{"$f":"CHOOSE(I194,OFFSET(DetailList!E$1,$C194-1,0),OFFSET(DetailListPending!E$1,$D194-1,0),OFFSET(Removed!E$1,$E194-1,0))","v":"FSA"},{"$f":"CHOOSE(I194,OFFSET(DetailList!AU$1,$C194-1,0),\"Pending: \"&OFFSET(DetailListPending!AU$1,$D194-1,0),\"REMOVED [\"&OFFSET(Removed!AU$1,$E194-1,0)&\"]\")","v":1},{"$f":"IF(ISNUMBER(C194),1,IF(ISNUMBER(D194),2,IF(ISNUMBER(E194),3,NA())))","v":1},true,false]
[null,194,{"$f":"MATCH(B195,DetailList!AZ:AZ,0)","v":515},{"$f":"MATCH(B195,DetailListPending!AZ:AZ,0)","v":{"$error":"#N/A"}},{"$f":"MATCH(B195,Removed!AZ$1:AZ$443,0)","v":{"$error":"#N/A"}},{"$f":"CHOOSE(I195,OFFSET(DetailList!C$1,$C195-1,0),\"PENDING: \"&OFFSET(DetailListPending!C$1,$D195-1,0),\"   REMOVED [\"&OFFSET(Removed!C$1,$E195-1,0)&\"]\")","v":"Approved Food Premises"},{"$f":"CHOOSE(I195,OFFSET(DetailList!E$1,$C195-1,0),OFFSET(DetailListPending!E$1,$D195-1,0),OFFSET(Removed!E$1,$E195-1,0))","v":"FSA"},{"$f":"CHOOSE(I195,OFFSET(DetailList!AU$1,$C195-1,0),\"Pending: \"&OFFSET(DetailListPending!AU$1,$D195-1,0),\"REMOVED [\"&OFFSET(Removed!AU$1,$E195-1,0)&\"]\")","v":1},1,{"$f":"NOT(ISNA(I195))","v":true},{"$f":"AND(J195,COUNTIF(C195:E195,NA())<>2)","v":false}]
[null,195,{"$f":"MATCH(B196,DetailList!AZ:AZ,0)","v":517},{"$f":"MATCH(B196,DetailListPending!AZ:AZ,0)","v":{"$error":"#N/A"}},{"$f":"MATCH(B196,Removed!AZ$1:AZ$443,0)","v":{"$error":"#N/A"}},{"$f":"CHOOSE(I196,OFFSET(DetailList!C$1,$C196-1,0),\"PENDING: \"&OFFSET(DetailListPending!C$1,$D196-1,0),\"   REMOVED [\"&OFFSET(Removed!C$1,$E196-1,0)&\"]\")","v":"Imported Food Safeguard Measures"},{"$f":"CHOOSE(I196,OFFSET(DetailList!E$1,$C196-1,0),OFFSET(DetailListPending!E$1,$D196-1,0),OFFSET(Removed!E$1,$E196-1,0))","v":"FSA"},{"$f":"CHOOSE(I196,OFFSET(DetailList!AU$1,$C196-1,0),\"Pending: \"&OFFSET(DetailListPending!AU$1,$D196-1,0),\"REMOVED [\"&OFFSET(Removed!AU$1,$E196-1,0)&\"]\")","v":2},1,true,false]
[null,196,{"$f":"MATCH(B197,DetailList!AZ:AZ,0)","v":520},{"$f":"MATCH(B197,DetailListPending!AZ:AZ,0)","v":{"$error":"#N/A"}},{"$f":"MATCH(B197,Removed!AZ$1:AZ$443,0)","v":{"$error":"#N/A"}},{"$f":"CHOOSE(I197,OFFSET(DetailList!C$1,$C197-1,0),\"PENDING: \"&OFFSET(DetailListPending!C$1,$D197-1,0),\"   REMOVED [\"&OFFSET(Removed!C$1,$E197-1,0)&\"]\")","v":"Animal Feed Data returns"},{"$f":"CHOOSE(I197,OFFSET(DetailList!E$1,$C197-1,0),OFFSET(DetailListPending!E$1,$D197-1,0),OFFSET(Removed!E$1,$E197-1,0))","v":"FSA"},{"$f":"CHOOSE(I197,OFFSET(DetailList!AU$1,$C197-1,0),\"Pending: \"&OFFSET(DetailListPending!AU$1,$D197-1,0),\"REMOVED [\"&OFFSET(Removed!AU$1,$E197-1,0)&\"]\")","v":8},1,true,false]
[null,197,{"$f":"MATCH(B198,DetailList!AZ:AZ,0)","v":529},{"$f":"MATCH(B198,DetailListPending!AZ:AZ,0)","v":{"$error":"#N/A"}},{"$f":"MATCH(B198,Removed!AZ$1:AZ$443,0)","v":{"$error":"#N/A"}},{"$f":"CHOOSE(I198,OFFSET(DetailList!C$1,$C198-1,0),\"PENDING: \"&OFFSET(DetailListPending!C$1,$D198-1,0),\"   REMOVED [\"&OFFSET(Removed!C$1,$E198-1,0)&\"]\")","v":"Food Hygiene Rating Scheme (FHRS)"},{"$f":"CHOOSE(I198,OFFSET(DetailList!E$1,$C198-1,0),OFFSET(DetailListPending!E$1,$D198-1,0),OFFSET(Removed!E$1,$E198-1,0))","v":"FSA"},{"$f":"CHOOSE(I198,OFFSET(DetailList!AU$1,$C198-1,0),\"Pending: \"&OFFSET(DetailListPending!AU$1,$D198-1,0),\"REMOVED [\"&OFFSET(Removed!AU$1,$E198-1,0)&\"]\")","v":4},1,true,false]
[null,198,{"$f":"MATCH(B199,DetailList!AZ:AZ,0)","v":{"$error":"#N/A"}},{"$f":"MATCH(B199,DetailListPending!AZ:AZ,0)","v":{"$error":"#N/A"}},{"$f":"MATCH(B199,Removed!AZ$1:AZ$443,0)","v":106},{"$f":"CHOOSE(I199,OFFSET(DetailList!C$1,$C199-1,0),\"PENDING: \"&OFFSET(DetailListPending!C$1,$D199-1,0),\"   REMOVED [\"&OFFSET(Removed!C$1,$E199-1,0)&\"]\")","v":"   REMOVED [Educational Psychology workforce planning survey]"},{"$f":"CHOOSE(I199,OFFSET(DetailList!E$1,$C199-1,0),OFFSET(DetailListPending!E$1,$D199-1,0),OFFSET(Removed!E$1,$E199-1,0))","v":"DfE/CWDC"},{"$f":"CHOOSE(I199,OFFSET(DetailList!AU$1,$C199-1,0),\"Pending: \"&OFFSET(DetailListPending!AU$1,$D199-1,0),\"REMOVED [\"&OFFSET(Removed!AU$1,$E199-1,0)&\"]\")","v":"REMOVED [1]"},3,true,false]
[null,199,{"$f":"MATCH(B200,DetailList!AZ:AZ,0)","v":{"$error":"#N/A"}},{"$f":"MATCH(B200,DetailListPending!AZ:AZ,0)","v":{"$error":"#N/A"}},{"$f":"MATCH(B200,Removed!AZ$1:AZ$443,0)","v":108},{"$f":"CHOOSE(I200,OFFSET(DetailList!C$1,$C200-1,0),\"PENDING: \"&OFFSET(DetailListPending!C$1,$D200-1,0),\"   REMOVED [\"&OFFSET(Removed!C$1,$E200-1,0)&\"]\")","v":"   REMOVED [Foster Care Training, Support and Development Standards Audit]"},{"$f":"CHOOSE(I200,OFFSET(DetailList!E$1,$C200-1,0),OFFSET(DetailListPending!E$1,$D200-1,0),OFFSET(Removed!E$1,$E200-1,0))","v":"DfE/CWDC"},{"$f":"CHOOSE(I200,OFFSET(DetailList!AU$1,$C200-1,0),\"Pending: \"&OFFSET(DetailListPending!AU$1,$D200-1,0),\"REMOVED [\"&OFFSET(Removed!AU$1,$E200-1,0)&\"]\")","v":"REMOVED [1]"},3,true,false]
[null,200,{"$f":"MATCH(B201,DetailList!AZ:AZ,0)","v":{"$error":"#N/A"}},{"$f":"MATCH(B201,DetailListPending!AZ:AZ,0)","v":{"$error":"#N/A"}},{"$f":"MATCH(B201,Removed!AZ$1:AZ$443,0)","v":421},{"$f":"CHOOSE(I201,OFFSET(DetailList!C$1,$C201-1,0),\"PENDING: \"&OFFSET(DetailListPending!C$1,$D201-1,0),\"   REMOVED [\"&OFFSET(Removed!C$1,$E201-1,0)&\"]\")","v":"   REMOVED [Newly Qualified Teachers - Induction Returns]"},{"$f":"CHOOSE(I201,OFFSET(DetailList!E$1,$C201-1,0),OFFSET(DetailListPending!E$1,$D201-1,0),OFFSET(Removed!E$1,$E201-1,0))","v":"DfE/TRA"},{"$f":"CHOOSE(I201,OFFSET(DetailList!AU$1,$C201-1,0),\"Pending: \"&OFFSET(DetailListPending!AU$1,$D201-1,0),\"REMOVED [\"&OFFSET(Removed!AU$1,$E201-1,0)&\"]\")","v":"REMOVED [1]"},3,true,false]
[null,201,{"$f":"MATCH(B202,DetailList!AZ:AZ,0)","v":{"$error":"#N/A"}},{"$f":"MATCH(B202,DetailListPending!AZ:AZ,0)","v":{"$error":"#N/A"}},{"$f":"MATCH(B202,Removed!AZ$1:AZ$443,0)","v":180},{"$f":"CHOOSE(I202,OFFSET(DetailList!C$1,$C202-1,0),\"PENDING: \"&OFFSET(DetailListPending!C$1,$D202-1,0),\"   REMOVED [\"&OFFSET(Removed!C$1,$E202-1,0)&\"]\")","v":"   REMOVED [Fee Collection – Salary Deduction Process]"},{"$f":"CHOOSE(I202,OFFSET(DetailList!E$1,$C202-1,0),OFFSET(DetailListPending!E$1,$D202-1,0),OFFSET(Removed!E$1,$E202-1,0))","v":"DfE/GTC"},{"$f":"CHOOSE(I202,OFFSET(DetailList!AU$1,$C202-1,0),\"Pending: \"&OFFSET(DetailListPending!AU$1,$D202-1,0),\"REMOVED [\"&OFFSET(Removed!AU$1,$E202-1,0)&\"]\")","v":"REMOVED [1]"},3,true,false]
[null,202,{"$f":"MATCH(B203,DetailList!AZ:AZ,0)","v":{"$error":"#N/A"}},{"$f":"MATCH(B203,DetailListPending!AZ:AZ,0)","v":{"$error":"#N/A"}},{"$f":"MATCH(B203,Removed!AZ$1:AZ$443,0)","v":104},{"$f":"CHOOSE(I203,OFFSET(DetailList!C$1,$C203-1,0),\"PENDING: \"&OFFSET(DetailListPending!C$1,$D203-1,0),\"   REMOVED [\"&OFFSET(Removed!C$1,$E203-1,0)&\"]\")","v":"   REMOVED [Schools capacity]"},{"$f":"CHOOSE(I203,OFFSET(DetailList!E$1,$C203-1,0),OFFSET(DetailListPending!E$1,$D203-1,0),OFFSET(Removed!E$1,$E203-1,0))","v":"DfE/PfS"},{"$f":"CHOOSE(I203,OFFSET(DetailList!AU$1,$C203-1,0),\"Pending: \"&OFFSET(DetailListPending!AU$1,$D203-1,0),\"REMOVED [\"&OFFSET(Removed!AU$1,$E203-1,0)&\"]\")","v":"REMOVED [1]"},3,true,false]
[null,203,{"$f":"MATCH(B204,DetailList!AZ:AZ,0)","v":342},{"$f":"MATCH(B204,DetailListPending!AZ:AZ,0)","v":{"$error":"#N/A"}},{"$f":"MATCH(B204,Removed!AZ$1:AZ$443,0)","v":{"$error":"#N/A"}},{"$f":"CHOOSE(I204,OFFSET(DetailList!C$1,$C204-1,0),\"PENDING: \"&OFFSET(DetailListPending!C$1,$D204-1,0),\"   REMOVED [\"&OFFSET(Removed!C$1,$E204-1,0)&\"]\")","v":"Schools capital outturn"},{"$f":"CHOOSE(I204,OFFSET(DetailList!E$1,$C204-1,0),OFFSET(DetailListPending!E$1,$D204-1,0),OFFSET(Removed!E$1,$E204-1,0))","v":"DfE/ESFA"},{"$f":"CHOOSE(I204,OFFSET(DetailList!AU$1,$C204-1,0),\"Pending: \"&OFFSET(DetailListPending!AU$1,$D204-1,0),\"REMOVED [\"&OFFSET(Removed!AU$1,$E204-1,0)&\"]\")","v":1},1,true,false]
[null,204,{"$f":"MATCH(B205,DetailList!AZ:AZ,0)","v":{"$error":"#N/A"}},{"$f":"MATCH(B205,DetailListPending!AZ:AZ,0)","v":{"$error":"#N/A"}},{"$f":"MATCH(B205,Removed!AZ$1:AZ$443,0)","v":279},{"$f":"CHOOSE(I205,OFFSET(DetailList!C$1,$C205-1,0),\"PENDING: \"&OFFSET(DetailListPending!C$1,$D205-1,0),\"   REMOVED [\"&OFFSET(Removed!C$1,$E205-1,0)&\"]\")","v":"   REMOVED [Young Apprenticeships (YA) (TO CEASE DURING 2012/13)]"},{"$f":"CHOOSE(I205,OFFSET(DetailList!E$1,$C205-1,0),OFFSET(DetailListPending!E$1,$D205-1,0),OFFSET(Removed!E$1,$E205-1,0))","v":"DfE/YPLA"},{"$f":"CHOOSE(I205,OFFSET(DetailList!AU$1,$C205-1,0),\"Pending: \"&OFFSET(DetailListPending!AU$1,$D205-1,0),\"REMOVED [\"&OFFSET(Removed!AU$1,$E205-1,0)&\"]\")","v":"REMOVED [1]"},3,true,false]
[null,205,{"$f":"MATCH(B206,DetailList!AZ:AZ,0)","v":{"$error":"#N/A"}},{"$f":"MATCH(B206,DetailListPending!AZ:AZ,0)","v":{"$error":"#N/A"}},{"$f":"MATCH(B206,Removed!AZ$1:AZ$443,0)","v":129},{"$f":"CHOOSE(I206,OFFSET(DetailList!C$1,$C206-1,0),\"PENDING: \"&OFFSET(DetailListPending!C$1,$D206-1,0),\"   REMOVED [\"&OFFSET(Removed!C$1,$E206-1,0)&\"]\")","v":"   REMOVED [Education Business Partnership Services (EBPS)]"},{"$f":"CHOOSE(I206,OFFSET(DetailList!E$1,$C206-1,0),OFFSET(DetailListPending!E$1,$D206-1,0),OFFSET(Removed!E$1,$E206-1,0))","v":"DfE/YPLA"},{"$f":"CHOOSE(I206,OFFSET(DetailList!AU$1,$C206-1,0),\"Pending: \"&OFFSET(DetailListPending!AU$1,$D206-1,0),\"REMOVED [\"&OFFSET(Removed!AU$1,$E206-1,0)&\"]\")","v":"REMOVED [1]"},3,true,false]
[null,206,{"$f":"MATCH(B207,DetailList!AZ:AZ,0)","v":344},{"$f":"MATCH(B207,DetailListPending!AZ:AZ,0)","v":{"$error":"#N/A"}},{"$f":"MATCH(B207,Removed!AZ$1:AZ$443,0)","v":{"$error":"#N/A"}},{"$f":"CHOOSE(I207,OFFSET(DetailList!C$1,$C207-1,0),\"PENDING: \"&OFFSET(DetailListPending!C$1,$D207-1,0),\"   REMOVED [\"&OFFSET(Removed!C$1,$E207-1,0)&\"]\")","v":"Information to support calculations of the minimum funding guarantee to Academies "},{"$f":"CHOOSE(I207,OFFSET(DetailList!E$1,$C207-1,0),OFFSET(DetailListPending!E$1,$D207-1,0),OFFSET(Removed!E$1,$E207-1,0))","v":"DfE/ESFA"},{"$f":"CHOOSE(I207,OFFSET(DetailList!AU$1,$C207-1,0),\"Pending: \"&OFFSET(DetailListPending!AU$1,$D207-1,0),\"REMOVED [\"&OFFSET(Removed!AU$1,$E207-1,0)&\"]\")","v":1},1,true,false]
[null,207,{"$f":"MATCH(B208,DetailList!AZ:AZ,0)","v":175},{"$f":"MATCH(B208,DetailListPending!AZ:AZ,0)","v":{"$error":"#N/A"}},{"$f":"MATCH(B208,Removed!AZ$1:AZ$443,0)","v":{"$error":"#N/A"}},{"$f":"CHOOSE(I208,OFFSET(DetailList!C$1,$C208-1,0),\"PENDING: \"&OFFSET(DetailListPending!C$1,$D208-1,0),\"   REMOVED [\"&OFFSET(Removed!C$1,$E208-1,0)&\"]\")","v":"Gambling Licensing Authority Returns"},{"$f":"CHOOSE(I208,OFFSET(DetailList!E$1,$C208-1,0),OFFSET(DetailListPending!E$1,$D208-1,0),OFFSET(Removed!E$1,$E208-1,0))","v":"DCMS/GC"},{"$f":"CHOOSE(I208,OFFSET(DetailList!AU$1,$C208-1,0),\"Pending: \"&OFFSET(DetailListPending!AU$1,$D208-1,0),\"REMOVED [\"&OFFSET(Removed!AU$1,$E208-1,0)&\"]\")","v":1},1,true,false]
[null,208,{"$f":"MATCH(B209,DetailList!AZ:AZ,0)","v":{"$error":"#N/A"}},{"$f":"MATCH(B209,DetailListPending!AZ:AZ,0)","v":{"$error":"#N/A"}},{"$f":"MATCH(B209,Removed!AZ$1:AZ$443,0)","v":226},{"$f":"CHOOSE(I209,OFFSET(DetailList!C$1,$C209-1,0),\"PENDING: \"&OFFSET(DetailListPending!C$1,$D209-1,0),\"   REMOVED [\"&OFFSET(Removed!C$1,$E209-1,0)&\"]\")","v":"   REMOVED [Small Society Lottery ]"},{"$f":"CHOOSE(I209,OFFSET(DetailList!E$1,$C209-1,0),OFFSET(DetailListPending!E$1,$D209-1,0),OFFSET(Removed!E$1,$E209-1,0))","v":"DCMS/GC"},{"$f":"CHOOSE(I209,OFFSET(DetailList!AU$1,$C209-1,0),\"Pending: \"&OFFSET(DetailListPending!AU$1,$D209-1,0),\"REMOVED [\"&OFFSET(Removed!AU$1,$E209-1,0)&\"]\")","v":"REMOVED [1]"},3,true,false]
[null,209,{"$f":"MATCH(B210,DetailList!AZ:AZ,0)","v":{"$error":"#N/A"}},{"$f":"MATCH(B210,DetailListPending!AZ:AZ,0)","v":{"$error":"#N/A"}},{"$f":"MATCH(B210,Removed!AZ$1:AZ$443,0)","v":182},{"$f":"CHOOSE(I210,OFFSET(DetailList!C$1,$C210-1,0),\"PENDING: \"&OFFSET(DetailListPending!C$1,$D210-1,0),\"   REMOVED [\"&OFFSET(Removed!C$1,$E210-1,0)&\"]\")","v":"   REMOVED [Gambling Temporary Use Notices]"},{"$f":"CHOOSE(I210,OFFSET(DetailList!E$1,$C210-1,0),OFFSET(DetailListPending!E$1,$D210-1,0),OFFSET(Removed!E$1,$E210-1,0))","v":"DCMS/GC"},{"$f":"CHOOSE(I210,OFFSET(DetailList!AU$1,$C210-1,0),\"Pending: \"&OFFSET(DetailListPending!AU$1,$D210-1,0),\"REMOVED [\"&OFFSET(Removed!AU$1,$E210-1,0)&\"]\")","v":"REMOVED [1]"},3,true,false]
[null,210,{"$f":"MATCH(B211,DetailList!AZ:AZ,0)","v":{"$error":"#N/A"}},{"$f":"MATCH(B211,DetailListPending!AZ:AZ,0)","v":{"$error":"#N/A"}},{"$f":"MATCH(B211,Removed!AZ$1:AZ$443,0)","v":184},{"$f":"CHOOSE(I211,OFFSET(DetailList!C$1,$C211-1,0),\"PENDING: \"&OFFSET(DetailListPending!C$1,$D211-1,0),\"   REMOVED [\"&OFFSET(Removed!C$1,$E211-1,0)&\"]\")","v":"   REMOVED [Club Machine Permits & Club Gaming Permits]"},{"$f":"CHOOSE(I211,OFFSET(DetailList!E$1,$C211-1,0),OFFSET(DetailListPending!E$1,$D211-1,0),OFFSET(Removed!E$1,$E211-1,0))","v":"DCMS/GC"},{"$f":"CHOOSE(I211,OFFSET(DetailList!AU$1,$C211-1,0),\"Pending: \"&OFFSET(DetailListPending!AU$1,$D211-1,0),\"REMOVED [\"&OFFSET(Removed!AU$1,$E211-1,0)&\"]\")","v":"REMOVED [1]"},3,true,false]
[null,211,{"$f":"MATCH(B212,DetailList!AZ:AZ,0)","v":{"$error":"#N/A"}},{"$f":"MATCH(B212,DetailListPending!AZ:AZ,0)","v":{"$error":"#N/A"}},{"$f":"MATCH(B212,Removed!AZ$1:AZ$443,0)","v":186},{"$f":"CHOOSE(I212,OFFSET(DetailList!C$1,$C212-1,0),\"PENDING: \"&OFFSET(DetailListPending!C$1,$D212-1,0),\"   REMOVED [\"&OFFSET(Removed!C$1,$E212-1,0)&\"]\")","v":"   REMOVED [Gambling Premises data]"},{"$f":"CHOOSE(I212,OFFSET(DetailList!E$1,$C212-1,0),OFFSET(DetailListPending!E$1,$D212-1,0),OFFSET(Removed!E$1,$E212-1,0))","v":"DCMS/GC"},{"$f":"CHOOSE(I212,OFFSET(DetailList!AU$1,$C212-1,0),\"Pending: \"&OFFSET(DetailListPending!AU$1,$D212-1,0),\"REMOVED [\"&OFFSET(Removed!AU$1,$E212-1,0)&\"]\")","v":"REMOVED [1]"},3,true,false]
[null,212,{"$f":"MATCH(B213,DetailList!AZ:AZ,0)","v":{"$error":"#N/A"}},{"$f":"MATCH(B213,DetailListPending!AZ:AZ,0)","v":{"$error":"#N/A"}},{"$f":"MATCH(B213,Removed!AZ$1:AZ$443,0)","v":85},{"$f":"CHOOSE(I213,OFFSET(DetailList!C$1,$C213-1,0),\"PENDING: \"&OFFSET(DetailListPending!C$1,$D213-1,0),\"   REMOVED [\"&OFFSET(Removed!C$1,$E213-1,0)&\"]\")","v":"   REMOVED [Public Sector Equality Duty]"},{"$f":"CHOOSE(I213,OFFSET(DetailList!E$1,$C213-1,0),OFFSET(DetailListPending!E$1,$D213-1,0),OFFSET(Removed!E$1,$E213-1,0))","v":"HO/GEO"},{"$f":"CHOOSE(I213,OFFSET(DetailList!AU$1,$C213-1,0),\"Pending: \"&OFFSET(DetailListPending!AU$1,$D213-1,0),\"REMOVED [\"&OFFSET(Removed!AU$1,$E213-1,0)&\"]\")","v":"REMOVED [4]"},3,true,false]
[null,213,{"$f":"MATCH(B214,DetailList!AZ:AZ,0)","v":{"$error":"#N/A"}},{"$f":"MATCH(B214,DetailListPending!AZ:AZ,0)","v":{"$error":"#N/A"}},{"$f":"MATCH(B214,Removed!AZ$1:AZ$443,0)","v":397},{"$f":"CHOOSE(I214,OFFSET(DetailList!C$1,$C214-1,0),\"PENDING: \"&OFFSET(DetailListPending!C$1,$D214-1,0),\"   REMOVED [\"&OFFSET(Removed!C$1,$E214-1,0)&\"]\")","v":"   REMOVED [Public Contracts Regulations 2006 ]"},{"$f":"CHOOSE(I214,OFFSET(DetailList!E$1,$C214-1,0),OFFSET(DetailListPending!E$1,$D214-1,0),OFFSET(Removed!E$1,$E214-1,0))","v":"DCLG"},{"$f":"CHOOSE(I214,OFFSET(DetailList!AU$1,$C214-1,0),\"Pending: \"&OFFSET(DetailListPending!AU$1,$D214-1,0),\"REMOVED [\"&OFFSET(Removed!AU$1,$E214-1,0)&\"]\")","v":"REMOVED [2]"},3,true,false]
[null,214,{"$f":"MATCH(B215,DetailList!AZ:AZ,0)","v":{"$error":"#N/A"}},{"$f":"MATCH(B215,DetailListPending!AZ:AZ,0)","v":{"$error":"#N/A"}},{"$f":"MATCH(B215,Removed!AZ$1:AZ$443,0)","v":126},{"$f":"CHOOSE(I215,OFFSET(DetailList!C$1,$C215-1,0),\"PENDING: \"&OFFSET(DetailListPending!C$1,$D215-1,0),\"   REMOVED [\"&OFFSET(Removed!C$1,$E215-1,0)&\"]\")","v":"   REMOVED [Utilities Contract Regulations 2006]"},{"$f":"CHOOSE(I215,OFFSET(DetailList!E$1,$C215-1,0),OFFSET(DetailListPending!E$1,$D215-1,0),OFFSET(Removed!E$1,$E215-1,0))","v":"DfT"},{"$f":"CHOOSE(I215,OFFSET(DetailList!AU$1,$C215-1,0),\"Pending: \"&OFFSET(DetailListPending!AU$1,$D215-1,0),\"REMOVED [\"&OFFSET(Removed!AU$1,$E215-1,0)&\"]\")","v":"REMOVED [2]"},3,true,false]
[null,215,{"$f":"MATCH(B216,DetailList!AZ:AZ,0)","v":538},{"$f":"MATCH(B216,DetailListPending!AZ:AZ,0)","v":{"$error":"#N/A"}},{"$f":"MATCH(B216,Removed!AZ$1:AZ$443,0)","v":{"$error":"#N/A"}},{"$f":"CHOOSE(I216,OFFSET(DetailList!C$1,$C216-1,0),\"PENDING: \"&OFFSET(DetailListPending!C$1,$D216-1,0),\"   REMOVED [\"&OFFSET(Removed!C$1,$E216-1,0)&\"]\")","v":"Electoral Statistics"},{"$f":"CHOOSE(I216,OFFSET(DetailList!E$1,$C216-1,0),OFFSET(DetailListPending!E$1,$D216-1,0),OFFSET(Removed!E$1,$E216-1,0))","v":"ONS"},{"$f":"CHOOSE(I216,OFFSET(DetailList!AU$1,$C216-1,0),\"Pending: \"&OFFSET(DetailListPending!AU$1,$D216-1,0),\"REMOVED [\"&OFFSET(Removed!AU$1,$E216-1,0)&\"]\")","v":1},1,true,false]
[null,216,{"$f":"MATCH(B217,DetailList!AZ:AZ,0)","v":305},{"$f":"MATCH(B217,DetailListPending!AZ:AZ,0)","v":{"$error":"#N/A"}},{"$f":"MATCH(B217,Removed!AZ$1:AZ$443,0)","v":{"$error":"#N/A"}},{"$f":"CHOOSE(I217,OFFSET(DetailList!C$1,$C217-1,0),\"PENDING: \"&OFFSET(DetailListPending!C$1,$D217-1,0),\"   REMOVED [\"&OFFSET(Removed!C$1,$E217-1,0)&\"]\")","v":"School Condition"},{"$f":"CHOOSE(I217,OFFSET(DetailList!E$1,$C217-1,0),OFFSET(DetailListPending!E$1,$D217-1,0),OFFSET(Removed!E$1,$E217-1,0))","v":"DfE"},{"$f":"CHOOSE(I217,OFFSET(DetailList!AU$1,$C217-1,0),\"Pending: \"&OFFSET(DetailListPending!AU$1,$D217-1,0),\"REMOVED [\"&OFFSET(Removed!AU$1,$E217-1,0)&\"]\")","v":1},1,true,false]
[null,217,{"$f":"MATCH(B218,DetailList!AZ:AZ,0)","v":{"$error":"#N/A"}},{"$f":"MATCH(B218,DetailListPending!AZ:AZ,0)","v":{"$error":"#N/A"}},{"$f":"MATCH(B218,Removed!AZ$1:AZ$443,0)","v":389},{"$f":"CHOOSE(I218,OFFSET(DetailList!C$1,$C218-1,0),\"PENDING: \"&OFFSET(DetailListPending!C$1,$D218-1,0),\"   REMOVED [\"&OFFSET(Removed!C$1,$E218-1,0)&\"]\")","v":"   REMOVED [Adoption data set and adoption self assessment]"},{"$f":"CHOOSE(I218,OFFSET(DetailList!E$1,$C218-1,0),OFFSET(DetailListPending!E$1,$D218-1,0),OFFSET(Removed!E$1,$E218-1,0))","v":"DfE/Ofsted"},{"$f":"CHOOSE(I218,OFFSET(DetailList!AU$1,$C218-1,0),\"Pending: \"&OFFSET(DetailListPending!AU$1,$D218-1,0),\"REMOVED [\"&OFFSET(Removed!AU$1,$E218-1,0)&\"]\")","v":"REMOVED [-1]"},3,true,false]
[null,218,{"$f":"MATCH(B219,DetailList!AZ:AZ,0)","v":{"$error":"#N/A"}},{"$f":"MATCH(B219,DetailListPending!AZ:AZ,0)","v":{"$error":"#N/A"}},{"$f":"MATCH(B219,Removed!AZ$1:AZ$443,0)","v":391},{"$f":"CHOOSE(I219,OFFSET(DetailList!C$1,$C219-1,0),\"PENDING: \"&OFFSET(DetailListPending!C$1,$D219-1,0),\"   REMOVED [\"&OFFSET(Removed!C$1,$E219-1,0)&\"]\")","v":"   REMOVED [Placement data collection]"},{"$f":"CHOOSE(I219,OFFSET(DetailList!E$1,$C219-1,0),OFFSET(DetailListPending!E$1,$D219-1,0),OFFSET(Removed!E$1,$E219-1,0))","v":"DfE/Ofsted"},{"$f":"CHOOSE(I219,OFFSET(DetailList!AU$1,$C219-1,0),\"Pending: \"&OFFSET(DetailListPending!AU$1,$D219-1,0),\"REMOVED [\"&OFFSET(Removed!AU$1,$E219-1,0)&\"]\")","v":"REMOVED [-1]"},3,true,false]
[null,219,{"$f":"MATCH(B220,DetailList!AZ:AZ,0)","v":{"$error":"#N/A"}},{"$f":"MATCH(B220,DetailListPending!AZ:AZ,0)","v":{"$error":"#N/A"}},{"$f":"MATCH(B220,Removed!AZ$1:AZ$443,0)","v":393},{"$f":"CHOOSE(I220,OFFSET(DetailList!C$1,$C220-1,0),\"PENDING: \"&OFFSET(DetailListPending!C$1,$D220-1,0),\"   REMOVED [\"&OFFSET(Removed!C$1,$E220-1,0)&\"]\")","v":"   REMOVED [Childcare inspection data]"},{"$f":"CHOOSE(I220,OFFSET(DetailList!E$1,$C220-1,0),OFFSET(DetailListPending!E$1,$D220-1,0),OFFSET(Removed!E$1,$E220-1,0))","v":"DfE/Ofsted"},{"$f":"CHOOSE(I220,OFFSET(DetailList!AU$1,$C220-1,0),\"Pending: \"&OFFSET(DetailListPending!AU$1,$D220-1,0),\"REMOVED [\"&OFFSET(Removed!AU$1,$E220-1,0)&\"]\")","v":"REMOVED [1]"},3,true,false]
[null,220,{"$f":"MATCH(B221,DetailList!AZ:AZ,0)","v":{"$error":"#N/A"}},{"$f":"MATCH(B221,DetailListPending!AZ:AZ,0)","v":{"$error":"#N/A"}},{"$f":"MATCH(B221,Removed!AZ$1:AZ$443,0)","v":190},{"$f":"CHOOSE(I221,OFFSET(DetailList!C$1,$C221-1,0),\"PENDING: \"&OFFSET(DetailListPending!C$1,$D221-1,0),\"   REMOVED [\"&OFFSET(Removed!C$1,$E221-1,0)&\"]\")","v":"   REMOVED [Residential family centres’ data]"},{"$f":"CHOOSE(I221,OFFSET(DetailList!E$1,$C221-1,0),OFFSET(DetailListPending!E$1,$D221-1,0),OFFSET(Removed!E$1,$E221-1,0))","v":"DfE/Ofsted"},{"$f":"CHOOSE(I221,OFFSET(DetailList!AU$1,$C221-1,0),\"Pending: \"&OFFSET(DetailListPending!AU$1,$D221-1,0),\"REMOVED [\"&OFFSET(Removed!AU$1,$E221-1,0)&\"]\")","v":"REMOVED [1]"},3,true,false]
[null,221,{"$f":"MATCH(B222,DetailList!AZ:AZ,0)","v":{"$error":"#N/A"}},{"$f":"MATCH(B222,DetailListPending!AZ:AZ,0)","v":{"$error":"#N/A"}},{"$f":"MATCH(B222,Removed!AZ$1:AZ$443,0)","v":400},{"$f":"CHOOSE(I222,OFFSET(DetailList!C$1,$C222-1,0),\"PENDING: \"&OFFSET(DetailListPending!C$1,$D222-1,0),\"   REMOVED [\"&OFFSET(Removed!C$1,$E222-1,0)&\"]\")","v":"   REMOVED [Social Care data]"},{"$f":"CHOOSE(I222,OFFSET(DetailList!E$1,$C222-1,0),OFFSET(DetailListPending!E$1,$D222-1,0),OFFSET(Removed!E$1,$E222-1,0))","v":"DfE/Ofsted"},{"$f":"CHOOSE(I222,OFFSET(DetailList!AU$1,$C222-1,0),\"Pending: \"&OFFSET(DetailListPending!AU$1,$D222-1,0),\"REMOVED [\"&OFFSET(Removed!AU$1,$E222-1,0)&\"]\")","v":"REMOVED [1]"},3,true,false]
[null,222,{"$f":"MATCH(B223,DetailList!AZ:AZ,0)","v":336},{"$f":"MATCH(B223,DetailListPending!AZ:AZ,0)","v":{"$error":"#N/A"}},{"$f":"MATCH(B223,Removed!AZ$1:AZ$443,0)","v":{"$error":"#N/A"}},{"$f":"CHOOSE(I223,OFFSET(DetailList!C$1,$C223-1,0),\"PENDING: \"&OFFSET(DetailListPending!C$1,$D223-1,0),\"   REMOVED [\"&OFFSET(Removed!C$1,$E223-1,0)&\"]\")","v":"Foster care data set and self assessment"},{"$f":"CHOOSE(I223,OFFSET(DetailList!E$1,$C223-1,0),OFFSET(DetailListPending!E$1,$D223-1,0),OFFSET(Removed!E$1,$E223-1,0))","v":"DfE/Ofsted"},{"$f":"CHOOSE(I223,OFFSET(DetailList!AU$1,$C223-1,0),\"Pending: \"&OFFSET(DetailListPending!AU$1,$D223-1,0),\"REMOVED [\"&OFFSET(Removed!AU$1,$E223-1,0)&\"]\")","v":1},1,true,false]
[null,223,{"$f":"MATCH(B224,DetailList!AZ:AZ,0)","v":{"$error":"#N/A"}},{"$f":"MATCH(B224,DetailListPending!AZ:AZ,0)","v":{"$error":"#N/A"}},{"$f":"MATCH(B224,Removed!AZ$1:AZ$443,0)","v":192},{"$f":"CHOOSE(I224,OFFSET(DetailList!C$1,$C224-1,0),\"PENDING: \"&OFFSET(DetailListPending!C$1,$D224-1,0),\"   REMOVED [\"&OFFSET(Removed!C$1,$E224-1,0)&\"]\")","v":"   REMOVED [Point of inspection placing authorities’ questionnaire]"},{"$f":"CHOOSE(I224,OFFSET(DetailList!E$1,$C224-1,0),OFFSET(DetailListPending!E$1,$D224-1,0),OFFSET(Removed!E$1,$E224-1,0))","v":"DfE/Ofsted"},{"$f":"CHOOSE(I224,OFFSET(DetailList!AU$1,$C224-1,0),\"Pending: \"&OFFSET(DetailListPending!AU$1,$D224-1,0),\"REMOVED [\"&OFFSET(Removed!AU$1,$E224-1,0)&\"]\")","v":"REMOVED [1]"},3,true,false]
[null,224,{"$f":"MATCH(B225,DetailList!AZ:AZ,0)","v":338},{"$f":"MATCH(B225,DetailListPending!AZ:AZ,0)","v":{"$error":"#N/A"}},{"$f":"MATCH(B225,Removed!AZ$1:AZ$443,0)","v":{"$error":"#N/A"}},{"$f":"CHOOSE(I225,OFFSET(DetailList!C$1,$C225-1,0),\"PENDING: \"&OFFSET(DetailListPending!C$1,$D225-1,0),\"   REMOVED [\"&OFFSET(Removed!C$1,$E225-1,0)&\"]\")","v":"Local Authority Data Collection of Linked and Federated Provision"},{"$f":"CHOOSE(I225,OFFSET(DetailList!E$1,$C225-1,0),OFFSET(DetailListPending!E$1,$D225-1,0),OFFSET(Removed!E$1,$E225-1,0))","v":"DfE"},{"$f":"CHOOSE(I225,OFFSET(DetailList!AU$1,$C225-1,0),\"Pending: \"&OFFSET(DetailListPending!AU$1,$D225-1,0),\"REMOVED [\"&OFFSET(Removed!AU$1,$E225-1,0)&\"]\")","v":1},1,true,false]
[null,225,{"$f":"MATCH(B226,DetailList!AZ:AZ,0)","v":340},{"$f":"MATCH(B226,DetailListPending!AZ:AZ,0)","v":{"$error":"#N/A"}},{"$f":"MATCH(B226,Removed!AZ$1:AZ$443,0)","v":{"$error":"#N/A"}},{"$f":"CHOOSE(I226,OFFSET(DetailList!C$1,$C226-1,0),\"PENDING: \"&OFFSET(DetailListPending!C$1,$D226-1,0),\"   REMOVED [\"&OFFSET(Removed!C$1,$E226-1,0)&\"]\")","v":"Local Authority Adult and Community Learning provision."},{"$f":"CHOOSE(I226,OFFSET(DetailList!E$1,$C226-1,0),OFFSET(DetailListPending!E$1,$D226-1,0),OFFSET(Removed!E$1,$E226-1,0))","v":"DfE/Ofsted"},{"$f":"CHOOSE(I226,OFFSET(DetailList!AU$1,$C226-1,0),\"Pending: \"&OFFSET(DetailListPending!AU$1,$D226-1,0),\"REMOVED [\"&OFFSET(Removed!AU$1,$E226-1,0)&\"]\")","v":1},1,true,false]
[null,226,{"$f":"MATCH(B227,DetailList!AZ:AZ,0)","v":{"$error":"#N/A"}},{"$f":"MATCH(B227,DetailListPending!AZ:AZ,0)","v":{"$error":"#N/A"}},{"$f":"MATCH(B227,Removed!AZ$1:AZ$443,0)","v":194},{"$f":"CHOOSE(I227,OFFSET(DetailList!C$1,$C227-1,0),\"PENDING: \"&OFFSET(DetailListPending!C$1,$D227-1,0),\"   REMOVED [\"&OFFSET(Removed!C$1,$E227-1,0)&\"]\")","v":"   REMOVED [Pre-inspection data for private fostering services]"},{"$f":"CHOOSE(I227,OFFSET(DetailList!E$1,$C227-1,0),OFFSET(DetailListPending!E$1,$D227-1,0),OFFSET(Removed!E$1,$E227-1,0))","v":"DfE/Ofsted"},{"$f":"CHOOSE(I227,OFFSET(DetailList!AU$1,$C227-1,0),\"Pending: \"&OFFSET(DetailListPending!AU$1,$D227-1,0),\"REMOVED [\"&OFFSET(Removed!AU$1,$E227-1,0)&\"]\")","v":"REMOVED [1]"},3,true,false]
[null,227,{"$f":"MATCH(B228,DetailList!AZ:AZ,0)","v":545},{"$f":"MATCH(B228,DetailListPending!AZ:AZ,0)","v":{"$error":"#N/A"}},{"$f":"MATCH(B228,Removed!AZ$1:AZ$443,0)","v":{"$error":"#N/A"}},{"$f":"CHOOSE(I228,OFFSET(DetailList!C$1,$C228-1,0),\"PENDING: \"&OFFSET(DetailListPending!C$1,$D228-1,0),\"   REMOVED [\"&OFFSET(Removed!C$1,$E228-1,0)&\"]\")","v":"Performance Standards for Electoral Registration Officers"},{"$f":"CHOOSE(I228,OFFSET(DetailList!E$1,$C228-1,0),OFFSET(DetailListPending!E$1,$D228-1,0),OFFSET(Removed!E$1,$E228-1,0))","v":"EC"},{"$f":"CHOOSE(I228,OFFSET(DetailList!AU$1,$C228-1,0),\"Pending: \"&OFFSET(DetailListPending!AU$1,$D228-1,0),\"REMOVED [\"&OFFSET(Removed!AU$1,$E228-1,0)&\"]\")","v":1},1,true,false]
[null,228,{"$f":"MATCH(B229,DetailList!AZ:AZ,0)","v":547},{"$f":"MATCH(B229,DetailListPending!AZ:AZ,0)","v":{"$error":"#N/A"}},{"$f":"MATCH(B229,Removed!AZ$1:AZ$443,0)","v":{"$error":"#N/A"}},{"$f":"CHOOSE(I229,OFFSET(DetailList!C$1,$C229-1,0),\"PENDING: \"&OFFSET(DetailListPending!C$1,$D229-1,0),\"   REMOVED [\"&OFFSET(Removed!C$1,$E229-1,0)&\"]\")","v":"Performance Standards for Returning Officers "},{"$f":"CHOOSE(I229,OFFSET(DetailList!E$1,$C229-1,0),OFFSET(DetailListPending!E$1,$D229-1,0),OFFSET(Removed!E$1,$E229-1,0))","v":"EC"},{"$f":"CHOOSE(I229,OFFSET(DetailList!AU$1,$C229-1,0),\"Pending: \"&OFFSET(DetailListPending!AU$1,$D229-1,0),\"REMOVED [\"&OFFSET(Removed!AU$1,$E229-1,0)&\"]\")","v":1},1,true,false]
[null,229,{"$f":"MATCH(B230,DetailList!AZ:AZ,0)","v":{"$error":"#N/A"}},{"$f":"MATCH(B230,DetailListPending!AZ:AZ,0)","v":{"$error":"#N/A"}},{"$f":"MATCH(B230,Removed!AZ$1:AZ$443,0)","v":{"$error":"#N/A"}},{"$f":"CHOOSE(I230,OFFSET(DetailList!C$1,$C230-1,0),\"PENDING: \"&OFFSET(DetailListPending!C$1,$D230-1,0),\"   REMOVED [\"&OFFSET(Removed!C$1,$E230-1,0)&\"]\")","v":{"$error":"#N/A"}},{"$f":"CHOOSE(I230,OFFSET(DetailList!E$1,$C230-1,0),OFFSET(DetailListPending!E$1,$D230-1,0),OFFSET(Removed!E$1,$E230-1,0))","v":{"$error":"#N/A"}},{"$f":"CHOOSE(I230,OFFSET(DetailList!AU$1,$C230-1,0),\"Pending: \"&OFFSET(DetailListPending!AU$1,$D230-1,0),\"REMOVED [\"&OFFSET(Removed!AU$1,$E230-1,0)&\"]\")","v":{"$error":"#N/A"}},{"$error":"#N/A"},false,false]
[null,230,{"$f":"MATCH(B231,DetailList!AZ:AZ,0)","v":{"$error":"#N/A"}},{"$f":"MATCH(B231,DetailListPending!AZ:AZ,0)","v":{"$error":"#N/A"}},{"$f":"MATCH(B231,Removed!AZ$1:AZ$443,0)","v":293},{"$f":"CHOOSE(I231,OFFSET(DetailList!C$1,$C231-1,0),\"PENDING: \"&OFFSET(DetailListPending!C$1,$D231-1,0),\"   REMOVED [\"&OFFSET(Removed!C$1,$E231-1,0)&\"]\")","v":"   REMOVED [Annual Financial Information return ]"},{"$f":"CHOOSE(I231,OFFSET(DetailList!E$1,$C231-1,0),OFFSET(DetailListPending!E$1,$D231-1,0),OFFSET(Removed!E$1,$E231-1,0))","v":"EC"},{"$f":"CHOOSE(I231,OFFSET(DetailList!AU$1,$C231-1,0),\"Pending: \"&OFFSET(DetailListPending!AU$1,$D231-1,0),\"REMOVED [\"&OFFSET(Removed!AU$1,$E231-1,0)&\"]\")","v":"REMOVED [1]"},3,true,false]
[null,231,{"$f":"MATCH(B232,DetailList!AZ:AZ,0)","v":{"$error":"#N/A"}},{"$f":"MATCH(B232,DetailListPending!AZ:AZ,0)","v":{"$error":"#N/A"}},{"$f":"MATCH(B232,Removed!AZ$1:AZ$443,0)","v":295},{"$f":"CHOOSE(I232,OFFSET(DetailList!C$1,$C232-1,0),\"PENDING: \"&OFFSET(DetailListPending!C$1,$D232-1,0),\"   REMOVED [\"&OFFSET(Removed!C$1,$E232-1,0)&\"]\")","v":"   REMOVED [Electoral administration plans ]"},{"$f":"CHOOSE(I232,OFFSET(DetailList!E$1,$C232-1,0),OFFSET(DetailListPending!E$1,$D232-1,0),OFFSET(Removed!E$1,$E232-1,0))","v":"EC"},{"$f":"CHOOSE(I232,OFFSET(DetailList!AU$1,$C232-1,0),\"Pending: \"&OFFSET(DetailListPending!AU$1,$D232-1,0),\"REMOVED [\"&OFFSET(Removed!AU$1,$E232-1,0)&\"]\")","v":"REMOVED [1]"},3,true,false]
[null,232,{"$f":"MATCH(B233,DetailList!AZ:AZ,0)","v":551},{"$f":"MATCH(B233,DetailListPending!AZ:AZ,0)","v":{"$error":"#N/A"}},{"$f":"MATCH(B233,Removed!AZ$1:AZ$443,0)","v":{"$error":"#N/A"}},{"$f":"CHOOSE(I233,OFFSET(DetailList!C$1,$C233-1,0),\"PENDING: \"&OFFSET(DetailListPending!C$1,$D233-1,0),\"   REMOVED [\"&OFFSET(Removed!C$1,$E233-1,0)&\"]\")","v":"Return of statistical information relating to conduct of elections"},{"$f":"CHOOSE(I233,OFFSET(DetailList!E$1,$C233-1,0),OFFSET(DetailListPending!E$1,$D233-1,0),OFFSET(Removed!E$1,$E233-1,0))","v":"EC"},{"$f":"CHOOSE(I233,OFFSET(DetailList!AU$1,$C233-1,0),\"Pending: \"&OFFSET(DetailListPending!AU$1,$D233-1,0),\"REMOVED [\"&OFFSET(Removed!AU$1,$E233-1,0)&\"]\")","v":1},1,true,false]
[null,233,{"$f":"MATCH(B234,DetailList!AZ:AZ,0)","v":{"$error":"#N/A"}},{"$f":"MATCH(B234,DetailListPending!AZ:AZ,0)","v":{"$error":"#N/A"}},{"$f":"MATCH(B234,Removed!AZ$1:AZ$443,0)","v":169},{"$f":"CHOOSE(I234,OFFSET(DetailList!C$1,$C234-1,0),\"PENDING: \"&OFFSET(DetailListPending!C$1,$D234-1,0),\"   REMOVED [\"&OFFSET(Removed!C$1,$E234-1,0)&\"]\")","v":"   REMOVED [Notification of Infectious Diseases (NOIDs)]"},{"$f":"CHOOSE(I234,OFFSET(DetailList!E$1,$C234-1,0),OFFSET(DetailListPending!E$1,$D234-1,0),OFFSET(Removed!E$1,$E234-1,0))","v":"DH/HPA"},{"$f":"CHOOSE(I234,OFFSET(DetailList!AU$1,$C234-1,0),\"Pending: \"&OFFSET(DetailListPending!AU$1,$D234-1,0),\"REMOVED [\"&OFFSET(Removed!AU$1,$E234-1,0)&\"]\")","v":"REMOVED [1]"},3,true,false]
[null,234,{"$f":"MATCH(B235,DetailList!AZ:AZ,0)","v":{"$error":"#N/A"}},{"$f":"MATCH(B235,DetailListPending!AZ:AZ,0)","v":{"$error":"#N/A"}},{"$f":"MATCH(B235,Removed!AZ$1:AZ$443,0)","v":224},{"$f":"CHOOSE(I235,OFFSET(DetailList!C$1,$C235-1,0),\"PENDING: \"&OFFSET(DetailListPending!C$1,$D235-1,0),\"   REMOVED [\"&OFFSET(Removed!C$1,$E235-1,0)&\"]\")","v":"   REMOVED [16-19 Bursary Fund]"},{"$f":"CHOOSE(I235,OFFSET(DetailList!E$1,$C235-1,0),OFFSET(DetailListPending!E$1,$D235-1,0),OFFSET(Removed!E$1,$E235-1,0))","v":"DfE/YPLA"},{"$f":"CHOOSE(I235,OFFSET(DetailList!AU$1,$C235-1,0),\"Pending: \"&OFFSET(DetailListPending!AU$1,$D235-1,0),\"REMOVED [\"&OFFSET(Removed!AU$1,$E235-1,0)&\"]\")","v":"REMOVED [1]"},3,true,false]
[null,235,{"$f":"MATCH(B236,DetailList!AZ:AZ,0)","v":{"$error":"#N/A"}},{"$f":"MATCH(B236,DetailListPending!AZ:AZ,0)","v":{"$error":"#N/A"}},{"$f":"MATCH(B236,Removed!AZ$1:AZ$443,0)","v":137},{"$f":"CHOOSE(I236,OFFSET(DetailList!C$1,$C236-1,0),\"PENDING: \"&OFFSET(DetailListPending!C$1,$D236-1,0),\"   REMOVED [\"&OFFSET(Removed!C$1,$E236-1,0)&\"]\")","v":"   REMOVED [Registrar General's annual return]"},{"$f":"CHOOSE(I236,OFFSET(DetailList!E$1,$C236-1,0),OFFSET(DetailListPending!E$1,$D236-1,0),OFFSET(Removed!E$1,$E236-1,0))","v":"HO/IPS-GRO"},{"$f":"CHOOSE(I236,OFFSET(DetailList!AU$1,$C236-1,0),\"Pending: \"&OFFSET(DetailListPending!AU$1,$D236-1,0),\"REMOVED [\"&OFFSET(Removed!AU$1,$E236-1,0)&\"]\")","v":"REMOVED [1]"},3,true,false]
[null,236,{"$f":"MATCH(B237,DetailList!AZ:AZ,0)","v":{"$error":"#N/A"}},{"$f":"MATCH(B237,DetailListPending!AZ:AZ,0)","v":{"$error":"#N/A"}},{"$f":"MATCH(B237,Removed!AZ$1:AZ$443,0)","v":196},{"$f":"CHOOSE(I237,OFFSET(DetailList!C$1,$C237-1,0),\"PENDING: \"&OFFSET(DetailListPending!C$1,$D237-1,0),\"   REMOVED [\"&OFFSET(Removed!C$1,$E237-1,0)&\"]\")","v":"   REMOVED [AfterCare survey of those who have left care in the past year]"},{"$f":"CHOOSE(I237,OFFSET(DetailList!E$1,$C237-1,0),OFFSET(DetailListPending!E$1,$D237-1,0),OFFSET(Removed!E$1,$E237-1,0))","v":"DfE/Ofsted"},{"$f":"CHOOSE(I237,OFFSET(DetailList!AU$1,$C237-1,0),\"Pending: \"&OFFSET(DetailListPending!AU$1,$D237-1,0),\"REMOVED [\"&OFFSET(Removed!AU$1,$E237-1,0)&\"]\")","v":"REMOVED [1]"},3,true,false]
[null,237,{"$f":"MATCH(B238,DetailList!AZ:AZ,0)","v":{"$error":"#N/A"}},{"$f":"MATCH(B238,DetailListPending!AZ:AZ,0)","v":{"$error":"#N/A"}},{"$f":"MATCH(B238,Removed!AZ$1:AZ$443,0)","v":198},{"$f":"CHOOSE(I238,OFFSET(DetailList!C$1,$C238-1,0),\"PENDING: \"&OFFSET(DetailListPending!C$1,$D238-1,0),\"   REMOVED [\"&OFFSET(Removed!C$1,$E238-1,0)&\"]\")","v":"   REMOVED [Care4Me survey]"},{"$f":"CHOOSE(I238,OFFSET(DetailList!E$1,$C238-1,0),OFFSET(DetailListPending!E$1,$D238-1,0),OFFSET(Removed!E$1,$E238-1,0))","v":"DfE/Ofsted"},{"$f":"CHOOSE(I238,OFFSET(DetailList!AU$1,$C238-1,0),\"Pending: \"&OFFSET(DetailListPending!AU$1,$D238-1,0),\"REMOVED [\"&OFFSET(Removed!AU$1,$E238-1,0)&\"]\")","v":"REMOVED [1]"},3,true,false]
[null,238,{"$f":"MATCH(B239,DetailList!AZ:AZ,0)","v":{"$error":"#N/A"}},{"$f":"MATCH(B239,DetailListPending!AZ:AZ,0)","v":{"$error":"#N/A"}},{"$f":"MATCH(B239,Removed!AZ$1:AZ$443,0)","v":200},{"$f":"CHOOSE(I239,OFFSET(DetailList!C$1,$C239-1,0),\"PENDING: \"&OFFSET(DetailListPending!C$1,$D239-1,0),\"   REMOVED [\"&OFFSET(Removed!C$1,$E239-1,0)&\"]\")","v":"   REMOVED [Staff questionnaire, maintained day, boarding and residential special schools]"},{"$f":"CHOOSE(I239,OFFSET(DetailList!E$1,$C239-1,0),OFFSET(DetailListPending!E$1,$D239-1,0),OFFSET(Removed!E$1,$E239-1,0))","v":"DfE/Ofsted"},{"$f":"CHOOSE(I239,OFFSET(DetailList!AU$1,$C239-1,0),\"Pending: \"&OFFSET(DetailListPending!AU$1,$D239-1,0),\"REMOVED [\"&OFFSET(Removed!AU$1,$E239-1,0)&\"]\")","v":"REMOVED [1]"},3,true,false]
[null,239,{"$f":"MATCH(B240,DetailList!AZ:AZ,0)","v":{"$error":"#N/A"}},{"$f":"MATCH(B240,DetailListPending!AZ:AZ,0)","v":{"$error":"#N/A"}},{"$f":"MATCH(B240,Removed!AZ$1:AZ$443,0)","v":202},{"$f":"CHOOSE(I240,OFFSET(DetailList!C$1,$C240-1,0),\"PENDING: \"&OFFSET(DetailListPending!C$1,$D240-1,0),\"   REMOVED [\"&OFFSET(Removed!C$1,$E240-1,0)&\"]\")","v":"   REMOVED [Children’s centre self-evaluation form]"},{"$f":"CHOOSE(I240,OFFSET(DetailList!E$1,$C240-1,0),OFFSET(DetailListPending!E$1,$D240-1,0),OFFSET(Removed!E$1,$E240-1,0))","v":"DfE/Ofsted"},{"$f":"CHOOSE(I240,OFFSET(DetailList!AU$1,$C240-1,0),\"Pending: \"&OFFSET(DetailListPending!AU$1,$D240-1,0),\"REMOVED [\"&OFFSET(Removed!AU$1,$E240-1,0)&\"]\")","v":"REMOVED [1]"},3,true,false]
[null,240,{"$f":"MATCH(B241,DetailList!AZ:AZ,0)","v":{"$error":"#N/A"}},{"$f":"MATCH(B241,DetailListPending!AZ:AZ,0)","v":{"$error":"#N/A"}},{"$f":"MATCH(B241,Removed!AZ$1:AZ$443,0)","v":204},{"$f":"CHOOSE(I241,OFFSET(DetailList!C$1,$C241-1,0),\"PENDING: \"&OFFSET(DetailListPending!C$1,$D241-1,0),\"   REMOVED [\"&OFFSET(Removed!C$1,$E241-1,0)&\"]\")","v":"   REMOVED [Post inspection survey]"},{"$f":"CHOOSE(I241,OFFSET(DetailList!E$1,$C241-1,0),OFFSET(DetailListPending!E$1,$D241-1,0),OFFSET(Removed!E$1,$E241-1,0))","v":"DfE/Ofsted"},{"$f":"CHOOSE(I241,OFFSET(DetailList!AU$1,$C241-1,0),\"Pending: \"&OFFSET(DetailListPending!AU$1,$D241-1,0),\"REMOVED [\"&OFFSET(Removed!AU$1,$E241-1,0)&\"]\")","v":"REMOVED [1]"},3,true,false]
[null,241,{"$f":"MATCH(B242,DetailList!AZ:AZ,0)","v":{"$error":"#N/A"}},{"$f":"MATCH(B242,DetailListPending!AZ:AZ,0)","v":{"$error":"#N/A"}},{"$f":"MATCH(B242,Removed!AZ$1:AZ$443,0)","v":188},{"$f":"CHOOSE(I242,OFFSET(DetailList!C$1,$C242-1,0),\"PENDING: \"&OFFSET(DetailListPending!C$1,$D242-1,0),\"   REMOVED [\"&OFFSET(Removed!C$1,$E242-1,0)&\"]\")","v":"   REMOVED [Billing Authority Report (BAR)]"},{"$f":"CHOOSE(I242,OFFSET(DetailList!E$1,$C242-1,0),OFFSET(DetailListPending!E$1,$D242-1,0),OFFSET(Removed!E$1,$E242-1,0))","v":"HMRC/VOA"},{"$f":"CHOOSE(I242,OFFSET(DetailList!AU$1,$C242-1,0),\"Pending: \"&OFFSET(DetailListPending!AU$1,$D242-1,0),\"REMOVED [\"&OFFSET(Removed!AU$1,$E242-1,0)&\"]\")","v":"REMOVED [1]"},3,true,false]
[null,242,{"$f":"MATCH(B243,DetailList!AZ:AZ,0)","v":{"$error":"#N/A"}},{"$f":"MATCH(B243,DetailListPending!AZ:AZ,0)","v":{"$error":"#N/A"}},{"$f":"MATCH(B243,Removed!AZ$1:AZ$443,0)","v":363},{"$f":"CHOOSE(I243,OFFSET(DetailList!C$1,$C243-1,0),\"PENDING: \"&OFFSET(DetailListPending!C$1,$D243-1,0),\"   REMOVED [\"&OFFSET(Removed!C$1,$E243-1,0)&\"]\")","v":"   REMOVED [Fraud and Corruption Survey]"},{"$f":"CHOOSE(I243,OFFSET(DetailList!E$1,$C243-1,0),OFFSET(DetailListPending!E$1,$D243-1,0),OFFSET(Removed!E$1,$E243-1,0))","v":"DCLG/AC"},{"$f":"CHOOSE(I243,OFFSET(DetailList!AU$1,$C243-1,0),\"Pending: \"&OFFSET(DetailListPending!AU$1,$D243-1,0),\"REMOVED [\"&OFFSET(Removed!AU$1,$E243-1,0)&\"]\")","v":"REMOVED [9]"},3,true,false]
[null,243,{"$f":"MATCH(B244,DetailList!AZ:AZ,0)","v":221},{"$f":"MATCH(B244,DetailListPending!AZ:AZ,0)","v":{"$error":"#N/A"}},{"$f":"MATCH(B244,Removed!AZ$1:AZ$443,0)","v":{"$error":"#N/A"}},{"$f":"CHOOSE(I244,OFFSET(DetailList!C$1,$C244-1,0),\"PENDING: \"&OFFSET(DetailListPending!C$1,$D244-1,0),\"   REMOVED [\"&OFFSET(Removed!C$1,$E244-1,0)&\"]\")","v":"Developments in flood risk areas"},{"$f":"CHOOSE(I244,OFFSET(DetailList!E$1,$C244-1,0),OFFSET(DetailListPending!E$1,$D244-1,0),OFFSET(Removed!E$1,$E244-1,0))","v":"DEFRA/EA"},{"$f":"CHOOSE(I244,OFFSET(DetailList!AU$1,$C244-1,0),\"Pending: \"&OFFSET(DetailListPending!AU$1,$D244-1,0),\"REMOVED [\"&OFFSET(Removed!AU$1,$E244-1,0)&\"]\")","v":1},1,true,false]
[null,244,{"$f":"MATCH(B245,DetailList!AZ:AZ,0)","v":{"$error":"#N/A"}},{"$f":"MATCH(B245,DetailListPending!AZ:AZ,0)","v":{"$error":"#N/A"}},{"$f":"MATCH(B245,Removed!AZ$1:AZ$443,0)","v":328},{"$f":"CHOOSE(I245,OFFSET(DetailList!C$1,$C245-1,0),\"PENDING: \"&OFFSET(DetailListPending!C$1,$D245-1,0),\"   REMOVED [\"&OFFSET(Removed!C$1,$E245-1,0)&\"]\")","v":"   REMOVED [Flood risk management capacity]"},{"$f":"CHOOSE(I245,OFFSET(DetailList!E$1,$C245-1,0),OFFSET(DetailListPending!E$1,$D245-1,0),OFFSET(Removed!E$1,$E245-1,0))","v":"DEFRA/EA"},{"$f":"CHOOSE(I245,OFFSET(DetailList!AU$1,$C245-1,0),\"Pending: \"&OFFSET(DetailListPending!AU$1,$D245-1,0),\"REMOVED [\"&OFFSET(Removed!AU$1,$E245-1,0)&\"]\")","v":"REMOVED [1]"},3,true,false]
[null,245,{"$f":"MATCH(B246,DetailList!AZ:AZ,0)","v":223},{"$f":"MATCH(B246,DetailListPending!AZ:AZ,0)","v":{"$error":"#N/A"}},{"$f":"MATCH(B246,Removed!AZ$1:AZ$443,0)","v":{"$error":"#N/A"}},{"$f":"CHOOSE(I246,OFFSET(DetailList!C$1,$C246-1,0),\"PENDING: \"&OFFSET(DetailListPending!C$1,$D246-1,0),\"   REMOVED [\"&OFFSET(Removed!C$1,$E246-1,0)&\"]\")","v":"Strategic Overview of Flood and Coastal Erosion risk"},{"$f":"CHOOSE(I246,OFFSET(DetailList!E$1,$C246-1,0),OFFSET(DetailListPending!E$1,$D246-1,0),OFFSET(Removed!E$1,$E246-1,0))","v":"DEFRA/EA"},{"$f":"CHOOSE(I246,OFFSET(DetailList!AU$1,$C246-1,0),\"Pending: \"&OFFSET(DetailListPending!AU$1,$D246-1,0),\"REMOVED [\"&OFFSET(Removed!AU$1,$E246-1,0)&\"]\")","v":1},1,true,false]
[null,246,{"$f":"MATCH(B247,DetailList!AZ:AZ,0)","v":225},{"$f":"MATCH(B247,DetailListPending!AZ:AZ,0)","v":{"$error":"#N/A"}},{"$f":"MATCH(B247,Removed!AZ$1:AZ$443,0)","v":{"$error":"#N/A"}},{"$f":"CHOOSE(I247,OFFSET(DetailList!C$1,$C247-1,0),\"PENDING: \"&OFFSET(DetailListPending!C$1,$D247-1,0),\"   REMOVED [\"&OFFSET(Removed!C$1,$E247-1,0)&\"]\")","v":"Reporting on EU Flood Risk Regulations"},{"$f":"CHOOSE(I247,OFFSET(DetailList!E$1,$C247-1,0),OFFSET(DetailListPending!E$1,$D247-1,0),OFFSET(Removed!E$1,$E247-1,0))","v":"DEFRA/EA"},{"$f":"CHOOSE(I247,OFFSET(DetailList!AU$1,$C247-1,0),\"Pending: \"&OFFSET(DetailListPending!AU$1,$D247-1,0),\"REMOVED [\"&OFFSET(Removed!AU$1,$E247-1,0)&\"]\")","v":3},1,true,false]
[null,247,{"$f":"MATCH(B248,DetailList!AZ:AZ,0)","v":{"$error":"#N/A"}},{"$f":"MATCH(B248,DetailListPending!AZ:AZ,0)","v":{"$error":"#N/A"}},{"$f":"MATCH(B248,Removed!AZ$1:AZ$443,0)","v":147},{"$f":"CHOOSE(I248,OFFSET(DetailList!C$1,$C248-1,0),\"PENDING: \"&OFFSET(DetailListPending!C$1,$D248-1,0),\"   REMOVED [\"&OFFSET(Removed!C$1,$E248-1,0)&\"]\")","v":"   REMOVED [Merged with 246 (along with 248)]"},{"$f":"CHOOSE(I248,OFFSET(DetailList!E$1,$C248-1,0),OFFSET(DetailListPending!E$1,$D248-1,0),OFFSET(Removed!E$1,$E248-1,0))","v":"DEFRA/EA"},{"$f":"CHOOSE(I248,OFFSET(DetailList!AU$1,$C248-1,0),\"Pending: \"&OFFSET(DetailListPending!AU$1,$D248-1,0),\"REMOVED [\"&OFFSET(Removed!AU$1,$E248-1,0)&\"]\")","v":"REMOVED [1]"},3,true,false]
[null,248,{"$f":"MATCH(B249,DetailList!AZ:AZ,0)","v":{"$error":"#N/A"}},{"$f":"MATCH(B249,DetailListPending!AZ:AZ,0)","v":{"$error":"#N/A"}},{"$f":"MATCH(B249,Removed!AZ$1:AZ$443,0)","v":149},{"$f":"CHOOSE(I249,OFFSET(DetailList!C$1,$C249-1,0),\"PENDING: \"&OFFSET(DetailListPending!C$1,$D249-1,0),\"   REMOVED [\"&OFFSET(Removed!C$1,$E249-1,0)&\"]\")","v":"   REMOVED [Merged with 246 (along with 247)]"},{"$f":"CHOOSE(I249,OFFSET(DetailList!E$1,$C249-1,0),OFFSET(DetailListPending!E$1,$D249-1,0),OFFSET(Removed!E$1,$E249-1,0))","v":"DEFRA/EA"},{"$f":"CHOOSE(I249,OFFSET(DetailList!AU$1,$C249-1,0),\"Pending: \"&OFFSET(DetailListPending!AU$1,$D249-1,0),\"REMOVED [\"&OFFSET(Removed!AU$1,$E249-1,0)&\"]\")","v":"REMOVED [1]"},3,true,false]
[null,249,{"$f":"MATCH(B250,DetailList!AZ:AZ,0)","v":{"$error":"#N/A"}},{"$f":"MATCH(B250,DetailListPending!AZ:AZ,0)","v":{"$error":"#N/A"}},{"$f":"MATCH(B250,Removed!AZ$1:AZ$443,0)","v":291},{"$f":"CHOOSE(I250,OFFSET(DetailList!C$1,$C250-1,0),\"PENDING: \"&OFFSET(DetailListPending!C$1,$D250-1,0),\"   REMOVED [\"&OFFSET(Removed!C$1,$E250-1,0)&\"]\")","v":"   REMOVED [Electoral Registration supporting data]"},{"$f":"CHOOSE(I250,OFFSET(DetailList!E$1,$C250-1,0),OFFSET(DetailListPending!E$1,$D250-1,0),OFFSET(Removed!E$1,$E250-1,0))","v":"EC"},{"$f":"CHOOSE(I250,OFFSET(DetailList!AU$1,$C250-1,0),\"Pending: \"&OFFSET(DetailListPending!AU$1,$D250-1,0),\"REMOVED [\"&OFFSET(Removed!AU$1,$E250-1,0)&\"]\")","v":"REMOVED [1]"},3,true,false]
[null,250,{"$f":"MATCH(B251,DetailList!AZ:AZ,0)","v":553},{"$f":"MATCH(B251,DetailListPending!AZ:AZ,0)","v":{"$error":"#N/A"}},{"$f":"MATCH(B251,Removed!AZ$1:AZ$443,0)","v":{"$error":"#N/A"}},{"$f":"CHOOSE(I251,OFFSET(DetailList!C$1,$C251-1,0),\"PENDING: \"&OFFSET(DetailListPending!C$1,$D251-1,0),\"   REMOVED [\"&OFFSET(Removed!C$1,$E251-1,0)&\"]\")","v":"Statement of results"},{"$f":"CHOOSE(I251,OFFSET(DetailList!E$1,$C251-1,0),OFFSET(DetailListPending!E$1,$D251-1,0),OFFSET(Removed!E$1,$E251-1,0))","v":"EC"},{"$f":"CHOOSE(I251,OFFSET(DetailList!AU$1,$C251-1,0),\"Pending: \"&OFFSET(DetailListPending!AU$1,$D251-1,0),\"REMOVED [\"&OFFSET(Removed!AU$1,$E251-1,0)&\"]\")","v":1},1,true,false]
[null,251,{"$f":"MATCH(B252,DetailList!AZ:AZ,0)","v":368},{"$f":"MATCH(B252,DetailListPending!AZ:AZ,0)","v":{"$error":"#N/A"}},{"$f":"MATCH(B252,Removed!AZ$1:AZ$443,0)","v":{"$error":"#N/A"}},{"$f":"CHOOSE(I252,OFFSET(DetailList!C$1,$C252-1,0),\"PENDING: \"&OFFSET(DetailListPending!C$1,$D252-1,0),\"   REMOVED [\"&OFFSET(Removed!C$1,$E252-1,0)&\"]\")","v":"Winter salt stock holdings"},{"$f":"CHOOSE(I252,OFFSET(DetailList!E$1,$C252-1,0),OFFSET(DetailListPending!E$1,$D252-1,0),OFFSET(Removed!E$1,$E252-1,0))","v":"DfT"},{"$f":"CHOOSE(I252,OFFSET(DetailList!AU$1,$C252-1,0),\"Pending: \"&OFFSET(DetailListPending!AU$1,$D252-1,0),\"REMOVED [\"&OFFSET(Removed!AU$1,$E252-1,0)&\"]\")","v":1},1,true,false]
[null,252,{"$f":"MATCH(B253,DetailList!AZ:AZ,0)","v":142},{"$f":"MATCH(B253,DetailListPending!AZ:AZ,0)","v":{"$error":"#N/A"}},{"$f":"MATCH(B253,Removed!AZ$1:AZ$443,0)","v":{"$error":"#N/A"}},{"$f":"CHOOSE(I253,OFFSET(DetailList!C$1,$C253-1,0),\"PENDING: \"&OFFSET(DetailListPending!C$1,$D253-1,0),\"   REMOVED [\"&OFFSET(Removed!C$1,$E253-1,0)&\"]\")","v":"Local Authority Housing Statistics"},{"$f":"CHOOSE(I253,OFFSET(DetailList!E$1,$C253-1,0),OFFSET(DetailListPending!E$1,$D253-1,0),OFFSET(Removed!E$1,$E253-1,0))","v":"DLUHC"},{"$f":"CHOOSE(I253,OFFSET(DetailList!AU$1,$C253-1,0),\"Pending: \"&OFFSET(DetailListPending!AU$1,$D253-1,0),\"REMOVED [\"&OFFSET(Removed!AU$1,$E253-1,0)&\"]\")","v":1},1,true,false]
[null,253,{"$f":"MATCH(B254,DetailList!AZ:AZ,0)","v":377},{"$f":"MATCH(B254,DetailListPending!AZ:AZ,0)","v":{"$error":"#N/A"}},{"$f":"MATCH(B254,Removed!AZ$1:AZ$443,0)","v":{"$error":"#N/A"}},{"$f":"CHOOSE(I254,OFFSET(DetailList!C$1,$C254-1,0),\"PENDING: \"&OFFSET(DetailListPending!C$1,$D254-1,0),\"   REMOVED [\"&OFFSET(Removed!C$1,$E254-1,0)&\"]\")","v":"National Child Measurement Programme (NCMP)"},{"$f":"CHOOSE(I254,OFFSET(DetailList!E$1,$C254-1,0),OFFSET(DetailListPending!E$1,$D254-1,0),OFFSET(Removed!E$1,$E254-1,0))","v":"DHSC/OHID"},{"$f":"CHOOSE(I254,OFFSET(DetailList!AU$1,$C254-1,0),\"Pending: \"&OFFSET(DetailListPending!AU$1,$D254-1,0),\"REMOVED [\"&OFFSET(Removed!AU$1,$E254-1,0)&\"]\")","v":1},1,true,false]
[null,254,{"$f":"MATCH(B255,DetailList!AZ:AZ,0)","v":379},{"$f":"MATCH(B255,DetailListPending!AZ:AZ,0)","v":{"$error":"#N/A"}},{"$f":"MATCH(B255,Removed!AZ$1:AZ$443,0)","v":{"$error":"#N/A"}},{"$f":"CHOOSE(I255,OFFSET(DetailList!C$1,$C255-1,0),\"PENDING: \"&OFFSET(DetailListPending!C$1,$D255-1,0),\"   REMOVED [\"&OFFSET(Removed!C$1,$E255-1,0)&\"]\")","v":"Collation of NHS Health Check quarterly data return"},{"$f":"CHOOSE(I255,OFFSET(DetailList!E$1,$C255-1,0),OFFSET(DetailListPending!E$1,$D255-1,0),OFFSET(Removed!E$1,$E255-1,0))","v":"DHSC/OHID"},{"$f":"CHOOSE(I255,OFFSET(DetailList!AU$1,$C255-1,0),\"Pending: \"&OFFSET(DetailListPending!AU$1,$D255-1,0),\"REMOVED [\"&OFFSET(Removed!AU$1,$E255-1,0)&\"]\")","v":2},1,true,false]
[null,255,{"$f":"MATCH(B256,DetailList!AZ:AZ,0)","v":{"$error":"#N/A"}},{"$f":"MATCH(B256,DetailListPending!AZ:AZ,0)","v":{"$error":"#N/A"}},{"$f":"MATCH(B256,Removed!AZ$1:AZ$443,0)","v":289},{"$f":"CHOOSE(I256,OFFSET(DetailList!C$1,$C256-1,0),\"PENDING: \"&OFFSET(DetailListPending!C$1,$D256-1,0),\"   REMOVED [\"&OFFSET(Removed!C$1,$E256-1,0)&\"]\")","v":"   REMOVED [Collation of KT31 annual contraception data return]"},{"$f":"CHOOSE(I256,OFFSET(DetailList!E$1,$C256-1,0),OFFSET(DetailListPending!E$1,$D256-1,0),OFFSET(Removed!E$1,$E256-1,0))","v":"DH"},{"$f":"CHOOSE(I256,OFFSET(DetailList!AU$1,$C256-1,0),\"Pending: \"&OFFSET(DetailListPending!AU$1,$D256-1,0),\"REMOVED [\"&OFFSET(Removed!AU$1,$E256-1,0)&\"]\")","v":"REMOVED [1]"},3,true,false]
[null,256,{"$f":"MATCH(B257,DetailList!AZ:AZ,0)","v":211},{"$f":"MATCH(B257,DetailListPending!AZ:AZ,0)","v":{"$error":"#N/A"}},{"$f":"MATCH(B257,Removed!AZ$1:AZ$443,0)","v":{"$error":"#N/A"}},{"$f":"CHOOSE(I257,OFFSET(DetailList!C$1,$C257-1,0),\"PENDING: \"&OFFSET(DetailListPending!C$1,$D257-1,0),\"   REMOVED [\"&OFFSET(Removed!C$1,$E257-1,0)&\"]\")","v":"Pollutant Release and Transfer Registers"},{"$f":"CHOOSE(I257,OFFSET(DetailList!E$1,$C257-1,0),OFFSET(DetailListPending!E$1,$D257-1,0),OFFSET(Removed!E$1,$E257-1,0))","v":"DEFRA"},{"$f":"CHOOSE(I257,OFFSET(DetailList!AU$1,$C257-1,0),\"Pending: \"&OFFSET(DetailListPending!AU$1,$D257-1,0),\"REMOVED [\"&OFFSET(Removed!AU$1,$E257-1,0)&\"]\")","v":2},1,true,false]
[null,257,{"$f":"MATCH(B258,DetailList!AZ:AZ,0)","v":214},{"$f":"MATCH(B258,DetailListPending!AZ:AZ,0)","v":{"$error":"#N/A"}},{"$f":"MATCH(B258,Removed!AZ$1:AZ$443,0)","v":{"$error":"#N/A"}},{"$f":"CHOOSE(I258,OFFSET(DetailList!C$1,$C258-1,0),\"PENDING: \"&OFFSET(DetailListPending!C$1,$D258-1,0),\"   REMOVED [\"&OFFSET(Removed!C$1,$E258-1,0)&\"]\")","v":"Local Authorities statistical information on Smallholdings (County Farms)"},{"$f":"CHOOSE(I258,OFFSET(DetailList!E$1,$C258-1,0),OFFSET(DetailListPending!E$1,$D258-1,0),OFFSET(Removed!E$1,$E258-1,0))","v":"DEFRA"},{"$f":"CHOOSE(I258,OFFSET(DetailList!AU$1,$C258-1,0),\"Pending: \"&OFFSET(DetailListPending!AU$1,$D258-1,0),\"REMOVED [\"&OFFSET(Removed!AU$1,$E258-1,0)&\"]\")","v":4},{"$f":"IF(ISNUMBER(C258),1,IF(ISNUMBER(D258),2,IF(ISNUMBER(E258),3,NA())))","v":1},true,false]
[null,258,{"$f":"MATCH(B259,DetailList!AZ:AZ,0)","v":400},{"$f":"MATCH(B259,DetailListPending!AZ:AZ,0)","v":{"$error":"#N/A"}},{"$f":"MATCH(B259,Removed!AZ$1:AZ$443,0)","v":{"$error":"#N/A"}},{"$f":"CHOOSE(I259,OFFSET(DetailList!C$1,$C259-1,0),\"PENDING: \"&OFFSET(DetailListPending!C$1,$D259-1,0),\"   REMOVED [\"&OFFSET(Removed!C$1,$E259-1,0)&\"]\")","v":"Safeguarding Adults Collection"},{"$f":"CHOOSE(I259,OFFSET(DetailList!E$1,$C259-1,0),OFFSET(DetailListPending!E$1,$D259-1,0),OFFSET(Removed!E$1,$E259-1,0))","v":"DHSC/NHSE"},{"$f":"CHOOSE(I259,OFFSET(DetailList!AU$1,$C259-1,0),\"Pending: \"&OFFSET(DetailListPending!AU$1,$D259-1,0),\"REMOVED [\"&OFFSET(Removed!AU$1,$E259-1,0)&\"]\")","v":7},1,{"$f":"NOT(ISNA(I259))","v":true},{"$f":"AND(J259,COUNTIF(C259:E259,NA())<>2)","v":false}]
[null,259,{"$f":"MATCH(B260,DetailList!AZ:AZ,0)","v":{"$error":"#N/A"}},{"$f":"MATCH(B260,DetailListPending!AZ:AZ,0)","v":{"$error":"#N/A"}},{"$f":"MATCH(B260,Removed!AZ$1:AZ$443,0)","v":413},{"$f":"CHOOSE(I260,OFFSET(DetailList!C$1,$C260-1,0),\"PENDING: \"&OFFSET(DetailListPending!C$1,$D260-1,0),\"   REMOVED [\"&OFFSET(Removed!C$1,$E260-1,0)&\"]\")","v":"   REMOVED [Child-level data on the reason a two-year-old is being funded for an early education place]"},{"$f":"CHOOSE(I260,OFFSET(DetailList!E$1,$C260-1,0),OFFSET(DetailListPending!E$1,$D260-1,0),OFFSET(Removed!E$1,$E260-1,0))","v":"DfE"},{"$f":"CHOOSE(I260,OFFSET(DetailList!AU$1,$C260-1,0),\"Pending: \"&OFFSET(DetailListPending!AU$1,$D260-1,0),\"REMOVED [\"&OFFSET(Removed!AU$1,$E260-1,0)&\"]\")","v":"REMOVED [1]"},3,true,false]
[null,260,{"$f":"MATCH(B261,DetailList!AZ:AZ,0)","v":408},{"$f":"MATCH(B261,DetailListPending!AZ:AZ,0)","v":{"$error":"#N/A"}},{"$f":"MATCH(B261,Removed!AZ$1:AZ$443,0)","v":{"$error":"#N/A"}},{"$f":"CHOOSE(I261,OFFSET(DetailList!C$1,$C261-1,0),\"PENDING: \"&OFFSET(DetailListPending!C$1,$D261-1,0),\"   REMOVED [\"&OFFSET(Removed!C$1,$E261-1,0)&\"]\")","v":"Short and Long Term Support (SALT)"},{"$f":"CHOOSE(I261,OFFSET(DetailList!E$1,$C261-1,0),OFFSET(DetailListPending!E$1,$D261-1,0),OFFSET(Removed!E$1,$E261-1,0))","v":"DHSC/NHSE"},{"$f":"CHOOSE(I261,OFFSET(DetailList!AU$1,$C261-1,0),\"Pending: \"&OFFSET(DetailListPending!AU$1,$D261-1,0),\"REMOVED [\"&OFFSET(Removed!AU$1,$E261-1,0)&\"]\")","v":11},1,true,false]
[null,261,{"$f":"MATCH(B262,DetailList!AZ:AZ,0)","v":420},{"$f":"MATCH(B262,DetailListPending!AZ:AZ,0)","v":{"$error":"#N/A"}},{"$f":"MATCH(B262,Removed!AZ$1:AZ$443,0)","v":{"$error":"#N/A"}},{"$f":"CHOOSE(I262,OFFSET(DetailList!C$1,$C262-1,0),\"PENDING: \"&OFFSET(DetailListPending!C$1,$D262-1,0),\"   REMOVED [\"&OFFSET(Removed!C$1,$E262-1,0)&\"]\")","v":"Adult Social Care Finance Return (ASC-FR)"},{"$f":"CHOOSE(I262,OFFSET(DetailList!E$1,$C262-1,0),OFFSET(DetailListPending!E$1,$D262-1,0),OFFSET(Removed!E$1,$E262-1,0))","v":"DHSC/NHSE"},{"$f":"CHOOSE(I262,OFFSET(DetailList!AU$1,$C262-1,0),\"Pending: \"&OFFSET(DetailListPending!AU$1,$D262-1,0),\"REMOVED [\"&OFFSET(Removed!AU$1,$E262-1,0)&\"]\")","v":4},1,true,false]
[null,262,{"$f":"MATCH(B263,DetailList!AZ:AZ,0)","v":382},{"$f":"MATCH(B263,DetailListPending!AZ:AZ,0)","v":{"$error":"#N/A"}},{"$f":"MATCH(B263,Removed!AZ$1:AZ$443,0)","v":{"$error":"#N/A"}},{"$f":"CHOOSE(I263,OFFSET(DetailList!C$1,$C263-1,0),\"PENDING: \"&OFFSET(DetailListPending!C$1,$D263-1,0),\"   REMOVED [\"&OFFSET(Removed!C$1,$E263-1,0)&\"]\")","v":"Oral Health Surveys"},{"$f":"CHOOSE(I263,OFFSET(DetailList!E$1,$C263-1,0),OFFSET(DetailListPending!E$1,$D263-1,0),OFFSET(Removed!E$1,$E263-1,0))","v":"DHSC/OHID"},{"$f":"CHOOSE(I263,OFFSET(DetailList!AU$1,$C263-1,0),\"Pending: \"&OFFSET(DetailListPending!AU$1,$D263-1,0),\"REMOVED [\"&OFFSET(Removed!AU$1,$E263-1,0)&\"]\")","v":1},1,true,false]
[null,263,{"$f":"MATCH(B264,DetailList!AZ:AZ,0)","v":425},{"$f":"MATCH(B264,DetailListPending!AZ:AZ,0)","v":{"$error":"#N/A"}},{"$f":"MATCH(B264,Removed!AZ$1:AZ$443,0)","v":{"$error":"#N/A"}},{"$f":"CHOOSE(I264,OFFSET(DetailList!C$1,$C264-1,0),\"PENDING: \"&OFFSET(DetailListPending!C$1,$D264-1,0),\"   REMOVED [\"&OFFSET(Removed!C$1,$E264-1,0)&\"]\")","v":"Deferred Payment Agreements (DPA)"},{"$f":"CHOOSE(I264,OFFSET(DetailList!E$1,$C264-1,0),OFFSET(DetailListPending!E$1,$D264-1,0),OFFSET(Removed!E$1,$E264-1,0))","v":"DHSC/NHSE"},{"$f":"CHOOSE(I264,OFFSET(DetailList!AU$1,$C264-1,0),\"Pending: \"&OFFSET(DetailListPending!AU$1,$D264-1,0),\"REMOVED [\"&OFFSET(Removed!AU$1,$E264-1,0)&\"]\")","v":12},1,true,false]
[null,264,{"$f":"MATCH(B265,DetailList!AZ:AZ,0)","v":{"$error":"#N/A"}},{"$f":"MATCH(B265,DetailListPending!AZ:AZ,0)","v":{"$error":"#N/A"}},{"$f":"MATCH(B265,Removed!AZ$1:AZ$443,0)","v":411},{"$f":"CHOOSE(I265,OFFSET(DetailList!C$1,$C265-1,0),\"PENDING: \"&OFFSET(DetailListPending!C$1,$D265-1,0),\"   REMOVED [\"&OFFSET(Removed!C$1,$E265-1,0)&\"]\")","v":"   REMOVED [Local Authority activity under the homelessness provisions of the 2017 Homelessness reduction Act and 1996 Housing Act]"},{"$f":"CHOOSE(I265,OFFSET(DetailList!E$1,$C265-1,0),OFFSET(DetailListPending!E$1,$D265-1,0),OFFSET(Removed!E$1,$E265-1,0))","v":"MHCLG"},{"$f":"CHOOSE(I265,OFFSET(DetailList!AU$1,$C265-1,0),\"Pending: \"&OFFSET(DetailListPending!AU$1,$D265-1,0),\"REMOVED [\"&OFFSET(Removed!AU$1,$E265-1,0)&\"]\")","v":"REMOVED [1]"},3,true,false]
[null,265,{"$f":"MATCH(B266,DetailList!AZ:AZ,0)","v":138},{"$f":"MATCH(B266,DetailListPending!AZ:AZ,0)","v":{"$error":"#N/A"}},{"$f":"MATCH(B266,Removed!AZ$1:AZ$443,0)","v":{"$error":"#N/A"}},{"$f":"CHOOSE(I266,OFFSET(DetailList!C$1,$C266-1,0),\"PENDING: \"&OFFSET(DetailListPending!C$1,$D266-1,0),\"   REMOVED [\"&OFFSET(Removed!C$1,$E266-1,0)&\"]\")","v":"Self-Build and Custom Housebuilding (SBCH)"},{"$f":"CHOOSE(I266,OFFSET(DetailList!E$1,$C266-1,0),OFFSET(DetailListPending!E$1,$D266-1,0),OFFSET(Removed!E$1,$E266-1,0))","v":"DLUHC"},{"$f":"CHOOSE(I266,OFFSET(DetailList!AU$1,$C266-1,0),\"Pending: \"&OFFSET(DetailListPending!AU$1,$D266-1,0),\"REMOVED [\"&OFFSET(Removed!AU$1,$E266-1,0)&\"]\")","v":1},1,true,false]
[null,266,{"$f":"MATCH(B267,DetailList!AZ:AZ,0)","v":219},{"$f":"MATCH(B267,DetailListPending!AZ:AZ,0)","v":{"$error":"#N/A"}},{"$f":"MATCH(B267,Removed!AZ$1:AZ$443,0)","v":{"$error":"#N/A"}},{"$f":"CHOOSE(I267,OFFSET(DetailList!C$1,$C267-1,0),\"PENDING: \"&OFFSET(DetailListPending!C$1,$D267-1,0),\"   REMOVED [\"&OFFSET(Removed!C$1,$E267-1,0)&\"]\")","v":"Animal activities licensing data return"},{"$f":"CHOOSE(I267,OFFSET(DetailList!E$1,$C267-1,0),OFFSET(DetailListPending!E$1,$D267-1,0),OFFSET(Removed!E$1,$E267-1,0))","v":"DEFRA"},{"$f":"CHOOSE(I267,OFFSET(DetailList!AU$1,$C267-1,0),\"Pending: \"&OFFSET(DetailListPending!AU$1,$D267-1,0),\"REMOVED [\"&OFFSET(Removed!AU$1,$E267-1,0)&\"]\")","v":1},1,true,false]
[null,267,{"$f":"MATCH(B268,DetailList!AZ:AZ,0)","v":140},{"$f":"MATCH(B268,DetailListPending!AZ:AZ,0)","v":{"$error":"#N/A"}},{"$f":"MATCH(B268,Removed!AZ$1:AZ$443,0)","v":{"$error":"#N/A"}},{"$f":"CHOOSE(I268,OFFSET(DetailList!C$1,$C268-1,0),\"PENDING: \"&OFFSET(DetailListPending!C$1,$D268-1,0),\"   REMOVED [\"&OFFSET(Removed!C$1,$E268-1,0)&\"]\")","v":"Housing Delivery Test data "},{"$f":"CHOOSE(I268,OFFSET(DetailList!E$1,$C268-1,0),OFFSET(DetailListPending!E$1,$D268-1,0),OFFSET(Removed!E$1,$E268-1,0))","v":"DLUHC"},{"$f":"CHOOSE(I268,OFFSET(DetailList!AU$1,$C268-1,0),\"Pending: \"&OFFSET(DetailListPending!AU$1,$D268-1,0),\"REMOVED [\"&OFFSET(Removed!AU$1,$E268-1,0)&\"]\")","v":1},1,true,false]
[null,268,{"$f":"MATCH(B269,DetailList!AZ:AZ,0)","v":144},{"$f":"MATCH(B269,DetailListPending!AZ:AZ,0)","v":{"$error":"#N/A"}},{"$f":"MATCH(B269,Removed!AZ$1:AZ$443,0)","v":{"$error":"#N/A"}},{"$f":"CHOOSE(I269,OFFSET(DetailList!C$1,$C269-1,0),\"PENDING: \"&OFFSET(DetailListPending!C$1,$D269-1,0),\"   REMOVED [\"&OFFSET(Removed!C$1,$E269-1,0)&\"]\")","v":"H-CLIC (Homelessness Case Level Information Collection) "},{"$f":"CHOOSE(I269,OFFSET(DetailList!E$1,$C269-1,0),OFFSET(DetailListPending!E$1,$D269-1,0),OFFSET(Removed!E$1,$E269-1,0))","v":"DLUHC"},{"$f":"CHOOSE(I269,OFFSET(DetailList!AU$1,$C269-1,0),\"Pending: \"&OFFSET(DetailListPending!AU$1,$D269-1,0),\"REMOVED [\"&OFFSET(Removed!AU$1,$E269-1,0)&\"]\")","v":1},1,true,false]
[null,269,{"$f":"MATCH(B270,DetailList!AZ:AZ,0)","v":543},{"$f":"MATCH(B270,DetailListPending!AZ:AZ,0)","v":{"$error":"#N/A"}},{"$f":"MATCH(B270,Removed!AZ$1:AZ$443,0)","v":{"$error":"#N/A"}},{"$f":"CHOOSE(I270,OFFSET(DetailList!C$1,$C270-1,0),\"PENDING: \"&OFFSET(DetailListPending!C$1,$D270-1,0),\"   REMOVED [\"&OFFSET(Removed!C$1,$E270-1,0)&\"]\")","v":"Council Tax Data Acquisition from Local Authorities "},{"$f":"CHOOSE(I270,OFFSET(DetailList!E$1,$C270-1,0),OFFSET(DetailListPending!E$1,$D270-1,0),OFFSET(Removed!E$1,$E270-1,0))","v":"ONS"},{"$f":"CHOOSE(I270,OFFSET(DetailList!AU$1,$C270-1,0),\"Pending: \"&OFFSET(DetailListPending!AU$1,$D270-1,0),\"REMOVED [\"&OFFSET(Removed!AU$1,$E270-1,0)&\"]\")","v":1},1,true,false]
[null,270,{"$f":"MATCH(B271,DetailList!AZ:AZ,0)","v":154},{"$f":"MATCH(B271,DetailListPending!AZ:AZ,0)","v":{"$error":"#N/A"}},{"$f":"MATCH(B271,Removed!AZ$1:AZ$443,0)","v":{"$error":"#N/A"}},{"$f":"CHOOSE(I271,OFFSET(DetailList!C$1,$C271-1,0),\"PENDING: \"&OFFSET(DetailListPending!C$1,$D271-1,0),\"   REMOVED [\"&OFFSET(Removed!C$1,$E271-1,0)&\"]\")","v":"Local Authority Data Return (LADR)"},{"$f":"CHOOSE(I271,OFFSET(DetailList!E$1,$C271-1,0),OFFSET(DetailListPending!E$1,$D271-1,0),OFFSET(Removed!E$1,$E271-1,0))","v":"DLUHC/RSH"},{"$f":"CHOOSE(I271,OFFSET(DetailList!AU$1,$C271-1,0),\"Pending: \"&OFFSET(DetailListPending!AU$1,$D271-1,0),\"REMOVED [\"&OFFSET(Removed!AU$1,$E271-1,0)&\"]\")","v":1},1,true,false]
[null,271,{"$f":"MATCH(B272,DetailList!AZ:AZ,0)","v":146},{"$f":"MATCH(B272,DetailListPending!AZ:AZ,0)","v":{"$error":"#N/A"}},{"$f":"MATCH(B272,Removed!AZ$1:AZ$443,0)","v":{"$error":"#N/A"}},{"$f":"CHOOSE(I272,OFFSET(DetailList!C$1,$C272-1,0),\"PENDING: \"&OFFSET(DetailListPending!C$1,$D272-1,0),\"   REMOVED [\"&OFFSET(Removed!C$1,$E272-1,0)&\"]\")","v":"Names of additional Public Private Partnership / Private Finance Initiative Projects (for ONS & HMT)"},{"$f":"CHOOSE(I272,OFFSET(DetailList!E$1,$C272-1,0),OFFSET(DetailListPending!E$1,$D272-1,0),OFFSET(Removed!E$1,$E272-1,0))","v":"DLUHC"},{"$f":"CHOOSE(I272,OFFSET(DetailList!AU$1,$C272-1,0),\"Pending: \"&OFFSET(DetailListPending!AU$1,$D272-1,0),\"REMOVED [\"&OFFSET(Removed!AU$1,$E272-1,0)&\"]\")","v":1},1,true,false]
[null,272,{"$f":"MATCH(B273,DetailList!AZ:AZ,0)","v":148},{"$f":"MATCH(B273,DetailListPending!AZ:AZ,0)","v":{"$error":"#N/A"}},{"$f":"MATCH(B273,Removed!AZ$1:AZ$443,0)","v":{"$error":"#N/A"}},{"$f":"CHOOSE(I273,OFFSET(DetailList!C$1,$C273-1,0),\"PENDING: \"&OFFSET(DetailListPending!C$1,$D273-1,0),\"   REMOVED [\"&OFFSET(Removed!C$1,$E273-1,0)&\"]\")","v":"Exit payments"},{"$f":"CHOOSE(I273,OFFSET(DetailList!E$1,$C273-1,0),OFFSET(DetailListPending!E$1,$D273-1,0),OFFSET(Removed!E$1,$E273-1,0))","v":"DLUHC"},{"$f":"CHOOSE(I273,OFFSET(DetailList!AU$1,$C273-1,0),\"Pending: \"&OFFSET(DetailListPending!AU$1,$D273-1,0),\"REMOVED [\"&OFFSET(Removed!AU$1,$E273-1,0)&\"]\")","v":1},1,true,false]
[null,273,{"$f":"MATCH(B274,DetailList!AZ:AZ,0)","v":150},{"$f":"MATCH(B274,DetailListPending!AZ:AZ,0)","v":{"$error":"#N/A"}},{"$f":"MATCH(B274,Removed!AZ$1:AZ$443,0)","v":{"$error":"#N/A"}},{"$f":"CHOOSE(I274,OFFSET(DetailList!C$1,$C274-1,0),\"PENDING: \"&OFFSET(DetailListPending!C$1,$D274-1,0),\"   REMOVED [\"&OFFSET(Removed!C$1,$E274-1,0)&\"]\")","v":"Capital Outturn Return (COR) Local Authority Trading companies"},{"$f":"CHOOSE(I274,OFFSET(DetailList!E$1,$C274-1,0),OFFSET(DetailListPending!E$1,$D274-1,0),OFFSET(Removed!E$1,$E274-1,0))","v":"DLUHC"},{"$f":"CHOOSE(I274,OFFSET(DetailList!AU$1,$C274-1,0),\"Pending: \"&OFFSET(DetailListPending!AU$1,$D274-1,0),\"REMOVED [\"&OFFSET(Removed!AU$1,$E274-1,0)&\"]\")","v":0},1,true,false]
[null,274,{"$f":"MATCH(B275,DetailList!AZ:AZ,0)","v":152},{"$f":"MATCH(B275,DetailListPending!AZ:AZ,0)","v":{"$error":"#N/A"}},{"$f":"MATCH(B275,Removed!AZ$1:AZ$443,0)","v":{"$error":"#N/A"}},{"$f":"CHOOSE(I275,OFFSET(DetailList!C$1,$C275-1,0),\"PENDING: \"&OFFSET(DetailListPending!C$1,$D275-1,0),\"   REMOVED [\"&OFFSET(Removed!C$1,$E275-1,0)&\"]\")","v":"Domestic Abuse Tier 1 Safe Accommodation"},{"$f":"CHOOSE(I275,OFFSET(DetailList!E$1,$C275-1,0),OFFSET(DetailListPending!E$1,$D275-1,0),OFFSET(Removed!E$1,$E275-1,0))","v":"DLUHC"},{"$f":"CHOOSE(I275,OFFSET(DetailList!AU$1,$C275-1,0),\"Pending: \"&OFFSET(DetailListPending!AU$1,$D275-1,0),\"REMOVED [\"&OFFSET(Removed!AU$1,$E275-1,0)&\"]\")","v":0},1,true,false]
[null,275,{"$f":"MATCH(B276,DetailList!AZ:AZ,0)","v":438},{"$f":"MATCH(B276,DetailListPending!AZ:AZ,0)","v":{"$error":"#N/A"}},{"$f":"MATCH(B276,Removed!AZ$1:AZ$443,0)","v":{"$error":"#N/A"}},{"$f":"CHOOSE(I276,OFFSET(DetailList!C$1,$C276-1,0),\"PENDING: \"&OFFSET(DetailListPending!C$1,$D276-1,0),\"   REMOVED [\"&OFFSET(Removed!C$1,$E276-1,0)&\"]\")","v":"Adult Social Care Client Level Data (CLD)"},{"$f":"CHOOSE(I276,OFFSET(DetailList!E$1,$C276-1,0),OFFSET(DetailListPending!E$1,$D276-1,0),OFFSET(Removed!E$1,$E276-1,0))","v":"DHSC/NHSE"},{"$f":"CHOOSE(I276,OFFSET(DetailList!AU$1,$C276-1,0),\"Pending: \"&OFFSET(DetailListPending!AU$1,$D276-1,0),\"REMOVED [\"&OFFSET(Removed!AU$1,$E276-1,0)&\"]\")","v":1},1,true,false]
[null,276,{"$f":"MATCH(B277,DetailList!AZ:AZ,0)","v":156},{"$f":"MATCH(B277,DetailListPending!AZ:AZ,0)","v":{"$error":"#N/A"}},{"$f":"MATCH(B277,Removed!AZ$1:AZ$443,0)","v":{"$error":"#N/A"}},{"$f":"CHOOSE(I277,OFFSET(DetailList!C$1,$C277-1,0),\"PENDING: \"&OFFSET(DetailListPending!C$1,$D277-1,0),\"   REMOVED [\"&OFFSET(Removed!C$1,$E277-1,0)&\"]\")","v":"Tenant Satisfaction Measures (TSM) "},{"$f":"CHOOSE(I277,OFFSET(DetailList!E$1,$C277-1,0),OFFSET(DetailListPending!E$1,$D277-1,0),OFFSET(Removed!E$1,$E277-1,0))","v":"DLUHC/RSH"},{"$f":"CHOOSE(I277,OFFSET(DetailList!AU$1,$C277-1,0),\"Pending: \"&OFFSET(DetailListPending!AU$1,$D277-1,0),\"REMOVED [\"&OFFSET(Removed!AU$1,$E277-1,0)&\"]\")","v":0},1,true,false]
[null,277,{"$f":"MATCH(B278,DetailList!AZ:AZ,0)","v":{"$error":"#N/A"}},{"$f":"MATCH(B278,DetailListPending!AZ:AZ,0)","v":{"$error":"#N/A"}},{"$f":"MATCH(B278,Removed!AZ$1:AZ$443,0)","v":{"$error":"#N/A"}},{"$f":"CHOOSE(I278,OFFSET(DetailList!C$1,$C278-1,0),\"PENDING: \"&OFFSET(DetailListPending!C$1,$D278-1,0),\"   REMOVED [\"&OFFSET(Removed!C$1,$E278-1,0)&\"]\")","v":{"$error":"#N/A"}},{"$f":"CHOOSE(I278,OFFSET(DetailList!E$1,$C278-1,0),OFFSET(DetailListPending!E$1,$D278-1,0),OFFSET(Removed!E$1,$E278-1,0))","v":{"$error":"#N/A"}},{"$f":"CHOOSE(I278,OFFSET(DetailList!AU$1,$C278-1,0),\"Pending: \"&OFFSET(DetailListPending!AU$1,$D278-1,0),\"REMOVED [\"&OFFSET(Removed!AU$1,$E278-1,0)&\"]\")","v":{"$error":"#N/A"}},{"$error":"#N/A"},false,false]
[null,278,{"$f":"MATCH(B279,DetailList!AZ:AZ,0)","v":{"$error":"#N/A"}},{"$f":"MATCH(B279,DetailListPending!AZ:AZ,0)","v":{"$error":"#N/A"}},{"$f":"MATCH(B279,Removed!AZ$1:AZ$443,0)","v":{"$error":"#N/A"}},{"$f":"CHOOSE(I279,OFFSET(DetailList!C$1,$C279-1,0),\"PENDING: \"&OFFSET(DetailListPending!C$1,$D279-1,0),\"   REMOVED [\"&OFFSET(Removed!C$1,$E279-1,0)&\"]\")","v":{"$error":"#N/A"}},{"$f":"CHOOSE(I279,OFFSET(DetailList!E$1,$C279-1,0),OFFSET(DetailListPending!E$1,$D279-1,0),OFFSET(Removed!E$1,$E279-1,0))","v":{"$error":"#N/A"}},{"$f":"CHOOSE(I279,OFFSET(DetailList!AU$1,$C279-1,0),\"Pending: \"&OFFSET(DetailListPending!AU$1,$D279-1,0),\"REMOVED [\"&OFFSET(Removed!AU$1,$E279-1,0)&\"]\")","v":{"$error":"#N/A"}},{"$error":"#N/A"},false,false]
[null,279,{"$f":"MATCH(B280,DetailList!AZ:AZ,0)","v":{"$error":"#N/A"}},{"$f":"MATCH(B280,DetailListPending!AZ:AZ,0)","v":{"$error":"#N/A"}},{"$f":"MATCH(B280,Removed!AZ$1:AZ$443,0)","v":{"$error":"#N/A"}},{"$f":"CHOOSE(I280,OFFSET(DetailList!C$1,$C280-1,0),\"PENDING: \"&OFFSET(DetailListPending!C$1,$D280-1,0),\"   REMOVED [\"&OFFSET(Removed!C$1,$E280-1,0)&\"]\")","v":{"$error":"#N/A"}},{"$f":"CHOOSE(I280,OFFSET(DetailList!E$1,$C280-1,0),OFFSET(DetailListPending!E$1,$D280-1,0),OFFSET(Removed!E$1,$E280-1,0))","v":{"$error":"#N/A"}},{"$f":"CHOOSE(I280,OFFSET(DetailList!AU$1,$C280-1,0),\"Pending: \"&OFFSET(DetailListPending!AU$1,$D280-1,0),\"REMOVED [\"&OFFSET(Removed!AU$1,$E280-1,0)&\"]\")","v":{"$error":"#N/A"}},{"$error":"#N/A"},false,false]
[null,280,{"$f":"MATCH(B281,DetailList!AZ:AZ,0)","v":{"$error":"#N/A"}},{"$f":"MATCH(B281,DetailListPending!AZ:AZ,0)","v":{"$error":"#N/A"}},{"$f":"MATCH(B281,Removed!AZ$1:AZ$443,0)","v":{"$error":"#N/A"}},{"$f":"CHOOSE(I281,OFFSET(DetailList!C$1,$C281-1,0),\"PENDING: \"&OFFSET(DetailListPending!C$1,$D281-1,0),\"   REMOVED [\"&OFFSET(Removed!C$1,$E281-1,0)&\"]\")","v":{"$error":"#N/A"}},{"$f":"CHOOSE(I281,OFFSET(DetailList!E$1,$C281-1,0),OFFSET(DetailListPending!E$1,$D281-1,0),OFFSET(Removed!E$1,$E281-1,0))","v":{"$error":"#N/A"}},{"$f":"CHOOSE(I281,OFFSET(DetailList!AU$1,$C281-1,0),\"Pending: \"&OFFSET(DetailListPending!AU$1,$D281-1,0),\"REMOVED [\"&OFFSET(Removed!AU$1,$E281-1,0)&\"]\")","v":{"$error":"#N/A"}},{"$error":"#N/A"},false,false]
[null,281,{"$f":"MATCH(B282,DetailList!AZ:AZ,0)","v":{"$error":"#N/A"}},{"$f":"MATCH(B282,DetailListPending!AZ:AZ,0)","v":{"$error":"#N/A"}},{"$f":"MATCH(B282,Removed!AZ$1:AZ$443,0)","v":{"$error":"#N/A"}},{"$f":"CHOOSE(I282,OFFSET(DetailList!C$1,$C282-1,0),\"PENDING: \"&OFFSET(DetailListPending!C$1,$D282-1,0),\"   REMOVED [\"&OFFSET(Removed!C$1,$E282-1,0)&\"]\")","v":{"$error":"#N/A"}},{"$f":"CHOOSE(I282,OFFSET(DetailList!E$1,$C282-1,0),OFFSET(DetailListPending!E$1,$D282-1,0),OFFSET(Removed!E$1,$E282-1,0))","v":{"$error":"#N/A"}},{"$f":"CHOOSE(I282,OFFSET(DetailList!AU$1,$C282-1,0),\"Pending: \"&OFFSET(DetailListPending!AU$1,$D282-1,0),\"REMOVED [\"&OFFSET(Removed!AU$1,$E282-1,0)&\"]\")","v":{"$error":"#N/A"}},{"$error":"#N/A"},false,false]
[null,282,{"$f":"MATCH(B283,DetailList!AZ:AZ,0)","v":{"$error":"#N/A"}},{"$f":"MATCH(B283,DetailListPending!AZ:AZ,0)","v":{"$error":"#N/A"}},{"$f":"MATCH(B283,Removed!AZ$1:AZ$443,0)","v":{"$error":"#N/A"}},{"$f":"CHOOSE(I283,OFFSET(DetailList!C$1,$C283-1,0),\"PENDING: \"&OFFSET(DetailListPending!C$1,$D283-1,0),\"   REMOVED [\"&OFFSET(Removed!C$1,$E283-1,0)&\"]\")","v":{"$error":"#N/A"}},{"$f":"CHOOSE(I283,OFFSET(DetailList!E$1,$C283-1,0),OFFSET(DetailListPending!E$1,$D283-1,0),OFFSET(Removed!E$1,$E283-1,0))","v":{"$error":"#N/A"}},{"$f":"CHOOSE(I283,OFFSET(DetailList!AU$1,$C283-1,0),\"Pending: \"&OFFSET(DetailListPending!AU$1,$D283-1,0),\"REMOVED [\"&OFFSET(Removed!AU$1,$E283-1,0)&\"]\")","v":{"$error":"#N/A"}},{"$error":"#N/A"},false,false]
[null,283,{"$f":"MATCH(B284,DetailList!AZ:AZ,0)","v":{"$error":"#N/A"}},{"$f":"MATCH(B284,DetailListPending!AZ:AZ,0)","v":{"$error":"#N/A"}},{"$f":"MATCH(B284,Removed!AZ$1:AZ$443,0)","v":{"$error":"#N/A"}},{"$f":"CHOOSE(I284,OFFSET(DetailList!C$1,$C284-1,0),\"PENDING: \"&OFFSET(DetailListPending!C$1,$D284-1,0),\"   REMOVED [\"&OFFSET(Removed!C$1,$E284-1,0)&\"]\")","v":{"$error":"#N/A"}},{"$f":"CHOOSE(I284,OFFSET(DetailList!E$1,$C284-1,0),OFFSET(DetailListPending!E$1,$D284-1,0),OFFSET(Removed!E$1,$E284-1,0))","v":{"$error":"#N/A"}},{"$f":"CHOOSE(I284,OFFSET(DetailList!AU$1,$C284-1,0),\"Pending: \"&OFFSET(DetailListPending!AU$1,$D284-1,0),\"REMOVED [\"&OFFSET(Removed!AU$1,$E284-1,0)&\"]\")","v":{"$error":"#N/A"}},{"$error":"#N/A"},false,false]
[null,284,{"$f":"MATCH(B285,DetailList!AZ:AZ,0)","v":{"$error":"#N/A"}},{"$f":"MATCH(B285,DetailListPending!AZ:AZ,0)","v":{"$error":"#N/A"}},{"$f":"MATCH(B285,Removed!AZ$1:AZ$443,0)","v":{"$error":"#N/A"}},{"$f":"CHOOSE(I285,OFFSET(DetailList!C$1,$C285-1,0),\"PENDING: \"&OFFSET(DetailListPending!C$1,$D285-1,0),\"   REMOVED [\"&OFFSET(Removed!C$1,$E285-1,0)&\"]\")","v":{"$error":"#N/A"}},{"$f":"CHOOSE(I285,OFFSET(DetailList!E$1,$C285-1,0),OFFSET(DetailListPending!E$1,$D285-1,0),OFFSET(Removed!E$1,$E285-1,0))","v":{"$error":"#N/A"}},{"$f":"CHOOSE(I285,OFFSET(DetailList!AU$1,$C285-1,0),\"Pending: \"&OFFSET(DetailListPending!AU$1,$D285-1,0),\"REMOVED [\"&OFFSET(Removed!AU$1,$E285-1,0)&\"]\")","v":{"$error":"#N/A"}},{"$error":"#N/A"},false,false]
[null,285,{"$f":"MATCH(B286,DetailList!AZ:AZ,0)","v":{"$error":"#N/A"}},{"$f":"MATCH(B286,DetailListPending!AZ:AZ,0)","v":{"$error":"#N/A"}},{"$f":"MATCH(B286,Removed!AZ$1:AZ$443,0)","v":{"$error":"#N/A"}},{"$f":"CHOOSE(I286,OFFSET(DetailList!C$1,$C286-1,0),\"PENDING: \"&OFFSET(DetailListPending!C$1,$D286-1,0),\"   REMOVED [\"&OFFSET(Removed!C$1,$E286-1,0)&\"]\")","v":{"$error":"#N/A"}},{"$f":"CHOOSE(I286,OFFSET(DetailList!E$1,$C286-1,0),OFFSET(DetailListPending!E$1,$D286-1,0),OFFSET(Removed!E$1,$E286-1,0))","v":{"$error":"#N/A"}},{"$f":"CHOOSE(I286,OFFSET(DetailList!AU$1,$C286-1,0),\"Pending: \"&OFFSET(DetailListPending!AU$1,$D286-1,0),\"REMOVED [\"&OFFSET(Removed!AU$1,$E286-1,0)&\"]\")","v":{"$error":"#N/A"}},{"$error":"#N/A"},false,false]
[null,286,{"$f":"MATCH(B287,DetailList!AZ:AZ,0)","v":{"$error":"#N/A"}},{"$f":"MATCH(B287,DetailListPending!AZ:AZ,0)","v":{"$error":"#N/A"}},{"$f":"MATCH(B287,Removed!AZ$1:AZ$443,0)","v":{"$error":"#N/A"}},{"$f":"CHOOSE(I287,OFFSET(DetailList!C$1,$C287-1,0),\"PENDING: \"&OFFSET(DetailListPending!C$1,$D287-1,0),\"   REMOVED [\"&OFFSET(Removed!C$1,$E287-1,0)&\"]\")","v":{"$error":"#N/A"}},{"$f":"CHOOSE(I287,OFFSET(DetailList!E$1,$C287-1,0),OFFSET(DetailListPending!E$1,$D287-1,0),OFFSET(Removed!E$1,$E287-1,0))","v":{"$error":"#N/A"}},{"$f":"CHOOSE(I287,OFFSET(DetailList!AU$1,$C287-1,0),\"Pending: \"&OFFSET(DetailListPending!AU$1,$D287-1,0),\"REMOVED [\"&OFFSET(Removed!AU$1,$E287-1,0)&\"]\")","v":{"$error":"#N/A"}},{"$error":"#N/A"},false,false]
[null,287,{"$f":"MATCH(B288,DetailList!AZ:AZ,0)","v":{"$error":"#N/A"}},{"$f":"MATCH(B288,DetailListPending!AZ:AZ,0)","v":{"$error":"#N/A"}},{"$f":"MATCH(B288,Removed!AZ$1:AZ$443,0)","v":{"$error":"#N/A"}},{"$f":"CHOOSE(I288,OFFSET(DetailList!C$1,$C288-1,0),\"PENDING: \"&OFFSET(DetailListPending!C$1,$D288-1,0),\"   REMOVED [\"&OFFSET(Removed!C$1,$E288-1,0)&\"]\")","v":{"$error":"#N/A"}},{"$f":"CHOOSE(I288,OFFSET(DetailList!E$1,$C288-1,0),OFFSET(DetailListPending!E$1,$D288-1,0),OFFSET(Removed!E$1,$E288-1,0))","v":{"$error":"#N/A"}},{"$f":"CHOOSE(I288,OFFSET(DetailList!AU$1,$C288-1,0),\"Pending: \"&OFFSET(DetailListPending!AU$1,$D288-1,0),\"REMOVED [\"&OFFSET(Removed!AU$1,$E288-1,0)&\"]\")","v":{"$error":"#N/A"}},{"$error":"#N/A"},false,false]
[null,288,{"$f":"MATCH(B289,DetailList!AZ:AZ,0)","v":{"$error":"#N/A"}},{"$f":"MATCH(B289,DetailListPending!AZ:AZ,0)","v":{"$error":"#N/A"}},{"$f":"MATCH(B289,Removed!AZ$1:AZ$443,0)","v":{"$error":"#N/A"}},{"$f":"CHOOSE(I289,OFFSET(DetailList!C$1,$C289-1,0),\"PENDING: \"&OFFSET(DetailListPending!C$1,$D289-1,0),\"   REMOVED [\"&OFFSET(Removed!C$1,$E289-1,0)&\"]\")","v":{"$error":"#N/A"}},{"$f":"CHOOSE(I289,OFFSET(DetailList!E$1,$C289-1,0),OFFSET(DetailListPending!E$1,$D289-1,0),OFFSET(Removed!E$1,$E289-1,0))","v":{"$error":"#N/A"}},{"$f":"CHOOSE(I289,OFFSET(DetailList!AU$1,$C289-1,0),\"Pending: \"&OFFSET(DetailListPending!AU$1,$D289-1,0),\"REMOVED [\"&OFFSET(Removed!AU$1,$E289-1,0)&\"]\")","v":{"$error":"#N/A"}},{"$error":"#N/A"},false,false]
[null,289,{"$f":"MATCH(B290,DetailList!AZ:AZ,0)","v":{"$error":"#N/A"}},{"$f":"MATCH(B290,DetailListPending!AZ:AZ,0)","v":{"$error":"#N/A"}},{"$f":"MATCH(B290,Removed!AZ$1:AZ$443,0)","v":{"$error":"#N/A"}},{"$f":"CHOOSE(I290,OFFSET(DetailList!C$1,$C290-1,0),\"PENDING: \"&OFFSET(DetailListPending!C$1,$D290-1,0),\"   REMOVED [\"&OFFSET(Removed!C$1,$E290-1,0)&\"]\")","v":{"$error":"#N/A"}},{"$f":"CHOOSE(I290,OFFSET(DetailList!E$1,$C290-1,0),OFFSET(DetailListPending!E$1,$D290-1,0),OFFSET(Removed!E$1,$E290-1,0))","v":{"$error":"#N/A"}},{"$f":"CHOOSE(I290,OFFSET(DetailList!AU$1,$C290-1,0),\"Pending: \"&OFFSET(DetailListPending!AU$1,$D290-1,0),\"REMOVED [\"&OFFSET(Removed!AU$1,$E290-1,0)&\"]\")","v":{"$error":"#N/A"}},{"$error":"#N/A"},false,false]
[null,290,{"$f":"MATCH(B291,DetailList!AZ:AZ,0)","v":{"$error":"#N/A"}},{"$f":"MATCH(B291,DetailListPending!AZ:AZ,0)","v":{"$error":"#N/A"}},{"$f":"MATCH(B291,Removed!AZ$1:AZ$443,0)","v":{"$error":"#N/A"}},{"$f":"CHOOSE(I291,OFFSET(DetailList!C$1,$C291-1,0),\"PENDING: \"&OFFSET(DetailListPending!C$1,$D291-1,0),\"   REMOVED [\"&OFFSET(Removed!C$1,$E291-1,0)&\"]\")","v":{"$error":"#N/A"}},{"$f":"CHOOSE(I291,OFFSET(DetailList!E$1,$C291-1,0),OFFSET(DetailListPending!E$1,$D291-1,0),OFFSET(Removed!E$1,$E291-1,0))","v":{"$error":"#N/A"}},{"$f":"CHOOSE(I291,OFFSET(DetailList!AU$1,$C291-1,0),\"Pending: \"&OFFSET(DetailListPending!AU$1,$D291-1,0),\"REMOVED [\"&OFFSET(Removed!AU$1,$E291-1,0)&\"]\")","v":{"$error":"#N/A"}},{"$error":"#N/A"},false,false]
[null,291,{"$f":"MATCH(B292,DetailList!AZ:AZ,0)","v":{"$error":"#N/A"}},{"$f":"MATCH(B292,DetailListPending!AZ:AZ,0)","v":{"$error":"#N/A"}},{"$f":"MATCH(B292,Removed!AZ$1:AZ$443,0)","v":{"$error":"#N/A"}},{"$f":"CHOOSE(I292,OFFSET(DetailList!C$1,$C292-1,0),\"PENDING: \"&OFFSET(DetailListPending!C$1,$D292-1,0),\"   REMOVED [\"&OFFSET(Removed!C$1,$E292-1,0)&\"]\")","v":{"$error":"#N/A"}},{"$f":"CHOOSE(I292,OFFSET(DetailList!E$1,$C292-1,0),OFFSET(DetailListPending!E$1,$D292-1,0),OFFSET(Removed!E$1,$E292-1,0))","v":{"$error":"#N/A"}},{"$f":"CHOOSE(I292,OFFSET(DetailList!AU$1,$C292-1,0),\"Pending: \"&OFFSET(DetailListPending!AU$1,$D292-1,0),\"REMOVED [\"&OFFSET(Removed!AU$1,$E292-1,0)&\"]\")","v":{"$error":"#N/A"}},{"$error":"#N/A"},false,false]
[null,292,{"$f":"MATCH(B293,DetailList!AZ:AZ,0)","v":{"$error":"#N/A"}},{"$f":"MATCH(B293,DetailListPending!AZ:AZ,0)","v":{"$error":"#N/A"}},{"$f":"MATCH(B293,Removed!AZ$1:AZ$443,0)","v":{"$error":"#N/A"}},{"$f":"CHOOSE(I293,OFFSET(DetailList!C$1,$C293-1,0),\"PENDING: \"&OFFSET(DetailListPending!C$1,$D293-1,0),\"   REMOVED [\"&OFFSET(Removed!C$1,$E293-1,0)&\"]\")","v":{"$error":"#N/A"}},{"$f":"CHOOSE(I293,OFFSET(DetailList!E$1,$C293-1,0),OFFSET(DetailListPending!E$1,$D293-1,0),OFFSET(Removed!E$1,$E293-1,0))","v":{"$error":"#N/A"}},{"$f":"CHOOSE(I293,OFFSET(DetailList!AU$1,$C293-1,0),\"Pending: \"&OFFSET(DetailListPending!AU$1,$D293-1,0),\"REMOVED [\"&OFFSET(Removed!AU$1,$E293-1,0)&\"]\")","v":{"$error":"#N/A"}},{"$error":"#N/A"},false,false]
[null,293,{"$f":"MATCH(B294,DetailList!AZ:AZ,0)","v":{"$error":"#N/A"}},{"$f":"MATCH(B294,DetailListPending!AZ:AZ,0)","v":{"$error":"#N/A"}},{"$f":"MATCH(B294,Removed!AZ$1:AZ$443,0)","v":{"$error":"#N/A"}},{"$f":"CHOOSE(I294,OFFSET(DetailList!C$1,$C294-1,0),\"PENDING: \"&OFFSET(DetailListPending!C$1,$D294-1,0),\"   REMOVED [\"&OFFSET(Removed!C$1,$E294-1,0)&\"]\")","v":{"$error":"#N/A"}},{"$f":"CHOOSE(I294,OFFSET(DetailList!E$1,$C294-1,0),OFFSET(DetailListPending!E$1,$D294-1,0),OFFSET(Removed!E$1,$E294-1,0))","v":{"$error":"#N/A"}},{"$f":"CHOOSE(I294,OFFSET(DetailList!AU$1,$C294-1,0),\"Pending: \"&OFFSET(DetailListPending!AU$1,$D294-1,0),\"REMOVED [\"&OFFSET(Removed!AU$1,$E294-1,0)&\"]\")","v":{"$error":"#N/A"}},{"$error":"#N/A"},false,false]
[null,294,{"$f":"MATCH(B295,DetailList!AZ:AZ,0)","v":{"$error":"#N/A"}},{"$f":"MATCH(B295,DetailListPending!AZ:AZ,0)","v":{"$error":"#N/A"}},{"$f":"MATCH(B295,Removed!AZ$1:AZ$443,0)","v":{"$error":"#N/A"}},{"$f":"CHOOSE(I295,OFFSET(DetailList!C$1,$C295-1,0),\"PENDING: \"&OFFSET(DetailListPending!C$1,$D295-1,0),\"   REMOVED [\"&OFFSET(Removed!C$1,$E295-1,0)&\"]\")","v":{"$error":"#N/A"}},{"$f":"CHOOSE(I295,OFFSET(DetailList!E$1,$C295-1,0),OFFSET(DetailListPending!E$1,$D295-1,0),OFFSET(Removed!E$1,$E295-1,0))","v":{"$error":"#N/A"}},{"$f":"CHOOSE(I295,OFFSET(DetailList!AU$1,$C295-1,0),\"Pending: \"&OFFSET(DetailListPending!AU$1,$D295-1,0),\"REMOVED [\"&OFFSET(Removed!AU$1,$E295-1,0)&\"]\")","v":{"$error":"#N/A"}},{"$error":"#N/A"},false,false]
[null,295,{"$f":"MATCH(B296,DetailList!AZ:AZ,0)","v":{"$error":"#N/A"}},{"$f":"MATCH(B296,DetailListPending!AZ:AZ,0)","v":{"$error":"#N/A"}},{"$f":"MATCH(B296,Removed!AZ$1:AZ$443,0)","v":{"$error":"#N/A"}},{"$f":"CHOOSE(I296,OFFSET(DetailList!C$1,$C296-1,0),\"PENDING: \"&OFFSET(DetailListPending!C$1,$D296-1,0),\"   REMOVED [\"&OFFSET(Removed!C$1,$E296-1,0)&\"]\")","v":{"$error":"#N/A"}},{"$f":"CHOOSE(I296,OFFSET(DetailList!E$1,$C296-1,0),OFFSET(DetailListPending!E$1,$D296-1,0),OFFSET(Removed!E$1,$E296-1,0))","v":{"$error":"#N/A"}},{"$f":"CHOOSE(I296,OFFSET(DetailList!AU$1,$C296-1,0),\"Pending: \"&OFFSET(DetailListPending!AU$1,$D296-1,0),\"REMOVED [\"&OFFSET(Removed!AU$1,$E296-1,0)&\"]\")","v":{"$error":"#N/A"}},{"$error":"#N/A"},false,false]
[null,296,{"$f":"MATCH(B297,DetailList!AZ:AZ,0)","v":{"$error":"#N/A"}},{"$f":"MATCH(B297,DetailListPending!AZ:AZ,0)","v":{"$error":"#N/A"}},{"$f":"MATCH(B297,Removed!AZ$1:AZ$443,0)","v":{"$error":"#N/A"}},{"$f":"CHOOSE(I297,OFFSET(DetailList!C$1,$C297-1,0),\"PENDING: \"&OFFSET(DetailListPending!C$1,$D297-1,0),\"   REMOVED [\"&OFFSET(Removed!C$1,$E297-1,0)&\"]\")","v":{"$error":"#N/A"}},{"$f":"CHOOSE(I297,OFFSET(DetailList!E$1,$C297-1,0),OFFSET(DetailListPending!E$1,$D297-1,0),OFFSET(Removed!E$1,$E297-1,0))","v":{"$error":"#N/A"}},{"$f":"CHOOSE(I297,OFFSET(DetailList!AU$1,$C297-1,0),\"Pending: \"&OFFSET(DetailListPending!AU$1,$D297-1,0),\"REMOVED [\"&OFFSET(Removed!AU$1,$E297-1,0)&\"]\")","v":{"$error":"#N/A"}},{"$error":"#N/A"},false,false]
[null,297,{"$f":"MATCH(B298,DetailList!AZ:AZ,0)","v":{"$error":"#N/A"}},{"$f":"MATCH(B298,DetailListPending!AZ:AZ,0)","v":{"$error":"#N/A"}},{"$f":"MATCH(B298,Removed!AZ$1:AZ$443,0)","v":{"$error":"#N/A"}},{"$f":"CHOOSE(I298,OFFSET(DetailList!C$1,$C298-1,0),\"PENDING: \"&OFFSET(DetailListPending!C$1,$D298-1,0),\"   REMOVED [\"&OFFSET(Removed!C$1,$E298-1,0)&\"]\")","v":{"$error":"#N/A"}},{"$f":"CHOOSE(I298,OFFSET(DetailList!E$1,$C298-1,0),OFFSET(DetailListPending!E$1,$D298-1,0),OFFSET(Removed!E$1,$E298-1,0))","v":{"$error":"#N/A"}},{"$f":"CHOOSE(I298,OFFSET(DetailList!AU$1,$C298-1,0),\"Pending: \"&OFFSET(DetailListPending!AU$1,$D298-1,0),\"REMOVED [\"&OFFSET(Removed!AU$1,$E298-1,0)&\"]\")","v":{"$error":"#N/A"}},{"$error":"#N/A"},false,false]
[null,298,{"$f":"MATCH(B299,DetailList!AZ:AZ,0)","v":{"$error":"#N/A"}},{"$f":"MATCH(B299,DetailListPending!AZ:AZ,0)","v":{"$error":"#N/A"}},{"$f":"MATCH(B299,Removed!AZ$1:AZ$443,0)","v":{"$error":"#N/A"}},{"$f":"CHOOSE(I299,OFFSET(DetailList!C$1,$C299-1,0),\"PENDING: \"&OFFSET(DetailListPending!C$1,$D299-1,0),\"   REMOVED [\"&OFFSET(Removed!C$1,$E299-1,0)&\"]\")","v":{"$error":"#N/A"}},{"$f":"CHOOSE(I299,OFFSET(DetailList!E$1,$C299-1,0),OFFSET(DetailListPending!E$1,$D299-1,0),OFFSET(Removed!E$1,$E299-1,0))","v":{"$error":"#N/A"}},{"$f":"CHOOSE(I299,OFFSET(DetailList!AU$1,$C299-1,0),\"Pending: \"&OFFSET(DetailListPending!AU$1,$D299-1,0),\"REMOVED [\"&OFFSET(Removed!AU$1,$E299-1,0)&\"]\")","v":{"$error":"#N/A"}},{"$error":"#N/A"},false,false]
[null,299,{"$f":"MATCH(B300,DetailList!AZ:AZ,0)","v":{"$error":"#N/A"}},{"$f":"MATCH(B300,DetailListPending!AZ:AZ,0)","v":{"$error":"#N/A"}},{"$f":"MATCH(B300,Removed!AZ$1:AZ$443,0)","v":{"$error":"#N/A"}},{"$f":"CHOOSE(I300,OFFSET(DetailList!C$1,$C300-1,0),\"PENDING: \"&OFFSET(DetailListPending!C$1,$D300-1,0),\"   REMOVED [\"&OFFSET(Removed!C$1,$E300-1,0)&\"]\")","v":{"$error":"#N/A"}},{"$f":"CHOOSE(I300,OFFSET(DetailList!E$1,$C300-1,0),OFFSET(DetailListPending!E$1,$D300-1,0),OFFSET(Removed!E$1,$E300-1,0))","v":{"$error":"#N/A"}},{"$f":"CHOOSE(I300,OFFSET(DetailList!AU$1,$C300-1,0),\"Pending: \"&OFFSET(DetailListPending!AU$1,$D300-1,0),\"REMOVED [\"&OFFSET(Removed!AU$1,$E300-1,0)&\"]\")","v":{"$error":"#N/A"}},{"$error":"#N/A"},false,false]
[null,300,{"$f":"MATCH(B301,DetailList!AZ:AZ,0)","v":{"$error":"#N/A"}},{"$f":"MATCH(B301,DetailListPending!AZ:AZ,0)","v":{"$error":"#N/A"}},{"$f":"MATCH(B301,Removed!AZ$1:AZ$443,0)","v":{"$error":"#N/A"}},{"$f":"CHOOSE(I301,OFFSET(DetailList!C$1,$C301-1,0),\"PENDING: \"&OFFSET(DetailListPending!C$1,$D301-1,0),\"   REMOVED [\"&OFFSET(Removed!C$1,$E301-1,0)&\"]\")","v":{"$error":"#N/A"}},{"$f":"CHOOSE(I301,OFFSET(DetailList!E$1,$C301-1,0),OFFSET(DetailListPending!E$1,$D301-1,0),OFFSET(Removed!E$1,$E301-1,0))","v":{"$error":"#N/A"}},{"$f":"CHOOSE(I301,OFFSET(DetailList!AU$1,$C301-1,0),\"Pending: \"&OFFSET(DetailListPending!AU$1,$D301-1,0),\"REMOVED [\"&OFFSET(Removed!AU$1,$E301-1,0)&\"]\")","v":{"$error":"#N/A"}},{"$error":"#N/A"},false,false]
[null,301,{"$f":"MATCH(B302,DetailList!AZ:AZ,0)","v":{"$error":"#N/A"}},{"$f":"MATCH(B302,DetailListPending!AZ:AZ,0)","v":{"$error":"#N/A"}},{"$f":"MATCH(B302,Removed!AZ$1:AZ$443,0)","v":{"$error":"#N/A"}},{"$f":"CHOOSE(I302,OFFSET(DetailList!C$1,$C302-1,0),\"PENDING: \"&OFFSET(DetailListPending!C$1,$D302-1,0),\"   REMOVED [\"&OFFSET(Removed!C$1,$E302-1,0)&\"]\")","v":{"$error":"#N/A"}},{"$f":"CHOOSE(I302,OFFSET(DetailList!E$1,$C302-1,0),OFFSET(DetailListPending!E$1,$D302-1,0),OFFSET(Removed!E$1,$E302-1,0))","v":{"$error":"#N/A"}},{"$f":"CHOOSE(I302,OFFSET(DetailList!AU$1,$C302-1,0),\"Pending: \"&OFFSET(DetailListPending!AU$1,$D302-1,0),\"REMOVED [\"&OFFSET(Removed!AU$1,$E302-1,0)&\"]\")","v":{"$error":"#N/A"}},{"$error":"#N/A"},false,false]
[null,302,{"$f":"MATCH(B303,DetailList!AZ:AZ,0)","v":{"$error":"#N/A"}},{"$f":"MATCH(B303,DetailListPending!AZ:AZ,0)","v":{"$error":"#N/A"}},{"$f":"MATCH(B303,Removed!AZ$1:AZ$443,0)","v":{"$error":"#N/A"}},{"$f":"CHOOSE(I303,OFFSET(DetailList!C$1,$C303-1,0),\"PENDING: \"&OFFSET(DetailListPending!C$1,$D303-1,0),\"   REMOVED [\"&OFFSET(Removed!C$1,$E303-1,0)&\"]\")","v":{"$error":"#N/A"}},{"$f":"CHOOSE(I303,OFFSET(DetailList!E$1,$C303-1,0),OFFSET(DetailListPending!E$1,$D303-1,0),OFFSET(Removed!E$1,$E303-1,0))","v":{"$error":"#N/A"}},{"$f":"CHOOSE(I303,OFFSET(DetailList!AU$1,$C303-1,0),\"Pending: \"&OFFSET(DetailListPending!AU$1,$D303-1,0),\"REMOVED [\"&OFFSET(Removed!AU$1,$E303-1,0)&\"]\")","v":{"$error":"#N/A"}},{"$error":"#N/A"},false,false]
[null,303,{"$f":"MATCH(B304,DetailList!AZ:AZ,0)","v":{"$error":"#N/A"}},{"$f":"MATCH(B304,DetailListPending!AZ:AZ,0)","v":{"$error":"#N/A"}},{"$f":"MATCH(B304,Removed!AZ$1:AZ$443,0)","v":{"$error":"#N/A"}},{"$f":"CHOOSE(I304,OFFSET(DetailList!C$1,$C304-1,0),\"PENDING: \"&OFFSET(DetailListPending!C$1,$D304-1,0),\"   REMOVED [\"&OFFSET(Removed!C$1,$E304-1,0)&\"]\")","v":{"$error":"#N/A"}},{"$f":"CHOOSE(I304,OFFSET(DetailList!E$1,$C304-1,0),OFFSET(DetailListPending!E$1,$D304-1,0),OFFSET(Removed!E$1,$E304-1,0))","v":{"$error":"#N/A"}},{"$f":"CHOOSE(I304,OFFSET(DetailList!AU$1,$C304-1,0),\"Pending: \"&OFFSET(DetailListPending!AU$1,$D304-1,0),\"REMOVED [\"&OFFSET(Removed!AU$1,$E304-1,0)&\"]\")","v":{"$error":"#N/A"}},{"$error":"#N/A"},false,false]
[null,304,{"$f":"MATCH(B305,DetailList!AZ:AZ,0)","v":{"$error":"#N/A"}},{"$f":"MATCH(B305,DetailListPending!AZ:AZ,0)","v":{"$error":"#N/A"}},{"$f":"MATCH(B305,Removed!AZ$1:AZ$443,0)","v":{"$error":"#N/A"}},{"$f":"CHOOSE(I305,OFFSET(DetailList!C$1,$C305-1,0),\"PENDING: \"&OFFSET(DetailListPending!C$1,$D305-1,0),\"   REMOVED [\"&OFFSET(Removed!C$1,$E305-1,0)&\"]\")","v":{"$error":"#N/A"}},{"$f":"CHOOSE(I305,OFFSET(DetailList!E$1,$C305-1,0),OFFSET(DetailListPending!E$1,$D305-1,0),OFFSET(Removed!E$1,$E305-1,0))","v":{"$error":"#N/A"}},{"$f":"CHOOSE(I305,OFFSET(DetailList!AU$1,$C305-1,0),\"Pending: \"&OFFSET(DetailListPending!AU$1,$D305-1,0),\"REMOVED [\"&OFFSET(Removed!AU$1,$E305-1,0)&\"]\")","v":{"$error":"#N/A"}},{"$error":"#N/A"},false,false]
[null,305,{"$f":"MATCH(B306,DetailList!AZ:AZ,0)","v":{"$error":"#N/A"}},{"$f":"MATCH(B306,DetailListPending!AZ:AZ,0)","v":{"$error":"#N/A"}},{"$f":"MATCH(B306,Removed!AZ$1:AZ$443,0)","v":{"$error":"#N/A"}},{"$f":"CHOOSE(I306,OFFSET(DetailList!C$1,$C306-1,0),\"PENDING: \"&OFFSET(DetailListPending!C$1,$D306-1,0),\"   REMOVED [\"&OFFSET(Removed!C$1,$E306-1,0)&\"]\")","v":{"$error":"#N/A"}},{"$f":"CHOOSE(I306,OFFSET(DetailList!E$1,$C306-1,0),OFFSET(DetailListPending!E$1,$D306-1,0),OFFSET(Removed!E$1,$E306-1,0))","v":{"$error":"#N/A"}},{"$f":"CHOOSE(I306,OFFSET(DetailList!AU$1,$C306-1,0),\"Pending: \"&OFFSET(DetailListPending!AU$1,$D306-1,0),\"REMOVED [\"&OFFSET(Removed!AU$1,$E306-1,0)&\"]\")","v":{"$error":"#N/A"}},{"$error":"#N/A"},false,false]
[null,306,{"$f":"MATCH(B307,DetailList!AZ:AZ,0)","v":{"$error":"#N/A"}},{"$f":"MATCH(B307,DetailListPending!AZ:AZ,0)","v":{"$error":"#N/A"}},{"$f":"MATCH(B307,Removed!AZ$1:AZ$443,0)","v":{"$error":"#N/A"}},{"$f":"CHOOSE(I307,OFFSET(DetailList!C$1,$C307-1,0),\"PENDING: \"&OFFSET(DetailListPending!C$1,$D307-1,0),\"   REMOVED [\"&OFFSET(Removed!C$1,$E307-1,0)&\"]\")","v":{"$error":"#N/A"}},{"$f":"CHOOSE(I307,OFFSET(DetailList!E$1,$C307-1,0),OFFSET(DetailListPending!E$1,$D307-1,0),OFFSET(Removed!E$1,$E307-1,0))","v":{"$error":"#N/A"}},{"$f":"CHOOSE(I307,OFFSET(DetailList!AU$1,$C307-1,0),\"Pending: \"&OFFSET(DetailListPending!AU$1,$D307-1,0),\"REMOVED [\"&OFFSET(Removed!AU$1,$E307-1,0)&\"]\")","v":{"$error":"#N/A"}},{"$error":"#N/A"},false,false]
[null,307,{"$f":"MATCH(B308,DetailList!AZ:AZ,0)","v":{"$error":"#N/A"}},{"$f":"MATCH(B308,DetailListPending!AZ:AZ,0)","v":{"$error":"#N/A"}},{"$f":"MATCH(B308,Removed!AZ$1:AZ$443,0)","v":{"$error":"#N/A"}},{"$f":"CHOOSE(I308,OFFSET(DetailList!C$1,$C308-1,0),\"PENDING: \"&OFFSET(DetailListPending!C$1,$D308-1,0),\"   REMOVED [\"&OFFSET(Removed!C$1,$E308-1,0)&\"]\")","v":{"$error":"#N/A"}},{"$f":"CHOOSE(I308,OFFSET(DetailList!E$1,$C308-1,0),OFFSET(DetailListPending!E$1,$D308-1,0),OFFSET(Removed!E$1,$E308-1,0))","v":{"$error":"#N/A"}},{"$f":"CHOOSE(I308,OFFSET(DetailList!AU$1,$C308-1,0),\"Pending: \"&OFFSET(DetailListPending!AU$1,$D308-1,0),\"REMOVED [\"&OFFSET(Removed!AU$1,$E308-1,0)&\"]\")","v":{"$error":"#N/A"}},{"$error":"#N/A"},false,false]
[null,308,{"$f":"MATCH(B309,DetailList!AZ:AZ,0)","v":{"$error":"#N/A"}},{"$f":"MATCH(B309,DetailListPending!AZ:AZ,0)","v":{"$error":"#N/A"}},{"$f":"MATCH(B309,Removed!AZ$1:AZ$443,0)","v":{"$error":"#N/A"}},{"$f":"CHOOSE(I309,OFFSET(DetailList!C$1,$C309-1,0),\"PENDING: \"&OFFSET(DetailListPending!C$1,$D309-1,0),\"   REMOVED [\"&OFFSET(Removed!C$1,$E309-1,0)&\"]\")","v":{"$error":"#N/A"}},{"$f":"CHOOSE(I309,OFFSET(DetailList!E$1,$C309-1,0),OFFSET(DetailListPending!E$1,$D309-1,0),OFFSET(Removed!E$1,$E309-1,0))","v":{"$error":"#N/A"}},{"$f":"CHOOSE(I309,OFFSET(DetailList!AU$1,$C309-1,0),\"Pending: \"&OFFSET(DetailListPending!AU$1,$D309-1,0),\"REMOVED [\"&OFFSET(Removed!AU$1,$E309-1,0)&\"]\")","v":{"$error":"#N/A"}},{"$error":"#N/A"},false,false]
[null,309,{"$f":"MATCH(B310,DetailList!AZ:AZ,0)","v":{"$error":"#N/A"}},{"$f":"MATCH(B310,DetailListPending!AZ:AZ,0)","v":{"$error":"#N/A"}},{"$f":"MATCH(B310,Removed!AZ$1:AZ$443,0)","v":{"$error":"#N/A"}},{"$f":"CHOOSE(I310,OFFSET(DetailList!C$1,$C310-1,0),\"PENDING: \"&OFFSET(DetailListPending!C$1,$D310-1,0),\"   REMOVED [\"&OFFSET(Removed!C$1,$E310-1,0)&\"]\")","v":{"$error":"#N/A"}},{"$f":"CHOOSE(I310,OFFSET(DetailList!E$1,$C310-1,0),OFFSET(DetailListPending!E$1,$D310-1,0),OFFSET(Removed!E$1,$E310-1,0))","v":{"$error":"#N/A"}},{"$f":"CHOOSE(I310,OFFSET(DetailList!AU$1,$C310-1,0),\"Pending: \"&OFFSET(DetailListPending!AU$1,$D310-1,0),\"REMOVED [\"&OFFSET(Removed!AU$1,$E310-1,0)&\"]\")","v":{"$error":"#N/A"}},{"$error":"#N/A"},false,false]
[null,310,{"$f":"MATCH(B311,DetailList!AZ:AZ,0)","v":{"$error":"#N/A"}},{"$f":"MATCH(B311,DetailListPending!AZ:AZ,0)","v":{"$error":"#N/A"}},{"$f":"MATCH(B311,Removed!AZ$1:AZ$443,0)","v":{"$error":"#N/A"}},{"$f":"CHOOSE(I311,OFFSET(DetailList!C$1,$C311-1,0),\"PENDING: \"&OFFSET(DetailListPending!C$1,$D311-1,0),\"   REMOVED [\"&OFFSET(Removed!C$1,$E311-1,0)&\"]\")","v":{"$error":"#N/A"}},{"$f":"CHOOSE(I311,OFFSET(DetailList!E$1,$C311-1,0),OFFSET(DetailListPending!E$1,$D311-1,0),OFFSET(Removed!E$1,$E311-1,0))","v":{"$error":"#N/A"}},{"$f":"CHOOSE(I311,OFFSET(DetailList!AU$1,$C311-1,0),\"Pending: \"&OFFSET(DetailListPending!AU$1,$D311-1,0),\"REMOVED [\"&OFFSET(Removed!AU$1,$E311-1,0)&\"]\")","v":{"$error":"#N/A"}},{"$error":"#N/A"},false,false]
[null,311,{"$f":"MATCH(B312,DetailList!AZ:AZ,0)","v":{"$error":"#N/A"}},{"$f":"MATCH(B312,DetailListPending!AZ:AZ,0)","v":{"$error":"#N/A"}},{"$f":"MATCH(B312,Removed!AZ$1:AZ$443,0)","v":{"$error":"#N/A"}},{"$f":"CHOOSE(I312,OFFSET(DetailList!C$1,$C312-1,0),\"PENDING: \"&OFFSET(DetailListPending!C$1,$D312-1,0),\"   REMOVED [\"&OFFSET(Removed!C$1,$E312-1,0)&\"]\")","v":{"$error":"#N/A"}},{"$f":"CHOOSE(I312,OFFSET(DetailList!E$1,$C312-1,0),OFFSET(DetailListPending!E$1,$D312-1,0),OFFSET(Removed!E$1,$E312-1,0))","v":{"$error":"#N/A"}},{"$f":"CHOOSE(I312,OFFSET(DetailList!AU$1,$C312-1,0),\"Pending: \"&OFFSET(DetailListPending!AU$1,$D312-1,0),\"REMOVED [\"&OFFSET(Removed!AU$1,$E312-1,0)&\"]\")","v":{"$error":"#N/A"}},{"$error":"#N/A"},false,false]
[null,312,{"$f":"MATCH(B313,DetailList!AZ:AZ,0)","v":{"$error":"#N/A"}},{"$f":"MATCH(B313,DetailListPending!AZ:AZ,0)","v":{"$error":"#N/A"}},{"$f":"MATCH(B313,Removed!AZ$1:AZ$443,0)","v":{"$error":"#N/A"}},{"$f":"CHOOSE(I313,OFFSET(DetailList!C$1,$C313-1,0),\"PENDING: \"&OFFSET(DetailListPending!C$1,$D313-1,0),\"   REMOVED [\"&OFFSET(Removed!C$1,$E313-1,0)&\"]\")","v":{"$error":"#N/A"}},{"$f":"CHOOSE(I313,OFFSET(DetailList!E$1,$C313-1,0),OFFSET(DetailListPending!E$1,$D313-1,0),OFFSET(Removed!E$1,$E313-1,0))","v":{"$error":"#N/A"}},{"$f":"CHOOSE(I313,OFFSET(DetailList!AU$1,$C313-1,0),\"Pending: \"&OFFSET(DetailListPending!AU$1,$D313-1,0),\"REMOVED [\"&OFFSET(Removed!AU$1,$E313-1,0)&\"]\")","v":{"$error":"#N/A"}},{"$error":"#N/A"},false,false]
[null,313,{"$f":"MATCH(B314,DetailList!AZ:AZ,0)","v":{"$error":"#N/A"}},{"$f":"MATCH(B314,DetailListPending!AZ:AZ,0)","v":{"$error":"#N/A"}},{"$f":"MATCH(B314,Removed!AZ$1:AZ$443,0)","v":{"$error":"#N/A"}},{"$f":"CHOOSE(I314,OFFSET(DetailList!C$1,$C314-1,0),\"PENDING: \"&OFFSET(DetailListPending!C$1,$D314-1,0),\"   REMOVED [\"&OFFSET(Removed!C$1,$E314-1,0)&\"]\")","v":{"$error":"#N/A"}},{"$f":"CHOOSE(I314,OFFSET(DetailList!E$1,$C314-1,0),OFFSET(DetailListPending!E$1,$D314-1,0),OFFSET(Removed!E$1,$E314-1,0))","v":{"$error":"#N/A"}},{"$f":"CHOOSE(I314,OFFSET(DetailList!AU$1,$C314-1,0),\"Pending: \"&OFFSET(DetailListPending!AU$1,$D314-1,0),\"REMOVED [\"&OFFSET(Removed!AU$1,$E314-1,0)&\"]\")","v":{"$error":"#N/A"}},{"$error":"#N/A"},false,false]
[null,314,{"$f":"MATCH(B315,DetailList!AZ:AZ,0)","v":{"$error":"#N/A"}},{"$f":"MATCH(B315,DetailListPending!AZ:AZ,0)","v":{"$error":"#N/A"}},{"$f":"MATCH(B315,Removed!AZ$1:AZ$443,0)","v":{"$error":"#N/A"}},{"$f":"CHOOSE(I315,OFFSET(DetailList!C$1,$C315-1,0),\"PENDING: \"&OFFSET(DetailListPending!C$1,$D315-1,0),\"   REMOVED [\"&OFFSET(Removed!C$1,$E315-1,0)&\"]\")","v":{"$error":"#N/A"}},{"$f":"CHOOSE(I315,OFFSET(DetailList!E$1,$C315-1,0),OFFSET(DetailListPending!E$1,$D315-1,0),OFFSET(Removed!E$1,$E315-1,0))","v":{"$error":"#N/A"}},{"$f":"CHOOSE(I315,OFFSET(DetailList!AU$1,$C315-1,0),\"Pending: \"&OFFSET(DetailListPending!AU$1,$D315-1,0),\"REMOVED [\"&OFFSET(Removed!AU$1,$E315-1,0)&\"]\")","v":{"$error":"#N/A"}},{"$error":"#N/A"},false,false]
[null,315,{"$f":"MATCH(B316,DetailList!AZ:AZ,0)","v":{"$error":"#N/A"}},{"$f":"MATCH(B316,DetailListPending!AZ:AZ,0)","v":{"$error":"#N/A"}},{"$f":"MATCH(B316,Removed!AZ$1:AZ$443,0)","v":{"$error":"#N/A"}},{"$f":"CHOOSE(I316,OFFSET(DetailList!C$1,$C316-1,0),\"PENDING: \"&OFFSET(DetailListPending!C$1,$D316-1,0),\"   REMOVED [\"&OFFSET(Removed!C$1,$E316-1,0)&\"]\")","v":{"$error":"#N/A"}},{"$f":"CHOOSE(I316,OFFSET(DetailList!E$1,$C316-1,0),OFFSET(DetailListPending!E$1,$D316-1,0),OFFSET(Removed!E$1,$E316-1,0))","v":{"$error":"#N/A"}},{"$f":"CHOOSE(I316,OFFSET(DetailList!AU$1,$C316-1,0),\"Pending: \"&OFFSET(DetailListPending!AU$1,$D316-1,0),\"REMOVED [\"&OFFSET(Removed!AU$1,$E316-1,0)&\"]\")","v":{"$error":"#N/A"}},{"$error":"#N/A"},false,false]
[null,316,{"$f":"MATCH(B317,DetailList!AZ:AZ,0)","v":{"$error":"#N/A"}},{"$f":"MATCH(B317,DetailListPending!AZ:AZ,0)","v":{"$error":"#N/A"}},{"$f":"MATCH(B317,Removed!AZ$1:AZ$443,0)","v":{"$error":"#N/A"}},{"$f":"CHOOSE(I317,OFFSET(DetailList!C$1,$C317-1,0),\"PENDING: \"&OFFSET(DetailListPending!C$1,$D317-1,0),\"   REMOVED [\"&OFFSET(Removed!C$1,$E317-1,0)&\"]\")","v":{"$error":"#N/A"}},{"$f":"CHOOSE(I317,OFFSET(DetailList!E$1,$C317-1,0),OFFSET(DetailListPending!E$1,$D317-1,0),OFFSET(Removed!E$1,$E317-1,0))","v":{"$error":"#N/A"}},{"$f":"CHOOSE(I317,OFFSET(DetailList!AU$1,$C317-1,0),\"Pending: \"&OFFSET(DetailListPending!AU$1,$D317-1,0),\"REMOVED [\"&OFFSET(Removed!AU$1,$E317-1,0)&\"]\")","v":{"$error":"#N/A"}},{"$error":"#N/A"},false,false]
[null,317,{"$f":"MATCH(B318,DetailList!AZ:AZ,0)","v":{"$error":"#N/A"}},{"$f":"MATCH(B318,DetailListPending!AZ:AZ,0)","v":{"$error":"#N/A"}},{"$f":"MATCH(B318,Removed!AZ$1:AZ$443,0)","v":{"$error":"#N/A"}},{"$f":"CHOOSE(I318,OFFSET(DetailList!C$1,$C318-1,0),\"PENDING: \"&OFFSET(DetailListPending!C$1,$D318-1,0),\"   REMOVED [\"&OFFSET(Removed!C$1,$E318-1,0)&\"]\")","v":{"$error":"#N/A"}},{"$f":"CHOOSE(I318,OFFSET(DetailList!E$1,$C318-1,0),OFFSET(DetailListPending!E$1,$D318-1,0),OFFSET(Removed!E$1,$E318-1,0))","v":{"$error":"#N/A"}},{"$f":"CHOOSE(I318,OFFSET(DetailList!AU$1,$C318-1,0),\"Pending: \"&OFFSET(DetailListPending!AU$1,$D318-1,0),\"REMOVED [\"&OFFSET(Removed!AU$1,$E318-1,0)&\"]\")","v":{"$error":"#N/A"}},{"$error":"#N/A"},false,false]
[null,318,{"$f":"MATCH(B319,DetailList!AZ:AZ,0)","v":{"$error":"#N/A"}},{"$f":"MATCH(B319,DetailListPending!AZ:AZ,0)","v":{"$error":"#N/A"}},{"$f":"MATCH(B319,Removed!AZ$1:AZ$443,0)","v":{"$error":"#N/A"}},{"$f":"CHOOSE(I319,OFFSET(DetailList!C$1,$C319-1,0),\"PENDING: \"&OFFSET(DetailListPending!C$1,$D319-1,0),\"   REMOVED [\"&OFFSET(Removed!C$1,$E319-1,0)&\"]\")","v":{"$error":"#N/A"}},{"$f":"CHOOSE(I319,OFFSET(DetailList!E$1,$C319-1,0),OFFSET(DetailListPending!E$1,$D319-1,0),OFFSET(Removed!E$1,$E319-1,0))","v":{"$error":"#N/A"}},{"$f":"CHOOSE(I319,OFFSET(DetailList!AU$1,$C319-1,0),\"Pending: \"&OFFSET(DetailListPending!AU$1,$D319-1,0),\"REMOVED [\"&OFFSET(Removed!AU$1,$E319-1,0)&\"]\")","v":{"$error":"#N/A"}},{"$error":"#N/A"},false,false]
[null,319,{"$f":"MATCH(B320,DetailList!AZ:AZ,0)","v":{"$error":"#N/A"}},{"$f":"MATCH(B320,DetailListPending!AZ:AZ,0)","v":{"$error":"#N/A"}},{"$f":"MATCH(B320,Removed!AZ$1:AZ$443,0)","v":{"$error":"#N/A"}},{"$f":"CHOOSE(I320,OFFSET(DetailList!C$1,$C320-1,0),\"PENDING: \"&OFFSET(DetailListPending!C$1,$D320-1,0),\"   REMOVED [\"&OFFSET(Removed!C$1,$E320-1,0)&\"]\")","v":{"$error":"#N/A"}},{"$f":"CHOOSE(I320,OFFSET(DetailList!E$1,$C320-1,0),OFFSET(DetailListPending!E$1,$D320-1,0),OFFSET(Removed!E$1,$E320-1,0))","v":{"$error":"#N/A"}},{"$f":"CHOOSE(I320,OFFSET(DetailList!AU$1,$C320-1,0),\"Pending: \"&OFFSET(DetailListPending!AU$1,$D320-1,0),\"REMOVED [\"&OFFSET(Removed!AU$1,$E320-1,0)&\"]\")","v":{"$error":"#N/A"}},{"$error":"#N/A"},false,false]
[null,320,{"$f":"MATCH(B321,DetailList!AZ:AZ,0)","v":{"$error":"#N/A"}},{"$f":"MATCH(B321,DetailListPending!AZ:AZ,0)","v":{"$error":"#N/A"}},{"$f":"MATCH(B321,Removed!AZ$1:AZ$443,0)","v":{"$error":"#N/A"}},{"$f":"CHOOSE(I321,OFFSET(DetailList!C$1,$C321-1,0),\"PENDING: \"&OFFSET(DetailListPending!C$1,$D321-1,0),\"   REMOVED [\"&OFFSET(Removed!C$1,$E321-1,0)&\"]\")","v":{"$error":"#N/A"}},{"$f":"CHOOSE(I321,OFFSET(DetailList!E$1,$C321-1,0),OFFSET(DetailListPending!E$1,$D321-1,0),OFFSET(Removed!E$1,$E321-1,0))","v":{"$error":"#N/A"}},{"$f":"CHOOSE(I321,OFFSET(DetailList!AU$1,$C321-1,0),\"Pending: \"&OFFSET(DetailListPending!AU$1,$D321-1,0),\"REMOVED [\"&OFFSET(Removed!AU$1,$E321-1,0)&\"]\")","v":{"$error":"#N/A"}},{"$error":"#N/A"},false,false]
[null,321,{"$f":"MATCH(B322,DetailList!AZ:AZ,0)","v":{"$error":"#N/A"}},{"$f":"MATCH(B322,DetailListPending!AZ:AZ,0)","v":{"$error":"#N/A"}},{"$f":"MATCH(B322,Removed!AZ$1:AZ$443,0)","v":{"$error":"#N/A"}},{"$f":"CHOOSE(I322,OFFSET(DetailList!C$1,$C322-1,0),\"PENDING: \"&OFFSET(DetailListPending!C$1,$D322-1,0),\"   REMOVED [\"&OFFSET(Removed!C$1,$E322-1,0)&\"]\")","v":{"$error":"#N/A"}},{"$f":"CHOOSE(I322,OFFSET(DetailList!E$1,$C322-1,0),OFFSET(DetailListPending!E$1,$D322-1,0),OFFSET(Removed!E$1,$E322-1,0))","v":{"$error":"#N/A"}},{"$f":"CHOOSE(I322,OFFSET(DetailList!AU$1,$C322-1,0),\"Pending: \"&OFFSET(DetailListPending!AU$1,$D322-1,0),\"REMOVED [\"&OFFSET(Removed!AU$1,$E322-1,0)&\"]\")","v":{"$error":"#N/A"}},{"$f":"IF(ISNUMBER(C322),1,IF(ISNUMBER(D322),2,IF(ISNUMBER(E322),3,NA())))","v":{"$error":"#N/A"}},false,false]
[null,322,{"$f":"MATCH(B323,DetailList!AZ:AZ,0)","v":{"$error":"#N/A"}},{"$f":"MATCH(B323,DetailListPending!AZ:AZ,0)","v":{"$error":"#N/A"}},{"$f":"MATCH(B323,Removed!AZ$1:AZ$443,0)","v":{"$error":"#N/A"}},{"$f":"CHOOSE(I323,OFFSET(DetailList!C$1,$C323-1,0),\"PENDING: \"&OFFSET(DetailListPending!C$1,$D323-1,0),\"   REMOVED [\"&OFFSET(Removed!C$1,$E323-1,0)&\"]\")","v":{"$error":"#N/A"}},{"$f":"CHOOSE(I323,OFFSET(DetailList!E$1,$C323-1,0),OFFSET(DetailListPending!E$1,$D323-1,0),OFFSET(Removed!E$1,$E323-1,0))","v":{"$error":"#N/A"}},{"$f":"CHOOSE(I323,OFFSET(DetailList!AU$1,$C323-1,0),\"Pending: \"&OFFSET(DetailListPending!AU$1,$D323-1,0),\"REMOVED [\"&OFFSET(Removed!AU$1,$E323-1,0)&\"]\")","v":{"$error":"#N/A"}},{"$error":"#N/A"},{"$f":"NOT(ISNA(I323))","v":false},{"$f":"AND(J323,COUNTIF(C323:E323,NA())<>2)","v":false}]
[null,323,{"$f":"MATCH(B324,DetailList!AZ:AZ,0)","v":{"$error":"#N/A"}},{"$f":"MATCH(B324,DetailListPending!AZ:AZ,0)","v":{"$error":"#N/A"}},{"$f":"MATCH(B324,Removed!AZ$1:AZ$443,0)","v":{"$error":"#N/A"}},{"$f":"CHOOSE(I324,OFFSET(DetailList!C$1,$C324-1,0),\"PENDING: \"&OFFSET(DetailListPending!C$1,$D324-1,0),\"   REMOVED [\"&OFFSET(Removed!C$1,$E324-1,0)&\"]\")","v":{"$error":"#N/A"}},{"$f":"CHOOSE(I324,OFFSET(DetailList!E$1,$C324-1,0),OFFSET(DetailListPending!E$1,$D324-1,0),OFFSET(Removed!E$1,$E324-1,0))","v":{"$error":"#N/A"}},{"$f":"CHOOSE(I324,OFFSET(DetailList!AU$1,$C324-1,0),\"Pending: \"&OFFSET(DetailListPending!AU$1,$D324-1,0),\"REMOVED [\"&OFFSET(Removed!AU$1,$E324-1,0)&\"]\")","v":{"$error":"#N/A"}},{"$error":"#N/A"},false,false]
[null,324,{"$f":"MATCH(B325,DetailList!AZ:AZ,0)","v":{"$error":"#N/A"}},{"$f":"MATCH(B325,DetailListPending!AZ:AZ,0)","v":{"$error":"#N/A"}},{"$f":"MATCH(B325,Removed!AZ$1:AZ$443,0)","v":{"$error":"#N/A"}},{"$f":"CHOOSE(I325,OFFSET(DetailList!C$1,$C325-1,0),\"PENDING: \"&OFFSET(DetailListPending!C$1,$D325-1,0),\"   REMOVED [\"&OFFSET(Removed!C$1,$E325-1,0)&\"]\")","v":{"$error":"#N/A"}},{"$f":"CHOOSE(I325,OFFSET(DetailList!E$1,$C325-1,0),OFFSET(DetailListPending!E$1,$D325-1,0),OFFSET(Removed!E$1,$E325-1,0))","v":{"$error":"#N/A"}},{"$f":"CHOOSE(I325,OFFSET(DetailList!AU$1,$C325-1,0),\"Pending: \"&OFFSET(DetailListPending!AU$1,$D325-1,0),\"REMOVED [\"&OFFSET(Removed!AU$1,$E325-1,0)&\"]\")","v":{"$error":"#N/A"}},{"$error":"#N/A"},false,false]
[null,325,{"$f":"MATCH(B326,DetailList!AZ:AZ,0)","v":{"$error":"#N/A"}},{"$f":"MATCH(B326,DetailListPending!AZ:AZ,0)","v":{"$error":"#N/A"}},{"$f":"MATCH(B326,Removed!AZ$1:AZ$443,0)","v":{"$error":"#N/A"}},{"$f":"CHOOSE(I326,OFFSET(DetailList!C$1,$C326-1,0),\"PENDING: \"&OFFSET(DetailListPending!C$1,$D326-1,0),\"   REMOVED [\"&OFFSET(Removed!C$1,$E326-1,0)&\"]\")","v":{"$error":"#N/A"}},{"$f":"CHOOSE(I326,OFFSET(DetailList!E$1,$C326-1,0),OFFSET(DetailListPending!E$1,$D326-1,0),OFFSET(Removed!E$1,$E326-1,0))","v":{"$error":"#N/A"}},{"$f":"CHOOSE(I326,OFFSET(DetailList!AU$1,$C326-1,0),\"Pending: \"&OFFSET(DetailListPending!AU$1,$D326-1,0),\"REMOVED [\"&OFFSET(Removed!AU$1,$E326-1,0)&\"]\")","v":{"$error":"#N/A"}},{"$error":"#N/A"},false,false]
[null,326,{"$f":"MATCH(B327,DetailList!AZ:AZ,0)","v":{"$error":"#N/A"}},{"$f":"MATCH(B327,DetailListPending!AZ:AZ,0)","v":{"$error":"#N/A"}},{"$f":"MATCH(B327,Removed!AZ$1:AZ$443,0)","v":{"$error":"#N/A"}},{"$f":"CHOOSE(I327,OFFSET(DetailList!C$1,$C327-1,0),\"PENDING: \"&OFFSET(DetailListPending!C$1,$D327-1,0),\"   REMOVED [\"&OFFSET(Removed!C$1,$E327-1,0)&\"]\")","v":{"$error":"#N/A"}},{"$f":"CHOOSE(I327,OFFSET(DetailList!E$1,$C327-1,0),OFFSET(DetailListPending!E$1,$D327-1,0),OFFSET(Removed!E$1,$E327-1,0))","v":{"$error":"#N/A"}},{"$f":"CHOOSE(I327,OFFSET(DetailList!AU$1,$C327-1,0),\"Pending: \"&OFFSET(DetailListPending!AU$1,$D327-1,0),\"REMOVED [\"&OFFSET(Removed!AU$1,$E327-1,0)&\"]\")","v":{"$error":"#N/A"}},{"$error":"#N/A"},false,false]
[null,327,{"$f":"MATCH(B328,DetailList!AZ:AZ,0)","v":{"$error":"#N/A"}},{"$f":"MATCH(B328,DetailListPending!AZ:AZ,0)","v":{"$error":"#N/A"}},{"$f":"MATCH(B328,Removed!AZ$1:AZ$443,0)","v":{"$error":"#N/A"}},{"$f":"CHOOSE(I328,OFFSET(DetailList!C$1,$C328-1,0),\"PENDING: \"&OFFSET(DetailListPending!C$1,$D328-1,0),\"   REMOVED [\"&OFFSET(Removed!C$1,$E328-1,0)&\"]\")","v":{"$error":"#N/A"}},{"$f":"CHOOSE(I328,OFFSET(DetailList!E$1,$C328-1,0),OFFSET(DetailListPending!E$1,$D328-1,0),OFFSET(Removed!E$1,$E328-1,0))","v":{"$error":"#N/A"}},{"$f":"CHOOSE(I328,OFFSET(DetailList!AU$1,$C328-1,0),\"Pending: \"&OFFSET(DetailListPending!AU$1,$D328-1,0),\"REMOVED [\"&OFFSET(Removed!AU$1,$E328-1,0)&\"]\")","v":{"$error":"#N/A"}},{"$error":"#N/A"},false,false]
[null,328,{"$f":"MATCH(B329,DetailList!AZ:AZ,0)","v":{"$error":"#N/A"}},{"$f":"MATCH(B329,DetailListPending!AZ:AZ,0)","v":{"$error":"#N/A"}},{"$f":"MATCH(B329,Removed!AZ$1:AZ$443,0)","v":{"$error":"#N/A"}},{"$f":"CHOOSE(I329,OFFSET(DetailList!C$1,$C329-1,0),\"PENDING: \"&OFFSET(DetailListPending!C$1,$D329-1,0),\"   REMOVED [\"&OFFSET(Removed!C$1,$E329-1,0)&\"]\")","v":{"$error":"#N/A"}},{"$f":"CHOOSE(I329,OFFSET(DetailList!E$1,$C329-1,0),OFFSET(DetailListPending!E$1,$D329-1,0),OFFSET(Removed!E$1,$E329-1,0))","v":{"$error":"#N/A"}},{"$f":"CHOOSE(I329,OFFSET(DetailList!AU$1,$C329-1,0),\"Pending: \"&OFFSET(DetailListPending!AU$1,$D329-1,0),\"REMOVED [\"&OFFSET(Removed!AU$1,$E329-1,0)&\"]\")","v":{"$error":"#N/A"}},{"$error":"#N/A"},false,false]
[null,329,{"$f":"MATCH(B330,DetailList!AZ:AZ,0)","v":{"$error":"#N/A"}},{"$f":"MATCH(B330,DetailListPending!AZ:AZ,0)","v":{"$error":"#N/A"}},{"$f":"MATCH(B330,Removed!AZ$1:AZ$443,0)","v":{"$error":"#N/A"}},{"$f":"CHOOSE(I330,OFFSET(DetailList!C$1,$C330-1,0),\"PENDING: \"&OFFSET(DetailListPending!C$1,$D330-1,0),\"   REMOVED [\"&OFFSET(Removed!C$1,$E330-1,0)&\"]\")","v":{"$error":"#N/A"}},{"$f":"CHOOSE(I330,OFFSET(DetailList!E$1,$C330-1,0),OFFSET(DetailListPending!E$1,$D330-1,0),OFFSET(Removed!E$1,$E330-1,0))","v":{"$error":"#N/A"}},{"$f":"CHOOSE(I330,OFFSET(DetailList!AU$1,$C330-1,0),\"Pending: \"&OFFSET(DetailListPending!AU$1,$D330-1,0),\"REMOVED [\"&OFFSET(Removed!AU$1,$E330-1,0)&\"]\")","v":{"$error":"#N/A"}},{"$error":"#N/A"},false,false]
[null,330,{"$f":"MATCH(B331,DetailList!AZ:AZ,0)","v":{"$error":"#N/A"}},{"$f":"MATCH(B331,DetailListPending!AZ:AZ,0)","v":{"$error":"#N/A"}},{"$f":"MATCH(B331,Removed!AZ$1:AZ$443,0)","v":{"$error":"#N/A"}},{"$f":"CHOOSE(I331,OFFSET(DetailList!C$1,$C331-1,0),\"PENDING: \"&OFFSET(DetailListPending!C$1,$D331-1,0),\"   REMOVED [\"&OFFSET(Removed!C$1,$E331-1,0)&\"]\")","v":{"$error":"#N/A"}},{"$f":"CHOOSE(I331,OFFSET(DetailList!E$1,$C331-1,0),OFFSET(DetailListPending!E$1,$D331-1,0),OFFSET(Removed!E$1,$E331-1,0))","v":{"$error":"#N/A"}},{"$f":"CHOOSE(I331,OFFSET(DetailList!AU$1,$C331-1,0),\"Pending: \"&OFFSET(DetailListPending!AU$1,$D331-1,0),\"REMOVED [\"&OFFSET(Removed!AU$1,$E331-1,0)&\"]\")","v":{"$error":"#N/A"}},{"$error":"#N/A"},false,false]
[null,331,{"$f":"MATCH(B332,DetailList!AZ:AZ,0)","v":{"$error":"#N/A"}},{"$f":"MATCH(B332,DetailListPending!AZ:AZ,0)","v":{"$error":"#N/A"}},{"$f":"MATCH(B332,Removed!AZ$1:AZ$443,0)","v":{"$error":"#N/A"}},{"$f":"CHOOSE(I332,OFFSET(DetailList!C$1,$C332-1,0),\"PENDING: \"&OFFSET(DetailListPending!C$1,$D332-1,0),\"   REMOVED [\"&OFFSET(Removed!C$1,$E332-1,0)&\"]\")","v":{"$error":"#N/A"}},{"$f":"CHOOSE(I332,OFFSET(DetailList!E$1,$C332-1,0),OFFSET(DetailListPending!E$1,$D332-1,0),OFFSET(Removed!E$1,$E332-1,0))","v":{"$error":"#N/A"}},{"$f":"CHOOSE(I332,OFFSET(DetailList!AU$1,$C332-1,0),\"Pending: \"&OFFSET(DetailListPending!AU$1,$D332-1,0),\"REMOVED [\"&OFFSET(Removed!AU$1,$E332-1,0)&\"]\")","v":{"$error":"#N/A"}},{"$error":"#N/A"},false,false]
[null,332,{"$f":"MATCH(B333,DetailList!AZ:AZ,0)","v":{"$error":"#N/A"}},{"$f":"MATCH(B333,DetailListPending!AZ:AZ,0)","v":{"$error":"#N/A"}},{"$f":"MATCH(B333,Removed!AZ$1:AZ$443,0)","v":{"$error":"#N/A"}},{"$f":"CHOOSE(I333,OFFSET(DetailList!C$1,$C333-1,0),\"PENDING: \"&OFFSET(DetailListPending!C$1,$D333-1,0),\"   REMOVED [\"&OFFSET(Removed!C$1,$E333-1,0)&\"]\")","v":{"$error":"#N/A"}},{"$f":"CHOOSE(I333,OFFSET(DetailList!E$1,$C333-1,0),OFFSET(DetailListPending!E$1,$D333-1,0),OFFSET(Removed!E$1,$E333-1,0))","v":{"$error":"#N/A"}},{"$f":"CHOOSE(I333,OFFSET(DetailList!AU$1,$C333-1,0),\"Pending: \"&OFFSET(DetailListPending!AU$1,$D333-1,0),\"REMOVED [\"&OFFSET(Removed!AU$1,$E333-1,0)&\"]\")","v":{"$error":"#N/A"}},{"$error":"#N/A"},false,false]
[null,333,{"$f":"MATCH(B334,DetailList!AZ:AZ,0)","v":{"$error":"#N/A"}},{"$f":"MATCH(B334,DetailListPending!AZ:AZ,0)","v":{"$error":"#N/A"}},{"$f":"MATCH(B334,Removed!AZ$1:AZ$443,0)","v":{"$error":"#N/A"}},{"$f":"CHOOSE(I334,OFFSET(DetailList!C$1,$C334-1,0),\"PENDING: \"&OFFSET(DetailListPending!C$1,$D334-1,0),\"   REMOVED [\"&OFFSET(Removed!C$1,$E334-1,0)&\"]\")","v":{"$error":"#N/A"}},{"$f":"CHOOSE(I334,OFFSET(DetailList!E$1,$C334-1,0),OFFSET(DetailListPending!E$1,$D334-1,0),OFFSET(Removed!E$1,$E334-1,0))","v":{"$error":"#N/A"}},{"$f":"CHOOSE(I334,OFFSET(DetailList!AU$1,$C334-1,0),\"Pending: \"&OFFSET(DetailListPending!AU$1,$D334-1,0),\"REMOVED [\"&OFFSET(Removed!AU$1,$E334-1,0)&\"]\")","v":{"$error":"#N/A"}},{"$error":"#N/A"},false,false]
[null,334,{"$f":"MATCH(B335,DetailList!AZ:AZ,0)","v":{"$error":"#N/A"}},{"$f":"MATCH(B335,DetailListPending!AZ:AZ,0)","v":{"$error":"#N/A"}},{"$f":"MATCH(B335,Removed!AZ$1:AZ$443,0)","v":{"$error":"#N/A"}},{"$f":"CHOOSE(I335,OFFSET(DetailList!C$1,$C335-1,0),\"PENDING: \"&OFFSET(DetailListPending!C$1,$D335-1,0),\"   REMOVED [\"&OFFSET(Removed!C$1,$E335-1,0)&\"]\")","v":{"$error":"#N/A"}},{"$f":"CHOOSE(I335,OFFSET(DetailList!E$1,$C335-1,0),OFFSET(DetailListPending!E$1,$D335-1,0),OFFSET(Removed!E$1,$E335-1,0))","v":{"$error":"#N/A"}},{"$f":"CHOOSE(I335,OFFSET(DetailList!AU$1,$C335-1,0),\"Pending: \"&OFFSET(DetailListPending!AU$1,$D335-1,0),\"REMOVED [\"&OFFSET(Removed!AU$1,$E335-1,0)&\"]\")","v":{"$error":"#N/A"}},{"$error":"#N/A"},false,false]
[null,335,{"$f":"MATCH(B336,DetailList!AZ:AZ,0)","v":{"$error":"#N/A"}},{"$f":"MATCH(B336,DetailListPending!AZ:AZ,0)","v":{"$error":"#N/A"}},{"$f":"MATCH(B336,Removed!AZ$1:AZ$443,0)","v":{"$error":"#N/A"}},{"$f":"CHOOSE(I336,OFFSET(DetailList!C$1,$C336-1,0),\"PENDING: \"&OFFSET(DetailListPending!C$1,$D336-1,0),\"   REMOVED [\"&OFFSET(Removed!C$1,$E336-1,0)&\"]\")","v":{"$error":"#N/A"}},{"$f":"CHOOSE(I336,OFFSET(DetailList!E$1,$C336-1,0),OFFSET(DetailListPending!E$1,$D336-1,0),OFFSET(Removed!E$1,$E336-1,0))","v":{"$error":"#N/A"}},{"$f":"CHOOSE(I336,OFFSET(DetailList!AU$1,$C336-1,0),\"Pending: \"&OFFSET(DetailListPending!AU$1,$D336-1,0),\"REMOVED [\"&OFFSET(Removed!AU$1,$E336-1,0)&\"]\")","v":{"$error":"#N/A"}},{"$error":"#N/A"},false,false]
[null,336,{"$f":"MATCH(B337,DetailList!AZ:AZ,0)","v":{"$error":"#N/A"}},{"$f":"MATCH(B337,DetailListPending!AZ:AZ,0)","v":{"$error":"#N/A"}},{"$f":"MATCH(B337,Removed!AZ$1:AZ$443,0)","v":{"$error":"#N/A"}},{"$f":"CHOOSE(I337,OFFSET(DetailList!C$1,$C337-1,0),\"PENDING: \"&OFFSET(DetailListPending!C$1,$D337-1,0),\"   REMOVED [\"&OFFSET(Removed!C$1,$E337-1,0)&\"]\")","v":{"$error":"#N/A"}},{"$f":"CHOOSE(I337,OFFSET(DetailList!E$1,$C337-1,0),OFFSET(DetailListPending!E$1,$D337-1,0),OFFSET(Removed!E$1,$E337-1,0))","v":{"$error":"#N/A"}},{"$f":"CHOOSE(I337,OFFSET(DetailList!AU$1,$C337-1,0),\"Pending: \"&OFFSET(DetailListPending!AU$1,$D337-1,0),\"REMOVED [\"&OFFSET(Removed!AU$1,$E337-1,0)&\"]\")","v":{"$error":"#N/A"}},{"$error":"#N/A"},false,false]
[null,337,{"$f":"MATCH(B338,DetailList!AZ:AZ,0)","v":{"$error":"#N/A"}},{"$f":"MATCH(B338,DetailListPending!AZ:AZ,0)","v":{"$error":"#N/A"}},{"$f":"MATCH(B338,Removed!AZ$1:AZ$443,0)","v":{"$error":"#N/A"}},{"$f":"CHOOSE(I338,OFFSET(DetailList!C$1,$C338-1,0),\"PENDING: \"&OFFSET(DetailListPending!C$1,$D338-1,0),\"   REMOVED [\"&OFFSET(Removed!C$1,$E338-1,0)&\"]\")","v":{"$error":"#N/A"}},{"$f":"CHOOSE(I338,OFFSET(DetailList!E$1,$C338-1,0),OFFSET(DetailListPending!E$1,$D338-1,0),OFFSET(Removed!E$1,$E338-1,0))","v":{"$error":"#N/A"}},{"$f":"CHOOSE(I338,OFFSET(DetailList!AU$1,$C338-1,0),\"Pending: \"&OFFSET(DetailListPending!AU$1,$D338-1,0),\"REMOVED [\"&OFFSET(Removed!AU$1,$E338-1,0)&\"]\")","v":{"$error":"#N/A"}},{"$error":"#N/A"},false,false]
[null,338,{"$f":"MATCH(B339,DetailList!AZ:AZ,0)","v":{"$error":"#N/A"}},{"$f":"MATCH(B339,DetailListPending!AZ:AZ,0)","v":{"$error":"#N/A"}},{"$f":"MATCH(B339,Removed!AZ$1:AZ$443,0)","v":{"$error":"#N/A"}},{"$f":"CHOOSE(I339,OFFSET(DetailList!C$1,$C339-1,0),\"PENDING: \"&OFFSET(DetailListPending!C$1,$D339-1,0),\"   REMOVED [\"&OFFSET(Removed!C$1,$E339-1,0)&\"]\")","v":{"$error":"#N/A"}},{"$f":"CHOOSE(I339,OFFSET(DetailList!E$1,$C339-1,0),OFFSET(DetailListPending!E$1,$D339-1,0),OFFSET(Removed!E$1,$E339-1,0))","v":{"$error":"#N/A"}},{"$f":"CHOOSE(I339,OFFSET(DetailList!AU$1,$C339-1,0),\"Pending: \"&OFFSET(DetailListPending!AU$1,$D339-1,0),\"REMOVED [\"&OFFSET(Removed!AU$1,$E339-1,0)&\"]\")","v":{"$error":"#N/A"}},{"$error":"#N/A"},false,false]
[null,339,{"$f":"MATCH(B340,DetailList!AZ:AZ,0)","v":{"$error":"#N/A"}},{"$f":"MATCH(B340,DetailListPending!AZ:AZ,0)","v":{"$error":"#N/A"}},{"$f":"MATCH(B340,Removed!AZ$1:AZ$443,0)","v":{"$error":"#N/A"}},{"$f":"CHOOSE(I340,OFFSET(DetailList!C$1,$C340-1,0),\"PENDING: \"&OFFSET(DetailListPending!C$1,$D340-1,0),\"   REMOVED [\"&OFFSET(Removed!C$1,$E340-1,0)&\"]\")","v":{"$error":"#N/A"}},{"$f":"CHOOSE(I340,OFFSET(DetailList!E$1,$C340-1,0),OFFSET(DetailListPending!E$1,$D340-1,0),OFFSET(Removed!E$1,$E340-1,0))","v":{"$error":"#N/A"}},{"$f":"CHOOSE(I340,OFFSET(DetailList!AU$1,$C340-1,0),\"Pending: \"&OFFSET(DetailListPending!AU$1,$D340-1,0),\"REMOVED [\"&OFFSET(Removed!AU$1,$E340-1,0)&\"]\")","v":{"$error":"#N/A"}},{"$error":"#N/A"},false,false]
[null,340,{"$f":"MATCH(B341,DetailList!AZ:AZ,0)","v":{"$error":"#N/A"}},{"$f":"MATCH(B341,DetailListPending!AZ:AZ,0)","v":{"$error":"#N/A"}},{"$f":"MATCH(B341,Removed!AZ$1:AZ$443,0)","v":{"$error":"#N/A"}},{"$f":"CHOOSE(I341,OFFSET(DetailList!C$1,$C341-1,0),\"PENDING: \"&OFFSET(DetailListPending!C$1,$D341-1,0),\"   REMOVED [\"&OFFSET(Removed!C$1,$E341-1,0)&\"]\")","v":{"$error":"#N/A"}},{"$f":"CHOOSE(I341,OFFSET(DetailList!E$1,$C341-1,0),OFFSET(DetailListPending!E$1,$D341-1,0),OFFSET(Removed!E$1,$E341-1,0))","v":{"$error":"#N/A"}},{"$f":"CHOOSE(I341,OFFSET(DetailList!AU$1,$C341-1,0),\"Pending: \"&OFFSET(DetailListPending!AU$1,$D341-1,0),\"REMOVED [\"&OFFSET(Removed!AU$1,$E341-1,0)&\"]\")","v":{"$error":"#N/A"}},{"$error":"#N/A"},false,false]
[null,341,{"$f":"MATCH(B342,DetailList!AZ:AZ,0)","v":{"$error":"#N/A"}},{"$f":"MATCH(B342,DetailListPending!AZ:AZ,0)","v":{"$error":"#N/A"}},{"$f":"MATCH(B342,Removed!AZ$1:AZ$443,0)","v":{"$error":"#N/A"}},{"$f":"CHOOSE(I342,OFFSET(DetailList!C$1,$C342-1,0),\"PENDING: \"&OFFSET(DetailListPending!C$1,$D342-1,0),\"   REMOVED [\"&OFFSET(Removed!C$1,$E342-1,0)&\"]\")","v":{"$error":"#N/A"}},{"$f":"CHOOSE(I342,OFFSET(DetailList!E$1,$C342-1,0),OFFSET(DetailListPending!E$1,$D342-1,0),OFFSET(Removed!E$1,$E342-1,0))","v":{"$error":"#N/A"}},{"$f":"CHOOSE(I342,OFFSET(DetailList!AU$1,$C342-1,0),\"Pending: \"&OFFSET(DetailListPending!AU$1,$D342-1,0),\"REMOVED [\"&OFFSET(Removed!AU$1,$E342-1,0)&\"]\")","v":{"$error":"#N/A"}},{"$error":"#N/A"},false,false]
[null,342,{"$f":"MATCH(B343,DetailList!AZ:AZ,0)","v":{"$error":"#N/A"}},{"$f":"MATCH(B343,DetailListPending!AZ:AZ,0)","v":{"$error":"#N/A"}},{"$f":"MATCH(B343,Removed!AZ$1:AZ$443,0)","v":{"$error":"#N/A"}},{"$f":"CHOOSE(I343,OFFSET(DetailList!C$1,$C343-1,0),\"PENDING: \"&OFFSET(DetailListPending!C$1,$D343-1,0),\"   REMOVED [\"&OFFSET(Removed!C$1,$E343-1,0)&\"]\")","v":{"$error":"#N/A"}},{"$f":"CHOOSE(I343,OFFSET(DetailList!E$1,$C343-1,0),OFFSET(DetailListPending!E$1,$D343-1,0),OFFSET(Removed!E$1,$E343-1,0))","v":{"$error":"#N/A"}},{"$f":"CHOOSE(I343,OFFSET(DetailList!AU$1,$C343-1,0),\"Pending: \"&OFFSET(DetailListPending!AU$1,$D343-1,0),\"REMOVED [\"&OFFSET(Removed!AU$1,$E343-1,0)&\"]\")","v":{"$error":"#N/A"}},{"$error":"#N/A"},false,false]
[null,343,{"$f":"MATCH(B344,DetailList!AZ:AZ,0)","v":{"$error":"#N/A"}},{"$f":"MATCH(B344,DetailListPending!AZ:AZ,0)","v":{"$error":"#N/A"}},{"$f":"MATCH(B344,Removed!AZ$1:AZ$443,0)","v":{"$error":"#N/A"}},{"$f":"CHOOSE(I344,OFFSET(DetailList!C$1,$C344-1,0),\"PENDING: \"&OFFSET(DetailListPending!C$1,$D344-1,0),\"   REMOVED [\"&OFFSET(Removed!C$1,$E344-1,0)&\"]\")","v":{"$error":"#N/A"}},{"$f":"CHOOSE(I344,OFFSET(DetailList!E$1,$C344-1,0),OFFSET(DetailListPending!E$1,$D344-1,0),OFFSET(Removed!E$1,$E344-1,0))","v":{"$error":"#N/A"}},{"$f":"CHOOSE(I344,OFFSET(DetailList!AU$1,$C344-1,0),\"Pending: \"&OFFSET(DetailListPending!AU$1,$D344-1,0),\"REMOVED [\"&OFFSET(Removed!AU$1,$E344-1,0)&\"]\")","v":{"$error":"#N/A"}},{"$error":"#N/A"},false,false]
[null,344,{"$f":"MATCH(B345,DetailList!AZ:AZ,0)","v":{"$error":"#N/A"}},{"$f":"MATCH(B345,DetailListPending!AZ:AZ,0)","v":{"$error":"#N/A"}},{"$f":"MATCH(B345,Removed!AZ$1:AZ$443,0)","v":{"$error":"#N/A"}},{"$f":"CHOOSE(I345,OFFSET(DetailList!C$1,$C345-1,0),\"PENDING: \"&OFFSET(DetailListPending!C$1,$D345-1,0),\"   REMOVED [\"&OFFSET(Removed!C$1,$E345-1,0)&\"]\")","v":{"$error":"#N/A"}},{"$f":"CHOOSE(I345,OFFSET(DetailList!E$1,$C345-1,0),OFFSET(DetailListPending!E$1,$D345-1,0),OFFSET(Removed!E$1,$E345-1,0))","v":{"$error":"#N/A"}},{"$f":"CHOOSE(I345,OFFSET(DetailList!AU$1,$C345-1,0),\"Pending: \"&OFFSET(DetailListPending!AU$1,$D345-1,0),\"REMOVED [\"&OFFSET(Removed!AU$1,$E345-1,0)&\"]\")","v":{"$error":"#N/A"}},{"$error":"#N/A"},false,false]
[null,345,{"$f":"MATCH(B346,DetailList!AZ:AZ,0)","v":{"$error":"#N/A"}},{"$f":"MATCH(B346,DetailListPending!AZ:AZ,0)","v":{"$error":"#N/A"}},{"$f":"MATCH(B346,Removed!AZ$1:AZ$443,0)","v":{"$error":"#N/A"}},{"$f":"CHOOSE(I346,OFFSET(DetailList!C$1,$C346-1,0),\"PENDING: \"&OFFSET(DetailListPending!C$1,$D346-1,0),\"   REMOVED [\"&OFFSET(Removed!C$1,$E346-1,0)&\"]\")","v":{"$error":"#N/A"}},{"$f":"CHOOSE(I346,OFFSET(DetailList!E$1,$C346-1,0),OFFSET(DetailListPending!E$1,$D346-1,0),OFFSET(Removed!E$1,$E346-1,0))","v":{"$error":"#N/A"}},{"$f":"CHOOSE(I346,OFFSET(DetailList!AU$1,$C346-1,0),\"Pending: \"&OFFSET(DetailListPending!AU$1,$D346-1,0),\"REMOVED [\"&OFFSET(Removed!AU$1,$E346-1,0)&\"]\")","v":{"$error":"#N/A"}},{"$error":"#N/A"},false,false]
[null,346,{"$f":"MATCH(B347,DetailList!AZ:AZ,0)","v":{"$error":"#N/A"}},{"$f":"MATCH(B347,DetailListPending!AZ:AZ,0)","v":{"$error":"#N/A"}},{"$f":"MATCH(B347,Removed!AZ$1:AZ$443,0)","v":{"$error":"#N/A"}},{"$f":"CHOOSE(I347,OFFSET(DetailList!C$1,$C347-1,0),\"PENDING: \"&OFFSET(DetailListPending!C$1,$D347-1,0),\"   REMOVED [\"&OFFSET(Removed!C$1,$E347-1,0)&\"]\")","v":{"$error":"#N/A"}},{"$f":"CHOOSE(I347,OFFSET(DetailList!E$1,$C347-1,0),OFFSET(DetailListPending!E$1,$D347-1,0),OFFSET(Removed!E$1,$E347-1,0))","v":{"$error":"#N/A"}},{"$f":"CHOOSE(I347,OFFSET(DetailList!AU$1,$C347-1,0),\"Pending: \"&OFFSET(DetailListPending!AU$1,$D347-1,0),\"REMOVED [\"&OFFSET(Removed!AU$1,$E347-1,0)&\"]\")","v":{"$error":"#N/A"}},{"$error":"#N/A"},false,false]
[null,347,{"$f":"MATCH(B348,DetailList!AZ:AZ,0)","v":{"$error":"#N/A"}},{"$f":"MATCH(B348,DetailListPending!AZ:AZ,0)","v":{"$error":"#N/A"}},{"$f":"MATCH(B348,Removed!AZ$1:AZ$443,0)","v":{"$error":"#N/A"}},{"$f":"CHOOSE(I348,OFFSET(DetailList!C$1,$C348-1,0),\"PENDING: \"&OFFSET(DetailListPending!C$1,$D348-1,0),\"   REMOVED [\"&OFFSET(Removed!C$1,$E348-1,0)&\"]\")","v":{"$error":"#N/A"}},{"$f":"CHOOSE(I348,OFFSET(DetailList!E$1,$C348-1,0),OFFSET(DetailListPending!E$1,$D348-1,0),OFFSET(Removed!E$1,$E348-1,0))","v":{"$error":"#N/A"}},{"$f":"CHOOSE(I348,OFFSET(DetailList!AU$1,$C348-1,0),\"Pending: \"&OFFSET(DetailListPending!AU$1,$D348-1,0),\"REMOVED [\"&OFFSET(Removed!AU$1,$E348-1,0)&\"]\")","v":{"$error":"#N/A"}},{"$error":"#N/A"},false,false]
[null,348,{"$f":"MATCH(B349,DetailList!AZ:AZ,0)","v":{"$error":"#N/A"}},{"$f":"MATCH(B349,DetailListPending!AZ:AZ,0)","v":{"$error":"#N/A"}},{"$f":"MATCH(B349,Removed!AZ$1:AZ$443,0)","v":{"$error":"#N/A"}},{"$f":"CHOOSE(I349,OFFSET(DetailList!C$1,$C349-1,0),\"PENDING: \"&OFFSET(DetailListPending!C$1,$D349-1,0),\"   REMOVED [\"&OFFSET(Removed!C$1,$E349-1,0)&\"]\")","v":{"$error":"#N/A"}},{"$f":"CHOOSE(I349,OFFSET(DetailList!E$1,$C349-1,0),OFFSET(DetailListPending!E$1,$D349-1,0),OFFSET(Removed!E$1,$E349-1,0))","v":{"$error":"#N/A"}},{"$f":"CHOOSE(I349,OFFSET(DetailList!AU$1,$C349-1,0),\"Pending: \"&OFFSET(DetailListPending!AU$1,$D349-1,0),\"REMOVED [\"&OFFSET(Removed!AU$1,$E349-1,0)&\"]\")","v":{"$error":"#N/A"}},{"$error":"#N/A"},false,false]
[null,349,{"$f":"MATCH(B350,DetailList!AZ:AZ,0)","v":{"$error":"#N/A"}},{"$f":"MATCH(B350,DetailListPending!AZ:AZ,0)","v":{"$error":"#N/A"}},{"$f":"MATCH(B350,Removed!AZ$1:AZ$443,0)","v":{"$error":"#N/A"}},{"$f":"CHOOSE(I350,OFFSET(DetailList!C$1,$C350-1,0),\"PENDING: \"&OFFSET(DetailListPending!C$1,$D350-1,0),\"   REMOVED [\"&OFFSET(Removed!C$1,$E350-1,0)&\"]\")","v":{"$error":"#N/A"}},{"$f":"CHOOSE(I350,OFFSET(DetailList!E$1,$C350-1,0),OFFSET(DetailListPending!E$1,$D350-1,0),OFFSET(Removed!E$1,$E350-1,0))","v":{"$error":"#N/A"}},{"$f":"CHOOSE(I350,OFFSET(DetailList!AU$1,$C350-1,0),\"Pending: \"&OFFSET(DetailListPending!AU$1,$D350-1,0),\"REMOVED [\"&OFFSET(Removed!AU$1,$E350-1,0)&\"]\")","v":{"$error":"#N/A"}},{"$error":"#N/A"},false,false]
[null,350,{"$f":"MATCH(B351,DetailList!AZ:AZ,0)","v":{"$error":"#N/A"}},{"$f":"MATCH(B351,DetailListPending!AZ:AZ,0)","v":{"$error":"#N/A"}},{"$f":"MATCH(B351,Removed!AZ$1:AZ$443,0)","v":{"$error":"#N/A"}},{"$f":"CHOOSE(I351,OFFSET(DetailList!C$1,$C351-1,0),\"PENDING: \"&OFFSET(DetailListPending!C$1,$D351-1,0),\"   REMOVED [\"&OFFSET(Removed!C$1,$E351-1,0)&\"]\")","v":{"$error":"#N/A"}},{"$f":"CHOOSE(I351,OFFSET(DetailList!E$1,$C351-1,0),OFFSET(DetailListPending!E$1,$D351-1,0),OFFSET(Removed!E$1,$E351-1,0))","v":{"$error":"#N/A"}},{"$f":"CHOOSE(I351,OFFSET(DetailList!AU$1,$C351-1,0),\"Pending: \"&OFFSET(DetailListPending!AU$1,$D351-1,0),\"REMOVED [\"&OFFSET(Removed!AU$1,$E351-1,0)&\"]\")","v":{"$error":"#N/A"}},{"$error":"#N/A"},false,false]
[null,351,{"$f":"MATCH(B352,DetailList!AZ:AZ,0)","v":{"$error":"#N/A"}},{"$f":"MATCH(B352,DetailListPending!AZ:AZ,0)","v":{"$error":"#N/A"}},{"$f":"MATCH(B352,Removed!AZ$1:AZ$443,0)","v":{"$error":"#N/A"}},{"$f":"CHOOSE(I352,OFFSET(DetailList!C$1,$C352-1,0),\"PENDING: \"&OFFSET(DetailListPending!C$1,$D352-1,0),\"   REMOVED [\"&OFFSET(Removed!C$1,$E352-1,0)&\"]\")","v":{"$error":"#N/A"}},{"$f":"CHOOSE(I352,OFFSET(DetailList!E$1,$C352-1,0),OFFSET(DetailListPending!E$1,$D352-1,0),OFFSET(Removed!E$1,$E352-1,0))","v":{"$error":"#N/A"}},{"$f":"CHOOSE(I352,OFFSET(DetailList!AU$1,$C352-1,0),\"Pending: \"&OFFSET(DetailListPending!AU$1,$D352-1,0),\"REMOVED [\"&OFFSET(Removed!AU$1,$E352-1,0)&\"]\")","v":{"$error":"#N/A"}},{"$error":"#N/A"},false,false]
[null,352,{"$f":"MATCH(B353,DetailList!AZ:AZ,0)","v":{"$error":"#N/A"}},{"$f":"MATCH(B353,DetailListPending!AZ:AZ,0)","v":{"$error":"#N/A"}},{"$f":"MATCH(B353,Removed!AZ$1:AZ$443,0)","v":{"$error":"#N/A"}},{"$f":"CHOOSE(I353,OFFSET(DetailList!C$1,$C353-1,0),\"PENDING: \"&OFFSET(DetailListPending!C$1,$D353-1,0),\"   REMOVED [\"&OFFSET(Removed!C$1,$E353-1,0)&\"]\")","v":{"$error":"#N/A"}},{"$f":"CHOOSE(I353,OFFSET(DetailList!E$1,$C353-1,0),OFFSET(DetailListPending!E$1,$D353-1,0),OFFSET(Removed!E$1,$E353-1,0))","v":{"$error":"#N/A"}},{"$f":"CHOOSE(I353,OFFSET(DetailList!AU$1,$C353-1,0),\"Pending: \"&OFFSET(DetailListPending!AU$1,$D353-1,0),\"REMOVED [\"&OFFSET(Removed!AU$1,$E353-1,0)&\"]\")","v":{"$error":"#N/A"}},{"$error":"#N/A"},false,false]
[null,353,{"$f":"MATCH(B354,DetailList!AZ:AZ,0)","v":{"$error":"#N/A"}},{"$f":"MATCH(B354,DetailListPending!AZ:AZ,0)","v":{"$error":"#N/A"}},{"$f":"MATCH(B354,Removed!AZ$1:AZ$443,0)","v":{"$error":"#N/A"}},{"$f":"CHOOSE(I354,OFFSET(DetailList!C$1,$C354-1,0),\"PENDING: \"&OFFSET(DetailListPending!C$1,$D354-1,0),\"   REMOVED [\"&OFFSET(Removed!C$1,$E354-1,0)&\"]\")","v":{"$error":"#N/A"}},{"$f":"CHOOSE(I354,OFFSET(DetailList!E$1,$C354-1,0),OFFSET(DetailListPending!E$1,$D354-1,0),OFFSET(Removed!E$1,$E354-1,0))","v":{"$error":"#N/A"}},{"$f":"CHOOSE(I354,OFFSET(DetailList!AU$1,$C354-1,0),\"Pending: \"&OFFSET(DetailListPending!AU$1,$D354-1,0),\"REMOVED [\"&OFFSET(Removed!AU$1,$E354-1,0)&\"]\")","v":{"$error":"#N/A"}},{"$error":"#N/A"},false,false]
[null,354,{"$f":"MATCH(B355,DetailList!AZ:AZ,0)","v":{"$error":"#N/A"}},{"$f":"MATCH(B355,DetailListPending!AZ:AZ,0)","v":{"$error":"#N/A"}},{"$f":"MATCH(B355,Removed!AZ$1:AZ$443,0)","v":{"$error":"#N/A"}},{"$f":"CHOOSE(I355,OFFSET(DetailList!C$1,$C355-1,0),\"PENDING: \"&OFFSET(DetailListPending!C$1,$D355-1,0),\"   REMOVED [\"&OFFSET(Removed!C$1,$E355-1,0)&\"]\")","v":{"$error":"#N/A"}},{"$f":"CHOOSE(I355,OFFSET(DetailList!E$1,$C355-1,0),OFFSET(DetailListPending!E$1,$D355-1,0),OFFSET(Removed!E$1,$E355-1,0))","v":{"$error":"#N/A"}},{"$f":"CHOOSE(I355,OFFSET(DetailList!AU$1,$C355-1,0),\"Pending: \"&OFFSET(DetailListPending!AU$1,$D355-1,0),\"REMOVED [\"&OFFSET(Removed!AU$1,$E355-1,0)&\"]\")","v":{"$error":"#N/A"}},{"$error":"#N/A"},false,false]
[null,355,{"$f":"MATCH(B356,DetailList!AZ:AZ,0)","v":{"$error":"#N/A"}},{"$f":"MATCH(B356,DetailListPending!AZ:AZ,0)","v":{"$error":"#N/A"}},{"$f":"MATCH(B356,Removed!AZ$1:AZ$443,0)","v":{"$error":"#N/A"}},{"$f":"CHOOSE(I356,OFFSET(DetailList!C$1,$C356-1,0),\"PENDING: \"&OFFSET(DetailListPending!C$1,$D356-1,0),\"   REMOVED [\"&OFFSET(Removed!C$1,$E356-1,0)&\"]\")","v":{"$error":"#N/A"}},{"$f":"CHOOSE(I356,OFFSET(DetailList!E$1,$C356-1,0),OFFSET(DetailListPending!E$1,$D356-1,0),OFFSET(Removed!E$1,$E356-1,0))","v":{"$error":"#N/A"}},{"$f":"CHOOSE(I356,OFFSET(DetailList!AU$1,$C356-1,0),\"Pending: \"&OFFSET(DetailListPending!AU$1,$D356-1,0),\"REMOVED [\"&OFFSET(Removed!AU$1,$E356-1,0)&\"]\")","v":{"$error":"#N/A"}},{"$error":"#N/A"},false,false]
[null,356,{"$f":"MATCH(B357,DetailList!AZ:AZ,0)","v":{"$error":"#N/A"}},{"$f":"MATCH(B357,DetailListPending!AZ:AZ,0)","v":{"$error":"#N/A"}},{"$f":"MATCH(B357,Removed!AZ$1:AZ$443,0)","v":{"$error":"#N/A"}},{"$f":"CHOOSE(I357,OFFSET(DetailList!C$1,$C357-1,0),\"PENDING: \"&OFFSET(DetailListPending!C$1,$D357-1,0),\"   REMOVED [\"&OFFSET(Removed!C$1,$E357-1,0)&\"]\")","v":{"$error":"#N/A"}},{"$f":"CHOOSE(I357,OFFSET(DetailList!E$1,$C357-1,0),OFFSET(DetailListPending!E$1,$D357-1,0),OFFSET(Removed!E$1,$E357-1,0))","v":{"$error":"#N/A"}},{"$f":"CHOOSE(I357,OFFSET(DetailList!AU$1,$C357-1,0),\"Pending: \"&OFFSET(DetailListPending!AU$1,$D357-1,0),\"REMOVED [\"&OFFSET(Removed!AU$1,$E357-1,0)&\"]\")","v":{"$error":"#N/A"}},{"$error":"#N/A"},false,false]
[null,357,{"$f":"MATCH(B358,DetailList!AZ:AZ,0)","v":{"$error":"#N/A"}},{"$f":"MATCH(B358,DetailListPending!AZ:AZ,0)","v":{"$error":"#N/A"}},{"$f":"MATCH(B358,Removed!AZ$1:AZ$443,0)","v":{"$error":"#N/A"}},{"$f":"CHOOSE(I358,OFFSET(DetailList!C$1,$C358-1,0),\"PENDING: \"&OFFSET(DetailListPending!C$1,$D358-1,0),\"   REMOVED [\"&OFFSET(Removed!C$1,$E358-1,0)&\"]\")","v":{"$error":"#N/A"}},{"$f":"CHOOSE(I358,OFFSET(DetailList!E$1,$C358-1,0),OFFSET(DetailListPending!E$1,$D358-1,0),OFFSET(Removed!E$1,$E358-1,0))","v":{"$error":"#N/A"}},{"$f":"CHOOSE(I358,OFFSET(DetailList!AU$1,$C358-1,0),\"Pending: \"&OFFSET(DetailListPending!AU$1,$D358-1,0),\"REMOVED [\"&OFFSET(Removed!AU$1,$E358-1,0)&\"]\")","v":{"$error":"#N/A"}},{"$error":"#N/A"},false,false]
[null,358,{"$f":"MATCH(B359,DetailList!AZ:AZ,0)","v":{"$error":"#N/A"}},{"$f":"MATCH(B359,DetailListPending!AZ:AZ,0)","v":{"$error":"#N/A"}},{"$f":"MATCH(B359,Removed!AZ$1:AZ$443,0)","v":{"$error":"#N/A"}},{"$f":"CHOOSE(I359,OFFSET(DetailList!C$1,$C359-1,0),\"PENDING: \"&OFFSET(DetailListPending!C$1,$D359-1,0),\"   REMOVED [\"&OFFSET(Removed!C$1,$E359-1,0)&\"]\")","v":{"$error":"#N/A"}},{"$f":"CHOOSE(I359,OFFSET(DetailList!E$1,$C359-1,0),OFFSET(DetailListPending!E$1,$D359-1,0),OFFSET(Removed!E$1,$E359-1,0))","v":{"$error":"#N/A"}},{"$f":"CHOOSE(I359,OFFSET(DetailList!AU$1,$C359-1,0),\"Pending: \"&OFFSET(DetailListPending!AU$1,$D359-1,0),\"REMOVED [\"&OFFSET(Removed!AU$1,$E359-1,0)&\"]\")","v":{"$error":"#N/A"}},{"$error":"#N/A"},false,false]
[null,359,{"$f":"MATCH(B360,DetailList!AZ:AZ,0)","v":{"$error":"#N/A"}},{"$f":"MATCH(B360,DetailListPending!AZ:AZ,0)","v":{"$error":"#N/A"}},{"$f":"MATCH(B360,Removed!AZ$1:AZ$443,0)","v":{"$error":"#N/A"}},{"$f":"CHOOSE(I360,OFFSET(DetailList!C$1,$C360-1,0),\"PENDING: \"&OFFSET(DetailListPending!C$1,$D360-1,0),\"   REMOVED [\"&OFFSET(Removed!C$1,$E360-1,0)&\"]\")","v":{"$error":"#N/A"}},{"$f":"CHOOSE(I360,OFFSET(DetailList!E$1,$C360-1,0),OFFSET(DetailListPending!E$1,$D360-1,0),OFFSET(Removed!E$1,$E360-1,0))","v":{"$error":"#N/A"}},{"$f":"CHOOSE(I360,OFFSET(DetailList!AU$1,$C360-1,0),\"Pending: \"&OFFSET(DetailListPending!AU$1,$D360-1,0),\"REMOVED [\"&OFFSET(Removed!AU$1,$E360-1,0)&\"]\")","v":{"$error":"#N/A"}},{"$error":"#N/A"},false,false]
[null,360,{"$f":"MATCH(B361,DetailList!AZ:AZ,0)","v":{"$error":"#N/A"}},{"$f":"MATCH(B361,DetailListPending!AZ:AZ,0)","v":{"$error":"#N/A"}},{"$f":"MATCH(B361,Removed!AZ$1:AZ$443,0)","v":{"$error":"#N/A"}},{"$f":"CHOOSE(I361,OFFSET(DetailList!C$1,$C361-1,0),\"PENDING: \"&OFFSET(DetailListPending!C$1,$D361-1,0),\"   REMOVED [\"&OFFSET(Removed!C$1,$E361-1,0)&\"]\")","v":{"$error":"#N/A"}},{"$f":"CHOOSE(I361,OFFSET(DetailList!E$1,$C361-1,0),OFFSET(DetailListPending!E$1,$D361-1,0),OFFSET(Removed!E$1,$E361-1,0))","v":{"$error":"#N/A"}},{"$f":"CHOOSE(I361,OFFSET(DetailList!AU$1,$C361-1,0),\"Pending: \"&OFFSET(DetailListPending!AU$1,$D361-1,0),\"REMOVED [\"&OFFSET(Removed!AU$1,$E361-1,0)&\"]\")","v":{"$error":"#N/A"}},{"$error":"#N/A"},false,false]
[null,361,{"$f":"MATCH(B362,DetailList!AZ:AZ,0)","v":{"$error":"#N/A"}},{"$f":"MATCH(B362,DetailListPending!AZ:AZ,0)","v":{"$error":"#N/A"}},{"$f":"MATCH(B362,Removed!AZ$1:AZ$443,0)","v":{"$error":"#N/A"}},{"$f":"CHOOSE(I362,OFFSET(DetailList!C$1,$C362-1,0),\"PENDING: \"&OFFSET(DetailListPending!C$1,$D362-1,0),\"   REMOVED [\"&OFFSET(Removed!C$1,$E362-1,0)&\"]\")","v":{"$error":"#N/A"}},{"$f":"CHOOSE(I362,OFFSET(DetailList!E$1,$C362-1,0),OFFSET(DetailListPending!E$1,$D362-1,0),OFFSET(Removed!E$1,$E362-1,0))","v":{"$error":"#N/A"}},{"$f":"CHOOSE(I362,OFFSET(DetailList!AU$1,$C362-1,0),\"Pending: \"&OFFSET(DetailListPending!AU$1,$D362-1,0),\"REMOVED [\"&OFFSET(Removed!AU$1,$E362-1,0)&\"]\")","v":{"$error":"#N/A"}},{"$error":"#N/A"},false,false]
[null,362,{"$f":"MATCH(B363,DetailList!AZ:AZ,0)","v":{"$error":"#N/A"}},{"$f":"MATCH(B363,DetailListPending!AZ:AZ,0)","v":{"$error":"#N/A"}},{"$f":"MATCH(B363,Removed!AZ$1:AZ$443,0)","v":{"$error":"#N/A"}},{"$f":"CHOOSE(I363,OFFSET(DetailList!C$1,$C363-1,0),\"PENDING: \"&OFFSET(DetailListPending!C$1,$D363-1,0),\"   REMOVED [\"&OFFSET(Removed!C$1,$E363-1,0)&\"]\")","v":{"$error":"#N/A"}},{"$f":"CHOOSE(I363,OFFSET(DetailList!E$1,$C363-1,0),OFFSET(DetailListPending!E$1,$D363-1,0),OFFSET(Removed!E$1,$E363-1,0))","v":{"$error":"#N/A"}},{"$f":"CHOOSE(I363,OFFSET(DetailList!AU$1,$C363-1,0),\"Pending: \"&OFFSET(DetailListPending!AU$1,$D363-1,0),\"REMOVED [\"&OFFSET(Removed!AU$1,$E363-1,0)&\"]\")","v":{"$error":"#N/A"}},{"$error":"#N/A"},false,false]
[null,363,{"$f":"MATCH(B364,DetailList!AZ:AZ,0)","v":{"$error":"#N/A"}},{"$f":"MATCH(B364,DetailListPending!AZ:AZ,0)","v":{"$error":"#N/A"}},{"$f":"MATCH(B364,Removed!AZ$1:AZ$443,0)","v":{"$error":"#N/A"}},{"$f":"CHOOSE(I364,OFFSET(DetailList!C$1,$C364-1,0),\"PENDING: \"&OFFSET(DetailListPending!C$1,$D364-1,0),\"   REMOVED [\"&OFFSET(Removed!C$1,$E364-1,0)&\"]\")","v":{"$error":"#N/A"}},{"$f":"CHOOSE(I364,OFFSET(DetailList!E$1,$C364-1,0),OFFSET(DetailListPending!E$1,$D364-1,0),OFFSET(Removed!E$1,$E364-1,0))","v":{"$error":"#N/A"}},{"$f":"CHOOSE(I364,OFFSET(DetailList!AU$1,$C364-1,0),\"Pending: \"&OFFSET(DetailListPending!AU$1,$D364-1,0),\"REMOVED [\"&OFFSET(Removed!AU$1,$E364-1,0)&\"]\")","v":{"$error":"#N/A"}},{"$error":"#N/A"},false,false]
[null,364,{"$f":"MATCH(B365,DetailList!AZ:AZ,0)","v":{"$error":"#N/A"}},{"$f":"MATCH(B365,DetailListPending!AZ:AZ,0)","v":{"$error":"#N/A"}},{"$f":"MATCH(B365,Removed!AZ$1:AZ$443,0)","v":{"$error":"#N/A"}},{"$f":"CHOOSE(I365,OFFSET(DetailList!C$1,$C365-1,0),\"PENDING: \"&OFFSET(DetailListPending!C$1,$D365-1,0),\"   REMOVED [\"&OFFSET(Removed!C$1,$E365-1,0)&\"]\")","v":{"$error":"#N/A"}},{"$f":"CHOOSE(I365,OFFSET(DetailList!E$1,$C365-1,0),OFFSET(DetailListPending!E$1,$D365-1,0),OFFSET(Removed!E$1,$E365-1,0))","v":{"$error":"#N/A"}},{"$f":"CHOOSE(I365,OFFSET(DetailList!AU$1,$C365-1,0),\"Pending: \"&OFFSET(DetailListPending!AU$1,$D365-1,0),\"REMOVED [\"&OFFSET(Removed!AU$1,$E365-1,0)&\"]\")","v":{"$error":"#N/A"}},{"$error":"#N/A"},false,false]
[null,365,{"$f":"MATCH(B366,DetailList!AZ:AZ,0)","v":{"$error":"#N/A"}},{"$f":"MATCH(B366,DetailListPending!AZ:AZ,0)","v":{"$error":"#N/A"}},{"$f":"MATCH(B366,Removed!AZ$1:AZ$443,0)","v":{"$error":"#N/A"}},{"$f":"CHOOSE(I366,OFFSET(DetailList!C$1,$C366-1,0),\"PENDING: \"&OFFSET(DetailListPending!C$1,$D366-1,0),\"   REMOVED [\"&OFFSET(Removed!C$1,$E366-1,0)&\"]\")","v":{"$error":"#N/A"}},{"$f":"CHOOSE(I366,OFFSET(DetailList!E$1,$C366-1,0),OFFSET(DetailListPending!E$1,$D366-1,0),OFFSET(Removed!E$1,$E366-1,0))","v":{"$error":"#N/A"}},{"$f":"CHOOSE(I366,OFFSET(DetailList!AU$1,$C366-1,0),\"Pending: \"&OFFSET(DetailListPending!AU$1,$D366-1,0),\"REMOVED [\"&OFFSET(Removed!AU$1,$E366-1,0)&\"]\")","v":{"$error":"#N/A"}},{"$error":"#N/A"},false,false]
[null,366,{"$f":"MATCH(B367,DetailList!AZ:AZ,0)","v":{"$error":"#N/A"}},{"$f":"MATCH(B367,DetailListPending!AZ:AZ,0)","v":{"$error":"#N/A"}},{"$f":"MATCH(B367,Removed!AZ$1:AZ$443,0)","v":{"$error":"#N/A"}},{"$f":"CHOOSE(I367,OFFSET(DetailList!C$1,$C367-1,0),\"PENDING: \"&OFFSET(DetailListPending!C$1,$D367-1,0),\"   REMOVED [\"&OFFSET(Removed!C$1,$E367-1,0)&\"]\")","v":{"$error":"#N/A"}},{"$f":"CHOOSE(I367,OFFSET(DetailList!E$1,$C367-1,0),OFFSET(DetailListPending!E$1,$D367-1,0),OFFSET(Removed!E$1,$E367-1,0))","v":{"$error":"#N/A"}},{"$f":"CHOOSE(I367,OFFSET(DetailList!AU$1,$C367-1,0),\"Pending: \"&OFFSET(DetailListPending!AU$1,$D367-1,0),\"REMOVED [\"&OFFSET(Removed!AU$1,$E367-1,0)&\"]\")","v":{"$error":"#N/A"}},{"$error":"#N/A"},false,false]
[null,367,{"$f":"MATCH(B368,DetailList!AZ:AZ,0)","v":{"$error":"#N/A"}},{"$f":"MATCH(B368,DetailListPending!AZ:AZ,0)","v":{"$error":"#N/A"}},{"$f":"MATCH(B368,Removed!AZ$1:AZ$443,0)","v":{"$error":"#N/A"}},{"$f":"CHOOSE(I368,OFFSET(DetailList!C$1,$C368-1,0),\"PENDING: \"&OFFSET(DetailListPending!C$1,$D368-1,0),\"   REMOVED [\"&OFFSET(Removed!C$1,$E368-1,0)&\"]\")","v":{"$error":"#N/A"}},{"$f":"CHOOSE(I368,OFFSET(DetailList!E$1,$C368-1,0),OFFSET(DetailListPending!E$1,$D368-1,0),OFFSET(Removed!E$1,$E368-1,0))","v":{"$error":"#N/A"}},{"$f":"CHOOSE(I368,OFFSET(DetailList!AU$1,$C368-1,0),\"Pending: \"&OFFSET(DetailListPending!AU$1,$D368-1,0),\"REMOVED [\"&OFFSET(Removed!AU$1,$E368-1,0)&\"]\")","v":{"$error":"#N/A"}},{"$error":"#N/A"},false,false]
[null,368,{"$f":"MATCH(B369,DetailList!AZ:AZ,0)","v":{"$error":"#N/A"}},{"$f":"MATCH(B369,DetailListPending!AZ:AZ,0)","v":{"$error":"#N/A"}},{"$f":"MATCH(B369,Removed!AZ$1:AZ$443,0)","v":{"$error":"#N/A"}},{"$f":"CHOOSE(I369,OFFSET(DetailList!C$1,$C369-1,0),\"PENDING: \"&OFFSET(DetailListPending!C$1,$D369-1,0),\"   REMOVED [\"&OFFSET(Removed!C$1,$E369-1,0)&\"]\")","v":{"$error":"#N/A"}},{"$f":"CHOOSE(I369,OFFSET(DetailList!E$1,$C369-1,0),OFFSET(DetailListPending!E$1,$D369-1,0),OFFSET(Removed!E$1,$E369-1,0))","v":{"$error":"#N/A"}},{"$f":"CHOOSE(I369,OFFSET(DetailList!AU$1,$C369-1,0),\"Pending: \"&OFFSET(DetailListPending!AU$1,$D369-1,0),\"REMOVED [\"&OFFSET(Removed!AU$1,$E369-1,0)&\"]\")","v":{"$error":"#N/A"}},{"$error":"#N/A"},false,false]
[null,369,{"$f":"MATCH(B370,DetailList!AZ:AZ,0)","v":{"$error":"#N/A"}},{"$f":"MATCH(B370,DetailListPending!AZ:AZ,0)","v":{"$error":"#N/A"}},{"$f":"MATCH(B370,Removed!AZ$1:AZ$443,0)","v":{"$error":"#N/A"}},{"$f":"CHOOSE(I370,OFFSET(DetailList!C$1,$C370-1,0),\"PENDING: \"&OFFSET(DetailListPending!C$1,$D370-1,0),\"   REMOVED [\"&OFFSET(Removed!C$1,$E370-1,0)&\"]\")","v":{"$error":"#N/A"}},{"$f":"CHOOSE(I370,OFFSET(DetailList!E$1,$C370-1,0),OFFSET(DetailListPending!E$1,$D370-1,0),OFFSET(Removed!E$1,$E370-1,0))","v":{"$error":"#N/A"}},{"$f":"CHOOSE(I370,OFFSET(DetailList!AU$1,$C370-1,0),\"Pending: \"&OFFSET(DetailListPending!AU$1,$D370-1,0),\"REMOVED [\"&OFFSET(Removed!AU$1,$E370-1,0)&\"]\")","v":{"$error":"#N/A"}},{"$error":"#N/A"},false,false]
[null,370,{"$f":"MATCH(B371,DetailList!AZ:AZ,0)","v":{"$error":"#N/A"}},{"$f":"MATCH(B371,DetailListPending!AZ:AZ,0)","v":{"$error":"#N/A"}},{"$f":"MATCH(B371,Removed!AZ$1:AZ$443,0)","v":{"$error":"#N/A"}},{"$f":"CHOOSE(I371,OFFSET(DetailList!C$1,$C371-1,0),\"PENDING: \"&OFFSET(DetailListPending!C$1,$D371-1,0),\"   REMOVED [\"&OFFSET(Removed!C$1,$E371-1,0)&\"]\")","v":{"$error":"#N/A"}},{"$f":"CHOOSE(I371,OFFSET(DetailList!E$1,$C371-1,0),OFFSET(DetailListPending!E$1,$D371-1,0),OFFSET(Removed!E$1,$E371-1,0))","v":{"$error":"#N/A"}},{"$f":"CHOOSE(I371,OFFSET(DetailList!AU$1,$C371-1,0),\"Pending: \"&OFFSET(DetailListPending!AU$1,$D371-1,0),\"REMOVED [\"&OFFSET(Removed!AU$1,$E371-1,0)&\"]\")","v":{"$error":"#N/A"}},{"$error":"#N/A"},false,false]
[null,371,{"$f":"MATCH(B372,DetailList!AZ:AZ,0)","v":{"$error":"#N/A"}},{"$f":"MATCH(B372,DetailListPending!AZ:AZ,0)","v":{"$error":"#N/A"}},{"$f":"MATCH(B372,Removed!AZ$1:AZ$443,0)","v":{"$error":"#N/A"}},{"$f":"CHOOSE(I372,OFFSET(DetailList!C$1,$C372-1,0),\"PENDING: \"&OFFSET(DetailListPending!C$1,$D372-1,0),\"   REMOVED [\"&OFFSET(Removed!C$1,$E372-1,0)&\"]\")","v":{"$error":"#N/A"}},{"$f":"CHOOSE(I372,OFFSET(DetailList!E$1,$C372-1,0),OFFSET(DetailListPending!E$1,$D372-1,0),OFFSET(Removed!E$1,$E372-1,0))","v":{"$error":"#N/A"}},{"$f":"CHOOSE(I372,OFFSET(DetailList!AU$1,$C372-1,0),\"Pending: \"&OFFSET(DetailListPending!AU$1,$D372-1,0),\"REMOVED [\"&OFFSET(Removed!AU$1,$E372-1,0)&\"]\")","v":{"$error":"#N/A"}},{"$error":"#N/A"},false,false]
[null,372,{"$f":"MATCH(B373,DetailList!AZ:AZ,0)","v":{"$error":"#N/A"}},{"$f":"MATCH(B373,DetailListPending!AZ:AZ,0)","v":{"$error":"#N/A"}},{"$f":"MATCH(B373,Removed!AZ$1:AZ$443,0)","v":{"$error":"#N/A"}},{"$f":"CHOOSE(I373,OFFSET(DetailList!C$1,$C373-1,0),\"PENDING: \"&OFFSET(DetailListPending!C$1,$D373-1,0),\"   REMOVED [\"&OFFSET(Removed!C$1,$E373-1,0)&\"]\")","v":{"$error":"#N/A"}},{"$f":"CHOOSE(I373,OFFSET(DetailList!E$1,$C373-1,0),OFFSET(DetailListPending!E$1,$D373-1,0),OFFSET(Removed!E$1,$E373-1,0))","v":{"$error":"#N/A"}},{"$f":"CHOOSE(I373,OFFSET(DetailList!AU$1,$C373-1,0),\"Pending: \"&OFFSET(DetailListPending!AU$1,$D373-1,0),\"REMOVED [\"&OFFSET(Removed!AU$1,$E373-1,0)&\"]\")","v":{"$error":"#N/A"}},{"$error":"#N/A"},false,false]
[null,373,{"$f":"MATCH(B374,DetailList!AZ:AZ,0)","v":{"$error":"#N/A"}},{"$f":"MATCH(B374,DetailListPending!AZ:AZ,0)","v":{"$error":"#N/A"}},{"$f":"MATCH(B374,Removed!AZ$1:AZ$443,0)","v":{"$error":"#N/A"}},{"$f":"CHOOSE(I374,OFFSET(DetailList!C$1,$C374-1,0),\"PENDING: \"&OFFSET(DetailListPending!C$1,$D374-1,0),\"   REMOVED [\"&OFFSET(Removed!C$1,$E374-1,0)&\"]\")","v":{"$error":"#N/A"}},{"$f":"CHOOSE(I374,OFFSET(DetailList!E$1,$C374-1,0),OFFSET(DetailListPending!E$1,$D374-1,0),OFFSET(Removed!E$1,$E374-1,0))","v":{"$error":"#N/A"}},{"$f":"CHOOSE(I374,OFFSET(DetailList!AU$1,$C374-1,0),\"Pending: \"&OFFSET(DetailListPending!AU$1,$D374-1,0),\"REMOVED [\"&OFFSET(Removed!AU$1,$E374-1,0)&\"]\")","v":{"$error":"#N/A"}},{"$error":"#N/A"},false,false]
[null,374,{"$f":"MATCH(B375,DetailList!AZ:AZ,0)","v":{"$error":"#N/A"}},{"$f":"MATCH(B375,DetailListPending!AZ:AZ,0)","v":{"$error":"#N/A"}},{"$f":"MATCH(B375,Removed!AZ$1:AZ$443,0)","v":{"$error":"#N/A"}},{"$f":"CHOOSE(I375,OFFSET(DetailList!C$1,$C375-1,0),\"PENDING: \"&OFFSET(DetailListPending!C$1,$D375-1,0),\"   REMOVED [\"&OFFSET(Removed!C$1,$E375-1,0)&\"]\")","v":{"$error":"#N/A"}},{"$f":"CHOOSE(I375,OFFSET(DetailList!E$1,$C375-1,0),OFFSET(DetailListPending!E$1,$D375-1,0),OFFSET(Removed!E$1,$E375-1,0))","v":{"$error":"#N/A"}},{"$f":"CHOOSE(I375,OFFSET(DetailList!AU$1,$C375-1,0),\"Pending: \"&OFFSET(DetailListPending!AU$1,$D375-1,0),\"REMOVED [\"&OFFSET(Removed!AU$1,$E375-1,0)&\"]\")","v":{"$error":"#N/A"}},{"$error":"#N/A"},false,false]
[null,375,{"$f":"MATCH(B376,DetailList!AZ:AZ,0)","v":{"$error":"#N/A"}},{"$f":"MATCH(B376,DetailListPending!AZ:AZ,0)","v":{"$error":"#N/A"}},{"$f":"MATCH(B376,Removed!AZ$1:AZ$443,0)","v":{"$error":"#N/A"}},{"$f":"CHOOSE(I376,OFFSET(DetailList!C$1,$C376-1,0),\"PENDING: \"&OFFSET(DetailListPending!C$1,$D376-1,0),\"   REMOVED [\"&OFFSET(Removed!C$1,$E376-1,0)&\"]\")","v":{"$error":"#N/A"}},{"$f":"CHOOSE(I376,OFFSET(DetailList!E$1,$C376-1,0),OFFSET(DetailListPending!E$1,$D376-1,0),OFFSET(Removed!E$1,$E376-1,0))","v":{"$error":"#N/A"}},{"$f":"CHOOSE(I376,OFFSET(DetailList!AU$1,$C376-1,0),\"Pending: \"&OFFSET(DetailListPending!AU$1,$D376-1,0),\"REMOVED [\"&OFFSET(Removed!AU$1,$E376-1,0)&\"]\")","v":{"$error":"#N/A"}},{"$error":"#N/A"},false,false]
[null,376,{"$f":"MATCH(B377,DetailList!AZ:AZ,0)","v":{"$error":"#N/A"}},{"$f":"MATCH(B377,DetailListPending!AZ:AZ,0)","v":{"$error":"#N/A"}},{"$f":"MATCH(B377,Removed!AZ$1:AZ$443,0)","v":{"$error":"#N/A"}},{"$f":"CHOOSE(I377,OFFSET(DetailList!C$1,$C377-1,0),\"PENDING: \"&OFFSET(DetailListPending!C$1,$D377-1,0),\"   REMOVED [\"&OFFSET(Removed!C$1,$E377-1,0)&\"]\")","v":{"$error":"#N/A"}},{"$f":"CHOOSE(I377,OFFSET(DetailList!E$1,$C377-1,0),OFFSET(DetailListPending!E$1,$D377-1,0),OFFSET(Removed!E$1,$E377-1,0))","v":{"$error":"#N/A"}},{"$f":"CHOOSE(I377,OFFSET(DetailList!AU$1,$C377-1,0),\"Pending: \"&OFFSET(DetailListPending!AU$1,$D377-1,0),\"REMOVED [\"&OFFSET(Removed!AU$1,$E377-1,0)&\"]\")","v":{"$error":"#N/A"}},{"$error":"#N/A"},false,false]
[null,377,{"$f":"MATCH(B378,DetailList!AZ:AZ,0)","v":{"$error":"#N/A"}},{"$f":"MATCH(B378,DetailListPending!AZ:AZ,0)","v":{"$error":"#N/A"}},{"$f":"MATCH(B378,Removed!AZ$1:AZ$443,0)","v":{"$error":"#N/A"}},{"$f":"CHOOSE(I378,OFFSET(DetailList!C$1,$C378-1,0),\"PENDING: \"&OFFSET(DetailListPending!C$1,$D378-1,0),\"   REMOVED [\"&OFFSET(Removed!C$1,$E378-1,0)&\"]\")","v":{"$error":"#N/A"}},{"$f":"CHOOSE(I378,OFFSET(DetailList!E$1,$C378-1,0),OFFSET(DetailListPending!E$1,$D378-1,0),OFFSET(Removed!E$1,$E378-1,0))","v":{"$error":"#N/A"}},{"$f":"CHOOSE(I378,OFFSET(DetailList!AU$1,$C378-1,0),\"Pending: \"&OFFSET(DetailListPending!AU$1,$D378-1,0),\"REMOVED [\"&OFFSET(Removed!AU$1,$E378-1,0)&\"]\")","v":{"$error":"#N/A"}},{"$error":"#N/A"},false,false]
[null,378,{"$f":"MATCH(B379,DetailList!AZ:AZ,0)","v":{"$error":"#N/A"}},{"$f":"MATCH(B379,DetailListPending!AZ:AZ,0)","v":{"$error":"#N/A"}},{"$f":"MATCH(B379,Removed!AZ$1:AZ$443,0)","v":{"$error":"#N/A"}},{"$f":"CHOOSE(I379,OFFSET(DetailList!C$1,$C379-1,0),\"PENDING: \"&OFFSET(DetailListPending!C$1,$D379-1,0),\"   REMOVED [\"&OFFSET(Removed!C$1,$E379-1,0)&\"]\")","v":{"$error":"#N/A"}},{"$f":"CHOOSE(I379,OFFSET(DetailList!E$1,$C379-1,0),OFFSET(DetailListPending!E$1,$D379-1,0),OFFSET(Removed!E$1,$E379-1,0))","v":{"$error":"#N/A"}},{"$f":"CHOOSE(I379,OFFSET(DetailList!AU$1,$C379-1,0),\"Pending: \"&OFFSET(DetailListPending!AU$1,$D379-1,0),\"REMOVED [\"&OFFSET(Removed!AU$1,$E379-1,0)&\"]\")","v":{"$error":"#N/A"}},{"$error":"#N/A"},false,false]
[null,379,{"$f":"MATCH(B380,DetailList!AZ:AZ,0)","v":{"$error":"#N/A"}},{"$f":"MATCH(B380,DetailListPending!AZ:AZ,0)","v":{"$error":"#N/A"}},{"$f":"MATCH(B380,Removed!AZ$1:AZ$443,0)","v":{"$error":"#N/A"}},{"$f":"CHOOSE(I380,OFFSET(DetailList!C$1,$C380-1,0),\"PENDING: \"&OFFSET(DetailListPending!C$1,$D380-1,0),\"   REMOVED [\"&OFFSET(Removed!C$1,$E380-1,0)&\"]\")","v":{"$error":"#N/A"}},{"$f":"CHOOSE(I380,OFFSET(DetailList!E$1,$C380-1,0),OFFSET(DetailListPending!E$1,$D380-1,0),OFFSET(Removed!E$1,$E380-1,0))","v":{"$error":"#N/A"}},{"$f":"CHOOSE(I380,OFFSET(DetailList!AU$1,$C380-1,0),\"Pending: \"&OFFSET(DetailListPending!AU$1,$D380-1,0),\"REMOVED [\"&OFFSET(Removed!AU$1,$E380-1,0)&\"]\")","v":{"$error":"#N/A"}},{"$error":"#N/A"},false,false]
[null,380,{"$f":"MATCH(B381,DetailList!AZ:AZ,0)","v":{"$error":"#N/A"}},{"$f":"MATCH(B381,DetailListPending!AZ:AZ,0)","v":{"$error":"#N/A"}},{"$f":"MATCH(B381,Removed!AZ$1:AZ$443,0)","v":{"$error":"#N/A"}},{"$f":"CHOOSE(I381,OFFSET(DetailList!C$1,$C381-1,0),\"PENDING: \"&OFFSET(DetailListPending!C$1,$D381-1,0),\"   REMOVED [\"&OFFSET(Removed!C$1,$E381-1,0)&\"]\")","v":{"$error":"#N/A"}},{"$f":"CHOOSE(I381,OFFSET(DetailList!E$1,$C381-1,0),OFFSET(DetailListPending!E$1,$D381-1,0),OFFSET(Removed!E$1,$E381-1,0))","v":{"$error":"#N/A"}},{"$f":"CHOOSE(I381,OFFSET(DetailList!AU$1,$C381-1,0),\"Pending: \"&OFFSET(DetailListPending!AU$1,$D381-1,0),\"REMOVED [\"&OFFSET(Removed!AU$1,$E381-1,0)&\"]\")","v":{"$error":"#N/A"}},{"$error":"#N/A"},false,false]
[null,381,{"$f":"MATCH(B382,DetailList!AZ:AZ,0)","v":{"$error":"#N/A"}},{"$f":"MATCH(B382,DetailListPending!AZ:AZ,0)","v":{"$error":"#N/A"}},{"$f":"MATCH(B382,Removed!AZ$1:AZ$443,0)","v":{"$error":"#N/A"}},{"$f":"CHOOSE(I382,OFFSET(DetailList!C$1,$C382-1,0),\"PENDING: \"&OFFSET(DetailListPending!C$1,$D382-1,0),\"   REMOVED [\"&OFFSET(Removed!C$1,$E382-1,0)&\"]\")","v":{"$error":"#N/A"}},{"$f":"CHOOSE(I382,OFFSET(DetailList!E$1,$C382-1,0),OFFSET(DetailListPending!E$1,$D382-1,0),OFFSET(Removed!E$1,$E382-1,0))","v":{"$error":"#N/A"}},{"$f":"CHOOSE(I382,OFFSET(DetailList!AU$1,$C382-1,0),\"Pending: \"&OFFSET(DetailListPending!AU$1,$D382-1,0),\"REMOVED [\"&OFFSET(Removed!AU$1,$E382-1,0)&\"]\")","v":{"$error":"#N/A"}},{"$error":"#N/A"},false,false]
[null,382,{"$f":"MATCH(B383,DetailList!AZ:AZ,0)","v":{"$error":"#N/A"}},{"$f":"MATCH(B383,DetailListPending!AZ:AZ,0)","v":{"$error":"#N/A"}},{"$f":"MATCH(B383,Removed!AZ$1:AZ$443,0)","v":{"$error":"#N/A"}},{"$f":"CHOOSE(I383,OFFSET(DetailList!C$1,$C383-1,0),\"PENDING: \"&OFFSET(DetailListPending!C$1,$D383-1,0),\"   REMOVED [\"&OFFSET(Removed!C$1,$E383-1,0)&\"]\")","v":{"$error":"#N/A"}},{"$f":"CHOOSE(I383,OFFSET(DetailList!E$1,$C383-1,0),OFFSET(DetailListPending!E$1,$D383-1,0),OFFSET(Removed!E$1,$E383-1,0))","v":{"$error":"#N/A"}},{"$f":"CHOOSE(I383,OFFSET(DetailList!AU$1,$C383-1,0),\"Pending: \"&OFFSET(DetailListPending!AU$1,$D383-1,0),\"REMOVED [\"&OFFSET(Removed!AU$1,$E383-1,0)&\"]\")","v":{"$error":"#N/A"}},{"$error":"#N/A"},false,false]
[null,383,{"$f":"MATCH(B384,DetailList!AZ:AZ,0)","v":{"$error":"#N/A"}},{"$f":"MATCH(B384,DetailListPending!AZ:AZ,0)","v":{"$error":"#N/A"}},{"$f":"MATCH(B384,Removed!AZ$1:AZ$443,0)","v":{"$error":"#N/A"}},{"$f":"CHOOSE(I384,OFFSET(DetailList!C$1,$C384-1,0),\"PENDING: \"&OFFSET(DetailListPending!C$1,$D384-1,0),\"   REMOVED [\"&OFFSET(Removed!C$1,$E384-1,0)&\"]\")","v":{"$error":"#N/A"}},{"$f":"CHOOSE(I384,OFFSET(DetailList!E$1,$C384-1,0),OFFSET(DetailListPending!E$1,$D384-1,0),OFFSET(Removed!E$1,$E384-1,0))","v":{"$error":"#N/A"}},{"$f":"CHOOSE(I384,OFFSET(DetailList!AU$1,$C384-1,0),\"Pending: \"&OFFSET(DetailListPending!AU$1,$D384-1,0),\"REMOVED [\"&OFFSET(Removed!AU$1,$E384-1,0)&\"]\")","v":{"$error":"#N/A"}},{"$error":"#N/A"},false,false]
[null,384,{"$f":"MATCH(B385,DetailList!AZ:AZ,0)","v":{"$error":"#N/A"}},{"$f":"MATCH(B385,DetailListPending!AZ:AZ,0)","v":{"$error":"#N/A"}},{"$f":"MATCH(B385,Removed!AZ$1:AZ$443,0)","v":{"$error":"#N/A"}},{"$f":"CHOOSE(I385,OFFSET(DetailList!C$1,$C385-1,0),\"PENDING: \"&OFFSET(DetailListPending!C$1,$D385-1,0),\"   REMOVED [\"&OFFSET(Removed!C$1,$E385-1,0)&\"]\")","v":{"$error":"#N/A"}},{"$f":"CHOOSE(I385,OFFSET(DetailList!E$1,$C385-1,0),OFFSET(DetailListPending!E$1,$D385-1,0),OFFSET(Removed!E$1,$E385-1,0))","v":{"$error":"#N/A"}},{"$f":"CHOOSE(I385,OFFSET(DetailList!AU$1,$C385-1,0),\"Pending: \"&OFFSET(DetailListPending!AU$1,$D385-1,0),\"REMOVED [\"&OFFSET(Removed!AU$1,$E385-1,0)&\"]\")","v":{"$error":"#N/A"}},{"$error":"#N/A"},false,false]
[null,385,{"$f":"MATCH(B386,DetailList!AZ:AZ,0)","v":{"$error":"#N/A"}},{"$f":"MATCH(B386,DetailListPending!AZ:AZ,0)","v":{"$error":"#N/A"}},{"$f":"MATCH(B386,Removed!AZ$1:AZ$443,0)","v":{"$error":"#N/A"}},{"$f":"CHOOSE(I386,OFFSET(DetailList!C$1,$C386-1,0),\"PENDING: \"&OFFSET(DetailListPending!C$1,$D386-1,0),\"   REMOVED [\"&OFFSET(Removed!C$1,$E386-1,0)&\"]\")","v":{"$error":"#N/A"}},{"$f":"CHOOSE(I386,OFFSET(DetailList!E$1,$C386-1,0),OFFSET(DetailListPending!E$1,$D386-1,0),OFFSET(Removed!E$1,$E386-1,0))","v":{"$error":"#N/A"}},{"$f":"CHOOSE(I386,OFFSET(DetailList!AU$1,$C386-1,0),\"Pending: \"&OFFSET(DetailListPending!AU$1,$D386-1,0),\"REMOVED [\"&OFFSET(Removed!AU$1,$E386-1,0)&\"]\")","v":{"$error":"#N/A"}},{"$f":"IF(ISNUMBER(C386),1,IF(ISNUMBER(D386),2,IF(ISNUMBER(E386),3,NA())))","v":{"$error":"#N/A"}},false,false]
[null,386,{"$f":"MATCH(B387,DetailList!AZ:AZ,0)","v":{"$error":"#N/A"}},{"$f":"MATCH(B387,DetailListPending!AZ:AZ,0)","v":{"$error":"#N/A"}},{"$f":"MATCH(B387,Removed!AZ$1:AZ$443,0)","v":{"$error":"#N/A"}},{"$f":"CHOOSE(I387,OFFSET(DetailList!C$1,$C387-1,0),\"PENDING: \"&OFFSET(DetailListPending!C$1,$D387-1,0),\"   REMOVED [\"&OFFSET(Removed!C$1,$E387-1,0)&\"]\")","v":{"$error":"#N/A"}},{"$f":"CHOOSE(I387,OFFSET(DetailList!E$1,$C387-1,0),OFFSET(DetailListPending!E$1,$D387-1,0),OFFSET(Removed!E$1,$E387-1,0))","v":{"$error":"#N/A"}},{"$f":"CHOOSE(I387,OFFSET(DetailList!AU$1,$C387-1,0),\"Pending: \"&OFFSET(DetailListPending!AU$1,$D387-1,0),\"REMOVED [\"&OFFSET(Removed!AU$1,$E387-1,0)&\"]\")","v":{"$error":"#N/A"}},{"$error":"#N/A"},{"$f":"NOT(ISNA(I387))","v":false},{"$f":"AND(J387,COUNTIF(C387:E387,NA())<>2)","v":false}]
[null,387,{"$f":"MATCH(B388,DetailList!AZ:AZ,0)","v":{"$error":"#N/A"}},{"$f":"MATCH(B388,DetailListPending!AZ:AZ,0)","v":{"$error":"#N/A"}},{"$f":"MATCH(B388,Removed!AZ$1:AZ$443,0)","v":{"$error":"#N/A"}},{"$f":"CHOOSE(I388,OFFSET(DetailList!C$1,$C388-1,0),\"PENDING: \"&OFFSET(DetailListPending!C$1,$D388-1,0),\"   REMOVED [\"&OFFSET(Removed!C$1,$E388-1,0)&\"]\")","v":{"$error":"#N/A"}},{"$f":"CHOOSE(I388,OFFSET(DetailList!E$1,$C388-1,0),OFFSET(DetailListPending!E$1,$D388-1,0),OFFSET(Removed!E$1,$E388-1,0))","v":{"$error":"#N/A"}},{"$f":"CHOOSE(I388,OFFSET(DetailList!AU$1,$C388-1,0),\"Pending: \"&OFFSET(DetailListPending!AU$1,$D388-1,0),\"REMOVED [\"&OFFSET(Removed!AU$1,$E388-1,0)&\"]\")","v":{"$error":"#N/A"}},{"$error":"#N/A"},false,false]
[null,388,{"$f":"MATCH(B389,DetailList!AZ:AZ,0)","v":{"$error":"#N/A"}},{"$f":"MATCH(B389,DetailListPending!AZ:AZ,0)","v":{"$error":"#N/A"}},{"$f":"MATCH(B389,Removed!AZ$1:AZ$443,0)","v":{"$error":"#N/A"}},{"$f":"CHOOSE(I389,OFFSET(DetailList!C$1,$C389-1,0),\"PENDING: \"&OFFSET(DetailListPending!C$1,$D389-1,0),\"   REMOVED [\"&OFFSET(Removed!C$1,$E389-1,0)&\"]\")","v":{"$error":"#N/A"}},{"$f":"CHOOSE(I389,OFFSET(DetailList!E$1,$C389-1,0),OFFSET(DetailListPending!E$1,$D389-1,0),OFFSET(Removed!E$1,$E389-1,0))","v":{"$error":"#N/A"}},{"$f":"CHOOSE(I389,OFFSET(DetailList!AU$1,$C389-1,0),\"Pending: \"&OFFSET(DetailListPending!AU$1,$D389-1,0),\"REMOVED [\"&OFFSET(Removed!AU$1,$E389-1,0)&\"]\")","v":{"$error":"#N/A"}},{"$error":"#N/A"},false,false]
[null,389,{"$f":"MATCH(B390,DetailList!AZ:AZ,0)","v":{"$error":"#N/A"}},{"$f":"MATCH(B390,DetailListPending!AZ:AZ,0)","v":{"$error":"#N/A"}},{"$f":"MATCH(B390,Removed!AZ$1:AZ$443,0)","v":{"$error":"#N/A"}},{"$f":"CHOOSE(I390,OFFSET(DetailList!C$1,$C390-1,0),\"PENDING: \"&OFFSET(DetailListPending!C$1,$D390-1,0),\"   REMOVED [\"&OFFSET(Removed!C$1,$E390-1,0)&\"]\")","v":{"$error":"#N/A"}},{"$f":"CHOOSE(I390,OFFSET(DetailList!E$1,$C390-1,0),OFFSET(DetailListPending!E$1,$D390-1,0),OFFSET(Removed!E$1,$E390-1,0))","v":{"$error":"#N/A"}},{"$f":"CHOOSE(I390,OFFSET(DetailList!AU$1,$C390-1,0),\"Pending: \"&OFFSET(DetailListPending!AU$1,$D390-1,0),\"REMOVED [\"&OFFSET(Removed!AU$1,$E390-1,0)&\"]\")","v":{"$error":"#N/A"}},{"$error":"#N/A"},false,false]
[null,390,{"$f":"MATCH(B391,DetailList!AZ:AZ,0)","v":{"$error":"#N/A"}},{"$f":"MATCH(B391,DetailListPending!AZ:AZ,0)","v":{"$error":"#N/A"}},{"$f":"MATCH(B391,Removed!AZ$1:AZ$443,0)","v":{"$error":"#N/A"}},{"$f":"CHOOSE(I391,OFFSET(DetailList!C$1,$C391-1,0),\"PENDING: \"&OFFSET(DetailListPending!C$1,$D391-1,0),\"   REMOVED [\"&OFFSET(Removed!C$1,$E391-1,0)&\"]\")","v":{"$error":"#N/A"}},{"$f":"CHOOSE(I391,OFFSET(DetailList!E$1,$C391-1,0),OFFSET(DetailListPending!E$1,$D391-1,0),OFFSET(Removed!E$1,$E391-1,0))","v":{"$error":"#N/A"}},{"$f":"CHOOSE(I391,OFFSET(DetailList!AU$1,$C391-1,0),\"Pending: \"&OFFSET(DetailListPending!AU$1,$D391-1,0),\"REMOVED [\"&OFFSET(Removed!AU$1,$E391-1,0)&\"]\")","v":{"$error":"#N/A"}},{"$error":"#N/A"},false,false]
[null,391,{"$f":"MATCH(B392,DetailList!AZ:AZ,0)","v":{"$error":"#N/A"}},{"$f":"MATCH(B392,DetailListPending!AZ:AZ,0)","v":{"$error":"#N/A"}},{"$f":"MATCH(B392,Removed!AZ$1:AZ$443,0)","v":{"$error":"#N/A"}},{"$f":"CHOOSE(I392,OFFSET(DetailList!C$1,$C392-1,0),\"PENDING: \"&OFFSET(DetailListPending!C$1,$D392-1,0),\"   REMOVED [\"&OFFSET(Removed!C$1,$E392-1,0)&\"]\")","v":{"$error":"#N/A"}},{"$f":"CHOOSE(I392,OFFSET(DetailList!E$1,$C392-1,0),OFFSET(DetailListPending!E$1,$D392-1,0),OFFSET(Removed!E$1,$E392-1,0))","v":{"$error":"#N/A"}},{"$f":"CHOOSE(I392,OFFSET(DetailList!AU$1,$C392-1,0),\"Pending: \"&OFFSET(DetailListPending!AU$1,$D392-1,0),\"REMOVED [\"&OFFSET(Removed!AU$1,$E392-1,0)&\"]\")","v":{"$error":"#N/A"}},{"$error":"#N/A"},false,false]
[null,392,{"$f":"MATCH(B393,DetailList!AZ:AZ,0)","v":{"$error":"#N/A"}},{"$f":"MATCH(B393,DetailListPending!AZ:AZ,0)","v":{"$error":"#N/A"}},{"$f":"MATCH(B393,Removed!AZ$1:AZ$443,0)","v":{"$error":"#N/A"}},{"$f":"CHOOSE(I393,OFFSET(DetailList!C$1,$C393-1,0),\"PENDING: \"&OFFSET(DetailListPending!C$1,$D393-1,0),\"   REMOVED [\"&OFFSET(Removed!C$1,$E393-1,0)&\"]\")","v":{"$error":"#N/A"}},{"$f":"CHOOSE(I393,OFFSET(DetailList!E$1,$C393-1,0),OFFSET(DetailListPending!E$1,$D393-1,0),OFFSET(Removed!E$1,$E393-1,0))","v":{"$error":"#N/A"}},{"$f":"CHOOSE(I393,OFFSET(DetailList!AU$1,$C393-1,0),\"Pending: \"&OFFSET(DetailListPending!AU$1,$D393-1,0),\"REMOVED [\"&OFFSET(Removed!AU$1,$E393-1,0)&\"]\")","v":{"$error":"#N/A"}},{"$error":"#N/A"},false,false]
[null,393,{"$f":"MATCH(B394,DetailList!AZ:AZ,0)","v":{"$error":"#N/A"}},{"$f":"MATCH(B394,DetailListPending!AZ:AZ,0)","v":{"$error":"#N/A"}},{"$f":"MATCH(B394,Removed!AZ$1:AZ$443,0)","v":{"$error":"#N/A"}},{"$f":"CHOOSE(I394,OFFSET(DetailList!C$1,$C394-1,0),\"PENDING: \"&OFFSET(DetailListPending!C$1,$D394-1,0),\"   REMOVED [\"&OFFSET(Removed!C$1,$E394-1,0)&\"]\")","v":{"$error":"#N/A"}},{"$f":"CHOOSE(I394,OFFSET(DetailList!E$1,$C394-1,0),OFFSET(DetailListPending!E$1,$D394-1,0),OFFSET(Removed!E$1,$E394-1,0))","v":{"$error":"#N/A"}},{"$f":"CHOOSE(I394,OFFSET(DetailList!AU$1,$C394-1,0),\"Pending: \"&OFFSET(DetailListPending!AU$1,$D394-1,0),\"REMOVED [\"&OFFSET(Removed!AU$1,$E394-1,0)&\"]\")","v":{"$error":"#N/A"}},{"$error":"#N/A"},false,false]
[null,394,{"$f":"MATCH(B395,DetailList!AZ:AZ,0)","v":{"$error":"#N/A"}},{"$f":"MATCH(B395,DetailListPending!AZ:AZ,0)","v":{"$error":"#N/A"}},{"$f":"MATCH(B395,Removed!AZ$1:AZ$443,0)","v":{"$error":"#N/A"}},{"$f":"CHOOSE(I395,OFFSET(DetailList!C$1,$C395-1,0),\"PENDING: \"&OFFSET(DetailListPending!C$1,$D395-1,0),\"   REMOVED [\"&OFFSET(Removed!C$1,$E395-1,0)&\"]\")","v":{"$error":"#N/A"}},{"$f":"CHOOSE(I395,OFFSET(DetailList!E$1,$C395-1,0),OFFSET(DetailListPending!E$1,$D395-1,0),OFFSET(Removed!E$1,$E395-1,0))","v":{"$error":"#N/A"}},{"$f":"CHOOSE(I395,OFFSET(DetailList!AU$1,$C395-1,0),\"Pending: \"&OFFSET(DetailListPending!AU$1,$D395-1,0),\"REMOVED [\"&OFFSET(Removed!AU$1,$E395-1,0)&\"]\")","v":{"$error":"#N/A"}},{"$error":"#N/A"},false,false]
[null,395,{"$f":"MATCH(B396,DetailList!AZ:AZ,0)","v":{"$error":"#N/A"}},{"$f":"MATCH(B396,DetailListPending!AZ:AZ,0)","v":{"$error":"#N/A"}},{"$f":"MATCH(B396,Removed!AZ$1:AZ$443,0)","v":{"$error":"#N/A"}},{"$f":"CHOOSE(I396,OFFSET(DetailList!C$1,$C396-1,0),\"PENDING: \"&OFFSET(DetailListPending!C$1,$D396-1,0),\"   REMOVED [\"&OFFSET(Removed!C$1,$E396-1,0)&\"]\")","v":{"$error":"#N/A"}},{"$f":"CHOOSE(I396,OFFSET(DetailList!E$1,$C396-1,0),OFFSET(DetailListPending!E$1,$D396-1,0),OFFSET(Removed!E$1,$E396-1,0))","v":{"$error":"#N/A"}},{"$f":"CHOOSE(I396,OFFSET(DetailList!AU$1,$C396-1,0),\"Pending: \"&OFFSET(DetailListPending!AU$1,$D396-1,0),\"REMOVED [\"&OFFSET(Removed!AU$1,$E396-1,0)&\"]\")","v":{"$error":"#N/A"}},{"$error":"#N/A"},false,false]
[null,396,{"$f":"MATCH(B397,DetailList!AZ:AZ,0)","v":{"$error":"#N/A"}},{"$f":"MATCH(B397,DetailListPending!AZ:AZ,0)","v":{"$error":"#N/A"}},{"$f":"MATCH(B397,Removed!AZ$1:AZ$443,0)","v":{"$error":"#N/A"}},{"$f":"CHOOSE(I397,OFFSET(DetailList!C$1,$C397-1,0),\"PENDING: \"&OFFSET(DetailListPending!C$1,$D397-1,0),\"   REMOVED [\"&OFFSET(Removed!C$1,$E397-1,0)&\"]\")","v":{"$error":"#N/A"}},{"$f":"CHOOSE(I397,OFFSET(DetailList!E$1,$C397-1,0),OFFSET(DetailListPending!E$1,$D397-1,0),OFFSET(Removed!E$1,$E397-1,0))","v":{"$error":"#N/A"}},{"$f":"CHOOSE(I397,OFFSET(DetailList!AU$1,$C397-1,0),\"Pending: \"&OFFSET(DetailListPending!AU$1,$D397-1,0),\"REMOVED [\"&OFFSET(Removed!AU$1,$E397-1,0)&\"]\")","v":{"$error":"#N/A"}},{"$error":"#N/A"},false,false]
[null,397,{"$f":"MATCH(B398,DetailList!AZ:AZ,0)","v":{"$error":"#N/A"}},{"$f":"MATCH(B398,DetailListPending!AZ:AZ,0)","v":{"$error":"#N/A"}},{"$f":"MATCH(B398,Removed!AZ$1:AZ$443,0)","v":{"$error":"#N/A"}},{"$f":"CHOOSE(I398,OFFSET(DetailList!C$1,$C398-1,0),\"PENDING: \"&OFFSET(DetailListPending!C$1,$D398-1,0),\"   REMOVED [\"&OFFSET(Removed!C$1,$E398-1,0)&\"]\")","v":{"$error":"#N/A"}},{"$f":"CHOOSE(I398,OFFSET(DetailList!E$1,$C398-1,0),OFFSET(DetailListPending!E$1,$D398-1,0),OFFSET(Removed!E$1,$E398-1,0))","v":{"$error":"#N/A"}},{"$f":"CHOOSE(I398,OFFSET(DetailList!AU$1,$C398-1,0),\"Pending: \"&OFFSET(DetailListPending!AU$1,$D398-1,0),\"REMOVED [\"&OFFSET(Removed!AU$1,$E398-1,0)&\"]\")","v":{"$error":"#N/A"}},{"$error":"#N/A"},false,false]
[null,398,{"$f":"MATCH(B399,DetailList!AZ:AZ,0)","v":{"$error":"#N/A"}},{"$f":"MATCH(B399,DetailListPending!AZ:AZ,0)","v":{"$error":"#N/A"}},{"$f":"MATCH(B399,Removed!AZ$1:AZ$443,0)","v":{"$error":"#N/A"}},{"$f":"CHOOSE(I399,OFFSET(DetailList!C$1,$C399-1,0),\"PENDING: \"&OFFSET(DetailListPending!C$1,$D399-1,0),\"   REMOVED [\"&OFFSET(Removed!C$1,$E399-1,0)&\"]\")","v":{"$error":"#N/A"}},{"$f":"CHOOSE(I399,OFFSET(DetailList!E$1,$C399-1,0),OFFSET(DetailListPending!E$1,$D399-1,0),OFFSET(Removed!E$1,$E399-1,0))","v":{"$error":"#N/A"}},{"$f":"CHOOSE(I399,OFFSET(DetailList!AU$1,$C399-1,0),\"Pending: \"&OFFSET(DetailListPending!AU$1,$D399-1,0),\"REMOVED [\"&OFFSET(Removed!AU$1,$E399-1,0)&\"]\")","v":{"$error":"#N/A"}},{"$error":"#N/A"},false,false]
[null,399,{"$f":"MATCH(B400,DetailList!AZ:AZ,0)","v":{"$error":"#N/A"}},{"$f":"MATCH(B400,DetailListPending!AZ:AZ,0)","v":{"$error":"#N/A"}},{"$f":"MATCH(B400,Removed!AZ$1:AZ$443,0)","v":{"$error":"#N/A"}},{"$f":"CHOOSE(I400,OFFSET(DetailList!C$1,$C400-1,0),\"PENDING: \"&OFFSET(DetailListPending!C$1,$D400-1,0),\"   REMOVED [\"&OFFSET(Removed!C$1,$E400-1,0)&\"]\")","v":{"$error":"#N/A"}},{"$f":"CHOOSE(I400,OFFSET(DetailList!E$1,$C400-1,0),OFFSET(DetailListPending!E$1,$D400-1,0),OFFSET(Removed!E$1,$E400-1,0))","v":{"$error":"#N/A"}},{"$f":"CHOOSE(I400,OFFSET(DetailList!AU$1,$C400-1,0),\"Pending: \"&OFFSET(DetailListPending!AU$1,$D400-1,0),\"REMOVED [\"&OFFSET(Removed!AU$1,$E400-1,0)&\"]\")","v":{"$error":"#N/A"}},{"$error":"#N/A"},false,false]
[null,400,{"$f":"MATCH(B401,DetailList!AZ:AZ,0)","v":{"$error":"#N/A"}},{"$f":"MATCH(B401,DetailListPending!AZ:AZ,0)","v":{"$error":"#N/A"}},{"$f":"MATCH(B401,Removed!AZ$1:AZ$443,0)","v":{"$error":"#N/A"}},{"$f":"CHOOSE(I401,OFFSET(DetailList!C$1,$C401-1,0),\"PENDING: \"&OFFSET(DetailListPending!C$1,$D401-1,0),\"   REMOVED [\"&OFFSET(Removed!C$1,$E401-1,0)&\"]\")","v":{"$error":"#N/A"}},{"$f":"CHOOSE(I401,OFFSET(DetailList!E$1,$C401-1,0),OFFSET(DetailListPending!E$1,$D401-1,0),OFFSET(Removed!E$1,$E401-1,0))","v":{"$error":"#N/A"}},{"$f":"CHOOSE(I401,OFFSET(DetailList!AU$1,$C401-1,0),\"Pending: \"&OFFSET(DetailListPending!AU$1,$D401-1,0),\"REMOVED [\"&OFFSET(Removed!AU$1,$E401-1,0)&\"]\")","v":{"$error":"#N/A"}},{"$error":"#N/A"},false,false]
[null,401,{"$f":"MATCH(B402,DetailList!AZ:AZ,0)","v":{"$error":"#N/A"}},{"$f":"MATCH(B402,DetailListPending!AZ:AZ,0)","v":{"$error":"#N/A"}},{"$f":"MATCH(B402,Removed!AZ$1:AZ$443,0)","v":{"$error":"#N/A"}},{"$f":"CHOOSE(I402,OFFSET(DetailList!C$1,$C402-1,0),\"PENDING: \"&OFFSET(DetailListPending!C$1,$D402-1,0),\"   REMOVED [\"&OFFSET(Removed!C$1,$E402-1,0)&\"]\")","v":{"$error":"#N/A"}},{"$f":"CHOOSE(I402,OFFSET(DetailList!E$1,$C402-1,0),OFFSET(DetailListPending!E$1,$D402-1,0),OFFSET(Removed!E$1,$E402-1,0))","v":{"$error":"#N/A"}},{"$f":"CHOOSE(I402,OFFSET(DetailList!AU$1,$C402-1,0),\"Pending: \"&OFFSET(DetailListPending!AU$1,$D402-1,0),\"REMOVED [\"&OFFSET(Removed!AU$1,$E402-1,0)&\"]\")","v":{"$error":"#N/A"}},{"$error":"#N/A"},false,false]
[null,402,{"$f":"MATCH(B403,DetailList!AZ:AZ,0)","v":{"$error":"#N/A"}},{"$f":"MATCH(B403,DetailListPending!AZ:AZ,0)","v":{"$error":"#N/A"}},{"$f":"MATCH(B403,Removed!AZ$1:AZ$443,0)","v":{"$error":"#N/A"}},{"$f":"CHOOSE(I403,OFFSET(DetailList!C$1,$C403-1,0),\"PENDING: \"&OFFSET(DetailListPending!C$1,$D403-1,0),\"   REMOVED [\"&OFFSET(Removed!C$1,$E403-1,0)&\"]\")","v":{"$error":"#N/A"}},{"$f":"CHOOSE(I403,OFFSET(DetailList!E$1,$C403-1,0),OFFSET(DetailListPending!E$1,$D403-1,0),OFFSET(Removed!E$1,$E403-1,0))","v":{"$error":"#N/A"}},{"$f":"CHOOSE(I403,OFFSET(DetailList!AU$1,$C403-1,0),\"Pending: \"&OFFSET(DetailListPending!AU$1,$D403-1,0),\"REMOVED [\"&OFFSET(Removed!AU$1,$E403-1,0)&\"]\")","v":{"$error":"#N/A"}},{"$error":"#N/A"},false,false]
[null,403,{"$f":"MATCH(B404,DetailList!AZ:AZ,0)","v":{"$error":"#N/A"}},{"$f":"MATCH(B404,DetailListPending!AZ:AZ,0)","v":{"$error":"#N/A"}},{"$f":"MATCH(B404,Removed!AZ$1:AZ$443,0)","v":{"$error":"#N/A"}},{"$f":"CHOOSE(I404,OFFSET(DetailList!C$1,$C404-1,0),\"PENDING: \"&OFFSET(DetailListPending!C$1,$D404-1,0),\"   REMOVED [\"&OFFSET(Removed!C$1,$E404-1,0)&\"]\")","v":{"$error":"#N/A"}},{"$f":"CHOOSE(I404,OFFSET(DetailList!E$1,$C404-1,0),OFFSET(DetailListPending!E$1,$D404-1,0),OFFSET(Removed!E$1,$E404-1,0))","v":{"$error":"#N/A"}},{"$f":"CHOOSE(I404,OFFSET(DetailList!AU$1,$C404-1,0),\"Pending: \"&OFFSET(DetailListPending!AU$1,$D404-1,0),\"REMOVED [\"&OFFSET(Removed!AU$1,$E404-1,0)&\"]\")","v":{"$error":"#N/A"}},{"$error":"#N/A"},false,false]
[null,404,{"$f":"MATCH(B405,DetailList!AZ:AZ,0)","v":{"$error":"#N/A"}},{"$f":"MATCH(B405,DetailListPending!AZ:AZ,0)","v":{"$error":"#N/A"}},{"$f":"MATCH(B405,Removed!AZ$1:AZ$443,0)","v":{"$error":"#N/A"}},{"$f":"CHOOSE(I405,OFFSET(DetailList!C$1,$C405-1,0),\"PENDING: \"&OFFSET(DetailListPending!C$1,$D405-1,0),\"   REMOVED [\"&OFFSET(Removed!C$1,$E405-1,0)&\"]\")","v":{"$error":"#N/A"}},{"$f":"CHOOSE(I405,OFFSET(DetailList!E$1,$C405-1,0),OFFSET(DetailListPending!E$1,$D405-1,0),OFFSET(Removed!E$1,$E405-1,0))","v":{"$error":"#N/A"}},{"$f":"CHOOSE(I405,OFFSET(DetailList!AU$1,$C405-1,0),\"Pending: \"&OFFSET(DetailListPending!AU$1,$D405-1,0),\"REMOVED [\"&OFFSET(Removed!AU$1,$E405-1,0)&\"]\")","v":{"$error":"#N/A"}},{"$error":"#N/A"},false,false]
[null,405,{"$f":"MATCH(B406,DetailList!AZ:AZ,0)","v":{"$error":"#N/A"}},{"$f":"MATCH(B406,DetailListPending!AZ:AZ,0)","v":{"$error":"#N/A"}},{"$f":"MATCH(B406,Removed!AZ$1:AZ$443,0)","v":{"$error":"#N/A"}},{"$f":"CHOOSE(I406,OFFSET(DetailList!C$1,$C406-1,0),\"PENDING: \"&OFFSET(DetailListPending!C$1,$D406-1,0),\"   REMOVED [\"&OFFSET(Removed!C$1,$E406-1,0)&\"]\")","v":{"$error":"#N/A"}},{"$f":"CHOOSE(I406,OFFSET(DetailList!E$1,$C406-1,0),OFFSET(DetailListPending!E$1,$D406-1,0),OFFSET(Removed!E$1,$E406-1,0))","v":{"$error":"#N/A"}},{"$f":"CHOOSE(I406,OFFSET(DetailList!AU$1,$C406-1,0),\"Pending: \"&OFFSET(DetailListPending!AU$1,$D406-1,0),\"REMOVED [\"&OFFSET(Removed!AU$1,$E406-1,0)&\"]\")","v":{"$error":"#N/A"}},{"$error":"#N/A"},false,false]
[null,406,{"$f":"MATCH(B407,DetailList!AZ:AZ,0)","v":{"$error":"#N/A"}},{"$f":"MATCH(B407,DetailListPending!AZ:AZ,0)","v":{"$error":"#N/A"}},{"$f":"MATCH(B407,Removed!AZ$1:AZ$443,0)","v":{"$error":"#N/A"}},{"$f":"CHOOSE(I407,OFFSET(DetailList!C$1,$C407-1,0),\"PENDING: \"&OFFSET(DetailListPending!C$1,$D407-1,0),\"   REMOVED [\"&OFFSET(Removed!C$1,$E407-1,0)&\"]\")","v":{"$error":"#N/A"}},{"$f":"CHOOSE(I407,OFFSET(DetailList!E$1,$C407-1,0),OFFSET(DetailListPending!E$1,$D407-1,0),OFFSET(Removed!E$1,$E407-1,0))","v":{"$error":"#N/A"}},{"$f":"CHOOSE(I407,OFFSET(DetailList!AU$1,$C407-1,0),\"Pending: \"&OFFSET(DetailListPending!AU$1,$D407-1,0),\"REMOVED [\"&OFFSET(Removed!AU$1,$E407-1,0)&\"]\")","v":{"$error":"#N/A"}},{"$error":"#N/A"},false,false]
[null,407,{"$f":"MATCH(B408,DetailList!AZ:AZ,0)","v":{"$error":"#N/A"}},{"$f":"MATCH(B408,DetailListPending!AZ:AZ,0)","v":{"$error":"#N/A"}},{"$f":"MATCH(B408,Removed!AZ$1:AZ$443,0)","v":{"$error":"#N/A"}},{"$f":"CHOOSE(I408,OFFSET(DetailList!C$1,$C408-1,0),\"PENDING: \"&OFFSET(DetailListPending!C$1,$D408-1,0),\"   REMOVED [\"&OFFSET(Removed!C$1,$E408-1,0)&\"]\")","v":{"$error":"#N/A"}},{"$f":"CHOOSE(I408,OFFSET(DetailList!E$1,$C408-1,0),OFFSET(DetailListPending!E$1,$D408-1,0),OFFSET(Removed!E$1,$E408-1,0))","v":{"$error":"#N/A"}},{"$f":"CHOOSE(I408,OFFSET(DetailList!AU$1,$C408-1,0),\"Pending: \"&OFFSET(DetailListPending!AU$1,$D408-1,0),\"REMOVED [\"&OFFSET(Removed!AU$1,$E408-1,0)&\"]\")","v":{"$error":"#N/A"}},{"$error":"#N/A"},false,false]
[null,408,{"$f":"MATCH(B409,DetailList!AZ:AZ,0)","v":{"$error":"#N/A"}},{"$f":"MATCH(B409,DetailListPending!AZ:AZ,0)","v":{"$error":"#N/A"}},{"$f":"MATCH(B409,Removed!AZ$1:AZ$443,0)","v":{"$error":"#N/A"}},{"$f":"CHOOSE(I409,OFFSET(DetailList!C$1,$C409-1,0),\"PENDING: \"&OFFSET(DetailListPending!C$1,$D409-1,0),\"   REMOVED [\"&OFFSET(Removed!C$1,$E409-1,0)&\"]\")","v":{"$error":"#N/A"}},{"$f":"CHOOSE(I409,OFFSET(DetailList!E$1,$C409-1,0),OFFSET(DetailListPending!E$1,$D409-1,0),OFFSET(Removed!E$1,$E409-1,0))","v":{"$error":"#N/A"}},{"$f":"CHOOSE(I409,OFFSET(DetailList!AU$1,$C409-1,0),\"Pending: \"&OFFSET(DetailListPending!AU$1,$D409-1,0),\"REMOVED [\"&OFFSET(Removed!AU$1,$E409-1,0)&\"]\")","v":{"$error":"#N/A"}},{"$error":"#N/A"},false,false]
[null,409,{"$f":"MATCH(B410,DetailList!AZ:AZ,0)","v":{"$error":"#N/A"}},{"$f":"MATCH(B410,DetailListPending!AZ:AZ,0)","v":{"$error":"#N/A"}},{"$f":"MATCH(B410,Removed!AZ$1:AZ$443,0)","v":{"$error":"#N/A"}},{"$f":"CHOOSE(I410,OFFSET(DetailList!C$1,$C410-1,0),\"PENDING: \"&OFFSET(DetailListPending!C$1,$D410-1,0),\"   REMOVED [\"&OFFSET(Removed!C$1,$E410-1,0)&\"]\")","v":{"$error":"#N/A"}},{"$f":"CHOOSE(I410,OFFSET(DetailList!E$1,$C410-1,0),OFFSET(DetailListPending!E$1,$D410-1,0),OFFSET(Removed!E$1,$E410-1,0))","v":{"$error":"#N/A"}},{"$f":"CHOOSE(I410,OFFSET(DetailList!AU$1,$C410-1,0),\"Pending: \"&OFFSET(DetailListPending!AU$1,$D410-1,0),\"REMOVED [\"&OFFSET(Removed!AU$1,$E410-1,0)&\"]\")","v":{"$error":"#N/A"}},{"$error":"#N/A"},false,false]
[null,410,{"$f":"MATCH(B411,DetailList!AZ:AZ,0)","v":{"$error":"#N/A"}},{"$f":"MATCH(B411,DetailListPending!AZ:AZ,0)","v":{"$error":"#N/A"}},{"$f":"MATCH(B411,Removed!AZ$1:AZ$443,0)","v":{"$error":"#N/A"}},{"$f":"CHOOSE(I411,OFFSET(DetailList!C$1,$C411-1,0),\"PENDING: \"&OFFSET(DetailListPending!C$1,$D411-1,0),\"   REMOVED [\"&OFFSET(Removed!C$1,$E411-1,0)&\"]\")","v":{"$error":"#N/A"}},{"$f":"CHOOSE(I411,OFFSET(DetailList!E$1,$C411-1,0),OFFSET(DetailListPending!E$1,$D411-1,0),OFFSET(Removed!E$1,$E411-1,0))","v":{"$error":"#N/A"}},{"$f":"CHOOSE(I411,OFFSET(DetailList!AU$1,$C411-1,0),\"Pending: \"&OFFSET(DetailListPending!AU$1,$D411-1,0),\"REMOVED [\"&OFFSET(Removed!AU$1,$E411-1,0)&\"]\")","v":{"$error":"#N/A"}},{"$error":"#N/A"},false,false]
[null,411,{"$f":"MATCH(B412,DetailList!AZ:AZ,0)","v":{"$error":"#N/A"}},{"$f":"MATCH(B412,DetailListPending!AZ:AZ,0)","v":{"$error":"#N/A"}},{"$f":"MATCH(B412,Removed!AZ$1:AZ$443,0)","v":{"$error":"#N/A"}},{"$f":"CHOOSE(I412,OFFSET(DetailList!C$1,$C412-1,0),\"PENDING: \"&OFFSET(DetailListPending!C$1,$D412-1,0),\"   REMOVED [\"&OFFSET(Removed!C$1,$E412-1,0)&\"]\")","v":{"$error":"#N/A"}},{"$f":"CHOOSE(I412,OFFSET(DetailList!E$1,$C412-1,0),OFFSET(DetailListPending!E$1,$D412-1,0),OFFSET(Removed!E$1,$E412-1,0))","v":{"$error":"#N/A"}},{"$f":"CHOOSE(I412,OFFSET(DetailList!AU$1,$C412-1,0),\"Pending: \"&OFFSET(DetailListPending!AU$1,$D412-1,0),\"REMOVED [\"&OFFSET(Removed!AU$1,$E412-1,0)&\"]\")","v":{"$error":"#N/A"}},{"$error":"#N/A"},false,false]
[null,412,{"$f":"MATCH(B413,DetailList!AZ:AZ,0)","v":{"$error":"#N/A"}},{"$f":"MATCH(B413,DetailListPending!AZ:AZ,0)","v":{"$error":"#N/A"}},{"$f":"MATCH(B413,Removed!AZ$1:AZ$443,0)","v":{"$error":"#N/A"}},{"$f":"CHOOSE(I413,OFFSET(DetailList!C$1,$C413-1,0),\"PENDING: \"&OFFSET(DetailListPending!C$1,$D413-1,0),\"   REMOVED [\"&OFFSET(Removed!C$1,$E413-1,0)&\"]\")","v":{"$error":"#N/A"}},{"$f":"CHOOSE(I413,OFFSET(DetailList!E$1,$C413-1,0),OFFSET(DetailListPending!E$1,$D413-1,0),OFFSET(Removed!E$1,$E413-1,0))","v":{"$error":"#N/A"}},{"$f":"CHOOSE(I413,OFFSET(DetailList!AU$1,$C413-1,0),\"Pending: \"&OFFSET(DetailListPending!AU$1,$D413-1,0),\"REMOVED [\"&OFFSET(Removed!AU$1,$E413-1,0)&\"]\")","v":{"$error":"#N/A"}},{"$error":"#N/A"},false,false]
[null,413,{"$f":"MATCH(B414,DetailList!AZ:AZ,0)","v":{"$error":"#N/A"}},{"$f":"MATCH(B414,DetailListPending!AZ:AZ,0)","v":{"$error":"#N/A"}},{"$f":"MATCH(B414,Removed!AZ$1:AZ$443,0)","v":{"$error":"#N/A"}},{"$f":"CHOOSE(I414,OFFSET(DetailList!C$1,$C414-1,0),\"PENDING: \"&OFFSET(DetailListPending!C$1,$D414-1,0),\"   REMOVED [\"&OFFSET(Removed!C$1,$E414-1,0)&\"]\")","v":{"$error":"#N/A"}},{"$f":"CHOOSE(I414,OFFSET(DetailList!E$1,$C414-1,0),OFFSET(DetailListPending!E$1,$D414-1,0),OFFSET(Removed!E$1,$E414-1,0))","v":{"$error":"#N/A"}},{"$f":"CHOOSE(I414,OFFSET(DetailList!AU$1,$C414-1,0),\"Pending: \"&OFFSET(DetailListPending!AU$1,$D414-1,0),\"REMOVED [\"&OFFSET(Removed!AU$1,$E414-1,0)&\"]\")","v":{"$error":"#N/A"}},{"$error":"#N/A"},false,false]
[null,414,{"$f":"MATCH(B415,DetailList!AZ:AZ,0)","v":{"$error":"#N/A"}},{"$f":"MATCH(B415,DetailListPending!AZ:AZ,0)","v":{"$error":"#N/A"}},{"$f":"MATCH(B415,Removed!AZ$1:AZ$443,0)","v":{"$error":"#N/A"}},{"$f":"CHOOSE(I415,OFFSET(DetailList!C$1,$C415-1,0),\"PENDING: \"&OFFSET(DetailListPending!C$1,$D415-1,0),\"   REMOVED [\"&OFFSET(Removed!C$1,$E415-1,0)&\"]\")","v":{"$error":"#N/A"}},{"$f":"CHOOSE(I415,OFFSET(DetailList!E$1,$C415-1,0),OFFSET(DetailListPending!E$1,$D415-1,0),OFFSET(Removed!E$1,$E415-1,0))","v":{"$error":"#N/A"}},{"$f":"CHOOSE(I415,OFFSET(DetailList!AU$1,$C415-1,0),\"Pending: \"&OFFSET(DetailListPending!AU$1,$D415-1,0),\"REMOVED [\"&OFFSET(Removed!AU$1,$E415-1,0)&\"]\")","v":{"$error":"#N/A"}},{"$error":"#N/A"},false,false]
[null,415,{"$f":"MATCH(B416,DetailList!AZ:AZ,0)","v":{"$error":"#N/A"}},{"$f":"MATCH(B416,DetailListPending!AZ:AZ,0)","v":{"$error":"#N/A"}},{"$f":"MATCH(B416,Removed!AZ$1:AZ$443,0)","v":{"$error":"#N/A"}},{"$f":"CHOOSE(I416,OFFSET(DetailList!C$1,$C416-1,0),\"PENDING: \"&OFFSET(DetailListPending!C$1,$D416-1,0),\"   REMOVED [\"&OFFSET(Removed!C$1,$E416-1,0)&\"]\")","v":{"$error":"#N/A"}},{"$f":"CHOOSE(I416,OFFSET(DetailList!E$1,$C416-1,0),OFFSET(DetailListPending!E$1,$D416-1,0),OFFSET(Removed!E$1,$E416-1,0))","v":{"$error":"#N/A"}},{"$f":"CHOOSE(I416,OFFSET(DetailList!AU$1,$C416-1,0),\"Pending: \"&OFFSET(DetailListPending!AU$1,$D416-1,0),\"REMOVED [\"&OFFSET(Removed!AU$1,$E416-1,0)&\"]\")","v":{"$error":"#N/A"}},{"$error":"#N/A"},false,false]
[null,416,{"$f":"MATCH(B417,DetailList!AZ:AZ,0)","v":{"$error":"#N/A"}},{"$f":"MATCH(B417,DetailListPending!AZ:AZ,0)","v":{"$error":"#N/A"}},{"$f":"MATCH(B417,Removed!AZ$1:AZ$443,0)","v":{"$error":"#N/A"}},{"$f":"CHOOSE(I417,OFFSET(DetailList!C$1,$C417-1,0),\"PENDING: \"&OFFSET(DetailListPending!C$1,$D417-1,0),\"   REMOVED [\"&OFFSET(Removed!C$1,$E417-1,0)&\"]\")","v":{"$error":"#N/A"}},{"$f":"CHOOSE(I417,OFFSET(DetailList!E$1,$C417-1,0),OFFSET(DetailListPending!E$1,$D417-1,0),OFFSET(Removed!E$1,$E417-1,0))","v":{"$error":"#N/A"}},{"$f":"CHOOSE(I417,OFFSET(DetailList!AU$1,$C417-1,0),\"Pending: \"&OFFSET(DetailListPending!AU$1,$D417-1,0),\"REMOVED [\"&OFFSET(Removed!AU$1,$E417-1,0)&\"]\")","v":{"$error":"#N/A"}},{"$error":"#N/A"},false,false]
[null,417,{"$f":"MATCH(B418,DetailList!AZ:AZ,0)","v":{"$error":"#N/A"}},{"$f":"MATCH(B418,DetailListPending!AZ:AZ,0)","v":{"$error":"#N/A"}},{"$f":"MATCH(B418,Removed!AZ$1:AZ$443,0)","v":{"$error":"#N/A"}},{"$f":"CHOOSE(I418,OFFSET(DetailList!C$1,$C418-1,0),\"PENDING: \"&OFFSET(DetailListPending!C$1,$D418-1,0),\"   REMOVED [\"&OFFSET(Removed!C$1,$E418-1,0)&\"]\")","v":{"$error":"#N/A"}},{"$f":"CHOOSE(I418,OFFSET(DetailList!E$1,$C418-1,0),OFFSET(DetailListPending!E$1,$D418-1,0),OFFSET(Removed!E$1,$E418-1,0))","v":{"$error":"#N/A"}},{"$f":"CHOOSE(I418,OFFSET(DetailList!AU$1,$C418-1,0),\"Pending: \"&OFFSET(DetailListPending!AU$1,$D418-1,0),\"REMOVED [\"&OFFSET(Removed!AU$1,$E418-1,0)&\"]\")","v":{"$error":"#N/A"}},{"$error":"#N/A"},false,false]
[null,418,{"$f":"MATCH(B419,DetailList!AZ:AZ,0)","v":{"$error":"#N/A"}},{"$f":"MATCH(B419,DetailListPending!AZ:AZ,0)","v":{"$error":"#N/A"}},{"$f":"MATCH(B419,Removed!AZ$1:AZ$443,0)","v":{"$error":"#N/A"}},{"$f":"CHOOSE(I419,OFFSET(DetailList!C$1,$C419-1,0),\"PENDING: \"&OFFSET(DetailListPending!C$1,$D419-1,0),\"   REMOVED [\"&OFFSET(Removed!C$1,$E419-1,0)&\"]\")","v":{"$error":"#N/A"}},{"$f":"CHOOSE(I419,OFFSET(DetailList!E$1,$C419-1,0),OFFSET(DetailListPending!E$1,$D419-1,0),OFFSET(Removed!E$1,$E419-1,0))","v":{"$error":"#N/A"}},{"$f":"CHOOSE(I419,OFFSET(DetailList!AU$1,$C419-1,0),\"Pending: \"&OFFSET(DetailListPending!AU$1,$D419-1,0),\"REMOVED [\"&OFFSET(Removed!AU$1,$E419-1,0)&\"]\")","v":{"$error":"#N/A"}},{"$error":"#N/A"},false,false]
[null,419,{"$f":"MATCH(B420,DetailList!AZ:AZ,0)","v":{"$error":"#N/A"}},{"$f":"MATCH(B420,DetailListPending!AZ:AZ,0)","v":{"$error":"#N/A"}},{"$f":"MATCH(B420,Removed!AZ$1:AZ$443,0)","v":{"$error":"#N/A"}},{"$f":"CHOOSE(I420,OFFSET(DetailList!C$1,$C420-1,0),\"PENDING: \"&OFFSET(DetailListPending!C$1,$D420-1,0),\"   REMOVED [\"&OFFSET(Removed!C$1,$E420-1,0)&\"]\")","v":{"$error":"#N/A"}},{"$f":"CHOOSE(I420,OFFSET(DetailList!E$1,$C420-1,0),OFFSET(DetailListPending!E$1,$D420-1,0),OFFSET(Removed!E$1,$E420-1,0))","v":{"$error":"#N/A"}},{"$f":"CHOOSE(I420,OFFSET(DetailList!AU$1,$C420-1,0),\"Pending: \"&OFFSET(DetailListPending!AU$1,$D420-1,0),\"REMOVED [\"&OFFSET(Removed!AU$1,$E420-1,0)&\"]\")","v":{"$error":"#N/A"}},{"$error":"#N/A"},false,false]
[null,420,{"$f":"MATCH(B421,DetailList!AZ:AZ,0)","v":{"$error":"#N/A"}},{"$f":"MATCH(B421,DetailListPending!AZ:AZ,0)","v":{"$error":"#N/A"}},{"$f":"MATCH(B421,Removed!AZ$1:AZ$443,0)","v":{"$error":"#N/A"}},{"$f":"CHOOSE(I421,OFFSET(DetailList!C$1,$C421-1,0),\"PENDING: \"&OFFSET(DetailListPending!C$1,$D421-1,0),\"   REMOVED [\"&OFFSET(Removed!C$1,$E421-1,0)&\"]\")","v":{"$error":"#N/A"}},{"$f":"CHOOSE(I421,OFFSET(DetailList!E$1,$C421-1,0),OFFSET(DetailListPending!E$1,$D421-1,0),OFFSET(Removed!E$1,$E421-1,0))","v":{"$error":"#N/A"}},{"$f":"CHOOSE(I421,OFFSET(DetailList!AU$1,$C421-1,0),\"Pending: \"&OFFSET(DetailListPending!AU$1,$D421-1,0),\"REMOVED [\"&OFFSET(Removed!AU$1,$E421-1,0)&\"]\")","v":{"$error":"#N/A"}},{"$error":"#N/A"},false,false]
[null,421,{"$f":"MATCH(B422,DetailList!AZ:AZ,0)","v":{"$error":"#N/A"}},{"$f":"MATCH(B422,DetailListPending!AZ:AZ,0)","v":{"$error":"#N/A"}},{"$f":"MATCH(B422,Removed!AZ$1:AZ$443,0)","v":{"$error":"#N/A"}},{"$f":"CHOOSE(I422,OFFSET(DetailList!C$1,$C422-1,0),\"PENDING: \"&OFFSET(DetailListPending!C$1,$D422-1,0),\"   REMOVED [\"&OFFSET(Removed!C$1,$E422-1,0)&\"]\")","v":{"$error":"#N/A"}},{"$f":"CHOOSE(I422,OFFSET(DetailList!E$1,$C422-1,0),OFFSET(DetailListPending!E$1,$D422-1,0),OFFSET(Removed!E$1,$E422-1,0))","v":{"$error":"#N/A"}},{"$f":"CHOOSE(I422,OFFSET(DetailList!AU$1,$C422-1,0),\"Pending: \"&OFFSET(DetailListPending!AU$1,$D422-1,0),\"REMOVED [\"&OFFSET(Removed!AU$1,$E422-1,0)&\"]\")","v":{"$error":"#N/A"}},{"$error":"#N/A"},false,false]
[null,422,{"$f":"MATCH(B423,DetailList!AZ:AZ,0)","v":{"$error":"#N/A"}},{"$f":"MATCH(B423,DetailListPending!AZ:AZ,0)","v":{"$error":"#N/A"}},{"$f":"MATCH(B423,Removed!AZ$1:AZ$443,0)","v":{"$error":"#N/A"}},{"$f":"CHOOSE(I423,OFFSET(DetailList!C$1,$C423-1,0),\"PENDING: \"&OFFSET(DetailListPending!C$1,$D423-1,0),\"   REMOVED [\"&OFFSET(Removed!C$1,$E423-1,0)&\"]\")","v":{"$error":"#N/A"}},{"$f":"CHOOSE(I423,OFFSET(DetailList!E$1,$C423-1,0),OFFSET(DetailListPending!E$1,$D423-1,0),OFFSET(Removed!E$1,$E423-1,0))","v":{"$error":"#N/A"}},{"$f":"CHOOSE(I423,OFFSET(DetailList!AU$1,$C423-1,0),\"Pending: \"&OFFSET(DetailListPending!AU$1,$D423-1,0),\"REMOVED [\"&OFFSET(Removed!AU$1,$E423-1,0)&\"]\")","v":{"$error":"#N/A"}},{"$error":"#N/A"},false,false]
[null,423,{"$f":"MATCH(B424,DetailList!AZ:AZ,0)","v":{"$error":"#N/A"}},{"$f":"MATCH(B424,DetailListPending!AZ:AZ,0)","v":{"$error":"#N/A"}},{"$f":"MATCH(B424,Removed!AZ$1:AZ$443,0)","v":{"$error":"#N/A"}},{"$f":"CHOOSE(I424,OFFSET(DetailList!C$1,$C424-1,0),\"PENDING: \"&OFFSET(DetailListPending!C$1,$D424-1,0),\"   REMOVED [\"&OFFSET(Removed!C$1,$E424-1,0)&\"]\")","v":{"$error":"#N/A"}},{"$f":"CHOOSE(I424,OFFSET(DetailList!E$1,$C424-1,0),OFFSET(DetailListPending!E$1,$D424-1,0),OFFSET(Removed!E$1,$E424-1,0))","v":{"$error":"#N/A"}},{"$f":"CHOOSE(I424,OFFSET(DetailList!AU$1,$C424-1,0),\"Pending: \"&OFFSET(DetailListPending!AU$1,$D424-1,0),\"REMOVED [\"&OFFSET(Removed!AU$1,$E424-1,0)&\"]\")","v":{"$error":"#N/A"}},{"$error":"#N/A"},false,false]
[null,424,{"$f":"MATCH(B425,DetailList!AZ:AZ,0)","v":{"$error":"#N/A"}},{"$f":"MATCH(B425,DetailListPending!AZ:AZ,0)","v":{"$error":"#N/A"}},{"$f":"MATCH(B425,Removed!AZ$1:AZ$443,0)","v":{"$error":"#N/A"}},{"$f":"CHOOSE(I425,OFFSET(DetailList!C$1,$C425-1,0),\"PENDING: \"&OFFSET(DetailListPending!C$1,$D425-1,0),\"   REMOVED [\"&OFFSET(Removed!C$1,$E425-1,0)&\"]\")","v":{"$error":"#N/A"}},{"$f":"CHOOSE(I425,OFFSET(DetailList!E$1,$C425-1,0),OFFSET(DetailListPending!E$1,$D425-1,0),OFFSET(Removed!E$1,$E425-1,0))","v":{"$error":"#N/A"}},{"$f":"CHOOSE(I425,OFFSET(DetailList!AU$1,$C425-1,0),\"Pending: \"&OFFSET(DetailListPending!AU$1,$D425-1,0),\"REMOVED [\"&OFFSET(Removed!AU$1,$E425-1,0)&\"]\")","v":{"$error":"#N/A"}},{"$error":"#N/A"},false,false]
[null,425,{"$f":"MATCH(B426,DetailList!AZ:AZ,0)","v":{"$error":"#N/A"}},{"$f":"MATCH(B426,DetailListPending!AZ:AZ,0)","v":{"$error":"#N/A"}},{"$f":"MATCH(B426,Removed!AZ$1:AZ$443,0)","v":{"$error":"#N/A"}},{"$f":"CHOOSE(I426,OFFSET(DetailList!C$1,$C426-1,0),\"PENDING: \"&OFFSET(DetailListPending!C$1,$D426-1,0),\"   REMOVED [\"&OFFSET(Removed!C$1,$E426-1,0)&\"]\")","v":{"$error":"#N/A"}},{"$f":"CHOOSE(I426,OFFSET(DetailList!E$1,$C426-1,0),OFFSET(DetailListPending!E$1,$D426-1,0),OFFSET(Removed!E$1,$E426-1,0))","v":{"$error":"#N/A"}},{"$f":"CHOOSE(I426,OFFSET(DetailList!AU$1,$C426-1,0),\"Pending: \"&OFFSET(DetailListPending!AU$1,$D426-1,0),\"REMOVED [\"&OFFSET(Removed!AU$1,$E426-1,0)&\"]\")","v":{"$error":"#N/A"}},{"$error":"#N/A"},false,false]
[null,426,{"$f":"MATCH(B427,DetailList!AZ:AZ,0)","v":{"$error":"#N/A"}},{"$f":"MATCH(B427,DetailListPending!AZ:AZ,0)","v":{"$error":"#N/A"}},{"$f":"MATCH(B427,Removed!AZ$1:AZ$443,0)","v":{"$error":"#N/A"}},{"$f":"CHOOSE(I427,OFFSET(DetailList!C$1,$C427-1,0),\"PENDING: \"&OFFSET(DetailListPending!C$1,$D427-1,0),\"   REMOVED [\"&OFFSET(Removed!C$1,$E427-1,0)&\"]\")","v":{"$error":"#N/A"}},{"$f":"CHOOSE(I427,OFFSET(DetailList!E$1,$C427-1,0),OFFSET(DetailListPending!E$1,$D427-1,0),OFFSET(Removed!E$1,$E427-1,0))","v":{"$error":"#N/A"}},{"$f":"CHOOSE(I427,OFFSET(DetailList!AU$1,$C427-1,0),\"Pending: \"&OFFSET(DetailListPending!AU$1,$D427-1,0),\"REMOVED [\"&OFFSET(Removed!AU$1,$E427-1,0)&\"]\")","v":{"$error":"#N/A"}},{"$error":"#N/A"},false,false]
[null,427,{"$f":"MATCH(B428,DetailList!AZ:AZ,0)","v":{"$error":"#N/A"}},{"$f":"MATCH(B428,DetailListPending!AZ:AZ,0)","v":{"$error":"#N/A"}},{"$f":"MATCH(B428,Removed!AZ$1:AZ$443,0)","v":{"$error":"#N/A"}},{"$f":"CHOOSE(I428,OFFSET(DetailList!C$1,$C428-1,0),\"PENDING: \"&OFFSET(DetailListPending!C$1,$D428-1,0),\"   REMOVED [\"&OFFSET(Removed!C$1,$E428-1,0)&\"]\")","v":{"$error":"#N/A"}},{"$f":"CHOOSE(I428,OFFSET(DetailList!E$1,$C428-1,0),OFFSET(DetailListPending!E$1,$D428-1,0),OFFSET(Removed!E$1,$E428-1,0))","v":{"$error":"#N/A"}},{"$f":"CHOOSE(I428,OFFSET(DetailList!AU$1,$C428-1,0),\"Pending: \"&OFFSET(DetailListPending!AU$1,$D428-1,0),\"REMOVED [\"&OFFSET(Removed!AU$1,$E428-1,0)&\"]\")","v":{"$error":"#N/A"}},{"$error":"#N/A"},false,false]
[null,428,{"$f":"MATCH(B429,DetailList!AZ:AZ,0)","v":{"$error":"#N/A"}},{"$f":"MATCH(B429,DetailListPending!AZ:AZ,0)","v":{"$error":"#N/A"}},{"$f":"MATCH(B429,Removed!AZ$1:AZ$443,0)","v":{"$error":"#N/A"}},{"$f":"CHOOSE(I429,OFFSET(DetailList!C$1,$C429-1,0),\"PENDING: \"&OFFSET(DetailListPending!C$1,$D429-1,0),\"   REMOVED [\"&OFFSET(Removed!C$1,$E429-1,0)&\"]\")","v":{"$error":"#N/A"}},{"$f":"CHOOSE(I429,OFFSET(DetailList!E$1,$C429-1,0),OFFSET(DetailListPending!E$1,$D429-1,0),OFFSET(Removed!E$1,$E429-1,0))","v":{"$error":"#N/A"}},{"$f":"CHOOSE(I429,OFFSET(DetailList!AU$1,$C429-1,0),\"Pending: \"&OFFSET(DetailListPending!AU$1,$D429-1,0),\"REMOVED [\"&OFFSET(Removed!AU$1,$E429-1,0)&\"]\")","v":{"$error":"#N/A"}},{"$error":"#N/A"},false,false]
[null,429,{"$f":"MATCH(B430,DetailList!AZ:AZ,0)","v":{"$error":"#N/A"}},{"$f":"MATCH(B430,DetailListPending!AZ:AZ,0)","v":{"$error":"#N/A"}},{"$f":"MATCH(B430,Removed!AZ$1:AZ$443,0)","v":{"$error":"#N/A"}},{"$f":"CHOOSE(I430,OFFSET(DetailList!C$1,$C430-1,0),\"PENDING: \"&OFFSET(DetailListPending!C$1,$D430-1,0),\"   REMOVED [\"&OFFSET(Removed!C$1,$E430-1,0)&\"]\")","v":{"$error":"#N/A"}},{"$f":"CHOOSE(I430,OFFSET(DetailList!E$1,$C430-1,0),OFFSET(DetailListPending!E$1,$D430-1,0),OFFSET(Removed!E$1,$E430-1,0))","v":{"$error":"#N/A"}},{"$f":"CHOOSE(I430,OFFSET(DetailList!AU$1,$C430-1,0),\"Pending: \"&OFFSET(DetailListPending!AU$1,$D430-1,0),\"REMOVED [\"&OFFSET(Removed!AU$1,$E430-1,0)&\"]\")","v":{"$error":"#N/A"}},{"$error":"#N/A"},false,false]
[null,430,{"$f":"MATCH(B431,DetailList!AZ:AZ,0)","v":{"$error":"#N/A"}},{"$f":"MATCH(B431,DetailListPending!AZ:AZ,0)","v":{"$error":"#N/A"}},{"$f":"MATCH(B431,Removed!AZ$1:AZ$443,0)","v":{"$error":"#N/A"}},{"$f":"CHOOSE(I431,OFFSET(DetailList!C$1,$C431-1,0),\"PENDING: \"&OFFSET(DetailListPending!C$1,$D431-1,0),\"   REMOVED [\"&OFFSET(Removed!C$1,$E431-1,0)&\"]\")","v":{"$error":"#N/A"}},{"$f":"CHOOSE(I431,OFFSET(DetailList!E$1,$C431-1,0),OFFSET(DetailListPending!E$1,$D431-1,0),OFFSET(Removed!E$1,$E431-1,0))","v":{"$error":"#N/A"}},{"$f":"CHOOSE(I431,OFFSET(DetailList!AU$1,$C431-1,0),\"Pending: \"&OFFSET(DetailListPending!AU$1,$D431-1,0),\"REMOVED [\"&OFFSET(Removed!AU$1,$E431-1,0)&\"]\")","v":{"$error":"#N/A"}},{"$error":"#N/A"},false,false]
[null,431,{"$f":"MATCH(B432,DetailList!AZ:AZ,0)","v":{"$error":"#N/A"}},{"$f":"MATCH(B432,DetailListPending!AZ:AZ,0)","v":{"$error":"#N/A"}},{"$f":"MATCH(B432,Removed!AZ$1:AZ$443,0)","v":{"$error":"#N/A"}},{"$f":"CHOOSE(I432,OFFSET(DetailList!C$1,$C432-1,0),\"PENDING: \"&OFFSET(DetailListPending!C$1,$D432-1,0),\"   REMOVED [\"&OFFSET(Removed!C$1,$E432-1,0)&\"]\")","v":{"$error":"#N/A"}},{"$f":"CHOOSE(I432,OFFSET(DetailList!E$1,$C432-1,0),OFFSET(DetailListPending!E$1,$D432-1,0),OFFSET(Removed!E$1,$E432-1,0))","v":{"$error":"#N/A"}},{"$f":"CHOOSE(I432,OFFSET(DetailList!AU$1,$C432-1,0),\"Pending: \"&OFFSET(DetailListPending!AU$1,$D432-1,0),\"REMOVED [\"&OFFSET(Removed!AU$1,$E432-1,0)&\"]\")","v":{"$error":"#N/A"}},{"$error":"#N/A"},false,false]
[null,432,{"$f":"MATCH(B433,DetailList!AZ:AZ,0)","v":{"$error":"#N/A"}},{"$f":"MATCH(B433,DetailListPending!AZ:AZ,0)","v":{"$error":"#N/A"}},{"$f":"MATCH(B433,Removed!AZ$1:AZ$443,0)","v":{"$error":"#N/A"}},{"$f":"CHOOSE(I433,OFFSET(DetailList!C$1,$C433-1,0),\"PENDING: \"&OFFSET(DetailListPending!C$1,$D433-1,0),\"   REMOVED [\"&OFFSET(Removed!C$1,$E433-1,0)&\"]\")","v":{"$error":"#N/A"}},{"$f":"CHOOSE(I433,OFFSET(DetailList!E$1,$C433-1,0),OFFSET(DetailListPending!E$1,$D433-1,0),OFFSET(Removed!E$1,$E433-1,0))","v":{"$error":"#N/A"}},{"$f":"CHOOSE(I433,OFFSET(DetailList!AU$1,$C433-1,0),\"Pending: \"&OFFSET(DetailListPending!AU$1,$D433-1,0),\"REMOVED [\"&OFFSET(Removed!AU$1,$E433-1,0)&\"]\")","v":{"$error":"#N/A"}},{"$error":"#N/A"},false,false]
[null,433,{"$f":"MATCH(B434,DetailList!AZ:AZ,0)","v":{"$error":"#N/A"}},{"$f":"MATCH(B434,DetailListPending!AZ:AZ,0)","v":{"$error":"#N/A"}},{"$f":"MATCH(B434,Removed!AZ$1:AZ$443,0)","v":{"$error":"#N/A"}},{"$f":"CHOOSE(I434,OFFSET(DetailList!C$1,$C434-1,0),\"PENDING: \"&OFFSET(DetailListPending!C$1,$D434-1,0),\"   REMOVED [\"&OFFSET(Removed!C$1,$E434-1,0)&\"]\")","v":{"$error":"#N/A"}},{"$f":"CHOOSE(I434,OFFSET(DetailList!E$1,$C434-1,0),OFFSET(DetailListPending!E$1,$D434-1,0),OFFSET(Removed!E$1,$E434-1,0))","v":{"$error":"#N/A"}},{"$f":"CHOOSE(I434,OFFSET(DetailList!AU$1,$C434-1,0),\"Pending: \"&OFFSET(DetailListPending!AU$1,$D434-1,0),\"REMOVED [\"&OFFSET(Removed!AU$1,$E434-1,0)&\"]\")","v":{"$error":"#N/A"}},{"$error":"#N/A"},false,false]
[null,434,{"$f":"MATCH(B435,DetailList!AZ:AZ,0)","v":{"$error":"#N/A"}},{"$f":"MATCH(B435,DetailListPending!AZ:AZ,0)","v":{"$error":"#N/A"}},{"$f":"MATCH(B435,Removed!AZ$1:AZ$443,0)","v":{"$error":"#N/A"}},{"$f":"CHOOSE(I435,OFFSET(DetailList!C$1,$C435-1,0),\"PENDING: \"&OFFSET(DetailListPending!C$1,$D435-1,0),\"   REMOVED [\"&OFFSET(Removed!C$1,$E435-1,0)&\"]\")","v":{"$error":"#N/A"}},{"$f":"CHOOSE(I435,OFFSET(DetailList!E$1,$C435-1,0),OFFSET(DetailListPending!E$1,$D435-1,0),OFFSET(Removed!E$1,$E435-1,0))","v":{"$error":"#N/A"}},{"$f":"CHOOSE(I435,OFFSET(DetailList!AU$1,$C435-1,0),\"Pending: \"&OFFSET(DetailListPending!AU$1,$D435-1,0),\"REMOVED [\"&OFFSET(Removed!AU$1,$E435-1,0)&\"]\")","v":{"$error":"#N/A"}},{"$error":"#N/A"},false,false]
[null,435,{"$f":"MATCH(B436,DetailList!AZ:AZ,0)","v":{"$error":"#N/A"}},{"$f":"MATCH(B436,DetailListPending!AZ:AZ,0)","v":{"$error":"#N/A"}},{"$f":"MATCH(B436,Removed!AZ$1:AZ$443,0)","v":{"$error":"#N/A"}},{"$f":"CHOOSE(I436,OFFSET(DetailList!C$1,$C436-1,0),\"PENDING: \"&OFFSET(DetailListPending!C$1,$D436-1,0),\"   REMOVED [\"&OFFSET(Removed!C$1,$E436-1,0)&\"]\")","v":{"$error":"#N/A"}},{"$f":"CHOOSE(I436,OFFSET(DetailList!E$1,$C436-1,0),OFFSET(DetailListPending!E$1,$D436-1,0),OFFSET(Removed!E$1,$E436-1,0))","v":{"$error":"#N/A"}},{"$f":"CHOOSE(I436,OFFSET(DetailList!AU$1,$C436-1,0),\"Pending: \"&OFFSET(DetailListPending!AU$1,$D436-1,0),\"REMOVED [\"&OFFSET(Removed!AU$1,$E436-1,0)&\"]\")","v":{"$error":"#N/A"}},{"$error":"#N/A"},false,false]
[null,436,{"$f":"MATCH(B437,DetailList!AZ:AZ,0)","v":{"$error":"#N/A"}},{"$f":"MATCH(B437,DetailListPending!AZ:AZ,0)","v":{"$error":"#N/A"}},{"$f":"MATCH(B437,Removed!AZ$1:AZ$443,0)","v":{"$error":"#N/A"}},{"$f":"CHOOSE(I437,OFFSET(DetailList!C$1,$C437-1,0),\"PENDING: \"&OFFSET(DetailListPending!C$1,$D437-1,0),\"   REMOVED [\"&OFFSET(Removed!C$1,$E437-1,0)&\"]\")","v":{"$error":"#N/A"}},{"$f":"CHOOSE(I437,OFFSET(DetailList!E$1,$C437-1,0),OFFSET(DetailListPending!E$1,$D437-1,0),OFFSET(Removed!E$1,$E437-1,0))","v":{"$error":"#N/A"}},{"$f":"CHOOSE(I437,OFFSET(DetailList!AU$1,$C437-1,0),\"Pending: \"&OFFSET(DetailListPending!AU$1,$D437-1,0),\"REMOVED [\"&OFFSET(Removed!AU$1,$E437-1,0)&\"]\")","v":{"$error":"#N/A"}},{"$error":"#N/A"},false,false]
[null,437,{"$f":"MATCH(B438,DetailList!AZ:AZ,0)","v":{"$error":"#N/A"}},{"$f":"MATCH(B438,DetailListPending!AZ:AZ,0)","v":{"$error":"#N/A"}},{"$f":"MATCH(B438,Removed!AZ$1:AZ$443,0)","v":{"$error":"#N/A"}},{"$f":"CHOOSE(I438,OFFSET(DetailList!C$1,$C438-1,0),\"PENDING: \"&OFFSET(DetailListPending!C$1,$D438-1,0),\"   REMOVED [\"&OFFSET(Removed!C$1,$E438-1,0)&\"]\")","v":{"$error":"#N/A"}},{"$f":"CHOOSE(I438,OFFSET(DetailList!E$1,$C438-1,0),OFFSET(DetailListPending!E$1,$D438-1,0),OFFSET(Removed!E$1,$E438-1,0))","v":{"$error":"#N/A"}},{"$f":"CHOOSE(I438,OFFSET(DetailList!AU$1,$C438-1,0),\"Pending: \"&OFFSET(DetailListPending!AU$1,$D438-1,0),\"REMOVED [\"&OFFSET(Removed!AU$1,$E438-1,0)&\"]\")","v":{"$error":"#N/A"}},{"$error":"#N/A"},false,false]
[null,438,{"$f":"MATCH(B439,DetailList!AZ:AZ,0)","v":{"$error":"#N/A"}},{"$f":"MATCH(B439,DetailListPending!AZ:AZ,0)","v":{"$error":"#N/A"}},{"$f":"MATCH(B439,Removed!AZ$1:AZ$443,0)","v":{"$error":"#N/A"}},{"$f":"CHOOSE(I439,OFFSET(DetailList!C$1,$C439-1,0),\"PENDING: \"&OFFSET(DetailListPending!C$1,$D439-1,0),\"   REMOVED [\"&OFFSET(Removed!C$1,$E439-1,0)&\"]\")","v":{"$error":"#N/A"}},{"$f":"CHOOSE(I439,OFFSET(DetailList!E$1,$C439-1,0),OFFSET(DetailListPending!E$1,$D439-1,0),OFFSET(Removed!E$1,$E439-1,0))","v":{"$error":"#N/A"}},{"$f":"CHOOSE(I439,OFFSET(DetailList!AU$1,$C439-1,0),\"Pending: \"&OFFSET(DetailListPending!AU$1,$D439-1,0),\"REMOVED [\"&OFFSET(Removed!AU$1,$E439-1,0)&\"]\")","v":{"$error":"#N/A"}},{"$error":"#N/A"},false,false]
[null,439,{"$f":"MATCH(B440,DetailList!AZ:AZ,0)","v":{"$error":"#N/A"}},{"$f":"MATCH(B440,DetailListPending!AZ:AZ,0)","v":{"$error":"#N/A"}},{"$f":"MATCH(B440,Removed!AZ$1:AZ$443,0)","v":{"$error":"#N/A"}},{"$f":"CHOOSE(I440,OFFSET(DetailList!C$1,$C440-1,0),\"PENDING: \"&OFFSET(DetailListPending!C$1,$D440-1,0),\"   REMOVED [\"&OFFSET(Removed!C$1,$E440-1,0)&\"]\")","v":{"$error":"#N/A"}},{"$f":"CHOOSE(I440,OFFSET(DetailList!E$1,$C440-1,0),OFFSET(DetailListPending!E$1,$D440-1,0),OFFSET(Removed!E$1,$E440-1,0))","v":{"$error":"#N/A"}},{"$f":"CHOOSE(I440,OFFSET(DetailList!AU$1,$C440-1,0),\"Pending: \"&OFFSET(DetailListPending!AU$1,$D440-1,0),\"REMOVED [\"&OFFSET(Removed!AU$1,$E440-1,0)&\"]\")","v":{"$error":"#N/A"}},{"$error":"#N/A"},false,false]
[null,440,{"$f":"MATCH(B441,DetailList!AZ:AZ,0)","v":{"$error":"#N/A"}},{"$f":"MATCH(B441,DetailListPending!AZ:AZ,0)","v":{"$error":"#N/A"}},{"$f":"MATCH(B441,Removed!AZ$1:AZ$443,0)","v":{"$error":"#N/A"}},{"$f":"CHOOSE(I441,OFFSET(DetailList!C$1,$C441-1,0),\"PENDING: \"&OFFSET(DetailListPending!C$1,$D441-1,0),\"   REMOVED [\"&OFFSET(Removed!C$1,$E441-1,0)&\"]\")","v":{"$error":"#N/A"}},{"$f":"CHOOSE(I441,OFFSET(DetailList!E$1,$C441-1,0),OFFSET(DetailListPending!E$1,$D441-1,0),OFFSET(Removed!E$1,$E441-1,0))","v":{"$error":"#N/A"}},{"$f":"CHOOSE(I441,OFFSET(DetailList!AU$1,$C441-1,0),\"Pending: \"&OFFSET(DetailListPending!AU$1,$D441-1,0),\"REMOVED [\"&OFFSET(Removed!AU$1,$E441-1,0)&\"]\")","v":{"$error":"#N/A"}},{"$error":"#N/A"},false,false]
[null,441,{"$f":"MATCH(B442,DetailList!AZ:AZ,0)","v":{"$error":"#N/A"}},{"$f":"MATCH(B442,DetailListPending!AZ:AZ,0)","v":{"$error":"#N/A"}},{"$f":"MATCH(B442,Removed!AZ$1:AZ$443,0)","v":{"$error":"#N/A"}},{"$f":"CHOOSE(I442,OFFSET(DetailList!C$1,$C442-1,0),\"PENDING: \"&OFFSET(DetailListPending!C$1,$D442-1,0),\"   REMOVED [\"&OFFSET(Removed!C$1,$E442-1,0)&\"]\")","v":{"$error":"#N/A"}},{"$f":"CHOOSE(I442,OFFSET(DetailList!E$1,$C442-1,0),OFFSET(DetailListPending!E$1,$D442-1,0),OFFSET(Removed!E$1,$E442-1,0))","v":{"$error":"#N/A"}},{"$f":"CHOOSE(I442,OFFSET(DetailList!AU$1,$C442-1,0),\"Pending: \"&OFFSET(DetailListPending!AU$1,$D442-1,0),\"REMOVED [\"&OFFSET(Removed!AU$1,$E442-1,0)&\"]\")","v":{"$error":"#N/A"}},{"$error":"#N/A"},false,false]
[null,442,{"$f":"MATCH(B443,DetailList!AZ:AZ,0)","v":{"$error":"#N/A"}},{"$f":"MATCH(B443,DetailListPending!AZ:AZ,0)","v":{"$error":"#N/A"}},{"$f":"MATCH(B443,Removed!AZ$1:AZ$443,0)","v":{"$error":"#N/A"}},{"$f":"CHOOSE(I443,OFFSET(DetailList!C$1,$C443-1,0),\"PENDING: \"&OFFSET(DetailListPending!C$1,$D443-1,0),\"   REMOVED [\"&OFFSET(Removed!C$1,$E443-1,0)&\"]\")","v":{"$error":"#N/A"}},{"$f":"CHOOSE(I443,OFFSET(DetailList!E$1,$C443-1,0),OFFSET(DetailListPending!E$1,$D443-1,0),OFFSET(Removed!E$1,$E443-1,0))","v":{"$error":"#N/A"}},{"$f":"CHOOSE(I443,OFFSET(DetailList!AU$1,$C443-1,0),\"Pending: \"&OFFSET(DetailListPending!AU$1,$D443-1,0),\"REMOVED [\"&OFFSET(Removed!AU$1,$E443-1,0)&\"]\")","v":{"$error":"#N/A"}},{"$error":"#N/A"},false,false]
[null,443,{"$f":"MATCH(B444,DetailList!AZ:AZ,0)","v":{"$error":"#N/A"}},{"$f":"MATCH(B444,DetailListPending!AZ:AZ,0)","v":{"$error":"#N/A"}},{"$f":"MATCH(B444,Removed!AZ$1:AZ$443,0)","v":{"$error":"#N/A"}},{"$f":"CHOOSE(I444,OFFSET(DetailList!C$1,$C444-1,0),\"PENDING: \"&OFFSET(DetailListPending!C$1,$D444-1,0),\"   REMOVED [\"&OFFSET(Removed!C$1,$E444-1,0)&\"]\")","v":{"$error":"#N/A"}},{"$f":"CHOOSE(I444,OFFSET(DetailList!E$1,$C444-1,0),OFFSET(DetailListPending!E$1,$D444-1,0),OFFSET(Removed!E$1,$E444-1,0))","v":{"$error":"#N/A"}},{"$f":"CHOOSE(I444,OFFSET(DetailList!AU$1,$C444-1,0),\"Pending: \"&OFFSET(DetailListPending!AU$1,$D444-1,0),\"REMOVED [\"&OFFSET(Removed!AU$1,$E444-1,0)&\"]\")","v":{"$error":"#N/A"}},{"$error":"#N/A"},false,false]
[null,444,{"$f":"MATCH(B445,DetailList!AZ:AZ,0)","v":{"$error":"#N/A"}},{"$f":"MATCH(B445,DetailListPending!AZ:AZ,0)","v":{"$error":"#N/A"}},{"$f":"MATCH(B445,Removed!AZ$1:AZ$443,0)","v":{"$error":"#N/A"}},{"$f":"CHOOSE(I445,OFFSET(DetailList!C$1,$C445-1,0),\"PENDING: \"&OFFSET(DetailListPending!C$1,$D445-1,0),\"   REMOVED [\"&OFFSET(Removed!C$1,$E445-1,0)&\"]\")","v":{"$error":"#N/A"}},{"$f":"CHOOSE(I445,OFFSET(DetailList!E$1,$C445-1,0),OFFSET(DetailListPending!E$1,$D445-1,0),OFFSET(Removed!E$1,$E445-1,0))","v":{"$error":"#N/A"}},{"$f":"CHOOSE(I445,OFFSET(DetailList!AU$1,$C445-1,0),\"Pending: \"&OFFSET(DetailListPending!AU$1,$D445-1,0),\"REMOVED [\"&OFFSET(Removed!AU$1,$E445-1,0)&\"]\")","v":{"$error":"#N/A"}},{"$error":"#N/A"},false,false]
[null,445,{"$f":"MATCH(B446,DetailList!AZ:AZ,0)","v":{"$error":"#N/A"}},{"$f":"MATCH(B446,DetailListPending!AZ:AZ,0)","v":{"$error":"#N/A"}},{"$f":"MATCH(B446,Removed!AZ$1:AZ$443,0)","v":{"$error":"#N/A"}},{"$f":"CHOOSE(I446,OFFSET(DetailList!C$1,$C446-1,0),\"PENDING: \"&OFFSET(DetailListPending!C$1,$D446-1,0),\"   REMOVED [\"&OFFSET(Removed!C$1,$E446-1,0)&\"]\")","v":{"$error":"#N/A"}},{"$f":"CHOOSE(I446,OFFSET(DetailList!E$1,$C446-1,0),OFFSET(DetailListPending!E$1,$D446-1,0),OFFSET(Removed!E$1,$E446-1,0))","v":{"$error":"#N/A"}},{"$f":"CHOOSE(I446,OFFSET(DetailList!AU$1,$C446-1,0),\"Pending: \"&OFFSET(DetailListPending!AU$1,$D446-1,0),\"REMOVED [\"&OFFSET(Removed!AU$1,$E446-1,0)&\"]\")","v":{"$error":"#N/A"}},{"$error":"#N/A"},false,false]
[null,446,{"$f":"MATCH(B447,DetailList!AZ:AZ,0)","v":{"$error":"#N/A"}},{"$f":"MATCH(B447,DetailListPending!AZ:AZ,0)","v":{"$error":"#N/A"}},{"$f":"MATCH(B447,Removed!AZ$1:AZ$443,0)","v":{"$error":"#N/A"}},{"$f":"CHOOSE(I447,OFFSET(DetailList!C$1,$C447-1,0),\"PENDING: \"&OFFSET(DetailListPending!C$1,$D447-1,0),\"   REMOVED [\"&OFFSET(Removed!C$1,$E447-1,0)&\"]\")","v":{"$error":"#N/A"}},{"$f":"CHOOSE(I447,OFFSET(DetailList!E$1,$C447-1,0),OFFSET(DetailListPending!E$1,$D447-1,0),OFFSET(Removed!E$1,$E447-1,0))","v":{"$error":"#N/A"}},{"$f":"CHOOSE(I447,OFFSET(DetailList!AU$1,$C447-1,0),\"Pending: \"&OFFSET(DetailListPending!AU$1,$D447-1,0),\"REMOVED [\"&OFFSET(Removed!AU$1,$E447-1,0)&\"]\")","v":{"$error":"#N/A"}},{"$error":"#N/A"},false,false]
[null,447,{"$f":"MATCH(B448,DetailList!AZ:AZ,0)","v":{"$error":"#N/A"}},{"$f":"MATCH(B448,DetailListPending!AZ:AZ,0)","v":{"$error":"#N/A"}},{"$f":"MATCH(B448,Removed!AZ$1:AZ$443,0)","v":{"$error":"#N/A"}},{"$f":"CHOOSE(I448,OFFSET(DetailList!C$1,$C448-1,0),\"PENDING: \"&OFFSET(DetailListPending!C$1,$D448-1,0),\"   REMOVED [\"&OFFSET(Removed!C$1,$E448-1,0)&\"]\")","v":{"$error":"#N/A"}},{"$f":"CHOOSE(I448,OFFSET(DetailList!E$1,$C448-1,0),OFFSET(DetailListPending!E$1,$D448-1,0),OFFSET(Removed!E$1,$E448-1,0))","v":{"$error":"#N/A"}},{"$f":"CHOOSE(I448,OFFSET(DetailList!AU$1,$C448-1,0),\"Pending: \"&OFFSET(DetailListPending!AU$1,$D448-1,0),\"REMOVED [\"&OFFSET(Removed!AU$1,$E448-1,0)&\"]\")","v":{"$error":"#N/A"}},{"$error":"#N/A"},false,false]
[null,448,{"$f":"MATCH(B449,DetailList!AZ:AZ,0)","v":{"$error":"#N/A"}},{"$f":"MATCH(B449,DetailListPending!AZ:AZ,0)","v":{"$error":"#N/A"}},{"$f":"MATCH(B449,Removed!AZ$1:AZ$443,0)","v":{"$error":"#N/A"}},{"$f":"CHOOSE(I449,OFFSET(DetailList!C$1,$C449-1,0),\"PENDING: \"&OFFSET(DetailListPending!C$1,$D449-1,0),\"   REMOVED [\"&OFFSET(Removed!C$1,$E449-1,0)&\"]\")","v":{"$error":"#N/A"}},{"$f":"CHOOSE(I449,OFFSET(DetailList!E$1,$C449-1,0),OFFSET(DetailListPending!E$1,$D449-1,0),OFFSET(Removed!E$1,$E449-1,0))","v":{"$error":"#N/A"}},{"$f":"CHOOSE(I449,OFFSET(DetailList!AU$1,$C449-1,0),\"Pending: \"&OFFSET(DetailListPending!AU$1,$D449-1,0),\"REMOVED [\"&OFFSET(Removed!AU$1,$E449-1,0)&\"]\")","v":{"$error":"#N/A"}},{"$error":"#N/A"},false,false]
[null,449,{"$f":"MATCH(B450,DetailList!AZ:AZ,0)","v":{"$error":"#N/A"}},{"$f":"MATCH(B450,DetailListPending!AZ:AZ,0)","v":{"$error":"#N/A"}},{"$f":"MATCH(B450,Removed!AZ$1:AZ$443,0)","v":{"$error":"#N/A"}},{"$f":"CHOOSE(I450,OFFSET(DetailList!C$1,$C450-1,0),\"PENDING: \"&OFFSET(DetailListPending!C$1,$D450-1,0),\"   REMOVED [\"&OFFSET(Removed!C$1,$E450-1,0)&\"]\")","v":{"$error":"#N/A"}},{"$f":"CHOOSE(I450,OFFSET(DetailList!E$1,$C450-1,0),OFFSET(DetailListPending!E$1,$D450-1,0),OFFSET(Removed!E$1,$E450-1,0))","v":{"$error":"#N/A"}},{"$f":"CHOOSE(I450,OFFSET(DetailList!AU$1,$C450-1,0),\"Pending: \"&OFFSET(DetailListPending!AU$1,$D450-1,0),\"REMOVED [\"&OFFSET(Removed!AU$1,$E450-1,0)&\"]\")","v":{"$error":"#N/A"}},{"$f":"IF(ISNUMBER(C450),1,IF(ISNUMBER(D450),2,IF(ISNUMBER(E450),3,NA())))","v":{"$error":"#N/A"}},false,false]
[null,450,{"$f":"MATCH(B451,DetailList!AZ:AZ,0)","v":{"$error":"#N/A"}},{"$f":"MATCH(B451,DetailListPending!AZ:AZ,0)","v":{"$error":"#N/A"}},{"$f":"MATCH(B451,Removed!AZ$1:AZ$443,0)","v":{"$error":"#N/A"}},{"$f":"CHOOSE(I451,OFFSET(DetailList!C$1,$C451-1,0),\"PENDING: \"&OFFSET(DetailListPending!C$1,$D451-1,0),\"   REMOVED [\"&OFFSET(Removed!C$1,$E451-1,0)&\"]\")","v":{"$error":"#N/A"}},{"$f":"CHOOSE(I451,OFFSET(DetailList!E$1,$C451-1,0),OFFSET(DetailListPending!E$1,$D451-1,0),OFFSET(Removed!E$1,$E451-1,0))","v":{"$error":"#N/A"}},{"$f":"CHOOSE(I451,OFFSET(DetailList!AU$1,$C451-1,0),\"Pending: \"&OFFSET(DetailListPending!AU$1,$D451-1,0),\"REMOVED [\"&OFFSET(Removed!AU$1,$E451-1,0)&\"]\")","v":{"$error":"#N/A"}},{"$error":"#N/A"},{"$f":"NOT(ISNA(I451))","v":false},{"$f":"AND(J451,COUNTIF(C451:E451,NA())<>2)","v":false}]
[null,451,{"$f":"MATCH(B452,DetailList!AZ:AZ,0)","v":{"$error":"#N/A"}},{"$f":"MATCH(B452,DetailListPending!AZ:AZ,0)","v":{"$error":"#N/A"}},{"$f":"MATCH(B452,Removed!AZ$1:AZ$443,0)","v":{"$error":"#N/A"}},{"$f":"CHOOSE(I452,OFFSET(DetailList!C$1,$C452-1,0),\"PENDING: \"&OFFSET(DetailListPending!C$1,$D452-1,0),\"   REMOVED [\"&OFFSET(Removed!C$1,$E452-1,0)&\"]\")","v":{"$error":"#N/A"}},{"$f":"CHOOSE(I452,OFFSET(DetailList!E$1,$C452-1,0),OFFSET(DetailListPending!E$1,$D452-1,0),OFFSET(Removed!E$1,$E452-1,0))","v":{"$error":"#N/A"}},{"$f":"CHOOSE(I452,OFFSET(DetailList!AU$1,$C452-1,0),\"Pending: \"&OFFSET(DetailListPending!AU$1,$D452-1,0),\"REMOVED [\"&OFFSET(Removed!AU$1,$E452-1,0)&\"]\")","v":{"$error":"#N/A"}},{"$error":"#N/A"},false,false]
[null,452,{"$f":"MATCH(B453,DetailList!AZ:AZ,0)","v":{"$error":"#N/A"}},{"$f":"MATCH(B453,DetailListPending!AZ:AZ,0)","v":{"$error":"#N/A"}},{"$f":"MATCH(B453,Removed!AZ$1:AZ$443,0)","v":{"$error":"#N/A"}},{"$f":"CHOOSE(I453,OFFSET(DetailList!C$1,$C453-1,0),\"PENDING: \"&OFFSET(DetailListPending!C$1,$D453-1,0),\"   REMOVED [\"&OFFSET(Removed!C$1,$E453-1,0)&\"]\")","v":{"$error":"#N/A"}},{"$f":"CHOOSE(I453,OFFSET(DetailList!E$1,$C453-1,0),OFFSET(DetailListPending!E$1,$D453-1,0),OFFSET(Removed!E$1,$E453-1,0))","v":{"$error":"#N/A"}},{"$f":"CHOOSE(I453,OFFSET(DetailList!AU$1,$C453-1,0),\"Pending: \"&OFFSET(DetailListPending!AU$1,$D453-1,0),\"REMOVED [\"&OFFSET(Removed!AU$1,$E453-1,0)&\"]\")","v":{"$error":"#N/A"}},{"$error":"#N/A"},false,false]
[null,453,{"$f":"MATCH(B454,DetailList!AZ:AZ,0)","v":{"$error":"#N/A"}},{"$f":"MATCH(B454,DetailListPending!AZ:AZ,0)","v":{"$error":"#N/A"}},{"$f":"MATCH(B454,Removed!AZ$1:AZ$443,0)","v":{"$error":"#N/A"}},{"$f":"CHOOSE(I454,OFFSET(DetailList!C$1,$C454-1,0),\"PENDING: \"&OFFSET(DetailListPending!C$1,$D454-1,0),\"   REMOVED [\"&OFFSET(Removed!C$1,$E454-1,0)&\"]\")","v":{"$error":"#N/A"}},{"$f":"CHOOSE(I454,OFFSET(DetailList!E$1,$C454-1,0),OFFSET(DetailListPending!E$1,$D454-1,0),OFFSET(Removed!E$1,$E454-1,0))","v":{"$error":"#N/A"}},{"$f":"CHOOSE(I454,OFFSET(DetailList!AU$1,$C454-1,0),\"Pending: \"&OFFSET(DetailListPending!AU$1,$D454-1,0),\"REMOVED [\"&OFFSET(Removed!AU$1,$E454-1,0)&\"]\")","v":{"$error":"#N/A"}},{"$error":"#N/A"},false,false]
[null,454,{"$f":"MATCH(B455,DetailList!AZ:AZ,0)","v":{"$error":"#N/A"}},{"$f":"MATCH(B455,DetailListPending!AZ:AZ,0)","v":{"$error":"#N/A"}},{"$f":"MATCH(B455,Removed!AZ$1:AZ$443,0)","v":{"$error":"#N/A"}},{"$f":"CHOOSE(I455,OFFSET(DetailList!C$1,$C455-1,0),\"PENDING: \"&OFFSET(DetailListPending!C$1,$D455-1,0),\"   REMOVED [\"&OFFSET(Removed!C$1,$E455-1,0)&\"]\")","v":{"$error":"#N/A"}},{"$f":"CHOOSE(I455,OFFSET(DetailList!E$1,$C455-1,0),OFFSET(DetailListPending!E$1,$D455-1,0),OFFSET(Removed!E$1,$E455-1,0))","v":{"$error":"#N/A"}},{"$f":"CHOOSE(I455,OFFSET(DetailList!AU$1,$C455-1,0),\"Pending: \"&OFFSET(DetailListPending!AU$1,$D455-1,0),\"REMOVED [\"&OFFSET(Removed!AU$1,$E455-1,0)&\"]\")","v":{"$error":"#N/A"}},{"$error":"#N/A"},false,false]
[null,455,{"$f":"MATCH(B456,DetailList!AZ:AZ,0)","v":{"$error":"#N/A"}},{"$f":"MATCH(B456,DetailListPending!AZ:AZ,0)","v":{"$error":"#N/A"}},{"$f":"MATCH(B456,Removed!AZ$1:AZ$443,0)","v":{"$error":"#N/A"}},{"$f":"CHOOSE(I456,OFFSET(DetailList!C$1,$C456-1,0),\"PENDING: \"&OFFSET(DetailListPending!C$1,$D456-1,0),\"   REMOVED [\"&OFFSET(Removed!C$1,$E456-1,0)&\"]\")","v":{"$error":"#N/A"}},{"$f":"CHOOSE(I456,OFFSET(DetailList!E$1,$C456-1,0),OFFSET(DetailListPending!E$1,$D456-1,0),OFFSET(Removed!E$1,$E456-1,0))","v":{"$error":"#N/A"}},{"$f":"CHOOSE(I456,OFFSET(DetailList!AU$1,$C456-1,0),\"Pending: \"&OFFSET(DetailListPending!AU$1,$D456-1,0),\"REMOVED [\"&OFFSET(Removed!AU$1,$E456-1,0)&\"]\")","v":{"$error":"#N/A"}},{"$error":"#N/A"},false,false]
[null,456,{"$f":"MATCH(B457,DetailList!AZ:AZ,0)","v":{"$error":"#N/A"}},{"$f":"MATCH(B457,DetailListPending!AZ:AZ,0)","v":{"$error":"#N/A"}},{"$f":"MATCH(B457,Removed!AZ$1:AZ$443,0)","v":{"$error":"#N/A"}},{"$f":"CHOOSE(I457,OFFSET(DetailList!C$1,$C457-1,0),\"PENDING: \"&OFFSET(DetailListPending!C$1,$D457-1,0),\"   REMOVED [\"&OFFSET(Removed!C$1,$E457-1,0)&\"]\")","v":{"$error":"#N/A"}},{"$f":"CHOOSE(I457,OFFSET(DetailList!E$1,$C457-1,0),OFFSET(DetailListPending!E$1,$D457-1,0),OFFSET(Removed!E$1,$E457-1,0))","v":{"$error":"#N/A"}},{"$f":"CHOOSE(I457,OFFSET(DetailList!AU$1,$C457-1,0),\"Pending: \"&OFFSET(DetailListPending!AU$1,$D457-1,0),\"REMOVED [\"&OFFSET(Removed!AU$1,$E457-1,0)&\"]\")","v":{"$error":"#N/A"}},{"$error":"#N/A"},false,false]
[null,457,{"$f":"MATCH(B458,DetailList!AZ:AZ,0)","v":{"$error":"#N/A"}},{"$f":"MATCH(B458,DetailListPending!AZ:AZ,0)","v":{"$error":"#N/A"}},{"$f":"MATCH(B458,Removed!AZ$1:AZ$443,0)","v":{"$error":"#N/A"}},{"$f":"CHOOSE(I458,OFFSET(DetailList!C$1,$C458-1,0),\"PENDING: \"&OFFSET(DetailListPending!C$1,$D458-1,0),\"   REMOVED [\"&OFFSET(Removed!C$1,$E458-1,0)&\"]\")","v":{"$error":"#N/A"}},{"$f":"CHOOSE(I458,OFFSET(DetailList!E$1,$C458-1,0),OFFSET(DetailListPending!E$1,$D458-1,0),OFFSET(Removed!E$1,$E458-1,0))","v":{"$error":"#N/A"}},{"$f":"CHOOSE(I458,OFFSET(DetailList!AU$1,$C458-1,0),\"Pending: \"&OFFSET(DetailListPending!AU$1,$D458-1,0),\"REMOVED [\"&OFFSET(Removed!AU$1,$E458-1,0)&\"]\")","v":{"$error":"#N/A"}},{"$error":"#N/A"},false,false]
[null,458,{"$f":"MATCH(B459,DetailList!AZ:AZ,0)","v":{"$error":"#N/A"}},{"$f":"MATCH(B459,DetailListPending!AZ:AZ,0)","v":{"$error":"#N/A"}},{"$f":"MATCH(B459,Removed!AZ$1:AZ$443,0)","v":{"$error":"#N/A"}},{"$f":"CHOOSE(I459,OFFSET(DetailList!C$1,$C459-1,0),\"PENDING: \"&OFFSET(DetailListPending!C$1,$D459-1,0),\"   REMOVED [\"&OFFSET(Removed!C$1,$E459-1,0)&\"]\")","v":{"$error":"#N/A"}},{"$f":"CHOOSE(I459,OFFSET(DetailList!E$1,$C459-1,0),OFFSET(DetailListPending!E$1,$D459-1,0),OFFSET(Removed!E$1,$E459-1,0))","v":{"$error":"#N/A"}},{"$f":"CHOOSE(I459,OFFSET(DetailList!AU$1,$C459-1,0),\"Pending: \"&OFFSET(DetailListPending!AU$1,$D459-1,0),\"REMOVED [\"&OFFSET(Removed!AU$1,$E459-1,0)&\"]\")","v":{"$error":"#N/A"}},{"$error":"#N/A"},false,false]
[null,459,{"$f":"MATCH(B460,DetailList!AZ:AZ,0)","v":{"$error":"#N/A"}},{"$f":"MATCH(B460,DetailListPending!AZ:AZ,0)","v":{"$error":"#N/A"}},{"$f":"MATCH(B460,Removed!AZ$1:AZ$443,0)","v":{"$error":"#N/A"}},{"$f":"CHOOSE(I460,OFFSET(DetailList!C$1,$C460-1,0),\"PENDING: \"&OFFSET(DetailListPending!C$1,$D460-1,0),\"   REMOVED [\"&OFFSET(Removed!C$1,$E460-1,0)&\"]\")","v":{"$error":"#N/A"}},{"$f":"CHOOSE(I460,OFFSET(DetailList!E$1,$C460-1,0),OFFSET(DetailListPending!E$1,$D460-1,0),OFFSET(Removed!E$1,$E460-1,0))","v":{"$error":"#N/A"}},{"$f":"CHOOSE(I460,OFFSET(DetailList!AU$1,$C460-1,0),\"Pending: \"&OFFSET(DetailListPending!AU$1,$D460-1,0),\"REMOVED [\"&OFFSET(Removed!AU$1,$E460-1,0)&\"]\")","v":{"$error":"#N/A"}},{"$error":"#N/A"},false,false]
[null,460,{"$f":"MATCH(B461,DetailList!AZ:AZ,0)","v":{"$error":"#N/A"}},{"$f":"MATCH(B461,DetailListPending!AZ:AZ,0)","v":{"$error":"#N/A"}},{"$f":"MATCH(B461,Removed!AZ$1:AZ$443,0)","v":{"$error":"#N/A"}},{"$f":"CHOOSE(I461,OFFSET(DetailList!C$1,$C461-1,0),\"PENDING: \"&OFFSET(DetailListPending!C$1,$D461-1,0),\"   REMOVED [\"&OFFSET(Removed!C$1,$E461-1,0)&\"]\")","v":{"$error":"#N/A"}},{"$f":"CHOOSE(I461,OFFSET(DetailList!E$1,$C461-1,0),OFFSET(DetailListPending!E$1,$D461-1,0),OFFSET(Removed!E$1,$E461-1,0))","v":{"$error":"#N/A"}},{"$f":"CHOOSE(I461,OFFSET(DetailList!AU$1,$C461-1,0),\"Pending: \"&OFFSET(DetailListPending!AU$1,$D461-1,0),\"REMOVED [\"&OFFSET(Removed!AU$1,$E461-1,0)&\"]\")","v":{"$error":"#N/A"}},{"$error":"#N/A"},false,false]
[null,461,{"$f":"MATCH(B462,DetailList!AZ:AZ,0)","v":{"$error":"#N/A"}},{"$f":"MATCH(B462,DetailListPending!AZ:AZ,0)","v":{"$error":"#N/A"}},{"$f":"MATCH(B462,Removed!AZ$1:AZ$443,0)","v":{"$error":"#N/A"}},{"$f":"CHOOSE(I462,OFFSET(DetailList!C$1,$C462-1,0),\"PENDING: \"&OFFSET(DetailListPending!C$1,$D462-1,0),\"   REMOVED [\"&OFFSET(Removed!C$1,$E462-1,0)&\"]\")","v":{"$error":"#N/A"}},{"$f":"CHOOSE(I462,OFFSET(DetailList!E$1,$C462-1,0),OFFSET(DetailListPending!E$1,$D462-1,0),OFFSET(Removed!E$1,$E462-1,0))","v":{"$error":"#N/A"}},{"$f":"CHOOSE(I462,OFFSET(DetailList!AU$1,$C462-1,0),\"Pending: \"&OFFSET(DetailListPending!AU$1,$D462-1,0),\"REMOVED [\"&OFFSET(Removed!AU$1,$E462-1,0)&\"]\")","v":{"$error":"#N/A"}},{"$error":"#N/A"},false,false]
[null,462,{"$f":"MATCH(B463,DetailList!AZ:AZ,0)","v":{"$error":"#N/A"}},{"$f":"MATCH(B463,DetailListPending!AZ:AZ,0)","v":{"$error":"#N/A"}},{"$f":"MATCH(B463,Removed!AZ$1:AZ$443,0)","v":{"$error":"#N/A"}},{"$f":"CHOOSE(I463,OFFSET(DetailList!C$1,$C463-1,0),\"PENDING: \"&OFFSET(DetailListPending!C$1,$D463-1,0),\"   REMOVED [\"&OFFSET(Removed!C$1,$E463-1,0)&\"]\")","v":{"$error":"#N/A"}},{"$f":"CHOOSE(I463,OFFSET(DetailList!E$1,$C463-1,0),OFFSET(DetailListPending!E$1,$D463-1,0),OFFSET(Removed!E$1,$E463-1,0))","v":{"$error":"#N/A"}},{"$f":"CHOOSE(I463,OFFSET(DetailList!AU$1,$C463-1,0),\"Pending: \"&OFFSET(DetailListPending!AU$1,$D463-1,0),\"REMOVED [\"&OFFSET(Removed!AU$1,$E463-1,0)&\"]\")","v":{"$error":"#N/A"}},{"$error":"#N/A"},false,false]
[null,463,{"$f":"MATCH(B464,DetailList!AZ:AZ,0)","v":{"$error":"#N/A"}},{"$f":"MATCH(B464,DetailListPending!AZ:AZ,0)","v":{"$error":"#N/A"}},{"$f":"MATCH(B464,Removed!AZ$1:AZ$443,0)","v":{"$error":"#N/A"}},{"$f":"CHOOSE(I464,OFFSET(DetailList!C$1,$C464-1,0),\"PENDING: \"&OFFSET(DetailListPending!C$1,$D464-1,0),\"   REMOVED [\"&OFFSET(Removed!C$1,$E464-1,0)&\"]\")","v":{"$error":"#N/A"}},{"$f":"CHOOSE(I464,OFFSET(DetailList!E$1,$C464-1,0),OFFSET(DetailListPending!E$1,$D464-1,0),OFFSET(Removed!E$1,$E464-1,0))","v":{"$error":"#N/A"}},{"$f":"CHOOSE(I464,OFFSET(DetailList!AU$1,$C464-1,0),\"Pending: \"&OFFSET(DetailListPending!AU$1,$D464-1,0),\"REMOVED [\"&OFFSET(Removed!AU$1,$E464-1,0)&\"]\")","v":{"$error":"#N/A"}},{"$error":"#N/A"},false,false]
[null,464,{"$f":"MATCH(B465,DetailList!AZ:AZ,0)","v":{"$error":"#N/A"}},{"$f":"MATCH(B465,DetailListPending!AZ:AZ,0)","v":{"$error":"#N/A"}},{"$f":"MATCH(B465,Removed!AZ$1:AZ$443,0)","v":{"$error":"#N/A"}},{"$f":"CHOOSE(I465,OFFSET(DetailList!C$1,$C465-1,0),\"PENDING: \"&OFFSET(DetailListPending!C$1,$D465-1,0),\"   REMOVED [\"&OFFSET(Removed!C$1,$E465-1,0)&\"]\")","v":{"$error":"#N/A"}},{"$f":"CHOOSE(I465,OFFSET(DetailList!E$1,$C465-1,0),OFFSET(DetailListPending!E$1,$D465-1,0),OFFSET(Removed!E$1,$E465-1,0))","v":{"$error":"#N/A"}},{"$f":"CHOOSE(I465,OFFSET(DetailList!AU$1,$C465-1,0),\"Pending: \"&OFFSET(DetailListPending!AU$1,$D465-1,0),\"REMOVED [\"&OFFSET(Removed!AU$1,$E465-1,0)&\"]\")","v":{"$error":"#N/A"}},{"$error":"#N/A"},false,false]
[null,465,{"$f":"MATCH(B466,DetailList!AZ:AZ,0)","v":{"$error":"#N/A"}},{"$f":"MATCH(B466,DetailListPending!AZ:AZ,0)","v":{"$error":"#N/A"}},{"$f":"MATCH(B466,Removed!AZ$1:AZ$443,0)","v":{"$error":"#N/A"}},{"$f":"CHOOSE(I466,OFFSET(DetailList!C$1,$C466-1,0),\"PENDING: \"&OFFSET(DetailListPending!C$1,$D466-1,0),\"   REMOVED [\"&OFFSET(Removed!C$1,$E466-1,0)&\"]\")","v":{"$error":"#N/A"}},{"$f":"CHOOSE(I466,OFFSET(DetailList!E$1,$C466-1,0),OFFSET(DetailListPending!E$1,$D466-1,0),OFFSET(Removed!E$1,$E466-1,0))","v":{"$error":"#N/A"}},{"$f":"CHOOSE(I466,OFFSET(DetailList!AU$1,$C466-1,0),\"Pending: \"&OFFSET(DetailListPending!AU$1,$D466-1,0),\"REMOVED [\"&OFFSET(Removed!AU$1,$E466-1,0)&\"]\")","v":{"$error":"#N/A"}},{"$error":"#N/A"},false,false]
[null,466,{"$f":"MATCH(B467,DetailList!AZ:AZ,0)","v":{"$error":"#N/A"}},{"$f":"MATCH(B467,DetailListPending!AZ:AZ,0)","v":{"$error":"#N/A"}},{"$f":"MATCH(B467,Removed!AZ$1:AZ$443,0)","v":{"$error":"#N/A"}},{"$f":"CHOOSE(I467,OFFSET(DetailList!C$1,$C467-1,0),\"PENDING: \"&OFFSET(DetailListPending!C$1,$D467-1,0),\"   REMOVED [\"&OFFSET(Removed!C$1,$E467-1,0)&\"]\")","v":{"$error":"#N/A"}},{"$f":"CHOOSE(I467,OFFSET(DetailList!E$1,$C467-1,0),OFFSET(DetailListPending!E$1,$D467-1,0),OFFSET(Removed!E$1,$E467-1,0))","v":{"$error":"#N/A"}},{"$f":"CHOOSE(I467,OFFSET(DetailList!AU$1,$C467-1,0),\"Pending: \"&OFFSET(DetailListPending!AU$1,$D467-1,0),\"REMOVED [\"&OFFSET(Removed!AU$1,$E467-1,0)&\"]\")","v":{"$error":"#N/A"}},{"$error":"#N/A"},false,false]
[null,467,{"$f":"MATCH(B468,DetailList!AZ:AZ,0)","v":{"$error":"#N/A"}},{"$f":"MATCH(B468,DetailListPending!AZ:AZ,0)","v":{"$error":"#N/A"}},{"$f":"MATCH(B468,Removed!AZ$1:AZ$443,0)","v":{"$error":"#N/A"}},{"$f":"CHOOSE(I468,OFFSET(DetailList!C$1,$C468-1,0),\"PENDING: \"&OFFSET(DetailListPending!C$1,$D468-1,0),\"   REMOVED [\"&OFFSET(Removed!C$1,$E468-1,0)&\"]\")","v":{"$error":"#N/A"}},{"$f":"CHOOSE(I468,OFFSET(DetailList!E$1,$C468-1,0),OFFSET(DetailListPending!E$1,$D468-1,0),OFFSET(Removed!E$1,$E468-1,0))","v":{"$error":"#N/A"}},{"$f":"CHOOSE(I468,OFFSET(DetailList!AU$1,$C468-1,0),\"Pending: \"&OFFSET(DetailListPending!AU$1,$D468-1,0),\"REMOVED [\"&OFFSET(Removed!AU$1,$E468-1,0)&\"]\")","v":{"$error":"#N/A"}},{"$error":"#N/A"},false,false]
[null,468,{"$f":"MATCH(B469,DetailList!AZ:AZ,0)","v":{"$error":"#N/A"}},{"$f":"MATCH(B469,DetailListPending!AZ:AZ,0)","v":{"$error":"#N/A"}},{"$f":"MATCH(B469,Removed!AZ$1:AZ$443,0)","v":{"$error":"#N/A"}},{"$f":"CHOOSE(I469,OFFSET(DetailList!C$1,$C469-1,0),\"PENDING: \"&OFFSET(DetailListPending!C$1,$D469-1,0),\"   REMOVED [\"&OFFSET(Removed!C$1,$E469-1,0)&\"]\")","v":{"$error":"#N/A"}},{"$f":"CHOOSE(I469,OFFSET(DetailList!E$1,$C469-1,0),OFFSET(DetailListPending!E$1,$D469-1,0),OFFSET(Removed!E$1,$E469-1,0))","v":{"$error":"#N/A"}},{"$f":"CHOOSE(I469,OFFSET(DetailList!AU$1,$C469-1,0),\"Pending: \"&OFFSET(DetailListPending!AU$1,$D469-1,0),\"REMOVED [\"&OFFSET(Removed!AU$1,$E469-1,0)&\"]\")","v":{"$error":"#N/A"}},{"$error":"#N/A"},false,false]
[null,469,{"$f":"MATCH(B470,DetailList!AZ:AZ,0)","v":{"$error":"#N/A"}},{"$f":"MATCH(B470,DetailListPending!AZ:AZ,0)","v":{"$error":"#N/A"}},{"$f":"MATCH(B470,Removed!AZ$1:AZ$443,0)","v":{"$error":"#N/A"}},{"$f":"CHOOSE(I470,OFFSET(DetailList!C$1,$C470-1,0),\"PENDING: \"&OFFSET(DetailListPending!C$1,$D470-1,0),\"   REMOVED [\"&OFFSET(Removed!C$1,$E470-1,0)&\"]\")","v":{"$error":"#N/A"}},{"$f":"CHOOSE(I470,OFFSET(DetailList!E$1,$C470-1,0),OFFSET(DetailListPending!E$1,$D470-1,0),OFFSET(Removed!E$1,$E470-1,0))","v":{"$error":"#N/A"}},{"$f":"CHOOSE(I470,OFFSET(DetailList!AU$1,$C470-1,0),\"Pending: \"&OFFSET(DetailListPending!AU$1,$D470-1,0),\"REMOVED [\"&OFFSET(Removed!AU$1,$E470-1,0)&\"]\")","v":{"$error":"#N/A"}},{"$error":"#N/A"},false,false]
[null,470,{"$f":"MATCH(B471,DetailList!AZ:AZ,0)","v":{"$error":"#N/A"}},{"$f":"MATCH(B471,DetailListPending!AZ:AZ,0)","v":{"$error":"#N/A"}},{"$f":"MATCH(B471,Removed!AZ$1:AZ$443,0)","v":{"$error":"#N/A"}},{"$f":"CHOOSE(I471,OFFSET(DetailList!C$1,$C471-1,0),\"PENDING: \"&OFFSET(DetailListPending!C$1,$D471-1,0),\"   REMOVED [\"&OFFSET(Removed!C$1,$E471-1,0)&\"]\")","v":{"$error":"#N/A"}},{"$f":"CHOOSE(I471,OFFSET(DetailList!E$1,$C471-1,0),OFFSET(DetailListPending!E$1,$D471-1,0),OFFSET(Removed!E$1,$E471-1,0))","v":{"$error":"#N/A"}},{"$f":"CHOOSE(I471,OFFSET(DetailList!AU$1,$C471-1,0),\"Pending: \"&OFFSET(DetailListPending!AU$1,$D471-1,0),\"REMOVED [\"&OFFSET(Removed!AU$1,$E471-1,0)&\"]\")","v":{"$error":"#N/A"}},{"$error":"#N/A"},false,false]
[null,471,{"$f":"MATCH(B472,DetailList!AZ:AZ,0)","v":{"$error":"#N/A"}},{"$f":"MATCH(B472,DetailListPending!AZ:AZ,0)","v":{"$error":"#N/A"}},{"$f":"MATCH(B472,Removed!AZ$1:AZ$443,0)","v":{"$error":"#N/A"}},{"$f":"CHOOSE(I472,OFFSET(DetailList!C$1,$C472-1,0),\"PENDING: \"&OFFSET(DetailListPending!C$1,$D472-1,0),\"   REMOVED [\"&OFFSET(Removed!C$1,$E472-1,0)&\"]\")","v":{"$error":"#N/A"}},{"$f":"CHOOSE(I472,OFFSET(DetailList!E$1,$C472-1,0),OFFSET(DetailListPending!E$1,$D472-1,0),OFFSET(Removed!E$1,$E472-1,0))","v":{"$error":"#N/A"}},{"$f":"CHOOSE(I472,OFFSET(DetailList!AU$1,$C472-1,0),\"Pending: \"&OFFSET(DetailListPending!AU$1,$D472-1,0),\"REMOVED [\"&OFFSET(Removed!AU$1,$E472-1,0)&\"]\")","v":{"$error":"#N/A"}},{"$error":"#N/A"},false,false]
[null,472,{"$f":"MATCH(B473,DetailList!AZ:AZ,0)","v":{"$error":"#N/A"}},{"$f":"MATCH(B473,DetailListPending!AZ:AZ,0)","v":{"$error":"#N/A"}},{"$f":"MATCH(B473,Removed!AZ$1:AZ$443,0)","v":{"$error":"#N/A"}},{"$f":"CHOOSE(I473,OFFSET(DetailList!C$1,$C473-1,0),\"PENDING: \"&OFFSET(DetailListPending!C$1,$D473-1,0),\"   REMOVED [\"&OFFSET(Removed!C$1,$E473-1,0)&\"]\")","v":{"$error":"#N/A"}},{"$f":"CHOOSE(I473,OFFSET(DetailList!E$1,$C473-1,0),OFFSET(DetailListPending!E$1,$D473-1,0),OFFSET(Removed!E$1,$E473-1,0))","v":{"$error":"#N/A"}},{"$f":"CHOOSE(I473,OFFSET(DetailList!AU$1,$C473-1,0),\"Pending: \"&OFFSET(DetailListPending!AU$1,$D473-1,0),\"REMOVED [\"&OFFSET(Removed!AU$1,$E473-1,0)&\"]\")","v":{"$error":"#N/A"}},{"$error":"#N/A"},false,false]
[null,473,{"$f":"MATCH(B474,DetailList!AZ:AZ,0)","v":{"$error":"#N/A"}},{"$f":"MATCH(B474,DetailListPending!AZ:AZ,0)","v":{"$error":"#N/A"}},{"$f":"MATCH(B474,Removed!AZ$1:AZ$443,0)","v":{"$error":"#N/A"}},{"$f":"CHOOSE(I474,OFFSET(DetailList!C$1,$C474-1,0),\"PENDING: \"&OFFSET(DetailListPending!C$1,$D474-1,0),\"   REMOVED [\"&OFFSET(Removed!C$1,$E474-1,0)&\"]\")","v":{"$error":"#N/A"}},{"$f":"CHOOSE(I474,OFFSET(DetailList!E$1,$C474-1,0),OFFSET(DetailListPending!E$1,$D474-1,0),OFFSET(Removed!E$1,$E474-1,0))","v":{"$error":"#N/A"}},{"$f":"CHOOSE(I474,OFFSET(DetailList!AU$1,$C474-1,0),\"Pending: \"&OFFSET(DetailListPending!AU$1,$D474-1,0),\"REMOVED [\"&OFFSET(Removed!AU$1,$E474-1,0)&\"]\")","v":{"$error":"#N/A"}},{"$error":"#N/A"},false,false]
[null,474,{"$f":"MATCH(B475,DetailList!AZ:AZ,0)","v":{"$error":"#N/A"}},{"$f":"MATCH(B475,DetailListPending!AZ:AZ,0)","v":{"$error":"#N/A"}},{"$f":"MATCH(B475,Removed!AZ$1:AZ$443,0)","v":{"$error":"#N/A"}},{"$f":"CHOOSE(I475,OFFSET(DetailList!C$1,$C475-1,0),\"PENDING: \"&OFFSET(DetailListPending!C$1,$D475-1,0),\"   REMOVED [\"&OFFSET(Removed!C$1,$E475-1,0)&\"]\")","v":{"$error":"#N/A"}},{"$f":"CHOOSE(I475,OFFSET(DetailList!E$1,$C475-1,0),OFFSET(DetailListPending!E$1,$D475-1,0),OFFSET(Removed!E$1,$E475-1,0))","v":{"$error":"#N/A"}},{"$f":"CHOOSE(I475,OFFSET(DetailList!AU$1,$C475-1,0),\"Pending: \"&OFFSET(DetailListPending!AU$1,$D475-1,0),\"REMOVED [\"&OFFSET(Removed!AU$1,$E475-1,0)&\"]\")","v":{"$error":"#N/A"}},{"$error":"#N/A"},false,false]
[null,475,{"$f":"MATCH(B476,DetailList!AZ:AZ,0)","v":{"$error":"#N/A"}},{"$f":"MATCH(B476,DetailListPending!AZ:AZ,0)","v":{"$error":"#N/A"}},{"$f":"MATCH(B476,Removed!AZ$1:AZ$443,0)","v":{"$error":"#N/A"}},{"$f":"CHOOSE(I476,OFFSET(DetailList!C$1,$C476-1,0),\"PENDING: \"&OFFSET(DetailListPending!C$1,$D476-1,0),\"   REMOVED [\"&OFFSET(Removed!C$1,$E476-1,0)&\"]\")","v":{"$error":"#N/A"}},{"$f":"CHOOSE(I476,OFFSET(DetailList!E$1,$C476-1,0),OFFSET(DetailListPending!E$1,$D476-1,0),OFFSET(Removed!E$1,$E476-1,0))","v":{"$error":"#N/A"}},{"$f":"CHOOSE(I476,OFFSET(DetailList!AU$1,$C476-1,0),\"Pending: \"&OFFSET(DetailListPending!AU$1,$D476-1,0),\"REMOVED [\"&OFFSET(Removed!AU$1,$E476-1,0)&\"]\")","v":{"$error":"#N/A"}},{"$error":"#N/A"},false,false]
[null,476,{"$f":"MATCH(B477,DetailList!AZ:AZ,0)","v":{"$error":"#N/A"}},{"$f":"MATCH(B477,DetailListPending!AZ:AZ,0)","v":{"$error":"#N/A"}},{"$f":"MATCH(B477,Removed!AZ$1:AZ$443,0)","v":{"$error":"#N/A"}},{"$f":"CHOOSE(I477,OFFSET(DetailList!C$1,$C477-1,0),\"PENDING: \"&OFFSET(DetailListPending!C$1,$D477-1,0),\"   REMOVED [\"&OFFSET(Removed!C$1,$E477-1,0)&\"]\")","v":{"$error":"#N/A"}},{"$f":"CHOOSE(I477,OFFSET(DetailList!E$1,$C477-1,0),OFFSET(DetailListPending!E$1,$D477-1,0),OFFSET(Removed!E$1,$E477-1,0))","v":{"$error":"#N/A"}},{"$f":"CHOOSE(I477,OFFSET(DetailList!AU$1,$C477-1,0),\"Pending: \"&OFFSET(DetailListPending!AU$1,$D477-1,0),\"REMOVED [\"&OFFSET(Removed!AU$1,$E477-1,0)&\"]\")","v":{"$error":"#N/A"}},{"$error":"#N/A"},false,false]
[null,477,{"$f":"MATCH(B478,DetailList!AZ:AZ,0)","v":{"$error":"#N/A"}},{"$f":"MATCH(B478,DetailListPending!AZ:AZ,0)","v":{"$error":"#N/A"}},{"$f":"MATCH(B478,Removed!AZ$1:AZ$443,0)","v":{"$error":"#N/A"}},{"$f":"CHOOSE(I478,OFFSET(DetailList!C$1,$C478-1,0),\"PENDING: \"&OFFSET(DetailListPending!C$1,$D478-1,0),\"   REMOVED [\"&OFFSET(Removed!C$1,$E478-1,0)&\"]\")","v":{"$error":"#N/A"}},{"$f":"CHOOSE(I478,OFFSET(DetailList!E$1,$C478-1,0),OFFSET(DetailListPending!E$1,$D478-1,0),OFFSET(Removed!E$1,$E478-1,0))","v":{"$error":"#N/A"}},{"$f":"CHOOSE(I478,OFFSET(DetailList!AU$1,$C478-1,0),\"Pending: \"&OFFSET(DetailListPending!AU$1,$D478-1,0),\"REMOVED [\"&OFFSET(Removed!AU$1,$E478-1,0)&\"]\")","v":{"$error":"#N/A"}},{"$error":"#N/A"},false,false]
[null,478,{"$f":"MATCH(B479,DetailList!AZ:AZ,0)","v":{"$error":"#N/A"}},{"$f":"MATCH(B479,DetailListPending!AZ:AZ,0)","v":{"$error":"#N/A"}},{"$f":"MATCH(B479,Removed!AZ$1:AZ$443,0)","v":{"$error":"#N/A"}},{"$f":"CHOOSE(I479,OFFSET(DetailList!C$1,$C479-1,0),\"PENDING: \"&OFFSET(DetailListPending!C$1,$D479-1,0),\"   REMOVED [\"&OFFSET(Removed!C$1,$E479-1,0)&\"]\")","v":{"$error":"#N/A"}},{"$f":"CHOOSE(I479,OFFSET(DetailList!E$1,$C479-1,0),OFFSET(DetailListPending!E$1,$D479-1,0),OFFSET(Removed!E$1,$E479-1,0))","v":{"$error":"#N/A"}},{"$f":"CHOOSE(I479,OFFSET(DetailList!AU$1,$C479-1,0),\"Pending: \"&OFFSET(DetailListPending!AU$1,$D479-1,0),\"REMOVED [\"&OFFSET(Removed!AU$1,$E479-1,0)&\"]\")","v":{"$error":"#N/A"}},{"$error":"#N/A"},false,false]
[null,479,{"$f":"MATCH(B480,DetailList!AZ:AZ,0)","v":{"$error":"#N/A"}},{"$f":"MATCH(B480,DetailListPending!AZ:AZ,0)","v":{"$error":"#N/A"}},{"$f":"MATCH(B480,Removed!AZ$1:AZ$443,0)","v":{"$error":"#N/A"}},{"$f":"CHOOSE(I480,OFFSET(DetailList!C$1,$C480-1,0),\"PENDING: \"&OFFSET(DetailListPending!C$1,$D480-1,0),\"   REMOVED [\"&OFFSET(Removed!C$1,$E480-1,0)&\"]\")","v":{"$error":"#N/A"}},{"$f":"CHOOSE(I480,OFFSET(DetailList!E$1,$C480-1,0),OFFSET(DetailListPending!E$1,$D480-1,0),OFFSET(Removed!E$1,$E480-1,0))","v":{"$error":"#N/A"}},{"$f":"CHOOSE(I480,OFFSET(DetailList!AU$1,$C480-1,0),\"Pending: \"&OFFSET(DetailListPending!AU$1,$D480-1,0),\"REMOVED [\"&OFFSET(Removed!AU$1,$E480-1,0)&\"]\")","v":{"$error":"#N/A"}},{"$error":"#N/A"},false,false]
[null,480,{"$f":"MATCH(B481,DetailList!AZ:AZ,0)","v":{"$error":"#N/A"}},{"$f":"MATCH(B481,DetailListPending!AZ:AZ,0)","v":{"$error":"#N/A"}},{"$f":"MATCH(B481,Removed!AZ$1:AZ$443,0)","v":{"$error":"#N/A"}},{"$f":"CHOOSE(I481,OFFSET(DetailList!C$1,$C481-1,0),\"PENDING: \"&OFFSET(DetailListPending!C$1,$D481-1,0),\"   REMOVED [\"&OFFSET(Removed!C$1,$E481-1,0)&\"]\")","v":{"$error":"#N/A"}},{"$f":"CHOOSE(I481,OFFSET(DetailList!E$1,$C481-1,0),OFFSET(DetailListPending!E$1,$D481-1,0),OFFSET(Removed!E$1,$E481-1,0))","v":{"$error":"#N/A"}},{"$f":"CHOOSE(I481,OFFSET(DetailList!AU$1,$C481-1,0),\"Pending: \"&OFFSET(DetailListPending!AU$1,$D481-1,0),\"REMOVED [\"&OFFSET(Removed!AU$1,$E481-1,0)&\"]\")","v":{"$error":"#N/A"}},{"$error":"#N/A"},false,false]
[null,481,{"$f":"MATCH(B482,DetailList!AZ:AZ,0)","v":{"$error":"#N/A"}},{"$f":"MATCH(B482,DetailListPending!AZ:AZ,0)","v":{"$error":"#N/A"}},{"$f":"MATCH(B482,Removed!AZ$1:AZ$443,0)","v":{"$error":"#N/A"}},{"$f":"CHOOSE(I482,OFFSET(DetailList!C$1,$C482-1,0),\"PENDING: \"&OFFSET(DetailListPending!C$1,$D482-1,0),\"   REMOVED [\"&OFFSET(Removed!C$1,$E482-1,0)&\"]\")","v":{"$error":"#N/A"}},{"$f":"CHOOSE(I482,OFFSET(DetailList!E$1,$C482-1,0),OFFSET(DetailListPending!E$1,$D482-1,0),OFFSET(Removed!E$1,$E482-1,0))","v":{"$error":"#N/A"}},{"$f":"CHOOSE(I482,OFFSET(DetailList!AU$1,$C482-1,0),\"Pending: \"&OFFSET(DetailListPending!AU$1,$D482-1,0),\"REMOVED [\"&OFFSET(Removed!AU$1,$E482-1,0)&\"]\")","v":{"$error":"#N/A"}},{"$error":"#N/A"},false,false]
[null,482,{"$f":"MATCH(B483,DetailList!AZ:AZ,0)","v":{"$error":"#N/A"}},{"$f":"MATCH(B483,DetailListPending!AZ:AZ,0)","v":{"$error":"#N/A"}},{"$f":"MATCH(B483,Removed!AZ$1:AZ$443,0)","v":{"$error":"#N/A"}},{"$f":"CHOOSE(I483,OFFSET(DetailList!C$1,$C483-1,0),\"PENDING: \"&OFFSET(DetailListPending!C$1,$D483-1,0),\"   REMOVED [\"&OFFSET(Removed!C$1,$E483-1,0)&\"]\")","v":{"$error":"#N/A"}},{"$f":"CHOOSE(I483,OFFSET(DetailList!E$1,$C483-1,0),OFFSET(DetailListPending!E$1,$D483-1,0),OFFSET(Removed!E$1,$E483-1,0))","v":{"$error":"#N/A"}},{"$f":"CHOOSE(I483,OFFSET(DetailList!AU$1,$C483-1,0),\"Pending: \"&OFFSET(DetailListPending!AU$1,$D483-1,0),\"REMOVED [\"&OFFSET(Removed!AU$1,$E483-1,0)&\"]\")","v":{"$error":"#N/A"}},{"$error":"#N/A"},false,false]
[null,483,{"$f":"MATCH(B484,DetailList!AZ:AZ,0)","v":{"$error":"#N/A"}},{"$f":"MATCH(B484,DetailListPending!AZ:AZ,0)","v":{"$error":"#N/A"}},{"$f":"MATCH(B484,Removed!AZ$1:AZ$443,0)","v":{"$error":"#N/A"}},{"$f":"CHOOSE(I484,OFFSET(DetailList!C$1,$C484-1,0),\"PENDING: \"&OFFSET(DetailListPending!C$1,$D484-1,0),\"   REMOVED [\"&OFFSET(Removed!C$1,$E484-1,0)&\"]\")","v":{"$error":"#N/A"}},{"$f":"CHOOSE(I484,OFFSET(DetailList!E$1,$C484-1,0),OFFSET(DetailListPending!E$1,$D484-1,0),OFFSET(Removed!E$1,$E484-1,0))","v":{"$error":"#N/A"}},{"$f":"CHOOSE(I484,OFFSET(DetailList!AU$1,$C484-1,0),\"Pending: \"&OFFSET(DetailListPending!AU$1,$D484-1,0),\"REMOVED [\"&OFFSET(Removed!AU$1,$E484-1,0)&\"]\")","v":{"$error":"#N/A"}},{"$error":"#N/A"},false,false]
[null,484,{"$f":"MATCH(B485,DetailList!AZ:AZ,0)","v":{"$error":"#N/A"}},{"$f":"MATCH(B485,DetailListPending!AZ:AZ,0)","v":{"$error":"#N/A"}},{"$f":"MATCH(B485,Removed!AZ$1:AZ$443,0)","v":{"$error":"#N/A"}},{"$f":"CHOOSE(I485,OFFSET(DetailList!C$1,$C485-1,0),\"PENDING: \"&OFFSET(DetailListPending!C$1,$D485-1,0),\"   REMOVED [\"&OFFSET(Removed!C$1,$E485-1,0)&\"]\")","v":{"$error":"#N/A"}},{"$f":"CHOOSE(I485,OFFSET(DetailList!E$1,$C485-1,0),OFFSET(DetailListPending!E$1,$D485-1,0),OFFSET(Removed!E$1,$E485-1,0))","v":{"$error":"#N/A"}},{"$f":"CHOOSE(I485,OFFSET(DetailList!AU$1,$C485-1,0),\"Pending: \"&OFFSET(DetailListPending!AU$1,$D485-1,0),\"REMOVED [\"&OFFSET(Removed!AU$1,$E485-1,0)&\"]\")","v":{"$error":"#N/A"}},{"$error":"#N/A"},false,false]
[null,485,{"$f":"MATCH(B486,DetailList!AZ:AZ,0)","v":{"$error":"#N/A"}},{"$f":"MATCH(B486,DetailListPending!AZ:AZ,0)","v":{"$error":"#N/A"}},{"$f":"MATCH(B486,Removed!AZ$1:AZ$443,0)","v":{"$error":"#N/A"}},{"$f":"CHOOSE(I486,OFFSET(DetailList!C$1,$C486-1,0),\"PENDING: \"&OFFSET(DetailListPending!C$1,$D486-1,0),\"   REMOVED [\"&OFFSET(Removed!C$1,$E486-1,0)&\"]\")","v":{"$error":"#N/A"}},{"$f":"CHOOSE(I486,OFFSET(DetailList!E$1,$C486-1,0),OFFSET(DetailListPending!E$1,$D486-1,0),OFFSET(Removed!E$1,$E486-1,0))","v":{"$error":"#N/A"}},{"$f":"CHOOSE(I486,OFFSET(DetailList!AU$1,$C486-1,0),\"Pending: \"&OFFSET(DetailListPending!AU$1,$D486-1,0),\"REMOVED [\"&OFFSET(Removed!AU$1,$E486-1,0)&\"]\")","v":{"$error":"#N/A"}},{"$error":"#N/A"},false,false]
[null,486,{"$f":"MATCH(B487,DetailList!AZ:AZ,0)","v":{"$error":"#N/A"}},{"$f":"MATCH(B487,DetailListPending!AZ:AZ,0)","v":{"$error":"#N/A"}},{"$f":"MATCH(B487,Removed!AZ$1:AZ$443,0)","v":{"$error":"#N/A"}},{"$f":"CHOOSE(I487,OFFSET(DetailList!C$1,$C487-1,0),\"PENDING: \"&OFFSET(DetailListPending!C$1,$D487-1,0),\"   REMOVED [\"&OFFSET(Removed!C$1,$E487-1,0)&\"]\")","v":{"$error":"#N/A"}},{"$f":"CHOOSE(I487,OFFSET(DetailList!E$1,$C487-1,0),OFFSET(DetailListPending!E$1,$D487-1,0),OFFSET(Removed!E$1,$E487-1,0))","v":{"$error":"#N/A"}},{"$f":"CHOOSE(I487,OFFSET(DetailList!AU$1,$C487-1,0),\"Pending: \"&OFFSET(DetailListPending!AU$1,$D487-1,0),\"REMOVED [\"&OFFSET(Removed!AU$1,$E487-1,0)&\"]\")","v":{"$error":"#N/A"}},{"$error":"#N/A"},false,false]
[null,487,{"$f":"MATCH(B488,DetailList!AZ:AZ,0)","v":{"$error":"#N/A"}},{"$f":"MATCH(B488,DetailListPending!AZ:AZ,0)","v":{"$error":"#N/A"}},{"$f":"MATCH(B488,Removed!AZ$1:AZ$443,0)","v":{"$error":"#N/A"}},{"$f":"CHOOSE(I488,OFFSET(DetailList!C$1,$C488-1,0),\"PENDING: \"&OFFSET(DetailListPending!C$1,$D488-1,0),\"   REMOVED [\"&OFFSET(Removed!C$1,$E488-1,0)&\"]\")","v":{"$error":"#N/A"}},{"$f":"CHOOSE(I488,OFFSET(DetailList!E$1,$C488-1,0),OFFSET(DetailListPending!E$1,$D488-1,0),OFFSET(Removed!E$1,$E488-1,0))","v":{"$error":"#N/A"}},{"$f":"CHOOSE(I488,OFFSET(DetailList!AU$1,$C488-1,0),\"Pending: \"&OFFSET(DetailListPending!AU$1,$D488-1,0),\"REMOVED [\"&OFFSET(Removed!AU$1,$E488-1,0)&\"]\")","v":{"$error":"#N/A"}},{"$error":"#N/A"},false,false]
[null,488,{"$f":"MATCH(B489,DetailList!AZ:AZ,0)","v":{"$error":"#N/A"}},{"$f":"MATCH(B489,DetailListPending!AZ:AZ,0)","v":{"$error":"#N/A"}},{"$f":"MATCH(B489,Removed!AZ$1:AZ$443,0)","v":{"$error":"#N/A"}},{"$f":"CHOOSE(I489,OFFSET(DetailList!C$1,$C489-1,0),\"PENDING: \"&OFFSET(DetailListPending!C$1,$D489-1,0),\"   REMOVED [\"&OFFSET(Removed!C$1,$E489-1,0)&\"]\")","v":{"$error":"#N/A"}},{"$f":"CHOOSE(I489,OFFSET(DetailList!E$1,$C489-1,0),OFFSET(DetailListPending!E$1,$D489-1,0),OFFSET(Removed!E$1,$E489-1,0))","v":{"$error":"#N/A"}},{"$f":"CHOOSE(I489,OFFSET(DetailList!AU$1,$C489-1,0),\"Pending: \"&OFFSET(DetailListPending!AU$1,$D489-1,0),\"REMOVED [\"&OFFSET(Removed!AU$1,$E489-1,0)&\"]\")","v":{"$error":"#N/A"}},{"$error":"#N/A"},false,false]
[null,489,{"$f":"MATCH(B490,DetailList!AZ:AZ,0)","v":{"$error":"#N/A"}},{"$f":"MATCH(B490,DetailListPending!AZ:AZ,0)","v":{"$error":"#N/A"}},{"$f":"MATCH(B490,Removed!AZ$1:AZ$443,0)","v":{"$error":"#N/A"}},{"$f":"CHOOSE(I490,OFFSET(DetailList!C$1,$C490-1,0),\"PENDING: \"&OFFSET(DetailListPending!C$1,$D490-1,0),\"   REMOVED [\"&OFFSET(Removed!C$1,$E490-1,0)&\"]\")","v":{"$error":"#N/A"}},{"$f":"CHOOSE(I490,OFFSET(DetailList!E$1,$C490-1,0),OFFSET(DetailListPending!E$1,$D490-1,0),OFFSET(Removed!E$1,$E490-1,0))","v":{"$error":"#N/A"}},{"$f":"CHOOSE(I490,OFFSET(DetailList!AU$1,$C490-1,0),\"Pending: \"&OFFSET(DetailListPending!AU$1,$D490-1,0),\"REMOVED [\"&OFFSET(Removed!AU$1,$E490-1,0)&\"]\")","v":{"$error":"#N/A"}},{"$error":"#N/A"},false,false]
[null,490,{"$f":"MATCH(B491,DetailList!AZ:AZ,0)","v":{"$error":"#N/A"}},{"$f":"MATCH(B491,DetailListPending!AZ:AZ,0)","v":{"$error":"#N/A"}},{"$f":"MATCH(B491,Removed!AZ$1:AZ$443,0)","v":{"$error":"#N/A"}},{"$f":"CHOOSE(I491,OFFSET(DetailList!C$1,$C491-1,0),\"PENDING: \"&OFFSET(DetailListPending!C$1,$D491-1,0),\"   REMOVED [\"&OFFSET(Removed!C$1,$E491-1,0)&\"]\")","v":{"$error":"#N/A"}},{"$f":"CHOOSE(I491,OFFSET(DetailList!E$1,$C491-1,0),OFFSET(DetailListPending!E$1,$D491-1,0),OFFSET(Removed!E$1,$E491-1,0))","v":{"$error":"#N/A"}},{"$f":"CHOOSE(I491,OFFSET(DetailList!AU$1,$C491-1,0),\"Pending: \"&OFFSET(DetailListPending!AU$1,$D491-1,0),\"REMOVED [\"&OFFSET(Removed!AU$1,$E491-1,0)&\"]\")","v":{"$error":"#N/A"}},{"$error":"#N/A"},false,false]
[null,491,{"$f":"MATCH(B492,DetailList!AZ:AZ,0)","v":{"$error":"#N/A"}},{"$f":"MATCH(B492,DetailListPending!AZ:AZ,0)","v":{"$error":"#N/A"}},{"$f":"MATCH(B492,Removed!AZ$1:AZ$443,0)","v":{"$error":"#N/A"}},{"$f":"CHOOSE(I492,OFFSET(DetailList!C$1,$C492-1,0),\"PENDING: \"&OFFSET(DetailListPending!C$1,$D492-1,0),\"   REMOVED [\"&OFFSET(Removed!C$1,$E492-1,0)&\"]\")","v":{"$error":"#N/A"}},{"$f":"CHOOSE(I492,OFFSET(DetailList!E$1,$C492-1,0),OFFSET(DetailListPending!E$1,$D492-1,0),OFFSET(Removed!E$1,$E492-1,0))","v":{"$error":"#N/A"}},{"$f":"CHOOSE(I492,OFFSET(DetailList!AU$1,$C492-1,0),\"Pending: \"&OFFSET(DetailListPending!AU$1,$D492-1,0),\"REMOVED [\"&OFFSET(Removed!AU$1,$E492-1,0)&\"]\")","v":{"$error":"#N/A"}},{"$error":"#N/A"},false,false]
[null,492,{"$f":"MATCH(B493,DetailList!AZ:AZ,0)","v":{"$error":"#N/A"}},{"$f":"MATCH(B493,DetailListPending!AZ:AZ,0)","v":{"$error":"#N/A"}},{"$f":"MATCH(B493,Removed!AZ$1:AZ$443,0)","v":{"$error":"#N/A"}},{"$f":"CHOOSE(I493,OFFSET(DetailList!C$1,$C493-1,0),\"PENDING: \"&OFFSET(DetailListPending!C$1,$D493-1,0),\"   REMOVED [\"&OFFSET(Removed!C$1,$E493-1,0)&\"]\")","v":{"$error":"#N/A"}},{"$f":"CHOOSE(I493,OFFSET(DetailList!E$1,$C493-1,0),OFFSET(DetailListPending!E$1,$D493-1,0),OFFSET(Removed!E$1,$E493-1,0))","v":{"$error":"#N/A"}},{"$f":"CHOOSE(I493,OFFSET(DetailList!AU$1,$C493-1,0),\"Pending: \"&OFFSET(DetailListPending!AU$1,$D493-1,0),\"REMOVED [\"&OFFSET(Removed!AU$1,$E493-1,0)&\"]\")","v":{"$error":"#N/A"}},{"$error":"#N/A"},false,false]
[null,493,{"$f":"MATCH(B494,DetailList!AZ:AZ,0)","v":{"$error":"#N/A"}},{"$f":"MATCH(B494,DetailListPending!AZ:AZ,0)","v":{"$error":"#N/A"}},{"$f":"MATCH(B494,Removed!AZ$1:AZ$443,0)","v":{"$error":"#N/A"}},{"$f":"CHOOSE(I494,OFFSET(DetailList!C$1,$C494-1,0),\"PENDING: \"&OFFSET(DetailListPending!C$1,$D494-1,0),\"   REMOVED [\"&OFFSET(Removed!C$1,$E494-1,0)&\"]\")","v":{"$error":"#N/A"}},{"$f":"CHOOSE(I494,OFFSET(DetailList!E$1,$C494-1,0),OFFSET(DetailListPending!E$1,$D494-1,0),OFFSET(Removed!E$1,$E494-1,0))","v":{"$error":"#N/A"}},{"$f":"CHOOSE(I494,OFFSET(DetailList!AU$1,$C494-1,0),\"Pending: \"&OFFSET(DetailListPending!AU$1,$D494-1,0),\"REMOVED [\"&OFFSET(Removed!AU$1,$E494-1,0)&\"]\")","v":{"$error":"#N/A"}},{"$error":"#N/A"},false,false]
[null,494,{"$f":"MATCH(B495,DetailList!AZ:AZ,0)","v":{"$error":"#N/A"}},{"$f":"MATCH(B495,DetailListPending!AZ:AZ,0)","v":{"$error":"#N/A"}},{"$f":"MATCH(B495,Removed!AZ$1:AZ$443,0)","v":{"$error":"#N/A"}},{"$f":"CHOOSE(I495,OFFSET(DetailList!C$1,$C495-1,0),\"PENDING: \"&OFFSET(DetailListPending!C$1,$D495-1,0),\"   REMOVED [\"&OFFSET(Removed!C$1,$E495-1,0)&\"]\")","v":{"$error":"#N/A"}},{"$f":"CHOOSE(I495,OFFSET(DetailList!E$1,$C495-1,0),OFFSET(DetailListPending!E$1,$D495-1,0),OFFSET(Removed!E$1,$E495-1,0))","v":{"$error":"#N/A"}},{"$f":"CHOOSE(I495,OFFSET(DetailList!AU$1,$C495-1,0),\"Pending: \"&OFFSET(DetailListPending!AU$1,$D495-1,0),\"REMOVED [\"&OFFSET(Removed!AU$1,$E495-1,0)&\"]\")","v":{"$error":"#N/A"}},{"$error":"#N/A"},false,false]
[null,495,{"$f":"MATCH(B496,DetailList!AZ:AZ,0)","v":{"$error":"#N/A"}},{"$f":"MATCH(B496,DetailListPending!AZ:AZ,0)","v":{"$error":"#N/A"}},{"$f":"MATCH(B496,Removed!AZ$1:AZ$443,0)","v":{"$error":"#N/A"}},{"$f":"CHOOSE(I496,OFFSET(DetailList!C$1,$C496-1,0),\"PENDING: \"&OFFSET(DetailListPending!C$1,$D496-1,0),\"   REMOVED [\"&OFFSET(Removed!C$1,$E496-1,0)&\"]\")","v":{"$error":"#N/A"}},{"$f":"CHOOSE(I496,OFFSET(DetailList!E$1,$C496-1,0),OFFSET(DetailListPending!E$1,$D496-1,0),OFFSET(Removed!E$1,$E496-1,0))","v":{"$error":"#N/A"}},{"$f":"CHOOSE(I496,OFFSET(DetailList!AU$1,$C496-1,0),\"Pending: \"&OFFSET(DetailListPending!AU$1,$D496-1,0),\"REMOVED [\"&OFFSET(Removed!AU$1,$E496-1,0)&\"]\")","v":{"$error":"#N/A"}},{"$error":"#N/A"},false,false]
[null,496,{"$f":"MATCH(B497,DetailList!AZ:AZ,0)","v":{"$error":"#N/A"}},{"$f":"MATCH(B497,DetailListPending!AZ:AZ,0)","v":{"$error":"#N/A"}},{"$f":"MATCH(B497,Removed!AZ$1:AZ$443,0)","v":{"$error":"#N/A"}},{"$f":"CHOOSE(I497,OFFSET(DetailList!C$1,$C497-1,0),\"PENDING: \"&OFFSET(DetailListPending!C$1,$D497-1,0),\"   REMOVED [\"&OFFSET(Removed!C$1,$E497-1,0)&\"]\")","v":{"$error":"#N/A"}},{"$f":"CHOOSE(I497,OFFSET(DetailList!E$1,$C497-1,0),OFFSET(DetailListPending!E$1,$D497-1,0),OFFSET(Removed!E$1,$E497-1,0))","v":{"$error":"#N/A"}},{"$f":"CHOOSE(I497,OFFSET(DetailList!AU$1,$C497-1,0),\"Pending: \"&OFFSET(DetailListPending!AU$1,$D497-1,0),\"REMOVED [\"&OFFSET(Removed!AU$1,$E497-1,0)&\"]\")","v":{"$error":"#N/A"}},{"$error":"#N/A"},false,false]
[null,497,{"$f":"MATCH(B498,DetailList!AZ:AZ,0)","v":{"$error":"#N/A"}},{"$f":"MATCH(B498,DetailListPending!AZ:AZ,0)","v":{"$error":"#N/A"}},{"$f":"MATCH(B498,Removed!AZ$1:AZ$443,0)","v":{"$error":"#N/A"}},{"$f":"CHOOSE(I498,OFFSET(DetailList!C$1,$C498-1,0),\"PENDING: \"&OFFSET(DetailListPending!C$1,$D498-1,0),\"   REMOVED [\"&OFFSET(Removed!C$1,$E498-1,0)&\"]\")","v":{"$error":"#N/A"}},{"$f":"CHOOSE(I498,OFFSET(DetailList!E$1,$C498-1,0),OFFSET(DetailListPending!E$1,$D498-1,0),OFFSET(Removed!E$1,$E498-1,0))","v":{"$error":"#N/A"}},{"$f":"CHOOSE(I498,OFFSET(DetailList!AU$1,$C498-1,0),\"Pending: \"&OFFSET(DetailListPending!AU$1,$D498-1,0),\"REMOVED [\"&OFFSET(Removed!AU$1,$E498-1,0)&\"]\")","v":{"$error":"#N/A"}},{"$error":"#N/A"},false,false]
[null,498,{"$f":"MATCH(B499,DetailList!AZ:AZ,0)","v":{"$error":"#N/A"}},{"$f":"MATCH(B499,DetailListPending!AZ:AZ,0)","v":{"$error":"#N/A"}},{"$f":"MATCH(B499,Removed!AZ$1:AZ$443,0)","v":{"$error":"#N/A"}},{"$f":"CHOOSE(I499,OFFSET(DetailList!C$1,$C499-1,0),\"PENDING: \"&OFFSET(DetailListPending!C$1,$D499-1,0),\"   REMOVED [\"&OFFSET(Removed!C$1,$E499-1,0)&\"]\")","v":{"$error":"#N/A"}},{"$f":"CHOOSE(I499,OFFSET(DetailList!E$1,$C499-1,0),OFFSET(DetailListPending!E$1,$D499-1,0),OFFSET(Removed!E$1,$E499-1,0))","v":{"$error":"#N/A"}},{"$f":"CHOOSE(I499,OFFSET(DetailList!AU$1,$C499-1,0),\"Pending: \"&OFFSET(DetailListPending!AU$1,$D499-1,0),\"REMOVED [\"&OFFSET(Removed!AU$1,$E499-1,0)&\"]\")","v":{"$error":"#N/A"}},{"$error":"#N/A"},false,false]
[null,499,{"$f":"MATCH(B500,DetailList!AZ:AZ,0)","v":{"$error":"#N/A"}},{"$f":"MATCH(B500,DetailListPending!AZ:AZ,0)","v":{"$error":"#N/A"}},{"$f":"MATCH(B500,Removed!AZ$1:AZ$443,0)","v":{"$error":"#N/A"}},{"$f":"CHOOSE(I500,OFFSET(DetailList!C$1,$C500-1,0),\"PENDING: \"&OFFSET(DetailListPending!C$1,$D500-1,0),\"   REMOVED [\"&OFFSET(Removed!C$1,$E500-1,0)&\"]\")","v":{"$error":"#N/A"}},{"$f":"CHOOSE(I500,OFFSET(DetailList!E$1,$C500-1,0),OFFSET(DetailListPending!E$1,$D500-1,0),OFFSET(Removed!E$1,$E500-1,0))","v":{"$error":"#N/A"}},{"$f":"CHOOSE(I500,OFFSET(DetailList!AU$1,$C500-1,0),\"Pending: \"&OFFSET(DetailListPending!AU$1,$D500-1,0),\"REMOVED [\"&OFFSET(Removed!AU$1,$E500-1,0)&\"]\")","v":{"$error":"#N/A"}},{"$error":"#N/A"},false,false]
[null,500,{"$f":"MATCH(B501,DetailList!AZ:AZ,0)","v":{"$error":"#N/A"}},{"$f":"MATCH(B501,DetailListPending!AZ:AZ,0)","v":{"$error":"#N/A"}},{"$f":"MATCH(B501,Removed!AZ$1:AZ$443,0)","v":{"$error":"#N/A"}},{"$f":"CHOOSE(I501,OFFSET(DetailList!C$1,$C501-1,0),\"PENDING: \"&OFFSET(DetailListPending!C$1,$D501-1,0),\"   REMOVED [\"&OFFSET(Removed!C$1,$E501-1,0)&\"]\")","v":{"$error":"#N/A"}},{"$f":"CHOOSE(I501,OFFSET(DetailList!E$1,$C501-1,0),OFFSET(DetailListPending!E$1,$D501-1,0),OFFSET(Removed!E$1,$E501-1,0))","v":{"$error":"#N/A"}},{"$f":"CHOOSE(I501,OFFSET(DetailList!AU$1,$C501-1,0),\"Pending: \"&OFFSET(DetailListPending!AU$1,$D501-1,0),\"REMOVED [\"&OFFSET(Removed!AU$1,$E501-1,0)&\"]\")","v":{"$error":"#N/A"}},{"$error":"#N/A"},false,false]
[]
[{"$nulls":9},{"$f":"MATCH(FALSE,J2:J501,0)","v":229}]

{"sheet":"Lookups","index":9,"n_rows":142,"n_cols":12,"rows_kept":142,"hidden":true}
[{"$nulls":3},"Main list",null,"Pending List",null,"Total"]
[null,"Department name","Abbr.","Collections","Data topics","Collections","Data topics","Collections",null,"Collections",null,"URI"]
[null,"Central government departments","Dept."]
[null,"Department for Business, Energy and Industrial Strategy","BEIS",{"$f":"COUNTIF(DetailList!E:E,$C4)-E4","v":0},{"$f":"SUMIF(DetailList!E:E,$C4,DetailList!$AU:$AU)","v":0},{"$f":"COUNTIF(DetailListPending!E:E,$C4)-G4","v":0},{"$f":"SUMIF(DetailListPending!E:E,$C4,DetailListPending!$AU:$AU)","v":0},{"$f":"D4+F4","v":0},null,{"$f":"REPT(\"I\",H4)","v":""},null,"http://reference.data.gov.uk/id/department/bis"]
[null,"Cabinet Office ","CO",{"$f":"COUNTIF(DetailList!E:E,$C5)-E5","v":1},{"$f":"SUMIF(DetailList!E:E,$C5,DetailList!$AU:$AU)","v":1},{"$f":"COUNTIF(DetailListPending!E:E,$C5)-G5","v":0},{"$f":"SUMIF(DetailListPending!E:E,$C5,DetailListPending!$AU:$AU)","v":0},1,null,"I",null,"http://reference.data.gov.uk/id/department/co"]
[null,"Department for Business and Trade - Office for Product Safety & Standards","DBT/OPSS",{"$f":"COUNTIF(DetailList!E:E,$C6)-E6","v":1},{"$f":"SUMIF(DetailList!E:E,$C6,DetailList!$AU:$AU)","v":2},{"$f":"COUNTIF(DetailListPending!E:E,$C6)-G6","v":0},{"$f":"SUMIF(DetailListPending!E:E,$C6,DetailListPending!$AU:$AU)","v":0},{"$f":"D6+F6","v":1},null,{"$f":"REPT(\"I\",H6)","v":"I"},null,"http://reference.data.gov.uk/id/public-body/national-measurement-office"]
[null,"Department for Communities and Local Government ","DCLG",{"$f":"COUNTIF(DetailList!E:E,$C7)-E7","v":0},{"$f":"SUMIF(DetailList!E:E,$C7,DetailList!$AU:$AU)","v":0},{"$f":"COUNTIF(DetailListPending!E:E,$C7)-G7","v":0},{"$f":"SUMIF(DetailListPending!E:E,$C7,DetailListPending!$AU:$AU)","v":0},0,null,"",null,"http://reference.data.gov.uk/id/department/dclg"]
[null,"Department for Culture, Media and Sport","DCMS",{"$f":"COUNTIF(DetailList!E:E,$C8)-E8","v":0},{"$f":"SUMIF(DetailList!E:E,$C8,DetailList!$AU:$AU)","v":0},{"$f":"COUNTIF(DetailListPending!E:E,$C8)-G8","v":0},{"$f":"SUMIF(DetailListPending!E:E,$C8,DetailListPending!$AU:$AU)","v":0},0,null,"",null,"http://reference.data.gov.uk/id/department/department-for-culture-media-and-sport"]
[null,"Department of Energy and Climate Change","DECC",{"$f":"COUNTIF(DetailList!E:E,$C9)-E9","v":0},{"$f":"SUMIF(DetailList!E:E,$C9,DetailList!$AU:$AU)","v":0},{"$f":"COUNTIF(DetailListPending!E:E,$C9)-G9","v":0},{"$f":"SUMIF(DetailListPending!E:E,$C9,DetailListPending!$AU:$AU)","v":0},0,null,"",null,"http://reference.data.gov.uk/id/department/decc"]
[null,"Department for Environment, Food and Rural Affairs ","DEFRA",{"$f":"COUNTIF(DetailList!E:E,$C10)-E10","v":11},{"$f":"SUMIF(DetailList!E:E,$C10,DetailList!$AU:$AU)","v":33},{"$f":"COUNTIF(DetailListPending!E:E,$C10)-G10","v":0},{"$f":"SUMIF(DetailListPending!E:E,$C10,DetailListPending!$AU:$AU)","v":0},11,null,"IIIIIIIIIII",null,"http://reference.data.gov.uk/id/department/defra"]
[null,"Department for Education ","DfE",{"$f":"COUNTIF(DetailList!E:E,$C11)-E11","v":25},{"$f":"SUMIF(DetailList!E:E,$C11,DetailList!$AU:$AU)","v":82},{"$f":"COUNTIF(DetailListPending!E:E,$C11)-G11","v":0},{"$f":"SUMIF(DetailListPending!E:E,$C11,DetailListPending!$AU:$AU)","v":0},25,null,"IIIIIIIIIIIIIIIIIIIIIIIII",null,"http://reference.data.gov.uk/id/department/dfe"]
[null,"Department for International Development ","DfID",{"$f":"COUNTIF(DetailList!E:E,$C12)-E12","v":0},{"$f":"SUMIF(DetailList!E:E,$C12,DetailList!$AU:$AU)","v":0},{"$f":"COUNTIF(DetailListPending!E:E,$C12)-G12","v":0},{"$f":"SUMIF(DetailListPending!E:E,$C12,DetailListPending!$AU:$AU)","v":0},0,null,"",null,"http://reference.data.gov.uk/id/department/dfid"]
[null,"Department for Transport","DfT",{"$f":"COUNTIF(DetailList!E:E,$C13)-E13","v":8},{"$f":"SUMIF(DetailList!E:E,$C13,DetailList!$AU:$AU)","v":23},{"$f":"COUNTIF(DetailListPending!E:E,$C13)-G13","v":0},{"$f":"SUMIF(DetailListPending!E:E,$C13,DetailListPending!$AU:$AU)","v":0},8,null,"IIIIIIII",null,"http://reference.data.gov.uk/id/department/dft"]
[null,"Department of Health and Social Care","DHSC",{"$f":"COUNTIF(DetailList!E:E,$C14)-E14","v":1},{"$f":"SUMIF(DetailList!E:E,$C14,DetailList!$AU:$AU)","v":1},{"$f":"COUNTIF(DetailListPending!E:E,$C14)-G14","v":0},{"$f":"SUMIF(DetailListPending!E:E,$C14,DetailListPending!$AU:$AU)","v":0},1,null,"I",null,"http://reference.data.gov.uk/id/department/dh"]
[null,"Department of Health and Social Care - Office for Health Improvement and Disparities ","DHSC/OHID",{"$f":"COUNTIF(DetailList!E:E,$C15)-E15","v":3},{"$f":"SUMIF(DetailList!E:E,$C15,DetailList!$AU:$AU)","v":4},{"$f":"COUNTIF(DetailListPending!E:E,$C15)-G15","v":0},{"$f":"SUMIF(DetailListPending!E:E,$C15,DetailListPending!$AU:$AU)","v":0},{"$f":"D15+F15","v":3},null,{"$f":"REPT(\"I\",H15)","v":"III"}]
[null,"Department for Levelling Up, Housing and Communities ","DLUHC",{"$f":"COUNTIF(DetailList!E:E,$C16)-E16","v":42},{"$f":"SUMIF(DetailList!E:E,$C16,DetailList!$AU:$AU)","v":107},{"$f":"COUNTIF(DetailListPending!E:E,$C16)-G16","v":0},{"$f":"SUMIF(DetailListPending!E:E,$C16,DetailListPending!$AU:$AU)","v":0},42,null,"IIIIIIIIIIIIIIIIIIIIIIIIIIIIIIIIIIIIIIIIII"]
[null,"Department for Work and Pensions ","DWP",{"$f":"COUNTIF(DetailList!E:E,$C17)-E17","v":5},{"$f":"SUMIF(DetailList!E:E,$C17,DetailList!$AU:$AU)","v":20},{"$f":"COUNTIF(DetailListPending!E:E,$C17)-G17","v":0},{"$f":"SUMIF(DetailListPending!E:E,$C17,DetailListPending!$AU:$AU)","v":0},5,null,"IIIII",null,"http://reference.data.gov.uk/id/department/dwp"]
[null,"Foreign and Commonwealth Office ","FCO",{"$f":"COUNTIF(DetailList!E:E,$C18)-E18","v":0},{"$f":"SUMIF(DetailList!E:E,$C18,DetailList!$AU:$AU)","v":0},{"$f":"COUNTIF(DetailListPending!E:E,$C18)-G18","v":0},{"$f":"SUMIF(DetailListPending!E:E,$C18,DetailListPending!$AU:$AU)","v":0},0,null,"",null,"http://reference.data.gov.uk/id/department/fco"]
[null,"HM Revenue & Customs ","HMRC",{"$f":"COUNTIF(DetailList!E:E,$C19)-E19","v":0},{"$f":"SUMIF(DetailList!E:E,$C19,DetailList!$AU:$AU)","v":0},{"$f":"COUNTIF(DetailListPending!E:E,$C19)-G19","v":0},{"$f":"SUMIF(DetailListPending!E:E,$C19,DetailListPending!$AU:$AU)","v":0},0,null,"",null,"http://reference.data.gov.uk/id/department/hmrc"]
[null,"HM Treasury ","HMT",{"$f":"COUNTIF(DetailList!E:E,$C20)-E20","v":0},{"$f":"SUMIF(DetailList!E:E,$C20,DetailList!$AU:$AU)","v":0},{"$f":"COUNTIF(DetailListPending!E:E,$C20)-G20","v":0},{"$f":"SUMIF(DetailListPending!E:E,$C20,DetailListPending!$AU:$AU)","v":0},0,null,"",null,"http://reference.data.gov.uk/id/department/hmt"]
[null,"HM Treasury (via DLUHC)","HMT(DLUHC)",{"$f":"COUNTIF(DetailList!E:E,$C21)-E21","v":1},{"$f":"SUMIF(DetailList!E:E,$C21,DetailList!$AU:$AU)","v":2},{"$f":"COUNTIF(DetailListPending!E:E,$C21)-G21","v":0},{"$f":"SUMIF(DetailListPending!E:E,$C21,DetailListPending!$AU:$AU)","v":0},1,null,"I",null,"http://reference.data.gov.uk/id/department/hmt"]
[null,"Home Office ","HO",{"$f":"COUNTIF(DetailList!E:E,$C22)-E22","v":5},{"$f":"SUMIF(DetailList!E:E,$C22,DetailList!$AU:$AU)","v":9},{"$f":"COUNTIF(DetailListPending!E:E,$C22)-G22","v":0},{"$f":"SUMIF(DetailListPending!E:E,$C22,DetailListPending!$AU:$AU)","v":0},5,null,"IIIII",null,"http://reference.data.gov.uk/id/department/ho"]
[null,"Ministry Of Defence ","MoD",{"$f":"COUNTIF(DetailList!E:E,$C23)-E23","v":0},{"$f":"SUMIF(DetailList!E:E,$C23,DetailList!$AU:$AU)","v":0},{"$f":"COUNTIF(DetailListPending!E:E,$C23)-G23","v":0},{"$f":"SUMIF(DetailListPending!E:E,$C23,DetailListPending!$AU:$AU)","v":0},0,null,"",null,"http://reference.data.gov.uk/id/department/mod"]
[null,"Ministry of Housing, Communities and Local Government","MHCLG",{"$f":"COUNTIF(DetailList!E:E,$C24)-E24","v":0},{"$f":"SUMIF(DetailList!E:E,$C24,DetailList!$AU:$AU)","v":0},{"$f":"COUNTIF(DetailListPending!E:E,$C24)-G24","v":0},{"$f":"SUMIF(DetailListPending!E:E,$C24,DetailListPending!$AU:$AU)","v":0},{"$f":"D24+F24","v":0},null,{"$f":"REPT(\"I\",H24)","v":""}]
[null,"Ministry of Justice ","MoJ",{"$f":"COUNTIF(DetailList!E:E,$C25)-E25","v":0},{"$f":"SUMIF(DetailList!E:E,$C25,DetailList!$AU:$AU)","v":0},{"$f":"COUNTIF(DetailListPending!E:E,$C25)-G25","v":0},{"$f":"SUMIF(DetailListPending!E:E,$C25,DetailListPending!$AU:$AU)","v":0},0,null,"",null,"http://reference.data.gov.uk/id/department/justice"]
[null,"Central government bodies, agencies and at arm's length bodies","Agency/body"]
[]
[null,"Department for Business, Innovation and Skills - Ordnance Survey","BIS/OS",{"$f":"COUNTIF(DetailList!E:E,$C28)-E28","v":0},{"$f":"SUMIF(DetailList!E:E,$C28,DetailList!$AU:$AU)","v":0},{"$f":"COUNTIF(DetailListPending!E:E,$C28)-G28","v":0},{"$f":"SUMIF(DetailListPending!E:E,$C28,DetailListPending!$AU:$AU)","v":0},{"$f":"D28+F28","v":0},null,{"$f":"REPT(\"I\",H28)","v":""},null,"http://reference.data.gov.uk/id/public-body/ordnance-survey"]
[null,"Department for Business, Innovation and Skills - Skills Funding Agency","BIS/SFA",{"$f":"COUNTIF(DetailList!E:E,$C29)-E29","v":0},{"$f":"SUMIF(DetailList!E:E,$C29,DetailList!$AU:$AU)","v":0},{"$f":"COUNTIF(DetailListPending!E:E,$C29)-G29","v":0},{"$f":"SUMIF(DetailListPending!E:E,$C29,DetailListPending!$AU:$AU)","v":0},{"$f":"D29+F29","v":0},null,{"$f":"REPT(\"I\",H29)","v":""}]
[]
[null,"Department for Communities and Local Government - Audit Commission/Cabinet Office","DCLG/AC/CO",{"$f":"COUNTIF(DetailList!E:E,$C31)-E31","v":0},{"$f":"SUMIF(DetailList!E:E,$C31,DetailList!$AU:$AU)","v":0},{"$f":"COUNTIF(DetailListPending!E:E,$C31)-G31","v":0},{"$f":"SUMIF(DetailListPending!E:E,$C31,DetailListPending!$AU:$AU)","v":0},0,null,"",null,"http://reference.data.gov.uk/id/public-body/homes-communities-agency"]
[null,"Department for Communities and Local Government - Tenant Services Authority","DCLG/TSA",{"$f":"COUNTIF(DetailList!E:E,$C32)-E32","v":0},{"$f":"SUMIF(DetailList!E:E,$C32,DetailList!$AU:$AU)","v":0},{"$f":"COUNTIF(DetailListPending!E:E,$C32)-G32","v":0},{"$f":"SUMIF(DetailListPending!E:E,$C32,DetailListPending!$AU:$AU)","v":0},0,null,"",null,"http://reference.data.gov.uk/id/public-body/tenant-services-authority"]
[null,"Department for Culture, Media and Sport - Gambling Commission","DCMS/GC",{"$f":"COUNTIF(DetailList!E:E,$C33)-E33","v":1},{"$f":"SUMIF(DetailList!E:E,$C33,DetailList!$AU:$AU)","v":1},{"$f":"COUNTIF(DetailListPending!E:E,$C33)-G33","v":0},{"$f":"SUMIF(DetailListPending!E:E,$C33,DetailListPending!$AU:$AU)","v":0},1,null,"I"]
[null,"Department for Environment, Food and Rural Affairs - Environment Agency","DEFRA/EA",{"$f":"COUNTIF(DetailList!E:E,$C34)-E34","v":3},{"$f":"SUMIF(DetailList!E:E,$C34,DetailList!$AU:$AU)","v":5},{"$f":"COUNTIF(DetailListPending!E:E,$C34)-G34","v":0},{"$f":"SUMIF(DetailListPending!E:E,$C34,DetailListPending!$AU:$AU)","v":0},{"$f":"D34+F34","v":3},null,{"$f":"REPT(\"I\",H34)","v":"III"},null,"http://reference.data.gov.uk/id/public-body/environment-agency"]
[null,"Department for Education - Teaching Regulation Agency","DfE/TRA",{"$f":"COUNTIF(DetailList!E:E,$C35)-E35","v":0},{"$f":"SUMIF(DetailList!E:E,$C35,DetailList!$AU:$AU)","v":0},{"$f":"COUNTIF(DetailListPending!E:E,$C35)-G35","v":0},{"$f":"SUMIF(DetailListPending!E:E,$C35,DetailListPending!$AU:$AU)","v":0},0,null,""]
[null,"Department for Education - Office for Standards in Education, Children’s Services and Skills","DfE/Ofsted",{"$f":"COUNTIF(DetailList!E:E,$C36)-E36","v":2},{"$f":"SUMIF(DetailList!E:E,$C36,DetailList!$AU:$AU)","v":2},{"$f":"COUNTIF(DetailListPending!E:E,$C36)-G36","v":0},{"$f":"SUMIF(DetailListPending!E:E,$C36,DetailListPending!$AU:$AU)","v":0},2,null,"II",null,"http://reference.data.gov.uk/id/public-body/office-for-standards-in-education-childrens-servic"]
[null,"Department for Education - Education and Skills Funding Agency","DfE/ESFA",{"$f":"COUNTIF(DetailList!E:E,$C37)-E37","v":2},{"$f":"SUMIF(DetailList!E:E,$C37,DetailList!$AU:$AU)","v":2},{"$f":"COUNTIF(DetailListPending!E:E,$C37)-G37","v":0},{"$f":"SUMIF(DetailListPending!E:E,$C37,DetailListPending!$AU:$AU)","v":0},2,null,"II"]
[null,"Department for Education - Young Persons' Learning Academy","DfE/YPLA",{"$f":"COUNTIF(DetailList!E:E,$C38)-E38","v":0},{"$f":"SUMIF(DetailList!E:E,$C38,DetailList!$AU:$AU)","v":0},{"$f":"COUNTIF(DetailListPending!E:E,$C38)-G38","v":0},{"$f":"SUMIF(DetailListPending!E:E,$C38,DetailListPending!$AU:$AU)","v":0},0,null,""]
[null,"Department for Transport - Traffic Commissioners","DfT/TC",{"$f":"COUNTIF(DetailList!E:E,$C39)-E39","v":0},{"$f":"SUMIF(DetailList!E:E,$C39,DetailList!$AU:$AU)","v":0},{"$f":"COUNTIF(DetailListPending!E:E,$C39)-G39","v":0},{"$f":"SUMIF(DetailListPending!E:E,$C39,DetailListPending!$AU:$AU)","v":0},0,null,""]
[null,"Department for Transport - Office of Rail Regulation","DfT/ORR",{"$f":"COUNTIF(DetailList!E:E,$C40)-E40","v":0},{"$f":"SUMIF(DetailList!E:E,$C40,DetailList!$AU:$AU)","v":0},{"$f":"COUNTIF(DetailListPending!E:E,$C40)-G40","v":0},{"$f":"SUMIF(DetailListPending!E:E,$C40,DetailListPending!$AU:$AU)","v":0},0,null,""]
[null,"Department of Health and Social Care - NHS Digital ","DHSC/NHSE",{"$f":"COUNTIF(DetailList!E:E,$C41)-E41","v":10},{"$f":"SUMIF(DetailList!E:E,$C41,DetailList!$AU:$AU)","v":44},{"$f":"COUNTIF(DetailListPending!E:E,$C41)-G41","v":0},{"$f":"SUMIF(DetailListPending!E:E,$C41,DetailListPending!$AU:$AU)","v":0},{"$f":"D41+F41","v":10},null,{"$f":"REPT(\"I\",H41)","v":"IIIIIIIIII"}]
[null,"Department of Health and Social Care - Public Health England","DHSC/PHE",{"$f":"COUNTIF(DetailList!E:E,$C42)-E42","v":0},{"$f":"SUMIF(DetailList!E:E,$C42,DetailList!$AU:$AU)","v":0},{"$f":"COUNTIF(DetailListPending!E:E,$C42)-G42","v":0},{"$f":"SUMIF(DetailListPending!E:E,$C42,DetailListPending!$AU:$AU)","v":0},{"$f":"D42+F42","v":0},null,{"$f":"REPT(\"I\",H42)","v":""},null,"http://reference.data.gov.uk/id/public-body/health-protection-agency"]
[null,"Department for Levelling Up, Housing and Communities - Regulator of Social Housing  ","DLUHC/RSH",{"$f":"COUNTIF(DetailList!E:E,$C43)-E43","v":3},{"$f":"SUMIF(DetailList!E:E,$C43,DetailList!$AU:$AU)","v":1},{"$f":"COUNTIF(DetailListPending!E:E,$C43)-G43","v":0},{"$f":"SUMIF(DetailListPending!E:E,$C43,DetailListPending!$AU:$AU)","v":0},{"$f":"D43+F43","v":3},null,"III"]
[null,"Department for Work and Pensions - Health and Safety Executive","DWP/HSE",{"$f":"COUNTIF(DetailList!E:E,$C44)-E44","v":1},{"$f":"SUMIF(DetailList!E:E,$C44,DetailList!$AU:$AU)","v":4},{"$f":"COUNTIF(DetailListPending!E:E,$C44)-G44","v":0},{"$f":"SUMIF(DetailListPending!E:E,$C44,DetailListPending!$AU:$AU)","v":0},1,null,"I",null,"http://reference.data.gov.uk/id/public-body/health-and-safety-executive"]
[null,"HM Revenue & Customs - Valuation Office Agency","HMRC/VOA",{"$f":"COUNTIF(DetailList!E:E,$C45)-E45","v":0},{"$f":"SUMIF(DetailList!E:E,$C45,DetailList!$AU:$AU)","v":0},{"$f":"COUNTIF(DetailListPending!E:E,$C45)-G45","v":0},{"$f":"SUMIF(DetailListPending!E:E,$C45,DetailListPending!$AU:$AU)","v":0},{"$f":"D45+F45","v":0},null,{"$f":"REPT(\"I\",H45)","v":""},null,"http://reference.data.gov.uk/id/public-body/valuation-office-agency"]
[null,"Home Office - Government Equalities Office","HO/GEO",{"$f":"COUNTIF(DetailList!E:E,$C46)-E46","v":0},{"$f":"SUMIF(DetailList!E:E,$C46,DetailList!$AU:$AU)","v":0},{"$f":"COUNTIF(DetailListPending!E:E,$C46)-G46","v":0},{"$f":"SUMIF(DetailListPending!E:E,$C46,DetailListPending!$AU:$AU)","v":0},{"$f":"D46+F46","v":0}]
[null,"Home Office - Identity and Passport Service - General Register Office ","HO/IPS-GRO",{"$f":"COUNTIF(DetailList!E:E,$C47)-E47","v":0},{"$f":"SUMIF(DetailList!E:E,$C47,DetailList!$AU:$AU)","v":0},{"$f":"COUNTIF(DetailListPending!E:E,$C47)-G47","v":0},{"$f":"SUMIF(DetailListPending!E:E,$C47,DetailListPending!$AU:$AU)","v":0},{"$f":"D47+F47","v":0},null,{"$f":"REPT(\"I\",H47)","v":""},null,"http://reference.data.gov.uk/id/public-body/identity-and-passport-service"]
[null,"Ministry of Housing, Communities and Local Government - Regulator of Social Housing  ","MHCLG/RSH",{"$f":"COUNTIF(DetailList!E:E,$C48)-E48","v":0},{"$f":"SUMIF(DetailList!E:E,$C48,DetailList!$AU:$AU)","v":0},{"$f":"COUNTIF(DetailListPending!E:E,$C48)-G48","v":0},{"$f":"SUMIF(DetailListPending!E:E,$C48,DetailListPending!$AU:$AU)","v":0},{"$f":"D48+F48","v":0},null,{"$f":"REPT(\"I\",H48)","v":""},null,"http://reference.data.gov.uk/id/public-body/audit-commission"]
[null,"Ministry of Justice - Youth Justice Board","MoJ/YJB",{"$f":"COUNTIF(DetailList!E:E,$C49)-E49","v":1},{"$f":"SUMIF(DetailList!E:E,$C49,DetailList!$AU:$AU)","v":1},{"$f":"COUNTIF(DetailListPending!E:E,$C49)-G49","v":0},{"$f":"SUMIF(DetailListPending!E:E,$C49,DetailListPending!$AU:$AU)","v":0},{"$f":"D49+F49","v":1},null,{"$f":"REPT(\"I\",H49)","v":"I"},null,"http://reference.data.gov.uk/id/public-body/youth-justice-board"]
[null,"Other independent public bodies","Other",{"$nulls":6},{"$f":"REPT(\"I\",H50)","v":""}]
[null,"Food Standards Agency","FSA",{"$f":"COUNTIF(DetailList!E:E,$C51)-E51","v":7},{"$f":"SUMIF(DetailList!E:E,$C51,DetailList!$AU:$AU)","v":57},{"$f":"COUNTIF(DetailListPending!E:E,$C51)-G51","v":23},{"$f":"SUMIF(DetailListPending!E:E,$C51,DetailListPending!$AU:$AU)","v":0},{"$f":"D51+F51","v":30},null,"IIIIIIIIIIIIIIIIIIIIIIIIIIIIII"]
[null,"Office for National Statistics","ONS",{"$f":"COUNTIF(DetailList!E:E,$C52)-E52","v":3},{"$f":"SUMIF(DetailList!E:E,$C52,DetailList!$AU:$AU)","v":4},{"$f":"COUNTIF(DetailListPending!E:E,$C52)-G52","v":0},{"$f":"SUMIF(DetailListPending!E:E,$C52,DetailListPending!$AU:$AU)","v":0},{"$f":"D52+F52","v":3},null,{"$f":"REPT(\"I\",H52)","v":"III"}]
[null,"Other independent bodies","Other (a)",{"$nulls":6},{"$f":"REPT(\"I\",H53)","v":""}]
[null,"Skills for Care ","DHSC/SfC",{"$f":"COUNTIF(DetailList!E:E,$C54)-E54","v":1},{"$f":"SUMIF(DetailList!E:E,$C54,DetailList!$AU:$AU)","v":1},{"$f":"COUNTIF(DetailListPending!E:E,$C54)-G54","v":0},{"$f":"SUMIF(DetailListPending!E:E,$C54,DetailListPending!$AU:$AU)","v":0},{"$f":"D54+F54","v":1},null,{"$f":"REPT(\"I\",H54)","v":"I"}]
[null,"Other public bodies NOT part of the Single Data List (x)","Other (x)"]
[null,"Electoral Commission","EC",{"$f":"COUNTIF(DetailList!E:E,$C56)-E56","v":5},{"$f":"SUMIF(DetailList!E:E,$C56,DetailList!$AU:$AU)","v":5},{"$f":"COUNTIF(DetailListPending!E:E,$C56)-G56","v":0},{"$f":"SUMIF(DetailListPending!E:E,$C56,DetailListPending!$AU:$AU)","v":0},{"$f":"D56+F56","v":5},null,{"$f":"REPT(\"I\",H56)","v":"IIIII"}]
[null,null,"Totals",{"$f":"SUM(D3:D56)","v":142},{"$f":"SUM(E3:E56)","v":411},{"$f":"SUM(F3:F56)","v":23},{"$f":"SUM(G3:G56)","v":0},{"$f":"SUM(H3:H56)","v":165}]
[null,null,"Totals (NOT inc. EC)",{"$f":"SUM(D3:D52)","v":136},{"$f":"SUM(E3:E52)","v":405},{"$f":"SUM(F3:F52)","v":23},{"$f":"SUM(G3:G52)","v":0},{"$f":"SUM(H3:H52)","v":159}]
[]
[null,null,"ALBs etc. in main list",{"$f":"SUM(D6:D52)","v":135},{"$f":"SUM(E6:E52)","v":404}]
[]
[null,"Items","Abbr.","Main list","Pending list"]
[null,"Collection","C",{"$f":"COUNTIF(DetailList!A:A,C63)","v":139},{"$f":"COUNTIF(DetailListPending!A:A,C63)","v":0}]
[null,"Data topic","D",{"$f":"COUNTIF(DetailList!A:A,C64)","v":414},{"$f":"COUNTIF(DetailListPending!A:A,C64)","v":1}]
[null,"Heading","X",5,{"$f":"COUNTIF(DetailListPending!A:A,C65)","v":0}]
[]
[]
[]
[]
[null,"Authority type",null,"Collections","Data topics",{"$nulls":4},"Collections"]
[null,"Single tier & lower tier",null,{"$f":"COUNTIF(DetailList!K:K,$B71)-E71","v":29},{"$f":"SUMIF(DetailList!K:K,$B71,DetailList!$AU:$AU)","v":114},{"$nulls":4},{"$f":"REPT(\"I\",D71)","v":"IIIIIIIIIIIIIIIIIIIIIIIIIIIII"}]
[null,"Upper tier & single tier",null,{"$f":"COUNTIF(DetailList!K:K,$B72)-E72","v":58},{"$f":"SUMIF(DetailList!K:K,$B72,DetailList!$AU:$AU)","v":198},{"$nulls":4},"IIIIIIIIIIIIIIIIIIIIIIIIIIIIIIIIIIIIIIIIIIIIIIIIIIIIIIIIII"]
[null,"All local authorities",null,{"$f":"COUNTIF(DetailList!K:K,$B73)-E73","v":32},{"$f":"SUMIF(DetailList!K:K,$B73,DetailList!$AU:$AU)","v":63},{"$nulls":4},"IIIIIIIIIIIIIIIIIIIIIIIIIIIIIIII"]
[null,"All local authorities, fire, police & GLA",null,{"$f":"COUNTIF(DetailList!K:K,$B74)-E74","v":1},{"$f":"SUMIF(DetailList!K:K,$B74,DetailList!$AU:$AU)","v":8},{"$nulls":4},"I"]
[null,"Administering authorities",null,{"$f":"COUNTIF(DetailList!K:K,$B75)-E75","v":1},{"$f":"SUMIF(DetailList!K:K,$B75,DetailList!$AU:$AU)","v":11},{"$nulls":4},"I"]
[null,"Fire & rescue authorities",null,{"$f":"COUNTIF(DetailList!K:K,$B76)-E76","v":4},{"$f":"SUMIF(DetailList!K:K,$B76,DetailList!$AU:$AU)","v":8},{"$nulls":4},{"$f":"REPT(\"I\",D76)","v":"IIII"}]
[null,"Other",null,{"$f":"COUNTIF(DetailList!K:K,$B77)-E77","v":1},{"$f":"SUMIF(DetailList!K:K,$B77,DetailList!$AU:$AU)","v":2},{"$nulls":4},"I"]
[null,"Sample of authorities",null,{"$f":"COUNTIF(DetailList!K:K,$B78)-E78","v":4},{"$f":"SUMIF(DetailList!K:K,$B78,DetailList!$AU:$AU)","v":5},{"$nulls":4},"IIII"]
[null,"n/k",null,{"$f":"COUNTIF(DetailList!K:K,$B79)-E79","v":0},{"$f":"SUMIF(DetailList!K:K,$B79,DetailList!$AU:$AU)","v":0},{"$nulls":4},""]
[{"$nulls":3},{"$f":"SUM(D71:D79)","v":130},{"$f":"SUM(E71:E79)","v":409}]
[]
[]
[]
[null,"Frequency","Factor","Collections","Data topics",{"$nulls":4},"Collections"]
[null,"annual",1,{"$f":"COUNTIF(DetailList!J:J,$B85)-E85","v":108},{"$f":"SUMIF(DetailList!J:J,$B85,DetailList!$AU:$AU)","v":252},{"$nulls":4},{"$f":"REPT(\"I\",D85)","v":"IIIIIIIIIIIIIIIIIIIIIIIIIIIIIIIIIIIIIIIIIIIIIIIIIIIIIIIIIIIIIIIIIIIIIIIIIIIIIIIIIIIIIIIIIIIIIIIIIIIIIIIIIIII"}]
[null,"as required",1,{"$f":"COUNTIF(DetailList!J:J,$B86)-E86","v":7},{"$f":"SUMIF(DetailList!J:J,$B86,DetailList!$AU:$AU)","v":6},{"$nulls":4},{"$f":"REPT(\"I\",D86)","v":"IIIIIII"}]
[null,"biannual",2,{"$f":"COUNTIF(DetailList!J:J,$B87)-E87","v":0},{"$f":"SUMIF(DetailList!J:J,$B87,DetailList!$AU:$AU)","v":0},{"$nulls":4},""]
[null,"continuous",1,{"$f":"COUNTIF(DetailList!J:J,$B88)-E88","v":3},{"$f":"SUMIF(DetailList!J:J,$B88,DetailList!$AU:$AU)","v":13},{"$nulls":4},"III"]
[null,"every 2 years",0.5,{"$f":"COUNTIF(DetailList!J:J,$B89)-E89","v":1},{"$f":"SUMIF(DetailList!J:J,$B89,DetailList!$AU:$AU)","v":7},{"$nulls":4},"I"]
[null,"every 3 years",0.3333,{"$f":"COUNTIF(DetailList!J:J,$B90)-E90","v":1},{"$f":"SUMIF(DetailList!J:J,$B90,DetailList!$AU:$AU)","v":3},{"$nulls":4},"I"]
[null,"every 6 years",0.1667,{"$f":"COUNTIF(DetailList!J:J,$B91)-E91","v":3},{"$f":"SUMIF(DetailList!J:J,$B91,DetailList!$AU:$AU)","v":0},{"$nulls":4},{"$f":"REPT(\"I\",D91)","v":"III"}]
[null,"every 6 months",2,{"$f":"COUNTIF(DetailList!J:J,$B92)-E92","v":2},{"$f":"SUMIF(DetailList!J:J,$B92,DetailList!$AU:$AU)","v":4},{"$nulls":4},"II"]
[null,"monthly",12,{"$f":"COUNTIF(DetailList!J:J,$B93)-E93","v":5},{"$f":"SUMIF(DetailList!J:J,$B93,DetailList!$AU:$AU)","v":24},{"$nulls":4},"IIIII"]
[null,"monthly or quarterly",12,{"$f":"COUNTIF(DetailList!J:J,$B94)-E94","v":1},{"$f":"SUMIF(DetailList!J:J,$B94,DetailList!$AU:$AU)","v":1},{"$nulls":4},"I"]
[null,"quarterly",4,{"$f":"COUNTIF(DetailList!J:J,$B95)-E95","v":-16},{"$f":"SUMIF(DetailList!J:J,$B95,DetailList!$AU:$AU)","v":81},{"$nulls":4},{"$error":"#VALUE!"}]
[null,"quarterly and annual",5,{"$f":"COUNTIF(DetailList!J:J,$B96)-E96","v":0},{"$f":"SUMIF(DetailList!J:J,$B96,DetailList!$AU:$AU)","v":0},{"$nulls":4},""]
[null,"termly (3/year)",3,{"$f":"COUNTIF(DetailList!J:J,$B97)-E97","v":-4},{"$f":"SUMIF(DetailList!J:J,$B97,DetailList!$AU:$AU)","v":15},{"$nulls":4},{"$error":"#VALUE!"}]
[null,"three times a year",3,{"$f":"COUNTIF(DetailList!J:J,$B98)-E98","v":2},{"$f":"SUMIF(DetailList!J:J,$B98,DetailList!$AU:$AU)","v":2},{"$nulls":4},{"$f":"REPT(\"I\",D98)","v":"II"}]
[null,"four times a year",4,{"$f":"COUNTIF(DetailList!J:J,$B99)-E99","v":1},{"$f":"SUMIF(DetailList!J:J,$B99,DetailList!$AU:$AU)","v":1},{"$nulls":4},{"$f":"REPT(\"I\",D99)","v":"I"}]
[null,"other",1,{"$f":"COUNTIF(DetailList!J:J,$B100)-E100","v":0},{"$f":"SUMIF(DetailList!J:J,$B100,DetailList!$AU:$AU)","v":0},{"$nulls":4},{"$f":"REPT(\"I\",D100)","v":""}]
[null,"not decided",1,{"$f":"COUNTIF(DetailList!J:J,$B101)-E101","v":0},{"$f":"SUMIF(DetailList!J:J,$B101,DetailList!$AU:$AU)","v":0},{"$nulls":4},{"$f":"REPT(\"I\",D101)","v":""}]
[null,"other-see comments",1,{"$f":"COUNTIF(DetailList!J:J,$B102)-E102","v":1},{"$f":"SUMIF(DetailList!J:J,$B102,DetailList!$AU:$AU)","v":1},{"$nulls":4},"I"]
[{"$nulls":3},{"$f":"SUM(D85:D102)","v":115},{"$f":"SUM(E85:E102)","v":410}]
[]
[{"$nulls":3},"Main",null,"Pending",null,"Total"]
[null,"Collection type",null,"Collections",null,"Collections",null,"Collections",null,"Collections"]
[null,"aggregate/summary",null,{"$f":"COUNTIF(DetailList!$AS:$AS,$B107)","v":93},null,{"$f":"COUNTIF(DetailListPending!$AS:$AS,$B107)","v":0},null,{"$f":"D107+F107","v":93},null,{"$f":"REPT(\"I\",D107)","v":"IIIIIIIIIIIIIIIIIIIIIIIIIIIIIIIIIIIIIIIIIIIIIIIIIIIIIIIIIIIIIIIIIIIIIIIIIIIIIIIIIIIIIIIIIIIII"}]
[null,"client based",null,{"$f":"COUNTIF(DetailList!$AS:$AS,$B108)","v":19},null,{"$f":"COUNTIF(DetailListPending!$AS:$AS,$B108)","v":0},null,{"$f":"D108+F108","v":19},null,{"$f":"REPT(\"I\",D108)","v":"IIIIIIIIIIIIIIIIIII"}]
[null,"case based",null,{"$f":"COUNTIF(DetailList!$AS:$AS,$B109)","v":9},null,{"$f":"COUNTIF(DetailListPending!$AS:$AS,$B109)","v":0},null,{"$f":"D109+F109","v":9},null,{"$f":"REPT(\"I\",D109)","v":"IIIIIIIII"}]
[null,"assessment score",null,{"$f":"COUNTIF(DetailList!$AS:$AS,$B110)","v":0},null,{"$f":"COUNTIF(DetailListPending!$AS:$AS,$B110)","v":0},null,{"$f":"D110+F110","v":0},null,{"$f":"REPT(\"I\",D110)","v":""}]
[null,"n/k",null,{"$f":"COUNTIF(DetailList!$AS:$AS,$B111)","v":6},null,{"$f":"COUNTIF(DetailListPending!$AS:$AS,$B111)","v":0},null,{"$f":"D111+F111","v":6},null,{"$f":"REPT(\"I\",D111)","v":"IIIIII"}]
[{"$nulls":3},{"$f":"SUM(D107:D111)","v":127}]
{"$rows_empty":11}
[null,"Theme","Dept"]
[]
[null,"Trading standards","BIS"]
[null,"Skills","BIS"]
[null,"Communities","DCLG"]
[null,"Fire","DCLG"]
[null,"Housing","DCLG"]
[null,"Local government","DCLG"]
[null,"Planning","DCLG"]
[null,"Regeneration","DCLG"]
[null,"Climate change","DECC"]
[null,"Environmental quality","DEFRA"]
[null,"Farming","DEFRA"]
[null,"Flooding & coastal change","DEFRA"]
[null,"Food","DEFRA"]
[null,"Sustainability","DEFRA"]
[null,"Waste & recycling","DEFRA"]
[null,"Schools","DfE"]
[null,"Children & young people","DfE"]

{"sheet":"Removed","index":10,"n_rows":588,"n_cols":59,"rows_kept":588,"hidden":true}
["     Level","Ref","Data collection name","Data topic","Dept","     New","     National Statistics","     EU/Int. legal obligations","     UK legal obligation","Freq.","Authority group","Short description","Comments","Links",".","Link to return","Link to example of published data","     ALB","NI","     County council","     District council","     Metropolitan district","     Unitary authority","     London borough","     City of London","     Isles of Scilly","     Fire & rescue authority","     Police authority","     Joint waste authority","     Waste disposal authority","     National park authority","     Integrated transport authority","     GLA","     Transport for London","     London Development Agency","     London Fire & Emergency Planning authority","     Metropolitan Police Authority","     Broads Authority","     Joint authority","     Combined authority","     Parish council","     Parish meeting","Authority comments","Authority classes","Collection type","Format","Data topics",".","Theme","Contact",".","Ref part 1","Ref part 2",".","Level","Dept. sort","List order","Unique ranking value","Rank"]
["C",{"$f":"TEXT(AZ2,\"000\")&\"-\"&TEXT(BA2,\"00\")","v":"077-00"},"Fixed penalty notices issued for 15 offences [NO LONGER REQUIRED]",null,"DEFRA",{"$nulls":4},"n/k","n/k","Data on fixed penalty notices for low level environmental crimes including littering, graffiti, fly posting and dog fouling.","Fixed penalty notices (FPNs) provide enforcement agencies with an effective and visible way of responding to low level environmental crimes including littering, graffiti, fly posting and dog fouling.  Government wishes to encourage their use by local authorities and other agencies including parish councils and national park authorities. Data on the number of FPNs for environmental offences issued by English local authorities has been collected annually since 1997. The introduction of the Clean Neighborhoods and Environment Act 2005 enabled more comprehensive information for environmental crimes to be collated, other than litter and dog fouling, which was the case prior to this. We requested data on the number of fines issued, the number paid, the number cancelled, the number that went to court and the amount of revenue collected from payments. We have published this on the Defra website each year; however we will not be continuing this from 2010.",{"$f":"IF(OR($A2<>\"C\",P2=\"\"),\"\",HYPERLINK(P2,\"Collection\"))","v":""},{"$f":"IF(OR($A2<>\"C\",Q2=\"\"),\"\",HYPERLINK(Q2,\"Data\"))","v":""},{"$nulls":31},{"$f":"IF($A2=\"C\",COUNTIF(C:C,C2)-1,\"\")","v":1},null,"Environmental quality",null,null,77,0,null,{"$f":"IF(A2=\"D\",1,0)","v":0},{"$f":"MATCH(E2,DeptAbbr,0)","v":8},{"$f":"ROW()-1","v":1},{"$f":"(BC2*1000000)+(BD2*1000)+BE2","v":8001},{"$f":"RANK(BF2,BF:BF,1)","v":{"$error":"#N/A"}}]
["D","077-01",{"$f":"C2","v":"Fixed penalty notices issued for 15 offences [NO LONGER REQUIRED]"},"[no longer required]",{"$f":"E2","v":"DEFRA"},{"$nulls":4},{"$f":"J2","v":"n/k"},{"$f":"K2","v":"n/k"},null,null,"","",null,null,{"$f":"R2","v":0},{"$nulls":28},"",null,{"$f":"AW2","v":"Environmental quality"},null,null,77,1,null,1,8,2,1008002,{"$error":"#N/A"}]
["C","084-00","Annual farming surveys, crops, livestock and labour.",null,"DEFRA",null,null,"Y",null,"n/k","n/k",null,"Survey of farms, not local authorities per se.","","",{"$nulls":31},1,null,"Farming",null,null,84,0,null,0,8,3,8003,{"$error":"#N/A"}]
["D","084-01",{"$f":"C4","v":"Annual farming surveys, crops, livestock and labour."},"[no detail]",{"$f":"E4","v":"DEFRA"},null,null,"Y",null,{"$f":"J4","v":"n/k"},{"$f":"K4","v":"n/k"},null,null,"","",null,null,{"$f":"R4","v":0},{"$nulls":28},"",null,{"$f":"AW4","v":"Farming"},null,null,84,1,null,1,8,4,1008004,{"$error":"#N/A"}]
["C","025-00","Local Development Framework Database (GOs)",null,"DCLG",null,"N",null,null,"continuous","Unitary authorities and districts","Progress on the adoption of development plan documents","Held by Government Offices in the Regions","","Data",null,"http://www.communities.gov.uk/publications/corporate/clgcorefinancial200910",{"$nulls":29},1,null,"Planning",null,null,25,0,null,0,5,5,5005,{"$error":"#N/A"}]
["D","025-01",{"$f":"C6","v":"Local Development Framework Database (GOs)"},"Progress on the adoption of development plan documents",{"$f":"E6","v":"DCLG"},null,"N",null,null,{"$f":"J6","v":"continuous"},{"$f":"K6","v":"Unitary authorities and districts"},null,null,"","",null,null,{"$f":"R6","v":0},{"$nulls":28},"",null,{"$f":"AW6","v":"Planning"},null,null,25,1,null,1,5,6,1005006,{"$error":"#N/A"}]
["C","076-00","Local Air Quality Management (LAQM) reporting",null,"DEFRA",null,null,"Y","Y","n/k","n/k","Updating & Screening Assessments, Action Plans, Action Plan Progress Reports, Further & Detailed Assessments.  Air Quality Grant data","Local Authorities report data streams to as part of their statutory requirements under the Local Air Quality Management (LAQM)  - Section 84 of the Environment Act 1995–  These data include: Updating & Screening Assessments, Action Plans, Action Plan Progress Reports, Further & Detailed Assessments.  Also – Air Quality Grant data.","","",{"$nulls":31},1,null,"Environmental quality",null,null,76,0,null,0,8,7,8007,{"$error":"#N/A"}]
["D","076-01",{"$f":"C8","v":"Local Air Quality Management (LAQM) reporting"},"[Detail to be confirmed]",{"$f":"E8","v":"DEFRA"},null,null,"Y","Y",{"$f":"J8","v":"n/k"},{"$f":"K8","v":"n/k"},null,null,"","",null,null,{"$f":"R8","v":0},{"$nulls":28},"",null,{"$f":"AW8","v":"Environmental quality"},null,null,76,1,null,1,8,8,1008008,{"$error":"#N/A"}]
["C","145-00","National Child Measurement Programme",null,"DH","Y",{"$nulls":3},"n/k","n/k","Proposed for 2012","Introduction proposed for 2012","","",{"$nulls":31},1,{"$nulls":4},145,0,null,0,{"$error":"#N/A"},9,{"$error":"#N/A"},{"$error":"#N/A"}]
["D","145-01",{"$f":"C10","v":"National Child Measurement Programme"},"[no detail]",{"$f":"E10","v":"DH"},"Y",{"$nulls":3},{"$f":"J10","v":"n/k"},{"$f":"K10","v":"n/k"},null,null,"","",null,null,{"$f":"R10","v":0},{"$nulls":28},"",null,{"$f":"AW10","v":0},null,null,145,1,null,1,{"$error":"#N/A"},10,{"$error":"#N/A"},{"$error":"#N/A"}]
["C","097-00","Merged with 096",null,"DfE",{"$nulls":8},"","",{"$nulls":31},4,{"$nulls":4},97,0,null,0,9,11,9011,{"$error":"#N/A"}]
["D","097-01",{"$f":"C12","v":"Merged with 096"},"[merged]",{"$f":"E12","v":"DfE"},{"$nulls":4},{"$f":"J12","v":0},0,null,null,"","",null,null,{"$f":"R12","v":0},{"$nulls":28},"",null,{"$f":"AW12","v":0},null,null,97,1,null,1,9,12,1009012,{"$error":"#N/A"}]
["D","097-02",{"$f":"C13","v":"Merged with 096"},"[merged]",{"$f":"E13","v":"DfE"},{"$nulls":4},0,0,null,null,"","",null,null,{"$f":"R13","v":0},{"$nulls":28},"",null,{"$f":"AW13","v":0},null,null,97,2,null,1,9,13,1009013,{"$error":"#N/A"}]
["D","097-03",{"$f":"C14","v":"Merged with 096"},"[merged]",{"$f":"E14","v":"DfE"},{"$nulls":4},0,0,null,null,"","",null,null,{"$f":"R14","v":0},{"$nulls":28},"",null,{"$f":"AW14","v":0},null,null,97,3,null,1,9,14,1009014,{"$error":"#N/A"}]
["D","097-04",{"$f":"C15","v":"Merged with 096"},"[merged]",{"$f":"E15","v":"DfE"},{"$nulls":4},0,0,null,null,"","",null,null,{"$f":"R15","v":0},{"$nulls":28},"",null,{"$f":"AW15","v":0},null,null,97,4,null,1,9,15,1009015,{"$error":"#N/A"}]
["C","106-00","Merged with 105",null,"DfE",{"$nulls":8},"","",{"$nulls":31},3,{"$nulls":4},106,0,null,0,9,16,9016,{"$error":"#N/A"}]
["D","106-01",{"$f":"C17","v":"Merged with 105"},"[merged]",{"$f":"E17","v":"DfE"},{"$nulls":4},{"$f":"J17","v":0},0,null,null,"","",null,null,{"$f":"R17","v":0},{"$nulls":28},"",null,{"$f":"AW17","v":0},null,null,106,1,null,1,9,17,1009017,{"$error":"#N/A"}]
["D","106-02",{"$f":"C18","v":"Merged with 105"},"[merged]",{"$f":"E18","v":"DfE"},{"$nulls":4},0,0,null,null,"","",null,null,{"$f":"R18","v":0},{"$nulls":28},"",null,{"$f":"AW18","v":0},null,null,106,2,null,1,9,18,1009018,{"$error":"#N/A"}]
["D","106-03",{"$f":"C19","v":"Merged with 105"},"[merged]",{"$f":"E19","v":"DfE"},{"$nulls":4},0,0,null,null,"","",null,null,{"$f":"R19","v":0},{"$nulls":28},"",null,{"$f":"AW19","v":0},null,null,106,3,null,1,9,19,1009019,{"$error":"#N/A"}]
["C","112-00","Merged with 111",null,"DfE",{"$nulls":8},"","",{"$nulls":31},5,{"$nulls":4},112,0,null,0,9,20,9020,{"$error":"#N/A"}]
["D","112-01",{"$f":"C21","v":"Merged with 111"},"[merged]",{"$f":"E21","v":"DfE"},{"$nulls":4},{"$f":"J21","v":0},0,null,null,"","",null,null,{"$f":"R21","v":0},{"$nulls":28},{"$f":"IF($A22=\"C\",COUNTIF(C:C,C22)-1,\"\")","v":""},null,{"$f":"AW21","v":0},null,null,112,1,null,1,9,21,1009021,{"$error":"#N/A"}]
["D","112-02",{"$f":"C22","v":"Merged with 111"},"[merged]",{"$f":"E22","v":"DfE"},{"$nulls":4},0,0,null,null,"","",null,null,{"$f":"R22","v":0},{"$nulls":28},"",null,{"$f":"AW22","v":0},null,null,112,2,null,1,9,22,1009022,{"$error":"#N/A"}]
["D","112-03",{"$f":"C23","v":"Merged with 111"},"[merged]",{"$f":"E23","v":"DfE"},{"$nulls":4},0,0,null,null,"","",null,null,{"$f":"R23","v":0},{"$nulls":28},"",null,{"$f":"AW23","v":0},null,null,112,3,null,1,9,23,1009023,{"$error":"#N/A"}]
["D","112-04",{"$f":"C24","v":"Merged with 111"},"[merged]",{"$f":"E24","v":"DfE"},{"$nulls":4},0,0,null,null,"","",null,null,{"$f":"R24","v":0},{"$nulls":28},"",null,{"$f":"AW24","v":0},null,null,112,4,null,1,9,24,1009024,{"$error":"#N/A"}]
["D","112-05",{"$f":"C25","v":"Merged with 111"},"[merged]",{"$f":"E25","v":"DfE"},{"$nulls":4},0,0,null,null,"","",null,null,{"$f":"R25","v":0},{"$nulls":28},"",null,{"$f":"AW25","v":0},null,null,112,5,null,1,9,25,1009025,{"$error":"#N/A"}]
["C","049-00","Merged with 048",null,"DCLG",{"$nulls":8},"","",{"$nulls":31},1,{"$nulls":4},49,0,null,0,5,26,5026,{"$error":"#N/A"}]
["D","049-01",{"$f":"C27","v":"Merged with 048"},"[merged]",{"$f":"E27","v":"DCLG"},{"$nulls":4},{"$f":"J27","v":0},{"$f":"K27","v":0},null,null,"","",null,null,{"$f":"R27","v":0},{"$nulls":28},"",null,{"$f":"AW27","v":0},null,null,49,1,null,1,5,27,1005027,{"$error":"#N/A"}]
["C","023-00","Five-year land supply for housing",null,"DCLG",null,"N",null,null,"annual","Unitary authorities and districts","Local planning authorties reported assessments of their five year land supply for housing.","Was NI 159/DSO 5.3. A PP3 requirement","","Data",null,"http://www.communities.gov.uk/publications/corporate/statistics/landsupply2009?view=Standard",{"$nulls":29},1,null,"Planning",null,null,23,0,null,0,5,28,5028,{"$error":"#N/A"}]
["D","023-01",{"$f":"C29","v":"Five-year land supply for housing"},"The percentage of housing requirements for the next five years that could be accommodated on identified sites.",{"$f":"E29","v":"DCLG"},null,"N",null,null,{"$f":"J29","v":"annual"},{"$f":"K29","v":"Unitary authorities and districts"},null,null,"","",null,null,{"$f":"R29","v":0},{"$nulls":28},"",null,{"$f":"AW29","v":"Planning"},null,null,23,1,null,1,5,29,1005029,{"$error":"#N/A"}]
["C","123-00","PSV Bus and Coach Operators Survey",null,"DfT",null,"Y",null,"Y","annual","Other","Survey of operators collecting information on patronage, vehicle kilometres and bus stock. Uses Statistics of Trade Act.","Not a local authority specific return. Collected from a sample of bus & coach operators (including local authority operators).","Collection","Data","http://www.dft.gov.uk/pgr/statistics/datatablespublications/public/bus/technical/psv-survey.pdf","http://www.dft.gov.uk/pgr/statistics/datatablespublications/public/bus/",{"$nulls":29},7,{"$nulls":4},123,0,null,0,11,30,11030,{"$error":"#N/A"}]
["D","123-01",{"$f":"C31","v":"PSV Bus and Coach Operators Survey"},"PSV vehicles and drivers",{"$f":"E31","v":"DfT"},null,"Y",null,"Y",{"$f":"J31","v":"annual"},{"$f":"K31","v":"Other"},null,null,"","",null,null,{"$f":"R31","v":0},{"$nulls":28},"",null,{"$f":"AW31","v":0},null,null,123,1,null,1,11,31,1011031,{"$error":"#N/A"}]
["D","123-02","PSV Bus and Coach Operators Survey","Bus characteristics and age","DfT",null,"Y",null,"Y","annual","Other",null,null,"","",null,null,0,{"$nulls":28},"",null,0,null,null,123,2,null,1,11,32,1011032,{"$error":"#N/A"}]
["D","123-03","PSV Bus and Coach Operators Survey","Bus kilometres and passenger boardings","DfT",null,"Y",null,"Y","annual","Other",null,null,"","",null,null,0,{"$nulls":28},"",null,0,null,null,123,3,null,1,11,33,{"$f":"(BC34*1000000)+(BD34*1000)+BE34","v":1011033},{"$error":"#N/A"}]
["D","123-04","PSV Bus and Coach Operators Survey","PSV revenue","DfT",null,"Y",null,"Y","annual","Other",null,null,"","",null,null,0,{"$nulls":28},"",null,0,null,null,123,4,null,1,11,34,1011034,{"$error":"#N/A"}]
["D","123-05","PSV Bus and Coach Operators Survey","Operating costs","DfT",null,"Y",null,"Y","annual","Other",null,null,"","",null,null,0,{"$nulls":28},"",null,0,null,null,123,5,null,1,11,35,1011035,{"$error":"#N/A"}]
["D","123-06","PSV Bus and Coach Operators Survey","Revenue for operations outside of main local authority area","DfT",null,"Y",null,"Y","annual","Other",null,null,"","",null,null,0,{"$nulls":28},"",null,0,null,null,123,6,null,1,11,36,1011036,{"$error":"#N/A"}]
["D","123-07","PSV Bus and Coach Operators Survey","Coach kilometres and passenger boardings","DfT",null,"Y",null,"Y","annual","Other",null,null,"","",null,null,0,{"$nulls":28},"",null,0,null,null,123,7,null,1,11,37,1011037,{"$error":"#N/A"}]
["C","169-00","Disabled Facilities Grant",null,"DCLG",null,"N",null,null,"annual","Unitary authorities and districts","Data to inform the allocation of Disabled Facilities Grant","Collected on LOGASNet","","",{"$nulls":31},1,null,"Housing",null,null,169,0,null,0,5,38,5038,{"$error":"#N/A"}]
["D","169-01",{"$f":"C39","v":"Disabled Facilities Grant"},"[no detail]",{"$f":"E39","v":"DCLG"},null,"N",null,null,{"$f":"J39","v":"annual"},{"$f":"K39","v":"Unitary authorities and districts"},null,null,"","",null,null,{"$f":"R39","v":0},{"$nulls":28},"",null,{"$f":"AW39","v":"Housing"},null,null,169,1,null,1,5,39,1005039,{"$error":"#N/A"}]
["C",{"$f":"TEXT(AZ41,\"000\")&\"-\"&TEXT(BA41,\"00\")","v":"011-00"},"Supporting People Client Records and Outcomes",null,"DCLG",null,"N",null,null,"quarterly","Unitary authorities and counties","Client record data from Supporting People service providers.",null,{"$f":"IF(OR($A41<>\"C\",P41=\"\"),\"\",HYPERLINK(P41,\"Collection\"))","v":"Collection"},{"$f":"IF(OR($A41<>\"C\",Q41=\"\"),\"\",HYPERLINK(Q41,\"Data\"))","v":"Data"},"http://www.communities.gov.uk/housing/housingresearch/housingstatistics/housingstatisticsby/supportingpeople/overview/","http://www.communities.gov.uk/housing/housingresearch/housingstatistics/housingstatisticsby/supportingpeople/",{"$nulls":29},6,null,"Housing",null,null,11,0,null,0,5,{"$f":"ROW()-1","v":40},5040,{"$error":"#N/A"}]
["D","011-01",{"$f":"C41","v":"Supporting People Client Records and Outcomes"},"Clients entering Supporting People services, by service type",{"$f":"E41","v":"DCLG"},null,"N",null,null,{"$f":"J41","v":"quarterly"},{"$f":"K41","v":"Unitary authorities and counties"},null,null,"","",null,null,{"$f":"R41","v":0},{"$nulls":28},"",null,{"$f":"AW41","v":"Housing"},null,null,11,1,null,1,5,41,1005041,{"$error":"#N/A"}]
["D","011-02","Supporting People Client Records and Outcomes","Clients entering Supporting People services, by primary client group","DCLG",null,"N",null,null,"quarterly","Unitary authorities and counties",null,null,"","",null,null,0,{"$nulls":28},"",null,"Housing",null,null,11,2,null,1,5,42,1005042,{"$error":"#N/A"}]
["D","011-03","Supporting People Client Records and Outcomes","Outcomes for short-term services for clients leaving Supporting People, by service type","DCLG",null,"N",null,null,"quarterly","Unitary authorities and counties",null,null,"","",null,null,0,{"$nulls":28},"",null,"Housing",null,null,11,3,null,1,5,43,1005043,{"$error":"#N/A"}]
["D","011-04","Supporting People Client Records and Outcomes","Outcomes for short-term services for clients leaving Supporting People, by primary client group","DCLG",null,"N",null,null,"quarterly","Unitary authorities and counties",null,null,"","",null,null,0,{"$nulls":28},"",null,"Housing",null,null,11,4,null,1,5,44,1005044,{"$error":"#N/A"}]
["D","011-05","Supporting People Client Records and Outcomes","Outcomes for short-term services for clients leaving Supporting People achieving outcomes, by support need identified","DCLG",null,"N",null,null,"quarterly","Unitary authorities and counties",null,null,"","",null,null,0,{"$nulls":28},"",null,"Housing",null,null,11,5,null,1,5,45,1005045,{"$error":"#N/A"}]
["D","011-06","Supporting People Client Records and Outcomes","Outcomes for long-term services for clients leaving Supporting People achieving outcomes, by support need identified","DCLG",null,"N",null,null,"quarterly","Unitary authorities and counties",null,null,"","",null,null,0,{"$nulls":28},"",null,"Housing",null,null,11,6,null,1,5,46,1005046,{"$error":"#N/A"}]
["C","006-00","Business Plan Statistical Appendix - Early Decent Homes (BPSA-EDH)",null,"DCLG",null,"N",null,null,"annual","Unitary authorities and districts","Data on local authorities' own housing stock.","The purpose of the business plan statistical appendix (BPSA) is to bring together information about your housing revenue account (HRA) stock. It draws together information relevant to the formulation of your HRA business plan and reports progress made during the last financial year. All the information presented in the BPSA is relevant data underpinning your business planning but presented in a format to ensure consistency between local authorities (LAs). This enables readers to gain an overview of your position and will inform Government Office assessments. This information is used centrally to inform policy development and monitoring.","Collection","Data","http://www.communities.gov.uk/publications/housing/bpsadecenthomes","http://www.communities.gov.uk/housing/housingresearch/housingstatistics/housingstatisticsby/localauthorityhousing/dataforms/hssa0910/bpsaedhdata200910/",{"$nulls":27},"aggregate/sumary","Spreadsheet",2,null,"Housing",null,null,6,0,null,0,5,47,5047,{"$error":"#N/A"}]
["D","006-01",{"$f":"C48","v":"Business Plan Statistical Appendix - Early Decent Homes (BPSA-EDH)"},"Number of dwellings owned by the authority (BPSA-EDH Section A)",{"$f":"E48","v":"DCLG"},null,"N",null,null,{"$f":"J48","v":"annual"},{"$f":"K48","v":"Unitary authorities and districts"},null,null,"","",null,null,{"$f":"R48","v":0},{"$nulls":28},"",null,{"$f":"AW48","v":"Housing"},null,null,6,1,null,1,5,48,1005048,{"$error":"#N/A"}]
["D","006-02",{"$f":"C49","v":"Business Plan Statistical Appendix - Early Decent Homes (BPSA-EDH)"},"Decent Home Delivery (BPSA-EDH Section B)",{"$f":"E49","v":"DCLG"},null,"N",null,null,{"$f":"J49","v":"annual"},{"$f":"K49","v":"Unitary authorities and districts"},null,null,"","",null,null,{"$f":"R49","v":0},{"$nulls":28},"",null,{"$f":"AW49","v":"Housing"},null,null,6,2,null,1,5,49,1005049,{"$error":"#N/A"}]
["C","156-00","Young people within the Youth Justice System receiving a conviction in court who are sentenced to custody - UNDER REVIEW",null,"MOJ",{"$nulls":4},"n/k","Unitary authorities and counties",null,"Currently under review - may be collected from YOTs, or may be obtained centrally from management information systems.","","",{"$nulls":31},1,{"$nulls":4},156,0,null,0,23,50,23050,{"$error":"#N/A"}]
["D","156-01",{"$f":"C51","v":"Young people within the Youth Justice System receiving a conviction in court who are sentenced to custody - UNDER REVIEW"},"Number of young people in custody",{"$f":"E51","v":"MOJ"},{"$nulls":4},{"$f":"J51","v":"n/k"},{"$f":"K51","v":"Unitary authorities and counties"},null,null,"","",null,null,{"$f":"R51","v":0},{"$nulls":28},"",null,{"$f":"AW51","v":0},null,null,156,1,null,1,23,51,1023051,{"$error":"#N/A"}]
["C","099-00","Extension of nursery funding to 2 year-olds",null,"DfE","Y","Y",null,null,"annual","Unitary authorities and counties","Extension of the Early Years Census to cover two-year olds",null,"","",{"$nulls":31},1,{"$nulls":4},99,0,null,0,9,52,9052,{"$error":"#N/A"}]
["D","099-01",{"$f":"C53","v":"Extension of nursery funding to 2 year-olds"},"As per Early Years Census",{"$f":"E53","v":"DfE"},"Y","Y",null,null,{"$f":"J53","v":"annual"},{"$f":"K53","v":"Unitary authorities and counties"},null,null,"","",null,null,{"$f":"R53","v":0},{"$nulls":28},{"$f":"IF($A54=\"C\",COUNTIF(C:C,C54)-1,\"\")","v":""},null,{"$f":"AW53","v":0},null,null,99,1,null,1,9,53,1009053,{"$error":"#N/A"}]
["C","012-00","Supporting People Local System data",null,"DCLG",null,"N",null,null,"quarterly","Unitary authorities and counties","Supporting People Local System data relating to the supply, performance and spend on housing related support services.",null,"Collection","Data","http://www.communities.gov.uk/publications/housing/supportingpeopledata","http://www.communities.gov.uk/publications/housing/supportingpeopledata",null,"141, 142",{"$nulls":27},2,null,"Housing",null,null,12,0,null,0,5,54,5054,{"$error":"#N/A"}]
["D","012-01",{"$f":"C55","v":"Supporting People Local System data"},"Number of housing-related support services administered",{"$f":"E55","v":"DCLG"},null,"N",null,null,{"$f":"J55","v":"quarterly"},{"$f":"K55","v":"Unitary authorities and counties"},null,null,"","",null,null,{"$f":"R55","v":0},{"$nulls":28},"",null,{"$f":"AW55","v":"Housing"},null,null,12,1,null,1,5,55,1005055,{"$error":"#N/A"}]
["D","012-02",{"$f":"C56","v":"Supporting People Local System data"},"Capacity of housing-related support services administered, measured in household units",{"$f":"E56","v":"DCLG"},null,"N",null,null,{"$f":"J56","v":"quarterly"},{"$f":"K56","v":"Unitary authorities and counties"},null,null,"","",null,null,{"$f":"R56","v":0},{"$nulls":28},"",null,{"$f":"AW56","v":"Housing"},null,null,12,2,null,1,5,56,1005056,{"$error":"#N/A"}]
["C","093-00","Childcare and Early Years Providers Survey",null,"DfE",null,"N",null,null,"annual","Upper tier & single tier","Survey of providers on issues surrounding staffing, training and recruitment of staff",null,"","",{"$nulls":4},"Y",null,"Y","Y","Y","Y","Y",{"$nulls":17},"County council, Metropolitan district, Unitary authority, London borough, City of London, Isles of Scilly",null,null,1,{"$nulls":4},93,0,null,0,9,57,9057,{"$error":"#N/A"}]
["D","093-01",{"$f":"C58","v":"Childcare and Early Years Providers Survey"},"Survey of providers on issues surrounding staffing, training and recruitment of staff",{"$f":"E58","v":"DfE"},null,"N",null,null,{"$f":"J58","v":"annual"},{"$f":"K58","v":"Upper tier & single tier"},null,null,"","",null,null,{"$f":"R58","v":0},{"$nulls":28},"",null,{"$f":"AW58","v":0},null,null,93,1,null,1,9,58,1009058,{"$error":"#N/A"}]
["C","095-00","Children's Centres ",null,"DfE",null,"N",null,null,"as required","Upper tier & single tier","Basic details about children's centres",null,"","",{"$nulls":3},109,"Y",null,"Y","Y","Y","Y","Y",{"$nulls":17},"County council, Metropolitan district, Unitary authority, London borough, City of London, Isles of Scilly",null,null,2,{"$nulls":4},95,0,null,0,9,59,9059,{"$error":"#N/A"}]
["D","095-01",{"$f":"C60","v":"Children's Centres "},"Basic details about children's centres such as location and contact information",{"$f":"E60","v":"DfE"},null,"N",null,null,{"$f":"J60","v":"as required"},{"$f":"K60","v":"Upper tier & single tier"},null,null,"","",null,null,{"$f":"R60","v":0},{"$nulls":28},"",null,{"$f":"AW60","v":0},null,null,95,1,null,1,9,60,1009060,{"$error":"#N/A"}]
["D",{"$f":"TEXT(AZ62,\"000\")&\"-\"&TEXT(BA62,\"00\")","v":"095-02"},{"$f":"C61","v":"Children's Centres "},"Information to support the evaluation of children's centres",{"$f":"E61","v":"DfE"},null,"N",null,null,{"$f":"J61","v":"as required"},{"$f":"K61","v":"Upper tier & single tier"},null,null,{"$f":"IF(OR($A62<>\"C\",P62=\"\"),\"\",HYPERLINK(P62,\"Collection\"))","v":""},{"$f":"IF(OR($A62<>\"C\",Q62=\"\"),\"\",HYPERLINK(Q62,\"Data\"))","v":""},null,null,{"$f":"R61","v":0},{"$nulls":28},"",null,{"$f":"AW61","v":0},null,null,95,2,null,1,9,61,1009061,{"$error":"#N/A"}]
["C",{"$f":"TEXT(AZ63,\"000\")&\"-\"&TEXT(BA63,\"00\")","v":"103-00"},"Music Grant - use of",null,"DfE",null,"N",null,null,"as required","Upper tier & single tier",null,"Currently a voluntary collection - but may become mandatory with changes in the funding system",{"$f":"IF(OR($A63<>\"C\",P63=\"\"),\"\",HYPERLINK(P63,\"Collection\"))","v":""},{"$f":"IF(OR($A63<>\"C\",Q63=\"\"),\"\",HYPERLINK(Q63,\"Data\"))","v":""},{"$nulls":4},"Y",null,"Y","Y","Y","Y","Y",{"$nulls":17},"County council, Metropolitan district, Unitary authority, London borough, City of London, Isles of Scilly",null,null,1,{"$nulls":4},103,0,null,0,9,62,9062,{"$error":"#N/A"}]
["D",{"$f":"TEXT(AZ64,\"000\")&\"-\"&TEXT(BA64,\"00\")","v":"103-01"},{"$f":"C63","v":"Music Grant - use of"},"Use made of specific funds for music education",{"$f":"E63","v":"DfE"},null,"N",null,null,{"$f":"J63","v":"as required"},{"$f":"K63","v":"Upper tier & single tier"},null,null,{"$f":"IF(OR($A64<>\"C\",P64=\"\"),\"\",HYPERLINK(P64,\"Collection\"))","v":""},{"$f":"IF(OR($A64<>\"C\",Q64=\"\"),\"\",HYPERLINK(Q64,\"Data\"))","v":""},null,null,{"$f":"R63","v":0},{"$nulls":28},"",null,{"$f":"AW63","v":0},null,null,103,1,null,1,9,63,1009063,{"$error":"#N/A"}]
["C",{"$f":"TEXT(AZ65,\"000\")&\"-\"&TEXT(BA65,\"00\")","v":"141-00"},"Capturing Regulatory Information on a Local Level (CRILL)",null,"DH",{"$nulls":4},"annual","Upper tier & single tier","Information on the commissioning patterns of local Councils and the placements made into registered residential or domiciliary care services.","The CRILL return collects information on the commissioning patterns of local Councils and the placements made into registered residential or domiciliary care services on an annual basis.  It demonstrates the quality of the local care market, to support local commissioners through benchmarking.  Up to 2010/11, this has been collected by the Care Quality Commission as part of their regulatory assessment of Councils, however following the end of the annual performance assessment process from 2011/12, this data collection will transfer to the NHS Information Centre to combine requirements into a single data set.  Estimated compliance costs for the CRILL return were in the region of £175,000 nationally in 2009/10.  The status of the return and all existing social care activity-based data returns is subject to change in the medium-term through the ongoing ‘zero-based’ review.  This review is likely to lead to changes in social care data requirements to reduce and rationalise the data set from 2012/13 onwards, subject to the views of the social care sector.",{"$f":"IF(OR($A65<>\"C\",P65=\"\"),\"\",HYPERLINK(P65,\"Collection\"))","v":""},{"$f":"IF(OR($A65<>\"C\",Q65=\"\"),\"\",HYPERLINK(Q65,\"Data\"))","v":""},{"$nulls":4},"Y",null,"Y","Y","Y","Y","Y",{"$nulls":17},"County council, Metropolitan district, Unitary authority, London borough, City of London, Isles of Scilly",null,null,1,{"$nulls":4},141,0,null,0,{"$error":"#N/A"},{"$f":"ROW()-1","v":64},{"$f":"(BC65*1000000)+(BD65*1000)+BE65","v":{"$error":"#N/A"}},{"$error":"#N/A"}]
["D","141-01",{"$f":"C65","v":"Capturing Regulatory Information on a Local Level (CRILL)"},"Information on commissioning patterns and the placements made into registered residential or domiciliary care services",{"$f":"E65","v":"DH"},{"$nulls":4},{"$f":"J65","v":"annual"},{"$f":"K65","v":"Upper tier & single tier"},null,null,"","",null,null,{"$f":"R65","v":0},{"$nulls":28},"",null,{"$f":"AW65","v":0},null,null,141,1,null,{"$f":"IF(A66=\"D\",1,0)","v":1},{"$f":"MATCH(E66,DeptAbbr,0)","v":{"$error":"#N/A"}},65,{"$error":"#N/A"},{"$f":"RANK(BF66,BF:BF,1)","v":{"$error":"#N/A"}}]
["C","019-00","Affordable Housing Grant - UNDER CONSIDERATION",null,"DCLG","Y","N",null,null,"not decided","Single tier & lower tier","Possible - local authority data relevant to measuring affordable housing grant per dwelling.","Possible additional local authority data to support departmental input indicator on affordable housing grant per dwelling (subject to further work being done to refine and test the feasibility of this measure in the new affordable rents model). It should become clearer whether or not extra data will need to be collected once the proposals for the Affordable Rents Scheme have been published.","","",{"$nulls":5},"Y","Y","Y","Y","Y","Y",{"$nulls":17},"District council, Metropolitan district, Unitary authority, London borough, City of London, Isles of Scilly",null,null,1,null,"Housing","Peter Sellen",null,19,0,null,0,5,66,5066,{"$error":"#N/A"}]
["D","019-01",{"$f":"C67","v":"Affordable Housing Grant - UNDER CONSIDERATION"},"Affordable housing grant per dwelling.",{"$f":"E67","v":"DCLG"},"Y","N",null,null,{"$f":"J67","v":"not decided"},{"$f":"K67","v":"Single tier & lower tier"},null,null,"","",null,null,{"$f":"R67","v":0},{"$nulls":28},"",null,{"$f":"AW67","v":"Housing"},null,null,19,1,null,1,5,67,1005067,{"$error":"#N/A"}]
["C","081-00","Compliance with Government Buying Standards - sustainable procurement specifications for goods and services",null,"DEFRA","Y",{"$nulls":3},"annual","Sample of authorities","Use by local authorities of UK or EU sustainable procurement standards.","Scope will be the most environmentally high impact product groups (such as construction, transport, food, ICT, textiles) and a sample of major tenders/contracts (eg. over a certain threshold, possibly the OJEU threshold), rather than the most recent one.  \n\nSince 2003, Government Departments have also been mandated to buy products that meet environmental standards. However uptake has been patchy and, following extensive customer feedback, Defra re-launched these on a new web site as Government Buying Standards in March 2010.  These sustainability standards (at minimum and best practice levels) are for the public procurement of around 60 goods and services, with the aims of reducing the environmental impact across the whole life cycle of a product/service, enabling purchasers to achieve long-term value-for-money, and influencing the supply chain. The products are chosen for their environmental and financial impact, scope for environmental improvement, and political or example-setting function.","","",{"$nulls":4},"Y","Y","Y","Y","Y","Y","Y",{"$nulls":16},"Sample of authorities","County council, District council, Metropolitan district, Unitary authority, London borough, City of London, Isles of Scilly",null,null,1,null,"Sustainability",null,null,81,0,null,0,8,68,8068,{"$error":"#N/A"}]
["D","081-01",{"$f":"C69","v":"Compliance with Government Buying Standards - sustainable procurement specifications for goods and services"},"Information on use of UK Government Buying Standards or  EU Green Public Procurement criteria in most recent major tender or contract",{"$f":"E69","v":"DEFRA"},"Y",{"$nulls":3},{"$f":"J69","v":"annual"},{"$f":"K69","v":"Sample of authorities"},null,null,"","",null,null,{"$f":"R69","v":0},{"$nulls":28},"",null,{"$f":"AW69","v":"Sustainability"},null,null,81,1,null,1,8,69,1008069,{"$error":"#N/A"}]
["C","126-00","Bikeability",null,"DfT",null,"N",null,null,"as required","Upper tier & single tier","Number of people receiving ‘Bikeability’ cycle training",null,"","",{"$nulls":4},"Y",null,"Y","Y","Y","Y",{"$nulls":6},"Y",{"$nulls":11},"County council, Metropolitan district, Unitary authority, London borough, City of London, Integrated transport authority",null,null,7,null,null,"Anna Heyworth",null,126,0,null,0,11,70,11070,{"$error":"#N/A"}]
["D","126-01",{"$f":"C71","v":"Bikeability"},"Bike training delivered",{"$f":"E71","v":"DfT"},null,"N",null,null,{"$f":"J71","v":"as required"},{"$f":"K71","v":"Upper tier & single tier"},null,null,"","",null,null,{"$f":"R71","v":0},{"$nulls":28},"",null,{"$f":"AW71","v":0},null,null,126,1,null,1,11,71,1011071,{"$error":"#N/A"}]
["D","126-02","Bikeability","Bike training planned for next year","DfT",null,"N",null,null,"as required","Upper tier & single tier",null,null,"","",null,null,0,{"$nulls":28},"",null,0,null,null,126,2,null,1,11,72,1011072,{"$error":"#N/A"}]
["D","126-03","Bikeability","Bike training proposed for future years","DfT",null,"N",null,null,"as required","Upper tier & single tier",null,null,"","",null,null,0,{"$nulls":28},"",null,0,null,null,126,3,null,1,11,73,1011073,{"$error":"#N/A"}]
["D","126-04","Bikeability","Other cycle training delivered","DfT",null,"N",null,null,"as required","Upper tier & single tier",null,null,"","",null,null,0,{"$nulls":28},"",null,0,null,null,126,4,null,1,11,74,1011074,{"$error":"#N/A"}]
["D","126-05","Bikeability","Results of cycle training","DfT",null,"N",null,null,"as required","Upper tier & single tier",null,null,"","",null,null,0,{"$nulls":28},"",null,0,null,null,126,5,null,1,11,75,1011075,{"$error":"#N/A"}]
["D","126-06","Bikeability","Barriers to training","DfT",null,"N",null,null,"as required","Upper tier & single tier",null,null,"","",null,null,0,{"$nulls":28},"",null,0,null,null,126,6,null,1,11,76,1011076,{"$error":"#N/A"}]
["D","126-07","Bikeability","Non-school based cycle training","DfT",null,"N",null,null,"as required","Upper tier & single tier",null,null,"","",null,null,0,{"$nulls":28},"",null,0,null,null,126,7,null,1,11,77,1011077,{"$error":"#N/A"}]
["C","062-00","Data Transparency - numerical information",null,"DCLG",null,"N",null,null,"other","All local authorities","Numerical information published under the Code of Recommended Practice for Local Authorities on Data Transparency","Frequency of publication varies according to the category of data.","","Data",null,"http://www.communities.gov.uk/localgovernment/transparency/localgovernmentexpenditure/",null,null,"Y","Y","Y","Y","Y","Y","Y","Y",{"$nulls":16},"County council, District council, Metropolitan district, Unitary authority, London borough, City of London, Isles of Scilly, Fire & rescue authority",null,null,5,null,"Local government","Ruth Miller",null,62,0,null,0,5,78,5078,{"$error":"#N/A"}]
["D","062-01",{"$f":"C79","v":"Data Transparency - numerical information"},"Expenditure over £500, including costs, supplier and transaction information",{"$f":"E79","v":"DCLG"},null,"N",null,null,{"$f":"J79","v":"other"},"All local authorities",null,null,"","",null,null,{"$f":"R79","v":0},{"$nulls":28},"",null,{"$f":"AW79","v":"Local government"},null,null,62,1,null,1,5,79,1005079,{"$error":"#N/A"}]
["D","062-02",{"$f":"C80","v":"Data Transparency - numerical information"},"Senior salaries and associated information",{"$f":"E80","v":"DCLG"},null,"N",null,null,"other","All local authorities",null,null,"","",null,null,{"$f":"R80","v":0},{"$nulls":28},"",null,{"$f":"AW80","v":"Local government"},null,null,62,2,null,1,5,80,1005080,{"$error":"#N/A"}]
["D","062-03",{"$f":"C81","v":"Data Transparency - numerical information"},"Councillor allowances and expenses",{"$f":"E81","v":"DCLG"},null,"N",null,null,"other","All local authorities",null,null,"","",null,null,{"$f":"R81","v":0},{"$nulls":28},"",null,{"$f":"AW81","v":"Local government"},null,null,62,3,null,1,5,81,1005081,{"$error":"#N/A"}]
["D","062-04",{"$f":"C82","v":"Data Transparency - numerical information"},"Contracts and tenders",{"$f":"E82","v":"DCLG"},null,"N",null,null,"other","All local authorities",null,null,"","",null,null,{"$f":"R82","v":0},{"$nulls":28},"",null,{"$f":"AW82","v":"Local government"},null,null,62,4,null,1,5,82,1005082,{"$error":"#N/A"}]
["D","062-05",{"$f":"C83","v":"Data Transparency - numerical information"},"Data on the democratic running of the local authority",{"$f":"E83","v":"DCLG"},null,"N",null,null,"other","All local authorities",null,null,"","",null,null,{"$f":"R83","v":0},{"$nulls":28},"",null,{"$f":"AW83","v":"Local government"},null,null,62,5,null,1,5,83,1005083,{"$error":"#N/A"}]
["C",{"$f":"TEXT(AZ85,\"000\")&\"-\"&TEXT(BA85,\"00\")","v":"212-00"},"Public Sector Equality Duty",null,"HO/GEO","Y",null,null,"Y","other","All local authorities","Data required to be published in accordance with the guidance for local government on the Public Sector Equality Duty under the Equality Act 2010.","Guidance for local authorities is being developed by the LGA.",{"$f":"IF(OR($A85<>\"C\",P85=\"\"),\"\",HYPERLINK(P85,\"Collection\"))","v":""},{"$f":"IF(OR($A85<>\"C\",Q85=\"\"),\"\",HYPERLINK(Q85,\"Data\"))","v":""},{"$nulls":4},"Y","Y","Y","Y","Y","Y","Y","Y","Y","Y","Y","Y","Y","Y","Y","Y","Y","Y","Y","Y","Y",{"$nulls":3},"County council, District council, Metropolitan district, Unitary authority, London borough, City of London, Isles of Scilly, Fire & rescue authority, Police authority, Joint waste authority, Waste disposal authority, National park authority, Integrated transport authority, GLA, Transport for London, London Development Agency, London Fire & Emergency Planning authority, Metropolitan Police Authority, Broads Authority, Joint authority, Combined authority",null,null,4,{"$nulls":4},212,0,null,0,44,84,44084,{"$error":"#N/A"}]
["D",{"$f":"TEXT(AZ86,\"000\")&\"-\"&TEXT(BA86,\"00\")","v":"212-01"},{"$f":"C85","v":"Public Sector Equality Duty"},"Equalities data relating to the local authority workforce",{"$f":"E85","v":"HO/GEO"},{"$nulls":3},"Y",{"$f":"J85","v":"other"},"All local authorities",null,null,{"$f":"IF(OR($A86<>\"C\",P86=\"\"),\"\",HYPERLINK(P86,\"Collection\"))","v":""},{"$f":"IF(OR($A86<>\"C\",Q86=\"\"),\"\",HYPERLINK(Q86,\"Data\"))","v":""},null,null,{"$f":"R85","v":0},{"$nulls":28},{"$f":"IF($A86=\"C\",COUNTIF(C:C,C86)-1,\"\")","v":""},null,{"$f":"AW85","v":0},null,null,212,1,null,1,44,85,1044085,{"$error":"#N/A"}]
["D",{"$f":"TEXT(AZ87,\"000\")&\"-\"&TEXT(BA87,\"00\")","v":"212-02"},{"$f":"C86","v":"Public Sector Equality Duty"},"Data relating to the assessments of the equalities impact of policies and practices and the likely impact of any proposed policies and practices",{"$f":"E86","v":"HO/GEO"},{"$nulls":3},"Y","other","All local authorities",null,null,{"$f":"IF(OR($A87<>\"C\",P87=\"\"),\"\",HYPERLINK(P87,\"Collection\"))","v":""},{"$f":"IF(OR($A87<>\"C\",Q87=\"\"),\"\",HYPERLINK(Q87,\"Data\"))","v":""},null,null,{"$f":"R86","v":0},{"$nulls":28},"",null,{"$f":"AW86","v":0},null,null,212,2,null,1,44,86,1044086,{"$error":"#N/A"}]
["D",{"$f":"TEXT(AZ88,\"000\")&\"-\"&TEXT(BA88,\"00\")","v":"212-03"},{"$f":"C87","v":"Public Sector Equality Duty"},"Data relating to the information taken into account when doing these assessments",{"$f":"E87","v":"HO/GEO"},{"$nulls":3},"Y","other","All local authorities",null,null,{"$f":"IF(OR($A88<>\"C\",P88=\"\"),\"\",HYPERLINK(P88,\"Collection\"))","v":""},{"$f":"IF(OR($A88<>\"C\",Q88=\"\"),\"\",HYPERLINK(Q88,\"Data\"))","v":""},null,null,{"$f":"R87","v":0},{"$nulls":28},"",null,{"$f":"AW87","v":0},null,null,212,3,null,1,44,87,1044087,{"$error":"#N/A"}]
["D",{"$f":"TEXT(AZ89,\"000\")&\"-\"&TEXT(BA89,\"00\")","v":"212-04"},{"$f":"C88","v":"Public Sector Equality Duty"},"Data relating to the engagement or consultation the authority has carried out.",{"$f":"E88","v":"HO/GEO"},{"$nulls":3},"Y","other","All local authorities",null,null,{"$f":"IF(OR($A89<>\"C\",P89=\"\"),\"\",HYPERLINK(P89,\"Collection\"))","v":""},{"$f":"IF(OR($A89<>\"C\",Q89=\"\"),\"\",HYPERLINK(Q89,\"Data\"))","v":""},null,null,{"$f":"R88","v":0},{"$nulls":28},"",null,{"$f":"AW88","v":0},null,null,212,4,null,1,44,88,1044088,{"$error":"#N/A"}]
["C",{"$f":"TEXT(AZ90,\"000\")&\"-\"&TEXT(BA90,\"00\")","v":"157-00"},"Speed camera inventory",null,"DfT",null,"N",null,null,"annual","All local authorities","Speed camera information.","Expectation is that all local authorities/ police using speed cameras will publish information.   They will have flexibility about what information to publish but it may include information about crash numbers, speeds and enforcement levels.",{"$f":"IF(OR($A90<>\"C\",P90=\"\"),\"\",HYPERLINK(P90,\"Collection\"))","v":""},{"$f":"IF(OR($A90<>\"C\",Q90=\"\"),\"\",HYPERLINK(Q90,\"Data\"))","v":""},{"$nulls":4},"Y",null,"Y","Y","Y","Y",null,null,"Y",{"$nulls":3},"Y",null,"Y",null,null,"Y",{"$nulls":6},"County council, Metropolitan district, Unitary authority, London borough, City of London, Police authority, Integrated transport authority, Transport for London, Metropolitan Police Authority",null,null,1,null,null,"Anna Heyworth",null,157,0,null,0,11,89,11089,{"$error":"#N/A"}]
["D","157-01",{"$f":"C90","v":"Speed camera inventory"},"Speed camera information",{"$f":"E90","v":"DfT"},null,"N",null,null,{"$f":"J90","v":"annual"},{"$f":"K90","v":"All local authorities"},null,null,"","",null,null,{"$f":"R90","v":0},{"$nulls":28},"",null,{"$f":"AW90","v":0},null,null,157,1,null,1,11,90,1011090,{"$error":"#N/A"}]
["C","057-00","Community Infrastructure Levy (from Dec 2012)",null,"DCLG","Y",{"$nulls":3},"not decided","Single tier & lower tier","Possible - local authority data relevant to measuring spending on infrastructure via the Community Infrastructure Levy. Proposed in DCLG business plan as data to judge the progress of structural reforms.","Possible additional local authority data to support key data which will help people to judge the progress of departmental structural reforms (subject to further work being done to test the feasibility of this measure).","","",{"$nulls":5},"Y","Y","Y","Y","Y","Y",{"$nulls":17},"District council, Metropolitan district, Unitary authority, London borough, City of London, Isles of Scilly",null,null,1,null,"Communities",null,null,57,0,null,0,5,91,{"$f":"(BC92*1000000)+(BD92*1000)+BE92","v":5091},{"$error":"#N/A"}]
["D","057-01",{"$f":"C92","v":"Community Infrastructure Levy (from Dec 2012)"},"Spending on infrastructure via the Community Infrastructure Levy.",{"$f":"E92","v":"DCLG"},"Y",{"$nulls":3},{"$f":"J92","v":"not decided"},{"$f":"K92","v":"Single tier & lower tier"},null,null,"","",null,null,{"$f":"R92","v":0},{"$nulls":28},"",null,{"$f":"AW92","v":"Communities"},null,null,57,1,null,1,5,92,1005092,{"$error":"#N/A"}]
["C","058-00","Neighbourhood Plans (from 2013)",null,"DCLG","Y",{"$nulls":3},"not decided","Single tier & lower tier","Possible - local authority data relevant to measuring the number of people involved in the process of the production of neighbourhood plans. Proposed in DCLG business plan as data to judge the progress of structural reforms.","Possible additional local authority data to support key data which will help people to judge the progress of departmental structural reforms (subject to further work being done to test the feasibility of this measure).","","",{"$nulls":5},"Y","Y","Y","Y","Y","Y",{"$nulls":17},"District council, Metropolitan district, Unitary authority, London borough, City of London, Isles of Scilly",null,null,1,null,"Communities",null,null,58,0,null,0,5,93,5093,{"$error":"#N/A"}]
["D","058-01",{"$f":"C94","v":"Neighbourhood Plans (from 2013)"},"Number of people involved in the process of the production of neighbourhood plans.",{"$f":"E94","v":"DCLG"},"Y",{"$nulls":3},{"$f":"J94","v":"not decided"},{"$f":"K94","v":"Single tier & lower tier"},null,null,"","",null,null,{"$f":"R94","v":0},{"$nulls":28},"",null,{"$f":"AW94","v":"Communities"},null,null,58,1,null,1,5,94,1005094,{"$error":"#N/A"}]
["C","055-00","Local decision-making",null,"DCLG","Y",{"$nulls":3},"not decided","All local authorities","Possible - local authority data relevant to measuring the percentage of local authority budgets delegated to local decision-making. Proposed as a DCLG impact indicator.","Possible additional local authority data to support departmental impact indicator on the percentage of local authority budgets delegated to local decision-making (subject to further work being done to test the feasibility of this measure).","","",{"$nulls":4},"Y","Y","Y","Y","Y","Y","Y",{"$nulls":17},"County council, District council, Metropolitan district, Unitary authority, London borough, City of London, Isles of Scilly",null,null,1,null,"Local government",null,null,55,0,null,0,5,95,5095,{"$error":"#N/A"}]
["D","055-01",{"$f":"C96","v":"Local decision-making"},"Local authority budgets delegated to local decision-making.",{"$f":"E96","v":"DCLG"},"Y",{"$nulls":3},{"$f":"J96","v":"not decided"},{"$f":"K96","v":"All local authorities"},null,null,"","",null,null,{"$f":"R96","v":0},{"$nulls":28},"",null,{"$f":"AW96","v":"Local government"},null,null,55,1,null,1,5,96,1005096,{"$error":"#N/A"}]
["C","059-00","New mutuals and co-operatives",null,"DCLG","Y",{"$nulls":3},"not decided","All local authorities","Possible - local authority data relevant to measuring the number of new mutuals and cooperatives created by local authorities to deliver public services. Proposed in DCLG business plan as data to judge the progress of structural reforms.","Possible additional local authority data to support key data which will help people to judge the progress of departmental structural reforms (subject to further work being done to test the feasibility of this measure).","","",{"$nulls":4},"Y","Y","Y","Y","Y","Y","Y",{"$nulls":17},"County council, District council, Metropolitan district, Unitary authority, London borough, City of London, Isles of Scilly",null,null,1,null,"Communities",null,null,59,0,null,0,5,97,5097,{"$error":"#N/A"}]
["D","059-01",{"$f":"C98","v":"New mutuals and co-operatives"},"Number of new mutuals and cooperatives created by local authorities to deliver public services.",{"$f":"E98","v":"DCLG"},"Y",{"$nulls":3},{"$f":"J98","v":"not decided"},{"$f":"K98","v":"All local authorities"},null,null,"","",null,null,{"$f":"R98","v":0},{"$nulls":28},"",null,{"$f":"AW98","v":"Communities"},null,null,59,1,null,1,5,98,1005098,{"$error":"#N/A"}]
["C","164-00","Private Finance Initiative",null,"DCLG/HCA",null,"N",null,null,"monthly","Single tier & lower tier","Monitoring of approved PFI projects.",null,"","",null,null,"Y",null,null,"Y","Y","Y","Y","Y","Y",{"$nulls":16},"GLA to take role over from HCA in London and so will provide data for London","District council, Metropolitan district, Unitary authority, London borough, City of London, Isles of Scilly",null,null,1,null,"Housing","Jane Hinton/HCA",null,164,0,null,0,{"$error":"#N/A"},99,{"$error":"#N/A"},{"$error":"#N/A"}]
["D","164-01",{"$f":"C100","v":"Private Finance Initiative"},"Monitoring updates and data on signed progress, monitoring outputs and completions etc",{"$f":"E100","v":"DCLG/HCA"},null,"N",null,null,{"$f":"J100","v":"monthly"},{"$f":"K100","v":"Single tier & lower tier"},null,null,"","",null,null,{"$f":"R100","v":"Y"},{"$nulls":28},"",null,{"$f":"AW100","v":"Housing"},null,null,164,1,null,1,{"$error":"#N/A"},100,{"$error":"#N/A"},{"$error":"#N/A"}]
["C","165-00","Thames Gateway Programme",null,"DCLG/HCA",null,"N",null,null,"monthly","Other","Monitoring of projects funded through the Thames Gateway programme",null,"","",null,null,"Y",{"$nulls":5},"Y",{"$nulls":19},"London borough",null,null,1,null,"Housing","James Cruddas",null,165,0,null,0,{"$error":"#N/A"},101,{"$error":"#N/A"},{"$error":"#N/A"}]
["D","165-01",{"$f":"C102","v":"Thames Gateway Programme"},"Project status update reports provided using the Artemis project management system",{"$f":"E102","v":"DCLG/HCA"},null,"N",null,null,{"$f":"J102","v":"monthly"},{"$f":"K102","v":"Other"},null,null,"","",null,null,{"$f":"R102","v":"Y"},{"$nulls":28},"",null,{"$f":"AW102","v":"Housing"},null,null,165,1,null,1,{"$error":"#N/A"},102,{"$error":"#N/A"},{"$error":"#N/A"}]
["C","202-00","Schools capacity",null,"DfE/PfS",{"$nulls":4},"annual","Upper tier & single tier","Returns used to identify shortage school places/surplus and are used in Capital allocations","Responsibility for annual collection lies with PfS but Cental Capital Unit (DfE) are the customer.  ","","Data",null,"http://www.education.gov.uk/rsgateway/DB/STR/d000982/index.shtml","Y",null,"Y",null,"Y","Y","Y","Y","Y",{"$nulls":17},"County council, Metropolitan district, Unitary authority, London borough, City of London, Isles of Scilly",null,null,1,null,null,"Simon Grigor",null,202,0,null,0,{"$error":"#N/A"},103,{"$error":"#N/A"},{"$error":"#N/A"}]
["D","202-01",{"$f":"C104","v":"Schools capacity"},"Collection of school level capacity data and LA pupil forecasts.",{"$f":"E104","v":"DfE/PfS"},{"$nulls":4},{"$f":"J104","v":"annual"},{"$f":"K104","v":"Upper tier & single tier"},null,null,"","",null,null,{"$f":"R104","v":"Y"},{"$nulls":28},"",null,{"$f":"AW104","v":0},null,null,202,1,null,1,{"$error":"#N/A"},104,{"$error":"#N/A"},{"$error":"#N/A"}]
["C","198-00","Educational Psychology workforce planning survey",null,"DfE/CWDC",{"$nulls":4},"annual","Upper tier & single tier","Workforce data to inform planning","No further data collections planned and unsure of remit going forward as yet.","","",null,null,"Y",null,"Y",null,"Y","Y","Y","Y","Y",{"$nulls":17},"County council, Metropolitan district, Unitary authority, London borough, City of London, Isles of Scilly",null,null,1,null,null,"Simon Grigor",null,198,0,null,0,{"$error":"#N/A"},105,{"$error":"#N/A"},{"$error":"#N/A"}]
["D","198-01",{"$f":"C106","v":"Educational Psychology workforce planning survey"},"Numbers of Educational Psychologists",{"$f":"E106","v":"DfE/CWDC"},{"$nulls":4},{"$f":"J106","v":"annual"},{"$f":"K106","v":"Upper tier & single tier"},null,null,"","",null,null,{"$f":"R106","v":"Y"},{"$nulls":28},"",null,{"$f":"AW106","v":0},null,null,198,1,null,1,{"$error":"#N/A"},106,{"$error":"#N/A"},{"$error":"#N/A"}]
["C","199-00","Foster Care Training, Support and Development Standards Audit",null,"DfE/CWDC",{"$nulls":4},"other","Upper tier & single tier","Review of how standards are used and how they are benefitting foster carers.  ","Reason is to review the use of the standards to inform social care policy.  ","","",null,null,"Y",null,"Y",null,"Y","Y","Y","Y","Y",{"$nulls":17},"County council, Metropolitan district, Unitary authority, London borough, City of London, Isles of Scilly",null,null,1,null,null,"Simon Grigor",null,199,0,null,0,{"$error":"#N/A"},107,{"$error":"#N/A"},{"$error":"#N/A"}]
["D","199-01",{"$f":"C108","v":"Foster Care Training, Support and Development Standards Audit"},"Monitoring the use of standards",{"$f":"E108","v":"DfE/CWDC"},{"$nulls":4},{"$f":"J108","v":"other"},{"$f":"K108","v":"Upper tier & single tier"},null,null,"","",null,null,{"$f":"R108","v":"Y"},{"$nulls":28},"",null,{"$f":"AW108","v":0},null,null,199,1,null,1,{"$error":"#N/A"},108,{"$error":"#N/A"},{"$error":"#N/A"}]
["C","131-00","Major transport scheme spend",null,"DfT",null,"N",null,null,"quarterly","Other","Projected and actual spend on Major Transport Schemes",null,"","",{"$nulls":4},"Y",null,"Y","Y",null,null,"Y",{"$nulls":5},"Y",{"$nulls":11},"County council, Metropolitan district, Unitary authority, Isles of Scilly, Integrated transport authority","case based",null,1,null,null,"Anna Heyworth",null,131,0,null,0,11,{"$f":"ROW()-1","v":109},11109,{"$error":"#N/A"}]
["D","131-01",{"$f":"C110","v":"Major transport scheme spend"},"Scheme details, progress, finance and grant claims",{"$f":"E110","v":"DfT"},null,"N",null,null,{"$f":"J110","v":"quarterly"},{"$f":"K110","v":"Other"},null,null,"","",null,null,{"$f":"R110","v":0},{"$nulls":28},"",null,{"$f":"AW110","v":0},null,null,131,1,null,1,11,110,1011110,{"$error":"#N/A"}]
["C","064-00","Investment Management System",null,"DCLG/HCA",{"$nulls":4},"continuous","Single tier & lower tier","HCA's electronic investment management information system.",null,"","Data",null,"http://www.homesandcommunities.co.uk/statistics","Y",155,null,"Y","Y","Y","Y","Y","Y",{"$nulls":16},"GLA to take role over from HCA in London and so will provide data for London","District council, Metropolitan district, Unitary authority, London borough, City of London, Isles of Scilly",null,null,3,null,"Housing","Jane Hinton/HCA",null,64,0,null,0,{"$error":"#N/A"},111,{"$error":"#N/A"},{"$error":"#N/A"}]
["D","064-01",{"$f":"C112","v":"Investment Management System"},"Monitoring of Local Authority New Build schemes",{"$f":"E112","v":"DCLG/HCA"},{"$nulls":4},{"$f":"J112","v":"continuous"},"Single tier & lower tier",null,null,"","",null,null,{"$f":"R112","v":"Y"},{"$nulls":28},"",null,{"$f":"AW112","v":"Housing"},null,null,64,1,null,1,{"$error":"#N/A"},112,{"$error":"#N/A"},{"$error":"#N/A"}]
["D",{"$f":"TEXT(AZ114,\"000\")&\"-\"&TEXT(BA114,\"00\")","v":"064-02"},{"$f":"C113","v":"Investment Management System"},"Monitoring of Gypsy and Travellers site grant",{"$f":"E113","v":"DCLG/HCA"},{"$nulls":4},"continuous","Single tier & lower tier",null,null,{"$f":"IF(OR($A114<>\"C\",P114=\"\"),\"\",HYPERLINK(P114,\"Collection\"))","v":""},{"$f":"IF(OR($A114<>\"C\",Q114=\"\"),\"\",HYPERLINK(Q114,\"Data\"))","v":""},null,null,{"$f":"R113","v":"Y"},{"$nulls":28},"",null,{"$f":"AW113","v":"Housing"},null,null,64,2,null,1,{"$error":"#N/A"},113,{"$f":"(BC114*1000000)+(BD114*1000)+BE114","v":{"$error":"#N/A"}},{"$error":"#N/A"}]
["D","064-03",{"$f":"C114","v":"Investment Management System"},"Management information on particular Mortgage Rescue Scheme (MRS) schemes",{"$f":"E114","v":"DCLG/HCA"},{"$nulls":4},"continuous","Single tier & lower tier",null,null,"","",null,null,{"$f":"R114","v":"Y"},{"$nulls":28},"",null,{"$f":"AW114","v":"Housing"},null,null,64,3,null,1,{"$error":"#N/A"},114,{"$error":"#N/A"},{"$error":"#N/A"}]
["C","178-00","Local Sustainable Transport Fund",null,"DfT","Y","N",null,null,"quarterly","Other","Projected and actual spend on the Local Sustainable Transport Fund","Guidance available at the link provided","Collection","","http://www.dft.gov.uk/pgr/regional/transportfund/",{"$nulls":3},"Y",null,"Y","Y",null,null,"Y",{"$nulls":5},"Y",{"$nulls":11},"County council, Metropolitan district, Unitary authority, Isles of Scilly, Integrated transport authority",null,null,1,null,null,"Anna Heyworth",null,178,0,null,0,11,115,11115,{"$error":"#N/A"}]
["D","178-01",{"$f":"C116","v":"Local Sustainable Transport Fund"},"Scheme details, progress, finance and grant claims",{"$f":"E116","v":"DfT"},"Y","N",null,null,{"$f":"J116","v":"quarterly"},{"$f":"K116","v":"Other"},null,null,"","",null,null,{"$f":"R116","v":0},{"$nulls":28},"",null,{"$f":"AW116","v":0},null,null,178,1,null,1,11,116,1011116,{"$error":"#N/A"}]
["C","110-00","Merged with 111",null,"DfE",{"$nulls":8},"","",{"$nulls":31},1,{"$nulls":4},110,0,null,0,9,117,9117,{"$error":"#N/A"}]
["D","110-01",{"$f":"C118","v":"Merged with 111"},"[merged]",{"$f":"E118","v":"DfE"},{"$nulls":4},{"$f":"J118","v":0},{"$f":"K118","v":0},null,null,"","",null,null,{"$f":"R118","v":0},{"$nulls":28},{"$f":"IF($A119=\"C\",COUNTIF(C:C,C119)-1,\"\")","v":""},null,{"$f":"AW118","v":0},null,null,110,1,null,1,9,118,1009118,{"$error":"#N/A"}]
["C","014-00","Housing Revenue Account Subsidy Claim form - first advance",null,"DCLG",null,"N",null,null,"annual","Single tier & lower tier","Housing capital expenditure and funding data specifically related to social housing, and household expenditure on housing.",null,"","Data",null,"http://www.communities.gov.uk/housing/housingresearch/housingstatistics/housingstatisticsby/housingfinance/",{"$nulls":3},"Y","Y","Y","Y","Y","Y",{"$nulls":17},"District council, Metropolitan district, Unitary authority, London borough, City of London, Isles of Scilly",null,null,5,null,"Housing","Ann Williams",null,14,0,null,0,5,119,5119,{"$error":"#N/A"}]
["D","014-01",{"$f":"C120","v":"Housing Revenue Account Subsidy Claim form - first advance"},"Numbers of various categories of Housing Revenue Account dwellings",{"$f":"E120","v":"DCLG"},null,"N",null,null,{"$f":"J120","v":"annual"},"Single tier & lower tier",null,null,"","",null,null,{"$f":"R120","v":0},{"$nulls":28},"",null,{"$f":"AW120","v":"Housing"},null,null,14,1,null,1,5,120,1005120,{"$error":"#N/A"}]
["D","014-02",{"$f":"C121","v":"Housing Revenue Account Subsidy Claim form - first advance"},"Management, maintenance and other allowances",{"$f":"E121","v":"DCLG"},null,"N",null,null,"annual","Single tier & lower tier",null,null,"","",null,null,{"$f":"R121","v":0},{"$nulls":28},"",null,{"$f":"AW121","v":"Housing"},null,null,14,2,null,1,5,121,1005121,{"$error":"#N/A"}]
["D","014-03",{"$f":"C122","v":"Housing Revenue Account Subsidy Claim form - first advance"},"Other data needed for the calculation of entitlement to housing subsidy",{"$f":"E122","v":"DCLG"},null,"N",null,null,"annual","Single tier & lower tier",null,null,"","",null,null,{"$f":"R122","v":0},{"$nulls":28},"",null,{"$f":"AW122","v":"Housing"},null,null,14,3,null,1,5,122,1005122,{"$error":"#N/A"}]
["D","014-04",{"$f":"C123","v":"Housing Revenue Account Subsidy Claim form - first advance"},"Housing Revenue Account income broken down by item",{"$f":"E123","v":"DCLG"},null,"N",null,null,"annual","Single tier & lower tier",null,null,"","",null,null,{"$f":"R123","v":0},{"$nulls":28},"",null,{"$f":"AW123","v":"Housing"},null,null,14,4,null,1,5,123,1005123,{"$error":"#N/A"}]
["D","014-05",{"$f":"C124","v":"Housing Revenue Account Subsidy Claim form - first advance"},"Housing Revenue Account expenditure broken down by item",{"$f":"E124","v":"DCLG"},null,"N",null,null,"annual","Single tier & lower tier",null,null,"","",null,null,{"$f":"R124","v":0},{"$nulls":28},"",null,{"$f":"AW124","v":"Housing"},null,null,14,5,null,1,5,124,1005124,{"$error":"#N/A"}]
["C","214-00","Utilities Contract Regulations 2006",null,"DfT",null,null,"Y","Y","annual","All local authorities","Statistics for contracts awarded required under the Utilities Contract Regulations 2006 ",">>> Removed from list 06/05/11 as this return is not local authority specific. Advice from DfT is that this return goes out to a range of airport, port, tram, rail companies across the country and so would not be classed as a local authority data collection.  Where local authorities are part of the return, it will be because they own an airport, port, etc.\n\nThe collection is a legal obligation, set out in the Procurement Directive 2004/18/EC (Article 75) and implemented in regulation 40 of the Public Contracts Regulations (and equivalents in the Utilities Directives / Regulations). The purpose, as explained in Article 75, is to allow the Commission to assess the effectiveness of the directive. But is goes wider than that, because the information is also required as part of our membership of the WTO Government Procurement Agreement (GPA). Member states returns are forwarded by the Commission to the GPA in Geneva for similar monitoring purposes that Brussels requires them.","Collection","Data","http://webarchive.nationalarchives.gov.uk/+/http:/www.communities.gov.uk/localgovernment/efficiencybetter/nationalprocurementprogramme/nationalprocurementstrategy/euprocurementdirectives/eustatsreturns2008/","http://www.wto.org/english/tratop_e/gproc_e/gpstat_e.htm. ",null,null,"Y","Y","Y","Y","Y","Y","Y","Y",{"$nulls":4},"Y","Y",{"$nulls":6},"Y",{"$nulls":3},"County council, District council, Metropolitan district, Unitary authority, London borough, City of London, Isles of Scilly, Fire & rescue authority, Integrated transport authority, GLA, Combined authority",null,null,2,null,"Local government","Melvin Hughes",null,214,0,null,0,11,125,11125,{"$error":"#N/A"}]
["D","214-01",{"$f":"C126","v":"Utilities Contract Regulations 2006"},"Total aggregate value of below threshold contracts",{"$f":"E126","v":"DfT"},null,null,"Y",null,{"$f":"J126","v":"annual"},{"$f":"K126","v":"All local authorities"},null,null,"","",null,null,{"$f":"R126","v":0},{"$nulls":28},"",null,{"$f":"AW126","v":"Local government"},null,null,214,1,null,1,11,126,1011126,{"$error":"#N/A"}]
["D","214-02",{"$f":"C127","v":"Utilities Contract Regulations 2006"},"Details of individual contracts above the threshold figure in specific areas of activity",{"$f":"E127","v":"DfT"},null,null,"Y",null,{"$f":"J127","v":"annual"},{"$f":"K127","v":"All local authorities"},null,null,"","",null,null,{"$f":"R127","v":0},{"$nulls":28},"",null,{"$f":"AW127","v":"Local government"},null,null,214,2,null,1,11,127,1011127,{"$error":"#N/A"}]
["C","205-00","Education Business Partnership Services (EBPS)",null,"DfE/YPLA",{"$nulls":3},"Y","annual","Upper tier & single tier","Number of work experience placements by year group and number of employers engaged by sector and size","Programme ceased at the end of 2010/11.","","",null,null,"Y",null,"Y",null,"Y","Y","Y","Y","Y",{"$nulls":17},"County council, Metropolitan district, Unitary authority, London borough, City of London, Isles of Scilly",null,null,1,null,null,"Simon Grigor",null,205,0,null,0,36,128,36128,{"$error":"#N/A"}]
["D","205-01",{"$f":"C129","v":"Education Business Partnership Services (EBPS)"},"Volume and take-up of work experience placements",{"$f":"E129","v":"DfE/YPLA"},{"$nulls":3},"Y",{"$f":"J129","v":"annual"},{"$f":"K129","v":"Upper tier & single tier"},null,null,"","",null,null,{"$f":"R129","v":"Y"},{"$nulls":28},"",null,{"$f":"AW129","v":0},null,null,205,1,null,{"$f":"IF(A130=\"D\",1,0)","v":1},{"$f":"MATCH(E130,DeptAbbr,0)","v":36},129,1036129,{"$f":"RANK(BF130,BF:BF,1)","v":{"$error":"#N/A"}}]
["C","066-00","National Register of Social Housing (NROSH)",null,"DCLG/TSA",null,"N",null,null,"continuous","Single tier & lower tier","Database of all social rented and affordable housing units in England at individual property level.",null,"Collection","","https://nrosh.tenantservicesauthority.org/nroshonline2010/public/home.aspx",null,"Y",null,null,"Y","Y","Y","Y","Y","Y",{"$nulls":17},"District council, Metropolitan district, Unitary authority, London borough, City of London, Isles of Scilly","client based",null,1,null,"Housing","Meg Green",null,66,0,null,0,30,130,30130,{"$error":"#N/A"}]
["D","066-01",{"$f":"C131","v":"National Register of Social Housing (NROSH)"},"Social housing data on indvidual properties.",{"$f":"E131","v":"DCLG/TSA"},null,"N",null,null,{"$f":"J131","v":"continuous"},{"$f":"K131","v":"Single tier & lower tier"},null,null,"","",null,null,{"$f":"R131","v":"Y"},{"$nulls":28},"",null,{"$f":"AW131","v":"Housing"},null,null,66,1,null,1,30,131,1030131,{"$error":"#N/A"}]
["C","185-00","Bullying",null,"DfE","Y",{"$nulls":3},"not decided","Upper tier & single tier","Possible future collection to measure prevalence and the success in schools in tackling bullying",null,"","",{"$nulls":4},"Y",null,"Y","Y","Y","Y","Y",{"$nulls":17},"County council, Metropolitan district, Unitary authority, London borough, City of London, Isles of Scilly",null,null,1,{"$nulls":4},185,0,null,0,9,132,9132,{"$error":"#N/A"}]
["D","185-01",{"$f":"C133","v":"Bullying"},"Detail under consideration",{"$f":"E133","v":"DfE"},"Y",{"$nulls":3},{"$f":"J133","v":"not decided"},{"$f":"K133","v":"Upper tier & single tier"},null,null,"","",null,null,{"$f":"R133","v":0},{"$nulls":28},"",null,{"$f":"AW133","v":0},null,null,185,1,null,1,9,133,1009133,{"$error":"#N/A"}]
["C","179-00","Smart & Integrated Ticketing",null,"DfT","Y","N",null,null,"as required","All local authorities","Monitoring of roll-out and support to policy development",null,"","",{"$nulls":4},"Y","Y","Y","Y",{"$nulls":8},"Y",null,"Y",{"$nulls":9},"County council, District council, Metropolitan district, Unitary authority, Integrated transport authority, Transport for London",null,null,1,null,null,"Anna Heyworth",null,179,0,null,0,11,134,11134,{"$error":"#N/A"}]
["D","179-01",{"$f":"C135","v":"Smart & Integrated Ticketing"},"Surveying on roll-out, future plans and further support needs",{"$f":"E135","v":"DfT"},"Y","N",null,null,{"$f":"J135","v":"as required"},{"$f":"K135","v":"All local authorities"},null,null,"","",null,null,{"$f":"R135","v":0},{"$nulls":28},"",null,{"$f":"AW135","v":0},null,null,179,1,null,1,11,135,1011135,{"$error":"#N/A"}]
["C","235-00","Registrar General's annual return",null,"HO/IPS-GRO",{"$nulls":3},"Y","annual","Upper tier & single tier","Summary performance report on civil registration activity.","Removed 08/08/11, as this is a voluntary return which only applies to those authorities which have signed-up to the national standards framework .","","",null,null,"Y",null,"Y",null,"Y","Y","Y","Y","Y",{"$nulls":17},"County council, Metropolitan district, Unitary authority, London borough, City of London, Isles of Scilly","aggregate/summary",null,1,{"$nulls":4},235,0,null,0,45,136,{"$f":"(BC137*1000000)+(BD137*1000)+BE137","v":45136},{"$error":"#N/A"}]
["D","235-01",{"$f":"C137","v":"Registrar General's annual return"},"Annual summary of numbers of births, deaths, stillbirths and marriages",{"$f":"E137","v":"HO/IPS-GRO"},{"$nulls":3},"Y",{"$f":"J137","v":"annual"},{"$f":"K137","v":"Upper tier & single tier"},null,null,"","",null,null,{"$f":"R137","v":"Y"},{"$nulls":28},"",null,{"$f":"AW137","v":0},null,null,235,1,null,1,45,137,1045137,{"$error":"#N/A"}]
["C","015-00","Housing Revenue Account Subsidy Claim form - second advance",null,"DCLG",null,"N",null,null,"annual","Single tier & lower tier","Housing capital expenditure and funding data specifically related to social housing, and household expenditure on housing.","Final submission due end August 2011.\nSimilar data to first advance, collected at a later stage.\nThe Government's proposals for major reform of the existing arrangements for council housing finance would replace the existing housing subsidy system and the subsidy claim forms. Subject to Parliamentary approval, the new 'self-financing' system would start from April 2012.","","Data",null,"http://www.communities.gov.uk/housing/housingresearch/housingstatistics/housingstatisticsby/housingfinance/",{"$nulls":3},"Y","Y","Y","Y","Y","Y",{"$nulls":17},"District council, Metropolitan district, Unitary authority, London borough, City of London, Isles of Scilly","aggregate/summary",null,5,null,"Housing","Ann Williams",null,15,0,null,0,5,138,5138,{"$error":"#N/A"}]
["D",{"$f":"TEXT(AZ140,\"000\")&\"-\"&TEXT(BA140,\"00\")","v":"015-01"},{"$f":"C139","v":"Housing Revenue Account Subsidy Claim form - second advance"},"Numbers of various categories of Housing Revenue Account dwellings",{"$f":"E139","v":"DCLG"},null,"N",null,null,{"$f":"J139","v":"annual"},"Single tier & lower tier",null,null,{"$f":"IF(OR($A140<>\"C\",P140=\"\"),\"\",HYPERLINK(P140,\"Collection\"))","v":""},{"$f":"IF(OR($A140<>\"C\",Q140=\"\"),\"\",HYPERLINK(Q140,\"Data\"))","v":""},null,null,{"$f":"R139","v":0},{"$nulls":28},"",null,{"$f":"AW139","v":"Housing"},null,null,15,1,null,1,5,139,1005139,{"$error":"#N/A"}]
["D","015-02",{"$f":"C140","v":"Housing Revenue Account Subsidy Claim form - second advance"},"Management, maintenance and other allowances",{"$f":"E140","v":"DCLG"},null,"N",null,null,"annual","Single tier & lower tier",null,null,"","",null,null,{"$f":"R140","v":0},{"$nulls":28},"",null,{"$f":"AW140","v":"Housing"},null,null,15,2,null,1,5,140,1005140,{"$error":"#N/A"}]
["D","015-03",{"$f":"C141","v":"Housing Revenue Account Subsidy Claim form - second advance"},"Other data needed for the calculation of entitlement to housing subsidy",{"$f":"E141","v":"DCLG"},null,"N",null,null,"annual","Single tier & lower tier",null,null,"","",null,null,{"$f":"R141","v":0},{"$nulls":28},"",null,{"$f":"AW141","v":"Housing"},null,null,15,3,null,1,5,141,1005141,{"$error":"#N/A"}]
["D","015-04",{"$f":"C142","v":"Housing Revenue Account Subsidy Claim form - second advance"},"Housing Revenue Account income broken down by item",{"$f":"E142","v":"DCLG"},null,"N",null,null,"annual","Single tier & lower tier",null,null,"","",null,null,{"$f":"R142","v":0},{"$nulls":28},"",null,{"$f":"AW142","v":"Housing"},null,null,15,4,null,1,5,142,1005142,{"$error":"#N/A"}]
["D","015-05",{"$f":"C143","v":"Housing Revenue Account Subsidy Claim form - second advance"},"Housing Revenue Account expenditure broken down by item",{"$f":"E143","v":"DCLG"},null,"N",null,null,"annual","Single tier & lower tier",null,null,"","",null,null,{"$f":"R143","v":0},{"$nulls":28},"",null,{"$f":"AW143","v":"Housing"},null,null,15,5,null,1,5,143,1005143,{"$error":"#N/A"}]
["C","018-00","Housing Revenue Account Subsidy base data forms",null,"DCLG",null,"N",null,null,"annual","Single tier & lower tier","Housing capital expenditure and funding data specifically related to social housing, and household expenditure on housing.","Final submission for 2012/13 due end August 2011.\nThe Government's proposals for major reform of the existing arrangements for council housing finance would replace the existing housing subsidy system and the subsidy claim forms. Subject to Parliamentary approval, the new 'self-financing' system would start from April 2012.","","Data",null,"http://www.communities.gov.uk/housing/housingresearch/housingstatistics/housingstatisticsby/housingfinance/",{"$nulls":3},"Y","Y","Y","Y","Y","Y",{"$nulls":17},"District council, Metropolitan district, Unitary authority, London borough, City of London, Isles of Scilly","aggregate/summary",null,1,null,"Housing","Ann Williams",null,18,0,null,0,5,144,5144,{"$error":"#N/A"}]
["D","018-01",{"$f":"C145","v":"Housing Revenue Account Subsidy base data forms"},"Similar data to subsidy claim forms",{"$f":"E145","v":"DCLG"},null,"N",null,null,{"$f":"J145","v":"annual"},{"$f":"K145","v":"Single tier & lower tier"},null,null,"","",null,null,{"$f":"R145","v":0},{"$nulls":28},"",null,{"$f":"AW145","v":"Housing"},null,null,18,1,null,1,5,145,1005145,{"$error":"#N/A"}]
["C","247-00","Merged with 246 (along with 248)",null,"DEFRA/EA",{"$nulls":8},"","",{"$nulls":31},1,{"$nulls":4},247,0,null,0,32,146,32146,{"$error":"#N/A"}]
["D","247-01",{"$f":"C147","v":"Merged with 246 (along with 248)"},"[merged]",{"$f":"E147","v":"DEFRA/EA"},{"$nulls":4},{"$f":"J147","v":0},{"$f":"K147","v":0},null,null,"","",null,null,{"$f":"R147","v":0},{"$nulls":28},"",null,{"$f":"AW147","v":0},null,null,247,1,null,1,32,147,1032147,{"$error":"#N/A"}]
["C","248-00","Merged with 246 (along with 247)",null,"DEFRA/EA",{"$nulls":8},"","",{"$nulls":31},1,{"$nulls":4},248,0,null,0,32,148,32148,{"$error":"#N/A"}]
["D","248-01",{"$f":"C149","v":"Merged with 246 (along with 247)"},"[merged]",{"$f":"E149","v":"DEFRA/EA"},{"$nulls":4},{"$f":"J149","v":0},{"$f":"K149","v":0},null,null,"","",null,null,{"$f":"R149","v":0},{"$nulls":28},"",null,{"$f":"AW149","v":0},null,null,248,1,null,1,32,149,1032149,{"$error":"#N/A"}]
["C","024-00","Annual Monitoring Reports (AMR)",null,"DCLG",null,"N",null,null,"annual","Single tier & lower tier","Local Development Framework monitoring reports","Guidance was withdrawn in March 2011 and authorities are no longer required to submit their AMRs to the Secretary of State once Localism Act s113 come into force on 15 January 2012","","",{"$nulls":5},"Y","Y","Y","Y","Y","Y",{"$nulls":17},"District council, Metropolitan district, Unitary authority, London borough, City of London, Isles of Scilly","aggregate/summary",null,{"$f":"IF($A151=\"C\",COUNTIF(C:C,C151)-1,\"\")","v":1},null,"Planning","Grant Kelly",null,24,0,null,0,5,150,5150,{"$error":"#N/A"}]
["D",{"$f":"TEXT(AZ152,\"000\")&\"-\"&TEXT(BA152,\"00\")","v":"024-21"},{"$f":"C151","v":"Annual Monitoring Reports (AMR)"},"Information on local plans",{"$f":"E151","v":"DCLG"},null,"N",null,null,{"$f":"J151","v":"annual"},{"$f":"K151","v":"Single tier & lower tier"},null,null,"","",null,null,{"$f":"R151","v":0},{"$nulls":28},"",null,{"$f":"AW151","v":"Planning"},null,null,24,21,null,1,5,151,1005151,{"$error":"#N/A"}]
["C",{"$f":"TEXT(AZ153,\"000\")&\"-\"&TEXT(BA153,\"00\")","v":"063-00"},"National land use database of previously-developed brownfield land (NLUD-PDL)",null,"DCLG/HCA",null,"N",null,null,"annual","Single tier & lower tier","Database containing information on previously developed land and buildings that may be available for development.",null,"Collection","Data","http://www.homesandcommunities.co.uk/nlud.htm","http://www.homesandcommunities.co.uk/nlud-pdl-results-and-analysis.htm","Y",null,null,"Y","Y","Y","Y","Y",{"$nulls":18},"District council, Metropolitan district, Unitary authority, London borough, City of London","case based",null,4,null,"Planning","Grant Kelly/HCA",null,63,0,null,0,{"$error":"#N/A"},152,{"$error":"#N/A"},{"$error":"#N/A"}]
["D","063-01",{"$f":"C153","v":"National land use database of previously-developed brownfield land (NLUD-PDL)"},"Part 1: site identification information",{"$f":"E153","v":"DCLG/HCA"},null,"N",null,null,{"$f":"J153","v":"annual"},"Single tier & lower tier",null,null,"","",null,null,{"$f":"R153","v":"Y"},{"$nulls":28},"",null,{"$f":"AW153","v":"Planning"},null,null,63,1,null,1,{"$error":"#N/A"},153,{"$error":"#N/A"},{"$error":"#N/A"}]
["D","063-02",{"$f":"C154","v":"National land use database of previously-developed brownfield land (NLUD-PDL)"},"Part 2: site location",{"$f":"E154","v":"DCLG/HCA"},null,"N",null,null,"annual","Single tier & lower tier",null,null,"","",null,null,{"$f":"R154","v":"Y"},{"$nulls":28},"",null,{"$f":"AW154","v":"Planning"},null,null,63,2,null,1,{"$error":"#N/A"},154,{"$error":"#N/A"},{"$error":"#N/A"}]
["D","063-03",{"$f":"C155","v":"National land use database of previously-developed brownfield land (NLUD-PDL)"},"Part 3: site area and brownfield land type",{"$f":"E155","v":"DCLG/HCA"},null,"N",null,null,"annual","Single tier & lower tier",null,null,"","",null,null,{"$f":"R155","v":"Y"},{"$nulls":28},"",null,{"$f":"AW155","v":"Planning"},null,null,63,3,null,1,{"$error":"#N/A"},155,{"$error":"#N/A"},{"$error":"#N/A"}]
["D","063-04",{"$f":"C156","v":"National land use database of previously-developed brownfield land (NLUD-PDL)"},"Part 4: planning attributes: past, present and future uses and planning status",{"$f":"E156","v":"DCLG/HCA"},null,"N",null,null,"annual","Single tier & lower tier",null,null,"","",null,null,{"$f":"R156","v":"Y"},{"$nulls":28},"",null,{"$f":"AW156","v":"Planning"},null,null,63,4,null,1,{"$error":"#N/A"},156,{"$error":"#N/A"},{"$error":"#N/A"}]
["C","072-00","Contingency Planning/Capability for disease outbreak",null,"DEFRA",null,null,"Y","Y","continuous","All local authorities","LA self assessment in relation to Contingency Planning/Capability for disease outbreak, Business Compliance with Animal Health legislation and Intelligence Sharing.","Similar to former NI 190","","",{"$nulls":4},"Y","Y","Y","Y","Y","Y","Y",{"$nulls":17},"County council, District council, Metropolitan district, Unitary authority, London borough, City of London, Isles of Scilly",null,null,1,null,"Animal health/welfare",null,null,72,0,null,0,8,157,8157,{"$error":"#N/A"}]
["D","072-01",{"$f":"C158","v":"Contingency Planning/Capability for disease outbreak"},"Plans and procedures for responding to outbreaks and incidents of animal disease which are suitably resourced with trained staff.  Evidence of compliance with statutory obligations and good working relationships with partners - including information sharing",{"$f":"E158","v":"DEFRA"},null,null,"Y",null,{"$f":"J158","v":"continuous"},{"$f":"K158","v":"All local authorities"},null,null,"","",null,null,{"$f":"R158","v":0},{"$nulls":28},"",null,{"$f":"AW158","v":"Animal health/welfare"},null,null,72,1,null,1,8,158,1008158,{"$error":"#N/A"}]
["C","074-00","Stray dogs",null,"DEFRA",{"$nulls":3},"Y","annual","Single tier & lower tier","Record details of stray dogs","Authorities and their agents are required to keep records of stray dogs as set out at sections 149 and 150 on the 1990 Act, and in the 1992 Regulations. The register shall be available, at all reasonable times, for inspection by the public free of charge. In addition, upon commencement of Section 68 of the Clean Neighbourhood and Environment Act 2005, Government expects authorities to be able to furnish it with statistics on the total number of dogs accepted out of hours, the total number of days dogs accepted out of hours that have been kept in kennels, the number of those dogs returned to their owner and the number that by necessity were put down.\n\na brief description of each dog, including its breed (if known), and any distinctive physical characteristics or markings, tattoos or scars;\n(b)any information which is recorded on a tag or collar worn by, or which is otherwise carried by, the dog;\n(c)the date, time and place of the seizure;\n(d)where a notice has been served pursuant to section 149(4), the date of service of the notice, and the name and address of the person on whom it has been served;\n(e)where the officer disposes of the dog pursuant to section 149(6)—\n(i)the date of disposal;","","",{"$nulls":5},"Y","Y","Y","Y","Y","Y",{"$nulls":17},"District council, Metropolitan district, Unitary authority, London borough, City of London, Isles of Scilly","aggregate/summary",null,1,null,"Animal health/welfare",null,null,74,0,null,0,8,159,8159,{"$error":"#N/A"}]
["D","074-01",{"$f":"C160","v":"Stray dogs"},"Details of stray dogs, including total number of dogs accepted out of hours, the total number of days dogs accepted out of hours that have been kept in kennels, the number of those dogs returned to their owner and the number that by necessity were put down.",{"$f":"E160","v":"DEFRA"},{"$nulls":3},"Y",{"$f":"J160","v":"annual"},{"$f":"K160","v":"Single tier & lower tier"},null,null,"","",null,null,{"$f":"R160","v":0},{"$nulls":28},"",null,{"$f":"AW160","v":"Animal health/welfare"},null,null,74,1,null,1,8,160,1008160,{"$error":"#N/A"}]
["C","124-00","Standard bus permits",null,"DfT/TC",null,"N",null,"Y","monthly","Single tier & lower tier","Numbers of Section 19 small bus permits issued by local authorities",null,"","",null,null,"Y",{"$nulls":26},"n/k",null,1,null,null,"Anna Heyworth",null,124,0,null,0,37,161,37161,{"$error":"#N/A"}]
["D","124-01",{"$f":"C162","v":"Standard bus permits"},"Details of permits issued",{"$f":"E162","v":"DfT/TC"},null,"N",null,"Y",{"$f":"J162","v":"monthly"},{"$f":"K162","v":"Single tier & lower tier"},null,null,"","",null,null,{"$f":"R162","v":"Y"},{"$nulls":28},"",null,{"$f":"AW162","v":0},null,null,124,1,null,1,37,162,1037162,{"$error":"#N/A"}]
["C","181-00","PTE/ITA Rail data",null,"DfT/ORR",null,"N",null,null,"annual","Other","Rail data for use in Office of Rail Regulator information on station usage, and in the National Rail Trends publication.","Data is collected from PTEs/ITAs and TfL.","","Data",null,"http://www.rail-reg.gov.uk/server/show/nav.1529","Y",{"$nulls":13},"Y",{"$nulls":12},"aggregate/summary",null,2,null,null,"Anna Heyworth",null,181,0,null,0,38,163,38163,{"$error":"#N/A"}]
["D","181-01",{"$f":"C164","v":"PTE/ITA Rail data"},"Annual Revenue attributed to rail - total, and by product: Full, Reduced, Season  (Anytime, Off Peak, Season)",{"$f":"E164","v":"DfT/ORR"},null,"N",null,null,{"$f":"J164","v":"annual"},{"$f":"K164","v":"Other"},null,null,"","",null,null,{"$f":"R164","v":"Y"},{"$nulls":28},"",null,{"$f":"AW164","v":0},null,null,181,1,null,1,38,164,1038164,{"$error":"#N/A"}]
["D","181-02",{"$f":"C165","v":"PTE/ITA Rail data"},"Annual Journeys attributed to rail - total, and by product: Full, Reduced, Season  (Anytime, Off Peak, Season)",{"$f":"E165","v":"DfT/ORR"},null,"N",null,null,{"$f":"J165","v":"annual"},{"$f":"K165","v":"Other"},null,null,"","",null,null,{"$f":"R165","v":"Y"},{"$nulls":28},"",null,{"$f":"AW165","v":0},null,null,181,2,null,1,38,165,1038165,{"$error":"#N/A"}]
["C","143-00","Health protection Part 2A Order notifications",null,"DH/HPA",{"$nulls":3},"Y","as required","Single tier & lower tier","Written report provided to the HPA when an application for a Part 2A Order is made.","Under the Health Protection (Part 2A Orders) Regulations 2010 (regulations 9 and 10 specifically), the local authority must provide a written report to the chief executive of the Health Protection Agency (from 2012/13, subject to the Health and Social Care Bill, this will be Public Health England) each time it makes an application for a Part 2A Order. \n\nA local authority can apply to a justice of the peace (JP) for an order (Part 2A Order) if it considers it necessary to deal with a threat to human health from infection or contamination that presents, or could present, significant harm. It is for the JP to decide whether an order is necessary to address the risk. If the JP is satisfied by the local authority’s case, an order can be made under the 1984 Act. \n\nThe Part 2A order imposes restrictions or requirements on a person(s) or in relation to a thing(s), a body or human remains, or premises, for the purposes of protecting against infection or contamination that presents, or could present, significant harm to human health.  Notification must also be made each time an application is varied or revoked.  Such Part 2A applications occur very infrequently (on average ten times per year across the whole country).","Collection","","http://www.dh.gov.uk/prod_consum_dh/groups/dh_digitalassets/@dh/@en/@ps/documents/digitalasset/dh_114589.pdf",null,"Y",null,null,"Y","Y","Y","Y","Y","Y",{"$nulls":17},"District council, Metropolitan district, Unitary authority, London borough, City of London, Isles of Scilly","case based",null,1,{"$nulls":4},143,0,null,0,{"$error":"#N/A"},166,{"$error":"#N/A"},{"$error":"#N/A"}]
["D","143-01",{"$f":"C167","v":"Health protection Part 2A Order notifications"},"Details of the Part 2A order",{"$f":"E167","v":"DH/HPA"},{"$nulls":3},"Y",{"$f":"J167","v":"as required"},{"$f":"K167","v":"Single tier & lower tier"},null,null,"","",null,null,{"$f":"R167","v":"Y"},{"$nulls":28},"",null,{"$f":"AW167","v":0},null,null,143,1,null,1,{"$error":"#N/A"},167,{"$error":"#N/A"},{"$error":"#N/A"}]
["C",{"$f":"TEXT(AZ169,\"000\")&\"-\"&TEXT(BA169,\"00\")","v":"233-00"},"Notification of Infectious Diseases (NOIDs)",null,"DH/HPA",{"$nulls":3},"Y","as required","Single tier & lower tier","Notifications of infectious diseases received from registered medical practitioners under the Health Protection (Notification) Regulations 2010","Notifications of infectious diseases and contaminants, where medical practitioners report to the council, and the council passes on to the Health Protection Agency (from 2012/13, subject to the Health and Social Care Bill, this will be Public Health England), under Regulation 6 of The Health Protection (Notification) Regulations 2010.  \n\nNotifications are provided to the HPA on a weekly basis, subject to the council having any cases to report.  For many councils there will be very few or no notifications from week-to-week in an average year.",{"$f":"IF(OR($A169<>\"C\",P169=\"\"),\"\",HYPERLINK(P169,\"Collection\"))","v":"Collection"},{"$f":"IF(OR($A169<>\"C\",Q169=\"\"),\"\",HYPERLINK(Q169,\"Data\"))","v":"Data"},"http://www.hpa.org.uk/Topics/InfectiousDiseases/InfectionsAZ/NotificationsOfInfectiousDiseases/ReportingProcedures/","http://www.hpa.org.uk/Topics/InfectiousDiseases/InfectionsAZ/NotificationsOfInfectiousDiseases/NOIDSReportsAndTables/","Y",null,null,"Y","Y","Y","Y","Y","Y",{"$nulls":17},"District council, Metropolitan district, Unitary authority, London borough, City of London, Isles of Scilly","case based",null,1,{"$nulls":4},233,0,null,0,{"$error":"#N/A"},168,{"$f":"(BC169*1000000)+(BD169*1000)+BE169","v":{"$error":"#N/A"}},{"$error":"#N/A"}]
["D","233-01",{"$f":"C169","v":"Notification of Infectious Diseases (NOIDs)"},"Notifications received from RMPs",{"$f":"E169","v":"DH/HPA"},{"$nulls":3},"Y",{"$f":"J169","v":"as required"},{"$f":"K169","v":"Single tier & lower tier"},null,null,"","",null,null,{"$f":"R169","v":"Y"},{"$nulls":28},"",null,{"$f":"AW169","v":0},null,null,233,1,null,1,{"$error":"#N/A"},169,{"$f":"(BC170*1000000)+(BD170*1000)+BE170","v":{"$error":"#N/A"}},{"$error":"#N/A"}]
["C","152-00","Circus database",null,"DWP/HSE",{"$nulls":4},"continuous","All local authorities","Database facilitating sharing of information to support operational/regulatory activity involving circuses through the recording of visit and enforcement action ","To ensure consistency and protect the public from potential of circuses to ignore action and enforcemet in one LA when moving on to another.","","",null,null,"Y",null,"Y","Y","Y","Y","Y","Y","Y",{"$nulls":17},"County council, District council, Metropolitan district, Unitary authority, London borough, City of London, Isles of Scilly","case based",null,1,{"$nulls":4},152,0,null,0,42,170,{"$f":"(BC171*1000000)+(BD171*1000)+BE171","v":42170},{"$error":"#N/A"}]
["D","152-01",{"$f":"C171","v":"Circus database"},"Visit and enforcement activity ",{"$f":"E171","v":"DWP/HSE"},{"$nulls":4},{"$f":"J171","v":"continuous"},{"$f":"K171","v":"All local authorities"},null,null,"","",null,null,{"$f":"R171","v":"Y"},{"$nulls":28},"",null,{"$f":"AW171","v":0},null,null,152,1,null,1,42,171,1042171,{"$error":"#N/A"}]
["C","174-00","Register of deaf or hard of hearing people (SSDA910) (DELETED)",null,"DH/HSCIC",null,"Y",null,null,"every 3 years","Upper tier & single tier","The SSDA910 collects information on the number of deaf or hard of hearing people registered locally, on a three-yearly basis","This register is no longer required nationally. It is proposed for deletion in 2011/12, and a formal National Statistics consultation with a view to stopping this collection will take place in 2011. Its status will be confirmed subject to the completion of that consultation.","Collection","Data","http://www.ic.nhs.uk/webfiles/Services/Social%20care/Collections%200910/SSDA910/SSDA910%20Deaf%20and%20Hard%20of%20Hearing%202009-10%20v1.0.pdf","http://www.ic.nhs.uk/statistics-and-data-collections/social-care/adult-social-care-information/people-registered-deaf-or-hard-of-hearing--year-ending-31-march-2010-in-england",null,null,"Y",null,"Y","Y","Y","Y","Y",{"$nulls":17},"County council, Metropolitan district, Unitary authority, London borough, City of London, Isles of Scilly","aggregate/summary",null,1,{"$nulls":4},174,0,null,0,{"$error":"#N/A"},172,{"$error":"#N/A"},{"$error":"#N/A"}]
["D","174-01",{"$f":"C173","v":"Register of deaf or hard of hearing people (SSDA910) (DELETED)"},"Registers of people who are deaf or hard of hearing at 31 March, by age",{"$f":"E173","v":"DH/HSCIC"},null,"Y",null,null,{"$f":"J173","v":"every 3 years"},{"$f":"K173","v":"Upper tier & single tier"},null,null,"","",null,null,{"$f":"R173","v":0},{"$nulls":28},"",null,{"$f":"AW173","v":0},null,null,174,1,null,1,{"$error":"#N/A"},{"$f":"ROW()-1","v":173},{"$error":"#N/A"},{"$error":"#N/A"}]
["C","175-00","Grant Funded Services (GFS1) return DELETED - Collection Ceased final data collected in November 2010",null,"DH/HSCIC",{"$nulls":4},"annual","Upper tier & single tier","Information on the number of people who are helped to live more independently in their own homes through services provided by the independent sector which are partially or completely funded by councils with adult social service responsibilities.","This collection ceased following a formal National Statistics consultation with a view to stopping this collection which took place in 2011.","Collection","Data","http://www.ic.nhs.uk/webfiles/Services/Social_care/Collections_201011/GFS/GFS_2010-11_proforma_v1.0.xls","http://www.ic.nhs.uk/statistics-and-data-collections/social-care/adult-social-care-information/community-care-statistics-2009-10-grant-funded-services-gfs1-report--england",null,null,"Y",null,"Y","Y","Y","Y","Y",{"$nulls":17},"County council, Metropolitan district, Unitary authority, London borough, City of London, Isles of Scilly","case based",null,2,{"$nulls":4},175,0,null,0,{"$error":"#N/A"},174,{"$error":"#N/A"},{"$error":"#N/A"}]
["D","175-01",{"$f":"C175","v":"Grant Funded Services (GFS1) return DELETED - Collection Ceased final data collected in November 2010"},"Data on schemes from those voluntary organisations and other organisations to which councils with adult social services responsibilites had provided funding during the financial year",{"$f":"E175","v":"DH/HSCIC"},{"$nulls":4},{"$f":"J175","v":"annual"},{"$f":"K175","v":"Upper tier & single tier"},null,null,"","",null,null,{"$f":"R175","v":0},{"$nulls":28},"",null,{"$f":"AW175","v":0},null,null,175,1,null,1,{"$error":"#N/A"},175,{"$error":"#N/A"},{"$error":"#N/A"}]
["D","175-02",{"$f":"C176","v":"Grant Funded Services (GFS1) return DELETED - Collection Ceased final data collected in November 2010"},"Details of council funding given to each qualifying scheme during the financial year",{"$f":"E176","v":"DH/HSCIC"},{"$nulls":4},{"$f":"J176","v":"annual"},{"$f":"K176","v":"Upper tier & single tier"},null,null,"","",null,null,{"$f":"R176","v":0},{"$nulls":28},"",null,{"$f":"AW176","v":0},null,null,175,2,null,1,{"$error":"#N/A"},176,{"$error":"#N/A"},{"$error":"#N/A"}]
["C",{"$f":"TEXT(AZ178,\"000\")&\"-\"&TEXT(BA178,\"00\")","v":"176-00"},"Personal Social Services Staffing (SSDS001) return (DELETED)",null,"DH/HSCIC",null,"Y",null,null,"annual","Upper tier & single tier","The SSDS001 collects information on the number of social services staff","This collection is proposed for deletion in 2011/12, and a formal National Statistics consultation with a view to stopping this collection will take place in 2011.  Its status will be confirmed subject to the completion of that consultation.","Collection","Data","http://www.ic.nhs.uk/webfiles/Services/Social%20care/Collections%200910/Staffing/SSDS001_2010-11_template_v1.0.xls","http://www.ic.nhs.uk/statistics-and-data-collections/social-care/adult-social-care-information/personal-social-services-staff-of-social-services-departments-england-at-30-september-2009",null,null,"Y",null,"Y","Y","Y","Y","Y",{"$nulls":17},"County council, Metropolitan district, Unitary authority, London borough, City of London, Isles of Scilly","client based",null,1,{"$nulls":4},176,0,null,0,{"$error":"#N/A"},177,{"$error":"#N/A"},{"$error":"#N/A"}]
["D","176-01",{"$f":"C178","v":"Personal Social Services Staffing (SSDS001) return (DELETED)"},"Data entry using staff code, by FT/PT, WTE, SSDS job code, gender and ethnicity",{"$f":"E178","v":"DH/HSCIC"},null,"Y",null,null,{"$f":"J178","v":"annual"},{"$f":"K178","v":"Upper tier & single tier"},null,null,"","",null,null,{"$f":"R178","v":0},{"$nulls":28},"",null,{"$f":"AW178","v":0},null,null,176,1,null,1,{"$error":"#N/A"},178,{"$error":"#N/A"},{"$error":"#N/A"}]
["C","201-00","Fee Collection – Salary Deduction Process",null,"DfE/GTC",{"$nulls":3},"Y","annual","Upper tier & single tier","Request for the payment details that have been deducted from teachers’ salaries","Final collection happening June to September 2011.",{"$f":"IF(OR($A180<>\"C\",P180=\"\"),\"\",HYPERLINK(P180,\"Collection\"))","v":""},{"$f":"IF(OR($A180<>\"C\",Q180=\"\"),\"\",HYPERLINK(Q180,\"Data\"))","v":""},null,null,"Y",null,"Y",null,"Y","Y","Y","Y","Y",{"$nulls":17},"County council, Metropolitan district, Unitary authority, London borough, City of London, Isles of Scilly",null,null,1,null,null,"Simon Grigor",null,201,0,null,0,{"$error":"#N/A"},179,{"$error":"#N/A"},{"$error":"#N/A"}]
["D","201-01",{"$f":"C180","v":"Fee Collection – Salary Deduction Process"},"Supports collection of an annual fee from teachers",{"$f":"E180","v":"DfE/GTC"},{"$nulls":3},"Y",{"$f":"J180","v":"annual"},{"$f":"K180","v":"Upper tier & single tier"},null,null,"","",null,null,{"$f":"R180","v":"Y"},{"$nulls":28},"",null,{"$f":"AW180","v":0},null,null,201,1,null,1,{"$error":"#N/A"},180,{"$error":"#N/A"},{"$error":"#N/A"}]
["C","209-00","Gambling Temporary Use Notices",null,"DCMS/GC",null,"Y",null,"Y","continuous","Single tier & lower tier","Notification of Temporary use notices","legally required to be informed by the ‘giver’ S219","","",null,null,"Y",null,null,"Y","Y","Y","Y","Y","Y",{"$nulls":17},"District council, Metropolitan district, Unitary authority, London borough, City of London, Isles of Scilly","case based",null,1,{"$nulls":4},209,0,null,0,31,181,31181,{"$error":"#N/A"}]
["D","209-01",{"$f":"C182","v":"Gambling Temporary Use Notices"},"Notification of notice granted",{"$f":"E182","v":"DCMS/GC"},{"$nulls":4},{"$f":"J182","v":"continuous"},{"$f":"K182","v":"Single tier & lower tier"},null,null,"","",null,null,{"$f":"R182","v":"Y"},{"$nulls":28},{"$f":"IF($A183=\"C\",COUNTIF(C:C,C183)-1,\"\")","v":""},null,{"$f":"AW182","v":0},null,null,209,1,null,1,31,182,1031182,{"$error":"#N/A"}]
["C","210-00","Club Machine Permits & Club Gaming Permits",null,"DCMS/GC",null,"Y",null,"Y","continuous","Single tier & lower tier","Notifications of Club Machine and Club Gaming permits","legally required Sch12 [8]","","",null,null,"Y",null,null,"Y","Y","Y","Y","Y","Y",{"$nulls":17},"District council, Metropolitan district, Unitary authority, London borough, City of London, Isles of Scilly","case based",null,1,{"$nulls":4},210,0,null,0,31,183,31183,{"$error":"#N/A"}]
["D","210-01",{"$f":"C184","v":"Club Machine Permits & Club Gaming Permits"},"Notifications of applications, Grants, Cancellations and Refusal  ",{"$f":"E184","v":"DCMS/GC"},{"$nulls":4},{"$f":"J184","v":"continuous"},{"$f":"K184","v":"Single tier & lower tier"},null,null,"","",null,null,{"$f":"R184","v":"Y"},{"$nulls":28},"",null,{"$f":"AW184","v":0},null,null,210,1,null,1,31,184,1031184,{"$error":"#N/A"}]
["C","211-00","Gambling Premises data",null,"DCMS/GC",null,"Y",null,"Y","continuous","Single tier & lower tier","Notifications of Premises licences","legally required S164 and S165","","",null,null,"Y",null,null,"Y","Y","Y","Y","Y","Y",{"$nulls":17},"District council, Metropolitan district, Unitary authority, London borough, City of London, Isles of Scilly","case based",null,1,{"$nulls":4},211,0,null,0,31,185,31185,{"$error":"#N/A"}]
["D","211-01",{"$f":"C186","v":"Gambling Premises data"},"Notifications of Application, Provisional Application (premises has no history of gambling activity), Grants, Variations, Transfer, Reinstatements, Reviews, Surrender, Cancellations, Lapses, Rejections, Withdrawals and Revocations",{"$f":"E186","v":"DCMS/GC"},{"$nulls":4},{"$f":"J186","v":"continuous"},{"$f":"K186","v":"Single tier & lower tier"},null,null,"","",null,null,{"$f":"R186","v":"Y"},{"$nulls":28},"",null,{"$f":"AW186","v":0},null,null,211,1,null,1,31,186,1031186,{"$error":"#N/A"}]
["C",{"$f":"TEXT(AZ188,\"000\")&\"-\"&TEXT(BA188,\"00\")","v":"241-00"},"Billing Authority Report (BAR)",null,"HMRC/VOA",{"$nulls":3},"Y","as required","Single tier & lower tier","Information to ensure the accurate maintenance of the Rating and Valauation lists e.g. improvements to properties.","Billing Authorities have a statutory obligation under the Local Government Finance Act to provide VOA with information that will ensure the accurate maintenance of the Rating and Valauation lists e.g. improvements to properties. Information can be provided in a variety of formats including XML/HTML and spreadsheet. The basis for the data collection is set out in the Service Partnership Agreement between each BA and VOA. Frequency is dependant on changes to heriditaments which can arise from a wide range of causes notably new building, demolition, conversion or improvement (which requires planning permission)",{"$f":"IF(OR($A188<>\"C\",P188=\"\"),\"\",HYPERLINK(P188,\"Collection\"))","v":""},{"$f":"IF(OR($A188<>\"C\",Q188=\"\"),\"\",HYPERLINK(Q188,\"Data\"))","v":""},null,null,"Y",null,null,"Y","Y","Y","Y","Y","Y",{"$nulls":17},"District council, Metropolitan district, Unitary authority, London borough, City of London, Isles of Scilly","case based",null,1,{"$nulls":4},241,0,null,0,43,187,{"$f":"(BC188*1000000)+(BD188*1000)+BE188","v":43187},{"$error":"#N/A"}]
["D",{"$f":"TEXT(AZ189,\"000\")&\"-\"&TEXT(BA189,\"00\")","v":"241-01"},{"$f":"C188","v":"Billing Authority Report (BAR)"},"Integrity of non-domestic rates and council tax bases",{"$f":"E188","v":"HMRC/VOA"},{"$nulls":3},"Y",{"$f":"J188","v":"as required"},{"$f":"K188","v":"Single tier & lower tier"},null,null,{"$f":"IF(OR($A189<>\"C\",P189=\"\"),\"\",HYPERLINK(P189,\"Collection\"))","v":""},{"$f":"IF(OR($A189<>\"C\",Q189=\"\"),\"\",HYPERLINK(Q189,\"Data\"))","v":""},null,null,{"$f":"R188","v":"Y"},{"$nulls":28},"",null,{"$f":"AW188","v":0},null,null,241,1,null,1,43,188,{"$f":"(BC189*1000000)+(BD189*1000)+BE189","v":1043188},{"$error":"#N/A"}]
["C",{"$f":"TEXT(AZ190,\"000\")&\"-\"&TEXT(BA190,\"00\")","v":"220-00"},"Residential family centres’ data",null,"DfE/Ofsted",{"$nulls":4},"every 3 years","Upper tier & single tier","Pre-inspection data for inspectors that informs their inspections of the centres.","There are a total of 6 LA registered residential family centres, in separate LAs.",{"$f":"IF(OR($A190<>\"C\",P190=\"\"),\"\",HYPERLINK(P190,\"Collection\"))","v":""},{"$f":"IF(OR($A190<>\"C\",Q190=\"\"),\"\",HYPERLINK(Q190,\"Data\"))","v":""},null,null,"Y",null,"Y",null,"Y","Y","Y","Y","Y",{"$nulls":16},"Only those (6) authorities with a residentail family centre","County council, Metropolitan district, Unitary authority, London borough, City of London, Isles of Scilly",null,null,1,{"$nulls":4},220,0,null,0,34,189,{"$f":"(BC190*1000000)+(BD190*1000)+BE190","v":34189},{"$error":"#N/A"}]
["D","220-01",{"$f":"C190","v":"Residential family centres’ data"},"Information on residential family centres, their staffing and the children placed there.",{"$f":"E190","v":"DfE/Ofsted"},{"$nulls":4},{"$f":"J190","v":"every 3 years"},{"$f":"K190","v":"Upper tier & single tier"},null,null,"","",null,null,{"$f":"R190","v":"Y"},{"$nulls":28},"",null,{"$f":"AW190","v":0},null,null,220,1,null,1,34,190,1034190,{"$error":"#N/A"}]
["C","223-00","Point of inspection placing authorities’ questionnaire",null,"DfE/Ofsted",{"$nulls":4},"as required","Upper tier & single tier","Completed questionnaires inform inspectors of local authorities’ perceptions of a school, at the point that the school is inspected. ","The continuation of this collection is still being considered.","","",null,null,"Y",null,"Y",null,"Y","Y","Y","Y","Y",{"$nulls":17},"County council, Metropolitan district, Unitary authority, London borough, City of London, Isles of Scilly",null,null,1,{"$nulls":4},223,0,null,0,34,191,34191,{"$error":"#N/A"}]
["D","223-01",{"$f":"C192","v":"Point of inspection placing authorities’ questionnaire"},"Views on the various types of schools in which authorities place children.",{"$f":"E192","v":"DfE/Ofsted"},{"$nulls":4},{"$f":"J192","v":"as required"},{"$f":"K192","v":"Upper tier & single tier"},null,null,"","",null,null,{"$f":"R192","v":"Y"},{"$nulls":28},"",null,{"$f":"AW192","v":0},null,null,223,1,null,1,34,192,1034192,{"$error":"#N/A"}]
["C","226-00","Pre-inspection data for private fostering services",null,"DfE/Ofsted",{"$nulls":4},"as required","Upper tier & single tier","Data to inform the inspection of private fostering services and helps shape inspection activity .","6 pilots have been completed.  Ofsted will not be undertaking any further inspections until the Munro review has reported and the Secretary of State decided if we should continue with these inspections","","",null,null,"Y",null,"Y",null,"Y","Y","Y","Y","Y",{"$nulls":17},"County council, Metropolitan district, Unitary authority, London borough, City of London, Isles of Scilly",null,null,1,{"$nulls":4},226,0,null,{"$f":"IF(A194=\"D\",1,0)","v":0},{"$f":"MATCH(E194,DeptAbbr,0)","v":34},193,34193,{"$f":"RANK(BF194,BF:BF,1)","v":{"$error":"#N/A"}}]
["D","226-01",{"$f":"C194","v":"Pre-inspection data for private fostering services"},"Information collected from, and about, private fostering services prior to an inspection.",{"$f":"E194","v":"DfE/Ofsted"},{"$nulls":4},{"$f":"J194","v":"as required"},{"$f":"K194","v":"Upper tier & single tier"},null,null,"","",null,null,{"$f":"R194","v":"Y"},{"$nulls":28},"",null,{"$f":"AW194","v":0},null,null,226,1,null,1,34,194,1034194,{"$error":"#N/A"}]
["C","236-00","AfterCare survey of those who have left care in the past year",null,"DfE/Ofsted",{"$nulls":4},"as required","Upper tier & single tier","Survey of all children and young people aged eight and over who have left the council’s care during the previous 12 months seeking their views about after-care services that are being inspected.",null,"","",null,null,"Y",null,"Y",null,"Y","Y","Y","Y","Y",{"$nulls":17},"County council, Metropolitan district, Unitary authority, London borough, City of London, Isles of Scilly",null,null,1,{"$nulls":4},236,0,null,0,34,195,34195,{"$error":"#N/A"}]
["D","236-01",{"$f":"C196","v":"AfterCare survey of those who have left care in the past year"},"Views of young people about the safeguarding and care they have received",{"$f":"E196","v":"DfE/Ofsted"},{"$nulls":4},{"$f":"J196","v":"as required"},{"$f":"K196","v":"Upper tier & single tier"},null,null,"","",null,null,{"$f":"R196","v":"Y"},{"$nulls":28},"",null,{"$f":"AW196","v":0},null,null,236,1,null,1,34,196,1034196,{"$error":"#N/A"}]
["C","237-00","Care4Me survey",null,"DfE/Ofsted",{"$nulls":4},"as required","Upper tier & single tier","Children's views of their safeguarding and care by an inspected authority.",null,"","",null,null,"Y",null,"Y",null,"Y","Y","Y","Y","Y",{"$nulls":17},"County council, Metropolitan district, Unitary authority, London borough, City of London, Isles of Scilly",null,null,1,{"$nulls":4},237,0,null,0,34,197,34197,{"$error":"#N/A"}]
["D","237-01",{"$f":"C198","v":"Care4Me survey"},"Children's views about the care they have received",{"$f":"E198","v":"DfE/Ofsted"},{"$nulls":4},{"$f":"J198","v":"as required"},{"$f":"K198","v":"Upper tier & single tier"},null,null,"","",null,null,{"$f":"R198","v":"Y"},{"$nulls":28},"",null,{"$f":"AW198","v":0},null,null,237,1,null,1,34,198,1034198,{"$error":"#N/A"}]
["C","238-00","Staff questionnaire, maintained day, boarding and residential special schools",null,"DfE/Ofsted",{"$nulls":4},"as required","Upper tier & single tier","Staff's views about their school completed prior to inspection.",null,"","",null,null,"Y",null,"Y",null,"Y","Y","Y","Y","Y",{"$nulls":17},"County council, Metropolitan district, Unitary authority, London borough, City of London, Isles of Scilly",null,null,1,{"$nulls":4},238,0,null,0,34,199,34199,{"$error":"#N/A"}]
["D",{"$f":"TEXT(AZ201,\"000\")&\"-\"&TEXT(BA201,\"00\")","v":"238-01"},{"$f":"C200","v":"Staff questionnaire, maintained day, boarding and residential special schools"},"Views of staff at these schools collected prior to an inspection",{"$f":"E200","v":"DfE/Ofsted"},{"$nulls":4},{"$f":"J200","v":"as required"},{"$f":"K200","v":"Upper tier & single tier"},null,null,{"$f":"IF(OR($A201<>\"C\",P201=\"\"),\"\",HYPERLINK(P201,\"Collection\"))","v":""},{"$f":"IF(OR($A201<>\"C\",Q201=\"\"),\"\",HYPERLINK(Q201,\"Data\"))","v":""},null,null,{"$f":"R200","v":"Y"},{"$nulls":28},"",null,{"$f":"AW200","v":0},null,null,238,1,null,1,34,200,1034200,{"$error":"#N/A"}]
["C",{"$f":"TEXT(AZ202,\"000\")&\"-\"&TEXT(BA202,\"00\")","v":"239-00"},"Children’s centre self-evaluation form",null,"DfE/Ofsted",{"$nulls":4},"as required","Upper tier & single tier","A self assessment carried out by children's centres and used to inform their inspection.",null,{"$f":"IF(OR($A202<>\"C\",P202=\"\"),\"\",HYPERLINK(P202,\"Collection\"))","v":""},{"$f":"IF(OR($A202<>\"C\",Q202=\"\"),\"\",HYPERLINK(Q202,\"Data\"))","v":""},null,null,"Y",null,"Y",null,"Y","Y","Y","Y","Y",{"$nulls":17},"County council, Metropolitan district, Unitary authority, London borough, City of London, Isles of Scilly",null,null,1,{"$nulls":4},239,0,null,0,34,201,34201,{"$error":"#N/A"}]
["D",{"$f":"TEXT(AZ203,\"000\")&\"-\"&TEXT(BA203,\"00\")","v":"239-01"},{"$f":"C202","v":"Children’s centre self-evaluation form"},"Self-assessment by a children's centre, completed prior to an inspection",{"$f":"E202","v":"DfE/Ofsted"},{"$nulls":4},{"$f":"J202","v":"as required"},{"$f":"K202","v":"Upper tier & single tier"},null,null,{"$f":"IF(OR($A203<>\"C\",P203=\"\"),\"\",HYPERLINK(P203,\"Collection\"))","v":""},{"$f":"IF(OR($A203<>\"C\",Q203=\"\"),\"\",HYPERLINK(Q203,\"Data\"))","v":""},null,null,{"$f":"R202","v":"Y"},{"$nulls":28},"",null,{"$f":"AW202","v":0},null,null,239,1,null,1,34,202,1034202,{"$error":"#N/A"}]
["C","240-00","Post inspection survey",null,"DfE/Ofsted",{"$nulls":4},"as required","Upper tier & single tier","Opportunity given to schools to feed back on how a recent inspection has been carried out.",null,"","",null,null,"Y",null,"Y",null,"Y","Y","Y","Y","Y",{"$nulls":17},"County council, Metropolitan district, Unitary authority, London borough, City of London, Isles of Scilly",null,null,1,{"$nulls":4},240,0,null,0,34,203,34203,{"$error":"#N/A"}]
["D","240-01",{"$f":"C204","v":"Post inspection survey"},"Feedback collected from maintained schools who have recently undergone an inspection process",{"$f":"E204","v":"DfE/Ofsted"},{"$nulls":4},{"$f":"J204","v":"as required"},{"$f":"K204","v":"Upper tier & single tier"},null,null,"","",null,null,{"$f":"R204","v":"Y"},{"$nulls":28},"",null,{"$f":"AW204","v":0},null,null,240,1,null,1,34,204,1034204,{"$error":"#N/A"}]
["C","182-00","Merged with 113",null,"DfE",{"$nulls":8},"","",{"$nulls":31},1,{"$nulls":4},182,0,null,0,9,205,9205,{"$error":"#N/A"}]
["D","182-01",{"$f":"C206","v":"Merged with 113"},"[merged]",{"$f":"E206","v":"DfE"},{"$nulls":4},{"$f":"J206","v":0},{"$f":"K206","v":0},null,null,"","",null,null,{"$f":"R206","v":0},{"$nulls":28},"",null,{"$f":"AW206","v":0},null,null,182,1,null,1,9,206,1009206,{"$error":"#N/A"}]
["C","116-00","Standards Fund monitoring (TO CEASE DURING 2011/12)",null,"DfE",null,"N",null,"Y","annual","Upper tier & single tier",null,"Final collection will be in Autumn 2011 (about usage of the Grant in 2010-11)","","",{"$nulls":4},"Y",null,"Y","Y","Y","Y","Y",{"$nulls":17},"County council, Metropolitan district, Unitary authority, London borough, City of London, Isles of Scilly",null,null,1,{"$nulls":4},116,0,null,0,9,{"$f":"ROW()-1","v":207},9207,{"$error":"#N/A"}]
["D","116-01",{"$f":"C208","v":"Standards Fund monitoring (TO CEASE DURING 2011/12)"},"Amounts of different grants spent directly by LAs or devolved to schools",{"$f":"E208","v":"DfE"},null,"N",null,"Y",{"$f":"J208","v":"annual"},{"$f":"K208","v":"Upper tier & single tier"},null,null,"","",null,null,{"$f":"R208","v":0},{"$nulls":28},"",null,{"$f":"AW208","v":0},null,null,116,1,null,1,9,{"$f":"ROW()-1","v":208},1009208,{"$error":"#N/A"}]
["C","085-00","Child and Adolescent Mental Health Service (CAMHS)",null,"DfE",null,"N",null,null,"annual","Upper tier & single tier",null,null,"","Data",null,"http://www.education.gov.uk/rsgateway/DB/STR/d001002/index.shtml",null,51,"Y",null,"Y","Y","Y","Y","Y",{"$nulls":17},"County council, Metropolitan district, Unitary authority, London borough, City of London, Isles of Scilly","aggregate/summary",null,1,{"$nulls":4},85,0,null,0,9,{"$f":"ROW()-1","v":209},9209,{"$error":"#N/A"}]
["D","085-01",{"$f":"C210","v":"Child and Adolescent Mental Health Service (CAMHS)"},"Mental health services available to children and young people",{"$f":"E210","v":"DfE"},null,"N",null,null,{"$f":"J210","v":"annual"},{"$f":"K210","v":"Upper tier & single tier"},null,null,"","",null,null,{"$f":"R210","v":0},{"$nulls":28},"",null,{"$f":"AW210","v":0},null,null,85,1,null,1,9,210,1009210,{"$error":"#N/A"}]
["C","089-00","Missing from Care and Home",null,"DfE",null,"N",null,"Y","annual","Upper tier & single tier","Assessment of information and procedures on young runaways.","Former NI 71","","",{"$nulls":3},71,"Y",null,"Y","Y","Y","Y","Y",{"$nulls":17},"County council, Metropolitan district, Unitary authority, London borough, City of London, Isles of Scilly","assessment score",null,1,{"$nulls":4},89,0,null,0,9,211,9211,{"$error":"#N/A"}]
["D","089-01",{"$f":"C212","v":"Missing from Care and Home"},"Assessment against criteria.",{"$f":"E212","v":"DfE"},null,"N",null,"Y",{"$f":"J212","v":"annual"},{"$f":"K212","v":"Upper tier & single tier"},null,null,"","",null,null,{"$f":"R212","v":0},{"$nulls":28},"",null,{"$f":"AW212","v":0},null,null,89,1,null,1,9,212,1009212,{"$error":"#N/A"}]
["C","158-00","Public rights of way",null,"BIS/OS",null,"N",null,"Y","as required","Upper tier & single tier","Changes to Definitive Map and/or the Definitive Statement when a public right of way is created or amended.","Local Authorities have a statutory responsibility for the administration of Public Rights of Way (PROW) When a PROW is created or amended data is provided to Ordnance Survey by the designated Local Authority or National Park in the form of paper and/or digital copies of the Definitive Map and/or the Definitive Statement. This information supports a nationally consistent cartographic representation of Public Rights of Way in Ordnance Survey mapping products.","","",null,null,"Y",null,"Y",null,"Y","Y","Y","Y",{"$nulls":5},"Y",{"$nulls":11},"Definitive map provisions are not mandatory for inner London boroughs","County council, Metropolitan district, Unitary authority, London borough, City of London, National park authority","case based",null,1,null,"Housing","Neil Sutherland OS",null,158,0,null,0,26,213,26213,{"$error":"#N/A"}]
["D","158-01",{"$f":"C214","v":"Public rights of way"},"Changes to the Definitive Map",{"$f":"E214","v":"BIS/OS"},null,"N",null,"Y",{"$f":"J214","v":"as required"},{"$f":"K214","v":"Upper tier & single tier"},null,null,"","",null,null,{"$f":"R214","v":"Y"},{"$nulls":28},{"$f":"IF($A215=\"C\",COUNTIF(C:C,C215)-1,\"\")","v":""},null,{"$f":"AW214","v":"Housing"},null,null,158,1,null,1,26,214,1026214,{"$error":"#N/A"}]
["C","177-00","Parish council boundaries",null,"BIS/OS",null,"N",null,"Y","as required","All local authorities","Changes to civil parish boundaries","Under the Local Government and Public Involvement in Health Act 2007, principal councils may undertake a community governance review, which may recommend changes to civil parishes and their boundaries. If a council subsequently makes a reorganisation order, it is required to inform, among others, the the Secretary of States for Communities and Local Government, the Director General of the Ordnance Survey and the Office for National Statistics.","","",null,null,"Y",null,null,"Y","Y","Y","Y","Y",{"$nulls":18},"District council, Metropolitan district, Unitary authority, London borough, City of London","case based",null,1,null,"Housing","Neil Sutherland OS",null,177,0,null,0,26,215,26215,{"$error":"#N/A"}]
["D","177-01",{"$f":"C216","v":"Parish council boundaries"},"Changes to parish council boundaries following a community governance review",{"$f":"E216","v":"BIS/OS"},null,"N",null,"Y",{"$f":"J216","v":"as required"},{"$f":"K216","v":"All local authorities"},null,null,"","",null,null,{"$f":"R216","v":"Y"},{"$nulls":28},"",null,{"$f":"AW216","v":"Housing"},null,null,177,1,null,1,26,216,1026216,{"$error":"#N/A"}]
["C","186-00","Individualised Learner Record (ILR)",null,"BIS/SFA",null,"Y","Y","Y","other","Other","The ILR is collected on behalf of the Skills Funding Agency and YPLA from all Local authorities delivering fundable learning provision","Frequency is dependant on the type of learning being delivered, and therefore the type of data being returned (some monthly, some 5 times per academic year).  The ILR is under constant review in terms of content, format and frequency, work led by the Information Authority (IA). The data is not published in its collected format, but feeds into a great number of publications, most notably the Statistical First Release (SFR) published by The Data Service.\nReturns are completed by all those who act as a Learning Provider delivering fundable learning provision (~164 organisations).","Collection","Data","http://www.theia.org.uk/ilr/","http://www.thedataservice.org.uk/statistics/statisticalfirstrelease/sfr_current/","Y",{"$nulls":24},"Returns are completed by all those who act as a Learning Provider delivering fundable learning provision (~164 organisations).",null,"client based",null,1,null,"Further education","David Masino",null,186,0,null,0,27,217,27217,{"$error":"#N/A"}]
["D","186-01",{"$f":"C218","v":"Individualised Learner Record (ILR)"},"Learner personal and sensitive details, details of learning undertaken, demographics  and geographical information",{"$f":"E218","v":"BIS/SFA"},null,"Y","Y","Y",{"$f":"J218","v":"other"},{"$f":"K218","v":"Other"},null,null,"","",null,null,{"$f":"R218","v":"Y"},{"$nulls":28},"",null,{"$f":"AW218","v":"Further education"},null,null,186,1,null,1,27,218,1027218,{"$error":"#N/A"}]
["C","187-00","Skills Funding Claims and Use of Funds",null,"BIS/SFA",{"$nulls":3},"Y","four times a year","Other","The Funding Claims are collected by the Skills Funding Agency to support the accountability for public funds.","3 funding claims & 1 use of funds declaration annually. Freq. is dependant on the type of learning being delivered.\nCompleted by All those who act as a Learning Provider delivering fundable learning provision (~164 organisations)\nThe Adult Skills funding system is being reviewed for simplication.","","",null,null,"Y",{"$nulls":24},"Completed by all those who act as a Learning Provider delivering fundable learning provision (~164 organisations)",null,"n/k",null,1,null,"Further education","David Masino",null,187,0,null,0,27,219,27219,{"$error":"#N/A"}]
["D","187-01",{"$f":"C220","v":"Skills Funding Claims and Use of Funds"},"Details of funding claimed by each local authority in receipt of funds",{"$f":"E220","v":"BIS/SFA"},{"$nulls":3},"Y",{"$f":"J220","v":"four times a year"},{"$f":"K220","v":"Other"},null,null,"","",null,null,{"$f":"R220","v":"Y"},{"$nulls":28},"",null,{"$f":"AW220","v":"Further education"},null,null,187,1,null,1,27,220,1027220,{"$error":"#N/A"}]
["C",{"$f":"TEXT(AZ222,\"000\")&\"-\"&TEXT(BA222,\"00\")","v":"056-00"},"Community Budgets (from 2013/14)",null,"DCLG","Y",{"$nulls":3},"not decided","All local authorities","Possible - local authority data relevant to measuring spending held in community budgets.","Possible additional local authority data to support key data which will help people to judge the progress of departmental structural reforms (subject to further work being done to test the feasibility of this measure).",{"$f":"IF(OR($A222<>\"C\",P222=\"\"),\"\",HYPERLINK(P222,\"Collection\"))","v":""},{"$f":"IF(OR($A222<>\"C\",Q222=\"\"),\"\",HYPERLINK(Q222,\"Data\"))","v":""},{"$nulls":4},"Y","Y","Y","Y","Y","Y","Y",{"$nulls":17},"County council, District council, Metropolitan district, Unitary authority, London borough, City of London, Isles of Scilly","aggregate/summary",null,{"$f":"IF($A222=\"C\",COUNTIF(C$222:C$223,C222)-1,\"\")","v":1},null,"Communities",null,null,56,0,null,0,5,{"$f":"ROW()-1","v":221},{"$f":"(BC222*1000000)+(BD222*1000)+BE222","v":5221},{"$f":"RANK(BF222,BF$222:BF$223,1)","v":1}]
["D","056-01",{"$f":"C222","v":"Community Budgets (from 2013/14)"},"Spending held in community budgets.",{"$f":"E222","v":"DCLG"},"Y",{"$nulls":3},{"$f":"J222","v":"not decided"},{"$f":"K222","v":"All local authorities"},null,null,"","",null,null,{"$f":"R222","v":0},{"$nulls":28},{"$f":"IF($A223=\"C\",COUNTIF(C$222:C$223,C223)-1,\"\")","v":""},null,{"$f":"AW222","v":"Communities"},null,null,56,1,null,1,5,222,1005222,{"$f":"RANK(BF223,BF$222:BF$223,1)","v":2}]
["C","234-00","16-19 Bursary Fund",null,"DfE/YPLA","Y",{"$nulls":3},"annual","Upper tier & single tier","Breakdown of spend in school 6th forms on the 16-19 bursary fund, including data on recipients\n","LAs have previously provided this information on the discretionary learner support funds which are being replaced  from September 2011 with  the 16-19 bursary fund","","",null,null,"Y",null,"Y",null,"Y","Y","Y","Y","Y",{"$nulls":17},"County council, Metropolitan district, Unitary authority, London borough, City of London, Isles of Scilly","n/k",null,{"$f":"IF($A224=\"C\",COUNTIF(C$224:C$225,C224)-1,\"\")","v":1},null,null,"Simon Grigor",null,234,0,null,0,36,223,36223,{"$f":"RANK(BF224,BF$224:BF$225,1)","v":1}]
["D","234-01",{"$f":"C224","v":"16-19 Bursary Fund"},"Data on use of 16-19 bursary fund ",{"$f":"E224","v":"DfE/YPLA"},"Y",{"$nulls":3},{"$f":"J224","v":"annual"},{"$f":"K224","v":"Upper tier & single tier"},null,null,"","",null,null,{"$f":"R224","v":"Y"},{"$nulls":28},{"$f":"IF($A225=\"C\",COUNTIF(C$224:C$225,C225)-1,\"\")","v":""},null,{"$f":"AW224","v":0},null,null,234,1,null,1,36,224,1036224,{"$f":"RANK(BF225,BF$224:BF$225,1)","v":2}]
["C","208-00","Small Society Lottery ",null,"DCMS/GC",null,"Y",null,"Y","continuous","Single tier & lower tier","Small Society Lottery notifications\n","legally required: Gambling Act 2005Sch11 [44]                                                                                                                                                                                                                                             As this collection is transactional in nature, it is not relevant for inclusion in the single data list","","",null,null,"Y",null,null,"Y","Y","Y","Y","Y","Y",{"$nulls":17},"District council, Metropolitan district, Unitary authority, London borough, City of London, Isles of Scilly","case based",null,{"$f":"IF($A226=\"C\",COUNTIF(C$226:C$227,C226)-1,\"\")","v":1},{"$nulls":4},208,0,null,0,31,225,31225,{"$f":"RANK(BF226,BF$226:BF$227,1)","v":1}]
["D","208-01",{"$f":"C226","v":"Small Society Lottery "},"Notifications of registration and cancellation",{"$f":"E226","v":"DCMS/GC"},{"$nulls":4},{"$f":"J226","v":"continuous"},{"$f":"K226","v":"Single tier & lower tier"},null,null,"","",null,null,{"$f":"R226","v":"Y"},{"$nulls":28},{"$f":"IF($A227=\"C\",COUNTIF(C$226:C$227,C227)-1,\"\")","v":""},null,{"$f":"AW226","v":0},null,null,208,1,null,1,31,226,1031226,{"$f":"RANK(BF227,BF$226:BF$227,1)","v":2}]
["C",{"$f":"TEXT(AZ228,\"000\")&\"-\"&TEXT(BA228,\"00\")","v":"004-00"},"Housing Strategy Statistical Appendix (HSSA)",null,"DCLG",null,"N",null,null,"annual","Single tier & lower tier","Dwelling stock data for all tenures.","Now undergoing a longer term review for 2012/13, following small changes having been agreed for 2011/12. The review will also look at how this collection relates to the BPSA (ref 005-00).\n\nThe purpose of this appendix is to collect statistical information relevant to the formulation of your housing strategy. The presentation of these data will enable your authority, partners and other interested parties to gain a quick overview of your position and will inform development of the regional housing strategy. Your authority will also find this appendix useful, as it brings together data items from many different housing areas in a concise and handy reference document.\n\nThe data also has a purpose for informing central government strategies, monitoring policies, business objectives, service level agreements, reporting national indicators and performance assessments; responding to parliamentary questions; and policy development on housing issues. Some items have been used for funding allocations, e.g. regional housing pot for housing capital investment.\n\nSubmitted via DCLG's interform on-line service.\n\nSections F, I and M of the return are currently blank.",{"$f":"IF(OR($A228<>\"C\",P228=\"\"),\"\",HYPERLINK(P228,\"Collection\"))","v":"Collection"},{"$f":"IF(OR($A228<>\"C\",Q228=\"\"),\"\",HYPERLINK(Q228,\"Data\"))","v":"Data"},"http://www.communities.gov.uk/publications/housing/hssaguide200910","http://www.communities.gov.uk/housing/housingresearch/housingstatistics/housingstatisticsby/localauthorityhousing/dataforms/hssa0809/",{"$nulls":3},"Y","Y","Y","Y","Y","Y",{"$nulls":17},"District council, Metropolitan district, Unitary authority, London borough, City of London, Isles of Scilly","aggregate/summary","Spreadsheet",{"$f":"IF($A228=\"C\",COUNTIF(C$228:C$245,C228)-1,\"\")","v":11},null,"Housing","Jane Hinton",null,4,0,null,0,5,{"$f":"ROW()-1","v":227},{"$f":"(BC228*1000000)+(BD228*1000)+BE228","v":5227},{"$f":"RANK(BF228,BF$228:BF$245,1)","v":1}]
["D","004-01",{"$f":"C228","v":"Housing Strategy Statistical Appendix (HSSA)"},"Dwelling stock position in authority area (HSSA Section A)",{"$f":"E228","v":"DCLG"},null,"N",null,null,{"$f":"J228","v":"annual"},{"$f":"K228","v":"Single tier & lower tier"},null,null,"","",null,null,{"$f":"R228","v":0},{"$nulls":28},"",null,{"$f":"AW228","v":"Housing"},null,null,4,1,null,1,5,228,1005228,3]
["D","004-02","Housing Strategy Statistical Appendix (HSSA)","condition of private sector housing (HSSA Section B)","DCLG",null,"N",null,null,"annual","Single tier & lower tier",null,null,"","",null,null,0,{"$nulls":28},"",null,"Housing",null,null,4,2,null,1,5,229,1005229,4]
["D","004-03","Housing Strategy Statistical Appendix (HSSA)","housing waiting list and choice-based lettings (HSSA Section C)","DCLG",null,"N",null,null,"annual","Single tier & lower tier",null,null,"","",null,null,0,{"$nulls":28},"",null,"Housing",null,null,4,3,null,1,5,230,1005230,5]
["D","004-04","Housing Strategy Statistical Appendix (HSSA)","lettings, nominations and mobility schemes (HSSA Section D)","DCLG",null,"N",null,null,"annual","Single tier & lower tier",null,null,"","",null,null,0,{"$nulls":28},"",null,"Housing",null,null,4,4,null,1,5,231,1005231,6]
["D","004-05","Housing Strategy Statistical Appendix (HSSA)","lettings to homeless acceptances (HSSA Section E)","DCLG",null,"N",null,null,"annual","Single tier & lower tier",null,null,"","",null,null,0,{"$nulls":28},"",null,"Housing",null,null,4,5,null,1,5,232,1005232,7]
["D","004-06","Housing Strategy Statistical Appendix (HSSA)","Homes in Multiple Occupation (HSSA Section G)","DCLG",null,"N",null,null,"annual","Single tier & lower tier",null,null,"","",null,null,0,{"$nulls":28},"",null,"Housing",null,null,4,6,null,1,5,233,1005233,8]
["D","004-07","Housing Strategy Statistical Appendix (HSSA)","Housing capital expenditure (HSSA Section H)","DCLG",null,"N",null,null,"annual","Single tier & lower tier",null,null,"","",null,null,0,{"$nulls":28},"",null,"Housing",null,null,4,7,null,1,5,234,1005234,9]
["D","004-08","Housing Strategy Statistical Appendix (HSSA)","Cash incentive scheme grants (HSSA Section J)","DCLG",null,"N",null,null,"annual","Single tier & lower tier",null,null,"","",null,null,0,{"$nulls":28},"",null,"Housing",null,null,4,8,null,1,5,235,1005235,10]
["D","004-09","Housing Strategy Statistical Appendix (HSSA)","Private sector renewal assistance (HSSA Section K)","DCLG",null,"N",null,null,"annual","Single tier & lower tier",null,null,"","",null,null,0,{"$nulls":28},"",null,"Housing",null,null,4,9,null,1,5,236,1005236,11]
["D","004-10","Housing Strategy Statistical Appendix (HSSA)","Private sector demolition (HSSA Section L)","DCLG",null,"N",null,null,"annual","Single tier & lower tier",null,null,"","",null,null,0,{"$nulls":28},"",null,"Housing",null,null,4,10,null,1,5,237,1005237,12]
["D","004-11","Housing Strategy Statistical Appendix (HSSA)","Provision of affordable housing (HSSA Section N)","DCLG",null,"N",null,null,"annual","Single tier & lower tier",null,null,"","",null,null,0,{"$nulls":28},"",null,"Housing",null,null,4,11,null,1,5,238,1005238,13]
["C","005-00","HRA Business Plan Statistical Appendix (BPSA)",null,"DCLG",null,"N",null,null,"annual","Single tier & lower tier","Data on local authorities' own housing stock.","The purpose of the business plan statistical appendix (BPSA) is to bring together information about your housing revenue account (HRA) stock. It draws together information relevant to the formulation of your HRA business plan and reports progress made during the last financial year. All the information presented in the BPSA is relevant data underpinning your business planning but presented in a format to ensure consistency between local authorities (LAs). This enables readers to gain an overview of your position and will inform Government Office assessments. This information is used centrally to inform policy development and monitoring.\n\nSubmitted via DCLG's interform on-line service","Collection","Data","http://www.communities.gov.uk/publications/housing/bpsaguide200910","http://www.communities.gov.uk/housing/housingresearch/housingstatistics/housingstatisticsby/localauthorityhousing/dataforms/hssa0809/",null,158,null,"Y","Y","Y","Y","Y","Y",{"$nulls":17},"District council, Metropolitan district, Unitary authority, London borough, City of London, Isles of Scilly","aggregate/summary","Spreadsheet",5,null,"Housing","Jane Hinton",null,5,0,null,0,5,239,5239,2]
["D","005-01",{"$f":"C240","v":"HRA Business Plan Statistical Appendix (BPSA)"},"Number of dwellings owned by the authority (BPSA Section A)",{"$f":"E240","v":"DCLG"},null,"N",null,null,{"$f":"J240","v":"annual"},"Single tier & lower tier",null,null,"","",null,null,{"$f":"R240","v":0},{"$nulls":28},"",null,{"$f":"AW240","v":"Housing"},null,null,5,1,null,1,5,240,1005240,14]
["D","005-02",{"$f":"C241","v":"HRA Business Plan Statistical Appendix (BPSA)"},"Decent Home delivery (BPSA Section B)",{"$f":"E241","v":"DCLG"},null,"N",null,null,"annual","Single tier & lower tier",null,null,"","",null,null,{"$f":"R241","v":0},{"$nulls":28},"",null,{"$f":"AW241","v":"Housing"},null,null,5,2,null,1,5,241,1005241,15]
["D","005-03",{"$f":"C242","v":"HRA Business Plan Statistical Appendix (BPSA)"},"Programme of work on HRA stock (BPSA Section D)",{"$f":"E242","v":"DCLG"},null,"N",null,null,"annual","Single tier & lower tier",null,null,"","",null,null,{"$f":"R242","v":0},{"$nulls":28},"",null,{"$f":"AW242","v":"Housing"},null,null,5,3,null,1,5,242,1005242,16]
["D","005-04",{"$f":"C243","v":"HRA Business Plan Statistical Appendix (BPSA)"},"Management and service delivery (BPSA Section E)",{"$f":"E243","v":"DCLG"},null,"N",null,null,"annual","Single tier & lower tier",null,null,"","",null,null,{"$f":"R243","v":0},{"$nulls":28},"",null,{"$f":"AW243","v":"Housing"},null,null,5,4,null,1,5,243,1005243,17]
["D","005-05",{"$f":"C244","v":"HRA Business Plan Statistical Appendix (BPSA)"},"Possession orders, evictions, demotion orders and injunctions obtained by local authority landlords (BPSA Section F)",{"$f":"E244","v":"DCLG"},null,"N",null,null,"annual","Single tier & lower tier",null,null,"","",null,null,{"$f":"R244","v":0},{"$nulls":28},"",null,{"$f":"AW244","v":"Housing"},null,null,5,5,null,1,5,244,1005244,18]
["C","008-00","Housing Monitoring (P1B)",null,"DCLG",null,"N",null,null,"annual","Single tier & lower tier","Right to Buy, Preserved Right to Buy, Right to Acquire, Social Homebuy and other outright or shared equity sales to sitting tenants.","Proposed to be merged with HSSA and BPSA.\nThe purpose of this return is to provide monitoring data for assessing delivery of policy objectives through the financial year for the sales and transfers of council dwellings. Previously a quarterly return.","Collection","Data","http://www.communities.gov.uk/housing/housingresearch/housingstatistics/housingstatisticsby/socialhousingsales/overviewsocial/","http://www.communities.gov.uk/housing/housingresearch/housingstatistics/housingstatisticsby/socialhousingsales/",{"$nulls":3},"Y","Y","Y","Y","Y","Y",{"$nulls":16},"Only authorities that own housing stock","District council, Metropolitan district, Unitary authority, London borough, City of London, Isles of Scilly","aggregate/summary","Excel",{"$f":"IF($A246=\"C\",COUNTIF(C$246:C$254,C246)-1,\"\")","v":8},null,"Housing","Jane Hinton",null,8,0,null,0,5,245,5245,{"$f":"RANK(BF246,BF$246:BF$254,1)","v":1}]
["D","008-01",{"$f":"C246","v":"Housing Monitoring (P1B)"},"Right to Buy applications, by whether house or flat",{"$f":"E246","v":"DCLG"},null,"N",null,null,{"$f":"J246","v":"annual"},"Single tier & lower tier",null,null,"","",null,null,{"$f":"R246","v":0},{"$nulls":28},"",null,{"$f":"AW246","v":"Housing"},null,null,8,1,null,1,5,246,1005246,2]
["D","008-02","Housing Monitoring (P1B)","Number of LA dwellings sold by type of sale/transfer, and whether RTB or other flat","DCLG",null,"N",null,null,"annual","Single tier & lower tier",null,null,"","",null,null,0,{"$nulls":28},"",null,"Housing",null,null,8,2,null,1,5,247,1005247,3]
["D","008-03","Housing Monitoring (P1B)","Total selling price net of discounts of LA dwellings sold by type of sale/transfer, and whether RTB or other flat","DCLG",null,"N",null,null,"annual","Single tier & lower tier",null,null,"","",null,null,0,{"$nulls":28},"",null,"Housing",null,null,8,3,null,1,5,248,1005248,4]
["D","008-04","Housing Monitoring (P1B)","Discounts of the price of LA dwellings sold by type of sale/transfer, and whether RTB or other flat","DCLG",null,"N",null,null,"annual","Single tier & lower tier",null,null,"","",null,null,0,{"$nulls":28},"",null,"Housing",null,null,8,4,null,1,5,249,1005249,5]
["D","008-05","Housing Monitoring (P1B)","Number of dwellings bought back, buy-back price and other costs","DCLG",null,"N",null,null,"annual","Single tier & lower tier",null,null,"","",null,null,0,{"$nulls":28},"",null,"Housing",null,null,8,5,null,1,5,250,1005250,6]
["D","008-06","Housing Monitoring (P1B)","Social HomeBuy applications received; response notices by whether successful","DCLG",null,"N",null,null,"annual","Single tier & lower tier",null,null,"","",null,null,0,{"$nulls":28},"",null,"Housing",null,null,8,6,null,1,5,251,1005251,7]
["D","008-07","Housing Monitoring (P1B)","Social HomeBuy house sales completed: number of houses, selling price net of discounts and discounts allowed, by equity share grouping","DCLG",null,"N",null,null,"annual","Single tier & lower tier",null,null,"","",null,null,0,{"$nulls":28},"",null,"Housing",null,null,8,7,null,1,5,252,1005252,8]
["D","008-08","Housing Monitoring (P1B)","Social HomeBuy flat sales completed: number of flats, selling price net of discounts and discounts allowed, by equity share grouping","DCLG",null,"N",null,null,"annual","Single tier & lower tier",null,null,"","",null,null,0,{"$nulls":28},"",null,"Housing",null,null,8,8,null,1,5,253,1005253,9]
["C","031-00","Business Improvement Districts Outturn (BIDO)",null,"DCLG",null,"Y",null,"Y","annual","All local authorities","Local authority revenue expenditure and financing.",null,"Collection","Data","http://www.communities.gov.uk/localgovernment/localregional/localgovernmentfinance/statistics/usefulinformation/formstimetable/revenueforms/","http://www.communities.gov.uk/localgovernment/localregional/localgovernmentfinance/statistics/revenueexpenditure/",{"$nulls":3},"Y","Y","Y","Y","Y","Y",{"$nulls":17},"District council, Metropolitan district, Unitary authority, London borough, City of London, Isles of Scilly","aggregate/summary","Excel",{"$f":"IF($A255=\"C\",COUNTIF(C$255:C$256,C255)-1,\"\")","v":1},null,"Local government","Steve Melbourne",null,31,0,null,0,5,254,5254,{"$f":"RANK(BF255,BF$255:BF$256,1)","v":1}]
["D","031-01",{"$f":"C255","v":"Business Improvement Districts Outturn (BIDO)"},"Outturn income and expenditure on business improvement districts",{"$f":"E255","v":"DCLG"},null,"Y",null,null,{"$f":"J255","v":"annual"},{"$f":"K255","v":"All local authorities"},null,null,"","",null,null,{"$f":"R255","v":0},{"$nulls":28},{"$f":"IF($A256=\"C\",COUNTIF(C$255:C$256,C256)-1,\"\")","v":""},null,{"$f":"AW255","v":"Local government"},null,null,31,1,null,1,5,255,1005255,{"$f":"RANK(BF256,BF$255:BF$256,1)","v":2}]
["C","034-00","Business Improvement Districts (BID) Revenue Account",null,"DCLG",null,"Y","Y",null,"annual","All local authorities","Local authority revenue expenditure and financing.",null,"Collection","Data","http://www.communities.gov.uk/localgovernment/localregional/localgovernmentfinance/statistics/usefulinformation/formstimetable/revenueforms/","http://www.communities.gov.uk/localgovernment/localregional/localgovernmentfinance/statistics/revenueexpenditure/",{"$nulls":3},"Y","Y","Y","Y","Y",{"$nulls":18},"District council, Metropolitan district, Unitary authority, London borough, City of London","aggregate/summary","Excel",{"$f":"IF($A257=\"C\",COUNTIF(C$257:C$258,C257)-1,\"\")","v":1},null,"Local government","Steve Melbourne",null,34,0,null,0,5,256,5256,{"$f":"RANK(BF257,BF$257:BF$258,1)","v":1}]
["D","034-01",{"$f":"C257","v":"Business Improvement Districts (BID) Revenue Account"},"Budgeted income and expenditure on business improvement districts",{"$f":"E257","v":"DCLG"},null,"Y","Y",null,{"$f":"J257","v":"annual"},{"$f":"K257","v":"All local authorities"},null,null,"","",null,null,{"$f":"R257","v":0},{"$nulls":28},{"$f":"IF($A258=\"C\",COUNTIF(C$257:C$258,C258)-1,\"\")","v":""},null,{"$f":"AW257","v":"Local government"},null,null,34,1,null,{"$f":"IF(A258=\"D\",1,0)","v":1},{"$f":"MATCH(E258,DeptAbbr,0)","v":5},257,1005257,{"$f":"RANK(BF258,BF$257:BF$258,1)","v":2}]
["C","053-00","Quarterly Return of Wages and Salaries (QRW)",null,"DCLG",null,"Y",null,"Y","quarterly","All local authorities","Details of local government pay and salaries",null,"Collection","","http://www.communities.gov.uk/localgovernment/localregional/localgovernmentfinance/statistics/usefulinformation/formstimetable/otherforms/",{"$nulls":3},"Y","Y","Y","Y","Y","Y","Y","Y","Y","Y","Y","Y","Y","Y",{"$nulls":10},"County council, District council, Metropolitan district, Unitary authority, London borough, City of London, Isles of Scilly, Fire & rescue authority, Police authority, Joint waste authority, Waste disposal authority, National park authority, Integrated transport authority, GLA","aggregate/summary","Excel",{"$f":"IF($A259=\"C\",COUNTIF(C$259:C$262,C259)-1,\"\")","v":3},null,"Local government","Steve Melbourne",null,53,0,null,0,5,258,5258,{"$f":"RANK(BF259,BF$259:BF$262,1)","v":1}]
["D","053-01",{"$f":"C259","v":"Quarterly Return of Wages and Salaries (QRW)"},"Wages and salaries paid",{"$f":"E259","v":"DCLG"},null,"Y",null,null,{"$f":"J259","v":"quarterly"},"All local authorities",null,null,"","",null,null,{"$f":"R259","v":0},{"$nulls":28},{"$f":"IF($A260=\"C\",COUNTIF(C$259:C$262,C260)-1,\"\")","v":""},null,{"$f":"AW259","v":"Local government"},null,null,53,1,null,1,5,259,1005259,{"$f":"RANK(BF260,BF$259:BF$262,1)","v":2}]
["D","053-02",{"$f":"C260","v":"Quarterly Return of Wages and Salaries (QRW)"},"External interest receipts",{"$f":"E260","v":"DCLG"},null,"Y",null,null,"quarterly","All local authorities",null,null,"","",null,null,{"$f":"R260","v":0},{"$nulls":28},{"$f":"IF($A261=\"C\",COUNTIF(C$259:C$262,C261)-1,\"\")","v":""},null,{"$f":"AW260","v":"Local government"},null,null,53,2,null,1,5,260,1005260,{"$f":"RANK(BF261,BF$259:BF$262,1)","v":3}]
["D","053-03",{"$f":"C261","v":"Quarterly Return of Wages and Salaries (QRW)"},"External interest payments",{"$f":"E261","v":"DCLG"},null,"Y",null,null,"quarterly","All local authorities",null,null,"","",null,null,{"$f":"R261","v":0},{"$nulls":28},{"$f":"IF($A262=\"C\",COUNTIF(C$259:C$262,C262)-1,\"\")","v":""},null,{"$f":"AW261","v":"Local government"},null,null,53,3,null,1,5,261,1005261,{"$f":"RANK(BF262,BF$259:BF$262,1)","v":4}]
["C",{"$f":"TEXT(AZ263,\"000\")&\"-\"&TEXT(BA263,\"00\")","v":"188-00"},"Institution level data for maintained schools converting to academy status ",null,"DfE","Y",{"$nulls":3},"as required","Upper tier & single tier","Possible requirement for local authority data to support the transfer of schools from LA maintained status to Academy status",null,{"$f":"IF(OR($A263<>\"C\",P263=\"\"),\"\",HYPERLINK(P263,\"Collection\"))","v":""},{"$f":"IF(OR($A263<>\"C\",Q263=\"\"),\"\",HYPERLINK(Q263,\"Data\"))","v":""},{"$nulls":4},"Y",null,"Y","Y","Y","Y","Y",{"$nulls":17},"County council, Metropolitan district, Unitary authority, London borough, City of London, Isles of Scilly","client based",null,{"$f":"IF($A263=\"C\",COUNTIF(C$263:C$264,C263)-1,\"\")","v":1},{"$nulls":4},188,0,null,0,9,{"$f":"ROW()-1","v":262},{"$f":"(BC263*1000000)+(BD263*1000)+BE263","v":9262},{"$f":"RANK(BF263,BF$263:BF$264,1)","v":1}]
["D","188-01",{"$f":"C263","v":"Institution level data for maintained schools converting to academy status "},"Detail under consideration",{"$f":"E263","v":"DfE"},"Y",{"$nulls":3},{"$f":"J263","v":"as required"},{"$f":"K263","v":"Upper tier & single tier"},null,null,"","",null,null,{"$f":"R263","v":0},{"$nulls":28},{"$f":"IF($A264=\"C\",COUNTIF(C$263:C$264,C264)-1,\"\")","v":""},null,{"$f":"AW263","v":0},null,null,188,1,null,1,9,263,1009263,{"$f":"RANK(BF264,BF$263:BF$264,1)","v":2}]
["C","114-00","Special Educational Needs – new information needs arising from the Green Paper",null,"DfE","Y","N",null,null,"not decided","Upper tier & single tier",null,null,"","",{"$nulls":4},"Y",null,"Y","Y","Y","Y","Y",{"$nulls":17},"County council, Metropolitan district, Unitary authority, London borough, City of London, Isles of Scilly","n/k",null,{"$f":"IF($A265=\"C\",COUNTIF(C$265:C$266,C265)-1,\"\")","v":1},{"$nulls":4},114,0,null,0,9,264,9264,{"$f":"RANK(BF265,BF$265:BF$266,1)","v":1}]
["D","114-01",{"$f":"C265","v":"Special Educational Needs – new information needs arising from the Green Paper"},"Detail under consideration",{"$f":"E265","v":"DfE"},"Y","N",null,null,{"$f":"J265","v":"not decided"},{"$f":"K265","v":"Upper tier & single tier"},null,null,"","",null,null,{"$f":"R265","v":0},{"$nulls":28},{"$f":"IF($A266=\"C\",COUNTIF(C$265:C$266,C266)-1,\"\")","v":""},null,{"$f":"AW265","v":0},null,null,114,1,null,1,9,265,1009265,{"$f":"RANK(BF266,BF$265:BF$266,1)","v":2}]
["C","016-00","HRA Subsidy Claim form - advance final (FINAL COLLECTION IN 2012/13)",null,"DCLG",null,"N",null,null,"annual","Single tier & lower tier","Housing capital expenditure and funding data specifically related to social housing, and household expenditure on housing.","Also referred to as 3rd advance. Similar data to first advance, collected at a later stage. \nForm for 2010-11 will issue w/c 22/08/11 for completion end September 2011. Form for 2011/12 will be available during 2012/13 for completion by the end of September 2012.\nThe Government's proposals for major reform of the existing arrangements for council housing finance would replace the existing housing subsidy system and the subsidy claim forms. Subject to Parliamentary approval, the new 'self-financing' system would start from April 2012.","","Data",null,"http://www.communities.gov.uk/housing/housingresearch/housingstatistics/housingstatisticsby/housingfinance/",{"$nulls":3},"Y","Y","Y","Y","Y","Y",{"$nulls":17},"District council, Metropolitan district, Unitary authority, London borough, City of London, Isles of Scilly","aggregate/summary",null,{"$f":"IF($A267=\"C\",COUNTIF(C$267:C$278,C267)-1,\"\")","v":5},null,"Housing","Ann Williams",null,16,0,null,0,5,266,5266,{"$f":"RANK(BF267,BF$267:BF$278,1)","v":1}]
["D","016-01",{"$f":"C267","v":"HRA Subsidy Claim form - advance final (FINAL COLLECTION IN 2012/13)"},"Numbers of various categories of Housing Revenue Account dwellings",{"$f":"E267","v":"DCLG"},null,"N",null,null,{"$f":"J267","v":"annual"},"Single tier & lower tier",null,null,"","",null,null,{"$f":"R267","v":0},{"$nulls":28},"",null,{"$f":"AW267","v":"Housing"},null,null,16,1,null,1,5,267,1005267,3]
["D","016-02",{"$f":"C268","v":"HRA Subsidy Claim form - advance final (FINAL COLLECTION IN 2012/13)"},"Management, maintenance and other allowances",{"$f":"E268","v":"DCLG"},null,"N",null,null,"annual","Single tier & lower tier",null,null,"","",null,null,{"$f":"R268","v":0},{"$nulls":28},"",null,{"$f":"AW268","v":"Housing"},null,null,16,2,null,1,5,268,1005268,4]
["D","016-03",{"$f":"C269","v":"HRA Subsidy Claim form - advance final (FINAL COLLECTION IN 2012/13)"},"Other data needed for the calculation of entitlement to housing subsidy",{"$f":"E269","v":"DCLG"},null,"N",null,null,"annual","Single tier & lower tier",null,null,"","",null,null,{"$f":"R269","v":0},{"$nulls":28},"",null,{"$f":"AW269","v":"Housing"},null,null,16,3,null,1,5,269,1005269,5]
["D","016-04",{"$f":"C270","v":"HRA Subsidy Claim form - advance final (FINAL COLLECTION IN 2012/13)"},"Housing Revenue Account income broken down by item",{"$f":"E270","v":"DCLG"},null,"N",null,null,"annual","Single tier & lower tier",null,null,"","",null,null,{"$f":"R270","v":0},{"$nulls":28},"",null,{"$f":"AW270","v":"Housing"},null,null,16,4,null,1,5,270,1005270,6]
["D","016-05",{"$f":"C271","v":"HRA Subsidy Claim form - advance final (FINAL COLLECTION IN 2012/13)"},"Housing Revenue Account expenditure broken down by item",{"$f":"E271","v":"DCLG"},null,"N",null,null,"annual","Single tier & lower tier",null,null,"","",null,null,{"$f":"R271","v":0},{"$nulls":28},"",null,{"$f":"AW271","v":"Housing"},null,null,16,5,null,1,5,271,1005271,7]
["C","017-00","HRA Subsidy Claim form - auditor final (FINAL COLLECTION IN 2012/13)",null,"DCLG",null,"N",null,null,"annual","Single tier & lower tier","Housing capital expenditure and funding data specifically related to social housing, and household expenditure on housing.","Similar data to earlier returns, after auditing. \nForm for 2010-11 will be available from end September for completion end December 2011. Form for 2011/12 will be available during 2012/13 for completion by the end of December 2012.\nThe Government's proposals for major reform of the existing arrangements for council housing finance would replace the existing housing subsidy system and the subsidy claim forms. Subject to Parliamentary approval, the new 'self-financing' system would start from April 2012.","","Data",null,"http://www.communities.gov.uk/housing/housingresearch/housingstatistics/housingstatisticsby/housingfinance/",{"$nulls":3},"Y","Y","Y","Y","Y","Y",{"$nulls":17},"District council, Metropolitan district, Unitary authority, London borough, City of London, Isles of Scilly","aggregate/summary",null,5,null,"Housing","Ann Williams",null,17,0,null,0,5,272,5272,2]
["D","017-01",{"$f":"C273","v":"HRA Subsidy Claim form - auditor final (FINAL COLLECTION IN 2012/13)"},"Numbers of various categories of Housing Revenue Account dwellings",{"$f":"E273","v":"DCLG"},null,"N",null,null,{"$f":"J273","v":"annual"},"Single tier & lower tier",null,null,"","",null,null,{"$f":"R273","v":0},{"$nulls":28},"",null,{"$f":"AW273","v":"Housing"},null,null,17,1,null,1,5,273,1005273,8]
["D","017-02",{"$f":"C274","v":"HRA Subsidy Claim form - auditor final (FINAL COLLECTION IN 2012/13)"},"Management, maintenance and other allowances",{"$f":"E274","v":"DCLG"},null,"N",null,null,"annual","Single tier & lower tier",null,null,"","",null,null,{"$f":"R274","v":0},{"$nulls":28},"",null,{"$f":"AW274","v":"Housing"},null,null,17,2,null,1,5,274,1005274,9]
["D","017-03",{"$f":"C275","v":"HRA Subsidy Claim form - auditor final (FINAL COLLECTION IN 2012/13)"},"Other data needed for the calculation of entitlement to housing subsidy",{"$f":"E275","v":"DCLG"},null,"N",null,null,"annual","Single tier & lower tier",null,null,"","",null,null,{"$f":"R275","v":0},{"$nulls":28},"",null,{"$f":"AW275","v":"Housing"},null,null,17,3,null,1,5,275,1005275,10]
["D","017-04",{"$f":"C276","v":"HRA Subsidy Claim form - auditor final (FINAL COLLECTION IN 2012/13)"},"Housing Revenue Account income broken down by item",{"$f":"E276","v":"DCLG"},null,"N",null,null,"annual","Single tier & lower tier",null,null,"","",null,null,{"$f":"R276","v":0},{"$nulls":28},"",null,{"$f":"AW276","v":"Housing"},null,null,17,4,null,1,5,276,1005276,11]
["D","017-05",{"$f":"C277","v":"HRA Subsidy Claim form - auditor final (FINAL COLLECTION IN 2012/13)"},"Housing Revenue Account expenditure broken down by item",{"$f":"E277","v":"DCLG"},null,"N",null,null,"annual","Single tier & lower tier",null,null,"","",null,null,{"$f":"R277","v":0},{"$nulls":28},"",null,{"$f":"AW277","v":"Housing"},null,null,17,5,null,1,5,277,1005277,12]
["C",{"$f":"TEXT(AZ279,\"000\")&\"-\"&TEXT(BA279,\"00\")","v":"204-00"},"Young Apprenticeships (YA) (TO CEASE DURING 2012/13)",null,"DfE/YPLA",{"$nulls":3},"Y","termly (3/year)","Upper tier & single tier","Information on YA students by delivery partnership used to support funding","Young Apprenticeships will be stopping in June 2012. There is no further new intake but the collection continues for the current batch of learners.",{"$f":"IF(OR($A279<>\"C\",P279=\"\"),\"\",HYPERLINK(P279,\"Collection\"))","v":""},{"$f":"IF(OR($A279<>\"C\",Q279=\"\"),\"\",HYPERLINK(Q279,\"Data\"))","v":""},null,null,"Y",null,"Y",null,"Y","Y","Y","Y","Y",{"$nulls":17},"County council, Metropolitan district, Unitary authority, London borough, City of London, Isles of Scilly","aggregate/summary",null,{"$f":"IF($A279=\"C\",COUNTIF(C$279:C$280,C279)-1,\"\")","v":1},null,null,"Simon Grigor",null,204,0,null,0,36,{"$f":"ROW()-1","v":278},{"$f":"(BC279*1000000)+(BD279*1000)+BE279","v":36278},{"$f":"RANK(BF279,BF$279:BF$280,1)","v":1}]
["D",{"$f":"TEXT(AZ280,\"000\")&\"-\"&TEXT(BA280,\"00\")","v":"204-01"},{"$f":"C279","v":"Young Apprenticeships (YA) (TO CEASE DURING 2012/13)"},"Local take-up of the Young Apprenticeship programme",{"$f":"E279","v":"DfE/YPLA"},{"$nulls":3},"Y",{"$f":"J279","v":"termly (3/year)"},{"$f":"K279","v":"Upper tier & single tier"},null,null,"","",null,null,{"$f":"R279","v":"Y"},{"$nulls":28},{"$f":"IF($A280=\"C\",COUNTIF(C$279:C$280,C280)-1,\"\")","v":""},null,{"$f":"AW279","v":0},null,null,204,1,null,1,36,{"$f":"ROW()-1","v":279},{"$f":"(BC280*1000000)+(BD280*1000)+BE280","v":1036279},{"$f":"RANK(BF280,BF$279:BF$280,1)","v":2}]
["C",{"$f":"TEXT(AZ281,\"000\")&\"-\"&TEXT(BA281,\"00\")","v":"168-00"},"Housing Capital Receipts pooling - signed paper return",null,"DCLG",null,"N",null,null,"annual","Single tier & lower tier","Data to inform the pooling of housing capital receipts","Data to inform the pooling of housing capital receipts, collected on LOGASNet. Used for ensuring that the correct pooling payments are made","","",{"$nulls":5},"Y","Y","Y","Y","Y","Y",{"$nulls":17},"District council, Metropolitan district, Unitary authority, London borough, City of London, Isles of Scilly","aggregate/summary",null,{"$f":"IF($A281=\"C\",COUNTIF(C$281:C$282,C281)-1,\"\")","v":1},null,"Housing","Ross Buchanan",null,168,0,null,0,5,{"$f":"ROW()-1","v":280},{"$f":"(BC281*1000000)+(BD281*1000)+BE281","v":5280},{"$f":"RANK(BF281,BF$281:BF$282,1)","v":1}]
["D",{"$f":"TEXT(AZ282,\"000\")&\"-\"&TEXT(BA282,\"00\")","v":"168-01"},{"$f":"C281","v":"Housing Capital Receipts pooling - signed paper return"},"Data to use in the calculation of pooling payments",{"$f":"E281","v":"DCLG"},null,"N",null,null,{"$f":"J281","v":"annual"},{"$f":"K281","v":"Single tier & lower tier"},null,null,"","",null,null,{"$f":"R281","v":0},null,null,"Y","Y","Y","Y","Y",{"$nulls":21},{"$f":"IF($A282=\"C\",COUNTIF(C$281:C$282,C282)-1,\"\")","v":""},null,{"$f":"AW281","v":"Housing"},null,null,168,1,null,1,5,{"$f":"ROW()-1","v":281},{"$f":"(BC282*1000000)+(BD282*1000)+BE282","v":1005281},{"$f":"RANK(BF282,BF$281:BF$282,1)","v":2}]
["C","094-00","Children’s Centres and other parts of the Early Intervention Grant",null,"DfE","Y","N",null,null,"as required","Upper tier & single tier","New collection to support a Payment by Results regime",null,"","",{"$nulls":4},"Y",null,"Y","Y","Y","Y","Y",{"$nulls":17},"County council, Metropolitan district, Unitary authority, London borough, City of London, Isles of Scilly","n/k",null,1,{"$nulls":4},94,0,null,0,8,328,8328,72]
["D","094-01","Children’s Centres and other parts of the Early Intervention Grant","Detail under consideration","DfE","Y","N",null,null,"as required","Upper tier & single tier",null,null,"","",null,null,0,{"$nulls":28},"",null,0,null,null,94,1,null,1,8,329,1008329,394]
["C","128-00","Civil Parking Enforcement Survey",null,"DfT",null,"Y",null,"Y","under review","All local authorities","Survey of the number of Penalty Charge Notices issued","“Under review - The DfT are minded to stop this data collection and have reviewed it with the CLIP Transport Statistics Sub-Group. However, we are awaiting consultation with another major stakeholder before finalizing the decision.”","Collection","Data","http://www.dft.gov.uk/pgr/statistics/datatablespublications/public/parkingstats/#technical","http://www.dft.gov.uk/pgr/statistics/datatablespublications/public/parkingstats/",null,null,"Y","Y","Y","Y","Y","Y","Y",{"$nulls":7},"Y",{"$nulls":9},"County council, District council, Metropolitan district, Unitary authority, London borough, City of London, Isles of Scilly, Transport for London","aggregate/summary",null,{"$f":"IF($A285=\"C\",COUNTIF(C:C,C285)-1,\"\")","v":3},null,null,"Anna Heyworth",null,128,0,null,{"$f":"IF(A285=\"D\",1,0)","v":0},{"$f":"MATCH(E285,DeptAbbr,0)","v":11},{"$f":"ROW()-1","v":284},{"$f":"(BC285*1000000)+(BD285*1000)+BE285","v":11284},{"$f":"RANK(BF285,BF:BF,1)","v":{"$error":"#N/A"}}]
["D","128-01",{"$f":"C285","v":"Civil Parking Enforcement Survey"},"Penalty charge notices issued",{"$f":"E285","v":"DfT"},null,"Y",null,"Y",{"$f":"J285","v":"under review"},"All local authorities",null,null,"","",null,null,{"$f":"R285","v":0},{"$nulls":28},{"$f":"IF($A286=\"C\",COUNTIF(C:C,C286)-1,\"\")","v":""},null,{"$f":"AW285","v":0},null,null,128,1,null,1,11,285,1011285,{"$error":"#N/A"}]
["D","128-02",{"$f":"C286","v":"Civil Parking Enforcement Survey"},"Penalty charge notices cancelled",{"$f":"E286","v":"DfT"},null,"Y",null,"Y","under review","All local authorities",null,null,"","",null,null,{"$f":"R286","v":0},{"$nulls":28},{"$f":"IF($A287=\"C\",COUNTIF(C:C,C287)-1,\"\")","v":""},null,{"$f":"AW286","v":0},null,null,128,2,null,1,11,286,1011286,{"$error":"#N/A"}]
["D","128-03",{"$f":"C287","v":"Civil Parking Enforcement Survey"},"Immobilisation/removal of vehicles before action following a warrant of execution",{"$f":"E287","v":"DfT"},null,"Y",null,"Y","under review","All local authorities",null,null,"","",null,null,{"$f":"R287","v":0},{"$nulls":28},{"$f":"IF($A288=\"C\",COUNTIF(C:C,C288)-1,\"\")","v":""},null,{"$f":"AW287","v":0},null,null,128,3,null,1,11,287,1011287,{"$error":"#N/A"}]
["C",{"$f":"TEXT(AZ289,\"000\")&\"-\"&TEXT(BA289,\"00\")","v":"255-00"},"Collation of KT31 annual contraception data return",null,"DH","Y",{"$nulls":3},"annual","Upper tier & single tier","Community contraception clinics data","Sent to the Health and Social Care Information Centre for processing","","",{"$nulls":4},"Y",null,"Y","Y","Y","Y","Y",{"$nulls":20},{"$f":"IF($A289=\"C\",COUNTIF(C:C,C289)-1,\"\")","v":1},{"$nulls":4},255,0,null,0,{"$error":"#N/A"},288,{"$error":"#N/A"},{"$error":"#N/A"}]
["D",{"$f":"TEXT(AZ290,\"000\")&\"-\"&TEXT(BA290,\"00\")","v":"255-01"},"Collation of KT31 annual contraception data return","Community contraception clinics data",{"$f":"E289","v":"DH"},{"$nulls":8},"","",{"$nulls":33},{"$f":"AW289","v":0},null,null,255,1,null,1,{"$error":"#N/A"},289,{"$error":"#N/A"},{"$error":"#N/A"}]
["C","249-00","Electoral Registration supporting data",null,"EC",{"$nulls":4},"annual","Sample of authorities","Electoral Registration supporting data","Collections by the Electoral Commission are included here for completeness. The Commission is a body entirely independent from Government, and these returns are not subject to the normal arrangements for the single data list.",{"$f":"IF(OR($A291<>\"C\",P291=\"\"),\"\",HYPERLINK(P291,\"Collection\"))","v":""},{"$f":"IF(OR($A291<>\"C\",Q291=\"\"),\"\",HYPERLINK(Q291,\"Data\"))","v":""},null,null,"Y",null,"Y","Y","Y","Y","Y","Y","Y",{"$nulls":17},"County council, District council, Metropolitan district, Unitary authority, London borough, City of London, Isles of Scilly","n/k",null,1,{"$nulls":4},249,0,null,0,46,731,46731,157]
["D","249-01","Electoral Registration supporting data","Electoral Registration supporting data","EC",{"$nulls":4},"annual","All local authorities",null,null,"","",null,null,"Y",{"$nulls":28},"",null,0,null,null,249,1,null,1,46,732,1046732,736]
["C","230-00","Annual Financial Information return ",null,"EC",{"$nulls":4},"annual","All local authorities","Annual Financial Information ","Collections by the Electoral Commission are included here for completeness. The Commission is a body entirely independent from Government, and these returns are not subject to the normal arrangements for the single data list.","","",null,null,"Y",null,"Y","Y","Y","Y","Y","Y","Y",{"$nulls":17},"County council, District council, Metropolitan district, Unitary authority, London borough, City of London, Isles of Scilly","aggregate/summary",null,1,{"$nulls":4},230,0,null,0,46,741,46741,162]
["D","230-01","Annual Financial Information return ","Annual Financial Information","EC",{"$nulls":4},"annual","All local authorities",null,null,"","",null,null,"Y",{"$nulls":28},"",null,0,null,null,230,1,null,1,46,742,1046742,741]
["C","231-00","Electoral administration plans ",null,"EC",{"$nulls":4},"annual","All local authorities","Electoral administration plans ","Collections by the Electoral Commission are included here for completeness. The Commission is a body entirely independent from Government, and these returns are not subject to the normal arrangements for the single data list.","","",null,null,"Y",null,"Y","Y","Y","Y","Y","Y","Y",{"$nulls":17},"County council, District council, Metropolitan district, Unitary authority, London borough, City of London, Isles of Scilly","n/k",null,1,{"$nulls":4},231,0,null,0,46,743,46743,163]
["D","231-01","Electoral administration plans ","Electoral administration plans ","EC",{"$nulls":4},"annual","All local authorities",null,null,"","",null,null,"Y",{"$nulls":28},"",null,0,null,null,231,1,null,1,46,744,1046744,742]
["C",{"$f":"TEXT(AZ297,\"000\")&\"-\"&TEXT(BA297,\"00\")","v":"133-00"},"Personal Social Services Expenditure (PSSEX1) return",null,"DH/HSCIC",null,"Y",null,null,"annual","Upper tier & single tier","The PSSEX1 is the annual financial return which collects data on local authority income, expenditure and activity to calculate unit costs by client group and other subjective category","Authority group - collected from all LAs with adult social services responsibilities, of which there are 152 in total","Collection","","http://www.ic.nhs.uk/services/social-care/social-care-collections/collections-2012",null,"Y",130,"Y",null,"Y","Y","Y","Y","Y",{"$nulls":17},"County council, Metropolitan district, Unitary authority, London borough, City of London, Isles of Scilly","aggregate/summary","Excel",{"$f":"IF($A297=\"C\",COUNTIF(C$297:C$299,C297)-1,\"\")","v":2},{"$nulls":4},133,0,null,{"$f":"IF(A297=\"D\",1,0)","v":0},{"$f":"MATCH(E297,DeptAbbr,0)","v":{"$error":"#N/A"}},{"$f":"ROW()-1","v":296},{"$f":"(BC297*1000000)+(BD297*1000)+BE297","v":{"$error":"#N/A"}},{"$f":"RANK(BF297,BF$297:BF$299,1)","v":{"$error":"#N/A"}}]
["D","133-01",{"$f":"C297","v":"Personal Social Services Expenditure (PSSEX1) return"},"Current expenditure by client group and service type used in the calculation of unit costs",{"$f":"E297","v":"DH/HSCIC"},null,"Y",null,null,{"$f":"J297","v":"annual"},{"$f":"K297","v":"Upper tier & single tier"},null,null,"","",null,null,{"$f":"R297","v":"Y"},{"$nulls":28},{"$f":"IF($A298=\"C\",COUNTIF(C$297:C$299,C298)-1,\"\")","v":""},null,{"$f":"AW297","v":0},null,null,133,1,null,1,{"$error":"#N/A"},297,{"$error":"#N/A"},{"$f":"RANK(BF298,BF$297:BF$299,1)","v":{"$error":"#N/A"}}]
["D","133-02",{"$f":"C298","v":"Personal Social Services Expenditure (PSSEX1) return"},"Activity data containing services for adult and older people - used in calculation of unit costs",{"$f":"E298","v":"DH/HSCIC"},null,"Y",null,null,{"$f":"J298","v":"annual"},{"$f":"K298","v":"Upper tier & single tier"},null,null,"","",null,null,{"$f":"R298","v":"Y"},{"$nulls":28},{"$f":"IF($A299=\"C\",COUNTIF(C$297:C$299,C299)-1,\"\")","v":""},null,{"$f":"AW298","v":0},null,null,133,2,null,1,{"$error":"#N/A"},298,{"$error":"#N/A"},{"$f":"RANK(BF299,BF$297:BF$299,1)","v":{"$error":"#N/A"}}]
["C","134-00","Referrals, Assessments and Packages of Care (RAP)",null,"DH/HSCIC",null,"Y",null,null,"annual","Upper tier & single tier","Data on the process of providing community care - via assessment and care planning into services","The RAP return is the main data return which captures information on Council-commissioned social care services on an annual basis.  It includes data related to provision of specific services, as well as a breakdown of provision by client groups to support statutory equalities monitoring at local and national level.  The RAP provides data for the input measure in the Public Services Transparency Framework related to people receiving personal budgets. Estimated compliance costs for the RAP in 2009/10 were in the region of £560,000 nationally, however this will be reduced by £41-103,000 in 2011/12 (see table above).  The status of the RAP and all existing social care activity-based data returns is subject to change in the medium-term through the ongoing ‘zero-based’ review.  This review is likely to lead to changes in social care data requirements to reduce and rationalise the data set from 2012/13 onwards, subject to the views of the social care sector.","Collection","","http://www.ic.nhs.uk/services/social-care/social-care-collections/collections-2012",null,"Y","130, 135","Y",null,"Y","Y","Y","Y","Y",{"$nulls":17},"County council, Metropolitan district, Unitary authority, London borough, City of London, Isles of Scilly","aggregate/summary",null,{"$f":"IF($A300=\"C\",COUNTIF(C$300:C$316,C300)-1,\"\")","v":16},{"$nulls":4},134,0,null,0,{"$error":"#N/A"},299,{"$error":"#N/A"},{"$f":"RANK(BF300,BF$300:BF$316,1)","v":{"$error":"#N/A"}}]
["D","134-01",{"$f":"C300","v":"Referrals, Assessments and Packages of Care (RAP)"},"Number of contacts for new clients during the period concerning services from the CASSR whose needs were attended to solely at or near the point of contact (including cases where new clients receive short term undergoing a full community care assessment) (RAP - R2)",{"$f":"E300","v":"DH/HSCIC"},null,"Y",null,null,{"$f":"J300","v":"annual"},"Upper tier & single tier",null,null,"","",null,null,{"$f":"R300","v":"Y"},{"$nulls":28},"",null,{"$f":"AW300","v":0},null,null,134,1,null,1,{"$error":"#N/A"},300,{"$error":"#N/A"},{"$error":"#N/A"}]
["D","134-02",{"$f":"C301","v":"Referrals, Assessments and Packages of Care (RAP)"},"Source of referral for all contact events covered in R2.  (RAP - R3)",{"$f":"E301","v":"DH/HSCIC"},null,"Y",null,null,"annual","Upper tier & single tier",null,null,"","",null,null,{"$f":"R301","v":"Y"},{"$nulls":28},"",null,{"$f":"AW301","v":0},null,null,134,2,null,1,{"$error":"#N/A"},301,{"$error":"#N/A"},{"$error":"#N/A"}]
["D","134-03",{"$f":"C302","v":"Referrals, Assessments and Packages of Care (RAP)"},"Number of existing clients for whom a review was completed during the period, by primary client type and age group;  (RAP - A1)",{"$f":"E302","v":"DH/HSCIC"},null,"Y",null,null,"annual","Upper tier & single tier",null,null,"","",null,null,{"$f":"R302","v":"Y"},{"$nulls":28},"",null,{"$f":"AW302","v":0},null,null,134,3,null,1,{"$error":"#N/A"},302,{"$error":"#N/A"},{"$error":"#N/A"}]
["D","134-04",{"$f":"C303","v":"Referrals, Assessments and Packages of Care (RAP)"},"Number of new clients for whom an assessment was completed in the period, by age group, ethnicity, and known or anticipated sequel to assessment;  (RAP - A6)",{"$f":"E303","v":"DH/HSCIC"},null,"Y",null,null,"annual","Upper tier & single tier",null,null,"","",null,null,{"$f":"R303","v":"Y"},{"$nulls":28},"",null,{"$f":"AW303","v":0},null,null,134,4,null,1,{"$error":"#N/A"},303,{"$error":"#N/A"},{"$error":"#N/A"}]
["D","134-08",{"$f":"Removed!C484","v":"Referrals, Assessments and Packages of Care (RAP)"},"Number of new clients for whom an assessment was completed during the period, by gender and age group, cross-tabulated with known or anticipated sequel to assessment.  (RAP - A11)",{"$f":"Removed!E484","v":"DH/HSCIC"},null,"Y",null,null,{"$f":"Removed!J484","v":"annual"},{"$f":"Removed!K484","v":"Upper tier & single tier"},null,null,"","",null,null,{"$f":"Removed!R484","v":"Y"},{"$nulls":28},"",null,{"$f":"Removed!AW484","v":0},null,null,134,8,null,1,{"$error":"#N/A"},304,{"$error":"#N/A"},{"$error":"#N/A"}]
["D","134-09",{"$f":"C305","v":"Referrals, Assessments and Packages of Care (RAP)"},"Number of clients receiving services provided or commissioned by the CASSR during the period, by age group, primary client type, and service type;  (RAP - P1)",{"$f":"E305","v":"DH/HSCIC"},null,"Y",null,null,{"$f":"J305","v":"annual"},{"$f":"K305","v":"Upper tier & single tier"},null,null,"","",null,null,{"$f":"R305","v":"Y"},{"$nulls":28},"",null,{"$f":"AW305","v":0},null,null,134,9,null,1,{"$error":"#N/A"},305,{"$error":"#N/A"},{"$error":"#N/A"}]
["D","134-10","Referrals, Assessments and Packages of Care (RAP)","Number of clients receiving community based services provided or commissioned by the CASSR during the period, by age group, primary client type, and components of service;  (RAP - P2f)","DH/HSCIC",null,"Y",null,null,"annual","Upper tier & single tier",null,null,"","",null,null,"Y",{"$nulls":28},"",null,0,null,null,134,10,null,1,{"$error":"#N/A"},306,{"$error":"#N/A"},{"$error":"#N/A"}]
["D","134-11","Referrals, Assessments and Packages of Care (RAP)","Number of clients on the books to receive community based services provided or commissioned by the CASSR on the last day of the period, by age group, primary client type, and components of service;  (RAP - P2s)","DH/HSCIC",null,"Y",null,null,"annual","Upper tier & single tier",null,null,"","",null,null,"Y",{"$nulls":28},"",null,0,null,null,134,11,null,1,{"$error":"#N/A"},307,{"$error":"#N/A"},{"$error":"#N/A"}]
["D","134-12","Referrals, Assessments and Packages of Care (RAP)","Number of clients on the books to receive homecare, provided or commissioned by the CASSR, on the last day of the period by the number of planned hours per week  (RAP - H1)","DH/HSCIC",null,"Y",null,null,"annual","Upper tier & single tier",null,null,"","",null,null,"Y",{"$nulls":28},"",null,0,null,null,134,12,null,1,{"$error":"#N/A"},308,{"$error":"#N/A"},{"$error":"#N/A"}]
["D","134-13","Referrals, Assessments and Packages of Care (RAP)","Number of clients receiving services provided or commissioned by the CASSR during the period, by age group and ethnicity, cross-tabulated with service type and primary client type;  (RAP - P4)","DH/HSCIC",null,"Y",null,null,"annual","Upper tier & single tier",null,null,"","",null,null,"Y",{"$nulls":28},"",null,0,null,null,134,13,null,1,{"$error":"#N/A"},309,{"$error":"#N/A"},{"$error":"#N/A"}]
["D","134-14","Referrals, Assessments and Packages of Care (RAP)","Number of clients receiving services provided or commissioned by the CASSR during the period, by gender and age group, cross-tabulated with service type and primary client type.  (RAP - P7)","DH/HSCIC",null,"Y",null,null,"annual","Upper tier & single tier",null,null,"","",null,null,"Y",{"$nulls":28},"",null,0,null,null,134,14,null,1,{"$error":"#N/A"},310,{"$error":"#N/A"},{"$error":"#N/A"}]
["D","134-15","Referrals, Assessments and Packages of Care (RAP)","Number of clients receiving self directed support and/or direct payments provided or commissioned by the CASSR during the period, by primary client type and extended age group;  (RAP - SD1)","DH/HSCIC",null,"Y",null,null,"annual","Upper tier & single tier",null,null,"","",null,null,"Y",{"$nulls":28},"",null,0,null,null,134,15,null,1,{"$error":"#N/A"},311,{"$error":"#N/A"},{"$error":"#N/A"}]
["D","134-16","Referrals, Assessments and Packages of Care (RAP)","Number of clients receiving self directed support and/or direct payments provided or commissioned by the CASSR during the period, by ethnicity;  (RAP - SD2)","DH/HSCIC",null,"Y",null,null,"annual","Upper tier & single tier",null,null,"","",null,null,"Y",{"$nulls":28},"",null,0,null,null,134,16,null,1,{"$error":"#N/A"},312,{"$error":"#N/A"},{"$error":"#N/A"}]
["D","134-17","Referrals, Assessments and Packages of Care (RAP)","Number of carers receiving self directed support and/or direct payments provided or commissioned by the CASSR during the period, by extended age group.  (RAP - SD3)","DH/HSCIC",null,"Y",null,null,"annual","Upper tier & single tier",null,null,"","",null,null,"Y",{"$nulls":28},"",null,0,null,null,134,17,null,1,{"$error":"#N/A"},313,{"$error":"#N/A"},{"$error":"#N/A"}]
["D","134-18","Referrals, Assessments and Packages of Care (RAP)","Number of carers for whom assessments or reviews were completed or declined during the period, by age group of carer, and age group and primary client type of the person cared for by the carer;  (RAP - C1)","DH/HSCIC",null,"Y",null,null,"annual","Upper tier & single tier",null,null,"","",null,null,"Y",{"$nulls":28},"",null,0,null,null,134,18,null,1,{"$error":"#N/A"},314,{"$error":"#N/A"},{"$error":"#N/A"}]
["D","134-19","Referrals, Assessments and Packages of Care (RAP)","Number of carers receiving different types of services provided or commissioned by the CASSR as an outcome of an assessment or review, by age group of carer, and age group and primary client type of the person cared for by the carer.  (RAP - C2)","DH/HSCIC",null,"Y",null,null,"annual","Upper tier & single tier",null,null,"","",null,null,"Y",{"$nulls":28},"",null,0,null,null,134,19,null,1,{"$error":"#N/A"},315,{"$error":"#N/A"},{"$error":"#N/A"}]
["C","136-00","Adult Social Care Combined Activity Return (ASC-CAR)",null,"DH/HSCIC",null,"Y",null,null,"annual","Upper tier & single tier","Data in relation to outcomes achieved through adult social care for people using reablement and intermediate care services, and for people with learning disabilities.","Authority group - collected from all LAs with adult social services responsibilities, of which there are 152 in total","Collection",null,"http://www.ic.nhs.uk/services/social-care/social-care-collections/collections-2012",null,"Y","125, 145, 146","Y",null,"Y","Y","Y","Y","Y",{"$nulls":17},"County council, Metropolitan district, Unitary authority, London borough, City of London, Isles of Scilly","aggregate/summary",null,{"$f":"IF($A317=\"C\",COUNTIF(C$317:C$323,C317)-1,\"\")","v":6},{"$nulls":4},136,0,null,0,{"$error":"#N/A"},316,{"$error":"#N/A"},{"$f":"RANK(BF317,BF$317:BF$323,1)","v":{"$error":"#N/A"}}]
["D","136-01",{"$f":"C317","v":"Adult Social Care Combined Activity Return (ASC-CAR)"},"Number of supported residents by your local authority in residential care, nursing care and adult placements as at 31st March, by type of residence, primary client type and age group (ASC-CAR S1)",{"$f":"E317","v":"DH/HSCIC"},null,"Y",null,null,{"$f":"J317","v":"annual"},"Upper tier & single tier",null,null,"",{"$f":"IF(OR($A318<>\"C\",Q318=\"\"),\"\",HYPERLINK(Q318,\"Data\"))","v":""},null,null,{"$f":"R317","v":"Y"},{"$nulls":28},"",null,{"$f":"AW317","v":0},null,null,136,1,null,1,{"$error":"#N/A"},317,{"$error":"#N/A"},{"$error":"#N/A"}]
["D","136-02",{"$f":"C318","v":"Adult Social Care Combined Activity Return (ASC-CAR)"},"Number of residents aged 65 and over supported by you local authority in residential, nursing and adult plcaements as at 31st March 2011, by type of residence and age group (ASC-CAR S2)",{"$f":"E318","v":"DH/HSCIC"},null,"Y",null,null,"annual","Upper tier & single tier",null,null,"","",null,null,{"$f":"R318","v":"Y"},{"$nulls":28},"",null,{"$f":"AW318","v":0},null,null,136,2,null,1,{"$error":"#N/A"},318,{"$error":"#N/A"},{"$error":"#N/A"}]
["D","136-03",{"$f":"C319","v":"Adult Social Care Combined Activity Return (ASC-CAR)"},"Number of LA supported permanent admissions to residential care, nursing care and adult placements during 1st April to 31st March, by type of residence, primary client group and age group (ASC-CAR S3)",{"$f":"E319","v":"DH/HSCIC"},null,"Y",null,null,"annual","Upper tier & single tier",null,null,"","",null,null,{"$f":"R319","v":"Y"},{"$nulls":28},"",null,{"$f":"AW319","v":0},null,null,136,3,null,1,{"$error":"#N/A"},319,{"$error":"#N/A"},{"$error":"#N/A"}]
["D","136-06",{"$f":"Removed!C482","v":"Adult Social Care Combined Activity Return (ASC-CAR)"},"Number of working age learning disabled clients known to CASSRs during 1 April to 31 March, by service type and gender and by employment status at the time of their latest assessment or review (ASC-CAR L1)",{"$f":"Removed!E482","v":"DH/HSCIC"},null,"Y",null,null,{"$f":"Removed!J482","v":"annual"},{"$f":"Removed!K482","v":"Upper tier & single tier"},null,null,"","",null,null,{"$f":"Removed!R482","v":"Y"},{"$nulls":28},"",null,{"$f":"Removed!AW482","v":0},null,null,136,6,null,1,{"$error":"#N/A"},320,{"$error":"#N/A"},{"$error":"#N/A"}]
["D","136-07",{"$f":"C321","v":"Adult Social Care Combined Activity Return (ASC-CAR)"},"Number of working age learning disabled clients known to CASSRs during 1 April to 31 March, by gender and by accommodation status at the time of their latest assessment or review (ASC-CAR L2)",{"$f":"E321","v":"DH/HSCIC"},null,"Y",null,null,{"$f":"J321","v":"annual"},{"$f":"K321","v":"Upper tier & single tier"},null,null,"","",null,null,{"$f":"R321","v":"Y"},{"$nulls":28},"",null,{"$f":"AW321","v":0},null,null,136,7,null,1,{"$error":"#N/A"},321,{"$error":"#N/A"},{"$error":"#N/A"}]
["D","136-08",{"$f":"C322","v":"Adult Social Care Combined Activity Return (ASC-CAR)"},"Number of clients aged 65 and over achieving independence through rehabilitation during 1 October to 31 December, by age group and gender (ASC-CAR I1)",{"$f":"E322","v":"DH/HSCIC"},null,"Y",null,null,{"$f":"J322","v":"annual"},{"$f":"K322","v":"Upper tier & single tier"},null,null,"","",null,null,{"$f":"R322","v":"Y"},{"$nulls":28},"",null,{"$f":"AW322","v":0},null,null,136,8,null,1,{"$error":"#N/A"},322,{"$error":"#N/A"},{"$error":"#N/A"}]
["C",{"$f":"TEXT(AZ324,\"000\")&\"-\"&TEXT(BA324,\"00\")","v":"070-00"},"Animal Movement Licensing System (AMLS)",null,"DEFRA",null,null,"Y","Y","continuous","All local authorities","Records details of individual movements animals.","Movements are monitored via the Animal Movements Licensing System (AMLS). AMLS is managed by BCMS.  Movements are made under a General Licence but a movement document must be completed and it is the responsibility of the receiving keeper to send the top copy of the movement document to their Local Authority within 3 days of the move taking place. Details of animal movements (except for cattle which go directly to BCMS via the movement card in their passport) are entered onto AMLS by local authorities in England and Wales using information contained in the movement document. The Disease Control (England) Order 2003 is a domestic measure deriving its vires from the Animal Health Act.",{"$f":"IF(OR($A324<>\"C\",P324=\"\"),\"\",HYPERLINK(P324,\"Collection\"))","v":""},{"$f":"IF(OR($A324<>\"C\",Q324=\"\"),\"\",HYPERLINK(Q324,\"Data\"))","v":""},{"$nulls":4},"Y","Y","Y","Y","Y","Y","Y",{"$nulls":17},"County council, District council, Metropolitan district, Unitary authority, London borough, City of London, Isles of Scilly","case based",null,{"$f":"IF($A324=\"C\",COUNTIF(C$324:C$325,C324)-1,\"\")","v":1},null,"Animal health/welfare",null,null,70,0,null,{"$f":"IF(A324=\"D\",1,0)","v":0},{"$f":"MATCH(E324,DeptAbbr,0)","v":8},{"$f":"ROW()-1","v":323},{"$f":"(BC324*1000000)+(BD324*1000)+BE324","v":8323},{"$f":"RANK(BF324,BF$324:BF$325,1)","v":1}]
["D","070-01",{"$f":"C324","v":"Animal Movement Licensing System (AMLS)"},"Details of individual animal movements from each Movement Document",{"$f":"E324","v":"DEFRA"},{"$nulls":4},{"$f":"J324","v":"continuous"},{"$f":"K324","v":"All local authorities"},null,null,"","",null,null,{"$f":"R324","v":0},{"$nulls":28},{"$f":"IF($A325=\"C\",COUNTIF(C$324:C$325,C325)-1,\"\")","v":""},null,{"$f":"AW324","v":"Animal health/welfare"},null,null,70,1,null,1,8,324,1008324,{"$f":"RANK(BF325,BF$324:BF$325,1)","v":2}]
["C","007-00","Mortgage Rescue Scheme return",null,"DCLG",{"$nulls":4},"quarterly","Single tier & lower tier","Outcomes of money advice provided to households with mortgage difficulties approaching local authorities.",null,"","Data",null,"https://www.gov.uk/government/organisations/department-for-communities-and-local-government/series/mortgage-rescue-scheme-monitoring-statistics;   ","Y",null,null,"Y","Y","Y","Y","Y","Y",{"$nulls":17},"District council, Metropolitan district, Unitary authority, London borough, City of London, Isles of Scilly","n/k",null,{"$f":"IF($A326=\"C\",COUNTIF(C:C,C326)-1,\"\")","v":2},null,"Housing","Mark Nicholas",null,7,0,null,0,5,325,5325,{"$f":"RANK(BF326,BF:BF,1)","v":{"$error":"#N/A"}}]
["D","007-01",{"$f":"C326","v":"Mortgage Rescue Scheme return"},"Outcomes of Money Advice - Households with mortgage difficulties approaching LAs, by reason for mortgage difficulties and outcome",{"$f":"E326","v":"DCLG"},{"$nulls":4},{"$f":"J326","v":"quarterly"},{"$f":"K326","v":"Single tier & lower tier"},null,null,"","",null,"https://www.gov.uk/government/statistical-data-sets/live-tables-on-repossession-activity",{"$f":"R326","v":"Y"},{"$nulls":28},{"$f":"IF($A327=\"C\",COUNTIF(C:C,C327)-1,\"\")","v":""},null,{"$f":"AW326","v":"Housing"},null,null,7,1,null,1,5,326,1005326,{"$f":"RANK(BF327,BF:BF,1)","v":{"$error":"#N/A"}}]
["C","244-00","Flood risk management capacity",null,"DEFRA/EA",{"$nulls":4},"annual","All local authorities","Staff employed on flood risk management","The EA are currently working with the LGA to collect this data in Feb 2012","","",null,null,"Y",null,"Y","Y","Y","Y","Y","Y","Y",{"$nulls":17},"County council, District council, Metropolitan district, Unitary authority, London borough, City of London, Isles of Scilly","aggregate/summary",null,{"$f":"IF($A328=\"C\",COUNTIF(C$328:C$329,C328)-1,\"\")","v":1},{"$nulls":4},244,0,null,0,32,327,32327,{"$f":"RANK(BF328,BF$328:BF$329,1)","v":1}]
["D","244-01",{"$f":"C328","v":"Flood risk management capacity"},"Number of staff employed on FRM activity (by number and role) - e.g. capacity",{"$f":"E328","v":"DEFRA/EA"},{"$nulls":4},{"$f":"J328","v":"annual"},{"$f":"K328","v":"All local authorities"},null,null,"","",null,null,{"$f":"R328","v":"Y"},{"$nulls":28},{"$f":"IF($A329=\"C\",COUNTIF(C$328:C$329,C329)-1,\"\")","v":""},null,{"$f":"AW328","v":0},null,null,244,1,null,1,32,328,1032328,{"$f":"RANK(BF329,BF$328:BF$329,1)","v":2}]
["C",{"$f":"TEXT(AZ330,\"000\")&\"-\"&TEXT(BA330,\"00\")","v":"162-00"},"Family Intervention Project (FIP) monitoring",null,"DfE",{"$nulls":4},"continuous","Upper tier & single tier",null,null,{"$f":"IF(OR($A330<>\"C\",P330=\"\"),\"\",HYPERLINK(P330,\"Collection\"))","v":""},{"$f":"IF(OR($A330<>\"C\",Q330=\"\"),\"\",HYPERLINK(Q330,\"Data\"))","v":"Data"},null,"https://www.gov.uk/government/publications/monitoring-and-evaluation-of-family-intervention-projects-to-march-2010",null,null,"Y",null,"Y","Y","Y","Y","Y",{"$nulls":17},"County council, Metropolitan district, Unitary authority, London borough, City of London, Isles of Scilly","aggregate/summary",null,{"$f":"IF($A330=\"C\",COUNTIF(C$330:C$331,C330)-1,\"\")","v":1},{"$nulls":4},162,0,null,{"$f":"IF(A330=\"D\",1,0)","v":0},{"$f":"MATCH(E330,DeptAbbr,0)","v":9},{"$f":"ROW()-1","v":329},{"$f":"(BC330*1000000)+(BD330*1000)+BE330","v":9329},{"$f":"RANK(BF330,BF$330:BF$331,1)","v":1}]
["D","162-01",{"$f":"C330","v":"Family Intervention Project (FIP) monitoring"},"Support to disavantaged families facing multiple problems",{"$f":"E330","v":"DfE"},{"$nulls":4},{"$f":"J330","v":"continuous"},{"$f":"K330","v":"Upper tier & single tier"},null,null,"","",null,null,{"$f":"R330","v":0},{"$nulls":28},{"$f":"IF($A331=\"C\",COUNTIF(C$330:C$331,C331)-1,\"\")","v":""},null,{"$f":"AW330","v":0},null,null,162,1,null,1,9,330,1009330,{"$f":"RANK(BF331,BF$330:BF$331,1)","v":2}]
["C","105-00","Pupil Referral Unit Census",null,"DfE",null,"Y",null,"Y","annual","Upper tier & single tier","Pupils registered at Pupil Referral Units (PRU) run, managed or funded by the authority. ",null,"Collection","Data","http://www.education.gov.uk/schools/adminandfinance/schooladmin/ims/datacollections/prucensus \n","https://www.gov.uk/government/publications/schools-pupils-and-their-characteristics-january-2010",null,null,"Y",null,"Y","Y","Y","Y","Y",{"$nulls":17},"County council, Metropolitan district, Unitary authority, London borough, City of London, Isles of Scilly","client based",null,{"$f":"IF($A332=\"C\",COUNTIF(C$332:C$342,C332)-1,\"\")","v":10},{"$nulls":4},105,0,null,0,9,331,9331,{"$f":"RANK(BF332,BF$332:BF$342,1)","v":1}]
["D","105-01",{"$f":"C332","v":"Pupil Referral Unit Census"},"Pupil level: Pupil identifiers",{"$f":"E332","v":"DfE"},null,"Y",null,"Y",{"$f":"J332","v":"annual"},{"$f":"K332","v":"Upper tier & single tier"},null,null,"","",null,null,{"$f":"R332","v":0},{"$nulls":28},"",null,{"$f":"AW332","v":0},null,null,105,1,null,1,9,332,1009332,2]
["D","105-02","Pupil Referral Unit Census","Pupil level: Pupil characteristics","DfE",null,"Y",null,"Y","annual","Upper tier & single tier",null,null,"","",null,null,0,{"$nulls":28},"",null,0,null,null,105,2,null,1,9,333,1009333,3]
["D","105-03","Pupil Referral Unit Census","Pupil level: Pupil status","DfE",null,"Y",null,"Y","annual","Upper tier & single tier",null,null,"","",null,null,0,{"$nulls":28},"",null,0,null,null,105,3,null,1,9,334,1009334,4]
["D","105-04","Pupil Referral Unit Census","Pupil level: SEN provision","DfE",null,"Y",null,"Y","annual","Upper tier & single tier",null,null,"","",null,null,0,{"$nulls":28},"",null,0,null,null,105,4,null,1,9,335,1009335,5]
["D","105-05","Pupil Referral Unit Census","Pupil level: Exclusions","DfE",null,"Y",null,"Y","annual","Upper tier & single tier",null,null,"","",null,null,0,{"$nulls":28},"",null,0,null,null,105,5,null,1,9,336,1009336,6]
["D","105-06","Pupil Referral Unit Census","Pupil level: Home information","DfE",null,"Y",null,"Y","annual","Upper tier & single tier",null,null,"","",null,null,0,{"$nulls":28},"",null,0,null,null,105,6,null,1,9,337,1009337,7]
["D","105-07","Pupil Referral Unit Census","Pupil level: Attendance","DfE",null,"Y",null,"Y","annual","Upper tier & single tier",null,null,"","",null,null,0,{"$nulls":28},"",null,0,null,null,105,7,null,1,9,338,1009338,8]
["D","105-08","Pupil Referral Unit Census","School level: School characteristics","DfE",null,"Y",null,"Y","annual","Upper tier & single tier",null,null,"","",null,null,0,{"$nulls":28},"",null,0,null,null,105,8,null,1,9,339,1009339,9]
["D","105-09","Pupil Referral Unit Census","School level: School location","DfE",null,"Y",null,"Y","annual","Upper tier & single tier",null,null,"","",null,null,0,{"$nulls":28},"",null,0,null,null,105,9,null,1,9,340,1009340,10]
["D","105-10","Pupil Referral Unit Census","School level: Staff information","DfE",null,"Y",null,"Y","annual","Upper tier & single tier",null,null,"","",null,null,0,{"$nulls":28},"",null,0,null,null,105,10,null,1,9,341,1009341,11]
["C","115-00","Special Educational Needs Statement Completion",null,"DfE",null,"Y",null,"Y","annual","Upper tier & single tier","Measures the timeliness of special education needs statements.",null,"","Data",null,"https://www.gov.uk/government/publications/special-educational-needs-statements-issued-within-26-weeks-academic-year-2009-to-2010",null,103,"Y",null,"Y","Y","Y","Y","Y",{"$nulls":17},"County council, Metropolitan district, Unitary authority, London borough, City of London, Isles of Scilly","aggregate/summary",null,{"$f":"IF($A343=\"C\",COUNTIF(C$343:C$344,C343)-1,\"\")","v":1},{"$nulls":4},115,0,null,0,9,342,9342,{"$f":"RANK(BF343,BF$343:BF$344,1)","v":1}]
["D","115-01",{"$f":"C343","v":"Special Educational Needs Statement Completion"},"Number of statements of special education needs issued, and number issued within 26 weeks",{"$f":"E343","v":"DfE"},null,"Y",null,"Y",{"$f":"J343","v":"annual"},{"$f":"K343","v":"Upper tier & single tier"},null,null,"","",null,null,{"$f":"R343","v":0},{"$nulls":28},{"$f":"IF($A344=\"C\",COUNTIF(C$343:C$344,C344)-1,\"\")","v":""},null,{"$f":"AW343","v":0},null,null,115,1,null,1,9,343,1009343,{"$f":"RANK(BF344,BF$343:BF$344,1)","v":2}]
["C","137-00","Abuse of Vulnerable Adults (AVA) return",null,"DH/HSCIC",{"$nulls":4},"annual","Upper tier & single tier","The AVA return captures information in relation to adult safeguarding, including numbers of referrals to safeguarding services and the outcomes of individual cases","Authority group - collected from l LAs with adult social services responsibilitiesl.  These are official statistics currently classed as experimental","Collection","Data","http://www.ic.nhs.uk/services/social-care/social-care-collections/vulnerable-abuse","http://www.ic.nhs.uk/services/social-care/social-care-collections/collections-2012","Y",null,"Y",null,"Y","Y","Y","Y","Y",{"$nulls":17},"County council, Metropolitan district, Unitary authority, London borough, City of London, Isles of Scilly","aggregate/summary",null,{"$f":"IF($A345=\"C\",COUNTIF(C$345:C$360,C345)-1,\"\")","v":15},{"$nulls":4},137,0,null,0,{"$error":"#N/A"},344,{"$error":"#N/A"},{"$f":"RANK(BF345,BF$345:BF$360,1)","v":{"$error":"#N/A"}}]
["D","137-01",{"$f":"C345","v":"Abuse of Vulnerable Adults (AVA) return"},"Number of alerts, referrals, repeat referrals and completed referrals, by age, primary client group and gender of vulnerable adult",{"$f":"E345","v":"DH/HSCIC"},{"$nulls":4},{"$f":"J345","v":"annual"},{"$f":"K345","v":"Upper tier & single tier"},null,null,"","",null,null,{"$f":"R345","v":"Y"},{"$nulls":28},"",null,{"$f":"AW345","v":0},null,null,137,1,null,1,{"$error":"#N/A"},345,{"$error":"#N/A"},{"$error":"#N/A"}]
["D","137-02","Abuse of Vulnerable Adults (AVA) return","Number of alerts, referrals, repeat referrals and completed referrals by ethnicity of vulnerable adult","DH/HSCIC",{"$nulls":4},"annual","Upper tier & single tier",null,null,"","",null,null,"Y",{"$nulls":28},"",null,0,null,null,137,2,null,1,{"$error":"#N/A"},346,{"$error":"#N/A"},{"$error":"#N/A"}]
["D","137-03","Abuse of Vulnerable Adults (AVA) return","Source of referral, by age and primary client group of vulnerable adult","DH/HSCIC",{"$nulls":4},"annual","Upper tier & single tier",null,null,"","",null,null,"Y",{"$nulls":28},"",null,0,null,null,137,3,null,1,{"$error":"#N/A"},347,{"$error":"#N/A"},{"$error":"#N/A"}]
["D","137-04","Abuse of Vulnerable Adults (AVA) return","Nature of alleged abuse, for referrals, by age and gender of vulnerable adult","DH/HSCIC",{"$nulls":4},"annual","Upper tier & single tier",null,null,"","",null,null,"Y",{"$nulls":28},"",null,0,null,null,137,4,null,1,{"$error":"#N/A"},348,{"$error":"#N/A"},{"$error":"#N/A"}]
["D","137-05","Abuse of Vulnerable Adults (AVA) return","Nature of alleged abuse, for referrals, by age and primary client group of vulnerable adult","DH/HSCIC",{"$nulls":4},"annual","Upper tier & single tier",null,null,"","",null,null,"Y",{"$nulls":28},"",null,0,null,null,137,5,null,1,{"$error":"#N/A"},349,{"$error":"#N/A"},{"$error":"#N/A"}]
["D","137-06","Abuse of Vulnerable Adults (AVA) return","Location alleged abuse took place, for referrals, by age of vulnerable adult","DH/HSCIC",{"$nulls":4},"annual","Upper tier & single tier",null,null,"","",null,null,"Y",{"$nulls":28},"",null,0,null,null,137,6,null,1,{"$error":"#N/A"},350,{"$error":"#N/A"},{"$error":"#N/A"}]
["D","137-07","Abuse of Vulnerable Adults (AVA) return","Type of service, for referrals, by age and primary client group of vulnerable adult","DH/HSCIC",{"$nulls":4},"annual","Upper tier & single tier",null,null,"","",null,null,"Y",{"$nulls":28},"",null,0,null,null,137,7,null,1,{"$error":"#N/A"},351,{"$error":"#N/A"},{"$error":"#N/A"}]
["D","137-08","Abuse of Vulnerable Adults (AVA) return","Relationship of vulnerable adult to alleged perpetrator(s), for referrals, by age and gender of the vulnerable adult","DH/HSCIC",{"$nulls":4},"annual","Upper tier & single tier",null,null,"","",null,null,"Y",{"$nulls":28},"",null,0,null,null,137,8,null,1,{"$error":"#N/A"},352,{"$error":"#N/A"},{"$error":"#N/A"}]
["D","137-09","Abuse of Vulnerable Adults (AVA) return","Relationship of vulnerable adult to alleged perpetrator(s), for referrals, by age and primary client group of the alleged victim\n","DH/HSCIC",{"$nulls":4},"annual","Upper tier & single tier",null,null,"","",null,null,"Y",{"$nulls":28},"",null,0,null,null,137,9,null,1,{"$error":"#N/A"},353,{"$error":"#N/A"},{"$error":"#N/A"}]
["D","137-10","Abuse of Vulnerable Adults (AVA) return","Case conclusion of completed referrals, by age and primary client group of vulnerable adult","DH/HSCIC",{"$nulls":4},"annual","Upper tier & single tier",null,null,"","",null,null,"Y",{"$nulls":28},"",null,0,null,null,137,10,null,1,{"$error":"#N/A"},354,{"$error":"#N/A"},{"$error":"#N/A"}]
["D","137-11","Abuse of Vulnerable Adults (AVA) return","Case conclusion of completed referrals, by ethnicity of vulnerable adult","DH/HSCIC",{"$nulls":4},"annual","Upper tier & single tier",null,null,"","",null,null,"Y",{"$nulls":28},"",null,0,null,null,137,11,null,1,{"$error":"#N/A"},355,{"$error":"#N/A"},{"$error":"#N/A"}]
["D","137-12","Abuse of Vulnerable Adults (AVA) return","Outcome of completed referral for vulnerable adult, by age and primary client group of vulnerable adult","DH/HSCIC",{"$nulls":4},"annual","Upper tier & single tier",null,null,"","",null,null,"Y",{"$nulls":28},"",null,0,null,null,137,12,null,1,{"$error":"#N/A"},356,{"$error":"#N/A"},{"$error":"#N/A"}]
["D","137-13","Abuse of Vulnerable Adults (AVA) return","Number of completed referrals leading to Serious Case Review by age and primary client group of vulnerable adult\n","DH/HSCIC",{"$nulls":4},"annual","Upper tier & single tier",null,null,"","",null,null,"Y",{"$nulls":28},"",null,0,null,null,137,13,null,1,{"$error":"#N/A"},357,{"$error":"#N/A"},{"$error":"#N/A"}]
["D","137-14","Abuse of Vulnerable Adults (AVA) return","Acceptance of Protection Plan by age and primary client group of vulnerable adult","DH/HSCIC",{"$nulls":4},"annual","Upper tier & single tier",null,null,"","",null,null,"Y",{"$nulls":28},"",null,0,null,null,137,14,null,1,{"$error":"#N/A"},358,{"$error":"#N/A"},{"$error":"#N/A"}]
["D","137-15","Abuse of Vulnerable Adults (AVA) return","Outcome of completed referral for Alleged perpetrator / Organisation / Service by age and primary client group of vulnerable adult\n","DH/HSCIC",{"$nulls":4},"annual","Upper tier & single tier",null,null,"","",null,null,"Y",{"$nulls":28},"",null,0,null,null,137,15,null,1,{"$error":"#N/A"},359,{"$error":"#N/A"},{"$error":"#N/A"}]
["C",{"$f":"TEXT(AZ361,\"000\")&\"-\"&TEXT(BA361,\"00\")","v":"153-00"},"LPG pipework inspection ",null,"DWP/HSE",{"$nulls":4},"continuous","All local authorities","Database to support operational activity for the national liquid petroleum gas (LPG) pipework inspection campaign.","A three year campaign which has now concluded, in response to the recommendations of Lord Gill following a public enquiry into a major incident.  Allowing progress of a national campain to be tracked through the recording of enforcement and visit information. .  Although the database still exists there is currently no requirement for LAs to record this data.",{"$f":"IF(OR($A361<>\"C\",P361=\"\"),\"\",HYPERLINK(P361,\"Collection\"))","v":""},{"$f":"IF(OR($A361<>\"C\",Q361=\"\"),\"\",HYPERLINK(Q361,\"Data\"))","v":""},null,null,"Y",null,"Y","Y","Y","Y","Y","Y","Y",{"$nulls":17},"County council, District council, Metropolitan district, Unitary authority, London borough, City of London, Isles of Scilly","case based",null,{"$f":"IF($A361=\"C\",COUNTIF(C$361:C$362,C361)-1,\"\")","v":1},{"$nulls":4},153,0,null,{"$f":"IF(A361=\"D\",1,0)","v":0},{"$f":"MATCH(E361,DeptAbbr,0)","v":42},{"$f":"ROW()-1","v":360},{"$f":"(BC361*1000000)+(BD361*1000)+BE361","v":42360},{"$f":"RANK(BF361,BF$361:BF$362,1)","v":1}]
["D","153-01",{"$f":"C361","v":"LPG pipework inspection "},"LPG inspection campaign",{"$f":"E361","v":"DWP/HSE"},{"$nulls":4},{"$f":"J361","v":"continuous"},{"$f":"K361","v":"All local authorities"},null,null,"","",null,null,{"$f":"R361","v":"Y"},{"$nulls":28},{"$f":"IF($A362=\"C\",COUNTIF(C$361:C$362,C362)-1,\"\")","v":""},null,{"$f":"AW361","v":0},null,null,153,1,null,1,42,361,1042361,{"$f":"RANK(BF362,BF$361:BF$362,1)","v":2}]
["C","242-00","Fraud and Corruption Survey",null,"DCLG/AC",{"$nulls":4},"annual","All local authorities","The Fraud and Corruption survey - is survey of Local government and related bodies. It identifies good practice and current fraud trends for LAs. The results are published in the Commission's annual report 'Protecting the Public purse' ",null,"","Data",null,"http://www.audit-commission.gov.uk/pressoffice/pressreleases/Pages/scaleoffraudandcorruption.aspx","Y",null,"Y","Y","Y","Y","Y","Y","Y",{"$nulls":16},"Not all sections are applicable to some types of authority.","County council, District council, Metropolitan district, Unitary authority, London borough, City of London, Isles of Scilly","aggregate/summary",null,{"$f":"IF($A363=\"C\",COUNTIF(C$363:C$372,C363)-1,\"\")","v":9},null,"Local government","Alison Morris",null,242,0,null,0,{"$error":"#N/A"},362,{"$error":"#N/A"},{"$f":"RANK(BF363,BF$363:BF$372,1)","v":{"$error":"#N/A"}}]
["D","242-01",{"$f":"C363","v":"Fraud and Corruption Survey"},"Housing benefit, council tax benefit and NNDR fraud",{"$f":"E363","v":"DCLG/AC"},{"$nulls":4},{"$f":"J363","v":"annual"},{"$f":"K363","v":"All local authorities"},null,null,"","",null,null,{"$f":"R363","v":"Y"},{"$nulls":28},"",null,{"$f":"AW363","v":"Local government"},null,null,242,1,null,1,{"$error":"#N/A"},363,{"$error":"#N/A"},{"$error":"#N/A"}]
["D","242-02","Fraud and Corruption Survey","Procurement, Insurance, Social Services and Economic/ third sector fraud","DCLG/AC",{"$nulls":4},"annual","All local authorities",null,null,"","",null,null,"Y",{"$nulls":28},"",null,"Local government",null,null,242,2,null,1,{"$error":"#N/A"},364,{"$error":"#N/A"},{"$error":"#N/A"}]
["D","242-03","Fraud and Corruption Survey","Debt, Pensions and Investment fraud","DCLG/AC",{"$nulls":4},"annual","All local authorities",null,null,"","",null,null,"Y",{"$nulls":28},"",null,"Local government",null,null,242,3,null,1,{"$error":"#N/A"},365,{"$error":"#N/A"},{"$error":"#N/A"}]
["D","242-04","Fraud and Corruption Survey","Payroll and Expenses fraud, Abuse of position and Other fraud","DCLG/AC",{"$nulls":4},"annual","All local authorities",null,null,"","",null,null,"Y",{"$nulls":28},"",null,"Local government",null,null,242,4,null,1,{"$error":"#N/A"},366,{"$error":"#N/A"},{"$error":"#N/A"}]
["D","242-05","Fraud and Corruption Survey","Disabled Parking, Recruitment fraud and fraud reporting","DCLG/AC",{"$nulls":4},"annual","All local authorities",null,null,"","",null,null,"Y",{"$nulls":28},"",null,"Local government",null,null,242,5,null,1,{"$error":"#N/A"},367,{"$error":"#N/A"},{"$error":"#N/A"}]
["D","242-06","Fraud and Corruption Survey","Fraud and Corruption Prosecutions","DCLG/AC",{"$nulls":4},"annual","All local authorities",null,null,"","",null,null,"Y",{"$nulls":28},"",null,"Local government",null,null,242,6,null,1,{"$error":"#N/A"},368,{"$error":"#N/A"},{"$error":"#N/A"}]
["D","242-07","Fraud and Corruption Survey","Audit Committee and Policies","DCLG/AC",{"$nulls":4},"annual","All local authorities",null,null,"","",null,null,"Y",{"$nulls":28},"",null,"Local government",null,null,242,7,null,1,{"$error":"#N/A"},369,{"$error":"#N/A"},{"$error":"#N/A"}]
["D","242-08","Fraud and Corruption Survey","Counter fraud and corruption activity","DCLG/AC",{"$nulls":4},"annual","All local authorities",null,null,"","",null,null,"Y",{"$nulls":28},"",null,"Local government",null,null,242,8,null,1,{"$error":"#N/A"},370,{"$error":"#N/A"},{"$error":"#N/A"}]
["D","242-09","Fraud and Corruption Survey","Fidelity guarantee insurance, Emerging risks, and Best practice","DCLG/AC",{"$nulls":4},"annual","All local authorities",null,null,"","",null,null,"Y",{"$nulls":28},"",null,"Local government",null,null,242,9,null,1,{"$error":"#N/A"},371,{"$error":"#N/A"},{"$error":"#N/A"}]
["C",{"$f":"TEXT(AZ373,\"000\")&\"-\"&TEXT(BA373,\"00\")","v":"184-00"},"County Matters Planning Fees statistical returns (FEE 2)",null,"DCLG",null,"Y",null,null,"quarterly","Upper tier & single tier","Fees received for planning applications received in quarter.","Publication to become annual, but frequency of collection will remain quarterly.",{"$f":"IF(OR($A373<>\"C\",P373=\"\"),\"\",HYPERLINK(P373,\"Collection\"))","v":""},{"$f":"IF(OR($A373<>\"C\",Q373=\"\"),\"\",HYPERLINK(Q373,\"Data\"))","v":""},{"$nulls":4},"Y",null,"Y","Y","Y","Y","Y",{"$nulls":4},"Y",{"$nulls":12},"County council, Metropolitan district, Unitary authority, London borough, City of London, Isles of Scilly, National park authority","aggregate/summary",null,{"$f":"IF($A373=\"C\",COUNTIF(C$373:C$374,C373)-1,\"\")","v":1},null,"Planning","Andrew Presland",null,184,0,null,{"$f":"IF(A373=\"D\",1,0)","v":0},{"$f":"MATCH(E373,DeptAbbr,0)","v":5},{"$f":"ROW()-1","v":372},{"$f":"(BC373*1000000)+(BD373*1000)+BE373","v":5372},{"$f":"RANK(BF373,BF$373:BF$374,1)","v":1}]
["D","184-01",{"$f":"C373","v":"County Matters Planning Fees statistical returns (FEE 2)"},"Planning fees collected",{"$f":"E373","v":"DCLG"},null,"Y",null,null,{"$f":"J373","v":"quarterly"},{"$f":"K373","v":"Upper tier & single tier"},null,null,"","",null,null,{"$f":"R373","v":0},{"$nulls":28},{"$f":"IF($A374=\"C\",COUNTIF(C$373:C$374,C374)-1,\"\")","v":""},null,{"$f":"AW373","v":"Planning"},null,null,184,1,null,1,5,373,1005373,{"$f":"RANK(BF374,BF$373:BF$374,1)","v":2}]
["C","039-00","Capital Forecast Return (CFR)",null,"DCLG",null,"N","Y","Y","annual","All local authorities","Estimates of local authority capital expenditure and receipts.",null,"Collection","Data","https://www.gov.uk/local-government-finance-capital-forms","https://www.gov.uk/government/organisations/department-for-communities-and-local-government/series/local-authority-capital-expenditure-receipts-and-financing",null,null,"Y","Y","Y","Y","Y","Y","Y","Y","Y","Y","Y","Y","Y","Y",{"$nulls":10},"County council, District council, Metropolitan district, Unitary authority, London borough, City of London, Isles of Scilly, Fire & rescue authority, Police authority, Joint waste authority, Waste disposal authority, National park authority, Integrated transport authority, GLA","aggregate/summary","Excel",{"$f":"IF($A375=\"C\",COUNTIF(C$375:C$376,C375)-1,\"\")","v":1},null,"Local government","Mike Young",null,39,0,null,0,5,374,5374,{"$f":"RANK(BF375,BF$375:BF$376,1)","v":1}]
["D","039-01",{"$f":"C375","v":"Capital Forecast Return (CFR)"},"Capital expenditure and its financing, with no service breakdown",{"$f":"E375","v":"DCLG"},null,"N","Y",null,{"$f":"J375","v":"annual"},{"$f":"K375","v":"All local authorities"},null,null,"","",null,null,{"$f":"R375","v":0},{"$nulls":28},{"$f":"IF($A376=\"C\",COUNTIF(C$375:C$376,C376)-1,\"\")","v":""},null,{"$f":"AW375","v":"Local government"},null,null,39,1,null,1,5,375,1005375,{"$f":"RANK(BF376,BF$375:BF$376,1)","v":2}]
["C","047-00","National Non-domestic Rates Return (NNDR) mid year forecast",null,"DCLG",null,"N",null,"Y","as required","Single tier & lower tier","Statistical information on the non-domestic rate (also known as business rate) collection yield forecast and outturn.",null,"Collection","","https://www.gov.uk/government/organisations/department-for-communities-and-local-government/about/statistics#forthcoming-publications",{"$nulls":4},"Y","Y","Y","Y","Y","Y",{"$nulls":17},"District council, Metropolitan district, Unitary authority, London borough, City of London, Isles of Scilly","aggregate/summary","Excel",{"$f":"IF($A377=\"C\",COUNTIF(C$377:C$378,C377)-1,\"\")","v":1},null,"Local government","Mike Young",null,47,0,null,0,5,376,5376,{"$f":"RANK(BF377,BF$377:BF$378,1)","v":1}]
["D","047-01",{"$f":"C377","v":"National Non-domestic Rates Return (NNDR) mid year forecast"},"Restatement of annual forecast for collection of non-domestic rates\n",{"$f":"E377","v":"DCLG"},null,"N",null,null,{"$f":"J377","v":"as required"},{"$f":"K377","v":"Single tier & lower tier"},null,null,"","",null,null,{"$f":"R377","v":0},{"$nulls":28},{"$f":"IF($A378=\"C\",COUNTIF(C$377:C$378,C378)-1,\"\")","v":""},null,{"$f":"AW377","v":"Local government"},null,null,47,1,null,1,5,377,1005377,{"$f":"RANK(BF378,BF$377:BF$378,1)","v":2}]
["C","068-00","Imports of products of animal origin from third countries",null,"DEFRA",null,null,"Y",null,"monthly","Other","Applicable only to LAs containing a Boarder inspection post, who report data items for each sample taken on imported products on entry into the EU.","Only those 20 or so local authorities that operate a Border Inspection Post.","","",{"$nulls":5},"Y","Y","Y","Y","Y","Y",{"$nulls":16},"Only those local authorities that operate a Border Inspection Post.","District council, Metropolitan district, Unitary authority, London borough, City of London, Isles of Scilly","aggregate/summary",null,{"$f":"IF($A379=\"C\",COUNTIF(C:C,C379)-1,\"\")","v":3},null,"Animal health/welfare","Kirsty Reynolds",null,68,0,null,0,8,378,8378,{"$f":"RANK(BF379,BF:BF,1)","v":{"$error":"#N/A"}}]
["D","068-02",{"$f":"C379","v":"Imports of products of animal origin from third countries"},"Number of consignments sampled",{"$f":"E379","v":"DEFRA"},null,null,"Y",null,{"$f":"J379","v":"monthly"},{"$f":"K379","v":"Other"},null,null,"","",null,null,{"$f":"R379","v":0},{"$nulls":28},"",null,{"$f":"AW379","v":"Animal health/welfare"},null,null,68,2,null,1,8,379,1008379,{"$error":"#N/A"}]
["C","079-00","Fly-tipping incidents (Flycapture)",null,"DEFRA",{"$nulls":3},"Y","monthly","Single tier & lower tier","Number, type and costs of fly-tipping incidents, and enforcement actions.","Data Review ongoing, DEFRA discussions with the LGA continue, once they have their (LGA) definitive view, it will help DEFRA move ahead in exploring alternative options. Section 71(4) of the Environmental Protection Act 1990","","Data",null,"http://www.defra.gov.uk/statistics/environment/waste/",null,196,null,"Y","Y","Y","Y","Y","Y",{"$nulls":17},"District council, Metropolitan district, Unitary authority, London borough, City of London, Isles of Scilly","aggregate/summary",null,4,null,"Environmental quality",null,null,79,0,null,0,8,380,8380,{"$error":"#N/A"}]
["D","079-01",{"$f":"C381","v":"Fly-tipping incidents (Flycapture)"},"Fly-tipping incidents by land and waste type",{"$f":"E381","v":"DEFRA"},{"$nulls":3},"Y",{"$f":"J381","v":"monthly"},"Single tier & lower tier",null,null,"","",null,null,{"$f":"R381","v":0},{"$nulls":28},"",null,{"$f":"AW381","v":"Environmental quality"},null,null,79,1,null,1,8,381,1008381,{"$error":"#N/A"}]
["D","079-02",{"$f":"C382","v":"Fly-tipping incidents (Flycapture)"},"Fly-tipping incidents by size and estimated clearance and disposal costs",{"$f":"E382","v":"DEFRA"},{"$nulls":3},"Y","monthly","Single tier & lower tier",null,null,"","",null,null,{"$f":"R382","v":0},{"$nulls":28},"",null,{"$f":"AW382","v":"Environmental quality"},null,null,79,2,null,1,8,382,1008382,{"$error":"#N/A"}]
["D","079-03",{"$f":"C383","v":"Fly-tipping incidents (Flycapture)"},"Number and estimated costs of actions taken",{"$f":"E383","v":"DEFRA"},{"$nulls":3},"Y","monthly","Single tier & lower tier",null,null,"","",null,null,{"$f":"R383","v":0},{"$nulls":28},"",null,{"$f":"AW383","v":"Environmental quality"},null,null,79,3,null,1,8,383,1008383,{"$error":"#N/A"}]
["D","079-04",{"$f":"C384","v":"Fly-tipping incidents (Flycapture)"},"Prosecution outcomes and fines",{"$f":"E384","v":"DEFRA"},{"$nulls":3},"Y","monthly","Single tier & lower tier",null,null,"","",null,null,{"$f":"R384","v":0},{"$nulls":28},"",null,{"$f":"AW384","v":"Environmental quality"},null,null,79,4,null,1,8,384,1008384,{"$error":"#N/A"}]
["C",{"$f":"TEXT(AZ386,\"000\")&\"-\"&TEXT(BA386,\"00\")","v":"090-00"},"Private Fostering (PF1)",null,"DfE",null,"Y",null,"Y","annual","Upper tier & single tier","Children in private fostering arrangements.","The PF1 return is designed to collect information on the number of children in private fostering arrangements in England.\n\nThe PF1 return for 2009-10 covers notifications of private fostering arrangements in the year ending 31 March 2010, and the number of children looked after under private fostering arrangements at 31 March 2010.",{"$f":"IF(OR($A386<>\"C\",P386=\"\"),\"\",HYPERLINK(P386,\"Collection\"))","v":"Collection"},{"$f":"IF(OR($A386<>\"C\",Q386=\"\"),\"\",HYPERLINK(Q386,\"Data\"))","v":""},"https://www.gov.uk/government/collections/private-fostering-return",{"$nulls":3},"Y",null,"Y","Y","Y","Y","Y",{"$nulls":17},"County council, Metropolitan district, Unitary authority, London borough, City of London, Isles of Scilly","aggregate/summary","Spreadsheet",2,null,null,"Paul Hirst",null,90,0,null,{"$f":"IF(A386=\"D\",1,0)","v":0},{"$f":"MATCH(E386,DeptAbbr,0)","v":9},385,{"$f":"(BC386*1000000)+(BD386*1000)+BE386","v":9385},{"$error":"#N/A"}]
["D","090-01",{"$f":"C386","v":"Private Fostering (PF1)"},"Numbers of children in private fostering arrangements (PF1 Section 1)",{"$f":"E386","v":"DfE"},null,"Y",null,"Y",{"$f":"J386","v":"annual"},{"$f":"K386","v":"Upper tier & single tier"},null,null,"","",null,null,{"$f":"R386","v":0},{"$nulls":28},"",null,{"$f":"AW386","v":0},null,null,90,1,null,1,9,386,1009386,{"$error":"#N/A"}]
["D","090-02",{"$f":"C387","v":"Private Fostering (PF1)"},"Breakdown by age and place of birth of children in private fostering arrangements (PF1 Section 2)",{"$f":"E387","v":"DfE"},null,"Y",null,"Y",{"$f":"J387","v":"annual"},{"$f":"K387","v":"Upper tier & single tier"},null,null,"","",null,null,{"$f":"R387","v":0},{"$nulls":28},"",null,{"$f":"AW387","v":0},null,null,90,2,null,1,9,387,1009387,{"$error":"#N/A"}]
["C","217-00","Adoption data set and adoption self assessment",null,"DfE/Ofsted",{"$nulls":4},"annual","Upper tier & single tier","Data to inform the inspection of fostering agencies and provide information about the agency and its performance. ",null,"","",null,null,"Y",null,"Y",null,"Y","Y","Y","Y","Y",{"$nulls":17},"County council, Metropolitan district, Unitary authority, London borough, City of London, Isles of Scilly","aggregate/summary",null,{"$f":"IF($A389=\"C\",COUNTIF(C$339:C$342,C389)-1,\"\")","v":-1},null,null,"Paul Hirst",null,217,0,null,0,34,388,34388,{"$error":"#N/A"}]
["D","217-01",{"$f":"C389","v":"Adoption data set and adoption self assessment"},"Information on numbers and characteristics of children adopted and adopters.",{"$f":"E389","v":"DfE/Ofsted"},{"$nulls":4},{"$f":"J389","v":"annual"},{"$f":"K389","v":"Upper tier & single tier"},null,null,"","",null,null,{"$f":"R389","v":"Y"},{"$nulls":28},{"$f":"IF($A390=\"C\",COUNTIF(C$339:C$342,C390)-1,\"\")","v":""},null,{"$f":"AW389","v":0},null,null,217,1,null,1,34,389,1034389,{"$error":"#N/A"}]
["C","218-00","Placement data collection",null,"DfE/Ofsted",{"$nulls":4},"annual","Upper tier & single tier","Data to inform the inspection of looked after children’s services and provide information about the LA and its performance.",null,"","",null,null,"Y",null,"Y",null,"Y","Y","Y","Y","Y",{"$nulls":17},"County council, Metropolitan district, Unitary authority, London borough, City of London, Isles of Scilly","aggregate/summary",null,{"$f":"IF($A391=\"C\",COUNTIF(C$339:C$342,C391)-1,\"\")","v":-1},null,null,"Paul Hirst",null,218,0,null,0,34,390,34390,{"$error":"#N/A"}]
["D","218-01",{"$f":"C391","v":"Placement data collection"},"Performance of authorities in commissioning out-of-council placements.",{"$f":"E391","v":"DfE/Ofsted"},{"$nulls":4},{"$f":"J391","v":"annual"},{"$f":"K391","v":"Upper tier & single tier"},null,null,"","",null,null,{"$f":"R391","v":"Y"},{"$nulls":28},{"$f":"IF($A392=\"C\",COUNTIF(C$339:C$342,C392)-1,\"\")","v":""},null,{"$f":"AW391","v":0},null,null,218,1,null,1,34,391,1034391,{"$error":"#N/A"}]
["C","219-00","Childcare inspection data",null,"DfE/Ofsted",{"$nulls":3},"Y","as required","Upper tier & single tier","Data are collected at the time of an inspection, as part of Ofsted’s regulation of the provided service.","Collected at the time of an inspection. In accordance with inspection cycles and requirements: every 47 months years for early years registered provisions and about ten percent each year of those registered on the Childcare Register only","","",null,null,"Y",null,"Y",null,"Y","Y","Y","Y","Y",{"$nulls":17},"County council, Metropolitan district, Unitary authority, London borough, City of London, Isles of Scilly","aggregate/summary",null,{"$f":"IF($A393=\"C\",COUNTIF(C:C,C393)-1,\"\")","v":1},null,null,"Paul Hirst",null,219,0,null,0,34,392,34392,{"$error":"#N/A"}]
["D","219-01",{"$f":"C393","v":"Childcare inspection data"},"Childcare places and staff numbers",{"$f":"E393","v":"DfE/Ofsted"},{"$nulls":3},"Y",{"$f":"J393","v":"as required"},{"$f":"K393","v":"Upper tier & single tier"},null,null,"","",null,null,{"$f":"R393","v":"Y"},{"$nulls":28},{"$f":"IF($A394=\"C\",COUNTIF(C:C,C394)-1,\"\")","v":""},null,{"$f":"AW393","v":0},null,null,219,1,null,1,34,393,1034393,{"$error":"#N/A"}]
["C",{"$f":"TEXT(AZ395,\"000\")&\"-\"&TEXT(BA395,\"00\")","v":"149-00"},"Returns on individual HB related prosecutions and sanctions",null,"DWP",{"$nulls":4},"as required","Single tier & lower tier","Information on individual benefit fraud prosecutions and sanctions.","in the format defined by, DWP Fraud Investigation Service\nThis provides for a joined-up approach to benefit fraud sanctions and deterrence. ",{"$f":"IF(OR($A395<>\"C\",P395=\"\"),\"\",HYPERLINK(P395,\"Collection\"))","v":""},{"$f":"IF(OR($A395<>\"C\",Q395=\"\"),\"\",HYPERLINK(Q395,\"Data\"))","v":""},{"$nulls":5},"Y","Y","Y","Y","Y","Y",{"$nulls":17},"District council, Metropolitan district, Unitary authority, London borough, City of London, Isles of Scilly","case based",null,{"$f":"IF($A395=\"C\",COUNTIF(C$395:C$396,C395)-1,\"\")","v":1},null,null,"Barry Dennett",null,149,0,null,{"$f":"IF(A395=\"D\",1,0)","v":0},{"$f":"MATCH(E395,DeptAbbr,0)","v":15},{"$f":"ROW()-1","v":394},{"$f":"(BC395*1000000)+(BD395*1000)+BE395","v":15394},{"$f":"RANK(BF395,BF$395:BF$396,1)","v":1}]
["D","149-01",{"$f":"C395","v":"Returns on individual HB related prosecutions and sanctions"},"Information on successful/unsuccessful individual benefit fraud prosecutions and sanctions",{"$f":"E395","v":"DWP"},{"$nulls":4},{"$f":"J395","v":"as required"},{"$f":"K395","v":"Single tier & lower tier"},null,null,"","",null,null,{"$f":"R395","v":0},{"$nulls":28},{"$f":"IF($A396=\"C\",COUNTIF(C$395:C$396,C396)-1,\"\")","v":""},null,{"$f":"AW395","v":0},null,null,149,1,null,1,15,395,1015395,{"$f":"RANK(BF396,BF$395:BF$396,1)","v":2}]
["C","213-00","Public Contracts Regulations 2006 ",null,"DCLG",null,null,"Y","Y","annual","All local authorities","Statistics for contracts awarded above certain thresholds required under the Public Contracts Regulations 2006 ","The collection is a legal obligation, set out in the Procurement Directive 2004/18/EC (Article 75) and implemented in regulation 40 of the Public Contracts Regulations (and equivalents in the Utilities Directives / Regulations). The purpose, as explained in Article 75, is to allow the Commission to assess the effectiveness of the directive. But is goes wider than that, because the information is also required as part of our membership of the WTO Government Procurement Agreement (GPA). Member states returns are forwarded by the Commission to the GPA in Geneva for similar monitoring purposes that Brussels requires them","","",{"$nulls":4},"Y","Y","Y","Y","Y","Y","Y","Y",{"$nulls":4},"Y","Y",{"$nulls":6},"Y",{"$nulls":3},"County council, District council, Metropolitan district, Unitary authority, London borough, City of London, Isles of Scilly, Fire & rescue authority, Integrated transport authority, GLA, Combined authority","case based","Excel",{"$f":"IF($A397=\"C\",COUNTIF(C$397:C$399,C397)-1,\"\")","v":2},null,"Local government","John Flett",null,213,0,null,0,5,396,5396,{"$f":"RANK(BF397,BF$397:BF$399,1)","v":1}]
["D","213-01",{"$f":"C397","v":"Public Contracts Regulations 2006 "},"Statistics for contracts awarded above certain thresholds",{"$f":"E397","v":"DCLG"},null,null,"Y",null,{"$f":"J397","v":"annual"},{"$f":"K397","v":"All local authorities"},null,null,"","",null,null,{"$f":"R397","v":0},{"$nulls":28},{"$f":"IF($A398=\"C\",COUNTIF(C$397:C$399,C398)-1,\"\")","v":""},null,{"$f":"AW397","v":"Local government"},null,null,213,1,null,1,5,397,1005397,{"$f":"RANK(BF398,BF$397:BF$399,1)","v":2}]
["D","213-02",{"$f":"C398","v":"Public Contracts Regulations 2006 "},"compliance cost information in relation to the cost of collection of the returns (every three years)",{"$f":"E398","v":"DCLG"},null,null,"Y",null,{"$f":"J398","v":"annual"},{"$f":"K398","v":"All local authorities"},null,null,"","",null,null,{"$f":"R398","v":0},{"$nulls":28},{"$f":"IF($A399=\"C\",COUNTIF(C$397:C$399,C399)-1,\"\")","v":""},null,{"$f":"AW398","v":"Local government"},null,null,213,2,null,1,5,398,1005398,{"$f":"RANK(BF399,BF$397:BF$399,1)","v":3}]
["C","221-00","Social Care data",null,"DfE/Ofsted",{"$nulls":4},"as required","Upper tier & single tier","Pre-inspection data to inform the inspection of services for children in need of help and protection, looked after children and care leavers.","These data are important because: i) it enables case sampling and case tracking to be conducted in the first weeks of the inspection; and ii) it underpins the effective focus of the part of the inspection that looks at performance and quality.","","",null,null,"Y",null,"Y",null,"Y","Y","Y","Y","Y",{"$nulls":17},"County council, Metropolitan district, Unitary authority, London borough, City of London, Isles of Scilly","aggregate/summary",null,{"$f":"IF($A400=\"C\",COUNTIF(C$400:C$401,C400)-1,\"\")","v":1},null,null,"Paul Hirst  Paul.HIRST@education.gsi.gov.uk",null,221,0,null,0,34,399,34399,{"$f":"RANK(BF400,BF$400:BF$401,1)","v":1}]
["D","221-01",{"$f":"C400","v":"Social Care data"},"Data on those in need of help and protection, looked after children and care leavers.",{"$f":"E400","v":"DfE/Ofsted"},{"$nulls":4},{"$f":"J400","v":"as required"},{"$f":"K400","v":"Upper tier & single tier"},null,null,"","",null,null,{"$f":"R400","v":"Y"},{"$nulls":28},{"$f":"IF($A401=\"C\",COUNTIF(C$400:C$401,C401)-1,\"\")","v":""},null,{"$f":"AW400","v":0},null,null,221,1,null,1,34,400,1034400,{"$f":"RANK(BF401,BF$400:BF$401,1)","v":2}]
["C",{"$f":"TEXT(AZ402,\"000\")&\"-\"&TEXT(BA402,\"00\")","v":"078-00"},"Incidents under the Environmental Damage Regulations 2009 ",null,"DEFRA",null,null,"Y",null,"annual","All local authorities","Incidents applicable for reporting under the Environmental Damage Regulations 2009 during the preceding calendar year. ","Only actual incidences required, rather than nil returns, so reporting numbers and burden low.",{"$f":"IF(OR($A402<>\"C\",P402=\"\"),\"\",HYPERLINK(P402,\"Collection\"))","v":""},{"$f":"IF(OR($A402<>\"C\",Q402=\"\"),\"\",HYPERLINK(Q402,\"Data\"))","v":"Data"},null,"http://www.defra.gov.uk/environment/quality/environmental-liability/",null,null,"Y","Y","Y","Y","Y","Y","Y",{"$nulls":17},"County council, District council, Metropolitan district, Unitary authority, London borough, City of London, Isles of Scilly","case based",null,{"$f":"IF($A402=\"C\",COUNTIF(C$402:C$403,C402)-1,\"\")","v":1},null,"Environmental quality","Gordon Jones <Gordon.Jones@defra.gsi.gov.uk> & Alastair Paton Alastair.Paton@defra.gsi.gov.uk>",null,78,0,null,{"$f":"IF(A402=\"D\",1,0)","v":0},{"$f":"MATCH(E402,DeptAbbr,0)","v":8},{"$f":"ROW()-1","v":401},{"$f":"(BC402*1000000)+(BD402*1000)+BE402","v":8401},{"$f":"RANK(BF402,BF$402:BF$403,1)","v":1}]
["D","078-01",{"$f":"C402","v":"Incidents under the Environmental Damage Regulations 2009 "},"Incidents of environmental damage",{"$f":"E402","v":"DEFRA"},null,null,"Y",null,{"$f":"J402","v":"annual"},{"$f":"K402","v":"All local authorities"},null,null,"","",null,null,{"$f":"R402","v":0},{"$nulls":28},{"$f":"IF($A403=\"C\",COUNTIF(C$402:C$403,C403)-1,\"\")","v":""},null,{"$f":"AW402","v":"Environmental quality"},null,null,78,1,null,1,8,402,1008402,{"$f":"RANK(BF403,BF$402:BF$403,1)","v":2}]
["C","009-00","Local Authority activity under the homelessness provisions of the 1996 Housing Act (P1E)",null,"MHCLG",null,"Y",null,null,"quarterly","Single tier & lower tier","Statutory homelessness statistics, and additional information on homelessness prevention and relief activity.","The purpose of this return is to collect information on English local housing authorities' discharge of their duties under the homelessness legislation. Summary details are published by Communities and Local Government in the quarterly Statutory Homelessness Statistical Release, and annually in Housing Statistics. These and a variety of other analyses at national, regional and local authority level are also available on this website.","Collection","Data","https://www.gov.uk/homelessness-data-notes-and-definitions","https://www.gov.uk/government/publications/statutory-homelessness-in-england-october-to-december-2012",null,156,null,"Y","Y","Y","Y","Y","Y",{"$nulls":17},"District council, Metropolitan district, Unitary authority, London borough, City of London, Isles of Scilly","aggregate/summary",null,{"$f":"IF($A404=\"C\",COUNTIF(C:C,C404)-1,\"\")","v":6},null,"Housing","Danielle Ryan",null,9,0,null,0,22,403,22403,{"$f":"RANK(BF404,BF:BF,1)","v":{"$error":"#N/A"}}]
["D","009-01",{"$f":"C404","v":"Local Authority activity under the homelessness provisions of the 1996 Housing Act (P1E)"},"Decisions taken on applications (including acceptances), by outcome and ethnicity (P1E - Section 1)",{"$f":"E404","v":"MHCLG"},null,"Y",null,null,{"$f":"J404","v":"quarterly"},"Single tier & lower tier",null,null,"","",null,null,{"$f":"R404","v":0},{"$nulls":28},"",null,{"$f":"AW404","v":"Housing"},null,null,9,1,null,1,22,404,1022404,{"$error":"#N/A"}]
["D","009-02","Local Authority activity under the homelessness provisions of the 1996 Housing Act (P1E)","Acceptances by age band, household type, priority need, reason for loss of home, referral and immediate outcome (P1E - Sections 2 to 5)","MHCLG",null,"Y",null,null,"quarterly","Single tier & lower tier",null,null,"","",null,null,0,{"$nulls":28},"",null,"Housing",null,null,9,2,null,1,22,405,1022405,{"$error":"#N/A"}]
["D","009-03","Local Authority activity under the homelessness provisions of the 1996 Housing Act (P1E)","Temporary accommodation by type of housing (or voluntarily remaining in own home/making own arrangements), families with children, number of children, 16/17 year olds, B&B over six weeks, status of temporary accommodation and household type (P1E - section 6)","MHCLG",null,"Y",null,null,"quarterly","Single tier & lower tier",null,null,"","",null,null,0,{"$nulls":28},"",null,"Housing",null,null,9,3,null,1,22,406,1022406,{"$error":"#N/A"}]
["D","009-04","Local Authority activity under the homelessness provisions of the 1996 Housing Act (P1E)","Households for whom the main duty was ended, by duration and outcome (P1E - Section 7)","MHCLG",null,"Y",null,null,"quarterly","Single tier & lower tier",null,null,"","",null,null,0,{"$nulls":28},"",null,"Housing",null,null,9,4,null,1,22,407,1022407,{"$error":"#N/A"}]
["D","009-05","Local Authority activity under the homelessness provisions of the 1996 Housing Act (P1E)","Decisions and acceptances by nationality (P1E - Section 9)","MHCLG",null,"Y",null,null,"quarterly","Single tier & lower tier",null,null,"","",null,null,0,{"$nulls":28},"",null,"Housing",null,null,9,5,null,1,22,408,1022408,{"$error":"#N/A"}]
["D","009-06","Local Authority activity under the homelessness provisions of the 1996 Housing Act (P1E)","Homelessness prevention and relief - successful outcomes by the action taken, and unsuccessful outcomes (P1E - Section 10)","MHCLG",null,"N",null,null,"quarterly","Single tier & lower tier",null,null,"","",null,null,0,{"$nulls":28},"",null,"Housing",null,null,9,6,null,1,22,409,1022409,{"$error":"#N/A"}]
["C",{"$f":"TEXT(AZ411,\"000\")&\"-\"&TEXT(BA411,\"00\")","v":"264-00"},"Local Authority activity under the homelessness provisions of the 2017 Homelessness reduction Act and 1996 Housing Act",null,"MHCLG",null,"Y",null,null,"quarterly","Single tier & lower tier","Statutory homelessness statistics, and additional information on homelessness prevention and relief duties.","The purpose of this return is to collect information on English local housing authorities' discharge of their duties under the homelessness legislation. Summary details are published by Communities and Local Government in the quarterly Statutory Homelessness Statistical Release, and annually in Housing Statistics. These and a variety of other analyses at national, regional and local authority level are also available on this website.",{"$nulls":7},"Y","Y","Y","Y","Y","Y",{"$nulls":17},"District council, Metropolitan district, Unitary authority, London borough, City of London, Isles of Scilly","aggregate/summary",null,{"$f":"IF($A411=\"C\",COUNTIF(C$411:C$412,C411)-1,\"\")","v":1},null,"Housing","Danielle Ryan",null,264,0,null,{"$f":"IF(A411=\"D\",1,0)","v":0},{"$f":"MATCH(E411,DeptAbbr,0)","v":22},{"$f":"ROW()-1","v":410},{"$f":"(BC411*1000000)+(BD411*1000)+BE411","v":22410},{"$f":"RANK(BF411,BF$411:BF$412,1)","v":1}]
["D","264-01",{"$f":"C411","v":"Local Authority activity under the homelessness provisions of the 2017 Homelessness reduction Act and 1996 Housing Act"},"Decisions taken on applications (including acceptances), by outcome and demographics of the household and people of the household. Includes the support needs of the household and any activities undertaken by the local authority under a prevention, relief or main duty as applicable.",{"$f":"E411","v":"MHCLG"},null,"Y",null,null,{"$f":"J411","v":"quarterly"},{"$f":"K411","v":"Single tier & lower tier"},null,null,{"$f":"IF(OR($A412<>\"C\",P412=\"\"),\"\",HYPERLINK(P412,\"Collection\"))","v":""},{"$f":"IF(OR($A412<>\"C\",Q412=\"\"),\"\",HYPERLINK(Q412,\"Data\"))","v":""},null,null,{"$f":"R411","v":0},{"$nulls":28},{"$f":"IF($A412=\"C\",COUNTIF(C$411:C$412,C412)-1,\"\")","v":""},null,{"$f":"AW411","v":"Housing"},null,null,264,1,null,1,22,411,1022411,{"$f":"RANK(BF412,BF$411:BF$412,1)","v":2}]
["C","259-00","Child-level data on the reason a two-year-old is being funded for an early education place",null,"DfE",null,"Y",null,"Y","annual","Upper tier & single tier","The criteria under which an eligible child receives the funding","Collected via the Early Years Census for two year-olds in private, voluntary and independent provision.  Separate collection for children in maintained schools, agreed as being less burdensome to the front-line partners supplying the data.","Collection","","https://www.gov.uk/government/collections/early-years-census",null,0,null,"Y",null,"Y","Y","Y","Y","Y",{"$nulls":17},"County council, Metropolitan district, Unitary authority, London borough, City of London, Isles of Scilly",null,null,{"$f":"IF($A413=\"C\",COUNTIF(C$413:C$414,C413)-1,\"\")","v":1},null,null,"Paul Hirst  Paul.HIRST@education.gsi.gov.uk",null,259,0,null,0,9,412,9412,{"$f":"RANK(BF413,BF$413:BF$414,1)","v":1}]
["D","259-01",{"$f":"C413","v":"Child-level data on the reason a two-year-old is being funded for an early education place"},"Children receiving free early education because they meet one (or more) of a set of statutory criteria",{"$f":"E413","v":"DfE"},null,"Y",null,"Y","annual",{"$f":"K413","v":"Upper tier & single tier"},null,null,{"$f":"IF(OR($A414<>\"C\",P414=\"\"),\"\",HYPERLINK(P414,\"Collection\"))","v":""},"",{"$nulls":33},{"$f":"AW413","v":0},null,null,259,1,null,1,9,413,1009413,{"$f":"RANK(BF414,BF$413:BF$414,1)","v":2}]
["C","155-00","Health & Safety Prosecutions database",null,"DWP/HSE",null,"Y",null,null,"continuous","All local authorities","Brief details of each prosecution taken by LAs under the Health and Safety etc Work Act 1974 and associated health and safety regulations ","Method of collection under review - aim is to use upgraded software to simplify collection and allow all LAs read access to the prosecutions listed on an ongoing basis.  Currently iformation is collated annually and report made available","","Data",null,"http://www.hse.gov.uk/statistics/enforce/index.htm","Y",null,"Y","Y","Y","Y","Y","Y","Y","Y",{"$nulls":16},"County council, District council, Metropolitan district, Unitary authority, London borough, City of London, Isles of Scilly, Fire & rescue authority","case based",null,{"$f":"IF($A415=\"C\",COUNTIF(C$415:C$418,C415)-1,\"\")","v":3},null,null,"Alexander.Tsavalos@hse.gov.uk",null,155,0,null,0,42,414,42414,{"$f":"RANK(BF415,BF$415:BF$418,1)","v":1}]
["D","155-01",{"$f":"C415","v":"Health & Safety Prosecutions database"},"Information about the defendant and the case",{"$f":"E415","v":"DWP/HSE"},null,"Y",null,null,{"$f":"J415","v":"continuous"},"All local authorities",null,null,"","",null,null,{"$f":"R415","v":"Y"},{"$nulls":28},{"$f":"IF($A416=\"C\",COUNTIF(C$415:C$418,C416)-1,\"\")","v":""},null,{"$f":"AW415","v":0},null,null,155,1,null,1,42,415,1042415,{"$f":"RANK(BF416,BF$415:BF$418,1)","v":2}]
["D","155-02",{"$f":"C416","v":"Health & Safety Prosecutions database"},"Location of offence",{"$f":"E416","v":"DWP/HSE"},null,"Y",null,null,"continuous","All local authorities",null,null,"","",null,null,{"$f":"R416","v":"Y"},{"$nulls":28},{"$f":"IF($A417=\"C\",COUNTIF(C$415:C$418,C417)-1,\"\")","v":""},null,{"$f":"AW416","v":0},null,null,155,2,null,1,42,416,1042416,{"$f":"RANK(BF417,BF$415:BF$418,1)","v":3}]
["D","155-03",{"$f":"C417","v":"Health & Safety Prosecutions database"},"Hearing details, including offences, pleas, outcomes, fines and costs awarded",{"$f":"E417","v":"DWP/HSE"},null,"Y",null,null,"continuous","All local authorities",null,null,"","",null,null,{"$f":"R417","v":"Y"},{"$nulls":28},{"$f":"IF($A418=\"C\",COUNTIF(C$415:C$418,C418)-1,\"\")","v":""},null,{"$f":"AW417","v":0},null,null,155,3,null,1,42,417,1042417,{"$f":"RANK(BF418,BF$415:BF$418,1)","v":4}]
["C",{"$f":"TEXT(AZ419,\"000\")&\"-\"&TEXT(BA419,\"00\")","v":"067-00"},"Emissions from local authority own estate and operations ",null,"BEIS",null,"N",null,null,"annual","All local authorities","Calculation of CO2 emissions from analysis of the energy and fuel use in local authority buildings and transport.",null,"",{"$f":"IF(OR($A419<>\"C\",Q419=\"\"),\"\",HYPERLINK(Q419,\"Data\"))","v":""},{"$nulls":3},185,"Y","Y","Y","Y","Y","Y","Y",{"$nulls":16},"Although not mandatory, BEIS recommends that other authorities publish their emissions from their own estate locally.","County council, District council, Metropolitan district, Unitary authority, London borough, City of London, Isles of Scilly","aggregate/summary","Excel",{"$f":"IF($A419=\"C\",COUNTIF(C$419:C$420,C419)-1,\"\")","v":1},null,"Climate change","Fitzpatrick, John (BEIS) <John.Fitzpatrick@beis.gov.uk>",null,67,0,null,{"$f":"IF(A419=\"D\",1,0)","v":0},{"$f":"MATCH(E419,DeptAbbr,0)","v":2},{"$f":"ROW()-1","v":418},{"$f":"(BC419*1000000)+(BD419*1000)+BE419","v":2418},{"$f":"RANK(BF419,BF$419:BF$420,1)","v":1}]
["D","067-01",{"$f":"C419","v":"Emissions from local authority own estate and operations "},"Energy use of local authority buildings and operations",{"$f":"E419","v":"BEIS"},null,"N",null,null,{"$f":"J419","v":"annual"},{"$f":"K419","v":"All local authorities"},null,null,"","",null,null,{"$f":"R419","v":0},{"$nulls":28},{"$f":"IF($A420=\"C\",COUNTIF(C$419:C$420,C420)-1,\"\")","v":""},null,{"$f":"AW419","v":"Climate change"},null,null,67,1,null,1,2,419,1002419,{"$f":"RANK(BF420,BF$419:BF$420,1)","v":2}]
["C","200-00","Newly Qualified Teachers - Induction Returns",null,"DfE/TRA",{"$nulls":3},"Y","termly (3/year)","Upper tier & single tier","Start dates and results relating to newly qualified teachers undertaking induction.",null,"Collection","Data","https://www.gov.uk/government/collections/newly-qualified-teachers-annual-survey","www.gov.uk/government/publications/newly-qualified-teachers-annual-survey-2014","Y",null,"Y",null,"Y","Y","Y","Y","Y",{"$nulls":17},"County council, Metropolitan district, Unitary authority, London borough, City of London, Isles of Scilly","aggregate/summary",null,{"$f":"IF($A421=\"C\",COUNTIF(C$421:C$422,C421)-1,\"\")","v":1},null,null,"Paul Hirst  Paul.HIRST@education.gov.uk",null,200,0,null,0,33,420,33420,{"$f":"RANK(BF421,BF$421:BF$422,1)","v":1}]
["D","200-01",{"$f":"C421","v":"Newly Qualified Teachers - Induction Returns"},"Information on teachers new to the profession",{"$f":"E421","v":"DfE/TRA"},{"$nulls":3},"Y",{"$f":"J421","v":"termly (3/year)"},{"$f":"K421","v":"Upper tier & single tier"},null,null,{"$f":"IF(OR($A422<>\"C\",P422=\"\"),\"\",HYPERLINK(P422,\"Collection\"))","v":""},"",null,null,{"$f":"R421","v":"Y"},{"$nulls":28},{"$f":"IF($A422=\"C\",COUNTIF(C$421:C$422,C422)-1,\"\")","v":""},null,{"$f":"AW421","v":0},null,null,200,1,null,1,33,421,1033421,{"$f":"RANK(BF422,BF$421:BF$422,1)","v":2}]
["C","192-00","Imported Food (LAEMS)",null,"FSA",null,null,"Y",null,"annual","Single tier & lower tier","Information related to imported food safety, including consignments entering the UK and checked, reasons for rejected consignments, sampling information and enforcement actions.","POAO - Products of animal origin; PNOAO - Products not of animal origin\nData topics 191-01 to 191-06 are the responsibility of port health authorities only.","","",null,null,"Y",null,"Y","Y","Y","Y","Y","Y","Y",{"$nulls":16},"Plus Port Health Authorities","County council, District council, Metropolitan district, Unitary authority, London borough, City of London, Isles of Scilly, Port health authorities","aggregate/summary","excel",{"$f":"IF($A423=\"C\",COUNTIF(C$423:C$441,C423)-1,\"\")","v":18},null,null,"Asif.Chowdhury@food.gov.uk",null,192,0,null,0,49,422,49422,{"$f":"RANK(BF423,BF$423:BF$441,1)","v":1}]
["D","192-01",{"$f":"C423","v":"Imported Food (LAEMS)"},"Number of Food Consignments Entering the Port (POAO/ PNOAO) ","FSA",null,null,"Y",null,"annual","Single tier & lower tier",null,null,"","",null,null,"Y",{"$nulls":28},"",null,0,null,null,192,1,null,1,49,423,1049423,2]
["D","192-02","Imported Food (LAEMS)","Percentage of Manifests Checked (POAO/ PNOAO) ","FSA",null,null,"Y",null,"annual","Single tier & lower tier",null,null,"","",null,null,"Y",{"$nulls":28},"",null,0,null,null,192,2,null,1,49,424,1049424,3]
["D","192-03","Imported Food (LAEMS)","Number of Food Consignments Checked at Port, by type of check (POAO/ PNOAO)","FSA",null,null,"Y",null,"annual","Single tier & lower tier",null,null,"","",null,null,"Y",{"$nulls":28},"",null,0,null,null,192,3,null,1,49,425,1049425,4]
["D","192-04","Imported Food (LAEMS)","Number of Food Consignments Checked at ERTS , by type of check (POAO/ PNOAO)","FSA",null,null,"Y",null,"annual","Single tier & lower tier",null,null,"","",null,null,"Y",{"$nulls":28},"",null,0,null,null,192,4,null,1,49,426,1049426,5]
["D","192-05","Imported Food (LAEMS)","Number of Food Consignments Rejected - POAO ","FSA",null,null,"Y",null,"annual","Single tier & lower tier",null,null,"","",null,null,"Y",{"$nulls":28},"",null,0,null,null,192,5,null,1,49,427,1049427,6]
["D","192-06","Imported Food (LAEMS)","Number rejected, by reason for rejection","FSA",null,null,"Y",null,"annual","Single tier & lower tier",null,null,"","",null,null,"Y",{"$nulls":28},"",null,0,null,null,192,6,null,1,49,428,1049428,7]
["D","192-07","Imported Food (LAEMS)","Number of rejected consignments, by treatment of consignment ","FSA",null,null,"Y",null,"annual","Single tier & lower tier",null,null,"","",null,null,"Y",{"$nulls":28},"",null,0,null,null,192,7,null,1,49,429,1049429,8]
["D","192-08","Imported Food (LAEMS)","Number of Imported Food Samples Taken for Microbiological Examination (POAO/ PNOAO)","FSA",null,null,"Y",null,"annual","Single tier & lower tier",null,null,"","",null,null,"Y",{"$nulls":28},"",null,0,null,null,192,8,null,1,49,430,1049430,9]
["D","192-09","Imported Food (LAEMS)","Number of Samples Recorded in (8) Found to be Unsatisfactory (POAO/ PNOAO)","FSA",null,null,"Y",null,"annual","Single tier & lower tier",null,null,"","",null,null,"Y",{"$nulls":28},"",null,0,null,null,192,9,null,1,49,431,1049431,10]
["D","192-10","Imported Food (LAEMS)","Number of Samples Taken for Chemical / Compositional Analysis (POAO/ PNOAO)","FSA",null,null,"Y",null,"annual","Single tier & lower tier",null,null,"","",null,null,"Y",{"$nulls":28},"",null,0,null,null,192,10,null,1,49,432,1049432,11]
["D","192-11","Imported Food (LAEMS)","Number of Samples Recorded in (9) Found to be Unsatisfactory (POAO/ PNOAO)","FSA",null,null,"Y",null,"annual","Single tier & lower tier",null,null,"","",null,null,"Y",{"$nulls":28},"",null,0,null,null,192,11,null,1,49,433,1049433,12]
["D","192-12","Imported Food (LAEMS)","Other Samples Taken (POAO/ PNOAO)","FSA",null,null,"Y",null,"annual","Single tier & lower tier",null,null,"","",null,null,"Y",{"$nulls":28},"",null,0,null,null,192,12,null,1,49,434,1049434,13]
["D","192-13","Imported Food (LAEMS)","Number of Samples Recorded in (10) Found to be Unsatisfactory (POAO/ PNOAO)","FSA",null,null,"Y",null,"annual","Single tier & lower tier",null,null,"","",null,null,"Y",{"$nulls":28},"",null,0,null,null,192,13,null,1,49,435,1049435,14]
["D","192-14","Imported Food (LAEMS)","Number of Notices, by regulation","FSA",null,null,"Y",null,"annual","Single tier & lower tier",null,null,"","",null,null,"Y",{"$nulls":28},"",null,0,null,null,192,14,null,1,49,436,1049436,15]
["D","192-15","Imported Food (LAEMS)","Number of Seizures (POAO/ PNOAO)","FSA",null,null,"Y",null,"annual","Single tier & lower tier",null,null,"","",null,null,"Y",{"$nulls":28},"",null,0,null,null,192,15,null,1,49,437,1049437,16]
["D","192-16","Imported Food (LAEMS)","Number of Voluntary Surrenders (POAO/ PNOAO)","FSA",null,null,"Y",null,"annual","Single tier & lower tier",null,null,"","",null,null,"Y",{"$nulls":28},"",null,0,null,null,192,16,null,1,49,438,1049438,17]
["D","192-17","Imported Food (LAEMS)","Number of Simple Cautions (POAO/ PNOAO)","FSA",null,null,"Y",null,"annual","Single tier & lower tier",null,null,"","",null,null,"Y",{"$nulls":28},"",null,0,null,null,192,17,null,1,49,439,1049439,18]
["D","192-18","Imported Food (LAEMS)","Number of Prosecutions (POAO/ PNOAO)","FSA",null,null,"Y",null,"annual","Single tier & lower tier",null,null,"","",null,null,"Y",{"$nulls":28},"",null,0,null,null,192,18,null,1,49,440,1049440,19]
[]
[null,null,"Individual data topics which have been removed (paste here as values)"]
["D","127-06","Blue Badge Parking Survey","Number of On-street Parking Bays","DfT",null,"Y",null,null,"annual","Single tier & lower tier",null,null,"","",null,null,0,{"$nulls":28},"",null,0,null,null,127,6,null,1,14,489,1314489,428]
["D","068-01","Imports of products of animal origin from third countries","Number checked","DEFRA",null,null,"Y",null,"monthly","Other",null,null,"","",null,null,0,{"$nulls":28},"",null,"Animal health/welfare",null,null,68,1,null,1,10,40,1410040,{"$error":"#N/A"}]
["D","068-03","Imports of products of animal origin from third countries","Number of consignments rejected","DEFRA",null,null,"Y",null,"monthly","Other",null,null,"","",null,null,0,{"$nulls":28},"",null,"Animal health/welfare",null,null,68,3,null,1,10,303,1410303,465]
["D","061-06","Fire and rescue service non-financial annual returns","Promotions","DCLG",null,"N",null,null,"annual","Fire & rescue authorities",null,null,"","",null,null,0,{"$nulls":28},"",null,"Fire",null,null,61,6,null,1,4,243,1004243,335]
["D","061-07","Fire and rescue service non-financial annual returns","Training","DCLG",null,"N",null,null,"annual","Fire & rescue authorities",null,null,"","",null,null,0,{"$nulls":28},"",null,"Fire",null,null,61,7,null,1,4,244,1004244,336]
["D","061-08","Fire and rescue service non-financial annual returns","Emergency call numbers","DCLG",null,"N",null,null,"annual","Fire & rescue authorities",null,null,"","",null,null,0,{"$nulls":28},"",null,"Fire",null,null,61,8,null,1,4,245,1004245,337]
["D","007-02","Mortgage Rescue Scheme return","Households applying for Mortgage Rescue Scheme via LA or fast-track referral, by status of application; and numbers accepted","DCLG/HCA",{"$nulls":4},"quarterly","Single tier & lower tier",null,null,"","",null,null,0,{"$nulls":28},"",null,"Housing",null,null,7,2,null,1,25,30,1025030,575]
["D","024-01","Annual Monitoring Reports: Core output indicators","Plan period and housing targets (AMR - H1)","DCLG",null,"N",null,null,"annual","Single tier & lower tier",null,null,"","",null,null,0,{"$nulls":28},"",null,"Planning",null,null,24,1,null,1,4,101,1004101,223]
["D","024-02","Annual Monitoring Reports: Core output indicators","Net additional dwellings - in previous years (AMR - H2(a))","DCLG",null,"N",null,null,"annual","Single tier & lower tier",null,null,"","",null,null,0,{"$nulls":28},"",null,"Planning",null,null,24,2,null,1,4,102,1004102,224]
["D","024-03","Annual Monitoring Reports: Core output indicators","Net additional dwellings - for the reporting year (AMR - H2(b))","DCLG",null,"N",null,null,"annual","Single tier & lower tier",null,null,"","",null,null,0,{"$nulls":28},"",null,"Planning",null,null,24,3,null,1,4,103,1004103,225]
["D","024-04","Annual Monitoring Reports: Core output indicators","Net additional dwellings - in future years including the '5 year land supply' \n(AMR - H2(c))","DCLG",null,"N",null,null,"annual","Single tier & lower tier",null,null,"","",null,null,0,{"$nulls":28},"",null,"Planning",null,null,24,4,null,1,4,104,1004104,226]
["D","024-05","Annual Monitoring Reports: Core output indicators","Managed delivery target (AMR - H2 (d))","DCLG",null,"N",null,null,"annual","Single tier & lower tier",null,null,"","",null,null,0,{"$nulls":28},"",null,"Planning",null,null,24,5,null,1,4,105,1004105,227]
["D","024-06","Annual Monitoring Reports: Core output indicators","New and converted dwellings - on previously developed land (AMR - H3)","DCLG",null,"N",null,null,"annual","Single tier & lower tier",null,null,"","",null,null,0,{"$nulls":28},"",null,"Planning",null,null,24,6,null,1,4,106,1004106,228]
["D","024-07","Annual Monitoring Reports: Core output indicators","Net additional pitches (Gypsy and Traveller) (AMR - H4)","DCLG",null,"N",null,null,"annual","Single tier & lower tier",null,null,"","",null,null,0,{"$nulls":28},"",null,"Planning",null,null,24,7,null,1,4,107,1004107,229]
["D","024-08","Annual Monitoring Reports: Core output indicators","Gross affordable housing completions (AMR - H5)","DCLG",null,"N",null,null,"annual","Single tier & lower tier",null,null,"","",null,null,0,{"$nulls":28},"",null,"Planning",null,null,24,8,null,1,4,108,1004108,230]
["D","024-09","Annual Monitoring Reports: Core output indicators","Housing Quality - Building for Life Assessments (AMR - H6)","DCLG",null,"N",null,null,"annual","Single tier & lower tier",null,null,"","",null,null,0,{"$nulls":28},"",null,"Planning",null,null,24,9,null,1,4,109,1004109,231]
["D","024-10","Annual Monitoring Reports: Core output indicators","Number of planning permissions granted contrary to Environment Agency advice on flooding and water quality grounds (AMR - E1)","DCLG",null,"N",null,null,"annual","Single tier & lower tier",null,null,"","",null,null,0,{"$nulls":28},"",null,"Planning",null,null,24,10,null,1,4,110,1004110,232]
["D","024-11","Annual Monitoring Reports: Core output indicators","Change in areas of biodiversity importance (AMR - E2)","DCLG",null,"N",null,null,"annual","Single tier & lower tier",null,null,"","",null,null,0,{"$nulls":28},"",null,"Planning",null,null,24,11,null,1,4,111,1004111,233]
["D","024-12","Annual Monitoring Reports: Core output indicators","Renewable energy generation (AMR - E3)","DCLG",null,"N",null,null,"annual","Single tier & lower tier",null,null,"","",null,null,0,{"$nulls":28},"",null,"Planning",null,null,24,12,null,1,4,112,1004112,234]
["D","024-13","Annual Monitoring Reports: Core output indicators","Production of primary land won aggregates by mineral planning authority (AMR - M1)","DCLG",null,"N",null,null,"annual","Single tier & lower tier",null,null,"","",null,null,0,{"$nulls":28},"",null,"Planning",null,null,24,13,null,1,4,113,1004113,235]
["D","024-14","Annual Monitoring Reports: Core output indicators","Production of secondary and recycled aggregates by mineral planning authority (AMR - M2)","DCLG",null,"N",null,null,"annual","Single tier & lower tier",null,null,"","",null,null,0,{"$nulls":28},"",null,"Planning",null,null,24,14,null,1,4,114,1004114,236]
["D","024-15","Annual Monitoring Reports: Core output indicators","Capacity of new waste management facilities by waste planning authority (AMR - W1)","DCLG",null,"N",null,null,"annual","Single tier & lower tier",null,null,"","",null,null,0,{"$nulls":28},"",null,"Planning",null,null,24,15,null,1,4,115,1004115,237]
["D","024-16","Annual Monitoring Reports: Core output indicators","Amount of municipal waste arising, and managed by management type by waste planning authority (AMR - W2)","DCLG",null,"N",null,null,"annual","Single tier & lower tier",null,null,"","",null,null,0,{"$nulls":28},"",null,"Planning",null,null,24,16,null,1,4,116,1004116,238]
["D","024-17","Annual Monitoring Reports: Core output indicators","Total amount and type of completed employment floorspace gross and net (AMR - BD1)","DCLG",null,"N",null,null,"annual","Single tier & lower tier",null,null,"","",null,null,0,{"$nulls":28},"",null,"Planning",null,null,24,17,null,1,4,117,1004117,239]
["D","024-18","Annual Monitoring Reports: Core output indicators","Total amount of employment floorspace on previously developed land - by type (AMR - BD2)","DCLG",null,"N",null,null,"annual","Single tier & lower tier",null,null,"","",null,null,0,{"$nulls":28},"",null,"Planning",null,null,24,18,null,1,4,118,1004118,240]
["D","024-19","Annual Monitoring Reports: Core output indicators","Employment land available - by type (AMR - BD3)","DCLG",null,"N",null,null,"annual","Single tier & lower tier",null,null,"","",null,null,0,{"$nulls":28},"",null,"Planning",null,null,24,19,null,1,4,119,1004119,241]
["D","024-20","Annual Monitoring Reports: Core output indicators","Amount of floorspace for 'town centre uses' (A1, A2, B1a, and D2.) within and outside town centres (AMR - BD4)","DCLG",null,"N",null,null,"annual","Single tier & lower tier",null,null,"","",null,null,0,{"$nulls":28},"",null,"Planning",null,null,24,20,null,1,4,120,1004120,242]
["D","082-02","WasteDataFlow - LA waste management statistics.","Tonnage of waste sent for recycling, composting and reuse split by material type","DEFRA",null,"Y","Y",null,"quarterly","All local authorities",null,null,"","",null,null,0,{"$nulls":28},"",null,"Waste",null,null,82,2,null,1,7,286,1007286,344]
["D","082-03","WasteDataFlow - LA waste management statistics.","The method of disposal and tonnage of waste (e.g. landfill, incineration etc)","DEFRA",null,"Y","Y",null,"quarterly","All local authorities",null,null,"","",null,null,0,{"$nulls":28},"",null,"Waste",null,null,82,3,null,1,7,287,1007287,345]
["D","080-02","Flood and coastal erosion risk management and sustainable drainage systems","Number of developments in flood risk areas against Environment Agency advice (number of units)","DEFRA",{"$nulls":3},"Y","annual","Upper tier & single tier","[Split-off to create 243-01]",null,"","",null,null,0,{"$nulls":28},"",null,"Flooding",null,null,80,2,null,1,7,276,1007276,337]
["D","251-02","Highway inventory data","Local authority winter service salt stock holdings","DfT",{"$nulls":4},"as required","Upper tier & single tier","Now collection ref 251-01",null,"","",null,null,0,{"$nulls":28},"",null,0,null,null,251,1,null,1,10,518,1010518,520]
["D",{"$f":"TEXT(AZ475,\"000\")&\"-\"&TEXT(BA475,\"00\")","v":"134-06"},{"$f":"Removed!C483","v":"Referrals, Assessments and Packages of Care (RAP)"},"Length of time from completed assessment to receipt of all services for new clients for whom all services were put in place during the period, in time bands, by age group; (RAP - A8)",{"$f":"Removed!E483","v":"DH/HSCIC"},null,"Y",null,null,{"$f":"Removed!J483","v":"annual"},{"$f":"Removed!K483","v":"Upper tier & single tier"},null,"Following a in year review of the collection the decision was taken to stop collecting the data captured on Table A8",{"$f":"IF(OR($A475<>\"C\",P475=\"\"),\"\",HYPERLINK(P475,\"Collection\"))","v":""},{"$f":"IF(OR($A475<>\"C\",Q475=\"\"),\"\",HYPERLINK(Q475,\"Data\"))","v":""},null,null,{"$f":"Removed!R483","v":"Y"},{"$nulls":28},{"$f":"IF($A475=\"C\",COUNTIF(C$475:C$475,C475)-1,\"\")","v":""},null,{"$f":"Removed!AW483","v":0},null,null,134,6,null,{"$f":"IF(A475=\"D\",1,0)","v":1},{"$f":"MATCH(E475,DeptAbbr,0)","v":{"$error":"#N/A"}},{"$f":"ROW()-1","v":474},{"$f":"(BC475*1000000)+(BD475*1000)+BE475","v":{"$error":"#N/A"}},{"$f":"RANK(BF475,BF$475:BF$475,1)","v":{"$error":"#N/A"}}]
["D","136-04",{"$f":"Removed!C320","v":"Adult Social Care Combined Activity Return (ASC-CAR)"},"Number of transfers from LA supported temporary to permanent residential care, nursing care and adult placements during 1 April to 31 March (excluding admissions to group homes), by type of residence and age group (ASC-CAR S4)",{"$f":"Removed!E320","v":"DH/HSCIC"},null,"Y",null,null,{"$f":"Removed!J320","v":"annual"},{"$f":"Removed!K320","v":"Upper tier & single tier"},null,null,"","",null,null,{"$f":"Removed!R320","v":"Y"},{"$nulls":28},{"$f":"IF($A476=\"C\",COUNTIF(C$476:C$476,C476)-1,\"\")","v":""},null,{"$f":"Removed!AW320","v":0},null,null,136,4,null,1,{"$error":"#N/A"},475,{"$error":"#N/A"},{"$f":"RANK(BF476,BF$476:BF$476,1)","v":{"$error":"#N/A"}}]
["D","042-01",{"$f":"DetailList!C84","v":"Council Tax Requirement (CTR1/CTR2/CTR3/CTR4)"},"Budget requirement",{"$f":"DetailList!E84","v":"DLUHC"},null,"N",null,"Y",{"$f":"DetailList!J84","v":"annual"},{"$f":"DetailList!K84","v":"All local authorities, fire, police & GLA"},null,null,"","",null,null,{"$f":"DetailList!R84","v":0},{"$nulls":28},{"$f":"IF($A477=\"C\",COUNTIF(C$477:C$477,C477)-1,\"\")","v":""},null,{"$f":"DetailList!AW84","v":"Local government"},null,null,42,1,null,1,14,476,1014476,{"$f":"RANK(BF477,BF$477:BF$477,1)","v":1}]
["D","122-03",{"$f":"DetailList!C355","v":"Local bus punctuality"},"Punctuality of light rail services (to be confirmed)",{"$f":"DetailList!E355","v":"DfT"},"Y","N",null,null,{"$f":"DetailList!J355","v":"annual"},{"$f":"DetailList!K355","v":"Upper tier & single tier"},null,null,"","",null,null,{"$f":"DetailList!R355","v":0},{"$nulls":28},{"$f":"IF($A478=\"C\",COUNTIF(C$478:C$478,C478)-1,\"\")","v":""},null,{"$f":"DetailList!AW355","v":0},null,null,122,3,null,1,11,477,1011477,{"$f":"RANK(BF478,BF$478:BF$478,1)","v":1}]
["D","127-02",{"$f":"Removed!C497","v":"Blue Badge Parking Survey"},"Number of Applications and Assessments",{"$f":"Removed!E497","v":"DfT"},null,"Y",null,null,{"$f":"Removed!J497","v":"annual"},{"$f":"Removed!K497","v":"Upper tier & single tier"},null,null,"","",null,null,{"$f":"Removed!R497","v":0},{"$nulls":28},{"$f":"IF($A479=\"C\",COUNTIF(C$479:C$480,C479)-1,\"\")","v":""},null,{"$f":"Removed!AW497","v":0},null,null,127,2,null,1,11,478,1011478,{"$f":"RANK(BF479,BF$479:BF$480,1)","v":1}]
["D","127-03",{"$f":"C479","v":"Blue Badge Parking Survey"},"Number of Badges Withdrawn",{"$f":"E479","v":"DfT"},null,"Y",null,null,{"$f":"J479","v":"annual"},{"$f":"K479","v":"Upper tier & single tier"},null,null,"","",null,null,{"$f":"R479","v":0},{"$nulls":28},{"$f":"IF($A480=\"C\",COUNTIF(C$479:C$480,C480)-1,\"\")","v":""},null,{"$f":"AW479","v":0},null,null,127,3,null,1,11,479,1011479,{"$f":"RANK(BF480,BF$479:BF$480,1)","v":2}]
["D","127-05",{"$f":"DetailList!C365","v":"Blue Badge Parking Survey"},"Number of Badges Lost or Stolen",{"$f":"DetailList!E365","v":"DfT"},null,"Y",null,null,{"$f":"DetailList!J365","v":"as required"},{"$f":"DetailList!K365","v":"Upper tier & single tier"},null,null,"","",null,null,{"$f":"DetailList!R365","v":0},{"$nulls":28},{"$f":"IF($A481=\"C\",COUNTIF(C$481:C$481,C481)-1,\"\")","v":""},null,{"$f":"DetailList!AW365","v":0},null,null,127,5,null,1,11,480,1011480,{"$f":"RANK(BF481,BF$481:BF$481,1)","v":1}]
["D",{"$f":"TEXT(AZ482,\"000\")&\"-\"&TEXT(BA482,\"00\")","v":"136-05"},{"$f":"Removed!C320","v":"Adult Social Care Combined Activity Return (ASC-CAR)"},"Number of LA supported permanent residents transferring between residential and nursing care during 1 April to 31 March (excluding admissions to group homes), by age group (ASC-CAR S5)",{"$f":"Removed!E320","v":"DH/HSCIC"},null,"Y",null,null,{"$f":"Removed!J320","v":"annual"},{"$f":"Removed!K320","v":"Upper tier & single tier"},null,null,{"$f":"IF(OR($A482<>\"C\",P482=\"\"),\"\",HYPERLINK(P482,\"Collection\"))","v":""},{"$f":"IF(OR($A482<>\"C\",Q482=\"\"),\"\",HYPERLINK(Q482,\"Data\"))","v":""},null,null,{"$f":"Removed!R320","v":"Y"},{"$nulls":28},{"$f":"IF($A482=\"C\",COUNTIF(C$482:C$482,C482)-1,\"\")","v":""},null,{"$f":"[4]Removed!AX235","v":0},null,null,136,5,null,1,{"$error":"#N/A"},{"$f":"ROW()-1","v":481},{"$f":"(BC482*1000000)+(BD482*1000)+BE482","v":{"$error":"#N/A"}},{"$f":"RANK(BF482,BF$482:BF$482,1)","v":{"$error":"#N/A"}}]
["D",{"$f":"TEXT(AZ483,\"000\")&\"-\"&TEXT(BA483,\"00\")","v":"134-05"},{"$f":"Removed!C304","v":"Referrals, Assessments and Packages of Care (RAP)"},"Length of time from first contact to completed assessment for new clients for whom an assessment was completed during the period, in time bands, by age group, primary client type, and referral category;  (RAP - A7)",{"$f":"Removed!E304","v":"DH/HSCIC"},null,"Y",null,null,{"$f":"Removed!J304","v":"annual"},{"$f":"Removed!K304","v":"Upper tier & single tier"},null,null,"","",null,null,{"$f":"Removed!R304","v":"Y"},{"$nulls":28},{"$f":"IF($A483=\"C\",COUNTIF(C$483:C$483,C483)-1,\"\")","v":""},null,{"$f":"Removed!AW304","v":0},null,null,134,5,null,1,{"$error":"#N/A"},{"$f":"ROW()-1","v":482},{"$f":"(BC483*1000000)+(BD483*1000)+BE483","v":{"$error":"#N/A"}},{"$f":"RANK(BF483,BF$483:BF$483,1)","v":{"$error":"#N/A"}}]
["D",{"$f":"TEXT(AZ484,\"000\")&\"-\"&TEXT(BA484,\"00\")","v":"134-07"},{"$f":"Removed!C483","v":"Referrals, Assessments and Packages of Care (RAP)"},"Number of self-funded clients with completed assessments or reviews, provided at the expense of the CASSR during the period, by age group and primary client type  (RAP - A10)",{"$f":"Removed!E483","v":"DH/HSCIC"},null,"Y",null,null,{"$f":"Removed!J483","v":"annual"},{"$f":"Removed!K483","v":"Upper tier & single tier"},null,null,"","",null,null,{"$f":"Removed!R483","v":"Y"},{"$nulls":28},{"$f":"IF($A484=\"C\",COUNTIF(C$484:C$484,C484)-1,\"\")","v":""},null,{"$f":"[4]Removed!AX234","v":0},null,null,134,7,null,1,{"$error":"#N/A"},{"$f":"ROW()-1","v":483},{"$f":"(BC484*1000000)+(BD484*1000)+BE484","v":{"$error":"#N/A"}},{"$f":"RANK(BF484,BF$484:BF$484,1)","v":{"$error":"#N/A"}}]
["D",{"$f":"TEXT(AZ485,\"000\")&\"-\"&TEXT(BA485,\"00\")","v":"146-07"},{"$f":"DetailList!C446","v":"Single Housing Benefit Extract (SHBE)"},"Council Tax information, e.g. band ",{"$f":"DetailList!E446","v":"DWP"},{"$nulls":4},{"$f":"DetailList!J446","v":"monthly"},{"$f":"DetailList!K446","v":"Single tier & lower tier"},null,null,"","",null,null,{"$f":"DetailList!R446","v":0},{"$nulls":28},{"$f":"IF($A485=\"C\",COUNTIF(C$485:C$485,C485)-1,\"\")","v":""},null,{"$f":"DetailList!AW446","v":0},null,null,146,7,null,1,15,{"$f":"ROW()-1","v":484},{"$f":"(BC485*1000000)+(BD485*1000)+BE485","v":1015484},{"$f":"RANK(BF485,BF$485:BF$485,1)","v":1}]
["D",{"$f":"TEXT(AZ486,\"000\")&\"-\"&TEXT(BA486,\"00\")","v":"042-02"},{"$f":"Removed!C477","v":"Council Tax Requirement (CTR1/CTR2/CTR3/CTR4)"},"Formula grant received",{"$f":"Removed!E477","v":"DLUHC"},null,"N",null,"Y",{"$f":"Removed!J477","v":"annual"},{"$f":"Removed!K477","v":"All local authorities, fire, police & GLA"},null,null,"","",null,null,{"$f":"Removed!R477","v":0},{"$nulls":28},{"$f":"IF($A486=\"C\",COUNTIF(C$486:C$486,C486)-1,\"\")","v":""},null,{"$f":"Removed!AW477","v":"Local government"},null,null,42,2,null,1,14,{"$f":"ROW()-1","v":485},{"$f":"(BC486*1000000)+(BD486*1000)+BE486","v":1014485},{"$f":"RANK(BF486,BF$486:BF$486,1)","v":1}]
["D","196-08","Animal Feed Data returns","No. of establishments subject to improvement notices during the financial year, by type of premises","FSA",null,null,"Y",null,"annual","Upper tier & single tier",null,null,"","",null,null,"Y",{"$nulls":28},"",null,0,null,null,196,8,null,1,43,706,1043706,719]
["D","196-09","Animal Feed Data returns","No. of establishments subject to emergency prohibition notice during the financial year , by type of premises","FSA",null,null,"Y",null,"annual","Upper tier & single tier",null,null,"","",null,null,"Y",{"$nulls":28},"",null,0,null,null,196,9,null,1,43,707,1043707,720]
["D","196-10","Animal Feed Data returns","No. of establishments subject to prohibition order during the financial year, by type of premises","FSA",null,null,"Y",null,"annual","Upper tier & single tier",null,null,"","",null,null,"Y",{"$nulls":28},"",null,0,null,null,196,10,null,1,43,708,1043708,721]
["D","196-11","Animal Feed Data returns","No. of establishments subject to voluntary closure during the financial year, by type of premises","FSA",null,null,"Y",null,"annual","Upper tier & single tier",null,null,"","",null,null,"Y",{"$nulls":28},"",null,0,null,null,196,11,null,1,43,709,1043709,722]
["D","196-12","Animal Feed Data returns","No. of establishments subject to prosecution during the financial year, by type of premises","FSA",null,null,"Y",null,"annual","Upper tier & single tier",null,null,"","",null,null,"Y",{"$nulls":28},"",null,0,null,null,196,12,null,1,43,710,1043710,723]
["D","196-13","Animal Feed Data returns","No. of establishments subject to conviction during the financial year, by type of premises","FSA",null,null,"Y",null,"annual","Upper tier & single tier",null,null,"","",null,null,"Y",{"$nulls":28},"",null,0,null,null,196,13,null,1,43,711,1043711,724]
["D","196-14","Animal Feed Data returns","No. of establishments subject to formal caution during the financial year, by type of premises","FSA",null,null,"Y",null,"annual","Upper tier & single tier",null,null,"","",null,null,"Y",{"$nulls":28},"",null,0,null,null,196,14,null,1,43,712,1043712,725]
["D","196-15","Animal Feed Data returns","No. of establishments subject to suspension/revocation of approval or license during the financial year, by type of premises","FSA",null,null,"Y",null,"annual","Upper tier & single tier",null,null,"","",null,null,"Y",{"$nulls":28},"",null,0,null,null,196,15,null,1,43,713,1043713,726]
["D","196-16","Animal Feed Data returns","No. of establishments subject to seizure, detention & surrender of feed during the financial year, by type of premises","FSA",null,null,"Y",null,"annual","Upper tier & single tier",null,null,"","",null,null,"Y",{"$nulls":28},"",null,0,null,null,196,16,null,1,43,714,1043714,727]
["D",{"$f":"TEXT(AZ496,\"000\")&\"-\"&TEXT(BA496,\"00\")","v":"245-01"},{"$f":"DetailList!C223","v":"Strategic Overview of Flood and Coastal Erosion risk"},"Number of properties estimated to be at risk from local flooding sources.",{"$f":"DetailList!E223","v":"DEFRA/EA"},{"$nulls":4},{"$f":"DetailList!J223","v":"annual"},{"$f":"DetailList!K223","v":"Upper tier & single tier"},null,null,{"$f":"IF(OR($A496<>\"C\",P496=\"\"),\"\",HYPERLINK(P496,\"Collection\"))","v":""},{"$f":"IF(OR($A496<>\"C\",Q496=\"\"),\"\",HYPERLINK(Q496,\"Data\"))","v":""},null,null,{"$f":"DetailList!R223","v":"Y"},{"$nulls":28},{"$f":"IF($A496=\"C\",COUNTIF(C$496:C$496,C496)-1,\"\")","v":""},null,{"$f":"DetailList!AW223","v":0},null,null,245,1,null,{"$f":"IF(A496=\"D\",1,0)","v":1},{"$f":"MATCH(E496,DeptAbbr,0)","v":32},{"$f":"ROW()-1","v":495},{"$f":"(BC496*1000000)+(BD496*1000)+BE496","v":1032495},{"$f":"RANK(BF496,BF$496:BF$496,1)","v":1}]
["D",{"$f":"TEXT(AZ497,\"000\")&\"-\"&TEXT(BA497,\"00\")","v":"127-01"},{"$f":"DetailList!C364","v":"Blue Badge Parking Survey"},"Total Number of Valid Badges on Issue",{"$f":"DetailList!E364","v":"DfT"},null,"Y",null,null,{"$f":"DetailList!J364","v":"annual"},{"$f":"DetailList!K364","v":"Upper tier & single tier"},null,null,"","",null,null,{"$f":"DetailList!R364","v":0},{"$nulls":28},{"$f":"IF($A497=\"C\",COUNTIF(C$497:C$497,C497)-1,\"\")","v":""},null,{"$f":"DetailList!AW364","v":0},null,null,127,1,null,1,11,496,1011496,{"$f":"RANK(BF497,BF$497:BF$497,1)","v":1}]
["D","190-28","Food Hygiene (LAEMS)","Enforcement actions for hygiene offences, by type of premises","FSA",null,null,"Y",null,"annual","Single tier & lower tier",null,"The need to complete some fields in the LAEMS system has been removed since April 2014.  Although the LAEMS system may not be immediately updated to remove these fields, these are not part of the LAEMS validation and sign-off process.  This means that LAs do not have to provide the information but, at this stage, they do not need to devote any resource (time/ expenditure) to removing these fields from their xml report.","","",null,null,"Y",{"$nulls":28},"",null,0,null,null,190,28,null,1,49,497,1049497,{"$f":"RANK(BF498,BF$498:BF$504,1)","v":1}]
["D","190-29","Food Hygiene (LAEMS)","Enforcement actions for general hygiene offences, by type of premises","FSA",null,null,"Y",null,"annual","Single tier & lower tier",null,"See comments for D 190-28","","",null,null,"Y",{"$nulls":28},"",null,0,null,null,190,29,null,1,49,498,1049498,2]
["D","190-30","Food Hygiene (LAEMS)","Enforcement actions for composition offences, by type of premises","FSA",null,null,"Y",null,"annual","Single tier & lower tier",null,"See comments for D 190-28","","",null,null,"Y",{"$nulls":28},"",null,0,null,null,190,30,null,1,49,499,1049499,3]
["D","190-31","Food Hygiene (LAEMS)","Enforcement actions for contamination offences, by type of premises","FSA",null,null,"Y",null,"annual","Single tier & lower tier",null,"See comments for D 190-28","","",null,null,"Y",{"$nulls":28},"",null,0,null,null,190,31,null,1,49,500,1049500,4]
["D","190-32","Food Hygiene (LAEMS)","Enforcement actions for labelling and presentation offences, by type of premises","FSA",null,null,"Y",null,"annual","Single tier & lower tier",null,"See comments for D 190-28","","",null,null,"Y",{"$nulls":28},"",null,0,null,null,190,32,null,1,49,501,1049501,5]
["D","190-33","Food Hygiene (LAEMS)","Enforcement actions for other offences, by type of premises","FSA",null,null,"Y",null,"annual","Single tier & lower tier",null,"See comments for D 190-28","","",null,null,"Y",{"$nulls":28},"",null,0,null,null,190,33,null,1,49,502,1049502,6]
["D","190-34","Food Hygiene (LAEMS)","Enforcement actions for food quality under other leg., by type of premises","FSA",null,null,"Y",null,"annual","Single tier & lower tier",null,"See comments for D 190-28","","",null,null,"Y",{"$nulls":28},"",null,0,null,null,190,34,null,1,49,503,1049503,7]
["D","190-39","Food Hygiene (LAEMS)","Microbiological contamination: No. of unacceptable samples, by type of sample","FSA",null,null,"Y",null,"annual","Single tier & lower tier",null,"See comments for D 190-28","","",null,null,"Y",{"$nulls":28},"",null,0,null,null,190,39,null,1,49,504,1049504,{"$f":"RANK(BF505,BF$505:BF$506,1)","v":1}]
["D","190-40","Food Hygiene (LAEMS)","Microbiological contamination: No. which lead to prosecution, by type of sample","FSA",null,null,"Y",null,"annual","Single tier & lower tier",null,"See comments for D 190-28","","",null,null,"Y",{"$nulls":28},"",null,0,null,null,190,40,null,1,49,505,1049505,{"$f":"RANK(BF506,BF$505:BF$506,1)","v":2}]
["D","190-43","Food Hygiene (LAEMS)","Other contamination: No. which lead to prosecution, by type of sample","FSA",null,null,"Y",null,"annual","Single tier & lower tier",null,"See comments for D 190-28","","",null,null,"Y",{"$nulls":28},"",null,0,null,null,190,43,null,1,49,506,1049506,{"$f":"RANK(BF507,BF$507:BF$507,1)","v":1}]
["D","190-46","Food Hygiene (LAEMS)","Composition: No. which lead to prosecution, by type of sample","FSA",null,null,"Y",null,"annual","Single tier & lower tier",null,"See comments for D 190-28","","",null,null,"Y",{"$nulls":28},"",null,0,null,null,190,46,null,1,49,507,1049507,{"$f":"RANK(BF508,BF$508:BF$508,1)","v":1}]
["D","190-49","Food Hygiene (LAEMS)","Labelling and presentation: No. which lead to prosecution, by type of sample","FSA",null,null,"Y",null,"annual","Single tier & lower tier",null,"See comments for D 190-28","","",null,null,"Y",{"$nulls":28},"",null,0,null,null,190,49,null,1,49,508,1049508,{"$f":"RANK(BF509,BF$509:BF$509,1)","v":1}]
["D","190-52","Food Hygiene (LAEMS)","Others: No. which lead to prosecution, by type of sample","FSA",null,null,"Y",null,"annual","Single tier & lower tier",null,"See comments for D 190-28","","",null,null,"Y",{"$nulls":28},"",null,0,null,null,190,52,null,1,49,509,1049509,{"$f":"RANK(BF510,BF$510:BF$510,1)","v":1}]
["D","190-55","Food Hygiene (LAEMS)","Total no. of samples which lead to prosecution, by type of sample","FSA",null,null,"Y",null,"annual","Single tier & lower tier",null,"See comments for D 190-28","","",null,null,"Y",{"$nulls":28},"",null,0,null,null,190,55,null,1,49,510,1049510,{"$f":"RANK(BF511,BF$511:BF$511,1)","v":1}]
["D","190-56","Food Hygiene (LAEMS)","No. of premises from which official samples taken","FSA",null,null,"Y",null,"annual","Single tier & lower tier",null,"This data is not collected ","","",null,null,"Y",{"$nulls":28},"",null,0,null,null,190,56,null,1,49,511,1049511,{"$f":"RANK(BF512,BF$512:BF$512,1)","v":1}]
["D","190-58","Food Hygiene (LAEMS)","No. of due interventions, with breakdown of those achieved","FSA",null,null,"Y",null,"annual","Single tier & lower tier",null,"This a report generated by the LAEMS system from the data provided by LAs- not an item of data collected  and can be removed from the list","","",null,null,"Y",{"$nulls":28},"",null,0,null,null,190,58,null,1,49,512,1049512,{"$f":"RANK(BF513,BF$513:BF$513,1)","v":1}]
["D","190-59","Food Hygiene (LAEMS)","Performance Indicator (% of premises which are broadly compliant * 0.7) + (% of due interventions achieved * 0.3)","FSA",null,null,"Y",null,"annual","Single tier & lower tier",null,"See comments for D 190-58","","",null,null,"Y",{"$nulls":28},"",null,0,null,null,190,59,null,1,49,513,1049513,{"$f":"RANK(BF514,BF$514:BF$514,1)","v":1}]
["D","191-24","Food Standards (LAEMS)","Enforcement actions for hygiene offences, by type of premises","FSA",null,null,"Y",null,"annual","Upper tier & single tier",null,"See comments for D 190-28","","",null,null,"Y",{"$nulls":28},"",null,0,null,null,191,24,null,1,49,514,1049514,{"$f":"RANK(BF515,BF$515:BF$521,1)","v":1}]
["D","191-25","Food Standards (LAEMS)","Enforcement actions for general hygiene offences, by type of premises","FSA",null,null,"Y",null,"annual","Upper tier & single tier",null,"See comments for D 190-28","","",null,null,"Y",{"$nulls":28},"",null,0,null,null,191,25,null,1,49,515,1049515,2]
["D","191-26","Food Standards (LAEMS)","Enforcement actions for composition offences, by type of premises","FSA",null,null,"Y",null,"annual","Upper tier & single tier",null,"See comments for D 190-28","","",null,null,"Y",{"$nulls":28},"",null,0,null,null,191,26,null,1,49,516,1049516,3]
["D","191-27","Food Standards (LAEMS)","Enforcement actions for contamination offences, by type of premises","FSA",null,null,"Y",null,"annual","Upper tier & single tier",null,"See comments for D 190-28","","",null,null,"Y",{"$nulls":28},"",null,0,null,null,191,27,null,1,49,517,1049517,4]
["D","191-28","Food Standards (LAEMS)","Enforcement actions for labelling and presentation offences, by type of premises","FSA",null,null,"Y",null,"annual","Upper tier & single tier",null,"See comments for D 190-28","","",null,null,"Y",{"$nulls":28},"",null,0,null,null,191,28,null,1,49,518,1049518,5]
["D","191-29","Food Standards (LAEMS)","Enforcement actions for other offences, by type of premises","FSA",null,null,"Y",null,"annual","Upper tier & single tier",null,"See comments for D 190-28","","",null,null,"Y",{"$nulls":28},"",null,0,null,null,191,29,null,1,49,519,1049519,6]
["D","191-30","Food Standards (LAEMS)","Enforcement actions for food quality under other leg., by type of premises","FSA",null,null,"Y",null,"annual","Upper tier & single tier",null,"See comments for D 190-28","","",null,null,"Y",{"$nulls":28},"",null,0,null,null,191,30,null,1,49,520,1049520,7]
["D","191-32","Food Standards (LAEMS)","Number of complaints against food premises","FSA",null,null,"Y",null,"annual","Upper tier & single tier",null,"This data is not collected ","","",null,null,"Y",{"$nulls":28},"",null,0,null,null,191,32,null,1,49,521,1049521,{"$f":"RANK(BF522,BF$522:BF$522,1)","v":1}]
["D","191-33","Food Standards (LAEMS)","Number of food premises for which complaints were received","FSA",null,null,"Y",null,"annual","Upper tier & single tier",null,"This data is not collected ","","",null,null,"Y",{"$nulls":28},"",null,0,null,null,191,33,null,1,49,522,1049522,{"$f":"RANK(BF523,BF$523:BF$523,1)","v":1}]
["D","191-36","Food Standards (LAEMS)","Microbiological contamination: No. of unacceptable samples, by type of sample","FSA",null,null,"Y",null,"annual","Upper tier & single tier",null,"See comments for D 190-28","","",null,null,"Y",{"$nulls":28},"",null,0,null,null,191,36,null,1,49,523,1049523,{"$f":"RANK(BF524,BF$524:BF$525,1)","v":1}]
["D","191-37","Food Standards (LAEMS)","Microbiological contamination: No. which lead to prosecution, by type of sample","FSA",null,null,"Y",null,"annual","Upper tier & single tier",null,"See comments for D 190-28","","",null,null,"Y",{"$nulls":28},"",null,0,null,null,191,37,null,1,49,524,1049524,{"$f":"RANK(BF525,BF$524:BF$525,1)","v":2}]
["D","191-40","Food Standards (LAEMS)","Other contamination: No. which lead to prosecution, by type of sample","FSA",null,null,"Y",null,"annual","Upper tier & single tier",null,"See comments for D 190-28","","",null,null,"Y",{"$nulls":28},"",null,0,null,null,191,40,null,1,49,525,1049525,{"$f":"RANK(BF526,BF$526:BF$526,1)","v":1}]
["D","191-43","Food Standards (LAEMS)","Composition: No. which lead to prosecution, by type of sample","FSA",null,null,"Y",null,"annual","Upper tier & single tier",null,"See comments for D 190-28","","",null,null,"Y",{"$nulls":28},"",null,0,null,null,191,43,null,1,49,526,1049526,{"$f":"RANK(BF527,BF$527:BF$527,1)","v":1}]
["D","191-46","Food Standards (LAEMS)","Labelling and presentation: No. which lead to prosecution, by type of sample","FSA",null,null,"Y",null,"annual","Upper tier & single tier",null,"See comments for D 190-28","","",null,null,"Y",{"$nulls":28},"",null,0,null,null,191,46,null,1,49,527,1049527,{"$f":"RANK(BF528,BF$528:BF$528,1)","v":1}]
["D","191-49","Food Standards (LAEMS)","Others: No. which lead to prosecution, by type of sample","FSA",null,null,"Y",null,"annual","Upper tier & single tier",null,"See comments for D 190-28","","",null,null,"Y",{"$nulls":28},"",null,0,null,null,191,49,null,1,49,528,1049528,{"$f":"RANK(BF529,BF$529:BF$529,1)","v":1}]
["D","191-52","Food Standards (LAEMS)","Total no. of samples which lead to prosecution, by type of sample","FSA",null,null,"Y",null,"annual","Upper tier & single tier",null,"See comments for D 190-28","","",null,null,"Y",{"$nulls":28},"",null,0,null,null,191,52,null,1,49,529,1049529,{"$f":"RANK(BF530,BF$530:BF$530,1)","v":1}]
["D","191-53","Food Standards (LAEMS)","No. of premises from which official samples taken","FSA",null,null,"Y",null,"annual","Upper tier & single tier",null,"This data is not collected ","","",null,null,"Y",{"$nulls":28},"",null,0,null,null,191,53,null,1,49,530,1049530,{"$f":"RANK(BF531,BF$531:BF$531,1)","v":1}]
["D","191-55","Food Standards (LAEMS)","No. of due interventions, with breakdown of those achieved","FSA",null,null,"Y",null,"annual","Upper tier & single tier",null,"See comments for D 190-58","","",null,null,"Y",{"$nulls":28},"",null,0,null,null,191,55,null,1,49,531,1049531,{"$f":"RANK(BF532,BF$532:BF$532,1)","v":1}]
["D","021-12","PS1/2 General Development Control statistical returns","Planning fees collected","DCLG",null,"Y",null,null,"quarterly","Single tier & lower tier",null,null,"","",null,null,0,{"$nulls":28},"",null,"Planning",null,null,21,12,null,1,4,46,1004046,182]
["D",{"$f":"TEXT(AZ534,\"000\")&\"-\"&TEXT(BA534,\"00\")","v":"080-01"},{"$f":"DetailList!C203","v":"Flood and coastal erosion risk management and sustainable drainage systems"},"Number of local authority investigations carried out and published under S19",{"$f":"DetailList!E203","v":"DEFRA"},{"$nulls":3},"Y",{"$f":"DetailList!J203","v":"annual"},{"$f":"DetailList!K203","v":"Upper tier & single tier"},null,null,{"$f":"IF(OR($A534<>\"C\",P534=\"\"),\"\",HYPERLINK(P534,\"Collection\"))","v":""},{"$f":"IF(OR($A534<>\"C\",Q534=\"\"),\"\",HYPERLINK(Q534,\"Data\"))","v":""},null,null,{"$f":"DetailList!R203","v":0},{"$nulls":28},{"$f":"IF($A534=\"C\",COUNTIF(C$534:C$534,C534)-1,\"\")","v":""},null,{"$f":"DetailList!AW203","v":"Flooding"},null,null,80,1,null,{"$f":"IF(A534=\"D\",1,0)","v":1},{"$f":"MATCH(E534,DeptAbbr,0)","v":8},{"$f":"ROW()-1","v":533},{"$f":"(BC534*1000000)+(BD534*1000)+BE534","v":1008533},{"$f":"RANK(BF534,BF$534:BF$534,1)","v":1}]
["D",{"$f":"TEXT(AZ535,\"000\")&\"-\"&TEXT(BA535,\"00\")","v":"080-06"},{"$f":"DetailList!C202","v":"Flood and coastal erosion risk management and sustainable drainage systems"},"The number of SuDS adopted by the SAB, which have been designated under Schedule 1, by property type",{"$f":"DetailList!E202","v":"DEFRA"},{"$nulls":3},"Y",{"$f":"DetailList!J202","v":"annual"},{"$f":"DetailList!K202","v":"Upper tier & single tier"},null,null,{"$f":"IF(OR($A535<>\"C\",P535=\"\"),\"\",HYPERLINK(P535,\"Collection\"))","v":""},{"$f":"IF(OR($A535<>\"C\",Q535=\"\"),\"\",HYPERLINK(Q535,\"Data\"))","v":""},null,null,{"$f":"DetailList!R202","v":0},{"$nulls":28},{"$f":"IF($A535=\"C\",COUNTIF(C$535:C$536,C535)-1,\"\")","v":""},null,{"$f":"DetailList!AW202","v":"Flooding"},null,null,80,6,null,{"$f":"IF(A535=\"D\",1,0)","v":1},{"$f":"MATCH(E535,DeptAbbr,0)","v":8},{"$f":"ROW()-1","v":534},{"$f":"(BC535*1000000)+(BD535*1000)+BE535","v":1008534},{"$f":"RANK(BF535,BF$535:BF$536,1)","v":1}]
["D","080-07",{"$f":"C535","v":"Flood and coastal erosion risk management and sustainable drainage systems"},"The number of SuDS adopted by the SAB, which are located on public land (and therefore not designated under Schedule 1), for each type",{"$f":"E535","v":"DEFRA"},{"$nulls":3},"Y",{"$f":"J535","v":"annual"},{"$f":"K535","v":"Upper tier & single tier"},null,null,{"$f":"IF(OR($A536<>\"C\",P536=\"\"),\"\",HYPERLINK(P536,\"Collection\"))","v":""},{"$f":"IF(OR($A536<>\"C\",Q536=\"\"),\"\",HYPERLINK(Q536,\"Data\"))","v":""},null,null,{"$f":"R535","v":0},{"$nulls":28},{"$f":"IF($A536=\"C\",COUNTIF(C$535:C$536,C536)-1,\"\")","v":""},null,{"$f":"AW535","v":"Flooding"},null,null,80,7,null,1,8,535,1008535,{"$f":"RANK(BF536,BF$535:BF$536,1)","v":2}]
["D","260-04","Short and Long Term Support (SALT)","STS003 - Snapshot count of clients receiving ‘Short Term Support to Maximise Independence’ at the year-end (31st March) with an estimate of how many would have been counted in previous years for RAP table P2s",{"$f":"DetailList!E411","v":"DHSC/NHSE"},{"$nulls":4},{"$f":"DetailList!J411","v":"Annual"},{"$f":"DetailList!K411","v":"Upper tier & single tier"},{"$nulls":6},{"$f":"DetailList!R411","v":"Y"},{"$nulls":33},260,4,null,1,39,536,1039536,{"$f":"RANK(BF537,BF$537:BF$537,1)","v":1}]
["D","147-02",{"$f":"DetailList!C458","v":"Housing Benefits Recoveries Return"},"Information on fraud (number of referrals, investigators, cases under investigation, sanctions and prosecutions)",{"$f":"DetailList!E458","v":"DWP"},{"$nulls":4},{"$f":"DetailList!J458","v":"quarterly"},{"$f":"DetailList!K458","v":"Single tier & lower tier"},null,null,{"$f":"IF(OR($A538<>\"C\",P538=\"\"),\"\",HYPERLINK(P538,\"Collection\"))","v":""},{"$f":"IF(OR($A538<>\"C\",Q538=\"\"),\"\",HYPERLINK(Q538,\"Data\"))","v":""},null,null,{"$f":"DetailList!R458","v":0},{"$nulls":28},{"$f":"IF($A538=\"C\",COUNTIF(C$538:C$538,C538)-1,\"\")","v":""},null,{"$f":"DetailList!AW458","v":0},null,null,147,2,null,1,15,537,1015537,{"$f":"RANK(BF538,BF$538:BF$538,1)","v":1}]
["D","042-06",{"$f":"DetailList!C87","v":"Council Tax Requirement (CTR1/CTR2/CTR3/CTR4)"},"Levels and expected use of reserves",{"$f":"DetailList!E87","v":"DLUHC"},null,"N",null,null,{"$f":"DetailList!J87","v":"annual"},{"$f":"DetailList!K87","v":"All local authorities, fire, police & GLA"},null,null,{"$f":"IF(OR($A539<>\"C\",P539=\"\"),\"\",HYPERLINK(P539,\"Collection\"))","v":""},{"$f":"IF(OR($A539<>\"C\",Q539=\"\"),\"\",HYPERLINK(Q539,\"Data\"))","v":""},null,null,{"$f":"DetailList!R87","v":0},{"$nulls":28},{"$f":"IF($A539=\"C\",COUNTIF(C$539:C$539,C539)-1,\"\")","v":""},null,{"$f":"DetailList!AW87","v":"Local government"},null,null,42,6,null,1,14,538,1014538,{"$f":"RANK(BF539,BF$539:BF$539,1)","v":1}]
["D","045-07",{"$f":"DetailList!C107","v":"Council Tax Base (CTB)"},"Number of dwellings for which people were disregarded for council tax purposes, by category of disregard (CTB1(S) - Part 3)",{"$f":"DetailList!E107","v":"DLUHC"},null,"N",null,null,{"$f":"DetailList!J107","v":"annual"},{"$f":"DetailList!K107","v":"Single tier & lower tier"},null,null,{"$f":"IF(OR($A540<>\"C\",P540=\"\"),\"\",HYPERLINK(P540,\"Collection\"))","v":""},{"$f":"IF(OR($A540<>\"C\",Q540=\"\"),\"\",HYPERLINK(Q540,\"Data\"))","v":""},null,null,{"$f":"DetailList!R107","v":0},{"$nulls":28},{"$f":"IF($A540=\"C\",COUNTIF(C$540:C$540,C540)-1,\"\")","v":""},null,{"$f":"DetailList!AW107","v":"Local government"},null,null,45,7,null,1,14,539,1014539,{"$f":"RANK(BF540,BF$540:BF$540,1)","v":1}]
["D","129-02","Highway inventory data ","Self-assessed questionnaire on highways maintenance efficiency and asset management plans ","DfT",{"$nulls":4},{"$f":"DetailList!J831","v":0},"Upper tier & single Tier",null,null,{"$f":"IF(OR($A541<>\"C\",P541=\"\"),\"\",HYPERLINK(P541,\"Collection\"))","v":""},{"$f":"IF(OR($A541<>\"C\",Q541=\"\"),\"\",HYPERLINK(Q541,\"Data\"))","v":""},{"$nulls":31},{"$f":"IF($A541=\"C\",COUNTIF(C:C,C541)-1,\"\")","v":""},null,{"$f":"DetailList!AW831","v":0},null,null,129,2,null,{"$f":"IF(A541=\"D\",1,0)","v":1},{"$f":"MATCH(E541,DeptAbbr,0)","v":11},{"$f":"ROW()-1","v":540},{"$f":"(BC541*1000000)+(BD541*1000)+BE541","v":1011540},{"$f":"RANK(BF541,BF:BF,1)","v":{"$error":"#N/A"}}]
["D",{"$f":"TEXT(AZ542,\"000\")&\"-\"&TEXT(BA542,\"00\")","v":"263-13"},{"$f":"DetailList!C437","v":"Deferred Payment Agreements (DPA)"},"6a - Number and value of DPAs written off and recovered, split by primary reason (18-64s)",{"$f":"DetailList!E437","v":"DHSC/NHSE"},{"$nulls":4},{"$f":"DetailList!J437","v":"Annual"},{"$f":"DetailList!K437","v":"Upper tier & single tier"},{"$nulls":40},263,13,null,1,39,541,1039541,{"$f":"RANK(BF542,BF$542:BF$543,1)","v":1}]
["D",{"$f":"TEXT(AZ543,\"000\")&\"-\"&TEXT(BA543,\"00\")","v":"263-14"},{"$f":"C542","v":"Deferred Payment Agreements (DPA)"},"6a - Number and value of DPAs written off and recovered, split by primary reason (65+)",{"$f":"E542","v":"DHSC/NHSE"},{"$nulls":4},{"$f":"J542","v":"Annual"},{"$f":"K542","v":"Upper tier & single tier"},{"$nulls":40},263,14,null,1,39,542,1039542,{"$f":"RANK(BF543,BF$542:BF$543,1)","v":2}]
["D",{"$f":"TEXT(AZ544,\"000\")&\"-\"&TEXT(BA544,\"00\")","v":"037-01"},{"$f":"DetailList!C69","v":"Capital Outturn Return (COR) Prudential System"},"Capital expenditure and receipts at broad service level",{"$f":"DetailList!E69","v":"DLUHC"},null,"Y","Y",null,{"$f":"DetailList!J69","v":"annual"},{"$f":"DetailList!K69","v":"All local authorities"},null,null,{"$f":"IF(OR($A544<>\"C\",P544=\"\"),\"\",HYPERLINK(P544,\"Collection\"))","v":""},{"$f":"IF(OR($A544<>\"C\",Q544=\"\"),\"\",HYPERLINK(Q544,\"Data\"))","v":""},null,null,{"$f":"DetailList!R69","v":0},{"$nulls":28},{"$f":"IF($A544=\"C\",COUNTIF(C$544:C$545,C544)-1,\"\")","v":""},null,{"$f":"DetailList!AW69","v":"Local government"},null,null,37,1,null,1,14,543,1014543,{"$f":"RANK(BF544,BF$544:BF$545,1)","v":1}]
["D",{"$f":"TEXT(AZ545,\"000\")&\"-\"&TEXT(BA545,\"00\")","v":"037-02"},{"$f":"C544","v":"Capital Outturn Return (COR) Prudential System"},"Financing of capital expenditure",{"$f":"E544","v":"DLUHC"},null,"Y","Y",null,{"$f":"J544","v":"annual"},{"$f":"K544","v":"All local authorities"},null,null,"","",null,null,{"$f":"R544","v":0},{"$nulls":28},{"$f":"IF($A545=\"C\",COUNTIF(C$544:C$545,C545)-1,\"\")","v":""},null,{"$f":"AW544","v":"Local government"},null,null,37,2,null,1,14,544,1014544,{"$f":"RANK(BF545,BF$544:BF$545,1)","v":2}]
["D",{"$f":"TEXT(AZ546,\"000\")&\"-\"&TEXT(BA546,\"00\")","v":"010-02"},{"$f":"DetailList!C18","v":"Rough Sleeping Snapshot Statistics"},"Estimate of people sleeping rough",{"$f":"DetailList!E18","v":"DLUHC"},null,"N",null,null,{"$f":"DetailList!J18","v":"annual"},{"$f":"DetailList!K18","v":"Single tier & lower tier"},null,null,"","",null,null,{"$f":"DetailList!R18","v":0},{"$nulls":28},{"$f":"IF($A546=\"C\",COUNTIF(C$546:C$546,C546)-1,\"\")","v":""},null,{"$f":"DetailList!AW18","v":"Housing"},null,null,10,2,null,1,14,545,1014545,{"$f":"RANK(BF546,BF$546:BF$546,1)","v":1}]
["D","191-20","Food Standards (LAEMS)","No. of establishments (approved premises) subject to remedial action & detention notices, by premises type","FSA",null,null,"Y",null,"annual","Upper tier & single tier",null,null,"","",null,null,"Y",{"$nulls":28},"",null,0,null,null,191,20,null,{"$f":"IF(A547=\"D\",1,0)","v":1},{"$f":"MATCH(E547,DeptAbbr,0)","v":49},{"$f":"ROW()-1","v":546},{"$f":"(BC547*1000000)+(BD547*1000)+BE547","v":1049546},{"$f":"RANK(BF547,BF$547:BF$547,1)","v":1}]
["D",{"$f":"TEXT(AZ548,\"000\")&\"-\"&TEXT(BA548,\"00\")","v":"190-05"},{"$f":"DetailList!C472","v":"Food Hygiene (LA food law enforcement monitoring return)"},"No. of Inspections and Audits visits, by type of premises","FSA",null,null,"Y",null,"annual","Single tier & lower tier",null,null,"","",null,null,"Y",{"$nulls":28},"",null,0,null,null,190,5,null,1,49,547,1049547,{"$f":"RANK(BF548,BF$548:BF$557,1)","v":1}]
["D","190-06",{"$f":"C548","v":"Food Hygiene (LA food law enforcement monitoring return)"},"No. of Verification and Surveillance visits, by type of premises","FSA",null,null,"Y",null,"annual","Single tier & lower tier",null,null,"","",null,null,"Y",{"$nulls":28},"",null,0,null,null,190,6,null,1,49,548,1049548,2]
["D","190-07","Food Hygiene (LA food law enforcement monitoring return)","No. of Sampling visits, by type of premises","FSA",null,null,"Y",null,"annual","Single tier & lower tier",null,null,"","",null,null,"Y",{"$nulls":28},"",null,0,null,null,190,7,null,1,49,549,1049549,3]
["D","190-08","Food Hygiene (LA food law enforcement monitoring return)","No. of Advice and Education Visits, by type of premises","FSA",null,null,"Y",null,"annual","Single tier & lower tier",null,null,"","",null,null,"Y",{"$nulls":28},"",null,0,null,null,190,8,null,1,49,550,1049550,4]
["D","190-09","Food Hygiene (LA food law enforcement monitoring return)","No. of Information/Intelligence gathering visits, by type of premises","FSA",null,null,"Y",null,"annual","Single tier & lower tier",null,null,"","",null,null,"Y",{"$nulls":28},"",null,0,null,null,190,9,null,1,49,551,1049551,5]
["D","190-10","Food Hygiene (LA food law enforcement monitoring return)","No. of premises subject to official control (2) at least once in the financial year, by type of premises","FSA",null,null,"Y",null,"annual","Single tier & lower tier",null,null,"","",null,null,"Y",{"$nulls":28},"",null,0,null,null,190,10,null,1,49,552,1049552,6]
["D","190-11","Food Hygiene (LA food law enforcement monitoring return)","Number of interventions achieved, by premises rating","FSA",null,null,"Y",null,"annual","Single tier & lower tier",null,null,"","",null,null,"Y",{"$nulls":28},"",null,0,null,null,190,11,null,1,49,553,1049553,7]
["D","190-12","Food Hygiene (LA food law enforcement monitoring return)","Number of due interventions outstanding at year end, by premises type","FSA",null,null,"Y",null,"annual","Single tier & lower tier",null,null,"","",null,null,"Y",{"$nulls":28},"",null,0,null,null,190,12,null,1,49,554,1049554,8]
["D","190-13","Food Hygiene (LA food law enforcement monitoring return)","Level of food hygiene and safety compliance: no of premises on LA's database, by score and by risk rating","FSA",null,null,"Y",null,"annual","Single tier & lower tier",null,null,"","",null,null,"Y",{"$nulls":28},"",null,0,null,null,190,13,null,1,49,555,1049555,9]
["D","190-14","Food Hygiene (LA food law enforcement monitoring return)","Level of structural compliance: no of premises on LA's database, by score and by risk rating","FSA",null,null,"Y",null,"annual","Single tier & lower tier",null,null,"","",null,null,"Y",{"$nulls":28},"",null,0,null,null,190,14,null,1,49,556,1049556,10]
["D","190-27",{"$f":"DetailList!C485","v":"Food Hygiene (LA food law enforcement monitoring return)"},"No. of convictions secured, by premises type","FSA",null,null,"Y",null,"annual","Single tier & lower tier",null,null,"","",null,null,"Y",{"$nulls":28},"",null,0,null,null,190,27,null,1,49,557,1049557,{"$f":"RANK(BF558,BF$558:BF$558,1)","v":1}]
["D","190-38",{"$f":"DetailList!C488","v":"Food Hygiene (LA food law enforcement monitoring return)"},"Microbiological contamination: No. of unsatisfactory samples, by type of sample","FSA",null,null,"Y",null,"annual","Single tier & lower tier",null,null,"","",null,null,"Y",{"$nulls":28},"",null,0,null,null,190,38,null,1,49,558,1049558,{"$f":"RANK(BF559,BF$559:BF$559,1)","v":1}]
["D","190-42",{"$f":"DetailList!C489","v":"Food Hygiene (LA food law enforcement monitoring return)"},"Other contamination: No. of unsatisfactory samples, by type of sample","FSA",null,null,"Y",null,"annual","Single tier & lower tier",null,null,"","",null,null,"Y",{"$nulls":28},"",null,0,null,null,190,42,null,1,49,559,1049559,{"$f":"RANK(BF560,BF$560:BF$560,1)","v":1}]
["D","190-45",{"$f":"DetailList!C490","v":"Food Hygiene (LA food law enforcement monitoring return)"},"Composition: No. of unsatisfactory samples, by type of sample","FSA",null,null,"Y",null,"annual","Single tier & lower tier",null,null,"","",null,null,"Y",{"$nulls":28},"",null,0,null,null,190,45,null,1,49,560,1049560,{"$f":"RANK(BF561,BF$561:BF$561,1)","v":1}]
["D","190-51",{"$f":"DetailList!C493","v":"Food Hygiene (LA food law enforcement monitoring return)"},"Others: No. of unsatisfactory samples, by type of sample","FSA",null,null,"Y",null,"annual","Single tier & lower tier",null,null,"","",null,null,"Y",{"$nulls":28},"",null,0,null,null,190,51,null,1,49,561,1049561,{"$f":"RANK(BF562,BF$562:BF$562,1)","v":1}]
["D","190-54",{"$f":"DetailList!C494","v":"Food Hygiene (LA food law enforcement monitoring return)"},"Total no. of unsatisfactory samples, by type of sample","FSA",null,null,"Y",null,"annual","Single tier & lower tier",null,null,"","",null,null,"Y",{"$nulls":28},"",null,0,null,null,190,54,null,1,49,562,1049562,{"$f":"RANK(BF563,BF$563:BF$564,1)","v":1}]
["D","190-57",{"$f":"C563","v":"Food Hygiene (LA food law enforcement monitoring return)"},"Total premises, with breakdown of those broadly compliant","FSA",null,null,"Y",null,"annual","Single tier & lower tier",null,null,"","",null,null,"Y",{"$nulls":28},"",null,0,null,null,190,57,null,1,49,563,1049563,{"$f":"RANK(BF564,BF$563:BF$564,1)","v":2}]
["D","191-06",{"$f":"DetailList!C497","v":"Food Standards (LA food law enforcement monitoring return)"},"No. of Verification and Surveillance visits, by type of premises","FSA",null,null,"Y",null,"annual","Upper tier & single tier",null,null,"","",null,null,"Y",{"$nulls":28},"",null,0,null,null,191,6,null,1,49,564,1049564,{"$f":"RANK(BF565,BF$565:BF$573,1)","v":1}]
["D","191-07",{"$f":"C565","v":"Food Standards (LA food law enforcement monitoring return)"},"No. of Sampling visits, by type of premises","FSA",null,null,"Y",null,"annual","Upper tier & single tier",null,null,"","",null,null,"Y",{"$nulls":28},"",null,0,null,null,191,7,null,1,49,565,1049565,2]
["D","191-08","Food Standards (LA food law enforcement monitoring return)","No. of Advice and Education Visits, by type of premises","FSA",null,null,"Y",null,"annual","Upper tier & single tier",null,null,"","",null,null,"Y",{"$nulls":28},"",null,0,null,null,191,8,null,1,49,566,1049566,3]
["D","191-09","Food Standards (LA food law enforcement monitoring return)","No. of Information/Intelligence gathering visits, by type of premises","FSA",null,null,"Y",null,"annual","Upper tier & single tier",null,null,"","",null,null,"Y",{"$nulls":28},"",null,0,null,null,191,9,null,1,49,567,1049567,4]
["D","191-10","Food Standards (LA food law enforcement monitoring return)","No. of premises subject to official control (2) at least once in the financial year, by type of premises","FSA",null,null,"Y",null,"annual","Upper tier & single tier",null,null,"","",null,null,"Y",{"$nulls":28},"",null,0,null,null,191,10,null,1,49,568,1049568,5]
["D","191-11","Food Standards (LA food law enforcement monitoring return)","Number of interventions achieved, by premises rating","FSA",null,null,"Y",null,"annual","Upper tier & single tier",null,null,"","",null,null,"Y",{"$nulls":28},"",null,0,null,null,191,11,null,1,49,569,1049569,6]
["D","191-12","Food Standards (LA food law enforcement monitoring return)","Number of due interventions outstanding at year end, by premises type","FSA",null,null,"Y",null,"annual","Upper tier & single tier",null,null,"","",null,null,"Y",{"$nulls":28},"",null,0,null,null,191,12,null,1,49,570,1049570,7]
["D","191-13","Food Standards (LA food law enforcement monitoring return)","Level of food standards compliance: no of premises on LA's database, by score and by risk rating","FSA",null,null,"Y",null,"annual","Upper tier & single tier",null,null,"","",null,null,"Y",{"$nulls":28},"",null,0,null,null,191,13,null,1,49,571,1049571,8]
["D","191-14","Food Standards (LA food law enforcement monitoring return)","Confidence in management/control systems: no of premises on LA's database, by score and by risk rating","FSA",null,null,"Y",null,"annual","Upper tier & single tier",null,null,"","",null,null,"Y",{"$nulls":28},"",null,0,null,null,191,14,null,1,49,572,1049572,9]
["D","191-23",{"$f":"DetailList!C504","v":"Food Standards (LA food law enforcement monitoring return)"},"No. of convictions secured, by premises type","FSA",null,null,"Y",null,"annual","Upper tier & single tier",null,null,"","",null,null,"Y",{"$nulls":28},"",null,0,null,null,191,23,null,1,49,573,1049573,{"$f":"RANK(BF574,BF$574:BF$574,1)","v":1}]
["D","191-35",{"$f":"DetailList!C506","v":"Food Standards (LA food law enforcement monitoring return)"},"Microbiological contamination: No. of unsatisfactory samples, by type of sample","FSA",null,null,"Y",null,"annual","Upper tier & single tier",null,null,"","",null,null,"Y",{"$nulls":28},"",null,0,null,null,191,35,null,1,49,574,1049574,{"$f":"RANK(BF575,BF$575:BF$575,1)","v":1}]
["D","191-39",{"$f":"DetailList!C507","v":"Food Standards (LA food law enforcement monitoring return)"},"Other contamination: No. of unsatisfactory samples, by type of sample","FSA",null,null,"Y",null,"annual","Upper tier & single tier",null,null,"","",null,null,"Y",{"$nulls":28},"",null,0,null,null,191,39,null,1,49,575,1049575,{"$f":"RANK(BF576,BF$576:BF$576,1)","v":1}]
["D","191-42",{"$f":"DetailList!C508","v":"Food Standards (LA food law enforcement monitoring return)"},"Composition: No. of unsatisfactory samples, by type of sample","FSA",null,null,"Y",null,"annual","Upper tier & single tier",null,null,"","",null,null,"Y",{"$nulls":28},"",null,0,null,null,191,42,null,1,49,576,1049576,{"$f":"RANK(BF577,BF$577:BF$577,1)","v":1}]
["D","191-48",{"$f":"DetailList!C511","v":"Food Standards (LA food law enforcement monitoring return)"},"Others: No. of unsatisfactory samples, by type of sample","FSA",null,null,"Y",null,"annual","Upper tier & single tier",null,null,"","",null,null,"Y",{"$nulls":28},"",null,0,null,null,191,48,null,1,49,577,1049577,{"$f":"RANK(BF578,BF$578:BF$578,1)","v":1}]
["D","191-51",{"$f":"DetailList!C512","v":"Food Standards (LA food law enforcement monitoring return)"},"Total no. of unsatisfactory samples, by type of sample","FSA",null,null,"Y",null,"annual","Upper tier & single tier",null,null,"","",null,null,"Y",{"$nulls":28},"",null,0,null,null,191,51,null,1,49,578,1049578,{"$f":"RANK(BF579,BF$579:BF$584,1)","v":1}]
["D","191-54",{"$f":"C579","v":"Food Standards (LA food law enforcement monitoring return)"},"No. of premises with breakdown of those compliant","FSA",null,null,"Y",null,"annual","Upper tier & single tier",null,null,"","",null,null,"Y",{"$nulls":28},"",null,0,null,null,191,54,null,1,49,579,1049579,2]
["D","191-56",{"$f":"C580","v":"Food Standards (LA food law enforcement monitoring return)"},"Voluntary closure","FSA",null,null,"Y",null,"annual","Upper tier & single tier",null,null,"","",null,null,"Y",{"$nulls":28},"",null,0,null,null,191,56,null,1,49,580,1049580,3]
["D","191-57",{"$f":"C581","v":"Food Standards (LA food law enforcement monitoring return)"},"No. of establishments suspension/revocation of approval or licence","FSA",null,null,"Y",null,"annual","Upper tier & single tier",null,null,"","",null,null,"Y",{"$nulls":28},"",null,0,null,null,191,57,null,1,49,581,1049581,4]
["D","191-58",{"$f":"C582","v":"Food Standards (LA food law enforcement monitoring return)"},"Emergency prohibition notice","FSA",null,null,"Y",null,"annual","Upper tier & single tier",null,null,"","",null,null,"Y",{"$nulls":28},"",null,0,null,null,191,58,null,1,49,582,1049582,5]
["D","191-59",{"$f":"C583","v":"Food Standards (LA food law enforcement monitoring return)"},"Improvement notices","FSA",null,null,"Y",null,"annual","Upper tier & single tier",null,null,"","",null,null,"Y",{"$nulls":28},"",null,0,null,null,191,59,null,1,49,583,1049583,6]
["D",{"$f":"TEXT(AZ585,\"000\")&\"-\"&TEXT(BA585,\"00\")","v":"191-02"},{"$f":"DetailList!C496","v":"Food Standards (LA food law enforcement monitoring return)"},"Comments about LA delivery of food standards controls (free text) and questions about whether delivery of ongoing expectations are being met, and performance against the previous COVID-19 Recovery roadmap milestone, whilst seeking assurance of preparedness to achieve the next one. ","FSA",null,null,"Y",null,"quarterly","Upper tier & single tier",null,"There will be an end of year return in April 2022 and April 2023 and short interim temperature surveys. The actual questions asked in each return are subject to change. The interim returns will be utilised at each milestone in the Covid Recovery Plan (July 22, Oct 22, Jan 23) They will be both reflective and forward looking, with the objective of evidencing performance against the previous milestone, whilst seeking assurance of preparedness to achieve the next one.",{"$f":"IF(OR($A585<>\"C\",P585=\"\"),\"\",HYPERLINK(P585,\"Collection\"))","v":""},{"$f":"IF(OR($A585<>\"C\",Q585=\"\"),\"\",HYPERLINK(Q585,\"Data\"))","v":""},null,null,"Y",{"$nulls":28},"",null,0,null,null,191,2,null,{"$f":"IF(A585=\"D\",1,0)","v":1},{"$f":"MATCH(E585,DeptAbbr,0)","v":49},{"$f":"ROW()-1","v":584},{"$f":"(BC585*1000000)+(BD585*1000)+BE585","v":1049584},{"$f":"RANK(BF585,BF$585:BF$585,1)","v":1}]
["D",{"$f":"TEXT(AZ586,\"000\")&\"-\"&TEXT(BA586,\"00\")","v":"190-02"},{"$f":"DetailList!C471","v":"Food Hygiene (LA food law enforcement monitoring return)"}," Comments about LA delivery of food hygiene controls (free text) and questions about whether delivery of ongoing expectations are being met, and performance against the previous COVID-19 Recovery roadmap milestone, whilst seeking assurance of preparedness to achieve the next one.","FSA",null,null,"Y",null," quarterly","Single tier & lower tier",null,"There will be an end of year return in April 2022 and April 2023 and short interim temperature surveys. The actual questions asked in each return are subject to change. The interim returns will be utilised at each milestone in the Covid Recovery Plan (July 22, Oct 22, Jan 23) They will be both reflective and forward looking, with the objective of evidencing performance against the previous milestone, whilst seeking assurance of preparedness to achieve the next one. ",{"$f":"IF(OR($A586<>\"C\",P586=\"\"),\"\",HYPERLINK(P586,\"Collection\"))","v":""},{"$f":"IF(OR($A586<>\"C\",Q586=\"\"),\"\",HYPERLINK(Q586,\"Data\"))","v":""},null,null,"Y",{"$nulls":28},"",null,0,null,null,190,2,null,{"$f":"IF(A586=\"D\",1,0)","v":1},{"$f":"MATCH(E586,DeptAbbr,0)","v":49},{"$f":"ROW()-1","v":585},{"$f":"(BC586*1000000)+(BD586*1000)+BE586","v":1049585},{"$f":"RANK(BF586,BF$586:BF$586,1)","v":1}]
["D",{"$f":"TEXT(AZ587,\"000\")&\"-\"&TEXT(BA587,\"00\")","v":"190-03"},{"$f":"Removed!C586","v":"Food Hygiene (LA food law enforcement monitoring return)"},"Details of Management information system (text box)","FSA",null,null,"Y",null," quarterly","Single tier & lower tier",null,null,{"$f":"IF(OR($A587<>\"C\",P587=\"\"),\"\",HYPERLINK(P587,\"Collection\"))","v":""},{"$f":"IF(OR($A587<>\"C\",Q587=\"\"),\"\",HYPERLINK(Q587,\"Data\"))","v":""},null,null,"Y",{"$nulls":28},"",null,0,null,null,190,3,null,{"$f":"IF(A587=\"D\",1,0)","v":1},{"$f":"MATCH(E587,DeptAbbr,0)","v":49},{"$f":"ROW()-1","v":586},{"$f":"(BC587*1000000)+(BD587*1000)+BE587","v":1049586},{"$f":"RANK(BF587,BF$587:BF$587,1)","v":1}]
["D",{"$f":"TEXT(AZ588,\"000\")&\"-\"&TEXT(BA588,\"00\")","v":"191-03"},{"$f":"Removed!C585","v":"Food Standards (LA food law enforcement monitoring return)"},"Details of Management information system  (text box)","FSA",null,null,"Y",null,"annual","Upper tier & single tier",null,null,{"$f":"IF(OR($A588<>\"C\",P588=\"\"),\"\",HYPERLINK(P588,\"Collection\"))","v":""},{"$f":"IF(OR($A588<>\"C\",Q588=\"\"),\"\",HYPERLINK(Q588,\"Data\"))","v":""},null,null,"Y",{"$nulls":28},"",null,0,null,null,191,3,null,{"$f":"IF(A588=\"D\",1,0)","v":1},{"$f":"MATCH(E588,DeptAbbr,0)","v":49},{"$f":"ROW()-1","v":587},{"$f":"(BC588*1000000)+(BD588*1000)+BE588","v":1049587},{"$f":"RANK(BF588,BF$588:BF$588,1)","v":1}]

{"sheet":"Instuctions","index":11,"n_rows":50,"n_cols":3,"rows_kept":50,"hidden":true,"merged":[[1,1,1,2],[22,1,22,2],[36,1,36,2],[44,1,44,2]]}
[]
[null,"To create a version for publication"]
[]
[null,1,"Make sure that the file is fully up-to-date."]
[null,2,"Save a copy of the file to K:\\LGEG_Accountability\\Reducing Data Burdens\\Data List  & Annual Conversation\\SINGLE LIST & Project Managment Papers\\THE SINGLE DATA LIST\\[yymmdd]_Single_Data_List.xls"]
[null,3,"Using the version just saved, go to the Notes worksheet and edit the version and date information (cells M2 and B39) as appropriate."]
[null,4,"Edit the Departmental acronyms list to reflect any changes necessary (copy and paste details from the relevant table in the Lookups worksheet)."]
[null,5,"On the DetailList select whole columns A to N, then copy and paste back as values. Do the same for columns Q to BH."]
[null,6,"Hide columns AW to BH."]
[null,7,"Hide the header rows at the bottom of the list (marked \"x\" in column A)"]
[null,8,"Repeat steps 5 & 6 for the DetailListPending and Removed sheets."]
[null,9,"On the Collections List, select columns B to F, then copy and paste back as values. Do the same for columns L to Z."]
[null,10,"Hide columns Q to Z."]
[null,11,"Use Page Break Preview to check, and adjust if necessary, the page preak at the end of the list (this should adjust automatically to reflect the length of the list)."]
[null,12,"Repeat steps 9 - 11 for the CollectionsPending sheet."]
[null,13,"Check that the Find and Search functions are working as expected."]
[null,14,"Hide sheets RefsLookup, Lookups, Removed and CSVExport"]
[null,15,"Use Print Preview to check print areas for all sheets."]
[null,16,"Protect all sheets"]
[null,17,"Hide this sheet."]
[null,18,"Save file with cursor in cell A1 of the Notes sheet."]
[]
[null,"To add a collection"]
[]
[null,1,"Select a cell immediately below the point in the table where you want to add the new collection."]
[null,2,"Insert as many rows as you need (Insert > Rows). Tip: If you select more than one row then Insert > Rows will create that number of new rows."]
[null,3,"Select and copy a collection header (\"C\") and data topic (\"D\") row from elsewhere on the sheet (select whole rows). It is usually easiest to either select the pair of rows immediately above or below the rows you have just inserted, or select a pair that already contain some of the information required for the new collection."]
[null,4,"Paste the rows at the top of the empty set of rows you inserted earlier (ordinary paste, with cursor in column A)."]
[null,5,"If you need more than one data topic, copy the data topic row you just added down as many times as you need (select whole row and drag down, or copy & paste)."]
[null,6,"Scroll along the table to columns BA & BB, and edit the collection and topic reference digits (in blue). Refer to the RefsLookup sheet to find the next available unused collection level refernce number (three digits). Data topic numbers are consecutive, starting at zero for the collection level (header) row."]
[null,7,"Scroll back and enter a collection name in column C (this will be automatically filled-in in the data topic rows below)."]
[null,8,"Work along the (green) collection row and enter/edit details in columns E to N, Q to AU and AX & AY (optional). Note that columns O, P and AV are formulas and should not be edited. Columns AW, AZ & BC are blank."]
[null,9,"Scroll back and enter data topic names in column D."]
[null,10,"Enter/Edit other data topic data in columns F to J. All other columns at data topic level are either formulas or blank."]
[null,11,"Use the Find and Search tools to check that the new entry is appearing as expected. Check the Collections sheet to see that the new collection is displaying properly."]
[]
[null,"To remove a collection"]
[]
[null,1,"Select and copy the relevant rows in the DetailList sheet (select whole rows)."]
[null,2,"Paste the rows at the end of the main list on the Removed sheet (ordinary paste, with cursor in column A)."]
[null,3,"Delete the rows from the DetailList sheet (select whole rows then Edit > Delete)."]
[null,4,"Put an appropriate entry in the Changes log."]
[null,5,"Review the RefsLookup sheet and the Find tool to check that the entry is properly identified as being in the removed list."]
[]
[null,"To remove a data topic"]
[]
[null,1,"Select and copy the relevant rows in the DetailList sheet (select whole rows)."]
[null,2,"Paste the rows as values at the end of the second list on the Removed sheet (Paste special > Values, with cursor in column A)."]
[null,3,"Delete the rows from the DetailList sheet (select whole rows then Edit > Delete)."]
[null,4,"Put an appropriate entry in the Changes log."]

{"sheet":"Instructions","index":12,"n_rows":50,"n_cols":3,"rows_kept":50,"hidden":true,"merged":[[1,1,1,2],[22,1,22,2],[36,1,36,2],[44,1,44,2]]}
[]
[null,"To create a version for publication"]
[]
[null,1,"Make sure that the file is fully up-to-date."]
[null,2,"Save a copy of the file to K:\\LGEG_Accountability\\Reducing Data Burdens\\Data List  & Annual Conversation\\SINGLE LIST & Project Managment Papers\\THE SINGLE DATA LIST\\[yymmdd]_Single_Data_List.xls"]
[null,3,"Using the version just saved, go to the Notes worksheet and edit the version and date information (cells M2 and B39) as appropriate."]
[null,4,"Edit the Departmental acronyms list to reflect any changes necessary (copy and paste details from the relevant table in the Lookups worksheet)."]
[null,5,"On the DetailList select whole columns A to N, then copy and paste back as values. Do the same for columns Q to BH."]
[null,6,"Hide columns AW to BH."]
[null,7,"Hide the header rows at the bottom of the list (marked \"x\" in column A)"]
[null,8,"Repeat steps 5 & 6 for the DetailListPending and Removed sheets."]
[null,9,"On the Collections List, select columns B to F, then copy and paste back as values. Do the same for columns L to Z."]
[null,10,"Hide columns Q to Z."]
[null,11,"Use Page Break Preview to check, and adjust if necessary, the page preak at the end of the list (this should adjust automatically to reflect the length of the list)."]
[null,12,"Repeat steps 9 - 11 for the CollectionsPending sheet."]
[null,13,"Check that the Find and Search functions are working as expected."]
[null,14,"Hide sheets RefsLookup, Lookups, Removed and CSVExport"]
[null,15,"Use Print Preview to check print areas for all sheets."]
[null,16,"Protect all sheets"]
[null,17,"Hide this sheet."]
[null,18,"Save file with cursor in cell A1 of the Notes sheet."]
[]
[null,"To add a collection"]
[]
[null,1,"Select a cell immediately below the point in the table where you want to add the new collection."]
[null,2,"Insert as many rows as you need (Insert > Rows). Tip: If you select more than one row then Insert > Rows will create that number of new rows."]
[null,3,"Select and copy a collection header (\"C\") and data topic (\"D\") row from elsewhere on the sheet (select whole rows). It is usually easiest to either select the pair of rows immediately above or below the rows you have just inserted, or select a pair that already contain some of the information required for the new collection."]
[null,4,"Paste the rows at the top of the empty set of rows you inserted earlier (ordinary paste, with cursor in column A)."]
[null,5,"If you need more than one data topic, copy the data topic row you just added down as many times as you need (select whole row and drag down, or copy & paste)."]
[null,6,"Scroll along the table to columns BA & BB, and edit the collection and topic reference digits (in blue). Refer to the RefsLookup sheet to find the next available unused collection level refernce number (three digits). Data topic numbers are consecutive, starting at zero for the collection level (header) row."]
[null,7,"Scroll back and enter a collection name in column C (this will be automatically filled-in in the data topic rows below)."]
[null,8,"Work along the (green) collection row and enter/edit details in columns E to N, Q to AU and AX & AY (optional). Note that columns O, P and AV are formulas and should not be edited. Columns AW, AZ & BC are blank."]
[null,9,"Scroll back and enter data topic names in column D."]
[null,10,"Enter/Edit other data topic data in columns F to J. All other columns at data topic level are either formulas or blank."]
[null,11,"Use the Find and Search tools to check that the new entry is appearing as expected. Check the Collections sheet to see that the new collection is displaying properly."]
[]
[null,"To remove a collection"]
[]
[null,1,"Select and copy the relevant rows in the DetailList sheet (select whole rows)."]
[null,2,"Paste the rows at the end of the main list on the Removed sheet (ordinary paste, with cursor in column A)."]
[null,3,"Delete the rows from the DetailList sheet (select whole rows then Edit > Delete)."]
[null,4,"Put an appropriate entry in the Changes log."]
[null,5,"Review the RefsLookup sheet and the Find tool to check that the entry is properly identified as being in the removed list."]
[]
[null,"To remove a data topic"]
[]
[null,1,"Select and copy the relevant rows in the DetailList sheet (select whole rows)."]
[null,2,"Paste the rows as values at the end of the second list on the Removed sheet (Paste special > Values, with cursor in column A)."]
[null,3,"Delete the rows from the DetailList sheet (select whole rows then Edit > Delete)."]
[null,4,"Put an appropriate entry in the Changes log."]