{"text_format":"1","workbook":"xlsx","n_sheets":3,"sheets":["1 APC & OPROC","3 A&E","8 Maternity prices"],"not_rendered":{"charts":0,"images":0,"macros":0,"external_links":4,"defined_names":123,"comments":0,"pivot_tables":0},"unopened":[],"bounds":{"document_bytes":16777216,"sheet_cells":100000,"rows_first":2000,"rows_last":500,"rows_between":2000,"halvings":0,"cell_chars":16384,"cell_head_chars":4096},"cells_cut":0,"cells_raw":0,"read":"whole","date_system":"1900"}

{"sheet":"1 APC & OPROC","index":0,"n_rows":1286,"n_cols":85,"rows_kept":1286,"cut":false,"hidden":false,"merged":[[1,16,1,28]]}
[null,"2016-17 Tariff Local Modifications - Admitted Patient Care & Outpatient Procedures"]
[null,null,null,null,null,null,null,null,null,null,null,null,null,null,null,null,"% Increase on smoothing price"]
[null,"HRG code","HRG name","Outpatient procedure tariff (£)","Combined day case / ordinary elective spell tariff (£)","Day case spell tariff (£)","Ordinary elective spell tariff (£)","Ordinary elective long stay trimpoint (days)","Non-elective spell tariff (£)","Non-elective long stay trimpoint (days)","Per day long stay payment (for days exceeding trimpoint) (£)","Reduced short stay emergency tariff \napplicable?","% applied in calculation of reduced short stay emergency tariff ","Reduced short stay emergency tariff (£) *","HRGs within scope of BPTs?\n(if '1' see 'BPTs' sheet)","BPT applies at HRG level , sub-HRG level or other basis?","Outpatient procedure tariff (£)","Combined day case / ordinary elective spell tariff (£)","Day case spell tariff (£)","Ordinary elective spell tariff (£)","Ordinary elective long stay trimpoint (days)","Non-elective spell tariff (£)","Non-elective long stay trimpoint (days)","Per day long stay payment (for days exceeding trimpoint) (£)","Reduced short stay emergency tariff \napplicable?","% applied in calculation of reduced short stay emergency tariff ","Reduced short stay emergency tariff (£) *","HRGs within scope of BPTs?\n(if '1' see 'BPTs' sheet)","BPT applies at HRG level , sub-HRG level or other basis?",null,null,null,null,null,null,null,null,null,null,null,null,null,null,null,null,null,null,null,null,null,null,null,null,null,null,null,null,null,null,null,null,null,null,null,null,null,null,null,null,null,null,null,null,null,null,null,null,null,null,null,null,null,null,null,"LM given?"]
[null,"AA02A","Intracranial Procedures for Trauma with Diagnosis of Intracranial Injury with CC",0,7091,0,0,37,6517,45,200,"No","-",0,"","",{"$f":"IF(ISERROR((#REF!-#REF!)/#REF!),0,(#REF!-#REF!)/#REF!)","v":0},{"$f":"IF(ISERROR((#REF!-#REF!)/#REF!),0,(#REF!-#REF!)/#REF!)","v":0},{"$f":"IF(ISERROR((#REF!-#REF!)/#REF!),0,(#REF!-#REF!)/#REF!)","v":0},{"$f":"IF(ISERROR((#REF!-#REF!)/#REF!),0,(#REF!-#REF!)/#REF!)","v":0},{"$f":"IF(ISERROR((#REF!-#REF!)/#REF!),0,(#REF!-#REF!)/#REF!)","v":0},{"$f":"IF(ISERROR((#REF!-#REF!)/#REF!),0,(#REF!-#REF!)/#REF!)","v":0},{"$f":"IF(ISERROR((#REF!-#REF!)/#REF!),0,(#REF!-#REF!)/#REF!)","v":0},{"$f":"IF(ISERROR((#REF!-#REF!)/#REF!),0,(#REF!-#REF!)/#REF!)","v":0},{"$f":"IF(ISERROR((#REF!-#REF!)/#REF!),0,(#REF!-#REF!)/#REF!)","v":0},{"$f":"IF(ISERROR((#REF!-#REF!)/#REF!),0,(#REF!-#REF!)/#REF!)","v":0},{"$f":"IF(ISERROR((#REF!-#REF!)/#REF!),0,(#REF!-#REF!)/#REF!)","v":0},{"$f":"IF(ISERROR((#REF!-#REF!)/#REF!),0,(#REF!-#REF!)/#REF!)","v":0},{"$f":"IF(ISERROR((#REF!-#REF!)/#REF!),0,(#REF!-#REF!)/#REF!)","v":0},null,null,null,null,null,null,null,null,null,null,null,null,null,null,null,null,null,null,null,null,null,null,null,null,null,null,null,null,null,null,null,null,null,null,null,null,null,null,null,null,null,null,null,null,null,null,null,null,null,null,null,null,null,null,null,{"$f":"IF(#REF!<#REF!,\"no\",\"yes\")","v":{"$error":"#REF!"}}]
[null,"AA02B","Intracranial Procedures for Trauma with Diagnosis of Intracranial Injury without CC",0,4733,0,0,15,4945,21,200,"No","-",0,"","",{"$f":"IF(ISERROR((#REF!-#REF!)/#REF!),0,(#REF!-#REF!)/#REF!)","v":0},{"$f":"IF(ISERROR((#REF!-#REF!)/#REF!),0,(#REF!-#REF!)/#REF!)","v":0},{"$f":"IF(ISERROR((#REF!-#REF!)/#REF!),0,(#REF!-#REF!)/#REF!)","v":0},{"$f":"IF(ISERROR((#REF!-#REF!)/#REF!),0,(#REF!-#REF!)/#REF!)","v":0},{"$f":"IF(ISERROR((#REF!-#REF!)/#REF!),0,(#REF!-#REF!)/#REF!)","v":0},{"$f":"IF(ISERROR((#REF!-#REF!)/#REF!),0,(#REF!-#REF!)/#REF!)","v":0},{"$f":"IF(ISERROR((#REF!-#REF!)/#REF!),0,(#REF!-#REF!)/#REF!)","v":0},{"$f":"IF(ISERROR((#REF!-#REF!)/#REF!),0,(#REF!-#REF!)/#REF!)","v":0},{"$f":"IF(ISERROR((#REF!-#REF!)/#REF!),0,(#REF!-#REF!)/#REF!)","v":0},{"$f":"IF(ISERROR((#REF!-#REF!)/#REF!),0,(#REF!-#REF!)/#REF!)","v":0},{"$f":"IF(ISERROR((#REF!-#REF!)/#REF!),0,(#REF!-#REF!)/#REF!)","v":0},{"$f":"IF(ISERROR((#REF!-#REF!)/#REF!),0,(#REF!-#REF!)/#REF!)","v":0},{"$f":"IF(ISERROR((#REF!-#REF!)/#REF!),0,(#REF!-#REF!)/#REF!)","v":0}]
[null,"AA03A","Intracranial Procedures for Trauma with Diagnosis of Head Injury or Skull Fracture, with CC",0,7518,0,0,26,5688,28,200,"No","-",0,"","",{"$f":"IF(ISERROR((#REF!-#REF!)/#REF!),0,(#REF!-#REF!)/#REF!)","v":0},{"$f":"IF(ISERROR((#REF!-#REF!)/#REF!),0,(#REF!-#REF!)/#REF!)","v":0},{"$f":"IF(ISERROR((#REF!-#REF!)/#REF!),0,(#REF!-#REF!)/#REF!)","v":0},{"$f":"IF(ISERROR((#REF!-#REF!)/#REF!),0,(#REF!-#REF!)/#REF!)","v":0},{"$f":"IF(ISERROR((#REF!-#REF!)/#REF!),0,(#REF!-#REF!)/#REF!)","v":0},{"$f":"IF(ISERROR((#REF!-#REF!)/#REF!),0,(#REF!-#REF!)/#REF!)","v":0},{"$f":"IF(ISERROR((#REF!-#REF!)/#REF!),0,(#REF!-#REF!)/#REF!)","v":0},{"$f":"IF(ISERROR((#REF!-#REF!)/#REF!),0,(#REF!-#REF!)/#REF!)","v":0},{"$f":"IF(ISERROR((#REF!-#REF!)/#REF!),0,(#REF!-#REF!)/#REF!)","v":0},{"$f":"IF(ISERROR((#REF!-#REF!)/#REF!),0,(#REF!-#REF!)/#REF!)","v":0},{"$f":"IF(ISERROR((#REF!-#REF!)/#REF!),0,(#REF!-#REF!)/#REF!)","v":0},{"$f":"IF(ISERROR((#REF!-#REF!)/#REF!),0,(#REF!-#REF!)/#REF!)","v":0},{"$f":"IF(ISERROR((#REF!-#REF!)/#REF!),0,(#REF!-#REF!)/#REF!)","v":0}]
[null,"AA03B","Intracranial Procedures for Trauma with Diagnosis of Head Injury or Skull Fracture, without CC",0,4662,0,0,10,4421,16,200,"No","-",0,"","",{"$f":"IF(ISERROR((#REF!-#REF!)/#REF!),0,(#REF!-#REF!)/#REF!)","v":0},{"$f":"IF(ISERROR((#REF!-#REF!)/#REF!),0,(#REF!-#REF!)/#REF!)","v":0},{"$f":"IF(ISERROR((#REF!-#REF!)/#REF!),0,(#REF!-#REF!)/#REF!)","v":0},{"$f":"IF(ISERROR((#REF!-#REF!)/#REF!),0,(#REF!-#REF!)/#REF!)","v":0},{"$f":"IF(ISERROR((#REF!-#REF!)/#REF!),0,(#REF!-#REF!)/#REF!)","v":0},{"$f":"IF(ISERROR((#REF!-#REF!)/#REF!),0,(#REF!-#REF!)/#REF!)","v":0},{"$f":"IF(ISERROR((#REF!-#REF!)/#REF!),0,(#REF!-#REF!)/#REF!)","v":0},{"$f":"IF(ISERROR((#REF!-#REF!)/#REF!),0,(#REF!-#REF!)/#REF!)","v":0},{"$f":"IF(ISERROR((#REF!-#REF!)/#REF!),0,(#REF!-#REF!)/#REF!)","v":0},{"$f":"IF(ISERROR((#REF!-#REF!)/#REF!),0,(#REF!-#REF!)/#REF!)","v":0},{"$f":"IF(ISERROR((#REF!-#REF!)/#REF!),0,(#REF!-#REF!)/#REF!)","v":0},{"$f":"IF(ISERROR((#REF!-#REF!)/#REF!),0,(#REF!-#REF!)/#REF!)","v":0},{"$f":"IF(ISERROR((#REF!-#REF!)/#REF!),0,(#REF!-#REF!)/#REF!)","v":0}]
[null,"AA04A","Major Intracranial Procedures Except Trauma with Non-Transient Stroke or Cerebrovascular Accident, Nervous System Infections or Encephalopathy, with CC",0,9556,0,0,50,12846,87,200,"No","-",0,"","",{"$f":"IF(ISERROR((#REF!-#REF!)/#REF!),0,(#REF!-#REF!)/#REF!)","v":0},{"$f":"IF(ISERROR((#REF!-#REF!)/#REF!),0,(#REF!-#REF!)/#REF!)","v":0},{"$f":"IF(ISERROR((#REF!-#REF!)/#REF!),0,(#REF!-#REF!)/#REF!)","v":0},{"$f":"IF(ISERROR((#REF!-#REF!)/#REF!),0,(#REF!-#REF!)/#REF!)","v":0},{"$f":"IF(ISERROR((#REF!-#REF!)/#REF!),0,(#REF!-#REF!)/#REF!)","v":0},{"$f":"IF(ISERROR((#REF!-#REF!)/#REF!),0,(#REF!-#REF!)/#REF!)","v":0},{"$f":"IF(ISERROR((#REF!-#REF!)/#REF!),0,(#REF!-#REF!)/#REF!)","v":0},{"$f":"IF(ISERROR((#REF!-#REF!)/#REF!),0,(#REF!-#REF!)/#REF!)","v":0},{"$f":"IF(ISERROR((#REF!-#REF!)/#REF!),0,(#REF!-#REF!)/#REF!)","v":0},{"$f":"IF(ISERROR((#REF!-#REF!)/#REF!),0,(#REF!-#REF!)/#REF!)","v":0},{"$f":"IF(ISERROR((#REF!-#REF!)/#REF!),0,(#REF!-#REF!)/#REF!)","v":0},{"$f":"IF(ISERROR((#REF!-#REF!)/#REF!),0,(#REF!-#REF!)/#REF!)","v":0},{"$f":"IF(ISERROR((#REF!-#REF!)/#REF!),0,(#REF!-#REF!)/#REF!)","v":0}]
[null,"AA04B","Major Intracranial Procedures Except Trauma with Non-Transient Stroke or Cerebrovascular Accident, Nervous System Infections or Encephalopathy, without CC",0,4375,0,0,13,9575,61,200,"No","-",0,"","",{"$f":"IF(ISERROR((#REF!-#REF!)/#REF!),0,(#REF!-#REF!)/#REF!)","v":0},{"$f":"IF(ISERROR((#REF!-#REF!)/#REF!),0,(#REF!-#REF!)/#REF!)","v":0},{"$f":"IF(ISERROR((#REF!-#REF!)/#REF!),0,(#REF!-#REF!)/#REF!)","v":0},{"$f":"IF(ISERROR((#REF!-#REF!)/#REF!),0,(#REF!-#REF!)/#REF!)","v":0},{"$f":"IF(ISERROR((#REF!-#REF!)/#REF!),0,(#REF!-#REF!)/#REF!)","v":0},{"$f":"IF(ISERROR((#REF!-#REF!)/#REF!),0,(#REF!-#REF!)/#REF!)","v":0},{"$f":"IF(ISERROR((#REF!-#REF!)/#REF!),0,(#REF!-#REF!)/#REF!)","v":0},{"$f":"IF(ISERROR((#REF!-#REF!)/#REF!),0,(#REF!-#REF!)/#REF!)","v":0},{"$f":"IF(ISERROR((#REF!-#REF!)/#REF!),0,(#REF!-#REF!)/#REF!)","v":0},{"$f":"IF(ISERROR((#REF!-#REF!)/#REF!),0,(#REF!-#REF!)/#REF!)","v":0},{"$f":"IF(ISERROR((#REF!-#REF!)/#REF!),0,(#REF!-#REF!)/#REF!)","v":0},{"$f":"IF(ISERROR((#REF!-#REF!)/#REF!),0,(#REF!-#REF!)/#REF!)","v":0},{"$f":"IF(ISERROR((#REF!-#REF!)/#REF!),0,(#REF!-#REF!)/#REF!)","v":0}]
[null,"AA05A","Major Intracranial Procedures Except Trauma with Haemorrhagic Cerebrovascular Disorders with CC",0,5915,0,0,20,11536,62,200,"No","-",0,"","",{"$f":"IF(ISERROR((#REF!-#REF!)/#REF!),0,(#REF!-#REF!)/#REF!)","v":0},{"$f":"IF(ISERROR((#REF!-#REF!)/#REF!),0,(#REF!-#REF!)/#REF!)","v":0},{"$f":"IF(ISERROR((#REF!-#REF!)/#REF!),0,(#REF!-#REF!)/#REF!)","v":0},{"$f":"IF(ISERROR((#REF!-#REF!)/#REF!),0,(#REF!-#REF!)/#REF!)","v":0},{"$f":"IF(ISERROR((#REF!-#REF!)/#REF!),0,(#REF!-#REF!)/#REF!)","v":0},{"$f":"IF(ISERROR((#REF!-#REF!)/#REF!),0,(#REF!-#REF!)/#REF!)","v":0},{"$f":"IF(ISERROR((#REF!-#REF!)/#REF!),0,(#REF!-#REF!)/#REF!)","v":0},{"$f":"IF(ISERROR((#REF!-#REF!)/#REF!),0,(#REF!-#REF!)/#REF!)","v":0},{"$f":"IF(ISERROR((#REF!-#REF!)/#REF!),0,(#REF!-#REF!)/#REF!)","v":0},{"$f":"IF(ISERROR((#REF!-#REF!)/#REF!),0,(#REF!-#REF!)/#REF!)","v":0},{"$f":"IF(ISERROR((#REF!-#REF!)/#REF!),0,(#REF!-#REF!)/#REF!)","v":0},{"$f":"IF(ISERROR((#REF!-#REF!)/#REF!),0,(#REF!-#REF!)/#REF!)","v":0},{"$f":"IF(ISERROR((#REF!-#REF!)/#REF!),0,(#REF!-#REF!)/#REF!)","v":0}]
[null,"AA05B","Major Intracranial Procedures Except Trauma with Haemorrhagic Cerebrovascular Disorders without CC",0,3831,0,0,5,8269,34,200,"No","-",0,"","",{"$f":"IF(ISERROR((#REF!-#REF!)/#REF!),0,(#REF!-#REF!)/#REF!)","v":0},{"$f":"IF(ISERROR((#REF!-#REF!)/#REF!),0,(#REF!-#REF!)/#REF!)","v":0},{"$f":"IF(ISERROR((#REF!-#REF!)/#REF!),0,(#REF!-#REF!)/#REF!)","v":0},{"$f":"IF(ISERROR((#REF!-#REF!)/#REF!),0,(#REF!-#REF!)/#REF!)","v":0},{"$f":"IF(ISERROR((#REF!-#REF!)/#REF!),0,(#REF!-#REF!)/#REF!)","v":0},{"$f":"IF(ISERROR((#REF!-#REF!)/#REF!),0,(#REF!-#REF!)/#REF!)","v":0},{"$f":"IF(ISERROR((#REF!-#REF!)/#REF!),0,(#REF!-#REF!)/#REF!)","v":0},{"$f":"IF(ISERROR((#REF!-#REF!)/#REF!),0,(#REF!-#REF!)/#REF!)","v":0},{"$f":"IF(ISERROR((#REF!-#REF!)/#REF!),0,(#REF!-#REF!)/#REF!)","v":0},{"$f":"IF(ISERROR((#REF!-#REF!)/#REF!),0,(#REF!-#REF!)/#REF!)","v":0},{"$f":"IF(ISERROR((#REF!-#REF!)/#REF!),0,(#REF!-#REF!)/#REF!)","v":0},{"$f":"IF(ISERROR((#REF!-#REF!)/#REF!),0,(#REF!-#REF!)/#REF!)","v":0},{"$f":"IF(ISERROR((#REF!-#REF!)/#REF!),0,(#REF!-#REF!)/#REF!)","v":0}]
[null,"AA06A","Major Intracranial Procedures Except Trauma with Brain Tumours or Cerebral Cysts, with CC",0,7071,0,0,18,10215,42,200,"No","-",0,"","",{"$f":"IF(ISERROR((#REF!-#REF!)/#REF!),0,(#REF!-#REF!)/#REF!)","v":0},{"$f":"IF(ISERROR((#REF!-#REF!)/#REF!),0,(#REF!-#REF!)/#REF!)","v":0},{"$f":"IF(ISERROR((#REF!-#REF!)/#REF!),0,(#REF!-#REF!)/#REF!)","v":0},{"$f":"IF(ISERROR((#REF!-#REF!)/#REF!),0,(#REF!-#REF!)/#REF!)","v":0},{"$f":"IF(ISERROR((#REF!-#REF!)/#REF!),0,(#REF!-#REF!)/#REF!)","v":0},{"$f":"IF(ISERROR((#REF!-#REF!)/#REF!),0,(#REF!-#REF!)/#REF!)","v":0},{"$f":"IF(ISERROR((#REF!-#REF!)/#REF!),0,(#REF!-#REF!)/#REF!)","v":0},{"$f":"IF(ISERROR((#REF!-#REF!)/#REF!),0,(#REF!-#REF!)/#REF!)","v":0},{"$f":"IF(ISERROR((#REF!-#REF!)/#REF!),0,(#REF!-#REF!)/#REF!)","v":0},{"$f":"IF(ISERROR((#REF!-#REF!)/#REF!),0,(#REF!-#REF!)/#REF!)","v":0},{"$f":"IF(ISERROR((#REF!-#REF!)/#REF!),0,(#REF!-#REF!)/#REF!)","v":0},{"$f":"IF(ISERROR((#REF!-#REF!)/#REF!),0,(#REF!-#REF!)/#REF!)","v":0},{"$f":"IF(ISERROR((#REF!-#REF!)/#REF!),0,(#REF!-#REF!)/#REF!)","v":0}]
[null,"AA06B","Major Intracranial Procedures Except Trauma with Brain Tumours or Cerebral Cysts, without CC",0,4502,0,0,14,7975,24,200,"No","-",0,"","",{"$f":"IF(ISERROR((#REF!-#REF!)/#REF!),0,(#REF!-#REF!)/#REF!)","v":0},{"$f":"IF(ISERROR((#REF!-#REF!)/#REF!),0,(#REF!-#REF!)/#REF!)","v":0},{"$f":"IF(ISERROR((#REF!-#REF!)/#REF!),0,(#REF!-#REF!)/#REF!)","v":0},{"$f":"IF(ISERROR((#REF!-#REF!)/#REF!),0,(#REF!-#REF!)/#REF!)","v":0},{"$f":"IF(ISERROR((#REF!-#REF!)/#REF!),0,(#REF!-#REF!)/#REF!)","v":0},{"$f":"IF(ISERROR((#REF!-#REF!)/#REF!),0,(#REF!-#REF!)/#REF!)","v":0},{"$f":"IF(ISERROR((#REF!-#REF!)/#REF!),0,(#REF!-#REF!)/#REF!)","v":0},{"$f":"IF(ISERROR((#REF!-#REF!)/#REF!),0,(#REF!-#REF!)/#REF!)","v":0},{"$f":"IF(ISERROR((#REF!-#REF!)/#REF!),0,(#REF!-#REF!)/#REF!)","v":0},{"$f":"IF(ISERROR((#REF!-#REF!)/#REF!),0,(#REF!-#REF!)/#REF!)","v":0},{"$f":"IF(ISERROR((#REF!-#REF!)/#REF!),0,(#REF!-#REF!)/#REF!)","v":0},{"$f":"IF(ISERROR((#REF!-#REF!)/#REF!),0,(#REF!-#REF!)/#REF!)","v":0},{"$f":"IF(ISERROR((#REF!-#REF!)/#REF!),0,(#REF!-#REF!)/#REF!)","v":0}]
[null,"AA07A","Major Intracranial Procedures Except Trauma with Cerebral Degenerations or Miscellaneous Disorders of Nervous System, with CC",0,6751,0,0,15,8176,34,200,"No","-",0,"","",{"$f":"IF(ISERROR((#REF!-#REF!)/#REF!),0,(#REF!-#REF!)/#REF!)","v":0},{"$f":"IF(ISERROR((#REF!-#REF!)/#REF!),0,(#REF!-#REF!)/#REF!)","v":0},{"$f":"IF(ISERROR((#REF!-#REF!)/#REF!),0,(#REF!-#REF!)/#REF!)","v":0},{"$f":"IF(ISERROR((#REF!-#REF!)/#REF!),0,(#REF!-#REF!)/#REF!)","v":0},{"$f":"IF(ISERROR((#REF!-#REF!)/#REF!),0,(#REF!-#REF!)/#REF!)","v":0},{"$f":"IF(ISERROR((#REF!-#REF!)/#REF!),0,(#REF!-#REF!)/#REF!)","v":0},{"$f":"IF(ISERROR((#REF!-#REF!)/#REF!),0,(#REF!-#REF!)/#REF!)","v":0},{"$f":"IF(ISERROR((#REF!-#REF!)/#REF!),0,(#REF!-#REF!)/#REF!)","v":0},{"$f":"IF(ISERROR((#REF!-#REF!)/#REF!),0,(#REF!-#REF!)/#REF!)","v":0},{"$f":"IF(ISERROR((#REF!-#REF!)/#REF!),0,(#REF!-#REF!)/#REF!)","v":0},{"$f":"IF(ISERROR((#REF!-#REF!)/#REF!),0,(#REF!-#REF!)/#REF!)","v":0},{"$f":"IF(ISERROR((#REF!-#REF!)/#REF!),0,(#REF!-#REF!)/#REF!)","v":0},{"$f":"IF(ISERROR((#REF!-#REF!)/#REF!),0,(#REF!-#REF!)/#REF!)","v":0}]
[null,"AA07B","Major Intracranial Procedures Except Trauma with Cerebral Degenerations or Miscellaneous Disorders of Nervous System, without CC",0,4269,0,0,10,6104,22,200,"No","-",0,"","",{"$f":"IF(ISERROR((#REF!-#REF!)/#REF!),0,(#REF!-#REF!)/#REF!)","v":0},{"$f":"IF(ISERROR((#REF!-#REF!)/#REF!),0,(#REF!-#REF!)/#REF!)","v":0},{"$f":"IF(ISERROR((#REF!-#REF!)/#REF!),0,(#REF!-#REF!)/#REF!)","v":0},{"$f":"IF(ISERROR((#REF!-#REF!)/#REF!),0,(#REF!-#REF!)/#REF!)","v":0},{"$f":"IF(ISERROR((#REF!-#REF!)/#REF!),0,(#REF!-#REF!)/#REF!)","v":0},{"$f":"IF(ISERROR((#REF!-#REF!)/#REF!),0,(#REF!-#REF!)/#REF!)","v":0},{"$f":"IF(ISERROR((#REF!-#REF!)/#REF!),0,(#REF!-#REF!)/#REF!)","v":0},{"$f":"IF(ISERROR((#REF!-#REF!)/#REF!),0,(#REF!-#REF!)/#REF!)","v":0},{"$f":"IF(ISERROR((#REF!-#REF!)/#REF!),0,(#REF!-#REF!)/#REF!)","v":0},{"$f":"IF(ISERROR((#REF!-#REF!)/#REF!),0,(#REF!-#REF!)/#REF!)","v":0},{"$f":"IF(ISERROR((#REF!-#REF!)/#REF!),0,(#REF!-#REF!)/#REF!)","v":0},{"$f":"IF(ISERROR((#REF!-#REF!)/#REF!),0,(#REF!-#REF!)/#REF!)","v":0},{"$f":"IF(ISERROR((#REF!-#REF!)/#REF!),0,(#REF!-#REF!)/#REF!)","v":0}]
[null,"AA08A","Major Intracranial Procedures Except Trauma with Muscular, Balance, Cranial or Peripheral Nerve Disorders or Epilepsy, with CC",0,6356,0,0,12,6356,12,200,"No","-",0,"","",{"$f":"IF(ISERROR((#REF!-#REF!)/#REF!),0,(#REF!-#REF!)/#REF!)","v":0},{"$f":"IF(ISERROR((#REF!-#REF!)/#REF!),0,(#REF!-#REF!)/#REF!)","v":0},{"$f":"IF(ISERROR((#REF!-#REF!)/#REF!),0,(#REF!-#REF!)/#REF!)","v":0},{"$f":"IF(ISERROR((#REF!-#REF!)/#REF!),0,(#REF!-#REF!)/#REF!)","v":0},{"$f":"IF(ISERROR((#REF!-#REF!)/#REF!),0,(#REF!-#REF!)/#REF!)","v":0},{"$f":"IF(ISERROR((#REF!-#REF!)/#REF!),0,(#REF!-#REF!)/#REF!)","v":0},{"$f":"IF(ISERROR((#REF!-#REF!)/#REF!),0,(#REF!-#REF!)/#REF!)","v":0},{"$f":"IF(ISERROR((#REF!-#REF!)/#REF!),0,(#REF!-#REF!)/#REF!)","v":0},{"$f":"IF(ISERROR((#REF!-#REF!)/#REF!),0,(#REF!-#REF!)/#REF!)","v":0},{"$f":"IF(ISERROR((#REF!-#REF!)/#REF!),0,(#REF!-#REF!)/#REF!)","v":0},{"$f":"IF(ISERROR((#REF!-#REF!)/#REF!),0,(#REF!-#REF!)/#REF!)","v":0},{"$f":"IF(ISERROR((#REF!-#REF!)/#REF!),0,(#REF!-#REF!)/#REF!)","v":0},{"$f":"IF(ISERROR((#REF!-#REF!)/#REF!),0,(#REF!-#REF!)/#REF!)","v":0}]
[null,"AA08B","Major Intracranial Procedures Except Trauma with Muscular, Balance, Cranial or Peripheral Nerve Disorders or Epilepsy, without CC",0,5063,0,0,9,6356,12,200,"No","-",0,"","",{"$f":"IF(ISERROR((#REF!-#REF!)/#REF!),0,(#REF!-#REF!)/#REF!)","v":0},{"$f":"IF(ISERROR((#REF!-#REF!)/#REF!),0,(#REF!-#REF!)/#REF!)","v":0},{"$f":"IF(ISERROR((#REF!-#REF!)/#REF!),0,(#REF!-#REF!)/#REF!)","v":0},{"$f":"IF(ISERROR((#REF!-#REF!)/#REF!),0,(#REF!-#REF!)/#REF!)","v":0},{"$f":"IF(ISERROR((#REF!-#REF!)/#REF!),0,(#REF!-#REF!)/#REF!)","v":0},{"$f":"IF(ISERROR((#REF!-#REF!)/#REF!),0,(#REF!-#REF!)/#REF!)","v":0},{"$f":"IF(ISERROR((#REF!-#REF!)/#REF!),0,(#REF!-#REF!)/#REF!)","v":0},{"$f":"IF(ISERROR((#REF!-#REF!)/#REF!),0,(#REF!-#REF!)/#REF!)","v":0},{"$f":"IF(ISERROR((#REF!-#REF!)/#REF!),0,(#REF!-#REF!)/#REF!)","v":0},{"$f":"IF(ISERROR((#REF!-#REF!)/#REF!),0,(#REF!-#REF!)/#REF!)","v":0},{"$f":"IF(ISERROR((#REF!-#REF!)/#REF!),0,(#REF!-#REF!)/#REF!)","v":0},{"$f":"IF(ISERROR((#REF!-#REF!)/#REF!),0,(#REF!-#REF!)/#REF!)","v":0},{"$f":"IF(ISERROR((#REF!-#REF!)/#REF!),0,(#REF!-#REF!)/#REF!)","v":0}]
[null,"AA09A","Major Intracranial Procedures Except Trauma with Other Diagnoses with CC",0,2384,0,0,8,9222,54,200,"No","-",0,"","",{"$f":"IF(ISERROR((#REF!-#REF!)/#REF!),0,(#REF!-#REF!)/#REF!)","v":0},{"$f":"IF(ISERROR((#REF!-#REF!)/#REF!),0,(#REF!-#REF!)/#REF!)","v":0},{"$f":"IF(ISERROR((#REF!-#REF!)/#REF!),0,(#REF!-#REF!)/#REF!)","v":0},{"$f":"IF(ISERROR((#REF!-#REF!)/#REF!),0,(#REF!-#REF!)/#REF!)","v":0},{"$f":"IF(ISERROR((#REF!-#REF!)/#REF!),0,(#REF!-#REF!)/#REF!)","v":0},{"$f":"IF(ISERROR((#REF!-#REF!)/#REF!),0,(#REF!-#REF!)/#REF!)","v":0},{"$f":"IF(ISERROR((#REF!-#REF!)/#REF!),0,(#REF!-#REF!)/#REF!)","v":0},{"$f":"IF(ISERROR((#REF!-#REF!)/#REF!),0,(#REF!-#REF!)/#REF!)","v":0},{"$f":"IF(ISERROR((#REF!-#REF!)/#REF!),0,(#REF!-#REF!)/#REF!)","v":0},{"$f":"IF(ISERROR((#REF!-#REF!)/#REF!),0,(#REF!-#REF!)/#REF!)","v":0},{"$f":"IF(ISERROR((#REF!-#REF!)/#REF!),0,(#REF!-#REF!)/#REF!)","v":0},{"$f":"IF(ISERROR((#REF!-#REF!)/#REF!),0,(#REF!-#REF!)/#REF!)","v":0},{"$f":"IF(ISERROR((#REF!-#REF!)/#REF!),0,(#REF!-#REF!)/#REF!)","v":0}]
[null,"AA09B","Major Intracranial Procedures Except Trauma with Other Diagnoses without CC",0,652,0,0,5,6640,34,200,"No","-",0,"","",{"$f":"IF(ISERROR((#REF!-#REF!)/#REF!),0,(#REF!-#REF!)/#REF!)","v":0},{"$f":"IF(ISERROR((#REF!-#REF!)/#REF!),0,(#REF!-#REF!)/#REF!)","v":0},{"$f":"IF(ISERROR((#REF!-#REF!)/#REF!),0,(#REF!-#REF!)/#REF!)","v":0},{"$f":"IF(ISERROR((#REF!-#REF!)/#REF!),0,(#REF!-#REF!)/#REF!)","v":0},{"$f":"IF(ISERROR((#REF!-#REF!)/#REF!),0,(#REF!-#REF!)/#REF!)","v":0},{"$f":"IF(ISERROR((#REF!-#REF!)/#REF!),0,(#REF!-#REF!)/#REF!)","v":0},{"$f":"IF(ISERROR((#REF!-#REF!)/#REF!),0,(#REF!-#REF!)/#REF!)","v":0},{"$f":"IF(ISERROR((#REF!-#REF!)/#REF!),0,(#REF!-#REF!)/#REF!)","v":0},{"$f":"IF(ISERROR((#REF!-#REF!)/#REF!),0,(#REF!-#REF!)/#REF!)","v":0},{"$f":"IF(ISERROR((#REF!-#REF!)/#REF!),0,(#REF!-#REF!)/#REF!)","v":0},{"$f":"IF(ISERROR((#REF!-#REF!)/#REF!),0,(#REF!-#REF!)/#REF!)","v":0},{"$f":"IF(ISERROR((#REF!-#REF!)/#REF!),0,(#REF!-#REF!)/#REF!)","v":0},{"$f":"IF(ISERROR((#REF!-#REF!)/#REF!),0,(#REF!-#REF!)/#REF!)","v":0}]
[null,"AA10A","Intermediate Intracranial Procedures Except Trauma with Non-Transient Stroke or Cerebrovascular Accident, Nervous System Infections or Encephalopathy, with CC",0,6601,0,0,32,12865,86,200,"No","-",0,"","",{"$f":"IF(ISERROR((#REF!-#REF!)/#REF!),0,(#REF!-#REF!)/#REF!)","v":0},{"$f":"IF(ISERROR((#REF!-#REF!)/#REF!),0,(#REF!-#REF!)/#REF!)","v":0},{"$f":"IF(ISERROR((#REF!-#REF!)/#REF!),0,(#REF!-#REF!)/#REF!)","v":0},{"$f":"IF(ISERROR((#REF!-#REF!)/#REF!),0,(#REF!-#REF!)/#REF!)","v":0},{"$f":"IF(ISERROR((#REF!-#REF!)/#REF!),0,(#REF!-#REF!)/#REF!)","v":0},{"$f":"IF(ISERROR((#REF!-#REF!)/#REF!),0,(#REF!-#REF!)/#REF!)","v":0},{"$f":"IF(ISERROR((#REF!-#REF!)/#REF!),0,(#REF!-#REF!)/#REF!)","v":0},{"$f":"IF(ISERROR((#REF!-#REF!)/#REF!),0,(#REF!-#REF!)/#REF!)","v":0},{"$f":"IF(ISERROR((#REF!-#REF!)/#REF!),0,(#REF!-#REF!)/#REF!)","v":0},{"$f":"IF(ISERROR((#REF!-#REF!)/#REF!),0,(#REF!-#REF!)/#REF!)","v":0},{"$f":"IF(ISERROR((#REF!-#REF!)/#REF!),0,(#REF!-#REF!)/#REF!)","v":0},{"$f":"IF(ISERROR((#REF!-#REF!)/#REF!),0,(#REF!-#REF!)/#REF!)","v":0},{"$f":"IF(ISERROR((#REF!-#REF!)/#REF!),0,(#REF!-#REF!)/#REF!)","v":0}]
[null,"AA10B","Intermediate Intracranial Procedures Except Trauma with Non-Transient Stroke or Cerebrovascular Accident, Nervous System Infections or Encephalopathy, without CC",0,4363,0,0,19,5943,34,200,"No","-",0,"","",{"$f":"IF(ISERROR((#REF!-#REF!)/#REF!),0,(#REF!-#REF!)/#REF!)","v":0},{"$f":"IF(ISERROR((#REF!-#REF!)/#REF!),0,(#REF!-#REF!)/#REF!)","v":0},{"$f":"IF(ISERROR((#REF!-#REF!)/#REF!),0,(#REF!-#REF!)/#REF!)","v":0},{"$f":"IF(ISERROR((#REF!-#REF!)/#REF!),0,(#REF!-#REF!)/#REF!)","v":0},{"$f":"IF(ISERROR((#REF!-#REF!)/#REF!),0,(#REF!-#REF!)/#REF!)","v":0},{"$f":"IF(ISERROR((#REF!-#REF!)/#REF!),0,(#REF!-#REF!)/#REF!)","v":0},{"$f":"IF(ISERROR((#REF!-#REF!)/#REF!),0,(#REF!-#REF!)/#REF!)","v":0},{"$f":"IF(ISERROR((#REF!-#REF!)/#REF!),0,(#REF!-#REF!)/#REF!)","v":0},{"$f":"IF(ISERROR((#REF!-#REF!)/#REF!),0,(#REF!-#REF!)/#REF!)","v":0},{"$f":"IF(ISERROR((#REF!-#REF!)/#REF!),0,(#REF!-#REF!)/#REF!)","v":0},{"$f":"IF(ISERROR((#REF!-#REF!)/#REF!),0,(#REF!-#REF!)/#REF!)","v":0},{"$f":"IF(ISERROR((#REF!-#REF!)/#REF!),0,(#REF!-#REF!)/#REF!)","v":0},{"$f":"IF(ISERROR((#REF!-#REF!)/#REF!),0,(#REF!-#REF!)/#REF!)","v":0}]
[null,"AA11A","Intermediate Intracranial Procedures Except Trauma with Haemorrhagic Cerebrovascular Disorders with CC",0,9315,0,0,47,11671,79,200,"No","-",0,"","",{"$f":"IF(ISERROR((#REF!-#REF!)/#REF!),0,(#REF!-#REF!)/#REF!)","v":0},{"$f":"IF(ISERROR((#REF!-#REF!)/#REF!),0,(#REF!-#REF!)/#REF!)","v":0},{"$f":"IF(ISERROR((#REF!-#REF!)/#REF!),0,(#REF!-#REF!)/#REF!)","v":0},{"$f":"IF(ISERROR((#REF!-#REF!)/#REF!),0,(#REF!-#REF!)/#REF!)","v":0},{"$f":"IF(ISERROR((#REF!-#REF!)/#REF!),0,(#REF!-#REF!)/#REF!)","v":0},{"$f":"IF(ISERROR((#REF!-#REF!)/#REF!),0,(#REF!-#REF!)/#REF!)","v":0},{"$f":"IF(ISERROR((#REF!-#REF!)/#REF!),0,(#REF!-#REF!)/#REF!)","v":0},{"$f":"IF(ISERROR((#REF!-#REF!)/#REF!),0,(#REF!-#REF!)/#REF!)","v":0},{"$f":"IF(ISERROR((#REF!-#REF!)/#REF!),0,(#REF!-#REF!)/#REF!)","v":0},{"$f":"IF(ISERROR((#REF!-#REF!)/#REF!),0,(#REF!-#REF!)/#REF!)","v":0},{"$f":"IF(ISERROR((#REF!-#REF!)/#REF!),0,(#REF!-#REF!)/#REF!)","v":0},{"$f":"IF(ISERROR((#REF!-#REF!)/#REF!),0,(#REF!-#REF!)/#REF!)","v":0},{"$f":"IF(ISERROR((#REF!-#REF!)/#REF!),0,(#REF!-#REF!)/#REF!)","v":0}]
[null,"AA11B","Intermediate Intracranial Procedures Except Trauma with Haemorrhagic Cerebrovascular Disorders without CC",0,2686,0,0,188,8036,53,200,"No","-",0,"","",{"$f":"IF(ISERROR((#REF!-#REF!)/#REF!),0,(#REF!-#REF!)/#REF!)","v":0},{"$f":"IF(ISERROR((#REF!-#REF!)/#REF!),0,(#REF!-#REF!)/#REF!)","v":0},{"$f":"IF(ISERROR((#REF!-#REF!)/#REF!),0,(#REF!-#REF!)/#REF!)","v":0},{"$f":"IF(ISERROR((#REF!-#REF!)/#REF!),0,(#REF!-#REF!)/#REF!)","v":0},{"$f":"IF(ISERROR((#REF!-#REF!)/#REF!),0,(#REF!-#REF!)/#REF!)","v":0},{"$f":"IF(ISERROR((#REF!-#REF!)/#REF!),0,(#REF!-#REF!)/#REF!)","v":0},{"$f":"IF(ISERROR((#REF!-#REF!)/#REF!),0,(#REF!-#REF!)/#REF!)","v":0},{"$f":"IF(ISERROR((#REF!-#REF!)/#REF!),0,(#REF!-#REF!)/#REF!)","v":0},{"$f":"IF(ISERROR((#REF!-#REF!)/#REF!),0,(#REF!-#REF!)/#REF!)","v":0},{"$f":"IF(ISERROR((#REF!-#REF!)/#REF!),0,(#REF!-#REF!)/#REF!)","v":0},{"$f":"IF(ISERROR((#REF!-#REF!)/#REF!),0,(#REF!-#REF!)/#REF!)","v":0},{"$f":"IF(ISERROR((#REF!-#REF!)/#REF!),0,(#REF!-#REF!)/#REF!)","v":0},{"$f":"IF(ISERROR((#REF!-#REF!)/#REF!),0,(#REF!-#REF!)/#REF!)","v":0}]
[null,"AA12A","Intermediate Intracranial Procedures Except Trauma with Brain Tumours or Cerebral Cysts, with CC",0,5901,0,0,13,7853,30,200,"No","-",0,"","",{"$f":"IF(ISERROR((#REF!-#REF!)/#REF!),0,(#REF!-#REF!)/#REF!)","v":0},{"$f":"IF(ISERROR((#REF!-#REF!)/#REF!),0,(#REF!-#REF!)/#REF!)","v":0},{"$f":"IF(ISERROR((#REF!-#REF!)/#REF!),0,(#REF!-#REF!)/#REF!)","v":0},{"$f":"IF(ISERROR((#REF!-#REF!)/#REF!),0,(#REF!-#REF!)/#REF!)","v":0},{"$f":"IF(ISERROR((#REF!-#REF!)/#REF!),0,(#REF!-#REF!)/#REF!)","v":0},{"$f":"IF(ISERROR((#REF!-#REF!)/#REF!),0,(#REF!-#REF!)/#REF!)","v":0},{"$f":"IF(ISERROR((#REF!-#REF!)/#REF!),0,(#REF!-#REF!)/#REF!)","v":0},{"$f":"IF(ISERROR((#REF!-#REF!)/#REF!),0,(#REF!-#REF!)/#REF!)","v":0},{"$f":"IF(ISERROR((#REF!-#REF!)/#REF!),0,(#REF!-#REF!)/#REF!)","v":0},{"$f":"IF(ISERROR((#REF!-#REF!)/#REF!),0,(#REF!-#REF!)/#REF!)","v":0},{"$f":"IF(ISERROR((#REF!-#REF!)/#REF!),0,(#REF!-#REF!)/#REF!)","v":0},{"$f":"IF(ISERROR((#REF!-#REF!)/#REF!),0,(#REF!-#REF!)/#REF!)","v":0},{"$f":"IF(ISERROR((#REF!-#REF!)/#REF!),0,(#REF!-#REF!)/#REF!)","v":0}]
[null,"AA12B","Intermediate Intracranial Procedures Except Trauma with Brain Tumours or Cerebral Cysts, without CC",0,5493,0,0,11,7020,20,200,"No","-",0,"","",{"$f":"IF(ISERROR((#REF!-#REF!)/#REF!),0,(#REF!-#REF!)/#REF!)","v":0},{"$f":"IF(ISERROR((#REF!-#REF!)/#REF!),0,(#REF!-#REF!)/#REF!)","v":0},{"$f":"IF(ISERROR((#REF!-#REF!)/#REF!),0,(#REF!-#REF!)/#REF!)","v":0},{"$f":"IF(ISERROR((#REF!-#REF!)/#REF!),0,(#REF!-#REF!)/#REF!)","v":0},{"$f":"IF(ISERROR((#REF!-#REF!)/#REF!),0,(#REF!-#REF!)/#REF!)","v":0},{"$f":"IF(ISERROR((#REF!-#REF!)/#REF!),0,(#REF!-#REF!)/#REF!)","v":0},{"$f":"IF(ISERROR((#REF!-#REF!)/#REF!),0,(#REF!-#REF!)/#REF!)","v":0},{"$f":"IF(ISERROR((#REF!-#REF!)/#REF!),0,(#REF!-#REF!)/#REF!)","v":0},{"$f":"IF(ISERROR((#REF!-#REF!)/#REF!),0,(#REF!-#REF!)/#REF!)","v":0},{"$f":"IF(ISERROR((#REF!-#REF!)/#REF!),0,(#REF!-#REF!)/#REF!)","v":0},{"$f":"IF(ISERROR((#REF!-#REF!)/#REF!),0,(#REF!-#REF!)/#REF!)","v":0},{"$f":"IF(ISERROR((#REF!-#REF!)/#REF!),0,(#REF!-#REF!)/#REF!)","v":0},{"$f":"IF(ISERROR((#REF!-#REF!)/#REF!),0,(#REF!-#REF!)/#REF!)","v":0}]
[null,"AA13A","Intermediate Intracranial Procedures Except Trauma with Cerebral Degenerations or Miscellaneous Disorders of Nervous System with CC",0,4888,0,0,13,6807,35,200,"No","-",0,"","",{"$f":"IF(ISERROR((#REF!-#REF!)/#REF!),0,(#REF!-#REF!)/#REF!)","v":0},{"$f":"IF(ISERROR((#REF!-#REF!)/#REF!),0,(#REF!-#REF!)/#REF!)","v":0},{"$f":"IF(ISERROR((#REF!-#REF!)/#REF!),0,(#REF!-#REF!)/#REF!)","v":0},{"$f":"IF(ISERROR((#REF!-#REF!)/#REF!),0,(#REF!-#REF!)/#REF!)","v":0},{"$f":"IF(ISERROR((#REF!-#REF!)/#REF!),0,(#REF!-#REF!)/#REF!)","v":0},{"$f":"IF(ISERROR((#REF!-#REF!)/#REF!),0,(#REF!-#REF!)/#REF!)","v":0},{"$f":"IF(ISERROR((#REF!-#REF!)/#REF!),0,(#REF!-#REF!)/#REF!)","v":0},{"$f":"IF(ISERROR((#REF!-#REF!)/#REF!),0,(#REF!-#REF!)/#REF!)","v":0},{"$f":"IF(ISERROR((#REF!-#REF!)/#REF!),0,(#REF!-#REF!)/#REF!)","v":0},{"$f":"IF(ISERROR((#REF!-#REF!)/#REF!),0,(#REF!-#REF!)/#REF!)","v":0},{"$f":"IF(ISERROR((#REF!-#REF!)/#REF!),0,(#REF!-#REF!)/#REF!)","v":0},{"$f":"IF(ISERROR((#REF!-#REF!)/#REF!),0,(#REF!-#REF!)/#REF!)","v":0},{"$f":"IF(ISERROR((#REF!-#REF!)/#REF!),0,(#REF!-#REF!)/#REF!)","v":0}]
[null,"AA13B","Intermediate Intracranial Procedures Except Trauma with Cerebral Degenerations or Miscellaneous Disorders of Nervous System without CC",0,4409,0,0,10,5120,21,200,"No","-",0,"","",{"$f":"IF(ISERROR((#REF!-#REF!)/#REF!),0,(#REF!-#REF!)/#REF!)","v":0},{"$f":"IF(ISERROR((#REF!-#REF!)/#REF!),0,(#REF!-#REF!)/#REF!)","v":0},{"$f":"IF(ISERROR((#REF!-#REF!)/#REF!),0,(#REF!-#REF!)/#REF!)","v":0},{"$f":"IF(ISERROR((#REF!-#REF!)/#REF!),0,(#REF!-#REF!)/#REF!)","v":0},{"$f":"IF(ISERROR((#REF!-#REF!)/#REF!),0,(#REF!-#REF!)/#REF!)","v":0},{"$f":"IF(ISERROR((#REF!-#REF!)/#REF!),0,(#REF!-#REF!)/#REF!)","v":0},{"$f":"IF(ISERROR((#REF!-#REF!)/#REF!),0,(#REF!-#REF!)/#REF!)","v":0},{"$f":"IF(ISERROR((#REF!-#REF!)/#REF!),0,(#REF!-#REF!)/#REF!)","v":0},{"$f":"IF(ISERROR((#REF!-#REF!)/#REF!),0,(#REF!-#REF!)/#REF!)","v":0},{"$f":"IF(ISERROR((#REF!-#REF!)/#REF!),0,(#REF!-#REF!)/#REF!)","v":0},{"$f":"IF(ISERROR((#REF!-#REF!)/#REF!),0,(#REF!-#REF!)/#REF!)","v":0},{"$f":"IF(ISERROR((#REF!-#REF!)/#REF!),0,(#REF!-#REF!)/#REF!)","v":0},{"$f":"IF(ISERROR((#REF!-#REF!)/#REF!),0,(#REF!-#REF!)/#REF!)","v":0}]
[null,"AA14A","Intermediate Intracranial Procedures Except Trauma with Muscular, Balance, Cranial or Peripheral Nerve Disorders or Epilepsy, with CC",0,2712,0,0,5,4169,33,200,"No","-",0,"","",{"$f":"IF(ISERROR((#REF!-#REF!)/#REF!),0,(#REF!-#REF!)/#REF!)","v":0},{"$f":"IF(ISERROR((#REF!-#REF!)/#REF!),0,(#REF!-#REF!)/#REF!)","v":0},{"$f":"IF(ISERROR((#REF!-#REF!)/#REF!),0,(#REF!-#REF!)/#REF!)","v":0},{"$f":"IF(ISERROR((#REF!-#REF!)/#REF!),0,(#REF!-#REF!)/#REF!)","v":0},{"$f":"IF(ISERROR((#REF!-#REF!)/#REF!),0,(#REF!-#REF!)/#REF!)","v":0},{"$f":"IF(ISERROR((#REF!-#REF!)/#REF!),0,(#REF!-#REF!)/#REF!)","v":0},{"$f":"IF(ISERROR((#REF!-#REF!)/#REF!),0,(#REF!-#REF!)/#REF!)","v":0},{"$f":"IF(ISERROR((#REF!-#REF!)/#REF!),0,(#REF!-#REF!)/#REF!)","v":0},{"$f":"IF(ISERROR((#REF!-#REF!)/#REF!),0,(#REF!-#REF!)/#REF!)","v":0},{"$f":"IF(ISERROR((#REF!-#REF!)/#REF!),0,(#REF!-#REF!)/#REF!)","v":0},{"$f":"IF(ISERROR((#REF!-#REF!)/#REF!),0,(#REF!-#REF!)/#REF!)","v":0},{"$f":"IF(ISERROR((#REF!-#REF!)/#REF!),0,(#REF!-#REF!)/#REF!)","v":0},{"$f":"IF(ISERROR((#REF!-#REF!)/#REF!),0,(#REF!-#REF!)/#REF!)","v":0}]
[null,"AA14B","Intermediate Intracranial Procedures Except Trauma with Muscular, Balance, Cranial or Peripheral Nerve Disorders or Epilepsy, without CC",0,2712,0,0,5,4169,33,200,"No","-",0,"","",{"$f":"IF(ISERROR((#REF!-#REF!)/#REF!),0,(#REF!-#REF!)/#REF!)","v":0},{"$f":"IF(ISERROR((#REF!-#REF!)/#REF!),0,(#REF!-#REF!)/#REF!)","v":0},{"$f":"IF(ISERROR((#REF!-#REF!)/#REF!),0,(#REF!-#REF!)/#REF!)","v":0},{"$f":"IF(ISERROR((#REF!-#REF!)/#REF!),0,(#REF!-#REF!)/#REF!)","v":0},{"$f":"IF(ISERROR((#REF!-#REF!)/#REF!),0,(#REF!-#REF!)/#REF!)","v":0},{"$f":"IF(ISERROR((#REF!-#REF!)/#REF!),0,(#REF!-#REF!)/#REF!)","v":0},{"$f":"IF(ISERROR((#REF!-#REF!)/#REF!),0,(#REF!-#REF!)/#REF!)","v":0},{"$f":"IF(ISERROR((#REF!-#REF!)/#REF!),0,(#REF!-#REF!)/#REF!)","v":0},{"$f":"IF(ISERROR((#REF!-#REF!)/#REF!),0,(#REF!-#REF!)/#REF!)","v":0},{"$f":"IF(ISERROR((#REF!-#REF!)/#REF!),0,(#REF!-#REF!)/#REF!)","v":0},{"$f":"IF(ISERROR((#REF!-#REF!)/#REF!),0,(#REF!-#REF!)/#REF!)","v":0},{"$f":"IF(ISERROR((#REF!-#REF!)/#REF!),0,(#REF!-#REF!)/#REF!)","v":0},{"$f":"IF(ISERROR((#REF!-#REF!)/#REF!),0,(#REF!-#REF!)/#REF!)","v":0}]
[null,"AA15A","Intermediate Intracranial Procedures Except Trauma with Other Diagnoses with CC",0,4784,0,0,16,8865,56,200,"No","-",0,"","",{"$f":"IF(ISERROR((#REF!-#REF!)/#REF!),0,(#REF!-#REF!)/#REF!)","v":0},{"$f":"IF(ISERROR((#REF!-#REF!)/#REF!),0,(#REF!-#REF!)/#REF!)","v":0},{"$f":"IF(ISERROR((#REF!-#REF!)/#REF!),0,(#REF!-#REF!)/#REF!)","v":0},{"$f":"IF(ISERROR((#REF!-#REF!)/#REF!),0,(#REF!-#REF!)/#REF!)","v":0},{"$f":"IF(ISERROR((#REF!-#REF!)/#REF!),0,(#REF!-#REF!)/#REF!)","v":0},{"$f":"IF(ISERROR((#REF!-#REF!)/#REF!),0,(#REF!-#REF!)/#REF!)","v":0},{"$f":"IF(ISERROR((#REF!-#REF!)/#REF!),0,(#REF!-#REF!)/#REF!)","v":0},{"$f":"IF(ISERROR((#REF!-#REF!)/#REF!),0,(#REF!-#REF!)/#REF!)","v":0},{"$f":"IF(ISERROR((#REF!-#REF!)/#REF!),0,(#REF!-#REF!)/#REF!)","v":0},{"$f":"IF(ISERROR((#REF!-#REF!)/#REF!),0,(#REF!-#REF!)/#REF!)","v":0},{"$f":"IF(ISERROR((#REF!-#REF!)/#REF!),0,(#REF!-#REF!)/#REF!)","v":0},{"$f":"IF(ISERROR((#REF!-#REF!)/#REF!),0,(#REF!-#REF!)/#REF!)","v":0},{"$f":"IF(ISERROR((#REF!-#REF!)/#REF!),0,(#REF!-#REF!)/#REF!)","v":0}]
[null,"AA15B","Intermediate Intracranial Procedures Except Trauma with Other Diagnoses without CC",0,3720,0,0,11,6874,40,200,"No","-",0,"","",{"$f":"IF(ISERROR((#REF!-#REF!)/#REF!),0,(#REF!-#REF!)/#REF!)","v":0},{"$f":"IF(ISERROR((#REF!-#REF!)/#REF!),0,(#REF!-#REF!)/#REF!)","v":0},{"$f":"IF(ISERROR((#REF!-#REF!)/#REF!),0,(#REF!-#REF!)/#REF!)","v":0},{"$f":"IF(ISERROR((#REF!-#REF!)/#REF!),0,(#REF!-#REF!)/#REF!)","v":0},{"$f":"IF(ISERROR((#REF!-#REF!)/#REF!),0,(#REF!-#REF!)/#REF!)","v":0},{"$f":"IF(ISERROR((#REF!-#REF!)/#REF!),0,(#REF!-#REF!)/#REF!)","v":0},{"$f":"IF(ISERROR((#REF!-#REF!)/#REF!),0,(#REF!-#REF!)/#REF!)","v":0},{"$f":"IF(ISERROR((#REF!-#REF!)/#REF!),0,(#REF!-#REF!)/#REF!)","v":0},{"$f":"IF(ISERROR((#REF!-#REF!)/#REF!),0,(#REF!-#REF!)/#REF!)","v":0},{"$f":"IF(ISERROR((#REF!-#REF!)/#REF!),0,(#REF!-#REF!)/#REF!)","v":0},{"$f":"IF(ISERROR((#REF!-#REF!)/#REF!),0,(#REF!-#REF!)/#REF!)","v":0},{"$f":"IF(ISERROR((#REF!-#REF!)/#REF!),0,(#REF!-#REF!)/#REF!)","v":0},{"$f":"IF(ISERROR((#REF!-#REF!)/#REF!),0,(#REF!-#REF!)/#REF!)","v":0}]
[null,"AA16A","Minor Intracranial Procedures Except Trauma with Non-Transient Stroke or Cerebrovascular Accident, Nervous System Infections or Encephalopathy, with CC",0,6226,0,0,24,7626,54,200,"No","-",0,"","",{"$f":"IF(ISERROR((#REF!-#REF!)/#REF!),0,(#REF!-#REF!)/#REF!)","v":0},{"$f":"IF(ISERROR((#REF!-#REF!)/#REF!),0,(#REF!-#REF!)/#REF!)","v":0},{"$f":"IF(ISERROR((#REF!-#REF!)/#REF!),0,(#REF!-#REF!)/#REF!)","v":0},{"$f":"IF(ISERROR((#REF!-#REF!)/#REF!),0,(#REF!-#REF!)/#REF!)","v":0},{"$f":"IF(ISERROR((#REF!-#REF!)/#REF!),0,(#REF!-#REF!)/#REF!)","v":0},{"$f":"IF(ISERROR((#REF!-#REF!)/#REF!),0,(#REF!-#REF!)/#REF!)","v":0},{"$f":"IF(ISERROR((#REF!-#REF!)/#REF!),0,(#REF!-#REF!)/#REF!)","v":0},{"$f":"IF(ISERROR((#REF!-#REF!)/#REF!),0,(#REF!-#REF!)/#REF!)","v":0},{"$f":"IF(ISERROR((#REF!-#REF!)/#REF!),0,(#REF!-#REF!)/#REF!)","v":0},{"$f":"IF(ISERROR((#REF!-#REF!)/#REF!),0,(#REF!-#REF!)/#REF!)","v":0},{"$f":"IF(ISERROR((#REF!-#REF!)/#REF!),0,(#REF!-#REF!)/#REF!)","v":0},{"$f":"IF(ISERROR((#REF!-#REF!)/#REF!),0,(#REF!-#REF!)/#REF!)","v":0},{"$f":"IF(ISERROR((#REF!-#REF!)/#REF!),0,(#REF!-#REF!)/#REF!)","v":0}]
[null,"AA16B","Minor Intracranial Procedures Except Trauma with Non-Transient Stroke or Cerebrovascular Accident, Nervous System Infections or Encephalopathy, without CC",0,2458,0,0,6,6512,38,200,"No","-",0,"","",{"$f":"IF(ISERROR((#REF!-#REF!)/#REF!),0,(#REF!-#REF!)/#REF!)","v":0},{"$f":"IF(ISERROR((#REF!-#REF!)/#REF!),0,(#REF!-#REF!)/#REF!)","v":0},{"$f":"IF(ISERROR((#REF!-#REF!)/#REF!),0,(#REF!-#REF!)/#REF!)","v":0},{"$f":"IF(ISERROR((#REF!-#REF!)/#REF!),0,(#REF!-#REF!)/#REF!)","v":0},{"$f":"IF(ISERROR((#REF!-#REF!)/#REF!),0,(#REF!-#REF!)/#REF!)","v":0},{"$f":"IF(ISERROR((#REF!-#REF!)/#REF!),0,(#REF!-#REF!)/#REF!)","v":0},{"$f":"IF(ISERROR((#REF!-#REF!)/#REF!),0,(#REF!-#REF!)/#REF!)","v":0},{"$f":"IF(ISERROR((#REF!-#REF!)/#REF!),0,(#REF!-#REF!)/#REF!)","v":0},{"$f":"IF(ISERROR((#REF!-#REF!)/#REF!),0,(#REF!-#REF!)/#REF!)","v":0},{"$f":"IF(ISERROR((#REF!-#REF!)/#REF!),0,(#REF!-#REF!)/#REF!)","v":0},{"$f":"IF(ISERROR((#REF!-#REF!)/#REF!),0,(#REF!-#REF!)/#REF!)","v":0},{"$f":"IF(ISERROR((#REF!-#REF!)/#REF!),0,(#REF!-#REF!)/#REF!)","v":0},{"$f":"IF(ISERROR((#REF!-#REF!)/#REF!),0,(#REF!-#REF!)/#REF!)","v":0}]
[null,"AA17A","Minor Intracranial Procedures Except Trauma with Haemorrhagic Cerebrovascular Disorders with CC",0,7105,0,0,19,7649,60,200,"No","-",0,"","",{"$f":"IF(ISERROR((#REF!-#REF!)/#REF!),0,(#REF!-#REF!)/#REF!)","v":0},{"$f":"IF(ISERROR((#REF!-#REF!)/#REF!),0,(#REF!-#REF!)/#REF!)","v":0},{"$f":"IF(ISERROR((#REF!-#REF!)/#REF!),0,(#REF!-#REF!)/#REF!)","v":0},{"$f":"IF(ISERROR((#REF!-#REF!)/#REF!),0,(#REF!-#REF!)/#REF!)","v":0},{"$f":"IF(ISERROR((#REF!-#REF!)/#REF!),0,(#REF!-#REF!)/#REF!)","v":0},{"$f":"IF(ISERROR((#REF!-#REF!)/#REF!),0,(#REF!-#REF!)/#REF!)","v":0},{"$f":"IF(ISERROR((#REF!-#REF!)/#REF!),0,(#REF!-#REF!)/#REF!)","v":0},{"$f":"IF(ISERROR((#REF!-#REF!)/#REF!),0,(#REF!-#REF!)/#REF!)","v":0},{"$f":"IF(ISERROR((#REF!-#REF!)/#REF!),0,(#REF!-#REF!)/#REF!)","v":0},{"$f":"IF(ISERROR((#REF!-#REF!)/#REF!),0,(#REF!-#REF!)/#REF!)","v":0},{"$f":"IF(ISERROR((#REF!-#REF!)/#REF!),0,(#REF!-#REF!)/#REF!)","v":0},{"$f":"IF(ISERROR((#REF!-#REF!)/#REF!),0,(#REF!-#REF!)/#REF!)","v":0},{"$f":"IF(ISERROR((#REF!-#REF!)/#REF!),0,(#REF!-#REF!)/#REF!)","v":0}]
[null,"AA17B","Minor Intracranial Procedures Except Trauma with Haemorrhagic Cerebrovascular Disorders without CC",0,5751,0,0,5,4995,33,200,"No","-",0,"","",{"$f":"IF(ISERROR((#REF!-#REF!)/#REF!),0,(#REF!-#REF!)/#REF!)","v":0},{"$f":"IF(ISERROR((#REF!-#REF!)/#REF!),0,(#REF!-#REF!)/#REF!)","v":0},{"$f":"IF(ISERROR((#REF!-#REF!)/#REF!),0,(#REF!-#REF!)/#REF!)","v":0},{"$f":"IF(ISERROR((#REF!-#REF!)/#REF!),0,(#REF!-#REF!)/#REF!)","v":0},{"$f":"IF(ISERROR((#REF!-#REF!)/#REF!),0,(#REF!-#REF!)/#REF!)","v":0},{"$f":"IF(ISERROR((#REF!-#REF!)/#REF!),0,(#REF!-#REF!)/#REF!)","v":0},{"$f":"IF(ISERROR((#REF!-#REF!)/#REF!),0,(#REF!-#REF!)/#REF!)","v":0},{"$f":"IF(ISERROR((#REF!-#REF!)/#REF!),0,(#REF!-#REF!)/#REF!)","v":0},{"$f":"IF(ISERROR((#REF!-#REF!)/#REF!),0,(#REF!-#REF!)/#REF!)","v":0},{"$f":"IF(ISERROR((#REF!-#REF!)/#REF!),0,(#REF!-#REF!)/#REF!)","v":0},{"$f":"IF(ISERROR((#REF!-#REF!)/#REF!),0,(#REF!-#REF!)/#REF!)","v":0},{"$f":"IF(ISERROR((#REF!-#REF!)/#REF!),0,(#REF!-#REF!)/#REF!)","v":0},{"$f":"IF(ISERROR((#REF!-#REF!)/#REF!),0,(#REF!-#REF!)/#REF!)","v":0}]
[null,"AA18A","Minor Intracranial Procedures Except Trauma with Brain Tumours or Cerebral Cysts, with CC",0,4127,0,0,11,5953,29,200,"No","-",0,"","",{"$f":"IF(ISERROR((#REF!-#REF!)/#REF!),0,(#REF!-#REF!)/#REF!)","v":0},{"$f":"IF(ISERROR((#REF!-#REF!)/#REF!),0,(#REF!-#REF!)/#REF!)","v":0},{"$f":"IF(ISERROR((#REF!-#REF!)/#REF!),0,(#REF!-#REF!)/#REF!)","v":0},{"$f":"IF(ISERROR((#REF!-#REF!)/#REF!),0,(#REF!-#REF!)/#REF!)","v":0},{"$f":"IF(ISERROR((#REF!-#REF!)/#REF!),0,(#REF!-#REF!)/#REF!)","v":0},{"$f":"IF(ISERROR((#REF!-#REF!)/#REF!),0,(#REF!-#REF!)/#REF!)","v":0},{"$f":"IF(ISERROR((#REF!-#REF!)/#REF!),0,(#REF!-#REF!)/#REF!)","v":0},{"$f":"IF(ISERROR((#REF!-#REF!)/#REF!),0,(#REF!-#REF!)/#REF!)","v":0},{"$f":"IF(ISERROR((#REF!-#REF!)/#REF!),0,(#REF!-#REF!)/#REF!)","v":0},{"$f":"IF(ISERROR((#REF!-#REF!)/#REF!),0,(#REF!-#REF!)/#REF!)","v":0},{"$f":"IF(ISERROR((#REF!-#REF!)/#REF!),0,(#REF!-#REF!)/#REF!)","v":0},{"$f":"IF(ISERROR((#REF!-#REF!)/#REF!),0,(#REF!-#REF!)/#REF!)","v":0},{"$f":"IF(ISERROR((#REF!-#REF!)/#REF!),0,(#REF!-#REF!)/#REF!)","v":0}]
[null,"AA18B","Minor Intracranial Procedures Except Trauma with Brain Tumours or Cerebral Cysts, without CC",0,3939,0,0,9,5320,21,200,"No","-",0,"","",{"$f":"IF(ISERROR((#REF!-#REF!)/#REF!),0,(#REF!-#REF!)/#REF!)","v":0},{"$f":"IF(ISERROR((#REF!-#REF!)/#REF!),0,(#REF!-#REF!)/#REF!)","v":0},{"$f":"IF(ISERROR((#REF!-#REF!)/#REF!),0,(#REF!-#REF!)/#REF!)","v":0},{"$f":"IF(ISERROR((#REF!-#REF!)/#REF!),0,(#REF!-#REF!)/#REF!)","v":0},{"$f":"IF(ISERROR((#REF!-#REF!)/#REF!),0,(#REF!-#REF!)/#REF!)","v":0},{"$f":"IF(ISERROR((#REF!-#REF!)/#REF!),0,(#REF!-#REF!)/#REF!)","v":0},{"$f":"IF(ISERROR((#REF!-#REF!)/#REF!),0,(#REF!-#REF!)/#REF!)","v":0},{"$f":"IF(ISERROR((#REF!-#REF!)/#REF!),0,(#REF!-#REF!)/#REF!)","v":0},{"$f":"IF(ISERROR((#REF!-#REF!)/#REF!),0,(#REF!-#REF!)/#REF!)","v":0},{"$f":"IF(ISERROR((#REF!-#REF!)/#REF!),0,(#REF!-#REF!)/#REF!)","v":0},{"$f":"IF(ISERROR((#REF!-#REF!)/#REF!),0,(#REF!-#REF!)/#REF!)","v":0},{"$f":"IF(ISERROR((#REF!-#REF!)/#REF!),0,(#REF!-#REF!)/#REF!)","v":0},{"$f":"IF(ISERROR((#REF!-#REF!)/#REF!),0,(#REF!-#REF!)/#REF!)","v":0}]
[null,"AA19A","Minor Intracranial Procedures Except Trauma with Cerebral Degenerations or Miscellaneous Disorders of Nervous System, with CC",0,2041,0,0,8,4454,20,200,"No","-",0,"","",{"$f":"IF(ISERROR((#REF!-#REF!)/#REF!),0,(#REF!-#REF!)/#REF!)","v":0},{"$f":"IF(ISERROR((#REF!-#REF!)/#REF!),0,(#REF!-#REF!)/#REF!)","v":0},{"$f":"IF(ISERROR((#REF!-#REF!)/#REF!),0,(#REF!-#REF!)/#REF!)","v":0},{"$f":"IF(ISERROR((#REF!-#REF!)/#REF!),0,(#REF!-#REF!)/#REF!)","v":0},{"$f":"IF(ISERROR((#REF!-#REF!)/#REF!),0,(#REF!-#REF!)/#REF!)","v":0},{"$f":"IF(ISERROR((#REF!-#REF!)/#REF!),0,(#REF!-#REF!)/#REF!)","v":0},{"$f":"IF(ISERROR((#REF!-#REF!)/#REF!),0,(#REF!-#REF!)/#REF!)","v":0},{"$f":"IF(ISERROR((#REF!-#REF!)/#REF!),0,(#REF!-#REF!)/#REF!)","v":0},{"$f":"IF(ISERROR((#REF!-#REF!)/#REF!),0,(#REF!-#REF!)/#REF!)","v":0},{"$f":"IF(ISERROR((#REF!-#REF!)/#REF!),0,(#REF!-#REF!)/#REF!)","v":0},{"$f":"IF(ISERROR((#REF!-#REF!)/#REF!),0,(#REF!-#REF!)/#REF!)","v":0},{"$f":"IF(ISERROR((#REF!-#REF!)/#REF!),0,(#REF!-#REF!)/#REF!)","v":0},{"$f":"IF(ISERROR((#REF!-#REF!)/#REF!),0,(#REF!-#REF!)/#REF!)","v":0}]
[null,"AA19B","Minor Intracranial Procedures Except Trauma with Cerebral Degenerations or Miscellaneous Disorders of Nervous System, without CC",0,1597,0,0,5,3182,11,200,"No","-",0,"","",{"$f":"IF(ISERROR((#REF!-#REF!)/#REF!),0,(#REF!-#REF!)/#REF!)","v":0},{"$f":"IF(ISERROR((#REF!-#REF!)/#REF!),0,(#REF!-#REF!)/#REF!)","v":0},{"$f":"IF(ISERROR((#REF!-#REF!)/#REF!),0,(#REF!-#REF!)/#REF!)","v":0},{"$f":"IF(ISERROR((#REF!-#REF!)/#REF!),0,(#REF!-#REF!)/#REF!)","v":0},{"$f":"IF(ISERROR((#REF!-#REF!)/#REF!),0,(#REF!-#REF!)/#REF!)","v":0},{"$f":"IF(ISERROR((#REF!-#REF!)/#REF!),0,(#REF!-#REF!)/#REF!)","v":0},{"$f":"IF(ISERROR((#REF!-#REF!)/#REF!),0,(#REF!-#REF!)/#REF!)","v":0},{"$f":"IF(ISERROR((#REF!-#REF!)/#REF!),0,(#REF!-#REF!)/#REF!)","v":0},{"$f":"IF(ISERROR((#REF!-#REF!)/#REF!),0,(#REF!-#REF!)/#REF!)","v":0},{"$f":"IF(ISERROR((#REF!-#REF!)/#REF!),0,(#REF!-#REF!)/#REF!)","v":0},{"$f":"IF(ISERROR((#REF!-#REF!)/#REF!),0,(#REF!-#REF!)/#REF!)","v":0},{"$f":"IF(ISERROR((#REF!-#REF!)/#REF!),0,(#REF!-#REF!)/#REF!)","v":0},{"$f":"IF(ISERROR((#REF!-#REF!)/#REF!),0,(#REF!-#REF!)/#REF!)","v":0}]
[null,"AA20A","Minor Intracranial Procedures Except Trauma with Muscular, Balance, Cranial or Peripheral Nerve Disorders or Epilepsy, with CC",0,2520,0,0,5,3442,22,200,"No","-",0,"","",{"$f":"IF(ISERROR((#REF!-#REF!)/#REF!),0,(#REF!-#REF!)/#REF!)","v":0},{"$f":"IF(ISERROR((#REF!-#REF!)/#REF!),0,(#REF!-#REF!)/#REF!)","v":0},{"$f":"IF(ISERROR((#REF!-#REF!)/#REF!),0,(#REF!-#REF!)/#REF!)","v":0},{"$f":"IF(ISERROR((#REF!-#REF!)/#REF!),0,(#REF!-#REF!)/#REF!)","v":0},{"$f":"IF(ISERROR((#REF!-#REF!)/#REF!),0,(#REF!-#REF!)/#REF!)","v":0},{"$f":"IF(ISERROR((#REF!-#REF!)/#REF!),0,(#REF!-#REF!)/#REF!)","v":0},{"$f":"IF(ISERROR((#REF!-#REF!)/#REF!),0,(#REF!-#REF!)/#REF!)","v":0},{"$f":"IF(ISERROR((#REF!-#REF!)/#REF!),0,(#REF!-#REF!)/#REF!)","v":0},{"$f":"IF(ISERROR((#REF!-#REF!)/#REF!),0,(#REF!-#REF!)/#REF!)","v":0},{"$f":"IF(ISERROR((#REF!-#REF!)/#REF!),0,(#REF!-#REF!)/#REF!)","v":0},{"$f":"IF(ISERROR((#REF!-#REF!)/#REF!),0,(#REF!-#REF!)/#REF!)","v":0},{"$f":"IF(ISERROR((#REF!-#REF!)/#REF!),0,(#REF!-#REF!)/#REF!)","v":0},{"$f":"IF(ISERROR((#REF!-#REF!)/#REF!),0,(#REF!-#REF!)/#REF!)","v":0}]
[null,"AA20B","Minor Intracranial Procedures Except Trauma with Muscular, Balance, Cranial or Peripheral Nerve Disorders or Epilepsy, without CC",0,1822,0,0,5,1519,5,200,"No","-",0,"","",{"$f":"IF(ISERROR((#REF!-#REF!)/#REF!),0,(#REF!-#REF!)/#REF!)","v":0},{"$f":"IF(ISERROR((#REF!-#REF!)/#REF!),0,(#REF!-#REF!)/#REF!)","v":0},{"$f":"IF(ISERROR((#REF!-#REF!)/#REF!),0,(#REF!-#REF!)/#REF!)","v":0},{"$f":"IF(ISERROR((#REF!-#REF!)/#REF!),0,(#REF!-#REF!)/#REF!)","v":0},{"$f":"IF(ISERROR((#REF!-#REF!)/#REF!),0,(#REF!-#REF!)/#REF!)","v":0},{"$f":"IF(ISERROR((#REF!-#REF!)/#REF!),0,(#REF!-#REF!)/#REF!)","v":0},{"$f":"IF(ISERROR((#REF!-#REF!)/#REF!),0,(#REF!-#REF!)/#REF!)","v":0},{"$f":"IF(ISERROR((#REF!-#REF!)/#REF!),0,(#REF!-#REF!)/#REF!)","v":0},{"$f":"IF(ISERROR((#REF!-#REF!)/#REF!),0,(#REF!-#REF!)/#REF!)","v":0},{"$f":"IF(ISERROR((#REF!-#REF!)/#REF!),0,(#REF!-#REF!)/#REF!)","v":0},{"$f":"IF(ISERROR((#REF!-#REF!)/#REF!),0,(#REF!-#REF!)/#REF!)","v":0},{"$f":"IF(ISERROR((#REF!-#REF!)/#REF!),0,(#REF!-#REF!)/#REF!)","v":0},{"$f":"IF(ISERROR((#REF!-#REF!)/#REF!),0,(#REF!-#REF!)/#REF!)","v":0}]
[null,"AA21A","Minor Intracranial Procedures Except Trauma with Other Diagnoses with CC",0,1489,0,0,5,5588,36,200,"No","-",0,"","",{"$f":"IF(ISERROR((#REF!-#REF!)/#REF!),0,(#REF!-#REF!)/#REF!)","v":0},{"$f":"IF(ISERROR((#REF!-#REF!)/#REF!),0,(#REF!-#REF!)/#REF!)","v":0},{"$f":"IF(ISERROR((#REF!-#REF!)/#REF!),0,(#REF!-#REF!)/#REF!)","v":0},{"$f":"IF(ISERROR((#REF!-#REF!)/#REF!),0,(#REF!-#REF!)/#REF!)","v":0},{"$f":"IF(ISERROR((#REF!-#REF!)/#REF!),0,(#REF!-#REF!)/#REF!)","v":0},{"$f":"IF(ISERROR((#REF!-#REF!)/#REF!),0,(#REF!-#REF!)/#REF!)","v":0},{"$f":"IF(ISERROR((#REF!-#REF!)/#REF!),0,(#REF!-#REF!)/#REF!)","v":0},{"$f":"IF(ISERROR((#REF!-#REF!)/#REF!),0,(#REF!-#REF!)/#REF!)","v":0},{"$f":"IF(ISERROR((#REF!-#REF!)/#REF!),0,(#REF!-#REF!)/#REF!)","v":0},{"$f":"IF(ISERROR((#REF!-#REF!)/#REF!),0,(#REF!-#REF!)/#REF!)","v":0},{"$f":"IF(ISERROR((#REF!-#REF!)/#REF!),0,(#REF!-#REF!)/#REF!)","v":0},{"$f":"IF(ISERROR((#REF!-#REF!)/#REF!),0,(#REF!-#REF!)/#REF!)","v":0},{"$f":"IF(ISERROR((#REF!-#REF!)/#REF!),0,(#REF!-#REF!)/#REF!)","v":0}]
[null,"AA21B","Minor Intracranial Procedures Except Trauma with Other Diagnoses without CC",0,823,0,0,5,4146,21,200,"No","-",0,"","",{"$f":"IF(ISERROR((#REF!-#REF!)/#REF!),0,(#REF!-#REF!)/#REF!)","v":0},{"$f":"IF(ISERROR((#REF!-#REF!)/#REF!),0,(#REF!-#REF!)/#REF!)","v":0},{"$f":"IF(ISERROR((#REF!-#REF!)/#REF!),0,(#REF!-#REF!)/#REF!)","v":0},{"$f":"IF(ISERROR((#REF!-#REF!)/#REF!),0,(#REF!-#REF!)/#REF!)","v":0},{"$f":"IF(ISERROR((#REF!-#REF!)/#REF!),0,(#REF!-#REF!)/#REF!)","v":0},{"$f":"IF(ISERROR((#REF!-#REF!)/#REF!),0,(#REF!-#REF!)/#REF!)","v":0},{"$f":"IF(ISERROR((#REF!-#REF!)/#REF!),0,(#REF!-#REF!)/#REF!)","v":0},{"$f":"IF(ISERROR((#REF!-#REF!)/#REF!),0,(#REF!-#REF!)/#REF!)","v":0},{"$f":"IF(ISERROR((#REF!-#REF!)/#REF!),0,(#REF!-#REF!)/#REF!)","v":0},{"$f":"IF(ISERROR((#REF!-#REF!)/#REF!),0,(#REF!-#REF!)/#REF!)","v":0},{"$f":"IF(ISERROR((#REF!-#REF!)/#REF!),0,(#REF!-#REF!)/#REF!)","v":0},{"$f":"IF(ISERROR((#REF!-#REF!)/#REF!),0,(#REF!-#REF!)/#REF!)","v":0},{"$f":"IF(ISERROR((#REF!-#REF!)/#REF!),0,(#REF!-#REF!)/#REF!)","v":0}]
[null,"AA22A","Non-Transient Stroke or Cerebrovascular Accident, Nervous System Infections or Encephalopathy, with CC",0,3388,0,0,63,4895.9346554401536,41,200,"Yes",0.30000000000000004,1468.7803966320464,1,"sub-HRG",{"$f":"IF(ISERROR((#REF!-#REF!)/#REF!),0,(#REF!-#REF!)/#REF!)","v":0},{"$f":"IF(ISERROR((#REF!-#REF!)/#REF!),0,(#REF!-#REF!)/#REF!)","v":0},{"$f":"IF(ISERROR((#REF!-#REF!)/#REF!),0,(#REF!-#REF!)/#REF!)","v":0},{"$f":"IF(ISERROR((#REF!-#REF!)/#REF!),0,(#REF!-#REF!)/#REF!)","v":0},{"$f":"IF(ISERROR((#REF!-#REF!)/#REF!),0,(#REF!-#REF!)/#REF!)","v":0},{"$f":"IF(ISERROR((#REF!-#REF!)/#REF!),0,(#REF!-#REF!)/#REF!)","v":0},{"$f":"IF(ISERROR((#REF!-#REF!)/#REF!),0,(#REF!-#REF!)/#REF!)","v":0},{"$f":"IF(ISERROR((#REF!-#REF!)/#REF!),0,(#REF!-#REF!)/#REF!)","v":0},{"$f":"IF(ISERROR((#REF!-#REF!)/#REF!),0,(#REF!-#REF!)/#REF!)","v":0},{"$f":"IF(ISERROR((#REF!-#REF!)/#REF!),0,(#REF!-#REF!)/#REF!)","v":0},{"$f":"IF(ISERROR((#REF!-#REF!)/#REF!),0,(#REF!-#REF!)/#REF!)","v":0},{"$f":"IF(ISERROR((#REF!-#REF!)/#REF!),0,(#REF!-#REF!)/#REF!)","v":0},{"$f":"IF(ISERROR((#REF!-#REF!)/#REF!),0,(#REF!-#REF!)/#REF!)","v":0}]
[null,"AA22B","Non-Transient Stroke or Cerebrovascular Accident, Nervous System Infections or Encephalopathy, without CC",0,671,0,0,5,2257.5215267211802,16,200,"Yes",0.30000000000000004,677.25645801635415,1,"sub-HRG",{"$f":"IF(ISERROR((#REF!-#REF!)/#REF!),0,(#REF!-#REF!)/#REF!)","v":0},{"$f":"IF(ISERROR((#REF!-#REF!)/#REF!),0,(#REF!-#REF!)/#REF!)","v":0},{"$f":"IF(ISERROR((#REF!-#REF!)/#REF!),0,(#REF!-#REF!)/#REF!)","v":0},{"$f":"IF(ISERROR((#REF!-#REF!)/#REF!),0,(#REF!-#REF!)/#REF!)","v":0},{"$f":"IF(ISERROR((#REF!-#REF!)/#REF!),0,(#REF!-#REF!)/#REF!)","v":0},{"$f":"IF(ISERROR((#REF!-#REF!)/#REF!),0,(#REF!-#REF!)/#REF!)","v":0},{"$f":"IF(ISERROR((#REF!-#REF!)/#REF!),0,(#REF!-#REF!)/#REF!)","v":0},{"$f":"IF(ISERROR((#REF!-#REF!)/#REF!),0,(#REF!-#REF!)/#REF!)","v":0},{"$f":"IF(ISERROR((#REF!-#REF!)/#REF!),0,(#REF!-#REF!)/#REF!)","v":0},{"$f":"IF(ISERROR((#REF!-#REF!)/#REF!),0,(#REF!-#REF!)/#REF!)","v":0},{"$f":"IF(ISERROR((#REF!-#REF!)/#REF!),0,(#REF!-#REF!)/#REF!)","v":0},{"$f":"IF(ISERROR((#REF!-#REF!)/#REF!),0,(#REF!-#REF!)/#REF!)","v":0},{"$f":"IF(ISERROR((#REF!-#REF!)/#REF!),0,(#REF!-#REF!)/#REF!)","v":0}]
[null,"AA23A","Haemorrhagic Cerebrovascular Disorders with CC",0,7068,0,0,117,4444.0333072185422,45,200,"Yes",0.30000000000000004,1333.2099921655629,1,"sub-HRG",{"$f":"IF(ISERROR((#REF!-#REF!)/#REF!),0,(#REF!-#REF!)/#REF!)","v":0},{"$f":"IF(ISERROR((#REF!-#REF!)/#REF!),0,(#REF!-#REF!)/#REF!)","v":0},{"$f":"IF(ISERROR((#REF!-#REF!)/#REF!),0,(#REF!-#REF!)/#REF!)","v":0},{"$f":"IF(ISERROR((#REF!-#REF!)/#REF!),0,(#REF!-#REF!)/#REF!)","v":0},{"$f":"IF(ISERROR((#REF!-#REF!)/#REF!),0,(#REF!-#REF!)/#REF!)","v":0},{"$f":"IF(ISERROR((#REF!-#REF!)/#REF!),0,(#REF!-#REF!)/#REF!)","v":0},{"$f":"IF(ISERROR((#REF!-#REF!)/#REF!),0,(#REF!-#REF!)/#REF!)","v":0},{"$f":"IF(ISERROR((#REF!-#REF!)/#REF!),0,(#REF!-#REF!)/#REF!)","v":0},{"$f":"IF(ISERROR((#REF!-#REF!)/#REF!),0,(#REF!-#REF!)/#REF!)","v":0},{"$f":"IF(ISERROR((#REF!-#REF!)/#REF!),0,(#REF!-#REF!)/#REF!)","v":0},{"$f":"IF(ISERROR((#REF!-#REF!)/#REF!),0,(#REF!-#REF!)/#REF!)","v":0},{"$f":"IF(ISERROR((#REF!-#REF!)/#REF!),0,(#REF!-#REF!)/#REF!)","v":0},{"$f":"IF(ISERROR((#REF!-#REF!)/#REF!),0,(#REF!-#REF!)/#REF!)","v":0}]
[null,"AA23B","Haemorrhagic Cerebrovascular Disorders without CC",0,3451,0,0,44,2312.1177339477345,13,200,"Yes",0.30000000000000004,693.63532018432045,1,"sub-HRG",{"$f":"IF(ISERROR((#REF!-#REF!)/#REF!),0,(#REF!-#REF!)/#REF!)","v":0},{"$f":"IF(ISERROR((#REF!-#REF!)/#REF!),0,(#REF!-#REF!)/#REF!)","v":0},{"$f":"IF(ISERROR((#REF!-#REF!)/#REF!),0,(#REF!-#REF!)/#REF!)","v":0},{"$f":"IF(ISERROR((#REF!-#REF!)/#REF!),0,(#REF!-#REF!)/#REF!)","v":0},{"$f":"IF(ISERROR((#REF!-#REF!)/#REF!),0,(#REF!-#REF!)/#REF!)","v":0},{"$f":"IF(ISERROR((#REF!-#REF!)/#REF!),0,(#REF!-#REF!)/#REF!)","v":0},{"$f":"IF(ISERROR((#REF!-#REF!)/#REF!),0,(#REF!-#REF!)/#REF!)","v":0},{"$f":"IF(ISERROR((#REF!-#REF!)/#REF!),0,(#REF!-#REF!)/#REF!)","v":0},{"$f":"IF(ISERROR((#REF!-#REF!)/#REF!),0,(#REF!-#REF!)/#REF!)","v":0},{"$f":"IF(ISERROR((#REF!-#REF!)/#REF!),0,(#REF!-#REF!)/#REF!)","v":0},{"$f":"IF(ISERROR((#REF!-#REF!)/#REF!),0,(#REF!-#REF!)/#REF!)","v":0},{"$f":"IF(ISERROR((#REF!-#REF!)/#REF!),0,(#REF!-#REF!)/#REF!)","v":0},{"$f":"IF(ISERROR((#REF!-#REF!)/#REF!),0,(#REF!-#REF!)/#REF!)","v":0}]
[null,"AA24A","Brain Tumours or Cerebral Cysts, with CC",0,944,0,0,5,3709.4491924135946,32,200,"Yes",0.30000000000000004,1112.8347577240786,"","",{"$f":"IF(ISERROR((#REF!-#REF!)/#REF!),0,(#REF!-#REF!)/#REF!)","v":0},{"$f":"IF(ISERROR((#REF!-#REF!)/#REF!),0,(#REF!-#REF!)/#REF!)","v":0},{"$f":"IF(ISERROR((#REF!-#REF!)/#REF!),0,(#REF!-#REF!)/#REF!)","v":0},{"$f":"IF(ISERROR((#REF!-#REF!)/#REF!),0,(#REF!-#REF!)/#REF!)","v":0},{"$f":"IF(ISERROR((#REF!-#REF!)/#REF!),0,(#REF!-#REF!)/#REF!)","v":0},{"$f":"IF(ISERROR((#REF!-#REF!)/#REF!),0,(#REF!-#REF!)/#REF!)","v":0},{"$f":"IF(ISERROR((#REF!-#REF!)/#REF!),0,(#REF!-#REF!)/#REF!)","v":0},{"$f":"IF(ISERROR((#REF!-#REF!)/#REF!),0,(#REF!-#REF!)/#REF!)","v":0},{"$f":"IF(ISERROR((#REF!-#REF!)/#REF!),0,(#REF!-#REF!)/#REF!)","v":0},{"$f":"IF(ISERROR((#REF!-#REF!)/#REF!),0,(#REF!-#REF!)/#REF!)","v":0},{"$f":"IF(ISERROR((#REF!-#REF!)/#REF!),0,(#REF!-#REF!)/#REF!)","v":0},{"$f":"IF(ISERROR((#REF!-#REF!)/#REF!),0,(#REF!-#REF!)/#REF!)","v":0},{"$f":"IF(ISERROR((#REF!-#REF!)/#REF!),0,(#REF!-#REF!)/#REF!)","v":0}]
[null,"AA24B","Brain Tumours or Cerebral Cysts, without CC",0,642,0,0,5,4412.8245512714484,14,200,"Yes",0.30000000000000004,1323.8473653814347,"","",{"$f":"IF(ISERROR((#REF!-#REF!)/#REF!),0,(#REF!-#REF!)/#REF!)","v":0},{"$f":"IF(ISERROR((#REF!-#REF!)/#REF!),0,(#REF!-#REF!)/#REF!)","v":0},{"$f":"IF(ISERROR((#REF!-#REF!)/#REF!),0,(#REF!-#REF!)/#REF!)","v":0},{"$f":"IF(ISERROR((#REF!-#REF!)/#REF!),0,(#REF!-#REF!)/#REF!)","v":0},{"$f":"IF(ISERROR((#REF!-#REF!)/#REF!),0,(#REF!-#REF!)/#REF!)","v":0},{"$f":"IF(ISERROR((#REF!-#REF!)/#REF!),0,(#REF!-#REF!)/#REF!)","v":0},{"$f":"IF(ISERROR((#REF!-#REF!)/#REF!),0,(#REF!-#REF!)/#REF!)","v":0},{"$f":"IF(ISERROR((#REF!-#REF!)/#REF!),0,(#REF!-#REF!)/#REF!)","v":0},{"$f":"IF(ISERROR((#REF!-#REF!)/#REF!),0,(#REF!-#REF!)/#REF!)","v":0},{"$f":"IF(ISERROR((#REF!-#REF!)/#REF!),0,(#REF!-#REF!)/#REF!)","v":0},{"$f":"IF(ISERROR((#REF!-#REF!)/#REF!),0,(#REF!-#REF!)/#REF!)","v":0},{"$f":"IF(ISERROR((#REF!-#REF!)/#REF!),0,(#REF!-#REF!)/#REF!)","v":0},{"$f":"IF(ISERROR((#REF!-#REF!)/#REF!),0,(#REF!-#REF!)/#REF!)","v":0}]
[null,"AA25A","Cerebral Degenerations or Miscellaneous Disorders of Nervous System, with CC",0,1269,0,0,5,3700.3610003917775,24,200,"Yes",0.30000000000000004,1110.1083001175334,"","",{"$f":"IF(ISERROR((#REF!-#REF!)/#REF!),0,(#REF!-#REF!)/#REF!)","v":0},{"$f":"IF(ISERROR((#REF!-#REF!)/#REF!),0,(#REF!-#REF!)/#REF!)","v":0},{"$f":"IF(ISERROR((#REF!-#REF!)/#REF!),0,(#REF!-#REF!)/#REF!)","v":0},{"$f":"IF(ISERROR((#REF!-#REF!)/#REF!),0,(#REF!-#REF!)/#REF!)","v":0},{"$f":"IF(ISERROR((#REF!-#REF!)/#REF!),0,(#REF!-#REF!)/#REF!)","v":0},{"$f":"IF(ISERROR((#REF!-#REF!)/#REF!),0,(#REF!-#REF!)/#REF!)","v":0},{"$f":"IF(ISERROR((#REF!-#REF!)/#REF!),0,(#REF!-#REF!)/#REF!)","v":0},{"$f":"IF(ISERROR((#REF!-#REF!)/#REF!),0,(#REF!-#REF!)/#REF!)","v":0},{"$f":"IF(ISERROR((#REF!-#REF!)/#REF!),0,(#REF!-#REF!)/#REF!)","v":0},{"$f":"IF(ISERROR((#REF!-#REF!)/#REF!),0,(#REF!-#REF!)/#REF!)","v":0},{"$f":"IF(ISERROR((#REF!-#REF!)/#REF!),0,(#REF!-#REF!)/#REF!)","v":0},{"$f":"IF(ISERROR((#REF!-#REF!)/#REF!),0,(#REF!-#REF!)/#REF!)","v":0},{"$f":"IF(ISERROR((#REF!-#REF!)/#REF!),0,(#REF!-#REF!)/#REF!)","v":0}]
[null,"AA25B","Cerebral Degenerations or Miscellaneous Disorders of Nervous System, without CC",0,492,0,0,5,2489.8924444150316,8,200,"Yes",0.4,995.95697776601264,"","",{"$f":"IF(ISERROR((#REF!-#REF!)/#REF!),0,(#REF!-#REF!)/#REF!)","v":0},{"$f":"IF(ISERROR((#REF!-#REF!)/#REF!),0,(#REF!-#REF!)/#REF!)","v":0},{"$f":"IF(ISERROR((#REF!-#REF!)/#REF!),0,(#REF!-#REF!)/#REF!)","v":0},{"$f":"IF(ISERROR((#REF!-#REF!)/#REF!),0,(#REF!-#REF!)/#REF!)","v":0},{"$f":"IF(ISERROR((#REF!-#REF!)/#REF!),0,(#REF!-#REF!)/#REF!)","v":0},{"$f":"IF(ISERROR((#REF!-#REF!)/#REF!),0,(#REF!-#REF!)/#REF!)","v":0},{"$f":"IF(ISERROR((#REF!-#REF!)/#REF!),0,(#REF!-#REF!)/#REF!)","v":0},{"$f":"IF(ISERROR((#REF!-#REF!)/#REF!),0,(#REF!-#REF!)/#REF!)","v":0},{"$f":"IF(ISERROR((#REF!-#REF!)/#REF!),0,(#REF!-#REF!)/#REF!)","v":0},{"$f":"IF(ISERROR((#REF!-#REF!)/#REF!),0,(#REF!-#REF!)/#REF!)","v":0},{"$f":"IF(ISERROR((#REF!-#REF!)/#REF!),0,(#REF!-#REF!)/#REF!)","v":0},{"$f":"IF(ISERROR((#REF!-#REF!)/#REF!),0,(#REF!-#REF!)/#REF!)","v":0},{"$f":"IF(ISERROR((#REF!-#REF!)/#REF!),0,(#REF!-#REF!)/#REF!)","v":0}]
[null,"AA26A","Muscular, Balance, Cranial or Peripheral Nerve Disorders, Epilepsy or Head Injury, with CC",0,852,0,0,5,1194,13,200,"No","-",0,1,"sub-HRG",{"$f":"IF(ISERROR((#REF!-#REF!)/#REF!),0,(#REF!-#REF!)/#REF!)","v":0},{"$f":"IF(ISERROR((#REF!-#REF!)/#REF!),0,(#REF!-#REF!)/#REF!)","v":0},{"$f":"IF(ISERROR((#REF!-#REF!)/#REF!),0,(#REF!-#REF!)/#REF!)","v":0},{"$f":"IF(ISERROR((#REF!-#REF!)/#REF!),0,(#REF!-#REF!)/#REF!)","v":0},{"$f":"IF(ISERROR((#REF!-#REF!)/#REF!),0,(#REF!-#REF!)/#REF!)","v":0},{"$f":"IF(ISERROR((#REF!-#REF!)/#REF!),0,(#REF!-#REF!)/#REF!)","v":0},{"$f":"IF(ISERROR((#REF!-#REF!)/#REF!),0,(#REF!-#REF!)/#REF!)","v":0},{"$f":"IF(ISERROR((#REF!-#REF!)/#REF!),0,(#REF!-#REF!)/#REF!)","v":0},{"$f":"IF(ISERROR((#REF!-#REF!)/#REF!),0,(#REF!-#REF!)/#REF!)","v":0},{"$f":"IF(ISERROR((#REF!-#REF!)/#REF!),0,(#REF!-#REF!)/#REF!)","v":0},{"$f":"IF(ISERROR((#REF!-#REF!)/#REF!),0,(#REF!-#REF!)/#REF!)","v":0},{"$f":"IF(ISERROR((#REF!-#REF!)/#REF!),0,(#REF!-#REF!)/#REF!)","v":0},{"$f":"IF(ISERROR((#REF!-#REF!)/#REF!),0,(#REF!-#REF!)/#REF!)","v":0}]
[null,"AA26B","Muscular, Balance, Cranial or Peripheral Nerve Disorders, Epilepsy or Head Injury, without CC",0,588,0,0,5,590,5,200,"No","-",0,1,"sub-HRG",{"$f":"IF(ISERROR((#REF!-#REF!)/#REF!),0,(#REF!-#REF!)/#REF!)","v":0},{"$f":"IF(ISERROR((#REF!-#REF!)/#REF!),0,(#REF!-#REF!)/#REF!)","v":0},{"$f":"IF(ISERROR((#REF!-#REF!)/#REF!),0,(#REF!-#REF!)/#REF!)","v":0},{"$f":"IF(ISERROR((#REF!-#REF!)/#REF!),0,(#REF!-#REF!)/#REF!)","v":0},{"$f":"IF(ISERROR((#REF!-#REF!)/#REF!),0,(#REF!-#REF!)/#REF!)","v":0},{"$f":"IF(ISERROR((#REF!-#REF!)/#REF!),0,(#REF!-#REF!)/#REF!)","v":0},{"$f":"IF(ISERROR((#REF!-#REF!)/#REF!),0,(#REF!-#REF!)/#REF!)","v":0},{"$f":"IF(ISERROR((#REF!-#REF!)/#REF!),0,(#REF!-#REF!)/#REF!)","v":0},{"$f":"IF(ISERROR((#REF!-#REF!)/#REF!),0,(#REF!-#REF!)/#REF!)","v":0},{"$f":"IF(ISERROR((#REF!-#REF!)/#REF!),0,(#REF!-#REF!)/#REF!)","v":0},{"$f":"IF(ISERROR((#REF!-#REF!)/#REF!),0,(#REF!-#REF!)/#REF!)","v":0},{"$f":"IF(ISERROR((#REF!-#REF!)/#REF!),0,(#REF!-#REF!)/#REF!)","v":0},{"$f":"IF(ISERROR((#REF!-#REF!)/#REF!),0,(#REF!-#REF!)/#REF!)","v":0}]
[null,"AA27A","Medical Care of Patients with Alzheimer's Disease with CC",0,3140,0,0,84,5189.3615724450674,55,200,"Yes",0.30000000000000004,1556.8084717335205,"","",{"$f":"IF(ISERROR((#REF!-#REF!)/#REF!),0,(#REF!-#REF!)/#REF!)","v":0},{"$f":"IF(ISERROR((#REF!-#REF!)/#REF!),0,(#REF!-#REF!)/#REF!)","v":0},{"$f":"IF(ISERROR((#REF!-#REF!)/#REF!),0,(#REF!-#REF!)/#REF!)","v":0},{"$f":"IF(ISERROR((#REF!-#REF!)/#REF!),0,(#REF!-#REF!)/#REF!)","v":0},{"$f":"IF(ISERROR((#REF!-#REF!)/#REF!),0,(#REF!-#REF!)/#REF!)","v":0},{"$f":"IF(ISERROR((#REF!-#REF!)/#REF!),0,(#REF!-#REF!)/#REF!)","v":0},{"$f":"IF(ISERROR((#REF!-#REF!)/#REF!),0,(#REF!-#REF!)/#REF!)","v":0},{"$f":"IF(ISERROR((#REF!-#REF!)/#REF!),0,(#REF!-#REF!)/#REF!)","v":0},{"$f":"IF(ISERROR((#REF!-#REF!)/#REF!),0,(#REF!-#REF!)/#REF!)","v":0},{"$f":"IF(ISERROR((#REF!-#REF!)/#REF!),0,(#REF!-#REF!)/#REF!)","v":0},{"$f":"IF(ISERROR((#REF!-#REF!)/#REF!),0,(#REF!-#REF!)/#REF!)","v":0},{"$f":"IF(ISERROR((#REF!-#REF!)/#REF!),0,(#REF!-#REF!)/#REF!)","v":0},{"$f":"IF(ISERROR((#REF!-#REF!)/#REF!),0,(#REF!-#REF!)/#REF!)","v":0}]
[null,"AA27B","Medical Care of Patients with Alzheimer's Disease without CC",0,389,0,0,5,1633,9,200,"Yes",0.30000000000000004,489.90000000000009,"","",{"$f":"IF(ISERROR((#REF!-#REF!)/#REF!),0,(#REF!-#REF!)/#REF!)","v":0},{"$f":"IF(ISERROR((#REF!-#REF!)/#REF!),0,(#REF!-#REF!)/#REF!)","v":0},{"$f":"IF(ISERROR((#REF!-#REF!)/#REF!),0,(#REF!-#REF!)/#REF!)","v":0},{"$f":"IF(ISERROR((#REF!-#REF!)/#REF!),0,(#REF!-#REF!)/#REF!)","v":0},{"$f":"IF(ISERROR((#REF!-#REF!)/#REF!),0,(#REF!-#REF!)/#REF!)","v":0},{"$f":"IF(ISERROR((#REF!-#REF!)/#REF!),0,(#REF!-#REF!)/#REF!)","v":0},{"$f":"IF(ISERROR((#REF!-#REF!)/#REF!),0,(#REF!-#REF!)/#REF!)","v":0},{"$f":"IF(ISERROR((#REF!-#REF!)/#REF!),0,(#REF!-#REF!)/#REF!)","v":0},{"$f":"IF(ISERROR((#REF!-#REF!)/#REF!),0,(#REF!-#REF!)/#REF!)","v":0},{"$f":"IF(ISERROR((#REF!-#REF!)/#REF!),0,(#REF!-#REF!)/#REF!)","v":0},{"$f":"IF(ISERROR((#REF!-#REF!)/#REF!),0,(#REF!-#REF!)/#REF!)","v":0},{"$f":"IF(ISERROR((#REF!-#REF!)/#REF!),0,(#REF!-#REF!)/#REF!)","v":0},{"$f":"IF(ISERROR((#REF!-#REF!)/#REF!),0,(#REF!-#REF!)/#REF!)","v":0}]
[null,"AA28A","Motor Neuron Disease with CC",0,2202,0,0,18,4686,51,200,"Yes",0.30000000000000004,1405.8000000000002,"","",{"$f":"IF(ISERROR((#REF!-#REF!)/#REF!),0,(#REF!-#REF!)/#REF!)","v":0},{"$f":"IF(ISERROR((#REF!-#REF!)/#REF!),0,(#REF!-#REF!)/#REF!)","v":0},{"$f":"IF(ISERROR((#REF!-#REF!)/#REF!),0,(#REF!-#REF!)/#REF!)","v":0},{"$f":"IF(ISERROR((#REF!-#REF!)/#REF!),0,(#REF!-#REF!)/#REF!)","v":0},{"$f":"IF(ISERROR((#REF!-#REF!)/#REF!),0,(#REF!-#REF!)/#REF!)","v":0},{"$f":"IF(ISERROR((#REF!-#REF!)/#REF!),0,(#REF!-#REF!)/#REF!)","v":0},{"$f":"IF(ISERROR((#REF!-#REF!)/#REF!),0,(#REF!-#REF!)/#REF!)","v":0},{"$f":"IF(ISERROR((#REF!-#REF!)/#REF!),0,(#REF!-#REF!)/#REF!)","v":0},{"$f":"IF(ISERROR((#REF!-#REF!)/#REF!),0,(#REF!-#REF!)/#REF!)","v":0},{"$f":"IF(ISERROR((#REF!-#REF!)/#REF!),0,(#REF!-#REF!)/#REF!)","v":0},{"$f":"IF(ISERROR((#REF!-#REF!)/#REF!),0,(#REF!-#REF!)/#REF!)","v":0},{"$f":"IF(ISERROR((#REF!-#REF!)/#REF!),0,(#REF!-#REF!)/#REF!)","v":0},{"$f":"IF(ISERROR((#REF!-#REF!)/#REF!),0,(#REF!-#REF!)/#REF!)","v":0}]
[null,"AA28B","Motor Neuron Disease without CC",0,1536,0,0,10,2760,19,200,"Yes",0.30000000000000004,828.00000000000011,"","",{"$f":"IF(ISERROR((#REF!-#REF!)/#REF!),0,(#REF!-#REF!)/#REF!)","v":0},{"$f":"IF(ISERROR((#REF!-#REF!)/#REF!),0,(#REF!-#REF!)/#REF!)","v":0},{"$f":"IF(ISERROR((#REF!-#REF!)/#REF!),0,(#REF!-#REF!)/#REF!)","v":0},{"$f":"IF(ISERROR((#REF!-#REF!)/#REF!),0,(#REF!-#REF!)/#REF!)","v":0},{"$f":"IF(ISERROR((#REF!-#REF!)/#REF!),0,(#REF!-#REF!)/#REF!)","v":0},{"$f":"IF(ISERROR((#REF!-#REF!)/#REF!),0,(#REF!-#REF!)/#REF!)","v":0},{"$f":"IF(ISERROR((#REF!-#REF!)/#REF!),0,(#REF!-#REF!)/#REF!)","v":0},{"$f":"IF(ISERROR((#REF!-#REF!)/#REF!),0,(#REF!-#REF!)/#REF!)","v":0},{"$f":"IF(ISERROR((#REF!-#REF!)/#REF!),0,(#REF!-#REF!)/#REF!)","v":0},{"$f":"IF(ISERROR((#REF!-#REF!)/#REF!),0,(#REF!-#REF!)/#REF!)","v":0},{"$f":"IF(ISERROR((#REF!-#REF!)/#REF!),0,(#REF!-#REF!)/#REF!)","v":0},{"$f":"IF(ISERROR((#REF!-#REF!)/#REF!),0,(#REF!-#REF!)/#REF!)","v":0},{"$f":"IF(ISERROR((#REF!-#REF!)/#REF!),0,(#REF!-#REF!)/#REF!)","v":0}]
[null,"AA29A","Transient Ischaemic Attack with CC",0,449,0,0,5,1916.9627583463018,6,200,"Yes",0.4,766.7851033385208,0,"",{"$f":"IF(ISERROR((#REF!-#REF!)/#REF!),0,(#REF!-#REF!)/#REF!)","v":0},{"$f":"IF(ISERROR((#REF!-#REF!)/#REF!),0,(#REF!-#REF!)/#REF!)","v":0},{"$f":"IF(ISERROR((#REF!-#REF!)/#REF!),0,(#REF!-#REF!)/#REF!)","v":0},{"$f":"IF(ISERROR((#REF!-#REF!)/#REF!),0,(#REF!-#REF!)/#REF!)","v":0},{"$f":"IF(ISERROR((#REF!-#REF!)/#REF!),0,(#REF!-#REF!)/#REF!)","v":0},{"$f":"IF(ISERROR((#REF!-#REF!)/#REF!),0,(#REF!-#REF!)/#REF!)","v":0},{"$f":"IF(ISERROR((#REF!-#REF!)/#REF!),0,(#REF!-#REF!)/#REF!)","v":0},{"$f":"IF(ISERROR((#REF!-#REF!)/#REF!),0,(#REF!-#REF!)/#REF!)","v":0},{"$f":"IF(ISERROR((#REF!-#REF!)/#REF!),0,(#REF!-#REF!)/#REF!)","v":0},{"$f":"IF(ISERROR((#REF!-#REF!)/#REF!),0,(#REF!-#REF!)/#REF!)","v":0},{"$f":"IF(ISERROR((#REF!-#REF!)/#REF!),0,(#REF!-#REF!)/#REF!)","v":0},{"$f":"IF(ISERROR((#REF!-#REF!)/#REF!),0,(#REF!-#REF!)/#REF!)","v":0},{"$f":"IF(ISERROR((#REF!-#REF!)/#REF!),0,(#REF!-#REF!)/#REF!)","v":0}]
[null,"AA29B","Transient Ischaemic Attack without CC",0,426,0,0,5,505,5,200,"Yes",1,505,0,"",{"$f":"IF(ISERROR((#REF!-#REF!)/#REF!),0,(#REF!-#REF!)/#REF!)","v":0},{"$f":"IF(ISERROR((#REF!-#REF!)/#REF!),0,(#REF!-#REF!)/#REF!)","v":0},{"$f":"IF(ISERROR((#REF!-#REF!)/#REF!),0,(#REF!-#REF!)/#REF!)","v":0},{"$f":"IF(ISERROR((#REF!-#REF!)/#REF!),0,(#REF!-#REF!)/#REF!)","v":0},{"$f":"IF(ISERROR((#REF!-#REF!)/#REF!),0,(#REF!-#REF!)/#REF!)","v":0},{"$f":"IF(ISERROR((#REF!-#REF!)/#REF!),0,(#REF!-#REF!)/#REF!)","v":0},{"$f":"IF(ISERROR((#REF!-#REF!)/#REF!),0,(#REF!-#REF!)/#REF!)","v":0},{"$f":"IF(ISERROR((#REF!-#REF!)/#REF!),0,(#REF!-#REF!)/#REF!)","v":0},{"$f":"IF(ISERROR((#REF!-#REF!)/#REF!),0,(#REF!-#REF!)/#REF!)","v":0},{"$f":"IF(ISERROR((#REF!-#REF!)/#REF!),0,(#REF!-#REF!)/#REF!)","v":0},{"$f":"IF(ISERROR((#REF!-#REF!)/#REF!),0,(#REF!-#REF!)/#REF!)","v":0},{"$f":"IF(ISERROR((#REF!-#REF!)/#REF!),0,(#REF!-#REF!)/#REF!)","v":0},{"$f":"IF(ISERROR((#REF!-#REF!)/#REF!),0,(#REF!-#REF!)/#REF!)","v":0}]
[null,"AA30A","Medical Care of Patients with Multiple Sclerosis with CC",0,496,0,0,5,3332,37,200,"Yes",0.30000000000000004,999.60000000000014,"","",{"$f":"IF(ISERROR((#REF!-#REF!)/#REF!),0,(#REF!-#REF!)/#REF!)","v":0},{"$f":"IF(ISERROR((#REF!-#REF!)/#REF!),0,(#REF!-#REF!)/#REF!)","v":0},{"$f":"IF(ISERROR((#REF!-#REF!)/#REF!),0,(#REF!-#REF!)/#REF!)","v":0},{"$f":"IF(ISERROR((#REF!-#REF!)/#REF!),0,(#REF!-#REF!)/#REF!)","v":0},{"$f":"IF(ISERROR((#REF!-#REF!)/#REF!),0,(#REF!-#REF!)/#REF!)","v":0},{"$f":"IF(ISERROR((#REF!-#REF!)/#REF!),0,(#REF!-#REF!)/#REF!)","v":0},{"$f":"IF(ISERROR((#REF!-#REF!)/#REF!),0,(#REF!-#REF!)/#REF!)","v":0},{"$f":"IF(ISERROR((#REF!-#REF!)/#REF!),0,(#REF!-#REF!)/#REF!)","v":0},{"$f":"IF(ISERROR((#REF!-#REF!)/#REF!),0,(#REF!-#REF!)/#REF!)","v":0},{"$f":"IF(ISERROR((#REF!-#REF!)/#REF!),0,(#REF!-#REF!)/#REF!)","v":0},{"$f":"IF(ISERROR((#REF!-#REF!)/#REF!),0,(#REF!-#REF!)/#REF!)","v":0},{"$f":"IF(ISERROR((#REF!-#REF!)/#REF!),0,(#REF!-#REF!)/#REF!)","v":0},{"$f":"IF(ISERROR((#REF!-#REF!)/#REF!),0,(#REF!-#REF!)/#REF!)","v":0}]
[null,"AA30B","Medical Care of Patients with Multiple Sclerosis without CC",0,339,0,0,5,1974,13,200,"Yes",0.4,789.6,"","",{"$f":"IF(ISERROR((#REF!-#REF!)/#REF!),0,(#REF!-#REF!)/#REF!)","v":0},{"$f":"IF(ISERROR((#REF!-#REF!)/#REF!),0,(#REF!-#REF!)/#REF!)","v":0},{"$f":"IF(ISERROR((#REF!-#REF!)/#REF!),0,(#REF!-#REF!)/#REF!)","v":0},{"$f":"IF(ISERROR((#REF!-#REF!)/#REF!),0,(#REF!-#REF!)/#REF!)","v":0},{"$f":"IF(ISERROR((#REF!-#REF!)/#REF!),0,(#REF!-#REF!)/#REF!)","v":0},{"$f":"IF(ISERROR((#REF!-#REF!)/#REF!),0,(#REF!-#REF!)/#REF!)","v":0},{"$f":"IF(ISERROR((#REF!-#REF!)/#REF!),0,(#REF!-#REF!)/#REF!)","v":0},{"$f":"IF(ISERROR((#REF!-#REF!)/#REF!),0,(#REF!-#REF!)/#REF!)","v":0},{"$f":"IF(ISERROR((#REF!-#REF!)/#REF!),0,(#REF!-#REF!)/#REF!)","v":0},{"$f":"IF(ISERROR((#REF!-#REF!)/#REF!),0,(#REF!-#REF!)/#REF!)","v":0},{"$f":"IF(ISERROR((#REF!-#REF!)/#REF!),0,(#REF!-#REF!)/#REF!)","v":0},{"$f":"IF(ISERROR((#REF!-#REF!)/#REF!),0,(#REF!-#REF!)/#REF!)","v":0},{"$f":"IF(ISERROR((#REF!-#REF!)/#REF!),0,(#REF!-#REF!)/#REF!)","v":0}]
[null,"AA31A","Headache, Migraine or Cerebrospinal Fluid Leak, with CC",0,759,0,0,5,573,5,200,"No","-",0,1,"HRG",{"$f":"IF(ISERROR((#REF!-#REF!)/#REF!),0,(#REF!-#REF!)/#REF!)","v":0},{"$f":"IF(ISERROR((#REF!-#REF!)/#REF!),0,(#REF!-#REF!)/#REF!)","v":0},{"$f":"IF(ISERROR((#REF!-#REF!)/#REF!),0,(#REF!-#REF!)/#REF!)","v":0},{"$f":"IF(ISERROR((#REF!-#REF!)/#REF!),0,(#REF!-#REF!)/#REF!)","v":0},{"$f":"IF(ISERROR((#REF!-#REF!)/#REF!),0,(#REF!-#REF!)/#REF!)","v":0},{"$f":"IF(ISERROR((#REF!-#REF!)/#REF!),0,(#REF!-#REF!)/#REF!)","v":0},{"$f":"IF(ISERROR((#REF!-#REF!)/#REF!),0,(#REF!-#REF!)/#REF!)","v":0},{"$f":"IF(ISERROR((#REF!-#REF!)/#REF!),0,(#REF!-#REF!)/#REF!)","v":0},{"$f":"IF(ISERROR((#REF!-#REF!)/#REF!),0,(#REF!-#REF!)/#REF!)","v":0},{"$f":"IF(ISERROR((#REF!-#REF!)/#REF!),0,(#REF!-#REF!)/#REF!)","v":0},{"$f":"IF(ISERROR((#REF!-#REF!)/#REF!),0,(#REF!-#REF!)/#REF!)","v":0},{"$f":"IF(ISERROR((#REF!-#REF!)/#REF!),0,(#REF!-#REF!)/#REF!)","v":0},{"$f":"IF(ISERROR((#REF!-#REF!)/#REF!),0,(#REF!-#REF!)/#REF!)","v":0}]
[null,"AA31B","Headache, Migraine or Cerebrospinal Fluid Leak, without CC",0,394,0,0,5,381,5,200,"No","-",0,1,"HRG",{"$f":"IF(ISERROR((#REF!-#REF!)/#REF!),0,(#REF!-#REF!)/#REF!)","v":0},{"$f":"IF(ISERROR((#REF!-#REF!)/#REF!),0,(#REF!-#REF!)/#REF!)","v":0},{"$f":"IF(ISERROR((#REF!-#REF!)/#REF!),0,(#REF!-#REF!)/#REF!)","v":0},{"$f":"IF(ISERROR((#REF!-#REF!)/#REF!),0,(#REF!-#REF!)/#REF!)","v":0},{"$f":"IF(ISERROR((#REF!-#REF!)/#REF!),0,(#REF!-#REF!)/#REF!)","v":0},{"$f":"IF(ISERROR((#REF!-#REF!)/#REF!),0,(#REF!-#REF!)/#REF!)","v":0},{"$f":"IF(ISERROR((#REF!-#REF!)/#REF!),0,(#REF!-#REF!)/#REF!)","v":0},{"$f":"IF(ISERROR((#REF!-#REF!)/#REF!),0,(#REF!-#REF!)/#REF!)","v":0},{"$f":"IF(ISERROR((#REF!-#REF!)/#REF!),0,(#REF!-#REF!)/#REF!)","v":0},{"$f":"IF(ISERROR((#REF!-#REF!)/#REF!),0,(#REF!-#REF!)/#REF!)","v":0},{"$f":"IF(ISERROR((#REF!-#REF!)/#REF!),0,(#REF!-#REF!)/#REF!)","v":0},{"$f":"IF(ISERROR((#REF!-#REF!)/#REF!),0,(#REF!-#REF!)/#REF!)","v":0},{"$f":"IF(ISERROR((#REF!-#REF!)/#REF!),0,(#REF!-#REF!)/#REF!)","v":0}]
[null,"AA32Z","Neuropsychology Tests with length of stay 2 days or less",0,388,0,0,5,348,5,200,"No","-",0,"","",{"$f":"IF(ISERROR((#REF!-#REF!)/#REF!),0,(#REF!-#REF!)/#REF!)","v":0},{"$f":"IF(ISERROR((#REF!-#REF!)/#REF!),0,(#REF!-#REF!)/#REF!)","v":0},{"$f":"IF(ISERROR((#REF!-#REF!)/#REF!),0,(#REF!-#REF!)/#REF!)","v":0},{"$f":"IF(ISERROR((#REF!-#REF!)/#REF!),0,(#REF!-#REF!)/#REF!)","v":0},{"$f":"IF(ISERROR((#REF!-#REF!)/#REF!),0,(#REF!-#REF!)/#REF!)","v":0},{"$f":"IF(ISERROR((#REF!-#REF!)/#REF!),0,(#REF!-#REF!)/#REF!)","v":0},{"$f":"IF(ISERROR((#REF!-#REF!)/#REF!),0,(#REF!-#REF!)/#REF!)","v":0},{"$f":"IF(ISERROR((#REF!-#REF!)/#REF!),0,(#REF!-#REF!)/#REF!)","v":0},{"$f":"IF(ISERROR((#REF!-#REF!)/#REF!),0,(#REF!-#REF!)/#REF!)","v":0},{"$f":"IF(ISERROR((#REF!-#REF!)/#REF!),0,(#REF!-#REF!)/#REF!)","v":0},{"$f":"IF(ISERROR((#REF!-#REF!)/#REF!),0,(#REF!-#REF!)/#REF!)","v":0},{"$f":"IF(ISERROR((#REF!-#REF!)/#REF!),0,(#REF!-#REF!)/#REF!)","v":0},{"$f":"IF(ISERROR((#REF!-#REF!)/#REF!),0,(#REF!-#REF!)/#REF!)","v":0}]
[null,"AA33C","Conventional EEG, EMG or Nerve Conduction Studies with length of stay 2 days or less, 19 years and over",195,210,0,0,5,1101,5,200,"No","-",0,"","",{"$f":"IF(ISERROR((#REF!-#REF!)/#REF!),0,(#REF!-#REF!)/#REF!)","v":0},{"$f":"IF(ISERROR((#REF!-#REF!)/#REF!),0,(#REF!-#REF!)/#REF!)","v":0},{"$f":"IF(ISERROR((#REF!-#REF!)/#REF!),0,(#REF!-#REF!)/#REF!)","v":0},{"$f":"IF(ISERROR((#REF!-#REF!)/#REF!),0,(#REF!-#REF!)/#REF!)","v":0},{"$f":"IF(ISERROR((#REF!-#REF!)/#REF!),0,(#REF!-#REF!)/#REF!)","v":0},{"$f":"IF(ISERROR((#REF!-#REF!)/#REF!),0,(#REF!-#REF!)/#REF!)","v":0},{"$f":"IF(ISERROR((#REF!-#REF!)/#REF!),0,(#REF!-#REF!)/#REF!)","v":0},{"$f":"IF(ISERROR((#REF!-#REF!)/#REF!),0,(#REF!-#REF!)/#REF!)","v":0},{"$f":"IF(ISERROR((#REF!-#REF!)/#REF!),0,(#REF!-#REF!)/#REF!)","v":0},{"$f":"IF(ISERROR((#REF!-#REF!)/#REF!),0,(#REF!-#REF!)/#REF!)","v":0},{"$f":"IF(ISERROR((#REF!-#REF!)/#REF!),0,(#REF!-#REF!)/#REF!)","v":0},{"$f":"IF(ISERROR((#REF!-#REF!)/#REF!),0,(#REF!-#REF!)/#REF!)","v":0},{"$f":"IF(ISERROR((#REF!-#REF!)/#REF!),0,(#REF!-#REF!)/#REF!)","v":0}]
[null,"AA33D","Conventional EEG, EMG or Nerve Conduction Studies with length of stay 2 days or less, 18 years and under",0,750,0,0,5,1208,5,270,"No","-",0,"","",{"$f":"IF(ISERROR((#REF!-#REF!)/#REF!),0,(#REF!-#REF!)/#REF!)","v":0},{"$f":"IF(ISERROR((#REF!-#REF!)/#REF!),0,(#REF!-#REF!)/#REF!)","v":0},{"$f":"IF(ISERROR((#REF!-#REF!)/#REF!),0,(#REF!-#REF!)/#REF!)","v":0},{"$f":"IF(ISERROR((#REF!-#REF!)/#REF!),0,(#REF!-#REF!)/#REF!)","v":0},{"$f":"IF(ISERROR((#REF!-#REF!)/#REF!),0,(#REF!-#REF!)/#REF!)","v":0},{"$f":"IF(ISERROR((#REF!-#REF!)/#REF!),0,(#REF!-#REF!)/#REF!)","v":0},{"$f":"IF(ISERROR((#REF!-#REF!)/#REF!),0,(#REF!-#REF!)/#REF!)","v":0},{"$f":"IF(ISERROR((#REF!-#REF!)/#REF!),0,(#REF!-#REF!)/#REF!)","v":0},{"$f":"IF(ISERROR((#REF!-#REF!)/#REF!),0,(#REF!-#REF!)/#REF!)","v":0},{"$f":"IF(ISERROR((#REF!-#REF!)/#REF!),0,(#REF!-#REF!)/#REF!)","v":0},{"$f":"IF(ISERROR((#REF!-#REF!)/#REF!),0,(#REF!-#REF!)/#REF!)","v":0},{"$f":"IF(ISERROR((#REF!-#REF!)/#REF!),0,(#REF!-#REF!)/#REF!)","v":0},{"$f":"IF(ISERROR((#REF!-#REF!)/#REF!),0,(#REF!-#REF!)/#REF!)","v":0}]
[null,"AA34E","Other Neurophysiological Operations, 19 years and over",0,817,0,0,5,3515,36,188,"No","-",0,"","",{"$f":"IF(ISERROR((#REF!-#REF!)/#REF!),0,(#REF!-#REF!)/#REF!)","v":0},{"$f":"IF(ISERROR((#REF!-#REF!)/#REF!),0,(#REF!-#REF!)/#REF!)","v":0},{"$f":"IF(ISERROR((#REF!-#REF!)/#REF!),0,(#REF!-#REF!)/#REF!)","v":0},{"$f":"IF(ISERROR((#REF!-#REF!)/#REF!),0,(#REF!-#REF!)/#REF!)","v":0},{"$f":"IF(ISERROR((#REF!-#REF!)/#REF!),0,(#REF!-#REF!)/#REF!)","v":0},{"$f":"IF(ISERROR((#REF!-#REF!)/#REF!),0,(#REF!-#REF!)/#REF!)","v":0},{"$f":"IF(ISERROR((#REF!-#REF!)/#REF!),0,(#REF!-#REF!)/#REF!)","v":0},{"$f":"IF(ISERROR((#REF!-#REF!)/#REF!),0,(#REF!-#REF!)/#REF!)","v":0},{"$f":"IF(ISERROR((#REF!-#REF!)/#REF!),0,(#REF!-#REF!)/#REF!)","v":0},{"$f":"IF(ISERROR((#REF!-#REF!)/#REF!),0,(#REF!-#REF!)/#REF!)","v":0},{"$f":"IF(ISERROR((#REF!-#REF!)/#REF!),0,(#REF!-#REF!)/#REF!)","v":0},{"$f":"IF(ISERROR((#REF!-#REF!)/#REF!),0,(#REF!-#REF!)/#REF!)","v":0},{"$f":"IF(ISERROR((#REF!-#REF!)/#REF!),0,(#REF!-#REF!)/#REF!)","v":0}]
[null,"AA34F","Other Neurophysiological Operations, 18 years and under",0,1336,0,0,5,2878,19,294,"No","-",0,"","",{"$f":"IF(ISERROR((#REF!-#REF!)/#REF!),0,(#REF!-#REF!)/#REF!)","v":0},{"$f":"IF(ISERROR((#REF!-#REF!)/#REF!),0,(#REF!-#REF!)/#REF!)","v":0},{"$f":"IF(ISERROR((#REF!-#REF!)/#REF!),0,(#REF!-#REF!)/#REF!)","v":0},{"$f":"IF(ISERROR((#REF!-#REF!)/#REF!),0,(#REF!-#REF!)/#REF!)","v":0},{"$f":"IF(ISERROR((#REF!-#REF!)/#REF!),0,(#REF!-#REF!)/#REF!)","v":0},{"$f":"IF(ISERROR((#REF!-#REF!)/#REF!),0,(#REF!-#REF!)/#REF!)","v":0},{"$f":"IF(ISERROR((#REF!-#REF!)/#REF!),0,(#REF!-#REF!)/#REF!)","v":0},{"$f":"IF(ISERROR((#REF!-#REF!)/#REF!),0,(#REF!-#REF!)/#REF!)","v":0},{"$f":"IF(ISERROR((#REF!-#REF!)/#REF!),0,(#REF!-#REF!)/#REF!)","v":0},{"$f":"IF(ISERROR((#REF!-#REF!)/#REF!),0,(#REF!-#REF!)/#REF!)","v":0},{"$f":"IF(ISERROR((#REF!-#REF!)/#REF!),0,(#REF!-#REF!)/#REF!)","v":0},{"$f":"IF(ISERROR((#REF!-#REF!)/#REF!),0,(#REF!-#REF!)/#REF!)","v":0},{"$f":"IF(ISERROR((#REF!-#REF!)/#REF!),0,(#REF!-#REF!)/#REF!)","v":0}]
[null,"AB02Z","Complex Major Pain Procedures",0,679,0,0,5,3813,45,200,"No","-",0,"","",{"$f":"IF(ISERROR((#REF!-#REF!)/#REF!),0,(#REF!-#REF!)/#REF!)","v":0},{"$f":"IF(ISERROR((#REF!-#REF!)/#REF!),0,(#REF!-#REF!)/#REF!)","v":0},{"$f":"IF(ISERROR((#REF!-#REF!)/#REF!),0,(#REF!-#REF!)/#REF!)","v":0},{"$f":"IF(ISERROR((#REF!-#REF!)/#REF!),0,(#REF!-#REF!)/#REF!)","v":0},{"$f":"IF(ISERROR((#REF!-#REF!)/#REF!),0,(#REF!-#REF!)/#REF!)","v":0},{"$f":"IF(ISERROR((#REF!-#REF!)/#REF!),0,(#REF!-#REF!)/#REF!)","v":0},{"$f":"IF(ISERROR((#REF!-#REF!)/#REF!),0,(#REF!-#REF!)/#REF!)","v":0},{"$f":"IF(ISERROR((#REF!-#REF!)/#REF!),0,(#REF!-#REF!)/#REF!)","v":0},{"$f":"IF(ISERROR((#REF!-#REF!)/#REF!),0,(#REF!-#REF!)/#REF!)","v":0},{"$f":"IF(ISERROR((#REF!-#REF!)/#REF!),0,(#REF!-#REF!)/#REF!)","v":0},{"$f":"IF(ISERROR((#REF!-#REF!)/#REF!),0,(#REF!-#REF!)/#REF!)","v":0},{"$f":"IF(ISERROR((#REF!-#REF!)/#REF!),0,(#REF!-#REF!)/#REF!)","v":0},{"$f":"IF(ISERROR((#REF!-#REF!)/#REF!),0,(#REF!-#REF!)/#REF!)","v":0}]
[null,"AB03Z","Complex Pain Procedures",0,490,0,0,5,3813,45,200,"No","-",0,"","",{"$f":"IF(ISERROR((#REF!-#REF!)/#REF!),0,(#REF!-#REF!)/#REF!)","v":0},{"$f":"IF(ISERROR((#REF!-#REF!)/#REF!),0,(#REF!-#REF!)/#REF!)","v":0},{"$f":"IF(ISERROR((#REF!-#REF!)/#REF!),0,(#REF!-#REF!)/#REF!)","v":0},{"$f":"IF(ISERROR((#REF!-#REF!)/#REF!),0,(#REF!-#REF!)/#REF!)","v":0},{"$f":"IF(ISERROR((#REF!-#REF!)/#REF!),0,(#REF!-#REF!)/#REF!)","v":0},{"$f":"IF(ISERROR((#REF!-#REF!)/#REF!),0,(#REF!-#REF!)/#REF!)","v":0},{"$f":"IF(ISERROR((#REF!-#REF!)/#REF!),0,(#REF!-#REF!)/#REF!)","v":0},{"$f":"IF(ISERROR((#REF!-#REF!)/#REF!),0,(#REF!-#REF!)/#REF!)","v":0},{"$f":"IF(ISERROR((#REF!-#REF!)/#REF!),0,(#REF!-#REF!)/#REF!)","v":0},{"$f":"IF(ISERROR((#REF!-#REF!)/#REF!),0,(#REF!-#REF!)/#REF!)","v":0},{"$f":"IF(ISERROR((#REF!-#REF!)/#REF!),0,(#REF!-#REF!)/#REF!)","v":0},{"$f":"IF(ISERROR((#REF!-#REF!)/#REF!),0,(#REF!-#REF!)/#REF!)","v":0},{"$f":"IF(ISERROR((#REF!-#REF!)/#REF!),0,(#REF!-#REF!)/#REF!)","v":0}]
[null,"AB04Z","Major Pain Procedures",0,580,0,0,5,3304.5738063935009,21,200,"No","-",0,"","",{"$f":"IF(ISERROR((#REF!-#REF!)/#REF!),0,(#REF!-#REF!)/#REF!)","v":0},{"$f":"IF(ISERROR((#REF!-#REF!)/#REF!),0,(#REF!-#REF!)/#REF!)","v":0},{"$f":"IF(ISERROR((#REF!-#REF!)/#REF!),0,(#REF!-#REF!)/#REF!)","v":0},{"$f":"IF(ISERROR((#REF!-#REF!)/#REF!),0,(#REF!-#REF!)/#REF!)","v":0},{"$f":"IF(ISERROR((#REF!-#REF!)/#REF!),0,(#REF!-#REF!)/#REF!)","v":0},{"$f":"IF(ISERROR((#REF!-#REF!)/#REF!),0,(#REF!-#REF!)/#REF!)","v":0},{"$f":"IF(ISERROR((#REF!-#REF!)/#REF!),0,(#REF!-#REF!)/#REF!)","v":0},{"$f":"IF(ISERROR((#REF!-#REF!)/#REF!),0,(#REF!-#REF!)/#REF!)","v":0},{"$f":"IF(ISERROR((#REF!-#REF!)/#REF!),0,(#REF!-#REF!)/#REF!)","v":0},{"$f":"IF(ISERROR((#REF!-#REF!)/#REF!),0,(#REF!-#REF!)/#REF!)","v":0},{"$f":"IF(ISERROR((#REF!-#REF!)/#REF!),0,(#REF!-#REF!)/#REF!)","v":0},{"$f":"IF(ISERROR((#REF!-#REF!)/#REF!),0,(#REF!-#REF!)/#REF!)","v":0},{"$f":"IF(ISERROR((#REF!-#REF!)/#REF!),0,(#REF!-#REF!)/#REF!)","v":0}]
[null,"AB05Z","Intermediate Pain Procedures",171,460,0,0,5,5373.1279963326442,24,200,"No","-",0,"","",{"$f":"IF(ISERROR((#REF!-#REF!)/#REF!),0,(#REF!-#REF!)/#REF!)","v":0},{"$f":"IF(ISERROR((#REF!-#REF!)/#REF!),0,(#REF!-#REF!)/#REF!)","v":0},{"$f":"IF(ISERROR((#REF!-#REF!)/#REF!),0,(#REF!-#REF!)/#REF!)","v":0},{"$f":"IF(ISERROR((#REF!-#REF!)/#REF!),0,(#REF!-#REF!)/#REF!)","v":0},{"$f":"IF(ISERROR((#REF!-#REF!)/#REF!),0,(#REF!-#REF!)/#REF!)","v":0},{"$f":"IF(ISERROR((#REF!-#REF!)/#REF!),0,(#REF!-#REF!)/#REF!)","v":0},{"$f":"IF(ISERROR((#REF!-#REF!)/#REF!),0,(#REF!-#REF!)/#REF!)","v":0},{"$f":"IF(ISERROR((#REF!-#REF!)/#REF!),0,(#REF!-#REF!)/#REF!)","v":0},{"$f":"IF(ISERROR((#REF!-#REF!)/#REF!),0,(#REF!-#REF!)/#REF!)","v":0},{"$f":"IF(ISERROR((#REF!-#REF!)/#REF!),0,(#REF!-#REF!)/#REF!)","v":0},{"$f":"IF(ISERROR((#REF!-#REF!)/#REF!),0,(#REF!-#REF!)/#REF!)","v":0},{"$f":"IF(ISERROR((#REF!-#REF!)/#REF!),0,(#REF!-#REF!)/#REF!)","v":0},{"$f":"IF(ISERROR((#REF!-#REF!)/#REF!),0,(#REF!-#REF!)/#REF!)","v":0}]
[null,"AB06Z","Minor Pain Procedures",171,182,0,0,5,4636.5968259022411,21,200,"No","-",0,"","",{"$f":"IF(ISERROR((#REF!-#REF!)/#REF!),0,(#REF!-#REF!)/#REF!)","v":0},{"$f":"IF(ISERROR((#REF!-#REF!)/#REF!),0,(#REF!-#REF!)/#REF!)","v":0},{"$f":"IF(ISERROR((#REF!-#REF!)/#REF!),0,(#REF!-#REF!)/#REF!)","v":0},{"$f":"IF(ISERROR((#REF!-#REF!)/#REF!),0,(#REF!-#REF!)/#REF!)","v":0},{"$f":"IF(ISERROR((#REF!-#REF!)/#REF!),0,(#REF!-#REF!)/#REF!)","v":0},{"$f":"IF(ISERROR((#REF!-#REF!)/#REF!),0,(#REF!-#REF!)/#REF!)","v":0},{"$f":"IF(ISERROR((#REF!-#REF!)/#REF!),0,(#REF!-#REF!)/#REF!)","v":0},{"$f":"IF(ISERROR((#REF!-#REF!)/#REF!),0,(#REF!-#REF!)/#REF!)","v":0},{"$f":"IF(ISERROR((#REF!-#REF!)/#REF!),0,(#REF!-#REF!)/#REF!)","v":0},{"$f":"IF(ISERROR((#REF!-#REF!)/#REF!),0,(#REF!-#REF!)/#REF!)","v":0},{"$f":"IF(ISERROR((#REF!-#REF!)/#REF!),0,(#REF!-#REF!)/#REF!)","v":0},{"$f":"IF(ISERROR((#REF!-#REF!)/#REF!),0,(#REF!-#REF!)/#REF!)","v":0},{"$f":"IF(ISERROR((#REF!-#REF!)/#REF!),0,(#REF!-#REF!)/#REF!)","v":0}]
[null,"AB07Z","Insertion of Neurostimulator or Intrathecal Drug Delivery Device",0,3611,0,0,5,4105,37,200,"No","-",0,"","",{"$f":"IF(ISERROR((#REF!-#REF!)/#REF!),0,(#REF!-#REF!)/#REF!)","v":0},{"$f":"IF(ISERROR((#REF!-#REF!)/#REF!),0,(#REF!-#REF!)/#REF!)","v":0},{"$f":"IF(ISERROR((#REF!-#REF!)/#REF!),0,(#REF!-#REF!)/#REF!)","v":0},{"$f":"IF(ISERROR((#REF!-#REF!)/#REF!),0,(#REF!-#REF!)/#REF!)","v":0},{"$f":"IF(ISERROR((#REF!-#REF!)/#REF!),0,(#REF!-#REF!)/#REF!)","v":0},{"$f":"IF(ISERROR((#REF!-#REF!)/#REF!),0,(#REF!-#REF!)/#REF!)","v":0},{"$f":"IF(ISERROR((#REF!-#REF!)/#REF!),0,(#REF!-#REF!)/#REF!)","v":0},{"$f":"IF(ISERROR((#REF!-#REF!)/#REF!),0,(#REF!-#REF!)/#REF!)","v":0},{"$f":"IF(ISERROR((#REF!-#REF!)/#REF!),0,(#REF!-#REF!)/#REF!)","v":0},{"$f":"IF(ISERROR((#REF!-#REF!)/#REF!),0,(#REF!-#REF!)/#REF!)","v":0},{"$f":"IF(ISERROR((#REF!-#REF!)/#REF!),0,(#REF!-#REF!)/#REF!)","v":0},{"$f":"IF(ISERROR((#REF!-#REF!)/#REF!),0,(#REF!-#REF!)/#REF!)","v":0},{"$f":"IF(ISERROR((#REF!-#REF!)/#REF!),0,(#REF!-#REF!)/#REF!)","v":0}]
[null,"AB08Z","Pain Radiofrequency Treatments",0,626,0,0,5,2741,27,200,"No","-",0,"","",{"$f":"IF(ISERROR((#REF!-#REF!)/#REF!),0,(#REF!-#REF!)/#REF!)","v":0},{"$f":"IF(ISERROR((#REF!-#REF!)/#REF!),0,(#REF!-#REF!)/#REF!)","v":0},{"$f":"IF(ISERROR((#REF!-#REF!)/#REF!),0,(#REF!-#REF!)/#REF!)","v":0},{"$f":"IF(ISERROR((#REF!-#REF!)/#REF!),0,(#REF!-#REF!)/#REF!)","v":0},{"$f":"IF(ISERROR((#REF!-#REF!)/#REF!),0,(#REF!-#REF!)/#REF!)","v":0},{"$f":"IF(ISERROR((#REF!-#REF!)/#REF!),0,(#REF!-#REF!)/#REF!)","v":0},{"$f":"IF(ISERROR((#REF!-#REF!)/#REF!),0,(#REF!-#REF!)/#REF!)","v":0},{"$f":"IF(ISERROR((#REF!-#REF!)/#REF!),0,(#REF!-#REF!)/#REF!)","v":0},{"$f":"IF(ISERROR((#REF!-#REF!)/#REF!),0,(#REF!-#REF!)/#REF!)","v":0},{"$f":"IF(ISERROR((#REF!-#REF!)/#REF!),0,(#REF!-#REF!)/#REF!)","v":0},{"$f":"IF(ISERROR((#REF!-#REF!)/#REF!),0,(#REF!-#REF!)/#REF!)","v":0},{"$f":"IF(ISERROR((#REF!-#REF!)/#REF!),0,(#REF!-#REF!)/#REF!)","v":0},{"$f":"IF(ISERROR((#REF!-#REF!)/#REF!),0,(#REF!-#REF!)/#REF!)","v":0}]
[null,"AB09Z","Other Specified Pain Procedures",167,529,0,0,5,2125,23,200,"No","-",0,"","",{"$f":"IF(ISERROR((#REF!-#REF!)/#REF!),0,(#REF!-#REF!)/#REF!)","v":0},{"$f":"IF(ISERROR((#REF!-#REF!)/#REF!),0,(#REF!-#REF!)/#REF!)","v":0},{"$f":"IF(ISERROR((#REF!-#REF!)/#REF!),0,(#REF!-#REF!)/#REF!)","v":0},{"$f":"IF(ISERROR((#REF!-#REF!)/#REF!),0,(#REF!-#REF!)/#REF!)","v":0},{"$f":"IF(ISERROR((#REF!-#REF!)/#REF!),0,(#REF!-#REF!)/#REF!)","v":0},{"$f":"IF(ISERROR((#REF!-#REF!)/#REF!),0,(#REF!-#REF!)/#REF!)","v":0},{"$f":"IF(ISERROR((#REF!-#REF!)/#REF!),0,(#REF!-#REF!)/#REF!)","v":0},{"$f":"IF(ISERROR((#REF!-#REF!)/#REF!),0,(#REF!-#REF!)/#REF!)","v":0},{"$f":"IF(ISERROR((#REF!-#REF!)/#REF!),0,(#REF!-#REF!)/#REF!)","v":0},{"$f":"IF(ISERROR((#REF!-#REF!)/#REF!),0,(#REF!-#REF!)/#REF!)","v":0},{"$f":"IF(ISERROR((#REF!-#REF!)/#REF!),0,(#REF!-#REF!)/#REF!)","v":0},{"$f":"IF(ISERROR((#REF!-#REF!)/#REF!),0,(#REF!-#REF!)/#REF!)","v":0},{"$f":"IF(ISERROR((#REF!-#REF!)/#REF!),0,(#REF!-#REF!)/#REF!)","v":0}]
[null,"AB10Z","Unspecified Pain Procedures",0,357,0,0,5,1958,44,200,"No","-",0,"","",{"$f":"IF(ISERROR((#REF!-#REF!)/#REF!),0,(#REF!-#REF!)/#REF!)","v":0},{"$f":"IF(ISERROR((#REF!-#REF!)/#REF!),0,(#REF!-#REF!)/#REF!)","v":0},{"$f":"IF(ISERROR((#REF!-#REF!)/#REF!),0,(#REF!-#REF!)/#REF!)","v":0},{"$f":"IF(ISERROR((#REF!-#REF!)/#REF!),0,(#REF!-#REF!)/#REF!)","v":0},{"$f":"IF(ISERROR((#REF!-#REF!)/#REF!),0,(#REF!-#REF!)/#REF!)","v":0},{"$f":"IF(ISERROR((#REF!-#REF!)/#REF!),0,(#REF!-#REF!)/#REF!)","v":0},{"$f":"IF(ISERROR((#REF!-#REF!)/#REF!),0,(#REF!-#REF!)/#REF!)","v":0},{"$f":"IF(ISERROR((#REF!-#REF!)/#REF!),0,(#REF!-#REF!)/#REF!)","v":0},{"$f":"IF(ISERROR((#REF!-#REF!)/#REF!),0,(#REF!-#REF!)/#REF!)","v":0},{"$f":"IF(ISERROR((#REF!-#REF!)/#REF!),0,(#REF!-#REF!)/#REF!)","v":0},{"$f":"IF(ISERROR((#REF!-#REF!)/#REF!),0,(#REF!-#REF!)/#REF!)","v":0},{"$f":"IF(ISERROR((#REF!-#REF!)/#REF!),0,(#REF!-#REF!)/#REF!)","v":0},{"$f":"IF(ISERROR((#REF!-#REF!)/#REF!),0,(#REF!-#REF!)/#REF!)","v":0}]
[null,"AB11Z","Cognitive Behavioural Therapy",0,67,0,0,5,67,5,200,"No","-",0,"","",{"$f":"IF(ISERROR((#REF!-#REF!)/#REF!),0,(#REF!-#REF!)/#REF!)","v":0},{"$f":"IF(ISERROR((#REF!-#REF!)/#REF!),0,(#REF!-#REF!)/#REF!)","v":0},{"$f":"IF(ISERROR((#REF!-#REF!)/#REF!),0,(#REF!-#REF!)/#REF!)","v":0},{"$f":"IF(ISERROR((#REF!-#REF!)/#REF!),0,(#REF!-#REF!)/#REF!)","v":0},{"$f":"IF(ISERROR((#REF!-#REF!)/#REF!),0,(#REF!-#REF!)/#REF!)","v":0},{"$f":"IF(ISERROR((#REF!-#REF!)/#REF!),0,(#REF!-#REF!)/#REF!)","v":0},{"$f":"IF(ISERROR((#REF!-#REF!)/#REF!),0,(#REF!-#REF!)/#REF!)","v":0},{"$f":"IF(ISERROR((#REF!-#REF!)/#REF!),0,(#REF!-#REF!)/#REF!)","v":0},{"$f":"IF(ISERROR((#REF!-#REF!)/#REF!),0,(#REF!-#REF!)/#REF!)","v":0},{"$f":"IF(ISERROR((#REF!-#REF!)/#REF!),0,(#REF!-#REF!)/#REF!)","v":0},{"$f":"IF(ISERROR((#REF!-#REF!)/#REF!),0,(#REF!-#REF!)/#REF!)","v":0},{"$f":"IF(ISERROR((#REF!-#REF!)/#REF!),0,(#REF!-#REF!)/#REF!)","v":0},{"$f":"IF(ISERROR((#REF!-#REF!)/#REF!),0,(#REF!-#REF!)/#REF!)","v":0}]
[null,"BZ01Z","Enhanced Cataract Surgery",0,982,0,0,5,1944,12,242,"No","-",0,"","",{"$f":"IF(ISERROR((#REF!-#REF!)/#REF!),0,(#REF!-#REF!)/#REF!)","v":0},{"$f":"IF(ISERROR((#REF!-#REF!)/#REF!),0,(#REF!-#REF!)/#REF!)","v":0},{"$f":"IF(ISERROR((#REF!-#REF!)/#REF!),0,(#REF!-#REF!)/#REF!)","v":0},{"$f":"IF(ISERROR((#REF!-#REF!)/#REF!),0,(#REF!-#REF!)/#REF!)","v":0},{"$f":"IF(ISERROR((#REF!-#REF!)/#REF!),0,(#REF!-#REF!)/#REF!)","v":0},{"$f":"IF(ISERROR((#REF!-#REF!)/#REF!),0,(#REF!-#REF!)/#REF!)","v":0},{"$f":"IF(ISERROR((#REF!-#REF!)/#REF!),0,(#REF!-#REF!)/#REF!)","v":0},{"$f":"IF(ISERROR((#REF!-#REF!)/#REF!),0,(#REF!-#REF!)/#REF!)","v":0},{"$f":"IF(ISERROR((#REF!-#REF!)/#REF!),0,(#REF!-#REF!)/#REF!)","v":0},{"$f":"IF(ISERROR((#REF!-#REF!)/#REF!),0,(#REF!-#REF!)/#REF!)","v":0},{"$f":"IF(ISERROR((#REF!-#REF!)/#REF!),0,(#REF!-#REF!)/#REF!)","v":0},{"$f":"IF(ISERROR((#REF!-#REF!)/#REF!),0,(#REF!-#REF!)/#REF!)","v":0},{"$f":"IF(ISERROR((#REF!-#REF!)/#REF!),0,(#REF!-#REF!)/#REF!)","v":0}]
[null,"BZ02Z","Phacoemulsification Cataract Extraction and Lens Implant",0,731,0,0,5,2649,35,242,"No","-",0,1,"Other",{"$f":"IF(ISERROR((#REF!-#REF!)/#REF!),0,(#REF!-#REF!)/#REF!)","v":0},{"$f":"IF(ISERROR((#REF!-#REF!)/#REF!),0,(#REF!-#REF!)/#REF!)","v":0},{"$f":"IF(ISERROR((#REF!-#REF!)/#REF!),0,(#REF!-#REF!)/#REF!)","v":0},{"$f":"IF(ISERROR((#REF!-#REF!)/#REF!),0,(#REF!-#REF!)/#REF!)","v":0},{"$f":"IF(ISERROR((#REF!-#REF!)/#REF!),0,(#REF!-#REF!)/#REF!)","v":0},{"$f":"IF(ISERROR((#REF!-#REF!)/#REF!),0,(#REF!-#REF!)/#REF!)","v":0},{"$f":"IF(ISERROR((#REF!-#REF!)/#REF!),0,(#REF!-#REF!)/#REF!)","v":0},{"$f":"IF(ISERROR((#REF!-#REF!)/#REF!),0,(#REF!-#REF!)/#REF!)","v":0},{"$f":"IF(ISERROR((#REF!-#REF!)/#REF!),0,(#REF!-#REF!)/#REF!)","v":0},{"$f":"IF(ISERROR((#REF!-#REF!)/#REF!),0,(#REF!-#REF!)/#REF!)","v":0},{"$f":"IF(ISERROR((#REF!-#REF!)/#REF!),0,(#REF!-#REF!)/#REF!)","v":0},{"$f":"IF(ISERROR((#REF!-#REF!)/#REF!),0,(#REF!-#REF!)/#REF!)","v":0},{"$f":"IF(ISERROR((#REF!-#REF!)/#REF!),0,(#REF!-#REF!)/#REF!)","v":0}]
[null,"BZ03Z","Non-Phacoemulsification Cataract Surgery",0,927,0,0,5,1248,5,242,"No","-",0,1,"Other",{"$f":"IF(ISERROR((#REF!-#REF!)/#REF!),0,(#REF!-#REF!)/#REF!)","v":0},{"$f":"IF(ISERROR((#REF!-#REF!)/#REF!),0,(#REF!-#REF!)/#REF!)","v":0},{"$f":"IF(ISERROR((#REF!-#REF!)/#REF!),0,(#REF!-#REF!)/#REF!)","v":0},{"$f":"IF(ISERROR((#REF!-#REF!)/#REF!),0,(#REF!-#REF!)/#REF!)","v":0},{"$f":"IF(ISERROR((#REF!-#REF!)/#REF!),0,(#REF!-#REF!)/#REF!)","v":0},{"$f":"IF(ISERROR((#REF!-#REF!)/#REF!),0,(#REF!-#REF!)/#REF!)","v":0},{"$f":"IF(ISERROR((#REF!-#REF!)/#REF!),0,(#REF!-#REF!)/#REF!)","v":0},{"$f":"IF(ISERROR((#REF!-#REF!)/#REF!),0,(#REF!-#REF!)/#REF!)","v":0},{"$f":"IF(ISERROR((#REF!-#REF!)/#REF!),0,(#REF!-#REF!)/#REF!)","v":0},{"$f":"IF(ISERROR((#REF!-#REF!)/#REF!),0,(#REF!-#REF!)/#REF!)","v":0},{"$f":"IF(ISERROR((#REF!-#REF!)/#REF!),0,(#REF!-#REF!)/#REF!)","v":0},{"$f":"IF(ISERROR((#REF!-#REF!)/#REF!),0,(#REF!-#REF!)/#REF!)","v":0},{"$f":"IF(ISERROR((#REF!-#REF!)/#REF!),0,(#REF!-#REF!)/#REF!)","v":0}]
[null,"BZ04Z","Lens Capsulotomy",156,156,0,0,5,443,5,242,"No","-",0,"","",{"$f":"IF(ISERROR((#REF!-#REF!)/#REF!),0,(#REF!-#REF!)/#REF!)","v":0},{"$f":"IF(ISERROR((#REF!-#REF!)/#REF!),0,(#REF!-#REF!)/#REF!)","v":0},{"$f":"IF(ISERROR((#REF!-#REF!)/#REF!),0,(#REF!-#REF!)/#REF!)","v":0},{"$f":"IF(ISERROR((#REF!-#REF!)/#REF!),0,(#REF!-#REF!)/#REF!)","v":0},{"$f":"IF(ISERROR((#REF!-#REF!)/#REF!),0,(#REF!-#REF!)/#REF!)","v":0},{"$f":"IF(ISERROR((#REF!-#REF!)/#REF!),0,(#REF!-#REF!)/#REF!)","v":0},{"$f":"IF(ISERROR((#REF!-#REF!)/#REF!),0,(#REF!-#REF!)/#REF!)","v":0},{"$f":"IF(ISERROR((#REF!-#REF!)/#REF!),0,(#REF!-#REF!)/#REF!)","v":0},{"$f":"IF(ISERROR((#REF!-#REF!)/#REF!),0,(#REF!-#REF!)/#REF!)","v":0},{"$f":"IF(ISERROR((#REF!-#REF!)/#REF!),0,(#REF!-#REF!)/#REF!)","v":0},{"$f":"IF(ISERROR((#REF!-#REF!)/#REF!),0,(#REF!-#REF!)/#REF!)","v":0},{"$f":"IF(ISERROR((#REF!-#REF!)/#REF!),0,(#REF!-#REF!)/#REF!)","v":0},{"$f":"IF(ISERROR((#REF!-#REF!)/#REF!),0,(#REF!-#REF!)/#REF!)","v":0}]
[null,"BZ05Z","Major Oculoplastics Procedures",0,1239,0,0,5,8049,50,242,"No","-",0,"","",{"$f":"IF(ISERROR((#REF!-#REF!)/#REF!),0,(#REF!-#REF!)/#REF!)","v":0},{"$f":"IF(ISERROR((#REF!-#REF!)/#REF!),0,(#REF!-#REF!)/#REF!)","v":0},{"$f":"IF(ISERROR((#REF!-#REF!)/#REF!),0,(#REF!-#REF!)/#REF!)","v":0},{"$f":"IF(ISERROR((#REF!-#REF!)/#REF!),0,(#REF!-#REF!)/#REF!)","v":0},{"$f":"IF(ISERROR((#REF!-#REF!)/#REF!),0,(#REF!-#REF!)/#REF!)","v":0},{"$f":"IF(ISERROR((#REF!-#REF!)/#REF!),0,(#REF!-#REF!)/#REF!)","v":0},{"$f":"IF(ISERROR((#REF!-#REF!)/#REF!),0,(#REF!-#REF!)/#REF!)","v":0},{"$f":"IF(ISERROR((#REF!-#REF!)/#REF!),0,(#REF!-#REF!)/#REF!)","v":0},{"$f":"IF(ISERROR((#REF!-#REF!)/#REF!),0,(#REF!-#REF!)/#REF!)","v":0},{"$f":"IF(ISERROR((#REF!-#REF!)/#REF!),0,(#REF!-#REF!)/#REF!)","v":0},{"$f":"IF(ISERROR((#REF!-#REF!)/#REF!),0,(#REF!-#REF!)/#REF!)","v":0},{"$f":"IF(ISERROR((#REF!-#REF!)/#REF!),0,(#REF!-#REF!)/#REF!)","v":0},{"$f":"IF(ISERROR((#REF!-#REF!)/#REF!),0,(#REF!-#REF!)/#REF!)","v":0}]
[null,"BZ06A","Intermediate Oculoplastics Procedures, 19 years and over",0,860,0,0,5,1204,5,242,"No","-",0,"","",{"$f":"IF(ISERROR((#REF!-#REF!)/#REF!),0,(#REF!-#REF!)/#REF!)","v":0},{"$f":"IF(ISERROR((#REF!-#REF!)/#REF!),0,(#REF!-#REF!)/#REF!)","v":0},{"$f":"IF(ISERROR((#REF!-#REF!)/#REF!),0,(#REF!-#REF!)/#REF!)","v":0},{"$f":"IF(ISERROR((#REF!-#REF!)/#REF!),0,(#REF!-#REF!)/#REF!)","v":0},{"$f":"IF(ISERROR((#REF!-#REF!)/#REF!),0,(#REF!-#REF!)/#REF!)","v":0},{"$f":"IF(ISERROR((#REF!-#REF!)/#REF!),0,(#REF!-#REF!)/#REF!)","v":0},{"$f":"IF(ISERROR((#REF!-#REF!)/#REF!),0,(#REF!-#REF!)/#REF!)","v":0},{"$f":"IF(ISERROR((#REF!-#REF!)/#REF!),0,(#REF!-#REF!)/#REF!)","v":0},{"$f":"IF(ISERROR((#REF!-#REF!)/#REF!),0,(#REF!-#REF!)/#REF!)","v":0},{"$f":"IF(ISERROR((#REF!-#REF!)/#REF!),0,(#REF!-#REF!)/#REF!)","v":0},{"$f":"IF(ISERROR((#REF!-#REF!)/#REF!),0,(#REF!-#REF!)/#REF!)","v":0},{"$f":"IF(ISERROR((#REF!-#REF!)/#REF!),0,(#REF!-#REF!)/#REF!)","v":0},{"$f":"IF(ISERROR((#REF!-#REF!)/#REF!),0,(#REF!-#REF!)/#REF!)","v":0}]
[null,"BZ06B","Intermediate Oculoplastics Procedures, 18 years and under",0,972,0,0,5,1411,8,387,"No","-",0,"","",{"$f":"IF(ISERROR((#REF!-#REF!)/#REF!),0,(#REF!-#REF!)/#REF!)","v":0},{"$f":"IF(ISERROR((#REF!-#REF!)/#REF!),0,(#REF!-#REF!)/#REF!)","v":0},{"$f":"IF(ISERROR((#REF!-#REF!)/#REF!),0,(#REF!-#REF!)/#REF!)","v":0},{"$f":"IF(ISERROR((#REF!-#REF!)/#REF!),0,(#REF!-#REF!)/#REF!)","v":0},{"$f":"IF(ISERROR((#REF!-#REF!)/#REF!),0,(#REF!-#REF!)/#REF!)","v":0},{"$f":"IF(ISERROR((#REF!-#REF!)/#REF!),0,(#REF!-#REF!)/#REF!)","v":0},{"$f":"IF(ISERROR((#REF!-#REF!)/#REF!),0,(#REF!-#REF!)/#REF!)","v":0},{"$f":"IF(ISERROR((#REF!-#REF!)/#REF!),0,(#REF!-#REF!)/#REF!)","v":0},{"$f":"IF(ISERROR((#REF!-#REF!)/#REF!),0,(#REF!-#REF!)/#REF!)","v":0},{"$f":"IF(ISERROR((#REF!-#REF!)/#REF!),0,(#REF!-#REF!)/#REF!)","v":0},{"$f":"IF(ISERROR((#REF!-#REF!)/#REF!),0,(#REF!-#REF!)/#REF!)","v":0},{"$f":"IF(ISERROR((#REF!-#REF!)/#REF!),0,(#REF!-#REF!)/#REF!)","v":0},{"$f":"IF(ISERROR((#REF!-#REF!)/#REF!),0,(#REF!-#REF!)/#REF!)","v":0}]
[null,"BZ07A","Minor Oculoplastics Procedures, 19 years and over",110,596,0,0,5,871,5,242,"No","-",0,"","",{"$f":"IF(ISERROR((#REF!-#REF!)/#REF!),0,(#REF!-#REF!)/#REF!)","v":0},{"$f":"IF(ISERROR((#REF!-#REF!)/#REF!),0,(#REF!-#REF!)/#REF!)","v":0},{"$f":"IF(ISERROR((#REF!-#REF!)/#REF!),0,(#REF!-#REF!)/#REF!)","v":0},{"$f":"IF(ISERROR((#REF!-#REF!)/#REF!),0,(#REF!-#REF!)/#REF!)","v":0},{"$f":"IF(ISERROR((#REF!-#REF!)/#REF!),0,(#REF!-#REF!)/#REF!)","v":0},{"$f":"IF(ISERROR((#REF!-#REF!)/#REF!),0,(#REF!-#REF!)/#REF!)","v":0},{"$f":"IF(ISERROR((#REF!-#REF!)/#REF!),0,(#REF!-#REF!)/#REF!)","v":0},{"$f":"IF(ISERROR((#REF!-#REF!)/#REF!),0,(#REF!-#REF!)/#REF!)","v":0},{"$f":"IF(ISERROR((#REF!-#REF!)/#REF!),0,(#REF!-#REF!)/#REF!)","v":0},{"$f":"IF(ISERROR((#REF!-#REF!)/#REF!),0,(#REF!-#REF!)/#REF!)","v":0},{"$f":"IF(ISERROR((#REF!-#REF!)/#REF!),0,(#REF!-#REF!)/#REF!)","v":0},{"$f":"IF(ISERROR((#REF!-#REF!)/#REF!),0,(#REF!-#REF!)/#REF!)","v":0},{"$f":"IF(ISERROR((#REF!-#REF!)/#REF!),0,(#REF!-#REF!)/#REF!)","v":0}]
[null,"BZ07B","Minor Oculoplastics Procedures, 18 years and under",136,750,0,0,5,934,5,387,"No","-",0,"","",{"$f":"IF(ISERROR((#REF!-#REF!)/#REF!),0,(#REF!-#REF!)/#REF!)","v":0},{"$f":"IF(ISERROR((#REF!-#REF!)/#REF!),0,(#REF!-#REF!)/#REF!)","v":0},{"$f":"IF(ISERROR((#REF!-#REF!)/#REF!),0,(#REF!-#REF!)/#REF!)","v":0},{"$f":"IF(ISERROR((#REF!-#REF!)/#REF!),0,(#REF!-#REF!)/#REF!)","v":0},{"$f":"IF(ISERROR((#REF!-#REF!)/#REF!),0,(#REF!-#REF!)/#REF!)","v":0},{"$f":"IF(ISERROR((#REF!-#REF!)/#REF!),0,(#REF!-#REF!)/#REF!)","v":0},{"$f":"IF(ISERROR((#REF!-#REF!)/#REF!),0,(#REF!-#REF!)/#REF!)","v":0},{"$f":"IF(ISERROR((#REF!-#REF!)/#REF!),0,(#REF!-#REF!)/#REF!)","v":0},{"$f":"IF(ISERROR((#REF!-#REF!)/#REF!),0,(#REF!-#REF!)/#REF!)","v":0},{"$f":"IF(ISERROR((#REF!-#REF!)/#REF!),0,(#REF!-#REF!)/#REF!)","v":0},{"$f":"IF(ISERROR((#REF!-#REF!)/#REF!),0,(#REF!-#REF!)/#REF!)","v":0},{"$f":"IF(ISERROR((#REF!-#REF!)/#REF!),0,(#REF!-#REF!)/#REF!)","v":0},{"$f":"IF(ISERROR((#REF!-#REF!)/#REF!),0,(#REF!-#REF!)/#REF!)","v":0}]
[null,"BZ08A","Major Orbits or Lacrimal Procedures, 19 years and over",0,2003,0,0,5,3096,14,242,"No","-",0,"","",{"$f":"IF(ISERROR((#REF!-#REF!)/#REF!),0,(#REF!-#REF!)/#REF!)","v":0},{"$f":"IF(ISERROR((#REF!-#REF!)/#REF!),0,(#REF!-#REF!)/#REF!)","v":0},{"$f":"IF(ISERROR((#REF!-#REF!)/#REF!),0,(#REF!-#REF!)/#REF!)","v":0},{"$f":"IF(ISERROR((#REF!-#REF!)/#REF!),0,(#REF!-#REF!)/#REF!)","v":0},{"$f":"IF(ISERROR((#REF!-#REF!)/#REF!),0,(#REF!-#REF!)/#REF!)","v":0},{"$f":"IF(ISERROR((#REF!-#REF!)/#REF!),0,(#REF!-#REF!)/#REF!)","v":0},{"$f":"IF(ISERROR((#REF!-#REF!)/#REF!),0,(#REF!-#REF!)/#REF!)","v":0},{"$f":"IF(ISERROR((#REF!-#REF!)/#REF!),0,(#REF!-#REF!)/#REF!)","v":0},{"$f":"IF(ISERROR((#REF!-#REF!)/#REF!),0,(#REF!-#REF!)/#REF!)","v":0},{"$f":"IF(ISERROR((#REF!-#REF!)/#REF!),0,(#REF!-#REF!)/#REF!)","v":0},{"$f":"IF(ISERROR((#REF!-#REF!)/#REF!),0,(#REF!-#REF!)/#REF!)","v":0},{"$f":"IF(ISERROR((#REF!-#REF!)/#REF!),0,(#REF!-#REF!)/#REF!)","v":0},{"$f":"IF(ISERROR((#REF!-#REF!)/#REF!),0,(#REF!-#REF!)/#REF!)","v":0}]
[null,"BZ08B","Major Orbits or Lacrimal Procedures, 18 years and under",0,1870,0,0,5,3169,10,387,"No","-",0,"","",{"$f":"IF(ISERROR((#REF!-#REF!)/#REF!),0,(#REF!-#REF!)/#REF!)","v":0},{"$f":"IF(ISERROR((#REF!-#REF!)/#REF!),0,(#REF!-#REF!)/#REF!)","v":0},{"$f":"IF(ISERROR((#REF!-#REF!)/#REF!),0,(#REF!-#REF!)/#REF!)","v":0},{"$f":"IF(ISERROR((#REF!-#REF!)/#REF!),0,(#REF!-#REF!)/#REF!)","v":0},{"$f":"IF(ISERROR((#REF!-#REF!)/#REF!),0,(#REF!-#REF!)/#REF!)","v":0},{"$f":"IF(ISERROR((#REF!-#REF!)/#REF!),0,(#REF!-#REF!)/#REF!)","v":0},{"$f":"IF(ISERROR((#REF!-#REF!)/#REF!),0,(#REF!-#REF!)/#REF!)","v":0},{"$f":"IF(ISERROR((#REF!-#REF!)/#REF!),0,(#REF!-#REF!)/#REF!)","v":0},{"$f":"IF(ISERROR((#REF!-#REF!)/#REF!),0,(#REF!-#REF!)/#REF!)","v":0},{"$f":"IF(ISERROR((#REF!-#REF!)/#REF!),0,(#REF!-#REF!)/#REF!)","v":0},{"$f":"IF(ISERROR((#REF!-#REF!)/#REF!),0,(#REF!-#REF!)/#REF!)","v":0},{"$f":"IF(ISERROR((#REF!-#REF!)/#REF!),0,(#REF!-#REF!)/#REF!)","v":0},{"$f":"IF(ISERROR((#REF!-#REF!)/#REF!),0,(#REF!-#REF!)/#REF!)","v":0}]
[null,"BZ09A","Intermediate Orbits or Lacrimal Procedures, 19 years and over",0,1380,0,0,5,2752,16,242,"No","-",0,"","",{"$f":"IF(ISERROR((#REF!-#REF!)/#REF!),0,(#REF!-#REF!)/#REF!)","v":0},{"$f":"IF(ISERROR((#REF!-#REF!)/#REF!),0,(#REF!-#REF!)/#REF!)","v":0},{"$f":"IF(ISERROR((#REF!-#REF!)/#REF!),0,(#REF!-#REF!)/#REF!)","v":0},{"$f":"IF(ISERROR((#REF!-#REF!)/#REF!),0,(#REF!-#REF!)/#REF!)","v":0},{"$f":"IF(ISERROR((#REF!-#REF!)/#REF!),0,(#REF!-#REF!)/#REF!)","v":0},{"$f":"IF(ISERROR((#REF!-#REF!)/#REF!),0,(#REF!-#REF!)/#REF!)","v":0},{"$f":"IF(ISERROR((#REF!-#REF!)/#REF!),0,(#REF!-#REF!)/#REF!)","v":0},{"$f":"IF(ISERROR((#REF!-#REF!)/#REF!),0,(#REF!-#REF!)/#REF!)","v":0},{"$f":"IF(ISERROR((#REF!-#REF!)/#REF!),0,(#REF!-#REF!)/#REF!)","v":0},{"$f":"IF(ISERROR((#REF!-#REF!)/#REF!),0,(#REF!-#REF!)/#REF!)","v":0},{"$f":"IF(ISERROR((#REF!-#REF!)/#REF!),0,(#REF!-#REF!)/#REF!)","v":0},{"$f":"IF(ISERROR((#REF!-#REF!)/#REF!),0,(#REF!-#REF!)/#REF!)","v":0},{"$f":"IF(ISERROR((#REF!-#REF!)/#REF!),0,(#REF!-#REF!)/#REF!)","v":0}]
[null,"BZ09B","Intermediate Orbits or Lacrimal Procedures, 18 years and under",0,1440,0,0,5,2310,5,387,"No","-",0,"","",{"$f":"IF(ISERROR((#REF!-#REF!)/#REF!),0,(#REF!-#REF!)/#REF!)","v":0},{"$f":"IF(ISERROR((#REF!-#REF!)/#REF!),0,(#REF!-#REF!)/#REF!)","v":0},{"$f":"IF(ISERROR((#REF!-#REF!)/#REF!),0,(#REF!-#REF!)/#REF!)","v":0},{"$f":"IF(ISERROR((#REF!-#REF!)/#REF!),0,(#REF!-#REF!)/#REF!)","v":0},{"$f":"IF(ISERROR((#REF!-#REF!)/#REF!),0,(#REF!-#REF!)/#REF!)","v":0},{"$f":"IF(ISERROR((#REF!-#REF!)/#REF!),0,(#REF!-#REF!)/#REF!)","v":0},{"$f":"IF(ISERROR((#REF!-#REF!)/#REF!),0,(#REF!-#REF!)/#REF!)","v":0},{"$f":"IF(ISERROR((#REF!-#REF!)/#REF!),0,(#REF!-#REF!)/#REF!)","v":0},{"$f":"IF(ISERROR((#REF!-#REF!)/#REF!),0,(#REF!-#REF!)/#REF!)","v":0},{"$f":"IF(ISERROR((#REF!-#REF!)/#REF!),0,(#REF!-#REF!)/#REF!)","v":0},{"$f":"IF(ISERROR((#REF!-#REF!)/#REF!),0,(#REF!-#REF!)/#REF!)","v":0},{"$f":"IF(ISERROR((#REF!-#REF!)/#REF!),0,(#REF!-#REF!)/#REF!)","v":0},{"$f":"IF(ISERROR((#REF!-#REF!)/#REF!),0,(#REF!-#REF!)/#REF!)","v":0}]
[null,"BZ10A","Minor Orbits or Lacrimal Procedures, 19 years and over",115,596,0,0,5,1177,5,242,"No","-",0,"","",{"$f":"IF(ISERROR((#REF!-#REF!)/#REF!),0,(#REF!-#REF!)/#REF!)","v":0},{"$f":"IF(ISERROR((#REF!-#REF!)/#REF!),0,(#REF!-#REF!)/#REF!)","v":0},{"$f":"IF(ISERROR((#REF!-#REF!)/#REF!),0,(#REF!-#REF!)/#REF!)","v":0},{"$f":"IF(ISERROR((#REF!-#REF!)/#REF!),0,(#REF!-#REF!)/#REF!)","v":0},{"$f":"IF(ISERROR((#REF!-#REF!)/#REF!),0,(#REF!-#REF!)/#REF!)","v":0},{"$f":"IF(ISERROR((#REF!-#REF!)/#REF!),0,(#REF!-#REF!)/#REF!)","v":0},{"$f":"IF(ISERROR((#REF!-#REF!)/#REF!),0,(#REF!-#REF!)/#REF!)","v":0},{"$f":"IF(ISERROR((#REF!-#REF!)/#REF!),0,(#REF!-#REF!)/#REF!)","v":0},{"$f":"IF(ISERROR((#REF!-#REF!)/#REF!),0,(#REF!-#REF!)/#REF!)","v":0},{"$f":"IF(ISERROR((#REF!-#REF!)/#REF!),0,(#REF!-#REF!)/#REF!)","v":0},{"$f":"IF(ISERROR((#REF!-#REF!)/#REF!),0,(#REF!-#REF!)/#REF!)","v":0},{"$f":"IF(ISERROR((#REF!-#REF!)/#REF!),0,(#REF!-#REF!)/#REF!)","v":0},{"$f":"IF(ISERROR((#REF!-#REF!)/#REF!),0,(#REF!-#REF!)/#REF!)","v":0}]
[null,"BZ10B","Minor Orbits or Lacrimal Procedures, 18 years and under",116,768,0,0,5,1206,8,387,"No","-",0,"","",{"$f":"IF(ISERROR((#REF!-#REF!)/#REF!),0,(#REF!-#REF!)/#REF!)","v":0},{"$f":"IF(ISERROR((#REF!-#REF!)/#REF!),0,(#REF!-#REF!)/#REF!)","v":0},{"$f":"IF(ISERROR((#REF!-#REF!)/#REF!),0,(#REF!-#REF!)/#REF!)","v":0},{"$f":"IF(ISERROR((#REF!-#REF!)/#REF!),0,(#REF!-#REF!)/#REF!)","v":0},{"$f":"IF(ISERROR((#REF!-#REF!)/#REF!),0,(#REF!-#REF!)/#REF!)","v":0},{"$f":"IF(ISERROR((#REF!-#REF!)/#REF!),0,(#REF!-#REF!)/#REF!)","v":0},{"$f":"IF(ISERROR((#REF!-#REF!)/#REF!),0,(#REF!-#REF!)/#REF!)","v":0},{"$f":"IF(ISERROR((#REF!-#REF!)/#REF!),0,(#REF!-#REF!)/#REF!)","v":0},{"$f":"IF(ISERROR((#REF!-#REF!)/#REF!),0,(#REF!-#REF!)/#REF!)","v":0},{"$f":"IF(ISERROR((#REF!-#REF!)/#REF!),0,(#REF!-#REF!)/#REF!)","v":0},{"$f":"IF(ISERROR((#REF!-#REF!)/#REF!),0,(#REF!-#REF!)/#REF!)","v":0},{"$f":"IF(ISERROR((#REF!-#REF!)/#REF!),0,(#REF!-#REF!)/#REF!)","v":0},{"$f":"IF(ISERROR((#REF!-#REF!)/#REF!),0,(#REF!-#REF!)/#REF!)","v":0}]
[null,"BZ11Z","Major Cornea or Sclera Procedures",0,1985,0,0,5,3408,20,242,"No","-",0,"","",{"$f":"IF(ISERROR((#REF!-#REF!)/#REF!),0,(#REF!-#REF!)/#REF!)","v":0},{"$f":"IF(ISERROR((#REF!-#REF!)/#REF!),0,(#REF!-#REF!)/#REF!)","v":0},{"$f":"IF(ISERROR((#REF!-#REF!)/#REF!),0,(#REF!-#REF!)/#REF!)","v":0},{"$f":"IF(ISERROR((#REF!-#REF!)/#REF!),0,(#REF!-#REF!)/#REF!)","v":0},{"$f":"IF(ISERROR((#REF!-#REF!)/#REF!),0,(#REF!-#REF!)/#REF!)","v":0},{"$f":"IF(ISERROR((#REF!-#REF!)/#REF!),0,(#REF!-#REF!)/#REF!)","v":0},{"$f":"IF(ISERROR((#REF!-#REF!)/#REF!),0,(#REF!-#REF!)/#REF!)","v":0},{"$f":"IF(ISERROR((#REF!-#REF!)/#REF!),0,(#REF!-#REF!)/#REF!)","v":0},{"$f":"IF(ISERROR((#REF!-#REF!)/#REF!),0,(#REF!-#REF!)/#REF!)","v":0},{"$f":"IF(ISERROR((#REF!-#REF!)/#REF!),0,(#REF!-#REF!)/#REF!)","v":0},{"$f":"IF(ISERROR((#REF!-#REF!)/#REF!),0,(#REF!-#REF!)/#REF!)","v":0},{"$f":"IF(ISERROR((#REF!-#REF!)/#REF!),0,(#REF!-#REF!)/#REF!)","v":0},{"$f":"IF(ISERROR((#REF!-#REF!)/#REF!),0,(#REF!-#REF!)/#REF!)","v":0}]
[null,"BZ12Z","Intermediate Cornea or Sclera Procedures",0,1502,0,0,5,2457,14,242,"No","-",0,"","",{"$f":"IF(ISERROR((#REF!-#REF!)/#REF!),0,(#REF!-#REF!)/#REF!)","v":0},{"$f":"IF(ISERROR((#REF!-#REF!)/#REF!),0,(#REF!-#REF!)/#REF!)","v":0},{"$f":"IF(ISERROR((#REF!-#REF!)/#REF!),0,(#REF!-#REF!)/#REF!)","v":0},{"$f":"IF(ISERROR((#REF!-#REF!)/#REF!),0,(#REF!-#REF!)/#REF!)","v":0},{"$f":"IF(ISERROR((#REF!-#REF!)/#REF!),0,(#REF!-#REF!)/#REF!)","v":0},{"$f":"IF(ISERROR((#REF!-#REF!)/#REF!),0,(#REF!-#REF!)/#REF!)","v":0},{"$f":"IF(ISERROR((#REF!-#REF!)/#REF!),0,(#REF!-#REF!)/#REF!)","v":0},{"$f":"IF(ISERROR((#REF!-#REF!)/#REF!),0,(#REF!-#REF!)/#REF!)","v":0},{"$f":"IF(ISERROR((#REF!-#REF!)/#REF!),0,(#REF!-#REF!)/#REF!)","v":0},{"$f":"IF(ISERROR((#REF!-#REF!)/#REF!),0,(#REF!-#REF!)/#REF!)","v":0},{"$f":"IF(ISERROR((#REF!-#REF!)/#REF!),0,(#REF!-#REF!)/#REF!)","v":0},{"$f":"IF(ISERROR((#REF!-#REF!)/#REF!),0,(#REF!-#REF!)/#REF!)","v":0},{"$f":"IF(ISERROR((#REF!-#REF!)/#REF!),0,(#REF!-#REF!)/#REF!)","v":0}]
[null,"BZ13Z","Minor Cornea or Sclera Procedures",138,841,0,0,5,2077,13,242,"No","-",0,"","",{"$f":"IF(ISERROR((#REF!-#REF!)/#REF!),0,(#REF!-#REF!)/#REF!)","v":0},{"$f":"IF(ISERROR((#REF!-#REF!)/#REF!),0,(#REF!-#REF!)/#REF!)","v":0},{"$f":"IF(ISERROR((#REF!-#REF!)/#REF!),0,(#REF!-#REF!)/#REF!)","v":0},{"$f":"IF(ISERROR((#REF!-#REF!)/#REF!),0,(#REF!-#REF!)/#REF!)","v":0},{"$f":"IF(ISERROR((#REF!-#REF!)/#REF!),0,(#REF!-#REF!)/#REF!)","v":0},{"$f":"IF(ISERROR((#REF!-#REF!)/#REF!),0,(#REF!-#REF!)/#REF!)","v":0},{"$f":"IF(ISERROR((#REF!-#REF!)/#REF!),0,(#REF!-#REF!)/#REF!)","v":0},{"$f":"IF(ISERROR((#REF!-#REF!)/#REF!),0,(#REF!-#REF!)/#REF!)","v":0},{"$f":"IF(ISERROR((#REF!-#REF!)/#REF!),0,(#REF!-#REF!)/#REF!)","v":0},{"$f":"IF(ISERROR((#REF!-#REF!)/#REF!),0,(#REF!-#REF!)/#REF!)","v":0},{"$f":"IF(ISERROR((#REF!-#REF!)/#REF!),0,(#REF!-#REF!)/#REF!)","v":0},{"$f":"IF(ISERROR((#REF!-#REF!)/#REF!),0,(#REF!-#REF!)/#REF!)","v":0},{"$f":"IF(ISERROR((#REF!-#REF!)/#REF!),0,(#REF!-#REF!)/#REF!)","v":0}]
[null,"BZ14A","Major Ocular Motility Procedures, 19 years and over",0,1228,0,0,5,849,5,242,"No","-",0,"","",{"$f":"IF(ISERROR((#REF!-#REF!)/#REF!),0,(#REF!-#REF!)/#REF!)","v":0},{"$f":"IF(ISERROR((#REF!-#REF!)/#REF!),0,(#REF!-#REF!)/#REF!)","v":0},{"$f":"IF(ISERROR((#REF!-#REF!)/#REF!),0,(#REF!-#REF!)/#REF!)","v":0},{"$f":"IF(ISERROR((#REF!-#REF!)/#REF!),0,(#REF!-#REF!)/#REF!)","v":0},{"$f":"IF(ISERROR((#REF!-#REF!)/#REF!),0,(#REF!-#REF!)/#REF!)","v":0},{"$f":"IF(ISERROR((#REF!-#REF!)/#REF!),0,(#REF!-#REF!)/#REF!)","v":0},{"$f":"IF(ISERROR((#REF!-#REF!)/#REF!),0,(#REF!-#REF!)/#REF!)","v":0},{"$f":"IF(ISERROR((#REF!-#REF!)/#REF!),0,(#REF!-#REF!)/#REF!)","v":0},{"$f":"IF(ISERROR((#REF!-#REF!)/#REF!),0,(#REF!-#REF!)/#REF!)","v":0},{"$f":"IF(ISERROR((#REF!-#REF!)/#REF!),0,(#REF!-#REF!)/#REF!)","v":0},{"$f":"IF(ISERROR((#REF!-#REF!)/#REF!),0,(#REF!-#REF!)/#REF!)","v":0},{"$f":"IF(ISERROR((#REF!-#REF!)/#REF!),0,(#REF!-#REF!)/#REF!)","v":0},{"$f":"IF(ISERROR((#REF!-#REF!)/#REF!),0,(#REF!-#REF!)/#REF!)","v":0}]
[null,"BZ14B","Major Ocular Motility Procedures, 18 years and under",0,1082,0,0,5,2327,5,387,"No","-",0,"","",{"$f":"IF(ISERROR((#REF!-#REF!)/#REF!),0,(#REF!-#REF!)/#REF!)","v":0},{"$f":"IF(ISERROR((#REF!-#REF!)/#REF!),0,(#REF!-#REF!)/#REF!)","v":0},{"$f":"IF(ISERROR((#REF!-#REF!)/#REF!),0,(#REF!-#REF!)/#REF!)","v":0},{"$f":"IF(ISERROR((#REF!-#REF!)/#REF!),0,(#REF!-#REF!)/#REF!)","v":0},{"$f":"IF(ISERROR((#REF!-#REF!)/#REF!),0,(#REF!-#REF!)/#REF!)","v":0},{"$f":"IF(ISERROR((#REF!-#REF!)/#REF!),0,(#REF!-#REF!)/#REF!)","v":0},{"$f":"IF(ISERROR((#REF!-#REF!)/#REF!),0,(#REF!-#REF!)/#REF!)","v":0},{"$f":"IF(ISERROR((#REF!-#REF!)/#REF!),0,(#REF!-#REF!)/#REF!)","v":0},{"$f":"IF(ISERROR((#REF!-#REF!)/#REF!),0,(#REF!-#REF!)/#REF!)","v":0},{"$f":"IF(ISERROR((#REF!-#REF!)/#REF!),0,(#REF!-#REF!)/#REF!)","v":0},{"$f":"IF(ISERROR((#REF!-#REF!)/#REF!),0,(#REF!-#REF!)/#REF!)","v":0},{"$f":"IF(ISERROR((#REF!-#REF!)/#REF!),0,(#REF!-#REF!)/#REF!)","v":0},{"$f":"IF(ISERROR((#REF!-#REF!)/#REF!),0,(#REF!-#REF!)/#REF!)","v":0}]
[null,"BZ15A","Intermediate Ocular Motility Procedures, 19 years and over",0,1100,0,0,5,1272,11,242,"No","-",0,"","",{"$f":"IF(ISERROR((#REF!-#REF!)/#REF!),0,(#REF!-#REF!)/#REF!)","v":0},{"$f":"IF(ISERROR((#REF!-#REF!)/#REF!),0,(#REF!-#REF!)/#REF!)","v":0},{"$f":"IF(ISERROR((#REF!-#REF!)/#REF!),0,(#REF!-#REF!)/#REF!)","v":0},{"$f":"IF(ISERROR((#REF!-#REF!)/#REF!),0,(#REF!-#REF!)/#REF!)","v":0},{"$f":"IF(ISERROR((#REF!-#REF!)/#REF!),0,(#REF!-#REF!)/#REF!)","v":0},{"$f":"IF(ISERROR((#REF!-#REF!)/#REF!),0,(#REF!-#REF!)/#REF!)","v":0},{"$f":"IF(ISERROR((#REF!-#REF!)/#REF!),0,(#REF!-#REF!)/#REF!)","v":0},{"$f":"IF(ISERROR((#REF!-#REF!)/#REF!),0,(#REF!-#REF!)/#REF!)","v":0},{"$f":"IF(ISERROR((#REF!-#REF!)/#REF!),0,(#REF!-#REF!)/#REF!)","v":0},{"$f":"IF(ISERROR((#REF!-#REF!)/#REF!),0,(#REF!-#REF!)/#REF!)","v":0},{"$f":"IF(ISERROR((#REF!-#REF!)/#REF!),0,(#REF!-#REF!)/#REF!)","v":0},{"$f":"IF(ISERROR((#REF!-#REF!)/#REF!),0,(#REF!-#REF!)/#REF!)","v":0},{"$f":"IF(ISERROR((#REF!-#REF!)/#REF!),0,(#REF!-#REF!)/#REF!)","v":0}]
[null,"BZ15B","Intermediate Ocular Motility Procedures, 18 years and under",0,1126,0,0,5,1061,5,387,"No","-",0,"","",{"$f":"IF(ISERROR((#REF!-#REF!)/#REF!),0,(#REF!-#REF!)/#REF!)","v":0},{"$f":"IF(ISERROR((#REF!-#REF!)/#REF!),0,(#REF!-#REF!)/#REF!)","v":0},{"$f":"IF(ISERROR((#REF!-#REF!)/#REF!),0,(#REF!-#REF!)/#REF!)","v":0},{"$f":"IF(ISERROR((#REF!-#REF!)/#REF!),0,(#REF!-#REF!)/#REF!)","v":0},{"$f":"IF(ISERROR((#REF!-#REF!)/#REF!),0,(#REF!-#REF!)/#REF!)","v":0},{"$f":"IF(ISERROR((#REF!-#REF!)/#REF!),0,(#REF!-#REF!)/#REF!)","v":0},{"$f":"IF(ISERROR((#REF!-#REF!)/#REF!),0,(#REF!-#REF!)/#REF!)","v":0},{"$f":"IF(ISERROR((#REF!-#REF!)/#REF!),0,(#REF!-#REF!)/#REF!)","v":0},{"$f":"IF(ISERROR((#REF!-#REF!)/#REF!),0,(#REF!-#REF!)/#REF!)","v":0},{"$f":"IF(ISERROR((#REF!-#REF!)/#REF!),0,(#REF!-#REF!)/#REF!)","v":0},{"$f":"IF(ISERROR((#REF!-#REF!)/#REF!),0,(#REF!-#REF!)/#REF!)","v":0},{"$f":"IF(ISERROR((#REF!-#REF!)/#REF!),0,(#REF!-#REF!)/#REF!)","v":0},{"$f":"IF(ISERROR((#REF!-#REF!)/#REF!),0,(#REF!-#REF!)/#REF!)","v":0}]
[null,"BZ16A","Minor Ocular Motility Procedures, 19 years and over",0,1060,0,0,5,905,5,242,"No","-",0,"","",{"$f":"IF(ISERROR((#REF!-#REF!)/#REF!),0,(#REF!-#REF!)/#REF!)","v":0},{"$f":"IF(ISERROR((#REF!-#REF!)/#REF!),0,(#REF!-#REF!)/#REF!)","v":0},{"$f":"IF(ISERROR((#REF!-#REF!)/#REF!),0,(#REF!-#REF!)/#REF!)","v":0},{"$f":"IF(ISERROR((#REF!-#REF!)/#REF!),0,(#REF!-#REF!)/#REF!)","v":0},{"$f":"IF(ISERROR((#REF!-#REF!)/#REF!),0,(#REF!-#REF!)/#REF!)","v":0},{"$f":"IF(ISERROR((#REF!-#REF!)/#REF!),0,(#REF!-#REF!)/#REF!)","v":0},{"$f":"IF(ISERROR((#REF!-#REF!)/#REF!),0,(#REF!-#REF!)/#REF!)","v":0},{"$f":"IF(ISERROR((#REF!-#REF!)/#REF!),0,(#REF!-#REF!)/#REF!)","v":0},{"$f":"IF(ISERROR((#REF!-#REF!)/#REF!),0,(#REF!-#REF!)/#REF!)","v":0},{"$f":"IF(ISERROR((#REF!-#REF!)/#REF!),0,(#REF!-#REF!)/#REF!)","v":0},{"$f":"IF(ISERROR((#REF!-#REF!)/#REF!),0,(#REF!-#REF!)/#REF!)","v":0},{"$f":"IF(ISERROR((#REF!-#REF!)/#REF!),0,(#REF!-#REF!)/#REF!)","v":0},{"$f":"IF(ISERROR((#REF!-#REF!)/#REF!),0,(#REF!-#REF!)/#REF!)","v":0}]
[null,"BZ16B","Minor Ocular Motility Procedures, 18 years and under",0,1029,0,0,5,864,5,387,"No","-",0,"","",{"$f":"IF(ISERROR((#REF!-#REF!)/#REF!),0,(#REF!-#REF!)/#REF!)","v":0},{"$f":"IF(ISERROR((#REF!-#REF!)/#REF!),0,(#REF!-#REF!)/#REF!)","v":0},{"$f":"IF(ISERROR((#REF!-#REF!)/#REF!),0,(#REF!-#REF!)/#REF!)","v":0},{"$f":"IF(ISERROR((#REF!-#REF!)/#REF!),0,(#REF!-#REF!)/#REF!)","v":0},{"$f":"IF(ISERROR((#REF!-#REF!)/#REF!),0,(#REF!-#REF!)/#REF!)","v":0},{"$f":"IF(ISERROR((#REF!-#REF!)/#REF!),0,(#REF!-#REF!)/#REF!)","v":0},{"$f":"IF(ISERROR((#REF!-#REF!)/#REF!),0,(#REF!-#REF!)/#REF!)","v":0},{"$f":"IF(ISERROR((#REF!-#REF!)/#REF!),0,(#REF!-#REF!)/#REF!)","v":0},{"$f":"IF(ISERROR((#REF!-#REF!)/#REF!),0,(#REF!-#REF!)/#REF!)","v":0},{"$f":"IF(ISERROR((#REF!-#REF!)/#REF!),0,(#REF!-#REF!)/#REF!)","v":0},{"$f":"IF(ISERROR((#REF!-#REF!)/#REF!),0,(#REF!-#REF!)/#REF!)","v":0},{"$f":"IF(ISERROR((#REF!-#REF!)/#REF!),0,(#REF!-#REF!)/#REF!)","v":0},{"$f":"IF(ISERROR((#REF!-#REF!)/#REF!),0,(#REF!-#REF!)/#REF!)","v":0}]
[null,"BZ17Z","Major Glaucoma Procedures",0,1574,0,0,5,1754,8,242,"No","-",0,"","",{"$f":"IF(ISERROR((#REF!-#REF!)/#REF!),0,(#REF!-#REF!)/#REF!)","v":0},{"$f":"IF(ISERROR((#REF!-#REF!)/#REF!),0,(#REF!-#REF!)/#REF!)","v":0},{"$f":"IF(ISERROR((#REF!-#REF!)/#REF!),0,(#REF!-#REF!)/#REF!)","v":0},{"$f":"IF(ISERROR((#REF!-#REF!)/#REF!),0,(#REF!-#REF!)/#REF!)","v":0},{"$f":"IF(ISERROR((#REF!-#REF!)/#REF!),0,(#REF!-#REF!)/#REF!)","v":0},{"$f":"IF(ISERROR((#REF!-#REF!)/#REF!),0,(#REF!-#REF!)/#REF!)","v":0},{"$f":"IF(ISERROR((#REF!-#REF!)/#REF!),0,(#REF!-#REF!)/#REF!)","v":0},{"$f":"IF(ISERROR((#REF!-#REF!)/#REF!),0,(#REF!-#REF!)/#REF!)","v":0},{"$f":"IF(ISERROR((#REF!-#REF!)/#REF!),0,(#REF!-#REF!)/#REF!)","v":0},{"$f":"IF(ISERROR((#REF!-#REF!)/#REF!),0,(#REF!-#REF!)/#REF!)","v":0},{"$f":"IF(ISERROR((#REF!-#REF!)/#REF!),0,(#REF!-#REF!)/#REF!)","v":0},{"$f":"IF(ISERROR((#REF!-#REF!)/#REF!),0,(#REF!-#REF!)/#REF!)","v":0},{"$f":"IF(ISERROR((#REF!-#REF!)/#REF!),0,(#REF!-#REF!)/#REF!)","v":0}]
[null,"BZ18Z","Intermediate Glaucoma Procedures",115,961,0,0,5,1507,8,242,"No","-",0,"","",{"$f":"IF(ISERROR((#REF!-#REF!)/#REF!),0,(#REF!-#REF!)/#REF!)","v":0},{"$f":"IF(ISERROR((#REF!-#REF!)/#REF!),0,(#REF!-#REF!)/#REF!)","v":0},{"$f":"IF(ISERROR((#REF!-#REF!)/#REF!),0,(#REF!-#REF!)/#REF!)","v":0},{"$f":"IF(ISERROR((#REF!-#REF!)/#REF!),0,(#REF!-#REF!)/#REF!)","v":0},{"$f":"IF(ISERROR((#REF!-#REF!)/#REF!),0,(#REF!-#REF!)/#REF!)","v":0},{"$f":"IF(ISERROR((#REF!-#REF!)/#REF!),0,(#REF!-#REF!)/#REF!)","v":0},{"$f":"IF(ISERROR((#REF!-#REF!)/#REF!),0,(#REF!-#REF!)/#REF!)","v":0},{"$f":"IF(ISERROR((#REF!-#REF!)/#REF!),0,(#REF!-#REF!)/#REF!)","v":0},{"$f":"IF(ISERROR((#REF!-#REF!)/#REF!),0,(#REF!-#REF!)/#REF!)","v":0},{"$f":"IF(ISERROR((#REF!-#REF!)/#REF!),0,(#REF!-#REF!)/#REF!)","v":0},{"$f":"IF(ISERROR((#REF!-#REF!)/#REF!),0,(#REF!-#REF!)/#REF!)","v":0},{"$f":"IF(ISERROR((#REF!-#REF!)/#REF!),0,(#REF!-#REF!)/#REF!)","v":0},{"$f":"IF(ISERROR((#REF!-#REF!)/#REF!),0,(#REF!-#REF!)/#REF!)","v":0}]
[null,"BZ19Z","Minor Glaucoma Procedures",115,455,0,0,5,1001,5,242,"No","-",0,"","",{"$f":"IF(ISERROR((#REF!-#REF!)/#REF!),0,(#REF!-#REF!)/#REF!)","v":0},{"$f":"IF(ISERROR((#REF!-#REF!)/#REF!),0,(#REF!-#REF!)/#REF!)","v":0},{"$f":"IF(ISERROR((#REF!-#REF!)/#REF!),0,(#REF!-#REF!)/#REF!)","v":0},{"$f":"IF(ISERROR((#REF!-#REF!)/#REF!),0,(#REF!-#REF!)/#REF!)","v":0},{"$f":"IF(ISERROR((#REF!-#REF!)/#REF!),0,(#REF!-#REF!)/#REF!)","v":0},{"$f":"IF(ISERROR((#REF!-#REF!)/#REF!),0,(#REF!-#REF!)/#REF!)","v":0},{"$f":"IF(ISERROR((#REF!-#REF!)/#REF!),0,(#REF!-#REF!)/#REF!)","v":0},{"$f":"IF(ISERROR((#REF!-#REF!)/#REF!),0,(#REF!-#REF!)/#REF!)","v":0},{"$f":"IF(ISERROR((#REF!-#REF!)/#REF!),0,(#REF!-#REF!)/#REF!)","v":0},{"$f":"IF(ISERROR((#REF!-#REF!)/#REF!),0,(#REF!-#REF!)/#REF!)","v":0},{"$f":"IF(ISERROR((#REF!-#REF!)/#REF!),0,(#REF!-#REF!)/#REF!)","v":0},{"$f":"IF(ISERROR((#REF!-#REF!)/#REF!),0,(#REF!-#REF!)/#REF!)","v":0},{"$f":"IF(ISERROR((#REF!-#REF!)/#REF!),0,(#REF!-#REF!)/#REF!)","v":0}]
[null,"BZ20Z","Complex Vitreous Retinal Procedures",0,1791,0,0,5,2215,5,242,"No","-",0,"","",{"$f":"IF(ISERROR((#REF!-#REF!)/#REF!),0,(#REF!-#REF!)/#REF!)","v":0},{"$f":"IF(ISERROR((#REF!-#REF!)/#REF!),0,(#REF!-#REF!)/#REF!)","v":0},{"$f":"IF(ISERROR((#REF!-#REF!)/#REF!),0,(#REF!-#REF!)/#REF!)","v":0},{"$f":"IF(ISERROR((#REF!-#REF!)/#REF!),0,(#REF!-#REF!)/#REF!)","v":0},{"$f":"IF(ISERROR((#REF!-#REF!)/#REF!),0,(#REF!-#REF!)/#REF!)","v":0},{"$f":"IF(ISERROR((#REF!-#REF!)/#REF!),0,(#REF!-#REF!)/#REF!)","v":0},{"$f":"IF(ISERROR((#REF!-#REF!)/#REF!),0,(#REF!-#REF!)/#REF!)","v":0},{"$f":"IF(ISERROR((#REF!-#REF!)/#REF!),0,(#REF!-#REF!)/#REF!)","v":0},{"$f":"IF(ISERROR((#REF!-#REF!)/#REF!),0,(#REF!-#REF!)/#REF!)","v":0},{"$f":"IF(ISERROR((#REF!-#REF!)/#REF!),0,(#REF!-#REF!)/#REF!)","v":0},{"$f":"IF(ISERROR((#REF!-#REF!)/#REF!),0,(#REF!-#REF!)/#REF!)","v":0},{"$f":"IF(ISERROR((#REF!-#REF!)/#REF!),0,(#REF!-#REF!)/#REF!)","v":0},{"$f":"IF(ISERROR((#REF!-#REF!)/#REF!),0,(#REF!-#REF!)/#REF!)","v":0}]
[null,"BZ21Z","Major Vitreous Retinal Procedures",0,1408,0,0,5,1565,5,242,"No","-",0,"","",{"$f":"IF(ISERROR((#REF!-#REF!)/#REF!),0,(#REF!-#REF!)/#REF!)","v":0},{"$f":"IF(ISERROR((#REF!-#REF!)/#REF!),0,(#REF!-#REF!)/#REF!)","v":0},{"$f":"IF(ISERROR((#REF!-#REF!)/#REF!),0,(#REF!-#REF!)/#REF!)","v":0},{"$f":"IF(ISERROR((#REF!-#REF!)/#REF!),0,(#REF!-#REF!)/#REF!)","v":0},{"$f":"IF(ISERROR((#REF!-#REF!)/#REF!),0,(#REF!-#REF!)/#REF!)","v":0},{"$f":"IF(ISERROR((#REF!-#REF!)/#REF!),0,(#REF!-#REF!)/#REF!)","v":0},{"$f":"IF(ISERROR((#REF!-#REF!)/#REF!),0,(#REF!-#REF!)/#REF!)","v":0},{"$f":"IF(ISERROR((#REF!-#REF!)/#REF!),0,(#REF!-#REF!)/#REF!)","v":0},{"$f":"IF(ISERROR((#REF!-#REF!)/#REF!),0,(#REF!-#REF!)/#REF!)","v":0},{"$f":"IF(ISERROR((#REF!-#REF!)/#REF!),0,(#REF!-#REF!)/#REF!)","v":0},{"$f":"IF(ISERROR((#REF!-#REF!)/#REF!),0,(#REF!-#REF!)/#REF!)","v":0},{"$f":"IF(ISERROR((#REF!-#REF!)/#REF!),0,(#REF!-#REF!)/#REF!)","v":0},{"$f":"IF(ISERROR((#REF!-#REF!)/#REF!),0,(#REF!-#REF!)/#REF!)","v":0}]
[null,"BZ22Z","Intermediate Vitreous Retinal Procedures",142,1164,0,0,5,1919,5,242,"No","-",0,"","",{"$f":"IF(ISERROR((#REF!-#REF!)/#REF!),0,(#REF!-#REF!)/#REF!)","v":0},{"$f":"IF(ISERROR((#REF!-#REF!)/#REF!),0,(#REF!-#REF!)/#REF!)","v":0},{"$f":"IF(ISERROR((#REF!-#REF!)/#REF!),0,(#REF!-#REF!)/#REF!)","v":0},{"$f":"IF(ISERROR((#REF!-#REF!)/#REF!),0,(#REF!-#REF!)/#REF!)","v":0},{"$f":"IF(ISERROR((#REF!-#REF!)/#REF!),0,(#REF!-#REF!)/#REF!)","v":0},{"$f":"IF(ISERROR((#REF!-#REF!)/#REF!),0,(#REF!-#REF!)/#REF!)","v":0},{"$f":"IF(ISERROR((#REF!-#REF!)/#REF!),0,(#REF!-#REF!)/#REF!)","v":0},{"$f":"IF(ISERROR((#REF!-#REF!)/#REF!),0,(#REF!-#REF!)/#REF!)","v":0},{"$f":"IF(ISERROR((#REF!-#REF!)/#REF!),0,(#REF!-#REF!)/#REF!)","v":0},{"$f":"IF(ISERROR((#REF!-#REF!)/#REF!),0,(#REF!-#REF!)/#REF!)","v":0},{"$f":"IF(ISERROR((#REF!-#REF!)/#REF!),0,(#REF!-#REF!)/#REF!)","v":0},{"$f":"IF(ISERROR((#REF!-#REF!)/#REF!),0,(#REF!-#REF!)/#REF!)","v":0},{"$f":"IF(ISERROR((#REF!-#REF!)/#REF!),0,(#REF!-#REF!)/#REF!)","v":0}]
[null,"BZ23Z","Minor Vitreous Retinal Procedures",109,353,0,0,5,810,5,242,"No","-",0,"","",{"$f":"IF(ISERROR((#REF!-#REF!)/#REF!),0,(#REF!-#REF!)/#REF!)","v":0},{"$f":"IF(ISERROR((#REF!-#REF!)/#REF!),0,(#REF!-#REF!)/#REF!)","v":0},{"$f":"IF(ISERROR((#REF!-#REF!)/#REF!),0,(#REF!-#REF!)/#REF!)","v":0},{"$f":"IF(ISERROR((#REF!-#REF!)/#REF!),0,(#REF!-#REF!)/#REF!)","v":0},{"$f":"IF(ISERROR((#REF!-#REF!)/#REF!),0,(#REF!-#REF!)/#REF!)","v":0},{"$f":"IF(ISERROR((#REF!-#REF!)/#REF!),0,(#REF!-#REF!)/#REF!)","v":0},{"$f":"IF(ISERROR((#REF!-#REF!)/#REF!),0,(#REF!-#REF!)/#REF!)","v":0},{"$f":"IF(ISERROR((#REF!-#REF!)/#REF!),0,(#REF!-#REF!)/#REF!)","v":0},{"$f":"IF(ISERROR((#REF!-#REF!)/#REF!),0,(#REF!-#REF!)/#REF!)","v":0},{"$f":"IF(ISERROR((#REF!-#REF!)/#REF!),0,(#REF!-#REF!)/#REF!)","v":0},{"$f":"IF(ISERROR((#REF!-#REF!)/#REF!),0,(#REF!-#REF!)/#REF!)","v":0},{"$f":"IF(ISERROR((#REF!-#REF!)/#REF!),0,(#REF!-#REF!)/#REF!)","v":0},{"$f":"IF(ISERROR((#REF!-#REF!)/#REF!),0,(#REF!-#REF!)/#REF!)","v":0}]
[null,"BZ24A","Non-Surgical Ophthalmology with length of stay 2 days or more",0,2690,0,0,12,2060,17,242,"No","-",0,"","",{"$f":"IF(ISERROR((#REF!-#REF!)/#REF!),0,(#REF!-#REF!)/#REF!)","v":0},{"$f":"IF(ISERROR((#REF!-#REF!)/#REF!),0,(#REF!-#REF!)/#REF!)","v":0},{"$f":"IF(ISERROR((#REF!-#REF!)/#REF!),0,(#REF!-#REF!)/#REF!)","v":0},{"$f":"IF(ISERROR((#REF!-#REF!)/#REF!),0,(#REF!-#REF!)/#REF!)","v":0},{"$f":"IF(ISERROR((#REF!-#REF!)/#REF!),0,(#REF!-#REF!)/#REF!)","v":0},{"$f":"IF(ISERROR((#REF!-#REF!)/#REF!),0,(#REF!-#REF!)/#REF!)","v":0},{"$f":"IF(ISERROR((#REF!-#REF!)/#REF!),0,(#REF!-#REF!)/#REF!)","v":0},{"$f":"IF(ISERROR((#REF!-#REF!)/#REF!),0,(#REF!-#REF!)/#REF!)","v":0},{"$f":"IF(ISERROR((#REF!-#REF!)/#REF!),0,(#REF!-#REF!)/#REF!)","v":0},{"$f":"IF(ISERROR((#REF!-#REF!)/#REF!),0,(#REF!-#REF!)/#REF!)","v":0},{"$f":"IF(ISERROR((#REF!-#REF!)/#REF!),0,(#REF!-#REF!)/#REF!)","v":0},{"$f":"IF(ISERROR((#REF!-#REF!)/#REF!),0,(#REF!-#REF!)/#REF!)","v":0},{"$f":"IF(ISERROR((#REF!-#REF!)/#REF!),0,(#REF!-#REF!)/#REF!)","v":0}]
[null,"BZ24C","Non-Surgical Ophthalmology with length of stay 1 day or less",0,315,0,0,5,399,5,242,"Yes",1,399,"","",{"$f":"IF(ISERROR((#REF!-#REF!)/#REF!),0,(#REF!-#REF!)/#REF!)","v":0},{"$f":"IF(ISERROR((#REF!-#REF!)/#REF!),0,(#REF!-#REF!)/#REF!)","v":0},{"$f":"IF(ISERROR((#REF!-#REF!)/#REF!),0,(#REF!-#REF!)/#REF!)","v":0},{"$f":"IF(ISERROR((#REF!-#REF!)/#REF!),0,(#REF!-#REF!)/#REF!)","v":0},{"$f":"IF(ISERROR((#REF!-#REF!)/#REF!),0,(#REF!-#REF!)/#REF!)","v":0},{"$f":"IF(ISERROR((#REF!-#REF!)/#REF!),0,(#REF!-#REF!)/#REF!)","v":0},{"$f":"IF(ISERROR((#REF!-#REF!)/#REF!),0,(#REF!-#REF!)/#REF!)","v":0},{"$f":"IF(ISERROR((#REF!-#REF!)/#REF!),0,(#REF!-#REF!)/#REF!)","v":0},{"$f":"IF(ISERROR((#REF!-#REF!)/#REF!),0,(#REF!-#REF!)/#REF!)","v":0},{"$f":"IF(ISERROR((#REF!-#REF!)/#REF!),0,(#REF!-#REF!)/#REF!)","v":0},{"$f":"IF(ISERROR((#REF!-#REF!)/#REF!),0,(#REF!-#REF!)/#REF!)","v":0},{"$f":"IF(ISERROR((#REF!-#REF!)/#REF!),0,(#REF!-#REF!)/#REF!)","v":0},{"$f":"IF(ISERROR((#REF!-#REF!)/#REF!),0,(#REF!-#REF!)/#REF!)","v":0}]
[null,"CZ01S","Minor Mouth or Throat Procedures, 18 years and under with CC",0,793,0,0,5,2516,8,330,"No","-",0,"","",{"$f":"IF(ISERROR((#REF!-#REF!)/#REF!),0,(#REF!-#REF!)/#REF!)","v":0},{"$f":"IF(ISERROR((#REF!-#REF!)/#REF!),0,(#REF!-#REF!)/#REF!)","v":0},{"$f":"IF(ISERROR((#REF!-#REF!)/#REF!),0,(#REF!-#REF!)/#REF!)","v":0},{"$f":"IF(ISERROR((#REF!-#REF!)/#REF!),0,(#REF!-#REF!)/#REF!)","v":0},{"$f":"IF(ISERROR((#REF!-#REF!)/#REF!),0,(#REF!-#REF!)/#REF!)","v":0},{"$f":"IF(ISERROR((#REF!-#REF!)/#REF!),0,(#REF!-#REF!)/#REF!)","v":0},{"$f":"IF(ISERROR((#REF!-#REF!)/#REF!),0,(#REF!-#REF!)/#REF!)","v":0},{"$f":"IF(ISERROR((#REF!-#REF!)/#REF!),0,(#REF!-#REF!)/#REF!)","v":0},{"$f":"IF(ISERROR((#REF!-#REF!)/#REF!),0,(#REF!-#REF!)/#REF!)","v":0},{"$f":"IF(ISERROR((#REF!-#REF!)/#REF!),0,(#REF!-#REF!)/#REF!)","v":0},{"$f":"IF(ISERROR((#REF!-#REF!)/#REF!),0,(#REF!-#REF!)/#REF!)","v":0},{"$f":"IF(ISERROR((#REF!-#REF!)/#REF!),0,(#REF!-#REF!)/#REF!)","v":0},{"$f":"IF(ISERROR((#REF!-#REF!)/#REF!),0,(#REF!-#REF!)/#REF!)","v":0}]
[null,"CZ01T","Minor Mouth or Throat Procedures, 18 years and under without CC",104,630,0,0,5,760,5,330,"No","-",0,"","",{"$f":"IF(ISERROR((#REF!-#REF!)/#REF!),0,(#REF!-#REF!)/#REF!)","v":0},{"$f":"IF(ISERROR((#REF!-#REF!)/#REF!),0,(#REF!-#REF!)/#REF!)","v":0},{"$f":"IF(ISERROR((#REF!-#REF!)/#REF!),0,(#REF!-#REF!)/#REF!)","v":0},{"$f":"IF(ISERROR((#REF!-#REF!)/#REF!),0,(#REF!-#REF!)/#REF!)","v":0},{"$f":"IF(ISERROR((#REF!-#REF!)/#REF!),0,(#REF!-#REF!)/#REF!)","v":0},{"$f":"IF(ISERROR((#REF!-#REF!)/#REF!),0,(#REF!-#REF!)/#REF!)","v":0},{"$f":"IF(ISERROR((#REF!-#REF!)/#REF!),0,(#REF!-#REF!)/#REF!)","v":0},{"$f":"IF(ISERROR((#REF!-#REF!)/#REF!),0,(#REF!-#REF!)/#REF!)","v":0},{"$f":"IF(ISERROR((#REF!-#REF!)/#REF!),0,(#REF!-#REF!)/#REF!)","v":0},{"$f":"IF(ISERROR((#REF!-#REF!)/#REF!),0,(#REF!-#REF!)/#REF!)","v":0},{"$f":"IF(ISERROR((#REF!-#REF!)/#REF!),0,(#REF!-#REF!)/#REF!)","v":0},{"$f":"IF(ISERROR((#REF!-#REF!)/#REF!),0,(#REF!-#REF!)/#REF!)","v":0},{"$f":"IF(ISERROR((#REF!-#REF!)/#REF!),0,(#REF!-#REF!)/#REF!)","v":0}]
[null,"CZ01V","Minor Mouth or Throat Procedures, 19 years and over with CC",0,631,0,0,5,1565,11,221,"No","-",0,"","",{"$f":"IF(ISERROR((#REF!-#REF!)/#REF!),0,(#REF!-#REF!)/#REF!)","v":0},{"$f":"IF(ISERROR((#REF!-#REF!)/#REF!),0,(#REF!-#REF!)/#REF!)","v":0},{"$f":"IF(ISERROR((#REF!-#REF!)/#REF!),0,(#REF!-#REF!)/#REF!)","v":0},{"$f":"IF(ISERROR((#REF!-#REF!)/#REF!),0,(#REF!-#REF!)/#REF!)","v":0},{"$f":"IF(ISERROR((#REF!-#REF!)/#REF!),0,(#REF!-#REF!)/#REF!)","v":0},{"$f":"IF(ISERROR((#REF!-#REF!)/#REF!),0,(#REF!-#REF!)/#REF!)","v":0},{"$f":"IF(ISERROR((#REF!-#REF!)/#REF!),0,(#REF!-#REF!)/#REF!)","v":0},{"$f":"IF(ISERROR((#REF!-#REF!)/#REF!),0,(#REF!-#REF!)/#REF!)","v":0},{"$f":"IF(ISERROR((#REF!-#REF!)/#REF!),0,(#REF!-#REF!)/#REF!)","v":0},{"$f":"IF(ISERROR((#REF!-#REF!)/#REF!),0,(#REF!-#REF!)/#REF!)","v":0},{"$f":"IF(ISERROR((#REF!-#REF!)/#REF!),0,(#REF!-#REF!)/#REF!)","v":0},{"$f":"IF(ISERROR((#REF!-#REF!)/#REF!),0,(#REF!-#REF!)/#REF!)","v":0},{"$f":"IF(ISERROR((#REF!-#REF!)/#REF!),0,(#REF!-#REF!)/#REF!)","v":0}]
[null,"CZ01Y","Minor Mouth or Throat Procedures, 19 years and over without CC",132,137,0,0,5,661,5,221,"No","-",0,"","",{"$f":"IF(ISERROR((#REF!-#REF!)/#REF!),0,(#REF!-#REF!)/#REF!)","v":0},{"$f":"IF(ISERROR((#REF!-#REF!)/#REF!),0,(#REF!-#REF!)/#REF!)","v":0},{"$f":"IF(ISERROR((#REF!-#REF!)/#REF!),0,(#REF!-#REF!)/#REF!)","v":0},{"$f":"IF(ISERROR((#REF!-#REF!)/#REF!),0,(#REF!-#REF!)/#REF!)","v":0},{"$f":"IF(ISERROR((#REF!-#REF!)/#REF!),0,(#REF!-#REF!)/#REF!)","v":0},{"$f":"IF(ISERROR((#REF!-#REF!)/#REF!),0,(#REF!-#REF!)/#REF!)","v":0},{"$f":"IF(ISERROR((#REF!-#REF!)/#REF!),0,(#REF!-#REF!)/#REF!)","v":0},{"$f":"IF(ISERROR((#REF!-#REF!)/#REF!),0,(#REF!-#REF!)/#REF!)","v":0},{"$f":"IF(ISERROR((#REF!-#REF!)/#REF!),0,(#REF!-#REF!)/#REF!)","v":0},{"$f":"IF(ISERROR((#REF!-#REF!)/#REF!),0,(#REF!-#REF!)/#REF!)","v":0},{"$f":"IF(ISERROR((#REF!-#REF!)/#REF!),0,(#REF!-#REF!)/#REF!)","v":0},{"$f":"IF(ISERROR((#REF!-#REF!)/#REF!),0,(#REF!-#REF!)/#REF!)","v":0},{"$f":"IF(ISERROR((#REF!-#REF!)/#REF!),0,(#REF!-#REF!)/#REF!)","v":0}]
[null,"CZ02S","Intermediate Mouth or Throat Procedures, 18 years and under with CC",0,2108.8069884337801,0,0,5,3028,20,330,"No","-",0,"","",{"$f":"IF(ISERROR((#REF!-#REF!)/#REF!),0,(#REF!-#REF!)/#REF!)","v":0},{"$f":"IF(ISERROR((#REF!-#REF!)/#REF!),0,(#REF!-#REF!)/#REF!)","v":0},{"$f":"IF(ISERROR((#REF!-#REF!)/#REF!),0,(#REF!-#REF!)/#REF!)","v":0},{"$f":"IF(ISERROR((#REF!-#REF!)/#REF!),0,(#REF!-#REF!)/#REF!)","v":0},{"$f":"IF(ISERROR((#REF!-#REF!)/#REF!),0,(#REF!-#REF!)/#REF!)","v":0},{"$f":"IF(ISERROR((#REF!-#REF!)/#REF!),0,(#REF!-#REF!)/#REF!)","v":0},{"$f":"IF(ISERROR((#REF!-#REF!)/#REF!),0,(#REF!-#REF!)/#REF!)","v":0},{"$f":"IF(ISERROR((#REF!-#REF!)/#REF!),0,(#REF!-#REF!)/#REF!)","v":0},{"$f":"IF(ISERROR((#REF!-#REF!)/#REF!),0,(#REF!-#REF!)/#REF!)","v":0},{"$f":"IF(ISERROR((#REF!-#REF!)/#REF!),0,(#REF!-#REF!)/#REF!)","v":0},{"$f":"IF(ISERROR((#REF!-#REF!)/#REF!),0,(#REF!-#REF!)/#REF!)","v":0},{"$f":"IF(ISERROR((#REF!-#REF!)/#REF!),0,(#REF!-#REF!)/#REF!)","v":0},{"$f":"IF(ISERROR((#REF!-#REF!)/#REF!),0,(#REF!-#REF!)/#REF!)","v":0}]
[null,"CZ02T","Intermediate Mouth or Throat Procedures, 18 years and under without CC",104,977,0,0,5,1167,5,330,"No","-",0,"","",{"$f":"IF(ISERROR((#REF!-#REF!)/#REF!),0,(#REF!-#REF!)/#REF!)","v":0},{"$f":"IF(ISERROR((#REF!-#REF!)/#REF!),0,(#REF!-#REF!)/#REF!)","v":0},{"$f":"IF(ISERROR((#REF!-#REF!)/#REF!),0,(#REF!-#REF!)/#REF!)","v":0},{"$f":"IF(ISERROR((#REF!-#REF!)/#REF!),0,(#REF!-#REF!)/#REF!)","v":0},{"$f":"IF(ISERROR((#REF!-#REF!)/#REF!),0,(#REF!-#REF!)/#REF!)","v":0},{"$f":"IF(ISERROR((#REF!-#REF!)/#REF!),0,(#REF!-#REF!)/#REF!)","v":0},{"$f":"IF(ISERROR((#REF!-#REF!)/#REF!),0,(#REF!-#REF!)/#REF!)","v":0},{"$f":"IF(ISERROR((#REF!-#REF!)/#REF!),0,(#REF!-#REF!)/#REF!)","v":0},{"$f":"IF(ISERROR((#REF!-#REF!)/#REF!),0,(#REF!-#REF!)/#REF!)","v":0},{"$f":"IF(ISERROR((#REF!-#REF!)/#REF!),0,(#REF!-#REF!)/#REF!)","v":0},{"$f":"IF(ISERROR((#REF!-#REF!)/#REF!),0,(#REF!-#REF!)/#REF!)","v":0},{"$f":"IF(ISERROR((#REF!-#REF!)/#REF!),0,(#REF!-#REF!)/#REF!)","v":0},{"$f":"IF(ISERROR((#REF!-#REF!)/#REF!),0,(#REF!-#REF!)/#REF!)","v":0}]
[null,"CZ02W","Intermediate Mouth or Throat Procedures, 19 years and over with Major CC",0,1431,0,0,5,4745,47,221,"No","-",0,"","",{"$f":"IF(ISERROR((#REF!-#REF!)/#REF!),0,(#REF!-#REF!)/#REF!)","v":0},{"$f":"IF(ISERROR((#REF!-#REF!)/#REF!),0,(#REF!-#REF!)/#REF!)","v":0},{"$f":"IF(ISERROR((#REF!-#REF!)/#REF!),0,(#REF!-#REF!)/#REF!)","v":0},{"$f":"IF(ISERROR((#REF!-#REF!)/#REF!),0,(#REF!-#REF!)/#REF!)","v":0},{"$f":"IF(ISERROR((#REF!-#REF!)/#REF!),0,(#REF!-#REF!)/#REF!)","v":0},{"$f":"IF(ISERROR((#REF!-#REF!)/#REF!),0,(#REF!-#REF!)/#REF!)","v":0},{"$f":"IF(ISERROR((#REF!-#REF!)/#REF!),0,(#REF!-#REF!)/#REF!)","v":0},{"$f":"IF(ISERROR((#REF!-#REF!)/#REF!),0,(#REF!-#REF!)/#REF!)","v":0},{"$f":"IF(ISERROR((#REF!-#REF!)/#REF!),0,(#REF!-#REF!)/#REF!)","v":0},{"$f":"IF(ISERROR((#REF!-#REF!)/#REF!),0,(#REF!-#REF!)/#REF!)","v":0},{"$f":"IF(ISERROR((#REF!-#REF!)/#REF!),0,(#REF!-#REF!)/#REF!)","v":0},{"$f":"IF(ISERROR((#REF!-#REF!)/#REF!),0,(#REF!-#REF!)/#REF!)","v":0},{"$f":"IF(ISERROR((#REF!-#REF!)/#REF!),0,(#REF!-#REF!)/#REF!)","v":0}]
[null,"CZ02X","Intermediate Mouth or Throat Procedures, 19 years and over with Intermediate CC",0,1230.7402207349053,0,0,5,1641,9,221,"No","-",0,"","",{"$f":"IF(ISERROR((#REF!-#REF!)/#REF!),0,(#REF!-#REF!)/#REF!)","v":0},{"$f":"IF(ISERROR((#REF!-#REF!)/#REF!),0,(#REF!-#REF!)/#REF!)","v":0},{"$f":"IF(ISERROR((#REF!-#REF!)/#REF!),0,(#REF!-#REF!)/#REF!)","v":0},{"$f":"IF(ISERROR((#REF!-#REF!)/#REF!),0,(#REF!-#REF!)/#REF!)","v":0},{"$f":"IF(ISERROR((#REF!-#REF!)/#REF!),0,(#REF!-#REF!)/#REF!)","v":0},{"$f":"IF(ISERROR((#REF!-#REF!)/#REF!),0,(#REF!-#REF!)/#REF!)","v":0},{"$f":"IF(ISERROR((#REF!-#REF!)/#REF!),0,(#REF!-#REF!)/#REF!)","v":0},{"$f":"IF(ISERROR((#REF!-#REF!)/#REF!),0,(#REF!-#REF!)/#REF!)","v":0},{"$f":"IF(ISERROR((#REF!-#REF!)/#REF!),0,(#REF!-#REF!)/#REF!)","v":0},{"$f":"IF(ISERROR((#REF!-#REF!)/#REF!),0,(#REF!-#REF!)/#REF!)","v":0},{"$f":"IF(ISERROR((#REF!-#REF!)/#REF!),0,(#REF!-#REF!)/#REF!)","v":0},{"$f":"IF(ISERROR((#REF!-#REF!)/#REF!),0,(#REF!-#REF!)/#REF!)","v":0},{"$f":"IF(ISERROR((#REF!-#REF!)/#REF!),0,(#REF!-#REF!)/#REF!)","v":0}]
[null,"CZ02Y","Intermediate Mouth or Throat Procedures, 19 years and over without CC",106,1336.8340750026032,0,0,5,1056,5,221,"No","-",0,"","",{"$f":"IF(ISERROR((#REF!-#REF!)/#REF!),0,(#REF!-#REF!)/#REF!)","v":0},{"$f":"IF(ISERROR((#REF!-#REF!)/#REF!),0,(#REF!-#REF!)/#REF!)","v":0},{"$f":"IF(ISERROR((#REF!-#REF!)/#REF!),0,(#REF!-#REF!)/#REF!)","v":0},{"$f":"IF(ISERROR((#REF!-#REF!)/#REF!),0,(#REF!-#REF!)/#REF!)","v":0},{"$f":"IF(ISERROR((#REF!-#REF!)/#REF!),0,(#REF!-#REF!)/#REF!)","v":0},{"$f":"IF(ISERROR((#REF!-#REF!)/#REF!),0,(#REF!-#REF!)/#REF!)","v":0},{"$f":"IF(ISERROR((#REF!-#REF!)/#REF!),0,(#REF!-#REF!)/#REF!)","v":0},{"$f":"IF(ISERROR((#REF!-#REF!)/#REF!),0,(#REF!-#REF!)/#REF!)","v":0},{"$f":"IF(ISERROR((#REF!-#REF!)/#REF!),0,(#REF!-#REF!)/#REF!)","v":0},{"$f":"IF(ISERROR((#REF!-#REF!)/#REF!),0,(#REF!-#REF!)/#REF!)","v":0},{"$f":"IF(ISERROR((#REF!-#REF!)/#REF!),0,(#REF!-#REF!)/#REF!)","v":0},{"$f":"IF(ISERROR((#REF!-#REF!)/#REF!),0,(#REF!-#REF!)/#REF!)","v":0},{"$f":"IF(ISERROR((#REF!-#REF!)/#REF!),0,(#REF!-#REF!)/#REF!)","v":0}]
[null,"CZ03U","Major Mouth or Throat Procedures, 18 years and under",0,2615,0,0,5,2790,12,330,"No","-",0,"","",{"$f":"IF(ISERROR((#REF!-#REF!)/#REF!),0,(#REF!-#REF!)/#REF!)","v":0},{"$f":"IF(ISERROR((#REF!-#REF!)/#REF!),0,(#REF!-#REF!)/#REF!)","v":0},{"$f":"IF(ISERROR((#REF!-#REF!)/#REF!),0,(#REF!-#REF!)/#REF!)","v":0},{"$f":"IF(ISERROR((#REF!-#REF!)/#REF!),0,(#REF!-#REF!)/#REF!)","v":0},{"$f":"IF(ISERROR((#REF!-#REF!)/#REF!),0,(#REF!-#REF!)/#REF!)","v":0},{"$f":"IF(ISERROR((#REF!-#REF!)/#REF!),0,(#REF!-#REF!)/#REF!)","v":0},{"$f":"IF(ISERROR((#REF!-#REF!)/#REF!),0,(#REF!-#REF!)/#REF!)","v":0},{"$f":"IF(ISERROR((#REF!-#REF!)/#REF!),0,(#REF!-#REF!)/#REF!)","v":0},{"$f":"IF(ISERROR((#REF!-#REF!)/#REF!),0,(#REF!-#REF!)/#REF!)","v":0},{"$f":"IF(ISERROR((#REF!-#REF!)/#REF!),0,(#REF!-#REF!)/#REF!)","v":0},{"$f":"IF(ISERROR((#REF!-#REF!)/#REF!),0,(#REF!-#REF!)/#REF!)","v":0},{"$f":"IF(ISERROR((#REF!-#REF!)/#REF!),0,(#REF!-#REF!)/#REF!)","v":0},{"$f":"IF(ISERROR((#REF!-#REF!)/#REF!),0,(#REF!-#REF!)/#REF!)","v":0}]
[null,"CZ03V","Major Mouth or Throat Procedures, 19 years and over with CC",0,2470,0,0,5,4777,31,221,"No","-",0,"","",{"$f":"IF(ISERROR((#REF!-#REF!)/#REF!),0,(#REF!-#REF!)/#REF!)","v":0},{"$f":"IF(ISERROR((#REF!-#REF!)/#REF!),0,(#REF!-#REF!)/#REF!)","v":0},{"$f":"IF(ISERROR((#REF!-#REF!)/#REF!),0,(#REF!-#REF!)/#REF!)","v":0},{"$f":"IF(ISERROR((#REF!-#REF!)/#REF!),0,(#REF!-#REF!)/#REF!)","v":0},{"$f":"IF(ISERROR((#REF!-#REF!)/#REF!),0,(#REF!-#REF!)/#REF!)","v":0},{"$f":"IF(ISERROR((#REF!-#REF!)/#REF!),0,(#REF!-#REF!)/#REF!)","v":0},{"$f":"IF(ISERROR((#REF!-#REF!)/#REF!),0,(#REF!-#REF!)/#REF!)","v":0},{"$f":"IF(ISERROR((#REF!-#REF!)/#REF!),0,(#REF!-#REF!)/#REF!)","v":0},{"$f":"IF(ISERROR((#REF!-#REF!)/#REF!),0,(#REF!-#REF!)/#REF!)","v":0},{"$f":"IF(ISERROR((#REF!-#REF!)/#REF!),0,(#REF!-#REF!)/#REF!)","v":0},{"$f":"IF(ISERROR((#REF!-#REF!)/#REF!),0,(#REF!-#REF!)/#REF!)","v":0},{"$f":"IF(ISERROR((#REF!-#REF!)/#REF!),0,(#REF!-#REF!)/#REF!)","v":0},{"$f":"IF(ISERROR((#REF!-#REF!)/#REF!),0,(#REF!-#REF!)/#REF!)","v":0}]
[null,"CZ03Y","Major Mouth or Throat Procedures, 19 years and over without CC",0,1892,0,0,5,2268,10,221,"No","-",0,"","",{"$f":"IF(ISERROR((#REF!-#REF!)/#REF!),0,(#REF!-#REF!)/#REF!)","v":0},{"$f":"IF(ISERROR((#REF!-#REF!)/#REF!),0,(#REF!-#REF!)/#REF!)","v":0},{"$f":"IF(ISERROR((#REF!-#REF!)/#REF!),0,(#REF!-#REF!)/#REF!)","v":0},{"$f":"IF(ISERROR((#REF!-#REF!)/#REF!),0,(#REF!-#REF!)/#REF!)","v":0},{"$f":"IF(ISERROR((#REF!-#REF!)/#REF!),0,(#REF!-#REF!)/#REF!)","v":0},{"$f":"IF(ISERROR((#REF!-#REF!)/#REF!),0,(#REF!-#REF!)/#REF!)","v":0},{"$f":"IF(ISERROR((#REF!-#REF!)/#REF!),0,(#REF!-#REF!)/#REF!)","v":0},{"$f":"IF(ISERROR((#REF!-#REF!)/#REF!),0,(#REF!-#REF!)/#REF!)","v":0},{"$f":"IF(ISERROR((#REF!-#REF!)/#REF!),0,(#REF!-#REF!)/#REF!)","v":0},{"$f":"IF(ISERROR((#REF!-#REF!)/#REF!),0,(#REF!-#REF!)/#REF!)","v":0},{"$f":"IF(ISERROR((#REF!-#REF!)/#REF!),0,(#REF!-#REF!)/#REF!)","v":0},{"$f":"IF(ISERROR((#REF!-#REF!)/#REF!),0,(#REF!-#REF!)/#REF!)","v":0},{"$f":"IF(ISERROR((#REF!-#REF!)/#REF!),0,(#REF!-#REF!)/#REF!)","v":0}]
[null,"CZ04O","Complex Major Mouth or Throat Procedures, with Major CC",0,17730,0,0,67,20659,110,221,"No","-",0,"","",{"$f":"IF(ISERROR((#REF!-#REF!)/#REF!),0,(#REF!-#REF!)/#REF!)","v":0},{"$f":"IF(ISERROR((#REF!-#REF!)/#REF!),0,(#REF!-#REF!)/#REF!)","v":0},{"$f":"IF(ISERROR((#REF!-#REF!)/#REF!),0,(#REF!-#REF!)/#REF!)","v":0},{"$f":"IF(ISERROR((#REF!-#REF!)/#REF!),0,(#REF!-#REF!)/#REF!)","v":0},{"$f":"IF(ISERROR((#REF!-#REF!)/#REF!),0,(#REF!-#REF!)/#REF!)","v":0},{"$f":"IF(ISERROR((#REF!-#REF!)/#REF!),0,(#REF!-#REF!)/#REF!)","v":0},{"$f":"IF(ISERROR((#REF!-#REF!)/#REF!),0,(#REF!-#REF!)/#REF!)","v":0},{"$f":"IF(ISERROR((#REF!-#REF!)/#REF!),0,(#REF!-#REF!)/#REF!)","v":0},{"$f":"IF(ISERROR((#REF!-#REF!)/#REF!),0,(#REF!-#REF!)/#REF!)","v":0},{"$f":"IF(ISERROR((#REF!-#REF!)/#REF!),0,(#REF!-#REF!)/#REF!)","v":0},{"$f":"IF(ISERROR((#REF!-#REF!)/#REF!),0,(#REF!-#REF!)/#REF!)","v":0},{"$f":"IF(ISERROR((#REF!-#REF!)/#REF!),0,(#REF!-#REF!)/#REF!)","v":0},{"$f":"IF(ISERROR((#REF!-#REF!)/#REF!),0,(#REF!-#REF!)/#REF!)","v":0}]
[null,"CZ04P","Complex Major Mouth or Throat Procedures, with Intermediate CC",0,10100,0,0,42,15986,86,221,"No","-",0,"","",{"$f":"IF(ISERROR((#REF!-#REF!)/#REF!),0,(#REF!-#REF!)/#REF!)","v":0},{"$f":"IF(ISERROR((#REF!-#REF!)/#REF!),0,(#REF!-#REF!)/#REF!)","v":0},{"$f":"IF(ISERROR((#REF!-#REF!)/#REF!),0,(#REF!-#REF!)/#REF!)","v":0},{"$f":"IF(ISERROR((#REF!-#REF!)/#REF!),0,(#REF!-#REF!)/#REF!)","v":0},{"$f":"IF(ISERROR((#REF!-#REF!)/#REF!),0,(#REF!-#REF!)/#REF!)","v":0},{"$f":"IF(ISERROR((#REF!-#REF!)/#REF!),0,(#REF!-#REF!)/#REF!)","v":0},{"$f":"IF(ISERROR((#REF!-#REF!)/#REF!),0,(#REF!-#REF!)/#REF!)","v":0},{"$f":"IF(ISERROR((#REF!-#REF!)/#REF!),0,(#REF!-#REF!)/#REF!)","v":0},{"$f":"IF(ISERROR((#REF!-#REF!)/#REF!),0,(#REF!-#REF!)/#REF!)","v":0},{"$f":"IF(ISERROR((#REF!-#REF!)/#REF!),0,(#REF!-#REF!)/#REF!)","v":0},{"$f":"IF(ISERROR((#REF!-#REF!)/#REF!),0,(#REF!-#REF!)/#REF!)","v":0},{"$f":"IF(ISERROR((#REF!-#REF!)/#REF!),0,(#REF!-#REF!)/#REF!)","v":0},{"$f":"IF(ISERROR((#REF!-#REF!)/#REF!),0,(#REF!-#REF!)/#REF!)","v":0}]
[null,"CZ04Q","Complex Major Mouth or Throat Procedures, without CC",0,6594,0,0,35,7267,60,221,"No","-",0,"","",{"$f":"IF(ISERROR((#REF!-#REF!)/#REF!),0,(#REF!-#REF!)/#REF!)","v":0},{"$f":"IF(ISERROR((#REF!-#REF!)/#REF!),0,(#REF!-#REF!)/#REF!)","v":0},{"$f":"IF(ISERROR((#REF!-#REF!)/#REF!),0,(#REF!-#REF!)/#REF!)","v":0},{"$f":"IF(ISERROR((#REF!-#REF!)/#REF!),0,(#REF!-#REF!)/#REF!)","v":0},{"$f":"IF(ISERROR((#REF!-#REF!)/#REF!),0,(#REF!-#REF!)/#REF!)","v":0},{"$f":"IF(ISERROR((#REF!-#REF!)/#REF!),0,(#REF!-#REF!)/#REF!)","v":0},{"$f":"IF(ISERROR((#REF!-#REF!)/#REF!),0,(#REF!-#REF!)/#REF!)","v":0},{"$f":"IF(ISERROR((#REF!-#REF!)/#REF!),0,(#REF!-#REF!)/#REF!)","v":0},{"$f":"IF(ISERROR((#REF!-#REF!)/#REF!),0,(#REF!-#REF!)/#REF!)","v":0},{"$f":"IF(ISERROR((#REF!-#REF!)/#REF!),0,(#REF!-#REF!)/#REF!)","v":0},{"$f":"IF(ISERROR((#REF!-#REF!)/#REF!),0,(#REF!-#REF!)/#REF!)","v":0},{"$f":"IF(ISERROR((#REF!-#REF!)/#REF!),0,(#REF!-#REF!)/#REF!)","v":0},{"$f":"IF(ISERROR((#REF!-#REF!)/#REF!),0,(#REF!-#REF!)/#REF!)","v":0}]
[null,"CZ05S","Tonsillectomy, 18 years and under with CC",0,1857.5513757877668,0,0,5,1923,6,330,"No","-",0,"","",{"$f":"IF(ISERROR((#REF!-#REF!)/#REF!),0,(#REF!-#REF!)/#REF!)","v":0},{"$f":"IF(ISERROR((#REF!-#REF!)/#REF!),0,(#REF!-#REF!)/#REF!)","v":0},{"$f":"IF(ISERROR((#REF!-#REF!)/#REF!),0,(#REF!-#REF!)/#REF!)","v":0},{"$f":"IF(ISERROR((#REF!-#REF!)/#REF!),0,(#REF!-#REF!)/#REF!)","v":0},{"$f":"IF(ISERROR((#REF!-#REF!)/#REF!),0,(#REF!-#REF!)/#REF!)","v":0},{"$f":"IF(ISERROR((#REF!-#REF!)/#REF!),0,(#REF!-#REF!)/#REF!)","v":0},{"$f":"IF(ISERROR((#REF!-#REF!)/#REF!),0,(#REF!-#REF!)/#REF!)","v":0},{"$f":"IF(ISERROR((#REF!-#REF!)/#REF!),0,(#REF!-#REF!)/#REF!)","v":0},{"$f":"IF(ISERROR((#REF!-#REF!)/#REF!),0,(#REF!-#REF!)/#REF!)","v":0},{"$f":"IF(ISERROR((#REF!-#REF!)/#REF!),0,(#REF!-#REF!)/#REF!)","v":0},{"$f":"IF(ISERROR((#REF!-#REF!)/#REF!),0,(#REF!-#REF!)/#REF!)","v":0},{"$f":"IF(ISERROR((#REF!-#REF!)/#REF!),0,(#REF!-#REF!)/#REF!)","v":0},{"$f":"IF(ISERROR((#REF!-#REF!)/#REF!),0,(#REF!-#REF!)/#REF!)","v":0}]
[null,"CZ05T","Tonsillectomy, 18 years and under without CC",0,1359.3609048042422,0,0,5,1013,5,330,"No","-",0,1,"sub-HRG",{"$f":"IF(ISERROR((#REF!-#REF!)/#REF!),0,(#REF!-#REF!)/#REF!)","v":0},{"$f":"IF(ISERROR((#REF!-#REF!)/#REF!),0,(#REF!-#REF!)/#REF!)","v":0},{"$f":"IF(ISERROR((#REF!-#REF!)/#REF!),0,(#REF!-#REF!)/#REF!)","v":0},{"$f":"IF(ISERROR((#REF!-#REF!)/#REF!),0,(#REF!-#REF!)/#REF!)","v":0},{"$f":"IF(ISERROR((#REF!-#REF!)/#REF!),0,(#REF!-#REF!)/#REF!)","v":0},{"$f":"IF(ISERROR((#REF!-#REF!)/#REF!),0,(#REF!-#REF!)/#REF!)","v":0},{"$f":"IF(ISERROR((#REF!-#REF!)/#REF!),0,(#REF!-#REF!)/#REF!)","v":0},{"$f":"IF(ISERROR((#REF!-#REF!)/#REF!),0,(#REF!-#REF!)/#REF!)","v":0},{"$f":"IF(ISERROR((#REF!-#REF!)/#REF!),0,(#REF!-#REF!)/#REF!)","v":0},{"$f":"IF(ISERROR((#REF!-#REF!)/#REF!),0,(#REF!-#REF!)/#REF!)","v":0},{"$f":"IF(ISERROR((#REF!-#REF!)/#REF!),0,(#REF!-#REF!)/#REF!)","v":0},{"$f":"IF(ISERROR((#REF!-#REF!)/#REF!),0,(#REF!-#REF!)/#REF!)","v":0},{"$f":"IF(ISERROR((#REF!-#REF!)/#REF!),0,(#REF!-#REF!)/#REF!)","v":0}]
[null,"CZ05V","Tonsillectomy, 19 years and over with CC",0,1666.7760164218562,0,0,5,926,5,221,"No","-",0,1,"sub-HRG",{"$f":"IF(ISERROR((#REF!-#REF!)/#REF!),0,(#REF!-#REF!)/#REF!)","v":0},{"$f":"IF(ISERROR((#REF!-#REF!)/#REF!),0,(#REF!-#REF!)/#REF!)","v":0},{"$f":"IF(ISERROR((#REF!-#REF!)/#REF!),0,(#REF!-#REF!)/#REF!)","v":0},{"$f":"IF(ISERROR((#REF!-#REF!)/#REF!),0,(#REF!-#REF!)/#REF!)","v":0},{"$f":"IF(ISERROR((#REF!-#REF!)/#REF!),0,(#REF!-#REF!)/#REF!)","v":0},{"$f":"IF(ISERROR((#REF!-#REF!)/#REF!),0,(#REF!-#REF!)/#REF!)","v":0},{"$f":"IF(ISERROR((#REF!-#REF!)/#REF!),0,(#REF!-#REF!)/#REF!)","v":0},{"$f":"IF(ISERROR((#REF!-#REF!)/#REF!),0,(#REF!-#REF!)/#REF!)","v":0},{"$f":"IF(ISERROR((#REF!-#REF!)/#REF!),0,(#REF!-#REF!)/#REF!)","v":0},{"$f":"IF(ISERROR((#REF!-#REF!)/#REF!),0,(#REF!-#REF!)/#REF!)","v":0},{"$f":"IF(ISERROR((#REF!-#REF!)/#REF!),0,(#REF!-#REF!)/#REF!)","v":0},{"$f":"IF(ISERROR((#REF!-#REF!)/#REF!),0,(#REF!-#REF!)/#REF!)","v":0},{"$f":"IF(ISERROR((#REF!-#REF!)/#REF!),0,(#REF!-#REF!)/#REF!)","v":0}]
[null,"CZ05Y","Tonsillectomy, 19 years and over without CC",0,1375.0706309532768,0,0,5,786,5,221,"No","-",0,1,"sub-HRG",{"$f":"IF(ISERROR((#REF!-#REF!)/#REF!),0,(#REF!-#REF!)/#REF!)","v":0},{"$f":"IF(ISERROR((#REF!-#REF!)/#REF!),0,(#REF!-#REF!)/#REF!)","v":0},{"$f":"IF(ISERROR((#REF!-#REF!)/#REF!),0,(#REF!-#REF!)/#REF!)","v":0},{"$f":"IF(ISERROR((#REF!-#REF!)/#REF!),0,(#REF!-#REF!)/#REF!)","v":0},{"$f":"IF(ISERROR((#REF!-#REF!)/#REF!),0,(#REF!-#REF!)/#REF!)","v":0},{"$f":"IF(ISERROR((#REF!-#REF!)/#REF!),0,(#REF!-#REF!)/#REF!)","v":0},{"$f":"IF(ISERROR((#REF!-#REF!)/#REF!),0,(#REF!-#REF!)/#REF!)","v":0},{"$f":"IF(ISERROR((#REF!-#REF!)/#REF!),0,(#REF!-#REF!)/#REF!)","v":0},{"$f":"IF(ISERROR((#REF!-#REF!)/#REF!),0,(#REF!-#REF!)/#REF!)","v":0},{"$f":"IF(ISERROR((#REF!-#REF!)/#REF!),0,(#REF!-#REF!)/#REF!)","v":0},{"$f":"IF(ISERROR((#REF!-#REF!)/#REF!),0,(#REF!-#REF!)/#REF!)","v":0},{"$f":"IF(ISERROR((#REF!-#REF!)/#REF!),0,(#REF!-#REF!)/#REF!)","v":0},{"$f":"IF(ISERROR((#REF!-#REF!)/#REF!),0,(#REF!-#REF!)/#REF!)","v":0}]
[null,"CZ07O","Exteriorisation of Trachea with Major CC",0,8662,0,0,104,7770,99,221,"No","-",0,"","",{"$f":"IF(ISERROR((#REF!-#REF!)/#REF!),0,(#REF!-#REF!)/#REF!)","v":0},{"$f":"IF(ISERROR((#REF!-#REF!)/#REF!),0,(#REF!-#REF!)/#REF!)","v":0},{"$f":"IF(ISERROR((#REF!-#REF!)/#REF!),0,(#REF!-#REF!)/#REF!)","v":0},{"$f":"IF(ISERROR((#REF!-#REF!)/#REF!),0,(#REF!-#REF!)/#REF!)","v":0},{"$f":"IF(ISERROR((#REF!-#REF!)/#REF!),0,(#REF!-#REF!)/#REF!)","v":0},{"$f":"IF(ISERROR((#REF!-#REF!)/#REF!),0,(#REF!-#REF!)/#REF!)","v":0},{"$f":"IF(ISERROR((#REF!-#REF!)/#REF!),0,(#REF!-#REF!)/#REF!)","v":0},{"$f":"IF(ISERROR((#REF!-#REF!)/#REF!),0,(#REF!-#REF!)/#REF!)","v":0},{"$f":"IF(ISERROR((#REF!-#REF!)/#REF!),0,(#REF!-#REF!)/#REF!)","v":0},{"$f":"IF(ISERROR((#REF!-#REF!)/#REF!),0,(#REF!-#REF!)/#REF!)","v":0},{"$f":"IF(ISERROR((#REF!-#REF!)/#REF!),0,(#REF!-#REF!)/#REF!)","v":0},{"$f":"IF(ISERROR((#REF!-#REF!)/#REF!),0,(#REF!-#REF!)/#REF!)","v":0},{"$f":"IF(ISERROR((#REF!-#REF!)/#REF!),0,(#REF!-#REF!)/#REF!)","v":0}]
[null,"CZ07P","Exteriorisation of Trachea with Intermediate CC",0,3184,0,0,21,4702,60,221,"No","-",0,"","",{"$f":"IF(ISERROR((#REF!-#REF!)/#REF!),0,(#REF!-#REF!)/#REF!)","v":0},{"$f":"IF(ISERROR((#REF!-#REF!)/#REF!),0,(#REF!-#REF!)/#REF!)","v":0},{"$f":"IF(ISERROR((#REF!-#REF!)/#REF!),0,(#REF!-#REF!)/#REF!)","v":0},{"$f":"IF(ISERROR((#REF!-#REF!)/#REF!),0,(#REF!-#REF!)/#REF!)","v":0},{"$f":"IF(ISERROR((#REF!-#REF!)/#REF!),0,(#REF!-#REF!)/#REF!)","v":0},{"$f":"IF(ISERROR((#REF!-#REF!)/#REF!),0,(#REF!-#REF!)/#REF!)","v":0},{"$f":"IF(ISERROR((#REF!-#REF!)/#REF!),0,(#REF!-#REF!)/#REF!)","v":0},{"$f":"IF(ISERROR((#REF!-#REF!)/#REF!),0,(#REF!-#REF!)/#REF!)","v":0},{"$f":"IF(ISERROR((#REF!-#REF!)/#REF!),0,(#REF!-#REF!)/#REF!)","v":0},{"$f":"IF(ISERROR((#REF!-#REF!)/#REF!),0,(#REF!-#REF!)/#REF!)","v":0},{"$f":"IF(ISERROR((#REF!-#REF!)/#REF!),0,(#REF!-#REF!)/#REF!)","v":0},{"$f":"IF(ISERROR((#REF!-#REF!)/#REF!),0,(#REF!-#REF!)/#REF!)","v":0},{"$f":"IF(ISERROR((#REF!-#REF!)/#REF!),0,(#REF!-#REF!)/#REF!)","v":0}]
[null,"CZ07Q","Exteriorisation of Trachea without CC",0,4529.1576515102379,0,0,11,3178,35,221,"No","-",0,"","",{"$f":"IF(ISERROR((#REF!-#REF!)/#REF!),0,(#REF!-#REF!)/#REF!)","v":0},{"$f":"IF(ISERROR((#REF!-#REF!)/#REF!),0,(#REF!-#REF!)/#REF!)","v":0},{"$f":"IF(ISERROR((#REF!-#REF!)/#REF!),0,(#REF!-#REF!)/#REF!)","v":0},{"$f":"IF(ISERROR((#REF!-#REF!)/#REF!),0,(#REF!-#REF!)/#REF!)","v":0},{"$f":"IF(ISERROR((#REF!-#REF!)/#REF!),0,(#REF!-#REF!)/#REF!)","v":0},{"$f":"IF(ISERROR((#REF!-#REF!)/#REF!),0,(#REF!-#REF!)/#REF!)","v":0},{"$f":"IF(ISERROR((#REF!-#REF!)/#REF!),0,(#REF!-#REF!)/#REF!)","v":0},{"$f":"IF(ISERROR((#REF!-#REF!)/#REF!),0,(#REF!-#REF!)/#REF!)","v":0},{"$f":"IF(ISERROR((#REF!-#REF!)/#REF!),0,(#REF!-#REF!)/#REF!)","v":0},{"$f":"IF(ISERROR((#REF!-#REF!)/#REF!),0,(#REF!-#REF!)/#REF!)","v":0},{"$f":"IF(ISERROR((#REF!-#REF!)/#REF!),0,(#REF!-#REF!)/#REF!)","v":0},{"$f":"IF(ISERROR((#REF!-#REF!)/#REF!),0,(#REF!-#REF!)/#REF!)","v":0},{"$f":"IF(ISERROR((#REF!-#REF!)/#REF!),0,(#REF!-#REF!)/#REF!)","v":0}]
[null,"CZ08S","Minor Ear Procedures, 18 years and under with CC",0,829,0,0,5,1620,11,330,"No","-",0,"","",{"$f":"IF(ISERROR((#REF!-#REF!)/#REF!),0,(#REF!-#REF!)/#REF!)","v":0},{"$f":"IF(ISERROR((#REF!-#REF!)/#REF!),0,(#REF!-#REF!)/#REF!)","v":0},{"$f":"IF(ISERROR((#REF!-#REF!)/#REF!),0,(#REF!-#REF!)/#REF!)","v":0},{"$f":"IF(ISERROR((#REF!-#REF!)/#REF!),0,(#REF!-#REF!)/#REF!)","v":0},{"$f":"IF(ISERROR((#REF!-#REF!)/#REF!),0,(#REF!-#REF!)/#REF!)","v":0},{"$f":"IF(ISERROR((#REF!-#REF!)/#REF!),0,(#REF!-#REF!)/#REF!)","v":0},{"$f":"IF(ISERROR((#REF!-#REF!)/#REF!),0,(#REF!-#REF!)/#REF!)","v":0},{"$f":"IF(ISERROR((#REF!-#REF!)/#REF!),0,(#REF!-#REF!)/#REF!)","v":0},{"$f":"IF(ISERROR((#REF!-#REF!)/#REF!),0,(#REF!-#REF!)/#REF!)","v":0},{"$f":"IF(ISERROR((#REF!-#REF!)/#REF!),0,(#REF!-#REF!)/#REF!)","v":0},{"$f":"IF(ISERROR((#REF!-#REF!)/#REF!),0,(#REF!-#REF!)/#REF!)","v":0},{"$f":"IF(ISERROR((#REF!-#REF!)/#REF!),0,(#REF!-#REF!)/#REF!)","v":0},{"$f":"IF(ISERROR((#REF!-#REF!)/#REF!),0,(#REF!-#REF!)/#REF!)","v":0}]
[null,"CZ08T","Minor Ear Procedures, 18 years and under without CC",109,905.72766245415437,0,0,5,831,5,330,"No","-",0,"","",{"$f":"IF(ISERROR((#REF!-#REF!)/#REF!),0,(#REF!-#REF!)/#REF!)","v":0},{"$f":"IF(ISERROR((#REF!-#REF!)/#REF!),0,(#REF!-#REF!)/#REF!)","v":0},{"$f":"IF(ISERROR((#REF!-#REF!)/#REF!),0,(#REF!-#REF!)/#REF!)","v":0},{"$f":"IF(ISERROR((#REF!-#REF!)/#REF!),0,(#REF!-#REF!)/#REF!)","v":0},{"$f":"IF(ISERROR((#REF!-#REF!)/#REF!),0,(#REF!-#REF!)/#REF!)","v":0},{"$f":"IF(ISERROR((#REF!-#REF!)/#REF!),0,(#REF!-#REF!)/#REF!)","v":0},{"$f":"IF(ISERROR((#REF!-#REF!)/#REF!),0,(#REF!-#REF!)/#REF!)","v":0},{"$f":"IF(ISERROR((#REF!-#REF!)/#REF!),0,(#REF!-#REF!)/#REF!)","v":0},{"$f":"IF(ISERROR((#REF!-#REF!)/#REF!),0,(#REF!-#REF!)/#REF!)","v":0},{"$f":"IF(ISERROR((#REF!-#REF!)/#REF!),0,(#REF!-#REF!)/#REF!)","v":0},{"$f":"IF(ISERROR((#REF!-#REF!)/#REF!),0,(#REF!-#REF!)/#REF!)","v":0},{"$f":"IF(ISERROR((#REF!-#REF!)/#REF!),0,(#REF!-#REF!)/#REF!)","v":0},{"$f":"IF(ISERROR((#REF!-#REF!)/#REF!),0,(#REF!-#REF!)/#REF!)","v":0}]
[null,"CZ08V","Minor Ear Procedures, 19 years and over with CC",0,1099.2007346299567,0,0,5,1717,16,221,"No","-",0,"","",{"$f":"IF(ISERROR((#REF!-#REF!)/#REF!),0,(#REF!-#REF!)/#REF!)","v":0},{"$f":"IF(ISERROR((#REF!-#REF!)/#REF!),0,(#REF!-#REF!)/#REF!)","v":0},{"$f":"IF(ISERROR((#REF!-#REF!)/#REF!),0,(#REF!-#REF!)/#REF!)","v":0},{"$f":"IF(ISERROR((#REF!-#REF!)/#REF!),0,(#REF!-#REF!)/#REF!)","v":0},{"$f":"IF(ISERROR((#REF!-#REF!)/#REF!),0,(#REF!-#REF!)/#REF!)","v":0},{"$f":"IF(ISERROR((#REF!-#REF!)/#REF!),0,(#REF!-#REF!)/#REF!)","v":0},{"$f":"IF(ISERROR((#REF!-#REF!)/#REF!),0,(#REF!-#REF!)/#REF!)","v":0},{"$f":"IF(ISERROR((#REF!-#REF!)/#REF!),0,(#REF!-#REF!)/#REF!)","v":0},{"$f":"IF(ISERROR((#REF!-#REF!)/#REF!),0,(#REF!-#REF!)/#REF!)","v":0},{"$f":"IF(ISERROR((#REF!-#REF!)/#REF!),0,(#REF!-#REF!)/#REF!)","v":0},{"$f":"IF(ISERROR((#REF!-#REF!)/#REF!),0,(#REF!-#REF!)/#REF!)","v":0},{"$f":"IF(ISERROR((#REF!-#REF!)/#REF!),0,(#REF!-#REF!)/#REF!)","v":0},{"$f":"IF(ISERROR((#REF!-#REF!)/#REF!),0,(#REF!-#REF!)/#REF!)","v":0}]
[null,"CZ08Y","Minor Ear Procedures, 19 years and over without CC",118,921.88436119019855,0,0,5,686,5,221,"No","-",0,"","",{"$f":"IF(ISERROR((#REF!-#REF!)/#REF!),0,(#REF!-#REF!)/#REF!)","v":0},{"$f":"IF(ISERROR((#REF!-#REF!)/#REF!),0,(#REF!-#REF!)/#REF!)","v":0},{"$f":"IF(ISERROR((#REF!-#REF!)/#REF!),0,(#REF!-#REF!)/#REF!)","v":0},{"$f":"IF(ISERROR((#REF!-#REF!)/#REF!),0,(#REF!-#REF!)/#REF!)","v":0},{"$f":"IF(ISERROR((#REF!-#REF!)/#REF!),0,(#REF!-#REF!)/#REF!)","v":0},{"$f":"IF(ISERROR((#REF!-#REF!)/#REF!),0,(#REF!-#REF!)/#REF!)","v":0},{"$f":"IF(ISERROR((#REF!-#REF!)/#REF!),0,(#REF!-#REF!)/#REF!)","v":0},{"$f":"IF(ISERROR((#REF!-#REF!)/#REF!),0,(#REF!-#REF!)/#REF!)","v":0},{"$f":"IF(ISERROR((#REF!-#REF!)/#REF!),0,(#REF!-#REF!)/#REF!)","v":0},{"$f":"IF(ISERROR((#REF!-#REF!)/#REF!),0,(#REF!-#REF!)/#REF!)","v":0},{"$f":"IF(ISERROR((#REF!-#REF!)/#REF!),0,(#REF!-#REF!)/#REF!)","v":0},{"$f":"IF(ISERROR((#REF!-#REF!)/#REF!),0,(#REF!-#REF!)/#REF!)","v":0},{"$f":"IF(ISERROR((#REF!-#REF!)/#REF!),0,(#REF!-#REF!)/#REF!)","v":0}]
[null,"CZ09U","Intermediate Ear Procedures, 18 years and under",0,1459,0,0,5,985,8,330,"No","-",0,"","",{"$f":"IF(ISERROR((#REF!-#REF!)/#REF!),0,(#REF!-#REF!)/#REF!)","v":0},{"$f":"IF(ISERROR((#REF!-#REF!)/#REF!),0,(#REF!-#REF!)/#REF!)","v":0},{"$f":"IF(ISERROR((#REF!-#REF!)/#REF!),0,(#REF!-#REF!)/#REF!)","v":0},{"$f":"IF(ISERROR((#REF!-#REF!)/#REF!),0,(#REF!-#REF!)/#REF!)","v":0},{"$f":"IF(ISERROR((#REF!-#REF!)/#REF!),0,(#REF!-#REF!)/#REF!)","v":0},{"$f":"IF(ISERROR((#REF!-#REF!)/#REF!),0,(#REF!-#REF!)/#REF!)","v":0},{"$f":"IF(ISERROR((#REF!-#REF!)/#REF!),0,(#REF!-#REF!)/#REF!)","v":0},{"$f":"IF(ISERROR((#REF!-#REF!)/#REF!),0,(#REF!-#REF!)/#REF!)","v":0},{"$f":"IF(ISERROR((#REF!-#REF!)/#REF!),0,(#REF!-#REF!)/#REF!)","v":0},{"$f":"IF(ISERROR((#REF!-#REF!)/#REF!),0,(#REF!-#REF!)/#REF!)","v":0},{"$f":"IF(ISERROR((#REF!-#REF!)/#REF!),0,(#REF!-#REF!)/#REF!)","v":0},{"$f":"IF(ISERROR((#REF!-#REF!)/#REF!),0,(#REF!-#REF!)/#REF!)","v":0},{"$f":"IF(ISERROR((#REF!-#REF!)/#REF!),0,(#REF!-#REF!)/#REF!)","v":0}]
[null,"CZ09V","Intermediate Ear Procedures, 19 years and over with CC",0,1120.0404730106816,0,0,5,1438,9,221,"No","-",0,"","",{"$f":"IF(ISERROR((#REF!-#REF!)/#REF!),0,(#REF!-#REF!)/#REF!)","v":0},{"$f":"IF(ISERROR((#REF!-#REF!)/#REF!),0,(#REF!-#REF!)/#REF!)","v":0},{"$f":"IF(ISERROR((#REF!-#REF!)/#REF!),0,(#REF!-#REF!)/#REF!)","v":0},{"$f":"IF(ISERROR((#REF!-#REF!)/#REF!),0,(#REF!-#REF!)/#REF!)","v":0},{"$f":"IF(ISERROR((#REF!-#REF!)/#REF!),0,(#REF!-#REF!)/#REF!)","v":0},{"$f":"IF(ISERROR((#REF!-#REF!)/#REF!),0,(#REF!-#REF!)/#REF!)","v":0},{"$f":"IF(ISERROR((#REF!-#REF!)/#REF!),0,(#REF!-#REF!)/#REF!)","v":0},{"$f":"IF(ISERROR((#REF!-#REF!)/#REF!),0,(#REF!-#REF!)/#REF!)","v":0},{"$f":"IF(ISERROR((#REF!-#REF!)/#REF!),0,(#REF!-#REF!)/#REF!)","v":0},{"$f":"IF(ISERROR((#REF!-#REF!)/#REF!),0,(#REF!-#REF!)/#REF!)","v":0},{"$f":"IF(ISERROR((#REF!-#REF!)/#REF!),0,(#REF!-#REF!)/#REF!)","v":0},{"$f":"IF(ISERROR((#REF!-#REF!)/#REF!),0,(#REF!-#REF!)/#REF!)","v":0},{"$f":"IF(ISERROR((#REF!-#REF!)/#REF!),0,(#REF!-#REF!)/#REF!)","v":0}]
[null,"CZ09Y","Intermediate Ear Procedures, 19 years and over without CC",0,1028,0,0,5,1438,9,221,"No","-",0,"","",{"$f":"IF(ISERROR((#REF!-#REF!)/#REF!),0,(#REF!-#REF!)/#REF!)","v":0},{"$f":"IF(ISERROR((#REF!-#REF!)/#REF!),0,(#REF!-#REF!)/#REF!)","v":0},{"$f":"IF(ISERROR((#REF!-#REF!)/#REF!),0,(#REF!-#REF!)/#REF!)","v":0},{"$f":"IF(ISERROR((#REF!-#REF!)/#REF!),0,(#REF!-#REF!)/#REF!)","v":0},{"$f":"IF(ISERROR((#REF!-#REF!)/#REF!),0,(#REF!-#REF!)/#REF!)","v":0},{"$f":"IF(ISERROR((#REF!-#REF!)/#REF!),0,(#REF!-#REF!)/#REF!)","v":0},{"$f":"IF(ISERROR((#REF!-#REF!)/#REF!),0,(#REF!-#REF!)/#REF!)","v":0},{"$f":"IF(ISERROR((#REF!-#REF!)/#REF!),0,(#REF!-#REF!)/#REF!)","v":0},{"$f":"IF(ISERROR((#REF!-#REF!)/#REF!),0,(#REF!-#REF!)/#REF!)","v":0},{"$f":"IF(ISERROR((#REF!-#REF!)/#REF!),0,(#REF!-#REF!)/#REF!)","v":0},{"$f":"IF(ISERROR((#REF!-#REF!)/#REF!),0,(#REF!-#REF!)/#REF!)","v":0},{"$f":"IF(ISERROR((#REF!-#REF!)/#REF!),0,(#REF!-#REF!)/#REF!)","v":0},{"$f":"IF(ISERROR((#REF!-#REF!)/#REF!),0,(#REF!-#REF!)/#REF!)","v":0}]
[null,"CZ10U","Major Ear Procedures, 18 years and under",0,0,2085.1605588316429,2085.1605588316429,5,3794,13,330,"No","-",0,1,"HRG",{"$f":"IF(ISERROR((#REF!-#REF!)/#REF!),0,(#REF!-#REF!)/#REF!)","v":0},{"$f":"IF(ISERROR((#REF!-#REF!)/#REF!),0,(#REF!-#REF!)/#REF!)","v":0},{"$f":"IF(ISERROR((#REF!-#REF!)/#REF!),0,(#REF!-#REF!)/#REF!)","v":0},{"$f":"IF(ISERROR((#REF!-#REF!)/#REF!),0,(#REF!-#REF!)/#REF!)","v":0},{"$f":"IF(ISERROR((#REF!-#REF!)/#REF!),0,(#REF!-#REF!)/#REF!)","v":0},{"$f":"IF(ISERROR((#REF!-#REF!)/#REF!),0,(#REF!-#REF!)/#REF!)","v":0},{"$f":"IF(ISERROR((#REF!-#REF!)/#REF!),0,(#REF!-#REF!)/#REF!)","v":0},{"$f":"IF(ISERROR((#REF!-#REF!)/#REF!),0,(#REF!-#REF!)/#REF!)","v":0},{"$f":"IF(ISERROR((#REF!-#REF!)/#REF!),0,(#REF!-#REF!)/#REF!)","v":0},{"$f":"IF(ISERROR((#REF!-#REF!)/#REF!),0,(#REF!-#REF!)/#REF!)","v":0},{"$f":"IF(ISERROR((#REF!-#REF!)/#REF!),0,(#REF!-#REF!)/#REF!)","v":0},{"$f":"IF(ISERROR((#REF!-#REF!)/#REF!),0,(#REF!-#REF!)/#REF!)","v":0},{"$f":"IF(ISERROR((#REF!-#REF!)/#REF!),0,(#REF!-#REF!)/#REF!)","v":0}]
[null,"CZ10V","Major Ear Procedures, 19 years and over with CC",0,0,1968,1663,5,5542,39,221,"No","-",0,1,"HRG",{"$f":"IF(ISERROR((#REF!-#REF!)/#REF!),0,(#REF!-#REF!)/#REF!)","v":0},{"$f":"IF(ISERROR((#REF!-#REF!)/#REF!),0,(#REF!-#REF!)/#REF!)","v":0},{"$f":"IF(ISERROR((#REF!-#REF!)/#REF!),0,(#REF!-#REF!)/#REF!)","v":0},{"$f":"IF(ISERROR((#REF!-#REF!)/#REF!),0,(#REF!-#REF!)/#REF!)","v":0},{"$f":"IF(ISERROR((#REF!-#REF!)/#REF!),0,(#REF!-#REF!)/#REF!)","v":0},{"$f":"IF(ISERROR((#REF!-#REF!)/#REF!),0,(#REF!-#REF!)/#REF!)","v":0},{"$f":"IF(ISERROR((#REF!-#REF!)/#REF!),0,(#REF!-#REF!)/#REF!)","v":0},{"$f":"IF(ISERROR((#REF!-#REF!)/#REF!),0,(#REF!-#REF!)/#REF!)","v":0},{"$f":"IF(ISERROR((#REF!-#REF!)/#REF!),0,(#REF!-#REF!)/#REF!)","v":0},{"$f":"IF(ISERROR((#REF!-#REF!)/#REF!),0,(#REF!-#REF!)/#REF!)","v":0},{"$f":"IF(ISERROR((#REF!-#REF!)/#REF!),0,(#REF!-#REF!)/#REF!)","v":0},{"$f":"IF(ISERROR((#REF!-#REF!)/#REF!),0,(#REF!-#REF!)/#REF!)","v":0},{"$f":"IF(ISERROR((#REF!-#REF!)/#REF!),0,(#REF!-#REF!)/#REF!)","v":0}]
[null,"CZ10Y","Major Ear Procedures, 19 years and over without CC",0,0,1944,1638,5,2459,15,221,"No","-",0,1,"HRG",{"$f":"IF(ISERROR((#REF!-#REF!)/#REF!),0,(#REF!-#REF!)/#REF!)","v":0},{"$f":"IF(ISERROR((#REF!-#REF!)/#REF!),0,(#REF!-#REF!)/#REF!)","v":0},{"$f":"IF(ISERROR((#REF!-#REF!)/#REF!),0,(#REF!-#REF!)/#REF!)","v":0},{"$f":"IF(ISERROR((#REF!-#REF!)/#REF!),0,(#REF!-#REF!)/#REF!)","v":0},{"$f":"IF(ISERROR((#REF!-#REF!)/#REF!),0,(#REF!-#REF!)/#REF!)","v":0},{"$f":"IF(ISERROR((#REF!-#REF!)/#REF!),0,(#REF!-#REF!)/#REF!)","v":0},{"$f":"IF(ISERROR((#REF!-#REF!)/#REF!),0,(#REF!-#REF!)/#REF!)","v":0},{"$f":"IF(ISERROR((#REF!-#REF!)/#REF!),0,(#REF!-#REF!)/#REF!)","v":0},{"$f":"IF(ISERROR((#REF!-#REF!)/#REF!),0,(#REF!-#REF!)/#REF!)","v":0},{"$f":"IF(ISERROR((#REF!-#REF!)/#REF!),0,(#REF!-#REF!)/#REF!)","v":0},{"$f":"IF(ISERROR((#REF!-#REF!)/#REF!),0,(#REF!-#REF!)/#REF!)","v":0},{"$f":"IF(ISERROR((#REF!-#REF!)/#REF!),0,(#REF!-#REF!)/#REF!)","v":0},{"$f":"IF(ISERROR((#REF!-#REF!)/#REF!),0,(#REF!-#REF!)/#REF!)","v":0}]
[null,"CZ11Z","Complex Major Ear Procedures",0,2678,0,0,5,3520,25,221,"No","-",0,"","",{"$f":"IF(ISERROR((#REF!-#REF!)/#REF!),0,(#REF!-#REF!)/#REF!)","v":0},{"$f":"IF(ISERROR((#REF!-#REF!)/#REF!),0,(#REF!-#REF!)/#REF!)","v":0},{"$f":"IF(ISERROR((#REF!-#REF!)/#REF!),0,(#REF!-#REF!)/#REF!)","v":0},{"$f":"IF(ISERROR((#REF!-#REF!)/#REF!),0,(#REF!-#REF!)/#REF!)","v":0},{"$f":"IF(ISERROR((#REF!-#REF!)/#REF!),0,(#REF!-#REF!)/#REF!)","v":0},{"$f":"IF(ISERROR((#REF!-#REF!)/#REF!),0,(#REF!-#REF!)/#REF!)","v":0},{"$f":"IF(ISERROR((#REF!-#REF!)/#REF!),0,(#REF!-#REF!)/#REF!)","v":0},{"$f":"IF(ISERROR((#REF!-#REF!)/#REF!),0,(#REF!-#REF!)/#REF!)","v":0},{"$f":"IF(ISERROR((#REF!-#REF!)/#REF!),0,(#REF!-#REF!)/#REF!)","v":0},{"$f":"IF(ISERROR((#REF!-#REF!)/#REF!),0,(#REF!-#REF!)/#REF!)","v":0},{"$f":"IF(ISERROR((#REF!-#REF!)/#REF!),0,(#REF!-#REF!)/#REF!)","v":0},{"$f":"IF(ISERROR((#REF!-#REF!)/#REF!),0,(#REF!-#REF!)/#REF!)","v":0},{"$f":"IF(ISERROR((#REF!-#REF!)/#REF!),0,(#REF!-#REF!)/#REF!)","v":0}]
[null,"CZ12U","Minor Nose Procedures, 18 years and under",105,756.75304260249266,0,0,5,736,5,330,"No","-",0,"","",{"$f":"IF(ISERROR((#REF!-#REF!)/#REF!),0,(#REF!-#REF!)/#REF!)","v":0},{"$f":"IF(ISERROR((#REF!-#REF!)/#REF!),0,(#REF!-#REF!)/#REF!)","v":0},{"$f":"IF(ISERROR((#REF!-#REF!)/#REF!),0,(#REF!-#REF!)/#REF!)","v":0},{"$f":"IF(ISERROR((#REF!-#REF!)/#REF!),0,(#REF!-#REF!)/#REF!)","v":0},{"$f":"IF(ISERROR((#REF!-#REF!)/#REF!),0,(#REF!-#REF!)/#REF!)","v":0},{"$f":"IF(ISERROR((#REF!-#REF!)/#REF!),0,(#REF!-#REF!)/#REF!)","v":0},{"$f":"IF(ISERROR((#REF!-#REF!)/#REF!),0,(#REF!-#REF!)/#REF!)","v":0},{"$f":"IF(ISERROR((#REF!-#REF!)/#REF!),0,(#REF!-#REF!)/#REF!)","v":0},{"$f":"IF(ISERROR((#REF!-#REF!)/#REF!),0,(#REF!-#REF!)/#REF!)","v":0},{"$f":"IF(ISERROR((#REF!-#REF!)/#REF!),0,(#REF!-#REF!)/#REF!)","v":0},{"$f":"IF(ISERROR((#REF!-#REF!)/#REF!),0,(#REF!-#REF!)/#REF!)","v":0},{"$f":"IF(ISERROR((#REF!-#REF!)/#REF!),0,(#REF!-#REF!)/#REF!)","v":0},{"$f":"IF(ISERROR((#REF!-#REF!)/#REF!),0,(#REF!-#REF!)/#REF!)","v":0}]
[null,"CZ12V","Minor Nose Procedures, 19 years and over with CC",0,833.422876179235,0,0,5,972,6,221,"No","-",0,"","",{"$f":"IF(ISERROR((#REF!-#REF!)/#REF!),0,(#REF!-#REF!)/#REF!)","v":0},{"$f":"IF(ISERROR((#REF!-#REF!)/#REF!),0,(#REF!-#REF!)/#REF!)","v":0},{"$f":"IF(ISERROR((#REF!-#REF!)/#REF!),0,(#REF!-#REF!)/#REF!)","v":0},{"$f":"IF(ISERROR((#REF!-#REF!)/#REF!),0,(#REF!-#REF!)/#REF!)","v":0},{"$f":"IF(ISERROR((#REF!-#REF!)/#REF!),0,(#REF!-#REF!)/#REF!)","v":0},{"$f":"IF(ISERROR((#REF!-#REF!)/#REF!),0,(#REF!-#REF!)/#REF!)","v":0},{"$f":"IF(ISERROR((#REF!-#REF!)/#REF!),0,(#REF!-#REF!)/#REF!)","v":0},{"$f":"IF(ISERROR((#REF!-#REF!)/#REF!),0,(#REF!-#REF!)/#REF!)","v":0},{"$f":"IF(ISERROR((#REF!-#REF!)/#REF!),0,(#REF!-#REF!)/#REF!)","v":0},{"$f":"IF(ISERROR((#REF!-#REF!)/#REF!),0,(#REF!-#REF!)/#REF!)","v":0},{"$f":"IF(ISERROR((#REF!-#REF!)/#REF!),0,(#REF!-#REF!)/#REF!)","v":0},{"$f":"IF(ISERROR((#REF!-#REF!)/#REF!),0,(#REF!-#REF!)/#REF!)","v":0},{"$f":"IF(ISERROR((#REF!-#REF!)/#REF!),0,(#REF!-#REF!)/#REF!)","v":0}]
[null,"CZ12Y","Minor Nose Procedures, 19 years and over without CC",110,745.42904708543381,0,0,5,730,5,221,"No","-",0,"","",{"$f":"IF(ISERROR((#REF!-#REF!)/#REF!),0,(#REF!-#REF!)/#REF!)","v":0},{"$f":"IF(ISERROR((#REF!-#REF!)/#REF!),0,(#REF!-#REF!)/#REF!)","v":0},{"$f":"IF(ISERROR((#REF!-#REF!)/#REF!),0,(#REF!-#REF!)/#REF!)","v":0},{"$f":"IF(ISERROR((#REF!-#REF!)/#REF!),0,(#REF!-#REF!)/#REF!)","v":0},{"$f":"IF(ISERROR((#REF!-#REF!)/#REF!),0,(#REF!-#REF!)/#REF!)","v":0},{"$f":"IF(ISERROR((#REF!-#REF!)/#REF!),0,(#REF!-#REF!)/#REF!)","v":0},{"$f":"IF(ISERROR((#REF!-#REF!)/#REF!),0,(#REF!-#REF!)/#REF!)","v":0},{"$f":"IF(ISERROR((#REF!-#REF!)/#REF!),0,(#REF!-#REF!)/#REF!)","v":0},{"$f":"IF(ISERROR((#REF!-#REF!)/#REF!),0,(#REF!-#REF!)/#REF!)","v":0},{"$f":"IF(ISERROR((#REF!-#REF!)/#REF!),0,(#REF!-#REF!)/#REF!)","v":0},{"$f":"IF(ISERROR((#REF!-#REF!)/#REF!),0,(#REF!-#REF!)/#REF!)","v":0},{"$f":"IF(ISERROR((#REF!-#REF!)/#REF!),0,(#REF!-#REF!)/#REF!)","v":0},{"$f":"IF(ISERROR((#REF!-#REF!)/#REF!),0,(#REF!-#REF!)/#REF!)","v":0}]
[null,"CZ13U","Intermediate Nose Procedures, 18 years and under",0,1390.5941638811451,0,0,5,1395,8,330,"No","-",0,"","",{"$f":"IF(ISERROR((#REF!-#REF!)/#REF!),0,(#REF!-#REF!)/#REF!)","v":0},{"$f":"IF(ISERROR((#REF!-#REF!)/#REF!),0,(#REF!-#REF!)/#REF!)","v":0},{"$f":"IF(ISERROR((#REF!-#REF!)/#REF!),0,(#REF!-#REF!)/#REF!)","v":0},{"$f":"IF(ISERROR((#REF!-#REF!)/#REF!),0,(#REF!-#REF!)/#REF!)","v":0},{"$f":"IF(ISERROR((#REF!-#REF!)/#REF!),0,(#REF!-#REF!)/#REF!)","v":0},{"$f":"IF(ISERROR((#REF!-#REF!)/#REF!),0,(#REF!-#REF!)/#REF!)","v":0},{"$f":"IF(ISERROR((#REF!-#REF!)/#REF!),0,(#REF!-#REF!)/#REF!)","v":0},{"$f":"IF(ISERROR((#REF!-#REF!)/#REF!),0,(#REF!-#REF!)/#REF!)","v":0},{"$f":"IF(ISERROR((#REF!-#REF!)/#REF!),0,(#REF!-#REF!)/#REF!)","v":0},{"$f":"IF(ISERROR((#REF!-#REF!)/#REF!),0,(#REF!-#REF!)/#REF!)","v":0},{"$f":"IF(ISERROR((#REF!-#REF!)/#REF!),0,(#REF!-#REF!)/#REF!)","v":0},{"$f":"IF(ISERROR((#REF!-#REF!)/#REF!),0,(#REF!-#REF!)/#REF!)","v":0},{"$f":"IF(ISERROR((#REF!-#REF!)/#REF!),0,(#REF!-#REF!)/#REF!)","v":0}]
[null,"CZ13V","Intermediate Nose Procedures, 19 years and over with CC",0,1524.7048580391443,0,0,5,1093,6,221,"No","-",0,1,"sub-HRG",{"$f":"IF(ISERROR((#REF!-#REF!)/#REF!),0,(#REF!-#REF!)/#REF!)","v":0},{"$f":"IF(ISERROR((#REF!-#REF!)/#REF!),0,(#REF!-#REF!)/#REF!)","v":0},{"$f":"IF(ISERROR((#REF!-#REF!)/#REF!),0,(#REF!-#REF!)/#REF!)","v":0},{"$f":"IF(ISERROR((#REF!-#REF!)/#REF!),0,(#REF!-#REF!)/#REF!)","v":0},{"$f":"IF(ISERROR((#REF!-#REF!)/#REF!),0,(#REF!-#REF!)/#REF!)","v":0},{"$f":"IF(ISERROR((#REF!-#REF!)/#REF!),0,(#REF!-#REF!)/#REF!)","v":0},{"$f":"IF(ISERROR((#REF!-#REF!)/#REF!),0,(#REF!-#REF!)/#REF!)","v":0},{"$f":"IF(ISERROR((#REF!-#REF!)/#REF!),0,(#REF!-#REF!)/#REF!)","v":0},{"$f":"IF(ISERROR((#REF!-#REF!)/#REF!),0,(#REF!-#REF!)/#REF!)","v":0},{"$f":"IF(ISERROR((#REF!-#REF!)/#REF!),0,(#REF!-#REF!)/#REF!)","v":0},{"$f":"IF(ISERROR((#REF!-#REF!)/#REF!),0,(#REF!-#REF!)/#REF!)","v":0},{"$f":"IF(ISERROR((#REF!-#REF!)/#REF!),0,(#REF!-#REF!)/#REF!)","v":0},{"$f":"IF(ISERROR((#REF!-#REF!)/#REF!),0,(#REF!-#REF!)/#REF!)","v":0}]
[null,"CZ13Y","Intermediate Nose Procedures, 19 years and over without CC",113,1385.1312508061717,0,0,5,910,5,221,"No","-",0,1,"sub-HRG",{"$f":"IF(ISERROR((#REF!-#REF!)/#REF!),0,(#REF!-#REF!)/#REF!)","v":0},{"$f":"IF(ISERROR((#REF!-#REF!)/#REF!),0,(#REF!-#REF!)/#REF!)","v":0},{"$f":"IF(ISERROR((#REF!-#REF!)/#REF!),0,(#REF!-#REF!)/#REF!)","v":0},{"$f":"IF(ISERROR((#REF!-#REF!)/#REF!),0,(#REF!-#REF!)/#REF!)","v":0},{"$f":"IF(ISERROR((#REF!-#REF!)/#REF!),0,(#REF!-#REF!)/#REF!)","v":0},{"$f":"IF(ISERROR((#REF!-#REF!)/#REF!),0,(#REF!-#REF!)/#REF!)","v":0},{"$f":"IF(ISERROR((#REF!-#REF!)/#REF!),0,(#REF!-#REF!)/#REF!)","v":0},{"$f":"IF(ISERROR((#REF!-#REF!)/#REF!),0,(#REF!-#REF!)/#REF!)","v":0},{"$f":"IF(ISERROR((#REF!-#REF!)/#REF!),0,(#REF!-#REF!)/#REF!)","v":0},{"$f":"IF(ISERROR((#REF!-#REF!)/#REF!),0,(#REF!-#REF!)/#REF!)","v":0},{"$f":"IF(ISERROR((#REF!-#REF!)/#REF!),0,(#REF!-#REF!)/#REF!)","v":0},{"$f":"IF(ISERROR((#REF!-#REF!)/#REF!),0,(#REF!-#REF!)/#REF!)","v":0},{"$f":"IF(ISERROR((#REF!-#REF!)/#REF!),0,(#REF!-#REF!)/#REF!)","v":0}]
[null,"CZ14U","Major Nose Procedures, 18 years and under",0,2265.0860457789231,0,0,5,3827,17,330,"No","-",0,"","",{"$f":"IF(ISERROR((#REF!-#REF!)/#REF!),0,(#REF!-#REF!)/#REF!)","v":0},{"$f":"IF(ISERROR((#REF!-#REF!)/#REF!),0,(#REF!-#REF!)/#REF!)","v":0},{"$f":"IF(ISERROR((#REF!-#REF!)/#REF!),0,(#REF!-#REF!)/#REF!)","v":0},{"$f":"IF(ISERROR((#REF!-#REF!)/#REF!),0,(#REF!-#REF!)/#REF!)","v":0},{"$f":"IF(ISERROR((#REF!-#REF!)/#REF!),0,(#REF!-#REF!)/#REF!)","v":0},{"$f":"IF(ISERROR((#REF!-#REF!)/#REF!),0,(#REF!-#REF!)/#REF!)","v":0},{"$f":"IF(ISERROR((#REF!-#REF!)/#REF!),0,(#REF!-#REF!)/#REF!)","v":0},{"$f":"IF(ISERROR((#REF!-#REF!)/#REF!),0,(#REF!-#REF!)/#REF!)","v":0},{"$f":"IF(ISERROR((#REF!-#REF!)/#REF!),0,(#REF!-#REF!)/#REF!)","v":0},{"$f":"IF(ISERROR((#REF!-#REF!)/#REF!),0,(#REF!-#REF!)/#REF!)","v":0},{"$f":"IF(ISERROR((#REF!-#REF!)/#REF!),0,(#REF!-#REF!)/#REF!)","v":0},{"$f":"IF(ISERROR((#REF!-#REF!)/#REF!),0,(#REF!-#REF!)/#REF!)","v":0},{"$f":"IF(ISERROR((#REF!-#REF!)/#REF!),0,(#REF!-#REF!)/#REF!)","v":0}]
[null,"CZ14V","Major Nose Procedures, 19 years and over with CC",0,1697.5238220926772,0,0,5,1983,11,221,"No","-",0,"","",{"$f":"IF(ISERROR((#REF!-#REF!)/#REF!),0,(#REF!-#REF!)/#REF!)","v":0},{"$f":"IF(ISERROR((#REF!-#REF!)/#REF!),0,(#REF!-#REF!)/#REF!)","v":0},{"$f":"IF(ISERROR((#REF!-#REF!)/#REF!),0,(#REF!-#REF!)/#REF!)","v":0},{"$f":"IF(ISERROR((#REF!-#REF!)/#REF!),0,(#REF!-#REF!)/#REF!)","v":0},{"$f":"IF(ISERROR((#REF!-#REF!)/#REF!),0,(#REF!-#REF!)/#REF!)","v":0},{"$f":"IF(ISERROR((#REF!-#REF!)/#REF!),0,(#REF!-#REF!)/#REF!)","v":0},{"$f":"IF(ISERROR((#REF!-#REF!)/#REF!),0,(#REF!-#REF!)/#REF!)","v":0},{"$f":"IF(ISERROR((#REF!-#REF!)/#REF!),0,(#REF!-#REF!)/#REF!)","v":0},{"$f":"IF(ISERROR((#REF!-#REF!)/#REF!),0,(#REF!-#REF!)/#REF!)","v":0},{"$f":"IF(ISERROR((#REF!-#REF!)/#REF!),0,(#REF!-#REF!)/#REF!)","v":0},{"$f":"IF(ISERROR((#REF!-#REF!)/#REF!),0,(#REF!-#REF!)/#REF!)","v":0},{"$f":"IF(ISERROR((#REF!-#REF!)/#REF!),0,(#REF!-#REF!)/#REF!)","v":0},{"$f":"IF(ISERROR((#REF!-#REF!)/#REF!),0,(#REF!-#REF!)/#REF!)","v":0}]
[null,"CZ14Y","Major Nose Procedures, 19 years and over without CC",0,1834.728589396859,0,0,5,1617,9,221,"No","-",0,"","",{"$f":"IF(ISERROR((#REF!-#REF!)/#REF!),0,(#REF!-#REF!)/#REF!)","v":0},{"$f":"IF(ISERROR((#REF!-#REF!)/#REF!),0,(#REF!-#REF!)/#REF!)","v":0},{"$f":"IF(ISERROR((#REF!-#REF!)/#REF!),0,(#REF!-#REF!)/#REF!)","v":0},{"$f":"IF(ISERROR((#REF!-#REF!)/#REF!),0,(#REF!-#REF!)/#REF!)","v":0},{"$f":"IF(ISERROR((#REF!-#REF!)/#REF!),0,(#REF!-#REF!)/#REF!)","v":0},{"$f":"IF(ISERROR((#REF!-#REF!)/#REF!),0,(#REF!-#REF!)/#REF!)","v":0},{"$f":"IF(ISERROR((#REF!-#REF!)/#REF!),0,(#REF!-#REF!)/#REF!)","v":0},{"$f":"IF(ISERROR((#REF!-#REF!)/#REF!),0,(#REF!-#REF!)/#REF!)","v":0},{"$f":"IF(ISERROR((#REF!-#REF!)/#REF!),0,(#REF!-#REF!)/#REF!)","v":0},{"$f":"IF(ISERROR((#REF!-#REF!)/#REF!),0,(#REF!-#REF!)/#REF!)","v":0},{"$f":"IF(ISERROR((#REF!-#REF!)/#REF!),0,(#REF!-#REF!)/#REF!)","v":0},{"$f":"IF(ISERROR((#REF!-#REF!)/#REF!),0,(#REF!-#REF!)/#REF!)","v":0},{"$f":"IF(ISERROR((#REF!-#REF!)/#REF!),0,(#REF!-#REF!)/#REF!)","v":0}]
[null,"CZ15N","Complex Major Nose Procedures with CC",0,1715,0,0,5,3742,16,221,"No","-",0,"","",{"$f":"IF(ISERROR((#REF!-#REF!)/#REF!),0,(#REF!-#REF!)/#REF!)","v":0},{"$f":"IF(ISERROR((#REF!-#REF!)/#REF!),0,(#REF!-#REF!)/#REF!)","v":0},{"$f":"IF(ISERROR((#REF!-#REF!)/#REF!),0,(#REF!-#REF!)/#REF!)","v":0},{"$f":"IF(ISERROR((#REF!-#REF!)/#REF!),0,(#REF!-#REF!)/#REF!)","v":0},{"$f":"IF(ISERROR((#REF!-#REF!)/#REF!),0,(#REF!-#REF!)/#REF!)","v":0},{"$f":"IF(ISERROR((#REF!-#REF!)/#REF!),0,(#REF!-#REF!)/#REF!)","v":0},{"$f":"IF(ISERROR((#REF!-#REF!)/#REF!),0,(#REF!-#REF!)/#REF!)","v":0},{"$f":"IF(ISERROR((#REF!-#REF!)/#REF!),0,(#REF!-#REF!)/#REF!)","v":0},{"$f":"IF(ISERROR((#REF!-#REF!)/#REF!),0,(#REF!-#REF!)/#REF!)","v":0},{"$f":"IF(ISERROR((#REF!-#REF!)/#REF!),0,(#REF!-#REF!)/#REF!)","v":0},{"$f":"IF(ISERROR((#REF!-#REF!)/#REF!),0,(#REF!-#REF!)/#REF!)","v":0},{"$f":"IF(ISERROR((#REF!-#REF!)/#REF!),0,(#REF!-#REF!)/#REF!)","v":0},{"$f":"IF(ISERROR((#REF!-#REF!)/#REF!),0,(#REF!-#REF!)/#REF!)","v":0}]
[null,"CZ15Q","Complex Major Nose Procedures without CC",0,1519,0,0,5,3020,12,221,"No","-",0,"","",{"$f":"IF(ISERROR((#REF!-#REF!)/#REF!),0,(#REF!-#REF!)/#REF!)","v":0},{"$f":"IF(ISERROR((#REF!-#REF!)/#REF!),0,(#REF!-#REF!)/#REF!)","v":0},{"$f":"IF(ISERROR((#REF!-#REF!)/#REF!),0,(#REF!-#REF!)/#REF!)","v":0},{"$f":"IF(ISERROR((#REF!-#REF!)/#REF!),0,(#REF!-#REF!)/#REF!)","v":0},{"$f":"IF(ISERROR((#REF!-#REF!)/#REF!),0,(#REF!-#REF!)/#REF!)","v":0},{"$f":"IF(ISERROR((#REF!-#REF!)/#REF!),0,(#REF!-#REF!)/#REF!)","v":0},{"$f":"IF(ISERROR((#REF!-#REF!)/#REF!),0,(#REF!-#REF!)/#REF!)","v":0},{"$f":"IF(ISERROR((#REF!-#REF!)/#REF!),0,(#REF!-#REF!)/#REF!)","v":0},{"$f":"IF(ISERROR((#REF!-#REF!)/#REF!),0,(#REF!-#REF!)/#REF!)","v":0},{"$f":"IF(ISERROR((#REF!-#REF!)/#REF!),0,(#REF!-#REF!)/#REF!)","v":0},{"$f":"IF(ISERROR((#REF!-#REF!)/#REF!),0,(#REF!-#REF!)/#REF!)","v":0},{"$f":"IF(ISERROR((#REF!-#REF!)/#REF!),0,(#REF!-#REF!)/#REF!)","v":0},{"$f":"IF(ISERROR((#REF!-#REF!)/#REF!),0,(#REF!-#REF!)/#REF!)","v":0}]
[null,"CZ16N","Minor Maxillo-facial Procedures with CC",0,1280,0,0,5,1596,5,221,"No","-",0,"","",{"$f":"IF(ISERROR((#REF!-#REF!)/#REF!),0,(#REF!-#REF!)/#REF!)","v":0},{"$f":"IF(ISERROR((#REF!-#REF!)/#REF!),0,(#REF!-#REF!)/#REF!)","v":0},{"$f":"IF(ISERROR((#REF!-#REF!)/#REF!),0,(#REF!-#REF!)/#REF!)","v":0},{"$f":"IF(ISERROR((#REF!-#REF!)/#REF!),0,(#REF!-#REF!)/#REF!)","v":0},{"$f":"IF(ISERROR((#REF!-#REF!)/#REF!),0,(#REF!-#REF!)/#REF!)","v":0},{"$f":"IF(ISERROR((#REF!-#REF!)/#REF!),0,(#REF!-#REF!)/#REF!)","v":0},{"$f":"IF(ISERROR((#REF!-#REF!)/#REF!),0,(#REF!-#REF!)/#REF!)","v":0},{"$f":"IF(ISERROR((#REF!-#REF!)/#REF!),0,(#REF!-#REF!)/#REF!)","v":0},{"$f":"IF(ISERROR((#REF!-#REF!)/#REF!),0,(#REF!-#REF!)/#REF!)","v":0},{"$f":"IF(ISERROR((#REF!-#REF!)/#REF!),0,(#REF!-#REF!)/#REF!)","v":0},{"$f":"IF(ISERROR((#REF!-#REF!)/#REF!),0,(#REF!-#REF!)/#REF!)","v":0},{"$f":"IF(ISERROR((#REF!-#REF!)/#REF!),0,(#REF!-#REF!)/#REF!)","v":0},{"$f":"IF(ISERROR((#REF!-#REF!)/#REF!),0,(#REF!-#REF!)/#REF!)","v":0}]
[null,"CZ16Q","Minor Maxillo-facial Procedures without CC",0,1114,0,0,5,1476,5,221,"No","-",0,"","",{"$f":"IF(ISERROR((#REF!-#REF!)/#REF!),0,(#REF!-#REF!)/#REF!)","v":0},{"$f":"IF(ISERROR((#REF!-#REF!)/#REF!),0,(#REF!-#REF!)/#REF!)","v":0},{"$f":"IF(ISERROR((#REF!-#REF!)/#REF!),0,(#REF!-#REF!)/#REF!)","v":0},{"$f":"IF(ISERROR((#REF!-#REF!)/#REF!),0,(#REF!-#REF!)/#REF!)","v":0},{"$f":"IF(ISERROR((#REF!-#REF!)/#REF!),0,(#REF!-#REF!)/#REF!)","v":0},{"$f":"IF(ISERROR((#REF!-#REF!)/#REF!),0,(#REF!-#REF!)/#REF!)","v":0},{"$f":"IF(ISERROR((#REF!-#REF!)/#REF!),0,(#REF!-#REF!)/#REF!)","v":0},{"$f":"IF(ISERROR((#REF!-#REF!)/#REF!),0,(#REF!-#REF!)/#REF!)","v":0},{"$f":"IF(ISERROR((#REF!-#REF!)/#REF!),0,(#REF!-#REF!)/#REF!)","v":0},{"$f":"IF(ISERROR((#REF!-#REF!)/#REF!),0,(#REF!-#REF!)/#REF!)","v":0},{"$f":"IF(ISERROR((#REF!-#REF!)/#REF!),0,(#REF!-#REF!)/#REF!)","v":0},{"$f":"IF(ISERROR((#REF!-#REF!)/#REF!),0,(#REF!-#REF!)/#REF!)","v":0},{"$f":"IF(ISERROR((#REF!-#REF!)/#REF!),0,(#REF!-#REF!)/#REF!)","v":0}]
[null,"CZ17U","Intermediate Maxillo-facial Procedures, 18 years and under",0,1426,0,0,5,2201,5,330,"No","-",0,"","",{"$f":"IF(ISERROR((#REF!-#REF!)/#REF!),0,(#REF!-#REF!)/#REF!)","v":0},{"$f":"IF(ISERROR((#REF!-#REF!)/#REF!),0,(#REF!-#REF!)/#REF!)","v":0},{"$f":"IF(ISERROR((#REF!-#REF!)/#REF!),0,(#REF!-#REF!)/#REF!)","v":0},{"$f":"IF(ISERROR((#REF!-#REF!)/#REF!),0,(#REF!-#REF!)/#REF!)","v":0},{"$f":"IF(ISERROR((#REF!-#REF!)/#REF!),0,(#REF!-#REF!)/#REF!)","v":0},{"$f":"IF(ISERROR((#REF!-#REF!)/#REF!),0,(#REF!-#REF!)/#REF!)","v":0},{"$f":"IF(ISERROR((#REF!-#REF!)/#REF!),0,(#REF!-#REF!)/#REF!)","v":0},{"$f":"IF(ISERROR((#REF!-#REF!)/#REF!),0,(#REF!-#REF!)/#REF!)","v":0},{"$f":"IF(ISERROR((#REF!-#REF!)/#REF!),0,(#REF!-#REF!)/#REF!)","v":0},{"$f":"IF(ISERROR((#REF!-#REF!)/#REF!),0,(#REF!-#REF!)/#REF!)","v":0},{"$f":"IF(ISERROR((#REF!-#REF!)/#REF!),0,(#REF!-#REF!)/#REF!)","v":0},{"$f":"IF(ISERROR((#REF!-#REF!)/#REF!),0,(#REF!-#REF!)/#REF!)","v":0},{"$f":"IF(ISERROR((#REF!-#REF!)/#REF!),0,(#REF!-#REF!)/#REF!)","v":0}]
[null,"CZ17V","Intermediate Maxillo-facial Procedures, 19 years and over with CC",0,2151,0,0,5,2620,9,221,"No","-",0,"","",{"$f":"IF(ISERROR((#REF!-#REF!)/#REF!),0,(#REF!-#REF!)/#REF!)","v":0},{"$f":"IF(ISERROR((#REF!-#REF!)/#REF!),0,(#REF!-#REF!)/#REF!)","v":0},{"$f":"IF(ISERROR((#REF!-#REF!)/#REF!),0,(#REF!-#REF!)/#REF!)","v":0},{"$f":"IF(ISERROR((#REF!-#REF!)/#REF!),0,(#REF!-#REF!)/#REF!)","v":0},{"$f":"IF(ISERROR((#REF!-#REF!)/#REF!),0,(#REF!-#REF!)/#REF!)","v":0},{"$f":"IF(ISERROR((#REF!-#REF!)/#REF!),0,(#REF!-#REF!)/#REF!)","v":0},{"$f":"IF(ISERROR((#REF!-#REF!)/#REF!),0,(#REF!-#REF!)/#REF!)","v":0},{"$f":"IF(ISERROR((#REF!-#REF!)/#REF!),0,(#REF!-#REF!)/#REF!)","v":0},{"$f":"IF(ISERROR((#REF!-#REF!)/#REF!),0,(#REF!-#REF!)/#REF!)","v":0},{"$f":"IF(ISERROR((#REF!-#REF!)/#REF!),0,(#REF!-#REF!)/#REF!)","v":0},{"$f":"IF(ISERROR((#REF!-#REF!)/#REF!),0,(#REF!-#REF!)/#REF!)","v":0},{"$f":"IF(ISERROR((#REF!-#REF!)/#REF!),0,(#REF!-#REF!)/#REF!)","v":0},{"$f":"IF(ISERROR((#REF!-#REF!)/#REF!),0,(#REF!-#REF!)/#REF!)","v":0}]
[null,"CZ17Y","Intermediate Maxillo-facial Procedures, 19 years and over without CC",0,1367,0,0,5,2046,5,221,"No","-",0,"","",{"$f":"IF(ISERROR((#REF!-#REF!)/#REF!),0,(#REF!-#REF!)/#REF!)","v":0},{"$f":"IF(ISERROR((#REF!-#REF!)/#REF!),0,(#REF!-#REF!)/#REF!)","v":0},{"$f":"IF(ISERROR((#REF!-#REF!)/#REF!),0,(#REF!-#REF!)/#REF!)","v":0},{"$f":"IF(ISERROR((#REF!-#REF!)/#REF!),0,(#REF!-#REF!)/#REF!)","v":0},{"$f":"IF(ISERROR((#REF!-#REF!)/#REF!),0,(#REF!-#REF!)/#REF!)","v":0},{"$f":"IF(ISERROR((#REF!-#REF!)/#REF!),0,(#REF!-#REF!)/#REF!)","v":0},{"$f":"IF(ISERROR((#REF!-#REF!)/#REF!),0,(#REF!-#REF!)/#REF!)","v":0},{"$f":"IF(ISERROR((#REF!-#REF!)/#REF!),0,(#REF!-#REF!)/#REF!)","v":0},{"$f":"IF(ISERROR((#REF!-#REF!)/#REF!),0,(#REF!-#REF!)/#REF!)","v":0},{"$f":"IF(ISERROR((#REF!-#REF!)/#REF!),0,(#REF!-#REF!)/#REF!)","v":0},{"$f":"IF(ISERROR((#REF!-#REF!)/#REF!),0,(#REF!-#REF!)/#REF!)","v":0},{"$f":"IF(ISERROR((#REF!-#REF!)/#REF!),0,(#REF!-#REF!)/#REF!)","v":0},{"$f":"IF(ISERROR((#REF!-#REF!)/#REF!),0,(#REF!-#REF!)/#REF!)","v":0}]
[null,"CZ18R","Major Maxillo-facial Procedures, 19 years and over",0,3583,0,0,5,3534,16,221,"No","-",0,"","",{"$f":"IF(ISERROR((#REF!-#REF!)/#REF!),0,(#REF!-#REF!)/#REF!)","v":0},{"$f":"IF(ISERROR((#REF!-#REF!)/#REF!),0,(#REF!-#REF!)/#REF!)","v":0},{"$f":"IF(ISERROR((#REF!-#REF!)/#REF!),0,(#REF!-#REF!)/#REF!)","v":0},{"$f":"IF(ISERROR((#REF!-#REF!)/#REF!),0,(#REF!-#REF!)/#REF!)","v":0},{"$f":"IF(ISERROR((#REF!-#REF!)/#REF!),0,(#REF!-#REF!)/#REF!)","v":0},{"$f":"IF(ISERROR((#REF!-#REF!)/#REF!),0,(#REF!-#REF!)/#REF!)","v":0},{"$f":"IF(ISERROR((#REF!-#REF!)/#REF!),0,(#REF!-#REF!)/#REF!)","v":0},{"$f":"IF(ISERROR((#REF!-#REF!)/#REF!),0,(#REF!-#REF!)/#REF!)","v":0},{"$f":"IF(ISERROR((#REF!-#REF!)/#REF!),0,(#REF!-#REF!)/#REF!)","v":0},{"$f":"IF(ISERROR((#REF!-#REF!)/#REF!),0,(#REF!-#REF!)/#REF!)","v":0},{"$f":"IF(ISERROR((#REF!-#REF!)/#REF!),0,(#REF!-#REF!)/#REF!)","v":0},{"$f":"IF(ISERROR((#REF!-#REF!)/#REF!),0,(#REF!-#REF!)/#REF!)","v":0},{"$f":"IF(ISERROR((#REF!-#REF!)/#REF!),0,(#REF!-#REF!)/#REF!)","v":0}]
[null,"CZ18U","Major Maxillo-facial Procedures, 18 years and under",0,3334,0,0,5,3030,10,330,"No","-",0,"","",{"$f":"IF(ISERROR((#REF!-#REF!)/#REF!),0,(#REF!-#REF!)/#REF!)","v":0},{"$f":"IF(ISERROR((#REF!-#REF!)/#REF!),0,(#REF!-#REF!)/#REF!)","v":0},{"$f":"IF(ISERROR((#REF!-#REF!)/#REF!),0,(#REF!-#REF!)/#REF!)","v":0},{"$f":"IF(ISERROR((#REF!-#REF!)/#REF!),0,(#REF!-#REF!)/#REF!)","v":0},{"$f":"IF(ISERROR((#REF!-#REF!)/#REF!),0,(#REF!-#REF!)/#REF!)","v":0},{"$f":"IF(ISERROR((#REF!-#REF!)/#REF!),0,(#REF!-#REF!)/#REF!)","v":0},{"$f":"IF(ISERROR((#REF!-#REF!)/#REF!),0,(#REF!-#REF!)/#REF!)","v":0},{"$f":"IF(ISERROR((#REF!-#REF!)/#REF!),0,(#REF!-#REF!)/#REF!)","v":0},{"$f":"IF(ISERROR((#REF!-#REF!)/#REF!),0,(#REF!-#REF!)/#REF!)","v":0},{"$f":"IF(ISERROR((#REF!-#REF!)/#REF!),0,(#REF!-#REF!)/#REF!)","v":0},{"$f":"IF(ISERROR((#REF!-#REF!)/#REF!),0,(#REF!-#REF!)/#REF!)","v":0},{"$f":"IF(ISERROR((#REF!-#REF!)/#REF!),0,(#REF!-#REF!)/#REF!)","v":0},{"$f":"IF(ISERROR((#REF!-#REF!)/#REF!),0,(#REF!-#REF!)/#REF!)","v":0}]
[null,"CZ19Z","Complex Major Maxillo-facial Procedures",0,6226,0,0,21,6091,35,221,"No","-",0,"","",{"$f":"IF(ISERROR((#REF!-#REF!)/#REF!),0,(#REF!-#REF!)/#REF!)","v":0},{"$f":"IF(ISERROR((#REF!-#REF!)/#REF!),0,(#REF!-#REF!)/#REF!)","v":0},{"$f":"IF(ISERROR((#REF!-#REF!)/#REF!),0,(#REF!-#REF!)/#REF!)","v":0},{"$f":"IF(ISERROR((#REF!-#REF!)/#REF!),0,(#REF!-#REF!)/#REF!)","v":0},{"$f":"IF(ISERROR((#REF!-#REF!)/#REF!),0,(#REF!-#REF!)/#REF!)","v":0},{"$f":"IF(ISERROR((#REF!-#REF!)/#REF!),0,(#REF!-#REF!)/#REF!)","v":0},{"$f":"IF(ISERROR((#REF!-#REF!)/#REF!),0,(#REF!-#REF!)/#REF!)","v":0},{"$f":"IF(ISERROR((#REF!-#REF!)/#REF!),0,(#REF!-#REF!)/#REF!)","v":0},{"$f":"IF(ISERROR((#REF!-#REF!)/#REF!),0,(#REF!-#REF!)/#REF!)","v":0},{"$f":"IF(ISERROR((#REF!-#REF!)/#REF!),0,(#REF!-#REF!)/#REF!)","v":0},{"$f":"IF(ISERROR((#REF!-#REF!)/#REF!),0,(#REF!-#REF!)/#REF!)","v":0},{"$f":"IF(ISERROR((#REF!-#REF!)/#REF!),0,(#REF!-#REF!)/#REF!)","v":0},{"$f":"IF(ISERROR((#REF!-#REF!)/#REF!),0,(#REF!-#REF!)/#REF!)","v":0}]
[null,"CZ20Z","Complex Major Head or Neck Procedures with Reconstruction",0,16811,0,0,46,16811,46,221,"No","-",0,"","",{"$f":"IF(ISERROR((#REF!-#REF!)/#REF!),0,(#REF!-#REF!)/#REF!)","v":0},{"$f":"IF(ISERROR((#REF!-#REF!)/#REF!),0,(#REF!-#REF!)/#REF!)","v":0},{"$f":"IF(ISERROR((#REF!-#REF!)/#REF!),0,(#REF!-#REF!)/#REF!)","v":0},{"$f":"IF(ISERROR((#REF!-#REF!)/#REF!),0,(#REF!-#REF!)/#REF!)","v":0},{"$f":"IF(ISERROR((#REF!-#REF!)/#REF!),0,(#REF!-#REF!)/#REF!)","v":0},{"$f":"IF(ISERROR((#REF!-#REF!)/#REF!),0,(#REF!-#REF!)/#REF!)","v":0},{"$f":"IF(ISERROR((#REF!-#REF!)/#REF!),0,(#REF!-#REF!)/#REF!)","v":0},{"$f":"IF(ISERROR((#REF!-#REF!)/#REF!),0,(#REF!-#REF!)/#REF!)","v":0},{"$f":"IF(ISERROR((#REF!-#REF!)/#REF!),0,(#REF!-#REF!)/#REF!)","v":0},{"$f":"IF(ISERROR((#REF!-#REF!)/#REF!),0,(#REF!-#REF!)/#REF!)","v":0},{"$f":"IF(ISERROR((#REF!-#REF!)/#REF!),0,(#REF!-#REF!)/#REF!)","v":0},{"$f":"IF(ISERROR((#REF!-#REF!)/#REF!),0,(#REF!-#REF!)/#REF!)","v":0},{"$f":"IF(ISERROR((#REF!-#REF!)/#REF!),0,(#REF!-#REF!)/#REF!)","v":0}]
[null,"CZ21V","Minor Head, Neck and Ear Disorders, with CC",0,1157.4254467633239,0,0,5,694,5,221,"Yes",0.65,451.1,"","",{"$f":"IF(ISERROR((#REF!-#REF!)/#REF!),0,(#REF!-#REF!)/#REF!)","v":0},{"$f":"IF(ISERROR((#REF!-#REF!)/#REF!),0,(#REF!-#REF!)/#REF!)","v":0},{"$f":"IF(ISERROR((#REF!-#REF!)/#REF!),0,(#REF!-#REF!)/#REF!)","v":0},{"$f":"IF(ISERROR((#REF!-#REF!)/#REF!),0,(#REF!-#REF!)/#REF!)","v":0},{"$f":"IF(ISERROR((#REF!-#REF!)/#REF!),0,(#REF!-#REF!)/#REF!)","v":0},{"$f":"IF(ISERROR((#REF!-#REF!)/#REF!),0,(#REF!-#REF!)/#REF!)","v":0},{"$f":"IF(ISERROR((#REF!-#REF!)/#REF!),0,(#REF!-#REF!)/#REF!)","v":0},{"$f":"IF(ISERROR((#REF!-#REF!)/#REF!),0,(#REF!-#REF!)/#REF!)","v":0},{"$f":"IF(ISERROR((#REF!-#REF!)/#REF!),0,(#REF!-#REF!)/#REF!)","v":0},{"$f":"IF(ISERROR((#REF!-#REF!)/#REF!),0,(#REF!-#REF!)/#REF!)","v":0},{"$f":"IF(ISERROR((#REF!-#REF!)/#REF!),0,(#REF!-#REF!)/#REF!)","v":0},{"$f":"IF(ISERROR((#REF!-#REF!)/#REF!),0,(#REF!-#REF!)/#REF!)","v":0},{"$f":"IF(ISERROR((#REF!-#REF!)/#REF!),0,(#REF!-#REF!)/#REF!)","v":0}]
[null,"CZ21Y","Minor Head, Neck and Ear Disorders, without CC",0,613,0,0,5,429,5,221,"Yes",1,429,"","",{"$f":"IF(ISERROR((#REF!-#REF!)/#REF!),0,(#REF!-#REF!)/#REF!)","v":0},{"$f":"IF(ISERROR((#REF!-#REF!)/#REF!),0,(#REF!-#REF!)/#REF!)","v":0},{"$f":"IF(ISERROR((#REF!-#REF!)/#REF!),0,(#REF!-#REF!)/#REF!)","v":0},{"$f":"IF(ISERROR((#REF!-#REF!)/#REF!),0,(#REF!-#REF!)/#REF!)","v":0},{"$f":"IF(ISERROR((#REF!-#REF!)/#REF!),0,(#REF!-#REF!)/#REF!)","v":0},{"$f":"IF(ISERROR((#REF!-#REF!)/#REF!),0,(#REF!-#REF!)/#REF!)","v":0},{"$f":"IF(ISERROR((#REF!-#REF!)/#REF!),0,(#REF!-#REF!)/#REF!)","v":0},{"$f":"IF(ISERROR((#REF!-#REF!)/#REF!),0,(#REF!-#REF!)/#REF!)","v":0},{"$f":"IF(ISERROR((#REF!-#REF!)/#REF!),0,(#REF!-#REF!)/#REF!)","v":0},{"$f":"IF(ISERROR((#REF!-#REF!)/#REF!),0,(#REF!-#REF!)/#REF!)","v":0},{"$f":"IF(ISERROR((#REF!-#REF!)/#REF!),0,(#REF!-#REF!)/#REF!)","v":0},{"$f":"IF(ISERROR((#REF!-#REF!)/#REF!),0,(#REF!-#REF!)/#REF!)","v":0},{"$f":"IF(ISERROR((#REF!-#REF!)/#REF!),0,(#REF!-#REF!)/#REF!)","v":0}]
[null,"CZ22W","Intermediate Head, Neck and Ear Disorders, with Major CC",0,1847,0,0,17,2025,15,221,"Yes",0.30000000000000004,607.50000000000011,"","",{"$f":"IF(ISERROR((#REF!-#REF!)/#REF!),0,(#REF!-#REF!)/#REF!)","v":0},{"$f":"IF(ISERROR((#REF!-#REF!)/#REF!),0,(#REF!-#REF!)/#REF!)","v":0},{"$f":"IF(ISERROR((#REF!-#REF!)/#REF!),0,(#REF!-#REF!)/#REF!)","v":0},{"$f":"IF(ISERROR((#REF!-#REF!)/#REF!),0,(#REF!-#REF!)/#REF!)","v":0},{"$f":"IF(ISERROR((#REF!-#REF!)/#REF!),0,(#REF!-#REF!)/#REF!)","v":0},{"$f":"IF(ISERROR((#REF!-#REF!)/#REF!),0,(#REF!-#REF!)/#REF!)","v":0},{"$f":"IF(ISERROR((#REF!-#REF!)/#REF!),0,(#REF!-#REF!)/#REF!)","v":0},{"$f":"IF(ISERROR((#REF!-#REF!)/#REF!),0,(#REF!-#REF!)/#REF!)","v":0},{"$f":"IF(ISERROR((#REF!-#REF!)/#REF!),0,(#REF!-#REF!)/#REF!)","v":0},{"$f":"IF(ISERROR((#REF!-#REF!)/#REF!),0,(#REF!-#REF!)/#REF!)","v":0},{"$f":"IF(ISERROR((#REF!-#REF!)/#REF!),0,(#REF!-#REF!)/#REF!)","v":0},{"$f":"IF(ISERROR((#REF!-#REF!)/#REF!),0,(#REF!-#REF!)/#REF!)","v":0},{"$f":"IF(ISERROR((#REF!-#REF!)/#REF!),0,(#REF!-#REF!)/#REF!)","v":0}]
[null,"CZ22X","Intermediate Head, Neck and Ear Disorders, with Intermediate CC",0,1198,0,0,8,890,5,221,"Yes",0.65,578.5,"","",{"$f":"IF(ISERROR((#REF!-#REF!)/#REF!),0,(#REF!-#REF!)/#REF!)","v":0},{"$f":"IF(ISERROR((#REF!-#REF!)/#REF!),0,(#REF!-#REF!)/#REF!)","v":0},{"$f":"IF(ISERROR((#REF!-#REF!)/#REF!),0,(#REF!-#REF!)/#REF!)","v":0},{"$f":"IF(ISERROR((#REF!-#REF!)/#REF!),0,(#REF!-#REF!)/#REF!)","v":0},{"$f":"IF(ISERROR((#REF!-#REF!)/#REF!),0,(#REF!-#REF!)/#REF!)","v":0},{"$f":"IF(ISERROR((#REF!-#REF!)/#REF!),0,(#REF!-#REF!)/#REF!)","v":0},{"$f":"IF(ISERROR((#REF!-#REF!)/#REF!),0,(#REF!-#REF!)/#REF!)","v":0},{"$f":"IF(ISERROR((#REF!-#REF!)/#REF!),0,(#REF!-#REF!)/#REF!)","v":0},{"$f":"IF(ISERROR((#REF!-#REF!)/#REF!),0,(#REF!-#REF!)/#REF!)","v":0},{"$f":"IF(ISERROR((#REF!-#REF!)/#REF!),0,(#REF!-#REF!)/#REF!)","v":0},{"$f":"IF(ISERROR((#REF!-#REF!)/#REF!),0,(#REF!-#REF!)/#REF!)","v":0},{"$f":"IF(ISERROR((#REF!-#REF!)/#REF!),0,(#REF!-#REF!)/#REF!)","v":0},{"$f":"IF(ISERROR((#REF!-#REF!)/#REF!),0,(#REF!-#REF!)/#REF!)","v":0}]
[null,"CZ22Y","Intermediate Head, Neck and Ear Disorders, without CC",0,702,0,0,5,605,5,221,"Yes",1,605,"","",{"$f":"IF(ISERROR((#REF!-#REF!)/#REF!),0,(#REF!-#REF!)/#REF!)","v":0},{"$f":"IF(ISERROR((#REF!-#REF!)/#REF!),0,(#REF!-#REF!)/#REF!)","v":0},{"$f":"IF(ISERROR((#REF!-#REF!)/#REF!),0,(#REF!-#REF!)/#REF!)","v":0},{"$f":"IF(ISERROR((#REF!-#REF!)/#REF!),0,(#REF!-#REF!)/#REF!)","v":0},{"$f":"IF(ISERROR((#REF!-#REF!)/#REF!),0,(#REF!-#REF!)/#REF!)","v":0},{"$f":"IF(ISERROR((#REF!-#REF!)/#REF!),0,(#REF!-#REF!)/#REF!)","v":0},{"$f":"IF(ISERROR((#REF!-#REF!)/#REF!),0,(#REF!-#REF!)/#REF!)","v":0},{"$f":"IF(ISERROR((#REF!-#REF!)/#REF!),0,(#REF!-#REF!)/#REF!)","v":0},{"$f":"IF(ISERROR((#REF!-#REF!)/#REF!),0,(#REF!-#REF!)/#REF!)","v":0},{"$f":"IF(ISERROR((#REF!-#REF!)/#REF!),0,(#REF!-#REF!)/#REF!)","v":0},{"$f":"IF(ISERROR((#REF!-#REF!)/#REF!),0,(#REF!-#REF!)/#REF!)","v":0},{"$f":"IF(ISERROR((#REF!-#REF!)/#REF!),0,(#REF!-#REF!)/#REF!)","v":0},{"$f":"IF(ISERROR((#REF!-#REF!)/#REF!),0,(#REF!-#REF!)/#REF!)","v":0}]
[null,"CZ23W","Major Head, Neck and Ear Disorders, with Major CC",0,2690,0,0,29,2450,21,221,"Yes",0.30000000000000004,735.00000000000011,"","",{"$f":"IF(ISERROR((#REF!-#REF!)/#REF!),0,(#REF!-#REF!)/#REF!)","v":0},{"$f":"IF(ISERROR((#REF!-#REF!)/#REF!),0,(#REF!-#REF!)/#REF!)","v":0},{"$f":"IF(ISERROR((#REF!-#REF!)/#REF!),0,(#REF!-#REF!)/#REF!)","v":0},{"$f":"IF(ISERROR((#REF!-#REF!)/#REF!),0,(#REF!-#REF!)/#REF!)","v":0},{"$f":"IF(ISERROR((#REF!-#REF!)/#REF!),0,(#REF!-#REF!)/#REF!)","v":0},{"$f":"IF(ISERROR((#REF!-#REF!)/#REF!),0,(#REF!-#REF!)/#REF!)","v":0},{"$f":"IF(ISERROR((#REF!-#REF!)/#REF!),0,(#REF!-#REF!)/#REF!)","v":0},{"$f":"IF(ISERROR((#REF!-#REF!)/#REF!),0,(#REF!-#REF!)/#REF!)","v":0},{"$f":"IF(ISERROR((#REF!-#REF!)/#REF!),0,(#REF!-#REF!)/#REF!)","v":0},{"$f":"IF(ISERROR((#REF!-#REF!)/#REF!),0,(#REF!-#REF!)/#REF!)","v":0},{"$f":"IF(ISERROR((#REF!-#REF!)/#REF!),0,(#REF!-#REF!)/#REF!)","v":0},{"$f":"IF(ISERROR((#REF!-#REF!)/#REF!),0,(#REF!-#REF!)/#REF!)","v":0},{"$f":"IF(ISERROR((#REF!-#REF!)/#REF!),0,(#REF!-#REF!)/#REF!)","v":0}]
[null,"CZ23X","Major Head, Neck and Ear Disorders, with Intermediate CC",0,1204,0,0,10,1272,8,221,"Yes",0.4,508.8,"","",{"$f":"IF(ISERROR((#REF!-#REF!)/#REF!),0,(#REF!-#REF!)/#REF!)","v":0},{"$f":"IF(ISERROR((#REF!-#REF!)/#REF!),0,(#REF!-#REF!)/#REF!)","v":0},{"$f":"IF(ISERROR((#REF!-#REF!)/#REF!),0,(#REF!-#REF!)/#REF!)","v":0},{"$f":"IF(ISERROR((#REF!-#REF!)/#REF!),0,(#REF!-#REF!)/#REF!)","v":0},{"$f":"IF(ISERROR((#REF!-#REF!)/#REF!),0,(#REF!-#REF!)/#REF!)","v":0},{"$f":"IF(ISERROR((#REF!-#REF!)/#REF!),0,(#REF!-#REF!)/#REF!)","v":0},{"$f":"IF(ISERROR((#REF!-#REF!)/#REF!),0,(#REF!-#REF!)/#REF!)","v":0},{"$f":"IF(ISERROR((#REF!-#REF!)/#REF!),0,(#REF!-#REF!)/#REF!)","v":0},{"$f":"IF(ISERROR((#REF!-#REF!)/#REF!),0,(#REF!-#REF!)/#REF!)","v":0},{"$f":"IF(ISERROR((#REF!-#REF!)/#REF!),0,(#REF!-#REF!)/#REF!)","v":0},{"$f":"IF(ISERROR((#REF!-#REF!)/#REF!),0,(#REF!-#REF!)/#REF!)","v":0},{"$f":"IF(ISERROR((#REF!-#REF!)/#REF!),0,(#REF!-#REF!)/#REF!)","v":0},{"$f":"IF(ISERROR((#REF!-#REF!)/#REF!),0,(#REF!-#REF!)/#REF!)","v":0}]
[null,"CZ23Y","Major Head, Neck and Ear Disorders, without CC",0,916,0,0,8,568,5,221,"Yes",1,568,"","",{"$f":"IF(ISERROR((#REF!-#REF!)/#REF!),0,(#REF!-#REF!)/#REF!)","v":0},{"$f":"IF(ISERROR((#REF!-#REF!)/#REF!),0,(#REF!-#REF!)/#REF!)","v":0},{"$f":"IF(ISERROR((#REF!-#REF!)/#REF!),0,(#REF!-#REF!)/#REF!)","v":0},{"$f":"IF(ISERROR((#REF!-#REF!)/#REF!),0,(#REF!-#REF!)/#REF!)","v":0},{"$f":"IF(ISERROR((#REF!-#REF!)/#REF!),0,(#REF!-#REF!)/#REF!)","v":0},{"$f":"IF(ISERROR((#REF!-#REF!)/#REF!),0,(#REF!-#REF!)/#REF!)","v":0},{"$f":"IF(ISERROR((#REF!-#REF!)/#REF!),0,(#REF!-#REF!)/#REF!)","v":0},{"$f":"IF(ISERROR((#REF!-#REF!)/#REF!),0,(#REF!-#REF!)/#REF!)","v":0},{"$f":"IF(ISERROR((#REF!-#REF!)/#REF!),0,(#REF!-#REF!)/#REF!)","v":0},{"$f":"IF(ISERROR((#REF!-#REF!)/#REF!),0,(#REF!-#REF!)/#REF!)","v":0},{"$f":"IF(ISERROR((#REF!-#REF!)/#REF!),0,(#REF!-#REF!)/#REF!)","v":0},{"$f":"IF(ISERROR((#REF!-#REF!)/#REF!),0,(#REF!-#REF!)/#REF!)","v":0},{"$f":"IF(ISERROR((#REF!-#REF!)/#REF!),0,(#REF!-#REF!)/#REF!)","v":0}]
[null,"CZ24O","Complex Major Head, Neck and Ear Disorders, with Major CC",0,4888,0,0,42,4690,44,221,"Yes",0.30000000000000004,1407.0000000000002,"","",{"$f":"IF(ISERROR((#REF!-#REF!)/#REF!),0,(#REF!-#REF!)/#REF!)","v":0},{"$f":"IF(ISERROR((#REF!-#REF!)/#REF!),0,(#REF!-#REF!)/#REF!)","v":0},{"$f":"IF(ISERROR((#REF!-#REF!)/#REF!),0,(#REF!-#REF!)/#REF!)","v":0},{"$f":"IF(ISERROR((#REF!-#REF!)/#REF!),0,(#REF!-#REF!)/#REF!)","v":0},{"$f":"IF(ISERROR((#REF!-#REF!)/#REF!),0,(#REF!-#REF!)/#REF!)","v":0},{"$f":"IF(ISERROR((#REF!-#REF!)/#REF!),0,(#REF!-#REF!)/#REF!)","v":0},{"$f":"IF(ISERROR((#REF!-#REF!)/#REF!),0,(#REF!-#REF!)/#REF!)","v":0},{"$f":"IF(ISERROR((#REF!-#REF!)/#REF!),0,(#REF!-#REF!)/#REF!)","v":0},{"$f":"IF(ISERROR((#REF!-#REF!)/#REF!),0,(#REF!-#REF!)/#REF!)","v":0},{"$f":"IF(ISERROR((#REF!-#REF!)/#REF!),0,(#REF!-#REF!)/#REF!)","v":0},{"$f":"IF(ISERROR((#REF!-#REF!)/#REF!),0,(#REF!-#REF!)/#REF!)","v":0},{"$f":"IF(ISERROR((#REF!-#REF!)/#REF!),0,(#REF!-#REF!)/#REF!)","v":0},{"$f":"IF(ISERROR((#REF!-#REF!)/#REF!),0,(#REF!-#REF!)/#REF!)","v":0}]
[null,"CZ24P","Complex Major Head, Neck and Ear Disorders, with Intermediate CC",0,2127.4326323703058,0,0,11,2733,20,221,"Yes",0.30000000000000004,819.90000000000009,"","",{"$f":"IF(ISERROR((#REF!-#REF!)/#REF!),0,(#REF!-#REF!)/#REF!)","v":0},{"$f":"IF(ISERROR((#REF!-#REF!)/#REF!),0,(#REF!-#REF!)/#REF!)","v":0},{"$f":"IF(ISERROR((#REF!-#REF!)/#REF!),0,(#REF!-#REF!)/#REF!)","v":0},{"$f":"IF(ISERROR((#REF!-#REF!)/#REF!),0,(#REF!-#REF!)/#REF!)","v":0},{"$f":"IF(ISERROR((#REF!-#REF!)/#REF!),0,(#REF!-#REF!)/#REF!)","v":0},{"$f":"IF(ISERROR((#REF!-#REF!)/#REF!),0,(#REF!-#REF!)/#REF!)","v":0},{"$f":"IF(ISERROR((#REF!-#REF!)/#REF!),0,(#REF!-#REF!)/#REF!)","v":0},{"$f":"IF(ISERROR((#REF!-#REF!)/#REF!),0,(#REF!-#REF!)/#REF!)","v":0},{"$f":"IF(ISERROR((#REF!-#REF!)/#REF!),0,(#REF!-#REF!)/#REF!)","v":0},{"$f":"IF(ISERROR((#REF!-#REF!)/#REF!),0,(#REF!-#REF!)/#REF!)","v":0},{"$f":"IF(ISERROR((#REF!-#REF!)/#REF!),0,(#REF!-#REF!)/#REF!)","v":0},{"$f":"IF(ISERROR((#REF!-#REF!)/#REF!),0,(#REF!-#REF!)/#REF!)","v":0},{"$f":"IF(ISERROR((#REF!-#REF!)/#REF!),0,(#REF!-#REF!)/#REF!)","v":0}]
[null,"CZ24Q","Complex Major Head, Neck and Ear Disorders, without CC",0,1430,0,0,13,2059,14,221,"Yes",0.30000000000000004,617.70000000000005,"","",{"$f":"IF(ISERROR((#REF!-#REF!)/#REF!),0,(#REF!-#REF!)/#REF!)","v":0},{"$f":"IF(ISERROR((#REF!-#REF!)/#REF!),0,(#REF!-#REF!)/#REF!)","v":0},{"$f":"IF(ISERROR((#REF!-#REF!)/#REF!),0,(#REF!-#REF!)/#REF!)","v":0},{"$f":"IF(ISERROR((#REF!-#REF!)/#REF!),0,(#REF!-#REF!)/#REF!)","v":0},{"$f":"IF(ISERROR((#REF!-#REF!)/#REF!),0,(#REF!-#REF!)/#REF!)","v":0},{"$f":"IF(ISERROR((#REF!-#REF!)/#REF!),0,(#REF!-#REF!)/#REF!)","v":0},{"$f":"IF(ISERROR((#REF!-#REF!)/#REF!),0,(#REF!-#REF!)/#REF!)","v":0},{"$f":"IF(ISERROR((#REF!-#REF!)/#REF!),0,(#REF!-#REF!)/#REF!)","v":0},{"$f":"IF(ISERROR((#REF!-#REF!)/#REF!),0,(#REF!-#REF!)/#REF!)","v":0},{"$f":"IF(ISERROR((#REF!-#REF!)/#REF!),0,(#REF!-#REF!)/#REF!)","v":0},{"$f":"IF(ISERROR((#REF!-#REF!)/#REF!),0,(#REF!-#REF!)/#REF!)","v":0},{"$f":"IF(ISERROR((#REF!-#REF!)/#REF!),0,(#REF!-#REF!)/#REF!)","v":0},{"$f":"IF(ISERROR((#REF!-#REF!)/#REF!),0,(#REF!-#REF!)/#REF!)","v":0}]
[null,"CZ27Z","Fixture for Bone Anchored Hearing Aids",0,2336,0,0,5,2336,5,221,"No","-",0,"","",{"$f":"IF(ISERROR((#REF!-#REF!)/#REF!),0,(#REF!-#REF!)/#REF!)","v":0},{"$f":"IF(ISERROR((#REF!-#REF!)/#REF!),0,(#REF!-#REF!)/#REF!)","v":0},{"$f":"IF(ISERROR((#REF!-#REF!)/#REF!),0,(#REF!-#REF!)/#REF!)","v":0},{"$f":"IF(ISERROR((#REF!-#REF!)/#REF!),0,(#REF!-#REF!)/#REF!)","v":0},{"$f":"IF(ISERROR((#REF!-#REF!)/#REF!),0,(#REF!-#REF!)/#REF!)","v":0},{"$f":"IF(ISERROR((#REF!-#REF!)/#REF!),0,(#REF!-#REF!)/#REF!)","v":0},{"$f":"IF(ISERROR((#REF!-#REF!)/#REF!),0,(#REF!-#REF!)/#REF!)","v":0},{"$f":"IF(ISERROR((#REF!-#REF!)/#REF!),0,(#REF!-#REF!)/#REF!)","v":0},{"$f":"IF(ISERROR((#REF!-#REF!)/#REF!),0,(#REF!-#REF!)/#REF!)","v":0},{"$f":"IF(ISERROR((#REF!-#REF!)/#REF!),0,(#REF!-#REF!)/#REF!)","v":0},{"$f":"IF(ISERROR((#REF!-#REF!)/#REF!),0,(#REF!-#REF!)/#REF!)","v":0},{"$f":"IF(ISERROR((#REF!-#REF!)/#REF!),0,(#REF!-#REF!)/#REF!)","v":0},{"$f":"IF(ISERROR((#REF!-#REF!)/#REF!),0,(#REF!-#REF!)/#REF!)","v":0}]
[null,"CZ30U","Minor Extraction of Tooth, 18 years and under",0,757.37177288065743,0,0,5,802,5,330,"No","-",0,"","",{"$f":"IF(ISERROR((#REF!-#REF!)/#REF!),0,(#REF!-#REF!)/#REF!)","v":0},{"$f":"IF(ISERROR((#REF!-#REF!)/#REF!),0,(#REF!-#REF!)/#REF!)","v":0},{"$f":"IF(ISERROR((#REF!-#REF!)/#REF!),0,(#REF!-#REF!)/#REF!)","v":0},{"$f":"IF(ISERROR((#REF!-#REF!)/#REF!),0,(#REF!-#REF!)/#REF!)","v":0},{"$f":"IF(ISERROR((#REF!-#REF!)/#REF!),0,(#REF!-#REF!)/#REF!)","v":0},{"$f":"IF(ISERROR((#REF!-#REF!)/#REF!),0,(#REF!-#REF!)/#REF!)","v":0},{"$f":"IF(ISERROR((#REF!-#REF!)/#REF!),0,(#REF!-#REF!)/#REF!)","v":0},{"$f":"IF(ISERROR((#REF!-#REF!)/#REF!),0,(#REF!-#REF!)/#REF!)","v":0},{"$f":"IF(ISERROR((#REF!-#REF!)/#REF!),0,(#REF!-#REF!)/#REF!)","v":0},{"$f":"IF(ISERROR((#REF!-#REF!)/#REF!),0,(#REF!-#REF!)/#REF!)","v":0},{"$f":"IF(ISERROR((#REF!-#REF!)/#REF!),0,(#REF!-#REF!)/#REF!)","v":0},{"$f":"IF(ISERROR((#REF!-#REF!)/#REF!),0,(#REF!-#REF!)/#REF!)","v":0},{"$f":"IF(ISERROR((#REF!-#REF!)/#REF!),0,(#REF!-#REF!)/#REF!)","v":0}]
[null,"CZ30Y","Minor Extraction of Tooth, 19 years and over",190,346.98195176160351,0,0,5,772,5,221,"No","-",0,"","",{"$f":"IF(ISERROR((#REF!-#REF!)/#REF!),0,(#REF!-#REF!)/#REF!)","v":0},{"$f":"IF(ISERROR((#REF!-#REF!)/#REF!),0,(#REF!-#REF!)/#REF!)","v":0},{"$f":"IF(ISERROR((#REF!-#REF!)/#REF!),0,(#REF!-#REF!)/#REF!)","v":0},{"$f":"IF(ISERROR((#REF!-#REF!)/#REF!),0,(#REF!-#REF!)/#REF!)","v":0},{"$f":"IF(ISERROR((#REF!-#REF!)/#REF!),0,(#REF!-#REF!)/#REF!)","v":0},{"$f":"IF(ISERROR((#REF!-#REF!)/#REF!),0,(#REF!-#REF!)/#REF!)","v":0},{"$f":"IF(ISERROR((#REF!-#REF!)/#REF!),0,(#REF!-#REF!)/#REF!)","v":0},{"$f":"IF(ISERROR((#REF!-#REF!)/#REF!),0,(#REF!-#REF!)/#REF!)","v":0},{"$f":"IF(ISERROR((#REF!-#REF!)/#REF!),0,(#REF!-#REF!)/#REF!)","v":0},{"$f":"IF(ISERROR((#REF!-#REF!)/#REF!),0,(#REF!-#REF!)/#REF!)","v":0},{"$f":"IF(ISERROR((#REF!-#REF!)/#REF!),0,(#REF!-#REF!)/#REF!)","v":0},{"$f":"IF(ISERROR((#REF!-#REF!)/#REF!),0,(#REF!-#REF!)/#REF!)","v":0},{"$f":"IF(ISERROR((#REF!-#REF!)/#REF!),0,(#REF!-#REF!)/#REF!)","v":0}]
[null,"CZ31U","Minor Dental Biopsy, 18 years and under",0,884.18751159555825,0,0,5,712,5,330,"No","-",0,"","",{"$f":"IF(ISERROR((#REF!-#REF!)/#REF!),0,(#REF!-#REF!)/#REF!)","v":0},{"$f":"IF(ISERROR((#REF!-#REF!)/#REF!),0,(#REF!-#REF!)/#REF!)","v":0},{"$f":"IF(ISERROR((#REF!-#REF!)/#REF!),0,(#REF!-#REF!)/#REF!)","v":0},{"$f":"IF(ISERROR((#REF!-#REF!)/#REF!),0,(#REF!-#REF!)/#REF!)","v":0},{"$f":"IF(ISERROR((#REF!-#REF!)/#REF!),0,(#REF!-#REF!)/#REF!)","v":0},{"$f":"IF(ISERROR((#REF!-#REF!)/#REF!),0,(#REF!-#REF!)/#REF!)","v":0},{"$f":"IF(ISERROR((#REF!-#REF!)/#REF!),0,(#REF!-#REF!)/#REF!)","v":0},{"$f":"IF(ISERROR((#REF!-#REF!)/#REF!),0,(#REF!-#REF!)/#REF!)","v":0},{"$f":"IF(ISERROR((#REF!-#REF!)/#REF!),0,(#REF!-#REF!)/#REF!)","v":0},{"$f":"IF(ISERROR((#REF!-#REF!)/#REF!),0,(#REF!-#REF!)/#REF!)","v":0},{"$f":"IF(ISERROR((#REF!-#REF!)/#REF!),0,(#REF!-#REF!)/#REF!)","v":0},{"$f":"IF(ISERROR((#REF!-#REF!)/#REF!),0,(#REF!-#REF!)/#REF!)","v":0},{"$f":"IF(ISERROR((#REF!-#REF!)/#REF!),0,(#REF!-#REF!)/#REF!)","v":0}]
[null,"CZ31Y","Minor Dental Biopsy, 19 years and over",223,347.56806748059824,0,0,5,589,5,221,"No","-",0,"","",{"$f":"IF(ISERROR((#REF!-#REF!)/#REF!),0,(#REF!-#REF!)/#REF!)","v":0},{"$f":"IF(ISERROR((#REF!-#REF!)/#REF!),0,(#REF!-#REF!)/#REF!)","v":0},{"$f":"IF(ISERROR((#REF!-#REF!)/#REF!),0,(#REF!-#REF!)/#REF!)","v":0},{"$f":"IF(ISERROR((#REF!-#REF!)/#REF!),0,(#REF!-#REF!)/#REF!)","v":0},{"$f":"IF(ISERROR((#REF!-#REF!)/#REF!),0,(#REF!-#REF!)/#REF!)","v":0},{"$f":"IF(ISERROR((#REF!-#REF!)/#REF!),0,(#REF!-#REF!)/#REF!)","v":0},{"$f":"IF(ISERROR((#REF!-#REF!)/#REF!),0,(#REF!-#REF!)/#REF!)","v":0},{"$f":"IF(ISERROR((#REF!-#REF!)/#REF!),0,(#REF!-#REF!)/#REF!)","v":0},{"$f":"IF(ISERROR((#REF!-#REF!)/#REF!),0,(#REF!-#REF!)/#REF!)","v":0},{"$f":"IF(ISERROR((#REF!-#REF!)/#REF!),0,(#REF!-#REF!)/#REF!)","v":0},{"$f":"IF(ISERROR((#REF!-#REF!)/#REF!),0,(#REF!-#REF!)/#REF!)","v":0},{"$f":"IF(ISERROR((#REF!-#REF!)/#REF!),0,(#REF!-#REF!)/#REF!)","v":0},{"$f":"IF(ISERROR((#REF!-#REF!)/#REF!),0,(#REF!-#REF!)/#REF!)","v":0}]
[null,"CZ32U","Dental Fitting or Insertion Procedures, 18 years and under",156,888,0,0,5,888,5,330,"No","-",0,"","",{"$f":"IF(ISERROR((#REF!-#REF!)/#REF!),0,(#REF!-#REF!)/#REF!)","v":0},{"$f":"IF(ISERROR((#REF!-#REF!)/#REF!),0,(#REF!-#REF!)/#REF!)","v":0},{"$f":"IF(ISERROR((#REF!-#REF!)/#REF!),0,(#REF!-#REF!)/#REF!)","v":0},{"$f":"IF(ISERROR((#REF!-#REF!)/#REF!),0,(#REF!-#REF!)/#REF!)","v":0},{"$f":"IF(ISERROR((#REF!-#REF!)/#REF!),0,(#REF!-#REF!)/#REF!)","v":0},{"$f":"IF(ISERROR((#REF!-#REF!)/#REF!),0,(#REF!-#REF!)/#REF!)","v":0},{"$f":"IF(ISERROR((#REF!-#REF!)/#REF!),0,(#REF!-#REF!)/#REF!)","v":0},{"$f":"IF(ISERROR((#REF!-#REF!)/#REF!),0,(#REF!-#REF!)/#REF!)","v":0},{"$f":"IF(ISERROR((#REF!-#REF!)/#REF!),0,(#REF!-#REF!)/#REF!)","v":0},{"$f":"IF(ISERROR((#REF!-#REF!)/#REF!),0,(#REF!-#REF!)/#REF!)","v":0},{"$f":"IF(ISERROR((#REF!-#REF!)/#REF!),0,(#REF!-#REF!)/#REF!)","v":0},{"$f":"IF(ISERROR((#REF!-#REF!)/#REF!),0,(#REF!-#REF!)/#REF!)","v":0},{"$f":"IF(ISERROR((#REF!-#REF!)/#REF!),0,(#REF!-#REF!)/#REF!)","v":0}]
[null,"CZ32Y","Dental Fitting or Insertion Procedures, 19 years and over",156,766,0,0,5,766,5,221,"No","-",0,"","",{"$f":"IF(ISERROR((#REF!-#REF!)/#REF!),0,(#REF!-#REF!)/#REF!)","v":0},{"$f":"IF(ISERROR((#REF!-#REF!)/#REF!),0,(#REF!-#REF!)/#REF!)","v":0},{"$f":"IF(ISERROR((#REF!-#REF!)/#REF!),0,(#REF!-#REF!)/#REF!)","v":0},{"$f":"IF(ISERROR((#REF!-#REF!)/#REF!),0,(#REF!-#REF!)/#REF!)","v":0},{"$f":"IF(ISERROR((#REF!-#REF!)/#REF!),0,(#REF!-#REF!)/#REF!)","v":0},{"$f":"IF(ISERROR((#REF!-#REF!)/#REF!),0,(#REF!-#REF!)/#REF!)","v":0},{"$f":"IF(ISERROR((#REF!-#REF!)/#REF!),0,(#REF!-#REF!)/#REF!)","v":0},{"$f":"IF(ISERROR((#REF!-#REF!)/#REF!),0,(#REF!-#REF!)/#REF!)","v":0},{"$f":"IF(ISERROR((#REF!-#REF!)/#REF!),0,(#REF!-#REF!)/#REF!)","v":0},{"$f":"IF(ISERROR((#REF!-#REF!)/#REF!),0,(#REF!-#REF!)/#REF!)","v":0},{"$f":"IF(ISERROR((#REF!-#REF!)/#REF!),0,(#REF!-#REF!)/#REF!)","v":0},{"$f":"IF(ISERROR((#REF!-#REF!)/#REF!),0,(#REF!-#REF!)/#REF!)","v":0},{"$f":"IF(ISERROR((#REF!-#REF!)/#REF!),0,(#REF!-#REF!)/#REF!)","v":0}]
[null,"CZ33U","Minor Dental Restoration Procedures, 18 years and under",0,931.743413613646,0,0,5,681,5,330,"No","-",0,"","",{"$f":"IF(ISERROR((#REF!-#REF!)/#REF!),0,(#REF!-#REF!)/#REF!)","v":0},{"$f":"IF(ISERROR((#REF!-#REF!)/#REF!),0,(#REF!-#REF!)/#REF!)","v":0},{"$f":"IF(ISERROR((#REF!-#REF!)/#REF!),0,(#REF!-#REF!)/#REF!)","v":0},{"$f":"IF(ISERROR((#REF!-#REF!)/#REF!),0,(#REF!-#REF!)/#REF!)","v":0},{"$f":"IF(ISERROR((#REF!-#REF!)/#REF!),0,(#REF!-#REF!)/#REF!)","v":0},{"$f":"IF(ISERROR((#REF!-#REF!)/#REF!),0,(#REF!-#REF!)/#REF!)","v":0},{"$f":"IF(ISERROR((#REF!-#REF!)/#REF!),0,(#REF!-#REF!)/#REF!)","v":0},{"$f":"IF(ISERROR((#REF!-#REF!)/#REF!),0,(#REF!-#REF!)/#REF!)","v":0},{"$f":"IF(ISERROR((#REF!-#REF!)/#REF!),0,(#REF!-#REF!)/#REF!)","v":0},{"$f":"IF(ISERROR((#REF!-#REF!)/#REF!),0,(#REF!-#REF!)/#REF!)","v":0},{"$f":"IF(ISERROR((#REF!-#REF!)/#REF!),0,(#REF!-#REF!)/#REF!)","v":0},{"$f":"IF(ISERROR((#REF!-#REF!)/#REF!),0,(#REF!-#REF!)/#REF!)","v":0},{"$f":"IF(ISERROR((#REF!-#REF!)/#REF!),0,(#REF!-#REF!)/#REF!)","v":0}]
[null,"CZ33Y","Minor Dental Restoration Procedures, 19 years and over",223,230,0,0,5,987,5,221,"No","-",0,"","",{"$f":"IF(ISERROR((#REF!-#REF!)/#REF!),0,(#REF!-#REF!)/#REF!)","v":0},{"$f":"IF(ISERROR((#REF!-#REF!)/#REF!),0,(#REF!-#REF!)/#REF!)","v":0},{"$f":"IF(ISERROR((#REF!-#REF!)/#REF!),0,(#REF!-#REF!)/#REF!)","v":0},{"$f":"IF(ISERROR((#REF!-#REF!)/#REF!),0,(#REF!-#REF!)/#REF!)","v":0},{"$f":"IF(ISERROR((#REF!-#REF!)/#REF!),0,(#REF!-#REF!)/#REF!)","v":0},{"$f":"IF(ISERROR((#REF!-#REF!)/#REF!),0,(#REF!-#REF!)/#REF!)","v":0},{"$f":"IF(ISERROR((#REF!-#REF!)/#REF!),0,(#REF!-#REF!)/#REF!)","v":0},{"$f":"IF(ISERROR((#REF!-#REF!)/#REF!),0,(#REF!-#REF!)/#REF!)","v":0},{"$f":"IF(ISERROR((#REF!-#REF!)/#REF!),0,(#REF!-#REF!)/#REF!)","v":0},{"$f":"IF(ISERROR((#REF!-#REF!)/#REF!),0,(#REF!-#REF!)/#REF!)","v":0},{"$f":"IF(ISERROR((#REF!-#REF!)/#REF!),0,(#REF!-#REF!)/#REF!)","v":0},{"$f":"IF(ISERROR((#REF!-#REF!)/#REF!),0,(#REF!-#REF!)/#REF!)","v":0},{"$f":"IF(ISERROR((#REF!-#REF!)/#REF!),0,(#REF!-#REF!)/#REF!)","v":0}]
[null,"CZ34U","Minor Dental Procedures, 18 years and under",156,678.94329680590909,0,0,5,925,5,330,"No","-",0,"","",{"$f":"IF(ISERROR((#REF!-#REF!)/#REF!),0,(#REF!-#REF!)/#REF!)","v":0},{"$f":"IF(ISERROR((#REF!-#REF!)/#REF!),0,(#REF!-#REF!)/#REF!)","v":0},{"$f":"IF(ISERROR((#REF!-#REF!)/#REF!),0,(#REF!-#REF!)/#REF!)","v":0},{"$f":"IF(ISERROR((#REF!-#REF!)/#REF!),0,(#REF!-#REF!)/#REF!)","v":0},{"$f":"IF(ISERROR((#REF!-#REF!)/#REF!),0,(#REF!-#REF!)/#REF!)","v":0},{"$f":"IF(ISERROR((#REF!-#REF!)/#REF!),0,(#REF!-#REF!)/#REF!)","v":0},{"$f":"IF(ISERROR((#REF!-#REF!)/#REF!),0,(#REF!-#REF!)/#REF!)","v":0},{"$f":"IF(ISERROR((#REF!-#REF!)/#REF!),0,(#REF!-#REF!)/#REF!)","v":0},{"$f":"IF(ISERROR((#REF!-#REF!)/#REF!),0,(#REF!-#REF!)/#REF!)","v":0},{"$f":"IF(ISERROR((#REF!-#REF!)/#REF!),0,(#REF!-#REF!)/#REF!)","v":0},{"$f":"IF(ISERROR((#REF!-#REF!)/#REF!),0,(#REF!-#REF!)/#REF!)","v":0},{"$f":"IF(ISERROR((#REF!-#REF!)/#REF!),0,(#REF!-#REF!)/#REF!)","v":0},{"$f":"IF(ISERROR((#REF!-#REF!)/#REF!),0,(#REF!-#REF!)/#REF!)","v":0}]
[null,"CZ34Y","Minor Dental Procedures, 19 years and over",116,211.35956452483464,0,0,5,1033,5,221,"No","-",0,"","",{"$f":"IF(ISERROR((#REF!-#REF!)/#REF!),0,(#REF!-#REF!)/#REF!)","v":0},{"$f":"IF(ISERROR((#REF!-#REF!)/#REF!),0,(#REF!-#REF!)/#REF!)","v":0},{"$f":"IF(ISERROR((#REF!-#REF!)/#REF!),0,(#REF!-#REF!)/#REF!)","v":0},{"$f":"IF(ISERROR((#REF!-#REF!)/#REF!),0,(#REF!-#REF!)/#REF!)","v":0},{"$f":"IF(ISERROR((#REF!-#REF!)/#REF!),0,(#REF!-#REF!)/#REF!)","v":0},{"$f":"IF(ISERROR((#REF!-#REF!)/#REF!),0,(#REF!-#REF!)/#REF!)","v":0},{"$f":"IF(ISERROR((#REF!-#REF!)/#REF!),0,(#REF!-#REF!)/#REF!)","v":0},{"$f":"IF(ISERROR((#REF!-#REF!)/#REF!),0,(#REF!-#REF!)/#REF!)","v":0},{"$f":"IF(ISERROR((#REF!-#REF!)/#REF!),0,(#REF!-#REF!)/#REF!)","v":0},{"$f":"IF(ISERROR((#REF!-#REF!)/#REF!),0,(#REF!-#REF!)/#REF!)","v":0},{"$f":"IF(ISERROR((#REF!-#REF!)/#REF!),0,(#REF!-#REF!)/#REF!)","v":0},{"$f":"IF(ISERROR((#REF!-#REF!)/#REF!),0,(#REF!-#REF!)/#REF!)","v":0},{"$f":"IF(ISERROR((#REF!-#REF!)/#REF!),0,(#REF!-#REF!)/#REF!)","v":0}]
[null,"CZ35U","Adjustment of Dental Device, 18 years and under",103,107,0,0,5,217,5,330,"No","-",0,"","",{"$f":"IF(ISERROR((#REF!-#REF!)/#REF!),0,(#REF!-#REF!)/#REF!)","v":0},{"$f":"IF(ISERROR((#REF!-#REF!)/#REF!),0,(#REF!-#REF!)/#REF!)","v":0},{"$f":"IF(ISERROR((#REF!-#REF!)/#REF!),0,(#REF!-#REF!)/#REF!)","v":0},{"$f":"IF(ISERROR((#REF!-#REF!)/#REF!),0,(#REF!-#REF!)/#REF!)","v":0},{"$f":"IF(ISERROR((#REF!-#REF!)/#REF!),0,(#REF!-#REF!)/#REF!)","v":0},{"$f":"IF(ISERROR((#REF!-#REF!)/#REF!),0,(#REF!-#REF!)/#REF!)","v":0},{"$f":"IF(ISERROR((#REF!-#REF!)/#REF!),0,(#REF!-#REF!)/#REF!)","v":0},{"$f":"IF(ISERROR((#REF!-#REF!)/#REF!),0,(#REF!-#REF!)/#REF!)","v":0},{"$f":"IF(ISERROR((#REF!-#REF!)/#REF!),0,(#REF!-#REF!)/#REF!)","v":0},{"$f":"IF(ISERROR((#REF!-#REF!)/#REF!),0,(#REF!-#REF!)/#REF!)","v":0},{"$f":"IF(ISERROR((#REF!-#REF!)/#REF!),0,(#REF!-#REF!)/#REF!)","v":0},{"$f":"IF(ISERROR((#REF!-#REF!)/#REF!),0,(#REF!-#REF!)/#REF!)","v":0},{"$f":"IF(ISERROR((#REF!-#REF!)/#REF!),0,(#REF!-#REF!)/#REF!)","v":0}]
[null,"CZ35Y","Adjustment of Dental Device, 19 years and over",105,108,0,0,5,1458,5,221,"No","-",0,"","",{"$f":"IF(ISERROR((#REF!-#REF!)/#REF!),0,(#REF!-#REF!)/#REF!)","v":0},{"$f":"IF(ISERROR((#REF!-#REF!)/#REF!),0,(#REF!-#REF!)/#REF!)","v":0},{"$f":"IF(ISERROR((#REF!-#REF!)/#REF!),0,(#REF!-#REF!)/#REF!)","v":0},{"$f":"IF(ISERROR((#REF!-#REF!)/#REF!),0,(#REF!-#REF!)/#REF!)","v":0},{"$f":"IF(ISERROR((#REF!-#REF!)/#REF!),0,(#REF!-#REF!)/#REF!)","v":0},{"$f":"IF(ISERROR((#REF!-#REF!)/#REF!),0,(#REF!-#REF!)/#REF!)","v":0},{"$f":"IF(ISERROR((#REF!-#REF!)/#REF!),0,(#REF!-#REF!)/#REF!)","v":0},{"$f":"IF(ISERROR((#REF!-#REF!)/#REF!),0,(#REF!-#REF!)/#REF!)","v":0},{"$f":"IF(ISERROR((#REF!-#REF!)/#REF!),0,(#REF!-#REF!)/#REF!)","v":0},{"$f":"IF(ISERROR((#REF!-#REF!)/#REF!),0,(#REF!-#REF!)/#REF!)","v":0},{"$f":"IF(ISERROR((#REF!-#REF!)/#REF!),0,(#REF!-#REF!)/#REF!)","v":0},{"$f":"IF(ISERROR((#REF!-#REF!)/#REF!),0,(#REF!-#REF!)/#REF!)","v":0},{"$f":"IF(ISERROR((#REF!-#REF!)/#REF!),0,(#REF!-#REF!)/#REF!)","v":0}]
[null,"CZ36U","Dental Excision or Biopsy Procedures, 18 years and under",0,641,0,0,5,831,5,330,"No","-",0,"","",{"$f":"IF(ISERROR((#REF!-#REF!)/#REF!),0,(#REF!-#REF!)/#REF!)","v":0},{"$f":"IF(ISERROR((#REF!-#REF!)/#REF!),0,(#REF!-#REF!)/#REF!)","v":0},{"$f":"IF(ISERROR((#REF!-#REF!)/#REF!),0,(#REF!-#REF!)/#REF!)","v":0},{"$f":"IF(ISERROR((#REF!-#REF!)/#REF!),0,(#REF!-#REF!)/#REF!)","v":0},{"$f":"IF(ISERROR((#REF!-#REF!)/#REF!),0,(#REF!-#REF!)/#REF!)","v":0},{"$f":"IF(ISERROR((#REF!-#REF!)/#REF!),0,(#REF!-#REF!)/#REF!)","v":0},{"$f":"IF(ISERROR((#REF!-#REF!)/#REF!),0,(#REF!-#REF!)/#REF!)","v":0},{"$f":"IF(ISERROR((#REF!-#REF!)/#REF!),0,(#REF!-#REF!)/#REF!)","v":0},{"$f":"IF(ISERROR((#REF!-#REF!)/#REF!),0,(#REF!-#REF!)/#REF!)","v":0},{"$f":"IF(ISERROR((#REF!-#REF!)/#REF!),0,(#REF!-#REF!)/#REF!)","v":0},{"$f":"IF(ISERROR((#REF!-#REF!)/#REF!),0,(#REF!-#REF!)/#REF!)","v":0},{"$f":"IF(ISERROR((#REF!-#REF!)/#REF!),0,(#REF!-#REF!)/#REF!)","v":0},{"$f":"IF(ISERROR((#REF!-#REF!)/#REF!),0,(#REF!-#REF!)/#REF!)","v":0}]
[null,"CZ36Y","Dental Excision or Biopsy Procedures, 19 years and over",155,891.35080724369834,0,0,5,683,5,221,"No","-",0,"","",{"$f":"IF(ISERROR((#REF!-#REF!)/#REF!),0,(#REF!-#REF!)/#REF!)","v":0},{"$f":"IF(ISERROR((#REF!-#REF!)/#REF!),0,(#REF!-#REF!)/#REF!)","v":0},{"$f":"IF(ISERROR((#REF!-#REF!)/#REF!),0,(#REF!-#REF!)/#REF!)","v":0},{"$f":"IF(ISERROR((#REF!-#REF!)/#REF!),0,(#REF!-#REF!)/#REF!)","v":0},{"$f":"IF(ISERROR((#REF!-#REF!)/#REF!),0,(#REF!-#REF!)/#REF!)","v":0},{"$f":"IF(ISERROR((#REF!-#REF!)/#REF!),0,(#REF!-#REF!)/#REF!)","v":0},{"$f":"IF(ISERROR((#REF!-#REF!)/#REF!),0,(#REF!-#REF!)/#REF!)","v":0},{"$f":"IF(ISERROR((#REF!-#REF!)/#REF!),0,(#REF!-#REF!)/#REF!)","v":0},{"$f":"IF(ISERROR((#REF!-#REF!)/#REF!),0,(#REF!-#REF!)/#REF!)","v":0},{"$f":"IF(ISERROR((#REF!-#REF!)/#REF!),0,(#REF!-#REF!)/#REF!)","v":0},{"$f":"IF(ISERROR((#REF!-#REF!)/#REF!),0,(#REF!-#REF!)/#REF!)","v":0},{"$f":"IF(ISERROR((#REF!-#REF!)/#REF!),0,(#REF!-#REF!)/#REF!)","v":0},{"$f":"IF(ISERROR((#REF!-#REF!)/#REF!),0,(#REF!-#REF!)/#REF!)","v":0}]
[null,"CZ37U","Surgical Removal of Tooth, 18 years and under",0,741,0,0,5,952,5,330,"No","-",0,"","",{"$f":"IF(ISERROR((#REF!-#REF!)/#REF!),0,(#REF!-#REF!)/#REF!)","v":0},{"$f":"IF(ISERROR((#REF!-#REF!)/#REF!),0,(#REF!-#REF!)/#REF!)","v":0},{"$f":"IF(ISERROR((#REF!-#REF!)/#REF!),0,(#REF!-#REF!)/#REF!)","v":0},{"$f":"IF(ISERROR((#REF!-#REF!)/#REF!),0,(#REF!-#REF!)/#REF!)","v":0},{"$f":"IF(ISERROR((#REF!-#REF!)/#REF!),0,(#REF!-#REF!)/#REF!)","v":0},{"$f":"IF(ISERROR((#REF!-#REF!)/#REF!),0,(#REF!-#REF!)/#REF!)","v":0},{"$f":"IF(ISERROR((#REF!-#REF!)/#REF!),0,(#REF!-#REF!)/#REF!)","v":0},{"$f":"IF(ISERROR((#REF!-#REF!)/#REF!),0,(#REF!-#REF!)/#REF!)","v":0},{"$f":"IF(ISERROR((#REF!-#REF!)/#REF!),0,(#REF!-#REF!)/#REF!)","v":0},{"$f":"IF(ISERROR((#REF!-#REF!)/#REF!),0,(#REF!-#REF!)/#REF!)","v":0},{"$f":"IF(ISERROR((#REF!-#REF!)/#REF!),0,(#REF!-#REF!)/#REF!)","v":0},{"$f":"IF(ISERROR((#REF!-#REF!)/#REF!),0,(#REF!-#REF!)/#REF!)","v":0},{"$f":"IF(ISERROR((#REF!-#REF!)/#REF!),0,(#REF!-#REF!)/#REF!)","v":0}]
[null,"CZ37Y","Surgical Removal of Tooth, 19 years and over",110,645.18351111257391,0,0,5,1030,5,221,"No","-",0,"","",{"$f":"IF(ISERROR((#REF!-#REF!)/#REF!),0,(#REF!-#REF!)/#REF!)","v":0},{"$f":"IF(ISERROR((#REF!-#REF!)/#REF!),0,(#REF!-#REF!)/#REF!)","v":0},{"$f":"IF(ISERROR((#REF!-#REF!)/#REF!),0,(#REF!-#REF!)/#REF!)","v":0},{"$f":"IF(ISERROR((#REF!-#REF!)/#REF!),0,(#REF!-#REF!)/#REF!)","v":0},{"$f":"IF(ISERROR((#REF!-#REF!)/#REF!),0,(#REF!-#REF!)/#REF!)","v":0},{"$f":"IF(ISERROR((#REF!-#REF!)/#REF!),0,(#REF!-#REF!)/#REF!)","v":0},{"$f":"IF(ISERROR((#REF!-#REF!)/#REF!),0,(#REF!-#REF!)/#REF!)","v":0},{"$f":"IF(ISERROR((#REF!-#REF!)/#REF!),0,(#REF!-#REF!)/#REF!)","v":0},{"$f":"IF(ISERROR((#REF!-#REF!)/#REF!),0,(#REF!-#REF!)/#REF!)","v":0},{"$f":"IF(ISERROR((#REF!-#REF!)/#REF!),0,(#REF!-#REF!)/#REF!)","v":0},{"$f":"IF(ISERROR((#REF!-#REF!)/#REF!),0,(#REF!-#REF!)/#REF!)","v":0},{"$f":"IF(ISERROR((#REF!-#REF!)/#REF!),0,(#REF!-#REF!)/#REF!)","v":0},{"$f":"IF(ISERROR((#REF!-#REF!)/#REF!),0,(#REF!-#REF!)/#REF!)","v":0}]
[null,"CZ38U","Creation of Dental Impression, 18 years and under",109,113,0,0,5,1221,5,330,"No","-",0,"","",{"$f":"IF(ISERROR((#REF!-#REF!)/#REF!),0,(#REF!-#REF!)/#REF!)","v":0},{"$f":"IF(ISERROR((#REF!-#REF!)/#REF!),0,(#REF!-#REF!)/#REF!)","v":0},{"$f":"IF(ISERROR((#REF!-#REF!)/#REF!),0,(#REF!-#REF!)/#REF!)","v":0},{"$f":"IF(ISERROR((#REF!-#REF!)/#REF!),0,(#REF!-#REF!)/#REF!)","v":0},{"$f":"IF(ISERROR((#REF!-#REF!)/#REF!),0,(#REF!-#REF!)/#REF!)","v":0},{"$f":"IF(ISERROR((#REF!-#REF!)/#REF!),0,(#REF!-#REF!)/#REF!)","v":0},{"$f":"IF(ISERROR((#REF!-#REF!)/#REF!),0,(#REF!-#REF!)/#REF!)","v":0},{"$f":"IF(ISERROR((#REF!-#REF!)/#REF!),0,(#REF!-#REF!)/#REF!)","v":0},{"$f":"IF(ISERROR((#REF!-#REF!)/#REF!),0,(#REF!-#REF!)/#REF!)","v":0},{"$f":"IF(ISERROR((#REF!-#REF!)/#REF!),0,(#REF!-#REF!)/#REF!)","v":0},{"$f":"IF(ISERROR((#REF!-#REF!)/#REF!),0,(#REF!-#REF!)/#REF!)","v":0},{"$f":"IF(ISERROR((#REF!-#REF!)/#REF!),0,(#REF!-#REF!)/#REF!)","v":0},{"$f":"IF(ISERROR((#REF!-#REF!)/#REF!),0,(#REF!-#REF!)/#REF!)","v":0}]
[null,"CZ38Y","Creation of Dental Impression, 19 years and over",124,129,0,0,5,2114,5,221,"No","-",0,"","",{"$f":"IF(ISERROR((#REF!-#REF!)/#REF!),0,(#REF!-#REF!)/#REF!)","v":0},{"$f":"IF(ISERROR((#REF!-#REF!)/#REF!),0,(#REF!-#REF!)/#REF!)","v":0},{"$f":"IF(ISERROR((#REF!-#REF!)/#REF!),0,(#REF!-#REF!)/#REF!)","v":0},{"$f":"IF(ISERROR((#REF!-#REF!)/#REF!),0,(#REF!-#REF!)/#REF!)","v":0},{"$f":"IF(ISERROR((#REF!-#REF!)/#REF!),0,(#REF!-#REF!)/#REF!)","v":0},{"$f":"IF(ISERROR((#REF!-#REF!)/#REF!),0,(#REF!-#REF!)/#REF!)","v":0},{"$f":"IF(ISERROR((#REF!-#REF!)/#REF!),0,(#REF!-#REF!)/#REF!)","v":0},{"$f":"IF(ISERROR((#REF!-#REF!)/#REF!),0,(#REF!-#REF!)/#REF!)","v":0},{"$f":"IF(ISERROR((#REF!-#REF!)/#REF!),0,(#REF!-#REF!)/#REF!)","v":0},{"$f":"IF(ISERROR((#REF!-#REF!)/#REF!),0,(#REF!-#REF!)/#REF!)","v":0},{"$f":"IF(ISERROR((#REF!-#REF!)/#REF!),0,(#REF!-#REF!)/#REF!)","v":0},{"$f":"IF(ISERROR((#REF!-#REF!)/#REF!),0,(#REF!-#REF!)/#REF!)","v":0},{"$f":"IF(ISERROR((#REF!-#REF!)/#REF!),0,(#REF!-#REF!)/#REF!)","v":0}]
[null,"CZ39U","Intermediate Dental Procedures, 18 years and under",156,843,0,0,5,941,5,330,"No","-",0,"","",{"$f":"IF(ISERROR((#REF!-#REF!)/#REF!),0,(#REF!-#REF!)/#REF!)","v":0},{"$f":"IF(ISERROR((#REF!-#REF!)/#REF!),0,(#REF!-#REF!)/#REF!)","v":0},{"$f":"IF(ISERROR((#REF!-#REF!)/#REF!),0,(#REF!-#REF!)/#REF!)","v":0},{"$f":"IF(ISERROR((#REF!-#REF!)/#REF!),0,(#REF!-#REF!)/#REF!)","v":0},{"$f":"IF(ISERROR((#REF!-#REF!)/#REF!),0,(#REF!-#REF!)/#REF!)","v":0},{"$f":"IF(ISERROR((#REF!-#REF!)/#REF!),0,(#REF!-#REF!)/#REF!)","v":0},{"$f":"IF(ISERROR((#REF!-#REF!)/#REF!),0,(#REF!-#REF!)/#REF!)","v":0},{"$f":"IF(ISERROR((#REF!-#REF!)/#REF!),0,(#REF!-#REF!)/#REF!)","v":0},{"$f":"IF(ISERROR((#REF!-#REF!)/#REF!),0,(#REF!-#REF!)/#REF!)","v":0},{"$f":"IF(ISERROR((#REF!-#REF!)/#REF!),0,(#REF!-#REF!)/#REF!)","v":0},{"$f":"IF(ISERROR((#REF!-#REF!)/#REF!),0,(#REF!-#REF!)/#REF!)","v":0},{"$f":"IF(ISERROR((#REF!-#REF!)/#REF!),0,(#REF!-#REF!)/#REF!)","v":0},{"$f":"IF(ISERROR((#REF!-#REF!)/#REF!),0,(#REF!-#REF!)/#REF!)","v":0}]
[null,"CZ39Y","Intermediate Dental Procedures, 19 years and over",156,762,0,0,5,885,5,221,"No","-",0,"","",{"$f":"IF(ISERROR((#REF!-#REF!)/#REF!),0,(#REF!-#REF!)/#REF!)","v":0},{"$f":"IF(ISERROR((#REF!-#REF!)/#REF!),0,(#REF!-#REF!)/#REF!)","v":0},{"$f":"IF(ISERROR((#REF!-#REF!)/#REF!),0,(#REF!-#REF!)/#REF!)","v":0},{"$f":"IF(ISERROR((#REF!-#REF!)/#REF!),0,(#REF!-#REF!)/#REF!)","v":0},{"$f":"IF(ISERROR((#REF!-#REF!)/#REF!),0,(#REF!-#REF!)/#REF!)","v":0},{"$f":"IF(ISERROR((#REF!-#REF!)/#REF!),0,(#REF!-#REF!)/#REF!)","v":0},{"$f":"IF(ISERROR((#REF!-#REF!)/#REF!),0,(#REF!-#REF!)/#REF!)","v":0},{"$f":"IF(ISERROR((#REF!-#REF!)/#REF!),0,(#REF!-#REF!)/#REF!)","v":0},{"$f":"IF(ISERROR((#REF!-#REF!)/#REF!),0,(#REF!-#REF!)/#REF!)","v":0},{"$f":"IF(ISERROR((#REF!-#REF!)/#REF!),0,(#REF!-#REF!)/#REF!)","v":0},{"$f":"IF(ISERROR((#REF!-#REF!)/#REF!),0,(#REF!-#REF!)/#REF!)","v":0},{"$f":"IF(ISERROR((#REF!-#REF!)/#REF!),0,(#REF!-#REF!)/#REF!)","v":0},{"$f":"IF(ISERROR((#REF!-#REF!)/#REF!),0,(#REF!-#REF!)/#REF!)","v":0}]
[null,"CZ40U","Major Surgical Removal of Tooth, 18 years and under",0,830,0,0,5,1147,5,330,"No","-",0,"","",{"$f":"IF(ISERROR((#REF!-#REF!)/#REF!),0,(#REF!-#REF!)/#REF!)","v":0},{"$f":"IF(ISERROR((#REF!-#REF!)/#REF!),0,(#REF!-#REF!)/#REF!)","v":0},{"$f":"IF(ISERROR((#REF!-#REF!)/#REF!),0,(#REF!-#REF!)/#REF!)","v":0},{"$f":"IF(ISERROR((#REF!-#REF!)/#REF!),0,(#REF!-#REF!)/#REF!)","v":0},{"$f":"IF(ISERROR((#REF!-#REF!)/#REF!),0,(#REF!-#REF!)/#REF!)","v":0},{"$f":"IF(ISERROR((#REF!-#REF!)/#REF!),0,(#REF!-#REF!)/#REF!)","v":0},{"$f":"IF(ISERROR((#REF!-#REF!)/#REF!),0,(#REF!-#REF!)/#REF!)","v":0},{"$f":"IF(ISERROR((#REF!-#REF!)/#REF!),0,(#REF!-#REF!)/#REF!)","v":0},{"$f":"IF(ISERROR((#REF!-#REF!)/#REF!),0,(#REF!-#REF!)/#REF!)","v":0},{"$f":"IF(ISERROR((#REF!-#REF!)/#REF!),0,(#REF!-#REF!)/#REF!)","v":0},{"$f":"IF(ISERROR((#REF!-#REF!)/#REF!),0,(#REF!-#REF!)/#REF!)","v":0},{"$f":"IF(ISERROR((#REF!-#REF!)/#REF!),0,(#REF!-#REF!)/#REF!)","v":0},{"$f":"IF(ISERROR((#REF!-#REF!)/#REF!),0,(#REF!-#REF!)/#REF!)","v":0}]
[null,"CZ40Y","Major Surgical Removal of Tooth, 19 years and over",115,762.86654245685793,0,0,5,1212,5,221,"No","-",0,"","",{"$f":"IF(ISERROR((#REF!-#REF!)/#REF!),0,(#REF!-#REF!)/#REF!)","v":0},{"$f":"IF(ISERROR((#REF!-#REF!)/#REF!),0,(#REF!-#REF!)/#REF!)","v":0},{"$f":"IF(ISERROR((#REF!-#REF!)/#REF!),0,(#REF!-#REF!)/#REF!)","v":0},{"$f":"IF(ISERROR((#REF!-#REF!)/#REF!),0,(#REF!-#REF!)/#REF!)","v":0},{"$f":"IF(ISERROR((#REF!-#REF!)/#REF!),0,(#REF!-#REF!)/#REF!)","v":0},{"$f":"IF(ISERROR((#REF!-#REF!)/#REF!),0,(#REF!-#REF!)/#REF!)","v":0},{"$f":"IF(ISERROR((#REF!-#REF!)/#REF!),0,(#REF!-#REF!)/#REF!)","v":0},{"$f":"IF(ISERROR((#REF!-#REF!)/#REF!),0,(#REF!-#REF!)/#REF!)","v":0},{"$f":"IF(ISERROR((#REF!-#REF!)/#REF!),0,(#REF!-#REF!)/#REF!)","v":0},{"$f":"IF(ISERROR((#REF!-#REF!)/#REF!),0,(#REF!-#REF!)/#REF!)","v":0},{"$f":"IF(ISERROR((#REF!-#REF!)/#REF!),0,(#REF!-#REF!)/#REF!)","v":0},{"$f":"IF(ISERROR((#REF!-#REF!)/#REF!),0,(#REF!-#REF!)/#REF!)","v":0},{"$f":"IF(ISERROR((#REF!-#REF!)/#REF!),0,(#REF!-#REF!)/#REF!)","v":0}]
[null,"CZ41U","Major Dental Procedures, 18 years and under",0,835,0,0,5,940,5,330,"No","-",0,"","",{"$f":"IF(ISERROR((#REF!-#REF!)/#REF!),0,(#REF!-#REF!)/#REF!)","v":0},{"$f":"IF(ISERROR((#REF!-#REF!)/#REF!),0,(#REF!-#REF!)/#REF!)","v":0},{"$f":"IF(ISERROR((#REF!-#REF!)/#REF!),0,(#REF!-#REF!)/#REF!)","v":0},{"$f":"IF(ISERROR((#REF!-#REF!)/#REF!),0,(#REF!-#REF!)/#REF!)","v":0},{"$f":"IF(ISERROR((#REF!-#REF!)/#REF!),0,(#REF!-#REF!)/#REF!)","v":0},{"$f":"IF(ISERROR((#REF!-#REF!)/#REF!),0,(#REF!-#REF!)/#REF!)","v":0},{"$f":"IF(ISERROR((#REF!-#REF!)/#REF!),0,(#REF!-#REF!)/#REF!)","v":0},{"$f":"IF(ISERROR((#REF!-#REF!)/#REF!),0,(#REF!-#REF!)/#REF!)","v":0},{"$f":"IF(ISERROR((#REF!-#REF!)/#REF!),0,(#REF!-#REF!)/#REF!)","v":0},{"$f":"IF(ISERROR((#REF!-#REF!)/#REF!),0,(#REF!-#REF!)/#REF!)","v":0},{"$f":"IF(ISERROR((#REF!-#REF!)/#REF!),0,(#REF!-#REF!)/#REF!)","v":0},{"$f":"IF(ISERROR((#REF!-#REF!)/#REF!),0,(#REF!-#REF!)/#REF!)","v":0},{"$f":"IF(ISERROR((#REF!-#REF!)/#REF!),0,(#REF!-#REF!)/#REF!)","v":0}]
[null,"CZ41Y","Major Dental Procedures, 19 years and over",129,770.7587143653659,0,0,5,1096,5,221,"No","-",0,"","",{"$f":"IF(ISERROR((#REF!-#REF!)/#REF!),0,(#REF!-#REF!)/#REF!)","v":0},{"$f":"IF(ISERROR((#REF!-#REF!)/#REF!),0,(#REF!-#REF!)/#REF!)","v":0},{"$f":"IF(ISERROR((#REF!-#REF!)/#REF!),0,(#REF!-#REF!)/#REF!)","v":0},{"$f":"IF(ISERROR((#REF!-#REF!)/#REF!),0,(#REF!-#REF!)/#REF!)","v":0},{"$f":"IF(ISERROR((#REF!-#REF!)/#REF!),0,(#REF!-#REF!)/#REF!)","v":0},{"$f":"IF(ISERROR((#REF!-#REF!)/#REF!),0,(#REF!-#REF!)/#REF!)","v":0},{"$f":"IF(ISERROR((#REF!-#REF!)/#REF!),0,(#REF!-#REF!)/#REF!)","v":0},{"$f":"IF(ISERROR((#REF!-#REF!)/#REF!),0,(#REF!-#REF!)/#REF!)","v":0},{"$f":"IF(ISERROR((#REF!-#REF!)/#REF!),0,(#REF!-#REF!)/#REF!)","v":0},{"$f":"IF(ISERROR((#REF!-#REF!)/#REF!),0,(#REF!-#REF!)/#REF!)","v":0},{"$f":"IF(ISERROR((#REF!-#REF!)/#REF!),0,(#REF!-#REF!)/#REF!)","v":0},{"$f":"IF(ISERROR((#REF!-#REF!)/#REF!),0,(#REF!-#REF!)/#REF!)","v":0},{"$f":"IF(ISERROR((#REF!-#REF!)/#REF!),0,(#REF!-#REF!)/#REF!)","v":0}]
[null,"CZ42U","Extraction of Multiple Teeth, 18 years and under",0,802.48534337832962,0,0,5,942,5,330,"No","-",0,"","",{"$f":"IF(ISERROR((#REF!-#REF!)/#REF!),0,(#REF!-#REF!)/#REF!)","v":0},{"$f":"IF(ISERROR((#REF!-#REF!)/#REF!),0,(#REF!-#REF!)/#REF!)","v":0},{"$f":"IF(ISERROR((#REF!-#REF!)/#REF!),0,(#REF!-#REF!)/#REF!)","v":0},{"$f":"IF(ISERROR((#REF!-#REF!)/#REF!),0,(#REF!-#REF!)/#REF!)","v":0},{"$f":"IF(ISERROR((#REF!-#REF!)/#REF!),0,(#REF!-#REF!)/#REF!)","v":0},{"$f":"IF(ISERROR((#REF!-#REF!)/#REF!),0,(#REF!-#REF!)/#REF!)","v":0},{"$f":"IF(ISERROR((#REF!-#REF!)/#REF!),0,(#REF!-#REF!)/#REF!)","v":0},{"$f":"IF(ISERROR((#REF!-#REF!)/#REF!),0,(#REF!-#REF!)/#REF!)","v":0},{"$f":"IF(ISERROR((#REF!-#REF!)/#REF!),0,(#REF!-#REF!)/#REF!)","v":0},{"$f":"IF(ISERROR((#REF!-#REF!)/#REF!),0,(#REF!-#REF!)/#REF!)","v":0},{"$f":"IF(ISERROR((#REF!-#REF!)/#REF!),0,(#REF!-#REF!)/#REF!)","v":0},{"$f":"IF(ISERROR((#REF!-#REF!)/#REF!),0,(#REF!-#REF!)/#REF!)","v":0},{"$f":"IF(ISERROR((#REF!-#REF!)/#REF!),0,(#REF!-#REF!)/#REF!)","v":0}]
[null,"CZ42Y","Extraction of Multiple Teeth, 19 years and over",112,790.18864657762833,0,0,5,1121,5,221,"No","-",0,"","",{"$f":"IF(ISERROR((#REF!-#REF!)/#REF!),0,(#REF!-#REF!)/#REF!)","v":0},{"$f":"IF(ISERROR((#REF!-#REF!)/#REF!),0,(#REF!-#REF!)/#REF!)","v":0},{"$f":"IF(ISERROR((#REF!-#REF!)/#REF!),0,(#REF!-#REF!)/#REF!)","v":0},{"$f":"IF(ISERROR((#REF!-#REF!)/#REF!),0,(#REF!-#REF!)/#REF!)","v":0},{"$f":"IF(ISERROR((#REF!-#REF!)/#REF!),0,(#REF!-#REF!)/#REF!)","v":0},{"$f":"IF(ISERROR((#REF!-#REF!)/#REF!),0,(#REF!-#REF!)/#REF!)","v":0},{"$f":"IF(ISERROR((#REF!-#REF!)/#REF!),0,(#REF!-#REF!)/#REF!)","v":0},{"$f":"IF(ISERROR((#REF!-#REF!)/#REF!),0,(#REF!-#REF!)/#REF!)","v":0},{"$f":"IF(ISERROR((#REF!-#REF!)/#REF!),0,(#REF!-#REF!)/#REF!)","v":0},{"$f":"IF(ISERROR((#REF!-#REF!)/#REF!),0,(#REF!-#REF!)/#REF!)","v":0},{"$f":"IF(ISERROR((#REF!-#REF!)/#REF!),0,(#REF!-#REF!)/#REF!)","v":0},{"$f":"IF(ISERROR((#REF!-#REF!)/#REF!),0,(#REF!-#REF!)/#REF!)","v":0},{"$f":"IF(ISERROR((#REF!-#REF!)/#REF!),0,(#REF!-#REF!)/#REF!)","v":0}]
[null,"DZ02A","Complex Thoracic Procedures with Major CC",0,7971,0,0,28,8885,48,187,"No","-",0,"","",{"$f":"IF(ISERROR((#REF!-#REF!)/#REF!),0,(#REF!-#REF!)/#REF!)","v":0},{"$f":"IF(ISERROR((#REF!-#REF!)/#REF!),0,(#REF!-#REF!)/#REF!)","v":0},{"$f":"IF(ISERROR((#REF!-#REF!)/#REF!),0,(#REF!-#REF!)/#REF!)","v":0},{"$f":"IF(ISERROR((#REF!-#REF!)/#REF!),0,(#REF!-#REF!)/#REF!)","v":0},{"$f":"IF(ISERROR((#REF!-#REF!)/#REF!),0,(#REF!-#REF!)/#REF!)","v":0},{"$f":"IF(ISERROR((#REF!-#REF!)/#REF!),0,(#REF!-#REF!)/#REF!)","v":0},{"$f":"IF(ISERROR((#REF!-#REF!)/#REF!),0,(#REF!-#REF!)/#REF!)","v":0},{"$f":"IF(ISERROR((#REF!-#REF!)/#REF!),0,(#REF!-#REF!)/#REF!)","v":0},{"$f":"IF(ISERROR((#REF!-#REF!)/#REF!),0,(#REF!-#REF!)/#REF!)","v":0},{"$f":"IF(ISERROR((#REF!-#REF!)/#REF!),0,(#REF!-#REF!)/#REF!)","v":0},{"$f":"IF(ISERROR((#REF!-#REF!)/#REF!),0,(#REF!-#REF!)/#REF!)","v":0},{"$f":"IF(ISERROR((#REF!-#REF!)/#REF!),0,(#REF!-#REF!)/#REF!)","v":0},{"$f":"IF(ISERROR((#REF!-#REF!)/#REF!),0,(#REF!-#REF!)/#REF!)","v":0}]
[null,"DZ02B","Complex Thoracic Procedures with Intermediate CC",0,6080,0,0,15,6284,24,187,"No","-",0,"","",{"$f":"IF(ISERROR((#REF!-#REF!)/#REF!),0,(#REF!-#REF!)/#REF!)","v":0},{"$f":"IF(ISERROR((#REF!-#REF!)/#REF!),0,(#REF!-#REF!)/#REF!)","v":0},{"$f":"IF(ISERROR((#REF!-#REF!)/#REF!),0,(#REF!-#REF!)/#REF!)","v":0},{"$f":"IF(ISERROR((#REF!-#REF!)/#REF!),0,(#REF!-#REF!)/#REF!)","v":0},{"$f":"IF(ISERROR((#REF!-#REF!)/#REF!),0,(#REF!-#REF!)/#REF!)","v":0},{"$f":"IF(ISERROR((#REF!-#REF!)/#REF!),0,(#REF!-#REF!)/#REF!)","v":0},{"$f":"IF(ISERROR((#REF!-#REF!)/#REF!),0,(#REF!-#REF!)/#REF!)","v":0},{"$f":"IF(ISERROR((#REF!-#REF!)/#REF!),0,(#REF!-#REF!)/#REF!)","v":0},{"$f":"IF(ISERROR((#REF!-#REF!)/#REF!),0,(#REF!-#REF!)/#REF!)","v":0},{"$f":"IF(ISERROR((#REF!-#REF!)/#REF!),0,(#REF!-#REF!)/#REF!)","v":0},{"$f":"IF(ISERROR((#REF!-#REF!)/#REF!),0,(#REF!-#REF!)/#REF!)","v":0},{"$f":"IF(ISERROR((#REF!-#REF!)/#REF!),0,(#REF!-#REF!)/#REF!)","v":0},{"$f":"IF(ISERROR((#REF!-#REF!)/#REF!),0,(#REF!-#REF!)/#REF!)","v":0}]
[null,"DZ02C","Complex Thoracic Procedures without CC",0,5118,0,0,13,5153,18,187,"No","-",0,"","",{"$f":"IF(ISERROR((#REF!-#REF!)/#REF!),0,(#REF!-#REF!)/#REF!)","v":0},{"$f":"IF(ISERROR((#REF!-#REF!)/#REF!),0,(#REF!-#REF!)/#REF!)","v":0},{"$f":"IF(ISERROR((#REF!-#REF!)/#REF!),0,(#REF!-#REF!)/#REF!)","v":0},{"$f":"IF(ISERROR((#REF!-#REF!)/#REF!),0,(#REF!-#REF!)/#REF!)","v":0},{"$f":"IF(ISERROR((#REF!-#REF!)/#REF!),0,(#REF!-#REF!)/#REF!)","v":0},{"$f":"IF(ISERROR((#REF!-#REF!)/#REF!),0,(#REF!-#REF!)/#REF!)","v":0},{"$f":"IF(ISERROR((#REF!-#REF!)/#REF!),0,(#REF!-#REF!)/#REF!)","v":0},{"$f":"IF(ISERROR((#REF!-#REF!)/#REF!),0,(#REF!-#REF!)/#REF!)","v":0},{"$f":"IF(ISERROR((#REF!-#REF!)/#REF!),0,(#REF!-#REF!)/#REF!)","v":0},{"$f":"IF(ISERROR((#REF!-#REF!)/#REF!),0,(#REF!-#REF!)/#REF!)","v":0},{"$f":"IF(ISERROR((#REF!-#REF!)/#REF!),0,(#REF!-#REF!)/#REF!)","v":0},{"$f":"IF(ISERROR((#REF!-#REF!)/#REF!),0,(#REF!-#REF!)/#REF!)","v":0},{"$f":"IF(ISERROR((#REF!-#REF!)/#REF!),0,(#REF!-#REF!)/#REF!)","v":0}]
[null,"DZ03A","Major Thoracic Procedures with CC",0,2509,0,0,10,10065.825967579716,45,187,"No","-",0,"","",{"$f":"IF(ISERROR((#REF!-#REF!)/#REF!),0,(#REF!-#REF!)/#REF!)","v":0},{"$f":"IF(ISERROR((#REF!-#REF!)/#REF!),0,(#REF!-#REF!)/#REF!)","v":0},{"$f":"IF(ISERROR((#REF!-#REF!)/#REF!),0,(#REF!-#REF!)/#REF!)","v":0},{"$f":"IF(ISERROR((#REF!-#REF!)/#REF!),0,(#REF!-#REF!)/#REF!)","v":0},{"$f":"IF(ISERROR((#REF!-#REF!)/#REF!),0,(#REF!-#REF!)/#REF!)","v":0},{"$f":"IF(ISERROR((#REF!-#REF!)/#REF!),0,(#REF!-#REF!)/#REF!)","v":0},{"$f":"IF(ISERROR((#REF!-#REF!)/#REF!),0,(#REF!-#REF!)/#REF!)","v":0},{"$f":"IF(ISERROR((#REF!-#REF!)/#REF!),0,(#REF!-#REF!)/#REF!)","v":0},{"$f":"IF(ISERROR((#REF!-#REF!)/#REF!),0,(#REF!-#REF!)/#REF!)","v":0},{"$f":"IF(ISERROR((#REF!-#REF!)/#REF!),0,(#REF!-#REF!)/#REF!)","v":0},{"$f":"IF(ISERROR((#REF!-#REF!)/#REF!),0,(#REF!-#REF!)/#REF!)","v":0},{"$f":"IF(ISERROR((#REF!-#REF!)/#REF!),0,(#REF!-#REF!)/#REF!)","v":0},{"$f":"IF(ISERROR((#REF!-#REF!)/#REF!),0,(#REF!-#REF!)/#REF!)","v":0}]
[null,"DZ03B","Major Thoracic Procedures without CC",0,1800,0,0,5,2694,14,187,"No","-",0,"","",{"$f":"IF(ISERROR((#REF!-#REF!)/#REF!),0,(#REF!-#REF!)/#REF!)","v":0},{"$f":"IF(ISERROR((#REF!-#REF!)/#REF!),0,(#REF!-#REF!)/#REF!)","v":0},{"$f":"IF(ISERROR((#REF!-#REF!)/#REF!),0,(#REF!-#REF!)/#REF!)","v":0},{"$f":"IF(ISERROR((#REF!-#REF!)/#REF!),0,(#REF!-#REF!)/#REF!)","v":0},{"$f":"IF(ISERROR((#REF!-#REF!)/#REF!),0,(#REF!-#REF!)/#REF!)","v":0},{"$f":"IF(ISERROR((#REF!-#REF!)/#REF!),0,(#REF!-#REF!)/#REF!)","v":0},{"$f":"IF(ISERROR((#REF!-#REF!)/#REF!),0,(#REF!-#REF!)/#REF!)","v":0},{"$f":"IF(ISERROR((#REF!-#REF!)/#REF!),0,(#REF!-#REF!)/#REF!)","v":0},{"$f":"IF(ISERROR((#REF!-#REF!)/#REF!),0,(#REF!-#REF!)/#REF!)","v":0},{"$f":"IF(ISERROR((#REF!-#REF!)/#REF!),0,(#REF!-#REF!)/#REF!)","v":0},{"$f":"IF(ISERROR((#REF!-#REF!)/#REF!),0,(#REF!-#REF!)/#REF!)","v":0},{"$f":"IF(ISERROR((#REF!-#REF!)/#REF!),0,(#REF!-#REF!)/#REF!)","v":0},{"$f":"IF(ISERROR((#REF!-#REF!)/#REF!),0,(#REF!-#REF!)/#REF!)","v":0}]
[null,"DZ04A","Intermediate Thoracic Procedures with CC",0,2325,0,0,10,4917,36,187,"No","-",0,"","",{"$f":"IF(ISERROR((#REF!-#REF!)/#REF!),0,(#REF!-#REF!)/#REF!)","v":0},{"$f":"IF(ISERROR((#REF!-#REF!)/#REF!),0,(#REF!-#REF!)/#REF!)","v":0},{"$f":"IF(ISERROR((#REF!-#REF!)/#REF!),0,(#REF!-#REF!)/#REF!)","v":0},{"$f":"IF(ISERROR((#REF!-#REF!)/#REF!),0,(#REF!-#REF!)/#REF!)","v":0},{"$f":"IF(ISERROR((#REF!-#REF!)/#REF!),0,(#REF!-#REF!)/#REF!)","v":0},{"$f":"IF(ISERROR((#REF!-#REF!)/#REF!),0,(#REF!-#REF!)/#REF!)","v":0},{"$f":"IF(ISERROR((#REF!-#REF!)/#REF!),0,(#REF!-#REF!)/#REF!)","v":0},{"$f":"IF(ISERROR((#REF!-#REF!)/#REF!),0,(#REF!-#REF!)/#REF!)","v":0},{"$f":"IF(ISERROR((#REF!-#REF!)/#REF!),0,(#REF!-#REF!)/#REF!)","v":0},{"$f":"IF(ISERROR((#REF!-#REF!)/#REF!),0,(#REF!-#REF!)/#REF!)","v":0},{"$f":"IF(ISERROR((#REF!-#REF!)/#REF!),0,(#REF!-#REF!)/#REF!)","v":0},{"$f":"IF(ISERROR((#REF!-#REF!)/#REF!),0,(#REF!-#REF!)/#REF!)","v":0},{"$f":"IF(ISERROR((#REF!-#REF!)/#REF!),0,(#REF!-#REF!)/#REF!)","v":0}]
[null,"DZ04B","Intermediate Thoracic Procedures without CC",0,1432,0,0,5,3096,20,187,"No","-",0,"","",{"$f":"IF(ISERROR((#REF!-#REF!)/#REF!),0,(#REF!-#REF!)/#REF!)","v":0},{"$f":"IF(ISERROR((#REF!-#REF!)/#REF!),0,(#REF!-#REF!)/#REF!)","v":0},{"$f":"IF(ISERROR((#REF!-#REF!)/#REF!),0,(#REF!-#REF!)/#REF!)","v":0},{"$f":"IF(ISERROR((#REF!-#REF!)/#REF!),0,(#REF!-#REF!)/#REF!)","v":0},{"$f":"IF(ISERROR((#REF!-#REF!)/#REF!),0,(#REF!-#REF!)/#REF!)","v":0},{"$f":"IF(ISERROR((#REF!-#REF!)/#REF!),0,(#REF!-#REF!)/#REF!)","v":0},{"$f":"IF(ISERROR((#REF!-#REF!)/#REF!),0,(#REF!-#REF!)/#REF!)","v":0},{"$f":"IF(ISERROR((#REF!-#REF!)/#REF!),0,(#REF!-#REF!)/#REF!)","v":0},{"$f":"IF(ISERROR((#REF!-#REF!)/#REF!),0,(#REF!-#REF!)/#REF!)","v":0},{"$f":"IF(ISERROR((#REF!-#REF!)/#REF!),0,(#REF!-#REF!)/#REF!)","v":0},{"$f":"IF(ISERROR((#REF!-#REF!)/#REF!),0,(#REF!-#REF!)/#REF!)","v":0},{"$f":"IF(ISERROR((#REF!-#REF!)/#REF!),0,(#REF!-#REF!)/#REF!)","v":0},{"$f":"IF(ISERROR((#REF!-#REF!)/#REF!),0,(#REF!-#REF!)/#REF!)","v":0}]
[null,"DZ06Z","Minor Thoracic Procedures",0,945.96325483764724,0,0,5,526,5,187,"No","-",0,1,"sub-HRG",{"$f":"IF(ISERROR((#REF!-#REF!)/#REF!),0,(#REF!-#REF!)/#REF!)","v":0},{"$f":"IF(ISERROR((#REF!-#REF!)/#REF!),0,(#REF!-#REF!)/#REF!)","v":0},{"$f":"IF(ISERROR((#REF!-#REF!)/#REF!),0,(#REF!-#REF!)/#REF!)","v":0},{"$f":"IF(ISERROR((#REF!-#REF!)/#REF!),0,(#REF!-#REF!)/#REF!)","v":0},{"$f":"IF(ISERROR((#REF!-#REF!)/#REF!),0,(#REF!-#REF!)/#REF!)","v":0},{"$f":"IF(ISERROR((#REF!-#REF!)/#REF!),0,(#REF!-#REF!)/#REF!)","v":0},{"$f":"IF(ISERROR((#REF!-#REF!)/#REF!),0,(#REF!-#REF!)/#REF!)","v":0},{"$f":"IF(ISERROR((#REF!-#REF!)/#REF!),0,(#REF!-#REF!)/#REF!)","v":0},{"$f":"IF(ISERROR((#REF!-#REF!)/#REF!),0,(#REF!-#REF!)/#REF!)","v":0},{"$f":"IF(ISERROR((#REF!-#REF!)/#REF!),0,(#REF!-#REF!)/#REF!)","v":0},{"$f":"IF(ISERROR((#REF!-#REF!)/#REF!),0,(#REF!-#REF!)/#REF!)","v":0},{"$f":"IF(ISERROR((#REF!-#REF!)/#REF!),0,(#REF!-#REF!)/#REF!)","v":0},{"$f":"IF(ISERROR((#REF!-#REF!)/#REF!),0,(#REF!-#REF!)/#REF!)","v":0}]
[null,"DZ07A","Fibre Optic Bronchoscopy, 19 years and over",0,496,0,0,5,326,5,187,"No","-",0,"","",{"$f":"IF(ISERROR((#REF!-#REF!)/#REF!),0,(#REF!-#REF!)/#REF!)","v":0},{"$f":"IF(ISERROR((#REF!-#REF!)/#REF!),0,(#REF!-#REF!)/#REF!)","v":0},{"$f":"IF(ISERROR((#REF!-#REF!)/#REF!),0,(#REF!-#REF!)/#REF!)","v":0},{"$f":"IF(ISERROR((#REF!-#REF!)/#REF!),0,(#REF!-#REF!)/#REF!)","v":0},{"$f":"IF(ISERROR((#REF!-#REF!)/#REF!),0,(#REF!-#REF!)/#REF!)","v":0},{"$f":"IF(ISERROR((#REF!-#REF!)/#REF!),0,(#REF!-#REF!)/#REF!)","v":0},{"$f":"IF(ISERROR((#REF!-#REF!)/#REF!),0,(#REF!-#REF!)/#REF!)","v":0},{"$f":"IF(ISERROR((#REF!-#REF!)/#REF!),0,(#REF!-#REF!)/#REF!)","v":0},{"$f":"IF(ISERROR((#REF!-#REF!)/#REF!),0,(#REF!-#REF!)/#REF!)","v":0},{"$f":"IF(ISERROR((#REF!-#REF!)/#REF!),0,(#REF!-#REF!)/#REF!)","v":0},{"$f":"IF(ISERROR((#REF!-#REF!)/#REF!),0,(#REF!-#REF!)/#REF!)","v":0},{"$f":"IF(ISERROR((#REF!-#REF!)/#REF!),0,(#REF!-#REF!)/#REF!)","v":0},{"$f":"IF(ISERROR((#REF!-#REF!)/#REF!),0,(#REF!-#REF!)/#REF!)","v":0}]
[null,"DZ07B","Fibre Optic Bronchoscopy, 18 years and under",0,1098,0,0,5,1812,5,327,"No","-",0,"","",{"$f":"IF(ISERROR((#REF!-#REF!)/#REF!),0,(#REF!-#REF!)/#REF!)","v":0},{"$f":"IF(ISERROR((#REF!-#REF!)/#REF!),0,(#REF!-#REF!)/#REF!)","v":0},{"$f":"IF(ISERROR((#REF!-#REF!)/#REF!),0,(#REF!-#REF!)/#REF!)","v":0},{"$f":"IF(ISERROR((#REF!-#REF!)/#REF!),0,(#REF!-#REF!)/#REF!)","v":0},{"$f":"IF(ISERROR((#REF!-#REF!)/#REF!),0,(#REF!-#REF!)/#REF!)","v":0},{"$f":"IF(ISERROR((#REF!-#REF!)/#REF!),0,(#REF!-#REF!)/#REF!)","v":0},{"$f":"IF(ISERROR((#REF!-#REF!)/#REF!),0,(#REF!-#REF!)/#REF!)","v":0},{"$f":"IF(ISERROR((#REF!-#REF!)/#REF!),0,(#REF!-#REF!)/#REF!)","v":0},{"$f":"IF(ISERROR((#REF!-#REF!)/#REF!),0,(#REF!-#REF!)/#REF!)","v":0},{"$f":"IF(ISERROR((#REF!-#REF!)/#REF!),0,(#REF!-#REF!)/#REF!)","v":0},{"$f":"IF(ISERROR((#REF!-#REF!)/#REF!),0,(#REF!-#REF!)/#REF!)","v":0},{"$f":"IF(ISERROR((#REF!-#REF!)/#REF!),0,(#REF!-#REF!)/#REF!)","v":0},{"$f":"IF(ISERROR((#REF!-#REF!)/#REF!),0,(#REF!-#REF!)/#REF!)","v":0}]
[null,"DZ08Z","Rigid Bronchoscopy",0,1146,0,0,5,1177,5,187,"No","-",0,"","",{"$f":"IF(ISERROR((#REF!-#REF!)/#REF!),0,(#REF!-#REF!)/#REF!)","v":0},{"$f":"IF(ISERROR((#REF!-#REF!)/#REF!),0,(#REF!-#REF!)/#REF!)","v":0},{"$f":"IF(ISERROR((#REF!-#REF!)/#REF!),0,(#REF!-#REF!)/#REF!)","v":0},{"$f":"IF(ISERROR((#REF!-#REF!)/#REF!),0,(#REF!-#REF!)/#REF!)","v":0},{"$f":"IF(ISERROR((#REF!-#REF!)/#REF!),0,(#REF!-#REF!)/#REF!)","v":0},{"$f":"IF(ISERROR((#REF!-#REF!)/#REF!),0,(#REF!-#REF!)/#REF!)","v":0},{"$f":"IF(ISERROR((#REF!-#REF!)/#REF!),0,(#REF!-#REF!)/#REF!)","v":0},{"$f":"IF(ISERROR((#REF!-#REF!)/#REF!),0,(#REF!-#REF!)/#REF!)","v":0},{"$f":"IF(ISERROR((#REF!-#REF!)/#REF!),0,(#REF!-#REF!)/#REF!)","v":0},{"$f":"IF(ISERROR((#REF!-#REF!)/#REF!),0,(#REF!-#REF!)/#REF!)","v":0},{"$f":"IF(ISERROR((#REF!-#REF!)/#REF!),0,(#REF!-#REF!)/#REF!)","v":0},{"$f":"IF(ISERROR((#REF!-#REF!)/#REF!),0,(#REF!-#REF!)/#REF!)","v":0},{"$f":"IF(ISERROR((#REF!-#REF!)/#REF!),0,(#REF!-#REF!)/#REF!)","v":0}]
[null,"DZ09A","Pulmonary Embolus with Major CC",0,2742.5874963016863,0,0,15,3638.0882290916425,26,187,"Yes",0.30000000000000004,1091.4264687274929,"","",{"$f":"IF(ISERROR((#REF!-#REF!)/#REF!),0,(#REF!-#REF!)/#REF!)","v":0},{"$f":"IF(ISERROR((#REF!-#REF!)/#REF!),0,(#REF!-#REF!)/#REF!)","v":0},{"$f":"IF(ISERROR((#REF!-#REF!)/#REF!),0,(#REF!-#REF!)/#REF!)","v":0},{"$f":"IF(ISERROR((#REF!-#REF!)/#REF!),0,(#REF!-#REF!)/#REF!)","v":0},{"$f":"IF(ISERROR((#REF!-#REF!)/#REF!),0,(#REF!-#REF!)/#REF!)","v":0},{"$f":"IF(ISERROR((#REF!-#REF!)/#REF!),0,(#REF!-#REF!)/#REF!)","v":0},{"$f":"IF(ISERROR((#REF!-#REF!)/#REF!),0,(#REF!-#REF!)/#REF!)","v":0},{"$f":"IF(ISERROR((#REF!-#REF!)/#REF!),0,(#REF!-#REF!)/#REF!)","v":0},{"$f":"IF(ISERROR((#REF!-#REF!)/#REF!),0,(#REF!-#REF!)/#REF!)","v":0},{"$f":"IF(ISERROR((#REF!-#REF!)/#REF!),0,(#REF!-#REF!)/#REF!)","v":0},{"$f":"IF(ISERROR((#REF!-#REF!)/#REF!),0,(#REF!-#REF!)/#REF!)","v":0},{"$f":"IF(ISERROR((#REF!-#REF!)/#REF!),0,(#REF!-#REF!)/#REF!)","v":0},{"$f":"IF(ISERROR((#REF!-#REF!)/#REF!),0,(#REF!-#REF!)/#REF!)","v":0}]
[null,"DZ09B","Pulmonary Embolus with Intermediate CC",0,962,0,0,8,1881.5841720873429,17,187,"No","-",0,1,"HRG",{"$f":"IF(ISERROR((#REF!-#REF!)/#REF!),0,(#REF!-#REF!)/#REF!)","v":0},{"$f":"IF(ISERROR((#REF!-#REF!)/#REF!),0,(#REF!-#REF!)/#REF!)","v":0},{"$f":"IF(ISERROR((#REF!-#REF!)/#REF!),0,(#REF!-#REF!)/#REF!)","v":0},{"$f":"IF(ISERROR((#REF!-#REF!)/#REF!),0,(#REF!-#REF!)/#REF!)","v":0},{"$f":"IF(ISERROR((#REF!-#REF!)/#REF!),0,(#REF!-#REF!)/#REF!)","v":0},{"$f":"IF(ISERROR((#REF!-#REF!)/#REF!),0,(#REF!-#REF!)/#REF!)","v":0},{"$f":"IF(ISERROR((#REF!-#REF!)/#REF!),0,(#REF!-#REF!)/#REF!)","v":0},{"$f":"IF(ISERROR((#REF!-#REF!)/#REF!),0,(#REF!-#REF!)/#REF!)","v":0},{"$f":"IF(ISERROR((#REF!-#REF!)/#REF!),0,(#REF!-#REF!)/#REF!)","v":0},{"$f":"IF(ISERROR((#REF!-#REF!)/#REF!),0,(#REF!-#REF!)/#REF!)","v":0},{"$f":"IF(ISERROR((#REF!-#REF!)/#REF!),0,(#REF!-#REF!)/#REF!)","v":0},{"$f":"IF(ISERROR((#REF!-#REF!)/#REF!),0,(#REF!-#REF!)/#REF!)","v":0},{"$f":"IF(ISERROR((#REF!-#REF!)/#REF!),0,(#REF!-#REF!)/#REF!)","v":0}]
[null,"DZ09C","Pulmonary Embolus without CC",0,628.28902746679557,0,0,5,2148.4899033376591,11,187,"No","-",0,1,"HRG",{"$f":"IF(ISERROR((#REF!-#REF!)/#REF!),0,(#REF!-#REF!)/#REF!)","v":0},{"$f":"IF(ISERROR((#REF!-#REF!)/#REF!),0,(#REF!-#REF!)/#REF!)","v":0},{"$f":"IF(ISERROR((#REF!-#REF!)/#REF!),0,(#REF!-#REF!)/#REF!)","v":0},{"$f":"IF(ISERROR((#REF!-#REF!)/#REF!),0,(#REF!-#REF!)/#REF!)","v":0},{"$f":"IF(ISERROR((#REF!-#REF!)/#REF!),0,(#REF!-#REF!)/#REF!)","v":0},{"$f":"IF(ISERROR((#REF!-#REF!)/#REF!),0,(#REF!-#REF!)/#REF!)","v":0},{"$f":"IF(ISERROR((#REF!-#REF!)/#REF!),0,(#REF!-#REF!)/#REF!)","v":0},{"$f":"IF(ISERROR((#REF!-#REF!)/#REF!),0,(#REF!-#REF!)/#REF!)","v":0},{"$f":"IF(ISERROR((#REF!-#REF!)/#REF!),0,(#REF!-#REF!)/#REF!)","v":0},{"$f":"IF(ISERROR((#REF!-#REF!)/#REF!),0,(#REF!-#REF!)/#REF!)","v":0},{"$f":"IF(ISERROR((#REF!-#REF!)/#REF!),0,(#REF!-#REF!)/#REF!)","v":0},{"$f":"IF(ISERROR((#REF!-#REF!)/#REF!),0,(#REF!-#REF!)/#REF!)","v":0},{"$f":"IF(ISERROR((#REF!-#REF!)/#REF!),0,(#REF!-#REF!)/#REF!)","v":0}]
[null,"DZ10A","Lung Abscess-Empyema with Major CC",0,5012,0,0,45,5897.1937421324355,43,187,"Yes",0.30000000000000004,1769.1581226397309,"","",{"$f":"IF(ISERROR((#REF!-#REF!)/#REF!),0,(#REF!-#REF!)/#REF!)","v":0},{"$f":"IF(ISERROR((#REF!-#REF!)/#REF!),0,(#REF!-#REF!)/#REF!)","v":0},{"$f":"IF(ISERROR((#REF!-#REF!)/#REF!),0,(#REF!-#REF!)/#REF!)","v":0},{"$f":"IF(ISERROR((#REF!-#REF!)/#REF!),0,(#REF!-#REF!)/#REF!)","v":0},{"$f":"IF(ISERROR((#REF!-#REF!)/#REF!),0,(#REF!-#REF!)/#REF!)","v":0},{"$f":"IF(ISERROR((#REF!-#REF!)/#REF!),0,(#REF!-#REF!)/#REF!)","v":0},{"$f":"IF(ISERROR((#REF!-#REF!)/#REF!),0,(#REF!-#REF!)/#REF!)","v":0},{"$f":"IF(ISERROR((#REF!-#REF!)/#REF!),0,(#REF!-#REF!)/#REF!)","v":0},{"$f":"IF(ISERROR((#REF!-#REF!)/#REF!),0,(#REF!-#REF!)/#REF!)","v":0},{"$f":"IF(ISERROR((#REF!-#REF!)/#REF!),0,(#REF!-#REF!)/#REF!)","v":0},{"$f":"IF(ISERROR((#REF!-#REF!)/#REF!),0,(#REF!-#REF!)/#REF!)","v":0},{"$f":"IF(ISERROR((#REF!-#REF!)/#REF!),0,(#REF!-#REF!)/#REF!)","v":0},{"$f":"IF(ISERROR((#REF!-#REF!)/#REF!),0,(#REF!-#REF!)/#REF!)","v":0}]
[null,"DZ10B","Lung Abscess-Empyema with Intermediate CC",0,2790,0,0,21,3827.7547307989439,30,187,"Yes",0.30000000000000004,1148.3264192396834,"","",{"$f":"IF(ISERROR((#REF!-#REF!)/#REF!),0,(#REF!-#REF!)/#REF!)","v":0},{"$f":"IF(ISERROR((#REF!-#REF!)/#REF!),0,(#REF!-#REF!)/#REF!)","v":0},{"$f":"IF(ISERROR((#REF!-#REF!)/#REF!),0,(#REF!-#REF!)/#REF!)","v":0},{"$f":"IF(ISERROR((#REF!-#REF!)/#REF!),0,(#REF!-#REF!)/#REF!)","v":0},{"$f":"IF(ISERROR((#REF!-#REF!)/#REF!),0,(#REF!-#REF!)/#REF!)","v":0},{"$f":"IF(ISERROR((#REF!-#REF!)/#REF!),0,(#REF!-#REF!)/#REF!)","v":0},{"$f":"IF(ISERROR((#REF!-#REF!)/#REF!),0,(#REF!-#REF!)/#REF!)","v":0},{"$f":"IF(ISERROR((#REF!-#REF!)/#REF!),0,(#REF!-#REF!)/#REF!)","v":0},{"$f":"IF(ISERROR((#REF!-#REF!)/#REF!),0,(#REF!-#REF!)/#REF!)","v":0},{"$f":"IF(ISERROR((#REF!-#REF!)/#REF!),0,(#REF!-#REF!)/#REF!)","v":0},{"$f":"IF(ISERROR((#REF!-#REF!)/#REF!),0,(#REF!-#REF!)/#REF!)","v":0},{"$f":"IF(ISERROR((#REF!-#REF!)/#REF!),0,(#REF!-#REF!)/#REF!)","v":0},{"$f":"IF(ISERROR((#REF!-#REF!)/#REF!),0,(#REF!-#REF!)/#REF!)","v":0}]
[null,"DZ10C","Lung Abscess-Empyema without CC",0,1640,0,0,10,3014,19,187,"Yes",0.30000000000000004,904.20000000000016,"","",{"$f":"IF(ISERROR((#REF!-#REF!)/#REF!),0,(#REF!-#REF!)/#REF!)","v":0},{"$f":"IF(ISERROR((#REF!-#REF!)/#REF!),0,(#REF!-#REF!)/#REF!)","v":0},{"$f":"IF(ISERROR((#REF!-#REF!)/#REF!),0,(#REF!-#REF!)/#REF!)","v":0},{"$f":"IF(ISERROR((#REF!-#REF!)/#REF!),0,(#REF!-#REF!)/#REF!)","v":0},{"$f":"IF(ISERROR((#REF!-#REF!)/#REF!),0,(#REF!-#REF!)/#REF!)","v":0},{"$f":"IF(ISERROR((#REF!-#REF!)/#REF!),0,(#REF!-#REF!)/#REF!)","v":0},{"$f":"IF(ISERROR((#REF!-#REF!)/#REF!),0,(#REF!-#REF!)/#REF!)","v":0},{"$f":"IF(ISERROR((#REF!-#REF!)/#REF!),0,(#REF!-#REF!)/#REF!)","v":0},{"$f":"IF(ISERROR((#REF!-#REF!)/#REF!),0,(#REF!-#REF!)/#REF!)","v":0},{"$f":"IF(ISERROR((#REF!-#REF!)/#REF!),0,(#REF!-#REF!)/#REF!)","v":0},{"$f":"IF(ISERROR((#REF!-#REF!)/#REF!),0,(#REF!-#REF!)/#REF!)","v":0},{"$f":"IF(ISERROR((#REF!-#REF!)/#REF!),0,(#REF!-#REF!)/#REF!)","v":0},{"$f":"IF(ISERROR((#REF!-#REF!)/#REF!),0,(#REF!-#REF!)/#REF!)","v":0}]
[null,"DZ11A","Lobar, Atypical or Viral Pneumonia, with Major CC",0,5237.3423992115859,0,0,43,3972.4979430552953,29,187,"Yes",0.30000000000000004,1191.7493829165887,"","",{"$f":"IF(ISERROR((#REF!-#REF!)/#REF!),0,(#REF!-#REF!)/#REF!)","v":0},{"$f":"IF(ISERROR((#REF!-#REF!)/#REF!),0,(#REF!-#REF!)/#REF!)","v":0},{"$f":"IF(ISERROR((#REF!-#REF!)/#REF!),0,(#REF!-#REF!)/#REF!)","v":0},{"$f":"IF(ISERROR((#REF!-#REF!)/#REF!),0,(#REF!-#REF!)/#REF!)","v":0},{"$f":"IF(ISERROR((#REF!-#REF!)/#REF!),0,(#REF!-#REF!)/#REF!)","v":0},{"$f":"IF(ISERROR((#REF!-#REF!)/#REF!),0,(#REF!-#REF!)/#REF!)","v":0},{"$f":"IF(ISERROR((#REF!-#REF!)/#REF!),0,(#REF!-#REF!)/#REF!)","v":0},{"$f":"IF(ISERROR((#REF!-#REF!)/#REF!),0,(#REF!-#REF!)/#REF!)","v":0},{"$f":"IF(ISERROR((#REF!-#REF!)/#REF!),0,(#REF!-#REF!)/#REF!)","v":0},{"$f":"IF(ISERROR((#REF!-#REF!)/#REF!),0,(#REF!-#REF!)/#REF!)","v":0},{"$f":"IF(ISERROR((#REF!-#REF!)/#REF!),0,(#REF!-#REF!)/#REF!)","v":0},{"$f":"IF(ISERROR((#REF!-#REF!)/#REF!),0,(#REF!-#REF!)/#REF!)","v":0},{"$f":"IF(ISERROR((#REF!-#REF!)/#REF!),0,(#REF!-#REF!)/#REF!)","v":0}]
[null,"DZ11B","Lobar, Atypical or Viral Pneumonia, with Intermediate CC",0,2680,0,0,25,2726.6004721594877,20,187,"Yes",0.30000000000000004,817.98014164784638,"","",{"$f":"IF(ISERROR((#REF!-#REF!)/#REF!),0,(#REF!-#REF!)/#REF!)","v":0},{"$f":"IF(ISERROR((#REF!-#REF!)/#REF!),0,(#REF!-#REF!)/#REF!)","v":0},{"$f":"IF(ISERROR((#REF!-#REF!)/#REF!),0,(#REF!-#REF!)/#REF!)","v":0},{"$f":"IF(ISERROR((#REF!-#REF!)/#REF!),0,(#REF!-#REF!)/#REF!)","v":0},{"$f":"IF(ISERROR((#REF!-#REF!)/#REF!),0,(#REF!-#REF!)/#REF!)","v":0},{"$f":"IF(ISERROR((#REF!-#REF!)/#REF!),0,(#REF!-#REF!)/#REF!)","v":0},{"$f":"IF(ISERROR((#REF!-#REF!)/#REF!),0,(#REF!-#REF!)/#REF!)","v":0},{"$f":"IF(ISERROR((#REF!-#REF!)/#REF!),0,(#REF!-#REF!)/#REF!)","v":0},{"$f":"IF(ISERROR((#REF!-#REF!)/#REF!),0,(#REF!-#REF!)/#REF!)","v":0},{"$f":"IF(ISERROR((#REF!-#REF!)/#REF!),0,(#REF!-#REF!)/#REF!)","v":0},{"$f":"IF(ISERROR((#REF!-#REF!)/#REF!),0,(#REF!-#REF!)/#REF!)","v":0},{"$f":"IF(ISERROR((#REF!-#REF!)/#REF!),0,(#REF!-#REF!)/#REF!)","v":0},{"$f":"IF(ISERROR((#REF!-#REF!)/#REF!),0,(#REF!-#REF!)/#REF!)","v":0}]
[null,"DZ11C","Lobar, Atypical or Viral Pneumonia, without CC",0,1976,0,0,14,1179.0955306895337,9,187,"No","-",0,1,"HRG",{"$f":"IF(ISERROR((#REF!-#REF!)/#REF!),0,(#REF!-#REF!)/#REF!)","v":0},{"$f":"IF(ISERROR((#REF!-#REF!)/#REF!),0,(#REF!-#REF!)/#REF!)","v":0},{"$f":"IF(ISERROR((#REF!-#REF!)/#REF!),0,(#REF!-#REF!)/#REF!)","v":0},{"$f":"IF(ISERROR((#REF!-#REF!)/#REF!),0,(#REF!-#REF!)/#REF!)","v":0},{"$f":"IF(ISERROR((#REF!-#REF!)/#REF!),0,(#REF!-#REF!)/#REF!)","v":0},{"$f":"IF(ISERROR((#REF!-#REF!)/#REF!),0,(#REF!-#REF!)/#REF!)","v":0},{"$f":"IF(ISERROR((#REF!-#REF!)/#REF!),0,(#REF!-#REF!)/#REF!)","v":0},{"$f":"IF(ISERROR((#REF!-#REF!)/#REF!),0,(#REF!-#REF!)/#REF!)","v":0},{"$f":"IF(ISERROR((#REF!-#REF!)/#REF!),0,(#REF!-#REF!)/#REF!)","v":0},{"$f":"IF(ISERROR((#REF!-#REF!)/#REF!),0,(#REF!-#REF!)/#REF!)","v":0},{"$f":"IF(ISERROR((#REF!-#REF!)/#REF!),0,(#REF!-#REF!)/#REF!)","v":0},{"$f":"IF(ISERROR((#REF!-#REF!)/#REF!),0,(#REF!-#REF!)/#REF!)","v":0},{"$f":"IF(ISERROR((#REF!-#REF!)/#REF!),0,(#REF!-#REF!)/#REF!)","v":0}]
[null,"DZ12A","Bronchiectasis with CC",0,2502,0,0,28,2811,28,187,"Yes",0.30000000000000004,843.30000000000007,"","",{"$f":"IF(ISERROR((#REF!-#REF!)/#REF!),0,(#REF!-#REF!)/#REF!)","v":0},{"$f":"IF(ISERROR((#REF!-#REF!)/#REF!),0,(#REF!-#REF!)/#REF!)","v":0},{"$f":"IF(ISERROR((#REF!-#REF!)/#REF!),0,(#REF!-#REF!)/#REF!)","v":0},{"$f":"IF(ISERROR((#REF!-#REF!)/#REF!),0,(#REF!-#REF!)/#REF!)","v":0},{"$f":"IF(ISERROR((#REF!-#REF!)/#REF!),0,(#REF!-#REF!)/#REF!)","v":0},{"$f":"IF(ISERROR((#REF!-#REF!)/#REF!),0,(#REF!-#REF!)/#REF!)","v":0},{"$f":"IF(ISERROR((#REF!-#REF!)/#REF!),0,(#REF!-#REF!)/#REF!)","v":0},{"$f":"IF(ISERROR((#REF!-#REF!)/#REF!),0,(#REF!-#REF!)/#REF!)","v":0},{"$f":"IF(ISERROR((#REF!-#REF!)/#REF!),0,(#REF!-#REF!)/#REF!)","v":0},{"$f":"IF(ISERROR((#REF!-#REF!)/#REF!),0,(#REF!-#REF!)/#REF!)","v":0},{"$f":"IF(ISERROR((#REF!-#REF!)/#REF!),0,(#REF!-#REF!)/#REF!)","v":0},{"$f":"IF(ISERROR((#REF!-#REF!)/#REF!),0,(#REF!-#REF!)/#REF!)","v":0},{"$f":"IF(ISERROR((#REF!-#REF!)/#REF!),0,(#REF!-#REF!)/#REF!)","v":0}]
[null,"DZ12B","Bronchiectasis without CC",0,527,0,0,5,1599,15,187,"Yes",0.4,639.6,"","",{"$f":"IF(ISERROR((#REF!-#REF!)/#REF!),0,(#REF!-#REF!)/#REF!)","v":0},{"$f":"IF(ISERROR((#REF!-#REF!)/#REF!),0,(#REF!-#REF!)/#REF!)","v":0},{"$f":"IF(ISERROR((#REF!-#REF!)/#REF!),0,(#REF!-#REF!)/#REF!)","v":0},{"$f":"IF(ISERROR((#REF!-#REF!)/#REF!),0,(#REF!-#REF!)/#REF!)","v":0},{"$f":"IF(ISERROR((#REF!-#REF!)/#REF!),0,(#REF!-#REF!)/#REF!)","v":0},{"$f":"IF(ISERROR((#REF!-#REF!)/#REF!),0,(#REF!-#REF!)/#REF!)","v":0},{"$f":"IF(ISERROR((#REF!-#REF!)/#REF!),0,(#REF!-#REF!)/#REF!)","v":0},{"$f":"IF(ISERROR((#REF!-#REF!)/#REF!),0,(#REF!-#REF!)/#REF!)","v":0},{"$f":"IF(ISERROR((#REF!-#REF!)/#REF!),0,(#REF!-#REF!)/#REF!)","v":0},{"$f":"IF(ISERROR((#REF!-#REF!)/#REF!),0,(#REF!-#REF!)/#REF!)","v":0},{"$f":"IF(ISERROR((#REF!-#REF!)/#REF!),0,(#REF!-#REF!)/#REF!)","v":0},{"$f":"IF(ISERROR((#REF!-#REF!)/#REF!),0,(#REF!-#REF!)/#REF!)","v":0},{"$f":"IF(ISERROR((#REF!-#REF!)/#REF!),0,(#REF!-#REF!)/#REF!)","v":0}]
[null,"DZ14A","Pulmonary, Pleural or Other Tuberculosis, with CC",0,2519,0,0,24,4581.3278539290986,32,187,"Yes",0.30000000000000004,1374.3983561787297,"","",{"$f":"IF(ISERROR((#REF!-#REF!)/#REF!),0,(#REF!-#REF!)/#REF!)","v":0},{"$f":"IF(ISERROR((#REF!-#REF!)/#REF!),0,(#REF!-#REF!)/#REF!)","v":0},{"$f":"IF(ISERROR((#REF!-#REF!)/#REF!),0,(#REF!-#REF!)/#REF!)","v":0},{"$f":"IF(ISERROR((#REF!-#REF!)/#REF!),0,(#REF!-#REF!)/#REF!)","v":0},{"$f":"IF(ISERROR((#REF!-#REF!)/#REF!),0,(#REF!-#REF!)/#REF!)","v":0},{"$f":"IF(ISERROR((#REF!-#REF!)/#REF!),0,(#REF!-#REF!)/#REF!)","v":0},{"$f":"IF(ISERROR((#REF!-#REF!)/#REF!),0,(#REF!-#REF!)/#REF!)","v":0},{"$f":"IF(ISERROR((#REF!-#REF!)/#REF!),0,(#REF!-#REF!)/#REF!)","v":0},{"$f":"IF(ISERROR((#REF!-#REF!)/#REF!),0,(#REF!-#REF!)/#REF!)","v":0},{"$f":"IF(ISERROR((#REF!-#REF!)/#REF!),0,(#REF!-#REF!)/#REF!)","v":0},{"$f":"IF(ISERROR((#REF!-#REF!)/#REF!),0,(#REF!-#REF!)/#REF!)","v":0},{"$f":"IF(ISERROR((#REF!-#REF!)/#REF!),0,(#REF!-#REF!)/#REF!)","v":0},{"$f":"IF(ISERROR((#REF!-#REF!)/#REF!),0,(#REF!-#REF!)/#REF!)","v":0}]
[null,"DZ14B","Pulmonary, Pleural or Other Tuberculosis, without CC",0,637,0,0,5,2496,20,187,"Yes",0.30000000000000004,748.80000000000007,"","",{"$f":"IF(ISERROR((#REF!-#REF!)/#REF!),0,(#REF!-#REF!)/#REF!)","v":0},{"$f":"IF(ISERROR((#REF!-#REF!)/#REF!),0,(#REF!-#REF!)/#REF!)","v":0},{"$f":"IF(ISERROR((#REF!-#REF!)/#REF!),0,(#REF!-#REF!)/#REF!)","v":0},{"$f":"IF(ISERROR((#REF!-#REF!)/#REF!),0,(#REF!-#REF!)/#REF!)","v":0},{"$f":"IF(ISERROR((#REF!-#REF!)/#REF!),0,(#REF!-#REF!)/#REF!)","v":0},{"$f":"IF(ISERROR((#REF!-#REF!)/#REF!),0,(#REF!-#REF!)/#REF!)","v":0},{"$f":"IF(ISERROR((#REF!-#REF!)/#REF!),0,(#REF!-#REF!)/#REF!)","v":0},{"$f":"IF(ISERROR((#REF!-#REF!)/#REF!),0,(#REF!-#REF!)/#REF!)","v":0},{"$f":"IF(ISERROR((#REF!-#REF!)/#REF!),0,(#REF!-#REF!)/#REF!)","v":0},{"$f":"IF(ISERROR((#REF!-#REF!)/#REF!),0,(#REF!-#REF!)/#REF!)","v":0},{"$f":"IF(ISERROR((#REF!-#REF!)/#REF!),0,(#REF!-#REF!)/#REF!)","v":0},{"$f":"IF(ISERROR((#REF!-#REF!)/#REF!),0,(#REF!-#REF!)/#REF!)","v":0},{"$f":"IF(ISERROR((#REF!-#REF!)/#REF!),0,(#REF!-#REF!)/#REF!)","v":0}]
[null,"DZ15A","Asthma with Intubation, with Major CC",0,2996,0,0,35,2996,35,187,"Yes",0.30000000000000004,898.80000000000018,"","",{"$f":"IF(ISERROR((#REF!-#REF!)/#REF!),0,(#REF!-#REF!)/#REF!)","v":0},{"$f":"IF(ISERROR((#REF!-#REF!)/#REF!),0,(#REF!-#REF!)/#REF!)","v":0},{"$f":"IF(ISERROR((#REF!-#REF!)/#REF!),0,(#REF!-#REF!)/#REF!)","v":0},{"$f":"IF(ISERROR((#REF!-#REF!)/#REF!),0,(#REF!-#REF!)/#REF!)","v":0},{"$f":"IF(ISERROR((#REF!-#REF!)/#REF!),0,(#REF!-#REF!)/#REF!)","v":0},{"$f":"IF(ISERROR((#REF!-#REF!)/#REF!),0,(#REF!-#REF!)/#REF!)","v":0},{"$f":"IF(ISERROR((#REF!-#REF!)/#REF!),0,(#REF!-#REF!)/#REF!)","v":0},{"$f":"IF(ISERROR((#REF!-#REF!)/#REF!),0,(#REF!-#REF!)/#REF!)","v":0},{"$f":"IF(ISERROR((#REF!-#REF!)/#REF!),0,(#REF!-#REF!)/#REF!)","v":0},{"$f":"IF(ISERROR((#REF!-#REF!)/#REF!),0,(#REF!-#REF!)/#REF!)","v":0},{"$f":"IF(ISERROR((#REF!-#REF!)/#REF!),0,(#REF!-#REF!)/#REF!)","v":0},{"$f":"IF(ISERROR((#REF!-#REF!)/#REF!),0,(#REF!-#REF!)/#REF!)","v":0},{"$f":"IF(ISERROR((#REF!-#REF!)/#REF!),0,(#REF!-#REF!)/#REF!)","v":0}]
[null,"DZ15B","Asthma with Intubation, with Intermediate CC",0,2011,0,0,22,2011,22,187,"Yes",0.30000000000000004,603.30000000000007,"","",{"$f":"IF(ISERROR((#REF!-#REF!)/#REF!),0,(#REF!-#REF!)/#REF!)","v":0},{"$f":"IF(ISERROR((#REF!-#REF!)/#REF!),0,(#REF!-#REF!)/#REF!)","v":0},{"$f":"IF(ISERROR((#REF!-#REF!)/#REF!),0,(#REF!-#REF!)/#REF!)","v":0},{"$f":"IF(ISERROR((#REF!-#REF!)/#REF!),0,(#REF!-#REF!)/#REF!)","v":0},{"$f":"IF(ISERROR((#REF!-#REF!)/#REF!),0,(#REF!-#REF!)/#REF!)","v":0},{"$f":"IF(ISERROR((#REF!-#REF!)/#REF!),0,(#REF!-#REF!)/#REF!)","v":0},{"$f":"IF(ISERROR((#REF!-#REF!)/#REF!),0,(#REF!-#REF!)/#REF!)","v":0},{"$f":"IF(ISERROR((#REF!-#REF!)/#REF!),0,(#REF!-#REF!)/#REF!)","v":0},{"$f":"IF(ISERROR((#REF!-#REF!)/#REF!),0,(#REF!-#REF!)/#REF!)","v":0},{"$f":"IF(ISERROR((#REF!-#REF!)/#REF!),0,(#REF!-#REF!)/#REF!)","v":0},{"$f":"IF(ISERROR((#REF!-#REF!)/#REF!),0,(#REF!-#REF!)/#REF!)","v":0},{"$f":"IF(ISERROR((#REF!-#REF!)/#REF!),0,(#REF!-#REF!)/#REF!)","v":0},{"$f":"IF(ISERROR((#REF!-#REF!)/#REF!),0,(#REF!-#REF!)/#REF!)","v":0}]
[null,"DZ15C","Asthma with Intubation, without CC",0,984,0,0,11,984,11,187,"Yes",0.4,393.6,"","",{"$f":"IF(ISERROR((#REF!-#REF!)/#REF!),0,(#REF!-#REF!)/#REF!)","v":0},{"$f":"IF(ISERROR((#REF!-#REF!)/#REF!),0,(#REF!-#REF!)/#REF!)","v":0},{"$f":"IF(ISERROR((#REF!-#REF!)/#REF!),0,(#REF!-#REF!)/#REF!)","v":0},{"$f":"IF(ISERROR((#REF!-#REF!)/#REF!),0,(#REF!-#REF!)/#REF!)","v":0},{"$f":"IF(ISERROR((#REF!-#REF!)/#REF!),0,(#REF!-#REF!)/#REF!)","v":0},{"$f":"IF(ISERROR((#REF!-#REF!)/#REF!),0,(#REF!-#REF!)/#REF!)","v":0},{"$f":"IF(ISERROR((#REF!-#REF!)/#REF!),0,(#REF!-#REF!)/#REF!)","v":0},{"$f":"IF(ISERROR((#REF!-#REF!)/#REF!),0,(#REF!-#REF!)/#REF!)","v":0},{"$f":"IF(ISERROR((#REF!-#REF!)/#REF!),0,(#REF!-#REF!)/#REF!)","v":0},{"$f":"IF(ISERROR((#REF!-#REF!)/#REF!),0,(#REF!-#REF!)/#REF!)","v":0},{"$f":"IF(ISERROR((#REF!-#REF!)/#REF!),0,(#REF!-#REF!)/#REF!)","v":0},{"$f":"IF(ISERROR((#REF!-#REF!)/#REF!),0,(#REF!-#REF!)/#REF!)","v":0},{"$f":"IF(ISERROR((#REF!-#REF!)/#REF!),0,(#REF!-#REF!)/#REF!)","v":0}]
[null,"DZ15D","Asthma without Intubation, with Major CC",0,2041,0,0,20,2456.6282790812497,15,187,"Yes",0.30000000000000004,736.98848372437499,"","",{"$f":"IF(ISERROR((#REF!-#REF!)/#REF!),0,(#REF!-#REF!)/#REF!)","v":0},{"$f":"IF(ISERROR((#REF!-#REF!)/#REF!),0,(#REF!-#REF!)/#REF!)","v":0},{"$f":"IF(ISERROR((#REF!-#REF!)/#REF!),0,(#REF!-#REF!)/#REF!)","v":0},{"$f":"IF(ISERROR((#REF!-#REF!)/#REF!),0,(#REF!-#REF!)/#REF!)","v":0},{"$f":"IF(ISERROR((#REF!-#REF!)/#REF!),0,(#REF!-#REF!)/#REF!)","v":0},{"$f":"IF(ISERROR((#REF!-#REF!)/#REF!),0,(#REF!-#REF!)/#REF!)","v":0},{"$f":"IF(ISERROR((#REF!-#REF!)/#REF!),0,(#REF!-#REF!)/#REF!)","v":0},{"$f":"IF(ISERROR((#REF!-#REF!)/#REF!),0,(#REF!-#REF!)/#REF!)","v":0},{"$f":"IF(ISERROR((#REF!-#REF!)/#REF!),0,(#REF!-#REF!)/#REF!)","v":0},{"$f":"IF(ISERROR((#REF!-#REF!)/#REF!),0,(#REF!-#REF!)/#REF!)","v":0},{"$f":"IF(ISERROR((#REF!-#REF!)/#REF!),0,(#REF!-#REF!)/#REF!)","v":0},{"$f":"IF(ISERROR((#REF!-#REF!)/#REF!),0,(#REF!-#REF!)/#REF!)","v":0},{"$f":"IF(ISERROR((#REF!-#REF!)/#REF!),0,(#REF!-#REF!)/#REF!)","v":0}]
[null,"DZ15E","Asthma without Intubation, with Intermediate CC",0,1120,0,0,8,1138.7862445378169,11,187,"No","-",0,1,"HRG",{"$f":"IF(ISERROR((#REF!-#REF!)/#REF!),0,(#REF!-#REF!)/#REF!)","v":0},{"$f":"IF(ISERROR((#REF!-#REF!)/#REF!),0,(#REF!-#REF!)/#REF!)","v":0},{"$f":"IF(ISERROR((#REF!-#REF!)/#REF!),0,(#REF!-#REF!)/#REF!)","v":0},{"$f":"IF(ISERROR((#REF!-#REF!)/#REF!),0,(#REF!-#REF!)/#REF!)","v":0},{"$f":"IF(ISERROR((#REF!-#REF!)/#REF!),0,(#REF!-#REF!)/#REF!)","v":0},{"$f":"IF(ISERROR((#REF!-#REF!)/#REF!),0,(#REF!-#REF!)/#REF!)","v":0},{"$f":"IF(ISERROR((#REF!-#REF!)/#REF!),0,(#REF!-#REF!)/#REF!)","v":0},{"$f":"IF(ISERROR((#REF!-#REF!)/#REF!),0,(#REF!-#REF!)/#REF!)","v":0},{"$f":"IF(ISERROR((#REF!-#REF!)/#REF!),0,(#REF!-#REF!)/#REF!)","v":0},{"$f":"IF(ISERROR((#REF!-#REF!)/#REF!),0,(#REF!-#REF!)/#REF!)","v":0},{"$f":"IF(ISERROR((#REF!-#REF!)/#REF!),0,(#REF!-#REF!)/#REF!)","v":0},{"$f":"IF(ISERROR((#REF!-#REF!)/#REF!),0,(#REF!-#REF!)/#REF!)","v":0},{"$f":"IF(ISERROR((#REF!-#REF!)/#REF!),0,(#REF!-#REF!)/#REF!)","v":0}]
[null,"DZ15F","Asthma without Intubation, without CC",0,390,0,0,5,1001.3719554673104,8,187,"No","-",0,1,"HRG",{"$f":"IF(ISERROR((#REF!-#REF!)/#REF!),0,(#REF!-#REF!)/#REF!)","v":0},{"$f":"IF(ISERROR((#REF!-#REF!)/#REF!),0,(#REF!-#REF!)/#REF!)","v":0},{"$f":"IF(ISERROR((#REF!-#REF!)/#REF!),0,(#REF!-#REF!)/#REF!)","v":0},{"$f":"IF(ISERROR((#REF!-#REF!)/#REF!),0,(#REF!-#REF!)/#REF!)","v":0},{"$f":"IF(ISERROR((#REF!-#REF!)/#REF!),0,(#REF!-#REF!)/#REF!)","v":0},{"$f":"IF(ISERROR((#REF!-#REF!)/#REF!),0,(#REF!-#REF!)/#REF!)","v":0},{"$f":"IF(ISERROR((#REF!-#REF!)/#REF!),0,(#REF!-#REF!)/#REF!)","v":0},{"$f":"IF(ISERROR((#REF!-#REF!)/#REF!),0,(#REF!-#REF!)/#REF!)","v":0},{"$f":"IF(ISERROR((#REF!-#REF!)/#REF!),0,(#REF!-#REF!)/#REF!)","v":0},{"$f":"IF(ISERROR((#REF!-#REF!)/#REF!),0,(#REF!-#REF!)/#REF!)","v":0},{"$f":"IF(ISERROR((#REF!-#REF!)/#REF!),0,(#REF!-#REF!)/#REF!)","v":0},{"$f":"IF(ISERROR((#REF!-#REF!)/#REF!),0,(#REF!-#REF!)/#REF!)","v":0},{"$f":"IF(ISERROR((#REF!-#REF!)/#REF!),0,(#REF!-#REF!)/#REF!)","v":0}]
[null,"DZ16A","Pleural Effusion with Major CC",0,2593.6695002927313,0,0,16,3908.1482130169097,32,187,"Yes",0.30000000000000004,1172.444463905073,"","",{"$f":"IF(ISERROR((#REF!-#REF!)/#REF!),0,(#REF!-#REF!)/#REF!)","v":0},{"$f":"IF(ISERROR((#REF!-#REF!)/#REF!),0,(#REF!-#REF!)/#REF!)","v":0},{"$f":"IF(ISERROR((#REF!-#REF!)/#REF!),0,(#REF!-#REF!)/#REF!)","v":0},{"$f":"IF(ISERROR((#REF!-#REF!)/#REF!),0,(#REF!-#REF!)/#REF!)","v":0},{"$f":"IF(ISERROR((#REF!-#REF!)/#REF!),0,(#REF!-#REF!)/#REF!)","v":0},{"$f":"IF(ISERROR((#REF!-#REF!)/#REF!),0,(#REF!-#REF!)/#REF!)","v":0},{"$f":"IF(ISERROR((#REF!-#REF!)/#REF!),0,(#REF!-#REF!)/#REF!)","v":0},{"$f":"IF(ISERROR((#REF!-#REF!)/#REF!),0,(#REF!-#REF!)/#REF!)","v":0},{"$f":"IF(ISERROR((#REF!-#REF!)/#REF!),0,(#REF!-#REF!)/#REF!)","v":0},{"$f":"IF(ISERROR((#REF!-#REF!)/#REF!),0,(#REF!-#REF!)/#REF!)","v":0},{"$f":"IF(ISERROR((#REF!-#REF!)/#REF!),0,(#REF!-#REF!)/#REF!)","v":0},{"$f":"IF(ISERROR((#REF!-#REF!)/#REF!),0,(#REF!-#REF!)/#REF!)","v":0},{"$f":"IF(ISERROR((#REF!-#REF!)/#REF!),0,(#REF!-#REF!)/#REF!)","v":0}]
[null,"DZ16B","Pleural Effusion with Intermediate CC",0,1970,0,0,11,2074.2010500120941,20,187,"Yes",0.30000000000000004,622.26031500362831,1,"HRG",{"$f":"IF(ISERROR((#REF!-#REF!)/#REF!),0,(#REF!-#REF!)/#REF!)","v":0},{"$f":"IF(ISERROR((#REF!-#REF!)/#REF!),0,(#REF!-#REF!)/#REF!)","v":0},{"$f":"IF(ISERROR((#REF!-#REF!)/#REF!),0,(#REF!-#REF!)/#REF!)","v":0},{"$f":"IF(ISERROR((#REF!-#REF!)/#REF!),0,(#REF!-#REF!)/#REF!)","v":0},{"$f":"IF(ISERROR((#REF!-#REF!)/#REF!),0,(#REF!-#REF!)/#REF!)","v":0},{"$f":"IF(ISERROR((#REF!-#REF!)/#REF!),0,(#REF!-#REF!)/#REF!)","v":0},{"$f":"IF(ISERROR((#REF!-#REF!)/#REF!),0,(#REF!-#REF!)/#REF!)","v":0},{"$f":"IF(ISERROR((#REF!-#REF!)/#REF!),0,(#REF!-#REF!)/#REF!)","v":0},{"$f":"IF(ISERROR((#REF!-#REF!)/#REF!),0,(#REF!-#REF!)/#REF!)","v":0},{"$f":"IF(ISERROR((#REF!-#REF!)/#REF!),0,(#REF!-#REF!)/#REF!)","v":0},{"$f":"IF(ISERROR((#REF!-#REF!)/#REF!),0,(#REF!-#REF!)/#REF!)","v":0},{"$f":"IF(ISERROR((#REF!-#REF!)/#REF!),0,(#REF!-#REF!)/#REF!)","v":0},{"$f":"IF(ISERROR((#REF!-#REF!)/#REF!),0,(#REF!-#REF!)/#REF!)","v":0}]
[null,"DZ16C","Pleural Effusion without CC",0,1452,0,0,8,1471.8949277166166,11,187,"Yes",0.4,588.75797108664665,1,"HRG",{"$f":"IF(ISERROR((#REF!-#REF!)/#REF!),0,(#REF!-#REF!)/#REF!)","v":0},{"$f":"IF(ISERROR((#REF!-#REF!)/#REF!),0,(#REF!-#REF!)/#REF!)","v":0},{"$f":"IF(ISERROR((#REF!-#REF!)/#REF!),0,(#REF!-#REF!)/#REF!)","v":0},{"$f":"IF(ISERROR((#REF!-#REF!)/#REF!),0,(#REF!-#REF!)/#REF!)","v":0},{"$f":"IF(ISERROR((#REF!-#REF!)/#REF!),0,(#REF!-#REF!)/#REF!)","v":0},{"$f":"IF(ISERROR((#REF!-#REF!)/#REF!),0,(#REF!-#REF!)/#REF!)","v":0},{"$f":"IF(ISERROR((#REF!-#REF!)/#REF!),0,(#REF!-#REF!)/#REF!)","v":0},{"$f":"IF(ISERROR((#REF!-#REF!)/#REF!),0,(#REF!-#REF!)/#REF!)","v":0},{"$f":"IF(ISERROR((#REF!-#REF!)/#REF!),0,(#REF!-#REF!)/#REF!)","v":0},{"$f":"IF(ISERROR((#REF!-#REF!)/#REF!),0,(#REF!-#REF!)/#REF!)","v":0},{"$f":"IF(ISERROR((#REF!-#REF!)/#REF!),0,(#REF!-#REF!)/#REF!)","v":0},{"$f":"IF(ISERROR((#REF!-#REF!)/#REF!),0,(#REF!-#REF!)/#REF!)","v":0},{"$f":"IF(ISERROR((#REF!-#REF!)/#REF!),0,(#REF!-#REF!)/#REF!)","v":0}]
[null,"DZ17A","Respiratory Neoplasms with Major CC",0,1109,0,0,8,3771.3504029822248,31,187,"Yes",0.30000000000000004,1131.4051208946676,"","",{"$f":"IF(ISERROR((#REF!-#REF!)/#REF!),0,(#REF!-#REF!)/#REF!)","v":0},{"$f":"IF(ISERROR((#REF!-#REF!)/#REF!),0,(#REF!-#REF!)/#REF!)","v":0},{"$f":"IF(ISERROR((#REF!-#REF!)/#REF!),0,(#REF!-#REF!)/#REF!)","v":0},{"$f":"IF(ISERROR((#REF!-#REF!)/#REF!),0,(#REF!-#REF!)/#REF!)","v":0},{"$f":"IF(ISERROR((#REF!-#REF!)/#REF!),0,(#REF!-#REF!)/#REF!)","v":0},{"$f":"IF(ISERROR((#REF!-#REF!)/#REF!),0,(#REF!-#REF!)/#REF!)","v":0},{"$f":"IF(ISERROR((#REF!-#REF!)/#REF!),0,(#REF!-#REF!)/#REF!)","v":0},{"$f":"IF(ISERROR((#REF!-#REF!)/#REF!),0,(#REF!-#REF!)/#REF!)","v":0},{"$f":"IF(ISERROR((#REF!-#REF!)/#REF!),0,(#REF!-#REF!)/#REF!)","v":0},{"$f":"IF(ISERROR((#REF!-#REF!)/#REF!),0,(#REF!-#REF!)/#REF!)","v":0},{"$f":"IF(ISERROR((#REF!-#REF!)/#REF!),0,(#REF!-#REF!)/#REF!)","v":0},{"$f":"IF(ISERROR((#REF!-#REF!)/#REF!),0,(#REF!-#REF!)/#REF!)","v":0},{"$f":"IF(ISERROR((#REF!-#REF!)/#REF!),0,(#REF!-#REF!)/#REF!)","v":0}]
[null,"DZ17B","Respiratory Neoplasms with Intermediate CC",0,1063,0,0,5,3223.4299161788113,19,187,"Yes",0.30000000000000004,967.02897485364349,"","",{"$f":"IF(ISERROR((#REF!-#REF!)/#REF!),0,(#REF!-#REF!)/#REF!)","v":0},{"$f":"IF(ISERROR((#REF!-#REF!)/#REF!),0,(#REF!-#REF!)/#REF!)","v":0},{"$f":"IF(ISERROR((#REF!-#REF!)/#REF!),0,(#REF!-#REF!)/#REF!)","v":0},{"$f":"IF(ISERROR((#REF!-#REF!)/#REF!),0,(#REF!-#REF!)/#REF!)","v":0},{"$f":"IF(ISERROR((#REF!-#REF!)/#REF!),0,(#REF!-#REF!)/#REF!)","v":0},{"$f":"IF(ISERROR((#REF!-#REF!)/#REF!),0,(#REF!-#REF!)/#REF!)","v":0},{"$f":"IF(ISERROR((#REF!-#REF!)/#REF!),0,(#REF!-#REF!)/#REF!)","v":0},{"$f":"IF(ISERROR((#REF!-#REF!)/#REF!),0,(#REF!-#REF!)/#REF!)","v":0},{"$f":"IF(ISERROR((#REF!-#REF!)/#REF!),0,(#REF!-#REF!)/#REF!)","v":0},{"$f":"IF(ISERROR((#REF!-#REF!)/#REF!),0,(#REF!-#REF!)/#REF!)","v":0},{"$f":"IF(ISERROR((#REF!-#REF!)/#REF!),0,(#REF!-#REF!)/#REF!)","v":0},{"$f":"IF(ISERROR((#REF!-#REF!)/#REF!),0,(#REF!-#REF!)/#REF!)","v":0},{"$f":"IF(ISERROR((#REF!-#REF!)/#REF!),0,(#REF!-#REF!)/#REF!)","v":0}]
[null,"DZ17C","Respiratory Neoplasms without CC",0,633,0,0,5,1599,10,187,"Yes",0.4,639.6,"","",{"$f":"IF(ISERROR((#REF!-#REF!)/#REF!),0,(#REF!-#REF!)/#REF!)","v":0},{"$f":"IF(ISERROR((#REF!-#REF!)/#REF!),0,(#REF!-#REF!)/#REF!)","v":0},{"$f":"IF(ISERROR((#REF!-#REF!)/#REF!),0,(#REF!-#REF!)/#REF!)","v":0},{"$f":"IF(ISERROR((#REF!-#REF!)/#REF!),0,(#REF!-#REF!)/#REF!)","v":0},{"$f":"IF(ISERROR((#REF!-#REF!)/#REF!),0,(#REF!-#REF!)/#REF!)","v":0},{"$f":"IF(ISERROR((#REF!-#REF!)/#REF!),0,(#REF!-#REF!)/#REF!)","v":0},{"$f":"IF(ISERROR((#REF!-#REF!)/#REF!),0,(#REF!-#REF!)/#REF!)","v":0},{"$f":"IF(ISERROR((#REF!-#REF!)/#REF!),0,(#REF!-#REF!)/#REF!)","v":0},{"$f":"IF(ISERROR((#REF!-#REF!)/#REF!),0,(#REF!-#REF!)/#REF!)","v":0},{"$f":"IF(ISERROR((#REF!-#REF!)/#REF!),0,(#REF!-#REF!)/#REF!)","v":0},{"$f":"IF(ISERROR((#REF!-#REF!)/#REF!),0,(#REF!-#REF!)/#REF!)","v":0},{"$f":"IF(ISERROR((#REF!-#REF!)/#REF!),0,(#REF!-#REF!)/#REF!)","v":0},{"$f":"IF(ISERROR((#REF!-#REF!)/#REF!),0,(#REF!-#REF!)/#REF!)","v":0}]
[null,"DZ18Z","Sleeping Disorders Affecting Breathing",0,561,0,0,5,2872,26,187,"Yes",0.30000000000000004,861.60000000000014,"","",{"$f":"IF(ISERROR((#REF!-#REF!)/#REF!),0,(#REF!-#REF!)/#REF!)","v":0},{"$f":"IF(ISERROR((#REF!-#REF!)/#REF!),0,(#REF!-#REF!)/#REF!)","v":0},{"$f":"IF(ISERROR((#REF!-#REF!)/#REF!),0,(#REF!-#REF!)/#REF!)","v":0},{"$f":"IF(ISERROR((#REF!-#REF!)/#REF!),0,(#REF!-#REF!)/#REF!)","v":0},{"$f":"IF(ISERROR((#REF!-#REF!)/#REF!),0,(#REF!-#REF!)/#REF!)","v":0},{"$f":"IF(ISERROR((#REF!-#REF!)/#REF!),0,(#REF!-#REF!)/#REF!)","v":0},{"$f":"IF(ISERROR((#REF!-#REF!)/#REF!),0,(#REF!-#REF!)/#REF!)","v":0},{"$f":"IF(ISERROR((#REF!-#REF!)/#REF!),0,(#REF!-#REF!)/#REF!)","v":0},{"$f":"IF(ISERROR((#REF!-#REF!)/#REF!),0,(#REF!-#REF!)/#REF!)","v":0},{"$f":"IF(ISERROR((#REF!-#REF!)/#REF!),0,(#REF!-#REF!)/#REF!)","v":0},{"$f":"IF(ISERROR((#REF!-#REF!)/#REF!),0,(#REF!-#REF!)/#REF!)","v":0},{"$f":"IF(ISERROR((#REF!-#REF!)/#REF!),0,(#REF!-#REF!)/#REF!)","v":0},{"$f":"IF(ISERROR((#REF!-#REF!)/#REF!),0,(#REF!-#REF!)/#REF!)","v":0}]
[null,"DZ19A","Other Respiratory Diagnoses with Major CC",0,2714.3497872020548,0,0,8,2058.6178618993285,15,187,"Yes",0.30000000000000004,617.5853585697987,"","",{"$f":"IF(ISERROR((#REF!-#REF!)/#REF!),0,(#REF!-#REF!)/#REF!)","v":0},{"$f":"IF(ISERROR((#REF!-#REF!)/#REF!),0,(#REF!-#REF!)/#REF!)","v":0},{"$f":"IF(ISERROR((#REF!-#REF!)/#REF!),0,(#REF!-#REF!)/#REF!)","v":0},{"$f":"IF(ISERROR((#REF!-#REF!)/#REF!),0,(#REF!-#REF!)/#REF!)","v":0},{"$f":"IF(ISERROR((#REF!-#REF!)/#REF!),0,(#REF!-#REF!)/#REF!)","v":0},{"$f":"IF(ISERROR((#REF!-#REF!)/#REF!),0,(#REF!-#REF!)/#REF!)","v":0},{"$f":"IF(ISERROR((#REF!-#REF!)/#REF!),0,(#REF!-#REF!)/#REF!)","v":0},{"$f":"IF(ISERROR((#REF!-#REF!)/#REF!),0,(#REF!-#REF!)/#REF!)","v":0},{"$f":"IF(ISERROR((#REF!-#REF!)/#REF!),0,(#REF!-#REF!)/#REF!)","v":0},{"$f":"IF(ISERROR((#REF!-#REF!)/#REF!),0,(#REF!-#REF!)/#REF!)","v":0},{"$f":"IF(ISERROR((#REF!-#REF!)/#REF!),0,(#REF!-#REF!)/#REF!)","v":0},{"$f":"IF(ISERROR((#REF!-#REF!)/#REF!),0,(#REF!-#REF!)/#REF!)","v":0},{"$f":"IF(ISERROR((#REF!-#REF!)/#REF!),0,(#REF!-#REF!)/#REF!)","v":0}]
[null,"DZ19B","Other Respiratory Diagnoses with Intermediate CC",0,1103,0,0,5,1473.6188672934741,8,187,"Yes",0.65,957.85226374075819,"","",{"$f":"IF(ISERROR((#REF!-#REF!)/#REF!),0,(#REF!-#REF!)/#REF!)","v":0},{"$f":"IF(ISERROR((#REF!-#REF!)/#REF!),0,(#REF!-#REF!)/#REF!)","v":0},{"$f":"IF(ISERROR((#REF!-#REF!)/#REF!),0,(#REF!-#REF!)/#REF!)","v":0},{"$f":"IF(ISERROR((#REF!-#REF!)/#REF!),0,(#REF!-#REF!)/#REF!)","v":0},{"$f":"IF(ISERROR((#REF!-#REF!)/#REF!),0,(#REF!-#REF!)/#REF!)","v":0},{"$f":"IF(ISERROR((#REF!-#REF!)/#REF!),0,(#REF!-#REF!)/#REF!)","v":0},{"$f":"IF(ISERROR((#REF!-#REF!)/#REF!),0,(#REF!-#REF!)/#REF!)","v":0},{"$f":"IF(ISERROR((#REF!-#REF!)/#REF!),0,(#REF!-#REF!)/#REF!)","v":0},{"$f":"IF(ISERROR((#REF!-#REF!)/#REF!),0,(#REF!-#REF!)/#REF!)","v":0},{"$f":"IF(ISERROR((#REF!-#REF!)/#REF!),0,(#REF!-#REF!)/#REF!)","v":0},{"$f":"IF(ISERROR((#REF!-#REF!)/#REF!),0,(#REF!-#REF!)/#REF!)","v":0},{"$f":"IF(ISERROR((#REF!-#REF!)/#REF!),0,(#REF!-#REF!)/#REF!)","v":0},{"$f":"IF(ISERROR((#REF!-#REF!)/#REF!),0,(#REF!-#REF!)/#REF!)","v":0}]
[null,"DZ19C","Other Respiratory Diagnoses without CC",0,817,0,0,5,452,5,187,"Yes",1,452,"","",{"$f":"IF(ISERROR((#REF!-#REF!)/#REF!),0,(#REF!-#REF!)/#REF!)","v":0},{"$f":"IF(ISERROR((#REF!-#REF!)/#REF!),0,(#REF!-#REF!)/#REF!)","v":0},{"$f":"IF(ISERROR((#REF!-#REF!)/#REF!),0,(#REF!-#REF!)/#REF!)","v":0},{"$f":"IF(ISERROR((#REF!-#REF!)/#REF!),0,(#REF!-#REF!)/#REF!)","v":0},{"$f":"IF(ISERROR((#REF!-#REF!)/#REF!),0,(#REF!-#REF!)/#REF!)","v":0},{"$f":"IF(ISERROR((#REF!-#REF!)/#REF!),0,(#REF!-#REF!)/#REF!)","v":0},{"$f":"IF(ISERROR((#REF!-#REF!)/#REF!),0,(#REF!-#REF!)/#REF!)","v":0},{"$f":"IF(ISERROR((#REF!-#REF!)/#REF!),0,(#REF!-#REF!)/#REF!)","v":0},{"$f":"IF(ISERROR((#REF!-#REF!)/#REF!),0,(#REF!-#REF!)/#REF!)","v":0},{"$f":"IF(ISERROR((#REF!-#REF!)/#REF!),0,(#REF!-#REF!)/#REF!)","v":0},{"$f":"IF(ISERROR((#REF!-#REF!)/#REF!),0,(#REF!-#REF!)/#REF!)","v":0},{"$f":"IF(ISERROR((#REF!-#REF!)/#REF!),0,(#REF!-#REF!)/#REF!)","v":0},{"$f":"IF(ISERROR((#REF!-#REF!)/#REF!),0,(#REF!-#REF!)/#REF!)","v":0}]
[null,"DZ20Z","Pulmonary Oedema",0,1885,0,0,27,2243,19,187,"Yes",0.30000000000000004,672.90000000000009,"","",{"$f":"IF(ISERROR((#REF!-#REF!)/#REF!),0,(#REF!-#REF!)/#REF!)","v":0},{"$f":"IF(ISERROR((#REF!-#REF!)/#REF!),0,(#REF!-#REF!)/#REF!)","v":0},{"$f":"IF(ISERROR((#REF!-#REF!)/#REF!),0,(#REF!-#REF!)/#REF!)","v":0},{"$f":"IF(ISERROR((#REF!-#REF!)/#REF!),0,(#REF!-#REF!)/#REF!)","v":0},{"$f":"IF(ISERROR((#REF!-#REF!)/#REF!),0,(#REF!-#REF!)/#REF!)","v":0},{"$f":"IF(ISERROR((#REF!-#REF!)/#REF!),0,(#REF!-#REF!)/#REF!)","v":0},{"$f":"IF(ISERROR((#REF!-#REF!)/#REF!),0,(#REF!-#REF!)/#REF!)","v":0},{"$f":"IF(ISERROR((#REF!-#REF!)/#REF!),0,(#REF!-#REF!)/#REF!)","v":0},{"$f":"IF(ISERROR((#REF!-#REF!)/#REF!),0,(#REF!-#REF!)/#REF!)","v":0},{"$f":"IF(ISERROR((#REF!-#REF!)/#REF!),0,(#REF!-#REF!)/#REF!)","v":0},{"$f":"IF(ISERROR((#REF!-#REF!)/#REF!),0,(#REF!-#REF!)/#REF!)","v":0},{"$f":"IF(ISERROR((#REF!-#REF!)/#REF!),0,(#REF!-#REF!)/#REF!)","v":0},{"$f":"IF(ISERROR((#REF!-#REF!)/#REF!),0,(#REF!-#REF!)/#REF!)","v":0}]
[null,"DZ21A","Chronic Obstructive Pulmonary Disease or Bronchitis, with length of stay 1 day or less, discharged home",0,514,0,0,5,504,5,187,"Yes",1,504,"","",{"$f":"IF(ISERROR((#REF!-#REF!)/#REF!),0,(#REF!-#REF!)/#REF!)","v":0},{"$f":"IF(ISERROR((#REF!-#REF!)/#REF!),0,(#REF!-#REF!)/#REF!)","v":0},{"$f":"IF(ISERROR((#REF!-#REF!)/#REF!),0,(#REF!-#REF!)/#REF!)","v":0},{"$f":"IF(ISERROR((#REF!-#REF!)/#REF!),0,(#REF!-#REF!)/#REF!)","v":0},{"$f":"IF(ISERROR((#REF!-#REF!)/#REF!),0,(#REF!-#REF!)/#REF!)","v":0},{"$f":"IF(ISERROR((#REF!-#REF!)/#REF!),0,(#REF!-#REF!)/#REF!)","v":0},{"$f":"IF(ISERROR((#REF!-#REF!)/#REF!),0,(#REF!-#REF!)/#REF!)","v":0},{"$f":"IF(ISERROR((#REF!-#REF!)/#REF!),0,(#REF!-#REF!)/#REF!)","v":0},{"$f":"IF(ISERROR((#REF!-#REF!)/#REF!),0,(#REF!-#REF!)/#REF!)","v":0},{"$f":"IF(ISERROR((#REF!-#REF!)/#REF!),0,(#REF!-#REF!)/#REF!)","v":0},{"$f":"IF(ISERROR((#REF!-#REF!)/#REF!),0,(#REF!-#REF!)/#REF!)","v":0},{"$f":"IF(ISERROR((#REF!-#REF!)/#REF!),0,(#REF!-#REF!)/#REF!)","v":0},{"$f":"IF(ISERROR((#REF!-#REF!)/#REF!),0,(#REF!-#REF!)/#REF!)","v":0}]
[null,"DZ21B","Chronic Obstructive Pulmonary Disease or Bronchitis, with Intubation, with Major CC",0,3184,0,0,30,7558.8926610479148,30,187,"Yes",0.30000000000000004,2267.667798314375,"","",{"$f":"IF(ISERROR((#REF!-#REF!)/#REF!),0,(#REF!-#REF!)/#REF!)","v":0},{"$f":"IF(ISERROR((#REF!-#REF!)/#REF!),0,(#REF!-#REF!)/#REF!)","v":0},{"$f":"IF(ISERROR((#REF!-#REF!)/#REF!),0,(#REF!-#REF!)/#REF!)","v":0},{"$f":"IF(ISERROR((#REF!-#REF!)/#REF!),0,(#REF!-#REF!)/#REF!)","v":0},{"$f":"IF(ISERROR((#REF!-#REF!)/#REF!),0,(#REF!-#REF!)/#REF!)","v":0},{"$f":"IF(ISERROR((#REF!-#REF!)/#REF!),0,(#REF!-#REF!)/#REF!)","v":0},{"$f":"IF(ISERROR((#REF!-#REF!)/#REF!),0,(#REF!-#REF!)/#REF!)","v":0},{"$f":"IF(ISERROR((#REF!-#REF!)/#REF!),0,(#REF!-#REF!)/#REF!)","v":0},{"$f":"IF(ISERROR((#REF!-#REF!)/#REF!),0,(#REF!-#REF!)/#REF!)","v":0},{"$f":"IF(ISERROR((#REF!-#REF!)/#REF!),0,(#REF!-#REF!)/#REF!)","v":0},{"$f":"IF(ISERROR((#REF!-#REF!)/#REF!),0,(#REF!-#REF!)/#REF!)","v":0},{"$f":"IF(ISERROR((#REF!-#REF!)/#REF!),0,(#REF!-#REF!)/#REF!)","v":0},{"$f":"IF(ISERROR((#REF!-#REF!)/#REF!),0,(#REF!-#REF!)/#REF!)","v":0}]
[null,"DZ21C","Chronic Obstructive Pulmonary Disease or Bronchitis, with Intubation, with Intermediate CC",0,2413,0,0,21,2612.9775308070084,21,187,"Yes",0.30000000000000004,783.89325924210266,"","",{"$f":"IF(ISERROR((#REF!-#REF!)/#REF!),0,(#REF!-#REF!)/#REF!)","v":0},{"$f":"IF(ISERROR((#REF!-#REF!)/#REF!),0,(#REF!-#REF!)/#REF!)","v":0},{"$f":"IF(ISERROR((#REF!-#REF!)/#REF!),0,(#REF!-#REF!)/#REF!)","v":0},{"$f":"IF(ISERROR((#REF!-#REF!)/#REF!),0,(#REF!-#REF!)/#REF!)","v":0},{"$f":"IF(ISERROR((#REF!-#REF!)/#REF!),0,(#REF!-#REF!)/#REF!)","v":0},{"$f":"IF(ISERROR((#REF!-#REF!)/#REF!),0,(#REF!-#REF!)/#REF!)","v":0},{"$f":"IF(ISERROR((#REF!-#REF!)/#REF!),0,(#REF!-#REF!)/#REF!)","v":0},{"$f":"IF(ISERROR((#REF!-#REF!)/#REF!),0,(#REF!-#REF!)/#REF!)","v":0},{"$f":"IF(ISERROR((#REF!-#REF!)/#REF!),0,(#REF!-#REF!)/#REF!)","v":0},{"$f":"IF(ISERROR((#REF!-#REF!)/#REF!),0,(#REF!-#REF!)/#REF!)","v":0},{"$f":"IF(ISERROR((#REF!-#REF!)/#REF!),0,(#REF!-#REF!)/#REF!)","v":0},{"$f":"IF(ISERROR((#REF!-#REF!)/#REF!),0,(#REF!-#REF!)/#REF!)","v":0},{"$f":"IF(ISERROR((#REF!-#REF!)/#REF!),0,(#REF!-#REF!)/#REF!)","v":0}]
[null,"DZ21D","Chronic Obstructive Pulmonary Disease or Bronchitis, with Intubation, without CC",0,1242,0,0,26,1555,26,187,"Yes",0.30000000000000004,466.50000000000006,"","",{"$f":"IF(ISERROR((#REF!-#REF!)/#REF!),0,(#REF!-#REF!)/#REF!)","v":0},{"$f":"IF(ISERROR((#REF!-#REF!)/#REF!),0,(#REF!-#REF!)/#REF!)","v":0},{"$f":"IF(ISERROR((#REF!-#REF!)/#REF!),0,(#REF!-#REF!)/#REF!)","v":0},{"$f":"IF(ISERROR((#REF!-#REF!)/#REF!),0,(#REF!-#REF!)/#REF!)","v":0},{"$f":"IF(ISERROR((#REF!-#REF!)/#REF!),0,(#REF!-#REF!)/#REF!)","v":0},{"$f":"IF(ISERROR((#REF!-#REF!)/#REF!),0,(#REF!-#REF!)/#REF!)","v":0},{"$f":"IF(ISERROR((#REF!-#REF!)/#REF!),0,(#REF!-#REF!)/#REF!)","v":0},{"$f":"IF(ISERROR((#REF!-#REF!)/#REF!),0,(#REF!-#REF!)/#REF!)","v":0},{"$f":"IF(ISERROR((#REF!-#REF!)/#REF!),0,(#REF!-#REF!)/#REF!)","v":0},{"$f":"IF(ISERROR((#REF!-#REF!)/#REF!),0,(#REF!-#REF!)/#REF!)","v":0},{"$f":"IF(ISERROR((#REF!-#REF!)/#REF!),0,(#REF!-#REF!)/#REF!)","v":0},{"$f":"IF(ISERROR((#REF!-#REF!)/#REF!),0,(#REF!-#REF!)/#REF!)","v":0},{"$f":"IF(ISERROR((#REF!-#REF!)/#REF!),0,(#REF!-#REF!)/#REF!)","v":0}]
[null,"DZ21E","Chronic Obstructive Pulmonary Disease or Bronchitis, with NIV, without Intubation, with Major CC",0,3416,0,0,15,3956.0112584594658,28,187,"Yes",0.30000000000000004,1186.8033775378399,"","",{"$f":"IF(ISERROR((#REF!-#REF!)/#REF!),0,(#REF!-#REF!)/#REF!)","v":0},{"$f":"IF(ISERROR((#REF!-#REF!)/#REF!),0,(#REF!-#REF!)/#REF!)","v":0},{"$f":"IF(ISERROR((#REF!-#REF!)/#REF!),0,(#REF!-#REF!)/#REF!)","v":0},{"$f":"IF(ISERROR((#REF!-#REF!)/#REF!),0,(#REF!-#REF!)/#REF!)","v":0},{"$f":"IF(ISERROR((#REF!-#REF!)/#REF!),0,(#REF!-#REF!)/#REF!)","v":0},{"$f":"IF(ISERROR((#REF!-#REF!)/#REF!),0,(#REF!-#REF!)/#REF!)","v":0},{"$f":"IF(ISERROR((#REF!-#REF!)/#REF!),0,(#REF!-#REF!)/#REF!)","v":0},{"$f":"IF(ISERROR((#REF!-#REF!)/#REF!),0,(#REF!-#REF!)/#REF!)","v":0},{"$f":"IF(ISERROR((#REF!-#REF!)/#REF!),0,(#REF!-#REF!)/#REF!)","v":0},{"$f":"IF(ISERROR((#REF!-#REF!)/#REF!),0,(#REF!-#REF!)/#REF!)","v":0},{"$f":"IF(ISERROR((#REF!-#REF!)/#REF!),0,(#REF!-#REF!)/#REF!)","v":0},{"$f":"IF(ISERROR((#REF!-#REF!)/#REF!),0,(#REF!-#REF!)/#REF!)","v":0},{"$f":"IF(ISERROR((#REF!-#REF!)/#REF!),0,(#REF!-#REF!)/#REF!)","v":0}]
[null,"DZ21F","Chronic Obstructive Pulmonary Disease or Bronchitis, with NIV, without Intubation, with Intermediate CC",0,2632,0,0,22,2632,22,187,"Yes",0.30000000000000004,789.60000000000014,"","",{"$f":"IF(ISERROR((#REF!-#REF!)/#REF!),0,(#REF!-#REF!)/#REF!)","v":0},{"$f":"IF(ISERROR((#REF!-#REF!)/#REF!),0,(#REF!-#REF!)/#REF!)","v":0},{"$f":"IF(ISERROR((#REF!-#REF!)/#REF!),0,(#REF!-#REF!)/#REF!)","v":0},{"$f":"IF(ISERROR((#REF!-#REF!)/#REF!),0,(#REF!-#REF!)/#REF!)","v":0},{"$f":"IF(ISERROR((#REF!-#REF!)/#REF!),0,(#REF!-#REF!)/#REF!)","v":0},{"$f":"IF(ISERROR((#REF!-#REF!)/#REF!),0,(#REF!-#REF!)/#REF!)","v":0},{"$f":"IF(ISERROR((#REF!-#REF!)/#REF!),0,(#REF!-#REF!)/#REF!)","v":0},{"$f":"IF(ISERROR((#REF!-#REF!)/#REF!),0,(#REF!-#REF!)/#REF!)","v":0},{"$f":"IF(ISERROR((#REF!-#REF!)/#REF!),0,(#REF!-#REF!)/#REF!)","v":0},{"$f":"IF(ISERROR((#REF!-#REF!)/#REF!),0,(#REF!-#REF!)/#REF!)","v":0},{"$f":"IF(ISERROR((#REF!-#REF!)/#REF!),0,(#REF!-#REF!)/#REF!)","v":0},{"$f":"IF(ISERROR((#REF!-#REF!)/#REF!),0,(#REF!-#REF!)/#REF!)","v":0},{"$f":"IF(ISERROR((#REF!-#REF!)/#REF!),0,(#REF!-#REF!)/#REF!)","v":0}]
[null,"DZ21G","Chronic Obstructive Pulmonary Disease or Bronchitis, with NIV, without Intubation, without CC",0,1524,0,0,6,2047,18,187,"Yes",0.30000000000000004,614.10000000000014,"","",{"$f":"IF(ISERROR((#REF!-#REF!)/#REF!),0,(#REF!-#REF!)/#REF!)","v":0},{"$f":"IF(ISERROR((#REF!-#REF!)/#REF!),0,(#REF!-#REF!)/#REF!)","v":0},{"$f":"IF(ISERROR((#REF!-#REF!)/#REF!),0,(#REF!-#REF!)/#REF!)","v":0},{"$f":"IF(ISERROR((#REF!-#REF!)/#REF!),0,(#REF!-#REF!)/#REF!)","v":0},{"$f":"IF(ISERROR((#REF!-#REF!)/#REF!),0,(#REF!-#REF!)/#REF!)","v":0},{"$f":"IF(ISERROR((#REF!-#REF!)/#REF!),0,(#REF!-#REF!)/#REF!)","v":0},{"$f":"IF(ISERROR((#REF!-#REF!)/#REF!),0,(#REF!-#REF!)/#REF!)","v":0},{"$f":"IF(ISERROR((#REF!-#REF!)/#REF!),0,(#REF!-#REF!)/#REF!)","v":0},{"$f":"IF(ISERROR((#REF!-#REF!)/#REF!),0,(#REF!-#REF!)/#REF!)","v":0},{"$f":"IF(ISERROR((#REF!-#REF!)/#REF!),0,(#REF!-#REF!)/#REF!)","v":0},{"$f":"IF(ISERROR((#REF!-#REF!)/#REF!),0,(#REF!-#REF!)/#REF!)","v":0},{"$f":"IF(ISERROR((#REF!-#REF!)/#REF!),0,(#REF!-#REF!)/#REF!)","v":0},{"$f":"IF(ISERROR((#REF!-#REF!)/#REF!),0,(#REF!-#REF!)/#REF!)","v":0}]
[null,"DZ21H","Chronic Obstructive Pulmonary Disease or Bronchitis, without NIV, without Intubation, with Major CC",0,3687,0,0,29,2892.2189088321561,23,187,"Yes",0.30000000000000004,867.66567264964692,"","",{"$f":"IF(ISERROR((#REF!-#REF!)/#REF!),0,(#REF!-#REF!)/#REF!)","v":0},{"$f":"IF(ISERROR((#REF!-#REF!)/#REF!),0,(#REF!-#REF!)/#REF!)","v":0},{"$f":"IF(ISERROR((#REF!-#REF!)/#REF!),0,(#REF!-#REF!)/#REF!)","v":0},{"$f":"IF(ISERROR((#REF!-#REF!)/#REF!),0,(#REF!-#REF!)/#REF!)","v":0},{"$f":"IF(ISERROR((#REF!-#REF!)/#REF!),0,(#REF!-#REF!)/#REF!)","v":0},{"$f":"IF(ISERROR((#REF!-#REF!)/#REF!),0,(#REF!-#REF!)/#REF!)","v":0},{"$f":"IF(ISERROR((#REF!-#REF!)/#REF!),0,(#REF!-#REF!)/#REF!)","v":0},{"$f":"IF(ISERROR((#REF!-#REF!)/#REF!),0,(#REF!-#REF!)/#REF!)","v":0},{"$f":"IF(ISERROR((#REF!-#REF!)/#REF!),0,(#REF!-#REF!)/#REF!)","v":0},{"$f":"IF(ISERROR((#REF!-#REF!)/#REF!),0,(#REF!-#REF!)/#REF!)","v":0},{"$f":"IF(ISERROR((#REF!-#REF!)/#REF!),0,(#REF!-#REF!)/#REF!)","v":0},{"$f":"IF(ISERROR((#REF!-#REF!)/#REF!),0,(#REF!-#REF!)/#REF!)","v":0},{"$f":"IF(ISERROR((#REF!-#REF!)/#REF!),0,(#REF!-#REF!)/#REF!)","v":0}]
[null,"DZ21J","Chronic Obstructive Pulmonary Disease or Bronchitis, without NIV, without Intubation, with Intermediate CC",0,3254,0,0,23,2507.5057000001038,16,187,"Yes",0.30000000000000004,752.25171000003127,"","",{"$f":"IF(ISERROR((#REF!-#REF!)/#REF!),0,(#REF!-#REF!)/#REF!)","v":0},{"$f":"IF(ISERROR((#REF!-#REF!)/#REF!),0,(#REF!-#REF!)/#REF!)","v":0},{"$f":"IF(ISERROR((#REF!-#REF!)/#REF!),0,(#REF!-#REF!)/#REF!)","v":0},{"$f":"IF(ISERROR((#REF!-#REF!)/#REF!),0,(#REF!-#REF!)/#REF!)","v":0},{"$f":"IF(ISERROR((#REF!-#REF!)/#REF!),0,(#REF!-#REF!)/#REF!)","v":0},{"$f":"IF(ISERROR((#REF!-#REF!)/#REF!),0,(#REF!-#REF!)/#REF!)","v":0},{"$f":"IF(ISERROR((#REF!-#REF!)/#REF!),0,(#REF!-#REF!)/#REF!)","v":0},{"$f":"IF(ISERROR((#REF!-#REF!)/#REF!),0,(#REF!-#REF!)/#REF!)","v":0},{"$f":"IF(ISERROR((#REF!-#REF!)/#REF!),0,(#REF!-#REF!)/#REF!)","v":0},{"$f":"IF(ISERROR((#REF!-#REF!)/#REF!),0,(#REF!-#REF!)/#REF!)","v":0},{"$f":"IF(ISERROR((#REF!-#REF!)/#REF!),0,(#REF!-#REF!)/#REF!)","v":0},{"$f":"IF(ISERROR((#REF!-#REF!)/#REF!),0,(#REF!-#REF!)/#REF!)","v":0},{"$f":"IF(ISERROR((#REF!-#REF!)/#REF!),0,(#REF!-#REF!)/#REF!)","v":0}]
[null,"DZ21K","Chronic Obstructive Pulmonary Disease or Bronchitis, without NIV, without Intubation, without CC",0,2401,0,0,16,1838.1471460555611,12,187,"Yes",0.30000000000000004,551.44414381666843,"","",{"$f":"IF(ISERROR((#REF!-#REF!)/#REF!),0,(#REF!-#REF!)/#REF!)","v":0},{"$f":"IF(ISERROR((#REF!-#REF!)/#REF!),0,(#REF!-#REF!)/#REF!)","v":0},{"$f":"IF(ISERROR((#REF!-#REF!)/#REF!),0,(#REF!-#REF!)/#REF!)","v":0},{"$f":"IF(ISERROR((#REF!-#REF!)/#REF!),0,(#REF!-#REF!)/#REF!)","v":0},{"$f":"IF(ISERROR((#REF!-#REF!)/#REF!),0,(#REF!-#REF!)/#REF!)","v":0},{"$f":"IF(ISERROR((#REF!-#REF!)/#REF!),0,(#REF!-#REF!)/#REF!)","v":0},{"$f":"IF(ISERROR((#REF!-#REF!)/#REF!),0,(#REF!-#REF!)/#REF!)","v":0},{"$f":"IF(ISERROR((#REF!-#REF!)/#REF!),0,(#REF!-#REF!)/#REF!)","v":0},{"$f":"IF(ISERROR((#REF!-#REF!)/#REF!),0,(#REF!-#REF!)/#REF!)","v":0},{"$f":"IF(ISERROR((#REF!-#REF!)/#REF!),0,(#REF!-#REF!)/#REF!)","v":0},{"$f":"IF(ISERROR((#REF!-#REF!)/#REF!),0,(#REF!-#REF!)/#REF!)","v":0},{"$f":"IF(ISERROR((#REF!-#REF!)/#REF!),0,(#REF!-#REF!)/#REF!)","v":0},{"$f":"IF(ISERROR((#REF!-#REF!)/#REF!),0,(#REF!-#REF!)/#REF!)","v":0}]
[null,"DZ22A","Unspecified Acute Lower Respiratory Infection with Major CC",0,3340,0,0,40,3420.2693400751104,27,187,"Yes",0.30000000000000004,1026.0808020225334,"","",{"$f":"IF(ISERROR((#REF!-#REF!)/#REF!),0,(#REF!-#REF!)/#REF!)","v":0},{"$f":"IF(ISERROR((#REF!-#REF!)/#REF!),0,(#REF!-#REF!)/#REF!)","v":0},{"$f":"IF(ISERROR((#REF!-#REF!)/#REF!),0,(#REF!-#REF!)/#REF!)","v":0},{"$f":"IF(ISERROR((#REF!-#REF!)/#REF!),0,(#REF!-#REF!)/#REF!)","v":0},{"$f":"IF(ISERROR((#REF!-#REF!)/#REF!),0,(#REF!-#REF!)/#REF!)","v":0},{"$f":"IF(ISERROR((#REF!-#REF!)/#REF!),0,(#REF!-#REF!)/#REF!)","v":0},{"$f":"IF(ISERROR((#REF!-#REF!)/#REF!),0,(#REF!-#REF!)/#REF!)","v":0},{"$f":"IF(ISERROR((#REF!-#REF!)/#REF!),0,(#REF!-#REF!)/#REF!)","v":0},{"$f":"IF(ISERROR((#REF!-#REF!)/#REF!),0,(#REF!-#REF!)/#REF!)","v":0},{"$f":"IF(ISERROR((#REF!-#REF!)/#REF!),0,(#REF!-#REF!)/#REF!)","v":0},{"$f":"IF(ISERROR((#REF!-#REF!)/#REF!),0,(#REF!-#REF!)/#REF!)","v":0},{"$f":"IF(ISERROR((#REF!-#REF!)/#REF!),0,(#REF!-#REF!)/#REF!)","v":0},{"$f":"IF(ISERROR((#REF!-#REF!)/#REF!),0,(#REF!-#REF!)/#REF!)","v":0}]
[null,"DZ22B","Unspecified Acute Lower Respiratory Infection with Intermediate CC",0,2790,0,0,26,2147.3386294140851,14,187,"Yes",0.30000000000000004,644.20158882422561,"","",{"$f":"IF(ISERROR((#REF!-#REF!)/#REF!),0,(#REF!-#REF!)/#REF!)","v":0},{"$f":"IF(ISERROR((#REF!-#REF!)/#REF!),0,(#REF!-#REF!)/#REF!)","v":0},{"$f":"IF(ISERROR((#REF!-#REF!)/#REF!),0,(#REF!-#REF!)/#REF!)","v":0},{"$f":"IF(ISERROR((#REF!-#REF!)/#REF!),0,(#REF!-#REF!)/#REF!)","v":0},{"$f":"IF(ISERROR((#REF!-#REF!)/#REF!),0,(#REF!-#REF!)/#REF!)","v":0},{"$f":"IF(ISERROR((#REF!-#REF!)/#REF!),0,(#REF!-#REF!)/#REF!)","v":0},{"$f":"IF(ISERROR((#REF!-#REF!)/#REF!),0,(#REF!-#REF!)/#REF!)","v":0},{"$f":"IF(ISERROR((#REF!-#REF!)/#REF!),0,(#REF!-#REF!)/#REF!)","v":0},{"$f":"IF(ISERROR((#REF!-#REF!)/#REF!),0,(#REF!-#REF!)/#REF!)","v":0},{"$f":"IF(ISERROR((#REF!-#REF!)/#REF!),0,(#REF!-#REF!)/#REF!)","v":0},{"$f":"IF(ISERROR((#REF!-#REF!)/#REF!),0,(#REF!-#REF!)/#REF!)","v":0},{"$f":"IF(ISERROR((#REF!-#REF!)/#REF!),0,(#REF!-#REF!)/#REF!)","v":0},{"$f":"IF(ISERROR((#REF!-#REF!)/#REF!),0,(#REF!-#REF!)/#REF!)","v":0}]
[null,"DZ22C","Unspecified Acute Lower Respiratory Infection without CC",0,568,0,0,5,456,5,187,"No","-",0,1,"HRG",{"$f":"IF(ISERROR((#REF!-#REF!)/#REF!),0,(#REF!-#REF!)/#REF!)","v":0},{"$f":"IF(ISERROR((#REF!-#REF!)/#REF!),0,(#REF!-#REF!)/#REF!)","v":0},{"$f":"IF(ISERROR((#REF!-#REF!)/#REF!),0,(#REF!-#REF!)/#REF!)","v":0},{"$f":"IF(ISERROR((#REF!-#REF!)/#REF!),0,(#REF!-#REF!)/#REF!)","v":0},{"$f":"IF(ISERROR((#REF!-#REF!)/#REF!),0,(#REF!-#REF!)/#REF!)","v":0},{"$f":"IF(ISERROR((#REF!-#REF!)/#REF!),0,(#REF!-#REF!)/#REF!)","v":0},{"$f":"IF(ISERROR((#REF!-#REF!)/#REF!),0,(#REF!-#REF!)/#REF!)","v":0},{"$f":"IF(ISERROR((#REF!-#REF!)/#REF!),0,(#REF!-#REF!)/#REF!)","v":0},{"$f":"IF(ISERROR((#REF!-#REF!)/#REF!),0,(#REF!-#REF!)/#REF!)","v":0},{"$f":"IF(ISERROR((#REF!-#REF!)/#REF!),0,(#REF!-#REF!)/#REF!)","v":0},{"$f":"IF(ISERROR((#REF!-#REF!)/#REF!),0,(#REF!-#REF!)/#REF!)","v":0},{"$f":"IF(ISERROR((#REF!-#REF!)/#REF!),0,(#REF!-#REF!)/#REF!)","v":0},{"$f":"IF(ISERROR((#REF!-#REF!)/#REF!),0,(#REF!-#REF!)/#REF!)","v":0}]
[null,"DZ23A","Bronchopneumonia with Major CC",0,7389.4555000097553,0,0,47,4058.3608590669664,31,187,"Yes",0.30000000000000004,1217.5082577200901,"","",{"$f":"IF(ISERROR((#REF!-#REF!)/#REF!),0,(#REF!-#REF!)/#REF!)","v":0},{"$f":"IF(ISERROR((#REF!-#REF!)/#REF!),0,(#REF!-#REF!)/#REF!)","v":0},{"$f":"IF(ISERROR((#REF!-#REF!)/#REF!),0,(#REF!-#REF!)/#REF!)","v":0},{"$f":"IF(ISERROR((#REF!-#REF!)/#REF!),0,(#REF!-#REF!)/#REF!)","v":0},{"$f":"IF(ISERROR((#REF!-#REF!)/#REF!),0,(#REF!-#REF!)/#REF!)","v":0},{"$f":"IF(ISERROR((#REF!-#REF!)/#REF!),0,(#REF!-#REF!)/#REF!)","v":0},{"$f":"IF(ISERROR((#REF!-#REF!)/#REF!),0,(#REF!-#REF!)/#REF!)","v":0},{"$f":"IF(ISERROR((#REF!-#REF!)/#REF!),0,(#REF!-#REF!)/#REF!)","v":0},{"$f":"IF(ISERROR((#REF!-#REF!)/#REF!),0,(#REF!-#REF!)/#REF!)","v":0},{"$f":"IF(ISERROR((#REF!-#REF!)/#REF!),0,(#REF!-#REF!)/#REF!)","v":0},{"$f":"IF(ISERROR((#REF!-#REF!)/#REF!),0,(#REF!-#REF!)/#REF!)","v":0},{"$f":"IF(ISERROR((#REF!-#REF!)/#REF!),0,(#REF!-#REF!)/#REF!)","v":0},{"$f":"IF(ISERROR((#REF!-#REF!)/#REF!),0,(#REF!-#REF!)/#REF!)","v":0}]
[null,"DZ23B","Bronchopneumonia with Intermediate CC",0,2963,0,0,39,3453.8364215195525,20,187,"Yes",0.30000000000000004,1036.1509264558658,"","",{"$f":"IF(ISERROR((#REF!-#REF!)/#REF!),0,(#REF!-#REF!)/#REF!)","v":0},{"$f":"IF(ISERROR((#REF!-#REF!)/#REF!),0,(#REF!-#REF!)/#REF!)","v":0},{"$f":"IF(ISERROR((#REF!-#REF!)/#REF!),0,(#REF!-#REF!)/#REF!)","v":0},{"$f":"IF(ISERROR((#REF!-#REF!)/#REF!),0,(#REF!-#REF!)/#REF!)","v":0},{"$f":"IF(ISERROR((#REF!-#REF!)/#REF!),0,(#REF!-#REF!)/#REF!)","v":0},{"$f":"IF(ISERROR((#REF!-#REF!)/#REF!),0,(#REF!-#REF!)/#REF!)","v":0},{"$f":"IF(ISERROR((#REF!-#REF!)/#REF!),0,(#REF!-#REF!)/#REF!)","v":0},{"$f":"IF(ISERROR((#REF!-#REF!)/#REF!),0,(#REF!-#REF!)/#REF!)","v":0},{"$f":"IF(ISERROR((#REF!-#REF!)/#REF!),0,(#REF!-#REF!)/#REF!)","v":0},{"$f":"IF(ISERROR((#REF!-#REF!)/#REF!),0,(#REF!-#REF!)/#REF!)","v":0},{"$f":"IF(ISERROR((#REF!-#REF!)/#REF!),0,(#REF!-#REF!)/#REF!)","v":0},{"$f":"IF(ISERROR((#REF!-#REF!)/#REF!),0,(#REF!-#REF!)/#REF!)","v":0},{"$f":"IF(ISERROR((#REF!-#REF!)/#REF!),0,(#REF!-#REF!)/#REF!)","v":0}]
[null,"DZ23C","Bronchopneumonia without CC",0,1615,0,0,14,1291,9,187,"Yes",0.4,516.4,"","",{"$f":"IF(ISERROR((#REF!-#REF!)/#REF!),0,(#REF!-#REF!)/#REF!)","v":0},{"$f":"IF(ISERROR((#REF!-#REF!)/#REF!),0,(#REF!-#REF!)/#REF!)","v":0},{"$f":"IF(ISERROR((#REF!-#REF!)/#REF!),0,(#REF!-#REF!)/#REF!)","v":0},{"$f":"IF(ISERROR((#REF!-#REF!)/#REF!),0,(#REF!-#REF!)/#REF!)","v":0},{"$f":"IF(ISERROR((#REF!-#REF!)/#REF!),0,(#REF!-#REF!)/#REF!)","v":0},{"$f":"IF(ISERROR((#REF!-#REF!)/#REF!),0,(#REF!-#REF!)/#REF!)","v":0},{"$f":"IF(ISERROR((#REF!-#REF!)/#REF!),0,(#REF!-#REF!)/#REF!)","v":0},{"$f":"IF(ISERROR((#REF!-#REF!)/#REF!),0,(#REF!-#REF!)/#REF!)","v":0},{"$f":"IF(ISERROR((#REF!-#REF!)/#REF!),0,(#REF!-#REF!)/#REF!)","v":0},{"$f":"IF(ISERROR((#REF!-#REF!)/#REF!),0,(#REF!-#REF!)/#REF!)","v":0},{"$f":"IF(ISERROR((#REF!-#REF!)/#REF!),0,(#REF!-#REF!)/#REF!)","v":0},{"$f":"IF(ISERROR((#REF!-#REF!)/#REF!),0,(#REF!-#REF!)/#REF!)","v":0},{"$f":"IF(ISERROR((#REF!-#REF!)/#REF!),0,(#REF!-#REF!)/#REF!)","v":0}]
[null,"DZ24A","Inhalation Lung Injury or Foreign Body, with Major CC",0,3985,0,0,42,4815.2000766186438,42,187,"Yes",0.30000000000000004,1444.5600229855934,"","",{"$f":"IF(ISERROR((#REF!-#REF!)/#REF!),0,(#REF!-#REF!)/#REF!)","v":0},{"$f":"IF(ISERROR((#REF!-#REF!)/#REF!),0,(#REF!-#REF!)/#REF!)","v":0},{"$f":"IF(ISERROR((#REF!-#REF!)/#REF!),0,(#REF!-#REF!)/#REF!)","v":0},{"$f":"IF(ISERROR((#REF!-#REF!)/#REF!),0,(#REF!-#REF!)/#REF!)","v":0},{"$f":"IF(ISERROR((#REF!-#REF!)/#REF!),0,(#REF!-#REF!)/#REF!)","v":0},{"$f":"IF(ISERROR((#REF!-#REF!)/#REF!),0,(#REF!-#REF!)/#REF!)","v":0},{"$f":"IF(ISERROR((#REF!-#REF!)/#REF!),0,(#REF!-#REF!)/#REF!)","v":0},{"$f":"IF(ISERROR((#REF!-#REF!)/#REF!),0,(#REF!-#REF!)/#REF!)","v":0},{"$f":"IF(ISERROR((#REF!-#REF!)/#REF!),0,(#REF!-#REF!)/#REF!)","v":0},{"$f":"IF(ISERROR((#REF!-#REF!)/#REF!),0,(#REF!-#REF!)/#REF!)","v":0},{"$f":"IF(ISERROR((#REF!-#REF!)/#REF!),0,(#REF!-#REF!)/#REF!)","v":0},{"$f":"IF(ISERROR((#REF!-#REF!)/#REF!),0,(#REF!-#REF!)/#REF!)","v":0},{"$f":"IF(ISERROR((#REF!-#REF!)/#REF!),0,(#REF!-#REF!)/#REF!)","v":0}]
[null,"DZ24B","Inhalation Lung Injury or Foreign Body, with Intermediate CC",0,2827,0,0,17,3870.0771889778639,31,187,"Yes",0.30000000000000004,1161.0231566933594,"","",{"$f":"IF(ISERROR((#REF!-#REF!)/#REF!),0,(#REF!-#REF!)/#REF!)","v":0},{"$f":"IF(ISERROR((#REF!-#REF!)/#REF!),0,(#REF!-#REF!)/#REF!)","v":0},{"$f":"IF(ISERROR((#REF!-#REF!)/#REF!),0,(#REF!-#REF!)/#REF!)","v":0},{"$f":"IF(ISERROR((#REF!-#REF!)/#REF!),0,(#REF!-#REF!)/#REF!)","v":0},{"$f":"IF(ISERROR((#REF!-#REF!)/#REF!),0,(#REF!-#REF!)/#REF!)","v":0},{"$f":"IF(ISERROR((#REF!-#REF!)/#REF!),0,(#REF!-#REF!)/#REF!)","v":0},{"$f":"IF(ISERROR((#REF!-#REF!)/#REF!),0,(#REF!-#REF!)/#REF!)","v":0},{"$f":"IF(ISERROR((#REF!-#REF!)/#REF!),0,(#REF!-#REF!)/#REF!)","v":0},{"$f":"IF(ISERROR((#REF!-#REF!)/#REF!),0,(#REF!-#REF!)/#REF!)","v":0},{"$f":"IF(ISERROR((#REF!-#REF!)/#REF!),0,(#REF!-#REF!)/#REF!)","v":0},{"$f":"IF(ISERROR((#REF!-#REF!)/#REF!),0,(#REF!-#REF!)/#REF!)","v":0},{"$f":"IF(ISERROR((#REF!-#REF!)/#REF!),0,(#REF!-#REF!)/#REF!)","v":0},{"$f":"IF(ISERROR((#REF!-#REF!)/#REF!),0,(#REF!-#REF!)/#REF!)","v":0}]
[null,"DZ24C","Inhalation Lung Injury or Foreign Body, without CC",0,1464,0,0,14,2479.4425151957812,11,187,"Yes",0.30000000000000004,743.83275455873445,"","",{"$f":"IF(ISERROR((#REF!-#REF!)/#REF!),0,(#REF!-#REF!)/#REF!)","v":0},{"$f":"IF(ISERROR((#REF!-#REF!)/#REF!),0,(#REF!-#REF!)/#REF!)","v":0},{"$f":"IF(ISERROR((#REF!-#REF!)/#REF!),0,(#REF!-#REF!)/#REF!)","v":0},{"$f":"IF(ISERROR((#REF!-#REF!)/#REF!),0,(#REF!-#REF!)/#REF!)","v":0},{"$f":"IF(ISERROR((#REF!-#REF!)/#REF!),0,(#REF!-#REF!)/#REF!)","v":0},{"$f":"IF(ISERROR((#REF!-#REF!)/#REF!),0,(#REF!-#REF!)/#REF!)","v":0},{"$f":"IF(ISERROR((#REF!-#REF!)/#REF!),0,(#REF!-#REF!)/#REF!)","v":0},{"$f":"IF(ISERROR((#REF!-#REF!)/#REF!),0,(#REF!-#REF!)/#REF!)","v":0},{"$f":"IF(ISERROR((#REF!-#REF!)/#REF!),0,(#REF!-#REF!)/#REF!)","v":0},{"$f":"IF(ISERROR((#REF!-#REF!)/#REF!),0,(#REF!-#REF!)/#REF!)","v":0},{"$f":"IF(ISERROR((#REF!-#REF!)/#REF!),0,(#REF!-#REF!)/#REF!)","v":0},{"$f":"IF(ISERROR((#REF!-#REF!)/#REF!),0,(#REF!-#REF!)/#REF!)","v":0},{"$f":"IF(ISERROR((#REF!-#REF!)/#REF!),0,(#REF!-#REF!)/#REF!)","v":0}]
[null,"DZ25A","Fibrosis or Pneumoconiosis, with CC",0,1281,0,0,5,3000.9865035014386,27,187,"Yes",0.30000000000000004,900.29595105043177,"","",{"$f":"IF(ISERROR((#REF!-#REF!)/#REF!),0,(#REF!-#REF!)/#REF!)","v":0},{"$f":"IF(ISERROR((#REF!-#REF!)/#REF!),0,(#REF!-#REF!)/#REF!)","v":0},{"$f":"IF(ISERROR((#REF!-#REF!)/#REF!),0,(#REF!-#REF!)/#REF!)","v":0},{"$f":"IF(ISERROR((#REF!-#REF!)/#REF!),0,(#REF!-#REF!)/#REF!)","v":0},{"$f":"IF(ISERROR((#REF!-#REF!)/#REF!),0,(#REF!-#REF!)/#REF!)","v":0},{"$f":"IF(ISERROR((#REF!-#REF!)/#REF!),0,(#REF!-#REF!)/#REF!)","v":0},{"$f":"IF(ISERROR((#REF!-#REF!)/#REF!),0,(#REF!-#REF!)/#REF!)","v":0},{"$f":"IF(ISERROR((#REF!-#REF!)/#REF!),0,(#REF!-#REF!)/#REF!)","v":0},{"$f":"IF(ISERROR((#REF!-#REF!)/#REF!),0,(#REF!-#REF!)/#REF!)","v":0},{"$f":"IF(ISERROR((#REF!-#REF!)/#REF!),0,(#REF!-#REF!)/#REF!)","v":0},{"$f":"IF(ISERROR((#REF!-#REF!)/#REF!),0,(#REF!-#REF!)/#REF!)","v":0},{"$f":"IF(ISERROR((#REF!-#REF!)/#REF!),0,(#REF!-#REF!)/#REF!)","v":0},{"$f":"IF(ISERROR((#REF!-#REF!)/#REF!),0,(#REF!-#REF!)/#REF!)","v":0}]
[null,"DZ25B","Fibrosis or Pneumoconiosis, without CC",0,938,0,0,5,2070.1152912037865,12,187,"Yes",0.4,828.04611648151467,"","",{"$f":"IF(ISERROR((#REF!-#REF!)/#REF!),0,(#REF!-#REF!)/#REF!)","v":0},{"$f":"IF(ISERROR((#REF!-#REF!)/#REF!),0,(#REF!-#REF!)/#REF!)","v":0},{"$f":"IF(ISERROR((#REF!-#REF!)/#REF!),0,(#REF!-#REF!)/#REF!)","v":0},{"$f":"IF(ISERROR((#REF!-#REF!)/#REF!),0,(#REF!-#REF!)/#REF!)","v":0},{"$f":"IF(ISERROR((#REF!-#REF!)/#REF!),0,(#REF!-#REF!)/#REF!)","v":0},{"$f":"IF(ISERROR((#REF!-#REF!)/#REF!),0,(#REF!-#REF!)/#REF!)","v":0},{"$f":"IF(ISERROR((#REF!-#REF!)/#REF!),0,(#REF!-#REF!)/#REF!)","v":0},{"$f":"IF(ISERROR((#REF!-#REF!)/#REF!),0,(#REF!-#REF!)/#REF!)","v":0},{"$f":"IF(ISERROR((#REF!-#REF!)/#REF!),0,(#REF!-#REF!)/#REF!)","v":0},{"$f":"IF(ISERROR((#REF!-#REF!)/#REF!),0,(#REF!-#REF!)/#REF!)","v":0},{"$f":"IF(ISERROR((#REF!-#REF!)/#REF!),0,(#REF!-#REF!)/#REF!)","v":0},{"$f":"IF(ISERROR((#REF!-#REF!)/#REF!),0,(#REF!-#REF!)/#REF!)","v":0},{"$f":"IF(ISERROR((#REF!-#REF!)/#REF!),0,(#REF!-#REF!)/#REF!)","v":0}]
[null,"DZ26A","Pneumothorax or Intrathoracic Injuries, with CC",0,3441.4707965175598,0,0,14,2846.3195508531585,22,187,"Yes",0.30000000000000004,853.89586525594768,"","",{"$f":"IF(ISERROR((#REF!-#REF!)/#REF!),0,(#REF!-#REF!)/#REF!)","v":0},{"$f":"IF(ISERROR((#REF!-#REF!)/#REF!),0,(#REF!-#REF!)/#REF!)","v":0},{"$f":"IF(ISERROR((#REF!-#REF!)/#REF!),0,(#REF!-#REF!)/#REF!)","v":0},{"$f":"IF(ISERROR((#REF!-#REF!)/#REF!),0,(#REF!-#REF!)/#REF!)","v":0},{"$f":"IF(ISERROR((#REF!-#REF!)/#REF!),0,(#REF!-#REF!)/#REF!)","v":0},{"$f":"IF(ISERROR((#REF!-#REF!)/#REF!),0,(#REF!-#REF!)/#REF!)","v":0},{"$f":"IF(ISERROR((#REF!-#REF!)/#REF!),0,(#REF!-#REF!)/#REF!)","v":0},{"$f":"IF(ISERROR((#REF!-#REF!)/#REF!),0,(#REF!-#REF!)/#REF!)","v":0},{"$f":"IF(ISERROR((#REF!-#REF!)/#REF!),0,(#REF!-#REF!)/#REF!)","v":0},{"$f":"IF(ISERROR((#REF!-#REF!)/#REF!),0,(#REF!-#REF!)/#REF!)","v":0},{"$f":"IF(ISERROR((#REF!-#REF!)/#REF!),0,(#REF!-#REF!)/#REF!)","v":0},{"$f":"IF(ISERROR((#REF!-#REF!)/#REF!),0,(#REF!-#REF!)/#REF!)","v":0},{"$f":"IF(ISERROR((#REF!-#REF!)/#REF!),0,(#REF!-#REF!)/#REF!)","v":0}]
[null,"DZ26B","Pneumothorax or Intrathoracic Injuries, without CC",0,987,0,0,8,1820.8219152144698,9,187,"Yes",0.4,728.32876608578795,"","",{"$f":"IF(ISERROR((#REF!-#REF!)/#REF!),0,(#REF!-#REF!)/#REF!)","v":0},{"$f":"IF(ISERROR((#REF!-#REF!)/#REF!),0,(#REF!-#REF!)/#REF!)","v":0},{"$f":"IF(ISERROR((#REF!-#REF!)/#REF!),0,(#REF!-#REF!)/#REF!)","v":0},{"$f":"IF(ISERROR((#REF!-#REF!)/#REF!),0,(#REF!-#REF!)/#REF!)","v":0},{"$f":"IF(ISERROR((#REF!-#REF!)/#REF!),0,(#REF!-#REF!)/#REF!)","v":0},{"$f":"IF(ISERROR((#REF!-#REF!)/#REF!),0,(#REF!-#REF!)/#REF!)","v":0},{"$f":"IF(ISERROR((#REF!-#REF!)/#REF!),0,(#REF!-#REF!)/#REF!)","v":0},{"$f":"IF(ISERROR((#REF!-#REF!)/#REF!),0,(#REF!-#REF!)/#REF!)","v":0},{"$f":"IF(ISERROR((#REF!-#REF!)/#REF!),0,(#REF!-#REF!)/#REF!)","v":0},{"$f":"IF(ISERROR((#REF!-#REF!)/#REF!),0,(#REF!-#REF!)/#REF!)","v":0},{"$f":"IF(ISERROR((#REF!-#REF!)/#REF!),0,(#REF!-#REF!)/#REF!)","v":0},{"$f":"IF(ISERROR((#REF!-#REF!)/#REF!),0,(#REF!-#REF!)/#REF!)","v":0},{"$f":"IF(ISERROR((#REF!-#REF!)/#REF!),0,(#REF!-#REF!)/#REF!)","v":0}]
[null,"DZ27A","Respiratory Failure with Intubation, with Major CC",0,3763,0,0,38,6090.1444294756011,38,187,"Yes",0.30000000000000004,1827.0433288426807,"","",{"$f":"IF(ISERROR((#REF!-#REF!)/#REF!),0,(#REF!-#REF!)/#REF!)","v":0},{"$f":"IF(ISERROR((#REF!-#REF!)/#REF!),0,(#REF!-#REF!)/#REF!)","v":0},{"$f":"IF(ISERROR((#REF!-#REF!)/#REF!),0,(#REF!-#REF!)/#REF!)","v":0},{"$f":"IF(ISERROR((#REF!-#REF!)/#REF!),0,(#REF!-#REF!)/#REF!)","v":0},{"$f":"IF(ISERROR((#REF!-#REF!)/#REF!),0,(#REF!-#REF!)/#REF!)","v":0},{"$f":"IF(ISERROR((#REF!-#REF!)/#REF!),0,(#REF!-#REF!)/#REF!)","v":0},{"$f":"IF(ISERROR((#REF!-#REF!)/#REF!),0,(#REF!-#REF!)/#REF!)","v":0},{"$f":"IF(ISERROR((#REF!-#REF!)/#REF!),0,(#REF!-#REF!)/#REF!)","v":0},{"$f":"IF(ISERROR((#REF!-#REF!)/#REF!),0,(#REF!-#REF!)/#REF!)","v":0},{"$f":"IF(ISERROR((#REF!-#REF!)/#REF!),0,(#REF!-#REF!)/#REF!)","v":0},{"$f":"IF(ISERROR((#REF!-#REF!)/#REF!),0,(#REF!-#REF!)/#REF!)","v":0},{"$f":"IF(ISERROR((#REF!-#REF!)/#REF!),0,(#REF!-#REF!)/#REF!)","v":0},{"$f":"IF(ISERROR((#REF!-#REF!)/#REF!),0,(#REF!-#REF!)/#REF!)","v":0}]
[null,"DZ27B","Respiratory Failure with Intubation, with Intermediate CC",0,2327,0,0,18,2327,18,187,"Yes",0.30000000000000004,698.10000000000014,"","",{"$f":"IF(ISERROR((#REF!-#REF!)/#REF!),0,(#REF!-#REF!)/#REF!)","v":0},{"$f":"IF(ISERROR((#REF!-#REF!)/#REF!),0,(#REF!-#REF!)/#REF!)","v":0},{"$f":"IF(ISERROR((#REF!-#REF!)/#REF!),0,(#REF!-#REF!)/#REF!)","v":0},{"$f":"IF(ISERROR((#REF!-#REF!)/#REF!),0,(#REF!-#REF!)/#REF!)","v":0},{"$f":"IF(ISERROR((#REF!-#REF!)/#REF!),0,(#REF!-#REF!)/#REF!)","v":0},{"$f":"IF(ISERROR((#REF!-#REF!)/#REF!),0,(#REF!-#REF!)/#REF!)","v":0},{"$f":"IF(ISERROR((#REF!-#REF!)/#REF!),0,(#REF!-#REF!)/#REF!)","v":0},{"$f":"IF(ISERROR((#REF!-#REF!)/#REF!),0,(#REF!-#REF!)/#REF!)","v":0},{"$f":"IF(ISERROR((#REF!-#REF!)/#REF!),0,(#REF!-#REF!)/#REF!)","v":0},{"$f":"IF(ISERROR((#REF!-#REF!)/#REF!),0,(#REF!-#REF!)/#REF!)","v":0},{"$f":"IF(ISERROR((#REF!-#REF!)/#REF!),0,(#REF!-#REF!)/#REF!)","v":0},{"$f":"IF(ISERROR((#REF!-#REF!)/#REF!),0,(#REF!-#REF!)/#REF!)","v":0},{"$f":"IF(ISERROR((#REF!-#REF!)/#REF!),0,(#REF!-#REF!)/#REF!)","v":0}]
[null,"DZ27C","Respiratory Failure with Intubation, without CC",0,724,0,0,26,724,26,187,"Yes",0.30000000000000004,217.20000000000005,"","",{"$f":"IF(ISERROR((#REF!-#REF!)/#REF!),0,(#REF!-#REF!)/#REF!)","v":0},{"$f":"IF(ISERROR((#REF!-#REF!)/#REF!),0,(#REF!-#REF!)/#REF!)","v":0},{"$f":"IF(ISERROR((#REF!-#REF!)/#REF!),0,(#REF!-#REF!)/#REF!)","v":0},{"$f":"IF(ISERROR((#REF!-#REF!)/#REF!),0,(#REF!-#REF!)/#REF!)","v":0},{"$f":"IF(ISERROR((#REF!-#REF!)/#REF!),0,(#REF!-#REF!)/#REF!)","v":0},{"$f":"IF(ISERROR((#REF!-#REF!)/#REF!),0,(#REF!-#REF!)/#REF!)","v":0},{"$f":"IF(ISERROR((#REF!-#REF!)/#REF!),0,(#REF!-#REF!)/#REF!)","v":0},{"$f":"IF(ISERROR((#REF!-#REF!)/#REF!),0,(#REF!-#REF!)/#REF!)","v":0},{"$f":"IF(ISERROR((#REF!-#REF!)/#REF!),0,(#REF!-#REF!)/#REF!)","v":0},{"$f":"IF(ISERROR((#REF!-#REF!)/#REF!),0,(#REF!-#REF!)/#REF!)","v":0},{"$f":"IF(ISERROR((#REF!-#REF!)/#REF!),0,(#REF!-#REF!)/#REF!)","v":0},{"$f":"IF(ISERROR((#REF!-#REF!)/#REF!),0,(#REF!-#REF!)/#REF!)","v":0},{"$f":"IF(ISERROR((#REF!-#REF!)/#REF!),0,(#REF!-#REF!)/#REF!)","v":0}]
[null,"DZ27D","Respiratory Failure without Intubation, with Major CC",0,893,0,0,5,4236.217742167888,34,187,"Yes",0.30000000000000004,1270.8653226503666,"","",{"$f":"IF(ISERROR((#REF!-#REF!)/#REF!),0,(#REF!-#REF!)/#REF!)","v":0},{"$f":"IF(ISERROR((#REF!-#REF!)/#REF!),0,(#REF!-#REF!)/#REF!)","v":0},{"$f":"IF(ISERROR((#REF!-#REF!)/#REF!),0,(#REF!-#REF!)/#REF!)","v":0},{"$f":"IF(ISERROR((#REF!-#REF!)/#REF!),0,(#REF!-#REF!)/#REF!)","v":0},{"$f":"IF(ISERROR((#REF!-#REF!)/#REF!),0,(#REF!-#REF!)/#REF!)","v":0},{"$f":"IF(ISERROR((#REF!-#REF!)/#REF!),0,(#REF!-#REF!)/#REF!)","v":0},{"$f":"IF(ISERROR((#REF!-#REF!)/#REF!),0,(#REF!-#REF!)/#REF!)","v":0},{"$f":"IF(ISERROR((#REF!-#REF!)/#REF!),0,(#REF!-#REF!)/#REF!)","v":0},{"$f":"IF(ISERROR((#REF!-#REF!)/#REF!),0,(#REF!-#REF!)/#REF!)","v":0},{"$f":"IF(ISERROR((#REF!-#REF!)/#REF!),0,(#REF!-#REF!)/#REF!)","v":0},{"$f":"IF(ISERROR((#REF!-#REF!)/#REF!),0,(#REF!-#REF!)/#REF!)","v":0},{"$f":"IF(ISERROR((#REF!-#REF!)/#REF!),0,(#REF!-#REF!)/#REF!)","v":0},{"$f":"IF(ISERROR((#REF!-#REF!)/#REF!),0,(#REF!-#REF!)/#REF!)","v":0}]
[null,"DZ27E","Respiratory Failure without Intubation, with Intermediate CC",0,667,0,0,5,3044.3328204759605,22,187,"Yes",0.30000000000000004,913.29984614278828,"","",{"$f":"IF(ISERROR((#REF!-#REF!)/#REF!),0,(#REF!-#REF!)/#REF!)","v":0},{"$f":"IF(ISERROR((#REF!-#REF!)/#REF!),0,(#REF!-#REF!)/#REF!)","v":0},{"$f":"IF(ISERROR((#REF!-#REF!)/#REF!),0,(#REF!-#REF!)/#REF!)","v":0},{"$f":"IF(ISERROR((#REF!-#REF!)/#REF!),0,(#REF!-#REF!)/#REF!)","v":0},{"$f":"IF(ISERROR((#REF!-#REF!)/#REF!),0,(#REF!-#REF!)/#REF!)","v":0},{"$f":"IF(ISERROR((#REF!-#REF!)/#REF!),0,(#REF!-#REF!)/#REF!)","v":0},{"$f":"IF(ISERROR((#REF!-#REF!)/#REF!),0,(#REF!-#REF!)/#REF!)","v":0},{"$f":"IF(ISERROR((#REF!-#REF!)/#REF!),0,(#REF!-#REF!)/#REF!)","v":0},{"$f":"IF(ISERROR((#REF!-#REF!)/#REF!),0,(#REF!-#REF!)/#REF!)","v":0},{"$f":"IF(ISERROR((#REF!-#REF!)/#REF!),0,(#REF!-#REF!)/#REF!)","v":0},{"$f":"IF(ISERROR((#REF!-#REF!)/#REF!),0,(#REF!-#REF!)/#REF!)","v":0},{"$f":"IF(ISERROR((#REF!-#REF!)/#REF!),0,(#REF!-#REF!)/#REF!)","v":0},{"$f":"IF(ISERROR((#REF!-#REF!)/#REF!),0,(#REF!-#REF!)/#REF!)","v":0}]
[null,"DZ27F","Respiratory Failure without Intubation, without CC",0,657,0,0,5,1556,11,187,"Yes",0.4,622.40000000000009,"","",{"$f":"IF(ISERROR((#REF!-#REF!)/#REF!),0,(#REF!-#REF!)/#REF!)","v":0},{"$f":"IF(ISERROR((#REF!-#REF!)/#REF!),0,(#REF!-#REF!)/#REF!)","v":0},{"$f":"IF(ISERROR((#REF!-#REF!)/#REF!),0,(#REF!-#REF!)/#REF!)","v":0},{"$f":"IF(ISERROR((#REF!-#REF!)/#REF!),0,(#REF!-#REF!)/#REF!)","v":0},{"$f":"IF(ISERROR((#REF!-#REF!)/#REF!),0,(#REF!-#REF!)/#REF!)","v":0},{"$f":"IF(ISERROR((#REF!-#REF!)/#REF!),0,(#REF!-#REF!)/#REF!)","v":0},{"$f":"IF(ISERROR((#REF!-#REF!)/#REF!),0,(#REF!-#REF!)/#REF!)","v":0},{"$f":"IF(ISERROR((#REF!-#REF!)/#REF!),0,(#REF!-#REF!)/#REF!)","v":0},{"$f":"IF(ISERROR((#REF!-#REF!)/#REF!),0,(#REF!-#REF!)/#REF!)","v":0},{"$f":"IF(ISERROR((#REF!-#REF!)/#REF!),0,(#REF!-#REF!)/#REF!)","v":0},{"$f":"IF(ISERROR((#REF!-#REF!)/#REF!),0,(#REF!-#REF!)/#REF!)","v":0},{"$f":"IF(ISERROR((#REF!-#REF!)/#REF!),0,(#REF!-#REF!)/#REF!)","v":0},{"$f":"IF(ISERROR((#REF!-#REF!)/#REF!),0,(#REF!-#REF!)/#REF!)","v":0}]
[null,"DZ28Z","Pleurisy",0,454,0,0,5,454,5,187,"Yes",1,454,"","",{"$f":"IF(ISERROR((#REF!-#REF!)/#REF!),0,(#REF!-#REF!)/#REF!)","v":0},{"$f":"IF(ISERROR((#REF!-#REF!)/#REF!),0,(#REF!-#REF!)/#REF!)","v":0},{"$f":"IF(ISERROR((#REF!-#REF!)/#REF!),0,(#REF!-#REF!)/#REF!)","v":0},{"$f":"IF(ISERROR((#REF!-#REF!)/#REF!),0,(#REF!-#REF!)/#REF!)","v":0},{"$f":"IF(ISERROR((#REF!-#REF!)/#REF!),0,(#REF!-#REF!)/#REF!)","v":0},{"$f":"IF(ISERROR((#REF!-#REF!)/#REF!),0,(#REF!-#REF!)/#REF!)","v":0},{"$f":"IF(ISERROR((#REF!-#REF!)/#REF!),0,(#REF!-#REF!)/#REF!)","v":0},{"$f":"IF(ISERROR((#REF!-#REF!)/#REF!),0,(#REF!-#REF!)/#REF!)","v":0},{"$f":"IF(ISERROR((#REF!-#REF!)/#REF!),0,(#REF!-#REF!)/#REF!)","v":0},{"$f":"IF(ISERROR((#REF!-#REF!)/#REF!),0,(#REF!-#REF!)/#REF!)","v":0},{"$f":"IF(ISERROR((#REF!-#REF!)/#REF!),0,(#REF!-#REF!)/#REF!)","v":0},{"$f":"IF(ISERROR((#REF!-#REF!)/#REF!),0,(#REF!-#REF!)/#REF!)","v":0},{"$f":"IF(ISERROR((#REF!-#REF!)/#REF!),0,(#REF!-#REF!)/#REF!)","v":0}]
[null,"DZ29A","Granulomatous, Allergic Alveolitis or Autoimmune Lung Disease, with CC",0,637,0,0,5,3487.0533794460912,25,187,"Yes",0.30000000000000004,1046.1160138338275,"","",{"$f":"IF(ISERROR((#REF!-#REF!)/#REF!),0,(#REF!-#REF!)/#REF!)","v":0},{"$f":"IF(ISERROR((#REF!-#REF!)/#REF!),0,(#REF!-#REF!)/#REF!)","v":0},{"$f":"IF(ISERROR((#REF!-#REF!)/#REF!),0,(#REF!-#REF!)/#REF!)","v":0},{"$f":"IF(ISERROR((#REF!-#REF!)/#REF!),0,(#REF!-#REF!)/#REF!)","v":0},{"$f":"IF(ISERROR((#REF!-#REF!)/#REF!),0,(#REF!-#REF!)/#REF!)","v":0},{"$f":"IF(ISERROR((#REF!-#REF!)/#REF!),0,(#REF!-#REF!)/#REF!)","v":0},{"$f":"IF(ISERROR((#REF!-#REF!)/#REF!),0,(#REF!-#REF!)/#REF!)","v":0},{"$f":"IF(ISERROR((#REF!-#REF!)/#REF!),0,(#REF!-#REF!)/#REF!)","v":0},{"$f":"IF(ISERROR((#REF!-#REF!)/#REF!),0,(#REF!-#REF!)/#REF!)","v":0},{"$f":"IF(ISERROR((#REF!-#REF!)/#REF!),0,(#REF!-#REF!)/#REF!)","v":0},{"$f":"IF(ISERROR((#REF!-#REF!)/#REF!),0,(#REF!-#REF!)/#REF!)","v":0},{"$f":"IF(ISERROR((#REF!-#REF!)/#REF!),0,(#REF!-#REF!)/#REF!)","v":0},{"$f":"IF(ISERROR((#REF!-#REF!)/#REF!),0,(#REF!-#REF!)/#REF!)","v":0}]
[null,"DZ29B","Granulomatous, Allergic Alveolitis or Autoimmune Lung Disease, without CC",0,486,0,0,5,1555,13,187,"Yes",0.4,622,"","",{"$f":"IF(ISERROR((#REF!-#REF!)/#REF!),0,(#REF!-#REF!)/#REF!)","v":0},{"$f":"IF(ISERROR((#REF!-#REF!)/#REF!),0,(#REF!-#REF!)/#REF!)","v":0},{"$f":"IF(ISERROR((#REF!-#REF!)/#REF!),0,(#REF!-#REF!)/#REF!)","v":0},{"$f":"IF(ISERROR((#REF!-#REF!)/#REF!),0,(#REF!-#REF!)/#REF!)","v":0},{"$f":"IF(ISERROR((#REF!-#REF!)/#REF!),0,(#REF!-#REF!)/#REF!)","v":0},{"$f":"IF(ISERROR((#REF!-#REF!)/#REF!),0,(#REF!-#REF!)/#REF!)","v":0},{"$f":"IF(ISERROR((#REF!-#REF!)/#REF!),0,(#REF!-#REF!)/#REF!)","v":0},{"$f":"IF(ISERROR((#REF!-#REF!)/#REF!),0,(#REF!-#REF!)/#REF!)","v":0},{"$f":"IF(ISERROR((#REF!-#REF!)/#REF!),0,(#REF!-#REF!)/#REF!)","v":0},{"$f":"IF(ISERROR((#REF!-#REF!)/#REF!),0,(#REF!-#REF!)/#REF!)","v":0},{"$f":"IF(ISERROR((#REF!-#REF!)/#REF!),0,(#REF!-#REF!)/#REF!)","v":0},{"$f":"IF(ISERROR((#REF!-#REF!)/#REF!),0,(#REF!-#REF!)/#REF!)","v":0},{"$f":"IF(ISERROR((#REF!-#REF!)/#REF!),0,(#REF!-#REF!)/#REF!)","v":0}]
[null,"DZ30Z","Chest Physiotherapy",0,311,0,0,5,368,5,187,"No","-",0,"","",{"$f":"IF(ISERROR((#REF!-#REF!)/#REF!),0,(#REF!-#REF!)/#REF!)","v":0},{"$f":"IF(ISERROR((#REF!-#REF!)/#REF!),0,(#REF!-#REF!)/#REF!)","v":0},{"$f":"IF(ISERROR((#REF!-#REF!)/#REF!),0,(#REF!-#REF!)/#REF!)","v":0},{"$f":"IF(ISERROR((#REF!-#REF!)/#REF!),0,(#REF!-#REF!)/#REF!)","v":0},{"$f":"IF(ISERROR((#REF!-#REF!)/#REF!),0,(#REF!-#REF!)/#REF!)","v":0},{"$f":"IF(ISERROR((#REF!-#REF!)/#REF!),0,(#REF!-#REF!)/#REF!)","v":0},{"$f":"IF(ISERROR((#REF!-#REF!)/#REF!),0,(#REF!-#REF!)/#REF!)","v":0},{"$f":"IF(ISERROR((#REF!-#REF!)/#REF!),0,(#REF!-#REF!)/#REF!)","v":0},{"$f":"IF(ISERROR((#REF!-#REF!)/#REF!),0,(#REF!-#REF!)/#REF!)","v":0},{"$f":"IF(ISERROR((#REF!-#REF!)/#REF!),0,(#REF!-#REF!)/#REF!)","v":0},{"$f":"IF(ISERROR((#REF!-#REF!)/#REF!),0,(#REF!-#REF!)/#REF!)","v":0},{"$f":"IF(ISERROR((#REF!-#REF!)/#REF!),0,(#REF!-#REF!)/#REF!)","v":0},{"$f":"IF(ISERROR((#REF!-#REF!)/#REF!),0,(#REF!-#REF!)/#REF!)","v":0}]
[null,"DZ31Z","Complex Lung Function Exercise Testing",186,186,0,0,5,186,5,187,"No","-",0,"","",{"$f":"IF(ISERROR((#REF!-#REF!)/#REF!),0,(#REF!-#REF!)/#REF!)","v":0},{"$f":"IF(ISERROR((#REF!-#REF!)/#REF!),0,(#REF!-#REF!)/#REF!)","v":0},{"$f":"IF(ISERROR((#REF!-#REF!)/#REF!),0,(#REF!-#REF!)/#REF!)","v":0},{"$f":"IF(ISERROR((#REF!-#REF!)/#REF!),0,(#REF!-#REF!)/#REF!)","v":0},{"$f":"IF(ISERROR((#REF!-#REF!)/#REF!),0,(#REF!-#REF!)/#REF!)","v":0},{"$f":"IF(ISERROR((#REF!-#REF!)/#REF!),0,(#REF!-#REF!)/#REF!)","v":0},{"$f":"IF(ISERROR((#REF!-#REF!)/#REF!),0,(#REF!-#REF!)/#REF!)","v":0},{"$f":"IF(ISERROR((#REF!-#REF!)/#REF!),0,(#REF!-#REF!)/#REF!)","v":0},{"$f":"IF(ISERROR((#REF!-#REF!)/#REF!),0,(#REF!-#REF!)/#REF!)","v":0},{"$f":"IF(ISERROR((#REF!-#REF!)/#REF!),0,(#REF!-#REF!)/#REF!)","v":0},{"$f":"IF(ISERROR((#REF!-#REF!)/#REF!),0,(#REF!-#REF!)/#REF!)","v":0},{"$f":"IF(ISERROR((#REF!-#REF!)/#REF!),0,(#REF!-#REF!)/#REF!)","v":0},{"$f":"IF(ISERROR((#REF!-#REF!)/#REF!),0,(#REF!-#REF!)/#REF!)","v":0}]
[null,"DZ32Z","Simple Lung Function Exercise Testing",165,165,0,0,5,165,5,187,"No","-",0,"","",{"$f":"IF(ISERROR((#REF!-#REF!)/#REF!),0,(#REF!-#REF!)/#REF!)","v":0},{"$f":"IF(ISERROR((#REF!-#REF!)/#REF!),0,(#REF!-#REF!)/#REF!)","v":0},{"$f":"IF(ISERROR((#REF!-#REF!)/#REF!),0,(#REF!-#REF!)/#REF!)","v":0},{"$f":"IF(ISERROR((#REF!-#REF!)/#REF!),0,(#REF!-#REF!)/#REF!)","v":0},{"$f":"IF(ISERROR((#REF!-#REF!)/#REF!),0,(#REF!-#REF!)/#REF!)","v":0},{"$f":"IF(ISERROR((#REF!-#REF!)/#REF!),0,(#REF!-#REF!)/#REF!)","v":0},{"$f":"IF(ISERROR((#REF!-#REF!)/#REF!),0,(#REF!-#REF!)/#REF!)","v":0},{"$f":"IF(ISERROR((#REF!-#REF!)/#REF!),0,(#REF!-#REF!)/#REF!)","v":0},{"$f":"IF(ISERROR((#REF!-#REF!)/#REF!),0,(#REF!-#REF!)/#REF!)","v":0},{"$f":"IF(ISERROR((#REF!-#REF!)/#REF!),0,(#REF!-#REF!)/#REF!)","v":0},{"$f":"IF(ISERROR((#REF!-#REF!)/#REF!),0,(#REF!-#REF!)/#REF!)","v":0},{"$f":"IF(ISERROR((#REF!-#REF!)/#REF!),0,(#REF!-#REF!)/#REF!)","v":0},{"$f":"IF(ISERROR((#REF!-#REF!)/#REF!),0,(#REF!-#REF!)/#REF!)","v":0}]
[null,"DZ37A","Non-Invasive Ventilation Support Assessment, 19 years and over",217,227,0,0,5,663,13,187,"No","-",0,"","",{"$f":"IF(ISERROR((#REF!-#REF!)/#REF!),0,(#REF!-#REF!)/#REF!)","v":0},{"$f":"IF(ISERROR((#REF!-#REF!)/#REF!),0,(#REF!-#REF!)/#REF!)","v":0},{"$f":"IF(ISERROR((#REF!-#REF!)/#REF!),0,(#REF!-#REF!)/#REF!)","v":0},{"$f":"IF(ISERROR((#REF!-#REF!)/#REF!),0,(#REF!-#REF!)/#REF!)","v":0},{"$f":"IF(ISERROR((#REF!-#REF!)/#REF!),0,(#REF!-#REF!)/#REF!)","v":0},{"$f":"IF(ISERROR((#REF!-#REF!)/#REF!),0,(#REF!-#REF!)/#REF!)","v":0},{"$f":"IF(ISERROR((#REF!-#REF!)/#REF!),0,(#REF!-#REF!)/#REF!)","v":0},{"$f":"IF(ISERROR((#REF!-#REF!)/#REF!),0,(#REF!-#REF!)/#REF!)","v":0},{"$f":"IF(ISERROR((#REF!-#REF!)/#REF!),0,(#REF!-#REF!)/#REF!)","v":0},{"$f":"IF(ISERROR((#REF!-#REF!)/#REF!),0,(#REF!-#REF!)/#REF!)","v":0},{"$f":"IF(ISERROR((#REF!-#REF!)/#REF!),0,(#REF!-#REF!)/#REF!)","v":0},{"$f":"IF(ISERROR((#REF!-#REF!)/#REF!),0,(#REF!-#REF!)/#REF!)","v":0},{"$f":"IF(ISERROR((#REF!-#REF!)/#REF!),0,(#REF!-#REF!)/#REF!)","v":0}]
[null,"DZ37B","Non-Invasive Ventilation Support Assessment, 18 years and under",0,1144,0,0,5,1144,5,327,"No","-",0,"","",{"$f":"IF(ISERROR((#REF!-#REF!)/#REF!),0,(#REF!-#REF!)/#REF!)","v":0},{"$f":"IF(ISERROR((#REF!-#REF!)/#REF!),0,(#REF!-#REF!)/#REF!)","v":0},{"$f":"IF(ISERROR((#REF!-#REF!)/#REF!),0,(#REF!-#REF!)/#REF!)","v":0},{"$f":"IF(ISERROR((#REF!-#REF!)/#REF!),0,(#REF!-#REF!)/#REF!)","v":0},{"$f":"IF(ISERROR((#REF!-#REF!)/#REF!),0,(#REF!-#REF!)/#REF!)","v":0},{"$f":"IF(ISERROR((#REF!-#REF!)/#REF!),0,(#REF!-#REF!)/#REF!)","v":0},{"$f":"IF(ISERROR((#REF!-#REF!)/#REF!),0,(#REF!-#REF!)/#REF!)","v":0},{"$f":"IF(ISERROR((#REF!-#REF!)/#REF!),0,(#REF!-#REF!)/#REF!)","v":0},{"$f":"IF(ISERROR((#REF!-#REF!)/#REF!),0,(#REF!-#REF!)/#REF!)","v":0},{"$f":"IF(ISERROR((#REF!-#REF!)/#REF!),0,(#REF!-#REF!)/#REF!)","v":0},{"$f":"IF(ISERROR((#REF!-#REF!)/#REF!),0,(#REF!-#REF!)/#REF!)","v":0},{"$f":"IF(ISERROR((#REF!-#REF!)/#REF!),0,(#REF!-#REF!)/#REF!)","v":0},{"$f":"IF(ISERROR((#REF!-#REF!)/#REF!),0,(#REF!-#REF!)/#REF!)","v":0}]
[null,"DZ42Z","TB Nurse Support",140,147,0,0,5,301,5,187,"No","-",0,"","",{"$f":"IF(ISERROR((#REF!-#REF!)/#REF!),0,(#REF!-#REF!)/#REF!)","v":0},{"$f":"IF(ISERROR((#REF!-#REF!)/#REF!),0,(#REF!-#REF!)/#REF!)","v":0},{"$f":"IF(ISERROR((#REF!-#REF!)/#REF!),0,(#REF!-#REF!)/#REF!)","v":0},{"$f":"IF(ISERROR((#REF!-#REF!)/#REF!),0,(#REF!-#REF!)/#REF!)","v":0},{"$f":"IF(ISERROR((#REF!-#REF!)/#REF!),0,(#REF!-#REF!)/#REF!)","v":0},{"$f":"IF(ISERROR((#REF!-#REF!)/#REF!),0,(#REF!-#REF!)/#REF!)","v":0},{"$f":"IF(ISERROR((#REF!-#REF!)/#REF!),0,(#REF!-#REF!)/#REF!)","v":0},{"$f":"IF(ISERROR((#REF!-#REF!)/#REF!),0,(#REF!-#REF!)/#REF!)","v":0},{"$f":"IF(ISERROR((#REF!-#REF!)/#REF!),0,(#REF!-#REF!)/#REF!)","v":0},{"$f":"IF(ISERROR((#REF!-#REF!)/#REF!),0,(#REF!-#REF!)/#REF!)","v":0},{"$f":"IF(ISERROR((#REF!-#REF!)/#REF!),0,(#REF!-#REF!)/#REF!)","v":0},{"$f":"IF(ISERROR((#REF!-#REF!)/#REF!),0,(#REF!-#REF!)/#REF!)","v":0},{"$f":"IF(ISERROR((#REF!-#REF!)/#REF!),0,(#REF!-#REF!)/#REF!)","v":0}]
[null,"DZ50Z","Respiratory Sleep Study",467,0,824.18813434548736,915.96068891928905,5,519,5,187,"No","-",0,"","",{"$f":"IF(ISERROR((#REF!-#REF!)/#REF!),0,(#REF!-#REF!)/#REF!)","v":0},{"$f":"IF(ISERROR((#REF!-#REF!)/#REF!),0,(#REF!-#REF!)/#REF!)","v":0},{"$f":"IF(ISERROR((#REF!-#REF!)/#REF!),0,(#REF!-#REF!)/#REF!)","v":0},{"$f":"IF(ISERROR((#REF!-#REF!)/#REF!),0,(#REF!-#REF!)/#REF!)","v":0},{"$f":"IF(ISERROR((#REF!-#REF!)/#REF!),0,(#REF!-#REF!)/#REF!)","v":0},{"$f":"IF(ISERROR((#REF!-#REF!)/#REF!),0,(#REF!-#REF!)/#REF!)","v":0},{"$f":"IF(ISERROR((#REF!-#REF!)/#REF!),0,(#REF!-#REF!)/#REF!)","v":0},{"$f":"IF(ISERROR((#REF!-#REF!)/#REF!),0,(#REF!-#REF!)/#REF!)","v":0},{"$f":"IF(ISERROR((#REF!-#REF!)/#REF!),0,(#REF!-#REF!)/#REF!)","v":0},{"$f":"IF(ISERROR((#REF!-#REF!)/#REF!),0,(#REF!-#REF!)/#REF!)","v":0},{"$f":"IF(ISERROR((#REF!-#REF!)/#REF!),0,(#REF!-#REF!)/#REF!)","v":0},{"$f":"IF(ISERROR((#REF!-#REF!)/#REF!),0,(#REF!-#REF!)/#REF!)","v":0},{"$f":"IF(ISERROR((#REF!-#REF!)/#REF!),0,(#REF!-#REF!)/#REF!)","v":0}]
[null,"DZ51Z","Complex Tuberculosis",0,15889,0,0,126,14157,103,187,"Yes",0.30000000000000004,4247.1000000000004,"","",{"$f":"IF(ISERROR((#REF!-#REF!)/#REF!),0,(#REF!-#REF!)/#REF!)","v":0},{"$f":"IF(ISERROR((#REF!-#REF!)/#REF!),0,(#REF!-#REF!)/#REF!)","v":0},{"$f":"IF(ISERROR((#REF!-#REF!)/#REF!),0,(#REF!-#REF!)/#REF!)","v":0},{"$f":"IF(ISERROR((#REF!-#REF!)/#REF!),0,(#REF!-#REF!)/#REF!)","v":0},{"$f":"IF(ISERROR((#REF!-#REF!)/#REF!),0,(#REF!-#REF!)/#REF!)","v":0},{"$f":"IF(ISERROR((#REF!-#REF!)/#REF!),0,(#REF!-#REF!)/#REF!)","v":0},{"$f":"IF(ISERROR((#REF!-#REF!)/#REF!),0,(#REF!-#REF!)/#REF!)","v":0},{"$f":"IF(ISERROR((#REF!-#REF!)/#REF!),0,(#REF!-#REF!)/#REF!)","v":0},{"$f":"IF(ISERROR((#REF!-#REF!)/#REF!),0,(#REF!-#REF!)/#REF!)","v":0},{"$f":"IF(ISERROR((#REF!-#REF!)/#REF!),0,(#REF!-#REF!)/#REF!)","v":0},{"$f":"IF(ISERROR((#REF!-#REF!)/#REF!),0,(#REF!-#REF!)/#REF!)","v":0},{"$f":"IF(ISERROR((#REF!-#REF!)/#REF!),0,(#REF!-#REF!)/#REF!)","v":0},{"$f":"IF(ISERROR((#REF!-#REF!)/#REF!),0,(#REF!-#REF!)/#REF!)","v":0}]
[null,"DZ52Z","Full Pulmonary Function Testing",172,172,0,0,5,172,5,187,"No","-",0,"","",{"$f":"IF(ISERROR((#REF!-#REF!)/#REF!),0,(#REF!-#REF!)/#REF!)","v":0},{"$f":"IF(ISERROR((#REF!-#REF!)/#REF!),0,(#REF!-#REF!)/#REF!)","v":0},{"$f":"IF(ISERROR((#REF!-#REF!)/#REF!),0,(#REF!-#REF!)/#REF!)","v":0},{"$f":"IF(ISERROR((#REF!-#REF!)/#REF!),0,(#REF!-#REF!)/#REF!)","v":0},{"$f":"IF(ISERROR((#REF!-#REF!)/#REF!),0,(#REF!-#REF!)/#REF!)","v":0},{"$f":"IF(ISERROR((#REF!-#REF!)/#REF!),0,(#REF!-#REF!)/#REF!)","v":0},{"$f":"IF(ISERROR((#REF!-#REF!)/#REF!),0,(#REF!-#REF!)/#REF!)","v":0},{"$f":"IF(ISERROR((#REF!-#REF!)/#REF!),0,(#REF!-#REF!)/#REF!)","v":0},{"$f":"IF(ISERROR((#REF!-#REF!)/#REF!),0,(#REF!-#REF!)/#REF!)","v":0},{"$f":"IF(ISERROR((#REF!-#REF!)/#REF!),0,(#REF!-#REF!)/#REF!)","v":0},{"$f":"IF(ISERROR((#REF!-#REF!)/#REF!),0,(#REF!-#REF!)/#REF!)","v":0},{"$f":"IF(ISERROR((#REF!-#REF!)/#REF!),0,(#REF!-#REF!)/#REF!)","v":0},{"$f":"IF(ISERROR((#REF!-#REF!)/#REF!),0,(#REF!-#REF!)/#REF!)","v":0}]
[null,"DZ54Z","Complex Bronchoscopy",0,2187,0,0,11,3085,11,178,"Yes",0.30000000000000004,925.50000000000011,"","",{"$f":"IF(ISERROR((#REF!-#REF!)/#REF!),0,(#REF!-#REF!)/#REF!)","v":0},{"$f":"IF(ISERROR((#REF!-#REF!)/#REF!),0,(#REF!-#REF!)/#REF!)","v":0},{"$f":"IF(ISERROR((#REF!-#REF!)/#REF!),0,(#REF!-#REF!)/#REF!)","v":0},{"$f":"IF(ISERROR((#REF!-#REF!)/#REF!),0,(#REF!-#REF!)/#REF!)","v":0},{"$f":"IF(ISERROR((#REF!-#REF!)/#REF!),0,(#REF!-#REF!)/#REF!)","v":0},{"$f":"IF(ISERROR((#REF!-#REF!)/#REF!),0,(#REF!-#REF!)/#REF!)","v":0},{"$f":"IF(ISERROR((#REF!-#REF!)/#REF!),0,(#REF!-#REF!)/#REF!)","v":0},{"$f":"IF(ISERROR((#REF!-#REF!)/#REF!),0,(#REF!-#REF!)/#REF!)","v":0},{"$f":"IF(ISERROR((#REF!-#REF!)/#REF!),0,(#REF!-#REF!)/#REF!)","v":0},{"$f":"IF(ISERROR((#REF!-#REF!)/#REF!),0,(#REF!-#REF!)/#REF!)","v":0},{"$f":"IF(ISERROR((#REF!-#REF!)/#REF!),0,(#REF!-#REF!)/#REF!)","v":0},{"$f":"IF(ISERROR((#REF!-#REF!)/#REF!),0,(#REF!-#REF!)/#REF!)","v":0},{"$f":"IF(ISERROR((#REF!-#REF!)/#REF!),0,(#REF!-#REF!)/#REF!)","v":0}]
[null,"EA03Z","Pace 1: Single Chamber or Implantable Diagnostic Device",0,2135,0,0,5,7283.2572201100102,26,204,"No","-",0,"","",{"$f":"IF(ISERROR((#REF!-#REF!)/#REF!),0,(#REF!-#REF!)/#REF!)","v":0},{"$f":"IF(ISERROR((#REF!-#REF!)/#REF!),0,(#REF!-#REF!)/#REF!)","v":0},{"$f":"IF(ISERROR((#REF!-#REF!)/#REF!),0,(#REF!-#REF!)/#REF!)","v":0},{"$f":"IF(ISERROR((#REF!-#REF!)/#REF!),0,(#REF!-#REF!)/#REF!)","v":0},{"$f":"IF(ISERROR((#REF!-#REF!)/#REF!),0,(#REF!-#REF!)/#REF!)","v":0},{"$f":"IF(ISERROR((#REF!-#REF!)/#REF!),0,(#REF!-#REF!)/#REF!)","v":0},{"$f":"IF(ISERROR((#REF!-#REF!)/#REF!),0,(#REF!-#REF!)/#REF!)","v":0},{"$f":"IF(ISERROR((#REF!-#REF!)/#REF!),0,(#REF!-#REF!)/#REF!)","v":0},{"$f":"IF(ISERROR((#REF!-#REF!)/#REF!),0,(#REF!-#REF!)/#REF!)","v":0},{"$f":"IF(ISERROR((#REF!-#REF!)/#REF!),0,(#REF!-#REF!)/#REF!)","v":0},{"$f":"IF(ISERROR((#REF!-#REF!)/#REF!),0,(#REF!-#REF!)/#REF!)","v":0},{"$f":"IF(ISERROR((#REF!-#REF!)/#REF!),0,(#REF!-#REF!)/#REF!)","v":0},{"$f":"IF(ISERROR((#REF!-#REF!)/#REF!),0,(#REF!-#REF!)/#REF!)","v":0}]
[null,"EA05Z","Pace 2: Dual Chamber",0,3031,0,0,5,6190.6056483209968,26,204,"No","-",0,"","",{"$f":"IF(ISERROR((#REF!-#REF!)/#REF!),0,(#REF!-#REF!)/#REF!)","v":0},{"$f":"IF(ISERROR((#REF!-#REF!)/#REF!),0,(#REF!-#REF!)/#REF!)","v":0},{"$f":"IF(ISERROR((#REF!-#REF!)/#REF!),0,(#REF!-#REF!)/#REF!)","v":0},{"$f":"IF(ISERROR((#REF!-#REF!)/#REF!),0,(#REF!-#REF!)/#REF!)","v":0},{"$f":"IF(ISERROR((#REF!-#REF!)/#REF!),0,(#REF!-#REF!)/#REF!)","v":0},{"$f":"IF(ISERROR((#REF!-#REF!)/#REF!),0,(#REF!-#REF!)/#REF!)","v":0},{"$f":"IF(ISERROR((#REF!-#REF!)/#REF!),0,(#REF!-#REF!)/#REF!)","v":0},{"$f":"IF(ISERROR((#REF!-#REF!)/#REF!),0,(#REF!-#REF!)/#REF!)","v":0},{"$f":"IF(ISERROR((#REF!-#REF!)/#REF!),0,(#REF!-#REF!)/#REF!)","v":0},{"$f":"IF(ISERROR((#REF!-#REF!)/#REF!),0,(#REF!-#REF!)/#REF!)","v":0},{"$f":"IF(ISERROR((#REF!-#REF!)/#REF!),0,(#REF!-#REF!)/#REF!)","v":0},{"$f":"IF(ISERROR((#REF!-#REF!)/#REF!),0,(#REF!-#REF!)/#REF!)","v":0},{"$f":"IF(ISERROR((#REF!-#REF!)/#REF!),0,(#REF!-#REF!)/#REF!)","v":0}]
[null,"EA07Z","Pace 3: Biventricular and all Congenital Pacemaker Procedures; Resynchronisation Therapy",0,7580,0,0,5,11830,37,264,"No","-",0,"","",{"$f":"IF(ISERROR((#REF!-#REF!)/#REF!),0,(#REF!-#REF!)/#REF!)","v":0},{"$f":"IF(ISERROR((#REF!-#REF!)/#REF!),0,(#REF!-#REF!)/#REF!)","v":0},{"$f":"IF(ISERROR((#REF!-#REF!)/#REF!),0,(#REF!-#REF!)/#REF!)","v":0},{"$f":"IF(ISERROR((#REF!-#REF!)/#REF!),0,(#REF!-#REF!)/#REF!)","v":0},{"$f":"IF(ISERROR((#REF!-#REF!)/#REF!),0,(#REF!-#REF!)/#REF!)","v":0},{"$f":"IF(ISERROR((#REF!-#REF!)/#REF!),0,(#REF!-#REF!)/#REF!)","v":0},{"$f":"IF(ISERROR((#REF!-#REF!)/#REF!),0,(#REF!-#REF!)/#REF!)","v":0},{"$f":"IF(ISERROR((#REF!-#REF!)/#REF!),0,(#REF!-#REF!)/#REF!)","v":0},{"$f":"IF(ISERROR((#REF!-#REF!)/#REF!),0,(#REF!-#REF!)/#REF!)","v":0},{"$f":"IF(ISERROR((#REF!-#REF!)/#REF!),0,(#REF!-#REF!)/#REF!)","v":0},{"$f":"IF(ISERROR((#REF!-#REF!)/#REF!),0,(#REF!-#REF!)/#REF!)","v":0},{"$f":"IF(ISERROR((#REF!-#REF!)/#REF!),0,(#REF!-#REF!)/#REF!)","v":0},{"$f":"IF(ISERROR((#REF!-#REF!)/#REF!),0,(#REF!-#REF!)/#REF!)","v":0}]
[null,"EA09Z","Percutaneous Interventions: Percutaneous Transluminal ASD, VSD or PFO Closure and Valve Insertion",0,4633,0,0,5,8509,42,204,"No","-",0,"","",{"$f":"IF(ISERROR((#REF!-#REF!)/#REF!),0,(#REF!-#REF!)/#REF!)","v":0},{"$f":"IF(ISERROR((#REF!-#REF!)/#REF!),0,(#REF!-#REF!)/#REF!)","v":0},{"$f":"IF(ISERROR((#REF!-#REF!)/#REF!),0,(#REF!-#REF!)/#REF!)","v":0},{"$f":"IF(ISERROR((#REF!-#REF!)/#REF!),0,(#REF!-#REF!)/#REF!)","v":0},{"$f":"IF(ISERROR((#REF!-#REF!)/#REF!),0,(#REF!-#REF!)/#REF!)","v":0},{"$f":"IF(ISERROR((#REF!-#REF!)/#REF!),0,(#REF!-#REF!)/#REF!)","v":0},{"$f":"IF(ISERROR((#REF!-#REF!)/#REF!),0,(#REF!-#REF!)/#REF!)","v":0},{"$f":"IF(ISERROR((#REF!-#REF!)/#REF!),0,(#REF!-#REF!)/#REF!)","v":0},{"$f":"IF(ISERROR((#REF!-#REF!)/#REF!),0,(#REF!-#REF!)/#REF!)","v":0},{"$f":"IF(ISERROR((#REF!-#REF!)/#REF!),0,(#REF!-#REF!)/#REF!)","v":0},{"$f":"IF(ISERROR((#REF!-#REF!)/#REF!),0,(#REF!-#REF!)/#REF!)","v":0},{"$f":"IF(ISERROR((#REF!-#REF!)/#REF!),0,(#REF!-#REF!)/#REF!)","v":0},{"$f":"IF(ISERROR((#REF!-#REF!)/#REF!),0,(#REF!-#REF!)/#REF!)","v":0}]
[null,"EA10Z","Percutaneous Interventions: Balloon Valve Intermediate Interventions and Arterial Duct Closure",0,3735,0,0,9,7275,55,204,"No","-",0,"","",{"$f":"IF(ISERROR((#REF!-#REF!)/#REF!),0,(#REF!-#REF!)/#REF!)","v":0},{"$f":"IF(ISERROR((#REF!-#REF!)/#REF!),0,(#REF!-#REF!)/#REF!)","v":0},{"$f":"IF(ISERROR((#REF!-#REF!)/#REF!),0,(#REF!-#REF!)/#REF!)","v":0},{"$f":"IF(ISERROR((#REF!-#REF!)/#REF!),0,(#REF!-#REF!)/#REF!)","v":0},{"$f":"IF(ISERROR((#REF!-#REF!)/#REF!),0,(#REF!-#REF!)/#REF!)","v":0},{"$f":"IF(ISERROR((#REF!-#REF!)/#REF!),0,(#REF!-#REF!)/#REF!)","v":0},{"$f":"IF(ISERROR((#REF!-#REF!)/#REF!),0,(#REF!-#REF!)/#REF!)","v":0},{"$f":"IF(ISERROR((#REF!-#REF!)/#REF!),0,(#REF!-#REF!)/#REF!)","v":0},{"$f":"IF(ISERROR((#REF!-#REF!)/#REF!),0,(#REF!-#REF!)/#REF!)","v":0},{"$f":"IF(ISERROR((#REF!-#REF!)/#REF!),0,(#REF!-#REF!)/#REF!)","v":0},{"$f":"IF(ISERROR((#REF!-#REF!)/#REF!),0,(#REF!-#REF!)/#REF!)","v":0},{"$f":"IF(ISERROR((#REF!-#REF!)/#REF!),0,(#REF!-#REF!)/#REF!)","v":0},{"$f":"IF(ISERROR((#REF!-#REF!)/#REF!),0,(#REF!-#REF!)/#REF!)","v":0}]
[null,"EA11Z","Percutaneous Interventions: Other including Septostomy, Embolisations, Non-Coronary Stents and Energy Moderated Perforation",0,1251,0,0,5,3264,26,204,"No","-",0,"","",{"$f":"IF(ISERROR((#REF!-#REF!)/#REF!),0,(#REF!-#REF!)/#REF!)","v":0},{"$f":"IF(ISERROR((#REF!-#REF!)/#REF!),0,(#REF!-#REF!)/#REF!)","v":0},{"$f":"IF(ISERROR((#REF!-#REF!)/#REF!),0,(#REF!-#REF!)/#REF!)","v":0},{"$f":"IF(ISERROR((#REF!-#REF!)/#REF!),0,(#REF!-#REF!)/#REF!)","v":0},{"$f":"IF(ISERROR((#REF!-#REF!)/#REF!),0,(#REF!-#REF!)/#REF!)","v":0},{"$f":"IF(ISERROR((#REF!-#REF!)/#REF!),0,(#REF!-#REF!)/#REF!)","v":0},{"$f":"IF(ISERROR((#REF!-#REF!)/#REF!),0,(#REF!-#REF!)/#REF!)","v":0},{"$f":"IF(ISERROR((#REF!-#REF!)/#REF!),0,(#REF!-#REF!)/#REF!)","v":0},{"$f":"IF(ISERROR((#REF!-#REF!)/#REF!),0,(#REF!-#REF!)/#REF!)","v":0},{"$f":"IF(ISERROR((#REF!-#REF!)/#REF!),0,(#REF!-#REF!)/#REF!)","v":0},{"$f":"IF(ISERROR((#REF!-#REF!)/#REF!),0,(#REF!-#REF!)/#REF!)","v":0},{"$f":"IF(ISERROR((#REF!-#REF!)/#REF!),0,(#REF!-#REF!)/#REF!)","v":0},{"$f":"IF(ISERROR((#REF!-#REF!)/#REF!),0,(#REF!-#REF!)/#REF!)","v":0}]
[null,"EA12Z","Implantation of Cardioverter; Defibrillator only",0,4700,0,0,5,6260,37,204,"No","-",0,"","",{"$f":"IF(ISERROR((#REF!-#REF!)/#REF!),0,(#REF!-#REF!)/#REF!)","v":0},{"$f":"IF(ISERROR((#REF!-#REF!)/#REF!),0,(#REF!-#REF!)/#REF!)","v":0},{"$f":"IF(ISERROR((#REF!-#REF!)/#REF!),0,(#REF!-#REF!)/#REF!)","v":0},{"$f":"IF(ISERROR((#REF!-#REF!)/#REF!),0,(#REF!-#REF!)/#REF!)","v":0},{"$f":"IF(ISERROR((#REF!-#REF!)/#REF!),0,(#REF!-#REF!)/#REF!)","v":0},{"$f":"IF(ISERROR((#REF!-#REF!)/#REF!),0,(#REF!-#REF!)/#REF!)","v":0},{"$f":"IF(ISERROR((#REF!-#REF!)/#REF!),0,(#REF!-#REF!)/#REF!)","v":0},{"$f":"IF(ISERROR((#REF!-#REF!)/#REF!),0,(#REF!-#REF!)/#REF!)","v":0},{"$f":"IF(ISERROR((#REF!-#REF!)/#REF!),0,(#REF!-#REF!)/#REF!)","v":0},{"$f":"IF(ISERROR((#REF!-#REF!)/#REF!),0,(#REF!-#REF!)/#REF!)","v":0},{"$f":"IF(ISERROR((#REF!-#REF!)/#REF!),0,(#REF!-#REF!)/#REF!)","v":0},{"$f":"IF(ISERROR((#REF!-#REF!)/#REF!),0,(#REF!-#REF!)/#REF!)","v":0},{"$f":"IF(ISERROR((#REF!-#REF!)/#REF!),0,(#REF!-#REF!)/#REF!)","v":0}]
[null,"EA14Z","Coronary Artery Bypass Graft (First Time)",0,6860,0,0,14,8211,36,204,"No","-",0,"","",{"$f":"IF(ISERROR((#REF!-#REF!)/#REF!),0,(#REF!-#REF!)/#REF!)","v":0},{"$f":"IF(ISERROR((#REF!-#REF!)/#REF!),0,(#REF!-#REF!)/#REF!)","v":0},{"$f":"IF(ISERROR((#REF!-#REF!)/#REF!),0,(#REF!-#REF!)/#REF!)","v":0},{"$f":"IF(ISERROR((#REF!-#REF!)/#REF!),0,(#REF!-#REF!)/#REF!)","v":0},{"$f":"IF(ISERROR((#REF!-#REF!)/#REF!),0,(#REF!-#REF!)/#REF!)","v":0},{"$f":"IF(ISERROR((#REF!-#REF!)/#REF!),0,(#REF!-#REF!)/#REF!)","v":0},{"$f":"IF(ISERROR((#REF!-#REF!)/#REF!),0,(#REF!-#REF!)/#REF!)","v":0},{"$f":"IF(ISERROR((#REF!-#REF!)/#REF!),0,(#REF!-#REF!)/#REF!)","v":0},{"$f":"IF(ISERROR((#REF!-#REF!)/#REF!),0,(#REF!-#REF!)/#REF!)","v":0},{"$f":"IF(ISERROR((#REF!-#REF!)/#REF!),0,(#REF!-#REF!)/#REF!)","v":0},{"$f":"IF(ISERROR((#REF!-#REF!)/#REF!),0,(#REF!-#REF!)/#REF!)","v":0},{"$f":"IF(ISERROR((#REF!-#REF!)/#REF!),0,(#REF!-#REF!)/#REF!)","v":0},{"$f":"IF(ISERROR((#REF!-#REF!)/#REF!),0,(#REF!-#REF!)/#REF!)","v":0}]
[null,"EA16Z","Coronary Artery Bypass Graft (First Time) with Percutaneous Coronary Intervention, Pacing, EP or RFA",0,8277,0,0,16,9668,36,204,"No","-",0,"","",{"$f":"IF(ISERROR((#REF!-#REF!)/#REF!),0,(#REF!-#REF!)/#REF!)","v":0},{"$f":"IF(ISERROR((#REF!-#REF!)/#REF!),0,(#REF!-#REF!)/#REF!)","v":0},{"$f":"IF(ISERROR((#REF!-#REF!)/#REF!),0,(#REF!-#REF!)/#REF!)","v":0},{"$f":"IF(ISERROR((#REF!-#REF!)/#REF!),0,(#REF!-#REF!)/#REF!)","v":0},{"$f":"IF(ISERROR((#REF!-#REF!)/#REF!),0,(#REF!-#REF!)/#REF!)","v":0},{"$f":"IF(ISERROR((#REF!-#REF!)/#REF!),0,(#REF!-#REF!)/#REF!)","v":0},{"$f":"IF(ISERROR((#REF!-#REF!)/#REF!),0,(#REF!-#REF!)/#REF!)","v":0},{"$f":"IF(ISERROR((#REF!-#REF!)/#REF!),0,(#REF!-#REF!)/#REF!)","v":0},{"$f":"IF(ISERROR((#REF!-#REF!)/#REF!),0,(#REF!-#REF!)/#REF!)","v":0},{"$f":"IF(ISERROR((#REF!-#REF!)/#REF!),0,(#REF!-#REF!)/#REF!)","v":0},{"$f":"IF(ISERROR((#REF!-#REF!)/#REF!),0,(#REF!-#REF!)/#REF!)","v":0},{"$f":"IF(ISERROR((#REF!-#REF!)/#REF!),0,(#REF!-#REF!)/#REF!)","v":0},{"$f":"IF(ISERROR((#REF!-#REF!)/#REF!),0,(#REF!-#REF!)/#REF!)","v":0}]
[null,"EA17Z","Single Cardiac Valve Procedures",0,8774,0,0,17,10821,55,204,"No","-",0,"","",{"$f":"IF(ISERROR((#REF!-#REF!)/#REF!),0,(#REF!-#REF!)/#REF!)","v":0},{"$f":"IF(ISERROR((#REF!-#REF!)/#REF!),0,(#REF!-#REF!)/#REF!)","v":0},{"$f":"IF(ISERROR((#REF!-#REF!)/#REF!),0,(#REF!-#REF!)/#REF!)","v":0},{"$f":"IF(ISERROR((#REF!-#REF!)/#REF!),0,(#REF!-#REF!)/#REF!)","v":0},{"$f":"IF(ISERROR((#REF!-#REF!)/#REF!),0,(#REF!-#REF!)/#REF!)","v":0},{"$f":"IF(ISERROR((#REF!-#REF!)/#REF!),0,(#REF!-#REF!)/#REF!)","v":0},{"$f":"IF(ISERROR((#REF!-#REF!)/#REF!),0,(#REF!-#REF!)/#REF!)","v":0},{"$f":"IF(ISERROR((#REF!-#REF!)/#REF!),0,(#REF!-#REF!)/#REF!)","v":0},{"$f":"IF(ISERROR((#REF!-#REF!)/#REF!),0,(#REF!-#REF!)/#REF!)","v":0},{"$f":"IF(ISERROR((#REF!-#REF!)/#REF!),0,(#REF!-#REF!)/#REF!)","v":0},{"$f":"IF(ISERROR((#REF!-#REF!)/#REF!),0,(#REF!-#REF!)/#REF!)","v":0},{"$f":"IF(ISERROR((#REF!-#REF!)/#REF!),0,(#REF!-#REF!)/#REF!)","v":0},{"$f":"IF(ISERROR((#REF!-#REF!)/#REF!),0,(#REF!-#REF!)/#REF!)","v":0}]
[null,"EA19Z","Single Cardiac Valve Procedures with Percutaneous Coronary Intervention, Pacing, EP or RFA",0,9979,0,0,20,12268,53,204,"No","-",0,"","",{"$f":"IF(ISERROR((#REF!-#REF!)/#REF!),0,(#REF!-#REF!)/#REF!)","v":0},{"$f":"IF(ISERROR((#REF!-#REF!)/#REF!),0,(#REF!-#REF!)/#REF!)","v":0},{"$f":"IF(ISERROR((#REF!-#REF!)/#REF!),0,(#REF!-#REF!)/#REF!)","v":0},{"$f":"IF(ISERROR((#REF!-#REF!)/#REF!),0,(#REF!-#REF!)/#REF!)","v":0},{"$f":"IF(ISERROR((#REF!-#REF!)/#REF!),0,(#REF!-#REF!)/#REF!)","v":0},{"$f":"IF(ISERROR((#REF!-#REF!)/#REF!),0,(#REF!-#REF!)/#REF!)","v":0},{"$f":"IF(ISERROR((#REF!-#REF!)/#REF!),0,(#REF!-#REF!)/#REF!)","v":0},{"$f":"IF(ISERROR((#REF!-#REF!)/#REF!),0,(#REF!-#REF!)/#REF!)","v":0},{"$f":"IF(ISERROR((#REF!-#REF!)/#REF!),0,(#REF!-#REF!)/#REF!)","v":0},{"$f":"IF(ISERROR((#REF!-#REF!)/#REF!),0,(#REF!-#REF!)/#REF!)","v":0},{"$f":"IF(ISERROR((#REF!-#REF!)/#REF!),0,(#REF!-#REF!)/#REF!)","v":0},{"$f":"IF(ISERROR((#REF!-#REF!)/#REF!),0,(#REF!-#REF!)/#REF!)","v":0},{"$f":"IF(ISERROR((#REF!-#REF!)/#REF!),0,(#REF!-#REF!)/#REF!)","v":0}]
[null,"EA20Z","Other Complex Cardiac Surgery and Re-do's",0,9217,0,0,25,11115,54,204,"No","-",0,"","",{"$f":"IF(ISERROR((#REF!-#REF!)/#REF!),0,(#REF!-#REF!)/#REF!)","v":0},{"$f":"IF(ISERROR((#REF!-#REF!)/#REF!),0,(#REF!-#REF!)/#REF!)","v":0},{"$f":"IF(ISERROR((#REF!-#REF!)/#REF!),0,(#REF!-#REF!)/#REF!)","v":0},{"$f":"IF(ISERROR((#REF!-#REF!)/#REF!),0,(#REF!-#REF!)/#REF!)","v":0},{"$f":"IF(ISERROR((#REF!-#REF!)/#REF!),0,(#REF!-#REF!)/#REF!)","v":0},{"$f":"IF(ISERROR((#REF!-#REF!)/#REF!),0,(#REF!-#REF!)/#REF!)","v":0},{"$f":"IF(ISERROR((#REF!-#REF!)/#REF!),0,(#REF!-#REF!)/#REF!)","v":0},{"$f":"IF(ISERROR((#REF!-#REF!)/#REF!),0,(#REF!-#REF!)/#REF!)","v":0},{"$f":"IF(ISERROR((#REF!-#REF!)/#REF!),0,(#REF!-#REF!)/#REF!)","v":0},{"$f":"IF(ISERROR((#REF!-#REF!)/#REF!),0,(#REF!-#REF!)/#REF!)","v":0},{"$f":"IF(ISERROR((#REF!-#REF!)/#REF!),0,(#REF!-#REF!)/#REF!)","v":0},{"$f":"IF(ISERROR((#REF!-#REF!)/#REF!),0,(#REF!-#REF!)/#REF!)","v":0},{"$f":"IF(ISERROR((#REF!-#REF!)/#REF!),0,(#REF!-#REF!)/#REF!)","v":0}]
[null,"EA22Z","Other Complex Cardiac Surgery with Percutaneous Coronary Intervention, Pacing, EP or RFA",0,13969,0,0,25,14734,52,204,"No","-",0,"","",{"$f":"IF(ISERROR((#REF!-#REF!)/#REF!),0,(#REF!-#REF!)/#REF!)","v":0},{"$f":"IF(ISERROR((#REF!-#REF!)/#REF!),0,(#REF!-#REF!)/#REF!)","v":0},{"$f":"IF(ISERROR((#REF!-#REF!)/#REF!),0,(#REF!-#REF!)/#REF!)","v":0},{"$f":"IF(ISERROR((#REF!-#REF!)/#REF!),0,(#REF!-#REF!)/#REF!)","v":0},{"$f":"IF(ISERROR((#REF!-#REF!)/#REF!),0,(#REF!-#REF!)/#REF!)","v":0},{"$f":"IF(ISERROR((#REF!-#REF!)/#REF!),0,(#REF!-#REF!)/#REF!)","v":0},{"$f":"IF(ISERROR((#REF!-#REF!)/#REF!),0,(#REF!-#REF!)/#REF!)","v":0},{"$f":"IF(ISERROR((#REF!-#REF!)/#REF!),0,(#REF!-#REF!)/#REF!)","v":0},{"$f":"IF(ISERROR((#REF!-#REF!)/#REF!),0,(#REF!-#REF!)/#REF!)","v":0},{"$f":"IF(ISERROR((#REF!-#REF!)/#REF!),0,(#REF!-#REF!)/#REF!)","v":0},{"$f":"IF(ISERROR((#REF!-#REF!)/#REF!),0,(#REF!-#REF!)/#REF!)","v":0},{"$f":"IF(ISERROR((#REF!-#REF!)/#REF!),0,(#REF!-#REF!)/#REF!)","v":0},{"$f":"IF(ISERROR((#REF!-#REF!)/#REF!),0,(#REF!-#REF!)/#REF!)","v":0}]
[null,"EA23Z","Major Complex Congenital Surgery",0,12158,0,0,35,16056,77,264,"No","-",0,"","",{"$f":"IF(ISERROR((#REF!-#REF!)/#REF!),0,(#REF!-#REF!)/#REF!)","v":0},{"$f":"IF(ISERROR((#REF!-#REF!)/#REF!),0,(#REF!-#REF!)/#REF!)","v":0},{"$f":"IF(ISERROR((#REF!-#REF!)/#REF!),0,(#REF!-#REF!)/#REF!)","v":0},{"$f":"IF(ISERROR((#REF!-#REF!)/#REF!),0,(#REF!-#REF!)/#REF!)","v":0},{"$f":"IF(ISERROR((#REF!-#REF!)/#REF!),0,(#REF!-#REF!)/#REF!)","v":0},{"$f":"IF(ISERROR((#REF!-#REF!)/#REF!),0,(#REF!-#REF!)/#REF!)","v":0},{"$f":"IF(ISERROR((#REF!-#REF!)/#REF!),0,(#REF!-#REF!)/#REF!)","v":0},{"$f":"IF(ISERROR((#REF!-#REF!)/#REF!),0,(#REF!-#REF!)/#REF!)","v":0},{"$f":"IF(ISERROR((#REF!-#REF!)/#REF!),0,(#REF!-#REF!)/#REF!)","v":0},{"$f":"IF(ISERROR((#REF!-#REF!)/#REF!),0,(#REF!-#REF!)/#REF!)","v":0},{"$f":"IF(ISERROR((#REF!-#REF!)/#REF!),0,(#REF!-#REF!)/#REF!)","v":0},{"$f":"IF(ISERROR((#REF!-#REF!)/#REF!),0,(#REF!-#REF!)/#REF!)","v":0},{"$f":"IF(ISERROR((#REF!-#REF!)/#REF!),0,(#REF!-#REF!)/#REF!)","v":0}]
[null,"EA24Z","Complex Congenital Surgery",0,8136,0,0,19,12987,44,264,"No","-",0,"","",{"$f":"IF(ISERROR((#REF!-#REF!)/#REF!),0,(#REF!-#REF!)/#REF!)","v":0},{"$f":"IF(ISERROR((#REF!-#REF!)/#REF!),0,(#REF!-#REF!)/#REF!)","v":0},{"$f":"IF(ISERROR((#REF!-#REF!)/#REF!),0,(#REF!-#REF!)/#REF!)","v":0},{"$f":"IF(ISERROR((#REF!-#REF!)/#REF!),0,(#REF!-#REF!)/#REF!)","v":0},{"$f":"IF(ISERROR((#REF!-#REF!)/#REF!),0,(#REF!-#REF!)/#REF!)","v":0},{"$f":"IF(ISERROR((#REF!-#REF!)/#REF!),0,(#REF!-#REF!)/#REF!)","v":0},{"$f":"IF(ISERROR((#REF!-#REF!)/#REF!),0,(#REF!-#REF!)/#REF!)","v":0},{"$f":"IF(ISERROR((#REF!-#REF!)/#REF!),0,(#REF!-#REF!)/#REF!)","v":0},{"$f":"IF(ISERROR((#REF!-#REF!)/#REF!),0,(#REF!-#REF!)/#REF!)","v":0},{"$f":"IF(ISERROR((#REF!-#REF!)/#REF!),0,(#REF!-#REF!)/#REF!)","v":0},{"$f":"IF(ISERROR((#REF!-#REF!)/#REF!),0,(#REF!-#REF!)/#REF!)","v":0},{"$f":"IF(ISERROR((#REF!-#REF!)/#REF!),0,(#REF!-#REF!)/#REF!)","v":0},{"$f":"IF(ISERROR((#REF!-#REF!)/#REF!),0,(#REF!-#REF!)/#REF!)","v":0}]
[null,"EA25Z","Intermediate Congenital Surgery",0,8136,0,0,19,11454,44,264,"No","-",0,"","",{"$f":"IF(ISERROR((#REF!-#REF!)/#REF!),0,(#REF!-#REF!)/#REF!)","v":0},{"$f":"IF(ISERROR((#REF!-#REF!)/#REF!),0,(#REF!-#REF!)/#REF!)","v":0},{"$f":"IF(ISERROR((#REF!-#REF!)/#REF!),0,(#REF!-#REF!)/#REF!)","v":0},{"$f":"IF(ISERROR((#REF!-#REF!)/#REF!),0,(#REF!-#REF!)/#REF!)","v":0},{"$f":"IF(ISERROR((#REF!-#REF!)/#REF!),0,(#REF!-#REF!)/#REF!)","v":0},{"$f":"IF(ISERROR((#REF!-#REF!)/#REF!),0,(#REF!-#REF!)/#REF!)","v":0},{"$f":"IF(ISERROR((#REF!-#REF!)/#REF!),0,(#REF!-#REF!)/#REF!)","v":0},{"$f":"IF(ISERROR((#REF!-#REF!)/#REF!),0,(#REF!-#REF!)/#REF!)","v":0},{"$f":"IF(ISERROR((#REF!-#REF!)/#REF!),0,(#REF!-#REF!)/#REF!)","v":0},{"$f":"IF(ISERROR((#REF!-#REF!)/#REF!),0,(#REF!-#REF!)/#REF!)","v":0},{"$f":"IF(ISERROR((#REF!-#REF!)/#REF!),0,(#REF!-#REF!)/#REF!)","v":0},{"$f":"IF(ISERROR((#REF!-#REF!)/#REF!),0,(#REF!-#REF!)/#REF!)","v":0},{"$f":"IF(ISERROR((#REF!-#REF!)/#REF!),0,(#REF!-#REF!)/#REF!)","v":0}]
[null,"EA26Z","Standard Congenital Surgery",0,4255,0,0,14,4255,14,264,"No","-",0,"","",{"$f":"IF(ISERROR((#REF!-#REF!)/#REF!),0,(#REF!-#REF!)/#REF!)","v":0},{"$f":"IF(ISERROR((#REF!-#REF!)/#REF!),0,(#REF!-#REF!)/#REF!)","v":0},{"$f":"IF(ISERROR((#REF!-#REF!)/#REF!),0,(#REF!-#REF!)/#REF!)","v":0},{"$f":"IF(ISERROR((#REF!-#REF!)/#REF!),0,(#REF!-#REF!)/#REF!)","v":0},{"$f":"IF(ISERROR((#REF!-#REF!)/#REF!),0,(#REF!-#REF!)/#REF!)","v":0},{"$f":"IF(ISERROR((#REF!-#REF!)/#REF!),0,(#REF!-#REF!)/#REF!)","v":0},{"$f":"IF(ISERROR((#REF!-#REF!)/#REF!),0,(#REF!-#REF!)/#REF!)","v":0},{"$f":"IF(ISERROR((#REF!-#REF!)/#REF!),0,(#REF!-#REF!)/#REF!)","v":0},{"$f":"IF(ISERROR((#REF!-#REF!)/#REF!),0,(#REF!-#REF!)/#REF!)","v":0},{"$f":"IF(ISERROR((#REF!-#REF!)/#REF!),0,(#REF!-#REF!)/#REF!)","v":0},{"$f":"IF(ISERROR((#REF!-#REF!)/#REF!),0,(#REF!-#REF!)/#REF!)","v":0},{"$f":"IF(ISERROR((#REF!-#REF!)/#REF!),0,(#REF!-#REF!)/#REF!)","v":0},{"$f":"IF(ISERROR((#REF!-#REF!)/#REF!),0,(#REF!-#REF!)/#REF!)","v":0}]
[null,"EA29Z","Percutaneous Complex Ablation, including for Atrial Fibrillation or Ventricular Tachycardia",0,3264,0,0,5,6224,28,204,"No","-",0,"","",{"$f":"IF(ISERROR((#REF!-#REF!)/#REF!),0,(#REF!-#REF!)/#REF!)","v":0},{"$f":"IF(ISERROR((#REF!-#REF!)/#REF!),0,(#REF!-#REF!)/#REF!)","v":0},{"$f":"IF(ISERROR((#REF!-#REF!)/#REF!),0,(#REF!-#REF!)/#REF!)","v":0},{"$f":"IF(ISERROR((#REF!-#REF!)/#REF!),0,(#REF!-#REF!)/#REF!)","v":0},{"$f":"IF(ISERROR((#REF!-#REF!)/#REF!),0,(#REF!-#REF!)/#REF!)","v":0},{"$f":"IF(ISERROR((#REF!-#REF!)/#REF!),0,(#REF!-#REF!)/#REF!)","v":0},{"$f":"IF(ISERROR((#REF!-#REF!)/#REF!),0,(#REF!-#REF!)/#REF!)","v":0},{"$f":"IF(ISERROR((#REF!-#REF!)/#REF!),0,(#REF!-#REF!)/#REF!)","v":0},{"$f":"IF(ISERROR((#REF!-#REF!)/#REF!),0,(#REF!-#REF!)/#REF!)","v":0},{"$f":"IF(ISERROR((#REF!-#REF!)/#REF!),0,(#REF!-#REF!)/#REF!)","v":0},{"$f":"IF(ISERROR((#REF!-#REF!)/#REF!),0,(#REF!-#REF!)/#REF!)","v":0},{"$f":"IF(ISERROR((#REF!-#REF!)/#REF!),0,(#REF!-#REF!)/#REF!)","v":0},{"$f":"IF(ISERROR((#REF!-#REF!)/#REF!),0,(#REF!-#REF!)/#REF!)","v":0}]
[null,"EA31Z","Percutaneous Coronary Intervention, 0 to 2 Stents",0,2554,0,0,5,3456,10,204,"No","-",0,"","",{"$f":"IF(ISERROR((#REF!-#REF!)/#REF!),0,(#REF!-#REF!)/#REF!)","v":0},{"$f":"IF(ISERROR((#REF!-#REF!)/#REF!),0,(#REF!-#REF!)/#REF!)","v":0},{"$f":"IF(ISERROR((#REF!-#REF!)/#REF!),0,(#REF!-#REF!)/#REF!)","v":0},{"$f":"IF(ISERROR((#REF!-#REF!)/#REF!),0,(#REF!-#REF!)/#REF!)","v":0},{"$f":"IF(ISERROR((#REF!-#REF!)/#REF!),0,(#REF!-#REF!)/#REF!)","v":0},{"$f":"IF(ISERROR((#REF!-#REF!)/#REF!),0,(#REF!-#REF!)/#REF!)","v":0},{"$f":"IF(ISERROR((#REF!-#REF!)/#REF!),0,(#REF!-#REF!)/#REF!)","v":0},{"$f":"IF(ISERROR((#REF!-#REF!)/#REF!),0,(#REF!-#REF!)/#REF!)","v":0},{"$f":"IF(ISERROR((#REF!-#REF!)/#REF!),0,(#REF!-#REF!)/#REF!)","v":0},{"$f":"IF(ISERROR((#REF!-#REF!)/#REF!),0,(#REF!-#REF!)/#REF!)","v":0},{"$f":"IF(ISERROR((#REF!-#REF!)/#REF!),0,(#REF!-#REF!)/#REF!)","v":0},{"$f":"IF(ISERROR((#REF!-#REF!)/#REF!),0,(#REF!-#REF!)/#REF!)","v":0},{"$f":"IF(ISERROR((#REF!-#REF!)/#REF!),0,(#REF!-#REF!)/#REF!)","v":0}]
[null,"EA35Z","Other Percutaneous Interventions",0,1948,0,0,5,3159,17,204,"No","-",0,"","",{"$f":"IF(ISERROR((#REF!-#REF!)/#REF!),0,(#REF!-#REF!)/#REF!)","v":0},{"$f":"IF(ISERROR((#REF!-#REF!)/#REF!),0,(#REF!-#REF!)/#REF!)","v":0},{"$f":"IF(ISERROR((#REF!-#REF!)/#REF!),0,(#REF!-#REF!)/#REF!)","v":0},{"$f":"IF(ISERROR((#REF!-#REF!)/#REF!),0,(#REF!-#REF!)/#REF!)","v":0},{"$f":"IF(ISERROR((#REF!-#REF!)/#REF!),0,(#REF!-#REF!)/#REF!)","v":0},{"$f":"IF(ISERROR((#REF!-#REF!)/#REF!),0,(#REF!-#REF!)/#REF!)","v":0},{"$f":"IF(ISERROR((#REF!-#REF!)/#REF!),0,(#REF!-#REF!)/#REF!)","v":0},{"$f":"IF(ISERROR((#REF!-#REF!)/#REF!),0,(#REF!-#REF!)/#REF!)","v":0},{"$f":"IF(ISERROR((#REF!-#REF!)/#REF!),0,(#REF!-#REF!)/#REF!)","v":0},{"$f":"IF(ISERROR((#REF!-#REF!)/#REF!),0,(#REF!-#REF!)/#REF!)","v":0},{"$f":"IF(ISERROR((#REF!-#REF!)/#REF!),0,(#REF!-#REF!)/#REF!)","v":0},{"$f":"IF(ISERROR((#REF!-#REF!)/#REF!),0,(#REF!-#REF!)/#REF!)","v":0},{"$f":"IF(ISERROR((#REF!-#REF!)/#REF!),0,(#REF!-#REF!)/#REF!)","v":0}]
[null,"EA36A","Catheter, 19 years and over",0,1173,0,0,5,5281.0617905650115,20,204,"No","-",0,"","",{"$f":"IF(ISERROR((#REF!-#REF!)/#REF!),0,(#REF!-#REF!)/#REF!)","v":0},{"$f":"IF(ISERROR((#REF!-#REF!)/#REF!),0,(#REF!-#REF!)/#REF!)","v":0},{"$f":"IF(ISERROR((#REF!-#REF!)/#REF!),0,(#REF!-#REF!)/#REF!)","v":0},{"$f":"IF(ISERROR((#REF!-#REF!)/#REF!),0,(#REF!-#REF!)/#REF!)","v":0},{"$f":"IF(ISERROR((#REF!-#REF!)/#REF!),0,(#REF!-#REF!)/#REF!)","v":0},{"$f":"IF(ISERROR((#REF!-#REF!)/#REF!),0,(#REF!-#REF!)/#REF!)","v":0},{"$f":"IF(ISERROR((#REF!-#REF!)/#REF!),0,(#REF!-#REF!)/#REF!)","v":0},{"$f":"IF(ISERROR((#REF!-#REF!)/#REF!),0,(#REF!-#REF!)/#REF!)","v":0},{"$f":"IF(ISERROR((#REF!-#REF!)/#REF!),0,(#REF!-#REF!)/#REF!)","v":0},{"$f":"IF(ISERROR((#REF!-#REF!)/#REF!),0,(#REF!-#REF!)/#REF!)","v":0},{"$f":"IF(ISERROR((#REF!-#REF!)/#REF!),0,(#REF!-#REF!)/#REF!)","v":0},{"$f":"IF(ISERROR((#REF!-#REF!)/#REF!),0,(#REF!-#REF!)/#REF!)","v":0},{"$f":"IF(ISERROR((#REF!-#REF!)/#REF!),0,(#REF!-#REF!)/#REF!)","v":0}]
[null,"EA36B","Catheter, 18 years and under",0,3132,0,0,5,6052,20,264,"No","-",0,"","",{"$f":"IF(ISERROR((#REF!-#REF!)/#REF!),0,(#REF!-#REF!)/#REF!)","v":0},{"$f":"IF(ISERROR((#REF!-#REF!)/#REF!),0,(#REF!-#REF!)/#REF!)","v":0},{"$f":"IF(ISERROR((#REF!-#REF!)/#REF!),0,(#REF!-#REF!)/#REF!)","v":0},{"$f":"IF(ISERROR((#REF!-#REF!)/#REF!),0,(#REF!-#REF!)/#REF!)","v":0},{"$f":"IF(ISERROR((#REF!-#REF!)/#REF!),0,(#REF!-#REF!)/#REF!)","v":0},{"$f":"IF(ISERROR((#REF!-#REF!)/#REF!),0,(#REF!-#REF!)/#REF!)","v":0},{"$f":"IF(ISERROR((#REF!-#REF!)/#REF!),0,(#REF!-#REF!)/#REF!)","v":0},{"$f":"IF(ISERROR((#REF!-#REF!)/#REF!),0,(#REF!-#REF!)/#REF!)","v":0},{"$f":"IF(ISERROR((#REF!-#REF!)/#REF!),0,(#REF!-#REF!)/#REF!)","v":0},{"$f":"IF(ISERROR((#REF!-#REF!)/#REF!),0,(#REF!-#REF!)/#REF!)","v":0},{"$f":"IF(ISERROR((#REF!-#REF!)/#REF!),0,(#REF!-#REF!)/#REF!)","v":0},{"$f":"IF(ISERROR((#REF!-#REF!)/#REF!),0,(#REF!-#REF!)/#REF!)","v":0},{"$f":"IF(ISERROR((#REF!-#REF!)/#REF!),0,(#REF!-#REF!)/#REF!)","v":0}]
[null,"EA39Z","Pacemaker Procedure without Generator Implant, including Re-siting and Removal of Cardiac Pacemaker System",0,2357,0,0,5,4534.7707737852543,31,204,"No","-",0,"","",{"$f":"IF(ISERROR((#REF!-#REF!)/#REF!),0,(#REF!-#REF!)/#REF!)","v":0},{"$f":"IF(ISERROR((#REF!-#REF!)/#REF!),0,(#REF!-#REF!)/#REF!)","v":0},{"$f":"IF(ISERROR((#REF!-#REF!)/#REF!),0,(#REF!-#REF!)/#REF!)","v":0},{"$f":"IF(ISERROR((#REF!-#REF!)/#REF!),0,(#REF!-#REF!)/#REF!)","v":0},{"$f":"IF(ISERROR((#REF!-#REF!)/#REF!),0,(#REF!-#REF!)/#REF!)","v":0},{"$f":"IF(ISERROR((#REF!-#REF!)/#REF!),0,(#REF!-#REF!)/#REF!)","v":0},{"$f":"IF(ISERROR((#REF!-#REF!)/#REF!),0,(#REF!-#REF!)/#REF!)","v":0},{"$f":"IF(ISERROR((#REF!-#REF!)/#REF!),0,(#REF!-#REF!)/#REF!)","v":0},{"$f":"IF(ISERROR((#REF!-#REF!)/#REF!),0,(#REF!-#REF!)/#REF!)","v":0},{"$f":"IF(ISERROR((#REF!-#REF!)/#REF!),0,(#REF!-#REF!)/#REF!)","v":0},{"$f":"IF(ISERROR((#REF!-#REF!)/#REF!),0,(#REF!-#REF!)/#REF!)","v":0},{"$f":"IF(ISERROR((#REF!-#REF!)/#REF!),0,(#REF!-#REF!)/#REF!)","v":0},{"$f":"IF(ISERROR((#REF!-#REF!)/#REF!),0,(#REF!-#REF!)/#REF!)","v":0}]
[null,"EA40Z","Other Non-Complex Cardiac Surgery",0,4004,0,0,19,7163,34,204,"No","-",0,"","",{"$f":"IF(ISERROR((#REF!-#REF!)/#REF!),0,(#REF!-#REF!)/#REF!)","v":0},{"$f":"IF(ISERROR((#REF!-#REF!)/#REF!),0,(#REF!-#REF!)/#REF!)","v":0},{"$f":"IF(ISERROR((#REF!-#REF!)/#REF!),0,(#REF!-#REF!)/#REF!)","v":0},{"$f":"IF(ISERROR((#REF!-#REF!)/#REF!),0,(#REF!-#REF!)/#REF!)","v":0},{"$f":"IF(ISERROR((#REF!-#REF!)/#REF!),0,(#REF!-#REF!)/#REF!)","v":0},{"$f":"IF(ISERROR((#REF!-#REF!)/#REF!),0,(#REF!-#REF!)/#REF!)","v":0},{"$f":"IF(ISERROR((#REF!-#REF!)/#REF!),0,(#REF!-#REF!)/#REF!)","v":0},{"$f":"IF(ISERROR((#REF!-#REF!)/#REF!),0,(#REF!-#REF!)/#REF!)","v":0},{"$f":"IF(ISERROR((#REF!-#REF!)/#REF!),0,(#REF!-#REF!)/#REF!)","v":0},{"$f":"IF(ISERROR((#REF!-#REF!)/#REF!),0,(#REF!-#REF!)/#REF!)","v":0},{"$f":"IF(ISERROR((#REF!-#REF!)/#REF!),0,(#REF!-#REF!)/#REF!)","v":0},{"$f":"IF(ISERROR((#REF!-#REF!)/#REF!),0,(#REF!-#REF!)/#REF!)","v":0},{"$f":"IF(ISERROR((#REF!-#REF!)/#REF!),0,(#REF!-#REF!)/#REF!)","v":0}]
[null,"EA44Z","Minor Cardiac Procedures",134,1078,0,0,5,3129,27,204,"No","-",0,"","",{"$f":"IF(ISERROR((#REF!-#REF!)/#REF!),0,(#REF!-#REF!)/#REF!)","v":0},{"$f":"IF(ISERROR((#REF!-#REF!)/#REF!),0,(#REF!-#REF!)/#REF!)","v":0},{"$f":"IF(ISERROR((#REF!-#REF!)/#REF!),0,(#REF!-#REF!)/#REF!)","v":0},{"$f":"IF(ISERROR((#REF!-#REF!)/#REF!),0,(#REF!-#REF!)/#REF!)","v":0},{"$f":"IF(ISERROR((#REF!-#REF!)/#REF!),0,(#REF!-#REF!)/#REF!)","v":0},{"$f":"IF(ISERROR((#REF!-#REF!)/#REF!),0,(#REF!-#REF!)/#REF!)","v":0},{"$f":"IF(ISERROR((#REF!-#REF!)/#REF!),0,(#REF!-#REF!)/#REF!)","v":0},{"$f":"IF(ISERROR((#REF!-#REF!)/#REF!),0,(#REF!-#REF!)/#REF!)","v":0},{"$f":"IF(ISERROR((#REF!-#REF!)/#REF!),0,(#REF!-#REF!)/#REF!)","v":0},{"$f":"IF(ISERROR((#REF!-#REF!)/#REF!),0,(#REF!-#REF!)/#REF!)","v":0},{"$f":"IF(ISERROR((#REF!-#REF!)/#REF!),0,(#REF!-#REF!)/#REF!)","v":0},{"$f":"IF(ISERROR((#REF!-#REF!)/#REF!),0,(#REF!-#REF!)/#REF!)","v":0},{"$f":"IF(ISERROR((#REF!-#REF!)/#REF!),0,(#REF!-#REF!)/#REF!)","v":0}]
[null,"EA45Z","Complex Echocardiogram, including Congenital, Transoesophageal and Fetal Echocardiography",277,277,0,0,5,272,5,264,"No","-",0,"","",{"$f":"IF(ISERROR((#REF!-#REF!)/#REF!),0,(#REF!-#REF!)/#REF!)","v":0},{"$f":"IF(ISERROR((#REF!-#REF!)/#REF!),0,(#REF!-#REF!)/#REF!)","v":0},{"$f":"IF(ISERROR((#REF!-#REF!)/#REF!),0,(#REF!-#REF!)/#REF!)","v":0},{"$f":"IF(ISERROR((#REF!-#REF!)/#REF!),0,(#REF!-#REF!)/#REF!)","v":0},{"$f":"IF(ISERROR((#REF!-#REF!)/#REF!),0,(#REF!-#REF!)/#REF!)","v":0},{"$f":"IF(ISERROR((#REF!-#REF!)/#REF!),0,(#REF!-#REF!)/#REF!)","v":0},{"$f":"IF(ISERROR((#REF!-#REF!)/#REF!),0,(#REF!-#REF!)/#REF!)","v":0},{"$f":"IF(ISERROR((#REF!-#REF!)/#REF!),0,(#REF!-#REF!)/#REF!)","v":0},{"$f":"IF(ISERROR((#REF!-#REF!)/#REF!),0,(#REF!-#REF!)/#REF!)","v":0},{"$f":"IF(ISERROR((#REF!-#REF!)/#REF!),0,(#REF!-#REF!)/#REF!)","v":0},{"$f":"IF(ISERROR((#REF!-#REF!)/#REF!),0,(#REF!-#REF!)/#REF!)","v":0},{"$f":"IF(ISERROR((#REF!-#REF!)/#REF!),0,(#REF!-#REF!)/#REF!)","v":0},{"$f":"IF(ISERROR((#REF!-#REF!)/#REF!),0,(#REF!-#REF!)/#REF!)","v":0}]
[null,"EA47Z","Electrocardiogram Monitoring and Stress Testing",163,163,0,0,5,527,5,204,"No","-",0,"","",{"$f":"IF(ISERROR((#REF!-#REF!)/#REF!),0,(#REF!-#REF!)/#REF!)","v":0},{"$f":"IF(ISERROR((#REF!-#REF!)/#REF!),0,(#REF!-#REF!)/#REF!)","v":0},{"$f":"IF(ISERROR((#REF!-#REF!)/#REF!),0,(#REF!-#REF!)/#REF!)","v":0},{"$f":"IF(ISERROR((#REF!-#REF!)/#REF!),0,(#REF!-#REF!)/#REF!)","v":0},{"$f":"IF(ISERROR((#REF!-#REF!)/#REF!),0,(#REF!-#REF!)/#REF!)","v":0},{"$f":"IF(ISERROR((#REF!-#REF!)/#REF!),0,(#REF!-#REF!)/#REF!)","v":0},{"$f":"IF(ISERROR((#REF!-#REF!)/#REF!),0,(#REF!-#REF!)/#REF!)","v":0},{"$f":"IF(ISERROR((#REF!-#REF!)/#REF!),0,(#REF!-#REF!)/#REF!)","v":0},{"$f":"IF(ISERROR((#REF!-#REF!)/#REF!),0,(#REF!-#REF!)/#REF!)","v":0},{"$f":"IF(ISERROR((#REF!-#REF!)/#REF!),0,(#REF!-#REF!)/#REF!)","v":0},{"$f":"IF(ISERROR((#REF!-#REF!)/#REF!),0,(#REF!-#REF!)/#REF!)","v":0},{"$f":"IF(ISERROR((#REF!-#REF!)/#REF!),0,(#REF!-#REF!)/#REF!)","v":0},{"$f":"IF(ISERROR((#REF!-#REF!)/#REF!),0,(#REF!-#REF!)/#REF!)","v":0}]
[null,"EA48Z","Single or Dual Chamber, Pacemaker or Implantable Diagnostic Device, with Percutaneous Coronary Intervention, EP or RFA",0,2666,0,0,5,5458,26,204,"No","-",0,"","",{"$f":"IF(ISERROR((#REF!-#REF!)/#REF!),0,(#REF!-#REF!)/#REF!)","v":0},{"$f":"IF(ISERROR((#REF!-#REF!)/#REF!),0,(#REF!-#REF!)/#REF!)","v":0},{"$f":"IF(ISERROR((#REF!-#REF!)/#REF!),0,(#REF!-#REF!)/#REF!)","v":0},{"$f":"IF(ISERROR((#REF!-#REF!)/#REF!),0,(#REF!-#REF!)/#REF!)","v":0},{"$f":"IF(ISERROR((#REF!-#REF!)/#REF!),0,(#REF!-#REF!)/#REF!)","v":0},{"$f":"IF(ISERROR((#REF!-#REF!)/#REF!),0,(#REF!-#REF!)/#REF!)","v":0},{"$f":"IF(ISERROR((#REF!-#REF!)/#REF!),0,(#REF!-#REF!)/#REF!)","v":0},{"$f":"IF(ISERROR((#REF!-#REF!)/#REF!),0,(#REF!-#REF!)/#REF!)","v":0},{"$f":"IF(ISERROR((#REF!-#REF!)/#REF!),0,(#REF!-#REF!)/#REF!)","v":0},{"$f":"IF(ISERROR((#REF!-#REF!)/#REF!),0,(#REF!-#REF!)/#REF!)","v":0},{"$f":"IF(ISERROR((#REF!-#REF!)/#REF!),0,(#REF!-#REF!)/#REF!)","v":0},{"$f":"IF(ISERROR((#REF!-#REF!)/#REF!),0,(#REF!-#REF!)/#REF!)","v":0},{"$f":"IF(ISERROR((#REF!-#REF!)/#REF!),0,(#REF!-#REF!)/#REF!)","v":0}]
[null,"EA49Z","Percutaneous Coronary Interventions with 3 or more Stents, Rotablation, IVUS or Pressure Wire",0,3039,0,0,5,4135,12,204,"No","-",0,"","",{"$f":"IF(ISERROR((#REF!-#REF!)/#REF!),0,(#REF!-#REF!)/#REF!)","v":0},{"$f":"IF(ISERROR((#REF!-#REF!)/#REF!),0,(#REF!-#REF!)/#REF!)","v":0},{"$f":"IF(ISERROR((#REF!-#REF!)/#REF!),0,(#REF!-#REF!)/#REF!)","v":0},{"$f":"IF(ISERROR((#REF!-#REF!)/#REF!),0,(#REF!-#REF!)/#REF!)","v":0},{"$f":"IF(ISERROR((#REF!-#REF!)/#REF!),0,(#REF!-#REF!)/#REF!)","v":0},{"$f":"IF(ISERROR((#REF!-#REF!)/#REF!),0,(#REF!-#REF!)/#REF!)","v":0},{"$f":"IF(ISERROR((#REF!-#REF!)/#REF!),0,(#REF!-#REF!)/#REF!)","v":0},{"$f":"IF(ISERROR((#REF!-#REF!)/#REF!),0,(#REF!-#REF!)/#REF!)","v":0},{"$f":"IF(ISERROR((#REF!-#REF!)/#REF!),0,(#REF!-#REF!)/#REF!)","v":0},{"$f":"IF(ISERROR((#REF!-#REF!)/#REF!),0,(#REF!-#REF!)/#REF!)","v":0},{"$f":"IF(ISERROR((#REF!-#REF!)/#REF!),0,(#REF!-#REF!)/#REF!)","v":0},{"$f":"IF(ISERROR((#REF!-#REF!)/#REF!),0,(#REF!-#REF!)/#REF!)","v":0},{"$f":"IF(ISERROR((#REF!-#REF!)/#REF!),0,(#REF!-#REF!)/#REF!)","v":0}]
[null,"EA51Z","Coronary Artery Bypass Graft, with Valve Replacement or Repair",0,9249,0,0,27,11375,52,204,"No","-",0,"","",{"$f":"IF(ISERROR((#REF!-#REF!)/#REF!),0,(#REF!-#REF!)/#REF!)","v":0},{"$f":"IF(ISERROR((#REF!-#REF!)/#REF!),0,(#REF!-#REF!)/#REF!)","v":0},{"$f":"IF(ISERROR((#REF!-#REF!)/#REF!),0,(#REF!-#REF!)/#REF!)","v":0},{"$f":"IF(ISERROR((#REF!-#REF!)/#REF!),0,(#REF!-#REF!)/#REF!)","v":0},{"$f":"IF(ISERROR((#REF!-#REF!)/#REF!),0,(#REF!-#REF!)/#REF!)","v":0},{"$f":"IF(ISERROR((#REF!-#REF!)/#REF!),0,(#REF!-#REF!)/#REF!)","v":0},{"$f":"IF(ISERROR((#REF!-#REF!)/#REF!),0,(#REF!-#REF!)/#REF!)","v":0},{"$f":"IF(ISERROR((#REF!-#REF!)/#REF!),0,(#REF!-#REF!)/#REF!)","v":0},{"$f":"IF(ISERROR((#REF!-#REF!)/#REF!),0,(#REF!-#REF!)/#REF!)","v":0},{"$f":"IF(ISERROR((#REF!-#REF!)/#REF!),0,(#REF!-#REF!)/#REF!)","v":0},{"$f":"IF(ISERROR((#REF!-#REF!)/#REF!),0,(#REF!-#REF!)/#REF!)","v":0},{"$f":"IF(ISERROR((#REF!-#REF!)/#REF!),0,(#REF!-#REF!)/#REF!)","v":0},{"$f":"IF(ISERROR((#REF!-#REF!)/#REF!),0,(#REF!-#REF!)/#REF!)","v":0}]
[null,"EA52Z","Repair or Replacement of more than one Heart Valve",0,10581,0,0,33,14009,71,204,"No","-",0,"","",{"$f":"IF(ISERROR((#REF!-#REF!)/#REF!),0,(#REF!-#REF!)/#REF!)","v":0},{"$f":"IF(ISERROR((#REF!-#REF!)/#REF!),0,(#REF!-#REF!)/#REF!)","v":0},{"$f":"IF(ISERROR((#REF!-#REF!)/#REF!),0,(#REF!-#REF!)/#REF!)","v":0},{"$f":"IF(ISERROR((#REF!-#REF!)/#REF!),0,(#REF!-#REF!)/#REF!)","v":0},{"$f":"IF(ISERROR((#REF!-#REF!)/#REF!),0,(#REF!-#REF!)/#REF!)","v":0},{"$f":"IF(ISERROR((#REF!-#REF!)/#REF!),0,(#REF!-#REF!)/#REF!)","v":0},{"$f":"IF(ISERROR((#REF!-#REF!)/#REF!),0,(#REF!-#REF!)/#REF!)","v":0},{"$f":"IF(ISERROR((#REF!-#REF!)/#REF!),0,(#REF!-#REF!)/#REF!)","v":0},{"$f":"IF(ISERROR((#REF!-#REF!)/#REF!),0,(#REF!-#REF!)/#REF!)","v":0},{"$f":"IF(ISERROR((#REF!-#REF!)/#REF!),0,(#REF!-#REF!)/#REF!)","v":0},{"$f":"IF(ISERROR((#REF!-#REF!)/#REF!),0,(#REF!-#REF!)/#REF!)","v":0},{"$f":"IF(ISERROR((#REF!-#REF!)/#REF!),0,(#REF!-#REF!)/#REF!)","v":0},{"$f":"IF(ISERROR((#REF!-#REF!)/#REF!),0,(#REF!-#REF!)/#REF!)","v":0}]
[null,"EA53Z","Transcatheter Aortic Valve Implantation (TAVI)",0,8102,0,0,17,11122,55,204,"No","-",0,"","",{"$f":"IF(ISERROR((#REF!-#REF!)/#REF!),0,(#REF!-#REF!)/#REF!)","v":0},{"$f":"IF(ISERROR((#REF!-#REF!)/#REF!),0,(#REF!-#REF!)/#REF!)","v":0},{"$f":"IF(ISERROR((#REF!-#REF!)/#REF!),0,(#REF!-#REF!)/#REF!)","v":0},{"$f":"IF(ISERROR((#REF!-#REF!)/#REF!),0,(#REF!-#REF!)/#REF!)","v":0},{"$f":"IF(ISERROR((#REF!-#REF!)/#REF!),0,(#REF!-#REF!)/#REF!)","v":0},{"$f":"IF(ISERROR((#REF!-#REF!)/#REF!),0,(#REF!-#REF!)/#REF!)","v":0},{"$f":"IF(ISERROR((#REF!-#REF!)/#REF!),0,(#REF!-#REF!)/#REF!)","v":0},{"$f":"IF(ISERROR((#REF!-#REF!)/#REF!),0,(#REF!-#REF!)/#REF!)","v":0},{"$f":"IF(ISERROR((#REF!-#REF!)/#REF!),0,(#REF!-#REF!)/#REF!)","v":0},{"$f":"IF(ISERROR((#REF!-#REF!)/#REF!),0,(#REF!-#REF!)/#REF!)","v":0},{"$f":"IF(ISERROR((#REF!-#REF!)/#REF!),0,(#REF!-#REF!)/#REF!)","v":0},{"$f":"IF(ISERROR((#REF!-#REF!)/#REF!),0,(#REF!-#REF!)/#REF!)","v":0},{"$f":"IF(ISERROR((#REF!-#REF!)/#REF!),0,(#REF!-#REF!)/#REF!)","v":0}]
[null,"EA54Z","Percutaneous Standard Ablation",0,1439,0,0,5,4344,20,204,"No","-",0,"","",{"$f":"IF(ISERROR((#REF!-#REF!)/#REF!),0,(#REF!-#REF!)/#REF!)","v":0},{"$f":"IF(ISERROR((#REF!-#REF!)/#REF!),0,(#REF!-#REF!)/#REF!)","v":0},{"$f":"IF(ISERROR((#REF!-#REF!)/#REF!),0,(#REF!-#REF!)/#REF!)","v":0},{"$f":"IF(ISERROR((#REF!-#REF!)/#REF!),0,(#REF!-#REF!)/#REF!)","v":0},{"$f":"IF(ISERROR((#REF!-#REF!)/#REF!),0,(#REF!-#REF!)/#REF!)","v":0},{"$f":"IF(ISERROR((#REF!-#REF!)/#REF!),0,(#REF!-#REF!)/#REF!)","v":0},{"$f":"IF(ISERROR((#REF!-#REF!)/#REF!),0,(#REF!-#REF!)/#REF!)","v":0},{"$f":"IF(ISERROR((#REF!-#REF!)/#REF!),0,(#REF!-#REF!)/#REF!)","v":0},{"$f":"IF(ISERROR((#REF!-#REF!)/#REF!),0,(#REF!-#REF!)/#REF!)","v":0},{"$f":"IF(ISERROR((#REF!-#REF!)/#REF!),0,(#REF!-#REF!)/#REF!)","v":0},{"$f":"IF(ISERROR((#REF!-#REF!)/#REF!),0,(#REF!-#REF!)/#REF!)","v":0},{"$f":"IF(ISERROR((#REF!-#REF!)/#REF!),0,(#REF!-#REF!)/#REF!)","v":0},{"$f":"IF(ISERROR((#REF!-#REF!)/#REF!),0,(#REF!-#REF!)/#REF!)","v":0}]
[null,"EA55Z","Percutaneous Diagnostic Electrophysiology Studies",0,851,0,0,5,3486,17,204,"No","-",0,"","",{"$f":"IF(ISERROR((#REF!-#REF!)/#REF!),0,(#REF!-#REF!)/#REF!)","v":0},{"$f":"IF(ISERROR((#REF!-#REF!)/#REF!),0,(#REF!-#REF!)/#REF!)","v":0},{"$f":"IF(ISERROR((#REF!-#REF!)/#REF!),0,(#REF!-#REF!)/#REF!)","v":0},{"$f":"IF(ISERROR((#REF!-#REF!)/#REF!),0,(#REF!-#REF!)/#REF!)","v":0},{"$f":"IF(ISERROR((#REF!-#REF!)/#REF!),0,(#REF!-#REF!)/#REF!)","v":0},{"$f":"IF(ISERROR((#REF!-#REF!)/#REF!),0,(#REF!-#REF!)/#REF!)","v":0},{"$f":"IF(ISERROR((#REF!-#REF!)/#REF!),0,(#REF!-#REF!)/#REF!)","v":0},{"$f":"IF(ISERROR((#REF!-#REF!)/#REF!),0,(#REF!-#REF!)/#REF!)","v":0},{"$f":"IF(ISERROR((#REF!-#REF!)/#REF!),0,(#REF!-#REF!)/#REF!)","v":0},{"$f":"IF(ISERROR((#REF!-#REF!)/#REF!),0,(#REF!-#REF!)/#REF!)","v":0},{"$f":"IF(ISERROR((#REF!-#REF!)/#REF!),0,(#REF!-#REF!)/#REF!)","v":0},{"$f":"IF(ISERROR((#REF!-#REF!)/#REF!),0,(#REF!-#REF!)/#REF!)","v":0},{"$f":"IF(ISERROR((#REF!-#REF!)/#REF!),0,(#REF!-#REF!)/#REF!)","v":0}]
[null,"EA56Z","Implantation of Cardiac Resynchronization Therapy Defibrillator (CRT-D)",0,6201,0,0,5,13962,35,204,"No","-",0,"","",{"$f":"IF(ISERROR((#REF!-#REF!)/#REF!),0,(#REF!-#REF!)/#REF!)","v":0},{"$f":"IF(ISERROR((#REF!-#REF!)/#REF!),0,(#REF!-#REF!)/#REF!)","v":0},{"$f":"IF(ISERROR((#REF!-#REF!)/#REF!),0,(#REF!-#REF!)/#REF!)","v":0},{"$f":"IF(ISERROR((#REF!-#REF!)/#REF!),0,(#REF!-#REF!)/#REF!)","v":0},{"$f":"IF(ISERROR((#REF!-#REF!)/#REF!),0,(#REF!-#REF!)/#REF!)","v":0},{"$f":"IF(ISERROR((#REF!-#REF!)/#REF!),0,(#REF!-#REF!)/#REF!)","v":0},{"$f":"IF(ISERROR((#REF!-#REF!)/#REF!),0,(#REF!-#REF!)/#REF!)","v":0},{"$f":"IF(ISERROR((#REF!-#REF!)/#REF!),0,(#REF!-#REF!)/#REF!)","v":0},{"$f":"IF(ISERROR((#REF!-#REF!)/#REF!),0,(#REF!-#REF!)/#REF!)","v":0},{"$f":"IF(ISERROR((#REF!-#REF!)/#REF!),0,(#REF!-#REF!)/#REF!)","v":0},{"$f":"IF(ISERROR((#REF!-#REF!)/#REF!),0,(#REF!-#REF!)/#REF!)","v":0},{"$f":"IF(ISERROR((#REF!-#REF!)/#REF!),0,(#REF!-#REF!)/#REF!)","v":0},{"$f":"IF(ISERROR((#REF!-#REF!)/#REF!),0,(#REF!-#REF!)/#REF!)","v":0}]
[null,"EB01Z","Non-Interventional Acquired Cardiac Conditions",0,933,0,0,5,544,5,204,"No","-",0,1,"sub-HRG",{"$f":"IF(ISERROR((#REF!-#REF!)/#REF!),0,(#REF!-#REF!)/#REF!)","v":0},{"$f":"IF(ISERROR((#REF!-#REF!)/#REF!),0,(#REF!-#REF!)/#REF!)","v":0},{"$f":"IF(ISERROR((#REF!-#REF!)/#REF!),0,(#REF!-#REF!)/#REF!)","v":0},{"$f":"IF(ISERROR((#REF!-#REF!)/#REF!),0,(#REF!-#REF!)/#REF!)","v":0},{"$f":"IF(ISERROR((#REF!-#REF!)/#REF!),0,(#REF!-#REF!)/#REF!)","v":0},{"$f":"IF(ISERROR((#REF!-#REF!)/#REF!),0,(#REF!-#REF!)/#REF!)","v":0},{"$f":"IF(ISERROR((#REF!-#REF!)/#REF!),0,(#REF!-#REF!)/#REF!)","v":0},{"$f":"IF(ISERROR((#REF!-#REF!)/#REF!),0,(#REF!-#REF!)/#REF!)","v":0},{"$f":"IF(ISERROR((#REF!-#REF!)/#REF!),0,(#REF!-#REF!)/#REF!)","v":0},{"$f":"IF(ISERROR((#REF!-#REF!)/#REF!),0,(#REF!-#REF!)/#REF!)","v":0},{"$f":"IF(ISERROR((#REF!-#REF!)/#REF!),0,(#REF!-#REF!)/#REF!)","v":0},{"$f":"IF(ISERROR((#REF!-#REF!)/#REF!),0,(#REF!-#REF!)/#REF!)","v":0},{"$f":"IF(ISERROR((#REF!-#REF!)/#REF!),0,(#REF!-#REF!)/#REF!)","v":0}]
[null,"EB02Z","Endocarditis",0,2555,0,0,35,9294.6304641277711,75,204,"Yes",0.30000000000000004,2788.3891392383316,"","",{"$f":"IF(ISERROR((#REF!-#REF!)/#REF!),0,(#REF!-#REF!)/#REF!)","v":0},{"$f":"IF(ISERROR((#REF!-#REF!)/#REF!),0,(#REF!-#REF!)/#REF!)","v":0},{"$f":"IF(ISERROR((#REF!-#REF!)/#REF!),0,(#REF!-#REF!)/#REF!)","v":0},{"$f":"IF(ISERROR((#REF!-#REF!)/#REF!),0,(#REF!-#REF!)/#REF!)","v":0},{"$f":"IF(ISERROR((#REF!-#REF!)/#REF!),0,(#REF!-#REF!)/#REF!)","v":0},{"$f":"IF(ISERROR((#REF!-#REF!)/#REF!),0,(#REF!-#REF!)/#REF!)","v":0},{"$f":"IF(ISERROR((#REF!-#REF!)/#REF!),0,(#REF!-#REF!)/#REF!)","v":0},{"$f":"IF(ISERROR((#REF!-#REF!)/#REF!),0,(#REF!-#REF!)/#REF!)","v":0},{"$f":"IF(ISERROR((#REF!-#REF!)/#REF!),0,(#REF!-#REF!)/#REF!)","v":0},{"$f":"IF(ISERROR((#REF!-#REF!)/#REF!),0,(#REF!-#REF!)/#REF!)","v":0},{"$f":"IF(ISERROR((#REF!-#REF!)/#REF!),0,(#REF!-#REF!)/#REF!)","v":0},{"$f":"IF(ISERROR((#REF!-#REF!)/#REF!),0,(#REF!-#REF!)/#REF!)","v":0},{"$f":"IF(ISERROR((#REF!-#REF!)/#REF!),0,(#REF!-#REF!)/#REF!)","v":0}]
[null,"EB03H","Heart Failure or Shock, with CC",0,4065,0,0,43,4636.6216563958988,40,204,"Yes",0.30000000000000004,1390.9864969187699,1,"HRG",{"$f":"IF(ISERROR((#REF!-#REF!)/#REF!),0,(#REF!-#REF!)/#REF!)","v":0},{"$f":"IF(ISERROR((#REF!-#REF!)/#REF!),0,(#REF!-#REF!)/#REF!)","v":0},{"$f":"IF(ISERROR((#REF!-#REF!)/#REF!),0,(#REF!-#REF!)/#REF!)","v":0},{"$f":"IF(ISERROR((#REF!-#REF!)/#REF!),0,(#REF!-#REF!)/#REF!)","v":0},{"$f":"IF(ISERROR((#REF!-#REF!)/#REF!),0,(#REF!-#REF!)/#REF!)","v":0},{"$f":"IF(ISERROR((#REF!-#REF!)/#REF!),0,(#REF!-#REF!)/#REF!)","v":0},{"$f":"IF(ISERROR((#REF!-#REF!)/#REF!),0,(#REF!-#REF!)/#REF!)","v":0},{"$f":"IF(ISERROR((#REF!-#REF!)/#REF!),0,(#REF!-#REF!)/#REF!)","v":0},{"$f":"IF(ISERROR((#REF!-#REF!)/#REF!),0,(#REF!-#REF!)/#REF!)","v":0},{"$f":"IF(ISERROR((#REF!-#REF!)/#REF!),0,(#REF!-#REF!)/#REF!)","v":0},{"$f":"IF(ISERROR((#REF!-#REF!)/#REF!),0,(#REF!-#REF!)/#REF!)","v":0},{"$f":"IF(ISERROR((#REF!-#REF!)/#REF!),0,(#REF!-#REF!)/#REF!)","v":0},{"$f":"IF(ISERROR((#REF!-#REF!)/#REF!),0,(#REF!-#REF!)/#REF!)","v":0}]
[null,"EB03I","Heart Failure or Shock, without CC",0,1573,0,0,18,2770.5421913000359,21,204,"Yes",0.30000000000000004,831.16265739001085,1,"HRG",{"$f":"IF(ISERROR((#REF!-#REF!)/#REF!),0,(#REF!-#REF!)/#REF!)","v":0},{"$f":"IF(ISERROR((#REF!-#REF!)/#REF!),0,(#REF!-#REF!)/#REF!)","v":0},{"$f":"IF(ISERROR((#REF!-#REF!)/#REF!),0,(#REF!-#REF!)/#REF!)","v":0},{"$f":"IF(ISERROR((#REF!-#REF!)/#REF!),0,(#REF!-#REF!)/#REF!)","v":0},{"$f":"IF(ISERROR((#REF!-#REF!)/#REF!),0,(#REF!-#REF!)/#REF!)","v":0},{"$f":"IF(ISERROR((#REF!-#REF!)/#REF!),0,(#REF!-#REF!)/#REF!)","v":0},{"$f":"IF(ISERROR((#REF!-#REF!)/#REF!),0,(#REF!-#REF!)/#REF!)","v":0},{"$f":"IF(ISERROR((#REF!-#REF!)/#REF!),0,(#REF!-#REF!)/#REF!)","v":0},{"$f":"IF(ISERROR((#REF!-#REF!)/#REF!),0,(#REF!-#REF!)/#REF!)","v":0},{"$f":"IF(ISERROR((#REF!-#REF!)/#REF!),0,(#REF!-#REF!)/#REF!)","v":0},{"$f":"IF(ISERROR((#REF!-#REF!)/#REF!),0,(#REF!-#REF!)/#REF!)","v":0},{"$f":"IF(ISERROR((#REF!-#REF!)/#REF!),0,(#REF!-#REF!)/#REF!)","v":0},{"$f":"IF(ISERROR((#REF!-#REF!)/#REF!),0,(#REF!-#REF!)/#REF!)","v":0}]
[null,"EB04H","Hypertension with CC",0,1003,0,0,131,7278.8414830350875,32,204,"Yes",0.30000000000000004,2183.6524449105268,"","",{"$f":"IF(ISERROR((#REF!-#REF!)/#REF!),0,(#REF!-#REF!)/#REF!)","v":0},{"$f":"IF(ISERROR((#REF!-#REF!)/#REF!),0,(#REF!-#REF!)/#REF!)","v":0},{"$f":"IF(ISERROR((#REF!-#REF!)/#REF!),0,(#REF!-#REF!)/#REF!)","v":0},{"$f":"IF(ISERROR((#REF!-#REF!)/#REF!),0,(#REF!-#REF!)/#REF!)","v":0},{"$f":"IF(ISERROR((#REF!-#REF!)/#REF!),0,(#REF!-#REF!)/#REF!)","v":0},{"$f":"IF(ISERROR((#REF!-#REF!)/#REF!),0,(#REF!-#REF!)/#REF!)","v":0},{"$f":"IF(ISERROR((#REF!-#REF!)/#REF!),0,(#REF!-#REF!)/#REF!)","v":0},{"$f":"IF(ISERROR((#REF!-#REF!)/#REF!),0,(#REF!-#REF!)/#REF!)","v":0},{"$f":"IF(ISERROR((#REF!-#REF!)/#REF!),0,(#REF!-#REF!)/#REF!)","v":0},{"$f":"IF(ISERROR((#REF!-#REF!)/#REF!),0,(#REF!-#REF!)/#REF!)","v":0},{"$f":"IF(ISERROR((#REF!-#REF!)/#REF!),0,(#REF!-#REF!)/#REF!)","v":0},{"$f":"IF(ISERROR((#REF!-#REF!)/#REF!),0,(#REF!-#REF!)/#REF!)","v":0},{"$f":"IF(ISERROR((#REF!-#REF!)/#REF!),0,(#REF!-#REF!)/#REF!)","v":0}]
[null,"EB04I","Hypertension without CC",0,550,0,0,5,1863,16,204,"Yes",0.30000000000000004,558.90000000000009,"","",{"$f":"IF(ISERROR((#REF!-#REF!)/#REF!),0,(#REF!-#REF!)/#REF!)","v":0},{"$f":"IF(ISERROR((#REF!-#REF!)/#REF!),0,(#REF!-#REF!)/#REF!)","v":0},{"$f":"IF(ISERROR((#REF!-#REF!)/#REF!),0,(#REF!-#REF!)/#REF!)","v":0},{"$f":"IF(ISERROR((#REF!-#REF!)/#REF!),0,(#REF!-#REF!)/#REF!)","v":0},{"$f":"IF(ISERROR((#REF!-#REF!)/#REF!),0,(#REF!-#REF!)/#REF!)","v":0},{"$f":"IF(ISERROR((#REF!-#REF!)/#REF!),0,(#REF!-#REF!)/#REF!)","v":0},{"$f":"IF(ISERROR((#REF!-#REF!)/#REF!),0,(#REF!-#REF!)/#REF!)","v":0},{"$f":"IF(ISERROR((#REF!-#REF!)/#REF!),0,(#REF!-#REF!)/#REF!)","v":0},{"$f":"IF(ISERROR((#REF!-#REF!)/#REF!),0,(#REF!-#REF!)/#REF!)","v":0},{"$f":"IF(ISERROR((#REF!-#REF!)/#REF!),0,(#REF!-#REF!)/#REF!)","v":0},{"$f":"IF(ISERROR((#REF!-#REF!)/#REF!),0,(#REF!-#REF!)/#REF!)","v":0},{"$f":"IF(ISERROR((#REF!-#REF!)/#REF!),0,(#REF!-#REF!)/#REF!)","v":0},{"$f":"IF(ISERROR((#REF!-#REF!)/#REF!),0,(#REF!-#REF!)/#REF!)","v":0}]
[null,"EB05Z","Cardiac Arrest",0,2092,0,0,28,3416.9096583917999,13,204,"Yes",0.30000000000000004,1025.07289751754,"","",{"$f":"IF(ISERROR((#REF!-#REF!)/#REF!),0,(#REF!-#REF!)/#REF!)","v":0},{"$f":"IF(ISERROR((#REF!-#REF!)/#REF!),0,(#REF!-#REF!)/#REF!)","v":0},{"$f":"IF(ISERROR((#REF!-#REF!)/#REF!),0,(#REF!-#REF!)/#REF!)","v":0},{"$f":"IF(ISERROR((#REF!-#REF!)/#REF!),0,(#REF!-#REF!)/#REF!)","v":0},{"$f":"IF(ISERROR((#REF!-#REF!)/#REF!),0,(#REF!-#REF!)/#REF!)","v":0},{"$f":"IF(ISERROR((#REF!-#REF!)/#REF!),0,(#REF!-#REF!)/#REF!)","v":0},{"$f":"IF(ISERROR((#REF!-#REF!)/#REF!),0,(#REF!-#REF!)/#REF!)","v":0},{"$f":"IF(ISERROR((#REF!-#REF!)/#REF!),0,(#REF!-#REF!)/#REF!)","v":0},{"$f":"IF(ISERROR((#REF!-#REF!)/#REF!),0,(#REF!-#REF!)/#REF!)","v":0},{"$f":"IF(ISERROR((#REF!-#REF!)/#REF!),0,(#REF!-#REF!)/#REF!)","v":0},{"$f":"IF(ISERROR((#REF!-#REF!)/#REF!),0,(#REF!-#REF!)/#REF!)","v":0},{"$f":"IF(ISERROR((#REF!-#REF!)/#REF!),0,(#REF!-#REF!)/#REF!)","v":0},{"$f":"IF(ISERROR((#REF!-#REF!)/#REF!),0,(#REF!-#REF!)/#REF!)","v":0}]
[null,"EB06Z","Cardiac Valve Disorders",0,1564,0,0,10,3851.6206298717957,30,204,"Yes",0.30000000000000004,1155.4861889615388,"","",{"$f":"IF(ISERROR((#REF!-#REF!)/#REF!),0,(#REF!-#REF!)/#REF!)","v":0},{"$f":"IF(ISERROR((#REF!-#REF!)/#REF!),0,(#REF!-#REF!)/#REF!)","v":0},{"$f":"IF(ISERROR((#REF!-#REF!)/#REF!),0,(#REF!-#REF!)/#REF!)","v":0},{"$f":"IF(ISERROR((#REF!-#REF!)/#REF!),0,(#REF!-#REF!)/#REF!)","v":0},{"$f":"IF(ISERROR((#REF!-#REF!)/#REF!),0,(#REF!-#REF!)/#REF!)","v":0},{"$f":"IF(ISERROR((#REF!-#REF!)/#REF!),0,(#REF!-#REF!)/#REF!)","v":0},{"$f":"IF(ISERROR((#REF!-#REF!)/#REF!),0,(#REF!-#REF!)/#REF!)","v":0},{"$f":"IF(ISERROR((#REF!-#REF!)/#REF!),0,(#REF!-#REF!)/#REF!)","v":0},{"$f":"IF(ISERROR((#REF!-#REF!)/#REF!),0,(#REF!-#REF!)/#REF!)","v":0},{"$f":"IF(ISERROR((#REF!-#REF!)/#REF!),0,(#REF!-#REF!)/#REF!)","v":0},{"$f":"IF(ISERROR((#REF!-#REF!)/#REF!),0,(#REF!-#REF!)/#REF!)","v":0},{"$f":"IF(ISERROR((#REF!-#REF!)/#REF!),0,(#REF!-#REF!)/#REF!)","v":0},{"$f":"IF(ISERROR((#REF!-#REF!)/#REF!),0,(#REF!-#REF!)/#REF!)","v":0}]
[null,"EB07H","Arrhythmia or Conduction Disorders, with CC",0,1103.5841983356229,0,0,5,2251.9914611711029,21,204,"No","-",0,1,"HRG",{"$f":"IF(ISERROR((#REF!-#REF!)/#REF!),0,(#REF!-#REF!)/#REF!)","v":0},{"$f":"IF(ISERROR((#REF!-#REF!)/#REF!),0,(#REF!-#REF!)/#REF!)","v":0},{"$f":"IF(ISERROR((#REF!-#REF!)/#REF!),0,(#REF!-#REF!)/#REF!)","v":0},{"$f":"IF(ISERROR((#REF!-#REF!)/#REF!),0,(#REF!-#REF!)/#REF!)","v":0},{"$f":"IF(ISERROR((#REF!-#REF!)/#REF!),0,(#REF!-#REF!)/#REF!)","v":0},{"$f":"IF(ISERROR((#REF!-#REF!)/#REF!),0,(#REF!-#REF!)/#REF!)","v":0},{"$f":"IF(ISERROR((#REF!-#REF!)/#REF!),0,(#REF!-#REF!)/#REF!)","v":0},{"$f":"IF(ISERROR((#REF!-#REF!)/#REF!),0,(#REF!-#REF!)/#REF!)","v":0},{"$f":"IF(ISERROR((#REF!-#REF!)/#REF!),0,(#REF!-#REF!)/#REF!)","v":0},{"$f":"IF(ISERROR((#REF!-#REF!)/#REF!),0,(#REF!-#REF!)/#REF!)","v":0},{"$f":"IF(ISERROR((#REF!-#REF!)/#REF!),0,(#REF!-#REF!)/#REF!)","v":0},{"$f":"IF(ISERROR((#REF!-#REF!)/#REF!),0,(#REF!-#REF!)/#REF!)","v":0},{"$f":"IF(ISERROR((#REF!-#REF!)/#REF!),0,(#REF!-#REF!)/#REF!)","v":0}]
[null,"EB07I","Arrhythmia or Conduction Disorders, without CC",0,724.43546679279416,0,0,5,625,5,204,"No","-",0,1,"HRG",{"$f":"IF(ISERROR((#REF!-#REF!)/#REF!),0,(#REF!-#REF!)/#REF!)","v":0},{"$f":"IF(ISERROR((#REF!-#REF!)/#REF!),0,(#REF!-#REF!)/#REF!)","v":0},{"$f":"IF(ISERROR((#REF!-#REF!)/#REF!),0,(#REF!-#REF!)/#REF!)","v":0},{"$f":"IF(ISERROR((#REF!-#REF!)/#REF!),0,(#REF!-#REF!)/#REF!)","v":0},{"$f":"IF(ISERROR((#REF!-#REF!)/#REF!),0,(#REF!-#REF!)/#REF!)","v":0},{"$f":"IF(ISERROR((#REF!-#REF!)/#REF!),0,(#REF!-#REF!)/#REF!)","v":0},{"$f":"IF(ISERROR((#REF!-#REF!)/#REF!),0,(#REF!-#REF!)/#REF!)","v":0},{"$f":"IF(ISERROR((#REF!-#REF!)/#REF!),0,(#REF!-#REF!)/#REF!)","v":0},{"$f":"IF(ISERROR((#REF!-#REF!)/#REF!),0,(#REF!-#REF!)/#REF!)","v":0},{"$f":"IF(ISERROR((#REF!-#REF!)/#REF!),0,(#REF!-#REF!)/#REF!)","v":0},{"$f":"IF(ISERROR((#REF!-#REF!)/#REF!),0,(#REF!-#REF!)/#REF!)","v":0},{"$f":"IF(ISERROR((#REF!-#REF!)/#REF!),0,(#REF!-#REF!)/#REF!)","v":0},{"$f":"IF(ISERROR((#REF!-#REF!)/#REF!),0,(#REF!-#REF!)/#REF!)","v":0}]
[null,"EB08H","Syncope or Collapse, with CC",0,1281,0,0,23,2668.2786884170487,21,204,"Yes",0.30000000000000004,800.48360652511474,"","",{"$f":"IF(ISERROR((#REF!-#REF!)/#REF!),0,(#REF!-#REF!)/#REF!)","v":0},{"$f":"IF(ISERROR((#REF!-#REF!)/#REF!),0,(#REF!-#REF!)/#REF!)","v":0},{"$f":"IF(ISERROR((#REF!-#REF!)/#REF!),0,(#REF!-#REF!)/#REF!)","v":0},{"$f":"IF(ISERROR((#REF!-#REF!)/#REF!),0,(#REF!-#REF!)/#REF!)","v":0},{"$f":"IF(ISERROR((#REF!-#REF!)/#REF!),0,(#REF!-#REF!)/#REF!)","v":0},{"$f":"IF(ISERROR((#REF!-#REF!)/#REF!),0,(#REF!-#REF!)/#REF!)","v":0},{"$f":"IF(ISERROR((#REF!-#REF!)/#REF!),0,(#REF!-#REF!)/#REF!)","v":0},{"$f":"IF(ISERROR((#REF!-#REF!)/#REF!),0,(#REF!-#REF!)/#REF!)","v":0},{"$f":"IF(ISERROR((#REF!-#REF!)/#REF!),0,(#REF!-#REF!)/#REF!)","v":0},{"$f":"IF(ISERROR((#REF!-#REF!)/#REF!),0,(#REF!-#REF!)/#REF!)","v":0},{"$f":"IF(ISERROR((#REF!-#REF!)/#REF!),0,(#REF!-#REF!)/#REF!)","v":0},{"$f":"IF(ISERROR((#REF!-#REF!)/#REF!),0,(#REF!-#REF!)/#REF!)","v":0},{"$f":"IF(ISERROR((#REF!-#REF!)/#REF!),0,(#REF!-#REF!)/#REF!)","v":0}]
[null,"EB08I","Syncope or Collapse, without CC",0,699.46886315775282,0,0,5,529,5,204,"No","-",0,1,"HRG",{"$f":"IF(ISERROR((#REF!-#REF!)/#REF!),0,(#REF!-#REF!)/#REF!)","v":0},{"$f":"IF(ISERROR((#REF!-#REF!)/#REF!),0,(#REF!-#REF!)/#REF!)","v":0},{"$f":"IF(ISERROR((#REF!-#REF!)/#REF!),0,(#REF!-#REF!)/#REF!)","v":0},{"$f":"IF(ISERROR((#REF!-#REF!)/#REF!),0,(#REF!-#REF!)/#REF!)","v":0},{"$f":"IF(ISERROR((#REF!-#REF!)/#REF!),0,(#REF!-#REF!)/#REF!)","v":0},{"$f":"IF(ISERROR((#REF!-#REF!)/#REF!),0,(#REF!-#REF!)/#REF!)","v":0},{"$f":"IF(ISERROR((#REF!-#REF!)/#REF!),0,(#REF!-#REF!)/#REF!)","v":0},{"$f":"IF(ISERROR((#REF!-#REF!)/#REF!),0,(#REF!-#REF!)/#REF!)","v":0},{"$f":"IF(ISERROR((#REF!-#REF!)/#REF!),0,(#REF!-#REF!)/#REF!)","v":0},{"$f":"IF(ISERROR((#REF!-#REF!)/#REF!),0,(#REF!-#REF!)/#REF!)","v":0},{"$f":"IF(ISERROR((#REF!-#REF!)/#REF!),0,(#REF!-#REF!)/#REF!)","v":0},{"$f":"IF(ISERROR((#REF!-#REF!)/#REF!),0,(#REF!-#REF!)/#REF!)","v":0},{"$f":"IF(ISERROR((#REF!-#REF!)/#REF!),0,(#REF!-#REF!)/#REF!)","v":0}]
[null,"EB09Z","Non-Interventional Congenital Cardiac Conditions",0,953,0,0,5,2530,16,264,"Yes",0.30000000000000004,759.00000000000011,"","",{"$f":"IF(ISERROR((#REF!-#REF!)/#REF!),0,(#REF!-#REF!)/#REF!)","v":0},{"$f":"IF(ISERROR((#REF!-#REF!)/#REF!),0,(#REF!-#REF!)/#REF!)","v":0},{"$f":"IF(ISERROR((#REF!-#REF!)/#REF!),0,(#REF!-#REF!)/#REF!)","v":0},{"$f":"IF(ISERROR((#REF!-#REF!)/#REF!),0,(#REF!-#REF!)/#REF!)","v":0},{"$f":"IF(ISERROR((#REF!-#REF!)/#REF!),0,(#REF!-#REF!)/#REF!)","v":0},{"$f":"IF(ISERROR((#REF!-#REF!)/#REF!),0,(#REF!-#REF!)/#REF!)","v":0},{"$f":"IF(ISERROR((#REF!-#REF!)/#REF!),0,(#REF!-#REF!)/#REF!)","v":0},{"$f":"IF(ISERROR((#REF!-#REF!)/#REF!),0,(#REF!-#REF!)/#REF!)","v":0},{"$f":"IF(ISERROR((#REF!-#REF!)/#REF!),0,(#REF!-#REF!)/#REF!)","v":0},{"$f":"IF(ISERROR((#REF!-#REF!)/#REF!),0,(#REF!-#REF!)/#REF!)","v":0},{"$f":"IF(ISERROR((#REF!-#REF!)/#REF!),0,(#REF!-#REF!)/#REF!)","v":0},{"$f":"IF(ISERROR((#REF!-#REF!)/#REF!),0,(#REF!-#REF!)/#REF!)","v":0},{"$f":"IF(ISERROR((#REF!-#REF!)/#REF!),0,(#REF!-#REF!)/#REF!)","v":0}]
[null,"EB10Z","Actual or Suspected Myocardial Infarction",0,3722,0,0,24,3180,18,204,"Yes",0.30000000000000004,954.00000000000011,"","",{"$f":"IF(ISERROR((#REF!-#REF!)/#REF!),0,(#REF!-#REF!)/#REF!)","v":0},{"$f":"IF(ISERROR((#REF!-#REF!)/#REF!),0,(#REF!-#REF!)/#REF!)","v":0},{"$f":"IF(ISERROR((#REF!-#REF!)/#REF!),0,(#REF!-#REF!)/#REF!)","v":0},{"$f":"IF(ISERROR((#REF!-#REF!)/#REF!),0,(#REF!-#REF!)/#REF!)","v":0},{"$f":"IF(ISERROR((#REF!-#REF!)/#REF!),0,(#REF!-#REF!)/#REF!)","v":0},{"$f":"IF(ISERROR((#REF!-#REF!)/#REF!),0,(#REF!-#REF!)/#REF!)","v":0},{"$f":"IF(ISERROR((#REF!-#REF!)/#REF!),0,(#REF!-#REF!)/#REF!)","v":0},{"$f":"IF(ISERROR((#REF!-#REF!)/#REF!),0,(#REF!-#REF!)/#REF!)","v":0},{"$f":"IF(ISERROR((#REF!-#REF!)/#REF!),0,(#REF!-#REF!)/#REF!)","v":0},{"$f":"IF(ISERROR((#REF!-#REF!)/#REF!),0,(#REF!-#REF!)/#REF!)","v":0},{"$f":"IF(ISERROR((#REF!-#REF!)/#REF!),0,(#REF!-#REF!)/#REF!)","v":0},{"$f":"IF(ISERROR((#REF!-#REF!)/#REF!),0,(#REF!-#REF!)/#REF!)","v":0},{"$f":"IF(ISERROR((#REF!-#REF!)/#REF!),0,(#REF!-#REF!)/#REF!)","v":0}]
[null,"FZ12D","Major General Abdominal Procedures, 19 years and over with Major CC",0,4405,0,0,24,6422.5955509396408,47,209,"No","-",0,"","",{"$f":"IF(ISERROR((#REF!-#REF!)/#REF!),0,(#REF!-#REF!)/#REF!)","v":0},{"$f":"IF(ISERROR((#REF!-#REF!)/#REF!),0,(#REF!-#REF!)/#REF!)","v":0},{"$f":"IF(ISERROR((#REF!-#REF!)/#REF!),0,(#REF!-#REF!)/#REF!)","v":0},{"$f":"IF(ISERROR((#REF!-#REF!)/#REF!),0,(#REF!-#REF!)/#REF!)","v":0},{"$f":"IF(ISERROR((#REF!-#REF!)/#REF!),0,(#REF!-#REF!)/#REF!)","v":0},{"$f":"IF(ISERROR((#REF!-#REF!)/#REF!),0,(#REF!-#REF!)/#REF!)","v":0},{"$f":"IF(ISERROR((#REF!-#REF!)/#REF!),0,(#REF!-#REF!)/#REF!)","v":0},{"$f":"IF(ISERROR((#REF!-#REF!)/#REF!),0,(#REF!-#REF!)/#REF!)","v":0},{"$f":"IF(ISERROR((#REF!-#REF!)/#REF!),0,(#REF!-#REF!)/#REF!)","v":0},{"$f":"IF(ISERROR((#REF!-#REF!)/#REF!),0,(#REF!-#REF!)/#REF!)","v":0},{"$f":"IF(ISERROR((#REF!-#REF!)/#REF!),0,(#REF!-#REF!)/#REF!)","v":0},{"$f":"IF(ISERROR((#REF!-#REF!)/#REF!),0,(#REF!-#REF!)/#REF!)","v":0},{"$f":"IF(ISERROR((#REF!-#REF!)/#REF!),0,(#REF!-#REF!)/#REF!)","v":0}]
[null,"FZ12E","Major General Abdominal Procedures, 19 years and over with Intermediate CC",0,2372,0,0,10,6498.0076229605338,27,209,"No","-",0,"","",{"$f":"IF(ISERROR((#REF!-#REF!)/#REF!),0,(#REF!-#REF!)/#REF!)","v":0},{"$f":"IF(ISERROR((#REF!-#REF!)/#REF!),0,(#REF!-#REF!)/#REF!)","v":0},{"$f":"IF(ISERROR((#REF!-#REF!)/#REF!),0,(#REF!-#REF!)/#REF!)","v":0},{"$f":"IF(ISERROR((#REF!-#REF!)/#REF!),0,(#REF!-#REF!)/#REF!)","v":0},{"$f":"IF(ISERROR((#REF!-#REF!)/#REF!),0,(#REF!-#REF!)/#REF!)","v":0},{"$f":"IF(ISERROR((#REF!-#REF!)/#REF!),0,(#REF!-#REF!)/#REF!)","v":0},{"$f":"IF(ISERROR((#REF!-#REF!)/#REF!),0,(#REF!-#REF!)/#REF!)","v":0},{"$f":"IF(ISERROR((#REF!-#REF!)/#REF!),0,(#REF!-#REF!)/#REF!)","v":0},{"$f":"IF(ISERROR((#REF!-#REF!)/#REF!),0,(#REF!-#REF!)/#REF!)","v":0},{"$f":"IF(ISERROR((#REF!-#REF!)/#REF!),0,(#REF!-#REF!)/#REF!)","v":0},{"$f":"IF(ISERROR((#REF!-#REF!)/#REF!),0,(#REF!-#REF!)/#REF!)","v":0},{"$f":"IF(ISERROR((#REF!-#REF!)/#REF!),0,(#REF!-#REF!)/#REF!)","v":0},{"$f":"IF(ISERROR((#REF!-#REF!)/#REF!),0,(#REF!-#REF!)/#REF!)","v":0}]
[null,"FZ12F","Major General Abdominal Procedures, 19 years and over without CC",0,1884,0,0,5,4766.1181581676628,17,209,"No","-",0,"","",{"$f":"IF(ISERROR((#REF!-#REF!)/#REF!),0,(#REF!-#REF!)/#REF!)","v":0},{"$f":"IF(ISERROR((#REF!-#REF!)/#REF!),0,(#REF!-#REF!)/#REF!)","v":0},{"$f":"IF(ISERROR((#REF!-#REF!)/#REF!),0,(#REF!-#REF!)/#REF!)","v":0},{"$f":"IF(ISERROR((#REF!-#REF!)/#REF!),0,(#REF!-#REF!)/#REF!)","v":0},{"$f":"IF(ISERROR((#REF!-#REF!)/#REF!),0,(#REF!-#REF!)/#REF!)","v":0},{"$f":"IF(ISERROR((#REF!-#REF!)/#REF!),0,(#REF!-#REF!)/#REF!)","v":0},{"$f":"IF(ISERROR((#REF!-#REF!)/#REF!),0,(#REF!-#REF!)/#REF!)","v":0},{"$f":"IF(ISERROR((#REF!-#REF!)/#REF!),0,(#REF!-#REF!)/#REF!)","v":0},{"$f":"IF(ISERROR((#REF!-#REF!)/#REF!),0,(#REF!-#REF!)/#REF!)","v":0},{"$f":"IF(ISERROR((#REF!-#REF!)/#REF!),0,(#REF!-#REF!)/#REF!)","v":0},{"$f":"IF(ISERROR((#REF!-#REF!)/#REF!),0,(#REF!-#REF!)/#REF!)","v":0},{"$f":"IF(ISERROR((#REF!-#REF!)/#REF!),0,(#REF!-#REF!)/#REF!)","v":0},{"$f":"IF(ISERROR((#REF!-#REF!)/#REF!),0,(#REF!-#REF!)/#REF!)","v":0}]
[null,"FZ12H","Major General Abdominal Procedures, between 2 and 18 years with CC",0,5133,0,0,17,7072,25,268,"No","-",0,"","",{"$f":"IF(ISERROR((#REF!-#REF!)/#REF!),0,(#REF!-#REF!)/#REF!)","v":0},{"$f":"IF(ISERROR((#REF!-#REF!)/#REF!),0,(#REF!-#REF!)/#REF!)","v":0},{"$f":"IF(ISERROR((#REF!-#REF!)/#REF!),0,(#REF!-#REF!)/#REF!)","v":0},{"$f":"IF(ISERROR((#REF!-#REF!)/#REF!),0,(#REF!-#REF!)/#REF!)","v":0},{"$f":"IF(ISERROR((#REF!-#REF!)/#REF!),0,(#REF!-#REF!)/#REF!)","v":0},{"$f":"IF(ISERROR((#REF!-#REF!)/#REF!),0,(#REF!-#REF!)/#REF!)","v":0},{"$f":"IF(ISERROR((#REF!-#REF!)/#REF!),0,(#REF!-#REF!)/#REF!)","v":0},{"$f":"IF(ISERROR((#REF!-#REF!)/#REF!),0,(#REF!-#REF!)/#REF!)","v":0},{"$f":"IF(ISERROR((#REF!-#REF!)/#REF!),0,(#REF!-#REF!)/#REF!)","v":0},{"$f":"IF(ISERROR((#REF!-#REF!)/#REF!),0,(#REF!-#REF!)/#REF!)","v":0},{"$f":"IF(ISERROR((#REF!-#REF!)/#REF!),0,(#REF!-#REF!)/#REF!)","v":0},{"$f":"IF(ISERROR((#REF!-#REF!)/#REF!),0,(#REF!-#REF!)/#REF!)","v":0},{"$f":"IF(ISERROR((#REF!-#REF!)/#REF!),0,(#REF!-#REF!)/#REF!)","v":0}]
[null,"FZ12I","Major General Abdominal Procedures, between 2 and 18 years without CC",0,2662,0,0,8,3413,16,268,"No","-",0,"","",{"$f":"IF(ISERROR((#REF!-#REF!)/#REF!),0,(#REF!-#REF!)/#REF!)","v":0},{"$f":"IF(ISERROR((#REF!-#REF!)/#REF!),0,(#REF!-#REF!)/#REF!)","v":0},{"$f":"IF(ISERROR((#REF!-#REF!)/#REF!),0,(#REF!-#REF!)/#REF!)","v":0},{"$f":"IF(ISERROR((#REF!-#REF!)/#REF!),0,(#REF!-#REF!)/#REF!)","v":0},{"$f":"IF(ISERROR((#REF!-#REF!)/#REF!),0,(#REF!-#REF!)/#REF!)","v":0},{"$f":"IF(ISERROR((#REF!-#REF!)/#REF!),0,(#REF!-#REF!)/#REF!)","v":0},{"$f":"IF(ISERROR((#REF!-#REF!)/#REF!),0,(#REF!-#REF!)/#REF!)","v":0},{"$f":"IF(ISERROR((#REF!-#REF!)/#REF!),0,(#REF!-#REF!)/#REF!)","v":0},{"$f":"IF(ISERROR((#REF!-#REF!)/#REF!),0,(#REF!-#REF!)/#REF!)","v":0},{"$f":"IF(ISERROR((#REF!-#REF!)/#REF!),0,(#REF!-#REF!)/#REF!)","v":0},{"$f":"IF(ISERROR((#REF!-#REF!)/#REF!),0,(#REF!-#REF!)/#REF!)","v":0},{"$f":"IF(ISERROR((#REF!-#REF!)/#REF!),0,(#REF!-#REF!)/#REF!)","v":0},{"$f":"IF(ISERROR((#REF!-#REF!)/#REF!),0,(#REF!-#REF!)/#REF!)","v":0}]
[null,"FZ12J","Major General Abdominal Procedures, 1 year and under with Major CC",0,8896,0,0,40,12257,73,268,"No","-",0,"","",{"$f":"IF(ISERROR((#REF!-#REF!)/#REF!),0,(#REF!-#REF!)/#REF!)","v":0},{"$f":"IF(ISERROR((#REF!-#REF!)/#REF!),0,(#REF!-#REF!)/#REF!)","v":0},{"$f":"IF(ISERROR((#REF!-#REF!)/#REF!),0,(#REF!-#REF!)/#REF!)","v":0},{"$f":"IF(ISERROR((#REF!-#REF!)/#REF!),0,(#REF!-#REF!)/#REF!)","v":0},{"$f":"IF(ISERROR((#REF!-#REF!)/#REF!),0,(#REF!-#REF!)/#REF!)","v":0},{"$f":"IF(ISERROR((#REF!-#REF!)/#REF!),0,(#REF!-#REF!)/#REF!)","v":0},{"$f":"IF(ISERROR((#REF!-#REF!)/#REF!),0,(#REF!-#REF!)/#REF!)","v":0},{"$f":"IF(ISERROR((#REF!-#REF!)/#REF!),0,(#REF!-#REF!)/#REF!)","v":0},{"$f":"IF(ISERROR((#REF!-#REF!)/#REF!),0,(#REF!-#REF!)/#REF!)","v":0},{"$f":"IF(ISERROR((#REF!-#REF!)/#REF!),0,(#REF!-#REF!)/#REF!)","v":0},{"$f":"IF(ISERROR((#REF!-#REF!)/#REF!),0,(#REF!-#REF!)/#REF!)","v":0},{"$f":"IF(ISERROR((#REF!-#REF!)/#REF!),0,(#REF!-#REF!)/#REF!)","v":0},{"$f":"IF(ISERROR((#REF!-#REF!)/#REF!),0,(#REF!-#REF!)/#REF!)","v":0}]
[null,"FZ12K","Major General Abdominal Procedures, 1 year and under without Major CC",0,3122,0,0,10,7545,56,268,"No","-",0,"","",{"$f":"IF(ISERROR((#REF!-#REF!)/#REF!),0,(#REF!-#REF!)/#REF!)","v":0},{"$f":"IF(ISERROR((#REF!-#REF!)/#REF!),0,(#REF!-#REF!)/#REF!)","v":0},{"$f":"IF(ISERROR((#REF!-#REF!)/#REF!),0,(#REF!-#REF!)/#REF!)","v":0},{"$f":"IF(ISERROR((#REF!-#REF!)/#REF!),0,(#REF!-#REF!)/#REF!)","v":0},{"$f":"IF(ISERROR((#REF!-#REF!)/#REF!),0,(#REF!-#REF!)/#REF!)","v":0},{"$f":"IF(ISERROR((#REF!-#REF!)/#REF!),0,(#REF!-#REF!)/#REF!)","v":0},{"$f":"IF(ISERROR((#REF!-#REF!)/#REF!),0,(#REF!-#REF!)/#REF!)","v":0},{"$f":"IF(ISERROR((#REF!-#REF!)/#REF!),0,(#REF!-#REF!)/#REF!)","v":0},{"$f":"IF(ISERROR((#REF!-#REF!)/#REF!),0,(#REF!-#REF!)/#REF!)","v":0},{"$f":"IF(ISERROR((#REF!-#REF!)/#REF!),0,(#REF!-#REF!)/#REF!)","v":0},{"$f":"IF(ISERROR((#REF!-#REF!)/#REF!),0,(#REF!-#REF!)/#REF!)","v":0},{"$f":"IF(ISERROR((#REF!-#REF!)/#REF!),0,(#REF!-#REF!)/#REF!)","v":0},{"$f":"IF(ISERROR((#REF!-#REF!)/#REF!),0,(#REF!-#REF!)/#REF!)","v":0}]
[null,"FZ13C","Minor Therapeutic or Diagnostic General Abdominal Procedures, 19 years and over",0,858,0,0,5,762,5,209,"No","-",0,"","",{"$f":"IF(ISERROR((#REF!-#REF!)/#REF!),0,(#REF!-#REF!)/#REF!)","v":0},{"$f":"IF(ISERROR((#REF!-#REF!)/#REF!),0,(#REF!-#REF!)/#REF!)","v":0},{"$f":"IF(ISERROR((#REF!-#REF!)/#REF!),0,(#REF!-#REF!)/#REF!)","v":0},{"$f":"IF(ISERROR((#REF!-#REF!)/#REF!),0,(#REF!-#REF!)/#REF!)","v":0},{"$f":"IF(ISERROR((#REF!-#REF!)/#REF!),0,(#REF!-#REF!)/#REF!)","v":0},{"$f":"IF(ISERROR((#REF!-#REF!)/#REF!),0,(#REF!-#REF!)/#REF!)","v":0},{"$f":"IF(ISERROR((#REF!-#REF!)/#REF!),0,(#REF!-#REF!)/#REF!)","v":0},{"$f":"IF(ISERROR((#REF!-#REF!)/#REF!),0,(#REF!-#REF!)/#REF!)","v":0},{"$f":"IF(ISERROR((#REF!-#REF!)/#REF!),0,(#REF!-#REF!)/#REF!)","v":0},{"$f":"IF(ISERROR((#REF!-#REF!)/#REF!),0,(#REF!-#REF!)/#REF!)","v":0},{"$f":"IF(ISERROR((#REF!-#REF!)/#REF!),0,(#REF!-#REF!)/#REF!)","v":0},{"$f":"IF(ISERROR((#REF!-#REF!)/#REF!),0,(#REF!-#REF!)/#REF!)","v":0},{"$f":"IF(ISERROR((#REF!-#REF!)/#REF!),0,(#REF!-#REF!)/#REF!)","v":0}]
[null,"FZ13D","Minor Therapeutic or Diagnostic General Abdominal Procedures, 18 years and under",0,735,0,0,5,939,5,268,"No","-",0,"","",{"$f":"IF(ISERROR((#REF!-#REF!)/#REF!),0,(#REF!-#REF!)/#REF!)","v":0},{"$f":"IF(ISERROR((#REF!-#REF!)/#REF!),0,(#REF!-#REF!)/#REF!)","v":0},{"$f":"IF(ISERROR((#REF!-#REF!)/#REF!),0,(#REF!-#REF!)/#REF!)","v":0},{"$f":"IF(ISERROR((#REF!-#REF!)/#REF!),0,(#REF!-#REF!)/#REF!)","v":0},{"$f":"IF(ISERROR((#REF!-#REF!)/#REF!),0,(#REF!-#REF!)/#REF!)","v":0},{"$f":"IF(ISERROR((#REF!-#REF!)/#REF!),0,(#REF!-#REF!)/#REF!)","v":0},{"$f":"IF(ISERROR((#REF!-#REF!)/#REF!),0,(#REF!-#REF!)/#REF!)","v":0},{"$f":"IF(ISERROR((#REF!-#REF!)/#REF!),0,(#REF!-#REF!)/#REF!)","v":0},{"$f":"IF(ISERROR((#REF!-#REF!)/#REF!),0,(#REF!-#REF!)/#REF!)","v":0},{"$f":"IF(ISERROR((#REF!-#REF!)/#REF!),0,(#REF!-#REF!)/#REF!)","v":0},{"$f":"IF(ISERROR((#REF!-#REF!)/#REF!),0,(#REF!-#REF!)/#REF!)","v":0},{"$f":"IF(ISERROR((#REF!-#REF!)/#REF!),0,(#REF!-#REF!)/#REF!)","v":0},{"$f":"IF(ISERROR((#REF!-#REF!)/#REF!),0,(#REF!-#REF!)/#REF!)","v":0}]
[null,"FZ17A","Abdominal Hernia Procedures, 19 years and over with Major CC",0,3691,0,0,19,5244,33,209,"No","-",0,"","",{"$f":"IF(ISERROR((#REF!-#REF!)/#REF!),0,(#REF!-#REF!)/#REF!)","v":0},{"$f":"IF(ISERROR((#REF!-#REF!)/#REF!),0,(#REF!-#REF!)/#REF!)","v":0},{"$f":"IF(ISERROR((#REF!-#REF!)/#REF!),0,(#REF!-#REF!)/#REF!)","v":0},{"$f":"IF(ISERROR((#REF!-#REF!)/#REF!),0,(#REF!-#REF!)/#REF!)","v":0},{"$f":"IF(ISERROR((#REF!-#REF!)/#REF!),0,(#REF!-#REF!)/#REF!)","v":0},{"$f":"IF(ISERROR((#REF!-#REF!)/#REF!),0,(#REF!-#REF!)/#REF!)","v":0},{"$f":"IF(ISERROR((#REF!-#REF!)/#REF!),0,(#REF!-#REF!)/#REF!)","v":0},{"$f":"IF(ISERROR((#REF!-#REF!)/#REF!),0,(#REF!-#REF!)/#REF!)","v":0},{"$f":"IF(ISERROR((#REF!-#REF!)/#REF!),0,(#REF!-#REF!)/#REF!)","v":0},{"$f":"IF(ISERROR((#REF!-#REF!)/#REF!),0,(#REF!-#REF!)/#REF!)","v":0},{"$f":"IF(ISERROR((#REF!-#REF!)/#REF!),0,(#REF!-#REF!)/#REF!)","v":0},{"$f":"IF(ISERROR((#REF!-#REF!)/#REF!),0,(#REF!-#REF!)/#REF!)","v":0},{"$f":"IF(ISERROR((#REF!-#REF!)/#REF!),0,(#REF!-#REF!)/#REF!)","v":0}]
[null,"FZ17B","Abdominal Hernia Procedures, 19 years and over with Intermediate CC",0,2437,0,0,9,2938,15,209,"No","-",0,"","",{"$f":"IF(ISERROR((#REF!-#REF!)/#REF!),0,(#REF!-#REF!)/#REF!)","v":0},{"$f":"IF(ISERROR((#REF!-#REF!)/#REF!),0,(#REF!-#REF!)/#REF!)","v":0},{"$f":"IF(ISERROR((#REF!-#REF!)/#REF!),0,(#REF!-#REF!)/#REF!)","v":0},{"$f":"IF(ISERROR((#REF!-#REF!)/#REF!),0,(#REF!-#REF!)/#REF!)","v":0},{"$f":"IF(ISERROR((#REF!-#REF!)/#REF!),0,(#REF!-#REF!)/#REF!)","v":0},{"$f":"IF(ISERROR((#REF!-#REF!)/#REF!),0,(#REF!-#REF!)/#REF!)","v":0},{"$f":"IF(ISERROR((#REF!-#REF!)/#REF!),0,(#REF!-#REF!)/#REF!)","v":0},{"$f":"IF(ISERROR((#REF!-#REF!)/#REF!),0,(#REF!-#REF!)/#REF!)","v":0},{"$f":"IF(ISERROR((#REF!-#REF!)/#REF!),0,(#REF!-#REF!)/#REF!)","v":0},{"$f":"IF(ISERROR((#REF!-#REF!)/#REF!),0,(#REF!-#REF!)/#REF!)","v":0},{"$f":"IF(ISERROR((#REF!-#REF!)/#REF!),0,(#REF!-#REF!)/#REF!)","v":0},{"$f":"IF(ISERROR((#REF!-#REF!)/#REF!),0,(#REF!-#REF!)/#REF!)","v":0},{"$f":"IF(ISERROR((#REF!-#REF!)/#REF!),0,(#REF!-#REF!)/#REF!)","v":0}]
[null,"FZ17C","Abdominal Hernia Procedures, 19 years and over without CC",0,1813,0,0,5,2542,10,209,"No","-",0,"","",{"$f":"IF(ISERROR((#REF!-#REF!)/#REF!),0,(#REF!-#REF!)/#REF!)","v":0},{"$f":"IF(ISERROR((#REF!-#REF!)/#REF!),0,(#REF!-#REF!)/#REF!)","v":0},{"$f":"IF(ISERROR((#REF!-#REF!)/#REF!),0,(#REF!-#REF!)/#REF!)","v":0},{"$f":"IF(ISERROR((#REF!-#REF!)/#REF!),0,(#REF!-#REF!)/#REF!)","v":0},{"$f":"IF(ISERROR((#REF!-#REF!)/#REF!),0,(#REF!-#REF!)/#REF!)","v":0},{"$f":"IF(ISERROR((#REF!-#REF!)/#REF!),0,(#REF!-#REF!)/#REF!)","v":0},{"$f":"IF(ISERROR((#REF!-#REF!)/#REF!),0,(#REF!-#REF!)/#REF!)","v":0},{"$f":"IF(ISERROR((#REF!-#REF!)/#REF!),0,(#REF!-#REF!)/#REF!)","v":0},{"$f":"IF(ISERROR((#REF!-#REF!)/#REF!),0,(#REF!-#REF!)/#REF!)","v":0},{"$f":"IF(ISERROR((#REF!-#REF!)/#REF!),0,(#REF!-#REF!)/#REF!)","v":0},{"$f":"IF(ISERROR((#REF!-#REF!)/#REF!),0,(#REF!-#REF!)/#REF!)","v":0},{"$f":"IF(ISERROR((#REF!-#REF!)/#REF!),0,(#REF!-#REF!)/#REF!)","v":0},{"$f":"IF(ISERROR((#REF!-#REF!)/#REF!),0,(#REF!-#REF!)/#REF!)","v":0}]
[null,"FZ17D","Abdominal Hernia Procedures, 18 years and under",0,1132,0,0,5,1968,6,268,"No","-",0,"","",{"$f":"IF(ISERROR((#REF!-#REF!)/#REF!),0,(#REF!-#REF!)/#REF!)","v":0},{"$f":"IF(ISERROR((#REF!-#REF!)/#REF!),0,(#REF!-#REF!)/#REF!)","v":0},{"$f":"IF(ISERROR((#REF!-#REF!)/#REF!),0,(#REF!-#REF!)/#REF!)","v":0},{"$f":"IF(ISERROR((#REF!-#REF!)/#REF!),0,(#REF!-#REF!)/#REF!)","v":0},{"$f":"IF(ISERROR((#REF!-#REF!)/#REF!),0,(#REF!-#REF!)/#REF!)","v":0},{"$f":"IF(ISERROR((#REF!-#REF!)/#REF!),0,(#REF!-#REF!)/#REF!)","v":0},{"$f":"IF(ISERROR((#REF!-#REF!)/#REF!),0,(#REF!-#REF!)/#REF!)","v":0},{"$f":"IF(ISERROR((#REF!-#REF!)/#REF!),0,(#REF!-#REF!)/#REF!)","v":0},{"$f":"IF(ISERROR((#REF!-#REF!)/#REF!),0,(#REF!-#REF!)/#REF!)","v":0},{"$f":"IF(ISERROR((#REF!-#REF!)/#REF!),0,(#REF!-#REF!)/#REF!)","v":0},{"$f":"IF(ISERROR((#REF!-#REF!)/#REF!),0,(#REF!-#REF!)/#REF!)","v":0},{"$f":"IF(ISERROR((#REF!-#REF!)/#REF!),0,(#REF!-#REF!)/#REF!)","v":0},{"$f":"IF(ISERROR((#REF!-#REF!)/#REF!),0,(#REF!-#REF!)/#REF!)","v":0}]
[null,"FZ18A","Inguinal, Umbilical or Femoral Hernia Procedures, 19 years and over with Major CC",0,1893.472815333711,0,0,5,3974,31,209,"No","-",0,"","",{"$f":"IF(ISERROR((#REF!-#REF!)/#REF!),0,(#REF!-#REF!)/#REF!)","v":0},{"$f":"IF(ISERROR((#REF!-#REF!)/#REF!),0,(#REF!-#REF!)/#REF!)","v":0},{"$f":"IF(ISERROR((#REF!-#REF!)/#REF!),0,(#REF!-#REF!)/#REF!)","v":0},{"$f":"IF(ISERROR((#REF!-#REF!)/#REF!),0,(#REF!-#REF!)/#REF!)","v":0},{"$f":"IF(ISERROR((#REF!-#REF!)/#REF!),0,(#REF!-#REF!)/#REF!)","v":0},{"$f":"IF(ISERROR((#REF!-#REF!)/#REF!),0,(#REF!-#REF!)/#REF!)","v":0},{"$f":"IF(ISERROR((#REF!-#REF!)/#REF!),0,(#REF!-#REF!)/#REF!)","v":0},{"$f":"IF(ISERROR((#REF!-#REF!)/#REF!),0,(#REF!-#REF!)/#REF!)","v":0},{"$f":"IF(ISERROR((#REF!-#REF!)/#REF!),0,(#REF!-#REF!)/#REF!)","v":0},{"$f":"IF(ISERROR((#REF!-#REF!)/#REF!),0,(#REF!-#REF!)/#REF!)","v":0},{"$f":"IF(ISERROR((#REF!-#REF!)/#REF!),0,(#REF!-#REF!)/#REF!)","v":0},{"$f":"IF(ISERROR((#REF!-#REF!)/#REF!),0,(#REF!-#REF!)/#REF!)","v":0},{"$f":"IF(ISERROR((#REF!-#REF!)/#REF!),0,(#REF!-#REF!)/#REF!)","v":0}]
[null,"FZ18B","Inguinal, Umbilical or Femoral Hernia Procedures, 19 years and over with Intermediate CC",0,0,1254,948,5,2272,9,209,"No","-",0,1,"HRG",{"$f":"IF(ISERROR((#REF!-#REF!)/#REF!),0,(#REF!-#REF!)/#REF!)","v":0},{"$f":"IF(ISERROR((#REF!-#REF!)/#REF!),0,(#REF!-#REF!)/#REF!)","v":0},{"$f":"IF(ISERROR((#REF!-#REF!)/#REF!),0,(#REF!-#REF!)/#REF!)","v":0},{"$f":"IF(ISERROR((#REF!-#REF!)/#REF!),0,(#REF!-#REF!)/#REF!)","v":0},{"$f":"IF(ISERROR((#REF!-#REF!)/#REF!),0,(#REF!-#REF!)/#REF!)","v":0},{"$f":"IF(ISERROR((#REF!-#REF!)/#REF!),0,(#REF!-#REF!)/#REF!)","v":0},{"$f":"IF(ISERROR((#REF!-#REF!)/#REF!),0,(#REF!-#REF!)/#REF!)","v":0},{"$f":"IF(ISERROR((#REF!-#REF!)/#REF!),0,(#REF!-#REF!)/#REF!)","v":0},{"$f":"IF(ISERROR((#REF!-#REF!)/#REF!),0,(#REF!-#REF!)/#REF!)","v":0},{"$f":"IF(ISERROR((#REF!-#REF!)/#REF!),0,(#REF!-#REF!)/#REF!)","v":0},{"$f":"IF(ISERROR((#REF!-#REF!)/#REF!),0,(#REF!-#REF!)/#REF!)","v":0},{"$f":"IF(ISERROR((#REF!-#REF!)/#REF!),0,(#REF!-#REF!)/#REF!)","v":0},{"$f":"IF(ISERROR((#REF!-#REF!)/#REF!),0,(#REF!-#REF!)/#REF!)","v":0}]
[null,"FZ18C","Inguinal, Umbilical or Femoral Hernia Procedures, 19 years and over without CC",0,0,1233,927,5,2040.3231413695471,6,209,"No","-",0,1,"HRG",{"$f":"IF(ISERROR((#REF!-#REF!)/#REF!),0,(#REF!-#REF!)/#REF!)","v":0},{"$f":"IF(ISERROR((#REF!-#REF!)/#REF!),0,(#REF!-#REF!)/#REF!)","v":0},{"$f":"IF(ISERROR((#REF!-#REF!)/#REF!),0,(#REF!-#REF!)/#REF!)","v":0},{"$f":"IF(ISERROR((#REF!-#REF!)/#REF!),0,(#REF!-#REF!)/#REF!)","v":0},{"$f":"IF(ISERROR((#REF!-#REF!)/#REF!),0,(#REF!-#REF!)/#REF!)","v":0},{"$f":"IF(ISERROR((#REF!-#REF!)/#REF!),0,(#REF!-#REF!)/#REF!)","v":0},{"$f":"IF(ISERROR((#REF!-#REF!)/#REF!),0,(#REF!-#REF!)/#REF!)","v":0},{"$f":"IF(ISERROR((#REF!-#REF!)/#REF!),0,(#REF!-#REF!)/#REF!)","v":0},{"$f":"IF(ISERROR((#REF!-#REF!)/#REF!),0,(#REF!-#REF!)/#REF!)","v":0},{"$f":"IF(ISERROR((#REF!-#REF!)/#REF!),0,(#REF!-#REF!)/#REF!)","v":0},{"$f":"IF(ISERROR((#REF!-#REF!)/#REF!),0,(#REF!-#REF!)/#REF!)","v":0},{"$f":"IF(ISERROR((#REF!-#REF!)/#REF!),0,(#REF!-#REF!)/#REF!)","v":0},{"$f":"IF(ISERROR((#REF!-#REF!)/#REF!),0,(#REF!-#REF!)/#REF!)","v":0}]
[null,"FZ18E","Inguinal, Umbilical or Femoral Hernia Procedures, between 2 and 18 years",0,1112,0,0,5,1884,5,268,"No","-",0,"","",{"$f":"IF(ISERROR((#REF!-#REF!)/#REF!),0,(#REF!-#REF!)/#REF!)","v":0},{"$f":"IF(ISERROR((#REF!-#REF!)/#REF!),0,(#REF!-#REF!)/#REF!)","v":0},{"$f":"IF(ISERROR((#REF!-#REF!)/#REF!),0,(#REF!-#REF!)/#REF!)","v":0},{"$f":"IF(ISERROR((#REF!-#REF!)/#REF!),0,(#REF!-#REF!)/#REF!)","v":0},{"$f":"IF(ISERROR((#REF!-#REF!)/#REF!),0,(#REF!-#REF!)/#REF!)","v":0},{"$f":"IF(ISERROR((#REF!-#REF!)/#REF!),0,(#REF!-#REF!)/#REF!)","v":0},{"$f":"IF(ISERROR((#REF!-#REF!)/#REF!),0,(#REF!-#REF!)/#REF!)","v":0},{"$f":"IF(ISERROR((#REF!-#REF!)/#REF!),0,(#REF!-#REF!)/#REF!)","v":0},{"$f":"IF(ISERROR((#REF!-#REF!)/#REF!),0,(#REF!-#REF!)/#REF!)","v":0},{"$f":"IF(ISERROR((#REF!-#REF!)/#REF!),0,(#REF!-#REF!)/#REF!)","v":0},{"$f":"IF(ISERROR((#REF!-#REF!)/#REF!),0,(#REF!-#REF!)/#REF!)","v":0},{"$f":"IF(ISERROR((#REF!-#REF!)/#REF!),0,(#REF!-#REF!)/#REF!)","v":0},{"$f":"IF(ISERROR((#REF!-#REF!)/#REF!),0,(#REF!-#REF!)/#REF!)","v":0}]
[null,"FZ18F","Inguinal, Umbilical or Femoral Hernia Procedures, 1 year and under",0,1515,0,0,5,2263,6,268,"No","-",0,"","",{"$f":"IF(ISERROR((#REF!-#REF!)/#REF!),0,(#REF!-#REF!)/#REF!)","v":0},{"$f":"IF(ISERROR((#REF!-#REF!)/#REF!),0,(#REF!-#REF!)/#REF!)","v":0},{"$f":"IF(ISERROR((#REF!-#REF!)/#REF!),0,(#REF!-#REF!)/#REF!)","v":0},{"$f":"IF(ISERROR((#REF!-#REF!)/#REF!),0,(#REF!-#REF!)/#REF!)","v":0},{"$f":"IF(ISERROR((#REF!-#REF!)/#REF!),0,(#REF!-#REF!)/#REF!)","v":0},{"$f":"IF(ISERROR((#REF!-#REF!)/#REF!),0,(#REF!-#REF!)/#REF!)","v":0},{"$f":"IF(ISERROR((#REF!-#REF!)/#REF!),0,(#REF!-#REF!)/#REF!)","v":0},{"$f":"IF(ISERROR((#REF!-#REF!)/#REF!),0,(#REF!-#REF!)/#REF!)","v":0},{"$f":"IF(ISERROR((#REF!-#REF!)/#REF!),0,(#REF!-#REF!)/#REF!)","v":0},{"$f":"IF(ISERROR((#REF!-#REF!)/#REF!),0,(#REF!-#REF!)/#REF!)","v":0},{"$f":"IF(ISERROR((#REF!-#REF!)/#REF!),0,(#REF!-#REF!)/#REF!)","v":0},{"$f":"IF(ISERROR((#REF!-#REF!)/#REF!),0,(#REF!-#REF!)/#REF!)","v":0},{"$f":"IF(ISERROR((#REF!-#REF!)/#REF!),0,(#REF!-#REF!)/#REF!)","v":0}]
[null,"FZ19A","Herniotomy Procedures, 2 years and over",0,1059,0,0,5,1694,5,209,"No","-",0,"","",{"$f":"IF(ISERROR((#REF!-#REF!)/#REF!),0,(#REF!-#REF!)/#REF!)","v":0},{"$f":"IF(ISERROR((#REF!-#REF!)/#REF!),0,(#REF!-#REF!)/#REF!)","v":0},{"$f":"IF(ISERROR((#REF!-#REF!)/#REF!),0,(#REF!-#REF!)/#REF!)","v":0},{"$f":"IF(ISERROR((#REF!-#REF!)/#REF!),0,(#REF!-#REF!)/#REF!)","v":0},{"$f":"IF(ISERROR((#REF!-#REF!)/#REF!),0,(#REF!-#REF!)/#REF!)","v":0},{"$f":"IF(ISERROR((#REF!-#REF!)/#REF!),0,(#REF!-#REF!)/#REF!)","v":0},{"$f":"IF(ISERROR((#REF!-#REF!)/#REF!),0,(#REF!-#REF!)/#REF!)","v":0},{"$f":"IF(ISERROR((#REF!-#REF!)/#REF!),0,(#REF!-#REF!)/#REF!)","v":0},{"$f":"IF(ISERROR((#REF!-#REF!)/#REF!),0,(#REF!-#REF!)/#REF!)","v":0},{"$f":"IF(ISERROR((#REF!-#REF!)/#REF!),0,(#REF!-#REF!)/#REF!)","v":0},{"$f":"IF(ISERROR((#REF!-#REF!)/#REF!),0,(#REF!-#REF!)/#REF!)","v":0},{"$f":"IF(ISERROR((#REF!-#REF!)/#REF!),0,(#REF!-#REF!)/#REF!)","v":0},{"$f":"IF(ISERROR((#REF!-#REF!)/#REF!),0,(#REF!-#REF!)/#REF!)","v":0}]
[null,"FZ19B","Herniotomy Procedures, 1 year and under",0,1409,0,0,5,2499,6,268,"No","-",0,"","",{"$f":"IF(ISERROR((#REF!-#REF!)/#REF!),0,(#REF!-#REF!)/#REF!)","v":0},{"$f":"IF(ISERROR((#REF!-#REF!)/#REF!),0,(#REF!-#REF!)/#REF!)","v":0},{"$f":"IF(ISERROR((#REF!-#REF!)/#REF!),0,(#REF!-#REF!)/#REF!)","v":0},{"$f":"IF(ISERROR((#REF!-#REF!)/#REF!),0,(#REF!-#REF!)/#REF!)","v":0},{"$f":"IF(ISERROR((#REF!-#REF!)/#REF!),0,(#REF!-#REF!)/#REF!)","v":0},{"$f":"IF(ISERROR((#REF!-#REF!)/#REF!),0,(#REF!-#REF!)/#REF!)","v":0},{"$f":"IF(ISERROR((#REF!-#REF!)/#REF!),0,(#REF!-#REF!)/#REF!)","v":0},{"$f":"IF(ISERROR((#REF!-#REF!)/#REF!),0,(#REF!-#REF!)/#REF!)","v":0},{"$f":"IF(ISERROR((#REF!-#REF!)/#REF!),0,(#REF!-#REF!)/#REF!)","v":0},{"$f":"IF(ISERROR((#REF!-#REF!)/#REF!),0,(#REF!-#REF!)/#REF!)","v":0},{"$f":"IF(ISERROR((#REF!-#REF!)/#REF!),0,(#REF!-#REF!)/#REF!)","v":0},{"$f":"IF(ISERROR((#REF!-#REF!)/#REF!),0,(#REF!-#REF!)/#REF!)","v":0},{"$f":"IF(ISERROR((#REF!-#REF!)/#REF!),0,(#REF!-#REF!)/#REF!)","v":0}]
[null,"FZ20A","Appendicectomy Procedures, 19 years and over with Major CC",0,2478,0,0,5,4381.3521701360205,18,209,"No","-",0,"","",{"$f":"IF(ISERROR((#REF!-#REF!)/#REF!),0,(#REF!-#REF!)/#REF!)","v":0},{"$f":"IF(ISERROR((#REF!-#REF!)/#REF!),0,(#REF!-#REF!)/#REF!)","v":0},{"$f":"IF(ISERROR((#REF!-#REF!)/#REF!),0,(#REF!-#REF!)/#REF!)","v":0},{"$f":"IF(ISERROR((#REF!-#REF!)/#REF!),0,(#REF!-#REF!)/#REF!)","v":0},{"$f":"IF(ISERROR((#REF!-#REF!)/#REF!),0,(#REF!-#REF!)/#REF!)","v":0},{"$f":"IF(ISERROR((#REF!-#REF!)/#REF!),0,(#REF!-#REF!)/#REF!)","v":0},{"$f":"IF(ISERROR((#REF!-#REF!)/#REF!),0,(#REF!-#REF!)/#REF!)","v":0},{"$f":"IF(ISERROR((#REF!-#REF!)/#REF!),0,(#REF!-#REF!)/#REF!)","v":0},{"$f":"IF(ISERROR((#REF!-#REF!)/#REF!),0,(#REF!-#REF!)/#REF!)","v":0},{"$f":"IF(ISERROR((#REF!-#REF!)/#REF!),0,(#REF!-#REF!)/#REF!)","v":0},{"$f":"IF(ISERROR((#REF!-#REF!)/#REF!),0,(#REF!-#REF!)/#REF!)","v":0},{"$f":"IF(ISERROR((#REF!-#REF!)/#REF!),0,(#REF!-#REF!)/#REF!)","v":0},{"$f":"IF(ISERROR((#REF!-#REF!)/#REF!),0,(#REF!-#REF!)/#REF!)","v":0}]
[null,"FZ20B","Appendicectomy Procedures, 19 years and over without Major CC",0,1950,0,0,5,2824.9644095112762,7,209,"No","-",0,"","",{"$f":"IF(ISERROR((#REF!-#REF!)/#REF!),0,(#REF!-#REF!)/#REF!)","v":0},{"$f":"IF(ISERROR((#REF!-#REF!)/#REF!),0,(#REF!-#REF!)/#REF!)","v":0},{"$f":"IF(ISERROR((#REF!-#REF!)/#REF!),0,(#REF!-#REF!)/#REF!)","v":0},{"$f":"IF(ISERROR((#REF!-#REF!)/#REF!),0,(#REF!-#REF!)/#REF!)","v":0},{"$f":"IF(ISERROR((#REF!-#REF!)/#REF!),0,(#REF!-#REF!)/#REF!)","v":0},{"$f":"IF(ISERROR((#REF!-#REF!)/#REF!),0,(#REF!-#REF!)/#REF!)","v":0},{"$f":"IF(ISERROR((#REF!-#REF!)/#REF!),0,(#REF!-#REF!)/#REF!)","v":0},{"$f":"IF(ISERROR((#REF!-#REF!)/#REF!),0,(#REF!-#REF!)/#REF!)","v":0},{"$f":"IF(ISERROR((#REF!-#REF!)/#REF!),0,(#REF!-#REF!)/#REF!)","v":0},{"$f":"IF(ISERROR((#REF!-#REF!)/#REF!),0,(#REF!-#REF!)/#REF!)","v":0},{"$f":"IF(ISERROR((#REF!-#REF!)/#REF!),0,(#REF!-#REF!)/#REF!)","v":0},{"$f":"IF(ISERROR((#REF!-#REF!)/#REF!),0,(#REF!-#REF!)/#REF!)","v":0},{"$f":"IF(ISERROR((#REF!-#REF!)/#REF!),0,(#REF!-#REF!)/#REF!)","v":0}]
[null,"FZ20D","Appendicectomy Procedures, 18 years and under with Major CC",0,4034,0,0,7,3641,15,268,"No","-",0,"","",{"$f":"IF(ISERROR((#REF!-#REF!)/#REF!),0,(#REF!-#REF!)/#REF!)","v":0},{"$f":"IF(ISERROR((#REF!-#REF!)/#REF!),0,(#REF!-#REF!)/#REF!)","v":0},{"$f":"IF(ISERROR((#REF!-#REF!)/#REF!),0,(#REF!-#REF!)/#REF!)","v":0},{"$f":"IF(ISERROR((#REF!-#REF!)/#REF!),0,(#REF!-#REF!)/#REF!)","v":0},{"$f":"IF(ISERROR((#REF!-#REF!)/#REF!),0,(#REF!-#REF!)/#REF!)","v":0},{"$f":"IF(ISERROR((#REF!-#REF!)/#REF!),0,(#REF!-#REF!)/#REF!)","v":0},{"$f":"IF(ISERROR((#REF!-#REF!)/#REF!),0,(#REF!-#REF!)/#REF!)","v":0},{"$f":"IF(ISERROR((#REF!-#REF!)/#REF!),0,(#REF!-#REF!)/#REF!)","v":0},{"$f":"IF(ISERROR((#REF!-#REF!)/#REF!),0,(#REF!-#REF!)/#REF!)","v":0},{"$f":"IF(ISERROR((#REF!-#REF!)/#REF!),0,(#REF!-#REF!)/#REF!)","v":0},{"$f":"IF(ISERROR((#REF!-#REF!)/#REF!),0,(#REF!-#REF!)/#REF!)","v":0},{"$f":"IF(ISERROR((#REF!-#REF!)/#REF!),0,(#REF!-#REF!)/#REF!)","v":0},{"$f":"IF(ISERROR((#REF!-#REF!)/#REF!),0,(#REF!-#REF!)/#REF!)","v":0}]
[null,"FZ20E","Appendicectomy Procedures, 18 years and under without Major CC",0,2403,0,0,5,2379,5,268,"No","-",0,"","",{"$f":"IF(ISERROR((#REF!-#REF!)/#REF!),0,(#REF!-#REF!)/#REF!)","v":0},{"$f":"IF(ISERROR((#REF!-#REF!)/#REF!),0,(#REF!-#REF!)/#REF!)","v":0},{"$f":"IF(ISERROR((#REF!-#REF!)/#REF!),0,(#REF!-#REF!)/#REF!)","v":0},{"$f":"IF(ISERROR((#REF!-#REF!)/#REF!),0,(#REF!-#REF!)/#REF!)","v":0},{"$f":"IF(ISERROR((#REF!-#REF!)/#REF!),0,(#REF!-#REF!)/#REF!)","v":0},{"$f":"IF(ISERROR((#REF!-#REF!)/#REF!),0,(#REF!-#REF!)/#REF!)","v":0},{"$f":"IF(ISERROR((#REF!-#REF!)/#REF!),0,(#REF!-#REF!)/#REF!)","v":0},{"$f":"IF(ISERROR((#REF!-#REF!)/#REF!),0,(#REF!-#REF!)/#REF!)","v":0},{"$f":"IF(ISERROR((#REF!-#REF!)/#REF!),0,(#REF!-#REF!)/#REF!)","v":0},{"$f":"IF(ISERROR((#REF!-#REF!)/#REF!),0,(#REF!-#REF!)/#REF!)","v":0},{"$f":"IF(ISERROR((#REF!-#REF!)/#REF!),0,(#REF!-#REF!)/#REF!)","v":0},{"$f":"IF(ISERROR((#REF!-#REF!)/#REF!),0,(#REF!-#REF!)/#REF!)","v":0},{"$f":"IF(ISERROR((#REF!-#REF!)/#REF!),0,(#REF!-#REF!)/#REF!)","v":0}]
[null,"FZ21A","Major Anal Procedures, 19 years and over",0,1076,0,0,5,3374.8625400444512,6,209,"No","-",0,"","",{"$f":"IF(ISERROR((#REF!-#REF!)/#REF!),0,(#REF!-#REF!)/#REF!)","v":0},{"$f":"IF(ISERROR((#REF!-#REF!)/#REF!),0,(#REF!-#REF!)/#REF!)","v":0},{"$f":"IF(ISERROR((#REF!-#REF!)/#REF!),0,(#REF!-#REF!)/#REF!)","v":0},{"$f":"IF(ISERROR((#REF!-#REF!)/#REF!),0,(#REF!-#REF!)/#REF!)","v":0},{"$f":"IF(ISERROR((#REF!-#REF!)/#REF!),0,(#REF!-#REF!)/#REF!)","v":0},{"$f":"IF(ISERROR((#REF!-#REF!)/#REF!),0,(#REF!-#REF!)/#REF!)","v":0},{"$f":"IF(ISERROR((#REF!-#REF!)/#REF!),0,(#REF!-#REF!)/#REF!)","v":0},{"$f":"IF(ISERROR((#REF!-#REF!)/#REF!),0,(#REF!-#REF!)/#REF!)","v":0},{"$f":"IF(ISERROR((#REF!-#REF!)/#REF!),0,(#REF!-#REF!)/#REF!)","v":0},{"$f":"IF(ISERROR((#REF!-#REF!)/#REF!),0,(#REF!-#REF!)/#REF!)","v":0},{"$f":"IF(ISERROR((#REF!-#REF!)/#REF!),0,(#REF!-#REF!)/#REF!)","v":0},{"$f":"IF(ISERROR((#REF!-#REF!)/#REF!),0,(#REF!-#REF!)/#REF!)","v":0},{"$f":"IF(ISERROR((#REF!-#REF!)/#REF!),0,(#REF!-#REF!)/#REF!)","v":0}]
[null,"FZ21B","Major Anal Procedures, 18 years and under",0,2316,0,0,8,4515.6055506559678,9,268,"No","-",0,"","",{"$f":"IF(ISERROR((#REF!-#REF!)/#REF!),0,(#REF!-#REF!)/#REF!)","v":0},{"$f":"IF(ISERROR((#REF!-#REF!)/#REF!),0,(#REF!-#REF!)/#REF!)","v":0},{"$f":"IF(ISERROR((#REF!-#REF!)/#REF!),0,(#REF!-#REF!)/#REF!)","v":0},{"$f":"IF(ISERROR((#REF!-#REF!)/#REF!),0,(#REF!-#REF!)/#REF!)","v":0},{"$f":"IF(ISERROR((#REF!-#REF!)/#REF!),0,(#REF!-#REF!)/#REF!)","v":0},{"$f":"IF(ISERROR((#REF!-#REF!)/#REF!),0,(#REF!-#REF!)/#REF!)","v":0},{"$f":"IF(ISERROR((#REF!-#REF!)/#REF!),0,(#REF!-#REF!)/#REF!)","v":0},{"$f":"IF(ISERROR((#REF!-#REF!)/#REF!),0,(#REF!-#REF!)/#REF!)","v":0},{"$f":"IF(ISERROR((#REF!-#REF!)/#REF!),0,(#REF!-#REF!)/#REF!)","v":0},{"$f":"IF(ISERROR((#REF!-#REF!)/#REF!),0,(#REF!-#REF!)/#REF!)","v":0},{"$f":"IF(ISERROR((#REF!-#REF!)/#REF!),0,(#REF!-#REF!)/#REF!)","v":0},{"$f":"IF(ISERROR((#REF!-#REF!)/#REF!),0,(#REF!-#REF!)/#REF!)","v":0},{"$f":"IF(ISERROR((#REF!-#REF!)/#REF!),0,(#REF!-#REF!)/#REF!)","v":0}]
[null,"FZ22A","Intermediate Anal Procedures, 19 years and over",317,927,0,0,5,1120,5,209,"No","-",0,"","",{"$f":"IF(ISERROR((#REF!-#REF!)/#REF!),0,(#REF!-#REF!)/#REF!)","v":0},{"$f":"IF(ISERROR((#REF!-#REF!)/#REF!),0,(#REF!-#REF!)/#REF!)","v":0},{"$f":"IF(ISERROR((#REF!-#REF!)/#REF!),0,(#REF!-#REF!)/#REF!)","v":0},{"$f":"IF(ISERROR((#REF!-#REF!)/#REF!),0,(#REF!-#REF!)/#REF!)","v":0},{"$f":"IF(ISERROR((#REF!-#REF!)/#REF!),0,(#REF!-#REF!)/#REF!)","v":0},{"$f":"IF(ISERROR((#REF!-#REF!)/#REF!),0,(#REF!-#REF!)/#REF!)","v":0},{"$f":"IF(ISERROR((#REF!-#REF!)/#REF!),0,(#REF!-#REF!)/#REF!)","v":0},{"$f":"IF(ISERROR((#REF!-#REF!)/#REF!),0,(#REF!-#REF!)/#REF!)","v":0},{"$f":"IF(ISERROR((#REF!-#REF!)/#REF!),0,(#REF!-#REF!)/#REF!)","v":0},{"$f":"IF(ISERROR((#REF!-#REF!)/#REF!),0,(#REF!-#REF!)/#REF!)","v":0},{"$f":"IF(ISERROR((#REF!-#REF!)/#REF!),0,(#REF!-#REF!)/#REF!)","v":0},{"$f":"IF(ISERROR((#REF!-#REF!)/#REF!),0,(#REF!-#REF!)/#REF!)","v":0},{"$f":"IF(ISERROR((#REF!-#REF!)/#REF!),0,(#REF!-#REF!)/#REF!)","v":0}]
[null,"FZ22B","Intermediate Anal Procedures, 18 years and under",0,1022,0,0,5,1354.631063781505,5,268,"No","-",0,"","",{"$f":"IF(ISERROR((#REF!-#REF!)/#REF!),0,(#REF!-#REF!)/#REF!)","v":0},{"$f":"IF(ISERROR((#REF!-#REF!)/#REF!),0,(#REF!-#REF!)/#REF!)","v":0},{"$f":"IF(ISERROR((#REF!-#REF!)/#REF!),0,(#REF!-#REF!)/#REF!)","v":0},{"$f":"IF(ISERROR((#REF!-#REF!)/#REF!),0,(#REF!-#REF!)/#REF!)","v":0},{"$f":"IF(ISERROR((#REF!-#REF!)/#REF!),0,(#REF!-#REF!)/#REF!)","v":0},{"$f":"IF(ISERROR((#REF!-#REF!)/#REF!),0,(#REF!-#REF!)/#REF!)","v":0},{"$f":"IF(ISERROR((#REF!-#REF!)/#REF!),0,(#REF!-#REF!)/#REF!)","v":0},{"$f":"IF(ISERROR((#REF!-#REF!)/#REF!),0,(#REF!-#REF!)/#REF!)","v":0},{"$f":"IF(ISERROR((#REF!-#REF!)/#REF!),0,(#REF!-#REF!)/#REF!)","v":0},{"$f":"IF(ISERROR((#REF!-#REF!)/#REF!),0,(#REF!-#REF!)/#REF!)","v":0},{"$f":"IF(ISERROR((#REF!-#REF!)/#REF!),0,(#REF!-#REF!)/#REF!)","v":0},{"$f":"IF(ISERROR((#REF!-#REF!)/#REF!),0,(#REF!-#REF!)/#REF!)","v":0},{"$f":"IF(ISERROR((#REF!-#REF!)/#REF!),0,(#REF!-#REF!)/#REF!)","v":0}]
[null,"FZ23A","Minor Anal Procedures, 19 years and over",0,605,0,0,5,642,5,209,"No","-",0,"","",{"$f":"IF(ISERROR((#REF!-#REF!)/#REF!),0,(#REF!-#REF!)/#REF!)","v":0},{"$f":"IF(ISERROR((#REF!-#REF!)/#REF!),0,(#REF!-#REF!)/#REF!)","v":0},{"$f":"IF(ISERROR((#REF!-#REF!)/#REF!),0,(#REF!-#REF!)/#REF!)","v":0},{"$f":"IF(ISERROR((#REF!-#REF!)/#REF!),0,(#REF!-#REF!)/#REF!)","v":0},{"$f":"IF(ISERROR((#REF!-#REF!)/#REF!),0,(#REF!-#REF!)/#REF!)","v":0},{"$f":"IF(ISERROR((#REF!-#REF!)/#REF!),0,(#REF!-#REF!)/#REF!)","v":0},{"$f":"IF(ISERROR((#REF!-#REF!)/#REF!),0,(#REF!-#REF!)/#REF!)","v":0},{"$f":"IF(ISERROR((#REF!-#REF!)/#REF!),0,(#REF!-#REF!)/#REF!)","v":0},{"$f":"IF(ISERROR((#REF!-#REF!)/#REF!),0,(#REF!-#REF!)/#REF!)","v":0},{"$f":"IF(ISERROR((#REF!-#REF!)/#REF!),0,(#REF!-#REF!)/#REF!)","v":0},{"$f":"IF(ISERROR((#REF!-#REF!)/#REF!),0,(#REF!-#REF!)/#REF!)","v":0},{"$f":"IF(ISERROR((#REF!-#REF!)/#REF!),0,(#REF!-#REF!)/#REF!)","v":0},{"$f":"IF(ISERROR((#REF!-#REF!)/#REF!),0,(#REF!-#REF!)/#REF!)","v":0}]
[null,"FZ23B","Minor Anal Procedures, 18 years and under",0,871,0,0,5,852,5,268,"No","-",0,"","",{"$f":"IF(ISERROR((#REF!-#REF!)/#REF!),0,(#REF!-#REF!)/#REF!)","v":0},{"$f":"IF(ISERROR((#REF!-#REF!)/#REF!),0,(#REF!-#REF!)/#REF!)","v":0},{"$f":"IF(ISERROR((#REF!-#REF!)/#REF!),0,(#REF!-#REF!)/#REF!)","v":0},{"$f":"IF(ISERROR((#REF!-#REF!)/#REF!),0,(#REF!-#REF!)/#REF!)","v":0},{"$f":"IF(ISERROR((#REF!-#REF!)/#REF!),0,(#REF!-#REF!)/#REF!)","v":0},{"$f":"IF(ISERROR((#REF!-#REF!)/#REF!),0,(#REF!-#REF!)/#REF!)","v":0},{"$f":"IF(ISERROR((#REF!-#REF!)/#REF!),0,(#REF!-#REF!)/#REF!)","v":0},{"$f":"IF(ISERROR((#REF!-#REF!)/#REF!),0,(#REF!-#REF!)/#REF!)","v":0},{"$f":"IF(ISERROR((#REF!-#REF!)/#REF!),0,(#REF!-#REF!)/#REF!)","v":0},{"$f":"IF(ISERROR((#REF!-#REF!)/#REF!),0,(#REF!-#REF!)/#REF!)","v":0},{"$f":"IF(ISERROR((#REF!-#REF!)/#REF!),0,(#REF!-#REF!)/#REF!)","v":0},{"$f":"IF(ISERROR((#REF!-#REF!)/#REF!),0,(#REF!-#REF!)/#REF!)","v":0},{"$f":"IF(ISERROR((#REF!-#REF!)/#REF!),0,(#REF!-#REF!)/#REF!)","v":0}]
[null,"FZ24A","Major Therapeutic Endoscopic Upper or Lower GI Tract Procedures, 19 years and over with Major CC",0,701,0,0,5,5323.003315832656,41,209,"No","-",0,"","",{"$f":"IF(ISERROR((#REF!-#REF!)/#REF!),0,(#REF!-#REF!)/#REF!)","v":0},{"$f":"IF(ISERROR((#REF!-#REF!)/#REF!),0,(#REF!-#REF!)/#REF!)","v":0},{"$f":"IF(ISERROR((#REF!-#REF!)/#REF!),0,(#REF!-#REF!)/#REF!)","v":0},{"$f":"IF(ISERROR((#REF!-#REF!)/#REF!),0,(#REF!-#REF!)/#REF!)","v":0},{"$f":"IF(ISERROR((#REF!-#REF!)/#REF!),0,(#REF!-#REF!)/#REF!)","v":0},{"$f":"IF(ISERROR((#REF!-#REF!)/#REF!),0,(#REF!-#REF!)/#REF!)","v":0},{"$f":"IF(ISERROR((#REF!-#REF!)/#REF!),0,(#REF!-#REF!)/#REF!)","v":0},{"$f":"IF(ISERROR((#REF!-#REF!)/#REF!),0,(#REF!-#REF!)/#REF!)","v":0},{"$f":"IF(ISERROR((#REF!-#REF!)/#REF!),0,(#REF!-#REF!)/#REF!)","v":0},{"$f":"IF(ISERROR((#REF!-#REF!)/#REF!),0,(#REF!-#REF!)/#REF!)","v":0},{"$f":"IF(ISERROR((#REF!-#REF!)/#REF!),0,(#REF!-#REF!)/#REF!)","v":0},{"$f":"IF(ISERROR((#REF!-#REF!)/#REF!),0,(#REF!-#REF!)/#REF!)","v":0},{"$f":"IF(ISERROR((#REF!-#REF!)/#REF!),0,(#REF!-#REF!)/#REF!)","v":0}]
[null,"FZ24B","Major Therapeutic Endoscopic Upper or Lower GI Tract Procedures, 19 years and over with Intermediate CC",0,553,0,0,5,1849.1193388757445,11,209,"No","-",0,"","",{"$f":"IF(ISERROR((#REF!-#REF!)/#REF!),0,(#REF!-#REF!)/#REF!)","v":0},{"$f":"IF(ISERROR((#REF!-#REF!)/#REF!),0,(#REF!-#REF!)/#REF!)","v":0},{"$f":"IF(ISERROR((#REF!-#REF!)/#REF!),0,(#REF!-#REF!)/#REF!)","v":0},{"$f":"IF(ISERROR((#REF!-#REF!)/#REF!),0,(#REF!-#REF!)/#REF!)","v":0},{"$f":"IF(ISERROR((#REF!-#REF!)/#REF!),0,(#REF!-#REF!)/#REF!)","v":0},{"$f":"IF(ISERROR((#REF!-#REF!)/#REF!),0,(#REF!-#REF!)/#REF!)","v":0},{"$f":"IF(ISERROR((#REF!-#REF!)/#REF!),0,(#REF!-#REF!)/#REF!)","v":0},{"$f":"IF(ISERROR((#REF!-#REF!)/#REF!),0,(#REF!-#REF!)/#REF!)","v":0},{"$f":"IF(ISERROR((#REF!-#REF!)/#REF!),0,(#REF!-#REF!)/#REF!)","v":0},{"$f":"IF(ISERROR((#REF!-#REF!)/#REF!),0,(#REF!-#REF!)/#REF!)","v":0},{"$f":"IF(ISERROR((#REF!-#REF!)/#REF!),0,(#REF!-#REF!)/#REF!)","v":0},{"$f":"IF(ISERROR((#REF!-#REF!)/#REF!),0,(#REF!-#REF!)/#REF!)","v":0},{"$f":"IF(ISERROR((#REF!-#REF!)/#REF!),0,(#REF!-#REF!)/#REF!)","v":0}]
[null,"FZ24C","Major Therapeutic Endoscopic Upper or Lower GI Tract Procedures, 19 years and over without CC",0,582,0,0,5,970,5,209,"No","-",0,1,"HRG",{"$f":"IF(ISERROR((#REF!-#REF!)/#REF!),0,(#REF!-#REF!)/#REF!)","v":0},{"$f":"IF(ISERROR((#REF!-#REF!)/#REF!),0,(#REF!-#REF!)/#REF!)","v":0},{"$f":"IF(ISERROR((#REF!-#REF!)/#REF!),0,(#REF!-#REF!)/#REF!)","v":0},{"$f":"IF(ISERROR((#REF!-#REF!)/#REF!),0,(#REF!-#REF!)/#REF!)","v":0},{"$f":"IF(ISERROR((#REF!-#REF!)/#REF!),0,(#REF!-#REF!)/#REF!)","v":0},{"$f":"IF(ISERROR((#REF!-#REF!)/#REF!),0,(#REF!-#REF!)/#REF!)","v":0},{"$f":"IF(ISERROR((#REF!-#REF!)/#REF!),0,(#REF!-#REF!)/#REF!)","v":0},{"$f":"IF(ISERROR((#REF!-#REF!)/#REF!),0,(#REF!-#REF!)/#REF!)","v":0},{"$f":"IF(ISERROR((#REF!-#REF!)/#REF!),0,(#REF!-#REF!)/#REF!)","v":0},{"$f":"IF(ISERROR((#REF!-#REF!)/#REF!),0,(#REF!-#REF!)/#REF!)","v":0},{"$f":"IF(ISERROR((#REF!-#REF!)/#REF!),0,(#REF!-#REF!)/#REF!)","v":0},{"$f":"IF(ISERROR((#REF!-#REF!)/#REF!),0,(#REF!-#REF!)/#REF!)","v":0},{"$f":"IF(ISERROR((#REF!-#REF!)/#REF!),0,(#REF!-#REF!)/#REF!)","v":0}]
[null,"FZ24E","Major Therapeutic Endoscopic Upper or Lower GI Tract Procedures, between 2 and 18 years",0,1366,0,0,5,1177,5,268,"No","-",0,"","",{"$f":"IF(ISERROR((#REF!-#REF!)/#REF!),0,(#REF!-#REF!)/#REF!)","v":0},{"$f":"IF(ISERROR((#REF!-#REF!)/#REF!),0,(#REF!-#REF!)/#REF!)","v":0},{"$f":"IF(ISERROR((#REF!-#REF!)/#REF!),0,(#REF!-#REF!)/#REF!)","v":0},{"$f":"IF(ISERROR((#REF!-#REF!)/#REF!),0,(#REF!-#REF!)/#REF!)","v":0},{"$f":"IF(ISERROR((#REF!-#REF!)/#REF!),0,(#REF!-#REF!)/#REF!)","v":0},{"$f":"IF(ISERROR((#REF!-#REF!)/#REF!),0,(#REF!-#REF!)/#REF!)","v":0},{"$f":"IF(ISERROR((#REF!-#REF!)/#REF!),0,(#REF!-#REF!)/#REF!)","v":0},{"$f":"IF(ISERROR((#REF!-#REF!)/#REF!),0,(#REF!-#REF!)/#REF!)","v":0},{"$f":"IF(ISERROR((#REF!-#REF!)/#REF!),0,(#REF!-#REF!)/#REF!)","v":0},{"$f":"IF(ISERROR((#REF!-#REF!)/#REF!),0,(#REF!-#REF!)/#REF!)","v":0},{"$f":"IF(ISERROR((#REF!-#REF!)/#REF!),0,(#REF!-#REF!)/#REF!)","v":0},{"$f":"IF(ISERROR((#REF!-#REF!)/#REF!),0,(#REF!-#REF!)/#REF!)","v":0},{"$f":"IF(ISERROR((#REF!-#REF!)/#REF!),0,(#REF!-#REF!)/#REF!)","v":0}]
[null,"FZ24F","Major Therapeutic Endoscopic Upper or Lower GI Tract Procedures, 1 year and under",0,1412,0,0,5,1483,5,268,"No","-",0,"","",{"$f":"IF(ISERROR((#REF!-#REF!)/#REF!),0,(#REF!-#REF!)/#REF!)","v":0},{"$f":"IF(ISERROR((#REF!-#REF!)/#REF!),0,(#REF!-#REF!)/#REF!)","v":0},{"$f":"IF(ISERROR((#REF!-#REF!)/#REF!),0,(#REF!-#REF!)/#REF!)","v":0},{"$f":"IF(ISERROR((#REF!-#REF!)/#REF!),0,(#REF!-#REF!)/#REF!)","v":0},{"$f":"IF(ISERROR((#REF!-#REF!)/#REF!),0,(#REF!-#REF!)/#REF!)","v":0},{"$f":"IF(ISERROR((#REF!-#REF!)/#REF!),0,(#REF!-#REF!)/#REF!)","v":0},{"$f":"IF(ISERROR((#REF!-#REF!)/#REF!),0,(#REF!-#REF!)/#REF!)","v":0},{"$f":"IF(ISERROR((#REF!-#REF!)/#REF!),0,(#REF!-#REF!)/#REF!)","v":0},{"$f":"IF(ISERROR((#REF!-#REF!)/#REF!),0,(#REF!-#REF!)/#REF!)","v":0},{"$f":"IF(ISERROR((#REF!-#REF!)/#REF!),0,(#REF!-#REF!)/#REF!)","v":0},{"$f":"IF(ISERROR((#REF!-#REF!)/#REF!),0,(#REF!-#REF!)/#REF!)","v":0},{"$f":"IF(ISERROR((#REF!-#REF!)/#REF!),0,(#REF!-#REF!)/#REF!)","v":0},{"$f":"IF(ISERROR((#REF!-#REF!)/#REF!),0,(#REF!-#REF!)/#REF!)","v":0}]
[null,"FZ27A","Intermediate Therapeutic General Abdominal Procedures, 19 years and over with Major CC",0,2000,0,0,5,5224.4987027950956,33,209,"No","-",0,"","",{"$f":"IF(ISERROR((#REF!-#REF!)/#REF!),0,(#REF!-#REF!)/#REF!)","v":0},{"$f":"IF(ISERROR((#REF!-#REF!)/#REF!),0,(#REF!-#REF!)/#REF!)","v":0},{"$f":"IF(ISERROR((#REF!-#REF!)/#REF!),0,(#REF!-#REF!)/#REF!)","v":0},{"$f":"IF(ISERROR((#REF!-#REF!)/#REF!),0,(#REF!-#REF!)/#REF!)","v":0},{"$f":"IF(ISERROR((#REF!-#REF!)/#REF!),0,(#REF!-#REF!)/#REF!)","v":0},{"$f":"IF(ISERROR((#REF!-#REF!)/#REF!),0,(#REF!-#REF!)/#REF!)","v":0},{"$f":"IF(ISERROR((#REF!-#REF!)/#REF!),0,(#REF!-#REF!)/#REF!)","v":0},{"$f":"IF(ISERROR((#REF!-#REF!)/#REF!),0,(#REF!-#REF!)/#REF!)","v":0},{"$f":"IF(ISERROR((#REF!-#REF!)/#REF!),0,(#REF!-#REF!)/#REF!)","v":0},{"$f":"IF(ISERROR((#REF!-#REF!)/#REF!),0,(#REF!-#REF!)/#REF!)","v":0},{"$f":"IF(ISERROR((#REF!-#REF!)/#REF!),0,(#REF!-#REF!)/#REF!)","v":0},{"$f":"IF(ISERROR((#REF!-#REF!)/#REF!),0,(#REF!-#REF!)/#REF!)","v":0},{"$f":"IF(ISERROR((#REF!-#REF!)/#REF!),0,(#REF!-#REF!)/#REF!)","v":0}]
[null,"FZ27B","Intermediate Therapeutic General Abdominal Procedures, 19 years and over with Intermediate CC",0,1705,0,0,5,3113,22,209,"No","-",0,"","",{"$f":"IF(ISERROR((#REF!-#REF!)/#REF!),0,(#REF!-#REF!)/#REF!)","v":0},{"$f":"IF(ISERROR((#REF!-#REF!)/#REF!),0,(#REF!-#REF!)/#REF!)","v":0},{"$f":"IF(ISERROR((#REF!-#REF!)/#REF!),0,(#REF!-#REF!)/#REF!)","v":0},{"$f":"IF(ISERROR((#REF!-#REF!)/#REF!),0,(#REF!-#REF!)/#REF!)","v":0},{"$f":"IF(ISERROR((#REF!-#REF!)/#REF!),0,(#REF!-#REF!)/#REF!)","v":0},{"$f":"IF(ISERROR((#REF!-#REF!)/#REF!),0,(#REF!-#REF!)/#REF!)","v":0},{"$f":"IF(ISERROR((#REF!-#REF!)/#REF!),0,(#REF!-#REF!)/#REF!)","v":0},{"$f":"IF(ISERROR((#REF!-#REF!)/#REF!),0,(#REF!-#REF!)/#REF!)","v":0},{"$f":"IF(ISERROR((#REF!-#REF!)/#REF!),0,(#REF!-#REF!)/#REF!)","v":0},{"$f":"IF(ISERROR((#REF!-#REF!)/#REF!),0,(#REF!-#REF!)/#REF!)","v":0},{"$f":"IF(ISERROR((#REF!-#REF!)/#REF!),0,(#REF!-#REF!)/#REF!)","v":0},{"$f":"IF(ISERROR((#REF!-#REF!)/#REF!),0,(#REF!-#REF!)/#REF!)","v":0},{"$f":"IF(ISERROR((#REF!-#REF!)/#REF!),0,(#REF!-#REF!)/#REF!)","v":0}]
[null,"FZ27C","Intermediate Therapeutic General Abdominal Procedures, 19 years and over without CC",0,1356,0,0,5,2408,10,209,"No","-",0,"","",{"$f":"IF(ISERROR((#REF!-#REF!)/#REF!),0,(#REF!-#REF!)/#REF!)","v":0},{"$f":"IF(ISERROR((#REF!-#REF!)/#REF!),0,(#REF!-#REF!)/#REF!)","v":0},{"$f":"IF(ISERROR((#REF!-#REF!)/#REF!),0,(#REF!-#REF!)/#REF!)","v":0},{"$f":"IF(ISERROR((#REF!-#REF!)/#REF!),0,(#REF!-#REF!)/#REF!)","v":0},{"$f":"IF(ISERROR((#REF!-#REF!)/#REF!),0,(#REF!-#REF!)/#REF!)","v":0},{"$f":"IF(ISERROR((#REF!-#REF!)/#REF!),0,(#REF!-#REF!)/#REF!)","v":0},{"$f":"IF(ISERROR((#REF!-#REF!)/#REF!),0,(#REF!-#REF!)/#REF!)","v":0},{"$f":"IF(ISERROR((#REF!-#REF!)/#REF!),0,(#REF!-#REF!)/#REF!)","v":0},{"$f":"IF(ISERROR((#REF!-#REF!)/#REF!),0,(#REF!-#REF!)/#REF!)","v":0},{"$f":"IF(ISERROR((#REF!-#REF!)/#REF!),0,(#REF!-#REF!)/#REF!)","v":0},{"$f":"IF(ISERROR((#REF!-#REF!)/#REF!),0,(#REF!-#REF!)/#REF!)","v":0},{"$f":"IF(ISERROR((#REF!-#REF!)/#REF!),0,(#REF!-#REF!)/#REF!)","v":0},{"$f":"IF(ISERROR((#REF!-#REF!)/#REF!),0,(#REF!-#REF!)/#REF!)","v":0}]
[null,"FZ27D","Intermediate Therapeutic General Abdominal Procedures, 18 years and under",0,1313,0,0,5,2532,11,268,"No","-",0,"","",{"$f":"IF(ISERROR((#REF!-#REF!)/#REF!),0,(#REF!-#REF!)/#REF!)","v":0},{"$f":"IF(ISERROR((#REF!-#REF!)/#REF!),0,(#REF!-#REF!)/#REF!)","v":0},{"$f":"IF(ISERROR((#REF!-#REF!)/#REF!),0,(#REF!-#REF!)/#REF!)","v":0},{"$f":"IF(ISERROR((#REF!-#REF!)/#REF!),0,(#REF!-#REF!)/#REF!)","v":0},{"$f":"IF(ISERROR((#REF!-#REF!)/#REF!),0,(#REF!-#REF!)/#REF!)","v":0},{"$f":"IF(ISERROR((#REF!-#REF!)/#REF!),0,(#REF!-#REF!)/#REF!)","v":0},{"$f":"IF(ISERROR((#REF!-#REF!)/#REF!),0,(#REF!-#REF!)/#REF!)","v":0},{"$f":"IF(ISERROR((#REF!-#REF!)/#REF!),0,(#REF!-#REF!)/#REF!)","v":0},{"$f":"IF(ISERROR((#REF!-#REF!)/#REF!),0,(#REF!-#REF!)/#REF!)","v":0},{"$f":"IF(ISERROR((#REF!-#REF!)/#REF!),0,(#REF!-#REF!)/#REF!)","v":0},{"$f":"IF(ISERROR((#REF!-#REF!)/#REF!),0,(#REF!-#REF!)/#REF!)","v":0},{"$f":"IF(ISERROR((#REF!-#REF!)/#REF!),0,(#REF!-#REF!)/#REF!)","v":0},{"$f":"IF(ISERROR((#REF!-#REF!)/#REF!),0,(#REF!-#REF!)/#REF!)","v":0}]
[null,"FZ31D","Disorders of the Oesophagus, with length of stay 2 days or more, with Major CC",0,5372.3595874444163,0,0,34,5514.8340350919352,40,209,"No","-",0,"","",{"$f":"IF(ISERROR((#REF!-#REF!)/#REF!),0,(#REF!-#REF!)/#REF!)","v":0},{"$f":"IF(ISERROR((#REF!-#REF!)/#REF!),0,(#REF!-#REF!)/#REF!)","v":0},{"$f":"IF(ISERROR((#REF!-#REF!)/#REF!),0,(#REF!-#REF!)/#REF!)","v":0},{"$f":"IF(ISERROR((#REF!-#REF!)/#REF!),0,(#REF!-#REF!)/#REF!)","v":0},{"$f":"IF(ISERROR((#REF!-#REF!)/#REF!),0,(#REF!-#REF!)/#REF!)","v":0},{"$f":"IF(ISERROR((#REF!-#REF!)/#REF!),0,(#REF!-#REF!)/#REF!)","v":0},{"$f":"IF(ISERROR((#REF!-#REF!)/#REF!),0,(#REF!-#REF!)/#REF!)","v":0},{"$f":"IF(ISERROR((#REF!-#REF!)/#REF!),0,(#REF!-#REF!)/#REF!)","v":0},{"$f":"IF(ISERROR((#REF!-#REF!)/#REF!),0,(#REF!-#REF!)/#REF!)","v":0},{"$f":"IF(ISERROR((#REF!-#REF!)/#REF!),0,(#REF!-#REF!)/#REF!)","v":0},{"$f":"IF(ISERROR((#REF!-#REF!)/#REF!),0,(#REF!-#REF!)/#REF!)","v":0},{"$f":"IF(ISERROR((#REF!-#REF!)/#REF!),0,(#REF!-#REF!)/#REF!)","v":0},{"$f":"IF(ISERROR((#REF!-#REF!)/#REF!),0,(#REF!-#REF!)/#REF!)","v":0}]
[null,"FZ31E","Disorders of the Oesophagus, with length of stay 2 days or more, without Major CC",0,3510.9899995577725,0,0,12,3017.0595994922792,16,209,"No","-",0,"","",{"$f":"IF(ISERROR((#REF!-#REF!)/#REF!),0,(#REF!-#REF!)/#REF!)","v":0},{"$f":"IF(ISERROR((#REF!-#REF!)/#REF!),0,(#REF!-#REF!)/#REF!)","v":0},{"$f":"IF(ISERROR((#REF!-#REF!)/#REF!),0,(#REF!-#REF!)/#REF!)","v":0},{"$f":"IF(ISERROR((#REF!-#REF!)/#REF!),0,(#REF!-#REF!)/#REF!)","v":0},{"$f":"IF(ISERROR((#REF!-#REF!)/#REF!),0,(#REF!-#REF!)/#REF!)","v":0},{"$f":"IF(ISERROR((#REF!-#REF!)/#REF!),0,(#REF!-#REF!)/#REF!)","v":0},{"$f":"IF(ISERROR((#REF!-#REF!)/#REF!),0,(#REF!-#REF!)/#REF!)","v":0},{"$f":"IF(ISERROR((#REF!-#REF!)/#REF!),0,(#REF!-#REF!)/#REF!)","v":0},{"$f":"IF(ISERROR((#REF!-#REF!)/#REF!),0,(#REF!-#REF!)/#REF!)","v":0},{"$f":"IF(ISERROR((#REF!-#REF!)/#REF!),0,(#REF!-#REF!)/#REF!)","v":0},{"$f":"IF(ISERROR((#REF!-#REF!)/#REF!),0,(#REF!-#REF!)/#REF!)","v":0},{"$f":"IF(ISERROR((#REF!-#REF!)/#REF!),0,(#REF!-#REF!)/#REF!)","v":0},{"$f":"IF(ISERROR((#REF!-#REF!)/#REF!),0,(#REF!-#REF!)/#REF!)","v":0}]
[null,"FZ31F","Disorders of the Oesophagus, with length of stay 1 day or less",0,422.8168696461496,0,0,5,395,5,209,"Yes",1,395,"","",{"$f":"IF(ISERROR((#REF!-#REF!)/#REF!),0,(#REF!-#REF!)/#REF!)","v":0},{"$f":"IF(ISERROR((#REF!-#REF!)/#REF!),0,(#REF!-#REF!)/#REF!)","v":0},{"$f":"IF(ISERROR((#REF!-#REF!)/#REF!),0,(#REF!-#REF!)/#REF!)","v":0},{"$f":"IF(ISERROR((#REF!-#REF!)/#REF!),0,(#REF!-#REF!)/#REF!)","v":0},{"$f":"IF(ISERROR((#REF!-#REF!)/#REF!),0,(#REF!-#REF!)/#REF!)","v":0},{"$f":"IF(ISERROR((#REF!-#REF!)/#REF!),0,(#REF!-#REF!)/#REF!)","v":0},{"$f":"IF(ISERROR((#REF!-#REF!)/#REF!),0,(#REF!-#REF!)/#REF!)","v":0},{"$f":"IF(ISERROR((#REF!-#REF!)/#REF!),0,(#REF!-#REF!)/#REF!)","v":0},{"$f":"IF(ISERROR((#REF!-#REF!)/#REF!),0,(#REF!-#REF!)/#REF!)","v":0},{"$f":"IF(ISERROR((#REF!-#REF!)/#REF!),0,(#REF!-#REF!)/#REF!)","v":0},{"$f":"IF(ISERROR((#REF!-#REF!)/#REF!),0,(#REF!-#REF!)/#REF!)","v":0},{"$f":"IF(ISERROR((#REF!-#REF!)/#REF!),0,(#REF!-#REF!)/#REF!)","v":0},{"$f":"IF(ISERROR((#REF!-#REF!)/#REF!),0,(#REF!-#REF!)/#REF!)","v":0}]
[null,"FZ33C","Small Intestinal Disorders, excluding Inflammatory Bowel Disease, with length of stay 2 days or more, with CC",0,3138,0,0,20,5154.1608472566732,32,209,"No","-",0,"","",{"$f":"IF(ISERROR((#REF!-#REF!)/#REF!),0,(#REF!-#REF!)/#REF!)","v":0},{"$f":"IF(ISERROR((#REF!-#REF!)/#REF!),0,(#REF!-#REF!)/#REF!)","v":0},{"$f":"IF(ISERROR((#REF!-#REF!)/#REF!),0,(#REF!-#REF!)/#REF!)","v":0},{"$f":"IF(ISERROR((#REF!-#REF!)/#REF!),0,(#REF!-#REF!)/#REF!)","v":0},{"$f":"IF(ISERROR((#REF!-#REF!)/#REF!),0,(#REF!-#REF!)/#REF!)","v":0},{"$f":"IF(ISERROR((#REF!-#REF!)/#REF!),0,(#REF!-#REF!)/#REF!)","v":0},{"$f":"IF(ISERROR((#REF!-#REF!)/#REF!),0,(#REF!-#REF!)/#REF!)","v":0},{"$f":"IF(ISERROR((#REF!-#REF!)/#REF!),0,(#REF!-#REF!)/#REF!)","v":0},{"$f":"IF(ISERROR((#REF!-#REF!)/#REF!),0,(#REF!-#REF!)/#REF!)","v":0},{"$f":"IF(ISERROR((#REF!-#REF!)/#REF!),0,(#REF!-#REF!)/#REF!)","v":0},{"$f":"IF(ISERROR((#REF!-#REF!)/#REF!),0,(#REF!-#REF!)/#REF!)","v":0},{"$f":"IF(ISERROR((#REF!-#REF!)/#REF!),0,(#REF!-#REF!)/#REF!)","v":0},{"$f":"IF(ISERROR((#REF!-#REF!)/#REF!),0,(#REF!-#REF!)/#REF!)","v":0}]
[null,"FZ33D","Small Intestinal Disorders, excluding Inflammatory Bowel Disease, with length of stay 2 days or more, without CC",0,2340,0,0,15,4524.4421096973538,16,209,"No","-",0,"","",{"$f":"IF(ISERROR((#REF!-#REF!)/#REF!),0,(#REF!-#REF!)/#REF!)","v":0},{"$f":"IF(ISERROR((#REF!-#REF!)/#REF!),0,(#REF!-#REF!)/#REF!)","v":0},{"$f":"IF(ISERROR((#REF!-#REF!)/#REF!),0,(#REF!-#REF!)/#REF!)","v":0},{"$f":"IF(ISERROR((#REF!-#REF!)/#REF!),0,(#REF!-#REF!)/#REF!)","v":0},{"$f":"IF(ISERROR((#REF!-#REF!)/#REF!),0,(#REF!-#REF!)/#REF!)","v":0},{"$f":"IF(ISERROR((#REF!-#REF!)/#REF!),0,(#REF!-#REF!)/#REF!)","v":0},{"$f":"IF(ISERROR((#REF!-#REF!)/#REF!),0,(#REF!-#REF!)/#REF!)","v":0},{"$f":"IF(ISERROR((#REF!-#REF!)/#REF!),0,(#REF!-#REF!)/#REF!)","v":0},{"$f":"IF(ISERROR((#REF!-#REF!)/#REF!),0,(#REF!-#REF!)/#REF!)","v":0},{"$f":"IF(ISERROR((#REF!-#REF!)/#REF!),0,(#REF!-#REF!)/#REF!)","v":0},{"$f":"IF(ISERROR((#REF!-#REF!)/#REF!),0,(#REF!-#REF!)/#REF!)","v":0},{"$f":"IF(ISERROR((#REF!-#REF!)/#REF!),0,(#REF!-#REF!)/#REF!)","v":0},{"$f":"IF(ISERROR((#REF!-#REF!)/#REF!),0,(#REF!-#REF!)/#REF!)","v":0}]
[null,"FZ33E","Small Intestinal Disorders, excluding Inflammatory Bowel Disease, with length of stay 1 day or less",0,330.79171231376921,0,0,5,539,5,209,"Yes",1,539,"","",{"$f":"IF(ISERROR((#REF!-#REF!)/#REF!),0,(#REF!-#REF!)/#REF!)","v":0},{"$f":"IF(ISERROR((#REF!-#REF!)/#REF!),0,(#REF!-#REF!)/#REF!)","v":0},{"$f":"IF(ISERROR((#REF!-#REF!)/#REF!),0,(#REF!-#REF!)/#REF!)","v":0},{"$f":"IF(ISERROR((#REF!-#REF!)/#REF!),0,(#REF!-#REF!)/#REF!)","v":0},{"$f":"IF(ISERROR((#REF!-#REF!)/#REF!),0,(#REF!-#REF!)/#REF!)","v":0},{"$f":"IF(ISERROR((#REF!-#REF!)/#REF!),0,(#REF!-#REF!)/#REF!)","v":0},{"$f":"IF(ISERROR((#REF!-#REF!)/#REF!),0,(#REF!-#REF!)/#REF!)","v":0},{"$f":"IF(ISERROR((#REF!-#REF!)/#REF!),0,(#REF!-#REF!)/#REF!)","v":0},{"$f":"IF(ISERROR((#REF!-#REF!)/#REF!),0,(#REF!-#REF!)/#REF!)","v":0},{"$f":"IF(ISERROR((#REF!-#REF!)/#REF!),0,(#REF!-#REF!)/#REF!)","v":0},{"$f":"IF(ISERROR((#REF!-#REF!)/#REF!),0,(#REF!-#REF!)/#REF!)","v":0},{"$f":"IF(ISERROR((#REF!-#REF!)/#REF!),0,(#REF!-#REF!)/#REF!)","v":0},{"$f":"IF(ISERROR((#REF!-#REF!)/#REF!),0,(#REF!-#REF!)/#REF!)","v":0}]
[null,"FZ36D","Intestinal Infectious Disorders, with length of stay 2 days or more, with Major CC",0,3686,0,0,39,3795.8844786013437,39,209,"No","-",0,"","",{"$f":"IF(ISERROR((#REF!-#REF!)/#REF!),0,(#REF!-#REF!)/#REF!)","v":0},{"$f":"IF(ISERROR((#REF!-#REF!)/#REF!),0,(#REF!-#REF!)/#REF!)","v":0},{"$f":"IF(ISERROR((#REF!-#REF!)/#REF!),0,(#REF!-#REF!)/#REF!)","v":0},{"$f":"IF(ISERROR((#REF!-#REF!)/#REF!),0,(#REF!-#REF!)/#REF!)","v":0},{"$f":"IF(ISERROR((#REF!-#REF!)/#REF!),0,(#REF!-#REF!)/#REF!)","v":0},{"$f":"IF(ISERROR((#REF!-#REF!)/#REF!),0,(#REF!-#REF!)/#REF!)","v":0},{"$f":"IF(ISERROR((#REF!-#REF!)/#REF!),0,(#REF!-#REF!)/#REF!)","v":0},{"$f":"IF(ISERROR((#REF!-#REF!)/#REF!),0,(#REF!-#REF!)/#REF!)","v":0},{"$f":"IF(ISERROR((#REF!-#REF!)/#REF!),0,(#REF!-#REF!)/#REF!)","v":0},{"$f":"IF(ISERROR((#REF!-#REF!)/#REF!),0,(#REF!-#REF!)/#REF!)","v":0},{"$f":"IF(ISERROR((#REF!-#REF!)/#REF!),0,(#REF!-#REF!)/#REF!)","v":0},{"$f":"IF(ISERROR((#REF!-#REF!)/#REF!),0,(#REF!-#REF!)/#REF!)","v":0},{"$f":"IF(ISERROR((#REF!-#REF!)/#REF!),0,(#REF!-#REF!)/#REF!)","v":0}]
[null,"FZ36E","Intestinal Infectious Disorders, with length of stay 2 days or more, without Major CC",0,3017,0,0,26,2108.2093355351035,13,209,"No","-",0,"","",{"$f":"IF(ISERROR((#REF!-#REF!)/#REF!),0,(#REF!-#REF!)/#REF!)","v":0},{"$f":"IF(ISERROR((#REF!-#REF!)/#REF!),0,(#REF!-#REF!)/#REF!)","v":0},{"$f":"IF(ISERROR((#REF!-#REF!)/#REF!),0,(#REF!-#REF!)/#REF!)","v":0},{"$f":"IF(ISERROR((#REF!-#REF!)/#REF!),0,(#REF!-#REF!)/#REF!)","v":0},{"$f":"IF(ISERROR((#REF!-#REF!)/#REF!),0,(#REF!-#REF!)/#REF!)","v":0},{"$f":"IF(ISERROR((#REF!-#REF!)/#REF!),0,(#REF!-#REF!)/#REF!)","v":0},{"$f":"IF(ISERROR((#REF!-#REF!)/#REF!),0,(#REF!-#REF!)/#REF!)","v":0},{"$f":"IF(ISERROR((#REF!-#REF!)/#REF!),0,(#REF!-#REF!)/#REF!)","v":0},{"$f":"IF(ISERROR((#REF!-#REF!)/#REF!),0,(#REF!-#REF!)/#REF!)","v":0},{"$f":"IF(ISERROR((#REF!-#REF!)/#REF!),0,(#REF!-#REF!)/#REF!)","v":0},{"$f":"IF(ISERROR((#REF!-#REF!)/#REF!),0,(#REF!-#REF!)/#REF!)","v":0},{"$f":"IF(ISERROR((#REF!-#REF!)/#REF!),0,(#REF!-#REF!)/#REF!)","v":0},{"$f":"IF(ISERROR((#REF!-#REF!)/#REF!),0,(#REF!-#REF!)/#REF!)","v":0}]
[null,"FZ36F","Intestinal Infectious Disorders, with length of stay 1 day or less",0,783.49202680658811,0,0,5,436,5,209,"Yes",1,436,"","",{"$f":"IF(ISERROR((#REF!-#REF!)/#REF!),0,(#REF!-#REF!)/#REF!)","v":0},{"$f":"IF(ISERROR((#REF!-#REF!)/#REF!),0,(#REF!-#REF!)/#REF!)","v":0},{"$f":"IF(ISERROR((#REF!-#REF!)/#REF!),0,(#REF!-#REF!)/#REF!)","v":0},{"$f":"IF(ISERROR((#REF!-#REF!)/#REF!),0,(#REF!-#REF!)/#REF!)","v":0},{"$f":"IF(ISERROR((#REF!-#REF!)/#REF!),0,(#REF!-#REF!)/#REF!)","v":0},{"$f":"IF(ISERROR((#REF!-#REF!)/#REF!),0,(#REF!-#REF!)/#REF!)","v":0},{"$f":"IF(ISERROR((#REF!-#REF!)/#REF!),0,(#REF!-#REF!)/#REF!)","v":0},{"$f":"IF(ISERROR((#REF!-#REF!)/#REF!),0,(#REF!-#REF!)/#REF!)","v":0},{"$f":"IF(ISERROR((#REF!-#REF!)/#REF!),0,(#REF!-#REF!)/#REF!)","v":0},{"$f":"IF(ISERROR((#REF!-#REF!)/#REF!),0,(#REF!-#REF!)/#REF!)","v":0},{"$f":"IF(ISERROR((#REF!-#REF!)/#REF!),0,(#REF!-#REF!)/#REF!)","v":0},{"$f":"IF(ISERROR((#REF!-#REF!)/#REF!),0,(#REF!-#REF!)/#REF!)","v":0},{"$f":"IF(ISERROR((#REF!-#REF!)/#REF!),0,(#REF!-#REF!)/#REF!)","v":0}]
[null,"FZ37F","Inflammatory Bowel Disease, with length of stay 1 day or less",0,330.20799032446098,0,0,5,426,5,209,"Yes",1,426,"","",{"$f":"IF(ISERROR((#REF!-#REF!)/#REF!),0,(#REF!-#REF!)/#REF!)","v":0},{"$f":"IF(ISERROR((#REF!-#REF!)/#REF!),0,(#REF!-#REF!)/#REF!)","v":0},{"$f":"IF(ISERROR((#REF!-#REF!)/#REF!),0,(#REF!-#REF!)/#REF!)","v":0},{"$f":"IF(ISERROR((#REF!-#REF!)/#REF!),0,(#REF!-#REF!)/#REF!)","v":0},{"$f":"IF(ISERROR((#REF!-#REF!)/#REF!),0,(#REF!-#REF!)/#REF!)","v":0},{"$f":"IF(ISERROR((#REF!-#REF!)/#REF!),0,(#REF!-#REF!)/#REF!)","v":0},{"$f":"IF(ISERROR((#REF!-#REF!)/#REF!),0,(#REF!-#REF!)/#REF!)","v":0},{"$f":"IF(ISERROR((#REF!-#REF!)/#REF!),0,(#REF!-#REF!)/#REF!)","v":0},{"$f":"IF(ISERROR((#REF!-#REF!)/#REF!),0,(#REF!-#REF!)/#REF!)","v":0},{"$f":"IF(ISERROR((#REF!-#REF!)/#REF!),0,(#REF!-#REF!)/#REF!)","v":0},{"$f":"IF(ISERROR((#REF!-#REF!)/#REF!),0,(#REF!-#REF!)/#REF!)","v":0},{"$f":"IF(ISERROR((#REF!-#REF!)/#REF!),0,(#REF!-#REF!)/#REF!)","v":0},{"$f":"IF(ISERROR((#REF!-#REF!)/#REF!),0,(#REF!-#REF!)/#REF!)","v":0}]
[null,"FZ37G","Inflammatory Bowel Disease, with length of stay 2 days or more, with Interventions, with Major CC",0,3725,0,0,22,5964.3514833489844,45,209,"No","-",0,"","",{"$f":"IF(ISERROR((#REF!-#REF!)/#REF!),0,(#REF!-#REF!)/#REF!)","v":0},{"$f":"IF(ISERROR((#REF!-#REF!)/#REF!),0,(#REF!-#REF!)/#REF!)","v":0},{"$f":"IF(ISERROR((#REF!-#REF!)/#REF!),0,(#REF!-#REF!)/#REF!)","v":0},{"$f":"IF(ISERROR((#REF!-#REF!)/#REF!),0,(#REF!-#REF!)/#REF!)","v":0},{"$f":"IF(ISERROR((#REF!-#REF!)/#REF!),0,(#REF!-#REF!)/#REF!)","v":0},{"$f":"IF(ISERROR((#REF!-#REF!)/#REF!),0,(#REF!-#REF!)/#REF!)","v":0},{"$f":"IF(ISERROR((#REF!-#REF!)/#REF!),0,(#REF!-#REF!)/#REF!)","v":0},{"$f":"IF(ISERROR((#REF!-#REF!)/#REF!),0,(#REF!-#REF!)/#REF!)","v":0},{"$f":"IF(ISERROR((#REF!-#REF!)/#REF!),0,(#REF!-#REF!)/#REF!)","v":0},{"$f":"IF(ISERROR((#REF!-#REF!)/#REF!),0,(#REF!-#REF!)/#REF!)","v":0},{"$f":"IF(ISERROR((#REF!-#REF!)/#REF!),0,(#REF!-#REF!)/#REF!)","v":0},{"$f":"IF(ISERROR((#REF!-#REF!)/#REF!),0,(#REF!-#REF!)/#REF!)","v":0},{"$f":"IF(ISERROR((#REF!-#REF!)/#REF!),0,(#REF!-#REF!)/#REF!)","v":0}]
[null,"FZ37H","Inflammatory Bowel Disease, with length of stay 2 days or more, without Interventions, with Major CC",0,2538,0,0,18,2597.3626708035413,21,209,"No","-",0,"","",{"$f":"IF(ISERROR((#REF!-#REF!)/#REF!),0,(#REF!-#REF!)/#REF!)","v":0},{"$f":"IF(ISERROR((#REF!-#REF!)/#REF!),0,(#REF!-#REF!)/#REF!)","v":0},{"$f":"IF(ISERROR((#REF!-#REF!)/#REF!),0,(#REF!-#REF!)/#REF!)","v":0},{"$f":"IF(ISERROR((#REF!-#REF!)/#REF!),0,(#REF!-#REF!)/#REF!)","v":0},{"$f":"IF(ISERROR((#REF!-#REF!)/#REF!),0,(#REF!-#REF!)/#REF!)","v":0},{"$f":"IF(ISERROR((#REF!-#REF!)/#REF!),0,(#REF!-#REF!)/#REF!)","v":0},{"$f":"IF(ISERROR((#REF!-#REF!)/#REF!),0,(#REF!-#REF!)/#REF!)","v":0},{"$f":"IF(ISERROR((#REF!-#REF!)/#REF!),0,(#REF!-#REF!)/#REF!)","v":0},{"$f":"IF(ISERROR((#REF!-#REF!)/#REF!),0,(#REF!-#REF!)/#REF!)","v":0},{"$f":"IF(ISERROR((#REF!-#REF!)/#REF!),0,(#REF!-#REF!)/#REF!)","v":0},{"$f":"IF(ISERROR((#REF!-#REF!)/#REF!),0,(#REF!-#REF!)/#REF!)","v":0},{"$f":"IF(ISERROR((#REF!-#REF!)/#REF!),0,(#REF!-#REF!)/#REF!)","v":0},{"$f":"IF(ISERROR((#REF!-#REF!)/#REF!),0,(#REF!-#REF!)/#REF!)","v":0}]
[null,"FZ37I","Inflammatory Bowel Disease, with length of stay 2 days or more, with Interventions, without Major CC",0,2361,0,0,15,4366.2915766620881,22,209,"No","-",0,"","",{"$f":"IF(ISERROR((#REF!-#REF!)/#REF!),0,(#REF!-#REF!)/#REF!)","v":0},{"$f":"IF(ISERROR((#REF!-#REF!)/#REF!),0,(#REF!-#REF!)/#REF!)","v":0},{"$f":"IF(ISERROR((#REF!-#REF!)/#REF!),0,(#REF!-#REF!)/#REF!)","v":0},{"$f":"IF(ISERROR((#REF!-#REF!)/#REF!),0,(#REF!-#REF!)/#REF!)","v":0},{"$f":"IF(ISERROR((#REF!-#REF!)/#REF!),0,(#REF!-#REF!)/#REF!)","v":0},{"$f":"IF(ISERROR((#REF!-#REF!)/#REF!),0,(#REF!-#REF!)/#REF!)","v":0},{"$f":"IF(ISERROR((#REF!-#REF!)/#REF!),0,(#REF!-#REF!)/#REF!)","v":0},{"$f":"IF(ISERROR((#REF!-#REF!)/#REF!),0,(#REF!-#REF!)/#REF!)","v":0},{"$f":"IF(ISERROR((#REF!-#REF!)/#REF!),0,(#REF!-#REF!)/#REF!)","v":0},{"$f":"IF(ISERROR((#REF!-#REF!)/#REF!),0,(#REF!-#REF!)/#REF!)","v":0},{"$f":"IF(ISERROR((#REF!-#REF!)/#REF!),0,(#REF!-#REF!)/#REF!)","v":0},{"$f":"IF(ISERROR((#REF!-#REF!)/#REF!),0,(#REF!-#REF!)/#REF!)","v":0},{"$f":"IF(ISERROR((#REF!-#REF!)/#REF!),0,(#REF!-#REF!)/#REF!)","v":0}]
[null,"FZ37J","Inflammatory Bowel Disease, with length of stay 2 days or more, without Interventions, without Major CC",0,2256.4748326785939,0,0,13,1806.0949759699292,12,209,"No","-",0,"","",{"$f":"IF(ISERROR((#REF!-#REF!)/#REF!),0,(#REF!-#REF!)/#REF!)","v":0},{"$f":"IF(ISERROR((#REF!-#REF!)/#REF!),0,(#REF!-#REF!)/#REF!)","v":0},{"$f":"IF(ISERROR((#REF!-#REF!)/#REF!),0,(#REF!-#REF!)/#REF!)","v":0},{"$f":"IF(ISERROR((#REF!-#REF!)/#REF!),0,(#REF!-#REF!)/#REF!)","v":0},{"$f":"IF(ISERROR((#REF!-#REF!)/#REF!),0,(#REF!-#REF!)/#REF!)","v":0},{"$f":"IF(ISERROR((#REF!-#REF!)/#REF!),0,(#REF!-#REF!)/#REF!)","v":0},{"$f":"IF(ISERROR((#REF!-#REF!)/#REF!),0,(#REF!-#REF!)/#REF!)","v":0},{"$f":"IF(ISERROR((#REF!-#REF!)/#REF!),0,(#REF!-#REF!)/#REF!)","v":0},{"$f":"IF(ISERROR((#REF!-#REF!)/#REF!),0,(#REF!-#REF!)/#REF!)","v":0},{"$f":"IF(ISERROR((#REF!-#REF!)/#REF!),0,(#REF!-#REF!)/#REF!)","v":0},{"$f":"IF(ISERROR((#REF!-#REF!)/#REF!),0,(#REF!-#REF!)/#REF!)","v":0},{"$f":"IF(ISERROR((#REF!-#REF!)/#REF!),0,(#REF!-#REF!)/#REF!)","v":0},{"$f":"IF(ISERROR((#REF!-#REF!)/#REF!),0,(#REF!-#REF!)/#REF!)","v":0}]
[null,"FZ38D","Gastrointestinal Bleed, with length of stay 2 days or more, with Major CC",0,2983,0,0,27,3979.7726633584393,27,209,"No","-",0,"","",{"$f":"IF(ISERROR((#REF!-#REF!)/#REF!),0,(#REF!-#REF!)/#REF!)","v":0},{"$f":"IF(ISERROR((#REF!-#REF!)/#REF!),0,(#REF!-#REF!)/#REF!)","v":0},{"$f":"IF(ISERROR((#REF!-#REF!)/#REF!),0,(#REF!-#REF!)/#REF!)","v":0},{"$f":"IF(ISERROR((#REF!-#REF!)/#REF!),0,(#REF!-#REF!)/#REF!)","v":0},{"$f":"IF(ISERROR((#REF!-#REF!)/#REF!),0,(#REF!-#REF!)/#REF!)","v":0},{"$f":"IF(ISERROR((#REF!-#REF!)/#REF!),0,(#REF!-#REF!)/#REF!)","v":0},{"$f":"IF(ISERROR((#REF!-#REF!)/#REF!),0,(#REF!-#REF!)/#REF!)","v":0},{"$f":"IF(ISERROR((#REF!-#REF!)/#REF!),0,(#REF!-#REF!)/#REF!)","v":0},{"$f":"IF(ISERROR((#REF!-#REF!)/#REF!),0,(#REF!-#REF!)/#REF!)","v":0},{"$f":"IF(ISERROR((#REF!-#REF!)/#REF!),0,(#REF!-#REF!)/#REF!)","v":0},{"$f":"IF(ISERROR((#REF!-#REF!)/#REF!),0,(#REF!-#REF!)/#REF!)","v":0},{"$f":"IF(ISERROR((#REF!-#REF!)/#REF!),0,(#REF!-#REF!)/#REF!)","v":0},{"$f":"IF(ISERROR((#REF!-#REF!)/#REF!),0,(#REF!-#REF!)/#REF!)","v":0}]
[null,"FZ38E","Gastrointestinal Bleed, with length of stay 2 days or more, without Major CC",0,1719,0,0,12,2471.8086587649564,12,209,"No","-",0,"","",{"$f":"IF(ISERROR((#REF!-#REF!)/#REF!),0,(#REF!-#REF!)/#REF!)","v":0},{"$f":"IF(ISERROR((#REF!-#REF!)/#REF!),0,(#REF!-#REF!)/#REF!)","v":0},{"$f":"IF(ISERROR((#REF!-#REF!)/#REF!),0,(#REF!-#REF!)/#REF!)","v":0},{"$f":"IF(ISERROR((#REF!-#REF!)/#REF!),0,(#REF!-#REF!)/#REF!)","v":0},{"$f":"IF(ISERROR((#REF!-#REF!)/#REF!),0,(#REF!-#REF!)/#REF!)","v":0},{"$f":"IF(ISERROR((#REF!-#REF!)/#REF!),0,(#REF!-#REF!)/#REF!)","v":0},{"$f":"IF(ISERROR((#REF!-#REF!)/#REF!),0,(#REF!-#REF!)/#REF!)","v":0},{"$f":"IF(ISERROR((#REF!-#REF!)/#REF!),0,(#REF!-#REF!)/#REF!)","v":0},{"$f":"IF(ISERROR((#REF!-#REF!)/#REF!),0,(#REF!-#REF!)/#REF!)","v":0},{"$f":"IF(ISERROR((#REF!-#REF!)/#REF!),0,(#REF!-#REF!)/#REF!)","v":0},{"$f":"IF(ISERROR((#REF!-#REF!)/#REF!),0,(#REF!-#REF!)/#REF!)","v":0},{"$f":"IF(ISERROR((#REF!-#REF!)/#REF!),0,(#REF!-#REF!)/#REF!)","v":0},{"$f":"IF(ISERROR((#REF!-#REF!)/#REF!),0,(#REF!-#REF!)/#REF!)","v":0}]
[null,"FZ38F","Gastrointestinal Bleed, with length of stay 1 day or less",0,328,0,0,5,491.34103973415381,5,209,"Yes",1,491.34103973415381,"","",{"$f":"IF(ISERROR((#REF!-#REF!)/#REF!),0,(#REF!-#REF!)/#REF!)","v":0},{"$f":"IF(ISERROR((#REF!-#REF!)/#REF!),0,(#REF!-#REF!)/#REF!)","v":0},{"$f":"IF(ISERROR((#REF!-#REF!)/#REF!),0,(#REF!-#REF!)/#REF!)","v":0},{"$f":"IF(ISERROR((#REF!-#REF!)/#REF!),0,(#REF!-#REF!)/#REF!)","v":0},{"$f":"IF(ISERROR((#REF!-#REF!)/#REF!),0,(#REF!-#REF!)/#REF!)","v":0},{"$f":"IF(ISERROR((#REF!-#REF!)/#REF!),0,(#REF!-#REF!)/#REF!)","v":0},{"$f":"IF(ISERROR((#REF!-#REF!)/#REF!),0,(#REF!-#REF!)/#REF!)","v":0},{"$f":"IF(ISERROR((#REF!-#REF!)/#REF!),0,(#REF!-#REF!)/#REF!)","v":0},{"$f":"IF(ISERROR((#REF!-#REF!)/#REF!),0,(#REF!-#REF!)/#REF!)","v":0},{"$f":"IF(ISERROR((#REF!-#REF!)/#REF!),0,(#REF!-#REF!)/#REF!)","v":0},{"$f":"IF(ISERROR((#REF!-#REF!)/#REF!),0,(#REF!-#REF!)/#REF!)","v":0},{"$f":"IF(ISERROR((#REF!-#REF!)/#REF!),0,(#REF!-#REF!)/#REF!)","v":0},{"$f":"IF(ISERROR((#REF!-#REF!)/#REF!),0,(#REF!-#REF!)/#REF!)","v":0}]
[null,"FZ39D","Hernia Disorders, with length of stay 2 days or more, with Major CC",0,2978,0,0,31,5182.1540310834725,32,209,"No","-",0,"","",{"$f":"IF(ISERROR((#REF!-#REF!)/#REF!),0,(#REF!-#REF!)/#REF!)","v":0},{"$f":"IF(ISERROR((#REF!-#REF!)/#REF!),0,(#REF!-#REF!)/#REF!)","v":0},{"$f":"IF(ISERROR((#REF!-#REF!)/#REF!),0,(#REF!-#REF!)/#REF!)","v":0},{"$f":"IF(ISERROR((#REF!-#REF!)/#REF!),0,(#REF!-#REF!)/#REF!)","v":0},{"$f":"IF(ISERROR((#REF!-#REF!)/#REF!),0,(#REF!-#REF!)/#REF!)","v":0},{"$f":"IF(ISERROR((#REF!-#REF!)/#REF!),0,(#REF!-#REF!)/#REF!)","v":0},{"$f":"IF(ISERROR((#REF!-#REF!)/#REF!),0,(#REF!-#REF!)/#REF!)","v":0},{"$f":"IF(ISERROR((#REF!-#REF!)/#REF!),0,(#REF!-#REF!)/#REF!)","v":0},{"$f":"IF(ISERROR((#REF!-#REF!)/#REF!),0,(#REF!-#REF!)/#REF!)","v":0},{"$f":"IF(ISERROR((#REF!-#REF!)/#REF!),0,(#REF!-#REF!)/#REF!)","v":0},{"$f":"IF(ISERROR((#REF!-#REF!)/#REF!),0,(#REF!-#REF!)/#REF!)","v":0},{"$f":"IF(ISERROR((#REF!-#REF!)/#REF!),0,(#REF!-#REF!)/#REF!)","v":0},{"$f":"IF(ISERROR((#REF!-#REF!)/#REF!),0,(#REF!-#REF!)/#REF!)","v":0}]
[null,"FZ39E","Hernia Disorders, with length of stay 2 days or more, without Major CC",0,2105.0076592154978,0,0,12,1818.9151680319369,12,209,"No","-",0,"","",{"$f":"IF(ISERROR((#REF!-#REF!)/#REF!),0,(#REF!-#REF!)/#REF!)","v":0},{"$f":"IF(ISERROR((#REF!-#REF!)/#REF!),0,(#REF!-#REF!)/#REF!)","v":0},{"$f":"IF(ISERROR((#REF!-#REF!)/#REF!),0,(#REF!-#REF!)/#REF!)","v":0},{"$f":"IF(ISERROR((#REF!-#REF!)/#REF!),0,(#REF!-#REF!)/#REF!)","v":0},{"$f":"IF(ISERROR((#REF!-#REF!)/#REF!),0,(#REF!-#REF!)/#REF!)","v":0},{"$f":"IF(ISERROR((#REF!-#REF!)/#REF!),0,(#REF!-#REF!)/#REF!)","v":0},{"$f":"IF(ISERROR((#REF!-#REF!)/#REF!),0,(#REF!-#REF!)/#REF!)","v":0},{"$f":"IF(ISERROR((#REF!-#REF!)/#REF!),0,(#REF!-#REF!)/#REF!)","v":0},{"$f":"IF(ISERROR((#REF!-#REF!)/#REF!),0,(#REF!-#REF!)/#REF!)","v":0},{"$f":"IF(ISERROR((#REF!-#REF!)/#REF!),0,(#REF!-#REF!)/#REF!)","v":0},{"$f":"IF(ISERROR((#REF!-#REF!)/#REF!),0,(#REF!-#REF!)/#REF!)","v":0},{"$f":"IF(ISERROR((#REF!-#REF!)/#REF!),0,(#REF!-#REF!)/#REF!)","v":0},{"$f":"IF(ISERROR((#REF!-#REF!)/#REF!),0,(#REF!-#REF!)/#REF!)","v":0}]
[null,"FZ39F","Hernia Disorders, with length of stay 1 day or less",0,641.18031907563022,0,0,5,425,5,209,"Yes",1,425,"","",{"$f":"IF(ISERROR((#REF!-#REF!)/#REF!),0,(#REF!-#REF!)/#REF!)","v":0},{"$f":"IF(ISERROR((#REF!-#REF!)/#REF!),0,(#REF!-#REF!)/#REF!)","v":0},{"$f":"IF(ISERROR((#REF!-#REF!)/#REF!),0,(#REF!-#REF!)/#REF!)","v":0},{"$f":"IF(ISERROR((#REF!-#REF!)/#REF!),0,(#REF!-#REF!)/#REF!)","v":0},{"$f":"IF(ISERROR((#REF!-#REF!)/#REF!),0,(#REF!-#REF!)/#REF!)","v":0},{"$f":"IF(ISERROR((#REF!-#REF!)/#REF!),0,(#REF!-#REF!)/#REF!)","v":0},{"$f":"IF(ISERROR((#REF!-#REF!)/#REF!),0,(#REF!-#REF!)/#REF!)","v":0},{"$f":"IF(ISERROR((#REF!-#REF!)/#REF!),0,(#REF!-#REF!)/#REF!)","v":0},{"$f":"IF(ISERROR((#REF!-#REF!)/#REF!),0,(#REF!-#REF!)/#REF!)","v":0},{"$f":"IF(ISERROR((#REF!-#REF!)/#REF!),0,(#REF!-#REF!)/#REF!)","v":0},{"$f":"IF(ISERROR((#REF!-#REF!)/#REF!),0,(#REF!-#REF!)/#REF!)","v":0},{"$f":"IF(ISERROR((#REF!-#REF!)/#REF!),0,(#REF!-#REF!)/#REF!)","v":0},{"$f":"IF(ISERROR((#REF!-#REF!)/#REF!),0,(#REF!-#REF!)/#REF!)","v":0}]
[null,"FZ40A","Appendix Disorders, with length of stay 2 days or more",0,1741,0,0,7,1984.8514394661042,13,209,"No","-",0,"","",{"$f":"IF(ISERROR((#REF!-#REF!)/#REF!),0,(#REF!-#REF!)/#REF!)","v":0},{"$f":"IF(ISERROR((#REF!-#REF!)/#REF!),0,(#REF!-#REF!)/#REF!)","v":0},{"$f":"IF(ISERROR((#REF!-#REF!)/#REF!),0,(#REF!-#REF!)/#REF!)","v":0},{"$f":"IF(ISERROR((#REF!-#REF!)/#REF!),0,(#REF!-#REF!)/#REF!)","v":0},{"$f":"IF(ISERROR((#REF!-#REF!)/#REF!),0,(#REF!-#REF!)/#REF!)","v":0},{"$f":"IF(ISERROR((#REF!-#REF!)/#REF!),0,(#REF!-#REF!)/#REF!)","v":0},{"$f":"IF(ISERROR((#REF!-#REF!)/#REF!),0,(#REF!-#REF!)/#REF!)","v":0},{"$f":"IF(ISERROR((#REF!-#REF!)/#REF!),0,(#REF!-#REF!)/#REF!)","v":0},{"$f":"IF(ISERROR((#REF!-#REF!)/#REF!),0,(#REF!-#REF!)/#REF!)","v":0},{"$f":"IF(ISERROR((#REF!-#REF!)/#REF!),0,(#REF!-#REF!)/#REF!)","v":0},{"$f":"IF(ISERROR((#REF!-#REF!)/#REF!),0,(#REF!-#REF!)/#REF!)","v":0},{"$f":"IF(ISERROR((#REF!-#REF!)/#REF!),0,(#REF!-#REF!)/#REF!)","v":0},{"$f":"IF(ISERROR((#REF!-#REF!)/#REF!),0,(#REF!-#REF!)/#REF!)","v":0}]
[null,"FZ40B","Appendix Disorders, with length of stay 1 day or less",0,373,0,0,5,603,5,209,"Yes",1,603,"","",{"$f":"IF(ISERROR((#REF!-#REF!)/#REF!),0,(#REF!-#REF!)/#REF!)","v":0},{"$f":"IF(ISERROR((#REF!-#REF!)/#REF!),0,(#REF!-#REF!)/#REF!)","v":0},{"$f":"IF(ISERROR((#REF!-#REF!)/#REF!),0,(#REF!-#REF!)/#REF!)","v":0},{"$f":"IF(ISERROR((#REF!-#REF!)/#REF!),0,(#REF!-#REF!)/#REF!)","v":0},{"$f":"IF(ISERROR((#REF!-#REF!)/#REF!),0,(#REF!-#REF!)/#REF!)","v":0},{"$f":"IF(ISERROR((#REF!-#REF!)/#REF!),0,(#REF!-#REF!)/#REF!)","v":0},{"$f":"IF(ISERROR((#REF!-#REF!)/#REF!),0,(#REF!-#REF!)/#REF!)","v":0},{"$f":"IF(ISERROR((#REF!-#REF!)/#REF!),0,(#REF!-#REF!)/#REF!)","v":0},{"$f":"IF(ISERROR((#REF!-#REF!)/#REF!),0,(#REF!-#REF!)/#REF!)","v":0},{"$f":"IF(ISERROR((#REF!-#REF!)/#REF!),0,(#REF!-#REF!)/#REF!)","v":0},{"$f":"IF(ISERROR((#REF!-#REF!)/#REF!),0,(#REF!-#REF!)/#REF!)","v":0},{"$f":"IF(ISERROR((#REF!-#REF!)/#REF!),0,(#REF!-#REF!)/#REF!)","v":0},{"$f":"IF(ISERROR((#REF!-#REF!)/#REF!),0,(#REF!-#REF!)/#REF!)","v":0}]
[null,"FZ41D","Anal Disorders, with length of stay 2 days or more, with Major CC",0,3101,0,0,22,3225.9702260538988,28,209,"No","-",0,"","",{"$f":"IF(ISERROR((#REF!-#REF!)/#REF!),0,(#REF!-#REF!)/#REF!)","v":0},{"$f":"IF(ISERROR((#REF!-#REF!)/#REF!),0,(#REF!-#REF!)/#REF!)","v":0},{"$f":"IF(ISERROR((#REF!-#REF!)/#REF!),0,(#REF!-#REF!)/#REF!)","v":0},{"$f":"IF(ISERROR((#REF!-#REF!)/#REF!),0,(#REF!-#REF!)/#REF!)","v":0},{"$f":"IF(ISERROR((#REF!-#REF!)/#REF!),0,(#REF!-#REF!)/#REF!)","v":0},{"$f":"IF(ISERROR((#REF!-#REF!)/#REF!),0,(#REF!-#REF!)/#REF!)","v":0},{"$f":"IF(ISERROR((#REF!-#REF!)/#REF!),0,(#REF!-#REF!)/#REF!)","v":0},{"$f":"IF(ISERROR((#REF!-#REF!)/#REF!),0,(#REF!-#REF!)/#REF!)","v":0},{"$f":"IF(ISERROR((#REF!-#REF!)/#REF!),0,(#REF!-#REF!)/#REF!)","v":0},{"$f":"IF(ISERROR((#REF!-#REF!)/#REF!),0,(#REF!-#REF!)/#REF!)","v":0},{"$f":"IF(ISERROR((#REF!-#REF!)/#REF!),0,(#REF!-#REF!)/#REF!)","v":0},{"$f":"IF(ISERROR((#REF!-#REF!)/#REF!),0,(#REF!-#REF!)/#REF!)","v":0},{"$f":"IF(ISERROR((#REF!-#REF!)/#REF!),0,(#REF!-#REF!)/#REF!)","v":0}]
[null,"FZ41E","Anal Disorders, with length of stay 2 days or more, without Major CC",0,1869,0,0,10,2009.1832205353089,10,209,"No","-",0,"","",{"$f":"IF(ISERROR((#REF!-#REF!)/#REF!),0,(#REF!-#REF!)/#REF!)","v":0},{"$f":"IF(ISERROR((#REF!-#REF!)/#REF!),0,(#REF!-#REF!)/#REF!)","v":0},{"$f":"IF(ISERROR((#REF!-#REF!)/#REF!),0,(#REF!-#REF!)/#REF!)","v":0},{"$f":"IF(ISERROR((#REF!-#REF!)/#REF!),0,(#REF!-#REF!)/#REF!)","v":0},{"$f":"IF(ISERROR((#REF!-#REF!)/#REF!),0,(#REF!-#REF!)/#REF!)","v":0},{"$f":"IF(ISERROR((#REF!-#REF!)/#REF!),0,(#REF!-#REF!)/#REF!)","v":0},{"$f":"IF(ISERROR((#REF!-#REF!)/#REF!),0,(#REF!-#REF!)/#REF!)","v":0},{"$f":"IF(ISERROR((#REF!-#REF!)/#REF!),0,(#REF!-#REF!)/#REF!)","v":0},{"$f":"IF(ISERROR((#REF!-#REF!)/#REF!),0,(#REF!-#REF!)/#REF!)","v":0},{"$f":"IF(ISERROR((#REF!-#REF!)/#REF!),0,(#REF!-#REF!)/#REF!)","v":0},{"$f":"IF(ISERROR((#REF!-#REF!)/#REF!),0,(#REF!-#REF!)/#REF!)","v":0},{"$f":"IF(ISERROR((#REF!-#REF!)/#REF!),0,(#REF!-#REF!)/#REF!)","v":0},{"$f":"IF(ISERROR((#REF!-#REF!)/#REF!),0,(#REF!-#REF!)/#REF!)","v":0}]
[null,"FZ41F","Anal Disorders, with length of stay 1 day or less",0,548.35611740161789,0,0,5,389,5,209,"Yes",1,389,"","",{"$f":"IF(ISERROR((#REF!-#REF!)/#REF!),0,(#REF!-#REF!)/#REF!)","v":0},{"$f":"IF(ISERROR((#REF!-#REF!)/#REF!),0,(#REF!-#REF!)/#REF!)","v":0},{"$f":"IF(ISERROR((#REF!-#REF!)/#REF!),0,(#REF!-#REF!)/#REF!)","v":0},{"$f":"IF(ISERROR((#REF!-#REF!)/#REF!),0,(#REF!-#REF!)/#REF!)","v":0},{"$f":"IF(ISERROR((#REF!-#REF!)/#REF!),0,(#REF!-#REF!)/#REF!)","v":0},{"$f":"IF(ISERROR((#REF!-#REF!)/#REF!),0,(#REF!-#REF!)/#REF!)","v":0},{"$f":"IF(ISERROR((#REF!-#REF!)/#REF!),0,(#REF!-#REF!)/#REF!)","v":0},{"$f":"IF(ISERROR((#REF!-#REF!)/#REF!),0,(#REF!-#REF!)/#REF!)","v":0},{"$f":"IF(ISERROR((#REF!-#REF!)/#REF!),0,(#REF!-#REF!)/#REF!)","v":0},{"$f":"IF(ISERROR((#REF!-#REF!)/#REF!),0,(#REF!-#REF!)/#REF!)","v":0},{"$f":"IF(ISERROR((#REF!-#REF!)/#REF!),0,(#REF!-#REF!)/#REF!)","v":0},{"$f":"IF(ISERROR((#REF!-#REF!)/#REF!),0,(#REF!-#REF!)/#REF!)","v":0},{"$f":"IF(ISERROR((#REF!-#REF!)/#REF!),0,(#REF!-#REF!)/#REF!)","v":0}]
[null,"FZ42A","Wireless Capsule Endoscopy, 19 years and over",914,914,0,0,5,914,5,209,"No","-",0,"","",{"$f":"IF(ISERROR((#REF!-#REF!)/#REF!),0,(#REF!-#REF!)/#REF!)","v":0},{"$f":"IF(ISERROR((#REF!-#REF!)/#REF!),0,(#REF!-#REF!)/#REF!)","v":0},{"$f":"IF(ISERROR((#REF!-#REF!)/#REF!),0,(#REF!-#REF!)/#REF!)","v":0},{"$f":"IF(ISERROR((#REF!-#REF!)/#REF!),0,(#REF!-#REF!)/#REF!)","v":0},{"$f":"IF(ISERROR((#REF!-#REF!)/#REF!),0,(#REF!-#REF!)/#REF!)","v":0},{"$f":"IF(ISERROR((#REF!-#REF!)/#REF!),0,(#REF!-#REF!)/#REF!)","v":0},{"$f":"IF(ISERROR((#REF!-#REF!)/#REF!),0,(#REF!-#REF!)/#REF!)","v":0},{"$f":"IF(ISERROR((#REF!-#REF!)/#REF!),0,(#REF!-#REF!)/#REF!)","v":0},{"$f":"IF(ISERROR((#REF!-#REF!)/#REF!),0,(#REF!-#REF!)/#REF!)","v":0},{"$f":"IF(ISERROR((#REF!-#REF!)/#REF!),0,(#REF!-#REF!)/#REF!)","v":0},{"$f":"IF(ISERROR((#REF!-#REF!)/#REF!),0,(#REF!-#REF!)/#REF!)","v":0},{"$f":"IF(ISERROR((#REF!-#REF!)/#REF!),0,(#REF!-#REF!)/#REF!)","v":0},{"$f":"IF(ISERROR((#REF!-#REF!)/#REF!),0,(#REF!-#REF!)/#REF!)","v":0}]
[null,"FZ42B","Wireless Capsule Endoscopy, 18 years and under",914,914,0,0,5,914,5,268,"No","-",0,"","",{"$f":"IF(ISERROR((#REF!-#REF!)/#REF!),0,(#REF!-#REF!)/#REF!)","v":0},{"$f":"IF(ISERROR((#REF!-#REF!)/#REF!),0,(#REF!-#REF!)/#REF!)","v":0},{"$f":"IF(ISERROR((#REF!-#REF!)/#REF!),0,(#REF!-#REF!)/#REF!)","v":0},{"$f":"IF(ISERROR((#REF!-#REF!)/#REF!),0,(#REF!-#REF!)/#REF!)","v":0},{"$f":"IF(ISERROR((#REF!-#REF!)/#REF!),0,(#REF!-#REF!)/#REF!)","v":0},{"$f":"IF(ISERROR((#REF!-#REF!)/#REF!),0,(#REF!-#REF!)/#REF!)","v":0},{"$f":"IF(ISERROR((#REF!-#REF!)/#REF!),0,(#REF!-#REF!)/#REF!)","v":0},{"$f":"IF(ISERROR((#REF!-#REF!)/#REF!),0,(#REF!-#REF!)/#REF!)","v":0},{"$f":"IF(ISERROR((#REF!-#REF!)/#REF!),0,(#REF!-#REF!)/#REF!)","v":0},{"$f":"IF(ISERROR((#REF!-#REF!)/#REF!),0,(#REF!-#REF!)/#REF!)","v":0},{"$f":"IF(ISERROR((#REF!-#REF!)/#REF!),0,(#REF!-#REF!)/#REF!)","v":0},{"$f":"IF(ISERROR((#REF!-#REF!)/#REF!),0,(#REF!-#REF!)/#REF!)","v":0},{"$f":"IF(ISERROR((#REF!-#REF!)/#REF!),0,(#REF!-#REF!)/#REF!)","v":0}]
[null,"FZ43A","Non-Malignant Stomach or Duodenum Disorders, with length of stay 2 days or more, with Major CC",0,12450.029727872628,0,0,26,4420.6187077203958,28,209,"No","-",0,"","",{"$f":"IF(ISERROR((#REF!-#REF!)/#REF!),0,(#REF!-#REF!)/#REF!)","v":0},{"$f":"IF(ISERROR((#REF!-#REF!)/#REF!),0,(#REF!-#REF!)/#REF!)","v":0},{"$f":"IF(ISERROR((#REF!-#REF!)/#REF!),0,(#REF!-#REF!)/#REF!)","v":0},{"$f":"IF(ISERROR((#REF!-#REF!)/#REF!),0,(#REF!-#REF!)/#REF!)","v":0},{"$f":"IF(ISERROR((#REF!-#REF!)/#REF!),0,(#REF!-#REF!)/#REF!)","v":0},{"$f":"IF(ISERROR((#REF!-#REF!)/#REF!),0,(#REF!-#REF!)/#REF!)","v":0},{"$f":"IF(ISERROR((#REF!-#REF!)/#REF!),0,(#REF!-#REF!)/#REF!)","v":0},{"$f":"IF(ISERROR((#REF!-#REF!)/#REF!),0,(#REF!-#REF!)/#REF!)","v":0},{"$f":"IF(ISERROR((#REF!-#REF!)/#REF!),0,(#REF!-#REF!)/#REF!)","v":0},{"$f":"IF(ISERROR((#REF!-#REF!)/#REF!),0,(#REF!-#REF!)/#REF!)","v":0},{"$f":"IF(ISERROR((#REF!-#REF!)/#REF!),0,(#REF!-#REF!)/#REF!)","v":0},{"$f":"IF(ISERROR((#REF!-#REF!)/#REF!),0,(#REF!-#REF!)/#REF!)","v":0},{"$f":"IF(ISERROR((#REF!-#REF!)/#REF!),0,(#REF!-#REF!)/#REF!)","v":0}]
[null,"FZ43B","Non-Malignant Stomach or Duodenum Disorders, with length of stay 2 days or more, without Major CC",0,2902.3758722878842,0,0,12,2229.1669142281726,12,209,"No","-",0,"","",{"$f":"IF(ISERROR((#REF!-#REF!)/#REF!),0,(#REF!-#REF!)/#REF!)","v":0},{"$f":"IF(ISERROR((#REF!-#REF!)/#REF!),0,(#REF!-#REF!)/#REF!)","v":0},{"$f":"IF(ISERROR((#REF!-#REF!)/#REF!),0,(#REF!-#REF!)/#REF!)","v":0},{"$f":"IF(ISERROR((#REF!-#REF!)/#REF!),0,(#REF!-#REF!)/#REF!)","v":0},{"$f":"IF(ISERROR((#REF!-#REF!)/#REF!),0,(#REF!-#REF!)/#REF!)","v":0},{"$f":"IF(ISERROR((#REF!-#REF!)/#REF!),0,(#REF!-#REF!)/#REF!)","v":0},{"$f":"IF(ISERROR((#REF!-#REF!)/#REF!),0,(#REF!-#REF!)/#REF!)","v":0},{"$f":"IF(ISERROR((#REF!-#REF!)/#REF!),0,(#REF!-#REF!)/#REF!)","v":0},{"$f":"IF(ISERROR((#REF!-#REF!)/#REF!),0,(#REF!-#REF!)/#REF!)","v":0},{"$f":"IF(ISERROR((#REF!-#REF!)/#REF!),0,(#REF!-#REF!)/#REF!)","v":0},{"$f":"IF(ISERROR((#REF!-#REF!)/#REF!),0,(#REF!-#REF!)/#REF!)","v":0},{"$f":"IF(ISERROR((#REF!-#REF!)/#REF!),0,(#REF!-#REF!)/#REF!)","v":0},{"$f":"IF(ISERROR((#REF!-#REF!)/#REF!),0,(#REF!-#REF!)/#REF!)","v":0}]
[null,"FZ43C","Non-Malignant Stomach or Duodenum Disorders, with length of stay 1 day or less",0,430.15603161131861,0,0,5,393,5,209,"Yes",1,393,"","",{"$f":"IF(ISERROR((#REF!-#REF!)/#REF!),0,(#REF!-#REF!)/#REF!)","v":0},{"$f":"IF(ISERROR((#REF!-#REF!)/#REF!),0,(#REF!-#REF!)/#REF!)","v":0},{"$f":"IF(ISERROR((#REF!-#REF!)/#REF!),0,(#REF!-#REF!)/#REF!)","v":0},{"$f":"IF(ISERROR((#REF!-#REF!)/#REF!),0,(#REF!-#REF!)/#REF!)","v":0},{"$f":"IF(ISERROR((#REF!-#REF!)/#REF!),0,(#REF!-#REF!)/#REF!)","v":0},{"$f":"IF(ISERROR((#REF!-#REF!)/#REF!),0,(#REF!-#REF!)/#REF!)","v":0},{"$f":"IF(ISERROR((#REF!-#REF!)/#REF!),0,(#REF!-#REF!)/#REF!)","v":0},{"$f":"IF(ISERROR((#REF!-#REF!)/#REF!),0,(#REF!-#REF!)/#REF!)","v":0},{"$f":"IF(ISERROR((#REF!-#REF!)/#REF!),0,(#REF!-#REF!)/#REF!)","v":0},{"$f":"IF(ISERROR((#REF!-#REF!)/#REF!),0,(#REF!-#REF!)/#REF!)","v":0},{"$f":"IF(ISERROR((#REF!-#REF!)/#REF!),0,(#REF!-#REF!)/#REF!)","v":0},{"$f":"IF(ISERROR((#REF!-#REF!)/#REF!),0,(#REF!-#REF!)/#REF!)","v":0},{"$f":"IF(ISERROR((#REF!-#REF!)/#REF!),0,(#REF!-#REF!)/#REF!)","v":0}]
[null,"FZ44A","Malignant Stomach or Duodenum Disorders, with length of stay 2 days or more, with Major CC",0,3313,0,0,26,5357.0480251741619,35,209,"No","-",0,"","",{"$f":"IF(ISERROR((#REF!-#REF!)/#REF!),0,(#REF!-#REF!)/#REF!)","v":0},{"$f":"IF(ISERROR((#REF!-#REF!)/#REF!),0,(#REF!-#REF!)/#REF!)","v":0},{"$f":"IF(ISERROR((#REF!-#REF!)/#REF!),0,(#REF!-#REF!)/#REF!)","v":0},{"$f":"IF(ISERROR((#REF!-#REF!)/#REF!),0,(#REF!-#REF!)/#REF!)","v":0},{"$f":"IF(ISERROR((#REF!-#REF!)/#REF!),0,(#REF!-#REF!)/#REF!)","v":0},{"$f":"IF(ISERROR((#REF!-#REF!)/#REF!),0,(#REF!-#REF!)/#REF!)","v":0},{"$f":"IF(ISERROR((#REF!-#REF!)/#REF!),0,(#REF!-#REF!)/#REF!)","v":0},{"$f":"IF(ISERROR((#REF!-#REF!)/#REF!),0,(#REF!-#REF!)/#REF!)","v":0},{"$f":"IF(ISERROR((#REF!-#REF!)/#REF!),0,(#REF!-#REF!)/#REF!)","v":0},{"$f":"IF(ISERROR((#REF!-#REF!)/#REF!),0,(#REF!-#REF!)/#REF!)","v":0},{"$f":"IF(ISERROR((#REF!-#REF!)/#REF!),0,(#REF!-#REF!)/#REF!)","v":0},{"$f":"IF(ISERROR((#REF!-#REF!)/#REF!),0,(#REF!-#REF!)/#REF!)","v":0},{"$f":"IF(ISERROR((#REF!-#REF!)/#REF!),0,(#REF!-#REF!)/#REF!)","v":0}]
[null,"FZ44B","Malignant Stomach or Duodenum Disorders, with length of stay 2 days or more, without Major CC",0,1883,0,0,10,3035.1757257015383,18,209,"No","-",0,"","",{"$f":"IF(ISERROR((#REF!-#REF!)/#REF!),0,(#REF!-#REF!)/#REF!)","v":0},{"$f":"IF(ISERROR((#REF!-#REF!)/#REF!),0,(#REF!-#REF!)/#REF!)","v":0},{"$f":"IF(ISERROR((#REF!-#REF!)/#REF!),0,(#REF!-#REF!)/#REF!)","v":0},{"$f":"IF(ISERROR((#REF!-#REF!)/#REF!),0,(#REF!-#REF!)/#REF!)","v":0},{"$f":"IF(ISERROR((#REF!-#REF!)/#REF!),0,(#REF!-#REF!)/#REF!)","v":0},{"$f":"IF(ISERROR((#REF!-#REF!)/#REF!),0,(#REF!-#REF!)/#REF!)","v":0},{"$f":"IF(ISERROR((#REF!-#REF!)/#REF!),0,(#REF!-#REF!)/#REF!)","v":0},{"$f":"IF(ISERROR((#REF!-#REF!)/#REF!),0,(#REF!-#REF!)/#REF!)","v":0},{"$f":"IF(ISERROR((#REF!-#REF!)/#REF!),0,(#REF!-#REF!)/#REF!)","v":0},{"$f":"IF(ISERROR((#REF!-#REF!)/#REF!),0,(#REF!-#REF!)/#REF!)","v":0},{"$f":"IF(ISERROR((#REF!-#REF!)/#REF!),0,(#REF!-#REF!)/#REF!)","v":0},{"$f":"IF(ISERROR((#REF!-#REF!)/#REF!),0,(#REF!-#REF!)/#REF!)","v":0},{"$f":"IF(ISERROR((#REF!-#REF!)/#REF!),0,(#REF!-#REF!)/#REF!)","v":0}]
[null,"FZ44C","Malignant Stomach or Duodenum Disorders, with length of stay 1 day or less",0,439,0,0,5,527,5,209,"Yes",1,527,"","",{"$f":"IF(ISERROR((#REF!-#REF!)/#REF!),0,(#REF!-#REF!)/#REF!)","v":0},{"$f":"IF(ISERROR((#REF!-#REF!)/#REF!),0,(#REF!-#REF!)/#REF!)","v":0},{"$f":"IF(ISERROR((#REF!-#REF!)/#REF!),0,(#REF!-#REF!)/#REF!)","v":0},{"$f":"IF(ISERROR((#REF!-#REF!)/#REF!),0,(#REF!-#REF!)/#REF!)","v":0},{"$f":"IF(ISERROR((#REF!-#REF!)/#REF!),0,(#REF!-#REF!)/#REF!)","v":0},{"$f":"IF(ISERROR((#REF!-#REF!)/#REF!),0,(#REF!-#REF!)/#REF!)","v":0},{"$f":"IF(ISERROR((#REF!-#REF!)/#REF!),0,(#REF!-#REF!)/#REF!)","v":0},{"$f":"IF(ISERROR((#REF!-#REF!)/#REF!),0,(#REF!-#REF!)/#REF!)","v":0},{"$f":"IF(ISERROR((#REF!-#REF!)/#REF!),0,(#REF!-#REF!)/#REF!)","v":0},{"$f":"IF(ISERROR((#REF!-#REF!)/#REF!),0,(#REF!-#REF!)/#REF!)","v":0},{"$f":"IF(ISERROR((#REF!-#REF!)/#REF!),0,(#REF!-#REF!)/#REF!)","v":0},{"$f":"IF(ISERROR((#REF!-#REF!)/#REF!),0,(#REF!-#REF!)/#REF!)","v":0},{"$f":"IF(ISERROR((#REF!-#REF!)/#REF!),0,(#REF!-#REF!)/#REF!)","v":0}]
[null,"FZ45A","Non-Malignant Large Intestinal Disorders, with length of stay 2 days or more, with Major CC",0,4217.5521968105713,0,0,17,3671.8077460193349,28,209,"No","-",0,"","",{"$f":"IF(ISERROR((#REF!-#REF!)/#REF!),0,(#REF!-#REF!)/#REF!)","v":0},{"$f":"IF(ISERROR((#REF!-#REF!)/#REF!),0,(#REF!-#REF!)/#REF!)","v":0},{"$f":"IF(ISERROR((#REF!-#REF!)/#REF!),0,(#REF!-#REF!)/#REF!)","v":0},{"$f":"IF(ISERROR((#REF!-#REF!)/#REF!),0,(#REF!-#REF!)/#REF!)","v":0},{"$f":"IF(ISERROR((#REF!-#REF!)/#REF!),0,(#REF!-#REF!)/#REF!)","v":0},{"$f":"IF(ISERROR((#REF!-#REF!)/#REF!),0,(#REF!-#REF!)/#REF!)","v":0},{"$f":"IF(ISERROR((#REF!-#REF!)/#REF!),0,(#REF!-#REF!)/#REF!)","v":0},{"$f":"IF(ISERROR((#REF!-#REF!)/#REF!),0,(#REF!-#REF!)/#REF!)","v":0},{"$f":"IF(ISERROR((#REF!-#REF!)/#REF!),0,(#REF!-#REF!)/#REF!)","v":0},{"$f":"IF(ISERROR((#REF!-#REF!)/#REF!),0,(#REF!-#REF!)/#REF!)","v":0},{"$f":"IF(ISERROR((#REF!-#REF!)/#REF!),0,(#REF!-#REF!)/#REF!)","v":0},{"$f":"IF(ISERROR((#REF!-#REF!)/#REF!),0,(#REF!-#REF!)/#REF!)","v":0},{"$f":"IF(ISERROR((#REF!-#REF!)/#REF!),0,(#REF!-#REF!)/#REF!)","v":0}]
[null,"FZ45B","Non-Malignant Large Intestinal Disorders, with length of stay 2 days or more, without Major CC",0,2048,0,0,7,2170.8176335975259,12,209,"No","-",0,"","",{"$f":"IF(ISERROR((#REF!-#REF!)/#REF!),0,(#REF!-#REF!)/#REF!)","v":0},{"$f":"IF(ISERROR((#REF!-#REF!)/#REF!),0,(#REF!-#REF!)/#REF!)","v":0},{"$f":"IF(ISERROR((#REF!-#REF!)/#REF!),0,(#REF!-#REF!)/#REF!)","v":0},{"$f":"IF(ISERROR((#REF!-#REF!)/#REF!),0,(#REF!-#REF!)/#REF!)","v":0},{"$f":"IF(ISERROR((#REF!-#REF!)/#REF!),0,(#REF!-#REF!)/#REF!)","v":0},{"$f":"IF(ISERROR((#REF!-#REF!)/#REF!),0,(#REF!-#REF!)/#REF!)","v":0},{"$f":"IF(ISERROR((#REF!-#REF!)/#REF!),0,(#REF!-#REF!)/#REF!)","v":0},{"$f":"IF(ISERROR((#REF!-#REF!)/#REF!),0,(#REF!-#REF!)/#REF!)","v":0},{"$f":"IF(ISERROR((#REF!-#REF!)/#REF!),0,(#REF!-#REF!)/#REF!)","v":0},{"$f":"IF(ISERROR((#REF!-#REF!)/#REF!),0,(#REF!-#REF!)/#REF!)","v":0},{"$f":"IF(ISERROR((#REF!-#REF!)/#REF!),0,(#REF!-#REF!)/#REF!)","v":0},{"$f":"IF(ISERROR((#REF!-#REF!)/#REF!),0,(#REF!-#REF!)/#REF!)","v":0},{"$f":"IF(ISERROR((#REF!-#REF!)/#REF!),0,(#REF!-#REF!)/#REF!)","v":0}]
[null,"FZ45C","Non-Malignant Large Intestinal Disorders, with length of stay 1 day or less",0,383,0,0,5,431,5,209,"Yes",1,431,"","",{"$f":"IF(ISERROR((#REF!-#REF!)/#REF!),0,(#REF!-#REF!)/#REF!)","v":0},{"$f":"IF(ISERROR((#REF!-#REF!)/#REF!),0,(#REF!-#REF!)/#REF!)","v":0},{"$f":"IF(ISERROR((#REF!-#REF!)/#REF!),0,(#REF!-#REF!)/#REF!)","v":0},{"$f":"IF(ISERROR((#REF!-#REF!)/#REF!),0,(#REF!-#REF!)/#REF!)","v":0},{"$f":"IF(ISERROR((#REF!-#REF!)/#REF!),0,(#REF!-#REF!)/#REF!)","v":0},{"$f":"IF(ISERROR((#REF!-#REF!)/#REF!),0,(#REF!-#REF!)/#REF!)","v":0},{"$f":"IF(ISERROR((#REF!-#REF!)/#REF!),0,(#REF!-#REF!)/#REF!)","v":0},{"$f":"IF(ISERROR((#REF!-#REF!)/#REF!),0,(#REF!-#REF!)/#REF!)","v":0},{"$f":"IF(ISERROR((#REF!-#REF!)/#REF!),0,(#REF!-#REF!)/#REF!)","v":0},{"$f":"IF(ISERROR((#REF!-#REF!)/#REF!),0,(#REF!-#REF!)/#REF!)","v":0},{"$f":"IF(ISERROR((#REF!-#REF!)/#REF!),0,(#REF!-#REF!)/#REF!)","v":0},{"$f":"IF(ISERROR((#REF!-#REF!)/#REF!),0,(#REF!-#REF!)/#REF!)","v":0},{"$f":"IF(ISERROR((#REF!-#REF!)/#REF!),0,(#REF!-#REF!)/#REF!)","v":0}]
[null,"FZ46A","Malignant Large Intestinal Disorders, with length of stay 2 days or more, with Major CC",0,5595.0606364798978,0,0,27,3875,38,209,"No","-",0,"","",{"$f":"IF(ISERROR((#REF!-#REF!)/#REF!),0,(#REF!-#REF!)/#REF!)","v":0},{"$f":"IF(ISERROR((#REF!-#REF!)/#REF!),0,(#REF!-#REF!)/#REF!)","v":0},{"$f":"IF(ISERROR((#REF!-#REF!)/#REF!),0,(#REF!-#REF!)/#REF!)","v":0},{"$f":"IF(ISERROR((#REF!-#REF!)/#REF!),0,(#REF!-#REF!)/#REF!)","v":0},{"$f":"IF(ISERROR((#REF!-#REF!)/#REF!),0,(#REF!-#REF!)/#REF!)","v":0},{"$f":"IF(ISERROR((#REF!-#REF!)/#REF!),0,(#REF!-#REF!)/#REF!)","v":0},{"$f":"IF(ISERROR((#REF!-#REF!)/#REF!),0,(#REF!-#REF!)/#REF!)","v":0},{"$f":"IF(ISERROR((#REF!-#REF!)/#REF!),0,(#REF!-#REF!)/#REF!)","v":0},{"$f":"IF(ISERROR((#REF!-#REF!)/#REF!),0,(#REF!-#REF!)/#REF!)","v":0},{"$f":"IF(ISERROR((#REF!-#REF!)/#REF!),0,(#REF!-#REF!)/#REF!)","v":0},{"$f":"IF(ISERROR((#REF!-#REF!)/#REF!),0,(#REF!-#REF!)/#REF!)","v":0},{"$f":"IF(ISERROR((#REF!-#REF!)/#REF!),0,(#REF!-#REF!)/#REF!)","v":0},{"$f":"IF(ISERROR((#REF!-#REF!)/#REF!),0,(#REF!-#REF!)/#REF!)","v":0}]
[null,"FZ46B","Malignant Large Intestinal Disorders, with length of stay 2 days or more, without Major CC",0,2657.8970998166424,0,0,7,3466.4427578570035,21,209,"No","-",0,"","",{"$f":"IF(ISERROR((#REF!-#REF!)/#REF!),0,(#REF!-#REF!)/#REF!)","v":0},{"$f":"IF(ISERROR((#REF!-#REF!)/#REF!),0,(#REF!-#REF!)/#REF!)","v":0},{"$f":"IF(ISERROR((#REF!-#REF!)/#REF!),0,(#REF!-#REF!)/#REF!)","v":0},{"$f":"IF(ISERROR((#REF!-#REF!)/#REF!),0,(#REF!-#REF!)/#REF!)","v":0},{"$f":"IF(ISERROR((#REF!-#REF!)/#REF!),0,(#REF!-#REF!)/#REF!)","v":0},{"$f":"IF(ISERROR((#REF!-#REF!)/#REF!),0,(#REF!-#REF!)/#REF!)","v":0},{"$f":"IF(ISERROR((#REF!-#REF!)/#REF!),0,(#REF!-#REF!)/#REF!)","v":0},{"$f":"IF(ISERROR((#REF!-#REF!)/#REF!),0,(#REF!-#REF!)/#REF!)","v":0},{"$f":"IF(ISERROR((#REF!-#REF!)/#REF!),0,(#REF!-#REF!)/#REF!)","v":0},{"$f":"IF(ISERROR((#REF!-#REF!)/#REF!),0,(#REF!-#REF!)/#REF!)","v":0},{"$f":"IF(ISERROR((#REF!-#REF!)/#REF!),0,(#REF!-#REF!)/#REF!)","v":0},{"$f":"IF(ISERROR((#REF!-#REF!)/#REF!),0,(#REF!-#REF!)/#REF!)","v":0},{"$f":"IF(ISERROR((#REF!-#REF!)/#REF!),0,(#REF!-#REF!)/#REF!)","v":0}]
[null,"FZ46C","Malignant Large Intestinal Disorders, with length of stay 1 day or less",0,345,0,0,5,554,5,209,"Yes",1,554,"","",{"$f":"IF(ISERROR((#REF!-#REF!)/#REF!),0,(#REF!-#REF!)/#REF!)","v":0},{"$f":"IF(ISERROR((#REF!-#REF!)/#REF!),0,(#REF!-#REF!)/#REF!)","v":0},{"$f":"IF(ISERROR((#REF!-#REF!)/#REF!),0,(#REF!-#REF!)/#REF!)","v":0},{"$f":"IF(ISERROR((#REF!-#REF!)/#REF!),0,(#REF!-#REF!)/#REF!)","v":0},{"$f":"IF(ISERROR((#REF!-#REF!)/#REF!),0,(#REF!-#REF!)/#REF!)","v":0},{"$f":"IF(ISERROR((#REF!-#REF!)/#REF!),0,(#REF!-#REF!)/#REF!)","v":0},{"$f":"IF(ISERROR((#REF!-#REF!)/#REF!),0,(#REF!-#REF!)/#REF!)","v":0},{"$f":"IF(ISERROR((#REF!-#REF!)/#REF!),0,(#REF!-#REF!)/#REF!)","v":0},{"$f":"IF(ISERROR((#REF!-#REF!)/#REF!),0,(#REF!-#REF!)/#REF!)","v":0},{"$f":"IF(ISERROR((#REF!-#REF!)/#REF!),0,(#REF!-#REF!)/#REF!)","v":0},{"$f":"IF(ISERROR((#REF!-#REF!)/#REF!),0,(#REF!-#REF!)/#REF!)","v":0},{"$f":"IF(ISERROR((#REF!-#REF!)/#REF!),0,(#REF!-#REF!)/#REF!)","v":0},{"$f":"IF(ISERROR((#REF!-#REF!)/#REF!),0,(#REF!-#REF!)/#REF!)","v":0}]
[null,"FZ47A","Non-Malignant General Abdominal Disorders, with length of stay 2 days or more, with Major CC",0,3256,0,0,23,3471.326273541561,26,209,"No","-",0,"","",{"$f":"IF(ISERROR((#REF!-#REF!)/#REF!),0,(#REF!-#REF!)/#REF!)","v":0},{"$f":"IF(ISERROR((#REF!-#REF!)/#REF!),0,(#REF!-#REF!)/#REF!)","v":0},{"$f":"IF(ISERROR((#REF!-#REF!)/#REF!),0,(#REF!-#REF!)/#REF!)","v":0},{"$f":"IF(ISERROR((#REF!-#REF!)/#REF!),0,(#REF!-#REF!)/#REF!)","v":0},{"$f":"IF(ISERROR((#REF!-#REF!)/#REF!),0,(#REF!-#REF!)/#REF!)","v":0},{"$f":"IF(ISERROR((#REF!-#REF!)/#REF!),0,(#REF!-#REF!)/#REF!)","v":0},{"$f":"IF(ISERROR((#REF!-#REF!)/#REF!),0,(#REF!-#REF!)/#REF!)","v":0},{"$f":"IF(ISERROR((#REF!-#REF!)/#REF!),0,(#REF!-#REF!)/#REF!)","v":0},{"$f":"IF(ISERROR((#REF!-#REF!)/#REF!),0,(#REF!-#REF!)/#REF!)","v":0},{"$f":"IF(ISERROR((#REF!-#REF!)/#REF!),0,(#REF!-#REF!)/#REF!)","v":0},{"$f":"IF(ISERROR((#REF!-#REF!)/#REF!),0,(#REF!-#REF!)/#REF!)","v":0},{"$f":"IF(ISERROR((#REF!-#REF!)/#REF!),0,(#REF!-#REF!)/#REF!)","v":0},{"$f":"IF(ISERROR((#REF!-#REF!)/#REF!),0,(#REF!-#REF!)/#REF!)","v":0}]
[null,"FZ47B","Non-Malignant General Abdominal Disorders, with length of stay 2 days or more, without Major CC",0,2738.3604926997978,0,0,10,1268.3351571579801,10,209,"No","-",0,1,"HRG",{"$f":"IF(ISERROR((#REF!-#REF!)/#REF!),0,(#REF!-#REF!)/#REF!)","v":0},{"$f":"IF(ISERROR((#REF!-#REF!)/#REF!),0,(#REF!-#REF!)/#REF!)","v":0},{"$f":"IF(ISERROR((#REF!-#REF!)/#REF!),0,(#REF!-#REF!)/#REF!)","v":0},{"$f":"IF(ISERROR((#REF!-#REF!)/#REF!),0,(#REF!-#REF!)/#REF!)","v":0},{"$f":"IF(ISERROR((#REF!-#REF!)/#REF!),0,(#REF!-#REF!)/#REF!)","v":0},{"$f":"IF(ISERROR((#REF!-#REF!)/#REF!),0,(#REF!-#REF!)/#REF!)","v":0},{"$f":"IF(ISERROR((#REF!-#REF!)/#REF!),0,(#REF!-#REF!)/#REF!)","v":0},{"$f":"IF(ISERROR((#REF!-#REF!)/#REF!),0,(#REF!-#REF!)/#REF!)","v":0},{"$f":"IF(ISERROR((#REF!-#REF!)/#REF!),0,(#REF!-#REF!)/#REF!)","v":0},{"$f":"IF(ISERROR((#REF!-#REF!)/#REF!),0,(#REF!-#REF!)/#REF!)","v":0},{"$f":"IF(ISERROR((#REF!-#REF!)/#REF!),0,(#REF!-#REF!)/#REF!)","v":0},{"$f":"IF(ISERROR((#REF!-#REF!)/#REF!),0,(#REF!-#REF!)/#REF!)","v":0},{"$f":"IF(ISERROR((#REF!-#REF!)/#REF!),0,(#REF!-#REF!)/#REF!)","v":0}]
[null,"FZ47C","Non-Malignant General Abdominal Disorders, with length of stay 1 day or less",0,398,0,0,5,687,5,209,"No","-",0,1,"HRG",{"$f":"IF(ISERROR((#REF!-#REF!)/#REF!),0,(#REF!-#REF!)/#REF!)","v":0},{"$f":"IF(ISERROR((#REF!-#REF!)/#REF!),0,(#REF!-#REF!)/#REF!)","v":0},{"$f":"IF(ISERROR((#REF!-#REF!)/#REF!),0,(#REF!-#REF!)/#REF!)","v":0},{"$f":"IF(ISERROR((#REF!-#REF!)/#REF!),0,(#REF!-#REF!)/#REF!)","v":0},{"$f":"IF(ISERROR((#REF!-#REF!)/#REF!),0,(#REF!-#REF!)/#REF!)","v":0},{"$f":"IF(ISERROR((#REF!-#REF!)/#REF!),0,(#REF!-#REF!)/#REF!)","v":0},{"$f":"IF(ISERROR((#REF!-#REF!)/#REF!),0,(#REF!-#REF!)/#REF!)","v":0},{"$f":"IF(ISERROR((#REF!-#REF!)/#REF!),0,(#REF!-#REF!)/#REF!)","v":0},{"$f":"IF(ISERROR((#REF!-#REF!)/#REF!),0,(#REF!-#REF!)/#REF!)","v":0},{"$f":"IF(ISERROR((#REF!-#REF!)/#REF!),0,(#REF!-#REF!)/#REF!)","v":0},{"$f":"IF(ISERROR((#REF!-#REF!)/#REF!),0,(#REF!-#REF!)/#REF!)","v":0},{"$f":"IF(ISERROR((#REF!-#REF!)/#REF!),0,(#REF!-#REF!)/#REF!)","v":0},{"$f":"IF(ISERROR((#REF!-#REF!)/#REF!),0,(#REF!-#REF!)/#REF!)","v":0}]
[null,"FZ48A","Malignant General Abdominal Disorders, with length of stay 2 days or more, with Major CC",0,2410,0,0,16,3655.0032170562604,32,209,"No","-",0,"","",{"$f":"IF(ISERROR((#REF!-#REF!)/#REF!),0,(#REF!-#REF!)/#REF!)","v":0},{"$f":"IF(ISERROR((#REF!-#REF!)/#REF!),0,(#REF!-#REF!)/#REF!)","v":0},{"$f":"IF(ISERROR((#REF!-#REF!)/#REF!),0,(#REF!-#REF!)/#REF!)","v":0},{"$f":"IF(ISERROR((#REF!-#REF!)/#REF!),0,(#REF!-#REF!)/#REF!)","v":0},{"$f":"IF(ISERROR((#REF!-#REF!)/#REF!),0,(#REF!-#REF!)/#REF!)","v":0},{"$f":"IF(ISERROR((#REF!-#REF!)/#REF!),0,(#REF!-#REF!)/#REF!)","v":0},{"$f":"IF(ISERROR((#REF!-#REF!)/#REF!),0,(#REF!-#REF!)/#REF!)","v":0},{"$f":"IF(ISERROR((#REF!-#REF!)/#REF!),0,(#REF!-#REF!)/#REF!)","v":0},{"$f":"IF(ISERROR((#REF!-#REF!)/#REF!),0,(#REF!-#REF!)/#REF!)","v":0},{"$f":"IF(ISERROR((#REF!-#REF!)/#REF!),0,(#REF!-#REF!)/#REF!)","v":0},{"$f":"IF(ISERROR((#REF!-#REF!)/#REF!),0,(#REF!-#REF!)/#REF!)","v":0},{"$f":"IF(ISERROR((#REF!-#REF!)/#REF!),0,(#REF!-#REF!)/#REF!)","v":0},{"$f":"IF(ISERROR((#REF!-#REF!)/#REF!),0,(#REF!-#REF!)/#REF!)","v":0}]
[null,"FZ48B","Malignant General Abdominal Disorders, with length of stay 2 days or more, without Major CC",0,4772.7304970543228,0,0,7,2060,17,209,"No","-",0,"","",{"$f":"IF(ISERROR((#REF!-#REF!)/#REF!),0,(#REF!-#REF!)/#REF!)","v":0},{"$f":"IF(ISERROR((#REF!-#REF!)/#REF!),0,(#REF!-#REF!)/#REF!)","v":0},{"$f":"IF(ISERROR((#REF!-#REF!)/#REF!),0,(#REF!-#REF!)/#REF!)","v":0},{"$f":"IF(ISERROR((#REF!-#REF!)/#REF!),0,(#REF!-#REF!)/#REF!)","v":0},{"$f":"IF(ISERROR((#REF!-#REF!)/#REF!),0,(#REF!-#REF!)/#REF!)","v":0},{"$f":"IF(ISERROR((#REF!-#REF!)/#REF!),0,(#REF!-#REF!)/#REF!)","v":0},{"$f":"IF(ISERROR((#REF!-#REF!)/#REF!),0,(#REF!-#REF!)/#REF!)","v":0},{"$f":"IF(ISERROR((#REF!-#REF!)/#REF!),0,(#REF!-#REF!)/#REF!)","v":0},{"$f":"IF(ISERROR((#REF!-#REF!)/#REF!),0,(#REF!-#REF!)/#REF!)","v":0},{"$f":"IF(ISERROR((#REF!-#REF!)/#REF!),0,(#REF!-#REF!)/#REF!)","v":0},{"$f":"IF(ISERROR((#REF!-#REF!)/#REF!),0,(#REF!-#REF!)/#REF!)","v":0},{"$f":"IF(ISERROR((#REF!-#REF!)/#REF!),0,(#REF!-#REF!)/#REF!)","v":0},{"$f":"IF(ISERROR((#REF!-#REF!)/#REF!),0,(#REF!-#REF!)/#REF!)","v":0}]
[null,"FZ48C","Malignant General Abdominal Disorders, with length of stay 1 day or less",0,366,0,0,5,477,5,209,"Yes",1,477,"","",{"$f":"IF(ISERROR((#REF!-#REF!)/#REF!),0,(#REF!-#REF!)/#REF!)","v":0},{"$f":"IF(ISERROR((#REF!-#REF!)/#REF!),0,(#REF!-#REF!)/#REF!)","v":0},{"$f":"IF(ISERROR((#REF!-#REF!)/#REF!),0,(#REF!-#REF!)/#REF!)","v":0},{"$f":"IF(ISERROR((#REF!-#REF!)/#REF!),0,(#REF!-#REF!)/#REF!)","v":0},{"$f":"IF(ISERROR((#REF!-#REF!)/#REF!),0,(#REF!-#REF!)/#REF!)","v":0},{"$f":"IF(ISERROR((#REF!-#REF!)/#REF!),0,(#REF!-#REF!)/#REF!)","v":0},{"$f":"IF(ISERROR((#REF!-#REF!)/#REF!),0,(#REF!-#REF!)/#REF!)","v":0},{"$f":"IF(ISERROR((#REF!-#REF!)/#REF!),0,(#REF!-#REF!)/#REF!)","v":0},{"$f":"IF(ISERROR((#REF!-#REF!)/#REF!),0,(#REF!-#REF!)/#REF!)","v":0},{"$f":"IF(ISERROR((#REF!-#REF!)/#REF!),0,(#REF!-#REF!)/#REF!)","v":0},{"$f":"IF(ISERROR((#REF!-#REF!)/#REF!),0,(#REF!-#REF!)/#REF!)","v":0},{"$f":"IF(ISERROR((#REF!-#REF!)/#REF!),0,(#REF!-#REF!)/#REF!)","v":0},{"$f":"IF(ISERROR((#REF!-#REF!)/#REF!),0,(#REF!-#REF!)/#REF!)","v":0}]
[null,"FZ49A","Nutritional Disorders, with length of stay 2 days or more, with Major CC",0,3809,0,0,47,3991,49,209,"No","-",0,"","",{"$f":"IF(ISERROR((#REF!-#REF!)/#REF!),0,(#REF!-#REF!)/#REF!)","v":0},{"$f":"IF(ISERROR((#REF!-#REF!)/#REF!),0,(#REF!-#REF!)/#REF!)","v":0},{"$f":"IF(ISERROR((#REF!-#REF!)/#REF!),0,(#REF!-#REF!)/#REF!)","v":0},{"$f":"IF(ISERROR((#REF!-#REF!)/#REF!),0,(#REF!-#REF!)/#REF!)","v":0},{"$f":"IF(ISERROR((#REF!-#REF!)/#REF!),0,(#REF!-#REF!)/#REF!)","v":0},{"$f":"IF(ISERROR((#REF!-#REF!)/#REF!),0,(#REF!-#REF!)/#REF!)","v":0},{"$f":"IF(ISERROR((#REF!-#REF!)/#REF!),0,(#REF!-#REF!)/#REF!)","v":0},{"$f":"IF(ISERROR((#REF!-#REF!)/#REF!),0,(#REF!-#REF!)/#REF!)","v":0},{"$f":"IF(ISERROR((#REF!-#REF!)/#REF!),0,(#REF!-#REF!)/#REF!)","v":0},{"$f":"IF(ISERROR((#REF!-#REF!)/#REF!),0,(#REF!-#REF!)/#REF!)","v":0},{"$f":"IF(ISERROR((#REF!-#REF!)/#REF!),0,(#REF!-#REF!)/#REF!)","v":0},{"$f":"IF(ISERROR((#REF!-#REF!)/#REF!),0,(#REF!-#REF!)/#REF!)","v":0},{"$f":"IF(ISERROR((#REF!-#REF!)/#REF!),0,(#REF!-#REF!)/#REF!)","v":0}]
[null,"FZ49B","Nutritional Disorders, with length of stay 2 days or more, without Major CC",0,2440,0,0,20,2642,27,209,"No","-",0,"","",{"$f":"IF(ISERROR((#REF!-#REF!)/#REF!),0,(#REF!-#REF!)/#REF!)","v":0},{"$f":"IF(ISERROR((#REF!-#REF!)/#REF!),0,(#REF!-#REF!)/#REF!)","v":0},{"$f":"IF(ISERROR((#REF!-#REF!)/#REF!),0,(#REF!-#REF!)/#REF!)","v":0},{"$f":"IF(ISERROR((#REF!-#REF!)/#REF!),0,(#REF!-#REF!)/#REF!)","v":0},{"$f":"IF(ISERROR((#REF!-#REF!)/#REF!),0,(#REF!-#REF!)/#REF!)","v":0},{"$f":"IF(ISERROR((#REF!-#REF!)/#REF!),0,(#REF!-#REF!)/#REF!)","v":0},{"$f":"IF(ISERROR((#REF!-#REF!)/#REF!),0,(#REF!-#REF!)/#REF!)","v":0},{"$f":"IF(ISERROR((#REF!-#REF!)/#REF!),0,(#REF!-#REF!)/#REF!)","v":0},{"$f":"IF(ISERROR((#REF!-#REF!)/#REF!),0,(#REF!-#REF!)/#REF!)","v":0},{"$f":"IF(ISERROR((#REF!-#REF!)/#REF!),0,(#REF!-#REF!)/#REF!)","v":0},{"$f":"IF(ISERROR((#REF!-#REF!)/#REF!),0,(#REF!-#REF!)/#REF!)","v":0},{"$f":"IF(ISERROR((#REF!-#REF!)/#REF!),0,(#REF!-#REF!)/#REF!)","v":0},{"$f":"IF(ISERROR((#REF!-#REF!)/#REF!),0,(#REF!-#REF!)/#REF!)","v":0}]
[null,"FZ49C","Nutritional Disorders, with length of stay 1 day or less",0,319,0,0,5,455,5,209,"Yes",1,455,"","",{"$f":"IF(ISERROR((#REF!-#REF!)/#REF!),0,(#REF!-#REF!)/#REF!)","v":0},{"$f":"IF(ISERROR((#REF!-#REF!)/#REF!),0,(#REF!-#REF!)/#REF!)","v":0},{"$f":"IF(ISERROR((#REF!-#REF!)/#REF!),0,(#REF!-#REF!)/#REF!)","v":0},{"$f":"IF(ISERROR((#REF!-#REF!)/#REF!),0,(#REF!-#REF!)/#REF!)","v":0},{"$f":"IF(ISERROR((#REF!-#REF!)/#REF!),0,(#REF!-#REF!)/#REF!)","v":0},{"$f":"IF(ISERROR((#REF!-#REF!)/#REF!),0,(#REF!-#REF!)/#REF!)","v":0},{"$f":"IF(ISERROR((#REF!-#REF!)/#REF!),0,(#REF!-#REF!)/#REF!)","v":0},{"$f":"IF(ISERROR((#REF!-#REF!)/#REF!),0,(#REF!-#REF!)/#REF!)","v":0},{"$f":"IF(ISERROR((#REF!-#REF!)/#REF!),0,(#REF!-#REF!)/#REF!)","v":0},{"$f":"IF(ISERROR((#REF!-#REF!)/#REF!),0,(#REF!-#REF!)/#REF!)","v":0},{"$f":"IF(ISERROR((#REF!-#REF!)/#REF!),0,(#REF!-#REF!)/#REF!)","v":0},{"$f":"IF(ISERROR((#REF!-#REF!)/#REF!),0,(#REF!-#REF!)/#REF!)","v":0},{"$f":"IF(ISERROR((#REF!-#REF!)/#REF!),0,(#REF!-#REF!)/#REF!)","v":0}]
[null,"FZ50Z","Intermediate Large Intestine Procedures, 19 years and over",399,399,0,0,5,703,5,209,"No","-",0,"","",{"$f":"IF(ISERROR((#REF!-#REF!)/#REF!),0,(#REF!-#REF!)/#REF!)","v":0},{"$f":"IF(ISERROR((#REF!-#REF!)/#REF!),0,(#REF!-#REF!)/#REF!)","v":0},{"$f":"IF(ISERROR((#REF!-#REF!)/#REF!),0,(#REF!-#REF!)/#REF!)","v":0},{"$f":"IF(ISERROR((#REF!-#REF!)/#REF!),0,(#REF!-#REF!)/#REF!)","v":0},{"$f":"IF(ISERROR((#REF!-#REF!)/#REF!),0,(#REF!-#REF!)/#REF!)","v":0},{"$f":"IF(ISERROR((#REF!-#REF!)/#REF!),0,(#REF!-#REF!)/#REF!)","v":0},{"$f":"IF(ISERROR((#REF!-#REF!)/#REF!),0,(#REF!-#REF!)/#REF!)","v":0},{"$f":"IF(ISERROR((#REF!-#REF!)/#REF!),0,(#REF!-#REF!)/#REF!)","v":0},{"$f":"IF(ISERROR((#REF!-#REF!)/#REF!),0,(#REF!-#REF!)/#REF!)","v":0},{"$f":"IF(ISERROR((#REF!-#REF!)/#REF!),0,(#REF!-#REF!)/#REF!)","v":0},{"$f":"IF(ISERROR((#REF!-#REF!)/#REF!),0,(#REF!-#REF!)/#REF!)","v":0},{"$f":"IF(ISERROR((#REF!-#REF!)/#REF!),0,(#REF!-#REF!)/#REF!)","v":0},{"$f":"IF(ISERROR((#REF!-#REF!)/#REF!),0,(#REF!-#REF!)/#REF!)","v":0}]
[null,"FZ51Z","Diagnostic Colonoscopy, 19 years and over",441,475.33239811500215,0,0,5,684,5,209,"No","-",0,1,"HRG",{"$f":"IF(ISERROR((#REF!-#REF!)/#REF!),0,(#REF!-#REF!)/#REF!)","v":0},{"$f":"IF(ISERROR((#REF!-#REF!)/#REF!),0,(#REF!-#REF!)/#REF!)","v":0},{"$f":"IF(ISERROR((#REF!-#REF!)/#REF!),0,(#REF!-#REF!)/#REF!)","v":0},{"$f":"IF(ISERROR((#REF!-#REF!)/#REF!),0,(#REF!-#REF!)/#REF!)","v":0},{"$f":"IF(ISERROR((#REF!-#REF!)/#REF!),0,(#REF!-#REF!)/#REF!)","v":0},{"$f":"IF(ISERROR((#REF!-#REF!)/#REF!),0,(#REF!-#REF!)/#REF!)","v":0},{"$f":"IF(ISERROR((#REF!-#REF!)/#REF!),0,(#REF!-#REF!)/#REF!)","v":0},{"$f":"IF(ISERROR((#REF!-#REF!)/#REF!),0,(#REF!-#REF!)/#REF!)","v":0},{"$f":"IF(ISERROR((#REF!-#REF!)/#REF!),0,(#REF!-#REF!)/#REF!)","v":0},{"$f":"IF(ISERROR((#REF!-#REF!)/#REF!),0,(#REF!-#REF!)/#REF!)","v":0},{"$f":"IF(ISERROR((#REF!-#REF!)/#REF!),0,(#REF!-#REF!)/#REF!)","v":0},{"$f":"IF(ISERROR((#REF!-#REF!)/#REF!),0,(#REF!-#REF!)/#REF!)","v":0},{"$f":"IF(ISERROR((#REF!-#REF!)/#REF!),0,(#REF!-#REF!)/#REF!)","v":0}]
[null,"FZ52Z","Diagnostic Colonoscopy with Biopsy, 19 years and over",474,474,0,0,5,782,5,209,"No","-",0,1,"HRG",{"$f":"IF(ISERROR((#REF!-#REF!)/#REF!),0,(#REF!-#REF!)/#REF!)","v":0},{"$f":"IF(ISERROR((#REF!-#REF!)/#REF!),0,(#REF!-#REF!)/#REF!)","v":0},{"$f":"IF(ISERROR((#REF!-#REF!)/#REF!),0,(#REF!-#REF!)/#REF!)","v":0},{"$f":"IF(ISERROR((#REF!-#REF!)/#REF!),0,(#REF!-#REF!)/#REF!)","v":0},{"$f":"IF(ISERROR((#REF!-#REF!)/#REF!),0,(#REF!-#REF!)/#REF!)","v":0},{"$f":"IF(ISERROR((#REF!-#REF!)/#REF!),0,(#REF!-#REF!)/#REF!)","v":0},{"$f":"IF(ISERROR((#REF!-#REF!)/#REF!),0,(#REF!-#REF!)/#REF!)","v":0},{"$f":"IF(ISERROR((#REF!-#REF!)/#REF!),0,(#REF!-#REF!)/#REF!)","v":0},{"$f":"IF(ISERROR((#REF!-#REF!)/#REF!),0,(#REF!-#REF!)/#REF!)","v":0},{"$f":"IF(ISERROR((#REF!-#REF!)/#REF!),0,(#REF!-#REF!)/#REF!)","v":0},{"$f":"IF(ISERROR((#REF!-#REF!)/#REF!),0,(#REF!-#REF!)/#REF!)","v":0},{"$f":"IF(ISERROR((#REF!-#REF!)/#REF!),0,(#REF!-#REF!)/#REF!)","v":0},{"$f":"IF(ISERROR((#REF!-#REF!)/#REF!),0,(#REF!-#REF!)/#REF!)","v":0}]
[null,"FZ53Z","Therapeutic Colonoscopy, 19 years and over",0,478,0,0,5,818,5,209,"No","-",0,1,"HRG",{"$f":"IF(ISERROR((#REF!-#REF!)/#REF!),0,(#REF!-#REF!)/#REF!)","v":0},{"$f":"IF(ISERROR((#REF!-#REF!)/#REF!),0,(#REF!-#REF!)/#REF!)","v":0},{"$f":"IF(ISERROR((#REF!-#REF!)/#REF!),0,(#REF!-#REF!)/#REF!)","v":0},{"$f":"IF(ISERROR((#REF!-#REF!)/#REF!),0,(#REF!-#REF!)/#REF!)","v":0},{"$f":"IF(ISERROR((#REF!-#REF!)/#REF!),0,(#REF!-#REF!)/#REF!)","v":0},{"$f":"IF(ISERROR((#REF!-#REF!)/#REF!),0,(#REF!-#REF!)/#REF!)","v":0},{"$f":"IF(ISERROR((#REF!-#REF!)/#REF!),0,(#REF!-#REF!)/#REF!)","v":0},{"$f":"IF(ISERROR((#REF!-#REF!)/#REF!),0,(#REF!-#REF!)/#REF!)","v":0},{"$f":"IF(ISERROR((#REF!-#REF!)/#REF!),0,(#REF!-#REF!)/#REF!)","v":0},{"$f":"IF(ISERROR((#REF!-#REF!)/#REF!),0,(#REF!-#REF!)/#REF!)","v":0},{"$f":"IF(ISERROR((#REF!-#REF!)/#REF!),0,(#REF!-#REF!)/#REF!)","v":0},{"$f":"IF(ISERROR((#REF!-#REF!)/#REF!),0,(#REF!-#REF!)/#REF!)","v":0},{"$f":"IF(ISERROR((#REF!-#REF!)/#REF!),0,(#REF!-#REF!)/#REF!)","v":0}]
[null,"FZ54Z","Diagnostic Flexible Sigmoidoscopy, 19 years and over",344,344.75481729151625,0,0,5,579,5,209,"No","-",0,1,"HRG",{"$f":"IF(ISERROR((#REF!-#REF!)/#REF!),0,(#REF!-#REF!)/#REF!)","v":0},{"$f":"IF(ISERROR((#REF!-#REF!)/#REF!),0,(#REF!-#REF!)/#REF!)","v":0},{"$f":"IF(ISERROR((#REF!-#REF!)/#REF!),0,(#REF!-#REF!)/#REF!)","v":0},{"$f":"IF(ISERROR((#REF!-#REF!)/#REF!),0,(#REF!-#REF!)/#REF!)","v":0},{"$f":"IF(ISERROR((#REF!-#REF!)/#REF!),0,(#REF!-#REF!)/#REF!)","v":0},{"$f":"IF(ISERROR((#REF!-#REF!)/#REF!),0,(#REF!-#REF!)/#REF!)","v":0},{"$f":"IF(ISERROR((#REF!-#REF!)/#REF!),0,(#REF!-#REF!)/#REF!)","v":0},{"$f":"IF(ISERROR((#REF!-#REF!)/#REF!),0,(#REF!-#REF!)/#REF!)","v":0},{"$f":"IF(ISERROR((#REF!-#REF!)/#REF!),0,(#REF!-#REF!)/#REF!)","v":0},{"$f":"IF(ISERROR((#REF!-#REF!)/#REF!),0,(#REF!-#REF!)/#REF!)","v":0},{"$f":"IF(ISERROR((#REF!-#REF!)/#REF!),0,(#REF!-#REF!)/#REF!)","v":0},{"$f":"IF(ISERROR((#REF!-#REF!)/#REF!),0,(#REF!-#REF!)/#REF!)","v":0},{"$f":"IF(ISERROR((#REF!-#REF!)/#REF!),0,(#REF!-#REF!)/#REF!)","v":0}]
[null,"FZ55Z","Diagnostic Flexible Sigmoidoscopy with Biopsy, 19 years and over",391,391,0,0,5,609,5,209,"No","-",0,1,"HRG",{"$f":"IF(ISERROR((#REF!-#REF!)/#REF!),0,(#REF!-#REF!)/#REF!)","v":0},{"$f":"IF(ISERROR((#REF!-#REF!)/#REF!),0,(#REF!-#REF!)/#REF!)","v":0},{"$f":"IF(ISERROR((#REF!-#REF!)/#REF!),0,(#REF!-#REF!)/#REF!)","v":0},{"$f":"IF(ISERROR((#REF!-#REF!)/#REF!),0,(#REF!-#REF!)/#REF!)","v":0},{"$f":"IF(ISERROR((#REF!-#REF!)/#REF!),0,(#REF!-#REF!)/#REF!)","v":0},{"$f":"IF(ISERROR((#REF!-#REF!)/#REF!),0,(#REF!-#REF!)/#REF!)","v":0},{"$f":"IF(ISERROR((#REF!-#REF!)/#REF!),0,(#REF!-#REF!)/#REF!)","v":0},{"$f":"IF(ISERROR((#REF!-#REF!)/#REF!),0,(#REF!-#REF!)/#REF!)","v":0},{"$f":"IF(ISERROR((#REF!-#REF!)/#REF!),0,(#REF!-#REF!)/#REF!)","v":0},{"$f":"IF(ISERROR((#REF!-#REF!)/#REF!),0,(#REF!-#REF!)/#REF!)","v":0},{"$f":"IF(ISERROR((#REF!-#REF!)/#REF!),0,(#REF!-#REF!)/#REF!)","v":0},{"$f":"IF(ISERROR((#REF!-#REF!)/#REF!),0,(#REF!-#REF!)/#REF!)","v":0},{"$f":"IF(ISERROR((#REF!-#REF!)/#REF!),0,(#REF!-#REF!)/#REF!)","v":0}]
[null,"FZ56Z","Therapeutic Flexible Sigmoidoscopy, 19 years and over",0,431,0,0,5,683,5,209,"No","-",0,1,"HRG",{"$f":"IF(ISERROR((#REF!-#REF!)/#REF!),0,(#REF!-#REF!)/#REF!)","v":0},{"$f":"IF(ISERROR((#REF!-#REF!)/#REF!),0,(#REF!-#REF!)/#REF!)","v":0},{"$f":"IF(ISERROR((#REF!-#REF!)/#REF!),0,(#REF!-#REF!)/#REF!)","v":0},{"$f":"IF(ISERROR((#REF!-#REF!)/#REF!),0,(#REF!-#REF!)/#REF!)","v":0},{"$f":"IF(ISERROR((#REF!-#REF!)/#REF!),0,(#REF!-#REF!)/#REF!)","v":0},{"$f":"IF(ISERROR((#REF!-#REF!)/#REF!),0,(#REF!-#REF!)/#REF!)","v":0},{"$f":"IF(ISERROR((#REF!-#REF!)/#REF!),0,(#REF!-#REF!)/#REF!)","v":0},{"$f":"IF(ISERROR((#REF!-#REF!)/#REF!),0,(#REF!-#REF!)/#REF!)","v":0},{"$f":"IF(ISERROR((#REF!-#REF!)/#REF!),0,(#REF!-#REF!)/#REF!)","v":0},{"$f":"IF(ISERROR((#REF!-#REF!)/#REF!),0,(#REF!-#REF!)/#REF!)","v":0},{"$f":"IF(ISERROR((#REF!-#REF!)/#REF!),0,(#REF!-#REF!)/#REF!)","v":0},{"$f":"IF(ISERROR((#REF!-#REF!)/#REF!),0,(#REF!-#REF!)/#REF!)","v":0},{"$f":"IF(ISERROR((#REF!-#REF!)/#REF!),0,(#REF!-#REF!)/#REF!)","v":0}]
[null,"FZ57Z","Diagnostic or Therapeutic, Rigid Sigmoidoscopy, 19 years and over",168,189.30980781738018,0,0,5,564,5,209,"No","-",0,"","",{"$f":"IF(ISERROR((#REF!-#REF!)/#REF!),0,(#REF!-#REF!)/#REF!)","v":0},{"$f":"IF(ISERROR((#REF!-#REF!)/#REF!),0,(#REF!-#REF!)/#REF!)","v":0},{"$f":"IF(ISERROR((#REF!-#REF!)/#REF!),0,(#REF!-#REF!)/#REF!)","v":0},{"$f":"IF(ISERROR((#REF!-#REF!)/#REF!),0,(#REF!-#REF!)/#REF!)","v":0},{"$f":"IF(ISERROR((#REF!-#REF!)/#REF!),0,(#REF!-#REF!)/#REF!)","v":0},{"$f":"IF(ISERROR((#REF!-#REF!)/#REF!),0,(#REF!-#REF!)/#REF!)","v":0},{"$f":"IF(ISERROR((#REF!-#REF!)/#REF!),0,(#REF!-#REF!)/#REF!)","v":0},{"$f":"IF(ISERROR((#REF!-#REF!)/#REF!),0,(#REF!-#REF!)/#REF!)","v":0},{"$f":"IF(ISERROR((#REF!-#REF!)/#REF!),0,(#REF!-#REF!)/#REF!)","v":0},{"$f":"IF(ISERROR((#REF!-#REF!)/#REF!),0,(#REF!-#REF!)/#REF!)","v":0},{"$f":"IF(ISERROR((#REF!-#REF!)/#REF!),0,(#REF!-#REF!)/#REF!)","v":0},{"$f":"IF(ISERROR((#REF!-#REF!)/#REF!),0,(#REF!-#REF!)/#REF!)","v":0},{"$f":"IF(ISERROR((#REF!-#REF!)/#REF!),0,(#REF!-#REF!)/#REF!)","v":0}]
[null,"FZ58A","Endoscopic or Intermediate, Lower GI Tract Procedures, between 2 and 18 years",0,718,0,0,5,811,5,268,"No","-",0,"","",{"$f":"IF(ISERROR((#REF!-#REF!)/#REF!),0,(#REF!-#REF!)/#REF!)","v":0},{"$f":"IF(ISERROR((#REF!-#REF!)/#REF!),0,(#REF!-#REF!)/#REF!)","v":0},{"$f":"IF(ISERROR((#REF!-#REF!)/#REF!),0,(#REF!-#REF!)/#REF!)","v":0},{"$f":"IF(ISERROR((#REF!-#REF!)/#REF!),0,(#REF!-#REF!)/#REF!)","v":0},{"$f":"IF(ISERROR((#REF!-#REF!)/#REF!),0,(#REF!-#REF!)/#REF!)","v":0},{"$f":"IF(ISERROR((#REF!-#REF!)/#REF!),0,(#REF!-#REF!)/#REF!)","v":0},{"$f":"IF(ISERROR((#REF!-#REF!)/#REF!),0,(#REF!-#REF!)/#REF!)","v":0},{"$f":"IF(ISERROR((#REF!-#REF!)/#REF!),0,(#REF!-#REF!)/#REF!)","v":0},{"$f":"IF(ISERROR((#REF!-#REF!)/#REF!),0,(#REF!-#REF!)/#REF!)","v":0},{"$f":"IF(ISERROR((#REF!-#REF!)/#REF!),0,(#REF!-#REF!)/#REF!)","v":0},{"$f":"IF(ISERROR((#REF!-#REF!)/#REF!),0,(#REF!-#REF!)/#REF!)","v":0},{"$f":"IF(ISERROR((#REF!-#REF!)/#REF!),0,(#REF!-#REF!)/#REF!)","v":0},{"$f":"IF(ISERROR((#REF!-#REF!)/#REF!),0,(#REF!-#REF!)/#REF!)","v":0}]
[null,"FZ58B","Endoscopic or Intermediate, Lower GI Tract Procedures, 1 year and under",0,870,0,0,5,1288,5,268,"No","-",0,"","",{"$f":"IF(ISERROR((#REF!-#REF!)/#REF!),0,(#REF!-#REF!)/#REF!)","v":0},{"$f":"IF(ISERROR((#REF!-#REF!)/#REF!),0,(#REF!-#REF!)/#REF!)","v":0},{"$f":"IF(ISERROR((#REF!-#REF!)/#REF!),0,(#REF!-#REF!)/#REF!)","v":0},{"$f":"IF(ISERROR((#REF!-#REF!)/#REF!),0,(#REF!-#REF!)/#REF!)","v":0},{"$f":"IF(ISERROR((#REF!-#REF!)/#REF!),0,(#REF!-#REF!)/#REF!)","v":0},{"$f":"IF(ISERROR((#REF!-#REF!)/#REF!),0,(#REF!-#REF!)/#REF!)","v":0},{"$f":"IF(ISERROR((#REF!-#REF!)/#REF!),0,(#REF!-#REF!)/#REF!)","v":0},{"$f":"IF(ISERROR((#REF!-#REF!)/#REF!),0,(#REF!-#REF!)/#REF!)","v":0},{"$f":"IF(ISERROR((#REF!-#REF!)/#REF!),0,(#REF!-#REF!)/#REF!)","v":0},{"$f":"IF(ISERROR((#REF!-#REF!)/#REF!),0,(#REF!-#REF!)/#REF!)","v":0},{"$f":"IF(ISERROR((#REF!-#REF!)/#REF!),0,(#REF!-#REF!)/#REF!)","v":0},{"$f":"IF(ISERROR((#REF!-#REF!)/#REF!),0,(#REF!-#REF!)/#REF!)","v":0},{"$f":"IF(ISERROR((#REF!-#REF!)/#REF!),0,(#REF!-#REF!)/#REF!)","v":0}]
[null,"FZ59Z","Intermediate Upper GI Tract Procedures, 19 years and over",243,763.2956374087122,0,0,5,504,5,209,"No","-",0,"","",{"$f":"IF(ISERROR((#REF!-#REF!)/#REF!),0,(#REF!-#REF!)/#REF!)","v":0},{"$f":"IF(ISERROR((#REF!-#REF!)/#REF!),0,(#REF!-#REF!)/#REF!)","v":0},{"$f":"IF(ISERROR((#REF!-#REF!)/#REF!),0,(#REF!-#REF!)/#REF!)","v":0},{"$f":"IF(ISERROR((#REF!-#REF!)/#REF!),0,(#REF!-#REF!)/#REF!)","v":0},{"$f":"IF(ISERROR((#REF!-#REF!)/#REF!),0,(#REF!-#REF!)/#REF!)","v":0},{"$f":"IF(ISERROR((#REF!-#REF!)/#REF!),0,(#REF!-#REF!)/#REF!)","v":0},{"$f":"IF(ISERROR((#REF!-#REF!)/#REF!),0,(#REF!-#REF!)/#REF!)","v":0},{"$f":"IF(ISERROR((#REF!-#REF!)/#REF!),0,(#REF!-#REF!)/#REF!)","v":0},{"$f":"IF(ISERROR((#REF!-#REF!)/#REF!),0,(#REF!-#REF!)/#REF!)","v":0},{"$f":"IF(ISERROR((#REF!-#REF!)/#REF!),0,(#REF!-#REF!)/#REF!)","v":0},{"$f":"IF(ISERROR((#REF!-#REF!)/#REF!),0,(#REF!-#REF!)/#REF!)","v":0},{"$f":"IF(ISERROR((#REF!-#REF!)/#REF!),0,(#REF!-#REF!)/#REF!)","v":0},{"$f":"IF(ISERROR((#REF!-#REF!)/#REF!),0,(#REF!-#REF!)/#REF!)","v":0}]
[null,"FZ60Z","Diagnostic Endoscopic Upper GI Tract Procedures, 19 years and over",357,372.33547041809533,0,0,5,767,5,209,"No","-",0,1,"HRG",{"$f":"IF(ISERROR((#REF!-#REF!)/#REF!),0,(#REF!-#REF!)/#REF!)","v":0},{"$f":"IF(ISERROR((#REF!-#REF!)/#REF!),0,(#REF!-#REF!)/#REF!)","v":0},{"$f":"IF(ISERROR((#REF!-#REF!)/#REF!),0,(#REF!-#REF!)/#REF!)","v":0},{"$f":"IF(ISERROR((#REF!-#REF!)/#REF!),0,(#REF!-#REF!)/#REF!)","v":0},{"$f":"IF(ISERROR((#REF!-#REF!)/#REF!),0,(#REF!-#REF!)/#REF!)","v":0},{"$f":"IF(ISERROR((#REF!-#REF!)/#REF!),0,(#REF!-#REF!)/#REF!)","v":0},{"$f":"IF(ISERROR((#REF!-#REF!)/#REF!),0,(#REF!-#REF!)/#REF!)","v":0},{"$f":"IF(ISERROR((#REF!-#REF!)/#REF!),0,(#REF!-#REF!)/#REF!)","v":0},{"$f":"IF(ISERROR((#REF!-#REF!)/#REF!),0,(#REF!-#REF!)/#REF!)","v":0},{"$f":"IF(ISERROR((#REF!-#REF!)/#REF!),0,(#REF!-#REF!)/#REF!)","v":0},{"$f":"IF(ISERROR((#REF!-#REF!)/#REF!),0,(#REF!-#REF!)/#REF!)","v":0},{"$f":"IF(ISERROR((#REF!-#REF!)/#REF!),0,(#REF!-#REF!)/#REF!)","v":0},{"$f":"IF(ISERROR((#REF!-#REF!)/#REF!),0,(#REF!-#REF!)/#REF!)","v":0}]
[null,"FZ61Z","Diagnostic Endoscopic Upper GI Tract Procedures with Biopsy, 19 years and over",375,393.9812074241633,0,0,5,778,5,209,"No","-",0,1,"HRG",{"$f":"IF(ISERROR((#REF!-#REF!)/#REF!),0,(#REF!-#REF!)/#REF!)","v":0},{"$f":"IF(ISERROR((#REF!-#REF!)/#REF!),0,(#REF!-#REF!)/#REF!)","v":0},{"$f":"IF(ISERROR((#REF!-#REF!)/#REF!),0,(#REF!-#REF!)/#REF!)","v":0},{"$f":"IF(ISERROR((#REF!-#REF!)/#REF!),0,(#REF!-#REF!)/#REF!)","v":0},{"$f":"IF(ISERROR((#REF!-#REF!)/#REF!),0,(#REF!-#REF!)/#REF!)","v":0},{"$f":"IF(ISERROR((#REF!-#REF!)/#REF!),0,(#REF!-#REF!)/#REF!)","v":0},{"$f":"IF(ISERROR((#REF!-#REF!)/#REF!),0,(#REF!-#REF!)/#REF!)","v":0},{"$f":"IF(ISERROR((#REF!-#REF!)/#REF!),0,(#REF!-#REF!)/#REF!)","v":0},{"$f":"IF(ISERROR((#REF!-#REF!)/#REF!),0,(#REF!-#REF!)/#REF!)","v":0},{"$f":"IF(ISERROR((#REF!-#REF!)/#REF!),0,(#REF!-#REF!)/#REF!)","v":0},{"$f":"IF(ISERROR((#REF!-#REF!)/#REF!),0,(#REF!-#REF!)/#REF!)","v":0},{"$f":"IF(ISERROR((#REF!-#REF!)/#REF!),0,(#REF!-#REF!)/#REF!)","v":0},{"$f":"IF(ISERROR((#REF!-#REF!)/#REF!),0,(#REF!-#REF!)/#REF!)","v":0}]
[null,"FZ62A","Endoscopic or Intermediate, Upper GI Tract Procedures, between 2 and 18 years",0,864,0,0,5,893,5,268,"No","-",0,"","",{"$f":"IF(ISERROR((#REF!-#REF!)/#REF!),0,(#REF!-#REF!)/#REF!)","v":0},{"$f":"IF(ISERROR((#REF!-#REF!)/#REF!),0,(#REF!-#REF!)/#REF!)","v":0},{"$f":"IF(ISERROR((#REF!-#REF!)/#REF!),0,(#REF!-#REF!)/#REF!)","v":0},{"$f":"IF(ISERROR((#REF!-#REF!)/#REF!),0,(#REF!-#REF!)/#REF!)","v":0},{"$f":"IF(ISERROR((#REF!-#REF!)/#REF!),0,(#REF!-#REF!)/#REF!)","v":0},{"$f":"IF(ISERROR((#REF!-#REF!)/#REF!),0,(#REF!-#REF!)/#REF!)","v":0},{"$f":"IF(ISERROR((#REF!-#REF!)/#REF!),0,(#REF!-#REF!)/#REF!)","v":0},{"$f":"IF(ISERROR((#REF!-#REF!)/#REF!),0,(#REF!-#REF!)/#REF!)","v":0},{"$f":"IF(ISERROR((#REF!-#REF!)/#REF!),0,(#REF!-#REF!)/#REF!)","v":0},{"$f":"IF(ISERROR((#REF!-#REF!)/#REF!),0,(#REF!-#REF!)/#REF!)","v":0},{"$f":"IF(ISERROR((#REF!-#REF!)/#REF!),0,(#REF!-#REF!)/#REF!)","v":0},{"$f":"IF(ISERROR((#REF!-#REF!)/#REF!),0,(#REF!-#REF!)/#REF!)","v":0},{"$f":"IF(ISERROR((#REF!-#REF!)/#REF!),0,(#REF!-#REF!)/#REF!)","v":0}]
[null,"FZ62B","Endoscopic or Intermediate, Upper GI Tract Procedures, 1 year and under",0,985,0,0,5,843,5,268,"No","-",0,"","",{"$f":"IF(ISERROR((#REF!-#REF!)/#REF!),0,(#REF!-#REF!)/#REF!)","v":0},{"$f":"IF(ISERROR((#REF!-#REF!)/#REF!),0,(#REF!-#REF!)/#REF!)","v":0},{"$f":"IF(ISERROR((#REF!-#REF!)/#REF!),0,(#REF!-#REF!)/#REF!)","v":0},{"$f":"IF(ISERROR((#REF!-#REF!)/#REF!),0,(#REF!-#REF!)/#REF!)","v":0},{"$f":"IF(ISERROR((#REF!-#REF!)/#REF!),0,(#REF!-#REF!)/#REF!)","v":0},{"$f":"IF(ISERROR((#REF!-#REF!)/#REF!),0,(#REF!-#REF!)/#REF!)","v":0},{"$f":"IF(ISERROR((#REF!-#REF!)/#REF!),0,(#REF!-#REF!)/#REF!)","v":0},{"$f":"IF(ISERROR((#REF!-#REF!)/#REF!),0,(#REF!-#REF!)/#REF!)","v":0},{"$f":"IF(ISERROR((#REF!-#REF!)/#REF!),0,(#REF!-#REF!)/#REF!)","v":0},{"$f":"IF(ISERROR((#REF!-#REF!)/#REF!),0,(#REF!-#REF!)/#REF!)","v":0},{"$f":"IF(ISERROR((#REF!-#REF!)/#REF!),0,(#REF!-#REF!)/#REF!)","v":0},{"$f":"IF(ISERROR((#REF!-#REF!)/#REF!),0,(#REF!-#REF!)/#REF!)","v":0},{"$f":"IF(ISERROR((#REF!-#REF!)/#REF!),0,(#REF!-#REF!)/#REF!)","v":0}]
[null,"FZ63Z","Combined Upper and Lower GI Tract Diagnostic Endoscopic Procedures",0,672.62823385432932,0,0,5,694,5,209,"No","-",0,1,"HRG",{"$f":"IF(ISERROR((#REF!-#REF!)/#REF!),0,(#REF!-#REF!)/#REF!)","v":0},{"$f":"IF(ISERROR((#REF!-#REF!)/#REF!),0,(#REF!-#REF!)/#REF!)","v":0},{"$f":"IF(ISERROR((#REF!-#REF!)/#REF!),0,(#REF!-#REF!)/#REF!)","v":0},{"$f":"IF(ISERROR((#REF!-#REF!)/#REF!),0,(#REF!-#REF!)/#REF!)","v":0},{"$f":"IF(ISERROR((#REF!-#REF!)/#REF!),0,(#REF!-#REF!)/#REF!)","v":0},{"$f":"IF(ISERROR((#REF!-#REF!)/#REF!),0,(#REF!-#REF!)/#REF!)","v":0},{"$f":"IF(ISERROR((#REF!-#REF!)/#REF!),0,(#REF!-#REF!)/#REF!)","v":0},{"$f":"IF(ISERROR((#REF!-#REF!)/#REF!),0,(#REF!-#REF!)/#REF!)","v":0},{"$f":"IF(ISERROR((#REF!-#REF!)/#REF!),0,(#REF!-#REF!)/#REF!)","v":0},{"$f":"IF(ISERROR((#REF!-#REF!)/#REF!),0,(#REF!-#REF!)/#REF!)","v":0},{"$f":"IF(ISERROR((#REF!-#REF!)/#REF!),0,(#REF!-#REF!)/#REF!)","v":0},{"$f":"IF(ISERROR((#REF!-#REF!)/#REF!),0,(#REF!-#REF!)/#REF!)","v":0},{"$f":"IF(ISERROR((#REF!-#REF!)/#REF!),0,(#REF!-#REF!)/#REF!)","v":0}]
[null,"FZ64A","Combined Upper and Lower GI Tract Diagnostic Endoscopic Procedures with Biopsy, 19 years and over",0,508,0,0,5,653,5,209,"No","-",0,1,"HRG",{"$f":"IF(ISERROR((#REF!-#REF!)/#REF!),0,(#REF!-#REF!)/#REF!)","v":0},{"$f":"IF(ISERROR((#REF!-#REF!)/#REF!),0,(#REF!-#REF!)/#REF!)","v":0},{"$f":"IF(ISERROR((#REF!-#REF!)/#REF!),0,(#REF!-#REF!)/#REF!)","v":0},{"$f":"IF(ISERROR((#REF!-#REF!)/#REF!),0,(#REF!-#REF!)/#REF!)","v":0},{"$f":"IF(ISERROR((#REF!-#REF!)/#REF!),0,(#REF!-#REF!)/#REF!)","v":0},{"$f":"IF(ISERROR((#REF!-#REF!)/#REF!),0,(#REF!-#REF!)/#REF!)","v":0},{"$f":"IF(ISERROR((#REF!-#REF!)/#REF!),0,(#REF!-#REF!)/#REF!)","v":0},{"$f":"IF(ISERROR((#REF!-#REF!)/#REF!),0,(#REF!-#REF!)/#REF!)","v":0},{"$f":"IF(ISERROR((#REF!-#REF!)/#REF!),0,(#REF!-#REF!)/#REF!)","v":0},{"$f":"IF(ISERROR((#REF!-#REF!)/#REF!),0,(#REF!-#REF!)/#REF!)","v":0},{"$f":"IF(ISERROR((#REF!-#REF!)/#REF!),0,(#REF!-#REF!)/#REF!)","v":0},{"$f":"IF(ISERROR((#REF!-#REF!)/#REF!),0,(#REF!-#REF!)/#REF!)","v":0},{"$f":"IF(ISERROR((#REF!-#REF!)/#REF!),0,(#REF!-#REF!)/#REF!)","v":0}]
[null,"FZ64B","Combined Upper and Lower GI Tract Diagnostic Endoscopic Procedures with Biopsy, 18 years and under",0,1429,0,0,5,1420,5,268,"No","-",0,"","",{"$f":"IF(ISERROR((#REF!-#REF!)/#REF!),0,(#REF!-#REF!)/#REF!)","v":0},{"$f":"IF(ISERROR((#REF!-#REF!)/#REF!),0,(#REF!-#REF!)/#REF!)","v":0},{"$f":"IF(ISERROR((#REF!-#REF!)/#REF!),0,(#REF!-#REF!)/#REF!)","v":0},{"$f":"IF(ISERROR((#REF!-#REF!)/#REF!),0,(#REF!-#REF!)/#REF!)","v":0},{"$f":"IF(ISERROR((#REF!-#REF!)/#REF!),0,(#REF!-#REF!)/#REF!)","v":0},{"$f":"IF(ISERROR((#REF!-#REF!)/#REF!),0,(#REF!-#REF!)/#REF!)","v":0},{"$f":"IF(ISERROR((#REF!-#REF!)/#REF!),0,(#REF!-#REF!)/#REF!)","v":0},{"$f":"IF(ISERROR((#REF!-#REF!)/#REF!),0,(#REF!-#REF!)/#REF!)","v":0},{"$f":"IF(ISERROR((#REF!-#REF!)/#REF!),0,(#REF!-#REF!)/#REF!)","v":0},{"$f":"IF(ISERROR((#REF!-#REF!)/#REF!),0,(#REF!-#REF!)/#REF!)","v":0},{"$f":"IF(ISERROR((#REF!-#REF!)/#REF!),0,(#REF!-#REF!)/#REF!)","v":0},{"$f":"IF(ISERROR((#REF!-#REF!)/#REF!),0,(#REF!-#REF!)/#REF!)","v":0},{"$f":"IF(ISERROR((#REF!-#REF!)/#REF!),0,(#REF!-#REF!)/#REF!)","v":0}]
[null,"FZ65Z","Combined Upper and Lower GI Tract Therapeutic Endoscopic Procedures",0,535,0,0,5,613,11,209,"No","-",0,1,"HRG",{"$f":"IF(ISERROR((#REF!-#REF!)/#REF!),0,(#REF!-#REF!)/#REF!)","v":0},{"$f":"IF(ISERROR((#REF!-#REF!)/#REF!),0,(#REF!-#REF!)/#REF!)","v":0},{"$f":"IF(ISERROR((#REF!-#REF!)/#REF!),0,(#REF!-#REF!)/#REF!)","v":0},{"$f":"IF(ISERROR((#REF!-#REF!)/#REF!),0,(#REF!-#REF!)/#REF!)","v":0},{"$f":"IF(ISERROR((#REF!-#REF!)/#REF!),0,(#REF!-#REF!)/#REF!)","v":0},{"$f":"IF(ISERROR((#REF!-#REF!)/#REF!),0,(#REF!-#REF!)/#REF!)","v":0},{"$f":"IF(ISERROR((#REF!-#REF!)/#REF!),0,(#REF!-#REF!)/#REF!)","v":0},{"$f":"IF(ISERROR((#REF!-#REF!)/#REF!),0,(#REF!-#REF!)/#REF!)","v":0},{"$f":"IF(ISERROR((#REF!-#REF!)/#REF!),0,(#REF!-#REF!)/#REF!)","v":0},{"$f":"IF(ISERROR((#REF!-#REF!)/#REF!),0,(#REF!-#REF!)/#REF!)","v":0},{"$f":"IF(ISERROR((#REF!-#REF!)/#REF!),0,(#REF!-#REF!)/#REF!)","v":0},{"$f":"IF(ISERROR((#REF!-#REF!)/#REF!),0,(#REF!-#REF!)/#REF!)","v":0},{"$f":"IF(ISERROR((#REF!-#REF!)/#REF!),0,(#REF!-#REF!)/#REF!)","v":0}]
[null,"FZ66A","Very Major Small Intestine Procedures, 19 years and over with CC",0,8951.2319773870495,0,0,30,8863.0912563673101,54,209,"No","-",0,"","",{"$f":"IF(ISERROR((#REF!-#REF!)/#REF!),0,(#REF!-#REF!)/#REF!)","v":0},{"$f":"IF(ISERROR((#REF!-#REF!)/#REF!),0,(#REF!-#REF!)/#REF!)","v":0},{"$f":"IF(ISERROR((#REF!-#REF!)/#REF!),0,(#REF!-#REF!)/#REF!)","v":0},{"$f":"IF(ISERROR((#REF!-#REF!)/#REF!),0,(#REF!-#REF!)/#REF!)","v":0},{"$f":"IF(ISERROR((#REF!-#REF!)/#REF!),0,(#REF!-#REF!)/#REF!)","v":0},{"$f":"IF(ISERROR((#REF!-#REF!)/#REF!),0,(#REF!-#REF!)/#REF!)","v":0},{"$f":"IF(ISERROR((#REF!-#REF!)/#REF!),0,(#REF!-#REF!)/#REF!)","v":0},{"$f":"IF(ISERROR((#REF!-#REF!)/#REF!),0,(#REF!-#REF!)/#REF!)","v":0},{"$f":"IF(ISERROR((#REF!-#REF!)/#REF!),0,(#REF!-#REF!)/#REF!)","v":0},{"$f":"IF(ISERROR((#REF!-#REF!)/#REF!),0,(#REF!-#REF!)/#REF!)","v":0},{"$f":"IF(ISERROR((#REF!-#REF!)/#REF!),0,(#REF!-#REF!)/#REF!)","v":0},{"$f":"IF(ISERROR((#REF!-#REF!)/#REF!),0,(#REF!-#REF!)/#REF!)","v":0},{"$f":"IF(ISERROR((#REF!-#REF!)/#REF!),0,(#REF!-#REF!)/#REF!)","v":0}]
[null,"FZ66B","Very Major Small Intestine Procedures, 19 years and over without CC",0,4007,0,0,12,4575.8135759060006,23,209,"No","-",0,"","",{"$f":"IF(ISERROR((#REF!-#REF!)/#REF!),0,(#REF!-#REF!)/#REF!)","v":0},{"$f":"IF(ISERROR((#REF!-#REF!)/#REF!),0,(#REF!-#REF!)/#REF!)","v":0},{"$f":"IF(ISERROR((#REF!-#REF!)/#REF!),0,(#REF!-#REF!)/#REF!)","v":0},{"$f":"IF(ISERROR((#REF!-#REF!)/#REF!),0,(#REF!-#REF!)/#REF!)","v":0},{"$f":"IF(ISERROR((#REF!-#REF!)/#REF!),0,(#REF!-#REF!)/#REF!)","v":0},{"$f":"IF(ISERROR((#REF!-#REF!)/#REF!),0,(#REF!-#REF!)/#REF!)","v":0},{"$f":"IF(ISERROR((#REF!-#REF!)/#REF!),0,(#REF!-#REF!)/#REF!)","v":0},{"$f":"IF(ISERROR((#REF!-#REF!)/#REF!),0,(#REF!-#REF!)/#REF!)","v":0},{"$f":"IF(ISERROR((#REF!-#REF!)/#REF!),0,(#REF!-#REF!)/#REF!)","v":0},{"$f":"IF(ISERROR((#REF!-#REF!)/#REF!),0,(#REF!-#REF!)/#REF!)","v":0},{"$f":"IF(ISERROR((#REF!-#REF!)/#REF!),0,(#REF!-#REF!)/#REF!)","v":0},{"$f":"IF(ISERROR((#REF!-#REF!)/#REF!),0,(#REF!-#REF!)/#REF!)","v":0},{"$f":"IF(ISERROR((#REF!-#REF!)/#REF!),0,(#REF!-#REF!)/#REF!)","v":0}]
[null,"FZ67A","Major Small Intestine Procedures, 19 years and over with CC",0,3796,0,0,16,10348.679709022284,53,209,"No","-",0,"","",{"$f":"IF(ISERROR((#REF!-#REF!)/#REF!),0,(#REF!-#REF!)/#REF!)","v":0},{"$f":"IF(ISERROR((#REF!-#REF!)/#REF!),0,(#REF!-#REF!)/#REF!)","v":0},{"$f":"IF(ISERROR((#REF!-#REF!)/#REF!),0,(#REF!-#REF!)/#REF!)","v":0},{"$f":"IF(ISERROR((#REF!-#REF!)/#REF!),0,(#REF!-#REF!)/#REF!)","v":0},{"$f":"IF(ISERROR((#REF!-#REF!)/#REF!),0,(#REF!-#REF!)/#REF!)","v":0},{"$f":"IF(ISERROR((#REF!-#REF!)/#REF!),0,(#REF!-#REF!)/#REF!)","v":0},{"$f":"IF(ISERROR((#REF!-#REF!)/#REF!),0,(#REF!-#REF!)/#REF!)","v":0},{"$f":"IF(ISERROR((#REF!-#REF!)/#REF!),0,(#REF!-#REF!)/#REF!)","v":0},{"$f":"IF(ISERROR((#REF!-#REF!)/#REF!),0,(#REF!-#REF!)/#REF!)","v":0},{"$f":"IF(ISERROR((#REF!-#REF!)/#REF!),0,(#REF!-#REF!)/#REF!)","v":0},{"$f":"IF(ISERROR((#REF!-#REF!)/#REF!),0,(#REF!-#REF!)/#REF!)","v":0},{"$f":"IF(ISERROR((#REF!-#REF!)/#REF!),0,(#REF!-#REF!)/#REF!)","v":0},{"$f":"IF(ISERROR((#REF!-#REF!)/#REF!),0,(#REF!-#REF!)/#REF!)","v":0}]
[null,"FZ67B","Major Small Intestine Procedures, 19 years and over without CC",0,2959,0,0,12,3876,22,209,"No","-",0,"","",{"$f":"IF(ISERROR((#REF!-#REF!)/#REF!),0,(#REF!-#REF!)/#REF!)","v":0},{"$f":"IF(ISERROR((#REF!-#REF!)/#REF!),0,(#REF!-#REF!)/#REF!)","v":0},{"$f":"IF(ISERROR((#REF!-#REF!)/#REF!),0,(#REF!-#REF!)/#REF!)","v":0},{"$f":"IF(ISERROR((#REF!-#REF!)/#REF!),0,(#REF!-#REF!)/#REF!)","v":0},{"$f":"IF(ISERROR((#REF!-#REF!)/#REF!),0,(#REF!-#REF!)/#REF!)","v":0},{"$f":"IF(ISERROR((#REF!-#REF!)/#REF!),0,(#REF!-#REF!)/#REF!)","v":0},{"$f":"IF(ISERROR((#REF!-#REF!)/#REF!),0,(#REF!-#REF!)/#REF!)","v":0},{"$f":"IF(ISERROR((#REF!-#REF!)/#REF!),0,(#REF!-#REF!)/#REF!)","v":0},{"$f":"IF(ISERROR((#REF!-#REF!)/#REF!),0,(#REF!-#REF!)/#REF!)","v":0},{"$f":"IF(ISERROR((#REF!-#REF!)/#REF!),0,(#REF!-#REF!)/#REF!)","v":0},{"$f":"IF(ISERROR((#REF!-#REF!)/#REF!),0,(#REF!-#REF!)/#REF!)","v":0},{"$f":"IF(ISERROR((#REF!-#REF!)/#REF!),0,(#REF!-#REF!)/#REF!)","v":0},{"$f":"IF(ISERROR((#REF!-#REF!)/#REF!),0,(#REF!-#REF!)/#REF!)","v":0}]
[null,"FZ68C","Very Major or Major Small Intestine Procedures, between 2 and 18 years with CC",0,7333,0,0,27,7460,35,268,"No","-",0,"","",{"$f":"IF(ISERROR((#REF!-#REF!)/#REF!),0,(#REF!-#REF!)/#REF!)","v":0},{"$f":"IF(ISERROR((#REF!-#REF!)/#REF!),0,(#REF!-#REF!)/#REF!)","v":0},{"$f":"IF(ISERROR((#REF!-#REF!)/#REF!),0,(#REF!-#REF!)/#REF!)","v":0},{"$f":"IF(ISERROR((#REF!-#REF!)/#REF!),0,(#REF!-#REF!)/#REF!)","v":0},{"$f":"IF(ISERROR((#REF!-#REF!)/#REF!),0,(#REF!-#REF!)/#REF!)","v":0},{"$f":"IF(ISERROR((#REF!-#REF!)/#REF!),0,(#REF!-#REF!)/#REF!)","v":0},{"$f":"IF(ISERROR((#REF!-#REF!)/#REF!),0,(#REF!-#REF!)/#REF!)","v":0},{"$f":"IF(ISERROR((#REF!-#REF!)/#REF!),0,(#REF!-#REF!)/#REF!)","v":0},{"$f":"IF(ISERROR((#REF!-#REF!)/#REF!),0,(#REF!-#REF!)/#REF!)","v":0},{"$f":"IF(ISERROR((#REF!-#REF!)/#REF!),0,(#REF!-#REF!)/#REF!)","v":0},{"$f":"IF(ISERROR((#REF!-#REF!)/#REF!),0,(#REF!-#REF!)/#REF!)","v":0},{"$f":"IF(ISERROR((#REF!-#REF!)/#REF!),0,(#REF!-#REF!)/#REF!)","v":0},{"$f":"IF(ISERROR((#REF!-#REF!)/#REF!),0,(#REF!-#REF!)/#REF!)","v":0}]
[null,"FZ68D","Very Major or Major Small Intestine Procedures, between 2 and 18 years without CC",0,3533,0,0,12,4076,13,268,"No","-",0,"","",{"$f":"IF(ISERROR((#REF!-#REF!)/#REF!),0,(#REF!-#REF!)/#REF!)","v":0},{"$f":"IF(ISERROR((#REF!-#REF!)/#REF!),0,(#REF!-#REF!)/#REF!)","v":0},{"$f":"IF(ISERROR((#REF!-#REF!)/#REF!),0,(#REF!-#REF!)/#REF!)","v":0},{"$f":"IF(ISERROR((#REF!-#REF!)/#REF!),0,(#REF!-#REF!)/#REF!)","v":0},{"$f":"IF(ISERROR((#REF!-#REF!)/#REF!),0,(#REF!-#REF!)/#REF!)","v":0},{"$f":"IF(ISERROR((#REF!-#REF!)/#REF!),0,(#REF!-#REF!)/#REF!)","v":0},{"$f":"IF(ISERROR((#REF!-#REF!)/#REF!),0,(#REF!-#REF!)/#REF!)","v":0},{"$f":"IF(ISERROR((#REF!-#REF!)/#REF!),0,(#REF!-#REF!)/#REF!)","v":0},{"$f":"IF(ISERROR((#REF!-#REF!)/#REF!),0,(#REF!-#REF!)/#REF!)","v":0},{"$f":"IF(ISERROR((#REF!-#REF!)/#REF!),0,(#REF!-#REF!)/#REF!)","v":0},{"$f":"IF(ISERROR((#REF!-#REF!)/#REF!),0,(#REF!-#REF!)/#REF!)","v":0},{"$f":"IF(ISERROR((#REF!-#REF!)/#REF!),0,(#REF!-#REF!)/#REF!)","v":0},{"$f":"IF(ISERROR((#REF!-#REF!)/#REF!),0,(#REF!-#REF!)/#REF!)","v":0}]
[null,"FZ68E","Very Major or Major Small Intestine Procedures, 1 year and under with CC",0,10903,0,0,28,13089,140,268,"No","-",0,"","",{"$f":"IF(ISERROR((#REF!-#REF!)/#REF!),0,(#REF!-#REF!)/#REF!)","v":0},{"$f":"IF(ISERROR((#REF!-#REF!)/#REF!),0,(#REF!-#REF!)/#REF!)","v":0},{"$f":"IF(ISERROR((#REF!-#REF!)/#REF!),0,(#REF!-#REF!)/#REF!)","v":0},{"$f":"IF(ISERROR((#REF!-#REF!)/#REF!),0,(#REF!-#REF!)/#REF!)","v":0},{"$f":"IF(ISERROR((#REF!-#REF!)/#REF!),0,(#REF!-#REF!)/#REF!)","v":0},{"$f":"IF(ISERROR((#REF!-#REF!)/#REF!),0,(#REF!-#REF!)/#REF!)","v":0},{"$f":"IF(ISERROR((#REF!-#REF!)/#REF!),0,(#REF!-#REF!)/#REF!)","v":0},{"$f":"IF(ISERROR((#REF!-#REF!)/#REF!),0,(#REF!-#REF!)/#REF!)","v":0},{"$f":"IF(ISERROR((#REF!-#REF!)/#REF!),0,(#REF!-#REF!)/#REF!)","v":0},{"$f":"IF(ISERROR((#REF!-#REF!)/#REF!),0,(#REF!-#REF!)/#REF!)","v":0},{"$f":"IF(ISERROR((#REF!-#REF!)/#REF!),0,(#REF!-#REF!)/#REF!)","v":0},{"$f":"IF(ISERROR((#REF!-#REF!)/#REF!),0,(#REF!-#REF!)/#REF!)","v":0},{"$f":"IF(ISERROR((#REF!-#REF!)/#REF!),0,(#REF!-#REF!)/#REF!)","v":0}]
[null,"FZ68F","Very Major or Major Small Intestine Procedures, 1 year and under without CC",0,6012,0,0,14,6010,32,268,"No","-",0,"","",{"$f":"IF(ISERROR((#REF!-#REF!)/#REF!),0,(#REF!-#REF!)/#REF!)","v":0},{"$f":"IF(ISERROR((#REF!-#REF!)/#REF!),0,(#REF!-#REF!)/#REF!)","v":0},{"$f":"IF(ISERROR((#REF!-#REF!)/#REF!),0,(#REF!-#REF!)/#REF!)","v":0},{"$f":"IF(ISERROR((#REF!-#REF!)/#REF!),0,(#REF!-#REF!)/#REF!)","v":0},{"$f":"IF(ISERROR((#REF!-#REF!)/#REF!),0,(#REF!-#REF!)/#REF!)","v":0},{"$f":"IF(ISERROR((#REF!-#REF!)/#REF!),0,(#REF!-#REF!)/#REF!)","v":0},{"$f":"IF(ISERROR((#REF!-#REF!)/#REF!),0,(#REF!-#REF!)/#REF!)","v":0},{"$f":"IF(ISERROR((#REF!-#REF!)/#REF!),0,(#REF!-#REF!)/#REF!)","v":0},{"$f":"IF(ISERROR((#REF!-#REF!)/#REF!),0,(#REF!-#REF!)/#REF!)","v":0},{"$f":"IF(ISERROR((#REF!-#REF!)/#REF!),0,(#REF!-#REF!)/#REF!)","v":0},{"$f":"IF(ISERROR((#REF!-#REF!)/#REF!),0,(#REF!-#REF!)/#REF!)","v":0},{"$f":"IF(ISERROR((#REF!-#REF!)/#REF!),0,(#REF!-#REF!)/#REF!)","v":0},{"$f":"IF(ISERROR((#REF!-#REF!)/#REF!),0,(#REF!-#REF!)/#REF!)","v":0}]
[null,"FZ69A","Complex Small Intestine Procedures, 19 years and over",0,9950,0,0,67,12924,113,209,"No","-",0,"","",{"$f":"IF(ISERROR((#REF!-#REF!)/#REF!),0,(#REF!-#REF!)/#REF!)","v":0},{"$f":"IF(ISERROR((#REF!-#REF!)/#REF!),0,(#REF!-#REF!)/#REF!)","v":0},{"$f":"IF(ISERROR((#REF!-#REF!)/#REF!),0,(#REF!-#REF!)/#REF!)","v":0},{"$f":"IF(ISERROR((#REF!-#REF!)/#REF!),0,(#REF!-#REF!)/#REF!)","v":0},{"$f":"IF(ISERROR((#REF!-#REF!)/#REF!),0,(#REF!-#REF!)/#REF!)","v":0},{"$f":"IF(ISERROR((#REF!-#REF!)/#REF!),0,(#REF!-#REF!)/#REF!)","v":0},{"$f":"IF(ISERROR((#REF!-#REF!)/#REF!),0,(#REF!-#REF!)/#REF!)","v":0},{"$f":"IF(ISERROR((#REF!-#REF!)/#REF!),0,(#REF!-#REF!)/#REF!)","v":0},{"$f":"IF(ISERROR((#REF!-#REF!)/#REF!),0,(#REF!-#REF!)/#REF!)","v":0},{"$f":"IF(ISERROR((#REF!-#REF!)/#REF!),0,(#REF!-#REF!)/#REF!)","v":0},{"$f":"IF(ISERROR((#REF!-#REF!)/#REF!),0,(#REF!-#REF!)/#REF!)","v":0},{"$f":"IF(ISERROR((#REF!-#REF!)/#REF!),0,(#REF!-#REF!)/#REF!)","v":0},{"$f":"IF(ISERROR((#REF!-#REF!)/#REF!),0,(#REF!-#REF!)/#REF!)","v":0}]
[null,"FZ69B","Complex Small Intestine Procedures, 18 years and under",0,17841,0,0,96,20790,219,268,"No","-",0,"","",{"$f":"IF(ISERROR((#REF!-#REF!)/#REF!),0,(#REF!-#REF!)/#REF!)","v":0},{"$f":"IF(ISERROR((#REF!-#REF!)/#REF!),0,(#REF!-#REF!)/#REF!)","v":0},{"$f":"IF(ISERROR((#REF!-#REF!)/#REF!),0,(#REF!-#REF!)/#REF!)","v":0},{"$f":"IF(ISERROR((#REF!-#REF!)/#REF!),0,(#REF!-#REF!)/#REF!)","v":0},{"$f":"IF(ISERROR((#REF!-#REF!)/#REF!),0,(#REF!-#REF!)/#REF!)","v":0},{"$f":"IF(ISERROR((#REF!-#REF!)/#REF!),0,(#REF!-#REF!)/#REF!)","v":0},{"$f":"IF(ISERROR((#REF!-#REF!)/#REF!),0,(#REF!-#REF!)/#REF!)","v":0},{"$f":"IF(ISERROR((#REF!-#REF!)/#REF!),0,(#REF!-#REF!)/#REF!)","v":0},{"$f":"IF(ISERROR((#REF!-#REF!)/#REF!),0,(#REF!-#REF!)/#REF!)","v":0},{"$f":"IF(ISERROR((#REF!-#REF!)/#REF!),0,(#REF!-#REF!)/#REF!)","v":0},{"$f":"IF(ISERROR((#REF!-#REF!)/#REF!),0,(#REF!-#REF!)/#REF!)","v":0},{"$f":"IF(ISERROR((#REF!-#REF!)/#REF!),0,(#REF!-#REF!)/#REF!)","v":0},{"$f":"IF(ISERROR((#REF!-#REF!)/#REF!),0,(#REF!-#REF!)/#REF!)","v":0}]
[null,"FZ70Z","Therapeutic Endoscopic Upper GI Tract Procedures, 19 years and over",0,449,0,0,5,707,5,209,"No","-",0,1,"HRG",{"$f":"IF(ISERROR((#REF!-#REF!)/#REF!),0,(#REF!-#REF!)/#REF!)","v":0},{"$f":"IF(ISERROR((#REF!-#REF!)/#REF!),0,(#REF!-#REF!)/#REF!)","v":0},{"$f":"IF(ISERROR((#REF!-#REF!)/#REF!),0,(#REF!-#REF!)/#REF!)","v":0},{"$f":"IF(ISERROR((#REF!-#REF!)/#REF!),0,(#REF!-#REF!)/#REF!)","v":0},{"$f":"IF(ISERROR((#REF!-#REF!)/#REF!),0,(#REF!-#REF!)/#REF!)","v":0},{"$f":"IF(ISERROR((#REF!-#REF!)/#REF!),0,(#REF!-#REF!)/#REF!)","v":0},{"$f":"IF(ISERROR((#REF!-#REF!)/#REF!),0,(#REF!-#REF!)/#REF!)","v":0},{"$f":"IF(ISERROR((#REF!-#REF!)/#REF!),0,(#REF!-#REF!)/#REF!)","v":0},{"$f":"IF(ISERROR((#REF!-#REF!)/#REF!),0,(#REF!-#REF!)/#REF!)","v":0},{"$f":"IF(ISERROR((#REF!-#REF!)/#REF!),0,(#REF!-#REF!)/#REF!)","v":0},{"$f":"IF(ISERROR((#REF!-#REF!)/#REF!),0,(#REF!-#REF!)/#REF!)","v":0},{"$f":"IF(ISERROR((#REF!-#REF!)/#REF!),0,(#REF!-#REF!)/#REF!)","v":0},{"$f":"IF(ISERROR((#REF!-#REF!)/#REF!),0,(#REF!-#REF!)/#REF!)","v":0}]
[null,"FZ71A","Endoscopic Insertion of Luminal Stent into GI Tract, with length of stay 2 days or more, with Major CC",0,4695,0,0,32,6088,53,209,"No","-",0,"","",{"$f":"IF(ISERROR((#REF!-#REF!)/#REF!),0,(#REF!-#REF!)/#REF!)","v":0},{"$f":"IF(ISERROR((#REF!-#REF!)/#REF!),0,(#REF!-#REF!)/#REF!)","v":0},{"$f":"IF(ISERROR((#REF!-#REF!)/#REF!),0,(#REF!-#REF!)/#REF!)","v":0},{"$f":"IF(ISERROR((#REF!-#REF!)/#REF!),0,(#REF!-#REF!)/#REF!)","v":0},{"$f":"IF(ISERROR((#REF!-#REF!)/#REF!),0,(#REF!-#REF!)/#REF!)","v":0},{"$f":"IF(ISERROR((#REF!-#REF!)/#REF!),0,(#REF!-#REF!)/#REF!)","v":0},{"$f":"IF(ISERROR((#REF!-#REF!)/#REF!),0,(#REF!-#REF!)/#REF!)","v":0},{"$f":"IF(ISERROR((#REF!-#REF!)/#REF!),0,(#REF!-#REF!)/#REF!)","v":0},{"$f":"IF(ISERROR((#REF!-#REF!)/#REF!),0,(#REF!-#REF!)/#REF!)","v":0},{"$f":"IF(ISERROR((#REF!-#REF!)/#REF!),0,(#REF!-#REF!)/#REF!)","v":0},{"$f":"IF(ISERROR((#REF!-#REF!)/#REF!),0,(#REF!-#REF!)/#REF!)","v":0},{"$f":"IF(ISERROR((#REF!-#REF!)/#REF!),0,(#REF!-#REF!)/#REF!)","v":0},{"$f":"IF(ISERROR((#REF!-#REF!)/#REF!),0,(#REF!-#REF!)/#REF!)","v":0}]
[null,"FZ71B","Endoscopic Insertion of Luminal Stent into GI Tract, with length of stay 2 days or more, without Major CC",0,2540,0,0,12,3588,24,209,"No","-",0,"","",{"$f":"IF(ISERROR((#REF!-#REF!)/#REF!),0,(#REF!-#REF!)/#REF!)","v":0},{"$f":"IF(ISERROR((#REF!-#REF!)/#REF!),0,(#REF!-#REF!)/#REF!)","v":0},{"$f":"IF(ISERROR((#REF!-#REF!)/#REF!),0,(#REF!-#REF!)/#REF!)","v":0},{"$f":"IF(ISERROR((#REF!-#REF!)/#REF!),0,(#REF!-#REF!)/#REF!)","v":0},{"$f":"IF(ISERROR((#REF!-#REF!)/#REF!),0,(#REF!-#REF!)/#REF!)","v":0},{"$f":"IF(ISERROR((#REF!-#REF!)/#REF!),0,(#REF!-#REF!)/#REF!)","v":0},{"$f":"IF(ISERROR((#REF!-#REF!)/#REF!),0,(#REF!-#REF!)/#REF!)","v":0},{"$f":"IF(ISERROR((#REF!-#REF!)/#REF!),0,(#REF!-#REF!)/#REF!)","v":0},{"$f":"IF(ISERROR((#REF!-#REF!)/#REF!),0,(#REF!-#REF!)/#REF!)","v":0},{"$f":"IF(ISERROR((#REF!-#REF!)/#REF!),0,(#REF!-#REF!)/#REF!)","v":0},{"$f":"IF(ISERROR((#REF!-#REF!)/#REF!),0,(#REF!-#REF!)/#REF!)","v":0},{"$f":"IF(ISERROR((#REF!-#REF!)/#REF!),0,(#REF!-#REF!)/#REF!)","v":0},{"$f":"IF(ISERROR((#REF!-#REF!)/#REF!),0,(#REF!-#REF!)/#REF!)","v":0}]
[null,"FZ71C","Endoscopic Insertion of Luminal Stent into GI Tract, with length of stay 1 day or less",0,790,0,0,5,833,5,209,"No","-",0,"","",{"$f":"IF(ISERROR((#REF!-#REF!)/#REF!),0,(#REF!-#REF!)/#REF!)","v":0},{"$f":"IF(ISERROR((#REF!-#REF!)/#REF!),0,(#REF!-#REF!)/#REF!)","v":0},{"$f":"IF(ISERROR((#REF!-#REF!)/#REF!),0,(#REF!-#REF!)/#REF!)","v":0},{"$f":"IF(ISERROR((#REF!-#REF!)/#REF!),0,(#REF!-#REF!)/#REF!)","v":0},{"$f":"IF(ISERROR((#REF!-#REF!)/#REF!),0,(#REF!-#REF!)/#REF!)","v":0},{"$f":"IF(ISERROR((#REF!-#REF!)/#REF!),0,(#REF!-#REF!)/#REF!)","v":0},{"$f":"IF(ISERROR((#REF!-#REF!)/#REF!),0,(#REF!-#REF!)/#REF!)","v":0},{"$f":"IF(ISERROR((#REF!-#REF!)/#REF!),0,(#REF!-#REF!)/#REF!)","v":0},{"$f":"IF(ISERROR((#REF!-#REF!)/#REF!),0,(#REF!-#REF!)/#REF!)","v":0},{"$f":"IF(ISERROR((#REF!-#REF!)/#REF!),0,(#REF!-#REF!)/#REF!)","v":0},{"$f":"IF(ISERROR((#REF!-#REF!)/#REF!),0,(#REF!-#REF!)/#REF!)","v":0},{"$f":"IF(ISERROR((#REF!-#REF!)/#REF!),0,(#REF!-#REF!)/#REF!)","v":0},{"$f":"IF(ISERROR((#REF!-#REF!)/#REF!),0,(#REF!-#REF!)/#REF!)","v":0}]
[null,"FZ72Z","Insertion of Spinal Cord Stimulator for Treatment of Faecal Incontinence",0,1465,0,0,5,1465,5,209,"No","-",0,"","",{"$f":"IF(ISERROR((#REF!-#REF!)/#REF!),0,(#REF!-#REF!)/#REF!)","v":0},{"$f":"IF(ISERROR((#REF!-#REF!)/#REF!),0,(#REF!-#REF!)/#REF!)","v":0},{"$f":"IF(ISERROR((#REF!-#REF!)/#REF!),0,(#REF!-#REF!)/#REF!)","v":0},{"$f":"IF(ISERROR((#REF!-#REF!)/#REF!),0,(#REF!-#REF!)/#REF!)","v":0},{"$f":"IF(ISERROR((#REF!-#REF!)/#REF!),0,(#REF!-#REF!)/#REF!)","v":0},{"$f":"IF(ISERROR((#REF!-#REF!)/#REF!),0,(#REF!-#REF!)/#REF!)","v":0},{"$f":"IF(ISERROR((#REF!-#REF!)/#REF!),0,(#REF!-#REF!)/#REF!)","v":0},{"$f":"IF(ISERROR((#REF!-#REF!)/#REF!),0,(#REF!-#REF!)/#REF!)","v":0},{"$f":"IF(ISERROR((#REF!-#REF!)/#REF!),0,(#REF!-#REF!)/#REF!)","v":0},{"$f":"IF(ISERROR((#REF!-#REF!)/#REF!),0,(#REF!-#REF!)/#REF!)","v":0},{"$f":"IF(ISERROR((#REF!-#REF!)/#REF!),0,(#REF!-#REF!)/#REF!)","v":0},{"$f":"IF(ISERROR((#REF!-#REF!)/#REF!),0,(#REF!-#REF!)/#REF!)","v":0},{"$f":"IF(ISERROR((#REF!-#REF!)/#REF!),0,(#REF!-#REF!)/#REF!)","v":0}]
[null,"FZ73A","Very Complex Large Intestine Procedures with Major CC",0,11339,0,0,66,12279,94,209,"No","-",0,"","",{"$f":"IF(ISERROR((#REF!-#REF!)/#REF!),0,(#REF!-#REF!)/#REF!)","v":0},{"$f":"IF(ISERROR((#REF!-#REF!)/#REF!),0,(#REF!-#REF!)/#REF!)","v":0},{"$f":"IF(ISERROR((#REF!-#REF!)/#REF!),0,(#REF!-#REF!)/#REF!)","v":0},{"$f":"IF(ISERROR((#REF!-#REF!)/#REF!),0,(#REF!-#REF!)/#REF!)","v":0},{"$f":"IF(ISERROR((#REF!-#REF!)/#REF!),0,(#REF!-#REF!)/#REF!)","v":0},{"$f":"IF(ISERROR((#REF!-#REF!)/#REF!),0,(#REF!-#REF!)/#REF!)","v":0},{"$f":"IF(ISERROR((#REF!-#REF!)/#REF!),0,(#REF!-#REF!)/#REF!)","v":0},{"$f":"IF(ISERROR((#REF!-#REF!)/#REF!),0,(#REF!-#REF!)/#REF!)","v":0},{"$f":"IF(ISERROR((#REF!-#REF!)/#REF!),0,(#REF!-#REF!)/#REF!)","v":0},{"$f":"IF(ISERROR((#REF!-#REF!)/#REF!),0,(#REF!-#REF!)/#REF!)","v":0},{"$f":"IF(ISERROR((#REF!-#REF!)/#REF!),0,(#REF!-#REF!)/#REF!)","v":0},{"$f":"IF(ISERROR((#REF!-#REF!)/#REF!),0,(#REF!-#REF!)/#REF!)","v":0},{"$f":"IF(ISERROR((#REF!-#REF!)/#REF!),0,(#REF!-#REF!)/#REF!)","v":0}]
[null,"FZ73B","Very Complex Large Intestine Procedures without Major CC",0,6893,0,0,24,7632,38,209,"No","-",0,"","",{"$f":"IF(ISERROR((#REF!-#REF!)/#REF!),0,(#REF!-#REF!)/#REF!)","v":0},{"$f":"IF(ISERROR((#REF!-#REF!)/#REF!),0,(#REF!-#REF!)/#REF!)","v":0},{"$f":"IF(ISERROR((#REF!-#REF!)/#REF!),0,(#REF!-#REF!)/#REF!)","v":0},{"$f":"IF(ISERROR((#REF!-#REF!)/#REF!),0,(#REF!-#REF!)/#REF!)","v":0},{"$f":"IF(ISERROR((#REF!-#REF!)/#REF!),0,(#REF!-#REF!)/#REF!)","v":0},{"$f":"IF(ISERROR((#REF!-#REF!)/#REF!),0,(#REF!-#REF!)/#REF!)","v":0},{"$f":"IF(ISERROR((#REF!-#REF!)/#REF!),0,(#REF!-#REF!)/#REF!)","v":0},{"$f":"IF(ISERROR((#REF!-#REF!)/#REF!),0,(#REF!-#REF!)/#REF!)","v":0},{"$f":"IF(ISERROR((#REF!-#REF!)/#REF!),0,(#REF!-#REF!)/#REF!)","v":0},{"$f":"IF(ISERROR((#REF!-#REF!)/#REF!),0,(#REF!-#REF!)/#REF!)","v":0},{"$f":"IF(ISERROR((#REF!-#REF!)/#REF!),0,(#REF!-#REF!)/#REF!)","v":0},{"$f":"IF(ISERROR((#REF!-#REF!)/#REF!),0,(#REF!-#REF!)/#REF!)","v":0},{"$f":"IF(ISERROR((#REF!-#REF!)/#REF!),0,(#REF!-#REF!)/#REF!)","v":0}]
[null,"FZ74A","Complex Large Intestine Procedures, 19 years and over with Major CC",0,7719,0,0,37,15963.062878321844,62,209,"No","-",0,"","",{"$f":"IF(ISERROR((#REF!-#REF!)/#REF!),0,(#REF!-#REF!)/#REF!)","v":0},{"$f":"IF(ISERROR((#REF!-#REF!)/#REF!),0,(#REF!-#REF!)/#REF!)","v":0},{"$f":"IF(ISERROR((#REF!-#REF!)/#REF!),0,(#REF!-#REF!)/#REF!)","v":0},{"$f":"IF(ISERROR((#REF!-#REF!)/#REF!),0,(#REF!-#REF!)/#REF!)","v":0},{"$f":"IF(ISERROR((#REF!-#REF!)/#REF!),0,(#REF!-#REF!)/#REF!)","v":0},{"$f":"IF(ISERROR((#REF!-#REF!)/#REF!),0,(#REF!-#REF!)/#REF!)","v":0},{"$f":"IF(ISERROR((#REF!-#REF!)/#REF!),0,(#REF!-#REF!)/#REF!)","v":0},{"$f":"IF(ISERROR((#REF!-#REF!)/#REF!),0,(#REF!-#REF!)/#REF!)","v":0},{"$f":"IF(ISERROR((#REF!-#REF!)/#REF!),0,(#REF!-#REF!)/#REF!)","v":0},{"$f":"IF(ISERROR((#REF!-#REF!)/#REF!),0,(#REF!-#REF!)/#REF!)","v":0},{"$f":"IF(ISERROR((#REF!-#REF!)/#REF!),0,(#REF!-#REF!)/#REF!)","v":0},{"$f":"IF(ISERROR((#REF!-#REF!)/#REF!),0,(#REF!-#REF!)/#REF!)","v":0},{"$f":"IF(ISERROR((#REF!-#REF!)/#REF!),0,(#REF!-#REF!)/#REF!)","v":0}]
[null,"FZ74B","Complex Large Intestine Procedures, 19 years and over without Major CC",0,5385,0,0,15,8327.000360395914,33,209,"No","-",0,"","",{"$f":"IF(ISERROR((#REF!-#REF!)/#REF!),0,(#REF!-#REF!)/#REF!)","v":0},{"$f":"IF(ISERROR((#REF!-#REF!)/#REF!),0,(#REF!-#REF!)/#REF!)","v":0},{"$f":"IF(ISERROR((#REF!-#REF!)/#REF!),0,(#REF!-#REF!)/#REF!)","v":0},{"$f":"IF(ISERROR((#REF!-#REF!)/#REF!),0,(#REF!-#REF!)/#REF!)","v":0},{"$f":"IF(ISERROR((#REF!-#REF!)/#REF!),0,(#REF!-#REF!)/#REF!)","v":0},{"$f":"IF(ISERROR((#REF!-#REF!)/#REF!),0,(#REF!-#REF!)/#REF!)","v":0},{"$f":"IF(ISERROR((#REF!-#REF!)/#REF!),0,(#REF!-#REF!)/#REF!)","v":0},{"$f":"IF(ISERROR((#REF!-#REF!)/#REF!),0,(#REF!-#REF!)/#REF!)","v":0},{"$f":"IF(ISERROR((#REF!-#REF!)/#REF!),0,(#REF!-#REF!)/#REF!)","v":0},{"$f":"IF(ISERROR((#REF!-#REF!)/#REF!),0,(#REF!-#REF!)/#REF!)","v":0},{"$f":"IF(ISERROR((#REF!-#REF!)/#REF!),0,(#REF!-#REF!)/#REF!)","v":0},{"$f":"IF(ISERROR((#REF!-#REF!)/#REF!),0,(#REF!-#REF!)/#REF!)","v":0},{"$f":"IF(ISERROR((#REF!-#REF!)/#REF!),0,(#REF!-#REF!)/#REF!)","v":0}]
[null,"FZ75A","Proximal Colon Procedures, 19 years and over with Major CC",0,5760,0,0,24,11521.017347233184,47,209,"No","-",0,"","",{"$f":"IF(ISERROR((#REF!-#REF!)/#REF!),0,(#REF!-#REF!)/#REF!)","v":0},{"$f":"IF(ISERROR((#REF!-#REF!)/#REF!),0,(#REF!-#REF!)/#REF!)","v":0},{"$f":"IF(ISERROR((#REF!-#REF!)/#REF!),0,(#REF!-#REF!)/#REF!)","v":0},{"$f":"IF(ISERROR((#REF!-#REF!)/#REF!),0,(#REF!-#REF!)/#REF!)","v":0},{"$f":"IF(ISERROR((#REF!-#REF!)/#REF!),0,(#REF!-#REF!)/#REF!)","v":0},{"$f":"IF(ISERROR((#REF!-#REF!)/#REF!),0,(#REF!-#REF!)/#REF!)","v":0},{"$f":"IF(ISERROR((#REF!-#REF!)/#REF!),0,(#REF!-#REF!)/#REF!)","v":0},{"$f":"IF(ISERROR((#REF!-#REF!)/#REF!),0,(#REF!-#REF!)/#REF!)","v":0},{"$f":"IF(ISERROR((#REF!-#REF!)/#REF!),0,(#REF!-#REF!)/#REF!)","v":0},{"$f":"IF(ISERROR((#REF!-#REF!)/#REF!),0,(#REF!-#REF!)/#REF!)","v":0},{"$f":"IF(ISERROR((#REF!-#REF!)/#REF!),0,(#REF!-#REF!)/#REF!)","v":0},{"$f":"IF(ISERROR((#REF!-#REF!)/#REF!),0,(#REF!-#REF!)/#REF!)","v":0},{"$f":"IF(ISERROR((#REF!-#REF!)/#REF!),0,(#REF!-#REF!)/#REF!)","v":0}]
[null,"FZ75B","Proximal Colon Procedures, 19 years and over without Major CC",0,4449,0,0,14,7716.8843547136985,22,209,"No","-",0,"","",{"$f":"IF(ISERROR((#REF!-#REF!)/#REF!),0,(#REF!-#REF!)/#REF!)","v":0},{"$f":"IF(ISERROR((#REF!-#REF!)/#REF!),0,(#REF!-#REF!)/#REF!)","v":0},{"$f":"IF(ISERROR((#REF!-#REF!)/#REF!),0,(#REF!-#REF!)/#REF!)","v":0},{"$f":"IF(ISERROR((#REF!-#REF!)/#REF!),0,(#REF!-#REF!)/#REF!)","v":0},{"$f":"IF(ISERROR((#REF!-#REF!)/#REF!),0,(#REF!-#REF!)/#REF!)","v":0},{"$f":"IF(ISERROR((#REF!-#REF!)/#REF!),0,(#REF!-#REF!)/#REF!)","v":0},{"$f":"IF(ISERROR((#REF!-#REF!)/#REF!),0,(#REF!-#REF!)/#REF!)","v":0},{"$f":"IF(ISERROR((#REF!-#REF!)/#REF!),0,(#REF!-#REF!)/#REF!)","v":0},{"$f":"IF(ISERROR((#REF!-#REF!)/#REF!),0,(#REF!-#REF!)/#REF!)","v":0},{"$f":"IF(ISERROR((#REF!-#REF!)/#REF!),0,(#REF!-#REF!)/#REF!)","v":0},{"$f":"IF(ISERROR((#REF!-#REF!)/#REF!),0,(#REF!-#REF!)/#REF!)","v":0},{"$f":"IF(ISERROR((#REF!-#REF!)/#REF!),0,(#REF!-#REF!)/#REF!)","v":0},{"$f":"IF(ISERROR((#REF!-#REF!)/#REF!),0,(#REF!-#REF!)/#REF!)","v":0}]
[null,"FZ76A","Distal Colon Procedures, 19 years and over with Major CC",0,5786,0,0,23,9622.5842546883123,48,209,"No","-",0,"","",{"$f":"IF(ISERROR((#REF!-#REF!)/#REF!),0,(#REF!-#REF!)/#REF!)","v":0},{"$f":"IF(ISERROR((#REF!-#REF!)/#REF!),0,(#REF!-#REF!)/#REF!)","v":0},{"$f":"IF(ISERROR((#REF!-#REF!)/#REF!),0,(#REF!-#REF!)/#REF!)","v":0},{"$f":"IF(ISERROR((#REF!-#REF!)/#REF!),0,(#REF!-#REF!)/#REF!)","v":0},{"$f":"IF(ISERROR((#REF!-#REF!)/#REF!),0,(#REF!-#REF!)/#REF!)","v":0},{"$f":"IF(ISERROR((#REF!-#REF!)/#REF!),0,(#REF!-#REF!)/#REF!)","v":0},{"$f":"IF(ISERROR((#REF!-#REF!)/#REF!),0,(#REF!-#REF!)/#REF!)","v":0},{"$f":"IF(ISERROR((#REF!-#REF!)/#REF!),0,(#REF!-#REF!)/#REF!)","v":0},{"$f":"IF(ISERROR((#REF!-#REF!)/#REF!),0,(#REF!-#REF!)/#REF!)","v":0},{"$f":"IF(ISERROR((#REF!-#REF!)/#REF!),0,(#REF!-#REF!)/#REF!)","v":0},{"$f":"IF(ISERROR((#REF!-#REF!)/#REF!),0,(#REF!-#REF!)/#REF!)","v":0},{"$f":"IF(ISERROR((#REF!-#REF!)/#REF!),0,(#REF!-#REF!)/#REF!)","v":0},{"$f":"IF(ISERROR((#REF!-#REF!)/#REF!),0,(#REF!-#REF!)/#REF!)","v":0}]
[null,"FZ76B","Distal Colon Procedures, 19 years and over without Major CC",0,4177,0,0,13,8447.2529891962022,25,209,"No","-",0,"","",{"$f":"IF(ISERROR((#REF!-#REF!)/#REF!),0,(#REF!-#REF!)/#REF!)","v":0},{"$f":"IF(ISERROR((#REF!-#REF!)/#REF!),0,(#REF!-#REF!)/#REF!)","v":0},{"$f":"IF(ISERROR((#REF!-#REF!)/#REF!),0,(#REF!-#REF!)/#REF!)","v":0},{"$f":"IF(ISERROR((#REF!-#REF!)/#REF!),0,(#REF!-#REF!)/#REF!)","v":0},{"$f":"IF(ISERROR((#REF!-#REF!)/#REF!),0,(#REF!-#REF!)/#REF!)","v":0},{"$f":"IF(ISERROR((#REF!-#REF!)/#REF!),0,(#REF!-#REF!)/#REF!)","v":0},{"$f":"IF(ISERROR((#REF!-#REF!)/#REF!),0,(#REF!-#REF!)/#REF!)","v":0},{"$f":"IF(ISERROR((#REF!-#REF!)/#REF!),0,(#REF!-#REF!)/#REF!)","v":0},{"$f":"IF(ISERROR((#REF!-#REF!)/#REF!),0,(#REF!-#REF!)/#REF!)","v":0},{"$f":"IF(ISERROR((#REF!-#REF!)/#REF!),0,(#REF!-#REF!)/#REF!)","v":0},{"$f":"IF(ISERROR((#REF!-#REF!)/#REF!),0,(#REF!-#REF!)/#REF!)","v":0},{"$f":"IF(ISERROR((#REF!-#REF!)/#REF!),0,(#REF!-#REF!)/#REF!)","v":0},{"$f":"IF(ISERROR((#REF!-#REF!)/#REF!),0,(#REF!-#REF!)/#REF!)","v":0}]
[null,"FZ77A","Major Large Intestine Procedures, 19 years and over with Major CC",0,4029,0,0,17,6713.7458808804649,47,209,"No","-",0,"","",{"$f":"IF(ISERROR((#REF!-#REF!)/#REF!),0,(#REF!-#REF!)/#REF!)","v":0},{"$f":"IF(ISERROR((#REF!-#REF!)/#REF!),0,(#REF!-#REF!)/#REF!)","v":0},{"$f":"IF(ISERROR((#REF!-#REF!)/#REF!),0,(#REF!-#REF!)/#REF!)","v":0},{"$f":"IF(ISERROR((#REF!-#REF!)/#REF!),0,(#REF!-#REF!)/#REF!)","v":0},{"$f":"IF(ISERROR((#REF!-#REF!)/#REF!),0,(#REF!-#REF!)/#REF!)","v":0},{"$f":"IF(ISERROR((#REF!-#REF!)/#REF!),0,(#REF!-#REF!)/#REF!)","v":0},{"$f":"IF(ISERROR((#REF!-#REF!)/#REF!),0,(#REF!-#REF!)/#REF!)","v":0},{"$f":"IF(ISERROR((#REF!-#REF!)/#REF!),0,(#REF!-#REF!)/#REF!)","v":0},{"$f":"IF(ISERROR((#REF!-#REF!)/#REF!),0,(#REF!-#REF!)/#REF!)","v":0},{"$f":"IF(ISERROR((#REF!-#REF!)/#REF!),0,(#REF!-#REF!)/#REF!)","v":0},{"$f":"IF(ISERROR((#REF!-#REF!)/#REF!),0,(#REF!-#REF!)/#REF!)","v":0},{"$f":"IF(ISERROR((#REF!-#REF!)/#REF!),0,(#REF!-#REF!)/#REF!)","v":0},{"$f":"IF(ISERROR((#REF!-#REF!)/#REF!),0,(#REF!-#REF!)/#REF!)","v":0}]
[null,"FZ77B","Major Large Intestine Procedures, 19 years and over without Major CC",0,2595,0,0,9,5119.6728591478841,26,209,"No","-",0,"","",{"$f":"IF(ISERROR((#REF!-#REF!)/#REF!),0,(#REF!-#REF!)/#REF!)","v":0},{"$f":"IF(ISERROR((#REF!-#REF!)/#REF!),0,(#REF!-#REF!)/#REF!)","v":0},{"$f":"IF(ISERROR((#REF!-#REF!)/#REF!),0,(#REF!-#REF!)/#REF!)","v":0},{"$f":"IF(ISERROR((#REF!-#REF!)/#REF!),0,(#REF!-#REF!)/#REF!)","v":0},{"$f":"IF(ISERROR((#REF!-#REF!)/#REF!),0,(#REF!-#REF!)/#REF!)","v":0},{"$f":"IF(ISERROR((#REF!-#REF!)/#REF!),0,(#REF!-#REF!)/#REF!)","v":0},{"$f":"IF(ISERROR((#REF!-#REF!)/#REF!),0,(#REF!-#REF!)/#REF!)","v":0},{"$f":"IF(ISERROR((#REF!-#REF!)/#REF!),0,(#REF!-#REF!)/#REF!)","v":0},{"$f":"IF(ISERROR((#REF!-#REF!)/#REF!),0,(#REF!-#REF!)/#REF!)","v":0},{"$f":"IF(ISERROR((#REF!-#REF!)/#REF!),0,(#REF!-#REF!)/#REF!)","v":0},{"$f":"IF(ISERROR((#REF!-#REF!)/#REF!),0,(#REF!-#REF!)/#REF!)","v":0},{"$f":"IF(ISERROR((#REF!-#REF!)/#REF!),0,(#REF!-#REF!)/#REF!)","v":0},{"$f":"IF(ISERROR((#REF!-#REF!)/#REF!),0,(#REF!-#REF!)/#REF!)","v":0}]
[null,"FZ78A","Complex or Major Large Intestine Procedures, between 2 and 18 years with CC",0,6660,0,0,18,9587,51,268,"No","-",0,"","",{"$f":"IF(ISERROR((#REF!-#REF!)/#REF!),0,(#REF!-#REF!)/#REF!)","v":0},{"$f":"IF(ISERROR((#REF!-#REF!)/#REF!),0,(#REF!-#REF!)/#REF!)","v":0},{"$f":"IF(ISERROR((#REF!-#REF!)/#REF!),0,(#REF!-#REF!)/#REF!)","v":0},{"$f":"IF(ISERROR((#REF!-#REF!)/#REF!),0,(#REF!-#REF!)/#REF!)","v":0},{"$f":"IF(ISERROR((#REF!-#REF!)/#REF!),0,(#REF!-#REF!)/#REF!)","v":0},{"$f":"IF(ISERROR((#REF!-#REF!)/#REF!),0,(#REF!-#REF!)/#REF!)","v":0},{"$f":"IF(ISERROR((#REF!-#REF!)/#REF!),0,(#REF!-#REF!)/#REF!)","v":0},{"$f":"IF(ISERROR((#REF!-#REF!)/#REF!),0,(#REF!-#REF!)/#REF!)","v":0},{"$f":"IF(ISERROR((#REF!-#REF!)/#REF!),0,(#REF!-#REF!)/#REF!)","v":0},{"$f":"IF(ISERROR((#REF!-#REF!)/#REF!),0,(#REF!-#REF!)/#REF!)","v":0},{"$f":"IF(ISERROR((#REF!-#REF!)/#REF!),0,(#REF!-#REF!)/#REF!)","v":0},{"$f":"IF(ISERROR((#REF!-#REF!)/#REF!),0,(#REF!-#REF!)/#REF!)","v":0},{"$f":"IF(ISERROR((#REF!-#REF!)/#REF!),0,(#REF!-#REF!)/#REF!)","v":0}]
[null,"FZ78B","Complex or Major Large Intestine Procedures, between 2 and 18 years without CC",0,4605,0,0,13,5416,22,268,"No","-",0,"","",{"$f":"IF(ISERROR((#REF!-#REF!)/#REF!),0,(#REF!-#REF!)/#REF!)","v":0},{"$f":"IF(ISERROR((#REF!-#REF!)/#REF!),0,(#REF!-#REF!)/#REF!)","v":0},{"$f":"IF(ISERROR((#REF!-#REF!)/#REF!),0,(#REF!-#REF!)/#REF!)","v":0},{"$f":"IF(ISERROR((#REF!-#REF!)/#REF!),0,(#REF!-#REF!)/#REF!)","v":0},{"$f":"IF(ISERROR((#REF!-#REF!)/#REF!),0,(#REF!-#REF!)/#REF!)","v":0},{"$f":"IF(ISERROR((#REF!-#REF!)/#REF!),0,(#REF!-#REF!)/#REF!)","v":0},{"$f":"IF(ISERROR((#REF!-#REF!)/#REF!),0,(#REF!-#REF!)/#REF!)","v":0},{"$f":"IF(ISERROR((#REF!-#REF!)/#REF!),0,(#REF!-#REF!)/#REF!)","v":0},{"$f":"IF(ISERROR((#REF!-#REF!)/#REF!),0,(#REF!-#REF!)/#REF!)","v":0},{"$f":"IF(ISERROR((#REF!-#REF!)/#REF!),0,(#REF!-#REF!)/#REF!)","v":0},{"$f":"IF(ISERROR((#REF!-#REF!)/#REF!),0,(#REF!-#REF!)/#REF!)","v":0},{"$f":"IF(ISERROR((#REF!-#REF!)/#REF!),0,(#REF!-#REF!)/#REF!)","v":0},{"$f":"IF(ISERROR((#REF!-#REF!)/#REF!),0,(#REF!-#REF!)/#REF!)","v":0}]
[null,"FZ78C","Complex or Major Large Intestine Procedures, 1 year and under with CC",0,6442,0,0,13,12110,83,268,"No","-",0,"","",{"$f":"IF(ISERROR((#REF!-#REF!)/#REF!),0,(#REF!-#REF!)/#REF!)","v":0},{"$f":"IF(ISERROR((#REF!-#REF!)/#REF!),0,(#REF!-#REF!)/#REF!)","v":0},{"$f":"IF(ISERROR((#REF!-#REF!)/#REF!),0,(#REF!-#REF!)/#REF!)","v":0},{"$f":"IF(ISERROR((#REF!-#REF!)/#REF!),0,(#REF!-#REF!)/#REF!)","v":0},{"$f":"IF(ISERROR((#REF!-#REF!)/#REF!),0,(#REF!-#REF!)/#REF!)","v":0},{"$f":"IF(ISERROR((#REF!-#REF!)/#REF!),0,(#REF!-#REF!)/#REF!)","v":0},{"$f":"IF(ISERROR((#REF!-#REF!)/#REF!),0,(#REF!-#REF!)/#REF!)","v":0},{"$f":"IF(ISERROR((#REF!-#REF!)/#REF!),0,(#REF!-#REF!)/#REF!)","v":0},{"$f":"IF(ISERROR((#REF!-#REF!)/#REF!),0,(#REF!-#REF!)/#REF!)","v":0},{"$f":"IF(ISERROR((#REF!-#REF!)/#REF!),0,(#REF!-#REF!)/#REF!)","v":0},{"$f":"IF(ISERROR((#REF!-#REF!)/#REF!),0,(#REF!-#REF!)/#REF!)","v":0},{"$f":"IF(ISERROR((#REF!-#REF!)/#REF!),0,(#REF!-#REF!)/#REF!)","v":0},{"$f":"IF(ISERROR((#REF!-#REF!)/#REF!),0,(#REF!-#REF!)/#REF!)","v":0}]
[null,"FZ78D","Complex or Major Large Intestine Procedures, 1 year and under without CC",0,4246,0,0,11,5442,23,268,"No","-",0,"","",{"$f":"IF(ISERROR((#REF!-#REF!)/#REF!),0,(#REF!-#REF!)/#REF!)","v":0},{"$f":"IF(ISERROR((#REF!-#REF!)/#REF!),0,(#REF!-#REF!)/#REF!)","v":0},{"$f":"IF(ISERROR((#REF!-#REF!)/#REF!),0,(#REF!-#REF!)/#REF!)","v":0},{"$f":"IF(ISERROR((#REF!-#REF!)/#REF!),0,(#REF!-#REF!)/#REF!)","v":0},{"$f":"IF(ISERROR((#REF!-#REF!)/#REF!),0,(#REF!-#REF!)/#REF!)","v":0},{"$f":"IF(ISERROR((#REF!-#REF!)/#REF!),0,(#REF!-#REF!)/#REF!)","v":0},{"$f":"IF(ISERROR((#REF!-#REF!)/#REF!),0,(#REF!-#REF!)/#REF!)","v":0},{"$f":"IF(ISERROR((#REF!-#REF!)/#REF!),0,(#REF!-#REF!)/#REF!)","v":0},{"$f":"IF(ISERROR((#REF!-#REF!)/#REF!),0,(#REF!-#REF!)/#REF!)","v":0},{"$f":"IF(ISERROR((#REF!-#REF!)/#REF!),0,(#REF!-#REF!)/#REF!)","v":0},{"$f":"IF(ISERROR((#REF!-#REF!)/#REF!),0,(#REF!-#REF!)/#REF!)","v":0},{"$f":"IF(ISERROR((#REF!-#REF!)/#REF!),0,(#REF!-#REF!)/#REF!)","v":0},{"$f":"IF(ISERROR((#REF!-#REF!)/#REF!),0,(#REF!-#REF!)/#REF!)","v":0}]
[null,"FZ79A","Complex General Abdominal Procedures with Major CC",0,10078,0,0,67,10356,79,209,"No","-",0,"","",{"$f":"IF(ISERROR((#REF!-#REF!)/#REF!),0,(#REF!-#REF!)/#REF!)","v":0},{"$f":"IF(ISERROR((#REF!-#REF!)/#REF!),0,(#REF!-#REF!)/#REF!)","v":0},{"$f":"IF(ISERROR((#REF!-#REF!)/#REF!),0,(#REF!-#REF!)/#REF!)","v":0},{"$f":"IF(ISERROR((#REF!-#REF!)/#REF!),0,(#REF!-#REF!)/#REF!)","v":0},{"$f":"IF(ISERROR((#REF!-#REF!)/#REF!),0,(#REF!-#REF!)/#REF!)","v":0},{"$f":"IF(ISERROR((#REF!-#REF!)/#REF!),0,(#REF!-#REF!)/#REF!)","v":0},{"$f":"IF(ISERROR((#REF!-#REF!)/#REF!),0,(#REF!-#REF!)/#REF!)","v":0},{"$f":"IF(ISERROR((#REF!-#REF!)/#REF!),0,(#REF!-#REF!)/#REF!)","v":0},{"$f":"IF(ISERROR((#REF!-#REF!)/#REF!),0,(#REF!-#REF!)/#REF!)","v":0},{"$f":"IF(ISERROR((#REF!-#REF!)/#REF!),0,(#REF!-#REF!)/#REF!)","v":0},{"$f":"IF(ISERROR((#REF!-#REF!)/#REF!),0,(#REF!-#REF!)/#REF!)","v":0},{"$f":"IF(ISERROR((#REF!-#REF!)/#REF!),0,(#REF!-#REF!)/#REF!)","v":0},{"$f":"IF(ISERROR((#REF!-#REF!)/#REF!),0,(#REF!-#REF!)/#REF!)","v":0}]
[null,"FZ79B","Complex General Abdominal Procedures without Major CC",0,4367,0,0,12,6069,42,209,"No","-",0,"","",{"$f":"IF(ISERROR((#REF!-#REF!)/#REF!),0,(#REF!-#REF!)/#REF!)","v":0},{"$f":"IF(ISERROR((#REF!-#REF!)/#REF!),0,(#REF!-#REF!)/#REF!)","v":0},{"$f":"IF(ISERROR((#REF!-#REF!)/#REF!),0,(#REF!-#REF!)/#REF!)","v":0},{"$f":"IF(ISERROR((#REF!-#REF!)/#REF!),0,(#REF!-#REF!)/#REF!)","v":0},{"$f":"IF(ISERROR((#REF!-#REF!)/#REF!),0,(#REF!-#REF!)/#REF!)","v":0},{"$f":"IF(ISERROR((#REF!-#REF!)/#REF!),0,(#REF!-#REF!)/#REF!)","v":0},{"$f":"IF(ISERROR((#REF!-#REF!)/#REF!),0,(#REF!-#REF!)/#REF!)","v":0},{"$f":"IF(ISERROR((#REF!-#REF!)/#REF!),0,(#REF!-#REF!)/#REF!)","v":0},{"$f":"IF(ISERROR((#REF!-#REF!)/#REF!),0,(#REF!-#REF!)/#REF!)","v":0},{"$f":"IF(ISERROR((#REF!-#REF!)/#REF!),0,(#REF!-#REF!)/#REF!)","v":0},{"$f":"IF(ISERROR((#REF!-#REF!)/#REF!),0,(#REF!-#REF!)/#REF!)","v":0},{"$f":"IF(ISERROR((#REF!-#REF!)/#REF!),0,(#REF!-#REF!)/#REF!)","v":0},{"$f":"IF(ISERROR((#REF!-#REF!)/#REF!),0,(#REF!-#REF!)/#REF!)","v":0}]
[null,"FZ80A","Very Complex Oesophageal, Stomach or Duodenum Procedures, 19 years and over with Major CC",0,12223,0,0,60,12840,101,209,"No","-",0,"","",{"$f":"IF(ISERROR((#REF!-#REF!)/#REF!),0,(#REF!-#REF!)/#REF!)","v":0},{"$f":"IF(ISERROR((#REF!-#REF!)/#REF!),0,(#REF!-#REF!)/#REF!)","v":0},{"$f":"IF(ISERROR((#REF!-#REF!)/#REF!),0,(#REF!-#REF!)/#REF!)","v":0},{"$f":"IF(ISERROR((#REF!-#REF!)/#REF!),0,(#REF!-#REF!)/#REF!)","v":0},{"$f":"IF(ISERROR((#REF!-#REF!)/#REF!),0,(#REF!-#REF!)/#REF!)","v":0},{"$f":"IF(ISERROR((#REF!-#REF!)/#REF!),0,(#REF!-#REF!)/#REF!)","v":0},{"$f":"IF(ISERROR((#REF!-#REF!)/#REF!),0,(#REF!-#REF!)/#REF!)","v":0},{"$f":"IF(ISERROR((#REF!-#REF!)/#REF!),0,(#REF!-#REF!)/#REF!)","v":0},{"$f":"IF(ISERROR((#REF!-#REF!)/#REF!),0,(#REF!-#REF!)/#REF!)","v":0},{"$f":"IF(ISERROR((#REF!-#REF!)/#REF!),0,(#REF!-#REF!)/#REF!)","v":0},{"$f":"IF(ISERROR((#REF!-#REF!)/#REF!),0,(#REF!-#REF!)/#REF!)","v":0},{"$f":"IF(ISERROR((#REF!-#REF!)/#REF!),0,(#REF!-#REF!)/#REF!)","v":0},{"$f":"IF(ISERROR((#REF!-#REF!)/#REF!),0,(#REF!-#REF!)/#REF!)","v":0}]
[null,"FZ80B","Very Complex Oesophageal, Stomach or Duodenum Procedures, 19 years and over without Major CC",0,7881,0,0,23,16306.542635733013,54,209,"No","-",0,"","",{"$f":"IF(ISERROR((#REF!-#REF!)/#REF!),0,(#REF!-#REF!)/#REF!)","v":0},{"$f":"IF(ISERROR((#REF!-#REF!)/#REF!),0,(#REF!-#REF!)/#REF!)","v":0},{"$f":"IF(ISERROR((#REF!-#REF!)/#REF!),0,(#REF!-#REF!)/#REF!)","v":0},{"$f":"IF(ISERROR((#REF!-#REF!)/#REF!),0,(#REF!-#REF!)/#REF!)","v":0},{"$f":"IF(ISERROR((#REF!-#REF!)/#REF!),0,(#REF!-#REF!)/#REF!)","v":0},{"$f":"IF(ISERROR((#REF!-#REF!)/#REF!),0,(#REF!-#REF!)/#REF!)","v":0},{"$f":"IF(ISERROR((#REF!-#REF!)/#REF!),0,(#REF!-#REF!)/#REF!)","v":0},{"$f":"IF(ISERROR((#REF!-#REF!)/#REF!),0,(#REF!-#REF!)/#REF!)","v":0},{"$f":"IF(ISERROR((#REF!-#REF!)/#REF!),0,(#REF!-#REF!)/#REF!)","v":0},{"$f":"IF(ISERROR((#REF!-#REF!)/#REF!),0,(#REF!-#REF!)/#REF!)","v":0},{"$f":"IF(ISERROR((#REF!-#REF!)/#REF!),0,(#REF!-#REF!)/#REF!)","v":0},{"$f":"IF(ISERROR((#REF!-#REF!)/#REF!),0,(#REF!-#REF!)/#REF!)","v":0},{"$f":"IF(ISERROR((#REF!-#REF!)/#REF!),0,(#REF!-#REF!)/#REF!)","v":0}]
[null,"FZ81A","Complex Oesophageal, Stomach or Duodenum Procedures, 19 years and over with Major CC",0,8600,0,0,41,8987,68,209,"No","-",0,"","",{"$f":"IF(ISERROR((#REF!-#REF!)/#REF!),0,(#REF!-#REF!)/#REF!)","v":0},{"$f":"IF(ISERROR((#REF!-#REF!)/#REF!),0,(#REF!-#REF!)/#REF!)","v":0},{"$f":"IF(ISERROR((#REF!-#REF!)/#REF!),0,(#REF!-#REF!)/#REF!)","v":0},{"$f":"IF(ISERROR((#REF!-#REF!)/#REF!),0,(#REF!-#REF!)/#REF!)","v":0},{"$f":"IF(ISERROR((#REF!-#REF!)/#REF!),0,(#REF!-#REF!)/#REF!)","v":0},{"$f":"IF(ISERROR((#REF!-#REF!)/#REF!),0,(#REF!-#REF!)/#REF!)","v":0},{"$f":"IF(ISERROR((#REF!-#REF!)/#REF!),0,(#REF!-#REF!)/#REF!)","v":0},{"$f":"IF(ISERROR((#REF!-#REF!)/#REF!),0,(#REF!-#REF!)/#REF!)","v":0},{"$f":"IF(ISERROR((#REF!-#REF!)/#REF!),0,(#REF!-#REF!)/#REF!)","v":0},{"$f":"IF(ISERROR((#REF!-#REF!)/#REF!),0,(#REF!-#REF!)/#REF!)","v":0},{"$f":"IF(ISERROR((#REF!-#REF!)/#REF!),0,(#REF!-#REF!)/#REF!)","v":0},{"$f":"IF(ISERROR((#REF!-#REF!)/#REF!),0,(#REF!-#REF!)/#REF!)","v":0},{"$f":"IF(ISERROR((#REF!-#REF!)/#REF!),0,(#REF!-#REF!)/#REF!)","v":0}]
[null,"FZ81B","Complex Oesophageal, Stomach or Duodenum Procedures, 19 years and over without Major CC",0,4949,0,0,22,5797,36,209,"No","-",0,"","",{"$f":"IF(ISERROR((#REF!-#REF!)/#REF!),0,(#REF!-#REF!)/#REF!)","v":0},{"$f":"IF(ISERROR((#REF!-#REF!)/#REF!),0,(#REF!-#REF!)/#REF!)","v":0},{"$f":"IF(ISERROR((#REF!-#REF!)/#REF!),0,(#REF!-#REF!)/#REF!)","v":0},{"$f":"IF(ISERROR((#REF!-#REF!)/#REF!),0,(#REF!-#REF!)/#REF!)","v":0},{"$f":"IF(ISERROR((#REF!-#REF!)/#REF!),0,(#REF!-#REF!)/#REF!)","v":0},{"$f":"IF(ISERROR((#REF!-#REF!)/#REF!),0,(#REF!-#REF!)/#REF!)","v":0},{"$f":"IF(ISERROR((#REF!-#REF!)/#REF!),0,(#REF!-#REF!)/#REF!)","v":0},{"$f":"IF(ISERROR((#REF!-#REF!)/#REF!),0,(#REF!-#REF!)/#REF!)","v":0},{"$f":"IF(ISERROR((#REF!-#REF!)/#REF!),0,(#REF!-#REF!)/#REF!)","v":0},{"$f":"IF(ISERROR((#REF!-#REF!)/#REF!),0,(#REF!-#REF!)/#REF!)","v":0},{"$f":"IF(ISERROR((#REF!-#REF!)/#REF!),0,(#REF!-#REF!)/#REF!)","v":0},{"$f":"IF(ISERROR((#REF!-#REF!)/#REF!),0,(#REF!-#REF!)/#REF!)","v":0},{"$f":"IF(ISERROR((#REF!-#REF!)/#REF!),0,(#REF!-#REF!)/#REF!)","v":0}]
[null,"FZ82A","Very Complex or Complex Oesophageal, Stomach or Duodenum Procedures, 18 years and under with CC",0,13733,0,0,45,19200,135,268,"No","-",0,"","",{"$f":"IF(ISERROR((#REF!-#REF!)/#REF!),0,(#REF!-#REF!)/#REF!)","v":0},{"$f":"IF(ISERROR((#REF!-#REF!)/#REF!),0,(#REF!-#REF!)/#REF!)","v":0},{"$f":"IF(ISERROR((#REF!-#REF!)/#REF!),0,(#REF!-#REF!)/#REF!)","v":0},{"$f":"IF(ISERROR((#REF!-#REF!)/#REF!),0,(#REF!-#REF!)/#REF!)","v":0},{"$f":"IF(ISERROR((#REF!-#REF!)/#REF!),0,(#REF!-#REF!)/#REF!)","v":0},{"$f":"IF(ISERROR((#REF!-#REF!)/#REF!),0,(#REF!-#REF!)/#REF!)","v":0},{"$f":"IF(ISERROR((#REF!-#REF!)/#REF!),0,(#REF!-#REF!)/#REF!)","v":0},{"$f":"IF(ISERROR((#REF!-#REF!)/#REF!),0,(#REF!-#REF!)/#REF!)","v":0},{"$f":"IF(ISERROR((#REF!-#REF!)/#REF!),0,(#REF!-#REF!)/#REF!)","v":0},{"$f":"IF(ISERROR((#REF!-#REF!)/#REF!),0,(#REF!-#REF!)/#REF!)","v":0},{"$f":"IF(ISERROR((#REF!-#REF!)/#REF!),0,(#REF!-#REF!)/#REF!)","v":0},{"$f":"IF(ISERROR((#REF!-#REF!)/#REF!),0,(#REF!-#REF!)/#REF!)","v":0},{"$f":"IF(ISERROR((#REF!-#REF!)/#REF!),0,(#REF!-#REF!)/#REF!)","v":0}]
[null,"FZ82B","Very Complex or Complex Oesophageal, Stomach or Duodenum Procedures, 18 years and under without CC",0,4752,0,0,11,8394,41,268,"No","-",0,"","",{"$f":"IF(ISERROR((#REF!-#REF!)/#REF!),0,(#REF!-#REF!)/#REF!)","v":0},{"$f":"IF(ISERROR((#REF!-#REF!)/#REF!),0,(#REF!-#REF!)/#REF!)","v":0},{"$f":"IF(ISERROR((#REF!-#REF!)/#REF!),0,(#REF!-#REF!)/#REF!)","v":0},{"$f":"IF(ISERROR((#REF!-#REF!)/#REF!),0,(#REF!-#REF!)/#REF!)","v":0},{"$f":"IF(ISERROR((#REF!-#REF!)/#REF!),0,(#REF!-#REF!)/#REF!)","v":0},{"$f":"IF(ISERROR((#REF!-#REF!)/#REF!),0,(#REF!-#REF!)/#REF!)","v":0},{"$f":"IF(ISERROR((#REF!-#REF!)/#REF!),0,(#REF!-#REF!)/#REF!)","v":0},{"$f":"IF(ISERROR((#REF!-#REF!)/#REF!),0,(#REF!-#REF!)/#REF!)","v":0},{"$f":"IF(ISERROR((#REF!-#REF!)/#REF!),0,(#REF!-#REF!)/#REF!)","v":0},{"$f":"IF(ISERROR((#REF!-#REF!)/#REF!),0,(#REF!-#REF!)/#REF!)","v":0},{"$f":"IF(ISERROR((#REF!-#REF!)/#REF!),0,(#REF!-#REF!)/#REF!)","v":0},{"$f":"IF(ISERROR((#REF!-#REF!)/#REF!),0,(#REF!-#REF!)/#REF!)","v":0},{"$f":"IF(ISERROR((#REF!-#REF!)/#REF!),0,(#REF!-#REF!)/#REF!)","v":0}]
[null,"FZ83A","Major Oesophageal, Stomach or Duodenum Procedures, 19 years and over with Major CC",0,4276,0,0,17,6320.6822751655627,36,209,"No","-",0,"","",{"$f":"IF(ISERROR((#REF!-#REF!)/#REF!),0,(#REF!-#REF!)/#REF!)","v":0},{"$f":"IF(ISERROR((#REF!-#REF!)/#REF!),0,(#REF!-#REF!)/#REF!)","v":0},{"$f":"IF(ISERROR((#REF!-#REF!)/#REF!),0,(#REF!-#REF!)/#REF!)","v":0},{"$f":"IF(ISERROR((#REF!-#REF!)/#REF!),0,(#REF!-#REF!)/#REF!)","v":0},{"$f":"IF(ISERROR((#REF!-#REF!)/#REF!),0,(#REF!-#REF!)/#REF!)","v":0},{"$f":"IF(ISERROR((#REF!-#REF!)/#REF!),0,(#REF!-#REF!)/#REF!)","v":0},{"$f":"IF(ISERROR((#REF!-#REF!)/#REF!),0,(#REF!-#REF!)/#REF!)","v":0},{"$f":"IF(ISERROR((#REF!-#REF!)/#REF!),0,(#REF!-#REF!)/#REF!)","v":0},{"$f":"IF(ISERROR((#REF!-#REF!)/#REF!),0,(#REF!-#REF!)/#REF!)","v":0},{"$f":"IF(ISERROR((#REF!-#REF!)/#REF!),0,(#REF!-#REF!)/#REF!)","v":0},{"$f":"IF(ISERROR((#REF!-#REF!)/#REF!),0,(#REF!-#REF!)/#REF!)","v":0},{"$f":"IF(ISERROR((#REF!-#REF!)/#REF!),0,(#REF!-#REF!)/#REF!)","v":0},{"$f":"IF(ISERROR((#REF!-#REF!)/#REF!),0,(#REF!-#REF!)/#REF!)","v":0}]
[null,"FZ83B","Major Oesophageal, Stomach or Duodenum Procedures, 19 years and over without Major CC",146,3435.7998025458733,0,0,6,2708,16,209,"No","-",0,"","",{"$f":"IF(ISERROR((#REF!-#REF!)/#REF!),0,(#REF!-#REF!)/#REF!)","v":0},{"$f":"IF(ISERROR((#REF!-#REF!)/#REF!),0,(#REF!-#REF!)/#REF!)","v":0},{"$f":"IF(ISERROR((#REF!-#REF!)/#REF!),0,(#REF!-#REF!)/#REF!)","v":0},{"$f":"IF(ISERROR((#REF!-#REF!)/#REF!),0,(#REF!-#REF!)/#REF!)","v":0},{"$f":"IF(ISERROR((#REF!-#REF!)/#REF!),0,(#REF!-#REF!)/#REF!)","v":0},{"$f":"IF(ISERROR((#REF!-#REF!)/#REF!),0,(#REF!-#REF!)/#REF!)","v":0},{"$f":"IF(ISERROR((#REF!-#REF!)/#REF!),0,(#REF!-#REF!)/#REF!)","v":0},{"$f":"IF(ISERROR((#REF!-#REF!)/#REF!),0,(#REF!-#REF!)/#REF!)","v":0},{"$f":"IF(ISERROR((#REF!-#REF!)/#REF!),0,(#REF!-#REF!)/#REF!)","v":0},{"$f":"IF(ISERROR((#REF!-#REF!)/#REF!),0,(#REF!-#REF!)/#REF!)","v":0},{"$f":"IF(ISERROR((#REF!-#REF!)/#REF!),0,(#REF!-#REF!)/#REF!)","v":0},{"$f":"IF(ISERROR((#REF!-#REF!)/#REF!),0,(#REF!-#REF!)/#REF!)","v":0},{"$f":"IF(ISERROR((#REF!-#REF!)/#REF!),0,(#REF!-#REF!)/#REF!)","v":0}]
[null,"FZ83C","Major Oesophageal, Stomach or Duodenum Procedures, between 2 and 18 years with CC",0,5713,0,0,16,7625,76,268,"No","-",0,"","",{"$f":"IF(ISERROR((#REF!-#REF!)/#REF!),0,(#REF!-#REF!)/#REF!)","v":0},{"$f":"IF(ISERROR((#REF!-#REF!)/#REF!),0,(#REF!-#REF!)/#REF!)","v":0},{"$f":"IF(ISERROR((#REF!-#REF!)/#REF!),0,(#REF!-#REF!)/#REF!)","v":0},{"$f":"IF(ISERROR((#REF!-#REF!)/#REF!),0,(#REF!-#REF!)/#REF!)","v":0},{"$f":"IF(ISERROR((#REF!-#REF!)/#REF!),0,(#REF!-#REF!)/#REF!)","v":0},{"$f":"IF(ISERROR((#REF!-#REF!)/#REF!),0,(#REF!-#REF!)/#REF!)","v":0},{"$f":"IF(ISERROR((#REF!-#REF!)/#REF!),0,(#REF!-#REF!)/#REF!)","v":0},{"$f":"IF(ISERROR((#REF!-#REF!)/#REF!),0,(#REF!-#REF!)/#REF!)","v":0},{"$f":"IF(ISERROR((#REF!-#REF!)/#REF!),0,(#REF!-#REF!)/#REF!)","v":0},{"$f":"IF(ISERROR((#REF!-#REF!)/#REF!),0,(#REF!-#REF!)/#REF!)","v":0},{"$f":"IF(ISERROR((#REF!-#REF!)/#REF!),0,(#REF!-#REF!)/#REF!)","v":0},{"$f":"IF(ISERROR((#REF!-#REF!)/#REF!),0,(#REF!-#REF!)/#REF!)","v":0},{"$f":"IF(ISERROR((#REF!-#REF!)/#REF!),0,(#REF!-#REF!)/#REF!)","v":0}]
[null,"FZ83D","Major Oesophageal, Stomach or Duodenum Procedures, between 2 and 18 years without CC",0,3895,0,0,10,4619,16,268,"No","-",0,"","",{"$f":"IF(ISERROR((#REF!-#REF!)/#REF!),0,(#REF!-#REF!)/#REF!)","v":0},{"$f":"IF(ISERROR((#REF!-#REF!)/#REF!),0,(#REF!-#REF!)/#REF!)","v":0},{"$f":"IF(ISERROR((#REF!-#REF!)/#REF!),0,(#REF!-#REF!)/#REF!)","v":0},{"$f":"IF(ISERROR((#REF!-#REF!)/#REF!),0,(#REF!-#REF!)/#REF!)","v":0},{"$f":"IF(ISERROR((#REF!-#REF!)/#REF!),0,(#REF!-#REF!)/#REF!)","v":0},{"$f":"IF(ISERROR((#REF!-#REF!)/#REF!),0,(#REF!-#REF!)/#REF!)","v":0},{"$f":"IF(ISERROR((#REF!-#REF!)/#REF!),0,(#REF!-#REF!)/#REF!)","v":0},{"$f":"IF(ISERROR((#REF!-#REF!)/#REF!),0,(#REF!-#REF!)/#REF!)","v":0},{"$f":"IF(ISERROR((#REF!-#REF!)/#REF!),0,(#REF!-#REF!)/#REF!)","v":0},{"$f":"IF(ISERROR((#REF!-#REF!)/#REF!),0,(#REF!-#REF!)/#REF!)","v":0},{"$f":"IF(ISERROR((#REF!-#REF!)/#REF!),0,(#REF!-#REF!)/#REF!)","v":0},{"$f":"IF(ISERROR((#REF!-#REF!)/#REF!),0,(#REF!-#REF!)/#REF!)","v":0},{"$f":"IF(ISERROR((#REF!-#REF!)/#REF!),0,(#REF!-#REF!)/#REF!)","v":0}]
[null,"FZ83E","Major Oesophageal, Stomach or Duodenum Procedures, 1 year and under with CC",0,7186,0,0,22,10202,67,268,"No","-",0,"","",{"$f":"IF(ISERROR((#REF!-#REF!)/#REF!),0,(#REF!-#REF!)/#REF!)","v":0},{"$f":"IF(ISERROR((#REF!-#REF!)/#REF!),0,(#REF!-#REF!)/#REF!)","v":0},{"$f":"IF(ISERROR((#REF!-#REF!)/#REF!),0,(#REF!-#REF!)/#REF!)","v":0},{"$f":"IF(ISERROR((#REF!-#REF!)/#REF!),0,(#REF!-#REF!)/#REF!)","v":0},{"$f":"IF(ISERROR((#REF!-#REF!)/#REF!),0,(#REF!-#REF!)/#REF!)","v":0},{"$f":"IF(ISERROR((#REF!-#REF!)/#REF!),0,(#REF!-#REF!)/#REF!)","v":0},{"$f":"IF(ISERROR((#REF!-#REF!)/#REF!),0,(#REF!-#REF!)/#REF!)","v":0},{"$f":"IF(ISERROR((#REF!-#REF!)/#REF!),0,(#REF!-#REF!)/#REF!)","v":0},{"$f":"IF(ISERROR((#REF!-#REF!)/#REF!),0,(#REF!-#REF!)/#REF!)","v":0},{"$f":"IF(ISERROR((#REF!-#REF!)/#REF!),0,(#REF!-#REF!)/#REF!)","v":0},{"$f":"IF(ISERROR((#REF!-#REF!)/#REF!),0,(#REF!-#REF!)/#REF!)","v":0},{"$f":"IF(ISERROR((#REF!-#REF!)/#REF!),0,(#REF!-#REF!)/#REF!)","v":0},{"$f":"IF(ISERROR((#REF!-#REF!)/#REF!),0,(#REF!-#REF!)/#REF!)","v":0}]
[null,"FZ83F","Major Oesophageal, Stomach or Duodenum Procedures, 1 year and under without CC",0,4471,0,0,11,3512,8,268,"No","-",0,"","",{"$f":"IF(ISERROR((#REF!-#REF!)/#REF!),0,(#REF!-#REF!)/#REF!)","v":0},{"$f":"IF(ISERROR((#REF!-#REF!)/#REF!),0,(#REF!-#REF!)/#REF!)","v":0},{"$f":"IF(ISERROR((#REF!-#REF!)/#REF!),0,(#REF!-#REF!)/#REF!)","v":0},{"$f":"IF(ISERROR((#REF!-#REF!)/#REF!),0,(#REF!-#REF!)/#REF!)","v":0},{"$f":"IF(ISERROR((#REF!-#REF!)/#REF!),0,(#REF!-#REF!)/#REF!)","v":0},{"$f":"IF(ISERROR((#REF!-#REF!)/#REF!),0,(#REF!-#REF!)/#REF!)","v":0},{"$f":"IF(ISERROR((#REF!-#REF!)/#REF!),0,(#REF!-#REF!)/#REF!)","v":0},{"$f":"IF(ISERROR((#REF!-#REF!)/#REF!),0,(#REF!-#REF!)/#REF!)","v":0},{"$f":"IF(ISERROR((#REF!-#REF!)/#REF!),0,(#REF!-#REF!)/#REF!)","v":0},{"$f":"IF(ISERROR((#REF!-#REF!)/#REF!),0,(#REF!-#REF!)/#REF!)","v":0},{"$f":"IF(ISERROR((#REF!-#REF!)/#REF!),0,(#REF!-#REF!)/#REF!)","v":0},{"$f":"IF(ISERROR((#REF!-#REF!)/#REF!),0,(#REF!-#REF!)/#REF!)","v":0},{"$f":"IF(ISERROR((#REF!-#REF!)/#REF!),0,(#REF!-#REF!)/#REF!)","v":0}]
[null,"FZ84Z","Stomach Bypass Procedures for Obesity",0,6313,0,0,5,6313,10,209,"No","-",0,"","",{"$f":"IF(ISERROR((#REF!-#REF!)/#REF!),0,(#REF!-#REF!)/#REF!)","v":0},{"$f":"IF(ISERROR((#REF!-#REF!)/#REF!),0,(#REF!-#REF!)/#REF!)","v":0},{"$f":"IF(ISERROR((#REF!-#REF!)/#REF!),0,(#REF!-#REF!)/#REF!)","v":0},{"$f":"IF(ISERROR((#REF!-#REF!)/#REF!),0,(#REF!-#REF!)/#REF!)","v":0},{"$f":"IF(ISERROR((#REF!-#REF!)/#REF!),0,(#REF!-#REF!)/#REF!)","v":0},{"$f":"IF(ISERROR((#REF!-#REF!)/#REF!),0,(#REF!-#REF!)/#REF!)","v":0},{"$f":"IF(ISERROR((#REF!-#REF!)/#REF!),0,(#REF!-#REF!)/#REF!)","v":0},{"$f":"IF(ISERROR((#REF!-#REF!)/#REF!),0,(#REF!-#REF!)/#REF!)","v":0},{"$f":"IF(ISERROR((#REF!-#REF!)/#REF!),0,(#REF!-#REF!)/#REF!)","v":0},{"$f":"IF(ISERROR((#REF!-#REF!)/#REF!),0,(#REF!-#REF!)/#REF!)","v":0},{"$f":"IF(ISERROR((#REF!-#REF!)/#REF!),0,(#REF!-#REF!)/#REF!)","v":0},{"$f":"IF(ISERROR((#REF!-#REF!)/#REF!),0,(#REF!-#REF!)/#REF!)","v":0},{"$f":"IF(ISERROR((#REF!-#REF!)/#REF!),0,(#REF!-#REF!)/#REF!)","v":0}]
[null,"FZ85Z","Restrictive Stomach Procedures for Obesity",0,5025,0,0,5,5025,6,209,"No","-",0,"","",{"$f":"IF(ISERROR((#REF!-#REF!)/#REF!),0,(#REF!-#REF!)/#REF!)","v":0},{"$f":"IF(ISERROR((#REF!-#REF!)/#REF!),0,(#REF!-#REF!)/#REF!)","v":0},{"$f":"IF(ISERROR((#REF!-#REF!)/#REF!),0,(#REF!-#REF!)/#REF!)","v":0},{"$f":"IF(ISERROR((#REF!-#REF!)/#REF!),0,(#REF!-#REF!)/#REF!)","v":0},{"$f":"IF(ISERROR((#REF!-#REF!)/#REF!),0,(#REF!-#REF!)/#REF!)","v":0},{"$f":"IF(ISERROR((#REF!-#REF!)/#REF!),0,(#REF!-#REF!)/#REF!)","v":0},{"$f":"IF(ISERROR((#REF!-#REF!)/#REF!),0,(#REF!-#REF!)/#REF!)","v":0},{"$f":"IF(ISERROR((#REF!-#REF!)/#REF!),0,(#REF!-#REF!)/#REF!)","v":0},{"$f":"IF(ISERROR((#REF!-#REF!)/#REF!),0,(#REF!-#REF!)/#REF!)","v":0},{"$f":"IF(ISERROR((#REF!-#REF!)/#REF!),0,(#REF!-#REF!)/#REF!)","v":0},{"$f":"IF(ISERROR((#REF!-#REF!)/#REF!),0,(#REF!-#REF!)/#REF!)","v":0},{"$f":"IF(ISERROR((#REF!-#REF!)/#REF!),0,(#REF!-#REF!)/#REF!)","v":0},{"$f":"IF(ISERROR((#REF!-#REF!)/#REF!),0,(#REF!-#REF!)/#REF!)","v":0}]
[null,"FZ86Z","Endoscopic Insertion of Gastric Balloon for Obesity",0,1349,0,0,5,2732,16,209,"No","-",0,"","",{"$f":"IF(ISERROR((#REF!-#REF!)/#REF!),0,(#REF!-#REF!)/#REF!)","v":0},{"$f":"IF(ISERROR((#REF!-#REF!)/#REF!),0,(#REF!-#REF!)/#REF!)","v":0},{"$f":"IF(ISERROR((#REF!-#REF!)/#REF!),0,(#REF!-#REF!)/#REF!)","v":0},{"$f":"IF(ISERROR((#REF!-#REF!)/#REF!),0,(#REF!-#REF!)/#REF!)","v":0},{"$f":"IF(ISERROR((#REF!-#REF!)/#REF!),0,(#REF!-#REF!)/#REF!)","v":0},{"$f":"IF(ISERROR((#REF!-#REF!)/#REF!),0,(#REF!-#REF!)/#REF!)","v":0},{"$f":"IF(ISERROR((#REF!-#REF!)/#REF!),0,(#REF!-#REF!)/#REF!)","v":0},{"$f":"IF(ISERROR((#REF!-#REF!)/#REF!),0,(#REF!-#REF!)/#REF!)","v":0},{"$f":"IF(ISERROR((#REF!-#REF!)/#REF!),0,(#REF!-#REF!)/#REF!)","v":0},{"$f":"IF(ISERROR((#REF!-#REF!)/#REF!),0,(#REF!-#REF!)/#REF!)","v":0},{"$f":"IF(ISERROR((#REF!-#REF!)/#REF!),0,(#REF!-#REF!)/#REF!)","v":0},{"$f":"IF(ISERROR((#REF!-#REF!)/#REF!),0,(#REF!-#REF!)/#REF!)","v":0},{"$f":"IF(ISERROR((#REF!-#REF!)/#REF!),0,(#REF!-#REF!)/#REF!)","v":0}]
[null,"FZ87A","Complex Hernia Procedures with Major CC",0,3385,0,0,14,5078,35,209,"No","-",0,"","",{"$f":"IF(ISERROR((#REF!-#REF!)/#REF!),0,(#REF!-#REF!)/#REF!)","v":0},{"$f":"IF(ISERROR((#REF!-#REF!)/#REF!),0,(#REF!-#REF!)/#REF!)","v":0},{"$f":"IF(ISERROR((#REF!-#REF!)/#REF!),0,(#REF!-#REF!)/#REF!)","v":0},{"$f":"IF(ISERROR((#REF!-#REF!)/#REF!),0,(#REF!-#REF!)/#REF!)","v":0},{"$f":"IF(ISERROR((#REF!-#REF!)/#REF!),0,(#REF!-#REF!)/#REF!)","v":0},{"$f":"IF(ISERROR((#REF!-#REF!)/#REF!),0,(#REF!-#REF!)/#REF!)","v":0},{"$f":"IF(ISERROR((#REF!-#REF!)/#REF!),0,(#REF!-#REF!)/#REF!)","v":0},{"$f":"IF(ISERROR((#REF!-#REF!)/#REF!),0,(#REF!-#REF!)/#REF!)","v":0},{"$f":"IF(ISERROR((#REF!-#REF!)/#REF!),0,(#REF!-#REF!)/#REF!)","v":0},{"$f":"IF(ISERROR((#REF!-#REF!)/#REF!),0,(#REF!-#REF!)/#REF!)","v":0},{"$f":"IF(ISERROR((#REF!-#REF!)/#REF!),0,(#REF!-#REF!)/#REF!)","v":0},{"$f":"IF(ISERROR((#REF!-#REF!)/#REF!),0,(#REF!-#REF!)/#REF!)","v":0},{"$f":"IF(ISERROR((#REF!-#REF!)/#REF!),0,(#REF!-#REF!)/#REF!)","v":0}]
[null,"FZ87B","Complex Hernia Procedures with Intermediate CC",0,2643,0,0,10,3340,17,209,"No","-",0,"","",{"$f":"IF(ISERROR((#REF!-#REF!)/#REF!),0,(#REF!-#REF!)/#REF!)","v":0},{"$f":"IF(ISERROR((#REF!-#REF!)/#REF!),0,(#REF!-#REF!)/#REF!)","v":0},{"$f":"IF(ISERROR((#REF!-#REF!)/#REF!),0,(#REF!-#REF!)/#REF!)","v":0},{"$f":"IF(ISERROR((#REF!-#REF!)/#REF!),0,(#REF!-#REF!)/#REF!)","v":0},{"$f":"IF(ISERROR((#REF!-#REF!)/#REF!),0,(#REF!-#REF!)/#REF!)","v":0},{"$f":"IF(ISERROR((#REF!-#REF!)/#REF!),0,(#REF!-#REF!)/#REF!)","v":0},{"$f":"IF(ISERROR((#REF!-#REF!)/#REF!),0,(#REF!-#REF!)/#REF!)","v":0},{"$f":"IF(ISERROR((#REF!-#REF!)/#REF!),0,(#REF!-#REF!)/#REF!)","v":0},{"$f":"IF(ISERROR((#REF!-#REF!)/#REF!),0,(#REF!-#REF!)/#REF!)","v":0},{"$f":"IF(ISERROR((#REF!-#REF!)/#REF!),0,(#REF!-#REF!)/#REF!)","v":0},{"$f":"IF(ISERROR((#REF!-#REF!)/#REF!),0,(#REF!-#REF!)/#REF!)","v":0},{"$f":"IF(ISERROR((#REF!-#REF!)/#REF!),0,(#REF!-#REF!)/#REF!)","v":0},{"$f":"IF(ISERROR((#REF!-#REF!)/#REF!),0,(#REF!-#REF!)/#REF!)","v":0}]
[null,"FZ87C","Complex Hernia Procedures without CC",0,1652,0,0,5,3248,17,209,"No","-",0,"","",{"$f":"IF(ISERROR((#REF!-#REF!)/#REF!),0,(#REF!-#REF!)/#REF!)","v":0},{"$f":"IF(ISERROR((#REF!-#REF!)/#REF!),0,(#REF!-#REF!)/#REF!)","v":0},{"$f":"IF(ISERROR((#REF!-#REF!)/#REF!),0,(#REF!-#REF!)/#REF!)","v":0},{"$f":"IF(ISERROR((#REF!-#REF!)/#REF!),0,(#REF!-#REF!)/#REF!)","v":0},{"$f":"IF(ISERROR((#REF!-#REF!)/#REF!),0,(#REF!-#REF!)/#REF!)","v":0},{"$f":"IF(ISERROR((#REF!-#REF!)/#REF!),0,(#REF!-#REF!)/#REF!)","v":0},{"$f":"IF(ISERROR((#REF!-#REF!)/#REF!),0,(#REF!-#REF!)/#REF!)","v":0},{"$f":"IF(ISERROR((#REF!-#REF!)/#REF!),0,(#REF!-#REF!)/#REF!)","v":0},{"$f":"IF(ISERROR((#REF!-#REF!)/#REF!),0,(#REF!-#REF!)/#REF!)","v":0},{"$f":"IF(ISERROR((#REF!-#REF!)/#REF!),0,(#REF!-#REF!)/#REF!)","v":0},{"$f":"IF(ISERROR((#REF!-#REF!)/#REF!),0,(#REF!-#REF!)/#REF!)","v":0},{"$f":"IF(ISERROR((#REF!-#REF!)/#REF!),0,(#REF!-#REF!)/#REF!)","v":0},{"$f":"IF(ISERROR((#REF!-#REF!)/#REF!),0,(#REF!-#REF!)/#REF!)","v":0}]
[null,"FZ88A","Insertion of Gastrostomy Tube, 19 years and over",0,895,0,0,5,925,5,209,"No","-",0,1,"HRG",{"$f":"IF(ISERROR((#REF!-#REF!)/#REF!),0,(#REF!-#REF!)/#REF!)","v":0},{"$f":"IF(ISERROR((#REF!-#REF!)/#REF!),0,(#REF!-#REF!)/#REF!)","v":0},{"$f":"IF(ISERROR((#REF!-#REF!)/#REF!),0,(#REF!-#REF!)/#REF!)","v":0},{"$f":"IF(ISERROR((#REF!-#REF!)/#REF!),0,(#REF!-#REF!)/#REF!)","v":0},{"$f":"IF(ISERROR((#REF!-#REF!)/#REF!),0,(#REF!-#REF!)/#REF!)","v":0},{"$f":"IF(ISERROR((#REF!-#REF!)/#REF!),0,(#REF!-#REF!)/#REF!)","v":0},{"$f":"IF(ISERROR((#REF!-#REF!)/#REF!),0,(#REF!-#REF!)/#REF!)","v":0},{"$f":"IF(ISERROR((#REF!-#REF!)/#REF!),0,(#REF!-#REF!)/#REF!)","v":0},{"$f":"IF(ISERROR((#REF!-#REF!)/#REF!),0,(#REF!-#REF!)/#REF!)","v":0},{"$f":"IF(ISERROR((#REF!-#REF!)/#REF!),0,(#REF!-#REF!)/#REF!)","v":0},{"$f":"IF(ISERROR((#REF!-#REF!)/#REF!),0,(#REF!-#REF!)/#REF!)","v":0},{"$f":"IF(ISERROR((#REF!-#REF!)/#REF!),0,(#REF!-#REF!)/#REF!)","v":0},{"$f":"IF(ISERROR((#REF!-#REF!)/#REF!),0,(#REF!-#REF!)/#REF!)","v":0}]
[null,"FZ88B","Insertion of Gastrostomy Tube, 18 years and under",0,1483,0,0,5,963,5,268,"No","-",0,"","",{"$f":"IF(ISERROR((#REF!-#REF!)/#REF!),0,(#REF!-#REF!)/#REF!)","v":0},{"$f":"IF(ISERROR((#REF!-#REF!)/#REF!),0,(#REF!-#REF!)/#REF!)","v":0},{"$f":"IF(ISERROR((#REF!-#REF!)/#REF!),0,(#REF!-#REF!)/#REF!)","v":0},{"$f":"IF(ISERROR((#REF!-#REF!)/#REF!),0,(#REF!-#REF!)/#REF!)","v":0},{"$f":"IF(ISERROR((#REF!-#REF!)/#REF!),0,(#REF!-#REF!)/#REF!)","v":0},{"$f":"IF(ISERROR((#REF!-#REF!)/#REF!),0,(#REF!-#REF!)/#REF!)","v":0},{"$f":"IF(ISERROR((#REF!-#REF!)/#REF!),0,(#REF!-#REF!)/#REF!)","v":0},{"$f":"IF(ISERROR((#REF!-#REF!)/#REF!),0,(#REF!-#REF!)/#REF!)","v":0},{"$f":"IF(ISERROR((#REF!-#REF!)/#REF!),0,(#REF!-#REF!)/#REF!)","v":0},{"$f":"IF(ISERROR((#REF!-#REF!)/#REF!),0,(#REF!-#REF!)/#REF!)","v":0},{"$f":"IF(ISERROR((#REF!-#REF!)/#REF!),0,(#REF!-#REF!)/#REF!)","v":0},{"$f":"IF(ISERROR((#REF!-#REF!)/#REF!),0,(#REF!-#REF!)/#REF!)","v":0},{"$f":"IF(ISERROR((#REF!-#REF!)/#REF!),0,(#REF!-#REF!)/#REF!)","v":0}]
[null,"GA03A","Very Complex Open Hepatobiliary or Pancreatic Procedures, with CC",0,11204,0,0,46,15830,79,203,"No","-",0,"","",{"$f":"IF(ISERROR((#REF!-#REF!)/#REF!),0,(#REF!-#REF!)/#REF!)","v":0},{"$f":"IF(ISERROR((#REF!-#REF!)/#REF!),0,(#REF!-#REF!)/#REF!)","v":0},{"$f":"IF(ISERROR((#REF!-#REF!)/#REF!),0,(#REF!-#REF!)/#REF!)","v":0},{"$f":"IF(ISERROR((#REF!-#REF!)/#REF!),0,(#REF!-#REF!)/#REF!)","v":0},{"$f":"IF(ISERROR((#REF!-#REF!)/#REF!),0,(#REF!-#REF!)/#REF!)","v":0},{"$f":"IF(ISERROR((#REF!-#REF!)/#REF!),0,(#REF!-#REF!)/#REF!)","v":0},{"$f":"IF(ISERROR((#REF!-#REF!)/#REF!),0,(#REF!-#REF!)/#REF!)","v":0},{"$f":"IF(ISERROR((#REF!-#REF!)/#REF!),0,(#REF!-#REF!)/#REF!)","v":0},{"$f":"IF(ISERROR((#REF!-#REF!)/#REF!),0,(#REF!-#REF!)/#REF!)","v":0},{"$f":"IF(ISERROR((#REF!-#REF!)/#REF!),0,(#REF!-#REF!)/#REF!)","v":0},{"$f":"IF(ISERROR((#REF!-#REF!)/#REF!),0,(#REF!-#REF!)/#REF!)","v":0},{"$f":"IF(ISERROR((#REF!-#REF!)/#REF!),0,(#REF!-#REF!)/#REF!)","v":0},{"$f":"IF(ISERROR((#REF!-#REF!)/#REF!),0,(#REF!-#REF!)/#REF!)","v":0}]
[null,"GA03B","Very Complex Open Hepatobiliary or Pancreatic Procedures, without CC",0,7797,0,0,24,12199,54,203,"No","-",0,"","",{"$f":"IF(ISERROR((#REF!-#REF!)/#REF!),0,(#REF!-#REF!)/#REF!)","v":0},{"$f":"IF(ISERROR((#REF!-#REF!)/#REF!),0,(#REF!-#REF!)/#REF!)","v":0},{"$f":"IF(ISERROR((#REF!-#REF!)/#REF!),0,(#REF!-#REF!)/#REF!)","v":0},{"$f":"IF(ISERROR((#REF!-#REF!)/#REF!),0,(#REF!-#REF!)/#REF!)","v":0},{"$f":"IF(ISERROR((#REF!-#REF!)/#REF!),0,(#REF!-#REF!)/#REF!)","v":0},{"$f":"IF(ISERROR((#REF!-#REF!)/#REF!),0,(#REF!-#REF!)/#REF!)","v":0},{"$f":"IF(ISERROR((#REF!-#REF!)/#REF!),0,(#REF!-#REF!)/#REF!)","v":0},{"$f":"IF(ISERROR((#REF!-#REF!)/#REF!),0,(#REF!-#REF!)/#REF!)","v":0},{"$f":"IF(ISERROR((#REF!-#REF!)/#REF!),0,(#REF!-#REF!)/#REF!)","v":0},{"$f":"IF(ISERROR((#REF!-#REF!)/#REF!),0,(#REF!-#REF!)/#REF!)","v":0},{"$f":"IF(ISERROR((#REF!-#REF!)/#REF!),0,(#REF!-#REF!)/#REF!)","v":0},{"$f":"IF(ISERROR((#REF!-#REF!)/#REF!),0,(#REF!-#REF!)/#REF!)","v":0},{"$f":"IF(ISERROR((#REF!-#REF!)/#REF!),0,(#REF!-#REF!)/#REF!)","v":0}]
[null,"GA04A","Complex Open Hepatobiliary or Pancreatic Procedures, with CC",0,8327,0,0,25,12514,69,203,"No","-",0,"","",{"$f":"IF(ISERROR((#REF!-#REF!)/#REF!),0,(#REF!-#REF!)/#REF!)","v":0},{"$f":"IF(ISERROR((#REF!-#REF!)/#REF!),0,(#REF!-#REF!)/#REF!)","v":0},{"$f":"IF(ISERROR((#REF!-#REF!)/#REF!),0,(#REF!-#REF!)/#REF!)","v":0},{"$f":"IF(ISERROR((#REF!-#REF!)/#REF!),0,(#REF!-#REF!)/#REF!)","v":0},{"$f":"IF(ISERROR((#REF!-#REF!)/#REF!),0,(#REF!-#REF!)/#REF!)","v":0},{"$f":"IF(ISERROR((#REF!-#REF!)/#REF!),0,(#REF!-#REF!)/#REF!)","v":0},{"$f":"IF(ISERROR((#REF!-#REF!)/#REF!),0,(#REF!-#REF!)/#REF!)","v":0},{"$f":"IF(ISERROR((#REF!-#REF!)/#REF!),0,(#REF!-#REF!)/#REF!)","v":0},{"$f":"IF(ISERROR((#REF!-#REF!)/#REF!),0,(#REF!-#REF!)/#REF!)","v":0},{"$f":"IF(ISERROR((#REF!-#REF!)/#REF!),0,(#REF!-#REF!)/#REF!)","v":0},{"$f":"IF(ISERROR((#REF!-#REF!)/#REF!),0,(#REF!-#REF!)/#REF!)","v":0},{"$f":"IF(ISERROR((#REF!-#REF!)/#REF!),0,(#REF!-#REF!)/#REF!)","v":0},{"$f":"IF(ISERROR((#REF!-#REF!)/#REF!),0,(#REF!-#REF!)/#REF!)","v":0}]
[null,"GA04B","Complex Open Hepatobiliary or Pancreatic Procedures, without CC",0,6875,0,0,14,7849,37,203,"No","-",0,"","",{"$f":"IF(ISERROR((#REF!-#REF!)/#REF!),0,(#REF!-#REF!)/#REF!)","v":0},{"$f":"IF(ISERROR((#REF!-#REF!)/#REF!),0,(#REF!-#REF!)/#REF!)","v":0},{"$f":"IF(ISERROR((#REF!-#REF!)/#REF!),0,(#REF!-#REF!)/#REF!)","v":0},{"$f":"IF(ISERROR((#REF!-#REF!)/#REF!),0,(#REF!-#REF!)/#REF!)","v":0},{"$f":"IF(ISERROR((#REF!-#REF!)/#REF!),0,(#REF!-#REF!)/#REF!)","v":0},{"$f":"IF(ISERROR((#REF!-#REF!)/#REF!),0,(#REF!-#REF!)/#REF!)","v":0},{"$f":"IF(ISERROR((#REF!-#REF!)/#REF!),0,(#REF!-#REF!)/#REF!)","v":0},{"$f":"IF(ISERROR((#REF!-#REF!)/#REF!),0,(#REF!-#REF!)/#REF!)","v":0},{"$f":"IF(ISERROR((#REF!-#REF!)/#REF!),0,(#REF!-#REF!)/#REF!)","v":0},{"$f":"IF(ISERROR((#REF!-#REF!)/#REF!),0,(#REF!-#REF!)/#REF!)","v":0},{"$f":"IF(ISERROR((#REF!-#REF!)/#REF!),0,(#REF!-#REF!)/#REF!)","v":0},{"$f":"IF(ISERROR((#REF!-#REF!)/#REF!),0,(#REF!-#REF!)/#REF!)","v":0},{"$f":"IF(ISERROR((#REF!-#REF!)/#REF!),0,(#REF!-#REF!)/#REF!)","v":0}]
[null,"GA05A","Very Major Open Hepatobiliary or Pancreatic Procedures, with CC",0,6639,0,0,19,8587,49,203,"No","-",0,"","",{"$f":"IF(ISERROR((#REF!-#REF!)/#REF!),0,(#REF!-#REF!)/#REF!)","v":0},{"$f":"IF(ISERROR((#REF!-#REF!)/#REF!),0,(#REF!-#REF!)/#REF!)","v":0},{"$f":"IF(ISERROR((#REF!-#REF!)/#REF!),0,(#REF!-#REF!)/#REF!)","v":0},{"$f":"IF(ISERROR((#REF!-#REF!)/#REF!),0,(#REF!-#REF!)/#REF!)","v":0},{"$f":"IF(ISERROR((#REF!-#REF!)/#REF!),0,(#REF!-#REF!)/#REF!)","v":0},{"$f":"IF(ISERROR((#REF!-#REF!)/#REF!),0,(#REF!-#REF!)/#REF!)","v":0},{"$f":"IF(ISERROR((#REF!-#REF!)/#REF!),0,(#REF!-#REF!)/#REF!)","v":0},{"$f":"IF(ISERROR((#REF!-#REF!)/#REF!),0,(#REF!-#REF!)/#REF!)","v":0},{"$f":"IF(ISERROR((#REF!-#REF!)/#REF!),0,(#REF!-#REF!)/#REF!)","v":0},{"$f":"IF(ISERROR((#REF!-#REF!)/#REF!),0,(#REF!-#REF!)/#REF!)","v":0},{"$f":"IF(ISERROR((#REF!-#REF!)/#REF!),0,(#REF!-#REF!)/#REF!)","v":0},{"$f":"IF(ISERROR((#REF!-#REF!)/#REF!),0,(#REF!-#REF!)/#REF!)","v":0},{"$f":"IF(ISERROR((#REF!-#REF!)/#REF!),0,(#REF!-#REF!)/#REF!)","v":0}]
[null,"GA05B","Very Major Open Hepatobiliary or Pancreatic Procedures, without CC",0,5586,0,0,14,5728,26,203,"No","-",0,"","",{"$f":"IF(ISERROR((#REF!-#REF!)/#REF!),0,(#REF!-#REF!)/#REF!)","v":0},{"$f":"IF(ISERROR((#REF!-#REF!)/#REF!),0,(#REF!-#REF!)/#REF!)","v":0},{"$f":"IF(ISERROR((#REF!-#REF!)/#REF!),0,(#REF!-#REF!)/#REF!)","v":0},{"$f":"IF(ISERROR((#REF!-#REF!)/#REF!),0,(#REF!-#REF!)/#REF!)","v":0},{"$f":"IF(ISERROR((#REF!-#REF!)/#REF!),0,(#REF!-#REF!)/#REF!)","v":0},{"$f":"IF(ISERROR((#REF!-#REF!)/#REF!),0,(#REF!-#REF!)/#REF!)","v":0},{"$f":"IF(ISERROR((#REF!-#REF!)/#REF!),0,(#REF!-#REF!)/#REF!)","v":0},{"$f":"IF(ISERROR((#REF!-#REF!)/#REF!),0,(#REF!-#REF!)/#REF!)","v":0},{"$f":"IF(ISERROR((#REF!-#REF!)/#REF!),0,(#REF!-#REF!)/#REF!)","v":0},{"$f":"IF(ISERROR((#REF!-#REF!)/#REF!),0,(#REF!-#REF!)/#REF!)","v":0},{"$f":"IF(ISERROR((#REF!-#REF!)/#REF!),0,(#REF!-#REF!)/#REF!)","v":0},{"$f":"IF(ISERROR((#REF!-#REF!)/#REF!),0,(#REF!-#REF!)/#REF!)","v":0},{"$f":"IF(ISERROR((#REF!-#REF!)/#REF!),0,(#REF!-#REF!)/#REF!)","v":0}]
[null,"GA06A","Major Open Hepatobiliary or Pancreatic Procedures, with CC",0,4488,0,0,20,7028,48,203,"No","-",0,"","",{"$f":"IF(ISERROR((#REF!-#REF!)/#REF!),0,(#REF!-#REF!)/#REF!)","v":0},{"$f":"IF(ISERROR((#REF!-#REF!)/#REF!),0,(#REF!-#REF!)/#REF!)","v":0},{"$f":"IF(ISERROR((#REF!-#REF!)/#REF!),0,(#REF!-#REF!)/#REF!)","v":0},{"$f":"IF(ISERROR((#REF!-#REF!)/#REF!),0,(#REF!-#REF!)/#REF!)","v":0},{"$f":"IF(ISERROR((#REF!-#REF!)/#REF!),0,(#REF!-#REF!)/#REF!)","v":0},{"$f":"IF(ISERROR((#REF!-#REF!)/#REF!),0,(#REF!-#REF!)/#REF!)","v":0},{"$f":"IF(ISERROR((#REF!-#REF!)/#REF!),0,(#REF!-#REF!)/#REF!)","v":0},{"$f":"IF(ISERROR((#REF!-#REF!)/#REF!),0,(#REF!-#REF!)/#REF!)","v":0},{"$f":"IF(ISERROR((#REF!-#REF!)/#REF!),0,(#REF!-#REF!)/#REF!)","v":0},{"$f":"IF(ISERROR((#REF!-#REF!)/#REF!),0,(#REF!-#REF!)/#REF!)","v":0},{"$f":"IF(ISERROR((#REF!-#REF!)/#REF!),0,(#REF!-#REF!)/#REF!)","v":0},{"$f":"IF(ISERROR((#REF!-#REF!)/#REF!),0,(#REF!-#REF!)/#REF!)","v":0},{"$f":"IF(ISERROR((#REF!-#REF!)/#REF!),0,(#REF!-#REF!)/#REF!)","v":0}]
[null,"GA06B","Major Open Hepatobiliary or Pancreatic Procedures, without CC",0,2800,0,0,15,3859,20,203,"No","-",0,"","",{"$f":"IF(ISERROR((#REF!-#REF!)/#REF!),0,(#REF!-#REF!)/#REF!)","v":0},{"$f":"IF(ISERROR((#REF!-#REF!)/#REF!),0,(#REF!-#REF!)/#REF!)","v":0},{"$f":"IF(ISERROR((#REF!-#REF!)/#REF!),0,(#REF!-#REF!)/#REF!)","v":0},{"$f":"IF(ISERROR((#REF!-#REF!)/#REF!),0,(#REF!-#REF!)/#REF!)","v":0},{"$f":"IF(ISERROR((#REF!-#REF!)/#REF!),0,(#REF!-#REF!)/#REF!)","v":0},{"$f":"IF(ISERROR((#REF!-#REF!)/#REF!),0,(#REF!-#REF!)/#REF!)","v":0},{"$f":"IF(ISERROR((#REF!-#REF!)/#REF!),0,(#REF!-#REF!)/#REF!)","v":0},{"$f":"IF(ISERROR((#REF!-#REF!)/#REF!),0,(#REF!-#REF!)/#REF!)","v":0},{"$f":"IF(ISERROR((#REF!-#REF!)/#REF!),0,(#REF!-#REF!)/#REF!)","v":0},{"$f":"IF(ISERROR((#REF!-#REF!)/#REF!),0,(#REF!-#REF!)/#REF!)","v":0},{"$f":"IF(ISERROR((#REF!-#REF!)/#REF!),0,(#REF!-#REF!)/#REF!)","v":0},{"$f":"IF(ISERROR((#REF!-#REF!)/#REF!),0,(#REF!-#REF!)/#REF!)","v":0},{"$f":"IF(ISERROR((#REF!-#REF!)/#REF!),0,(#REF!-#REF!)/#REF!)","v":0}]
[null,"GA07A","Intermediate Open Hepatobiliary or Pancreatic Procedures, with CC",0,3839,0,0,16,8798.0852729291419,33,203,"No","-",0,"","",{"$f":"IF(ISERROR((#REF!-#REF!)/#REF!),0,(#REF!-#REF!)/#REF!)","v":0},{"$f":"IF(ISERROR((#REF!-#REF!)/#REF!),0,(#REF!-#REF!)/#REF!)","v":0},{"$f":"IF(ISERROR((#REF!-#REF!)/#REF!),0,(#REF!-#REF!)/#REF!)","v":0},{"$f":"IF(ISERROR((#REF!-#REF!)/#REF!),0,(#REF!-#REF!)/#REF!)","v":0},{"$f":"IF(ISERROR((#REF!-#REF!)/#REF!),0,(#REF!-#REF!)/#REF!)","v":0},{"$f":"IF(ISERROR((#REF!-#REF!)/#REF!),0,(#REF!-#REF!)/#REF!)","v":0},{"$f":"IF(ISERROR((#REF!-#REF!)/#REF!),0,(#REF!-#REF!)/#REF!)","v":0},{"$f":"IF(ISERROR((#REF!-#REF!)/#REF!),0,(#REF!-#REF!)/#REF!)","v":0},{"$f":"IF(ISERROR((#REF!-#REF!)/#REF!),0,(#REF!-#REF!)/#REF!)","v":0},{"$f":"IF(ISERROR((#REF!-#REF!)/#REF!),0,(#REF!-#REF!)/#REF!)","v":0},{"$f":"IF(ISERROR((#REF!-#REF!)/#REF!),0,(#REF!-#REF!)/#REF!)","v":0},{"$f":"IF(ISERROR((#REF!-#REF!)/#REF!),0,(#REF!-#REF!)/#REF!)","v":0},{"$f":"IF(ISERROR((#REF!-#REF!)/#REF!),0,(#REF!-#REF!)/#REF!)","v":0}]
[null,"GA07B","Intermediate Open Hepatobiliary or Pancreatic Procedures, without CC",0,2717,0,0,9,3728,17,203,"No","-",0,"","",{"$f":"IF(ISERROR((#REF!-#REF!)/#REF!),0,(#REF!-#REF!)/#REF!)","v":0},{"$f":"IF(ISERROR((#REF!-#REF!)/#REF!),0,(#REF!-#REF!)/#REF!)","v":0},{"$f":"IF(ISERROR((#REF!-#REF!)/#REF!),0,(#REF!-#REF!)/#REF!)","v":0},{"$f":"IF(ISERROR((#REF!-#REF!)/#REF!),0,(#REF!-#REF!)/#REF!)","v":0},{"$f":"IF(ISERROR((#REF!-#REF!)/#REF!),0,(#REF!-#REF!)/#REF!)","v":0},{"$f":"IF(ISERROR((#REF!-#REF!)/#REF!),0,(#REF!-#REF!)/#REF!)","v":0},{"$f":"IF(ISERROR((#REF!-#REF!)/#REF!),0,(#REF!-#REF!)/#REF!)","v":0},{"$f":"IF(ISERROR((#REF!-#REF!)/#REF!),0,(#REF!-#REF!)/#REF!)","v":0},{"$f":"IF(ISERROR((#REF!-#REF!)/#REF!),0,(#REF!-#REF!)/#REF!)","v":0},{"$f":"IF(ISERROR((#REF!-#REF!)/#REF!),0,(#REF!-#REF!)/#REF!)","v":0},{"$f":"IF(ISERROR((#REF!-#REF!)/#REF!),0,(#REF!-#REF!)/#REF!)","v":0},{"$f":"IF(ISERROR((#REF!-#REF!)/#REF!),0,(#REF!-#REF!)/#REF!)","v":0},{"$f":"IF(ISERROR((#REF!-#REF!)/#REF!),0,(#REF!-#REF!)/#REF!)","v":0}]
[null,"GA10C","Open Cholecystectomy, 19 years and over without CC",0,3816.0891889937984,0,0,9,3820,15,203,"No","-",0,"","",{"$f":"IF(ISERROR((#REF!-#REF!)/#REF!),0,(#REF!-#REF!)/#REF!)","v":0},{"$f":"IF(ISERROR((#REF!-#REF!)/#REF!),0,(#REF!-#REF!)/#REF!)","v":0},{"$f":"IF(ISERROR((#REF!-#REF!)/#REF!),0,(#REF!-#REF!)/#REF!)","v":0},{"$f":"IF(ISERROR((#REF!-#REF!)/#REF!),0,(#REF!-#REF!)/#REF!)","v":0},{"$f":"IF(ISERROR((#REF!-#REF!)/#REF!),0,(#REF!-#REF!)/#REF!)","v":0},{"$f":"IF(ISERROR((#REF!-#REF!)/#REF!),0,(#REF!-#REF!)/#REF!)","v":0},{"$f":"IF(ISERROR((#REF!-#REF!)/#REF!),0,(#REF!-#REF!)/#REF!)","v":0},{"$f":"IF(ISERROR((#REF!-#REF!)/#REF!),0,(#REF!-#REF!)/#REF!)","v":0},{"$f":"IF(ISERROR((#REF!-#REF!)/#REF!),0,(#REF!-#REF!)/#REF!)","v":0},{"$f":"IF(ISERROR((#REF!-#REF!)/#REF!),0,(#REF!-#REF!)/#REF!)","v":0},{"$f":"IF(ISERROR((#REF!-#REF!)/#REF!),0,(#REF!-#REF!)/#REF!)","v":0},{"$f":"IF(ISERROR((#REF!-#REF!)/#REF!),0,(#REF!-#REF!)/#REF!)","v":0},{"$f":"IF(ISERROR((#REF!-#REF!)/#REF!),0,(#REF!-#REF!)/#REF!)","v":0}]
[null,"GA10D","Laparoscopic Cholecystectomy, 19 years and over, with length of stay 1 day or more, without CC",0,0,0,1462.0237833020751,5,4265.8766514925237,11,203,"No","-",0,1,"HRG",{"$f":"IF(ISERROR((#REF!-#REF!)/#REF!),0,(#REF!-#REF!)/#REF!)","v":0},{"$f":"IF(ISERROR((#REF!-#REF!)/#REF!),0,(#REF!-#REF!)/#REF!)","v":0},{"$f":"IF(ISERROR((#REF!-#REF!)/#REF!),0,(#REF!-#REF!)/#REF!)","v":0},{"$f":"IF(ISERROR((#REF!-#REF!)/#REF!),0,(#REF!-#REF!)/#REF!)","v":0},{"$f":"IF(ISERROR((#REF!-#REF!)/#REF!),0,(#REF!-#REF!)/#REF!)","v":0},{"$f":"IF(ISERROR((#REF!-#REF!)/#REF!),0,(#REF!-#REF!)/#REF!)","v":0},{"$f":"IF(ISERROR((#REF!-#REF!)/#REF!),0,(#REF!-#REF!)/#REF!)","v":0},{"$f":"IF(ISERROR((#REF!-#REF!)/#REF!),0,(#REF!-#REF!)/#REF!)","v":0},{"$f":"IF(ISERROR((#REF!-#REF!)/#REF!),0,(#REF!-#REF!)/#REF!)","v":0},{"$f":"IF(ISERROR((#REF!-#REF!)/#REF!),0,(#REF!-#REF!)/#REF!)","v":0},{"$f":"IF(ISERROR((#REF!-#REF!)/#REF!),0,(#REF!-#REF!)/#REF!)","v":0},{"$f":"IF(ISERROR((#REF!-#REF!)/#REF!),0,(#REF!-#REF!)/#REF!)","v":0},{"$f":"IF(ISERROR((#REF!-#REF!)/#REF!),0,(#REF!-#REF!)/#REF!)","v":0}]
[null,"GA10E","Laparoscopic Cholecystectomy, 19 years and over, with length of stay 0 days, without CC",0,0,1726,1394,5,896,5,203,"No","-",0,1,"HRG",{"$f":"IF(ISERROR((#REF!-#REF!)/#REF!),0,(#REF!-#REF!)/#REF!)","v":0},{"$f":"IF(ISERROR((#REF!-#REF!)/#REF!),0,(#REF!-#REF!)/#REF!)","v":0},{"$f":"IF(ISERROR((#REF!-#REF!)/#REF!),0,(#REF!-#REF!)/#REF!)","v":0},{"$f":"IF(ISERROR((#REF!-#REF!)/#REF!),0,(#REF!-#REF!)/#REF!)","v":0},{"$f":"IF(ISERROR((#REF!-#REF!)/#REF!),0,(#REF!-#REF!)/#REF!)","v":0},{"$f":"IF(ISERROR((#REF!-#REF!)/#REF!),0,(#REF!-#REF!)/#REF!)","v":0},{"$f":"IF(ISERROR((#REF!-#REF!)/#REF!),0,(#REF!-#REF!)/#REF!)","v":0},{"$f":"IF(ISERROR((#REF!-#REF!)/#REF!),0,(#REF!-#REF!)/#REF!)","v":0},{"$f":"IF(ISERROR((#REF!-#REF!)/#REF!),0,(#REF!-#REF!)/#REF!)","v":0},{"$f":"IF(ISERROR((#REF!-#REF!)/#REF!),0,(#REF!-#REF!)/#REF!)","v":0},{"$f":"IF(ISERROR((#REF!-#REF!)/#REF!),0,(#REF!-#REF!)/#REF!)","v":0},{"$f":"IF(ISERROR((#REF!-#REF!)/#REF!),0,(#REF!-#REF!)/#REF!)","v":0},{"$f":"IF(ISERROR((#REF!-#REF!)/#REF!),0,(#REF!-#REF!)/#REF!)","v":0}]
[null,"GA10F","Open or Laparoscopic Cholecystectomy, 19 years and over with CC",0,2207,0,0,5,5899.0238274950834,22,203,"No","-",0,"","",{"$f":"IF(ISERROR((#REF!-#REF!)/#REF!),0,(#REF!-#REF!)/#REF!)","v":0},{"$f":"IF(ISERROR((#REF!-#REF!)/#REF!),0,(#REF!-#REF!)/#REF!)","v":0},{"$f":"IF(ISERROR((#REF!-#REF!)/#REF!),0,(#REF!-#REF!)/#REF!)","v":0},{"$f":"IF(ISERROR((#REF!-#REF!)/#REF!),0,(#REF!-#REF!)/#REF!)","v":0},{"$f":"IF(ISERROR((#REF!-#REF!)/#REF!),0,(#REF!-#REF!)/#REF!)","v":0},{"$f":"IF(ISERROR((#REF!-#REF!)/#REF!),0,(#REF!-#REF!)/#REF!)","v":0},{"$f":"IF(ISERROR((#REF!-#REF!)/#REF!),0,(#REF!-#REF!)/#REF!)","v":0},{"$f":"IF(ISERROR((#REF!-#REF!)/#REF!),0,(#REF!-#REF!)/#REF!)","v":0},{"$f":"IF(ISERROR((#REF!-#REF!)/#REF!),0,(#REF!-#REF!)/#REF!)","v":0},{"$f":"IF(ISERROR((#REF!-#REF!)/#REF!),0,(#REF!-#REF!)/#REF!)","v":0},{"$f":"IF(ISERROR((#REF!-#REF!)/#REF!),0,(#REF!-#REF!)/#REF!)","v":0},{"$f":"IF(ISERROR((#REF!-#REF!)/#REF!),0,(#REF!-#REF!)/#REF!)","v":0},{"$f":"IF(ISERROR((#REF!-#REF!)/#REF!),0,(#REF!-#REF!)/#REF!)","v":0}]
[null,"GA10G","Open or Laparoscopic Cholecystectomy, 18 years and under",0,2114,0,0,5,3698,13,317,"No","-",0,"","",{"$f":"IF(ISERROR((#REF!-#REF!)/#REF!),0,(#REF!-#REF!)/#REF!)","v":0},{"$f":"IF(ISERROR((#REF!-#REF!)/#REF!),0,(#REF!-#REF!)/#REF!)","v":0},{"$f":"IF(ISERROR((#REF!-#REF!)/#REF!),0,(#REF!-#REF!)/#REF!)","v":0},{"$f":"IF(ISERROR((#REF!-#REF!)/#REF!),0,(#REF!-#REF!)/#REF!)","v":0},{"$f":"IF(ISERROR((#REF!-#REF!)/#REF!),0,(#REF!-#REF!)/#REF!)","v":0},{"$f":"IF(ISERROR((#REF!-#REF!)/#REF!),0,(#REF!-#REF!)/#REF!)","v":0},{"$f":"IF(ISERROR((#REF!-#REF!)/#REF!),0,(#REF!-#REF!)/#REF!)","v":0},{"$f":"IF(ISERROR((#REF!-#REF!)/#REF!),0,(#REF!-#REF!)/#REF!)","v":0},{"$f":"IF(ISERROR((#REF!-#REF!)/#REF!),0,(#REF!-#REF!)/#REF!)","v":0},{"$f":"IF(ISERROR((#REF!-#REF!)/#REF!),0,(#REF!-#REF!)/#REF!)","v":0},{"$f":"IF(ISERROR((#REF!-#REF!)/#REF!),0,(#REF!-#REF!)/#REF!)","v":0},{"$f":"IF(ISERROR((#REF!-#REF!)/#REF!),0,(#REF!-#REF!)/#REF!)","v":0},{"$f":"IF(ISERROR((#REF!-#REF!)/#REF!),0,(#REF!-#REF!)/#REF!)","v":0}]
[null,"GA11Z","Pancreatic Necrosectomy",0,6770,0,0,110,46788.650751234607,175,203,"No","-",0,"","",{"$f":"IF(ISERROR((#REF!-#REF!)/#REF!),0,(#REF!-#REF!)/#REF!)","v":0},{"$f":"IF(ISERROR((#REF!-#REF!)/#REF!),0,(#REF!-#REF!)/#REF!)","v":0},{"$f":"IF(ISERROR((#REF!-#REF!)/#REF!),0,(#REF!-#REF!)/#REF!)","v":0},{"$f":"IF(ISERROR((#REF!-#REF!)/#REF!),0,(#REF!-#REF!)/#REF!)","v":0},{"$f":"IF(ISERROR((#REF!-#REF!)/#REF!),0,(#REF!-#REF!)/#REF!)","v":0},{"$f":"IF(ISERROR((#REF!-#REF!)/#REF!),0,(#REF!-#REF!)/#REF!)","v":0},{"$f":"IF(ISERROR((#REF!-#REF!)/#REF!),0,(#REF!-#REF!)/#REF!)","v":0},{"$f":"IF(ISERROR((#REF!-#REF!)/#REF!),0,(#REF!-#REF!)/#REF!)","v":0},{"$f":"IF(ISERROR((#REF!-#REF!)/#REF!),0,(#REF!-#REF!)/#REF!)","v":0},{"$f":"IF(ISERROR((#REF!-#REF!)/#REF!),0,(#REF!-#REF!)/#REF!)","v":0},{"$f":"IF(ISERROR((#REF!-#REF!)/#REF!),0,(#REF!-#REF!)/#REF!)","v":0},{"$f":"IF(ISERROR((#REF!-#REF!)/#REF!),0,(#REF!-#REF!)/#REF!)","v":0},{"$f":"IF(ISERROR((#REF!-#REF!)/#REF!),0,(#REF!-#REF!)/#REF!)","v":0}]
[null,"GA13A","Minor Open or Laparoscopic, Hepatobiliary or Pancreatic Procedures, with CC",0,2183,0,0,8,7226.5164314569201,28,203,"No","-",0,"","",{"$f":"IF(ISERROR((#REF!-#REF!)/#REF!),0,(#REF!-#REF!)/#REF!)","v":0},{"$f":"IF(ISERROR((#REF!-#REF!)/#REF!),0,(#REF!-#REF!)/#REF!)","v":0},{"$f":"IF(ISERROR((#REF!-#REF!)/#REF!),0,(#REF!-#REF!)/#REF!)","v":0},{"$f":"IF(ISERROR((#REF!-#REF!)/#REF!),0,(#REF!-#REF!)/#REF!)","v":0},{"$f":"IF(ISERROR((#REF!-#REF!)/#REF!),0,(#REF!-#REF!)/#REF!)","v":0},{"$f":"IF(ISERROR((#REF!-#REF!)/#REF!),0,(#REF!-#REF!)/#REF!)","v":0},{"$f":"IF(ISERROR((#REF!-#REF!)/#REF!),0,(#REF!-#REF!)/#REF!)","v":0},{"$f":"IF(ISERROR((#REF!-#REF!)/#REF!),0,(#REF!-#REF!)/#REF!)","v":0},{"$f":"IF(ISERROR((#REF!-#REF!)/#REF!),0,(#REF!-#REF!)/#REF!)","v":0},{"$f":"IF(ISERROR((#REF!-#REF!)/#REF!),0,(#REF!-#REF!)/#REF!)","v":0},{"$f":"IF(ISERROR((#REF!-#REF!)/#REF!),0,(#REF!-#REF!)/#REF!)","v":0},{"$f":"IF(ISERROR((#REF!-#REF!)/#REF!),0,(#REF!-#REF!)/#REF!)","v":0},{"$f":"IF(ISERROR((#REF!-#REF!)/#REF!),0,(#REF!-#REF!)/#REF!)","v":0}]
[null,"GA13B","Minor Open or Laparoscopic, Hepatobiliary or Pancreatic Procedures, without CC",0,2194.2428868859324,0,0,5,5323.1205402558717,19,203,"No","-",0,"","",{"$f":"IF(ISERROR((#REF!-#REF!)/#REF!),0,(#REF!-#REF!)/#REF!)","v":0},{"$f":"IF(ISERROR((#REF!-#REF!)/#REF!),0,(#REF!-#REF!)/#REF!)","v":0},{"$f":"IF(ISERROR((#REF!-#REF!)/#REF!),0,(#REF!-#REF!)/#REF!)","v":0},{"$f":"IF(ISERROR((#REF!-#REF!)/#REF!),0,(#REF!-#REF!)/#REF!)","v":0},{"$f":"IF(ISERROR((#REF!-#REF!)/#REF!),0,(#REF!-#REF!)/#REF!)","v":0},{"$f":"IF(ISERROR((#REF!-#REF!)/#REF!),0,(#REF!-#REF!)/#REF!)","v":0},{"$f":"IF(ISERROR((#REF!-#REF!)/#REF!),0,(#REF!-#REF!)/#REF!)","v":0},{"$f":"IF(ISERROR((#REF!-#REF!)/#REF!),0,(#REF!-#REF!)/#REF!)","v":0},{"$f":"IF(ISERROR((#REF!-#REF!)/#REF!),0,(#REF!-#REF!)/#REF!)","v":0},{"$f":"IF(ISERROR((#REF!-#REF!)/#REF!),0,(#REF!-#REF!)/#REF!)","v":0},{"$f":"IF(ISERROR((#REF!-#REF!)/#REF!),0,(#REF!-#REF!)/#REF!)","v":0},{"$f":"IF(ISERROR((#REF!-#REF!)/#REF!),0,(#REF!-#REF!)/#REF!)","v":0},{"$f":"IF(ISERROR((#REF!-#REF!)/#REF!),0,(#REF!-#REF!)/#REF!)","v":0}]
[null,"GB01A","Very Major Endoscopic or Percutaneous, Hepatobiliary or Pancreatic Procedures, with Major CC",0,5325,0,0,37,8281,66,203,"No","-",0,"","",{"$f":"IF(ISERROR((#REF!-#REF!)/#REF!),0,(#REF!-#REF!)/#REF!)","v":0},{"$f":"IF(ISERROR((#REF!-#REF!)/#REF!),0,(#REF!-#REF!)/#REF!)","v":0},{"$f":"IF(ISERROR((#REF!-#REF!)/#REF!),0,(#REF!-#REF!)/#REF!)","v":0},{"$f":"IF(ISERROR((#REF!-#REF!)/#REF!),0,(#REF!-#REF!)/#REF!)","v":0},{"$f":"IF(ISERROR((#REF!-#REF!)/#REF!),0,(#REF!-#REF!)/#REF!)","v":0},{"$f":"IF(ISERROR((#REF!-#REF!)/#REF!),0,(#REF!-#REF!)/#REF!)","v":0},{"$f":"IF(ISERROR((#REF!-#REF!)/#REF!),0,(#REF!-#REF!)/#REF!)","v":0},{"$f":"IF(ISERROR((#REF!-#REF!)/#REF!),0,(#REF!-#REF!)/#REF!)","v":0},{"$f":"IF(ISERROR((#REF!-#REF!)/#REF!),0,(#REF!-#REF!)/#REF!)","v":0},{"$f":"IF(ISERROR((#REF!-#REF!)/#REF!),0,(#REF!-#REF!)/#REF!)","v":0},{"$f":"IF(ISERROR((#REF!-#REF!)/#REF!),0,(#REF!-#REF!)/#REF!)","v":0},{"$f":"IF(ISERROR((#REF!-#REF!)/#REF!),0,(#REF!-#REF!)/#REF!)","v":0},{"$f":"IF(ISERROR((#REF!-#REF!)/#REF!),0,(#REF!-#REF!)/#REF!)","v":0}]
[null,"GB01B","Very Major Endoscopic or Percutaneous, Hepatobiliary or Pancreatic Procedures, without Major CC",0,2217,0,0,6,4753,33,203,"No","-",0,"","",{"$f":"IF(ISERROR((#REF!-#REF!)/#REF!),0,(#REF!-#REF!)/#REF!)","v":0},{"$f":"IF(ISERROR((#REF!-#REF!)/#REF!),0,(#REF!-#REF!)/#REF!)","v":0},{"$f":"IF(ISERROR((#REF!-#REF!)/#REF!),0,(#REF!-#REF!)/#REF!)","v":0},{"$f":"IF(ISERROR((#REF!-#REF!)/#REF!),0,(#REF!-#REF!)/#REF!)","v":0},{"$f":"IF(ISERROR((#REF!-#REF!)/#REF!),0,(#REF!-#REF!)/#REF!)","v":0},{"$f":"IF(ISERROR((#REF!-#REF!)/#REF!),0,(#REF!-#REF!)/#REF!)","v":0},{"$f":"IF(ISERROR((#REF!-#REF!)/#REF!),0,(#REF!-#REF!)/#REF!)","v":0},{"$f":"IF(ISERROR((#REF!-#REF!)/#REF!),0,(#REF!-#REF!)/#REF!)","v":0},{"$f":"IF(ISERROR((#REF!-#REF!)/#REF!),0,(#REF!-#REF!)/#REF!)","v":0},{"$f":"IF(ISERROR((#REF!-#REF!)/#REF!),0,(#REF!-#REF!)/#REF!)","v":0},{"$f":"IF(ISERROR((#REF!-#REF!)/#REF!),0,(#REF!-#REF!)/#REF!)","v":0},{"$f":"IF(ISERROR((#REF!-#REF!)/#REF!),0,(#REF!-#REF!)/#REF!)","v":0},{"$f":"IF(ISERROR((#REF!-#REF!)/#REF!),0,(#REF!-#REF!)/#REF!)","v":0}]
[null,"GB02A","Major Endoscopic or Percutaneous, Hepatobiliary or Pancreatic Procedures, with Major CC",0,3289,0,0,15,6710,54,203,"No","-",0,"","",{"$f":"IF(ISERROR((#REF!-#REF!)/#REF!),0,(#REF!-#REF!)/#REF!)","v":0},{"$f":"IF(ISERROR((#REF!-#REF!)/#REF!),0,(#REF!-#REF!)/#REF!)","v":0},{"$f":"IF(ISERROR((#REF!-#REF!)/#REF!),0,(#REF!-#REF!)/#REF!)","v":0},{"$f":"IF(ISERROR((#REF!-#REF!)/#REF!),0,(#REF!-#REF!)/#REF!)","v":0},{"$f":"IF(ISERROR((#REF!-#REF!)/#REF!),0,(#REF!-#REF!)/#REF!)","v":0},{"$f":"IF(ISERROR((#REF!-#REF!)/#REF!),0,(#REF!-#REF!)/#REF!)","v":0},{"$f":"IF(ISERROR((#REF!-#REF!)/#REF!),0,(#REF!-#REF!)/#REF!)","v":0},{"$f":"IF(ISERROR((#REF!-#REF!)/#REF!),0,(#REF!-#REF!)/#REF!)","v":0},{"$f":"IF(ISERROR((#REF!-#REF!)/#REF!),0,(#REF!-#REF!)/#REF!)","v":0},{"$f":"IF(ISERROR((#REF!-#REF!)/#REF!),0,(#REF!-#REF!)/#REF!)","v":0},{"$f":"IF(ISERROR((#REF!-#REF!)/#REF!),0,(#REF!-#REF!)/#REF!)","v":0},{"$f":"IF(ISERROR((#REF!-#REF!)/#REF!),0,(#REF!-#REF!)/#REF!)","v":0},{"$f":"IF(ISERROR((#REF!-#REF!)/#REF!),0,(#REF!-#REF!)/#REF!)","v":0}]
[null,"GB02B","Major Endoscopic or Percutaneous, Hepatobiliary or Pancreatic Procedures, with Intermediate CC",0,1905,0,0,8,4557.197179676582,35,203,"No","-",0,"","",{"$f":"IF(ISERROR((#REF!-#REF!)/#REF!),0,(#REF!-#REF!)/#REF!)","v":0},{"$f":"IF(ISERROR((#REF!-#REF!)/#REF!),0,(#REF!-#REF!)/#REF!)","v":0},{"$f":"IF(ISERROR((#REF!-#REF!)/#REF!),0,(#REF!-#REF!)/#REF!)","v":0},{"$f":"IF(ISERROR((#REF!-#REF!)/#REF!),0,(#REF!-#REF!)/#REF!)","v":0},{"$f":"IF(ISERROR((#REF!-#REF!)/#REF!),0,(#REF!-#REF!)/#REF!)","v":0},{"$f":"IF(ISERROR((#REF!-#REF!)/#REF!),0,(#REF!-#REF!)/#REF!)","v":0},{"$f":"IF(ISERROR((#REF!-#REF!)/#REF!),0,(#REF!-#REF!)/#REF!)","v":0},{"$f":"IF(ISERROR((#REF!-#REF!)/#REF!),0,(#REF!-#REF!)/#REF!)","v":0},{"$f":"IF(ISERROR((#REF!-#REF!)/#REF!),0,(#REF!-#REF!)/#REF!)","v":0},{"$f":"IF(ISERROR((#REF!-#REF!)/#REF!),0,(#REF!-#REF!)/#REF!)","v":0},{"$f":"IF(ISERROR((#REF!-#REF!)/#REF!),0,(#REF!-#REF!)/#REF!)","v":0},{"$f":"IF(ISERROR((#REF!-#REF!)/#REF!),0,(#REF!-#REF!)/#REF!)","v":0},{"$f":"IF(ISERROR((#REF!-#REF!)/#REF!),0,(#REF!-#REF!)/#REF!)","v":0}]
[null,"GB02C","Major Endoscopic or Percutaneous, Hepatobiliary or Pancreatic Procedures, without CC",0,1732,0,0,5,3110,24,203,"No","-",0,"","",{"$f":"IF(ISERROR((#REF!-#REF!)/#REF!),0,(#REF!-#REF!)/#REF!)","v":0},{"$f":"IF(ISERROR((#REF!-#REF!)/#REF!),0,(#REF!-#REF!)/#REF!)","v":0},{"$f":"IF(ISERROR((#REF!-#REF!)/#REF!),0,(#REF!-#REF!)/#REF!)","v":0},{"$f":"IF(ISERROR((#REF!-#REF!)/#REF!),0,(#REF!-#REF!)/#REF!)","v":0},{"$f":"IF(ISERROR((#REF!-#REF!)/#REF!),0,(#REF!-#REF!)/#REF!)","v":0},{"$f":"IF(ISERROR((#REF!-#REF!)/#REF!),0,(#REF!-#REF!)/#REF!)","v":0},{"$f":"IF(ISERROR((#REF!-#REF!)/#REF!),0,(#REF!-#REF!)/#REF!)","v":0},{"$f":"IF(ISERROR((#REF!-#REF!)/#REF!),0,(#REF!-#REF!)/#REF!)","v":0},{"$f":"IF(ISERROR((#REF!-#REF!)/#REF!),0,(#REF!-#REF!)/#REF!)","v":0},{"$f":"IF(ISERROR((#REF!-#REF!)/#REF!),0,(#REF!-#REF!)/#REF!)","v":0},{"$f":"IF(ISERROR((#REF!-#REF!)/#REF!),0,(#REF!-#REF!)/#REF!)","v":0},{"$f":"IF(ISERROR((#REF!-#REF!)/#REF!),0,(#REF!-#REF!)/#REF!)","v":0},{"$f":"IF(ISERROR((#REF!-#REF!)/#REF!),0,(#REF!-#REF!)/#REF!)","v":0}]
[null,"GB03A","Intermediate Endoscopic or Percutaneous, Hepatobiliary or Pancreatic Procedures, with CC",0,675,0,0,5,3554,24,203,"No","-",0,"","",{"$f":"IF(ISERROR((#REF!-#REF!)/#REF!),0,(#REF!-#REF!)/#REF!)","v":0},{"$f":"IF(ISERROR((#REF!-#REF!)/#REF!),0,(#REF!-#REF!)/#REF!)","v":0},{"$f":"IF(ISERROR((#REF!-#REF!)/#REF!),0,(#REF!-#REF!)/#REF!)","v":0},{"$f":"IF(ISERROR((#REF!-#REF!)/#REF!),0,(#REF!-#REF!)/#REF!)","v":0},{"$f":"IF(ISERROR((#REF!-#REF!)/#REF!),0,(#REF!-#REF!)/#REF!)","v":0},{"$f":"IF(ISERROR((#REF!-#REF!)/#REF!),0,(#REF!-#REF!)/#REF!)","v":0},{"$f":"IF(ISERROR((#REF!-#REF!)/#REF!),0,(#REF!-#REF!)/#REF!)","v":0},{"$f":"IF(ISERROR((#REF!-#REF!)/#REF!),0,(#REF!-#REF!)/#REF!)","v":0},{"$f":"IF(ISERROR((#REF!-#REF!)/#REF!),0,(#REF!-#REF!)/#REF!)","v":0},{"$f":"IF(ISERROR((#REF!-#REF!)/#REF!),0,(#REF!-#REF!)/#REF!)","v":0},{"$f":"IF(ISERROR((#REF!-#REF!)/#REF!),0,(#REF!-#REF!)/#REF!)","v":0},{"$f":"IF(ISERROR((#REF!-#REF!)/#REF!),0,(#REF!-#REF!)/#REF!)","v":0},{"$f":"IF(ISERROR((#REF!-#REF!)/#REF!),0,(#REF!-#REF!)/#REF!)","v":0}]
[null,"GB03B","Intermediate Endoscopic or Percutaneous, Hepatobiliary or Pancreatic Procedures, without CC",0,494,0,0,5,1731,11,203,"No","-",0,"","",{"$f":"IF(ISERROR((#REF!-#REF!)/#REF!),0,(#REF!-#REF!)/#REF!)","v":0},{"$f":"IF(ISERROR((#REF!-#REF!)/#REF!),0,(#REF!-#REF!)/#REF!)","v":0},{"$f":"IF(ISERROR((#REF!-#REF!)/#REF!),0,(#REF!-#REF!)/#REF!)","v":0},{"$f":"IF(ISERROR((#REF!-#REF!)/#REF!),0,(#REF!-#REF!)/#REF!)","v":0},{"$f":"IF(ISERROR((#REF!-#REF!)/#REF!),0,(#REF!-#REF!)/#REF!)","v":0},{"$f":"IF(ISERROR((#REF!-#REF!)/#REF!),0,(#REF!-#REF!)/#REF!)","v":0},{"$f":"IF(ISERROR((#REF!-#REF!)/#REF!),0,(#REF!-#REF!)/#REF!)","v":0},{"$f":"IF(ISERROR((#REF!-#REF!)/#REF!),0,(#REF!-#REF!)/#REF!)","v":0},{"$f":"IF(ISERROR((#REF!-#REF!)/#REF!),0,(#REF!-#REF!)/#REF!)","v":0},{"$f":"IF(ISERROR((#REF!-#REF!)/#REF!),0,(#REF!-#REF!)/#REF!)","v":0},{"$f":"IF(ISERROR((#REF!-#REF!)/#REF!),0,(#REF!-#REF!)/#REF!)","v":0},{"$f":"IF(ISERROR((#REF!-#REF!)/#REF!),0,(#REF!-#REF!)/#REF!)","v":0},{"$f":"IF(ISERROR((#REF!-#REF!)/#REF!),0,(#REF!-#REF!)/#REF!)","v":0}]
[null,"GB04D","Minor Endoscopic or Percutaneous, Hepatobiliary or Pancreatic Procedures, 19 years and over",0,494,0,0,5,566,5,203,"No","-",0,"","",{"$f":"IF(ISERROR((#REF!-#REF!)/#REF!),0,(#REF!-#REF!)/#REF!)","v":0},{"$f":"IF(ISERROR((#REF!-#REF!)/#REF!),0,(#REF!-#REF!)/#REF!)","v":0},{"$f":"IF(ISERROR((#REF!-#REF!)/#REF!),0,(#REF!-#REF!)/#REF!)","v":0},{"$f":"IF(ISERROR((#REF!-#REF!)/#REF!),0,(#REF!-#REF!)/#REF!)","v":0},{"$f":"IF(ISERROR((#REF!-#REF!)/#REF!),0,(#REF!-#REF!)/#REF!)","v":0},{"$f":"IF(ISERROR((#REF!-#REF!)/#REF!),0,(#REF!-#REF!)/#REF!)","v":0},{"$f":"IF(ISERROR((#REF!-#REF!)/#REF!),0,(#REF!-#REF!)/#REF!)","v":0},{"$f":"IF(ISERROR((#REF!-#REF!)/#REF!),0,(#REF!-#REF!)/#REF!)","v":0},{"$f":"IF(ISERROR((#REF!-#REF!)/#REF!),0,(#REF!-#REF!)/#REF!)","v":0},{"$f":"IF(ISERROR((#REF!-#REF!)/#REF!),0,(#REF!-#REF!)/#REF!)","v":0},{"$f":"IF(ISERROR((#REF!-#REF!)/#REF!),0,(#REF!-#REF!)/#REF!)","v":0},{"$f":"IF(ISERROR((#REF!-#REF!)/#REF!),0,(#REF!-#REF!)/#REF!)","v":0},{"$f":"IF(ISERROR((#REF!-#REF!)/#REF!),0,(#REF!-#REF!)/#REF!)","v":0}]
[null,"GB04E","Minor Endoscopic or Percutaneous, Hepatobiliary or Pancreatic Procedures, 18 years and under",0,1788,0,0,5,1788,5,317,"No","-",0,"","",{"$f":"IF(ISERROR((#REF!-#REF!)/#REF!),0,(#REF!-#REF!)/#REF!)","v":0},{"$f":"IF(ISERROR((#REF!-#REF!)/#REF!),0,(#REF!-#REF!)/#REF!)","v":0},{"$f":"IF(ISERROR((#REF!-#REF!)/#REF!),0,(#REF!-#REF!)/#REF!)","v":0},{"$f":"IF(ISERROR((#REF!-#REF!)/#REF!),0,(#REF!-#REF!)/#REF!)","v":0},{"$f":"IF(ISERROR((#REF!-#REF!)/#REF!),0,(#REF!-#REF!)/#REF!)","v":0},{"$f":"IF(ISERROR((#REF!-#REF!)/#REF!),0,(#REF!-#REF!)/#REF!)","v":0},{"$f":"IF(ISERROR((#REF!-#REF!)/#REF!),0,(#REF!-#REF!)/#REF!)","v":0},{"$f":"IF(ISERROR((#REF!-#REF!)/#REF!),0,(#REF!-#REF!)/#REF!)","v":0},{"$f":"IF(ISERROR((#REF!-#REF!)/#REF!),0,(#REF!-#REF!)/#REF!)","v":0},{"$f":"IF(ISERROR((#REF!-#REF!)/#REF!),0,(#REF!-#REF!)/#REF!)","v":0},{"$f":"IF(ISERROR((#REF!-#REF!)/#REF!),0,(#REF!-#REF!)/#REF!)","v":0},{"$f":"IF(ISERROR((#REF!-#REF!)/#REF!),0,(#REF!-#REF!)/#REF!)","v":0},{"$f":"IF(ISERROR((#REF!-#REF!)/#REF!),0,(#REF!-#REF!)/#REF!)","v":0}]
[null,"GB05C","Major Therapeutic Endoscopic Retrograde Cholangiopancreatography, with length of stay 3 days or more, with Major CC",0,9068.9102229382479,0,0,44,7320,57,203,"No","-",0,"","",{"$f":"IF(ISERROR((#REF!-#REF!)/#REF!),0,(#REF!-#REF!)/#REF!)","v":0},{"$f":"IF(ISERROR((#REF!-#REF!)/#REF!),0,(#REF!-#REF!)/#REF!)","v":0},{"$f":"IF(ISERROR((#REF!-#REF!)/#REF!),0,(#REF!-#REF!)/#REF!)","v":0},{"$f":"IF(ISERROR((#REF!-#REF!)/#REF!),0,(#REF!-#REF!)/#REF!)","v":0},{"$f":"IF(ISERROR((#REF!-#REF!)/#REF!),0,(#REF!-#REF!)/#REF!)","v":0},{"$f":"IF(ISERROR((#REF!-#REF!)/#REF!),0,(#REF!-#REF!)/#REF!)","v":0},{"$f":"IF(ISERROR((#REF!-#REF!)/#REF!),0,(#REF!-#REF!)/#REF!)","v":0},{"$f":"IF(ISERROR((#REF!-#REF!)/#REF!),0,(#REF!-#REF!)/#REF!)","v":0},{"$f":"IF(ISERROR((#REF!-#REF!)/#REF!),0,(#REF!-#REF!)/#REF!)","v":0},{"$f":"IF(ISERROR((#REF!-#REF!)/#REF!),0,(#REF!-#REF!)/#REF!)","v":0},{"$f":"IF(ISERROR((#REF!-#REF!)/#REF!),0,(#REF!-#REF!)/#REF!)","v":0},{"$f":"IF(ISERROR((#REF!-#REF!)/#REF!),0,(#REF!-#REF!)/#REF!)","v":0},{"$f":"IF(ISERROR((#REF!-#REF!)/#REF!),0,(#REF!-#REF!)/#REF!)","v":0}]
[null,"GB05D","Major Therapeutic Endoscopic Retrograde Cholangiopancreatography, with length of stay 3 days or more, without Major CC",0,6039.5677453555027,0,0,22,4453,27,203,"No","-",0,"","",{"$f":"IF(ISERROR((#REF!-#REF!)/#REF!),0,(#REF!-#REF!)/#REF!)","v":0},{"$f":"IF(ISERROR((#REF!-#REF!)/#REF!),0,(#REF!-#REF!)/#REF!)","v":0},{"$f":"IF(ISERROR((#REF!-#REF!)/#REF!),0,(#REF!-#REF!)/#REF!)","v":0},{"$f":"IF(ISERROR((#REF!-#REF!)/#REF!),0,(#REF!-#REF!)/#REF!)","v":0},{"$f":"IF(ISERROR((#REF!-#REF!)/#REF!),0,(#REF!-#REF!)/#REF!)","v":0},{"$f":"IF(ISERROR((#REF!-#REF!)/#REF!),0,(#REF!-#REF!)/#REF!)","v":0},{"$f":"IF(ISERROR((#REF!-#REF!)/#REF!),0,(#REF!-#REF!)/#REF!)","v":0},{"$f":"IF(ISERROR((#REF!-#REF!)/#REF!),0,(#REF!-#REF!)/#REF!)","v":0},{"$f":"IF(ISERROR((#REF!-#REF!)/#REF!),0,(#REF!-#REF!)/#REF!)","v":0},{"$f":"IF(ISERROR((#REF!-#REF!)/#REF!),0,(#REF!-#REF!)/#REF!)","v":0},{"$f":"IF(ISERROR((#REF!-#REF!)/#REF!),0,(#REF!-#REF!)/#REF!)","v":0},{"$f":"IF(ISERROR((#REF!-#REF!)/#REF!),0,(#REF!-#REF!)/#REF!)","v":0},{"$f":"IF(ISERROR((#REF!-#REF!)/#REF!),0,(#REF!-#REF!)/#REF!)","v":0}]
[null,"GB05E","Major Therapeutic Endoscopic Retrograde Cholangiopancreatography, with length of stay 2 days or less",0,1389.6740977260652,0,0,5,1090,5,203,"No","-",0,"","",{"$f":"IF(ISERROR((#REF!-#REF!)/#REF!),0,(#REF!-#REF!)/#REF!)","v":0},{"$f":"IF(ISERROR((#REF!-#REF!)/#REF!),0,(#REF!-#REF!)/#REF!)","v":0},{"$f":"IF(ISERROR((#REF!-#REF!)/#REF!),0,(#REF!-#REF!)/#REF!)","v":0},{"$f":"IF(ISERROR((#REF!-#REF!)/#REF!),0,(#REF!-#REF!)/#REF!)","v":0},{"$f":"IF(ISERROR((#REF!-#REF!)/#REF!),0,(#REF!-#REF!)/#REF!)","v":0},{"$f":"IF(ISERROR((#REF!-#REF!)/#REF!),0,(#REF!-#REF!)/#REF!)","v":0},{"$f":"IF(ISERROR((#REF!-#REF!)/#REF!),0,(#REF!-#REF!)/#REF!)","v":0},{"$f":"IF(ISERROR((#REF!-#REF!)/#REF!),0,(#REF!-#REF!)/#REF!)","v":0},{"$f":"IF(ISERROR((#REF!-#REF!)/#REF!),0,(#REF!-#REF!)/#REF!)","v":0},{"$f":"IF(ISERROR((#REF!-#REF!)/#REF!),0,(#REF!-#REF!)/#REF!)","v":0},{"$f":"IF(ISERROR((#REF!-#REF!)/#REF!),0,(#REF!-#REF!)/#REF!)","v":0},{"$f":"IF(ISERROR((#REF!-#REF!)/#REF!),0,(#REF!-#REF!)/#REF!)","v":0},{"$f":"IF(ISERROR((#REF!-#REF!)/#REF!),0,(#REF!-#REF!)/#REF!)","v":0}]
[null,"GB06A","Intermediate Therapeutic Endoscopic Retrograde Cholangiopancreatography, with length of stay 3 days or more, with Major CC",0,6714.5523071081625,0,0,30,7425.4030236875797,44,203,"No","-",0,"","",{"$f":"IF(ISERROR((#REF!-#REF!)/#REF!),0,(#REF!-#REF!)/#REF!)","v":0},{"$f":"IF(ISERROR((#REF!-#REF!)/#REF!),0,(#REF!-#REF!)/#REF!)","v":0},{"$f":"IF(ISERROR((#REF!-#REF!)/#REF!),0,(#REF!-#REF!)/#REF!)","v":0},{"$f":"IF(ISERROR((#REF!-#REF!)/#REF!),0,(#REF!-#REF!)/#REF!)","v":0},{"$f":"IF(ISERROR((#REF!-#REF!)/#REF!),0,(#REF!-#REF!)/#REF!)","v":0},{"$f":"IF(ISERROR((#REF!-#REF!)/#REF!),0,(#REF!-#REF!)/#REF!)","v":0},{"$f":"IF(ISERROR((#REF!-#REF!)/#REF!),0,(#REF!-#REF!)/#REF!)","v":0},{"$f":"IF(ISERROR((#REF!-#REF!)/#REF!),0,(#REF!-#REF!)/#REF!)","v":0},{"$f":"IF(ISERROR((#REF!-#REF!)/#REF!),0,(#REF!-#REF!)/#REF!)","v":0},{"$f":"IF(ISERROR((#REF!-#REF!)/#REF!),0,(#REF!-#REF!)/#REF!)","v":0},{"$f":"IF(ISERROR((#REF!-#REF!)/#REF!),0,(#REF!-#REF!)/#REF!)","v":0},{"$f":"IF(ISERROR((#REF!-#REF!)/#REF!),0,(#REF!-#REF!)/#REF!)","v":0},{"$f":"IF(ISERROR((#REF!-#REF!)/#REF!),0,(#REF!-#REF!)/#REF!)","v":0}]
[null,"GB06B","Intermediate Therapeutic Endoscopic Retrograde Cholangiopancreatography, with length of stay 3 days or more, with Intermediate CC",0,3011,0,0,16,5207.2152575034297,21,203,"No","-",0,"","",{"$f":"IF(ISERROR((#REF!-#REF!)/#REF!),0,(#REF!-#REF!)/#REF!)","v":0},{"$f":"IF(ISERROR((#REF!-#REF!)/#REF!),0,(#REF!-#REF!)/#REF!)","v":0},{"$f":"IF(ISERROR((#REF!-#REF!)/#REF!),0,(#REF!-#REF!)/#REF!)","v":0},{"$f":"IF(ISERROR((#REF!-#REF!)/#REF!),0,(#REF!-#REF!)/#REF!)","v":0},{"$f":"IF(ISERROR((#REF!-#REF!)/#REF!),0,(#REF!-#REF!)/#REF!)","v":0},{"$f":"IF(ISERROR((#REF!-#REF!)/#REF!),0,(#REF!-#REF!)/#REF!)","v":0},{"$f":"IF(ISERROR((#REF!-#REF!)/#REF!),0,(#REF!-#REF!)/#REF!)","v":0},{"$f":"IF(ISERROR((#REF!-#REF!)/#REF!),0,(#REF!-#REF!)/#REF!)","v":0},{"$f":"IF(ISERROR((#REF!-#REF!)/#REF!),0,(#REF!-#REF!)/#REF!)","v":0},{"$f":"IF(ISERROR((#REF!-#REF!)/#REF!),0,(#REF!-#REF!)/#REF!)","v":0},{"$f":"IF(ISERROR((#REF!-#REF!)/#REF!),0,(#REF!-#REF!)/#REF!)","v":0},{"$f":"IF(ISERROR((#REF!-#REF!)/#REF!),0,(#REF!-#REF!)/#REF!)","v":0},{"$f":"IF(ISERROR((#REF!-#REF!)/#REF!),0,(#REF!-#REF!)/#REF!)","v":0}]
[null,"GB06C","Intermediate Therapeutic Endoscopic Retrograde Cholangiopancreatography, with length of stay 3 days or more, without C",0,3761.6786687653703,0,0,11,4830.5371331391489,18,203,"No","-",0,"","",{"$f":"IF(ISERROR((#REF!-#REF!)/#REF!),0,(#REF!-#REF!)/#REF!)","v":0},{"$f":"IF(ISERROR((#REF!-#REF!)/#REF!),0,(#REF!-#REF!)/#REF!)","v":0},{"$f":"IF(ISERROR((#REF!-#REF!)/#REF!),0,(#REF!-#REF!)/#REF!)","v":0},{"$f":"IF(ISERROR((#REF!-#REF!)/#REF!),0,(#REF!-#REF!)/#REF!)","v":0},{"$f":"IF(ISERROR((#REF!-#REF!)/#REF!),0,(#REF!-#REF!)/#REF!)","v":0},{"$f":"IF(ISERROR((#REF!-#REF!)/#REF!),0,(#REF!-#REF!)/#REF!)","v":0},{"$f":"IF(ISERROR((#REF!-#REF!)/#REF!),0,(#REF!-#REF!)/#REF!)","v":0},{"$f":"IF(ISERROR((#REF!-#REF!)/#REF!),0,(#REF!-#REF!)/#REF!)","v":0},{"$f":"IF(ISERROR((#REF!-#REF!)/#REF!),0,(#REF!-#REF!)/#REF!)","v":0},{"$f":"IF(ISERROR((#REF!-#REF!)/#REF!),0,(#REF!-#REF!)/#REF!)","v":0},{"$f":"IF(ISERROR((#REF!-#REF!)/#REF!),0,(#REF!-#REF!)/#REF!)","v":0},{"$f":"IF(ISERROR((#REF!-#REF!)/#REF!),0,(#REF!-#REF!)/#REF!)","v":0},{"$f":"IF(ISERROR((#REF!-#REF!)/#REF!),0,(#REF!-#REF!)/#REF!)","v":0}]
[null,"GB06D","Intermediate Therapeutic Endoscopic Retrograde Cholangiopancreatography, with length of stay 2 days or less",0,848,0,0,5,1055,5,203,"No","-",0,"","",{"$f":"IF(ISERROR((#REF!-#REF!)/#REF!),0,(#REF!-#REF!)/#REF!)","v":0},{"$f":"IF(ISERROR((#REF!-#REF!)/#REF!),0,(#REF!-#REF!)/#REF!)","v":0},{"$f":"IF(ISERROR((#REF!-#REF!)/#REF!),0,(#REF!-#REF!)/#REF!)","v":0},{"$f":"IF(ISERROR((#REF!-#REF!)/#REF!),0,(#REF!-#REF!)/#REF!)","v":0},{"$f":"IF(ISERROR((#REF!-#REF!)/#REF!),0,(#REF!-#REF!)/#REF!)","v":0},{"$f":"IF(ISERROR((#REF!-#REF!)/#REF!),0,(#REF!-#REF!)/#REF!)","v":0},{"$f":"IF(ISERROR((#REF!-#REF!)/#REF!),0,(#REF!-#REF!)/#REF!)","v":0},{"$f":"IF(ISERROR((#REF!-#REF!)/#REF!),0,(#REF!-#REF!)/#REF!)","v":0},{"$f":"IF(ISERROR((#REF!-#REF!)/#REF!),0,(#REF!-#REF!)/#REF!)","v":0},{"$f":"IF(ISERROR((#REF!-#REF!)/#REF!),0,(#REF!-#REF!)/#REF!)","v":0},{"$f":"IF(ISERROR((#REF!-#REF!)/#REF!),0,(#REF!-#REF!)/#REF!)","v":0},{"$f":"IF(ISERROR((#REF!-#REF!)/#REF!),0,(#REF!-#REF!)/#REF!)","v":0},{"$f":"IF(ISERROR((#REF!-#REF!)/#REF!),0,(#REF!-#REF!)/#REF!)","v":0}]
[null,"GB07Z","Minor Diagnostic Endoscopic Retrograde Cholangiopancreatography",0,734,0,0,5,946,5,203,"No","-",0,"","",{"$f":"IF(ISERROR((#REF!-#REF!)/#REF!),0,(#REF!-#REF!)/#REF!)","v":0},{"$f":"IF(ISERROR((#REF!-#REF!)/#REF!),0,(#REF!-#REF!)/#REF!)","v":0},{"$f":"IF(ISERROR((#REF!-#REF!)/#REF!),0,(#REF!-#REF!)/#REF!)","v":0},{"$f":"IF(ISERROR((#REF!-#REF!)/#REF!),0,(#REF!-#REF!)/#REF!)","v":0},{"$f":"IF(ISERROR((#REF!-#REF!)/#REF!),0,(#REF!-#REF!)/#REF!)","v":0},{"$f":"IF(ISERROR((#REF!-#REF!)/#REF!),0,(#REF!-#REF!)/#REF!)","v":0},{"$f":"IF(ISERROR((#REF!-#REF!)/#REF!),0,(#REF!-#REF!)/#REF!)","v":0},{"$f":"IF(ISERROR((#REF!-#REF!)/#REF!),0,(#REF!-#REF!)/#REF!)","v":0},{"$f":"IF(ISERROR((#REF!-#REF!)/#REF!),0,(#REF!-#REF!)/#REF!)","v":0},{"$f":"IF(ISERROR((#REF!-#REF!)/#REF!),0,(#REF!-#REF!)/#REF!)","v":0},{"$f":"IF(ISERROR((#REF!-#REF!)/#REF!),0,(#REF!-#REF!)/#REF!)","v":0},{"$f":"IF(ISERROR((#REF!-#REF!)/#REF!),0,(#REF!-#REF!)/#REF!)","v":0},{"$f":"IF(ISERROR((#REF!-#REF!)/#REF!),0,(#REF!-#REF!)/#REF!)","v":0}]
[null,"GB08A","Complex Endoscopic or Percutaneous, Hepatobiliary or Pancreatic Procedures, with Major CC",0,10416,0,0,57,12246,92,203,"No","-",0,"","",{"$f":"IF(ISERROR((#REF!-#REF!)/#REF!),0,(#REF!-#REF!)/#REF!)","v":0},{"$f":"IF(ISERROR((#REF!-#REF!)/#REF!),0,(#REF!-#REF!)/#REF!)","v":0},{"$f":"IF(ISERROR((#REF!-#REF!)/#REF!),0,(#REF!-#REF!)/#REF!)","v":0},{"$f":"IF(ISERROR((#REF!-#REF!)/#REF!),0,(#REF!-#REF!)/#REF!)","v":0},{"$f":"IF(ISERROR((#REF!-#REF!)/#REF!),0,(#REF!-#REF!)/#REF!)","v":0},{"$f":"IF(ISERROR((#REF!-#REF!)/#REF!),0,(#REF!-#REF!)/#REF!)","v":0},{"$f":"IF(ISERROR((#REF!-#REF!)/#REF!),0,(#REF!-#REF!)/#REF!)","v":0},{"$f":"IF(ISERROR((#REF!-#REF!)/#REF!),0,(#REF!-#REF!)/#REF!)","v":0},{"$f":"IF(ISERROR((#REF!-#REF!)/#REF!),0,(#REF!-#REF!)/#REF!)","v":0},{"$f":"IF(ISERROR((#REF!-#REF!)/#REF!),0,(#REF!-#REF!)/#REF!)","v":0},{"$f":"IF(ISERROR((#REF!-#REF!)/#REF!),0,(#REF!-#REF!)/#REF!)","v":0},{"$f":"IF(ISERROR((#REF!-#REF!)/#REF!),0,(#REF!-#REF!)/#REF!)","v":0},{"$f":"IF(ISERROR((#REF!-#REF!)/#REF!),0,(#REF!-#REF!)/#REF!)","v":0}]
[null,"GB08B","Complex Endoscopic or Percutaneous, Hepatobiliary or Pancreatic Procedures, without Major CC",0,5135,0,0,41,8137,57,203,"No","-",0,"","",{"$f":"IF(ISERROR((#REF!-#REF!)/#REF!),0,(#REF!-#REF!)/#REF!)","v":0},{"$f":"IF(ISERROR((#REF!-#REF!)/#REF!),0,(#REF!-#REF!)/#REF!)","v":0},{"$f":"IF(ISERROR((#REF!-#REF!)/#REF!),0,(#REF!-#REF!)/#REF!)","v":0},{"$f":"IF(ISERROR((#REF!-#REF!)/#REF!),0,(#REF!-#REF!)/#REF!)","v":0},{"$f":"IF(ISERROR((#REF!-#REF!)/#REF!),0,(#REF!-#REF!)/#REF!)","v":0},{"$f":"IF(ISERROR((#REF!-#REF!)/#REF!),0,(#REF!-#REF!)/#REF!)","v":0},{"$f":"IF(ISERROR((#REF!-#REF!)/#REF!),0,(#REF!-#REF!)/#REF!)","v":0},{"$f":"IF(ISERROR((#REF!-#REF!)/#REF!),0,(#REF!-#REF!)/#REF!)","v":0},{"$f":"IF(ISERROR((#REF!-#REF!)/#REF!),0,(#REF!-#REF!)/#REF!)","v":0},{"$f":"IF(ISERROR((#REF!-#REF!)/#REF!),0,(#REF!-#REF!)/#REF!)","v":0},{"$f":"IF(ISERROR((#REF!-#REF!)/#REF!),0,(#REF!-#REF!)/#REF!)","v":0},{"$f":"IF(ISERROR((#REF!-#REF!)/#REF!),0,(#REF!-#REF!)/#REF!)","v":0},{"$f":"IF(ISERROR((#REF!-#REF!)/#REF!),0,(#REF!-#REF!)/#REF!)","v":0}]
[null,"GB09A","Complex Therapeutic Endoscopic Retrograde Cholangiopancreatography, with length of stay 3 days or more, with Major CC",0,1914,0,0,5,5224,40,203,"No","-",0,"","",{"$f":"IF(ISERROR((#REF!-#REF!)/#REF!),0,(#REF!-#REF!)/#REF!)","v":0},{"$f":"IF(ISERROR((#REF!-#REF!)/#REF!),0,(#REF!-#REF!)/#REF!)","v":0},{"$f":"IF(ISERROR((#REF!-#REF!)/#REF!),0,(#REF!-#REF!)/#REF!)","v":0},{"$f":"IF(ISERROR((#REF!-#REF!)/#REF!),0,(#REF!-#REF!)/#REF!)","v":0},{"$f":"IF(ISERROR((#REF!-#REF!)/#REF!),0,(#REF!-#REF!)/#REF!)","v":0},{"$f":"IF(ISERROR((#REF!-#REF!)/#REF!),0,(#REF!-#REF!)/#REF!)","v":0},{"$f":"IF(ISERROR((#REF!-#REF!)/#REF!),0,(#REF!-#REF!)/#REF!)","v":0},{"$f":"IF(ISERROR((#REF!-#REF!)/#REF!),0,(#REF!-#REF!)/#REF!)","v":0},{"$f":"IF(ISERROR((#REF!-#REF!)/#REF!),0,(#REF!-#REF!)/#REF!)","v":0},{"$f":"IF(ISERROR((#REF!-#REF!)/#REF!),0,(#REF!-#REF!)/#REF!)","v":0},{"$f":"IF(ISERROR((#REF!-#REF!)/#REF!),0,(#REF!-#REF!)/#REF!)","v":0},{"$f":"IF(ISERROR((#REF!-#REF!)/#REF!),0,(#REF!-#REF!)/#REF!)","v":0},{"$f":"IF(ISERROR((#REF!-#REF!)/#REF!),0,(#REF!-#REF!)/#REF!)","v":0}]
[null,"GB09B","Complex Therapeutic Endoscopic Retrograde Cholangiopancreatography, with length of stay 3 days or more, without Major CC",0,1914,0,0,5,5224,40,203,"No","-",0,"","",{"$f":"IF(ISERROR((#REF!-#REF!)/#REF!),0,(#REF!-#REF!)/#REF!)","v":0},{"$f":"IF(ISERROR((#REF!-#REF!)/#REF!),0,(#REF!-#REF!)/#REF!)","v":0},{"$f":"IF(ISERROR((#REF!-#REF!)/#REF!),0,(#REF!-#REF!)/#REF!)","v":0},{"$f":"IF(ISERROR((#REF!-#REF!)/#REF!),0,(#REF!-#REF!)/#REF!)","v":0},{"$f":"IF(ISERROR((#REF!-#REF!)/#REF!),0,(#REF!-#REF!)/#REF!)","v":0},{"$f":"IF(ISERROR((#REF!-#REF!)/#REF!),0,(#REF!-#REF!)/#REF!)","v":0},{"$f":"IF(ISERROR((#REF!-#REF!)/#REF!),0,(#REF!-#REF!)/#REF!)","v":0},{"$f":"IF(ISERROR((#REF!-#REF!)/#REF!),0,(#REF!-#REF!)/#REF!)","v":0},{"$f":"IF(ISERROR((#REF!-#REF!)/#REF!),0,(#REF!-#REF!)/#REF!)","v":0},{"$f":"IF(ISERROR((#REF!-#REF!)/#REF!),0,(#REF!-#REF!)/#REF!)","v":0},{"$f":"IF(ISERROR((#REF!-#REF!)/#REF!),0,(#REF!-#REF!)/#REF!)","v":0},{"$f":"IF(ISERROR((#REF!-#REF!)/#REF!),0,(#REF!-#REF!)/#REF!)","v":0},{"$f":"IF(ISERROR((#REF!-#REF!)/#REF!),0,(#REF!-#REF!)/#REF!)","v":0}]
[null,"GB09C","Complex Therapeutic Endoscopic Retrograde Cholangiopancreatography, with length of stay 2 days or less",0,1914,0,0,5,5224,40,203,"No","-",0,"","",{"$f":"IF(ISERROR((#REF!-#REF!)/#REF!),0,(#REF!-#REF!)/#REF!)","v":0},{"$f":"IF(ISERROR((#REF!-#REF!)/#REF!),0,(#REF!-#REF!)/#REF!)","v":0},{"$f":"IF(ISERROR((#REF!-#REF!)/#REF!),0,(#REF!-#REF!)/#REF!)","v":0},{"$f":"IF(ISERROR((#REF!-#REF!)/#REF!),0,(#REF!-#REF!)/#REF!)","v":0},{"$f":"IF(ISERROR((#REF!-#REF!)/#REF!),0,(#REF!-#REF!)/#REF!)","v":0},{"$f":"IF(ISERROR((#REF!-#REF!)/#REF!),0,(#REF!-#REF!)/#REF!)","v":0},{"$f":"IF(ISERROR((#REF!-#REF!)/#REF!),0,(#REF!-#REF!)/#REF!)","v":0},{"$f":"IF(ISERROR((#REF!-#REF!)/#REF!),0,(#REF!-#REF!)/#REF!)","v":0},{"$f":"IF(ISERROR((#REF!-#REF!)/#REF!),0,(#REF!-#REF!)/#REF!)","v":0},{"$f":"IF(ISERROR((#REF!-#REF!)/#REF!),0,(#REF!-#REF!)/#REF!)","v":0},{"$f":"IF(ISERROR((#REF!-#REF!)/#REF!),0,(#REF!-#REF!)/#REF!)","v":0},{"$f":"IF(ISERROR((#REF!-#REF!)/#REF!),0,(#REF!-#REF!)/#REF!)","v":0},{"$f":"IF(ISERROR((#REF!-#REF!)/#REF!),0,(#REF!-#REF!)/#REF!)","v":0}]
[null,"GC01A","Liver Failure Disorders with Interventions",0,3857,0,0,31,4564.1181470987303,44,203,"Yes",0.30000000000000004,1369.2354441296193,"","",{"$f":"IF(ISERROR((#REF!-#REF!)/#REF!),0,(#REF!-#REF!)/#REF!)","v":0},{"$f":"IF(ISERROR((#REF!-#REF!)/#REF!),0,(#REF!-#REF!)/#REF!)","v":0},{"$f":"IF(ISERROR((#REF!-#REF!)/#REF!),0,(#REF!-#REF!)/#REF!)","v":0},{"$f":"IF(ISERROR((#REF!-#REF!)/#REF!),0,(#REF!-#REF!)/#REF!)","v":0},{"$f":"IF(ISERROR((#REF!-#REF!)/#REF!),0,(#REF!-#REF!)/#REF!)","v":0},{"$f":"IF(ISERROR((#REF!-#REF!)/#REF!),0,(#REF!-#REF!)/#REF!)","v":0},{"$f":"IF(ISERROR((#REF!-#REF!)/#REF!),0,(#REF!-#REF!)/#REF!)","v":0},{"$f":"IF(ISERROR((#REF!-#REF!)/#REF!),0,(#REF!-#REF!)/#REF!)","v":0},{"$f":"IF(ISERROR((#REF!-#REF!)/#REF!),0,(#REF!-#REF!)/#REF!)","v":0},{"$f":"IF(ISERROR((#REF!-#REF!)/#REF!),0,(#REF!-#REF!)/#REF!)","v":0},{"$f":"IF(ISERROR((#REF!-#REF!)/#REF!),0,(#REF!-#REF!)/#REF!)","v":0},{"$f":"IF(ISERROR((#REF!-#REF!)/#REF!),0,(#REF!-#REF!)/#REF!)","v":0},{"$f":"IF(ISERROR((#REF!-#REF!)/#REF!),0,(#REF!-#REF!)/#REF!)","v":0}]
[null,"GC01B","Liver Failure Disorders without Interventions",0,1351,0,0,16,3492.6981705691883,20,203,"Yes",0.30000000000000004,1047.8094511707566,"","",{"$f":"IF(ISERROR((#REF!-#REF!)/#REF!),0,(#REF!-#REF!)/#REF!)","v":0},{"$f":"IF(ISERROR((#REF!-#REF!)/#REF!),0,(#REF!-#REF!)/#REF!)","v":0},{"$f":"IF(ISERROR((#REF!-#REF!)/#REF!),0,(#REF!-#REF!)/#REF!)","v":0},{"$f":"IF(ISERROR((#REF!-#REF!)/#REF!),0,(#REF!-#REF!)/#REF!)","v":0},{"$f":"IF(ISERROR((#REF!-#REF!)/#REF!),0,(#REF!-#REF!)/#REF!)","v":0},{"$f":"IF(ISERROR((#REF!-#REF!)/#REF!),0,(#REF!-#REF!)/#REF!)","v":0},{"$f":"IF(ISERROR((#REF!-#REF!)/#REF!),0,(#REF!-#REF!)/#REF!)","v":0},{"$f":"IF(ISERROR((#REF!-#REF!)/#REF!),0,(#REF!-#REF!)/#REF!)","v":0},{"$f":"IF(ISERROR((#REF!-#REF!)/#REF!),0,(#REF!-#REF!)/#REF!)","v":0},{"$f":"IF(ISERROR((#REF!-#REF!)/#REF!),0,(#REF!-#REF!)/#REF!)","v":0},{"$f":"IF(ISERROR((#REF!-#REF!)/#REF!),0,(#REF!-#REF!)/#REF!)","v":0},{"$f":"IF(ISERROR((#REF!-#REF!)/#REF!),0,(#REF!-#REF!)/#REF!)","v":0},{"$f":"IF(ISERROR((#REF!-#REF!)/#REF!),0,(#REF!-#REF!)/#REF!)","v":0}]
[null,"GC12A","Malignant Liver or Pancreatic Disorders, with length of stay 2 days or more",0,2306,0,0,15,3045.8797718095548,29,203,"No","-",0,"","",{"$f":"IF(ISERROR((#REF!-#REF!)/#REF!),0,(#REF!-#REF!)/#REF!)","v":0},{"$f":"IF(ISERROR((#REF!-#REF!)/#REF!),0,(#REF!-#REF!)/#REF!)","v":0},{"$f":"IF(ISERROR((#REF!-#REF!)/#REF!),0,(#REF!-#REF!)/#REF!)","v":0},{"$f":"IF(ISERROR((#REF!-#REF!)/#REF!),0,(#REF!-#REF!)/#REF!)","v":0},{"$f":"IF(ISERROR((#REF!-#REF!)/#REF!),0,(#REF!-#REF!)/#REF!)","v":0},{"$f":"IF(ISERROR((#REF!-#REF!)/#REF!),0,(#REF!-#REF!)/#REF!)","v":0},{"$f":"IF(ISERROR((#REF!-#REF!)/#REF!),0,(#REF!-#REF!)/#REF!)","v":0},{"$f":"IF(ISERROR((#REF!-#REF!)/#REF!),0,(#REF!-#REF!)/#REF!)","v":0},{"$f":"IF(ISERROR((#REF!-#REF!)/#REF!),0,(#REF!-#REF!)/#REF!)","v":0},{"$f":"IF(ISERROR((#REF!-#REF!)/#REF!),0,(#REF!-#REF!)/#REF!)","v":0},{"$f":"IF(ISERROR((#REF!-#REF!)/#REF!),0,(#REF!-#REF!)/#REF!)","v":0},{"$f":"IF(ISERROR((#REF!-#REF!)/#REF!),0,(#REF!-#REF!)/#REF!)","v":0},{"$f":"IF(ISERROR((#REF!-#REF!)/#REF!),0,(#REF!-#REF!)/#REF!)","v":0}]
[null,"GC12B","Malignant Liver or Pancreatic Disorders, with length of stay 1 day or less",0,399,0,0,5,585,5,203,"Yes",1,585,"","",{"$f":"IF(ISERROR((#REF!-#REF!)/#REF!),0,(#REF!-#REF!)/#REF!)","v":0},{"$f":"IF(ISERROR((#REF!-#REF!)/#REF!),0,(#REF!-#REF!)/#REF!)","v":0},{"$f":"IF(ISERROR((#REF!-#REF!)/#REF!),0,(#REF!-#REF!)/#REF!)","v":0},{"$f":"IF(ISERROR((#REF!-#REF!)/#REF!),0,(#REF!-#REF!)/#REF!)","v":0},{"$f":"IF(ISERROR((#REF!-#REF!)/#REF!),0,(#REF!-#REF!)/#REF!)","v":0},{"$f":"IF(ISERROR((#REF!-#REF!)/#REF!),0,(#REF!-#REF!)/#REF!)","v":0},{"$f":"IF(ISERROR((#REF!-#REF!)/#REF!),0,(#REF!-#REF!)/#REF!)","v":0},{"$f":"IF(ISERROR((#REF!-#REF!)/#REF!),0,(#REF!-#REF!)/#REF!)","v":0},{"$f":"IF(ISERROR((#REF!-#REF!)/#REF!),0,(#REF!-#REF!)/#REF!)","v":0},{"$f":"IF(ISERROR((#REF!-#REF!)/#REF!),0,(#REF!-#REF!)/#REF!)","v":0},{"$f":"IF(ISERROR((#REF!-#REF!)/#REF!),0,(#REF!-#REF!)/#REF!)","v":0},{"$f":"IF(ISERROR((#REF!-#REF!)/#REF!),0,(#REF!-#REF!)/#REF!)","v":0},{"$f":"IF(ISERROR((#REF!-#REF!)/#REF!),0,(#REF!-#REF!)/#REF!)","v":0}]
[null,"GC15A","Non-Malignant Liver Disorders with Catastrophic CCs",0,6051,0,0,54,7376.4886562508182,62,203,"Yes",0.30000000000000004,2212.9465968752456,"","",{"$f":"IF(ISERROR((#REF!-#REF!)/#REF!),0,(#REF!-#REF!)/#REF!)","v":0},{"$f":"IF(ISERROR((#REF!-#REF!)/#REF!),0,(#REF!-#REF!)/#REF!)","v":0},{"$f":"IF(ISERROR((#REF!-#REF!)/#REF!),0,(#REF!-#REF!)/#REF!)","v":0},{"$f":"IF(ISERROR((#REF!-#REF!)/#REF!),0,(#REF!-#REF!)/#REF!)","v":0},{"$f":"IF(ISERROR((#REF!-#REF!)/#REF!),0,(#REF!-#REF!)/#REF!)","v":0},{"$f":"IF(ISERROR((#REF!-#REF!)/#REF!),0,(#REF!-#REF!)/#REF!)","v":0},{"$f":"IF(ISERROR((#REF!-#REF!)/#REF!),0,(#REF!-#REF!)/#REF!)","v":0},{"$f":"IF(ISERROR((#REF!-#REF!)/#REF!),0,(#REF!-#REF!)/#REF!)","v":0},{"$f":"IF(ISERROR((#REF!-#REF!)/#REF!),0,(#REF!-#REF!)/#REF!)","v":0},{"$f":"IF(ISERROR((#REF!-#REF!)/#REF!),0,(#REF!-#REF!)/#REF!)","v":0},{"$f":"IF(ISERROR((#REF!-#REF!)/#REF!),0,(#REF!-#REF!)/#REF!)","v":0},{"$f":"IF(ISERROR((#REF!-#REF!)/#REF!),0,(#REF!-#REF!)/#REF!)","v":0},{"$f":"IF(ISERROR((#REF!-#REF!)/#REF!),0,(#REF!-#REF!)/#REF!)","v":0}]
[null,"GC15B","Non-Malignant Liver Disorders with Severe CCs",0,3105,0,0,29,4248.0688684478537,41,203,"Yes",0.30000000000000004,1274.4206605343563,"","",{"$f":"IF(ISERROR((#REF!-#REF!)/#REF!),0,(#REF!-#REF!)/#REF!)","v":0},{"$f":"IF(ISERROR((#REF!-#REF!)/#REF!),0,(#REF!-#REF!)/#REF!)","v":0},{"$f":"IF(ISERROR((#REF!-#REF!)/#REF!),0,(#REF!-#REF!)/#REF!)","v":0},{"$f":"IF(ISERROR((#REF!-#REF!)/#REF!),0,(#REF!-#REF!)/#REF!)","v":0},{"$f":"IF(ISERROR((#REF!-#REF!)/#REF!),0,(#REF!-#REF!)/#REF!)","v":0},{"$f":"IF(ISERROR((#REF!-#REF!)/#REF!),0,(#REF!-#REF!)/#REF!)","v":0},{"$f":"IF(ISERROR((#REF!-#REF!)/#REF!),0,(#REF!-#REF!)/#REF!)","v":0},{"$f":"IF(ISERROR((#REF!-#REF!)/#REF!),0,(#REF!-#REF!)/#REF!)","v":0},{"$f":"IF(ISERROR((#REF!-#REF!)/#REF!),0,(#REF!-#REF!)/#REF!)","v":0},{"$f":"IF(ISERROR((#REF!-#REF!)/#REF!),0,(#REF!-#REF!)/#REF!)","v":0},{"$f":"IF(ISERROR((#REF!-#REF!)/#REF!),0,(#REF!-#REF!)/#REF!)","v":0},{"$f":"IF(ISERROR((#REF!-#REF!)/#REF!),0,(#REF!-#REF!)/#REF!)","v":0},{"$f":"IF(ISERROR((#REF!-#REF!)/#REF!),0,(#REF!-#REF!)/#REF!)","v":0}]
[null,"GC15C","Non-Malignant Liver Disorders with Major CCs",0,1867,0,0,15,4128.7457616916236,29,203,"Yes",0.30000000000000004,1238.6237285074872,"","",{"$f":"IF(ISERROR((#REF!-#REF!)/#REF!),0,(#REF!-#REF!)/#REF!)","v":0},{"$f":"IF(ISERROR((#REF!-#REF!)/#REF!),0,(#REF!-#REF!)/#REF!)","v":0},{"$f":"IF(ISERROR((#REF!-#REF!)/#REF!),0,(#REF!-#REF!)/#REF!)","v":0},{"$f":"IF(ISERROR((#REF!-#REF!)/#REF!),0,(#REF!-#REF!)/#REF!)","v":0},{"$f":"IF(ISERROR((#REF!-#REF!)/#REF!),0,(#REF!-#REF!)/#REF!)","v":0},{"$f":"IF(ISERROR((#REF!-#REF!)/#REF!),0,(#REF!-#REF!)/#REF!)","v":0},{"$f":"IF(ISERROR((#REF!-#REF!)/#REF!),0,(#REF!-#REF!)/#REF!)","v":0},{"$f":"IF(ISERROR((#REF!-#REF!)/#REF!),0,(#REF!-#REF!)/#REF!)","v":0},{"$f":"IF(ISERROR((#REF!-#REF!)/#REF!),0,(#REF!-#REF!)/#REF!)","v":0},{"$f":"IF(ISERROR((#REF!-#REF!)/#REF!),0,(#REF!-#REF!)/#REF!)","v":0},{"$f":"IF(ISERROR((#REF!-#REF!)/#REF!),0,(#REF!-#REF!)/#REF!)","v":0},{"$f":"IF(ISERROR((#REF!-#REF!)/#REF!),0,(#REF!-#REF!)/#REF!)","v":0},{"$f":"IF(ISERROR((#REF!-#REF!)/#REF!),0,(#REF!-#REF!)/#REF!)","v":0}]
[null,"GC15D","Non-Malignant Liver Disorders without Major CCs",0,774,0,0,5,2494.5653420478457,17,203,"Yes",0.30000000000000004,748.36960261435377,"","",{"$f":"IF(ISERROR((#REF!-#REF!)/#REF!),0,(#REF!-#REF!)/#REF!)","v":0},{"$f":"IF(ISERROR((#REF!-#REF!)/#REF!),0,(#REF!-#REF!)/#REF!)","v":0},{"$f":"IF(ISERROR((#REF!-#REF!)/#REF!),0,(#REF!-#REF!)/#REF!)","v":0},{"$f":"IF(ISERROR((#REF!-#REF!)/#REF!),0,(#REF!-#REF!)/#REF!)","v":0},{"$f":"IF(ISERROR((#REF!-#REF!)/#REF!),0,(#REF!-#REF!)/#REF!)","v":0},{"$f":"IF(ISERROR((#REF!-#REF!)/#REF!),0,(#REF!-#REF!)/#REF!)","v":0},{"$f":"IF(ISERROR((#REF!-#REF!)/#REF!),0,(#REF!-#REF!)/#REF!)","v":0},{"$f":"IF(ISERROR((#REF!-#REF!)/#REF!),0,(#REF!-#REF!)/#REF!)","v":0},{"$f":"IF(ISERROR((#REF!-#REF!)/#REF!),0,(#REF!-#REF!)/#REF!)","v":0},{"$f":"IF(ISERROR((#REF!-#REF!)/#REF!),0,(#REF!-#REF!)/#REF!)","v":0},{"$f":"IF(ISERROR((#REF!-#REF!)/#REF!),0,(#REF!-#REF!)/#REF!)","v":0},{"$f":"IF(ISERROR((#REF!-#REF!)/#REF!),0,(#REF!-#REF!)/#REF!)","v":0},{"$f":"IF(ISERROR((#REF!-#REF!)/#REF!),0,(#REF!-#REF!)/#REF!)","v":0}]
[null,"GC16A","Non-Malignant Pancreatic or Biliary Disorders, with Catastrophic CCs",0,4935,0,0,78,7881.3396910168949,56,203,"Yes",0.30000000000000004,2364.401907305069,"","",{"$f":"IF(ISERROR((#REF!-#REF!)/#REF!),0,(#REF!-#REF!)/#REF!)","v":0},{"$f":"IF(ISERROR((#REF!-#REF!)/#REF!),0,(#REF!-#REF!)/#REF!)","v":0},{"$f":"IF(ISERROR((#REF!-#REF!)/#REF!),0,(#REF!-#REF!)/#REF!)","v":0},{"$f":"IF(ISERROR((#REF!-#REF!)/#REF!),0,(#REF!-#REF!)/#REF!)","v":0},{"$f":"IF(ISERROR((#REF!-#REF!)/#REF!),0,(#REF!-#REF!)/#REF!)","v":0},{"$f":"IF(ISERROR((#REF!-#REF!)/#REF!),0,(#REF!-#REF!)/#REF!)","v":0},{"$f":"IF(ISERROR((#REF!-#REF!)/#REF!),0,(#REF!-#REF!)/#REF!)","v":0},{"$f":"IF(ISERROR((#REF!-#REF!)/#REF!),0,(#REF!-#REF!)/#REF!)","v":0},{"$f":"IF(ISERROR((#REF!-#REF!)/#REF!),0,(#REF!-#REF!)/#REF!)","v":0},{"$f":"IF(ISERROR((#REF!-#REF!)/#REF!),0,(#REF!-#REF!)/#REF!)","v":0},{"$f":"IF(ISERROR((#REF!-#REF!)/#REF!),0,(#REF!-#REF!)/#REF!)","v":0},{"$f":"IF(ISERROR((#REF!-#REF!)/#REF!),0,(#REF!-#REF!)/#REF!)","v":0},{"$f":"IF(ISERROR((#REF!-#REF!)/#REF!),0,(#REF!-#REF!)/#REF!)","v":0}]
[null,"GC16B","Non-Malignant Pancreatic or Biliary Disorders, with Severe CCs",0,2765,0,0,31,4727.1261187527534,33,203,"Yes",0.30000000000000004,1418.1378356258263,"","",{"$f":"IF(ISERROR((#REF!-#REF!)/#REF!),0,(#REF!-#REF!)/#REF!)","v":0},{"$f":"IF(ISERROR((#REF!-#REF!)/#REF!),0,(#REF!-#REF!)/#REF!)","v":0},{"$f":"IF(ISERROR((#REF!-#REF!)/#REF!),0,(#REF!-#REF!)/#REF!)","v":0},{"$f":"IF(ISERROR((#REF!-#REF!)/#REF!),0,(#REF!-#REF!)/#REF!)","v":0},{"$f":"IF(ISERROR((#REF!-#REF!)/#REF!),0,(#REF!-#REF!)/#REF!)","v":0},{"$f":"IF(ISERROR((#REF!-#REF!)/#REF!),0,(#REF!-#REF!)/#REF!)","v":0},{"$f":"IF(ISERROR((#REF!-#REF!)/#REF!),0,(#REF!-#REF!)/#REF!)","v":0},{"$f":"IF(ISERROR((#REF!-#REF!)/#REF!),0,(#REF!-#REF!)/#REF!)","v":0},{"$f":"IF(ISERROR((#REF!-#REF!)/#REF!),0,(#REF!-#REF!)/#REF!)","v":0},{"$f":"IF(ISERROR((#REF!-#REF!)/#REF!),0,(#REF!-#REF!)/#REF!)","v":0},{"$f":"IF(ISERROR((#REF!-#REF!)/#REF!),0,(#REF!-#REF!)/#REF!)","v":0},{"$f":"IF(ISERROR((#REF!-#REF!)/#REF!),0,(#REF!-#REF!)/#REF!)","v":0},{"$f":"IF(ISERROR((#REF!-#REF!)/#REF!),0,(#REF!-#REF!)/#REF!)","v":0}]
[null,"GC16C","Non-Malignant Pancreatic or Biliary Disorders, with Major CCs",0,1332,0,0,15,2965.2496152903041,16,203,"Yes",0.30000000000000004,889.57488458709133,"","",{"$f":"IF(ISERROR((#REF!-#REF!)/#REF!),0,(#REF!-#REF!)/#REF!)","v":0},{"$f":"IF(ISERROR((#REF!-#REF!)/#REF!),0,(#REF!-#REF!)/#REF!)","v":0},{"$f":"IF(ISERROR((#REF!-#REF!)/#REF!),0,(#REF!-#REF!)/#REF!)","v":0},{"$f":"IF(ISERROR((#REF!-#REF!)/#REF!),0,(#REF!-#REF!)/#REF!)","v":0},{"$f":"IF(ISERROR((#REF!-#REF!)/#REF!),0,(#REF!-#REF!)/#REF!)","v":0},{"$f":"IF(ISERROR((#REF!-#REF!)/#REF!),0,(#REF!-#REF!)/#REF!)","v":0},{"$f":"IF(ISERROR((#REF!-#REF!)/#REF!),0,(#REF!-#REF!)/#REF!)","v":0},{"$f":"IF(ISERROR((#REF!-#REF!)/#REF!),0,(#REF!-#REF!)/#REF!)","v":0},{"$f":"IF(ISERROR((#REF!-#REF!)/#REF!),0,(#REF!-#REF!)/#REF!)","v":0},{"$f":"IF(ISERROR((#REF!-#REF!)/#REF!),0,(#REF!-#REF!)/#REF!)","v":0},{"$f":"IF(ISERROR((#REF!-#REF!)/#REF!),0,(#REF!-#REF!)/#REF!)","v":0},{"$f":"IF(ISERROR((#REF!-#REF!)/#REF!),0,(#REF!-#REF!)/#REF!)","v":0},{"$f":"IF(ISERROR((#REF!-#REF!)/#REF!),0,(#REF!-#REF!)/#REF!)","v":0}]
[null,"GC16D","Non-Malignant Pancreatic or Biliary Disorders, without Major CCs",0,793,0,0,5,2069.8461531852449,11,203,"Yes",0.4,827.93846127409802,"","",{"$f":"IF(ISERROR((#REF!-#REF!)/#REF!),0,(#REF!-#REF!)/#REF!)","v":0},{"$f":"IF(ISERROR((#REF!-#REF!)/#REF!),0,(#REF!-#REF!)/#REF!)","v":0},{"$f":"IF(ISERROR((#REF!-#REF!)/#REF!),0,(#REF!-#REF!)/#REF!)","v":0},{"$f":"IF(ISERROR((#REF!-#REF!)/#REF!),0,(#REF!-#REF!)/#REF!)","v":0},{"$f":"IF(ISERROR((#REF!-#REF!)/#REF!),0,(#REF!-#REF!)/#REF!)","v":0},{"$f":"IF(ISERROR((#REF!-#REF!)/#REF!),0,(#REF!-#REF!)/#REF!)","v":0},{"$f":"IF(ISERROR((#REF!-#REF!)/#REF!),0,(#REF!-#REF!)/#REF!)","v":0},{"$f":"IF(ISERROR((#REF!-#REF!)/#REF!),0,(#REF!-#REF!)/#REF!)","v":0},{"$f":"IF(ISERROR((#REF!-#REF!)/#REF!),0,(#REF!-#REF!)/#REF!)","v":0},{"$f":"IF(ISERROR((#REF!-#REF!)/#REF!),0,(#REF!-#REF!)/#REF!)","v":0},{"$f":"IF(ISERROR((#REF!-#REF!)/#REF!),0,(#REF!-#REF!)/#REF!)","v":0},{"$f":"IF(ISERROR((#REF!-#REF!)/#REF!),0,(#REF!-#REF!)/#REF!)","v":0},{"$f":"IF(ISERROR((#REF!-#REF!)/#REF!),0,(#REF!-#REF!)/#REF!)","v":0}]
[null,"HA11A","Major Hip Procedures for Trauma, Category 2, with Major CC",0,8508,0,0,86,14237.860310556967,86,210,"No","-",0,1,"sub-HRG",{"$f":"IF(ISERROR((#REF!-#REF!)/#REF!),0,(#REF!-#REF!)/#REF!)","v":0},{"$f":"IF(ISERROR((#REF!-#REF!)/#REF!),0,(#REF!-#REF!)/#REF!)","v":0},{"$f":"IF(ISERROR((#REF!-#REF!)/#REF!),0,(#REF!-#REF!)/#REF!)","v":0},{"$f":"IF(ISERROR((#REF!-#REF!)/#REF!),0,(#REF!-#REF!)/#REF!)","v":0},{"$f":"IF(ISERROR((#REF!-#REF!)/#REF!),0,(#REF!-#REF!)/#REF!)","v":0},{"$f":"IF(ISERROR((#REF!-#REF!)/#REF!),0,(#REF!-#REF!)/#REF!)","v":0},{"$f":"IF(ISERROR((#REF!-#REF!)/#REF!),0,(#REF!-#REF!)/#REF!)","v":0},{"$f":"IF(ISERROR((#REF!-#REF!)/#REF!),0,(#REF!-#REF!)/#REF!)","v":0},{"$f":"IF(ISERROR((#REF!-#REF!)/#REF!),0,(#REF!-#REF!)/#REF!)","v":0},{"$f":"IF(ISERROR((#REF!-#REF!)/#REF!),0,(#REF!-#REF!)/#REF!)","v":0},{"$f":"IF(ISERROR((#REF!-#REF!)/#REF!),0,(#REF!-#REF!)/#REF!)","v":0},{"$f":"IF(ISERROR((#REF!-#REF!)/#REF!),0,(#REF!-#REF!)/#REF!)","v":0},{"$f":"IF(ISERROR((#REF!-#REF!)/#REF!),0,(#REF!-#REF!)/#REF!)","v":0}]
[null,"HA11B","Major Hip Procedures for Trauma, Category 2, with Intermediate CC",0,7696,0,0,38,9690.0150918767085,38,210,"No","-",0,1,"sub-HRG",{"$f":"IF(ISERROR((#REF!-#REF!)/#REF!),0,(#REF!-#REF!)/#REF!)","v":0},{"$f":"IF(ISERROR((#REF!-#REF!)/#REF!),0,(#REF!-#REF!)/#REF!)","v":0},{"$f":"IF(ISERROR((#REF!-#REF!)/#REF!),0,(#REF!-#REF!)/#REF!)","v":0},{"$f":"IF(ISERROR((#REF!-#REF!)/#REF!),0,(#REF!-#REF!)/#REF!)","v":0},{"$f":"IF(ISERROR((#REF!-#REF!)/#REF!),0,(#REF!-#REF!)/#REF!)","v":0},{"$f":"IF(ISERROR((#REF!-#REF!)/#REF!),0,(#REF!-#REF!)/#REF!)","v":0},{"$f":"IF(ISERROR((#REF!-#REF!)/#REF!),0,(#REF!-#REF!)/#REF!)","v":0},{"$f":"IF(ISERROR((#REF!-#REF!)/#REF!),0,(#REF!-#REF!)/#REF!)","v":0},{"$f":"IF(ISERROR((#REF!-#REF!)/#REF!),0,(#REF!-#REF!)/#REF!)","v":0},{"$f":"IF(ISERROR((#REF!-#REF!)/#REF!),0,(#REF!-#REF!)/#REF!)","v":0},{"$f":"IF(ISERROR((#REF!-#REF!)/#REF!),0,(#REF!-#REF!)/#REF!)","v":0},{"$f":"IF(ISERROR((#REF!-#REF!)/#REF!),0,(#REF!-#REF!)/#REF!)","v":0},{"$f":"IF(ISERROR((#REF!-#REF!)/#REF!),0,(#REF!-#REF!)/#REF!)","v":0}]
[null,"HA11C","Major Hip Procedures for Trauma, Category 2, without CC",0,6482,0,0,30,9019.4535686651143,30,210,"No","-",0,1,"sub-HRG",{"$f":"IF(ISERROR((#REF!-#REF!)/#REF!),0,(#REF!-#REF!)/#REF!)","v":0},{"$f":"IF(ISERROR((#REF!-#REF!)/#REF!),0,(#REF!-#REF!)/#REF!)","v":0},{"$f":"IF(ISERROR((#REF!-#REF!)/#REF!),0,(#REF!-#REF!)/#REF!)","v":0},{"$f":"IF(ISERROR((#REF!-#REF!)/#REF!),0,(#REF!-#REF!)/#REF!)","v":0},{"$f":"IF(ISERROR((#REF!-#REF!)/#REF!),0,(#REF!-#REF!)/#REF!)","v":0},{"$f":"IF(ISERROR((#REF!-#REF!)/#REF!),0,(#REF!-#REF!)/#REF!)","v":0},{"$f":"IF(ISERROR((#REF!-#REF!)/#REF!),0,(#REF!-#REF!)/#REF!)","v":0},{"$f":"IF(ISERROR((#REF!-#REF!)/#REF!),0,(#REF!-#REF!)/#REF!)","v":0},{"$f":"IF(ISERROR((#REF!-#REF!)/#REF!),0,(#REF!-#REF!)/#REF!)","v":0},{"$f":"IF(ISERROR((#REF!-#REF!)/#REF!),0,(#REF!-#REF!)/#REF!)","v":0},{"$f":"IF(ISERROR((#REF!-#REF!)/#REF!),0,(#REF!-#REF!)/#REF!)","v":0},{"$f":"IF(ISERROR((#REF!-#REF!)/#REF!),0,(#REF!-#REF!)/#REF!)","v":0},{"$f":"IF(ISERROR((#REF!-#REF!)/#REF!),0,(#REF!-#REF!)/#REF!)","v":0}]
[null,"HA12B","Major Hip Procedures for Trauma, Category 1, with CC",0,8274,0,0,52,11153.578362746483,52,210,"No","-",0,1,"sub-HRG",{"$f":"IF(ISERROR((#REF!-#REF!)/#REF!),0,(#REF!-#REF!)/#REF!)","v":0},{"$f":"IF(ISERROR((#REF!-#REF!)/#REF!),0,(#REF!-#REF!)/#REF!)","v":0},{"$f":"IF(ISERROR((#REF!-#REF!)/#REF!),0,(#REF!-#REF!)/#REF!)","v":0},{"$f":"IF(ISERROR((#REF!-#REF!)/#REF!),0,(#REF!-#REF!)/#REF!)","v":0},{"$f":"IF(ISERROR((#REF!-#REF!)/#REF!),0,(#REF!-#REF!)/#REF!)","v":0},{"$f":"IF(ISERROR((#REF!-#REF!)/#REF!),0,(#REF!-#REF!)/#REF!)","v":0},{"$f":"IF(ISERROR((#REF!-#REF!)/#REF!),0,(#REF!-#REF!)/#REF!)","v":0},{"$f":"IF(ISERROR((#REF!-#REF!)/#REF!),0,(#REF!-#REF!)/#REF!)","v":0},{"$f":"IF(ISERROR((#REF!-#REF!)/#REF!),0,(#REF!-#REF!)/#REF!)","v":0},{"$f":"IF(ISERROR((#REF!-#REF!)/#REF!),0,(#REF!-#REF!)/#REF!)","v":0},{"$f":"IF(ISERROR((#REF!-#REF!)/#REF!),0,(#REF!-#REF!)/#REF!)","v":0},{"$f":"IF(ISERROR((#REF!-#REF!)/#REF!),0,(#REF!-#REF!)/#REF!)","v":0},{"$f":"IF(ISERROR((#REF!-#REF!)/#REF!),0,(#REF!-#REF!)/#REF!)","v":0}]
[null,"HA12C","Major Hip Procedures for Trauma, Category 1, without CC",0,7731.4885874904621,0,0,29,7586.7400066686359,29,210,"No","-",0,1,"sub-HRG",{"$f":"IF(ISERROR((#REF!-#REF!)/#REF!),0,(#REF!-#REF!)/#REF!)","v":0},{"$f":"IF(ISERROR((#REF!-#REF!)/#REF!),0,(#REF!-#REF!)/#REF!)","v":0},{"$f":"IF(ISERROR((#REF!-#REF!)/#REF!),0,(#REF!-#REF!)/#REF!)","v":0},{"$f":"IF(ISERROR((#REF!-#REF!)/#REF!),0,(#REF!-#REF!)/#REF!)","v":0},{"$f":"IF(ISERROR((#REF!-#REF!)/#REF!),0,(#REF!-#REF!)/#REF!)","v":0},{"$f":"IF(ISERROR((#REF!-#REF!)/#REF!),0,(#REF!-#REF!)/#REF!)","v":0},{"$f":"IF(ISERROR((#REF!-#REF!)/#REF!),0,(#REF!-#REF!)/#REF!)","v":0},{"$f":"IF(ISERROR((#REF!-#REF!)/#REF!),0,(#REF!-#REF!)/#REF!)","v":0},{"$f":"IF(ISERROR((#REF!-#REF!)/#REF!),0,(#REF!-#REF!)/#REF!)","v":0},{"$f":"IF(ISERROR((#REF!-#REF!)/#REF!),0,(#REF!-#REF!)/#REF!)","v":0},{"$f":"IF(ISERROR((#REF!-#REF!)/#REF!),0,(#REF!-#REF!)/#REF!)","v":0},{"$f":"IF(ISERROR((#REF!-#REF!)/#REF!),0,(#REF!-#REF!)/#REF!)","v":0},{"$f":"IF(ISERROR((#REF!-#REF!)/#REF!),0,(#REF!-#REF!)/#REF!)","v":0}]
[null,"HA13A","Intermediate Hip Procedures for Trauma, with Major CC",0,6900,0,0,60,10583.543284924213,60,210,"No","-",0,1,"sub-HRG",{"$f":"IF(ISERROR((#REF!-#REF!)/#REF!),0,(#REF!-#REF!)/#REF!)","v":0},{"$f":"IF(ISERROR((#REF!-#REF!)/#REF!),0,(#REF!-#REF!)/#REF!)","v":0},{"$f":"IF(ISERROR((#REF!-#REF!)/#REF!),0,(#REF!-#REF!)/#REF!)","v":0},{"$f":"IF(ISERROR((#REF!-#REF!)/#REF!),0,(#REF!-#REF!)/#REF!)","v":0},{"$f":"IF(ISERROR((#REF!-#REF!)/#REF!),0,(#REF!-#REF!)/#REF!)","v":0},{"$f":"IF(ISERROR((#REF!-#REF!)/#REF!),0,(#REF!-#REF!)/#REF!)","v":0},{"$f":"IF(ISERROR((#REF!-#REF!)/#REF!),0,(#REF!-#REF!)/#REF!)","v":0},{"$f":"IF(ISERROR((#REF!-#REF!)/#REF!),0,(#REF!-#REF!)/#REF!)","v":0},{"$f":"IF(ISERROR((#REF!-#REF!)/#REF!),0,(#REF!-#REF!)/#REF!)","v":0},{"$f":"IF(ISERROR((#REF!-#REF!)/#REF!),0,(#REF!-#REF!)/#REF!)","v":0},{"$f":"IF(ISERROR((#REF!-#REF!)/#REF!),0,(#REF!-#REF!)/#REF!)","v":0},{"$f":"IF(ISERROR((#REF!-#REF!)/#REF!),0,(#REF!-#REF!)/#REF!)","v":0},{"$f":"IF(ISERROR((#REF!-#REF!)/#REF!),0,(#REF!-#REF!)/#REF!)","v":0}]
[null,"HA13B","Intermediate Hip Procedures for Trauma, with Intermediate CC",0,5538,0,0,35,10507.915675031556,35,210,"No","-",0,1,"sub-HRG",{"$f":"IF(ISERROR((#REF!-#REF!)/#REF!),0,(#REF!-#REF!)/#REF!)","v":0},{"$f":"IF(ISERROR((#REF!-#REF!)/#REF!),0,(#REF!-#REF!)/#REF!)","v":0},{"$f":"IF(ISERROR((#REF!-#REF!)/#REF!),0,(#REF!-#REF!)/#REF!)","v":0},{"$f":"IF(ISERROR((#REF!-#REF!)/#REF!),0,(#REF!-#REF!)/#REF!)","v":0},{"$f":"IF(ISERROR((#REF!-#REF!)/#REF!),0,(#REF!-#REF!)/#REF!)","v":0},{"$f":"IF(ISERROR((#REF!-#REF!)/#REF!),0,(#REF!-#REF!)/#REF!)","v":0},{"$f":"IF(ISERROR((#REF!-#REF!)/#REF!),0,(#REF!-#REF!)/#REF!)","v":0},{"$f":"IF(ISERROR((#REF!-#REF!)/#REF!),0,(#REF!-#REF!)/#REF!)","v":0},{"$f":"IF(ISERROR((#REF!-#REF!)/#REF!),0,(#REF!-#REF!)/#REF!)","v":0},{"$f":"IF(ISERROR((#REF!-#REF!)/#REF!),0,(#REF!-#REF!)/#REF!)","v":0},{"$f":"IF(ISERROR((#REF!-#REF!)/#REF!),0,(#REF!-#REF!)/#REF!)","v":0},{"$f":"IF(ISERROR((#REF!-#REF!)/#REF!),0,(#REF!-#REF!)/#REF!)","v":0},{"$f":"IF(ISERROR((#REF!-#REF!)/#REF!),0,(#REF!-#REF!)/#REF!)","v":0}]
[null,"HA13C","Intermediate Hip Procedures for Trauma, without CC",0,5537,0,0,29,6469.8962886622285,29,210,"No","-",0,1,"sub-HRG",{"$f":"IF(ISERROR((#REF!-#REF!)/#REF!),0,(#REF!-#REF!)/#REF!)","v":0},{"$f":"IF(ISERROR((#REF!-#REF!)/#REF!),0,(#REF!-#REF!)/#REF!)","v":0},{"$f":"IF(ISERROR((#REF!-#REF!)/#REF!),0,(#REF!-#REF!)/#REF!)","v":0},{"$f":"IF(ISERROR((#REF!-#REF!)/#REF!),0,(#REF!-#REF!)/#REF!)","v":0},{"$f":"IF(ISERROR((#REF!-#REF!)/#REF!),0,(#REF!-#REF!)/#REF!)","v":0},{"$f":"IF(ISERROR((#REF!-#REF!)/#REF!),0,(#REF!-#REF!)/#REF!)","v":0},{"$f":"IF(ISERROR((#REF!-#REF!)/#REF!),0,(#REF!-#REF!)/#REF!)","v":0},{"$f":"IF(ISERROR((#REF!-#REF!)/#REF!),0,(#REF!-#REF!)/#REF!)","v":0},{"$f":"IF(ISERROR((#REF!-#REF!)/#REF!),0,(#REF!-#REF!)/#REF!)","v":0},{"$f":"IF(ISERROR((#REF!-#REF!)/#REF!),0,(#REF!-#REF!)/#REF!)","v":0},{"$f":"IF(ISERROR((#REF!-#REF!)/#REF!),0,(#REF!-#REF!)/#REF!)","v":0},{"$f":"IF(ISERROR((#REF!-#REF!)/#REF!),0,(#REF!-#REF!)/#REF!)","v":0},{"$f":"IF(ISERROR((#REF!-#REF!)/#REF!),0,(#REF!-#REF!)/#REF!)","v":0}]
[null,"HA14A","Minor Hip Procedures for Trauma, with Major CC",0,2701,0,0,60,5106.5535751683756,60,210,"No","-",0,1,"sub-HRG",{"$f":"IF(ISERROR((#REF!-#REF!)/#REF!),0,(#REF!-#REF!)/#REF!)","v":0},{"$f":"IF(ISERROR((#REF!-#REF!)/#REF!),0,(#REF!-#REF!)/#REF!)","v":0},{"$f":"IF(ISERROR((#REF!-#REF!)/#REF!),0,(#REF!-#REF!)/#REF!)","v":0},{"$f":"IF(ISERROR((#REF!-#REF!)/#REF!),0,(#REF!-#REF!)/#REF!)","v":0},{"$f":"IF(ISERROR((#REF!-#REF!)/#REF!),0,(#REF!-#REF!)/#REF!)","v":0},{"$f":"IF(ISERROR((#REF!-#REF!)/#REF!),0,(#REF!-#REF!)/#REF!)","v":0},{"$f":"IF(ISERROR((#REF!-#REF!)/#REF!),0,(#REF!-#REF!)/#REF!)","v":0},{"$f":"IF(ISERROR((#REF!-#REF!)/#REF!),0,(#REF!-#REF!)/#REF!)","v":0},{"$f":"IF(ISERROR((#REF!-#REF!)/#REF!),0,(#REF!-#REF!)/#REF!)","v":0},{"$f":"IF(ISERROR((#REF!-#REF!)/#REF!),0,(#REF!-#REF!)/#REF!)","v":0},{"$f":"IF(ISERROR((#REF!-#REF!)/#REF!),0,(#REF!-#REF!)/#REF!)","v":0},{"$f":"IF(ISERROR((#REF!-#REF!)/#REF!),0,(#REF!-#REF!)/#REF!)","v":0},{"$f":"IF(ISERROR((#REF!-#REF!)/#REF!),0,(#REF!-#REF!)/#REF!)","v":0}]
[null,"HA14B","Minor Hip Procedures for Trauma, with Intermediate CC",0,2101,0,0,33,2101,33,210,"No","-",0,1,"sub-HRG",{"$f":"IF(ISERROR((#REF!-#REF!)/#REF!),0,(#REF!-#REF!)/#REF!)","v":0},{"$f":"IF(ISERROR((#REF!-#REF!)/#REF!),0,(#REF!-#REF!)/#REF!)","v":0},{"$f":"IF(ISERROR((#REF!-#REF!)/#REF!),0,(#REF!-#REF!)/#REF!)","v":0},{"$f":"IF(ISERROR((#REF!-#REF!)/#REF!),0,(#REF!-#REF!)/#REF!)","v":0},{"$f":"IF(ISERROR((#REF!-#REF!)/#REF!),0,(#REF!-#REF!)/#REF!)","v":0},{"$f":"IF(ISERROR((#REF!-#REF!)/#REF!),0,(#REF!-#REF!)/#REF!)","v":0},{"$f":"IF(ISERROR((#REF!-#REF!)/#REF!),0,(#REF!-#REF!)/#REF!)","v":0},{"$f":"IF(ISERROR((#REF!-#REF!)/#REF!),0,(#REF!-#REF!)/#REF!)","v":0},{"$f":"IF(ISERROR((#REF!-#REF!)/#REF!),0,(#REF!-#REF!)/#REF!)","v":0},{"$f":"IF(ISERROR((#REF!-#REF!)/#REF!),0,(#REF!-#REF!)/#REF!)","v":0},{"$f":"IF(ISERROR((#REF!-#REF!)/#REF!),0,(#REF!-#REF!)/#REF!)","v":0},{"$f":"IF(ISERROR((#REF!-#REF!)/#REF!),0,(#REF!-#REF!)/#REF!)","v":0},{"$f":"IF(ISERROR((#REF!-#REF!)/#REF!),0,(#REF!-#REF!)/#REF!)","v":0}]
[null,"HA14C","Minor Hip Procedures for Trauma, without CC",0,2986.6064523984833,0,0,24,1488,24,210,"No","-",0,1,"sub-HRG",{"$f":"IF(ISERROR((#REF!-#REF!)/#REF!),0,(#REF!-#REF!)/#REF!)","v":0},{"$f":"IF(ISERROR((#REF!-#REF!)/#REF!),0,(#REF!-#REF!)/#REF!)","v":0},{"$f":"IF(ISERROR((#REF!-#REF!)/#REF!),0,(#REF!-#REF!)/#REF!)","v":0},{"$f":"IF(ISERROR((#REF!-#REF!)/#REF!),0,(#REF!-#REF!)/#REF!)","v":0},{"$f":"IF(ISERROR((#REF!-#REF!)/#REF!),0,(#REF!-#REF!)/#REF!)","v":0},{"$f":"IF(ISERROR((#REF!-#REF!)/#REF!),0,(#REF!-#REF!)/#REF!)","v":0},{"$f":"IF(ISERROR((#REF!-#REF!)/#REF!),0,(#REF!-#REF!)/#REF!)","v":0},{"$f":"IF(ISERROR((#REF!-#REF!)/#REF!),0,(#REF!-#REF!)/#REF!)","v":0},{"$f":"IF(ISERROR((#REF!-#REF!)/#REF!),0,(#REF!-#REF!)/#REF!)","v":0},{"$f":"IF(ISERROR((#REF!-#REF!)/#REF!),0,(#REF!-#REF!)/#REF!)","v":0},{"$f":"IF(ISERROR((#REF!-#REF!)/#REF!),0,(#REF!-#REF!)/#REF!)","v":0},{"$f":"IF(ISERROR((#REF!-#REF!)/#REF!),0,(#REF!-#REF!)/#REF!)","v":0},{"$f":"IF(ISERROR((#REF!-#REF!)/#REF!),0,(#REF!-#REF!)/#REF!)","v":0}]
[null,"HA19Z","Minimal Hip Procedures for Trauma, with length of stay 1 day or less",0,642,0,0,5,902,5,210,"No","-",0,"","",{"$f":"IF(ISERROR((#REF!-#REF!)/#REF!),0,(#REF!-#REF!)/#REF!)","v":0},{"$f":"IF(ISERROR((#REF!-#REF!)/#REF!),0,(#REF!-#REF!)/#REF!)","v":0},{"$f":"IF(ISERROR((#REF!-#REF!)/#REF!),0,(#REF!-#REF!)/#REF!)","v":0},{"$f":"IF(ISERROR((#REF!-#REF!)/#REF!),0,(#REF!-#REF!)/#REF!)","v":0},{"$f":"IF(ISERROR((#REF!-#REF!)/#REF!),0,(#REF!-#REF!)/#REF!)","v":0},{"$f":"IF(ISERROR((#REF!-#REF!)/#REF!),0,(#REF!-#REF!)/#REF!)","v":0},{"$f":"IF(ISERROR((#REF!-#REF!)/#REF!),0,(#REF!-#REF!)/#REF!)","v":0},{"$f":"IF(ISERROR((#REF!-#REF!)/#REF!),0,(#REF!-#REF!)/#REF!)","v":0},{"$f":"IF(ISERROR((#REF!-#REF!)/#REF!),0,(#REF!-#REF!)/#REF!)","v":0},{"$f":"IF(ISERROR((#REF!-#REF!)/#REF!),0,(#REF!-#REF!)/#REF!)","v":0},{"$f":"IF(ISERROR((#REF!-#REF!)/#REF!),0,(#REF!-#REF!)/#REF!)","v":0},{"$f":"IF(ISERROR((#REF!-#REF!)/#REF!),0,(#REF!-#REF!)/#REF!)","v":0},{"$f":"IF(ISERROR((#REF!-#REF!)/#REF!),0,(#REF!-#REF!)/#REF!)","v":0}]
[null,"HA21B","Major Knee Procedures for Trauma, Category 2, with CC",0,6839,0,0,57,7063.0876858316251,57,210,"No","-",0,"","",{"$f":"IF(ISERROR((#REF!-#REF!)/#REF!),0,(#REF!-#REF!)/#REF!)","v":0},{"$f":"IF(ISERROR((#REF!-#REF!)/#REF!),0,(#REF!-#REF!)/#REF!)","v":0},{"$f":"IF(ISERROR((#REF!-#REF!)/#REF!),0,(#REF!-#REF!)/#REF!)","v":0},{"$f":"IF(ISERROR((#REF!-#REF!)/#REF!),0,(#REF!-#REF!)/#REF!)","v":0},{"$f":"IF(ISERROR((#REF!-#REF!)/#REF!),0,(#REF!-#REF!)/#REF!)","v":0},{"$f":"IF(ISERROR((#REF!-#REF!)/#REF!),0,(#REF!-#REF!)/#REF!)","v":0},{"$f":"IF(ISERROR((#REF!-#REF!)/#REF!),0,(#REF!-#REF!)/#REF!)","v":0},{"$f":"IF(ISERROR((#REF!-#REF!)/#REF!),0,(#REF!-#REF!)/#REF!)","v":0},{"$f":"IF(ISERROR((#REF!-#REF!)/#REF!),0,(#REF!-#REF!)/#REF!)","v":0},{"$f":"IF(ISERROR((#REF!-#REF!)/#REF!),0,(#REF!-#REF!)/#REF!)","v":0},{"$f":"IF(ISERROR((#REF!-#REF!)/#REF!),0,(#REF!-#REF!)/#REF!)","v":0},{"$f":"IF(ISERROR((#REF!-#REF!)/#REF!),0,(#REF!-#REF!)/#REF!)","v":0},{"$f":"IF(ISERROR((#REF!-#REF!)/#REF!),0,(#REF!-#REF!)/#REF!)","v":0}]
[null,"HA21C","Major Knee Procedures for Trauma, Category 2, without CC",0,5809,0,0,15,5809,15,210,"No","-",0,"","",{"$f":"IF(ISERROR((#REF!-#REF!)/#REF!),0,(#REF!-#REF!)/#REF!)","v":0},{"$f":"IF(ISERROR((#REF!-#REF!)/#REF!),0,(#REF!-#REF!)/#REF!)","v":0},{"$f":"IF(ISERROR((#REF!-#REF!)/#REF!),0,(#REF!-#REF!)/#REF!)","v":0},{"$f":"IF(ISERROR((#REF!-#REF!)/#REF!),0,(#REF!-#REF!)/#REF!)","v":0},{"$f":"IF(ISERROR((#REF!-#REF!)/#REF!),0,(#REF!-#REF!)/#REF!)","v":0},{"$f":"IF(ISERROR((#REF!-#REF!)/#REF!),0,(#REF!-#REF!)/#REF!)","v":0},{"$f":"IF(ISERROR((#REF!-#REF!)/#REF!),0,(#REF!-#REF!)/#REF!)","v":0},{"$f":"IF(ISERROR((#REF!-#REF!)/#REF!),0,(#REF!-#REF!)/#REF!)","v":0},{"$f":"IF(ISERROR((#REF!-#REF!)/#REF!),0,(#REF!-#REF!)/#REF!)","v":0},{"$f":"IF(ISERROR((#REF!-#REF!)/#REF!),0,(#REF!-#REF!)/#REF!)","v":0},{"$f":"IF(ISERROR((#REF!-#REF!)/#REF!),0,(#REF!-#REF!)/#REF!)","v":0},{"$f":"IF(ISERROR((#REF!-#REF!)/#REF!),0,(#REF!-#REF!)/#REF!)","v":0},{"$f":"IF(ISERROR((#REF!-#REF!)/#REF!),0,(#REF!-#REF!)/#REF!)","v":0}]
[null,"HA22B","Major Knee Procedures for Trauma, Category 1, with CC",0,5688,0,0,62,9583.9054468116592,62,210,"No","-",0,"","",{"$f":"IF(ISERROR((#REF!-#REF!)/#REF!),0,(#REF!-#REF!)/#REF!)","v":0},{"$f":"IF(ISERROR((#REF!-#REF!)/#REF!),0,(#REF!-#REF!)/#REF!)","v":0},{"$f":"IF(ISERROR((#REF!-#REF!)/#REF!),0,(#REF!-#REF!)/#REF!)","v":0},{"$f":"IF(ISERROR((#REF!-#REF!)/#REF!),0,(#REF!-#REF!)/#REF!)","v":0},{"$f":"IF(ISERROR((#REF!-#REF!)/#REF!),0,(#REF!-#REF!)/#REF!)","v":0},{"$f":"IF(ISERROR((#REF!-#REF!)/#REF!),0,(#REF!-#REF!)/#REF!)","v":0},{"$f":"IF(ISERROR((#REF!-#REF!)/#REF!),0,(#REF!-#REF!)/#REF!)","v":0},{"$f":"IF(ISERROR((#REF!-#REF!)/#REF!),0,(#REF!-#REF!)/#REF!)","v":0},{"$f":"IF(ISERROR((#REF!-#REF!)/#REF!),0,(#REF!-#REF!)/#REF!)","v":0},{"$f":"IF(ISERROR((#REF!-#REF!)/#REF!),0,(#REF!-#REF!)/#REF!)","v":0},{"$f":"IF(ISERROR((#REF!-#REF!)/#REF!),0,(#REF!-#REF!)/#REF!)","v":0},{"$f":"IF(ISERROR((#REF!-#REF!)/#REF!),0,(#REF!-#REF!)/#REF!)","v":0},{"$f":"IF(ISERROR((#REF!-#REF!)/#REF!),0,(#REF!-#REF!)/#REF!)","v":0}]
[null,"HA22C","Major Knee Procedures for Trauma, Category 1, without CC",0,5059.5883503621162,0,0,13,3562,13,210,"No","-",0,"","",{"$f":"IF(ISERROR((#REF!-#REF!)/#REF!),0,(#REF!-#REF!)/#REF!)","v":0},{"$f":"IF(ISERROR((#REF!-#REF!)/#REF!),0,(#REF!-#REF!)/#REF!)","v":0},{"$f":"IF(ISERROR((#REF!-#REF!)/#REF!),0,(#REF!-#REF!)/#REF!)","v":0},{"$f":"IF(ISERROR((#REF!-#REF!)/#REF!),0,(#REF!-#REF!)/#REF!)","v":0},{"$f":"IF(ISERROR((#REF!-#REF!)/#REF!),0,(#REF!-#REF!)/#REF!)","v":0},{"$f":"IF(ISERROR((#REF!-#REF!)/#REF!),0,(#REF!-#REF!)/#REF!)","v":0},{"$f":"IF(ISERROR((#REF!-#REF!)/#REF!),0,(#REF!-#REF!)/#REF!)","v":0},{"$f":"IF(ISERROR((#REF!-#REF!)/#REF!),0,(#REF!-#REF!)/#REF!)","v":0},{"$f":"IF(ISERROR((#REF!-#REF!)/#REF!),0,(#REF!-#REF!)/#REF!)","v":0},{"$f":"IF(ISERROR((#REF!-#REF!)/#REF!),0,(#REF!-#REF!)/#REF!)","v":0},{"$f":"IF(ISERROR((#REF!-#REF!)/#REF!),0,(#REF!-#REF!)/#REF!)","v":0},{"$f":"IF(ISERROR((#REF!-#REF!)/#REF!),0,(#REF!-#REF!)/#REF!)","v":0},{"$f":"IF(ISERROR((#REF!-#REF!)/#REF!),0,(#REF!-#REF!)/#REF!)","v":0}]
[null,"HA23B","Intermediate Knee Procedures for Trauma, Category 2, with CC",0,4428,0,0,47,4428,47,210,"No","-",0,"","",{"$f":"IF(ISERROR((#REF!-#REF!)/#REF!),0,(#REF!-#REF!)/#REF!)","v":0},{"$f":"IF(ISERROR((#REF!-#REF!)/#REF!),0,(#REF!-#REF!)/#REF!)","v":0},{"$f":"IF(ISERROR((#REF!-#REF!)/#REF!),0,(#REF!-#REF!)/#REF!)","v":0},{"$f":"IF(ISERROR((#REF!-#REF!)/#REF!),0,(#REF!-#REF!)/#REF!)","v":0},{"$f":"IF(ISERROR((#REF!-#REF!)/#REF!),0,(#REF!-#REF!)/#REF!)","v":0},{"$f":"IF(ISERROR((#REF!-#REF!)/#REF!),0,(#REF!-#REF!)/#REF!)","v":0},{"$f":"IF(ISERROR((#REF!-#REF!)/#REF!),0,(#REF!-#REF!)/#REF!)","v":0},{"$f":"IF(ISERROR((#REF!-#REF!)/#REF!),0,(#REF!-#REF!)/#REF!)","v":0},{"$f":"IF(ISERROR((#REF!-#REF!)/#REF!),0,(#REF!-#REF!)/#REF!)","v":0},{"$f":"IF(ISERROR((#REF!-#REF!)/#REF!),0,(#REF!-#REF!)/#REF!)","v":0},{"$f":"IF(ISERROR((#REF!-#REF!)/#REF!),0,(#REF!-#REF!)/#REF!)","v":0},{"$f":"IF(ISERROR((#REF!-#REF!)/#REF!),0,(#REF!-#REF!)/#REF!)","v":0},{"$f":"IF(ISERROR((#REF!-#REF!)/#REF!),0,(#REF!-#REF!)/#REF!)","v":0}]
[null,"HA23C","Intermediate Knee Procedures for Trauma, Category 2, without CC",0,3537.8078573014541,0,0,7,2945,7,210,"No","-",0,"","",{"$f":"IF(ISERROR((#REF!-#REF!)/#REF!),0,(#REF!-#REF!)/#REF!)","v":0},{"$f":"IF(ISERROR((#REF!-#REF!)/#REF!),0,(#REF!-#REF!)/#REF!)","v":0},{"$f":"IF(ISERROR((#REF!-#REF!)/#REF!),0,(#REF!-#REF!)/#REF!)","v":0},{"$f":"IF(ISERROR((#REF!-#REF!)/#REF!),0,(#REF!-#REF!)/#REF!)","v":0},{"$f":"IF(ISERROR((#REF!-#REF!)/#REF!),0,(#REF!-#REF!)/#REF!)","v":0},{"$f":"IF(ISERROR((#REF!-#REF!)/#REF!),0,(#REF!-#REF!)/#REF!)","v":0},{"$f":"IF(ISERROR((#REF!-#REF!)/#REF!),0,(#REF!-#REF!)/#REF!)","v":0},{"$f":"IF(ISERROR((#REF!-#REF!)/#REF!),0,(#REF!-#REF!)/#REF!)","v":0},{"$f":"IF(ISERROR((#REF!-#REF!)/#REF!),0,(#REF!-#REF!)/#REF!)","v":0},{"$f":"IF(ISERROR((#REF!-#REF!)/#REF!),0,(#REF!-#REF!)/#REF!)","v":0},{"$f":"IF(ISERROR((#REF!-#REF!)/#REF!),0,(#REF!-#REF!)/#REF!)","v":0},{"$f":"IF(ISERROR((#REF!-#REF!)/#REF!),0,(#REF!-#REF!)/#REF!)","v":0},{"$f":"IF(ISERROR((#REF!-#REF!)/#REF!),0,(#REF!-#REF!)/#REF!)","v":0}]
[null,"HA24Z","Intermediate Knee Procedures for Trauma, Category 1",0,2941,0,0,25,2941,25,210,"No","-",0,"","",{"$f":"IF(ISERROR((#REF!-#REF!)/#REF!),0,(#REF!-#REF!)/#REF!)","v":0},{"$f":"IF(ISERROR((#REF!-#REF!)/#REF!),0,(#REF!-#REF!)/#REF!)","v":0},{"$f":"IF(ISERROR((#REF!-#REF!)/#REF!),0,(#REF!-#REF!)/#REF!)","v":0},{"$f":"IF(ISERROR((#REF!-#REF!)/#REF!),0,(#REF!-#REF!)/#REF!)","v":0},{"$f":"IF(ISERROR((#REF!-#REF!)/#REF!),0,(#REF!-#REF!)/#REF!)","v":0},{"$f":"IF(ISERROR((#REF!-#REF!)/#REF!),0,(#REF!-#REF!)/#REF!)","v":0},{"$f":"IF(ISERROR((#REF!-#REF!)/#REF!),0,(#REF!-#REF!)/#REF!)","v":0},{"$f":"IF(ISERROR((#REF!-#REF!)/#REF!),0,(#REF!-#REF!)/#REF!)","v":0},{"$f":"IF(ISERROR((#REF!-#REF!)/#REF!),0,(#REF!-#REF!)/#REF!)","v":0},{"$f":"IF(ISERROR((#REF!-#REF!)/#REF!),0,(#REF!-#REF!)/#REF!)","v":0},{"$f":"IF(ISERROR((#REF!-#REF!)/#REF!),0,(#REF!-#REF!)/#REF!)","v":0},{"$f":"IF(ISERROR((#REF!-#REF!)/#REF!),0,(#REF!-#REF!)/#REF!)","v":0},{"$f":"IF(ISERROR((#REF!-#REF!)/#REF!),0,(#REF!-#REF!)/#REF!)","v":0}]
[null,"HA25B","Minor Knee Procedures for Trauma, Category 2, with CC",0,2661,0,0,54,3433.1005477402714,54,210,"No","-",0,"","",{"$f":"IF(ISERROR((#REF!-#REF!)/#REF!),0,(#REF!-#REF!)/#REF!)","v":0},{"$f":"IF(ISERROR((#REF!-#REF!)/#REF!),0,(#REF!-#REF!)/#REF!)","v":0},{"$f":"IF(ISERROR((#REF!-#REF!)/#REF!),0,(#REF!-#REF!)/#REF!)","v":0},{"$f":"IF(ISERROR((#REF!-#REF!)/#REF!),0,(#REF!-#REF!)/#REF!)","v":0},{"$f":"IF(ISERROR((#REF!-#REF!)/#REF!),0,(#REF!-#REF!)/#REF!)","v":0},{"$f":"IF(ISERROR((#REF!-#REF!)/#REF!),0,(#REF!-#REF!)/#REF!)","v":0},{"$f":"IF(ISERROR((#REF!-#REF!)/#REF!),0,(#REF!-#REF!)/#REF!)","v":0},{"$f":"IF(ISERROR((#REF!-#REF!)/#REF!),0,(#REF!-#REF!)/#REF!)","v":0},{"$f":"IF(ISERROR((#REF!-#REF!)/#REF!),0,(#REF!-#REF!)/#REF!)","v":0},{"$f":"IF(ISERROR((#REF!-#REF!)/#REF!),0,(#REF!-#REF!)/#REF!)","v":0},{"$f":"IF(ISERROR((#REF!-#REF!)/#REF!),0,(#REF!-#REF!)/#REF!)","v":0},{"$f":"IF(ISERROR((#REF!-#REF!)/#REF!),0,(#REF!-#REF!)/#REF!)","v":0},{"$f":"IF(ISERROR((#REF!-#REF!)/#REF!),0,(#REF!-#REF!)/#REF!)","v":0}]
[null,"HA25C","Minor Knee Procedures for Trauma, Category 2, without CC",0,2514,0,0,10,2514,10,210,"No","-",0,"","",{"$f":"IF(ISERROR((#REF!-#REF!)/#REF!),0,(#REF!-#REF!)/#REF!)","v":0},{"$f":"IF(ISERROR((#REF!-#REF!)/#REF!),0,(#REF!-#REF!)/#REF!)","v":0},{"$f":"IF(ISERROR((#REF!-#REF!)/#REF!),0,(#REF!-#REF!)/#REF!)","v":0},{"$f":"IF(ISERROR((#REF!-#REF!)/#REF!),0,(#REF!-#REF!)/#REF!)","v":0},{"$f":"IF(ISERROR((#REF!-#REF!)/#REF!),0,(#REF!-#REF!)/#REF!)","v":0},{"$f":"IF(ISERROR((#REF!-#REF!)/#REF!),0,(#REF!-#REF!)/#REF!)","v":0},{"$f":"IF(ISERROR((#REF!-#REF!)/#REF!),0,(#REF!-#REF!)/#REF!)","v":0},{"$f":"IF(ISERROR((#REF!-#REF!)/#REF!),0,(#REF!-#REF!)/#REF!)","v":0},{"$f":"IF(ISERROR((#REF!-#REF!)/#REF!),0,(#REF!-#REF!)/#REF!)","v":0},{"$f":"IF(ISERROR((#REF!-#REF!)/#REF!),0,(#REF!-#REF!)/#REF!)","v":0},{"$f":"IF(ISERROR((#REF!-#REF!)/#REF!),0,(#REF!-#REF!)/#REF!)","v":0},{"$f":"IF(ISERROR((#REF!-#REF!)/#REF!),0,(#REF!-#REF!)/#REF!)","v":0},{"$f":"IF(ISERROR((#REF!-#REF!)/#REF!),0,(#REF!-#REF!)/#REF!)","v":0}]
[null,"HA26B","Minor Knee Procedures for Trauma, Category 1, with CC",0,1441,0,0,40,1441,40,210,"No","-",0,"","",{"$f":"IF(ISERROR((#REF!-#REF!)/#REF!),0,(#REF!-#REF!)/#REF!)","v":0},{"$f":"IF(ISERROR((#REF!-#REF!)/#REF!),0,(#REF!-#REF!)/#REF!)","v":0},{"$f":"IF(ISERROR((#REF!-#REF!)/#REF!),0,(#REF!-#REF!)/#REF!)","v":0},{"$f":"IF(ISERROR((#REF!-#REF!)/#REF!),0,(#REF!-#REF!)/#REF!)","v":0},{"$f":"IF(ISERROR((#REF!-#REF!)/#REF!),0,(#REF!-#REF!)/#REF!)","v":0},{"$f":"IF(ISERROR((#REF!-#REF!)/#REF!),0,(#REF!-#REF!)/#REF!)","v":0},{"$f":"IF(ISERROR((#REF!-#REF!)/#REF!),0,(#REF!-#REF!)/#REF!)","v":0},{"$f":"IF(ISERROR((#REF!-#REF!)/#REF!),0,(#REF!-#REF!)/#REF!)","v":0},{"$f":"IF(ISERROR((#REF!-#REF!)/#REF!),0,(#REF!-#REF!)/#REF!)","v":0},{"$f":"IF(ISERROR((#REF!-#REF!)/#REF!),0,(#REF!-#REF!)/#REF!)","v":0},{"$f":"IF(ISERROR((#REF!-#REF!)/#REF!),0,(#REF!-#REF!)/#REF!)","v":0},{"$f":"IF(ISERROR((#REF!-#REF!)/#REF!),0,(#REF!-#REF!)/#REF!)","v":0},{"$f":"IF(ISERROR((#REF!-#REF!)/#REF!),0,(#REF!-#REF!)/#REF!)","v":0}]
[null,"HA26C","Minor Knee Procedures for Trauma, Category 1, without CC",0,1391,0,0,6,1391,6,210,"No","-",0,"","",{"$f":"IF(ISERROR((#REF!-#REF!)/#REF!),0,(#REF!-#REF!)/#REF!)","v":0},{"$f":"IF(ISERROR((#REF!-#REF!)/#REF!),0,(#REF!-#REF!)/#REF!)","v":0},{"$f":"IF(ISERROR((#REF!-#REF!)/#REF!),0,(#REF!-#REF!)/#REF!)","v":0},{"$f":"IF(ISERROR((#REF!-#REF!)/#REF!),0,(#REF!-#REF!)/#REF!)","v":0},{"$f":"IF(ISERROR((#REF!-#REF!)/#REF!),0,(#REF!-#REF!)/#REF!)","v":0},{"$f":"IF(ISERROR((#REF!-#REF!)/#REF!),0,(#REF!-#REF!)/#REF!)","v":0},{"$f":"IF(ISERROR((#REF!-#REF!)/#REF!),0,(#REF!-#REF!)/#REF!)","v":0},{"$f":"IF(ISERROR((#REF!-#REF!)/#REF!),0,(#REF!-#REF!)/#REF!)","v":0},{"$f":"IF(ISERROR((#REF!-#REF!)/#REF!),0,(#REF!-#REF!)/#REF!)","v":0},{"$f":"IF(ISERROR((#REF!-#REF!)/#REF!),0,(#REF!-#REF!)/#REF!)","v":0},{"$f":"IF(ISERROR((#REF!-#REF!)/#REF!),0,(#REF!-#REF!)/#REF!)","v":0},{"$f":"IF(ISERROR((#REF!-#REF!)/#REF!),0,(#REF!-#REF!)/#REF!)","v":0},{"$f":"IF(ISERROR((#REF!-#REF!)/#REF!),0,(#REF!-#REF!)/#REF!)","v":0}]
[null,"HA29Z","Minimal Knee Procedures for Trauma, with length of stay 1 day or less",0,721,0,0,5,623,5,210,"No","-",0,"","",{"$f":"IF(ISERROR((#REF!-#REF!)/#REF!),0,(#REF!-#REF!)/#REF!)","v":0},{"$f":"IF(ISERROR((#REF!-#REF!)/#REF!),0,(#REF!-#REF!)/#REF!)","v":0},{"$f":"IF(ISERROR((#REF!-#REF!)/#REF!),0,(#REF!-#REF!)/#REF!)","v":0},{"$f":"IF(ISERROR((#REF!-#REF!)/#REF!),0,(#REF!-#REF!)/#REF!)","v":0},{"$f":"IF(ISERROR((#REF!-#REF!)/#REF!),0,(#REF!-#REF!)/#REF!)","v":0},{"$f":"IF(ISERROR((#REF!-#REF!)/#REF!),0,(#REF!-#REF!)/#REF!)","v":0},{"$f":"IF(ISERROR((#REF!-#REF!)/#REF!),0,(#REF!-#REF!)/#REF!)","v":0},{"$f":"IF(ISERROR((#REF!-#REF!)/#REF!),0,(#REF!-#REF!)/#REF!)","v":0},{"$f":"IF(ISERROR((#REF!-#REF!)/#REF!),0,(#REF!-#REF!)/#REF!)","v":0},{"$f":"IF(ISERROR((#REF!-#REF!)/#REF!),0,(#REF!-#REF!)/#REF!)","v":0},{"$f":"IF(ISERROR((#REF!-#REF!)/#REF!),0,(#REF!-#REF!)/#REF!)","v":0},{"$f":"IF(ISERROR((#REF!-#REF!)/#REF!),0,(#REF!-#REF!)/#REF!)","v":0},{"$f":"IF(ISERROR((#REF!-#REF!)/#REF!),0,(#REF!-#REF!)/#REF!)","v":0}]
[null,"HA31B","Major Foot Procedures for Trauma, with CC",0,4307,0,0,43,4307,43,210,"No","-",0,"","",{"$f":"IF(ISERROR((#REF!-#REF!)/#REF!),0,(#REF!-#REF!)/#REF!)","v":0},{"$f":"IF(ISERROR((#REF!-#REF!)/#REF!),0,(#REF!-#REF!)/#REF!)","v":0},{"$f":"IF(ISERROR((#REF!-#REF!)/#REF!),0,(#REF!-#REF!)/#REF!)","v":0},{"$f":"IF(ISERROR((#REF!-#REF!)/#REF!),0,(#REF!-#REF!)/#REF!)","v":0},{"$f":"IF(ISERROR((#REF!-#REF!)/#REF!),0,(#REF!-#REF!)/#REF!)","v":0},{"$f":"IF(ISERROR((#REF!-#REF!)/#REF!),0,(#REF!-#REF!)/#REF!)","v":0},{"$f":"IF(ISERROR((#REF!-#REF!)/#REF!),0,(#REF!-#REF!)/#REF!)","v":0},{"$f":"IF(ISERROR((#REF!-#REF!)/#REF!),0,(#REF!-#REF!)/#REF!)","v":0},{"$f":"IF(ISERROR((#REF!-#REF!)/#REF!),0,(#REF!-#REF!)/#REF!)","v":0},{"$f":"IF(ISERROR((#REF!-#REF!)/#REF!),0,(#REF!-#REF!)/#REF!)","v":0},{"$f":"IF(ISERROR((#REF!-#REF!)/#REF!),0,(#REF!-#REF!)/#REF!)","v":0},{"$f":"IF(ISERROR((#REF!-#REF!)/#REF!),0,(#REF!-#REF!)/#REF!)","v":0},{"$f":"IF(ISERROR((#REF!-#REF!)/#REF!),0,(#REF!-#REF!)/#REF!)","v":0}]
[null,"HA31C","Major Foot Procedures for Trauma, without CC",0,3034,0,0,11,3034,11,210,"No","-",0,"","",{"$f":"IF(ISERROR((#REF!-#REF!)/#REF!),0,(#REF!-#REF!)/#REF!)","v":0},{"$f":"IF(ISERROR((#REF!-#REF!)/#REF!),0,(#REF!-#REF!)/#REF!)","v":0},{"$f":"IF(ISERROR((#REF!-#REF!)/#REF!),0,(#REF!-#REF!)/#REF!)","v":0},{"$f":"IF(ISERROR((#REF!-#REF!)/#REF!),0,(#REF!-#REF!)/#REF!)","v":0},{"$f":"IF(ISERROR((#REF!-#REF!)/#REF!),0,(#REF!-#REF!)/#REF!)","v":0},{"$f":"IF(ISERROR((#REF!-#REF!)/#REF!),0,(#REF!-#REF!)/#REF!)","v":0},{"$f":"IF(ISERROR((#REF!-#REF!)/#REF!),0,(#REF!-#REF!)/#REF!)","v":0},{"$f":"IF(ISERROR((#REF!-#REF!)/#REF!),0,(#REF!-#REF!)/#REF!)","v":0},{"$f":"IF(ISERROR((#REF!-#REF!)/#REF!),0,(#REF!-#REF!)/#REF!)","v":0},{"$f":"IF(ISERROR((#REF!-#REF!)/#REF!),0,(#REF!-#REF!)/#REF!)","v":0},{"$f":"IF(ISERROR((#REF!-#REF!)/#REF!),0,(#REF!-#REF!)/#REF!)","v":0},{"$f":"IF(ISERROR((#REF!-#REF!)/#REF!),0,(#REF!-#REF!)/#REF!)","v":0},{"$f":"IF(ISERROR((#REF!-#REF!)/#REF!),0,(#REF!-#REF!)/#REF!)","v":0}]
[null,"HA32Z","Intermediate Foot Procedures for Trauma, Category 2",0,2947,0,0,18,2947,18,210,"No","-",0,"","",{"$f":"IF(ISERROR((#REF!-#REF!)/#REF!),0,(#REF!-#REF!)/#REF!)","v":0},{"$f":"IF(ISERROR((#REF!-#REF!)/#REF!),0,(#REF!-#REF!)/#REF!)","v":0},{"$f":"IF(ISERROR((#REF!-#REF!)/#REF!),0,(#REF!-#REF!)/#REF!)","v":0},{"$f":"IF(ISERROR((#REF!-#REF!)/#REF!),0,(#REF!-#REF!)/#REF!)","v":0},{"$f":"IF(ISERROR((#REF!-#REF!)/#REF!),0,(#REF!-#REF!)/#REF!)","v":0},{"$f":"IF(ISERROR((#REF!-#REF!)/#REF!),0,(#REF!-#REF!)/#REF!)","v":0},{"$f":"IF(ISERROR((#REF!-#REF!)/#REF!),0,(#REF!-#REF!)/#REF!)","v":0},{"$f":"IF(ISERROR((#REF!-#REF!)/#REF!),0,(#REF!-#REF!)/#REF!)","v":0},{"$f":"IF(ISERROR((#REF!-#REF!)/#REF!),0,(#REF!-#REF!)/#REF!)","v":0},{"$f":"IF(ISERROR((#REF!-#REF!)/#REF!),0,(#REF!-#REF!)/#REF!)","v":0},{"$f":"IF(ISERROR((#REF!-#REF!)/#REF!),0,(#REF!-#REF!)/#REF!)","v":0},{"$f":"IF(ISERROR((#REF!-#REF!)/#REF!),0,(#REF!-#REF!)/#REF!)","v":0},{"$f":"IF(ISERROR((#REF!-#REF!)/#REF!),0,(#REF!-#REF!)/#REF!)","v":0}]
[null,"HA33Z","Intermediate Foot Procedures for Trauma, Category 1",0,1969,0,0,11,1969,11,210,"No","-",0,"","",{"$f":"IF(ISERROR((#REF!-#REF!)/#REF!),0,(#REF!-#REF!)/#REF!)","v":0},{"$f":"IF(ISERROR((#REF!-#REF!)/#REF!),0,(#REF!-#REF!)/#REF!)","v":0},{"$f":"IF(ISERROR((#REF!-#REF!)/#REF!),0,(#REF!-#REF!)/#REF!)","v":0},{"$f":"IF(ISERROR((#REF!-#REF!)/#REF!),0,(#REF!-#REF!)/#REF!)","v":0},{"$f":"IF(ISERROR((#REF!-#REF!)/#REF!),0,(#REF!-#REF!)/#REF!)","v":0},{"$f":"IF(ISERROR((#REF!-#REF!)/#REF!),0,(#REF!-#REF!)/#REF!)","v":0},{"$f":"IF(ISERROR((#REF!-#REF!)/#REF!),0,(#REF!-#REF!)/#REF!)","v":0},{"$f":"IF(ISERROR((#REF!-#REF!)/#REF!),0,(#REF!-#REF!)/#REF!)","v":0},{"$f":"IF(ISERROR((#REF!-#REF!)/#REF!),0,(#REF!-#REF!)/#REF!)","v":0},{"$f":"IF(ISERROR((#REF!-#REF!)/#REF!),0,(#REF!-#REF!)/#REF!)","v":0},{"$f":"IF(ISERROR((#REF!-#REF!)/#REF!),0,(#REF!-#REF!)/#REF!)","v":0},{"$f":"IF(ISERROR((#REF!-#REF!)/#REF!),0,(#REF!-#REF!)/#REF!)","v":0},{"$f":"IF(ISERROR((#REF!-#REF!)/#REF!),0,(#REF!-#REF!)/#REF!)","v":0}]
[null,"HA34Z","Minor Foot Procedures for Trauma, Category 2",0,1931,0,0,10,1931,10,210,"No","-",0,"","",{"$f":"IF(ISERROR((#REF!-#REF!)/#REF!),0,(#REF!-#REF!)/#REF!)","v":0},{"$f":"IF(ISERROR((#REF!-#REF!)/#REF!),0,(#REF!-#REF!)/#REF!)","v":0},{"$f":"IF(ISERROR((#REF!-#REF!)/#REF!),0,(#REF!-#REF!)/#REF!)","v":0},{"$f":"IF(ISERROR((#REF!-#REF!)/#REF!),0,(#REF!-#REF!)/#REF!)","v":0},{"$f":"IF(ISERROR((#REF!-#REF!)/#REF!),0,(#REF!-#REF!)/#REF!)","v":0},{"$f":"IF(ISERROR((#REF!-#REF!)/#REF!),0,(#REF!-#REF!)/#REF!)","v":0},{"$f":"IF(ISERROR((#REF!-#REF!)/#REF!),0,(#REF!-#REF!)/#REF!)","v":0},{"$f":"IF(ISERROR((#REF!-#REF!)/#REF!),0,(#REF!-#REF!)/#REF!)","v":0},{"$f":"IF(ISERROR((#REF!-#REF!)/#REF!),0,(#REF!-#REF!)/#REF!)","v":0},{"$f":"IF(ISERROR((#REF!-#REF!)/#REF!),0,(#REF!-#REF!)/#REF!)","v":0},{"$f":"IF(ISERROR((#REF!-#REF!)/#REF!),0,(#REF!-#REF!)/#REF!)","v":0},{"$f":"IF(ISERROR((#REF!-#REF!)/#REF!),0,(#REF!-#REF!)/#REF!)","v":0},{"$f":"IF(ISERROR((#REF!-#REF!)/#REF!),0,(#REF!-#REF!)/#REF!)","v":0}]
[null,"HA35Z","Minor Foot Procedures for Trauma, Category 1",0,1990.0185555719413,0,0,7,1819,7,210,"No","-",0,"","",{"$f":"IF(ISERROR((#REF!-#REF!)/#REF!),0,(#REF!-#REF!)/#REF!)","v":0},{"$f":"IF(ISERROR((#REF!-#REF!)/#REF!),0,(#REF!-#REF!)/#REF!)","v":0},{"$f":"IF(ISERROR((#REF!-#REF!)/#REF!),0,(#REF!-#REF!)/#REF!)","v":0},{"$f":"IF(ISERROR((#REF!-#REF!)/#REF!),0,(#REF!-#REF!)/#REF!)","v":0},{"$f":"IF(ISERROR((#REF!-#REF!)/#REF!),0,(#REF!-#REF!)/#REF!)","v":0},{"$f":"IF(ISERROR((#REF!-#REF!)/#REF!),0,(#REF!-#REF!)/#REF!)","v":0},{"$f":"IF(ISERROR((#REF!-#REF!)/#REF!),0,(#REF!-#REF!)/#REF!)","v":0},{"$f":"IF(ISERROR((#REF!-#REF!)/#REF!),0,(#REF!-#REF!)/#REF!)","v":0},{"$f":"IF(ISERROR((#REF!-#REF!)/#REF!),0,(#REF!-#REF!)/#REF!)","v":0},{"$f":"IF(ISERROR((#REF!-#REF!)/#REF!),0,(#REF!-#REF!)/#REF!)","v":0},{"$f":"IF(ISERROR((#REF!-#REF!)/#REF!),0,(#REF!-#REF!)/#REF!)","v":0},{"$f":"IF(ISERROR((#REF!-#REF!)/#REF!),0,(#REF!-#REF!)/#REF!)","v":0},{"$f":"IF(ISERROR((#REF!-#REF!)/#REF!),0,(#REF!-#REF!)/#REF!)","v":0}]
[null,"HA39Z","Minimal Foot Procedures for Trauma, with length of stay 1 day or less",0,672,0,0,5,557,5,210,"No","-",0,"","",{"$f":"IF(ISERROR((#REF!-#REF!)/#REF!),0,(#REF!-#REF!)/#REF!)","v":0},{"$f":"IF(ISERROR((#REF!-#REF!)/#REF!),0,(#REF!-#REF!)/#REF!)","v":0},{"$f":"IF(ISERROR((#REF!-#REF!)/#REF!),0,(#REF!-#REF!)/#REF!)","v":0},{"$f":"IF(ISERROR((#REF!-#REF!)/#REF!),0,(#REF!-#REF!)/#REF!)","v":0},{"$f":"IF(ISERROR((#REF!-#REF!)/#REF!),0,(#REF!-#REF!)/#REF!)","v":0},{"$f":"IF(ISERROR((#REF!-#REF!)/#REF!),0,(#REF!-#REF!)/#REF!)","v":0},{"$f":"IF(ISERROR((#REF!-#REF!)/#REF!),0,(#REF!-#REF!)/#REF!)","v":0},{"$f":"IF(ISERROR((#REF!-#REF!)/#REF!),0,(#REF!-#REF!)/#REF!)","v":0},{"$f":"IF(ISERROR((#REF!-#REF!)/#REF!),0,(#REF!-#REF!)/#REF!)","v":0},{"$f":"IF(ISERROR((#REF!-#REF!)/#REF!),0,(#REF!-#REF!)/#REF!)","v":0},{"$f":"IF(ISERROR((#REF!-#REF!)/#REF!),0,(#REF!-#REF!)/#REF!)","v":0},{"$f":"IF(ISERROR((#REF!-#REF!)/#REF!),0,(#REF!-#REF!)/#REF!)","v":0},{"$f":"IF(ISERROR((#REF!-#REF!)/#REF!),0,(#REF!-#REF!)/#REF!)","v":0}]
[null,"HA51Z","Major Hand Procedures for Trauma, Category 2",0,4161,0,0,5,4161,5,210,"No","-",0,"","",{"$f":"IF(ISERROR((#REF!-#REF!)/#REF!),0,(#REF!-#REF!)/#REF!)","v":0},{"$f":"IF(ISERROR((#REF!-#REF!)/#REF!),0,(#REF!-#REF!)/#REF!)","v":0},{"$f":"IF(ISERROR((#REF!-#REF!)/#REF!),0,(#REF!-#REF!)/#REF!)","v":0},{"$f":"IF(ISERROR((#REF!-#REF!)/#REF!),0,(#REF!-#REF!)/#REF!)","v":0},{"$f":"IF(ISERROR((#REF!-#REF!)/#REF!),0,(#REF!-#REF!)/#REF!)","v":0},{"$f":"IF(ISERROR((#REF!-#REF!)/#REF!),0,(#REF!-#REF!)/#REF!)","v":0},{"$f":"IF(ISERROR((#REF!-#REF!)/#REF!),0,(#REF!-#REF!)/#REF!)","v":0},{"$f":"IF(ISERROR((#REF!-#REF!)/#REF!),0,(#REF!-#REF!)/#REF!)","v":0},{"$f":"IF(ISERROR((#REF!-#REF!)/#REF!),0,(#REF!-#REF!)/#REF!)","v":0},{"$f":"IF(ISERROR((#REF!-#REF!)/#REF!),0,(#REF!-#REF!)/#REF!)","v":0},{"$f":"IF(ISERROR((#REF!-#REF!)/#REF!),0,(#REF!-#REF!)/#REF!)","v":0},{"$f":"IF(ISERROR((#REF!-#REF!)/#REF!),0,(#REF!-#REF!)/#REF!)","v":0},{"$f":"IF(ISERROR((#REF!-#REF!)/#REF!),0,(#REF!-#REF!)/#REF!)","v":0}]
[null,"HA52Z","Major Hand Procedures for Trauma, Category 1",0,3333,0,0,5,3333,5,210,"No","-",0,"","",{"$f":"IF(ISERROR((#REF!-#REF!)/#REF!),0,(#REF!-#REF!)/#REF!)","v":0},{"$f":"IF(ISERROR((#REF!-#REF!)/#REF!),0,(#REF!-#REF!)/#REF!)","v":0},{"$f":"IF(ISERROR((#REF!-#REF!)/#REF!),0,(#REF!-#REF!)/#REF!)","v":0},{"$f":"IF(ISERROR((#REF!-#REF!)/#REF!),0,(#REF!-#REF!)/#REF!)","v":0},{"$f":"IF(ISERROR((#REF!-#REF!)/#REF!),0,(#REF!-#REF!)/#REF!)","v":0},{"$f":"IF(ISERROR((#REF!-#REF!)/#REF!),0,(#REF!-#REF!)/#REF!)","v":0},{"$f":"IF(ISERROR((#REF!-#REF!)/#REF!),0,(#REF!-#REF!)/#REF!)","v":0},{"$f":"IF(ISERROR((#REF!-#REF!)/#REF!),0,(#REF!-#REF!)/#REF!)","v":0},{"$f":"IF(ISERROR((#REF!-#REF!)/#REF!),0,(#REF!-#REF!)/#REF!)","v":0},{"$f":"IF(ISERROR((#REF!-#REF!)/#REF!),0,(#REF!-#REF!)/#REF!)","v":0},{"$f":"IF(ISERROR((#REF!-#REF!)/#REF!),0,(#REF!-#REF!)/#REF!)","v":0},{"$f":"IF(ISERROR((#REF!-#REF!)/#REF!),0,(#REF!-#REF!)/#REF!)","v":0},{"$f":"IF(ISERROR((#REF!-#REF!)/#REF!),0,(#REF!-#REF!)/#REF!)","v":0}]
[null,"HA53Z","Intermediate Hand Procedures for Trauma, Category 2",0,2866,0,0,5,2866,5,210,"No","-",0,"","",{"$f":"IF(ISERROR((#REF!-#REF!)/#REF!),0,(#REF!-#REF!)/#REF!)","v":0},{"$f":"IF(ISERROR((#REF!-#REF!)/#REF!),0,(#REF!-#REF!)/#REF!)","v":0},{"$f":"IF(ISERROR((#REF!-#REF!)/#REF!),0,(#REF!-#REF!)/#REF!)","v":0},{"$f":"IF(ISERROR((#REF!-#REF!)/#REF!),0,(#REF!-#REF!)/#REF!)","v":0},{"$f":"IF(ISERROR((#REF!-#REF!)/#REF!),0,(#REF!-#REF!)/#REF!)","v":0},{"$f":"IF(ISERROR((#REF!-#REF!)/#REF!),0,(#REF!-#REF!)/#REF!)","v":0},{"$f":"IF(ISERROR((#REF!-#REF!)/#REF!),0,(#REF!-#REF!)/#REF!)","v":0},{"$f":"IF(ISERROR((#REF!-#REF!)/#REF!),0,(#REF!-#REF!)/#REF!)","v":0},{"$f":"IF(ISERROR((#REF!-#REF!)/#REF!),0,(#REF!-#REF!)/#REF!)","v":0},{"$f":"IF(ISERROR((#REF!-#REF!)/#REF!),0,(#REF!-#REF!)/#REF!)","v":0},{"$f":"IF(ISERROR((#REF!-#REF!)/#REF!),0,(#REF!-#REF!)/#REF!)","v":0},{"$f":"IF(ISERROR((#REF!-#REF!)/#REF!),0,(#REF!-#REF!)/#REF!)","v":0},{"$f":"IF(ISERROR((#REF!-#REF!)/#REF!),0,(#REF!-#REF!)/#REF!)","v":0}]
[null,"HA54Z","Intermediate Hand Procedures for Trauma, Category 1",0,2671.4873576225682,0,0,5,1331,5,210,"No","-",0,"","",{"$f":"IF(ISERROR((#REF!-#REF!)/#REF!),0,(#REF!-#REF!)/#REF!)","v":0},{"$f":"IF(ISERROR((#REF!-#REF!)/#REF!),0,(#REF!-#REF!)/#REF!)","v":0},{"$f":"IF(ISERROR((#REF!-#REF!)/#REF!),0,(#REF!-#REF!)/#REF!)","v":0},{"$f":"IF(ISERROR((#REF!-#REF!)/#REF!),0,(#REF!-#REF!)/#REF!)","v":0},{"$f":"IF(ISERROR((#REF!-#REF!)/#REF!),0,(#REF!-#REF!)/#REF!)","v":0},{"$f":"IF(ISERROR((#REF!-#REF!)/#REF!),0,(#REF!-#REF!)/#REF!)","v":0},{"$f":"IF(ISERROR((#REF!-#REF!)/#REF!),0,(#REF!-#REF!)/#REF!)","v":0},{"$f":"IF(ISERROR((#REF!-#REF!)/#REF!),0,(#REF!-#REF!)/#REF!)","v":0},{"$f":"IF(ISERROR((#REF!-#REF!)/#REF!),0,(#REF!-#REF!)/#REF!)","v":0},{"$f":"IF(ISERROR((#REF!-#REF!)/#REF!),0,(#REF!-#REF!)/#REF!)","v":0},{"$f":"IF(ISERROR((#REF!-#REF!)/#REF!),0,(#REF!-#REF!)/#REF!)","v":0},{"$f":"IF(ISERROR((#REF!-#REF!)/#REF!),0,(#REF!-#REF!)/#REF!)","v":0},{"$f":"IF(ISERROR((#REF!-#REF!)/#REF!),0,(#REF!-#REF!)/#REF!)","v":0}]
[null,"HA55Z","Minor Hand Procedures for Trauma, Category 2",0,2308.810732077498,0,0,5,1652.4733089168094,5,210,"No","-",0,"","",{"$f":"IF(ISERROR((#REF!-#REF!)/#REF!),0,(#REF!-#REF!)/#REF!)","v":0},{"$f":"IF(ISERROR((#REF!-#REF!)/#REF!),0,(#REF!-#REF!)/#REF!)","v":0},{"$f":"IF(ISERROR((#REF!-#REF!)/#REF!),0,(#REF!-#REF!)/#REF!)","v":0},{"$f":"IF(ISERROR((#REF!-#REF!)/#REF!),0,(#REF!-#REF!)/#REF!)","v":0},{"$f":"IF(ISERROR((#REF!-#REF!)/#REF!),0,(#REF!-#REF!)/#REF!)","v":0},{"$f":"IF(ISERROR((#REF!-#REF!)/#REF!),0,(#REF!-#REF!)/#REF!)","v":0},{"$f":"IF(ISERROR((#REF!-#REF!)/#REF!),0,(#REF!-#REF!)/#REF!)","v":0},{"$f":"IF(ISERROR((#REF!-#REF!)/#REF!),0,(#REF!-#REF!)/#REF!)","v":0},{"$f":"IF(ISERROR((#REF!-#REF!)/#REF!),0,(#REF!-#REF!)/#REF!)","v":0},{"$f":"IF(ISERROR((#REF!-#REF!)/#REF!),0,(#REF!-#REF!)/#REF!)","v":0},{"$f":"IF(ISERROR((#REF!-#REF!)/#REF!),0,(#REF!-#REF!)/#REF!)","v":0},{"$f":"IF(ISERROR((#REF!-#REF!)/#REF!),0,(#REF!-#REF!)/#REF!)","v":0},{"$f":"IF(ISERROR((#REF!-#REF!)/#REF!),0,(#REF!-#REF!)/#REF!)","v":0}]
[null,"HA56A","Minor Hand Procedures for Trauma, Category 1, 19 years and over",0,1031,0,0,5,1031,5,210,"No","-",0,"","",{"$f":"IF(ISERROR((#REF!-#REF!)/#REF!),0,(#REF!-#REF!)/#REF!)","v":0},{"$f":"IF(ISERROR((#REF!-#REF!)/#REF!),0,(#REF!-#REF!)/#REF!)","v":0},{"$f":"IF(ISERROR((#REF!-#REF!)/#REF!),0,(#REF!-#REF!)/#REF!)","v":0},{"$f":"IF(ISERROR((#REF!-#REF!)/#REF!),0,(#REF!-#REF!)/#REF!)","v":0},{"$f":"IF(ISERROR((#REF!-#REF!)/#REF!),0,(#REF!-#REF!)/#REF!)","v":0},{"$f":"IF(ISERROR((#REF!-#REF!)/#REF!),0,(#REF!-#REF!)/#REF!)","v":0},{"$f":"IF(ISERROR((#REF!-#REF!)/#REF!),0,(#REF!-#REF!)/#REF!)","v":0},{"$f":"IF(ISERROR((#REF!-#REF!)/#REF!),0,(#REF!-#REF!)/#REF!)","v":0},{"$f":"IF(ISERROR((#REF!-#REF!)/#REF!),0,(#REF!-#REF!)/#REF!)","v":0},{"$f":"IF(ISERROR((#REF!-#REF!)/#REF!),0,(#REF!-#REF!)/#REF!)","v":0},{"$f":"IF(ISERROR((#REF!-#REF!)/#REF!),0,(#REF!-#REF!)/#REF!)","v":0},{"$f":"IF(ISERROR((#REF!-#REF!)/#REF!),0,(#REF!-#REF!)/#REF!)","v":0},{"$f":"IF(ISERROR((#REF!-#REF!)/#REF!),0,(#REF!-#REF!)/#REF!)","v":0}]
[null,"HA56B","Minor Hand Procedures for Trauma, Category 1, 18 years and under",0,951,0,0,5,951,5,317,"No","-",0,"","",{"$f":"IF(ISERROR((#REF!-#REF!)/#REF!),0,(#REF!-#REF!)/#REF!)","v":0},{"$f":"IF(ISERROR((#REF!-#REF!)/#REF!),0,(#REF!-#REF!)/#REF!)","v":0},{"$f":"IF(ISERROR((#REF!-#REF!)/#REF!),0,(#REF!-#REF!)/#REF!)","v":0},{"$f":"IF(ISERROR((#REF!-#REF!)/#REF!),0,(#REF!-#REF!)/#REF!)","v":0},{"$f":"IF(ISERROR((#REF!-#REF!)/#REF!),0,(#REF!-#REF!)/#REF!)","v":0},{"$f":"IF(ISERROR((#REF!-#REF!)/#REF!),0,(#REF!-#REF!)/#REF!)","v":0},{"$f":"IF(ISERROR((#REF!-#REF!)/#REF!),0,(#REF!-#REF!)/#REF!)","v":0},{"$f":"IF(ISERROR((#REF!-#REF!)/#REF!),0,(#REF!-#REF!)/#REF!)","v":0},{"$f":"IF(ISERROR((#REF!-#REF!)/#REF!),0,(#REF!-#REF!)/#REF!)","v":0},{"$f":"IF(ISERROR((#REF!-#REF!)/#REF!),0,(#REF!-#REF!)/#REF!)","v":0},{"$f":"IF(ISERROR((#REF!-#REF!)/#REF!),0,(#REF!-#REF!)/#REF!)","v":0},{"$f":"IF(ISERROR((#REF!-#REF!)/#REF!),0,(#REF!-#REF!)/#REF!)","v":0},{"$f":"IF(ISERROR((#REF!-#REF!)/#REF!),0,(#REF!-#REF!)/#REF!)","v":0}]
[null,"HA59Z","Minimal Hand Procedures for Trauma, with length of stay 1 day or less",0,508,0,0,5,508,5,210,"No","-",0,"","",{"$f":"IF(ISERROR((#REF!-#REF!)/#REF!),0,(#REF!-#REF!)/#REF!)","v":0},{"$f":"IF(ISERROR((#REF!-#REF!)/#REF!),0,(#REF!-#REF!)/#REF!)","v":0},{"$f":"IF(ISERROR((#REF!-#REF!)/#REF!),0,(#REF!-#REF!)/#REF!)","v":0},{"$f":"IF(ISERROR((#REF!-#REF!)/#REF!),0,(#REF!-#REF!)/#REF!)","v":0},{"$f":"IF(ISERROR((#REF!-#REF!)/#REF!),0,(#REF!-#REF!)/#REF!)","v":0},{"$f":"IF(ISERROR((#REF!-#REF!)/#REF!),0,(#REF!-#REF!)/#REF!)","v":0},{"$f":"IF(ISERROR((#REF!-#REF!)/#REF!),0,(#REF!-#REF!)/#REF!)","v":0},{"$f":"IF(ISERROR((#REF!-#REF!)/#REF!),0,(#REF!-#REF!)/#REF!)","v":0},{"$f":"IF(ISERROR((#REF!-#REF!)/#REF!),0,(#REF!-#REF!)/#REF!)","v":0},{"$f":"IF(ISERROR((#REF!-#REF!)/#REF!),0,(#REF!-#REF!)/#REF!)","v":0},{"$f":"IF(ISERROR((#REF!-#REF!)/#REF!),0,(#REF!-#REF!)/#REF!)","v":0},{"$f":"IF(ISERROR((#REF!-#REF!)/#REF!),0,(#REF!-#REF!)/#REF!)","v":0},{"$f":"IF(ISERROR((#REF!-#REF!)/#REF!),0,(#REF!-#REF!)/#REF!)","v":0}]
[null,"HA61B","Major Shoulder and Upper Arm Procedures for Trauma, with CC",0,4258,0,0,37,6019.6333450137354,37,210,"No","-",0,"","",{"$f":"IF(ISERROR((#REF!-#REF!)/#REF!),0,(#REF!-#REF!)/#REF!)","v":0},{"$f":"IF(ISERROR((#REF!-#REF!)/#REF!),0,(#REF!-#REF!)/#REF!)","v":0},{"$f":"IF(ISERROR((#REF!-#REF!)/#REF!),0,(#REF!-#REF!)/#REF!)","v":0},{"$f":"IF(ISERROR((#REF!-#REF!)/#REF!),0,(#REF!-#REF!)/#REF!)","v":0},{"$f":"IF(ISERROR((#REF!-#REF!)/#REF!),0,(#REF!-#REF!)/#REF!)","v":0},{"$f":"IF(ISERROR((#REF!-#REF!)/#REF!),0,(#REF!-#REF!)/#REF!)","v":0},{"$f":"IF(ISERROR((#REF!-#REF!)/#REF!),0,(#REF!-#REF!)/#REF!)","v":0},{"$f":"IF(ISERROR((#REF!-#REF!)/#REF!),0,(#REF!-#REF!)/#REF!)","v":0},{"$f":"IF(ISERROR((#REF!-#REF!)/#REF!),0,(#REF!-#REF!)/#REF!)","v":0},{"$f":"IF(ISERROR((#REF!-#REF!)/#REF!),0,(#REF!-#REF!)/#REF!)","v":0},{"$f":"IF(ISERROR((#REF!-#REF!)/#REF!),0,(#REF!-#REF!)/#REF!)","v":0},{"$f":"IF(ISERROR((#REF!-#REF!)/#REF!),0,(#REF!-#REF!)/#REF!)","v":0},{"$f":"IF(ISERROR((#REF!-#REF!)/#REF!),0,(#REF!-#REF!)/#REF!)","v":0}]
[null,"HA61C","Major Shoulder and Upper Arm Procedures for Trauma, without CC",0,3356.7478911137937,0,0,6,3356,6,210,"No","-",0,"","",{"$f":"IF(ISERROR((#REF!-#REF!)/#REF!),0,(#REF!-#REF!)/#REF!)","v":0},{"$f":"IF(ISERROR((#REF!-#REF!)/#REF!),0,(#REF!-#REF!)/#REF!)","v":0},{"$f":"IF(ISERROR((#REF!-#REF!)/#REF!),0,(#REF!-#REF!)/#REF!)","v":0},{"$f":"IF(ISERROR((#REF!-#REF!)/#REF!),0,(#REF!-#REF!)/#REF!)","v":0},{"$f":"IF(ISERROR((#REF!-#REF!)/#REF!),0,(#REF!-#REF!)/#REF!)","v":0},{"$f":"IF(ISERROR((#REF!-#REF!)/#REF!),0,(#REF!-#REF!)/#REF!)","v":0},{"$f":"IF(ISERROR((#REF!-#REF!)/#REF!),0,(#REF!-#REF!)/#REF!)","v":0},{"$f":"IF(ISERROR((#REF!-#REF!)/#REF!),0,(#REF!-#REF!)/#REF!)","v":0},{"$f":"IF(ISERROR((#REF!-#REF!)/#REF!),0,(#REF!-#REF!)/#REF!)","v":0},{"$f":"IF(ISERROR((#REF!-#REF!)/#REF!),0,(#REF!-#REF!)/#REF!)","v":0},{"$f":"IF(ISERROR((#REF!-#REF!)/#REF!),0,(#REF!-#REF!)/#REF!)","v":0},{"$f":"IF(ISERROR((#REF!-#REF!)/#REF!),0,(#REF!-#REF!)/#REF!)","v":0},{"$f":"IF(ISERROR((#REF!-#REF!)/#REF!),0,(#REF!-#REF!)/#REF!)","v":0}]
[null,"HA62Z","Intermediate Shoulder and Upper Arm Procedures for Trauma",0,3104,0,0,5,3104,5,210,"No","-",0,"","",{"$f":"IF(ISERROR((#REF!-#REF!)/#REF!),0,(#REF!-#REF!)/#REF!)","v":0},{"$f":"IF(ISERROR((#REF!-#REF!)/#REF!),0,(#REF!-#REF!)/#REF!)","v":0},{"$f":"IF(ISERROR((#REF!-#REF!)/#REF!),0,(#REF!-#REF!)/#REF!)","v":0},{"$f":"IF(ISERROR((#REF!-#REF!)/#REF!),0,(#REF!-#REF!)/#REF!)","v":0},{"$f":"IF(ISERROR((#REF!-#REF!)/#REF!),0,(#REF!-#REF!)/#REF!)","v":0},{"$f":"IF(ISERROR((#REF!-#REF!)/#REF!),0,(#REF!-#REF!)/#REF!)","v":0},{"$f":"IF(ISERROR((#REF!-#REF!)/#REF!),0,(#REF!-#REF!)/#REF!)","v":0},{"$f":"IF(ISERROR((#REF!-#REF!)/#REF!),0,(#REF!-#REF!)/#REF!)","v":0},{"$f":"IF(ISERROR((#REF!-#REF!)/#REF!),0,(#REF!-#REF!)/#REF!)","v":0},{"$f":"IF(ISERROR((#REF!-#REF!)/#REF!),0,(#REF!-#REF!)/#REF!)","v":0},{"$f":"IF(ISERROR((#REF!-#REF!)/#REF!),0,(#REF!-#REF!)/#REF!)","v":0},{"$f":"IF(ISERROR((#REF!-#REF!)/#REF!),0,(#REF!-#REF!)/#REF!)","v":0},{"$f":"IF(ISERROR((#REF!-#REF!)/#REF!),0,(#REF!-#REF!)/#REF!)","v":0}]
[null,"HA63Z","Minor Shoulder and Upper Arm Procedures for Trauma",0,1838,0,0,5,1838,5,210,"No","-",0,"","",{"$f":"IF(ISERROR((#REF!-#REF!)/#REF!),0,(#REF!-#REF!)/#REF!)","v":0},{"$f":"IF(ISERROR((#REF!-#REF!)/#REF!),0,(#REF!-#REF!)/#REF!)","v":0},{"$f":"IF(ISERROR((#REF!-#REF!)/#REF!),0,(#REF!-#REF!)/#REF!)","v":0},{"$f":"IF(ISERROR((#REF!-#REF!)/#REF!),0,(#REF!-#REF!)/#REF!)","v":0},{"$f":"IF(ISERROR((#REF!-#REF!)/#REF!),0,(#REF!-#REF!)/#REF!)","v":0},{"$f":"IF(ISERROR((#REF!-#REF!)/#REF!),0,(#REF!-#REF!)/#REF!)","v":0},{"$f":"IF(ISERROR((#REF!-#REF!)/#REF!),0,(#REF!-#REF!)/#REF!)","v":0},{"$f":"IF(ISERROR((#REF!-#REF!)/#REF!),0,(#REF!-#REF!)/#REF!)","v":0},{"$f":"IF(ISERROR((#REF!-#REF!)/#REF!),0,(#REF!-#REF!)/#REF!)","v":0},{"$f":"IF(ISERROR((#REF!-#REF!)/#REF!),0,(#REF!-#REF!)/#REF!)","v":0},{"$f":"IF(ISERROR((#REF!-#REF!)/#REF!),0,(#REF!-#REF!)/#REF!)","v":0},{"$f":"IF(ISERROR((#REF!-#REF!)/#REF!),0,(#REF!-#REF!)/#REF!)","v":0},{"$f":"IF(ISERROR((#REF!-#REF!)/#REF!),0,(#REF!-#REF!)/#REF!)","v":0}]
[null,"HA69Z","Minimal Shoulder and Upper Arm Procedures for Trauma, with length of stay 1 day or less",0,536,0,0,5,511,5,210,"No","-",0,"","",{"$f":"IF(ISERROR((#REF!-#REF!)/#REF!),0,(#REF!-#REF!)/#REF!)","v":0},{"$f":"IF(ISERROR((#REF!-#REF!)/#REF!),0,(#REF!-#REF!)/#REF!)","v":0},{"$f":"IF(ISERROR((#REF!-#REF!)/#REF!),0,(#REF!-#REF!)/#REF!)","v":0},{"$f":"IF(ISERROR((#REF!-#REF!)/#REF!),0,(#REF!-#REF!)/#REF!)","v":0},{"$f":"IF(ISERROR((#REF!-#REF!)/#REF!),0,(#REF!-#REF!)/#REF!)","v":0},{"$f":"IF(ISERROR((#REF!-#REF!)/#REF!),0,(#REF!-#REF!)/#REF!)","v":0},{"$f":"IF(ISERROR((#REF!-#REF!)/#REF!),0,(#REF!-#REF!)/#REF!)","v":0},{"$f":"IF(ISERROR((#REF!-#REF!)/#REF!),0,(#REF!-#REF!)/#REF!)","v":0},{"$f":"IF(ISERROR((#REF!-#REF!)/#REF!),0,(#REF!-#REF!)/#REF!)","v":0},{"$f":"IF(ISERROR((#REF!-#REF!)/#REF!),0,(#REF!-#REF!)/#REF!)","v":0},{"$f":"IF(ISERROR((#REF!-#REF!)/#REF!),0,(#REF!-#REF!)/#REF!)","v":0},{"$f":"IF(ISERROR((#REF!-#REF!)/#REF!),0,(#REF!-#REF!)/#REF!)","v":0},{"$f":"IF(ISERROR((#REF!-#REF!)/#REF!),0,(#REF!-#REF!)/#REF!)","v":0}]
[null,"HA71B","Major Elbow and Lower Arm Procedures for Trauma, with CC",0,4281,0,0,25,4860.290408391591,25,210,"No","-",0,"","",{"$f":"IF(ISERROR((#REF!-#REF!)/#REF!),0,(#REF!-#REF!)/#REF!)","v":0},{"$f":"IF(ISERROR((#REF!-#REF!)/#REF!),0,(#REF!-#REF!)/#REF!)","v":0},{"$f":"IF(ISERROR((#REF!-#REF!)/#REF!),0,(#REF!-#REF!)/#REF!)","v":0},{"$f":"IF(ISERROR((#REF!-#REF!)/#REF!),0,(#REF!-#REF!)/#REF!)","v":0},{"$f":"IF(ISERROR((#REF!-#REF!)/#REF!),0,(#REF!-#REF!)/#REF!)","v":0},{"$f":"IF(ISERROR((#REF!-#REF!)/#REF!),0,(#REF!-#REF!)/#REF!)","v":0},{"$f":"IF(ISERROR((#REF!-#REF!)/#REF!),0,(#REF!-#REF!)/#REF!)","v":0},{"$f":"IF(ISERROR((#REF!-#REF!)/#REF!),0,(#REF!-#REF!)/#REF!)","v":0},{"$f":"IF(ISERROR((#REF!-#REF!)/#REF!),0,(#REF!-#REF!)/#REF!)","v":0},{"$f":"IF(ISERROR((#REF!-#REF!)/#REF!),0,(#REF!-#REF!)/#REF!)","v":0},{"$f":"IF(ISERROR((#REF!-#REF!)/#REF!),0,(#REF!-#REF!)/#REF!)","v":0},{"$f":"IF(ISERROR((#REF!-#REF!)/#REF!),0,(#REF!-#REF!)/#REF!)","v":0},{"$f":"IF(ISERROR((#REF!-#REF!)/#REF!),0,(#REF!-#REF!)/#REF!)","v":0}]
[null,"HA71C","Major Elbow and Lower Arm Procedures for Trauma, without CC",0,3028,0,0,5,3028,5,210,"No","-",0,"","",{"$f":"IF(ISERROR((#REF!-#REF!)/#REF!),0,(#REF!-#REF!)/#REF!)","v":0},{"$f":"IF(ISERROR((#REF!-#REF!)/#REF!),0,(#REF!-#REF!)/#REF!)","v":0},{"$f":"IF(ISERROR((#REF!-#REF!)/#REF!),0,(#REF!-#REF!)/#REF!)","v":0},{"$f":"IF(ISERROR((#REF!-#REF!)/#REF!),0,(#REF!-#REF!)/#REF!)","v":0},{"$f":"IF(ISERROR((#REF!-#REF!)/#REF!),0,(#REF!-#REF!)/#REF!)","v":0},{"$f":"IF(ISERROR((#REF!-#REF!)/#REF!),0,(#REF!-#REF!)/#REF!)","v":0},{"$f":"IF(ISERROR((#REF!-#REF!)/#REF!),0,(#REF!-#REF!)/#REF!)","v":0},{"$f":"IF(ISERROR((#REF!-#REF!)/#REF!),0,(#REF!-#REF!)/#REF!)","v":0},{"$f":"IF(ISERROR((#REF!-#REF!)/#REF!),0,(#REF!-#REF!)/#REF!)","v":0},{"$f":"IF(ISERROR((#REF!-#REF!)/#REF!),0,(#REF!-#REF!)/#REF!)","v":0},{"$f":"IF(ISERROR((#REF!-#REF!)/#REF!),0,(#REF!-#REF!)/#REF!)","v":0},{"$f":"IF(ISERROR((#REF!-#REF!)/#REF!),0,(#REF!-#REF!)/#REF!)","v":0},{"$f":"IF(ISERROR((#REF!-#REF!)/#REF!),0,(#REF!-#REF!)/#REF!)","v":0}]
[null,"HA72Z","Intermediate Elbow and Lower Arm Procedures for Trauma",0,2300,0,0,5,2812.0284194502769,5,210,"No","-",0,"","",{"$f":"IF(ISERROR((#REF!-#REF!)/#REF!),0,(#REF!-#REF!)/#REF!)","v":0},{"$f":"IF(ISERROR((#REF!-#REF!)/#REF!),0,(#REF!-#REF!)/#REF!)","v":0},{"$f":"IF(ISERROR((#REF!-#REF!)/#REF!),0,(#REF!-#REF!)/#REF!)","v":0},{"$f":"IF(ISERROR((#REF!-#REF!)/#REF!),0,(#REF!-#REF!)/#REF!)","v":0},{"$f":"IF(ISERROR((#REF!-#REF!)/#REF!),0,(#REF!-#REF!)/#REF!)","v":0},{"$f":"IF(ISERROR((#REF!-#REF!)/#REF!),0,(#REF!-#REF!)/#REF!)","v":0},{"$f":"IF(ISERROR((#REF!-#REF!)/#REF!),0,(#REF!-#REF!)/#REF!)","v":0},{"$f":"IF(ISERROR((#REF!-#REF!)/#REF!),0,(#REF!-#REF!)/#REF!)","v":0},{"$f":"IF(ISERROR((#REF!-#REF!)/#REF!),0,(#REF!-#REF!)/#REF!)","v":0},{"$f":"IF(ISERROR((#REF!-#REF!)/#REF!),0,(#REF!-#REF!)/#REF!)","v":0},{"$f":"IF(ISERROR((#REF!-#REF!)/#REF!),0,(#REF!-#REF!)/#REF!)","v":0},{"$f":"IF(ISERROR((#REF!-#REF!)/#REF!),0,(#REF!-#REF!)/#REF!)","v":0},{"$f":"IF(ISERROR((#REF!-#REF!)/#REF!),0,(#REF!-#REF!)/#REF!)","v":0}]
[null,"HA73B","Minor Elbow and Lower Arm Procedures for Trauma, 18 years and under",0,1192,0,0,5,1192,5,317,"No","-",0,"","",{"$f":"IF(ISERROR((#REF!-#REF!)/#REF!),0,(#REF!-#REF!)/#REF!)","v":0},{"$f":"IF(ISERROR((#REF!-#REF!)/#REF!),0,(#REF!-#REF!)/#REF!)","v":0},{"$f":"IF(ISERROR((#REF!-#REF!)/#REF!),0,(#REF!-#REF!)/#REF!)","v":0},{"$f":"IF(ISERROR((#REF!-#REF!)/#REF!),0,(#REF!-#REF!)/#REF!)","v":0},{"$f":"IF(ISERROR((#REF!-#REF!)/#REF!),0,(#REF!-#REF!)/#REF!)","v":0},{"$f":"IF(ISERROR((#REF!-#REF!)/#REF!),0,(#REF!-#REF!)/#REF!)","v":0},{"$f":"IF(ISERROR((#REF!-#REF!)/#REF!),0,(#REF!-#REF!)/#REF!)","v":0},{"$f":"IF(ISERROR((#REF!-#REF!)/#REF!),0,(#REF!-#REF!)/#REF!)","v":0},{"$f":"IF(ISERROR((#REF!-#REF!)/#REF!),0,(#REF!-#REF!)/#REF!)","v":0},{"$f":"IF(ISERROR((#REF!-#REF!)/#REF!),0,(#REF!-#REF!)/#REF!)","v":0},{"$f":"IF(ISERROR((#REF!-#REF!)/#REF!),0,(#REF!-#REF!)/#REF!)","v":0},{"$f":"IF(ISERROR((#REF!-#REF!)/#REF!),0,(#REF!-#REF!)/#REF!)","v":0},{"$f":"IF(ISERROR((#REF!-#REF!)/#REF!),0,(#REF!-#REF!)/#REF!)","v":0}]
[null,"HA73C","Minor Elbow and Lower Arm Procedures for Trauma, 19 years and over",0,1188,0,0,5,1188,5,210,"No","-",0,"","",{"$f":"IF(ISERROR((#REF!-#REF!)/#REF!),0,(#REF!-#REF!)/#REF!)","v":0},{"$f":"IF(ISERROR((#REF!-#REF!)/#REF!),0,(#REF!-#REF!)/#REF!)","v":0},{"$f":"IF(ISERROR((#REF!-#REF!)/#REF!),0,(#REF!-#REF!)/#REF!)","v":0},{"$f":"IF(ISERROR((#REF!-#REF!)/#REF!),0,(#REF!-#REF!)/#REF!)","v":0},{"$f":"IF(ISERROR((#REF!-#REF!)/#REF!),0,(#REF!-#REF!)/#REF!)","v":0},{"$f":"IF(ISERROR((#REF!-#REF!)/#REF!),0,(#REF!-#REF!)/#REF!)","v":0},{"$f":"IF(ISERROR((#REF!-#REF!)/#REF!),0,(#REF!-#REF!)/#REF!)","v":0},{"$f":"IF(ISERROR((#REF!-#REF!)/#REF!),0,(#REF!-#REF!)/#REF!)","v":0},{"$f":"IF(ISERROR((#REF!-#REF!)/#REF!),0,(#REF!-#REF!)/#REF!)","v":0},{"$f":"IF(ISERROR((#REF!-#REF!)/#REF!),0,(#REF!-#REF!)/#REF!)","v":0},{"$f":"IF(ISERROR((#REF!-#REF!)/#REF!),0,(#REF!-#REF!)/#REF!)","v":0},{"$f":"IF(ISERROR((#REF!-#REF!)/#REF!),0,(#REF!-#REF!)/#REF!)","v":0},{"$f":"IF(ISERROR((#REF!-#REF!)/#REF!),0,(#REF!-#REF!)/#REF!)","v":0}]
[null,"HA79Z","Minimal Elbow and Lower Arm Procedures for Trauma, with length of stay 1 day or less",0,543,0,0,5,543,5,210,"No","-",0,"","",{"$f":"IF(ISERROR((#REF!-#REF!)/#REF!),0,(#REF!-#REF!)/#REF!)","v":0},{"$f":"IF(ISERROR((#REF!-#REF!)/#REF!),0,(#REF!-#REF!)/#REF!)","v":0},{"$f":"IF(ISERROR((#REF!-#REF!)/#REF!),0,(#REF!-#REF!)/#REF!)","v":0},{"$f":"IF(ISERROR((#REF!-#REF!)/#REF!),0,(#REF!-#REF!)/#REF!)","v":0},{"$f":"IF(ISERROR((#REF!-#REF!)/#REF!),0,(#REF!-#REF!)/#REF!)","v":0},{"$f":"IF(ISERROR((#REF!-#REF!)/#REF!),0,(#REF!-#REF!)/#REF!)","v":0},{"$f":"IF(ISERROR((#REF!-#REF!)/#REF!),0,(#REF!-#REF!)/#REF!)","v":0},{"$f":"IF(ISERROR((#REF!-#REF!)/#REF!),0,(#REF!-#REF!)/#REF!)","v":0},{"$f":"IF(ISERROR((#REF!-#REF!)/#REF!),0,(#REF!-#REF!)/#REF!)","v":0},{"$f":"IF(ISERROR((#REF!-#REF!)/#REF!),0,(#REF!-#REF!)/#REF!)","v":0},{"$f":"IF(ISERROR((#REF!-#REF!)/#REF!),0,(#REF!-#REF!)/#REF!)","v":0},{"$f":"IF(ISERROR((#REF!-#REF!)/#REF!),0,(#REF!-#REF!)/#REF!)","v":0},{"$f":"IF(ISERROR((#REF!-#REF!)/#REF!),0,(#REF!-#REF!)/#REF!)","v":0}]
[null,"HA81A","Sprains, Strains or Minor Open Wounds, with Major CC",0,1489,0,0,47,2375,34,210,"Yes",0.30000000000000004,712.50000000000011,"","",{"$f":"IF(ISERROR((#REF!-#REF!)/#REF!),0,(#REF!-#REF!)/#REF!)","v":0},{"$f":"IF(ISERROR((#REF!-#REF!)/#REF!),0,(#REF!-#REF!)/#REF!)","v":0},{"$f":"IF(ISERROR((#REF!-#REF!)/#REF!),0,(#REF!-#REF!)/#REF!)","v":0},{"$f":"IF(ISERROR((#REF!-#REF!)/#REF!),0,(#REF!-#REF!)/#REF!)","v":0},{"$f":"IF(ISERROR((#REF!-#REF!)/#REF!),0,(#REF!-#REF!)/#REF!)","v":0},{"$f":"IF(ISERROR((#REF!-#REF!)/#REF!),0,(#REF!-#REF!)/#REF!)","v":0},{"$f":"IF(ISERROR((#REF!-#REF!)/#REF!),0,(#REF!-#REF!)/#REF!)","v":0},{"$f":"IF(ISERROR((#REF!-#REF!)/#REF!),0,(#REF!-#REF!)/#REF!)","v":0},{"$f":"IF(ISERROR((#REF!-#REF!)/#REF!),0,(#REF!-#REF!)/#REF!)","v":0},{"$f":"IF(ISERROR((#REF!-#REF!)/#REF!),0,(#REF!-#REF!)/#REF!)","v":0},{"$f":"IF(ISERROR((#REF!-#REF!)/#REF!),0,(#REF!-#REF!)/#REF!)","v":0},{"$f":"IF(ISERROR((#REF!-#REF!)/#REF!),0,(#REF!-#REF!)/#REF!)","v":0},{"$f":"IF(ISERROR((#REF!-#REF!)/#REF!),0,(#REF!-#REF!)/#REF!)","v":0}]
[null,"HA81B","Sprains, Strains or Minor Open Wounds, with Intermediate CC",0,940,0,0,26,1500,13,210,"Yes",0.4,600,"","",{"$f":"IF(ISERROR((#REF!-#REF!)/#REF!),0,(#REF!-#REF!)/#REF!)","v":0},{"$f":"IF(ISERROR((#REF!-#REF!)/#REF!),0,(#REF!-#REF!)/#REF!)","v":0},{"$f":"IF(ISERROR((#REF!-#REF!)/#REF!),0,(#REF!-#REF!)/#REF!)","v":0},{"$f":"IF(ISERROR((#REF!-#REF!)/#REF!),0,(#REF!-#REF!)/#REF!)","v":0},{"$f":"IF(ISERROR((#REF!-#REF!)/#REF!),0,(#REF!-#REF!)/#REF!)","v":0},{"$f":"IF(ISERROR((#REF!-#REF!)/#REF!),0,(#REF!-#REF!)/#REF!)","v":0},{"$f":"IF(ISERROR((#REF!-#REF!)/#REF!),0,(#REF!-#REF!)/#REF!)","v":0},{"$f":"IF(ISERROR((#REF!-#REF!)/#REF!),0,(#REF!-#REF!)/#REF!)","v":0},{"$f":"IF(ISERROR((#REF!-#REF!)/#REF!),0,(#REF!-#REF!)/#REF!)","v":0},{"$f":"IF(ISERROR((#REF!-#REF!)/#REF!),0,(#REF!-#REF!)/#REF!)","v":0},{"$f":"IF(ISERROR((#REF!-#REF!)/#REF!),0,(#REF!-#REF!)/#REF!)","v":0},{"$f":"IF(ISERROR((#REF!-#REF!)/#REF!),0,(#REF!-#REF!)/#REF!)","v":0},{"$f":"IF(ISERROR((#REF!-#REF!)/#REF!),0,(#REF!-#REF!)/#REF!)","v":0}]
[null,"HA81C","Sprains, Strains or Minor Open Wounds, without CC",0,621,0,0,5,1349.9567396050636,5,210,"Yes",0.65,877.47188074329142,"","",{"$f":"IF(ISERROR((#REF!-#REF!)/#REF!),0,(#REF!-#REF!)/#REF!)","v":0},{"$f":"IF(ISERROR((#REF!-#REF!)/#REF!),0,(#REF!-#REF!)/#REF!)","v":0},{"$f":"IF(ISERROR((#REF!-#REF!)/#REF!),0,(#REF!-#REF!)/#REF!)","v":0},{"$f":"IF(ISERROR((#REF!-#REF!)/#REF!),0,(#REF!-#REF!)/#REF!)","v":0},{"$f":"IF(ISERROR((#REF!-#REF!)/#REF!),0,(#REF!-#REF!)/#REF!)","v":0},{"$f":"IF(ISERROR((#REF!-#REF!)/#REF!),0,(#REF!-#REF!)/#REF!)","v":0},{"$f":"IF(ISERROR((#REF!-#REF!)/#REF!),0,(#REF!-#REF!)/#REF!)","v":0},{"$f":"IF(ISERROR((#REF!-#REF!)/#REF!),0,(#REF!-#REF!)/#REF!)","v":0},{"$f":"IF(ISERROR((#REF!-#REF!)/#REF!),0,(#REF!-#REF!)/#REF!)","v":0},{"$f":"IF(ISERROR((#REF!-#REF!)/#REF!),0,(#REF!-#REF!)/#REF!)","v":0},{"$f":"IF(ISERROR((#REF!-#REF!)/#REF!),0,(#REF!-#REF!)/#REF!)","v":0},{"$f":"IF(ISERROR((#REF!-#REF!)/#REF!),0,(#REF!-#REF!)/#REF!)","v":0},{"$f":"IF(ISERROR((#REF!-#REF!)/#REF!),0,(#REF!-#REF!)/#REF!)","v":0}]
[null,"HA83A","Head Injury with Major CC",0,1862,0,0,35,2970,20,210,"Yes",0.30000000000000004,891.00000000000011,"","",{"$f":"IF(ISERROR((#REF!-#REF!)/#REF!),0,(#REF!-#REF!)/#REF!)","v":0},{"$f":"IF(ISERROR((#REF!-#REF!)/#REF!),0,(#REF!-#REF!)/#REF!)","v":0},{"$f":"IF(ISERROR((#REF!-#REF!)/#REF!),0,(#REF!-#REF!)/#REF!)","v":0},{"$f":"IF(ISERROR((#REF!-#REF!)/#REF!),0,(#REF!-#REF!)/#REF!)","v":0},{"$f":"IF(ISERROR((#REF!-#REF!)/#REF!),0,(#REF!-#REF!)/#REF!)","v":0},{"$f":"IF(ISERROR((#REF!-#REF!)/#REF!),0,(#REF!-#REF!)/#REF!)","v":0},{"$f":"IF(ISERROR((#REF!-#REF!)/#REF!),0,(#REF!-#REF!)/#REF!)","v":0},{"$f":"IF(ISERROR((#REF!-#REF!)/#REF!),0,(#REF!-#REF!)/#REF!)","v":0},{"$f":"IF(ISERROR((#REF!-#REF!)/#REF!),0,(#REF!-#REF!)/#REF!)","v":0},{"$f":"IF(ISERROR((#REF!-#REF!)/#REF!),0,(#REF!-#REF!)/#REF!)","v":0},{"$f":"IF(ISERROR((#REF!-#REF!)/#REF!),0,(#REF!-#REF!)/#REF!)","v":0},{"$f":"IF(ISERROR((#REF!-#REF!)/#REF!),0,(#REF!-#REF!)/#REF!)","v":0},{"$f":"IF(ISERROR((#REF!-#REF!)/#REF!),0,(#REF!-#REF!)/#REF!)","v":0}]
[null,"HA83B","Head Injury with Intermediate CC",0,651,0,0,64,637,5,210,"No","-",0,1,"HRG",{"$f":"IF(ISERROR((#REF!-#REF!)/#REF!),0,(#REF!-#REF!)/#REF!)","v":0},{"$f":"IF(ISERROR((#REF!-#REF!)/#REF!),0,(#REF!-#REF!)/#REF!)","v":0},{"$f":"IF(ISERROR((#REF!-#REF!)/#REF!),0,(#REF!-#REF!)/#REF!)","v":0},{"$f":"IF(ISERROR((#REF!-#REF!)/#REF!),0,(#REF!-#REF!)/#REF!)","v":0},{"$f":"IF(ISERROR((#REF!-#REF!)/#REF!),0,(#REF!-#REF!)/#REF!)","v":0},{"$f":"IF(ISERROR((#REF!-#REF!)/#REF!),0,(#REF!-#REF!)/#REF!)","v":0},{"$f":"IF(ISERROR((#REF!-#REF!)/#REF!),0,(#REF!-#REF!)/#REF!)","v":0},{"$f":"IF(ISERROR((#REF!-#REF!)/#REF!),0,(#REF!-#REF!)/#REF!)","v":0},{"$f":"IF(ISERROR((#REF!-#REF!)/#REF!),0,(#REF!-#REF!)/#REF!)","v":0},{"$f":"IF(ISERROR((#REF!-#REF!)/#REF!),0,(#REF!-#REF!)/#REF!)","v":0},{"$f":"IF(ISERROR((#REF!-#REF!)/#REF!),0,(#REF!-#REF!)/#REF!)","v":0},{"$f":"IF(ISERROR((#REF!-#REF!)/#REF!),0,(#REF!-#REF!)/#REF!)","v":0},{"$f":"IF(ISERROR((#REF!-#REF!)/#REF!),0,(#REF!-#REF!)/#REF!)","v":0}]
[null,"HA83C","Head Injury without CC",0,337,0,0,15,743.70924061337894,5,210,"No","-",0,1,"HRG",{"$f":"IF(ISERROR((#REF!-#REF!)/#REF!),0,(#REF!-#REF!)/#REF!)","v":0},{"$f":"IF(ISERROR((#REF!-#REF!)/#REF!),0,(#REF!-#REF!)/#REF!)","v":0},{"$f":"IF(ISERROR((#REF!-#REF!)/#REF!),0,(#REF!-#REF!)/#REF!)","v":0},{"$f":"IF(ISERROR((#REF!-#REF!)/#REF!),0,(#REF!-#REF!)/#REF!)","v":0},{"$f":"IF(ISERROR((#REF!-#REF!)/#REF!),0,(#REF!-#REF!)/#REF!)","v":0},{"$f":"IF(ISERROR((#REF!-#REF!)/#REF!),0,(#REF!-#REF!)/#REF!)","v":0},{"$f":"IF(ISERROR((#REF!-#REF!)/#REF!),0,(#REF!-#REF!)/#REF!)","v":0},{"$f":"IF(ISERROR((#REF!-#REF!)/#REF!),0,(#REF!-#REF!)/#REF!)","v":0},{"$f":"IF(ISERROR((#REF!-#REF!)/#REF!),0,(#REF!-#REF!)/#REF!)","v":0},{"$f":"IF(ISERROR((#REF!-#REF!)/#REF!),0,(#REF!-#REF!)/#REF!)","v":0},{"$f":"IF(ISERROR((#REF!-#REF!)/#REF!),0,(#REF!-#REF!)/#REF!)","v":0},{"$f":"IF(ISERROR((#REF!-#REF!)/#REF!),0,(#REF!-#REF!)/#REF!)","v":0},{"$f":"IF(ISERROR((#REF!-#REF!)/#REF!),0,(#REF!-#REF!)/#REF!)","v":0}]
[null,"HA91Z","Hip Trauma Diagnosis without Procedure",0,1328,0,0,48,2423.5126860934065,48,210,"No","-",0,1,"sub-HRG",{"$f":"IF(ISERROR((#REF!-#REF!)/#REF!),0,(#REF!-#REF!)/#REF!)","v":0},{"$f":"IF(ISERROR((#REF!-#REF!)/#REF!),0,(#REF!-#REF!)/#REF!)","v":0},{"$f":"IF(ISERROR((#REF!-#REF!)/#REF!),0,(#REF!-#REF!)/#REF!)","v":0},{"$f":"IF(ISERROR((#REF!-#REF!)/#REF!),0,(#REF!-#REF!)/#REF!)","v":0},{"$f":"IF(ISERROR((#REF!-#REF!)/#REF!),0,(#REF!-#REF!)/#REF!)","v":0},{"$f":"IF(ISERROR((#REF!-#REF!)/#REF!),0,(#REF!-#REF!)/#REF!)","v":0},{"$f":"IF(ISERROR((#REF!-#REF!)/#REF!),0,(#REF!-#REF!)/#REF!)","v":0},{"$f":"IF(ISERROR((#REF!-#REF!)/#REF!),0,(#REF!-#REF!)/#REF!)","v":0},{"$f":"IF(ISERROR((#REF!-#REF!)/#REF!),0,(#REF!-#REF!)/#REF!)","v":0},{"$f":"IF(ISERROR((#REF!-#REF!)/#REF!),0,(#REF!-#REF!)/#REF!)","v":0},{"$f":"IF(ISERROR((#REF!-#REF!)/#REF!),0,(#REF!-#REF!)/#REF!)","v":0},{"$f":"IF(ISERROR((#REF!-#REF!)/#REF!),0,(#REF!-#REF!)/#REF!)","v":0},{"$f":"IF(ISERROR((#REF!-#REF!)/#REF!),0,(#REF!-#REF!)/#REF!)","v":0}]
[null,"HA92Z","Knee Trauma Diagnosis without Procedure",0,1097,0,0,86,1660.1690239244858,39,210,"No","-",0,1,"sub-HRG",{"$f":"IF(ISERROR((#REF!-#REF!)/#REF!),0,(#REF!-#REF!)/#REF!)","v":0},{"$f":"IF(ISERROR((#REF!-#REF!)/#REF!),0,(#REF!-#REF!)/#REF!)","v":0},{"$f":"IF(ISERROR((#REF!-#REF!)/#REF!),0,(#REF!-#REF!)/#REF!)","v":0},{"$f":"IF(ISERROR((#REF!-#REF!)/#REF!),0,(#REF!-#REF!)/#REF!)","v":0},{"$f":"IF(ISERROR((#REF!-#REF!)/#REF!),0,(#REF!-#REF!)/#REF!)","v":0},{"$f":"IF(ISERROR((#REF!-#REF!)/#REF!),0,(#REF!-#REF!)/#REF!)","v":0},{"$f":"IF(ISERROR((#REF!-#REF!)/#REF!),0,(#REF!-#REF!)/#REF!)","v":0},{"$f":"IF(ISERROR((#REF!-#REF!)/#REF!),0,(#REF!-#REF!)/#REF!)","v":0},{"$f":"IF(ISERROR((#REF!-#REF!)/#REF!),0,(#REF!-#REF!)/#REF!)","v":0},{"$f":"IF(ISERROR((#REF!-#REF!)/#REF!),0,(#REF!-#REF!)/#REF!)","v":0},{"$f":"IF(ISERROR((#REF!-#REF!)/#REF!),0,(#REF!-#REF!)/#REF!)","v":0},{"$f":"IF(ISERROR((#REF!-#REF!)/#REF!),0,(#REF!-#REF!)/#REF!)","v":0},{"$f":"IF(ISERROR((#REF!-#REF!)/#REF!),0,(#REF!-#REF!)/#REF!)","v":0}]
[null,"HA93Z","Foot Trauma Diagnosis without Procedure",0,909,0,0,55,1074.6863543318505,16,210,"No","-",0,1,"sub-HRG",{"$f":"IF(ISERROR((#REF!-#REF!)/#REF!),0,(#REF!-#REF!)/#REF!)","v":0},{"$f":"IF(ISERROR((#REF!-#REF!)/#REF!),0,(#REF!-#REF!)/#REF!)","v":0},{"$f":"IF(ISERROR((#REF!-#REF!)/#REF!),0,(#REF!-#REF!)/#REF!)","v":0},{"$f":"IF(ISERROR((#REF!-#REF!)/#REF!),0,(#REF!-#REF!)/#REF!)","v":0},{"$f":"IF(ISERROR((#REF!-#REF!)/#REF!),0,(#REF!-#REF!)/#REF!)","v":0},{"$f":"IF(ISERROR((#REF!-#REF!)/#REF!),0,(#REF!-#REF!)/#REF!)","v":0},{"$f":"IF(ISERROR((#REF!-#REF!)/#REF!),0,(#REF!-#REF!)/#REF!)","v":0},{"$f":"IF(ISERROR((#REF!-#REF!)/#REF!),0,(#REF!-#REF!)/#REF!)","v":0},{"$f":"IF(ISERROR((#REF!-#REF!)/#REF!),0,(#REF!-#REF!)/#REF!)","v":0},{"$f":"IF(ISERROR((#REF!-#REF!)/#REF!),0,(#REF!-#REF!)/#REF!)","v":0},{"$f":"IF(ISERROR((#REF!-#REF!)/#REF!),0,(#REF!-#REF!)/#REF!)","v":0},{"$f":"IF(ISERROR((#REF!-#REF!)/#REF!),0,(#REF!-#REF!)/#REF!)","v":0},{"$f":"IF(ISERROR((#REF!-#REF!)/#REF!),0,(#REF!-#REF!)/#REF!)","v":0}]
[null,"HA94Z","Arm Trauma Diagnosis without Procedure",0,882,0,0,45,951.78727149650524,18,210,"No","-",0,1,"sub-HRG",{"$f":"IF(ISERROR((#REF!-#REF!)/#REF!),0,(#REF!-#REF!)/#REF!)","v":0},{"$f":"IF(ISERROR((#REF!-#REF!)/#REF!),0,(#REF!-#REF!)/#REF!)","v":0},{"$f":"IF(ISERROR((#REF!-#REF!)/#REF!),0,(#REF!-#REF!)/#REF!)","v":0},{"$f":"IF(ISERROR((#REF!-#REF!)/#REF!),0,(#REF!-#REF!)/#REF!)","v":0},{"$f":"IF(ISERROR((#REF!-#REF!)/#REF!),0,(#REF!-#REF!)/#REF!)","v":0},{"$f":"IF(ISERROR((#REF!-#REF!)/#REF!),0,(#REF!-#REF!)/#REF!)","v":0},{"$f":"IF(ISERROR((#REF!-#REF!)/#REF!),0,(#REF!-#REF!)/#REF!)","v":0},{"$f":"IF(ISERROR((#REF!-#REF!)/#REF!),0,(#REF!-#REF!)/#REF!)","v":0},{"$f":"IF(ISERROR((#REF!-#REF!)/#REF!),0,(#REF!-#REF!)/#REF!)","v":0},{"$f":"IF(ISERROR((#REF!-#REF!)/#REF!),0,(#REF!-#REF!)/#REF!)","v":0},{"$f":"IF(ISERROR((#REF!-#REF!)/#REF!),0,(#REF!-#REF!)/#REF!)","v":0},{"$f":"IF(ISERROR((#REF!-#REF!)/#REF!),0,(#REF!-#REF!)/#REF!)","v":0},{"$f":"IF(ISERROR((#REF!-#REF!)/#REF!),0,(#REF!-#REF!)/#REF!)","v":0}]
[null,"HA95Z","Hand Trauma Diagnosis without Procedure",0,355,0,0,5,761.77627099505855,5,210,"No","-",0,1,"sub-HRG",{"$f":"IF(ISERROR((#REF!-#REF!)/#REF!),0,(#REF!-#REF!)/#REF!)","v":0},{"$f":"IF(ISERROR((#REF!-#REF!)/#REF!),0,(#REF!-#REF!)/#REF!)","v":0},{"$f":"IF(ISERROR((#REF!-#REF!)/#REF!),0,(#REF!-#REF!)/#REF!)","v":0},{"$f":"IF(ISERROR((#REF!-#REF!)/#REF!),0,(#REF!-#REF!)/#REF!)","v":0},{"$f":"IF(ISERROR((#REF!-#REF!)/#REF!),0,(#REF!-#REF!)/#REF!)","v":0},{"$f":"IF(ISERROR((#REF!-#REF!)/#REF!),0,(#REF!-#REF!)/#REF!)","v":0},{"$f":"IF(ISERROR((#REF!-#REF!)/#REF!),0,(#REF!-#REF!)/#REF!)","v":0},{"$f":"IF(ISERROR((#REF!-#REF!)/#REF!),0,(#REF!-#REF!)/#REF!)","v":0},{"$f":"IF(ISERROR((#REF!-#REF!)/#REF!),0,(#REF!-#REF!)/#REF!)","v":0},{"$f":"IF(ISERROR((#REF!-#REF!)/#REF!),0,(#REF!-#REF!)/#REF!)","v":0},{"$f":"IF(ISERROR((#REF!-#REF!)/#REF!),0,(#REF!-#REF!)/#REF!)","v":0},{"$f":"IF(ISERROR((#REF!-#REF!)/#REF!),0,(#REF!-#REF!)/#REF!)","v":0},{"$f":"IF(ISERROR((#REF!-#REF!)/#REF!),0,(#REF!-#REF!)/#REF!)","v":0}]
[null,"HA96Z","Multiple Trauma Diagnoses without Procedure",0,1450,0,0,35,1450,35,210,"Yes",0.30000000000000004,435.00000000000006,"","",{"$f":"IF(ISERROR((#REF!-#REF!)/#REF!),0,(#REF!-#REF!)/#REF!)","v":0},{"$f":"IF(ISERROR((#REF!-#REF!)/#REF!),0,(#REF!-#REF!)/#REF!)","v":0},{"$f":"IF(ISERROR((#REF!-#REF!)/#REF!),0,(#REF!-#REF!)/#REF!)","v":0},{"$f":"IF(ISERROR((#REF!-#REF!)/#REF!),0,(#REF!-#REF!)/#REF!)","v":0},{"$f":"IF(ISERROR((#REF!-#REF!)/#REF!),0,(#REF!-#REF!)/#REF!)","v":0},{"$f":"IF(ISERROR((#REF!-#REF!)/#REF!),0,(#REF!-#REF!)/#REF!)","v":0},{"$f":"IF(ISERROR((#REF!-#REF!)/#REF!),0,(#REF!-#REF!)/#REF!)","v":0},{"$f":"IF(ISERROR((#REF!-#REF!)/#REF!),0,(#REF!-#REF!)/#REF!)","v":0},{"$f":"IF(ISERROR((#REF!-#REF!)/#REF!),0,(#REF!-#REF!)/#REF!)","v":0},{"$f":"IF(ISERROR((#REF!-#REF!)/#REF!),0,(#REF!-#REF!)/#REF!)","v":0},{"$f":"IF(ISERROR((#REF!-#REF!)/#REF!),0,(#REF!-#REF!)/#REF!)","v":0},{"$f":"IF(ISERROR((#REF!-#REF!)/#REF!),0,(#REF!-#REF!)/#REF!)","v":0},{"$f":"IF(ISERROR((#REF!-#REF!)/#REF!),0,(#REF!-#REF!)/#REF!)","v":0}]
[null,"HA97Z","Other Trauma Diagnosis without Procedure",0,661,0,0,15,661,15,210,"Yes",0.30000000000000004,198.30000000000004,"","",{"$f":"IF(ISERROR((#REF!-#REF!)/#REF!),0,(#REF!-#REF!)/#REF!)","v":0},{"$f":"IF(ISERROR((#REF!-#REF!)/#REF!),0,(#REF!-#REF!)/#REF!)","v":0},{"$f":"IF(ISERROR((#REF!-#REF!)/#REF!),0,(#REF!-#REF!)/#REF!)","v":0},{"$f":"IF(ISERROR((#REF!-#REF!)/#REF!),0,(#REF!-#REF!)/#REF!)","v":0},{"$f":"IF(ISERROR((#REF!-#REF!)/#REF!),0,(#REF!-#REF!)/#REF!)","v":0},{"$f":"IF(ISERROR((#REF!-#REF!)/#REF!),0,(#REF!-#REF!)/#REF!)","v":0},{"$f":"IF(ISERROR((#REF!-#REF!)/#REF!),0,(#REF!-#REF!)/#REF!)","v":0},{"$f":"IF(ISERROR((#REF!-#REF!)/#REF!),0,(#REF!-#REF!)/#REF!)","v":0},{"$f":"IF(ISERROR((#REF!-#REF!)/#REF!),0,(#REF!-#REF!)/#REF!)","v":0},{"$f":"IF(ISERROR((#REF!-#REF!)/#REF!),0,(#REF!-#REF!)/#REF!)","v":0},{"$f":"IF(ISERROR((#REF!-#REF!)/#REF!),0,(#REF!-#REF!)/#REF!)","v":0},{"$f":"IF(ISERROR((#REF!-#REF!)/#REF!),0,(#REF!-#REF!)/#REF!)","v":0},{"$f":"IF(ISERROR((#REF!-#REF!)/#REF!),0,(#REF!-#REF!)/#REF!)","v":0}]
[null,"HA99Z","Other Procedures for Trauma",0,425,0,0,26,425,26,210,"No","-",0,"","",{"$f":"IF(ISERROR((#REF!-#REF!)/#REF!),0,(#REF!-#REF!)/#REF!)","v":0},{"$f":"IF(ISERROR((#REF!-#REF!)/#REF!),0,(#REF!-#REF!)/#REF!)","v":0},{"$f":"IF(ISERROR((#REF!-#REF!)/#REF!),0,(#REF!-#REF!)/#REF!)","v":0},{"$f":"IF(ISERROR((#REF!-#REF!)/#REF!),0,(#REF!-#REF!)/#REF!)","v":0},{"$f":"IF(ISERROR((#REF!-#REF!)/#REF!),0,(#REF!-#REF!)/#REF!)","v":0},{"$f":"IF(ISERROR((#REF!-#REF!)/#REF!),0,(#REF!-#REF!)/#REF!)","v":0},{"$f":"IF(ISERROR((#REF!-#REF!)/#REF!),0,(#REF!-#REF!)/#REF!)","v":0},{"$f":"IF(ISERROR((#REF!-#REF!)/#REF!),0,(#REF!-#REF!)/#REF!)","v":0},{"$f":"IF(ISERROR((#REF!-#REF!)/#REF!),0,(#REF!-#REF!)/#REF!)","v":0},{"$f":"IF(ISERROR((#REF!-#REF!)/#REF!),0,(#REF!-#REF!)/#REF!)","v":0},{"$f":"IF(ISERROR((#REF!-#REF!)/#REF!),0,(#REF!-#REF!)/#REF!)","v":0},{"$f":"IF(ISERROR((#REF!-#REF!)/#REF!),0,(#REF!-#REF!)/#REF!)","v":0},{"$f":"IF(ISERROR((#REF!-#REF!)/#REF!),0,(#REF!-#REF!)/#REF!)","v":0}]
[null,"HB11A","Major Hip Procedures for Non-Trauma, Category 2, with Major CC",0,8462,0,0,68,8462,68,210,"No","-",0,"","",{"$f":"IF(ISERROR((#REF!-#REF!)/#REF!),0,(#REF!-#REF!)/#REF!)","v":0},{"$f":"IF(ISERROR((#REF!-#REF!)/#REF!),0,(#REF!-#REF!)/#REF!)","v":0},{"$f":"IF(ISERROR((#REF!-#REF!)/#REF!),0,(#REF!-#REF!)/#REF!)","v":0},{"$f":"IF(ISERROR((#REF!-#REF!)/#REF!),0,(#REF!-#REF!)/#REF!)","v":0},{"$f":"IF(ISERROR((#REF!-#REF!)/#REF!),0,(#REF!-#REF!)/#REF!)","v":0},{"$f":"IF(ISERROR((#REF!-#REF!)/#REF!),0,(#REF!-#REF!)/#REF!)","v":0},{"$f":"IF(ISERROR((#REF!-#REF!)/#REF!),0,(#REF!-#REF!)/#REF!)","v":0},{"$f":"IF(ISERROR((#REF!-#REF!)/#REF!),0,(#REF!-#REF!)/#REF!)","v":0},{"$f":"IF(ISERROR((#REF!-#REF!)/#REF!),0,(#REF!-#REF!)/#REF!)","v":0},{"$f":"IF(ISERROR((#REF!-#REF!)/#REF!),0,(#REF!-#REF!)/#REF!)","v":0},{"$f":"IF(ISERROR((#REF!-#REF!)/#REF!),0,(#REF!-#REF!)/#REF!)","v":0},{"$f":"IF(ISERROR((#REF!-#REF!)/#REF!),0,(#REF!-#REF!)/#REF!)","v":0},{"$f":"IF(ISERROR((#REF!-#REF!)/#REF!),0,(#REF!-#REF!)/#REF!)","v":0}]
[null,"HB11B","Major Hip Procedures for Non-Trauma, Category 2, with Intermediate CC",0,6058,0,0,15,6058,15,210,"No","-",0,"","",{"$f":"IF(ISERROR((#REF!-#REF!)/#REF!),0,(#REF!-#REF!)/#REF!)","v":0},{"$f":"IF(ISERROR((#REF!-#REF!)/#REF!),0,(#REF!-#REF!)/#REF!)","v":0},{"$f":"IF(ISERROR((#REF!-#REF!)/#REF!),0,(#REF!-#REF!)/#REF!)","v":0},{"$f":"IF(ISERROR((#REF!-#REF!)/#REF!),0,(#REF!-#REF!)/#REF!)","v":0},{"$f":"IF(ISERROR((#REF!-#REF!)/#REF!),0,(#REF!-#REF!)/#REF!)","v":0},{"$f":"IF(ISERROR((#REF!-#REF!)/#REF!),0,(#REF!-#REF!)/#REF!)","v":0},{"$f":"IF(ISERROR((#REF!-#REF!)/#REF!),0,(#REF!-#REF!)/#REF!)","v":0},{"$f":"IF(ISERROR((#REF!-#REF!)/#REF!),0,(#REF!-#REF!)/#REF!)","v":0},{"$f":"IF(ISERROR((#REF!-#REF!)/#REF!),0,(#REF!-#REF!)/#REF!)","v":0},{"$f":"IF(ISERROR((#REF!-#REF!)/#REF!),0,(#REF!-#REF!)/#REF!)","v":0},{"$f":"IF(ISERROR((#REF!-#REF!)/#REF!),0,(#REF!-#REF!)/#REF!)","v":0},{"$f":"IF(ISERROR((#REF!-#REF!)/#REF!),0,(#REF!-#REF!)/#REF!)","v":0},{"$f":"IF(ISERROR((#REF!-#REF!)/#REF!),0,(#REF!-#REF!)/#REF!)","v":0}]
[null,"HB11C","Major Hip Procedures for Non-Trauma, Category 2, without CC",0,5761,0,0,10,5761,10,210,"No","-",0,"","",{"$f":"IF(ISERROR((#REF!-#REF!)/#REF!),0,(#REF!-#REF!)/#REF!)","v":0},{"$f":"IF(ISERROR((#REF!-#REF!)/#REF!),0,(#REF!-#REF!)/#REF!)","v":0},{"$f":"IF(ISERROR((#REF!-#REF!)/#REF!),0,(#REF!-#REF!)/#REF!)","v":0},{"$f":"IF(ISERROR((#REF!-#REF!)/#REF!),0,(#REF!-#REF!)/#REF!)","v":0},{"$f":"IF(ISERROR((#REF!-#REF!)/#REF!),0,(#REF!-#REF!)/#REF!)","v":0},{"$f":"IF(ISERROR((#REF!-#REF!)/#REF!),0,(#REF!-#REF!)/#REF!)","v":0},{"$f":"IF(ISERROR((#REF!-#REF!)/#REF!),0,(#REF!-#REF!)/#REF!)","v":0},{"$f":"IF(ISERROR((#REF!-#REF!)/#REF!),0,(#REF!-#REF!)/#REF!)","v":0},{"$f":"IF(ISERROR((#REF!-#REF!)/#REF!),0,(#REF!-#REF!)/#REF!)","v":0},{"$f":"IF(ISERROR((#REF!-#REF!)/#REF!),0,(#REF!-#REF!)/#REF!)","v":0},{"$f":"IF(ISERROR((#REF!-#REF!)/#REF!),0,(#REF!-#REF!)/#REF!)","v":0},{"$f":"IF(ISERROR((#REF!-#REF!)/#REF!),0,(#REF!-#REF!)/#REF!)","v":0},{"$f":"IF(ISERROR((#REF!-#REF!)/#REF!),0,(#REF!-#REF!)/#REF!)","v":0}]
[null,"HB12A","Major Hip Procedures for Non-Trauma, Category 1, with Major CC",0,7150,0,0,31,7150,31,210,"No","-",0,"","",{"$f":"IF(ISERROR((#REF!-#REF!)/#REF!),0,(#REF!-#REF!)/#REF!)","v":0},{"$f":"IF(ISERROR((#REF!-#REF!)/#REF!),0,(#REF!-#REF!)/#REF!)","v":0},{"$f":"IF(ISERROR((#REF!-#REF!)/#REF!),0,(#REF!-#REF!)/#REF!)","v":0},{"$f":"IF(ISERROR((#REF!-#REF!)/#REF!),0,(#REF!-#REF!)/#REF!)","v":0},{"$f":"IF(ISERROR((#REF!-#REF!)/#REF!),0,(#REF!-#REF!)/#REF!)","v":0},{"$f":"IF(ISERROR((#REF!-#REF!)/#REF!),0,(#REF!-#REF!)/#REF!)","v":0},{"$f":"IF(ISERROR((#REF!-#REF!)/#REF!),0,(#REF!-#REF!)/#REF!)","v":0},{"$f":"IF(ISERROR((#REF!-#REF!)/#REF!),0,(#REF!-#REF!)/#REF!)","v":0},{"$f":"IF(ISERROR((#REF!-#REF!)/#REF!),0,(#REF!-#REF!)/#REF!)","v":0},{"$f":"IF(ISERROR((#REF!-#REF!)/#REF!),0,(#REF!-#REF!)/#REF!)","v":0},{"$f":"IF(ISERROR((#REF!-#REF!)/#REF!),0,(#REF!-#REF!)/#REF!)","v":0},{"$f":"IF(ISERROR((#REF!-#REF!)/#REF!),0,(#REF!-#REF!)/#REF!)","v":0},{"$f":"IF(ISERROR((#REF!-#REF!)/#REF!),0,(#REF!-#REF!)/#REF!)","v":0}]
[null,"HB12B","Major Hip Procedures for Non-Trauma, Category 1, with Intermediate CC",0,5884,0,0,14,5884,14,210,"No","-",0,1,"HRG",{"$f":"IF(ISERROR((#REF!-#REF!)/#REF!),0,(#REF!-#REF!)/#REF!)","v":0},{"$f":"IF(ISERROR((#REF!-#REF!)/#REF!),0,(#REF!-#REF!)/#REF!)","v":0},{"$f":"IF(ISERROR((#REF!-#REF!)/#REF!),0,(#REF!-#REF!)/#REF!)","v":0},{"$f":"IF(ISERROR((#REF!-#REF!)/#REF!),0,(#REF!-#REF!)/#REF!)","v":0},{"$f":"IF(ISERROR((#REF!-#REF!)/#REF!),0,(#REF!-#REF!)/#REF!)","v":0},{"$f":"IF(ISERROR((#REF!-#REF!)/#REF!),0,(#REF!-#REF!)/#REF!)","v":0},{"$f":"IF(ISERROR((#REF!-#REF!)/#REF!),0,(#REF!-#REF!)/#REF!)","v":0},{"$f":"IF(ISERROR((#REF!-#REF!)/#REF!),0,(#REF!-#REF!)/#REF!)","v":0},{"$f":"IF(ISERROR((#REF!-#REF!)/#REF!),0,(#REF!-#REF!)/#REF!)","v":0},{"$f":"IF(ISERROR((#REF!-#REF!)/#REF!),0,(#REF!-#REF!)/#REF!)","v":0},{"$f":"IF(ISERROR((#REF!-#REF!)/#REF!),0,(#REF!-#REF!)/#REF!)","v":0},{"$f":"IF(ISERROR((#REF!-#REF!)/#REF!),0,(#REF!-#REF!)/#REF!)","v":0},{"$f":"IF(ISERROR((#REF!-#REF!)/#REF!),0,(#REF!-#REF!)/#REF!)","v":0}]
[null,"HB12C","Major Hip Procedures for Non-Trauma, Category 1, without CC",0,5150,0,0,9,5150,9,210,"No","-",0,1,"HRG",{"$f":"IF(ISERROR((#REF!-#REF!)/#REF!),0,(#REF!-#REF!)/#REF!)","v":0},{"$f":"IF(ISERROR((#REF!-#REF!)/#REF!),0,(#REF!-#REF!)/#REF!)","v":0},{"$f":"IF(ISERROR((#REF!-#REF!)/#REF!),0,(#REF!-#REF!)/#REF!)","v":0},{"$f":"IF(ISERROR((#REF!-#REF!)/#REF!),0,(#REF!-#REF!)/#REF!)","v":0},{"$f":"IF(ISERROR((#REF!-#REF!)/#REF!),0,(#REF!-#REF!)/#REF!)","v":0},{"$f":"IF(ISERROR((#REF!-#REF!)/#REF!),0,(#REF!-#REF!)/#REF!)","v":0},{"$f":"IF(ISERROR((#REF!-#REF!)/#REF!),0,(#REF!-#REF!)/#REF!)","v":0},{"$f":"IF(ISERROR((#REF!-#REF!)/#REF!),0,(#REF!-#REF!)/#REF!)","v":0},{"$f":"IF(ISERROR((#REF!-#REF!)/#REF!),0,(#REF!-#REF!)/#REF!)","v":0},{"$f":"IF(ISERROR((#REF!-#REF!)/#REF!),0,(#REF!-#REF!)/#REF!)","v":0},{"$f":"IF(ISERROR((#REF!-#REF!)/#REF!),0,(#REF!-#REF!)/#REF!)","v":0},{"$f":"IF(ISERROR((#REF!-#REF!)/#REF!),0,(#REF!-#REF!)/#REF!)","v":0},{"$f":"IF(ISERROR((#REF!-#REF!)/#REF!),0,(#REF!-#REF!)/#REF!)","v":0}]
[null,"HB13Z","Intermediate Hip Procedures for Non-Trauma, Category 2",0,4472,0,0,16,4472,16,210,"No","-",0,"","",{"$f":"IF(ISERROR((#REF!-#REF!)/#REF!),0,(#REF!-#REF!)/#REF!)","v":0},{"$f":"IF(ISERROR((#REF!-#REF!)/#REF!),0,(#REF!-#REF!)/#REF!)","v":0},{"$f":"IF(ISERROR((#REF!-#REF!)/#REF!),0,(#REF!-#REF!)/#REF!)","v":0},{"$f":"IF(ISERROR((#REF!-#REF!)/#REF!),0,(#REF!-#REF!)/#REF!)","v":0},{"$f":"IF(ISERROR((#REF!-#REF!)/#REF!),0,(#REF!-#REF!)/#REF!)","v":0},{"$f":"IF(ISERROR((#REF!-#REF!)/#REF!),0,(#REF!-#REF!)/#REF!)","v":0},{"$f":"IF(ISERROR((#REF!-#REF!)/#REF!),0,(#REF!-#REF!)/#REF!)","v":0},{"$f":"IF(ISERROR((#REF!-#REF!)/#REF!),0,(#REF!-#REF!)/#REF!)","v":0},{"$f":"IF(ISERROR((#REF!-#REF!)/#REF!),0,(#REF!-#REF!)/#REF!)","v":0},{"$f":"IF(ISERROR((#REF!-#REF!)/#REF!),0,(#REF!-#REF!)/#REF!)","v":0},{"$f":"IF(ISERROR((#REF!-#REF!)/#REF!),0,(#REF!-#REF!)/#REF!)","v":0},{"$f":"IF(ISERROR((#REF!-#REF!)/#REF!),0,(#REF!-#REF!)/#REF!)","v":0},{"$f":"IF(ISERROR((#REF!-#REF!)/#REF!),0,(#REF!-#REF!)/#REF!)","v":0}]
[null,"HB14B","Intermediate Hip Procedures for Non-Trauma, Category 1, with CC",0,3021,0,0,35,3021,35,210,"No","-",0,"","",{"$f":"IF(ISERROR((#REF!-#REF!)/#REF!),0,(#REF!-#REF!)/#REF!)","v":0},{"$f":"IF(ISERROR((#REF!-#REF!)/#REF!),0,(#REF!-#REF!)/#REF!)","v":0},{"$f":"IF(ISERROR((#REF!-#REF!)/#REF!),0,(#REF!-#REF!)/#REF!)","v":0},{"$f":"IF(ISERROR((#REF!-#REF!)/#REF!),0,(#REF!-#REF!)/#REF!)","v":0},{"$f":"IF(ISERROR((#REF!-#REF!)/#REF!),0,(#REF!-#REF!)/#REF!)","v":0},{"$f":"IF(ISERROR((#REF!-#REF!)/#REF!),0,(#REF!-#REF!)/#REF!)","v":0},{"$f":"IF(ISERROR((#REF!-#REF!)/#REF!),0,(#REF!-#REF!)/#REF!)","v":0},{"$f":"IF(ISERROR((#REF!-#REF!)/#REF!),0,(#REF!-#REF!)/#REF!)","v":0},{"$f":"IF(ISERROR((#REF!-#REF!)/#REF!),0,(#REF!-#REF!)/#REF!)","v":0},{"$f":"IF(ISERROR((#REF!-#REF!)/#REF!),0,(#REF!-#REF!)/#REF!)","v":0},{"$f":"IF(ISERROR((#REF!-#REF!)/#REF!),0,(#REF!-#REF!)/#REF!)","v":0},{"$f":"IF(ISERROR((#REF!-#REF!)/#REF!),0,(#REF!-#REF!)/#REF!)","v":0},{"$f":"IF(ISERROR((#REF!-#REF!)/#REF!),0,(#REF!-#REF!)/#REF!)","v":0}]
[null,"HB14C","Intermediate Hip Procedures for Non-Trauma, Category 1, without CC",0,1851,0,0,6,1851,6,210,"No","-",0,"","",{"$f":"IF(ISERROR((#REF!-#REF!)/#REF!),0,(#REF!-#REF!)/#REF!)","v":0},{"$f":"IF(ISERROR((#REF!-#REF!)/#REF!),0,(#REF!-#REF!)/#REF!)","v":0},{"$f":"IF(ISERROR((#REF!-#REF!)/#REF!),0,(#REF!-#REF!)/#REF!)","v":0},{"$f":"IF(ISERROR((#REF!-#REF!)/#REF!),0,(#REF!-#REF!)/#REF!)","v":0},{"$f":"IF(ISERROR((#REF!-#REF!)/#REF!),0,(#REF!-#REF!)/#REF!)","v":0},{"$f":"IF(ISERROR((#REF!-#REF!)/#REF!),0,(#REF!-#REF!)/#REF!)","v":0},{"$f":"IF(ISERROR((#REF!-#REF!)/#REF!),0,(#REF!-#REF!)/#REF!)","v":0},{"$f":"IF(ISERROR((#REF!-#REF!)/#REF!),0,(#REF!-#REF!)/#REF!)","v":0},{"$f":"IF(ISERROR((#REF!-#REF!)/#REF!),0,(#REF!-#REF!)/#REF!)","v":0},{"$f":"IF(ISERROR((#REF!-#REF!)/#REF!),0,(#REF!-#REF!)/#REF!)","v":0},{"$f":"IF(ISERROR((#REF!-#REF!)/#REF!),0,(#REF!-#REF!)/#REF!)","v":0},{"$f":"IF(ISERROR((#REF!-#REF!)/#REF!),0,(#REF!-#REF!)/#REF!)","v":0},{"$f":"IF(ISERROR((#REF!-#REF!)/#REF!),0,(#REF!-#REF!)/#REF!)","v":0}]
[null,"HB15D","Minor Hip Procedures for Non-Trauma, Category 2, 19 years and over with CC",0,1479,0,0,40,1479,40,210,"No","-",0,"","",{"$f":"IF(ISERROR((#REF!-#REF!)/#REF!),0,(#REF!-#REF!)/#REF!)","v":0},{"$f":"IF(ISERROR((#REF!-#REF!)/#REF!),0,(#REF!-#REF!)/#REF!)","v":0},{"$f":"IF(ISERROR((#REF!-#REF!)/#REF!),0,(#REF!-#REF!)/#REF!)","v":0},{"$f":"IF(ISERROR((#REF!-#REF!)/#REF!),0,(#REF!-#REF!)/#REF!)","v":0},{"$f":"IF(ISERROR((#REF!-#REF!)/#REF!),0,(#REF!-#REF!)/#REF!)","v":0},{"$f":"IF(ISERROR((#REF!-#REF!)/#REF!),0,(#REF!-#REF!)/#REF!)","v":0},{"$f":"IF(ISERROR((#REF!-#REF!)/#REF!),0,(#REF!-#REF!)/#REF!)","v":0},{"$f":"IF(ISERROR((#REF!-#REF!)/#REF!),0,(#REF!-#REF!)/#REF!)","v":0},{"$f":"IF(ISERROR((#REF!-#REF!)/#REF!),0,(#REF!-#REF!)/#REF!)","v":0},{"$f":"IF(ISERROR((#REF!-#REF!)/#REF!),0,(#REF!-#REF!)/#REF!)","v":0},{"$f":"IF(ISERROR((#REF!-#REF!)/#REF!),0,(#REF!-#REF!)/#REF!)","v":0},{"$f":"IF(ISERROR((#REF!-#REF!)/#REF!),0,(#REF!-#REF!)/#REF!)","v":0},{"$f":"IF(ISERROR((#REF!-#REF!)/#REF!),0,(#REF!-#REF!)/#REF!)","v":0}]
[null,"HB15E","Minor Hip Procedures for Non-Trauma, Category 2, 19 years and over without CC",0,1259,0,0,5,1259,5,210,"No","-",0,"","",{"$f":"IF(ISERROR((#REF!-#REF!)/#REF!),0,(#REF!-#REF!)/#REF!)","v":0},{"$f":"IF(ISERROR((#REF!-#REF!)/#REF!),0,(#REF!-#REF!)/#REF!)","v":0},{"$f":"IF(ISERROR((#REF!-#REF!)/#REF!),0,(#REF!-#REF!)/#REF!)","v":0},{"$f":"IF(ISERROR((#REF!-#REF!)/#REF!),0,(#REF!-#REF!)/#REF!)","v":0},{"$f":"IF(ISERROR((#REF!-#REF!)/#REF!),0,(#REF!-#REF!)/#REF!)","v":0},{"$f":"IF(ISERROR((#REF!-#REF!)/#REF!),0,(#REF!-#REF!)/#REF!)","v":0},{"$f":"IF(ISERROR((#REF!-#REF!)/#REF!),0,(#REF!-#REF!)/#REF!)","v":0},{"$f":"IF(ISERROR((#REF!-#REF!)/#REF!),0,(#REF!-#REF!)/#REF!)","v":0},{"$f":"IF(ISERROR((#REF!-#REF!)/#REF!),0,(#REF!-#REF!)/#REF!)","v":0},{"$f":"IF(ISERROR((#REF!-#REF!)/#REF!),0,(#REF!-#REF!)/#REF!)","v":0},{"$f":"IF(ISERROR((#REF!-#REF!)/#REF!),0,(#REF!-#REF!)/#REF!)","v":0},{"$f":"IF(ISERROR((#REF!-#REF!)/#REF!),0,(#REF!-#REF!)/#REF!)","v":0},{"$f":"IF(ISERROR((#REF!-#REF!)/#REF!),0,(#REF!-#REF!)/#REF!)","v":0}]
[null,"HB15F","Minor Hip Procedures for Non-Trauma, Category 2, 18 years and under with CC",0,1485,0,0,19,1485,19,317,"No","-",0,"","",{"$f":"IF(ISERROR((#REF!-#REF!)/#REF!),0,(#REF!-#REF!)/#REF!)","v":0},{"$f":"IF(ISERROR((#REF!-#REF!)/#REF!),0,(#REF!-#REF!)/#REF!)","v":0},{"$f":"IF(ISERROR((#REF!-#REF!)/#REF!),0,(#REF!-#REF!)/#REF!)","v":0},{"$f":"IF(ISERROR((#REF!-#REF!)/#REF!),0,(#REF!-#REF!)/#REF!)","v":0},{"$f":"IF(ISERROR((#REF!-#REF!)/#REF!),0,(#REF!-#REF!)/#REF!)","v":0},{"$f":"IF(ISERROR((#REF!-#REF!)/#REF!),0,(#REF!-#REF!)/#REF!)","v":0},{"$f":"IF(ISERROR((#REF!-#REF!)/#REF!),0,(#REF!-#REF!)/#REF!)","v":0},{"$f":"IF(ISERROR((#REF!-#REF!)/#REF!),0,(#REF!-#REF!)/#REF!)","v":0},{"$f":"IF(ISERROR((#REF!-#REF!)/#REF!),0,(#REF!-#REF!)/#REF!)","v":0},{"$f":"IF(ISERROR((#REF!-#REF!)/#REF!),0,(#REF!-#REF!)/#REF!)","v":0},{"$f":"IF(ISERROR((#REF!-#REF!)/#REF!),0,(#REF!-#REF!)/#REF!)","v":0},{"$f":"IF(ISERROR((#REF!-#REF!)/#REF!),0,(#REF!-#REF!)/#REF!)","v":0},{"$f":"IF(ISERROR((#REF!-#REF!)/#REF!),0,(#REF!-#REF!)/#REF!)","v":0}]
[null,"HB15G","Minor Hip Procedures for Non-Trauma, Category 2, 18 years and under without CC",0,1385,0,0,5,1385,5,317,"No","-",0,"","",{"$f":"IF(ISERROR((#REF!-#REF!)/#REF!),0,(#REF!-#REF!)/#REF!)","v":0},{"$f":"IF(ISERROR((#REF!-#REF!)/#REF!),0,(#REF!-#REF!)/#REF!)","v":0},{"$f":"IF(ISERROR((#REF!-#REF!)/#REF!),0,(#REF!-#REF!)/#REF!)","v":0},{"$f":"IF(ISERROR((#REF!-#REF!)/#REF!),0,(#REF!-#REF!)/#REF!)","v":0},{"$f":"IF(ISERROR((#REF!-#REF!)/#REF!),0,(#REF!-#REF!)/#REF!)","v":0},{"$f":"IF(ISERROR((#REF!-#REF!)/#REF!),0,(#REF!-#REF!)/#REF!)","v":0},{"$f":"IF(ISERROR((#REF!-#REF!)/#REF!),0,(#REF!-#REF!)/#REF!)","v":0},{"$f":"IF(ISERROR((#REF!-#REF!)/#REF!),0,(#REF!-#REF!)/#REF!)","v":0},{"$f":"IF(ISERROR((#REF!-#REF!)/#REF!),0,(#REF!-#REF!)/#REF!)","v":0},{"$f":"IF(ISERROR((#REF!-#REF!)/#REF!),0,(#REF!-#REF!)/#REF!)","v":0},{"$f":"IF(ISERROR((#REF!-#REF!)/#REF!),0,(#REF!-#REF!)/#REF!)","v":0},{"$f":"IF(ISERROR((#REF!-#REF!)/#REF!),0,(#REF!-#REF!)/#REF!)","v":0},{"$f":"IF(ISERROR((#REF!-#REF!)/#REF!),0,(#REF!-#REF!)/#REF!)","v":0}]
[null,"HB16B","Minor Hip Procedures for Non-Trauma, Category 1, with CC",0,1024,0,0,25,1024,25,210,"No","-",0,"","",{"$f":"IF(ISERROR((#REF!-#REF!)/#REF!),0,(#REF!-#REF!)/#REF!)","v":0},{"$f":"IF(ISERROR((#REF!-#REF!)/#REF!),0,(#REF!-#REF!)/#REF!)","v":0},{"$f":"IF(ISERROR((#REF!-#REF!)/#REF!),0,(#REF!-#REF!)/#REF!)","v":0},{"$f":"IF(ISERROR((#REF!-#REF!)/#REF!),0,(#REF!-#REF!)/#REF!)","v":0},{"$f":"IF(ISERROR((#REF!-#REF!)/#REF!),0,(#REF!-#REF!)/#REF!)","v":0},{"$f":"IF(ISERROR((#REF!-#REF!)/#REF!),0,(#REF!-#REF!)/#REF!)","v":0},{"$f":"IF(ISERROR((#REF!-#REF!)/#REF!),0,(#REF!-#REF!)/#REF!)","v":0},{"$f":"IF(ISERROR((#REF!-#REF!)/#REF!),0,(#REF!-#REF!)/#REF!)","v":0},{"$f":"IF(ISERROR((#REF!-#REF!)/#REF!),0,(#REF!-#REF!)/#REF!)","v":0},{"$f":"IF(ISERROR((#REF!-#REF!)/#REF!),0,(#REF!-#REF!)/#REF!)","v":0},{"$f":"IF(ISERROR((#REF!-#REF!)/#REF!),0,(#REF!-#REF!)/#REF!)","v":0},{"$f":"IF(ISERROR((#REF!-#REF!)/#REF!),0,(#REF!-#REF!)/#REF!)","v":0},{"$f":"IF(ISERROR((#REF!-#REF!)/#REF!),0,(#REF!-#REF!)/#REF!)","v":0}]
[null,"HB16C","Minor Hip Procedures for Non-Trauma, Category 1, without CC",0,783,0,0,5,783,5,210,"No","-",0,"","",{"$f":"IF(ISERROR((#REF!-#REF!)/#REF!),0,(#REF!-#REF!)/#REF!)","v":0},{"$f":"IF(ISERROR((#REF!-#REF!)/#REF!),0,(#REF!-#REF!)/#REF!)","v":0},{"$f":"IF(ISERROR((#REF!-#REF!)/#REF!),0,(#REF!-#REF!)/#REF!)","v":0},{"$f":"IF(ISERROR((#REF!-#REF!)/#REF!),0,(#REF!-#REF!)/#REF!)","v":0},{"$f":"IF(ISERROR((#REF!-#REF!)/#REF!),0,(#REF!-#REF!)/#REF!)","v":0},{"$f":"IF(ISERROR((#REF!-#REF!)/#REF!),0,(#REF!-#REF!)/#REF!)","v":0},{"$f":"IF(ISERROR((#REF!-#REF!)/#REF!),0,(#REF!-#REF!)/#REF!)","v":0},{"$f":"IF(ISERROR((#REF!-#REF!)/#REF!),0,(#REF!-#REF!)/#REF!)","v":0},{"$f":"IF(ISERROR((#REF!-#REF!)/#REF!),0,(#REF!-#REF!)/#REF!)","v":0},{"$f":"IF(ISERROR((#REF!-#REF!)/#REF!),0,(#REF!-#REF!)/#REF!)","v":0},{"$f":"IF(ISERROR((#REF!-#REF!)/#REF!),0,(#REF!-#REF!)/#REF!)","v":0},{"$f":"IF(ISERROR((#REF!-#REF!)/#REF!),0,(#REF!-#REF!)/#REF!)","v":0},{"$f":"IF(ISERROR((#REF!-#REF!)/#REF!),0,(#REF!-#REF!)/#REF!)","v":0}]
[null,"HB19Z","Minimal Hip Procedures for Non-Trauma, with length of stay 1 day or less",0,654,0,0,5,654,5,210,"No","-",0,"","",{"$f":"IF(ISERROR((#REF!-#REF!)/#REF!),0,(#REF!-#REF!)/#REF!)","v":0},{"$f":"IF(ISERROR((#REF!-#REF!)/#REF!),0,(#REF!-#REF!)/#REF!)","v":0},{"$f":"IF(ISERROR((#REF!-#REF!)/#REF!),0,(#REF!-#REF!)/#REF!)","v":0},{"$f":"IF(ISERROR((#REF!-#REF!)/#REF!),0,(#REF!-#REF!)/#REF!)","v":0},{"$f":"IF(ISERROR((#REF!-#REF!)/#REF!),0,(#REF!-#REF!)/#REF!)","v":0},{"$f":"IF(ISERROR((#REF!-#REF!)/#REF!),0,(#REF!-#REF!)/#REF!)","v":0},{"$f":"IF(ISERROR((#REF!-#REF!)/#REF!),0,(#REF!-#REF!)/#REF!)","v":0},{"$f":"IF(ISERROR((#REF!-#REF!)/#REF!),0,(#REF!-#REF!)/#REF!)","v":0},{"$f":"IF(ISERROR((#REF!-#REF!)/#REF!),0,(#REF!-#REF!)/#REF!)","v":0},{"$f":"IF(ISERROR((#REF!-#REF!)/#REF!),0,(#REF!-#REF!)/#REF!)","v":0},{"$f":"IF(ISERROR((#REF!-#REF!)/#REF!),0,(#REF!-#REF!)/#REF!)","v":0},{"$f":"IF(ISERROR((#REF!-#REF!)/#REF!),0,(#REF!-#REF!)/#REF!)","v":0},{"$f":"IF(ISERROR((#REF!-#REF!)/#REF!),0,(#REF!-#REF!)/#REF!)","v":0}]
[null,"HB21A","Major Knee Procedures for Non-Trauma, Category 2, with Major CC",0,7518,0,0,24,7518,24,210,"No","-",0,"","",{"$f":"IF(ISERROR((#REF!-#REF!)/#REF!),0,(#REF!-#REF!)/#REF!)","v":0},{"$f":"IF(ISERROR((#REF!-#REF!)/#REF!),0,(#REF!-#REF!)/#REF!)","v":0},{"$f":"IF(ISERROR((#REF!-#REF!)/#REF!),0,(#REF!-#REF!)/#REF!)","v":0},{"$f":"IF(ISERROR((#REF!-#REF!)/#REF!),0,(#REF!-#REF!)/#REF!)","v":0},{"$f":"IF(ISERROR((#REF!-#REF!)/#REF!),0,(#REF!-#REF!)/#REF!)","v":0},{"$f":"IF(ISERROR((#REF!-#REF!)/#REF!),0,(#REF!-#REF!)/#REF!)","v":0},{"$f":"IF(ISERROR((#REF!-#REF!)/#REF!),0,(#REF!-#REF!)/#REF!)","v":0},{"$f":"IF(ISERROR((#REF!-#REF!)/#REF!),0,(#REF!-#REF!)/#REF!)","v":0},{"$f":"IF(ISERROR((#REF!-#REF!)/#REF!),0,(#REF!-#REF!)/#REF!)","v":0},{"$f":"IF(ISERROR((#REF!-#REF!)/#REF!),0,(#REF!-#REF!)/#REF!)","v":0},{"$f":"IF(ISERROR((#REF!-#REF!)/#REF!),0,(#REF!-#REF!)/#REF!)","v":0},{"$f":"IF(ISERROR((#REF!-#REF!)/#REF!),0,(#REF!-#REF!)/#REF!)","v":0},{"$f":"IF(ISERROR((#REF!-#REF!)/#REF!),0,(#REF!-#REF!)/#REF!)","v":0}]
[null,"HB21B","Major Knee Procedures for Non-Trauma, Category 2, with CC",0,6248,0,0,11,6248,11,210,"No","-",0,1,"HRG",{"$f":"IF(ISERROR((#REF!-#REF!)/#REF!),0,(#REF!-#REF!)/#REF!)","v":0},{"$f":"IF(ISERROR((#REF!-#REF!)/#REF!),0,(#REF!-#REF!)/#REF!)","v":0},{"$f":"IF(ISERROR((#REF!-#REF!)/#REF!),0,(#REF!-#REF!)/#REF!)","v":0},{"$f":"IF(ISERROR((#REF!-#REF!)/#REF!),0,(#REF!-#REF!)/#REF!)","v":0},{"$f":"IF(ISERROR((#REF!-#REF!)/#REF!),0,(#REF!-#REF!)/#REF!)","v":0},{"$f":"IF(ISERROR((#REF!-#REF!)/#REF!),0,(#REF!-#REF!)/#REF!)","v":0},{"$f":"IF(ISERROR((#REF!-#REF!)/#REF!),0,(#REF!-#REF!)/#REF!)","v":0},{"$f":"IF(ISERROR((#REF!-#REF!)/#REF!),0,(#REF!-#REF!)/#REF!)","v":0},{"$f":"IF(ISERROR((#REF!-#REF!)/#REF!),0,(#REF!-#REF!)/#REF!)","v":0},{"$f":"IF(ISERROR((#REF!-#REF!)/#REF!),0,(#REF!-#REF!)/#REF!)","v":0},{"$f":"IF(ISERROR((#REF!-#REF!)/#REF!),0,(#REF!-#REF!)/#REF!)","v":0},{"$f":"IF(ISERROR((#REF!-#REF!)/#REF!),0,(#REF!-#REF!)/#REF!)","v":0},{"$f":"IF(ISERROR((#REF!-#REF!)/#REF!),0,(#REF!-#REF!)/#REF!)","v":0}]
[null,"HB21C","Major Knee Procedures for Non-Trauma, Category 2, without CC",0,5566,0,0,9,5566,9,210,"No","-",0,1,"HRG",{"$f":"IF(ISERROR((#REF!-#REF!)/#REF!),0,(#REF!-#REF!)/#REF!)","v":0},{"$f":"IF(ISERROR((#REF!-#REF!)/#REF!),0,(#REF!-#REF!)/#REF!)","v":0},{"$f":"IF(ISERROR((#REF!-#REF!)/#REF!),0,(#REF!-#REF!)/#REF!)","v":0},{"$f":"IF(ISERROR((#REF!-#REF!)/#REF!),0,(#REF!-#REF!)/#REF!)","v":0},{"$f":"IF(ISERROR((#REF!-#REF!)/#REF!),0,(#REF!-#REF!)/#REF!)","v":0},{"$f":"IF(ISERROR((#REF!-#REF!)/#REF!),0,(#REF!-#REF!)/#REF!)","v":0},{"$f":"IF(ISERROR((#REF!-#REF!)/#REF!),0,(#REF!-#REF!)/#REF!)","v":0},{"$f":"IF(ISERROR((#REF!-#REF!)/#REF!),0,(#REF!-#REF!)/#REF!)","v":0},{"$f":"IF(ISERROR((#REF!-#REF!)/#REF!),0,(#REF!-#REF!)/#REF!)","v":0},{"$f":"IF(ISERROR((#REF!-#REF!)/#REF!),0,(#REF!-#REF!)/#REF!)","v":0},{"$f":"IF(ISERROR((#REF!-#REF!)/#REF!),0,(#REF!-#REF!)/#REF!)","v":0},{"$f":"IF(ISERROR((#REF!-#REF!)/#REF!),0,(#REF!-#REF!)/#REF!)","v":0},{"$f":"IF(ISERROR((#REF!-#REF!)/#REF!),0,(#REF!-#REF!)/#REF!)","v":0}]
[null,"HB22B","Major Knee Procedures for Non-Trauma, Category 1, with CC",0,3318,0,0,42,3318,42,210,"No","-",0,"","",{"$f":"IF(ISERROR((#REF!-#REF!)/#REF!),0,(#REF!-#REF!)/#REF!)","v":0},{"$f":"IF(ISERROR((#REF!-#REF!)/#REF!),0,(#REF!-#REF!)/#REF!)","v":0},{"$f":"IF(ISERROR((#REF!-#REF!)/#REF!),0,(#REF!-#REF!)/#REF!)","v":0},{"$f":"IF(ISERROR((#REF!-#REF!)/#REF!),0,(#REF!-#REF!)/#REF!)","v":0},{"$f":"IF(ISERROR((#REF!-#REF!)/#REF!),0,(#REF!-#REF!)/#REF!)","v":0},{"$f":"IF(ISERROR((#REF!-#REF!)/#REF!),0,(#REF!-#REF!)/#REF!)","v":0},{"$f":"IF(ISERROR((#REF!-#REF!)/#REF!),0,(#REF!-#REF!)/#REF!)","v":0},{"$f":"IF(ISERROR((#REF!-#REF!)/#REF!),0,(#REF!-#REF!)/#REF!)","v":0},{"$f":"IF(ISERROR((#REF!-#REF!)/#REF!),0,(#REF!-#REF!)/#REF!)","v":0},{"$f":"IF(ISERROR((#REF!-#REF!)/#REF!),0,(#REF!-#REF!)/#REF!)","v":0},{"$f":"IF(ISERROR((#REF!-#REF!)/#REF!),0,(#REF!-#REF!)/#REF!)","v":0},{"$f":"IF(ISERROR((#REF!-#REF!)/#REF!),0,(#REF!-#REF!)/#REF!)","v":0},{"$f":"IF(ISERROR((#REF!-#REF!)/#REF!),0,(#REF!-#REF!)/#REF!)","v":0}]
[null,"HB22C","Major Knee Procedures for Non-Trauma, Category 1, without CC",0,2364,0,0,5,2364,5,210,"No","-",0,"","",{"$f":"IF(ISERROR((#REF!-#REF!)/#REF!),0,(#REF!-#REF!)/#REF!)","v":0},{"$f":"IF(ISERROR((#REF!-#REF!)/#REF!),0,(#REF!-#REF!)/#REF!)","v":0},{"$f":"IF(ISERROR((#REF!-#REF!)/#REF!),0,(#REF!-#REF!)/#REF!)","v":0},{"$f":"IF(ISERROR((#REF!-#REF!)/#REF!),0,(#REF!-#REF!)/#REF!)","v":0},{"$f":"IF(ISERROR((#REF!-#REF!)/#REF!),0,(#REF!-#REF!)/#REF!)","v":0},{"$f":"IF(ISERROR((#REF!-#REF!)/#REF!),0,(#REF!-#REF!)/#REF!)","v":0},{"$f":"IF(ISERROR((#REF!-#REF!)/#REF!),0,(#REF!-#REF!)/#REF!)","v":0},{"$f":"IF(ISERROR((#REF!-#REF!)/#REF!),0,(#REF!-#REF!)/#REF!)","v":0},{"$f":"IF(ISERROR((#REF!-#REF!)/#REF!),0,(#REF!-#REF!)/#REF!)","v":0},{"$f":"IF(ISERROR((#REF!-#REF!)/#REF!),0,(#REF!-#REF!)/#REF!)","v":0},{"$f":"IF(ISERROR((#REF!-#REF!)/#REF!),0,(#REF!-#REF!)/#REF!)","v":0},{"$f":"IF(ISERROR((#REF!-#REF!)/#REF!),0,(#REF!-#REF!)/#REF!)","v":0},{"$f":"IF(ISERROR((#REF!-#REF!)/#REF!),0,(#REF!-#REF!)/#REF!)","v":0}]
[null,"HB23B","Intermediate Knee Procedures for Non-Trauma, with CC",0,2267,0,0,26,2267,26,210,"No","-",0,"","",{"$f":"IF(ISERROR((#REF!-#REF!)/#REF!),0,(#REF!-#REF!)/#REF!)","v":0},{"$f":"IF(ISERROR((#REF!-#REF!)/#REF!),0,(#REF!-#REF!)/#REF!)","v":0},{"$f":"IF(ISERROR((#REF!-#REF!)/#REF!),0,(#REF!-#REF!)/#REF!)","v":0},{"$f":"IF(ISERROR((#REF!-#REF!)/#REF!),0,(#REF!-#REF!)/#REF!)","v":0},{"$f":"IF(ISERROR((#REF!-#REF!)/#REF!),0,(#REF!-#REF!)/#REF!)","v":0},{"$f":"IF(ISERROR((#REF!-#REF!)/#REF!),0,(#REF!-#REF!)/#REF!)","v":0},{"$f":"IF(ISERROR((#REF!-#REF!)/#REF!),0,(#REF!-#REF!)/#REF!)","v":0},{"$f":"IF(ISERROR((#REF!-#REF!)/#REF!),0,(#REF!-#REF!)/#REF!)","v":0},{"$f":"IF(ISERROR((#REF!-#REF!)/#REF!),0,(#REF!-#REF!)/#REF!)","v":0},{"$f":"IF(ISERROR((#REF!-#REF!)/#REF!),0,(#REF!-#REF!)/#REF!)","v":0},{"$f":"IF(ISERROR((#REF!-#REF!)/#REF!),0,(#REF!-#REF!)/#REF!)","v":0},{"$f":"IF(ISERROR((#REF!-#REF!)/#REF!),0,(#REF!-#REF!)/#REF!)","v":0},{"$f":"IF(ISERROR((#REF!-#REF!)/#REF!),0,(#REF!-#REF!)/#REF!)","v":0}]
[null,"HB23C","Intermediate Knee Procedures for Non-Trauma, without CC",0,1632,0,0,5,1632,5,210,"No","-",0,"","",{"$f":"IF(ISERROR((#REF!-#REF!)/#REF!),0,(#REF!-#REF!)/#REF!)","v":0},{"$f":"IF(ISERROR((#REF!-#REF!)/#REF!),0,(#REF!-#REF!)/#REF!)","v":0},{"$f":"IF(ISERROR((#REF!-#REF!)/#REF!),0,(#REF!-#REF!)/#REF!)","v":0},{"$f":"IF(ISERROR((#REF!-#REF!)/#REF!),0,(#REF!-#REF!)/#REF!)","v":0},{"$f":"IF(ISERROR((#REF!-#REF!)/#REF!),0,(#REF!-#REF!)/#REF!)","v":0},{"$f":"IF(ISERROR((#REF!-#REF!)/#REF!),0,(#REF!-#REF!)/#REF!)","v":0},{"$f":"IF(ISERROR((#REF!-#REF!)/#REF!),0,(#REF!-#REF!)/#REF!)","v":0},{"$f":"IF(ISERROR((#REF!-#REF!)/#REF!),0,(#REF!-#REF!)/#REF!)","v":0},{"$f":"IF(ISERROR((#REF!-#REF!)/#REF!),0,(#REF!-#REF!)/#REF!)","v":0},{"$f":"IF(ISERROR((#REF!-#REF!)/#REF!),0,(#REF!-#REF!)/#REF!)","v":0},{"$f":"IF(ISERROR((#REF!-#REF!)/#REF!),0,(#REF!-#REF!)/#REF!)","v":0},{"$f":"IF(ISERROR((#REF!-#REF!)/#REF!),0,(#REF!-#REF!)/#REF!)","v":0},{"$f":"IF(ISERROR((#REF!-#REF!)/#REF!),0,(#REF!-#REF!)/#REF!)","v":0}]
[null,"HB24B","Minor Knee Procedures for Non-Trauma, Category 2, with CC",0,1549,0,0,35,1549,35,210,"No","-",0,"","",{"$f":"IF(ISERROR((#REF!-#REF!)/#REF!),0,(#REF!-#REF!)/#REF!)","v":0},{"$f":"IF(ISERROR((#REF!-#REF!)/#REF!),0,(#REF!-#REF!)/#REF!)","v":0},{"$f":"IF(ISERROR((#REF!-#REF!)/#REF!),0,(#REF!-#REF!)/#REF!)","v":0},{"$f":"IF(ISERROR((#REF!-#REF!)/#REF!),0,(#REF!-#REF!)/#REF!)","v":0},{"$f":"IF(ISERROR((#REF!-#REF!)/#REF!),0,(#REF!-#REF!)/#REF!)","v":0},{"$f":"IF(ISERROR((#REF!-#REF!)/#REF!),0,(#REF!-#REF!)/#REF!)","v":0},{"$f":"IF(ISERROR((#REF!-#REF!)/#REF!),0,(#REF!-#REF!)/#REF!)","v":0},{"$f":"IF(ISERROR((#REF!-#REF!)/#REF!),0,(#REF!-#REF!)/#REF!)","v":0},{"$f":"IF(ISERROR((#REF!-#REF!)/#REF!),0,(#REF!-#REF!)/#REF!)","v":0},{"$f":"IF(ISERROR((#REF!-#REF!)/#REF!),0,(#REF!-#REF!)/#REF!)","v":0},{"$f":"IF(ISERROR((#REF!-#REF!)/#REF!),0,(#REF!-#REF!)/#REF!)","v":0},{"$f":"IF(ISERROR((#REF!-#REF!)/#REF!),0,(#REF!-#REF!)/#REF!)","v":0},{"$f":"IF(ISERROR((#REF!-#REF!)/#REF!),0,(#REF!-#REF!)/#REF!)","v":0}]
[null,"HB24C","Minor Knee Procedures for Non-Trauma, Category 2, without CC",0,1078,0,0,5,1078,5,210,"No","-",0,"","",{"$f":"IF(ISERROR((#REF!-#REF!)/#REF!),0,(#REF!-#REF!)/#REF!)","v":0},{"$f":"IF(ISERROR((#REF!-#REF!)/#REF!),0,(#REF!-#REF!)/#REF!)","v":0},{"$f":"IF(ISERROR((#REF!-#REF!)/#REF!),0,(#REF!-#REF!)/#REF!)","v":0},{"$f":"IF(ISERROR((#REF!-#REF!)/#REF!),0,(#REF!-#REF!)/#REF!)","v":0},{"$f":"IF(ISERROR((#REF!-#REF!)/#REF!),0,(#REF!-#REF!)/#REF!)","v":0},{"$f":"IF(ISERROR((#REF!-#REF!)/#REF!),0,(#REF!-#REF!)/#REF!)","v":0},{"$f":"IF(ISERROR((#REF!-#REF!)/#REF!),0,(#REF!-#REF!)/#REF!)","v":0},{"$f":"IF(ISERROR((#REF!-#REF!)/#REF!),0,(#REF!-#REF!)/#REF!)","v":0},{"$f":"IF(ISERROR((#REF!-#REF!)/#REF!),0,(#REF!-#REF!)/#REF!)","v":0},{"$f":"IF(ISERROR((#REF!-#REF!)/#REF!),0,(#REF!-#REF!)/#REF!)","v":0},{"$f":"IF(ISERROR((#REF!-#REF!)/#REF!),0,(#REF!-#REF!)/#REF!)","v":0},{"$f":"IF(ISERROR((#REF!-#REF!)/#REF!),0,(#REF!-#REF!)/#REF!)","v":0},{"$f":"IF(ISERROR((#REF!-#REF!)/#REF!),0,(#REF!-#REF!)/#REF!)","v":0}]
[null,"HB25D","Minor Knee Procedures for Non-Trauma, Category 1, 19 years and over, with Major CC",0,1007,0,0,42,1007,42,210,"No","-",0,"","",{"$f":"IF(ISERROR((#REF!-#REF!)/#REF!),0,(#REF!-#REF!)/#REF!)","v":0},{"$f":"IF(ISERROR((#REF!-#REF!)/#REF!),0,(#REF!-#REF!)/#REF!)","v":0},{"$f":"IF(ISERROR((#REF!-#REF!)/#REF!),0,(#REF!-#REF!)/#REF!)","v":0},{"$f":"IF(ISERROR((#REF!-#REF!)/#REF!),0,(#REF!-#REF!)/#REF!)","v":0},{"$f":"IF(ISERROR((#REF!-#REF!)/#REF!),0,(#REF!-#REF!)/#REF!)","v":0},{"$f":"IF(ISERROR((#REF!-#REF!)/#REF!),0,(#REF!-#REF!)/#REF!)","v":0},{"$f":"IF(ISERROR((#REF!-#REF!)/#REF!),0,(#REF!-#REF!)/#REF!)","v":0},{"$f":"IF(ISERROR((#REF!-#REF!)/#REF!),0,(#REF!-#REF!)/#REF!)","v":0},{"$f":"IF(ISERROR((#REF!-#REF!)/#REF!),0,(#REF!-#REF!)/#REF!)","v":0},{"$f":"IF(ISERROR((#REF!-#REF!)/#REF!),0,(#REF!-#REF!)/#REF!)","v":0},{"$f":"IF(ISERROR((#REF!-#REF!)/#REF!),0,(#REF!-#REF!)/#REF!)","v":0},{"$f":"IF(ISERROR((#REF!-#REF!)/#REF!),0,(#REF!-#REF!)/#REF!)","v":0},{"$f":"IF(ISERROR((#REF!-#REF!)/#REF!),0,(#REF!-#REF!)/#REF!)","v":0}]
[null,"HB25E","Minor Knee Procedures for Non-Trauma, Category 1, 19 years and over, with Intermediate CC",0,923,0,0,5,923,5,210,"No","-",0,"","",{"$f":"IF(ISERROR((#REF!-#REF!)/#REF!),0,(#REF!-#REF!)/#REF!)","v":0},{"$f":"IF(ISERROR((#REF!-#REF!)/#REF!),0,(#REF!-#REF!)/#REF!)","v":0},{"$f":"IF(ISERROR((#REF!-#REF!)/#REF!),0,(#REF!-#REF!)/#REF!)","v":0},{"$f":"IF(ISERROR((#REF!-#REF!)/#REF!),0,(#REF!-#REF!)/#REF!)","v":0},{"$f":"IF(ISERROR((#REF!-#REF!)/#REF!),0,(#REF!-#REF!)/#REF!)","v":0},{"$f":"IF(ISERROR((#REF!-#REF!)/#REF!),0,(#REF!-#REF!)/#REF!)","v":0},{"$f":"IF(ISERROR((#REF!-#REF!)/#REF!),0,(#REF!-#REF!)/#REF!)","v":0},{"$f":"IF(ISERROR((#REF!-#REF!)/#REF!),0,(#REF!-#REF!)/#REF!)","v":0},{"$f":"IF(ISERROR((#REF!-#REF!)/#REF!),0,(#REF!-#REF!)/#REF!)","v":0},{"$f":"IF(ISERROR((#REF!-#REF!)/#REF!),0,(#REF!-#REF!)/#REF!)","v":0},{"$f":"IF(ISERROR((#REF!-#REF!)/#REF!),0,(#REF!-#REF!)/#REF!)","v":0},{"$f":"IF(ISERROR((#REF!-#REF!)/#REF!),0,(#REF!-#REF!)/#REF!)","v":0},{"$f":"IF(ISERROR((#REF!-#REF!)/#REF!),0,(#REF!-#REF!)/#REF!)","v":0}]
[null,"HB25F","Minor Knee Procedures for Non-Trauma, Category 1, 19 years and over, without CC",127,859,0,0,5,859,5,210,"No","-",0,"","",{"$f":"IF(ISERROR((#REF!-#REF!)/#REF!),0,(#REF!-#REF!)/#REF!)","v":0},{"$f":"IF(ISERROR((#REF!-#REF!)/#REF!),0,(#REF!-#REF!)/#REF!)","v":0},{"$f":"IF(ISERROR((#REF!-#REF!)/#REF!),0,(#REF!-#REF!)/#REF!)","v":0},{"$f":"IF(ISERROR((#REF!-#REF!)/#REF!),0,(#REF!-#REF!)/#REF!)","v":0},{"$f":"IF(ISERROR((#REF!-#REF!)/#REF!),0,(#REF!-#REF!)/#REF!)","v":0},{"$f":"IF(ISERROR((#REF!-#REF!)/#REF!),0,(#REF!-#REF!)/#REF!)","v":0},{"$f":"IF(ISERROR((#REF!-#REF!)/#REF!),0,(#REF!-#REF!)/#REF!)","v":0},{"$f":"IF(ISERROR((#REF!-#REF!)/#REF!),0,(#REF!-#REF!)/#REF!)","v":0},{"$f":"IF(ISERROR((#REF!-#REF!)/#REF!),0,(#REF!-#REF!)/#REF!)","v":0},{"$f":"IF(ISERROR((#REF!-#REF!)/#REF!),0,(#REF!-#REF!)/#REF!)","v":0},{"$f":"IF(ISERROR((#REF!-#REF!)/#REF!),0,(#REF!-#REF!)/#REF!)","v":0},{"$f":"IF(ISERROR((#REF!-#REF!)/#REF!),0,(#REF!-#REF!)/#REF!)","v":0},{"$f":"IF(ISERROR((#REF!-#REF!)/#REF!),0,(#REF!-#REF!)/#REF!)","v":0}]
[null,"HB25G","Minor Knee Procedures for Non-Trauma, Category 1, 18 years and under, with Major CC",0,1194,0,0,18,1194,18,317,"No","-",0,"","",{"$f":"IF(ISERROR((#REF!-#REF!)/#REF!),0,(#REF!-#REF!)/#REF!)","v":0},{"$f":"IF(ISERROR((#REF!-#REF!)/#REF!),0,(#REF!-#REF!)/#REF!)","v":0},{"$f":"IF(ISERROR((#REF!-#REF!)/#REF!),0,(#REF!-#REF!)/#REF!)","v":0},{"$f":"IF(ISERROR((#REF!-#REF!)/#REF!),0,(#REF!-#REF!)/#REF!)","v":0},{"$f":"IF(ISERROR((#REF!-#REF!)/#REF!),0,(#REF!-#REF!)/#REF!)","v":0},{"$f":"IF(ISERROR((#REF!-#REF!)/#REF!),0,(#REF!-#REF!)/#REF!)","v":0},{"$f":"IF(ISERROR((#REF!-#REF!)/#REF!),0,(#REF!-#REF!)/#REF!)","v":0},{"$f":"IF(ISERROR((#REF!-#REF!)/#REF!),0,(#REF!-#REF!)/#REF!)","v":0},{"$f":"IF(ISERROR((#REF!-#REF!)/#REF!),0,(#REF!-#REF!)/#REF!)","v":0},{"$f":"IF(ISERROR((#REF!-#REF!)/#REF!),0,(#REF!-#REF!)/#REF!)","v":0},{"$f":"IF(ISERROR((#REF!-#REF!)/#REF!),0,(#REF!-#REF!)/#REF!)","v":0},{"$f":"IF(ISERROR((#REF!-#REF!)/#REF!),0,(#REF!-#REF!)/#REF!)","v":0},{"$f":"IF(ISERROR((#REF!-#REF!)/#REF!),0,(#REF!-#REF!)/#REF!)","v":0}]
[null,"HB25H","Minor Knee Procedures for Non-Trauma, Category 1, 18 years and under, with Intermediate CC",0,1009,0,0,5,1009,5,317,"No","-",0,"","",{"$f":"IF(ISERROR((#REF!-#REF!)/#REF!),0,(#REF!-#REF!)/#REF!)","v":0},{"$f":"IF(ISERROR((#REF!-#REF!)/#REF!),0,(#REF!-#REF!)/#REF!)","v":0},{"$f":"IF(ISERROR((#REF!-#REF!)/#REF!),0,(#REF!-#REF!)/#REF!)","v":0},{"$f":"IF(ISERROR((#REF!-#REF!)/#REF!),0,(#REF!-#REF!)/#REF!)","v":0},{"$f":"IF(ISERROR((#REF!-#REF!)/#REF!),0,(#REF!-#REF!)/#REF!)","v":0},{"$f":"IF(ISERROR((#REF!-#REF!)/#REF!),0,(#REF!-#REF!)/#REF!)","v":0},{"$f":"IF(ISERROR((#REF!-#REF!)/#REF!),0,(#REF!-#REF!)/#REF!)","v":0},{"$f":"IF(ISERROR((#REF!-#REF!)/#REF!),0,(#REF!-#REF!)/#REF!)","v":0},{"$f":"IF(ISERROR((#REF!-#REF!)/#REF!),0,(#REF!-#REF!)/#REF!)","v":0},{"$f":"IF(ISERROR((#REF!-#REF!)/#REF!),0,(#REF!-#REF!)/#REF!)","v":0},{"$f":"IF(ISERROR((#REF!-#REF!)/#REF!),0,(#REF!-#REF!)/#REF!)","v":0},{"$f":"IF(ISERROR((#REF!-#REF!)/#REF!),0,(#REF!-#REF!)/#REF!)","v":0},{"$f":"IF(ISERROR((#REF!-#REF!)/#REF!),0,(#REF!-#REF!)/#REF!)","v":0}]
[null,"HB25J","Minor Knee Procedures for Non-Trauma, Category 1, 18 years and under, without CC",0,947,0,0,5,947,5,317,"No","-",0,"","",{"$f":"IF(ISERROR((#REF!-#REF!)/#REF!),0,(#REF!-#REF!)/#REF!)","v":0},{"$f":"IF(ISERROR((#REF!-#REF!)/#REF!),0,(#REF!-#REF!)/#REF!)","v":0},{"$f":"IF(ISERROR((#REF!-#REF!)/#REF!),0,(#REF!-#REF!)/#REF!)","v":0},{"$f":"IF(ISERROR((#REF!-#REF!)/#REF!),0,(#REF!-#REF!)/#REF!)","v":0},{"$f":"IF(ISERROR((#REF!-#REF!)/#REF!),0,(#REF!-#REF!)/#REF!)","v":0},{"$f":"IF(ISERROR((#REF!-#REF!)/#REF!),0,(#REF!-#REF!)/#REF!)","v":0},{"$f":"IF(ISERROR((#REF!-#REF!)/#REF!),0,(#REF!-#REF!)/#REF!)","v":0},{"$f":"IF(ISERROR((#REF!-#REF!)/#REF!),0,(#REF!-#REF!)/#REF!)","v":0},{"$f":"IF(ISERROR((#REF!-#REF!)/#REF!),0,(#REF!-#REF!)/#REF!)","v":0},{"$f":"IF(ISERROR((#REF!-#REF!)/#REF!),0,(#REF!-#REF!)/#REF!)","v":0},{"$f":"IF(ISERROR((#REF!-#REF!)/#REF!),0,(#REF!-#REF!)/#REF!)","v":0},{"$f":"IF(ISERROR((#REF!-#REF!)/#REF!),0,(#REF!-#REF!)/#REF!)","v":0},{"$f":"IF(ISERROR((#REF!-#REF!)/#REF!),0,(#REF!-#REF!)/#REF!)","v":0}]
[null,"HB29Z","Minimal Knee Procedures for Non-Trauma, with length of stay 1 day or less",356,356,0,0,5,356,5,210,"No","-",0,"","",{"$f":"IF(ISERROR((#REF!-#REF!)/#REF!),0,(#REF!-#REF!)/#REF!)","v":0},{"$f":"IF(ISERROR((#REF!-#REF!)/#REF!),0,(#REF!-#REF!)/#REF!)","v":0},{"$f":"IF(ISERROR((#REF!-#REF!)/#REF!),0,(#REF!-#REF!)/#REF!)","v":0},{"$f":"IF(ISERROR((#REF!-#REF!)/#REF!),0,(#REF!-#REF!)/#REF!)","v":0},{"$f":"IF(ISERROR((#REF!-#REF!)/#REF!),0,(#REF!-#REF!)/#REF!)","v":0},{"$f":"IF(ISERROR((#REF!-#REF!)/#REF!),0,(#REF!-#REF!)/#REF!)","v":0},{"$f":"IF(ISERROR((#REF!-#REF!)/#REF!),0,(#REF!-#REF!)/#REF!)","v":0},{"$f":"IF(ISERROR((#REF!-#REF!)/#REF!),0,(#REF!-#REF!)/#REF!)","v":0},{"$f":"IF(ISERROR((#REF!-#REF!)/#REF!),0,(#REF!-#REF!)/#REF!)","v":0},{"$f":"IF(ISERROR((#REF!-#REF!)/#REF!),0,(#REF!-#REF!)/#REF!)","v":0},{"$f":"IF(ISERROR((#REF!-#REF!)/#REF!),0,(#REF!-#REF!)/#REF!)","v":0},{"$f":"IF(ISERROR((#REF!-#REF!)/#REF!),0,(#REF!-#REF!)/#REF!)","v":0},{"$f":"IF(ISERROR((#REF!-#REF!)/#REF!),0,(#REF!-#REF!)/#REF!)","v":0}]
[null,"HB31Z","Major Foot Procedures for Non-Trauma",0,0,3072,4902,6,4902,6,210,"No","-",0,"","",{"$f":"IF(ISERROR((#REF!-#REF!)/#REF!),0,(#REF!-#REF!)/#REF!)","v":0},{"$f":"IF(ISERROR((#REF!-#REF!)/#REF!),0,(#REF!-#REF!)/#REF!)","v":0},{"$f":"IF(ISERROR((#REF!-#REF!)/#REF!),0,(#REF!-#REF!)/#REF!)","v":0},{"$f":"IF(ISERROR((#REF!-#REF!)/#REF!),0,(#REF!-#REF!)/#REF!)","v":0},{"$f":"IF(ISERROR((#REF!-#REF!)/#REF!),0,(#REF!-#REF!)/#REF!)","v":0},{"$f":"IF(ISERROR((#REF!-#REF!)/#REF!),0,(#REF!-#REF!)/#REF!)","v":0},{"$f":"IF(ISERROR((#REF!-#REF!)/#REF!),0,(#REF!-#REF!)/#REF!)","v":0},{"$f":"IF(ISERROR((#REF!-#REF!)/#REF!),0,(#REF!-#REF!)/#REF!)","v":0},{"$f":"IF(ISERROR((#REF!-#REF!)/#REF!),0,(#REF!-#REF!)/#REF!)","v":0},{"$f":"IF(ISERROR((#REF!-#REF!)/#REF!),0,(#REF!-#REF!)/#REF!)","v":0},{"$f":"IF(ISERROR((#REF!-#REF!)/#REF!),0,(#REF!-#REF!)/#REF!)","v":0},{"$f":"IF(ISERROR((#REF!-#REF!)/#REF!),0,(#REF!-#REF!)/#REF!)","v":0},{"$f":"IF(ISERROR((#REF!-#REF!)/#REF!),0,(#REF!-#REF!)/#REF!)","v":0}]
[null,"HB32A","Intermediate Foot Procedures for Non-Trauma, Category 2, 19 years and over",0,2910,0,0,5,2910,5,210,"No","-",0,"","",{"$f":"IF(ISERROR((#REF!-#REF!)/#REF!),0,(#REF!-#REF!)/#REF!)","v":0},{"$f":"IF(ISERROR((#REF!-#REF!)/#REF!),0,(#REF!-#REF!)/#REF!)","v":0},{"$f":"IF(ISERROR((#REF!-#REF!)/#REF!),0,(#REF!-#REF!)/#REF!)","v":0},{"$f":"IF(ISERROR((#REF!-#REF!)/#REF!),0,(#REF!-#REF!)/#REF!)","v":0},{"$f":"IF(ISERROR((#REF!-#REF!)/#REF!),0,(#REF!-#REF!)/#REF!)","v":0},{"$f":"IF(ISERROR((#REF!-#REF!)/#REF!),0,(#REF!-#REF!)/#REF!)","v":0},{"$f":"IF(ISERROR((#REF!-#REF!)/#REF!),0,(#REF!-#REF!)/#REF!)","v":0},{"$f":"IF(ISERROR((#REF!-#REF!)/#REF!),0,(#REF!-#REF!)/#REF!)","v":0},{"$f":"IF(ISERROR((#REF!-#REF!)/#REF!),0,(#REF!-#REF!)/#REF!)","v":0},{"$f":"IF(ISERROR((#REF!-#REF!)/#REF!),0,(#REF!-#REF!)/#REF!)","v":0},{"$f":"IF(ISERROR((#REF!-#REF!)/#REF!),0,(#REF!-#REF!)/#REF!)","v":0},{"$f":"IF(ISERROR((#REF!-#REF!)/#REF!),0,(#REF!-#REF!)/#REF!)","v":0},{"$f":"IF(ISERROR((#REF!-#REF!)/#REF!),0,(#REF!-#REF!)/#REF!)","v":0}]
[null,"HB32B","Intermediate Foot Procedures for Non-Trauma, Category 2, 18 years and under",0,2522,0,0,5,2522,5,317,"No","-",0,"","",{"$f":"IF(ISERROR((#REF!-#REF!)/#REF!),0,(#REF!-#REF!)/#REF!)","v":0},{"$f":"IF(ISERROR((#REF!-#REF!)/#REF!),0,(#REF!-#REF!)/#REF!)","v":0},{"$f":"IF(ISERROR((#REF!-#REF!)/#REF!),0,(#REF!-#REF!)/#REF!)","v":0},{"$f":"IF(ISERROR((#REF!-#REF!)/#REF!),0,(#REF!-#REF!)/#REF!)","v":0},{"$f":"IF(ISERROR((#REF!-#REF!)/#REF!),0,(#REF!-#REF!)/#REF!)","v":0},{"$f":"IF(ISERROR((#REF!-#REF!)/#REF!),0,(#REF!-#REF!)/#REF!)","v":0},{"$f":"IF(ISERROR((#REF!-#REF!)/#REF!),0,(#REF!-#REF!)/#REF!)","v":0},{"$f":"IF(ISERROR((#REF!-#REF!)/#REF!),0,(#REF!-#REF!)/#REF!)","v":0},{"$f":"IF(ISERROR((#REF!-#REF!)/#REF!),0,(#REF!-#REF!)/#REF!)","v":0},{"$f":"IF(ISERROR((#REF!-#REF!)/#REF!),0,(#REF!-#REF!)/#REF!)","v":0},{"$f":"IF(ISERROR((#REF!-#REF!)/#REF!),0,(#REF!-#REF!)/#REF!)","v":0},{"$f":"IF(ISERROR((#REF!-#REF!)/#REF!),0,(#REF!-#REF!)/#REF!)","v":0},{"$f":"IF(ISERROR((#REF!-#REF!)/#REF!),0,(#REF!-#REF!)/#REF!)","v":0}]
[null,"HB33D","Intermediate Foot Procedures for Non-Trauma, Category 1, 19 years and over, with CC",0,2481,0,0,20,2481,20,210,"No","-",0,"","",{"$f":"IF(ISERROR((#REF!-#REF!)/#REF!),0,(#REF!-#REF!)/#REF!)","v":0},{"$f":"IF(ISERROR((#REF!-#REF!)/#REF!),0,(#REF!-#REF!)/#REF!)","v":0},{"$f":"IF(ISERROR((#REF!-#REF!)/#REF!),0,(#REF!-#REF!)/#REF!)","v":0},{"$f":"IF(ISERROR((#REF!-#REF!)/#REF!),0,(#REF!-#REF!)/#REF!)","v":0},{"$f":"IF(ISERROR((#REF!-#REF!)/#REF!),0,(#REF!-#REF!)/#REF!)","v":0},{"$f":"IF(ISERROR((#REF!-#REF!)/#REF!),0,(#REF!-#REF!)/#REF!)","v":0},{"$f":"IF(ISERROR((#REF!-#REF!)/#REF!),0,(#REF!-#REF!)/#REF!)","v":0},{"$f":"IF(ISERROR((#REF!-#REF!)/#REF!),0,(#REF!-#REF!)/#REF!)","v":0},{"$f":"IF(ISERROR((#REF!-#REF!)/#REF!),0,(#REF!-#REF!)/#REF!)","v":0},{"$f":"IF(ISERROR((#REF!-#REF!)/#REF!),0,(#REF!-#REF!)/#REF!)","v":0},{"$f":"IF(ISERROR((#REF!-#REF!)/#REF!),0,(#REF!-#REF!)/#REF!)","v":0},{"$f":"IF(ISERROR((#REF!-#REF!)/#REF!),0,(#REF!-#REF!)/#REF!)","v":0},{"$f":"IF(ISERROR((#REF!-#REF!)/#REF!),0,(#REF!-#REF!)/#REF!)","v":0}]
[null,"HB33E","Intermediate Foot Procedures for Non-Trauma, Category 1, 19 years and over, without CC",0,1665,0,0,5,1665,5,210,"No","-",0,"","",{"$f":"IF(ISERROR((#REF!-#REF!)/#REF!),0,(#REF!-#REF!)/#REF!)","v":0},{"$f":"IF(ISERROR((#REF!-#REF!)/#REF!),0,(#REF!-#REF!)/#REF!)","v":0},{"$f":"IF(ISERROR((#REF!-#REF!)/#REF!),0,(#REF!-#REF!)/#REF!)","v":0},{"$f":"IF(ISERROR((#REF!-#REF!)/#REF!),0,(#REF!-#REF!)/#REF!)","v":0},{"$f":"IF(ISERROR((#REF!-#REF!)/#REF!),0,(#REF!-#REF!)/#REF!)","v":0},{"$f":"IF(ISERROR((#REF!-#REF!)/#REF!),0,(#REF!-#REF!)/#REF!)","v":0},{"$f":"IF(ISERROR((#REF!-#REF!)/#REF!),0,(#REF!-#REF!)/#REF!)","v":0},{"$f":"IF(ISERROR((#REF!-#REF!)/#REF!),0,(#REF!-#REF!)/#REF!)","v":0},{"$f":"IF(ISERROR((#REF!-#REF!)/#REF!),0,(#REF!-#REF!)/#REF!)","v":0},{"$f":"IF(ISERROR((#REF!-#REF!)/#REF!),0,(#REF!-#REF!)/#REF!)","v":0},{"$f":"IF(ISERROR((#REF!-#REF!)/#REF!),0,(#REF!-#REF!)/#REF!)","v":0},{"$f":"IF(ISERROR((#REF!-#REF!)/#REF!),0,(#REF!-#REF!)/#REF!)","v":0},{"$f":"IF(ISERROR((#REF!-#REF!)/#REF!),0,(#REF!-#REF!)/#REF!)","v":0}]
[null,"HB33F","Intermediate Foot Procedures for Non-Trauma, Category 1, 18 years and under, with CC",0,2399,0,0,20,2399,20,317,"No","-",0,"","",{"$f":"IF(ISERROR((#REF!-#REF!)/#REF!),0,(#REF!-#REF!)/#REF!)","v":0},{"$f":"IF(ISERROR((#REF!-#REF!)/#REF!),0,(#REF!-#REF!)/#REF!)","v":0},{"$f":"IF(ISERROR((#REF!-#REF!)/#REF!),0,(#REF!-#REF!)/#REF!)","v":0},{"$f":"IF(ISERROR((#REF!-#REF!)/#REF!),0,(#REF!-#REF!)/#REF!)","v":0},{"$f":"IF(ISERROR((#REF!-#REF!)/#REF!),0,(#REF!-#REF!)/#REF!)","v":0},{"$f":"IF(ISERROR((#REF!-#REF!)/#REF!),0,(#REF!-#REF!)/#REF!)","v":0},{"$f":"IF(ISERROR((#REF!-#REF!)/#REF!),0,(#REF!-#REF!)/#REF!)","v":0},{"$f":"IF(ISERROR((#REF!-#REF!)/#REF!),0,(#REF!-#REF!)/#REF!)","v":0},{"$f":"IF(ISERROR((#REF!-#REF!)/#REF!),0,(#REF!-#REF!)/#REF!)","v":0},{"$f":"IF(ISERROR((#REF!-#REF!)/#REF!),0,(#REF!-#REF!)/#REF!)","v":0},{"$f":"IF(ISERROR((#REF!-#REF!)/#REF!),0,(#REF!-#REF!)/#REF!)","v":0},{"$f":"IF(ISERROR((#REF!-#REF!)/#REF!),0,(#REF!-#REF!)/#REF!)","v":0},{"$f":"IF(ISERROR((#REF!-#REF!)/#REF!),0,(#REF!-#REF!)/#REF!)","v":0}]
[null,"HB33G","Intermediate Foot Procedures for Non-Trauma, Category 1, 18 years and under, without CC",0,1495,0,0,5,1495,5,317,"No","-",0,"","",{"$f":"IF(ISERROR((#REF!-#REF!)/#REF!),0,(#REF!-#REF!)/#REF!)","v":0},{"$f":"IF(ISERROR((#REF!-#REF!)/#REF!),0,(#REF!-#REF!)/#REF!)","v":0},{"$f":"IF(ISERROR((#REF!-#REF!)/#REF!),0,(#REF!-#REF!)/#REF!)","v":0},{"$f":"IF(ISERROR((#REF!-#REF!)/#REF!),0,(#REF!-#REF!)/#REF!)","v":0},{"$f":"IF(ISERROR((#REF!-#REF!)/#REF!),0,(#REF!-#REF!)/#REF!)","v":0},{"$f":"IF(ISERROR((#REF!-#REF!)/#REF!),0,(#REF!-#REF!)/#REF!)","v":0},{"$f":"IF(ISERROR((#REF!-#REF!)/#REF!),0,(#REF!-#REF!)/#REF!)","v":0},{"$f":"IF(ISERROR((#REF!-#REF!)/#REF!),0,(#REF!-#REF!)/#REF!)","v":0},{"$f":"IF(ISERROR((#REF!-#REF!)/#REF!),0,(#REF!-#REF!)/#REF!)","v":0},{"$f":"IF(ISERROR((#REF!-#REF!)/#REF!),0,(#REF!-#REF!)/#REF!)","v":0},{"$f":"IF(ISERROR((#REF!-#REF!)/#REF!),0,(#REF!-#REF!)/#REF!)","v":0},{"$f":"IF(ISERROR((#REF!-#REF!)/#REF!),0,(#REF!-#REF!)/#REF!)","v":0},{"$f":"IF(ISERROR((#REF!-#REF!)/#REF!),0,(#REF!-#REF!)/#REF!)","v":0}]
[null,"HB34D","Minor Foot Procedures for Non-Trauma, Category 2, 19 years and over, with CC",0,1831,0,0,17,1831,17,210,"No","-",0,"","",{"$f":"IF(ISERROR((#REF!-#REF!)/#REF!),0,(#REF!-#REF!)/#REF!)","v":0},{"$f":"IF(ISERROR((#REF!-#REF!)/#REF!),0,(#REF!-#REF!)/#REF!)","v":0},{"$f":"IF(ISERROR((#REF!-#REF!)/#REF!),0,(#REF!-#REF!)/#REF!)","v":0},{"$f":"IF(ISERROR((#REF!-#REF!)/#REF!),0,(#REF!-#REF!)/#REF!)","v":0},{"$f":"IF(ISERROR((#REF!-#REF!)/#REF!),0,(#REF!-#REF!)/#REF!)","v":0},{"$f":"IF(ISERROR((#REF!-#REF!)/#REF!),0,(#REF!-#REF!)/#REF!)","v":0},{"$f":"IF(ISERROR((#REF!-#REF!)/#REF!),0,(#REF!-#REF!)/#REF!)","v":0},{"$f":"IF(ISERROR((#REF!-#REF!)/#REF!),0,(#REF!-#REF!)/#REF!)","v":0},{"$f":"IF(ISERROR((#REF!-#REF!)/#REF!),0,(#REF!-#REF!)/#REF!)","v":0},{"$f":"IF(ISERROR((#REF!-#REF!)/#REF!),0,(#REF!-#REF!)/#REF!)","v":0},{"$f":"IF(ISERROR((#REF!-#REF!)/#REF!),0,(#REF!-#REF!)/#REF!)","v":0},{"$f":"IF(ISERROR((#REF!-#REF!)/#REF!),0,(#REF!-#REF!)/#REF!)","v":0},{"$f":"IF(ISERROR((#REF!-#REF!)/#REF!),0,(#REF!-#REF!)/#REF!)","v":0}]
[null,"HB34E","Minor Foot Procedures for Non-Trauma, Category 2, 19 years and over, without CC",0,1181,0,0,5,1181,5,210,"No","-",0,1,"sub-HRG",{"$f":"IF(ISERROR((#REF!-#REF!)/#REF!),0,(#REF!-#REF!)/#REF!)","v":0},{"$f":"IF(ISERROR((#REF!-#REF!)/#REF!),0,(#REF!-#REF!)/#REF!)","v":0},{"$f":"IF(ISERROR((#REF!-#REF!)/#REF!),0,(#REF!-#REF!)/#REF!)","v":0},{"$f":"IF(ISERROR((#REF!-#REF!)/#REF!),0,(#REF!-#REF!)/#REF!)","v":0},{"$f":"IF(ISERROR((#REF!-#REF!)/#REF!),0,(#REF!-#REF!)/#REF!)","v":0},{"$f":"IF(ISERROR((#REF!-#REF!)/#REF!),0,(#REF!-#REF!)/#REF!)","v":0},{"$f":"IF(ISERROR((#REF!-#REF!)/#REF!),0,(#REF!-#REF!)/#REF!)","v":0},{"$f":"IF(ISERROR((#REF!-#REF!)/#REF!),0,(#REF!-#REF!)/#REF!)","v":0},{"$f":"IF(ISERROR((#REF!-#REF!)/#REF!),0,(#REF!-#REF!)/#REF!)","v":0},{"$f":"IF(ISERROR((#REF!-#REF!)/#REF!),0,(#REF!-#REF!)/#REF!)","v":0},{"$f":"IF(ISERROR((#REF!-#REF!)/#REF!),0,(#REF!-#REF!)/#REF!)","v":0},{"$f":"IF(ISERROR((#REF!-#REF!)/#REF!),0,(#REF!-#REF!)/#REF!)","v":0},{"$f":"IF(ISERROR((#REF!-#REF!)/#REF!),0,(#REF!-#REF!)/#REF!)","v":0}]
[null,"HB34F","Minor Foot Procedures for Non-Trauma, Category 2, 18 years and under, with CC",0,1612,0,0,8,1612,8,317,"No","-",0,"","",{"$f":"IF(ISERROR((#REF!-#REF!)/#REF!),0,(#REF!-#REF!)/#REF!)","v":0},{"$f":"IF(ISERROR((#REF!-#REF!)/#REF!),0,(#REF!-#REF!)/#REF!)","v":0},{"$f":"IF(ISERROR((#REF!-#REF!)/#REF!),0,(#REF!-#REF!)/#REF!)","v":0},{"$f":"IF(ISERROR((#REF!-#REF!)/#REF!),0,(#REF!-#REF!)/#REF!)","v":0},{"$f":"IF(ISERROR((#REF!-#REF!)/#REF!),0,(#REF!-#REF!)/#REF!)","v":0},{"$f":"IF(ISERROR((#REF!-#REF!)/#REF!),0,(#REF!-#REF!)/#REF!)","v":0},{"$f":"IF(ISERROR((#REF!-#REF!)/#REF!),0,(#REF!-#REF!)/#REF!)","v":0},{"$f":"IF(ISERROR((#REF!-#REF!)/#REF!),0,(#REF!-#REF!)/#REF!)","v":0},{"$f":"IF(ISERROR((#REF!-#REF!)/#REF!),0,(#REF!-#REF!)/#REF!)","v":0},{"$f":"IF(ISERROR((#REF!-#REF!)/#REF!),0,(#REF!-#REF!)/#REF!)","v":0},{"$f":"IF(ISERROR((#REF!-#REF!)/#REF!),0,(#REF!-#REF!)/#REF!)","v":0},{"$f":"IF(ISERROR((#REF!-#REF!)/#REF!),0,(#REF!-#REF!)/#REF!)","v":0},{"$f":"IF(ISERROR((#REF!-#REF!)/#REF!),0,(#REF!-#REF!)/#REF!)","v":0}]
[null,"HB34G","Minor Foot Procedures for Non-Trauma, Category 2, 18 years and under, without CC",0,1107,0,0,5,1107,5,317,"No","-",0,"","",{"$f":"IF(ISERROR((#REF!-#REF!)/#REF!),0,(#REF!-#REF!)/#REF!)","v":0},{"$f":"IF(ISERROR((#REF!-#REF!)/#REF!),0,(#REF!-#REF!)/#REF!)","v":0},{"$f":"IF(ISERROR((#REF!-#REF!)/#REF!),0,(#REF!-#REF!)/#REF!)","v":0},{"$f":"IF(ISERROR((#REF!-#REF!)/#REF!),0,(#REF!-#REF!)/#REF!)","v":0},{"$f":"IF(ISERROR((#REF!-#REF!)/#REF!),0,(#REF!-#REF!)/#REF!)","v":0},{"$f":"IF(ISERROR((#REF!-#REF!)/#REF!),0,(#REF!-#REF!)/#REF!)","v":0},{"$f":"IF(ISERROR((#REF!-#REF!)/#REF!),0,(#REF!-#REF!)/#REF!)","v":0},{"$f":"IF(ISERROR((#REF!-#REF!)/#REF!),0,(#REF!-#REF!)/#REF!)","v":0},{"$f":"IF(ISERROR((#REF!-#REF!)/#REF!),0,(#REF!-#REF!)/#REF!)","v":0},{"$f":"IF(ISERROR((#REF!-#REF!)/#REF!),0,(#REF!-#REF!)/#REF!)","v":0},{"$f":"IF(ISERROR((#REF!-#REF!)/#REF!),0,(#REF!-#REF!)/#REF!)","v":0},{"$f":"IF(ISERROR((#REF!-#REF!)/#REF!),0,(#REF!-#REF!)/#REF!)","v":0},{"$f":"IF(ISERROR((#REF!-#REF!)/#REF!),0,(#REF!-#REF!)/#REF!)","v":0}]
[null,"HB35B","Minor Foot Procedures for Non-Trauma, Category 1, with CC",0,1203,0,0,28,1203,28,210,"No","-",0,1,"sub-HRG",{"$f":"IF(ISERROR((#REF!-#REF!)/#REF!),0,(#REF!-#REF!)/#REF!)","v":0},{"$f":"IF(ISERROR((#REF!-#REF!)/#REF!),0,(#REF!-#REF!)/#REF!)","v":0},{"$f":"IF(ISERROR((#REF!-#REF!)/#REF!),0,(#REF!-#REF!)/#REF!)","v":0},{"$f":"IF(ISERROR((#REF!-#REF!)/#REF!),0,(#REF!-#REF!)/#REF!)","v":0},{"$f":"IF(ISERROR((#REF!-#REF!)/#REF!),0,(#REF!-#REF!)/#REF!)","v":0},{"$f":"IF(ISERROR((#REF!-#REF!)/#REF!),0,(#REF!-#REF!)/#REF!)","v":0},{"$f":"IF(ISERROR((#REF!-#REF!)/#REF!),0,(#REF!-#REF!)/#REF!)","v":0},{"$f":"IF(ISERROR((#REF!-#REF!)/#REF!),0,(#REF!-#REF!)/#REF!)","v":0},{"$f":"IF(ISERROR((#REF!-#REF!)/#REF!),0,(#REF!-#REF!)/#REF!)","v":0},{"$f":"IF(ISERROR((#REF!-#REF!)/#REF!),0,(#REF!-#REF!)/#REF!)","v":0},{"$f":"IF(ISERROR((#REF!-#REF!)/#REF!),0,(#REF!-#REF!)/#REF!)","v":0},{"$f":"IF(ISERROR((#REF!-#REF!)/#REF!),0,(#REF!-#REF!)/#REF!)","v":0},{"$f":"IF(ISERROR((#REF!-#REF!)/#REF!),0,(#REF!-#REF!)/#REF!)","v":0}]
[null,"HB35C","Minor Foot Procedures for Non-Trauma, Category 1, without CC",257,812,0,0,5,812,5,210,"No","-",0,1,"sub-HRG",{"$f":"IF(ISERROR((#REF!-#REF!)/#REF!),0,(#REF!-#REF!)/#REF!)","v":0},{"$f":"IF(ISERROR((#REF!-#REF!)/#REF!),0,(#REF!-#REF!)/#REF!)","v":0},{"$f":"IF(ISERROR((#REF!-#REF!)/#REF!),0,(#REF!-#REF!)/#REF!)","v":0},{"$f":"IF(ISERROR((#REF!-#REF!)/#REF!),0,(#REF!-#REF!)/#REF!)","v":0},{"$f":"IF(ISERROR((#REF!-#REF!)/#REF!),0,(#REF!-#REF!)/#REF!)","v":0},{"$f":"IF(ISERROR((#REF!-#REF!)/#REF!),0,(#REF!-#REF!)/#REF!)","v":0},{"$f":"IF(ISERROR((#REF!-#REF!)/#REF!),0,(#REF!-#REF!)/#REF!)","v":0},{"$f":"IF(ISERROR((#REF!-#REF!)/#REF!),0,(#REF!-#REF!)/#REF!)","v":0},{"$f":"IF(ISERROR((#REF!-#REF!)/#REF!),0,(#REF!-#REF!)/#REF!)","v":0},{"$f":"IF(ISERROR((#REF!-#REF!)/#REF!),0,(#REF!-#REF!)/#REF!)","v":0},{"$f":"IF(ISERROR((#REF!-#REF!)/#REF!),0,(#REF!-#REF!)/#REF!)","v":0},{"$f":"IF(ISERROR((#REF!-#REF!)/#REF!),0,(#REF!-#REF!)/#REF!)","v":0},{"$f":"IF(ISERROR((#REF!-#REF!)/#REF!),0,(#REF!-#REF!)/#REF!)","v":0}]
[null,"HB39Z","Minimal Foot Procedures for Non-Trauma, with length of stay 1 day or less",0,672,0,0,5,672,5,210,"No","-",0,"","",{"$f":"IF(ISERROR((#REF!-#REF!)/#REF!),0,(#REF!-#REF!)/#REF!)","v":0},{"$f":"IF(ISERROR((#REF!-#REF!)/#REF!),0,(#REF!-#REF!)/#REF!)","v":0},{"$f":"IF(ISERROR((#REF!-#REF!)/#REF!),0,(#REF!-#REF!)/#REF!)","v":0},{"$f":"IF(ISERROR((#REF!-#REF!)/#REF!),0,(#REF!-#REF!)/#REF!)","v":0},{"$f":"IF(ISERROR((#REF!-#REF!)/#REF!),0,(#REF!-#REF!)/#REF!)","v":0},{"$f":"IF(ISERROR((#REF!-#REF!)/#REF!),0,(#REF!-#REF!)/#REF!)","v":0},{"$f":"IF(ISERROR((#REF!-#REF!)/#REF!),0,(#REF!-#REF!)/#REF!)","v":0},{"$f":"IF(ISERROR((#REF!-#REF!)/#REF!),0,(#REF!-#REF!)/#REF!)","v":0},{"$f":"IF(ISERROR((#REF!-#REF!)/#REF!),0,(#REF!-#REF!)/#REF!)","v":0},{"$f":"IF(ISERROR((#REF!-#REF!)/#REF!),0,(#REF!-#REF!)/#REF!)","v":0},{"$f":"IF(ISERROR((#REF!-#REF!)/#REF!),0,(#REF!-#REF!)/#REF!)","v":0},{"$f":"IF(ISERROR((#REF!-#REF!)/#REF!),0,(#REF!-#REF!)/#REF!)","v":0},{"$f":"IF(ISERROR((#REF!-#REF!)/#REF!),0,(#REF!-#REF!)/#REF!)","v":0}]
[null,"HB51Z","Major Hand Procedures for Non-Trauma, Category 2",0,4743,0,0,5,4743,5,210,"No","-",0,"","",{"$f":"IF(ISERROR((#REF!-#REF!)/#REF!),0,(#REF!-#REF!)/#REF!)","v":0},{"$f":"IF(ISERROR((#REF!-#REF!)/#REF!),0,(#REF!-#REF!)/#REF!)","v":0},{"$f":"IF(ISERROR((#REF!-#REF!)/#REF!),0,(#REF!-#REF!)/#REF!)","v":0},{"$f":"IF(ISERROR((#REF!-#REF!)/#REF!),0,(#REF!-#REF!)/#REF!)","v":0},{"$f":"IF(ISERROR((#REF!-#REF!)/#REF!),0,(#REF!-#REF!)/#REF!)","v":0},{"$f":"IF(ISERROR((#REF!-#REF!)/#REF!),0,(#REF!-#REF!)/#REF!)","v":0},{"$f":"IF(ISERROR((#REF!-#REF!)/#REF!),0,(#REF!-#REF!)/#REF!)","v":0},{"$f":"IF(ISERROR((#REF!-#REF!)/#REF!),0,(#REF!-#REF!)/#REF!)","v":0},{"$f":"IF(ISERROR((#REF!-#REF!)/#REF!),0,(#REF!-#REF!)/#REF!)","v":0},{"$f":"IF(ISERROR((#REF!-#REF!)/#REF!),0,(#REF!-#REF!)/#REF!)","v":0},{"$f":"IF(ISERROR((#REF!-#REF!)/#REF!),0,(#REF!-#REF!)/#REF!)","v":0},{"$f":"IF(ISERROR((#REF!-#REF!)/#REF!),0,(#REF!-#REF!)/#REF!)","v":0},{"$f":"IF(ISERROR((#REF!-#REF!)/#REF!),0,(#REF!-#REF!)/#REF!)","v":0}]
[null,"HB52B","Major Hand Procedures for Non-Trauma, Category 1, with CC",0,4150,0,0,11,4150,11,210,"No","-",0,"","",{"$f":"IF(ISERROR((#REF!-#REF!)/#REF!),0,(#REF!-#REF!)/#REF!)","v":0},{"$f":"IF(ISERROR((#REF!-#REF!)/#REF!),0,(#REF!-#REF!)/#REF!)","v":0},{"$f":"IF(ISERROR((#REF!-#REF!)/#REF!),0,(#REF!-#REF!)/#REF!)","v":0},{"$f":"IF(ISERROR((#REF!-#REF!)/#REF!),0,(#REF!-#REF!)/#REF!)","v":0},{"$f":"IF(ISERROR((#REF!-#REF!)/#REF!),0,(#REF!-#REF!)/#REF!)","v":0},{"$f":"IF(ISERROR((#REF!-#REF!)/#REF!),0,(#REF!-#REF!)/#REF!)","v":0},{"$f":"IF(ISERROR((#REF!-#REF!)/#REF!),0,(#REF!-#REF!)/#REF!)","v":0},{"$f":"IF(ISERROR((#REF!-#REF!)/#REF!),0,(#REF!-#REF!)/#REF!)","v":0},{"$f":"IF(ISERROR((#REF!-#REF!)/#REF!),0,(#REF!-#REF!)/#REF!)","v":0},{"$f":"IF(ISERROR((#REF!-#REF!)/#REF!),0,(#REF!-#REF!)/#REF!)","v":0},{"$f":"IF(ISERROR((#REF!-#REF!)/#REF!),0,(#REF!-#REF!)/#REF!)","v":0},{"$f":"IF(ISERROR((#REF!-#REF!)/#REF!),0,(#REF!-#REF!)/#REF!)","v":0},{"$f":"IF(ISERROR((#REF!-#REF!)/#REF!),0,(#REF!-#REF!)/#REF!)","v":0}]
[null,"HB52C","Major Hand Procedures for Non-Trauma, Category 1, without CC",0,3418,0,0,5,3418,5,210,"No","-",0,"","",{"$f":"IF(ISERROR((#REF!-#REF!)/#REF!),0,(#REF!-#REF!)/#REF!)","v":0},{"$f":"IF(ISERROR((#REF!-#REF!)/#REF!),0,(#REF!-#REF!)/#REF!)","v":0},{"$f":"IF(ISERROR((#REF!-#REF!)/#REF!),0,(#REF!-#REF!)/#REF!)","v":0},{"$f":"IF(ISERROR((#REF!-#REF!)/#REF!),0,(#REF!-#REF!)/#REF!)","v":0},{"$f":"IF(ISERROR((#REF!-#REF!)/#REF!),0,(#REF!-#REF!)/#REF!)","v":0},{"$f":"IF(ISERROR((#REF!-#REF!)/#REF!),0,(#REF!-#REF!)/#REF!)","v":0},{"$f":"IF(ISERROR((#REF!-#REF!)/#REF!),0,(#REF!-#REF!)/#REF!)","v":0},{"$f":"IF(ISERROR((#REF!-#REF!)/#REF!),0,(#REF!-#REF!)/#REF!)","v":0},{"$f":"IF(ISERROR((#REF!-#REF!)/#REF!),0,(#REF!-#REF!)/#REF!)","v":0},{"$f":"IF(ISERROR((#REF!-#REF!)/#REF!),0,(#REF!-#REF!)/#REF!)","v":0},{"$f":"IF(ISERROR((#REF!-#REF!)/#REF!),0,(#REF!-#REF!)/#REF!)","v":0},{"$f":"IF(ISERROR((#REF!-#REF!)/#REF!),0,(#REF!-#REF!)/#REF!)","v":0},{"$f":"IF(ISERROR((#REF!-#REF!)/#REF!),0,(#REF!-#REF!)/#REF!)","v":0}]
[null,"HB53Z","Intermediate Hand Procedures for Non-Trauma, Category 2",0,2419,0,0,5,2419,5,210,"No","-",0,1,"sub-HRG",{"$f":"IF(ISERROR((#REF!-#REF!)/#REF!),0,(#REF!-#REF!)/#REF!)","v":0},{"$f":"IF(ISERROR((#REF!-#REF!)/#REF!),0,(#REF!-#REF!)/#REF!)","v":0},{"$f":"IF(ISERROR((#REF!-#REF!)/#REF!),0,(#REF!-#REF!)/#REF!)","v":0},{"$f":"IF(ISERROR((#REF!-#REF!)/#REF!),0,(#REF!-#REF!)/#REF!)","v":0},{"$f":"IF(ISERROR((#REF!-#REF!)/#REF!),0,(#REF!-#REF!)/#REF!)","v":0},{"$f":"IF(ISERROR((#REF!-#REF!)/#REF!),0,(#REF!-#REF!)/#REF!)","v":0},{"$f":"IF(ISERROR((#REF!-#REF!)/#REF!),0,(#REF!-#REF!)/#REF!)","v":0},{"$f":"IF(ISERROR((#REF!-#REF!)/#REF!),0,(#REF!-#REF!)/#REF!)","v":0},{"$f":"IF(ISERROR((#REF!-#REF!)/#REF!),0,(#REF!-#REF!)/#REF!)","v":0},{"$f":"IF(ISERROR((#REF!-#REF!)/#REF!),0,(#REF!-#REF!)/#REF!)","v":0},{"$f":"IF(ISERROR((#REF!-#REF!)/#REF!),0,(#REF!-#REF!)/#REF!)","v":0},{"$f":"IF(ISERROR((#REF!-#REF!)/#REF!),0,(#REF!-#REF!)/#REF!)","v":0},{"$f":"IF(ISERROR((#REF!-#REF!)/#REF!),0,(#REF!-#REF!)/#REF!)","v":0}]
[null,"HB54B","Intermediate Hand Procedures for Non-Trauma, Category 1, with CC",0,1416,0,0,14,1416,14,210,"No","-",0,"","",{"$f":"IF(ISERROR((#REF!-#REF!)/#REF!),0,(#REF!-#REF!)/#REF!)","v":0},{"$f":"IF(ISERROR((#REF!-#REF!)/#REF!),0,(#REF!-#REF!)/#REF!)","v":0},{"$f":"IF(ISERROR((#REF!-#REF!)/#REF!),0,(#REF!-#REF!)/#REF!)","v":0},{"$f":"IF(ISERROR((#REF!-#REF!)/#REF!),0,(#REF!-#REF!)/#REF!)","v":0},{"$f":"IF(ISERROR((#REF!-#REF!)/#REF!),0,(#REF!-#REF!)/#REF!)","v":0},{"$f":"IF(ISERROR((#REF!-#REF!)/#REF!),0,(#REF!-#REF!)/#REF!)","v":0},{"$f":"IF(ISERROR((#REF!-#REF!)/#REF!),0,(#REF!-#REF!)/#REF!)","v":0},{"$f":"IF(ISERROR((#REF!-#REF!)/#REF!),0,(#REF!-#REF!)/#REF!)","v":0},{"$f":"IF(ISERROR((#REF!-#REF!)/#REF!),0,(#REF!-#REF!)/#REF!)","v":0},{"$f":"IF(ISERROR((#REF!-#REF!)/#REF!),0,(#REF!-#REF!)/#REF!)","v":0},{"$f":"IF(ISERROR((#REF!-#REF!)/#REF!),0,(#REF!-#REF!)/#REF!)","v":0},{"$f":"IF(ISERROR((#REF!-#REF!)/#REF!),0,(#REF!-#REF!)/#REF!)","v":0},{"$f":"IF(ISERROR((#REF!-#REF!)/#REF!),0,(#REF!-#REF!)/#REF!)","v":0}]
[null,"HB54C","Intermediate Hand Procedures for Non-Trauma, Category 1, without CC",0,1104,0,0,5,1104,5,210,"No","-",0,"","",{"$f":"IF(ISERROR((#REF!-#REF!)/#REF!),0,(#REF!-#REF!)/#REF!)","v":0},{"$f":"IF(ISERROR((#REF!-#REF!)/#REF!),0,(#REF!-#REF!)/#REF!)","v":0},{"$f":"IF(ISERROR((#REF!-#REF!)/#REF!),0,(#REF!-#REF!)/#REF!)","v":0},{"$f":"IF(ISERROR((#REF!-#REF!)/#REF!),0,(#REF!-#REF!)/#REF!)","v":0},{"$f":"IF(ISERROR((#REF!-#REF!)/#REF!),0,(#REF!-#REF!)/#REF!)","v":0},{"$f":"IF(ISERROR((#REF!-#REF!)/#REF!),0,(#REF!-#REF!)/#REF!)","v":0},{"$f":"IF(ISERROR((#REF!-#REF!)/#REF!),0,(#REF!-#REF!)/#REF!)","v":0},{"$f":"IF(ISERROR((#REF!-#REF!)/#REF!),0,(#REF!-#REF!)/#REF!)","v":0},{"$f":"IF(ISERROR((#REF!-#REF!)/#REF!),0,(#REF!-#REF!)/#REF!)","v":0},{"$f":"IF(ISERROR((#REF!-#REF!)/#REF!),0,(#REF!-#REF!)/#REF!)","v":0},{"$f":"IF(ISERROR((#REF!-#REF!)/#REF!),0,(#REF!-#REF!)/#REF!)","v":0},{"$f":"IF(ISERROR((#REF!-#REF!)/#REF!),0,(#REF!-#REF!)/#REF!)","v":0},{"$f":"IF(ISERROR((#REF!-#REF!)/#REF!),0,(#REF!-#REF!)/#REF!)","v":0}]
[null,"HB55B","Minor Hand Procedures for Non-Trauma, Category 2, with CC",0,889,0,0,5,889,5,210,"No","-",0,"","",{"$f":"IF(ISERROR((#REF!-#REF!)/#REF!),0,(#REF!-#REF!)/#REF!)","v":0},{"$f":"IF(ISERROR((#REF!-#REF!)/#REF!),0,(#REF!-#REF!)/#REF!)","v":0},{"$f":"IF(ISERROR((#REF!-#REF!)/#REF!),0,(#REF!-#REF!)/#REF!)","v":0},{"$f":"IF(ISERROR((#REF!-#REF!)/#REF!),0,(#REF!-#REF!)/#REF!)","v":0},{"$f":"IF(ISERROR((#REF!-#REF!)/#REF!),0,(#REF!-#REF!)/#REF!)","v":0},{"$f":"IF(ISERROR((#REF!-#REF!)/#REF!),0,(#REF!-#REF!)/#REF!)","v":0},{"$f":"IF(ISERROR((#REF!-#REF!)/#REF!),0,(#REF!-#REF!)/#REF!)","v":0},{"$f":"IF(ISERROR((#REF!-#REF!)/#REF!),0,(#REF!-#REF!)/#REF!)","v":0},{"$f":"IF(ISERROR((#REF!-#REF!)/#REF!),0,(#REF!-#REF!)/#REF!)","v":0},{"$f":"IF(ISERROR((#REF!-#REF!)/#REF!),0,(#REF!-#REF!)/#REF!)","v":0},{"$f":"IF(ISERROR((#REF!-#REF!)/#REF!),0,(#REF!-#REF!)/#REF!)","v":0},{"$f":"IF(ISERROR((#REF!-#REF!)/#REF!),0,(#REF!-#REF!)/#REF!)","v":0},{"$f":"IF(ISERROR((#REF!-#REF!)/#REF!),0,(#REF!-#REF!)/#REF!)","v":0}]
[null,"HB55C","Minor Hand Procedures for Non-Trauma, Category 2, without CC",0,816,0,0,5,816,5,210,"No","-",0,"","",{"$f":"IF(ISERROR((#REF!-#REF!)/#REF!),0,(#REF!-#REF!)/#REF!)","v":0},{"$f":"IF(ISERROR((#REF!-#REF!)/#REF!),0,(#REF!-#REF!)/#REF!)","v":0},{"$f":"IF(ISERROR((#REF!-#REF!)/#REF!),0,(#REF!-#REF!)/#REF!)","v":0},{"$f":"IF(ISERROR((#REF!-#REF!)/#REF!),0,(#REF!-#REF!)/#REF!)","v":0},{"$f":"IF(ISERROR((#REF!-#REF!)/#REF!),0,(#REF!-#REF!)/#REF!)","v":0},{"$f":"IF(ISERROR((#REF!-#REF!)/#REF!),0,(#REF!-#REF!)/#REF!)","v":0},{"$f":"IF(ISERROR((#REF!-#REF!)/#REF!),0,(#REF!-#REF!)/#REF!)","v":0},{"$f":"IF(ISERROR((#REF!-#REF!)/#REF!),0,(#REF!-#REF!)/#REF!)","v":0},{"$f":"IF(ISERROR((#REF!-#REF!)/#REF!),0,(#REF!-#REF!)/#REF!)","v":0},{"$f":"IF(ISERROR((#REF!-#REF!)/#REF!),0,(#REF!-#REF!)/#REF!)","v":0},{"$f":"IF(ISERROR((#REF!-#REF!)/#REF!),0,(#REF!-#REF!)/#REF!)","v":0},{"$f":"IF(ISERROR((#REF!-#REF!)/#REF!),0,(#REF!-#REF!)/#REF!)","v":0},{"$f":"IF(ISERROR((#REF!-#REF!)/#REF!),0,(#REF!-#REF!)/#REF!)","v":0}]
[null,"HB56B","Minor Hand Procedures for Non-Trauma, Category 1, with CC",0,726,0,0,15,726,15,210,"No","-",0,"","",{"$f":"IF(ISERROR((#REF!-#REF!)/#REF!),0,(#REF!-#REF!)/#REF!)","v":0},{"$f":"IF(ISERROR((#REF!-#REF!)/#REF!),0,(#REF!-#REF!)/#REF!)","v":0},{"$f":"IF(ISERROR((#REF!-#REF!)/#REF!),0,(#REF!-#REF!)/#REF!)","v":0},{"$f":"IF(ISERROR((#REF!-#REF!)/#REF!),0,(#REF!-#REF!)/#REF!)","v":0},{"$f":"IF(ISERROR((#REF!-#REF!)/#REF!),0,(#REF!-#REF!)/#REF!)","v":0},{"$f":"IF(ISERROR((#REF!-#REF!)/#REF!),0,(#REF!-#REF!)/#REF!)","v":0},{"$f":"IF(ISERROR((#REF!-#REF!)/#REF!),0,(#REF!-#REF!)/#REF!)","v":0},{"$f":"IF(ISERROR((#REF!-#REF!)/#REF!),0,(#REF!-#REF!)/#REF!)","v":0},{"$f":"IF(ISERROR((#REF!-#REF!)/#REF!),0,(#REF!-#REF!)/#REF!)","v":0},{"$f":"IF(ISERROR((#REF!-#REF!)/#REF!),0,(#REF!-#REF!)/#REF!)","v":0},{"$f":"IF(ISERROR((#REF!-#REF!)/#REF!),0,(#REF!-#REF!)/#REF!)","v":0},{"$f":"IF(ISERROR((#REF!-#REF!)/#REF!),0,(#REF!-#REF!)/#REF!)","v":0},{"$f":"IF(ISERROR((#REF!-#REF!)/#REF!),0,(#REF!-#REF!)/#REF!)","v":0}]
[null,"HB56C","Minor Hand Procedures for Non-Trauma, Category 1, without CC",227,711,0,0,5,711,5,210,"No","-",0,"","",{"$f":"IF(ISERROR((#REF!-#REF!)/#REF!),0,(#REF!-#REF!)/#REF!)","v":0},{"$f":"IF(ISERROR((#REF!-#REF!)/#REF!),0,(#REF!-#REF!)/#REF!)","v":0},{"$f":"IF(ISERROR((#REF!-#REF!)/#REF!),0,(#REF!-#REF!)/#REF!)","v":0},{"$f":"IF(ISERROR((#REF!-#REF!)/#REF!),0,(#REF!-#REF!)/#REF!)","v":0},{"$f":"IF(ISERROR((#REF!-#REF!)/#REF!),0,(#REF!-#REF!)/#REF!)","v":0},{"$f":"IF(ISERROR((#REF!-#REF!)/#REF!),0,(#REF!-#REF!)/#REF!)","v":0},{"$f":"IF(ISERROR((#REF!-#REF!)/#REF!),0,(#REF!-#REF!)/#REF!)","v":0},{"$f":"IF(ISERROR((#REF!-#REF!)/#REF!),0,(#REF!-#REF!)/#REF!)","v":0},{"$f":"IF(ISERROR((#REF!-#REF!)/#REF!),0,(#REF!-#REF!)/#REF!)","v":0},{"$f":"IF(ISERROR((#REF!-#REF!)/#REF!),0,(#REF!-#REF!)/#REF!)","v":0},{"$f":"IF(ISERROR((#REF!-#REF!)/#REF!),0,(#REF!-#REF!)/#REF!)","v":0},{"$f":"IF(ISERROR((#REF!-#REF!)/#REF!),0,(#REF!-#REF!)/#REF!)","v":0},{"$f":"IF(ISERROR((#REF!-#REF!)/#REF!),0,(#REF!-#REF!)/#REF!)","v":0}]
[null,"HB59Z","Minimal Hand Procedures for Non-Trauma, with length of stay 1 day or less",0,557,0,0,5,557,5,210,"No","-",0,"","",{"$f":"IF(ISERROR((#REF!-#REF!)/#REF!),0,(#REF!-#REF!)/#REF!)","v":0},{"$f":"IF(ISERROR((#REF!-#REF!)/#REF!),0,(#REF!-#REF!)/#REF!)","v":0},{"$f":"IF(ISERROR((#REF!-#REF!)/#REF!),0,(#REF!-#REF!)/#REF!)","v":0},{"$f":"IF(ISERROR((#REF!-#REF!)/#REF!),0,(#REF!-#REF!)/#REF!)","v":0},{"$f":"IF(ISERROR((#REF!-#REF!)/#REF!),0,(#REF!-#REF!)/#REF!)","v":0},{"$f":"IF(ISERROR((#REF!-#REF!)/#REF!),0,(#REF!-#REF!)/#REF!)","v":0},{"$f":"IF(ISERROR((#REF!-#REF!)/#REF!),0,(#REF!-#REF!)/#REF!)","v":0},{"$f":"IF(ISERROR((#REF!-#REF!)/#REF!),0,(#REF!-#REF!)/#REF!)","v":0},{"$f":"IF(ISERROR((#REF!-#REF!)/#REF!),0,(#REF!-#REF!)/#REF!)","v":0},{"$f":"IF(ISERROR((#REF!-#REF!)/#REF!),0,(#REF!-#REF!)/#REF!)","v":0},{"$f":"IF(ISERROR((#REF!-#REF!)/#REF!),0,(#REF!-#REF!)/#REF!)","v":0},{"$f":"IF(ISERROR((#REF!-#REF!)/#REF!),0,(#REF!-#REF!)/#REF!)","v":0},{"$f":"IF(ISERROR((#REF!-#REF!)/#REF!),0,(#REF!-#REF!)/#REF!)","v":0}]
[null,"HB61B","Major Shoulder and Upper Arm Procedures for Non-Trauma, with CC",0,5417,0,0,13,5417,13,210,"No","-",0,"","",{"$f":"IF(ISERROR((#REF!-#REF!)/#REF!),0,(#REF!-#REF!)/#REF!)","v":0},{"$f":"IF(ISERROR((#REF!-#REF!)/#REF!),0,(#REF!-#REF!)/#REF!)","v":0},{"$f":"IF(ISERROR((#REF!-#REF!)/#REF!),0,(#REF!-#REF!)/#REF!)","v":0},{"$f":"IF(ISERROR((#REF!-#REF!)/#REF!),0,(#REF!-#REF!)/#REF!)","v":0},{"$f":"IF(ISERROR((#REF!-#REF!)/#REF!),0,(#REF!-#REF!)/#REF!)","v":0},{"$f":"IF(ISERROR((#REF!-#REF!)/#REF!),0,(#REF!-#REF!)/#REF!)","v":0},{"$f":"IF(ISERROR((#REF!-#REF!)/#REF!),0,(#REF!-#REF!)/#REF!)","v":0},{"$f":"IF(ISERROR((#REF!-#REF!)/#REF!),0,(#REF!-#REF!)/#REF!)","v":0},{"$f":"IF(ISERROR((#REF!-#REF!)/#REF!),0,(#REF!-#REF!)/#REF!)","v":0},{"$f":"IF(ISERROR((#REF!-#REF!)/#REF!),0,(#REF!-#REF!)/#REF!)","v":0},{"$f":"IF(ISERROR((#REF!-#REF!)/#REF!),0,(#REF!-#REF!)/#REF!)","v":0},{"$f":"IF(ISERROR((#REF!-#REF!)/#REF!),0,(#REF!-#REF!)/#REF!)","v":0},{"$f":"IF(ISERROR((#REF!-#REF!)/#REF!),0,(#REF!-#REF!)/#REF!)","v":0}]
[null,"HB61C","Major Shoulder and Upper Arm Procedures for Non-Trauma, without CC",0,0,3610,5047,5,5047,5,210,"No","-",0,"","",{"$f":"IF(ISERROR((#REF!-#REF!)/#REF!),0,(#REF!-#REF!)/#REF!)","v":0},{"$f":"IF(ISERROR((#REF!-#REF!)/#REF!),0,(#REF!-#REF!)/#REF!)","v":0},{"$f":"IF(ISERROR((#REF!-#REF!)/#REF!),0,(#REF!-#REF!)/#REF!)","v":0},{"$f":"IF(ISERROR((#REF!-#REF!)/#REF!),0,(#REF!-#REF!)/#REF!)","v":0},{"$f":"IF(ISERROR((#REF!-#REF!)/#REF!),0,(#REF!-#REF!)/#REF!)","v":0},{"$f":"IF(ISERROR((#REF!-#REF!)/#REF!),0,(#REF!-#REF!)/#REF!)","v":0},{"$f":"IF(ISERROR((#REF!-#REF!)/#REF!),0,(#REF!-#REF!)/#REF!)","v":0},{"$f":"IF(ISERROR((#REF!-#REF!)/#REF!),0,(#REF!-#REF!)/#REF!)","v":0},{"$f":"IF(ISERROR((#REF!-#REF!)/#REF!),0,(#REF!-#REF!)/#REF!)","v":0},{"$f":"IF(ISERROR((#REF!-#REF!)/#REF!),0,(#REF!-#REF!)/#REF!)","v":0},{"$f":"IF(ISERROR((#REF!-#REF!)/#REF!),0,(#REF!-#REF!)/#REF!)","v":0},{"$f":"IF(ISERROR((#REF!-#REF!)/#REF!),0,(#REF!-#REF!)/#REF!)","v":0},{"$f":"IF(ISERROR((#REF!-#REF!)/#REF!),0,(#REF!-#REF!)/#REF!)","v":0}]
[null,"HB62B","Intermediate Shoulder and Upper Arm Procedures for Non-Trauma, with CC",0,3094,0,0,16,3094,16,210,"No","-",0,"","",{"$f":"IF(ISERROR((#REF!-#REF!)/#REF!),0,(#REF!-#REF!)/#REF!)","v":0},{"$f":"IF(ISERROR((#REF!-#REF!)/#REF!),0,(#REF!-#REF!)/#REF!)","v":0},{"$f":"IF(ISERROR((#REF!-#REF!)/#REF!),0,(#REF!-#REF!)/#REF!)","v":0},{"$f":"IF(ISERROR((#REF!-#REF!)/#REF!),0,(#REF!-#REF!)/#REF!)","v":0},{"$f":"IF(ISERROR((#REF!-#REF!)/#REF!),0,(#REF!-#REF!)/#REF!)","v":0},{"$f":"IF(ISERROR((#REF!-#REF!)/#REF!),0,(#REF!-#REF!)/#REF!)","v":0},{"$f":"IF(ISERROR((#REF!-#REF!)/#REF!),0,(#REF!-#REF!)/#REF!)","v":0},{"$f":"IF(ISERROR((#REF!-#REF!)/#REF!),0,(#REF!-#REF!)/#REF!)","v":0},{"$f":"IF(ISERROR((#REF!-#REF!)/#REF!),0,(#REF!-#REF!)/#REF!)","v":0},{"$f":"IF(ISERROR((#REF!-#REF!)/#REF!),0,(#REF!-#REF!)/#REF!)","v":0},{"$f":"IF(ISERROR((#REF!-#REF!)/#REF!),0,(#REF!-#REF!)/#REF!)","v":0},{"$f":"IF(ISERROR((#REF!-#REF!)/#REF!),0,(#REF!-#REF!)/#REF!)","v":0},{"$f":"IF(ISERROR((#REF!-#REF!)/#REF!),0,(#REF!-#REF!)/#REF!)","v":0}]
[null,"HB62C","Intermediate Shoulder and Upper Arm Procedures for Non-Trauma, without CC",0,2531,0,0,5,2531,5,210,"No","-",0,1,"sub-HRG",{"$f":"IF(ISERROR((#REF!-#REF!)/#REF!),0,(#REF!-#REF!)/#REF!)","v":0},{"$f":"IF(ISERROR((#REF!-#REF!)/#REF!),0,(#REF!-#REF!)/#REF!)","v":0},{"$f":"IF(ISERROR((#REF!-#REF!)/#REF!),0,(#REF!-#REF!)/#REF!)","v":0},{"$f":"IF(ISERROR((#REF!-#REF!)/#REF!),0,(#REF!-#REF!)/#REF!)","v":0},{"$f":"IF(ISERROR((#REF!-#REF!)/#REF!),0,(#REF!-#REF!)/#REF!)","v":0},{"$f":"IF(ISERROR((#REF!-#REF!)/#REF!),0,(#REF!-#REF!)/#REF!)","v":0},{"$f":"IF(ISERROR((#REF!-#REF!)/#REF!),0,(#REF!-#REF!)/#REF!)","v":0},{"$f":"IF(ISERROR((#REF!-#REF!)/#REF!),0,(#REF!-#REF!)/#REF!)","v":0},{"$f":"IF(ISERROR((#REF!-#REF!)/#REF!),0,(#REF!-#REF!)/#REF!)","v":0},{"$f":"IF(ISERROR((#REF!-#REF!)/#REF!),0,(#REF!-#REF!)/#REF!)","v":0},{"$f":"IF(ISERROR((#REF!-#REF!)/#REF!),0,(#REF!-#REF!)/#REF!)","v":0},{"$f":"IF(ISERROR((#REF!-#REF!)/#REF!),0,(#REF!-#REF!)/#REF!)","v":0},{"$f":"IF(ISERROR((#REF!-#REF!)/#REF!),0,(#REF!-#REF!)/#REF!)","v":0}]
[null,"HB63Z","Minor Shoulder and Upper Arm Procedures for Non-Trauma",0,1015,0,0,5,1015,5,210,"No","-",0,"","",{"$f":"IF(ISERROR((#REF!-#REF!)/#REF!),0,(#REF!-#REF!)/#REF!)","v":0},{"$f":"IF(ISERROR((#REF!-#REF!)/#REF!),0,(#REF!-#REF!)/#REF!)","v":0},{"$f":"IF(ISERROR((#REF!-#REF!)/#REF!),0,(#REF!-#REF!)/#REF!)","v":0},{"$f":"IF(ISERROR((#REF!-#REF!)/#REF!),0,(#REF!-#REF!)/#REF!)","v":0},{"$f":"IF(ISERROR((#REF!-#REF!)/#REF!),0,(#REF!-#REF!)/#REF!)","v":0},{"$f":"IF(ISERROR((#REF!-#REF!)/#REF!),0,(#REF!-#REF!)/#REF!)","v":0},{"$f":"IF(ISERROR((#REF!-#REF!)/#REF!),0,(#REF!-#REF!)/#REF!)","v":0},{"$f":"IF(ISERROR((#REF!-#REF!)/#REF!),0,(#REF!-#REF!)/#REF!)","v":0},{"$f":"IF(ISERROR((#REF!-#REF!)/#REF!),0,(#REF!-#REF!)/#REF!)","v":0},{"$f":"IF(ISERROR((#REF!-#REF!)/#REF!),0,(#REF!-#REF!)/#REF!)","v":0},{"$f":"IF(ISERROR((#REF!-#REF!)/#REF!),0,(#REF!-#REF!)/#REF!)","v":0},{"$f":"IF(ISERROR((#REF!-#REF!)/#REF!),0,(#REF!-#REF!)/#REF!)","v":0},{"$f":"IF(ISERROR((#REF!-#REF!)/#REF!),0,(#REF!-#REF!)/#REF!)","v":0}]
[null,"HB69Z","Minimal Shoulder and Upper Arm Procedures for Non-Trauma, with length of stay 1 day or less",282,282,0,0,5,282,5,210,"No","-",0,"","",{"$f":"IF(ISERROR((#REF!-#REF!)/#REF!),0,(#REF!-#REF!)/#REF!)","v":0},{"$f":"IF(ISERROR((#REF!-#REF!)/#REF!),0,(#REF!-#REF!)/#REF!)","v":0},{"$f":"IF(ISERROR((#REF!-#REF!)/#REF!),0,(#REF!-#REF!)/#REF!)","v":0},{"$f":"IF(ISERROR((#REF!-#REF!)/#REF!),0,(#REF!-#REF!)/#REF!)","v":0},{"$f":"IF(ISERROR((#REF!-#REF!)/#REF!),0,(#REF!-#REF!)/#REF!)","v":0},{"$f":"IF(ISERROR((#REF!-#REF!)/#REF!),0,(#REF!-#REF!)/#REF!)","v":0},{"$f":"IF(ISERROR((#REF!-#REF!)/#REF!),0,(#REF!-#REF!)/#REF!)","v":0},{"$f":"IF(ISERROR((#REF!-#REF!)/#REF!),0,(#REF!-#REF!)/#REF!)","v":0},{"$f":"IF(ISERROR((#REF!-#REF!)/#REF!),0,(#REF!-#REF!)/#REF!)","v":0},{"$f":"IF(ISERROR((#REF!-#REF!)/#REF!),0,(#REF!-#REF!)/#REF!)","v":0},{"$f":"IF(ISERROR((#REF!-#REF!)/#REF!),0,(#REF!-#REF!)/#REF!)","v":0},{"$f":"IF(ISERROR((#REF!-#REF!)/#REF!),0,(#REF!-#REF!)/#REF!)","v":0},{"$f":"IF(ISERROR((#REF!-#REF!)/#REF!),0,(#REF!-#REF!)/#REF!)","v":0}]
[null,"HB71B","Major Elbow and Lower Arm Procedures for Non-Trauma, with CC",0,5285,0,0,18,5285,18,210,"No","-",0,"","",{"$f":"IF(ISERROR((#REF!-#REF!)/#REF!),0,(#REF!-#REF!)/#REF!)","v":0},{"$f":"IF(ISERROR((#REF!-#REF!)/#REF!),0,(#REF!-#REF!)/#REF!)","v":0},{"$f":"IF(ISERROR((#REF!-#REF!)/#REF!),0,(#REF!-#REF!)/#REF!)","v":0},{"$f":"IF(ISERROR((#REF!-#REF!)/#REF!),0,(#REF!-#REF!)/#REF!)","v":0},{"$f":"IF(ISERROR((#REF!-#REF!)/#REF!),0,(#REF!-#REF!)/#REF!)","v":0},{"$f":"IF(ISERROR((#REF!-#REF!)/#REF!),0,(#REF!-#REF!)/#REF!)","v":0},{"$f":"IF(ISERROR((#REF!-#REF!)/#REF!),0,(#REF!-#REF!)/#REF!)","v":0},{"$f":"IF(ISERROR((#REF!-#REF!)/#REF!),0,(#REF!-#REF!)/#REF!)","v":0},{"$f":"IF(ISERROR((#REF!-#REF!)/#REF!),0,(#REF!-#REF!)/#REF!)","v":0},{"$f":"IF(ISERROR((#REF!-#REF!)/#REF!),0,(#REF!-#REF!)/#REF!)","v":0},{"$f":"IF(ISERROR((#REF!-#REF!)/#REF!),0,(#REF!-#REF!)/#REF!)","v":0},{"$f":"IF(ISERROR((#REF!-#REF!)/#REF!),0,(#REF!-#REF!)/#REF!)","v":0},{"$f":"IF(ISERROR((#REF!-#REF!)/#REF!),0,(#REF!-#REF!)/#REF!)","v":0}]
[null,"HB71C","Major Elbow and Lower Arm Procedures for Non-Trauma, without CC",0,0,2668,4965,5,4965,5,210,"No","-",0,"","",{"$f":"IF(ISERROR((#REF!-#REF!)/#REF!),0,(#REF!-#REF!)/#REF!)","v":0},{"$f":"IF(ISERROR((#REF!-#REF!)/#REF!),0,(#REF!-#REF!)/#REF!)","v":0},{"$f":"IF(ISERROR((#REF!-#REF!)/#REF!),0,(#REF!-#REF!)/#REF!)","v":0},{"$f":"IF(ISERROR((#REF!-#REF!)/#REF!),0,(#REF!-#REF!)/#REF!)","v":0},{"$f":"IF(ISERROR((#REF!-#REF!)/#REF!),0,(#REF!-#REF!)/#REF!)","v":0},{"$f":"IF(ISERROR((#REF!-#REF!)/#REF!),0,(#REF!-#REF!)/#REF!)","v":0},{"$f":"IF(ISERROR((#REF!-#REF!)/#REF!),0,(#REF!-#REF!)/#REF!)","v":0},{"$f":"IF(ISERROR((#REF!-#REF!)/#REF!),0,(#REF!-#REF!)/#REF!)","v":0},{"$f":"IF(ISERROR((#REF!-#REF!)/#REF!),0,(#REF!-#REF!)/#REF!)","v":0},{"$f":"IF(ISERROR((#REF!-#REF!)/#REF!),0,(#REF!-#REF!)/#REF!)","v":0},{"$f":"IF(ISERROR((#REF!-#REF!)/#REF!),0,(#REF!-#REF!)/#REF!)","v":0},{"$f":"IF(ISERROR((#REF!-#REF!)/#REF!),0,(#REF!-#REF!)/#REF!)","v":0},{"$f":"IF(ISERROR((#REF!-#REF!)/#REF!),0,(#REF!-#REF!)/#REF!)","v":0}]
[null,"HB72Z","Intermediate Elbow and Lower Arm Procedures for Non-Trauma",0,2387,0,0,5,2387,5,210,"No","-",0,"","",{"$f":"IF(ISERROR((#REF!-#REF!)/#REF!),0,(#REF!-#REF!)/#REF!)","v":0},{"$f":"IF(ISERROR((#REF!-#REF!)/#REF!),0,(#REF!-#REF!)/#REF!)","v":0},{"$f":"IF(ISERROR((#REF!-#REF!)/#REF!),0,(#REF!-#REF!)/#REF!)","v":0},{"$f":"IF(ISERROR((#REF!-#REF!)/#REF!),0,(#REF!-#REF!)/#REF!)","v":0},{"$f":"IF(ISERROR((#REF!-#REF!)/#REF!),0,(#REF!-#REF!)/#REF!)","v":0},{"$f":"IF(ISERROR((#REF!-#REF!)/#REF!),0,(#REF!-#REF!)/#REF!)","v":0},{"$f":"IF(ISERROR((#REF!-#REF!)/#REF!),0,(#REF!-#REF!)/#REF!)","v":0},{"$f":"IF(ISERROR((#REF!-#REF!)/#REF!),0,(#REF!-#REF!)/#REF!)","v":0},{"$f":"IF(ISERROR((#REF!-#REF!)/#REF!),0,(#REF!-#REF!)/#REF!)","v":0},{"$f":"IF(ISERROR((#REF!-#REF!)/#REF!),0,(#REF!-#REF!)/#REF!)","v":0},{"$f":"IF(ISERROR((#REF!-#REF!)/#REF!),0,(#REF!-#REF!)/#REF!)","v":0},{"$f":"IF(ISERROR((#REF!-#REF!)/#REF!),0,(#REF!-#REF!)/#REF!)","v":0},{"$f":"IF(ISERROR((#REF!-#REF!)/#REF!),0,(#REF!-#REF!)/#REF!)","v":0}]
[null,"HB73Z","Minor Elbow and Lower Arm Procedures for Non-Trauma",0,1105,0,0,5,1105,5,210,"No","-",0,"","",{"$f":"IF(ISERROR((#REF!-#REF!)/#REF!),0,(#REF!-#REF!)/#REF!)","v":0},{"$f":"IF(ISERROR((#REF!-#REF!)/#REF!),0,(#REF!-#REF!)/#REF!)","v":0},{"$f":"IF(ISERROR((#REF!-#REF!)/#REF!),0,(#REF!-#REF!)/#REF!)","v":0},{"$f":"IF(ISERROR((#REF!-#REF!)/#REF!),0,(#REF!-#REF!)/#REF!)","v":0},{"$f":"IF(ISERROR((#REF!-#REF!)/#REF!),0,(#REF!-#REF!)/#REF!)","v":0},{"$f":"IF(ISERROR((#REF!-#REF!)/#REF!),0,(#REF!-#REF!)/#REF!)","v":0},{"$f":"IF(ISERROR((#REF!-#REF!)/#REF!),0,(#REF!-#REF!)/#REF!)","v":0},{"$f":"IF(ISERROR((#REF!-#REF!)/#REF!),0,(#REF!-#REF!)/#REF!)","v":0},{"$f":"IF(ISERROR((#REF!-#REF!)/#REF!),0,(#REF!-#REF!)/#REF!)","v":0},{"$f":"IF(ISERROR((#REF!-#REF!)/#REF!),0,(#REF!-#REF!)/#REF!)","v":0},{"$f":"IF(ISERROR((#REF!-#REF!)/#REF!),0,(#REF!-#REF!)/#REF!)","v":0},{"$f":"IF(ISERROR((#REF!-#REF!)/#REF!),0,(#REF!-#REF!)/#REF!)","v":0},{"$f":"IF(ISERROR((#REF!-#REF!)/#REF!),0,(#REF!-#REF!)/#REF!)","v":0}]
[null,"HB79Z","Minimal Elbow and Lower Arm Procedures for Non-Trauma, with length of stay 1 day or less",268,268,0,0,5,268,5,210,"No","-",0,"","",{"$f":"IF(ISERROR((#REF!-#REF!)/#REF!),0,(#REF!-#REF!)/#REF!)","v":0},{"$f":"IF(ISERROR((#REF!-#REF!)/#REF!),0,(#REF!-#REF!)/#REF!)","v":0},{"$f":"IF(ISERROR((#REF!-#REF!)/#REF!),0,(#REF!-#REF!)/#REF!)","v":0},{"$f":"IF(ISERROR((#REF!-#REF!)/#REF!),0,(#REF!-#REF!)/#REF!)","v":0},{"$f":"IF(ISERROR((#REF!-#REF!)/#REF!),0,(#REF!-#REF!)/#REF!)","v":0},{"$f":"IF(ISERROR((#REF!-#REF!)/#REF!),0,(#REF!-#REF!)/#REF!)","v":0},{"$f":"IF(ISERROR((#REF!-#REF!)/#REF!),0,(#REF!-#REF!)/#REF!)","v":0},{"$f":"IF(ISERROR((#REF!-#REF!)/#REF!),0,(#REF!-#REF!)/#REF!)","v":0},{"$f":"IF(ISERROR((#REF!-#REF!)/#REF!),0,(#REF!-#REF!)/#REF!)","v":0},{"$f":"IF(ISERROR((#REF!-#REF!)/#REF!),0,(#REF!-#REF!)/#REF!)","v":0},{"$f":"IF(ISERROR((#REF!-#REF!)/#REF!),0,(#REF!-#REF!)/#REF!)","v":0},{"$f":"IF(ISERROR((#REF!-#REF!)/#REF!),0,(#REF!-#REF!)/#REF!)","v":0},{"$f":"IF(ISERROR((#REF!-#REF!)/#REF!),0,(#REF!-#REF!)/#REF!)","v":0}]
[null,"HB91Z","Other Non-Trauma Diagnosis without Procedure",0,767,0,0,22,767,22,210,"Yes",0.30000000000000004,230.10000000000002,"","",{"$f":"IF(ISERROR((#REF!-#REF!)/#REF!),0,(#REF!-#REF!)/#REF!)","v":0},{"$f":"IF(ISERROR((#REF!-#REF!)/#REF!),0,(#REF!-#REF!)/#REF!)","v":0},{"$f":"IF(ISERROR((#REF!-#REF!)/#REF!),0,(#REF!-#REF!)/#REF!)","v":0},{"$f":"IF(ISERROR((#REF!-#REF!)/#REF!),0,(#REF!-#REF!)/#REF!)","v":0},{"$f":"IF(ISERROR((#REF!-#REF!)/#REF!),0,(#REF!-#REF!)/#REF!)","v":0},{"$f":"IF(ISERROR((#REF!-#REF!)/#REF!),0,(#REF!-#REF!)/#REF!)","v":0},{"$f":"IF(ISERROR((#REF!-#REF!)/#REF!),0,(#REF!-#REF!)/#REF!)","v":0},{"$f":"IF(ISERROR((#REF!-#REF!)/#REF!),0,(#REF!-#REF!)/#REF!)","v":0},{"$f":"IF(ISERROR((#REF!-#REF!)/#REF!),0,(#REF!-#REF!)/#REF!)","v":0},{"$f":"IF(ISERROR((#REF!-#REF!)/#REF!),0,(#REF!-#REF!)/#REF!)","v":0},{"$f":"IF(ISERROR((#REF!-#REF!)/#REF!),0,(#REF!-#REF!)/#REF!)","v":0},{"$f":"IF(ISERROR((#REF!-#REF!)/#REF!),0,(#REF!-#REF!)/#REF!)","v":0},{"$f":"IF(ISERROR((#REF!-#REF!)/#REF!),0,(#REF!-#REF!)/#REF!)","v":0}]
[null,"HB99Z","Other Procedures for Non-Trauma",0,286,0,0,5,286,5,210,"No","-",0,"","",{"$f":"IF(ISERROR((#REF!-#REF!)/#REF!),0,(#REF!-#REF!)/#REF!)","v":0},{"$f":"IF(ISERROR((#REF!-#REF!)/#REF!),0,(#REF!-#REF!)/#REF!)","v":0},{"$f":"IF(ISERROR((#REF!-#REF!)/#REF!),0,(#REF!-#REF!)/#REF!)","v":0},{"$f":"IF(ISERROR((#REF!-#REF!)/#REF!),0,(#REF!-#REF!)/#REF!)","v":0},{"$f":"IF(ISERROR((#REF!-#REF!)/#REF!),0,(#REF!-#REF!)/#REF!)","v":0},{"$f":"IF(ISERROR((#REF!-#REF!)/#REF!),0,(#REF!-#REF!)/#REF!)","v":0},{"$f":"IF(ISERROR((#REF!-#REF!)/#REF!),0,(#REF!-#REF!)/#REF!)","v":0},{"$f":"IF(ISERROR((#REF!-#REF!)/#REF!),0,(#REF!-#REF!)/#REF!)","v":0},{"$f":"IF(ISERROR((#REF!-#REF!)/#REF!),0,(#REF!-#REF!)/#REF!)","v":0},{"$f":"IF(ISERROR((#REF!-#REF!)/#REF!),0,(#REF!-#REF!)/#REF!)","v":0},{"$f":"IF(ISERROR((#REF!-#REF!)/#REF!),0,(#REF!-#REF!)/#REF!)","v":0},{"$f":"IF(ISERROR((#REF!-#REF!)/#REF!),0,(#REF!-#REF!)/#REF!)","v":0},{"$f":"IF(ISERROR((#REF!-#REF!)/#REF!),0,(#REF!-#REF!)/#REF!)","v":0}]
[null,"HC01Z","Extradural Spine Major 2",0,8423,0,0,14,8423,14,210,"No","-",0,"","",{"$f":"IF(ISERROR((#REF!-#REF!)/#REF!),0,(#REF!-#REF!)/#REF!)","v":0},{"$f":"IF(ISERROR((#REF!-#REF!)/#REF!),0,(#REF!-#REF!)/#REF!)","v":0},{"$f":"IF(ISERROR((#REF!-#REF!)/#REF!),0,(#REF!-#REF!)/#REF!)","v":0},{"$f":"IF(ISERROR((#REF!-#REF!)/#REF!),0,(#REF!-#REF!)/#REF!)","v":0},{"$f":"IF(ISERROR((#REF!-#REF!)/#REF!),0,(#REF!-#REF!)/#REF!)","v":0},{"$f":"IF(ISERROR((#REF!-#REF!)/#REF!),0,(#REF!-#REF!)/#REF!)","v":0},{"$f":"IF(ISERROR((#REF!-#REF!)/#REF!),0,(#REF!-#REF!)/#REF!)","v":0},{"$f":"IF(ISERROR((#REF!-#REF!)/#REF!),0,(#REF!-#REF!)/#REF!)","v":0},{"$f":"IF(ISERROR((#REF!-#REF!)/#REF!),0,(#REF!-#REF!)/#REF!)","v":0},{"$f":"IF(ISERROR((#REF!-#REF!)/#REF!),0,(#REF!-#REF!)/#REF!)","v":0},{"$f":"IF(ISERROR((#REF!-#REF!)/#REF!),0,(#REF!-#REF!)/#REF!)","v":0},{"$f":"IF(ISERROR((#REF!-#REF!)/#REF!),0,(#REF!-#REF!)/#REF!)","v":0},{"$f":"IF(ISERROR((#REF!-#REF!)/#REF!),0,(#REF!-#REF!)/#REF!)","v":0}]
[null,"HC02B","Extradural Spine Major 1 with CC",0,8648,0,0,38,8648,38,210,"No","-",0,"","",{"$f":"IF(ISERROR((#REF!-#REF!)/#REF!),0,(#REF!-#REF!)/#REF!)","v":0},{"$f":"IF(ISERROR((#REF!-#REF!)/#REF!),0,(#REF!-#REF!)/#REF!)","v":0},{"$f":"IF(ISERROR((#REF!-#REF!)/#REF!),0,(#REF!-#REF!)/#REF!)","v":0},{"$f":"IF(ISERROR((#REF!-#REF!)/#REF!),0,(#REF!-#REF!)/#REF!)","v":0},{"$f":"IF(ISERROR((#REF!-#REF!)/#REF!),0,(#REF!-#REF!)/#REF!)","v":0},{"$f":"IF(ISERROR((#REF!-#REF!)/#REF!),0,(#REF!-#REF!)/#REF!)","v":0},{"$f":"IF(ISERROR((#REF!-#REF!)/#REF!),0,(#REF!-#REF!)/#REF!)","v":0},{"$f":"IF(ISERROR((#REF!-#REF!)/#REF!),0,(#REF!-#REF!)/#REF!)","v":0},{"$f":"IF(ISERROR((#REF!-#REF!)/#REF!),0,(#REF!-#REF!)/#REF!)","v":0},{"$f":"IF(ISERROR((#REF!-#REF!)/#REF!),0,(#REF!-#REF!)/#REF!)","v":0},{"$f":"IF(ISERROR((#REF!-#REF!)/#REF!),0,(#REF!-#REF!)/#REF!)","v":0},{"$f":"IF(ISERROR((#REF!-#REF!)/#REF!),0,(#REF!-#REF!)/#REF!)","v":0},{"$f":"IF(ISERROR((#REF!-#REF!)/#REF!),0,(#REF!-#REF!)/#REF!)","v":0}]
[null,"HC02C","Extradural Spine Major 1 without CC",0,5763,0,0,11,5763,11,210,"No","-",0,"","",{"$f":"IF(ISERROR((#REF!-#REF!)/#REF!),0,(#REF!-#REF!)/#REF!)","v":0},{"$f":"IF(ISERROR((#REF!-#REF!)/#REF!),0,(#REF!-#REF!)/#REF!)","v":0},{"$f":"IF(ISERROR((#REF!-#REF!)/#REF!),0,(#REF!-#REF!)/#REF!)","v":0},{"$f":"IF(ISERROR((#REF!-#REF!)/#REF!),0,(#REF!-#REF!)/#REF!)","v":0},{"$f":"IF(ISERROR((#REF!-#REF!)/#REF!),0,(#REF!-#REF!)/#REF!)","v":0},{"$f":"IF(ISERROR((#REF!-#REF!)/#REF!),0,(#REF!-#REF!)/#REF!)","v":0},{"$f":"IF(ISERROR((#REF!-#REF!)/#REF!),0,(#REF!-#REF!)/#REF!)","v":0},{"$f":"IF(ISERROR((#REF!-#REF!)/#REF!),0,(#REF!-#REF!)/#REF!)","v":0},{"$f":"IF(ISERROR((#REF!-#REF!)/#REF!),0,(#REF!-#REF!)/#REF!)","v":0},{"$f":"IF(ISERROR((#REF!-#REF!)/#REF!),0,(#REF!-#REF!)/#REF!)","v":0},{"$f":"IF(ISERROR((#REF!-#REF!)/#REF!),0,(#REF!-#REF!)/#REF!)","v":0},{"$f":"IF(ISERROR((#REF!-#REF!)/#REF!),0,(#REF!-#REF!)/#REF!)","v":0},{"$f":"IF(ISERROR((#REF!-#REF!)/#REF!),0,(#REF!-#REF!)/#REF!)","v":0}]
[null,"HC03B","Extradural Spine Intermediate 2 with CC",0,6177,0,0,29,6177,29,210,"No","-",0,"","",{"$f":"IF(ISERROR((#REF!-#REF!)/#REF!),0,(#REF!-#REF!)/#REF!)","v":0},{"$f":"IF(ISERROR((#REF!-#REF!)/#REF!),0,(#REF!-#REF!)/#REF!)","v":0},{"$f":"IF(ISERROR((#REF!-#REF!)/#REF!),0,(#REF!-#REF!)/#REF!)","v":0},{"$f":"IF(ISERROR((#REF!-#REF!)/#REF!),0,(#REF!-#REF!)/#REF!)","v":0},{"$f":"IF(ISERROR((#REF!-#REF!)/#REF!),0,(#REF!-#REF!)/#REF!)","v":0},{"$f":"IF(ISERROR((#REF!-#REF!)/#REF!),0,(#REF!-#REF!)/#REF!)","v":0},{"$f":"IF(ISERROR((#REF!-#REF!)/#REF!),0,(#REF!-#REF!)/#REF!)","v":0},{"$f":"IF(ISERROR((#REF!-#REF!)/#REF!),0,(#REF!-#REF!)/#REF!)","v":0},{"$f":"IF(ISERROR((#REF!-#REF!)/#REF!),0,(#REF!-#REF!)/#REF!)","v":0},{"$f":"IF(ISERROR((#REF!-#REF!)/#REF!),0,(#REF!-#REF!)/#REF!)","v":0},{"$f":"IF(ISERROR((#REF!-#REF!)/#REF!),0,(#REF!-#REF!)/#REF!)","v":0},{"$f":"IF(ISERROR((#REF!-#REF!)/#REF!),0,(#REF!-#REF!)/#REF!)","v":0},{"$f":"IF(ISERROR((#REF!-#REF!)/#REF!),0,(#REF!-#REF!)/#REF!)","v":0}]
[null,"HC03C","Extradural Spine Intermediate 2 without CC",0,4534,0,0,8,4534,8,210,"No","-",0,"","",{"$f":"IF(ISERROR((#REF!-#REF!)/#REF!),0,(#REF!-#REF!)/#REF!)","v":0},{"$f":"IF(ISERROR((#REF!-#REF!)/#REF!),0,(#REF!-#REF!)/#REF!)","v":0},{"$f":"IF(ISERROR((#REF!-#REF!)/#REF!),0,(#REF!-#REF!)/#REF!)","v":0},{"$f":"IF(ISERROR((#REF!-#REF!)/#REF!),0,(#REF!-#REF!)/#REF!)","v":0},{"$f":"IF(ISERROR((#REF!-#REF!)/#REF!),0,(#REF!-#REF!)/#REF!)","v":0},{"$f":"IF(ISERROR((#REF!-#REF!)/#REF!),0,(#REF!-#REF!)/#REF!)","v":0},{"$f":"IF(ISERROR((#REF!-#REF!)/#REF!),0,(#REF!-#REF!)/#REF!)","v":0},{"$f":"IF(ISERROR((#REF!-#REF!)/#REF!),0,(#REF!-#REF!)/#REF!)","v":0},{"$f":"IF(ISERROR((#REF!-#REF!)/#REF!),0,(#REF!-#REF!)/#REF!)","v":0},{"$f":"IF(ISERROR((#REF!-#REF!)/#REF!),0,(#REF!-#REF!)/#REF!)","v":0},{"$f":"IF(ISERROR((#REF!-#REF!)/#REF!),0,(#REF!-#REF!)/#REF!)","v":0},{"$f":"IF(ISERROR((#REF!-#REF!)/#REF!),0,(#REF!-#REF!)/#REF!)","v":0},{"$f":"IF(ISERROR((#REF!-#REF!)/#REF!),0,(#REF!-#REF!)/#REF!)","v":0}]
[null,"HC04B","Extradural Spine Intermediate 1 with CC",0,5346,0,0,17,5346,17,210,"No","-",0,"","",{"$f":"IF(ISERROR((#REF!-#REF!)/#REF!),0,(#REF!-#REF!)/#REF!)","v":0},{"$f":"IF(ISERROR((#REF!-#REF!)/#REF!),0,(#REF!-#REF!)/#REF!)","v":0},{"$f":"IF(ISERROR((#REF!-#REF!)/#REF!),0,(#REF!-#REF!)/#REF!)","v":0},{"$f":"IF(ISERROR((#REF!-#REF!)/#REF!),0,(#REF!-#REF!)/#REF!)","v":0},{"$f":"IF(ISERROR((#REF!-#REF!)/#REF!),0,(#REF!-#REF!)/#REF!)","v":0},{"$f":"IF(ISERROR((#REF!-#REF!)/#REF!),0,(#REF!-#REF!)/#REF!)","v":0},{"$f":"IF(ISERROR((#REF!-#REF!)/#REF!),0,(#REF!-#REF!)/#REF!)","v":0},{"$f":"IF(ISERROR((#REF!-#REF!)/#REF!),0,(#REF!-#REF!)/#REF!)","v":0},{"$f":"IF(ISERROR((#REF!-#REF!)/#REF!),0,(#REF!-#REF!)/#REF!)","v":0},{"$f":"IF(ISERROR((#REF!-#REF!)/#REF!),0,(#REF!-#REF!)/#REF!)","v":0},{"$f":"IF(ISERROR((#REF!-#REF!)/#REF!),0,(#REF!-#REF!)/#REF!)","v":0},{"$f":"IF(ISERROR((#REF!-#REF!)/#REF!),0,(#REF!-#REF!)/#REF!)","v":0},{"$f":"IF(ISERROR((#REF!-#REF!)/#REF!),0,(#REF!-#REF!)/#REF!)","v":0}]
[null,"HC04C","Extradural Spine Intermediate 1 without CC",0,3260,0,0,5,3260,5,210,"No","-",0,"","",{"$f":"IF(ISERROR((#REF!-#REF!)/#REF!),0,(#REF!-#REF!)/#REF!)","v":0},{"$f":"IF(ISERROR((#REF!-#REF!)/#REF!),0,(#REF!-#REF!)/#REF!)","v":0},{"$f":"IF(ISERROR((#REF!-#REF!)/#REF!),0,(#REF!-#REF!)/#REF!)","v":0},{"$f":"IF(ISERROR((#REF!-#REF!)/#REF!),0,(#REF!-#REF!)/#REF!)","v":0},{"$f":"IF(ISERROR((#REF!-#REF!)/#REF!),0,(#REF!-#REF!)/#REF!)","v":0},{"$f":"IF(ISERROR((#REF!-#REF!)/#REF!),0,(#REF!-#REF!)/#REF!)","v":0},{"$f":"IF(ISERROR((#REF!-#REF!)/#REF!),0,(#REF!-#REF!)/#REF!)","v":0},{"$f":"IF(ISERROR((#REF!-#REF!)/#REF!),0,(#REF!-#REF!)/#REF!)","v":0},{"$f":"IF(ISERROR((#REF!-#REF!)/#REF!),0,(#REF!-#REF!)/#REF!)","v":0},{"$f":"IF(ISERROR((#REF!-#REF!)/#REF!),0,(#REF!-#REF!)/#REF!)","v":0},{"$f":"IF(ISERROR((#REF!-#REF!)/#REF!),0,(#REF!-#REF!)/#REF!)","v":0},{"$f":"IF(ISERROR((#REF!-#REF!)/#REF!),0,(#REF!-#REF!)/#REF!)","v":0},{"$f":"IF(ISERROR((#REF!-#REF!)/#REF!),0,(#REF!-#REF!)/#REF!)","v":0}]
[null,"HC05B","Extradural Spine Minor 2 with CC",0,4711,0,0,50,6904.7550061495058,50,210,"No","-",0,"","",{"$f":"IF(ISERROR((#REF!-#REF!)/#REF!),0,(#REF!-#REF!)/#REF!)","v":0},{"$f":"IF(ISERROR((#REF!-#REF!)/#REF!),0,(#REF!-#REF!)/#REF!)","v":0},{"$f":"IF(ISERROR((#REF!-#REF!)/#REF!),0,(#REF!-#REF!)/#REF!)","v":0},{"$f":"IF(ISERROR((#REF!-#REF!)/#REF!),0,(#REF!-#REF!)/#REF!)","v":0},{"$f":"IF(ISERROR((#REF!-#REF!)/#REF!),0,(#REF!-#REF!)/#REF!)","v":0},{"$f":"IF(ISERROR((#REF!-#REF!)/#REF!),0,(#REF!-#REF!)/#REF!)","v":0},{"$f":"IF(ISERROR((#REF!-#REF!)/#REF!),0,(#REF!-#REF!)/#REF!)","v":0},{"$f":"IF(ISERROR((#REF!-#REF!)/#REF!),0,(#REF!-#REF!)/#REF!)","v":0},{"$f":"IF(ISERROR((#REF!-#REF!)/#REF!),0,(#REF!-#REF!)/#REF!)","v":0},{"$f":"IF(ISERROR((#REF!-#REF!)/#REF!),0,(#REF!-#REF!)/#REF!)","v":0},{"$f":"IF(ISERROR((#REF!-#REF!)/#REF!),0,(#REF!-#REF!)/#REF!)","v":0},{"$f":"IF(ISERROR((#REF!-#REF!)/#REF!),0,(#REF!-#REF!)/#REF!)","v":0},{"$f":"IF(ISERROR((#REF!-#REF!)/#REF!),0,(#REF!-#REF!)/#REF!)","v":0}]
[null,"HC05C","Extradural Spine Minor 2 without CC",0,2330,0,0,5,2330,5,210,"No","-",0,"","",{"$f":"IF(ISERROR((#REF!-#REF!)/#REF!),0,(#REF!-#REF!)/#REF!)","v":0},{"$f":"IF(ISERROR((#REF!-#REF!)/#REF!),0,(#REF!-#REF!)/#REF!)","v":0},{"$f":"IF(ISERROR((#REF!-#REF!)/#REF!),0,(#REF!-#REF!)/#REF!)","v":0},{"$f":"IF(ISERROR((#REF!-#REF!)/#REF!),0,(#REF!-#REF!)/#REF!)","v":0},{"$f":"IF(ISERROR((#REF!-#REF!)/#REF!),0,(#REF!-#REF!)/#REF!)","v":0},{"$f":"IF(ISERROR((#REF!-#REF!)/#REF!),0,(#REF!-#REF!)/#REF!)","v":0},{"$f":"IF(ISERROR((#REF!-#REF!)/#REF!),0,(#REF!-#REF!)/#REF!)","v":0},{"$f":"IF(ISERROR((#REF!-#REF!)/#REF!),0,(#REF!-#REF!)/#REF!)","v":0},{"$f":"IF(ISERROR((#REF!-#REF!)/#REF!),0,(#REF!-#REF!)/#REF!)","v":0},{"$f":"IF(ISERROR((#REF!-#REF!)/#REF!),0,(#REF!-#REF!)/#REF!)","v":0},{"$f":"IF(ISERROR((#REF!-#REF!)/#REF!),0,(#REF!-#REF!)/#REF!)","v":0},{"$f":"IF(ISERROR((#REF!-#REF!)/#REF!),0,(#REF!-#REF!)/#REF!)","v":0},{"$f":"IF(ISERROR((#REF!-#REF!)/#REF!),0,(#REF!-#REF!)/#REF!)","v":0}]
[null,"HC06Z","Extradural Spine Minor 1",0,715,0,0,5,1605.4993979356927,5,210,"No","-",0,"","",{"$f":"IF(ISERROR((#REF!-#REF!)/#REF!),0,(#REF!-#REF!)/#REF!)","v":0},{"$f":"IF(ISERROR((#REF!-#REF!)/#REF!),0,(#REF!-#REF!)/#REF!)","v":0},{"$f":"IF(ISERROR((#REF!-#REF!)/#REF!),0,(#REF!-#REF!)/#REF!)","v":0},{"$f":"IF(ISERROR((#REF!-#REF!)/#REF!),0,(#REF!-#REF!)/#REF!)","v":0},{"$f":"IF(ISERROR((#REF!-#REF!)/#REF!),0,(#REF!-#REF!)/#REF!)","v":0},{"$f":"IF(ISERROR((#REF!-#REF!)/#REF!),0,(#REF!-#REF!)/#REF!)","v":0},{"$f":"IF(ISERROR((#REF!-#REF!)/#REF!),0,(#REF!-#REF!)/#REF!)","v":0},{"$f":"IF(ISERROR((#REF!-#REF!)/#REF!),0,(#REF!-#REF!)/#REF!)","v":0},{"$f":"IF(ISERROR((#REF!-#REF!)/#REF!),0,(#REF!-#REF!)/#REF!)","v":0},{"$f":"IF(ISERROR((#REF!-#REF!)/#REF!),0,(#REF!-#REF!)/#REF!)","v":0},{"$f":"IF(ISERROR((#REF!-#REF!)/#REF!),0,(#REF!-#REF!)/#REF!)","v":0},{"$f":"IF(ISERROR((#REF!-#REF!)/#REF!),0,(#REF!-#REF!)/#REF!)","v":0},{"$f":"IF(ISERROR((#REF!-#REF!)/#REF!),0,(#REF!-#REF!)/#REF!)","v":0}]
[null,"HC07Z","Intradural Spine Major",0,6201,0,0,20,6201,20,210,"No","-",0,"","",{"$f":"IF(ISERROR((#REF!-#REF!)/#REF!),0,(#REF!-#REF!)/#REF!)","v":0},{"$f":"IF(ISERROR((#REF!-#REF!)/#REF!),0,(#REF!-#REF!)/#REF!)","v":0},{"$f":"IF(ISERROR((#REF!-#REF!)/#REF!),0,(#REF!-#REF!)/#REF!)","v":0},{"$f":"IF(ISERROR((#REF!-#REF!)/#REF!),0,(#REF!-#REF!)/#REF!)","v":0},{"$f":"IF(ISERROR((#REF!-#REF!)/#REF!),0,(#REF!-#REF!)/#REF!)","v":0},{"$f":"IF(ISERROR((#REF!-#REF!)/#REF!),0,(#REF!-#REF!)/#REF!)","v":0},{"$f":"IF(ISERROR((#REF!-#REF!)/#REF!),0,(#REF!-#REF!)/#REF!)","v":0},{"$f":"IF(ISERROR((#REF!-#REF!)/#REF!),0,(#REF!-#REF!)/#REF!)","v":0},{"$f":"IF(ISERROR((#REF!-#REF!)/#REF!),0,(#REF!-#REF!)/#REF!)","v":0},{"$f":"IF(ISERROR((#REF!-#REF!)/#REF!),0,(#REF!-#REF!)/#REF!)","v":0},{"$f":"IF(ISERROR((#REF!-#REF!)/#REF!),0,(#REF!-#REF!)/#REF!)","v":0},{"$f":"IF(ISERROR((#REF!-#REF!)/#REF!),0,(#REF!-#REF!)/#REF!)","v":0},{"$f":"IF(ISERROR((#REF!-#REF!)/#REF!),0,(#REF!-#REF!)/#REF!)","v":0}]
[null,"HC09Z","Intradural Spine Intermediate 2",0,4657,0,0,14,4657,14,210,"No","-",0,"","",{"$f":"IF(ISERROR((#REF!-#REF!)/#REF!),0,(#REF!-#REF!)/#REF!)","v":0},{"$f":"IF(ISERROR((#REF!-#REF!)/#REF!),0,(#REF!-#REF!)/#REF!)","v":0},{"$f":"IF(ISERROR((#REF!-#REF!)/#REF!),0,(#REF!-#REF!)/#REF!)","v":0},{"$f":"IF(ISERROR((#REF!-#REF!)/#REF!),0,(#REF!-#REF!)/#REF!)","v":0},{"$f":"IF(ISERROR((#REF!-#REF!)/#REF!),0,(#REF!-#REF!)/#REF!)","v":0},{"$f":"IF(ISERROR((#REF!-#REF!)/#REF!),0,(#REF!-#REF!)/#REF!)","v":0},{"$f":"IF(ISERROR((#REF!-#REF!)/#REF!),0,(#REF!-#REF!)/#REF!)","v":0},{"$f":"IF(ISERROR((#REF!-#REF!)/#REF!),0,(#REF!-#REF!)/#REF!)","v":0},{"$f":"IF(ISERROR((#REF!-#REF!)/#REF!),0,(#REF!-#REF!)/#REF!)","v":0},{"$f":"IF(ISERROR((#REF!-#REF!)/#REF!),0,(#REF!-#REF!)/#REF!)","v":0},{"$f":"IF(ISERROR((#REF!-#REF!)/#REF!),0,(#REF!-#REF!)/#REF!)","v":0},{"$f":"IF(ISERROR((#REF!-#REF!)/#REF!),0,(#REF!-#REF!)/#REF!)","v":0},{"$f":"IF(ISERROR((#REF!-#REF!)/#REF!),0,(#REF!-#REF!)/#REF!)","v":0}]
[null,"HC10Z","Intradural Spine Intermediate 1",0,3792,0,0,18,3792,18,210,"No","-",0,"","",{"$f":"IF(ISERROR((#REF!-#REF!)/#REF!),0,(#REF!-#REF!)/#REF!)","v":0},{"$f":"IF(ISERROR((#REF!-#REF!)/#REF!),0,(#REF!-#REF!)/#REF!)","v":0},{"$f":"IF(ISERROR((#REF!-#REF!)/#REF!),0,(#REF!-#REF!)/#REF!)","v":0},{"$f":"IF(ISERROR((#REF!-#REF!)/#REF!),0,(#REF!-#REF!)/#REF!)","v":0},{"$f":"IF(ISERROR((#REF!-#REF!)/#REF!),0,(#REF!-#REF!)/#REF!)","v":0},{"$f":"IF(ISERROR((#REF!-#REF!)/#REF!),0,(#REF!-#REF!)/#REF!)","v":0},{"$f":"IF(ISERROR((#REF!-#REF!)/#REF!),0,(#REF!-#REF!)/#REF!)","v":0},{"$f":"IF(ISERROR((#REF!-#REF!)/#REF!),0,(#REF!-#REF!)/#REF!)","v":0},{"$f":"IF(ISERROR((#REF!-#REF!)/#REF!),0,(#REF!-#REF!)/#REF!)","v":0},{"$f":"IF(ISERROR((#REF!-#REF!)/#REF!),0,(#REF!-#REF!)/#REF!)","v":0},{"$f":"IF(ISERROR((#REF!-#REF!)/#REF!),0,(#REF!-#REF!)/#REF!)","v":0},{"$f":"IF(ISERROR((#REF!-#REF!)/#REF!),0,(#REF!-#REF!)/#REF!)","v":0},{"$f":"IF(ISERROR((#REF!-#REF!)/#REF!),0,(#REF!-#REF!)/#REF!)","v":0}]
[null,"HC11Z","Intradural Spine Minor 2",0,3045,0,0,16,3045,16,210,"No","-",0,"","",{"$f":"IF(ISERROR((#REF!-#REF!)/#REF!),0,(#REF!-#REF!)/#REF!)","v":0},{"$f":"IF(ISERROR((#REF!-#REF!)/#REF!),0,(#REF!-#REF!)/#REF!)","v":0},{"$f":"IF(ISERROR((#REF!-#REF!)/#REF!),0,(#REF!-#REF!)/#REF!)","v":0},{"$f":"IF(ISERROR((#REF!-#REF!)/#REF!),0,(#REF!-#REF!)/#REF!)","v":0},{"$f":"IF(ISERROR((#REF!-#REF!)/#REF!),0,(#REF!-#REF!)/#REF!)","v":0},{"$f":"IF(ISERROR((#REF!-#REF!)/#REF!),0,(#REF!-#REF!)/#REF!)","v":0},{"$f":"IF(ISERROR((#REF!-#REF!)/#REF!),0,(#REF!-#REF!)/#REF!)","v":0},{"$f":"IF(ISERROR((#REF!-#REF!)/#REF!),0,(#REF!-#REF!)/#REF!)","v":0},{"$f":"IF(ISERROR((#REF!-#REF!)/#REF!),0,(#REF!-#REF!)/#REF!)","v":0},{"$f":"IF(ISERROR((#REF!-#REF!)/#REF!),0,(#REF!-#REF!)/#REF!)","v":0},{"$f":"IF(ISERROR((#REF!-#REF!)/#REF!),0,(#REF!-#REF!)/#REF!)","v":0},{"$f":"IF(ISERROR((#REF!-#REF!)/#REF!),0,(#REF!-#REF!)/#REF!)","v":0},{"$f":"IF(ISERROR((#REF!-#REF!)/#REF!),0,(#REF!-#REF!)/#REF!)","v":0}]
[null,"HC12Z","Intradural Spine Minor 1",0,596,0,0,5,596,5,210,"No","-",0,"","",{"$f":"IF(ISERROR((#REF!-#REF!)/#REF!),0,(#REF!-#REF!)/#REF!)","v":0},{"$f":"IF(ISERROR((#REF!-#REF!)/#REF!),0,(#REF!-#REF!)/#REF!)","v":0},{"$f":"IF(ISERROR((#REF!-#REF!)/#REF!),0,(#REF!-#REF!)/#REF!)","v":0},{"$f":"IF(ISERROR((#REF!-#REF!)/#REF!),0,(#REF!-#REF!)/#REF!)","v":0},{"$f":"IF(ISERROR((#REF!-#REF!)/#REF!),0,(#REF!-#REF!)/#REF!)","v":0},{"$f":"IF(ISERROR((#REF!-#REF!)/#REF!),0,(#REF!-#REF!)/#REF!)","v":0},{"$f":"IF(ISERROR((#REF!-#REF!)/#REF!),0,(#REF!-#REF!)/#REF!)","v":0},{"$f":"IF(ISERROR((#REF!-#REF!)/#REF!),0,(#REF!-#REF!)/#REF!)","v":0},{"$f":"IF(ISERROR((#REF!-#REF!)/#REF!),0,(#REF!-#REF!)/#REF!)","v":0},{"$f":"IF(ISERROR((#REF!-#REF!)/#REF!),0,(#REF!-#REF!)/#REF!)","v":0},{"$f":"IF(ISERROR((#REF!-#REF!)/#REF!),0,(#REF!-#REF!)/#REF!)","v":0},{"$f":"IF(ISERROR((#REF!-#REF!)/#REF!),0,(#REF!-#REF!)/#REF!)","v":0},{"$f":"IF(ISERROR((#REF!-#REF!)/#REF!),0,(#REF!-#REF!)/#REF!)","v":0}]
[null,"HC20B","Vertebral Column Injury without Procedure, with CC",0,1720,0,0,63,4968.0636506669935,51,210,"Yes",0.30000000000000004,1490.4190952000984,"","",{"$f":"IF(ISERROR((#REF!-#REF!)/#REF!),0,(#REF!-#REF!)/#REF!)","v":0},{"$f":"IF(ISERROR((#REF!-#REF!)/#REF!),0,(#REF!-#REF!)/#REF!)","v":0},{"$f":"IF(ISERROR((#REF!-#REF!)/#REF!),0,(#REF!-#REF!)/#REF!)","v":0},{"$f":"IF(ISERROR((#REF!-#REF!)/#REF!),0,(#REF!-#REF!)/#REF!)","v":0},{"$f":"IF(ISERROR((#REF!-#REF!)/#REF!),0,(#REF!-#REF!)/#REF!)","v":0},{"$f":"IF(ISERROR((#REF!-#REF!)/#REF!),0,(#REF!-#REF!)/#REF!)","v":0},{"$f":"IF(ISERROR((#REF!-#REF!)/#REF!),0,(#REF!-#REF!)/#REF!)","v":0},{"$f":"IF(ISERROR((#REF!-#REF!)/#REF!),0,(#REF!-#REF!)/#REF!)","v":0},{"$f":"IF(ISERROR((#REF!-#REF!)/#REF!),0,(#REF!-#REF!)/#REF!)","v":0},{"$f":"IF(ISERROR((#REF!-#REF!)/#REF!),0,(#REF!-#REF!)/#REF!)","v":0},{"$f":"IF(ISERROR((#REF!-#REF!)/#REF!),0,(#REF!-#REF!)/#REF!)","v":0},{"$f":"IF(ISERROR((#REF!-#REF!)/#REF!),0,(#REF!-#REF!)/#REF!)","v":0},{"$f":"IF(ISERROR((#REF!-#REF!)/#REF!),0,(#REF!-#REF!)/#REF!)","v":0}]
[null,"HC20C","Vertebral Column Injury without Procedure, without CC",0,332,0,0,61,2315.528828905371,21,210,"Yes",0.30000000000000004,694.65864867161145,"","",{"$f":"IF(ISERROR((#REF!-#REF!)/#REF!),0,(#REF!-#REF!)/#REF!)","v":0},{"$f":"IF(ISERROR((#REF!-#REF!)/#REF!),0,(#REF!-#REF!)/#REF!)","v":0},{"$f":"IF(ISERROR((#REF!-#REF!)/#REF!),0,(#REF!-#REF!)/#REF!)","v":0},{"$f":"IF(ISERROR((#REF!-#REF!)/#REF!),0,(#REF!-#REF!)/#REF!)","v":0},{"$f":"IF(ISERROR((#REF!-#REF!)/#REF!),0,(#REF!-#REF!)/#REF!)","v":0},{"$f":"IF(ISERROR((#REF!-#REF!)/#REF!),0,(#REF!-#REF!)/#REF!)","v":0},{"$f":"IF(ISERROR((#REF!-#REF!)/#REF!),0,(#REF!-#REF!)/#REF!)","v":0},{"$f":"IF(ISERROR((#REF!-#REF!)/#REF!),0,(#REF!-#REF!)/#REF!)","v":0},{"$f":"IF(ISERROR((#REF!-#REF!)/#REF!),0,(#REF!-#REF!)/#REF!)","v":0},{"$f":"IF(ISERROR((#REF!-#REF!)/#REF!),0,(#REF!-#REF!)/#REF!)","v":0},{"$f":"IF(ISERROR((#REF!-#REF!)/#REF!),0,(#REF!-#REF!)/#REF!)","v":0},{"$f":"IF(ISERROR((#REF!-#REF!)/#REF!),0,(#REF!-#REF!)/#REF!)","v":0},{"$f":"IF(ISERROR((#REF!-#REF!)/#REF!),0,(#REF!-#REF!)/#REF!)","v":0}]
[null,"HC21B","Spinal Cord Injury without Procedure, with CC",0,4995,0,0,205,12233,192,210,"Yes",0.30000000000000004,3669.9000000000005,"","",{"$f":"IF(ISERROR((#REF!-#REF!)/#REF!),0,(#REF!-#REF!)/#REF!)","v":0},{"$f":"IF(ISERROR((#REF!-#REF!)/#REF!),0,(#REF!-#REF!)/#REF!)","v":0},{"$f":"IF(ISERROR((#REF!-#REF!)/#REF!),0,(#REF!-#REF!)/#REF!)","v":0},{"$f":"IF(ISERROR((#REF!-#REF!)/#REF!),0,(#REF!-#REF!)/#REF!)","v":0},{"$f":"IF(ISERROR((#REF!-#REF!)/#REF!),0,(#REF!-#REF!)/#REF!)","v":0},{"$f":"IF(ISERROR((#REF!-#REF!)/#REF!),0,(#REF!-#REF!)/#REF!)","v":0},{"$f":"IF(ISERROR((#REF!-#REF!)/#REF!),0,(#REF!-#REF!)/#REF!)","v":0},{"$f":"IF(ISERROR((#REF!-#REF!)/#REF!),0,(#REF!-#REF!)/#REF!)","v":0},{"$f":"IF(ISERROR((#REF!-#REF!)/#REF!),0,(#REF!-#REF!)/#REF!)","v":0},{"$f":"IF(ISERROR((#REF!-#REF!)/#REF!),0,(#REF!-#REF!)/#REF!)","v":0},{"$f":"IF(ISERROR((#REF!-#REF!)/#REF!),0,(#REF!-#REF!)/#REF!)","v":0},{"$f":"IF(ISERROR((#REF!-#REF!)/#REF!),0,(#REF!-#REF!)/#REF!)","v":0},{"$f":"IF(ISERROR((#REF!-#REF!)/#REF!),0,(#REF!-#REF!)/#REF!)","v":0}]
[null,"HC21C","Spinal Cord Injury without Procedure, without CC",0,3022,0,0,38,12233,34,210,"Yes",0.30000000000000004,3669.9000000000005,"","",{"$f":"IF(ISERROR((#REF!-#REF!)/#REF!),0,(#REF!-#REF!)/#REF!)","v":0},{"$f":"IF(ISERROR((#REF!-#REF!)/#REF!),0,(#REF!-#REF!)/#REF!)","v":0},{"$f":"IF(ISERROR((#REF!-#REF!)/#REF!),0,(#REF!-#REF!)/#REF!)","v":0},{"$f":"IF(ISERROR((#REF!-#REF!)/#REF!),0,(#REF!-#REF!)/#REF!)","v":0},{"$f":"IF(ISERROR((#REF!-#REF!)/#REF!),0,(#REF!-#REF!)/#REF!)","v":0},{"$f":"IF(ISERROR((#REF!-#REF!)/#REF!),0,(#REF!-#REF!)/#REF!)","v":0},{"$f":"IF(ISERROR((#REF!-#REF!)/#REF!),0,(#REF!-#REF!)/#REF!)","v":0},{"$f":"IF(ISERROR((#REF!-#REF!)/#REF!),0,(#REF!-#REF!)/#REF!)","v":0},{"$f":"IF(ISERROR((#REF!-#REF!)/#REF!),0,(#REF!-#REF!)/#REF!)","v":0},{"$f":"IF(ISERROR((#REF!-#REF!)/#REF!),0,(#REF!-#REF!)/#REF!)","v":0},{"$f":"IF(ISERROR((#REF!-#REF!)/#REF!),0,(#REF!-#REF!)/#REF!)","v":0},{"$f":"IF(ISERROR((#REF!-#REF!)/#REF!),0,(#REF!-#REF!)/#REF!)","v":0},{"$f":"IF(ISERROR((#REF!-#REF!)/#REF!),0,(#REF!-#REF!)/#REF!)","v":0}]
[null,"HC26B","Scoliosis or Other Spinal Deformity, with CC",0,1493,0,0,5,2708,32,210,"Yes",0.30000000000000004,812.40000000000009,"","",{"$f":"IF(ISERROR((#REF!-#REF!)/#REF!),0,(#REF!-#REF!)/#REF!)","v":0},{"$f":"IF(ISERROR((#REF!-#REF!)/#REF!),0,(#REF!-#REF!)/#REF!)","v":0},{"$f":"IF(ISERROR((#REF!-#REF!)/#REF!),0,(#REF!-#REF!)/#REF!)","v":0},{"$f":"IF(ISERROR((#REF!-#REF!)/#REF!),0,(#REF!-#REF!)/#REF!)","v":0},{"$f":"IF(ISERROR((#REF!-#REF!)/#REF!),0,(#REF!-#REF!)/#REF!)","v":0},{"$f":"IF(ISERROR((#REF!-#REF!)/#REF!),0,(#REF!-#REF!)/#REF!)","v":0},{"$f":"IF(ISERROR((#REF!-#REF!)/#REF!),0,(#REF!-#REF!)/#REF!)","v":0},{"$f":"IF(ISERROR((#REF!-#REF!)/#REF!),0,(#REF!-#REF!)/#REF!)","v":0},{"$f":"IF(ISERROR((#REF!-#REF!)/#REF!),0,(#REF!-#REF!)/#REF!)","v":0},{"$f":"IF(ISERROR((#REF!-#REF!)/#REF!),0,(#REF!-#REF!)/#REF!)","v":0},{"$f":"IF(ISERROR((#REF!-#REF!)/#REF!),0,(#REF!-#REF!)/#REF!)","v":0},{"$f":"IF(ISERROR((#REF!-#REF!)/#REF!),0,(#REF!-#REF!)/#REF!)","v":0},{"$f":"IF(ISERROR((#REF!-#REF!)/#REF!),0,(#REF!-#REF!)/#REF!)","v":0}]
[null,"HC26C","Scoliosis or Other Spinal Deformity, without CC",0,659,0,0,5,3597.2168328573143,20,210,"Yes",0.30000000000000004,1079.1650498571944,"","",{"$f":"IF(ISERROR((#REF!-#REF!)/#REF!),0,(#REF!-#REF!)/#REF!)","v":0},{"$f":"IF(ISERROR((#REF!-#REF!)/#REF!),0,(#REF!-#REF!)/#REF!)","v":0},{"$f":"IF(ISERROR((#REF!-#REF!)/#REF!),0,(#REF!-#REF!)/#REF!)","v":0},{"$f":"IF(ISERROR((#REF!-#REF!)/#REF!),0,(#REF!-#REF!)/#REF!)","v":0},{"$f":"IF(ISERROR((#REF!-#REF!)/#REF!),0,(#REF!-#REF!)/#REF!)","v":0},{"$f":"IF(ISERROR((#REF!-#REF!)/#REF!),0,(#REF!-#REF!)/#REF!)","v":0},{"$f":"IF(ISERROR((#REF!-#REF!)/#REF!),0,(#REF!-#REF!)/#REF!)","v":0},{"$f":"IF(ISERROR((#REF!-#REF!)/#REF!),0,(#REF!-#REF!)/#REF!)","v":0},{"$f":"IF(ISERROR((#REF!-#REF!)/#REF!),0,(#REF!-#REF!)/#REF!)","v":0},{"$f":"IF(ISERROR((#REF!-#REF!)/#REF!),0,(#REF!-#REF!)/#REF!)","v":0},{"$f":"IF(ISERROR((#REF!-#REF!)/#REF!),0,(#REF!-#REF!)/#REF!)","v":0},{"$f":"IF(ISERROR((#REF!-#REF!)/#REF!),0,(#REF!-#REF!)/#REF!)","v":0},{"$f":"IF(ISERROR((#REF!-#REF!)/#REF!),0,(#REF!-#REF!)/#REF!)","v":0}]
[null,"HC27B","Degenerative Spinal Conditions with CC",0,949,0,0,5,3359.0496104825124,24,210,"Yes",0.30000000000000004,1007.7148831447539,"","",{"$f":"IF(ISERROR((#REF!-#REF!)/#REF!),0,(#REF!-#REF!)/#REF!)","v":0},{"$f":"IF(ISERROR((#REF!-#REF!)/#REF!),0,(#REF!-#REF!)/#REF!)","v":0},{"$f":"IF(ISERROR((#REF!-#REF!)/#REF!),0,(#REF!-#REF!)/#REF!)","v":0},{"$f":"IF(ISERROR((#REF!-#REF!)/#REF!),0,(#REF!-#REF!)/#REF!)","v":0},{"$f":"IF(ISERROR((#REF!-#REF!)/#REF!),0,(#REF!-#REF!)/#REF!)","v":0},{"$f":"IF(ISERROR((#REF!-#REF!)/#REF!),0,(#REF!-#REF!)/#REF!)","v":0},{"$f":"IF(ISERROR((#REF!-#REF!)/#REF!),0,(#REF!-#REF!)/#REF!)","v":0},{"$f":"IF(ISERROR((#REF!-#REF!)/#REF!),0,(#REF!-#REF!)/#REF!)","v":0},{"$f":"IF(ISERROR((#REF!-#REF!)/#REF!),0,(#REF!-#REF!)/#REF!)","v":0},{"$f":"IF(ISERROR((#REF!-#REF!)/#REF!),0,(#REF!-#REF!)/#REF!)","v":0},{"$f":"IF(ISERROR((#REF!-#REF!)/#REF!),0,(#REF!-#REF!)/#REF!)","v":0},{"$f":"IF(ISERROR((#REF!-#REF!)/#REF!),0,(#REF!-#REF!)/#REF!)","v":0},{"$f":"IF(ISERROR((#REF!-#REF!)/#REF!),0,(#REF!-#REF!)/#REF!)","v":0}]
[null,"HC27C","Degenerative Spinal Conditions without CC",0,697,0,0,5,1791.8609558360142,8,210,"Yes",0.4,716.74438233440571,"","",{"$f":"IF(ISERROR((#REF!-#REF!)/#REF!),0,(#REF!-#REF!)/#REF!)","v":0},{"$f":"IF(ISERROR((#REF!-#REF!)/#REF!),0,(#REF!-#REF!)/#REF!)","v":0},{"$f":"IF(ISERROR((#REF!-#REF!)/#REF!),0,(#REF!-#REF!)/#REF!)","v":0},{"$f":"IF(ISERROR((#REF!-#REF!)/#REF!),0,(#REF!-#REF!)/#REF!)","v":0},{"$f":"IF(ISERROR((#REF!-#REF!)/#REF!),0,(#REF!-#REF!)/#REF!)","v":0},{"$f":"IF(ISERROR((#REF!-#REF!)/#REF!),0,(#REF!-#REF!)/#REF!)","v":0},{"$f":"IF(ISERROR((#REF!-#REF!)/#REF!),0,(#REF!-#REF!)/#REF!)","v":0},{"$f":"IF(ISERROR((#REF!-#REF!)/#REF!),0,(#REF!-#REF!)/#REF!)","v":0},{"$f":"IF(ISERROR((#REF!-#REF!)/#REF!),0,(#REF!-#REF!)/#REF!)","v":0},{"$f":"IF(ISERROR((#REF!-#REF!)/#REF!),0,(#REF!-#REF!)/#REF!)","v":0},{"$f":"IF(ISERROR((#REF!-#REF!)/#REF!),0,(#REF!-#REF!)/#REF!)","v":0},{"$f":"IF(ISERROR((#REF!-#REF!)/#REF!),0,(#REF!-#REF!)/#REF!)","v":0},{"$f":"IF(ISERROR((#REF!-#REF!)/#REF!),0,(#REF!-#REF!)/#REF!)","v":0}]
[null,"HC28B","Spinal Cord Conditions with CC",0,2658,0,0,33,6478,52,210,"Yes",0.30000000000000004,1943.4000000000003,"","",{"$f":"IF(ISERROR((#REF!-#REF!)/#REF!),0,(#REF!-#REF!)/#REF!)","v":0},{"$f":"IF(ISERROR((#REF!-#REF!)/#REF!),0,(#REF!-#REF!)/#REF!)","v":0},{"$f":"IF(ISERROR((#REF!-#REF!)/#REF!),0,(#REF!-#REF!)/#REF!)","v":0},{"$f":"IF(ISERROR((#REF!-#REF!)/#REF!),0,(#REF!-#REF!)/#REF!)","v":0},{"$f":"IF(ISERROR((#REF!-#REF!)/#REF!),0,(#REF!-#REF!)/#REF!)","v":0},{"$f":"IF(ISERROR((#REF!-#REF!)/#REF!),0,(#REF!-#REF!)/#REF!)","v":0},{"$f":"IF(ISERROR((#REF!-#REF!)/#REF!),0,(#REF!-#REF!)/#REF!)","v":0},{"$f":"IF(ISERROR((#REF!-#REF!)/#REF!),0,(#REF!-#REF!)/#REF!)","v":0},{"$f":"IF(ISERROR((#REF!-#REF!)/#REF!),0,(#REF!-#REF!)/#REF!)","v":0},{"$f":"IF(ISERROR((#REF!-#REF!)/#REF!),0,(#REF!-#REF!)/#REF!)","v":0},{"$f":"IF(ISERROR((#REF!-#REF!)/#REF!),0,(#REF!-#REF!)/#REF!)","v":0},{"$f":"IF(ISERROR((#REF!-#REF!)/#REF!),0,(#REF!-#REF!)/#REF!)","v":0},{"$f":"IF(ISERROR((#REF!-#REF!)/#REF!),0,(#REF!-#REF!)/#REF!)","v":0}]
[null,"HC28C","Spinal Cord Conditions without CC",0,1881,0,0,5,3428,30,210,"Yes",0.30000000000000004,1028.4000000000001,"","",{"$f":"IF(ISERROR((#REF!-#REF!)/#REF!),0,(#REF!-#REF!)/#REF!)","v":0},{"$f":"IF(ISERROR((#REF!-#REF!)/#REF!),0,(#REF!-#REF!)/#REF!)","v":0},{"$f":"IF(ISERROR((#REF!-#REF!)/#REF!),0,(#REF!-#REF!)/#REF!)","v":0},{"$f":"IF(ISERROR((#REF!-#REF!)/#REF!),0,(#REF!-#REF!)/#REF!)","v":0},{"$f":"IF(ISERROR((#REF!-#REF!)/#REF!),0,(#REF!-#REF!)/#REF!)","v":0},{"$f":"IF(ISERROR((#REF!-#REF!)/#REF!),0,(#REF!-#REF!)/#REF!)","v":0},{"$f":"IF(ISERROR((#REF!-#REF!)/#REF!),0,(#REF!-#REF!)/#REF!)","v":0},{"$f":"IF(ISERROR((#REF!-#REF!)/#REF!),0,(#REF!-#REF!)/#REF!)","v":0},{"$f":"IF(ISERROR((#REF!-#REF!)/#REF!),0,(#REF!-#REF!)/#REF!)","v":0},{"$f":"IF(ISERROR((#REF!-#REF!)/#REF!),0,(#REF!-#REF!)/#REF!)","v":0},{"$f":"IF(ISERROR((#REF!-#REF!)/#REF!),0,(#REF!-#REF!)/#REF!)","v":0},{"$f":"IF(ISERROR((#REF!-#REF!)/#REF!),0,(#REF!-#REF!)/#REF!)","v":0},{"$f":"IF(ISERROR((#REF!-#REF!)/#REF!),0,(#REF!-#REF!)/#REF!)","v":0}]
[null,"HC29Z","Inflammatory Spinal Conditions",0,364,0,0,5,1266.0311076709261,5,210,"Yes",0.65,822.92021998610198,"","",{"$f":"IF(ISERROR((#REF!-#REF!)/#REF!),0,(#REF!-#REF!)/#REF!)","v":0},{"$f":"IF(ISERROR((#REF!-#REF!)/#REF!),0,(#REF!-#REF!)/#REF!)","v":0},{"$f":"IF(ISERROR((#REF!-#REF!)/#REF!),0,(#REF!-#REF!)/#REF!)","v":0},{"$f":"IF(ISERROR((#REF!-#REF!)/#REF!),0,(#REF!-#REF!)/#REF!)","v":0},{"$f":"IF(ISERROR((#REF!-#REF!)/#REF!),0,(#REF!-#REF!)/#REF!)","v":0},{"$f":"IF(ISERROR((#REF!-#REF!)/#REF!),0,(#REF!-#REF!)/#REF!)","v":0},{"$f":"IF(ISERROR((#REF!-#REF!)/#REF!),0,(#REF!-#REF!)/#REF!)","v":0},{"$f":"IF(ISERROR((#REF!-#REF!)/#REF!),0,(#REF!-#REF!)/#REF!)","v":0},{"$f":"IF(ISERROR((#REF!-#REF!)/#REF!),0,(#REF!-#REF!)/#REF!)","v":0},{"$f":"IF(ISERROR((#REF!-#REF!)/#REF!),0,(#REF!-#REF!)/#REF!)","v":0},{"$f":"IF(ISERROR((#REF!-#REF!)/#REF!),0,(#REF!-#REF!)/#REF!)","v":0},{"$f":"IF(ISERROR((#REF!-#REF!)/#REF!),0,(#REF!-#REF!)/#REF!)","v":0},{"$f":"IF(ISERROR((#REF!-#REF!)/#REF!),0,(#REF!-#REF!)/#REF!)","v":0}]
[null,"HC30B","Spinal Tumours with CC",0,6718,0,0,50,6718,50,210,"Yes",0.30000000000000004,2015.4000000000003,"","",{"$f":"IF(ISERROR((#REF!-#REF!)/#REF!),0,(#REF!-#REF!)/#REF!)","v":0},{"$f":"IF(ISERROR((#REF!-#REF!)/#REF!),0,(#REF!-#REF!)/#REF!)","v":0},{"$f":"IF(ISERROR((#REF!-#REF!)/#REF!),0,(#REF!-#REF!)/#REF!)","v":0},{"$f":"IF(ISERROR((#REF!-#REF!)/#REF!),0,(#REF!-#REF!)/#REF!)","v":0},{"$f":"IF(ISERROR((#REF!-#REF!)/#REF!),0,(#REF!-#REF!)/#REF!)","v":0},{"$f":"IF(ISERROR((#REF!-#REF!)/#REF!),0,(#REF!-#REF!)/#REF!)","v":0},{"$f":"IF(ISERROR((#REF!-#REF!)/#REF!),0,(#REF!-#REF!)/#REF!)","v":0},{"$f":"IF(ISERROR((#REF!-#REF!)/#REF!),0,(#REF!-#REF!)/#REF!)","v":0},{"$f":"IF(ISERROR((#REF!-#REF!)/#REF!),0,(#REF!-#REF!)/#REF!)","v":0},{"$f":"IF(ISERROR((#REF!-#REF!)/#REF!),0,(#REF!-#REF!)/#REF!)","v":0},{"$f":"IF(ISERROR((#REF!-#REF!)/#REF!),0,(#REF!-#REF!)/#REF!)","v":0},{"$f":"IF(ISERROR((#REF!-#REF!)/#REF!),0,(#REF!-#REF!)/#REF!)","v":0},{"$f":"IF(ISERROR((#REF!-#REF!)/#REF!),0,(#REF!-#REF!)/#REF!)","v":0}]
[null,"HC30C","Spinal Tumours without CC",0,2103,0,0,10,3026,37,210,"Yes",0.30000000000000004,907.80000000000018,"","",{"$f":"IF(ISERROR((#REF!-#REF!)/#REF!),0,(#REF!-#REF!)/#REF!)","v":0},{"$f":"IF(ISERROR((#REF!-#REF!)/#REF!),0,(#REF!-#REF!)/#REF!)","v":0},{"$f":"IF(ISERROR((#REF!-#REF!)/#REF!),0,(#REF!-#REF!)/#REF!)","v":0},{"$f":"IF(ISERROR((#REF!-#REF!)/#REF!),0,(#REF!-#REF!)/#REF!)","v":0},{"$f":"IF(ISERROR((#REF!-#REF!)/#REF!),0,(#REF!-#REF!)/#REF!)","v":0},{"$f":"IF(ISERROR((#REF!-#REF!)/#REF!),0,(#REF!-#REF!)/#REF!)","v":0},{"$f":"IF(ISERROR((#REF!-#REF!)/#REF!),0,(#REF!-#REF!)/#REF!)","v":0},{"$f":"IF(ISERROR((#REF!-#REF!)/#REF!),0,(#REF!-#REF!)/#REF!)","v":0},{"$f":"IF(ISERROR((#REF!-#REF!)/#REF!),0,(#REF!-#REF!)/#REF!)","v":0},{"$f":"IF(ISERROR((#REF!-#REF!)/#REF!),0,(#REF!-#REF!)/#REF!)","v":0},{"$f":"IF(ISERROR((#REF!-#REF!)/#REF!),0,(#REF!-#REF!)/#REF!)","v":0},{"$f":"IF(ISERROR((#REF!-#REF!)/#REF!),0,(#REF!-#REF!)/#REF!)","v":0},{"$f":"IF(ISERROR((#REF!-#REF!)/#REF!),0,(#REF!-#REF!)/#REF!)","v":0}]
[null,"HC31B","Spinal Infection with CC",0,2092,0,0,5,6783,100,210,"Yes",0.30000000000000004,2034.9000000000003,"","",{"$f":"IF(ISERROR((#REF!-#REF!)/#REF!),0,(#REF!-#REF!)/#REF!)","v":0},{"$f":"IF(ISERROR((#REF!-#REF!)/#REF!),0,(#REF!-#REF!)/#REF!)","v":0},{"$f":"IF(ISERROR((#REF!-#REF!)/#REF!),0,(#REF!-#REF!)/#REF!)","v":0},{"$f":"IF(ISERROR((#REF!-#REF!)/#REF!),0,(#REF!-#REF!)/#REF!)","v":0},{"$f":"IF(ISERROR((#REF!-#REF!)/#REF!),0,(#REF!-#REF!)/#REF!)","v":0},{"$f":"IF(ISERROR((#REF!-#REF!)/#REF!),0,(#REF!-#REF!)/#REF!)","v":0},{"$f":"IF(ISERROR((#REF!-#REF!)/#REF!),0,(#REF!-#REF!)/#REF!)","v":0},{"$f":"IF(ISERROR((#REF!-#REF!)/#REF!),0,(#REF!-#REF!)/#REF!)","v":0},{"$f":"IF(ISERROR((#REF!-#REF!)/#REF!),0,(#REF!-#REF!)/#REF!)","v":0},{"$f":"IF(ISERROR((#REF!-#REF!)/#REF!),0,(#REF!-#REF!)/#REF!)","v":0},{"$f":"IF(ISERROR((#REF!-#REF!)/#REF!),0,(#REF!-#REF!)/#REF!)","v":0},{"$f":"IF(ISERROR((#REF!-#REF!)/#REF!),0,(#REF!-#REF!)/#REF!)","v":0},{"$f":"IF(ISERROR((#REF!-#REF!)/#REF!),0,(#REF!-#REF!)/#REF!)","v":0}]
[null,"HC31C","Spinal Infection without CC",0,491,0,0,5,4633,56,210,"Yes",0.30000000000000004,1389.9000000000003,"","",{"$f":"IF(ISERROR((#REF!-#REF!)/#REF!),0,(#REF!-#REF!)/#REF!)","v":0},{"$f":"IF(ISERROR((#REF!-#REF!)/#REF!),0,(#REF!-#REF!)/#REF!)","v":0},{"$f":"IF(ISERROR((#REF!-#REF!)/#REF!),0,(#REF!-#REF!)/#REF!)","v":0},{"$f":"IF(ISERROR((#REF!-#REF!)/#REF!),0,(#REF!-#REF!)/#REF!)","v":0},{"$f":"IF(ISERROR((#REF!-#REF!)/#REF!),0,(#REF!-#REF!)/#REF!)","v":0},{"$f":"IF(ISERROR((#REF!-#REF!)/#REF!),0,(#REF!-#REF!)/#REF!)","v":0},{"$f":"IF(ISERROR((#REF!-#REF!)/#REF!),0,(#REF!-#REF!)/#REF!)","v":0},{"$f":"IF(ISERROR((#REF!-#REF!)/#REF!),0,(#REF!-#REF!)/#REF!)","v":0},{"$f":"IF(ISERROR((#REF!-#REF!)/#REF!),0,(#REF!-#REF!)/#REF!)","v":0},{"$f":"IF(ISERROR((#REF!-#REF!)/#REF!),0,(#REF!-#REF!)/#REF!)","v":0},{"$f":"IF(ISERROR((#REF!-#REF!)/#REF!),0,(#REF!-#REF!)/#REF!)","v":0},{"$f":"IF(ISERROR((#REF!-#REF!)/#REF!),0,(#REF!-#REF!)/#REF!)","v":0},{"$f":"IF(ISERROR((#REF!-#REF!)/#REF!),0,(#REF!-#REF!)/#REF!)","v":0}]
[null,"HC32B","Low Back Pain with CC",0,552,0,0,5,1250,24,210,"Yes",0.30000000000000004,375.00000000000006,"","",{"$f":"IF(ISERROR((#REF!-#REF!)/#REF!),0,(#REF!-#REF!)/#REF!)","v":0},{"$f":"IF(ISERROR((#REF!-#REF!)/#REF!),0,(#REF!-#REF!)/#REF!)","v":0},{"$f":"IF(ISERROR((#REF!-#REF!)/#REF!),0,(#REF!-#REF!)/#REF!)","v":0},{"$f":"IF(ISERROR((#REF!-#REF!)/#REF!),0,(#REF!-#REF!)/#REF!)","v":0},{"$f":"IF(ISERROR((#REF!-#REF!)/#REF!),0,(#REF!-#REF!)/#REF!)","v":0},{"$f":"IF(ISERROR((#REF!-#REF!)/#REF!),0,(#REF!-#REF!)/#REF!)","v":0},{"$f":"IF(ISERROR((#REF!-#REF!)/#REF!),0,(#REF!-#REF!)/#REF!)","v":0},{"$f":"IF(ISERROR((#REF!-#REF!)/#REF!),0,(#REF!-#REF!)/#REF!)","v":0},{"$f":"IF(ISERROR((#REF!-#REF!)/#REF!),0,(#REF!-#REF!)/#REF!)","v":0},{"$f":"IF(ISERROR((#REF!-#REF!)/#REF!),0,(#REF!-#REF!)/#REF!)","v":0},{"$f":"IF(ISERROR((#REF!-#REF!)/#REF!),0,(#REF!-#REF!)/#REF!)","v":0},{"$f":"IF(ISERROR((#REF!-#REF!)/#REF!),0,(#REF!-#REF!)/#REF!)","v":0},{"$f":"IF(ISERROR((#REF!-#REF!)/#REF!),0,(#REF!-#REF!)/#REF!)","v":0}]
[null,"HC32C","Low Back Pain without CC",0,505,0,0,5,802,8,210,"Yes",0.65,521.30000000000007,"","",{"$f":"IF(ISERROR((#REF!-#REF!)/#REF!),0,(#REF!-#REF!)/#REF!)","v":0},{"$f":"IF(ISERROR((#REF!-#REF!)/#REF!),0,(#REF!-#REF!)/#REF!)","v":0},{"$f":"IF(ISERROR((#REF!-#REF!)/#REF!),0,(#REF!-#REF!)/#REF!)","v":0},{"$f":"IF(ISERROR((#REF!-#REF!)/#REF!),0,(#REF!-#REF!)/#REF!)","v":0},{"$f":"IF(ISERROR((#REF!-#REF!)/#REF!),0,(#REF!-#REF!)/#REF!)","v":0},{"$f":"IF(ISERROR((#REF!-#REF!)/#REF!),0,(#REF!-#REF!)/#REF!)","v":0},{"$f":"IF(ISERROR((#REF!-#REF!)/#REF!),0,(#REF!-#REF!)/#REF!)","v":0},{"$f":"IF(ISERROR((#REF!-#REF!)/#REF!),0,(#REF!-#REF!)/#REF!)","v":0},{"$f":"IF(ISERROR((#REF!-#REF!)/#REF!),0,(#REF!-#REF!)/#REF!)","v":0},{"$f":"IF(ISERROR((#REF!-#REF!)/#REF!),0,(#REF!-#REF!)/#REF!)","v":0},{"$f":"IF(ISERROR((#REF!-#REF!)/#REF!),0,(#REF!-#REF!)/#REF!)","v":0},{"$f":"IF(ISERROR((#REF!-#REF!)/#REF!),0,(#REF!-#REF!)/#REF!)","v":0},{"$f":"IF(ISERROR((#REF!-#REF!)/#REF!),0,(#REF!-#REF!)/#REF!)","v":0}]
[null,"HD21A","Soft Tissue Disorders with Major CC",0,1403,0,0,10,1987,15,210,"Yes",0.30000000000000004,596.10000000000014,"","",{"$f":"IF(ISERROR((#REF!-#REF!)/#REF!),0,(#REF!-#REF!)/#REF!)","v":0},{"$f":"IF(ISERROR((#REF!-#REF!)/#REF!),0,(#REF!-#REF!)/#REF!)","v":0},{"$f":"IF(ISERROR((#REF!-#REF!)/#REF!),0,(#REF!-#REF!)/#REF!)","v":0},{"$f":"IF(ISERROR((#REF!-#REF!)/#REF!),0,(#REF!-#REF!)/#REF!)","v":0},{"$f":"IF(ISERROR((#REF!-#REF!)/#REF!),0,(#REF!-#REF!)/#REF!)","v":0},{"$f":"IF(ISERROR((#REF!-#REF!)/#REF!),0,(#REF!-#REF!)/#REF!)","v":0},{"$f":"IF(ISERROR((#REF!-#REF!)/#REF!),0,(#REF!-#REF!)/#REF!)","v":0},{"$f":"IF(ISERROR((#REF!-#REF!)/#REF!),0,(#REF!-#REF!)/#REF!)","v":0},{"$f":"IF(ISERROR((#REF!-#REF!)/#REF!),0,(#REF!-#REF!)/#REF!)","v":0},{"$f":"IF(ISERROR((#REF!-#REF!)/#REF!),0,(#REF!-#REF!)/#REF!)","v":0},{"$f":"IF(ISERROR((#REF!-#REF!)/#REF!),0,(#REF!-#REF!)/#REF!)","v":0},{"$f":"IF(ISERROR((#REF!-#REF!)/#REF!),0,(#REF!-#REF!)/#REF!)","v":0},{"$f":"IF(ISERROR((#REF!-#REF!)/#REF!),0,(#REF!-#REF!)/#REF!)","v":0}]
[null,"HD21B","Soft Tissue Disorders with Intermediate CC",0,504,0,0,5,434,5,210,"Yes",1,434,"","",{"$f":"IF(ISERROR((#REF!-#REF!)/#REF!),0,(#REF!-#REF!)/#REF!)","v":0},{"$f":"IF(ISERROR((#REF!-#REF!)/#REF!),0,(#REF!-#REF!)/#REF!)","v":0},{"$f":"IF(ISERROR((#REF!-#REF!)/#REF!),0,(#REF!-#REF!)/#REF!)","v":0},{"$f":"IF(ISERROR((#REF!-#REF!)/#REF!),0,(#REF!-#REF!)/#REF!)","v":0},{"$f":"IF(ISERROR((#REF!-#REF!)/#REF!),0,(#REF!-#REF!)/#REF!)","v":0},{"$f":"IF(ISERROR((#REF!-#REF!)/#REF!),0,(#REF!-#REF!)/#REF!)","v":0},{"$f":"IF(ISERROR((#REF!-#REF!)/#REF!),0,(#REF!-#REF!)/#REF!)","v":0},{"$f":"IF(ISERROR((#REF!-#REF!)/#REF!),0,(#REF!-#REF!)/#REF!)","v":0},{"$f":"IF(ISERROR((#REF!-#REF!)/#REF!),0,(#REF!-#REF!)/#REF!)","v":0},{"$f":"IF(ISERROR((#REF!-#REF!)/#REF!),0,(#REF!-#REF!)/#REF!)","v":0},{"$f":"IF(ISERROR((#REF!-#REF!)/#REF!),0,(#REF!-#REF!)/#REF!)","v":0},{"$f":"IF(ISERROR((#REF!-#REF!)/#REF!),0,(#REF!-#REF!)/#REF!)","v":0},{"$f":"IF(ISERROR((#REF!-#REF!)/#REF!),0,(#REF!-#REF!)/#REF!)","v":0}]
[null,"HD21C","Soft Tissue Disorders without CC",0,450,0,0,5,345,5,210,"Yes",1,345,"","",{"$f":"IF(ISERROR((#REF!-#REF!)/#REF!),0,(#REF!-#REF!)/#REF!)","v":0},{"$f":"IF(ISERROR((#REF!-#REF!)/#REF!),0,(#REF!-#REF!)/#REF!)","v":0},{"$f":"IF(ISERROR((#REF!-#REF!)/#REF!),0,(#REF!-#REF!)/#REF!)","v":0},{"$f":"IF(ISERROR((#REF!-#REF!)/#REF!),0,(#REF!-#REF!)/#REF!)","v":0},{"$f":"IF(ISERROR((#REF!-#REF!)/#REF!),0,(#REF!-#REF!)/#REF!)","v":0},{"$f":"IF(ISERROR((#REF!-#REF!)/#REF!),0,(#REF!-#REF!)/#REF!)","v":0},{"$f":"IF(ISERROR((#REF!-#REF!)/#REF!),0,(#REF!-#REF!)/#REF!)","v":0},{"$f":"IF(ISERROR((#REF!-#REF!)/#REF!),0,(#REF!-#REF!)/#REF!)","v":0},{"$f":"IF(ISERROR((#REF!-#REF!)/#REF!),0,(#REF!-#REF!)/#REF!)","v":0},{"$f":"IF(ISERROR((#REF!-#REF!)/#REF!),0,(#REF!-#REF!)/#REF!)","v":0},{"$f":"IF(ISERROR((#REF!-#REF!)/#REF!),0,(#REF!-#REF!)/#REF!)","v":0},{"$f":"IF(ISERROR((#REF!-#REF!)/#REF!),0,(#REF!-#REF!)/#REF!)","v":0},{"$f":"IF(ISERROR((#REF!-#REF!)/#REF!),0,(#REF!-#REF!)/#REF!)","v":0}]
[null,"HD23A","Inflammatory Spine, Joint or Connective Tissue Disorders, with Major CC",0,1458,0,0,10,3285,32,210,"Yes",0.30000000000000004,985.50000000000011,"","",{"$f":"IF(ISERROR((#REF!-#REF!)/#REF!),0,(#REF!-#REF!)/#REF!)","v":0},{"$f":"IF(ISERROR((#REF!-#REF!)/#REF!),0,(#REF!-#REF!)/#REF!)","v":0},{"$f":"IF(ISERROR((#REF!-#REF!)/#REF!),0,(#REF!-#REF!)/#REF!)","v":0},{"$f":"IF(ISERROR((#REF!-#REF!)/#REF!),0,(#REF!-#REF!)/#REF!)","v":0},{"$f":"IF(ISERROR((#REF!-#REF!)/#REF!),0,(#REF!-#REF!)/#REF!)","v":0},{"$f":"IF(ISERROR((#REF!-#REF!)/#REF!),0,(#REF!-#REF!)/#REF!)","v":0},{"$f":"IF(ISERROR((#REF!-#REF!)/#REF!),0,(#REF!-#REF!)/#REF!)","v":0},{"$f":"IF(ISERROR((#REF!-#REF!)/#REF!),0,(#REF!-#REF!)/#REF!)","v":0},{"$f":"IF(ISERROR((#REF!-#REF!)/#REF!),0,(#REF!-#REF!)/#REF!)","v":0},{"$f":"IF(ISERROR((#REF!-#REF!)/#REF!),0,(#REF!-#REF!)/#REF!)","v":0},{"$f":"IF(ISERROR((#REF!-#REF!)/#REF!),0,(#REF!-#REF!)/#REF!)","v":0},{"$f":"IF(ISERROR((#REF!-#REF!)/#REF!),0,(#REF!-#REF!)/#REF!)","v":0},{"$f":"IF(ISERROR((#REF!-#REF!)/#REF!),0,(#REF!-#REF!)/#REF!)","v":0}]
[null,"HD23B","Inflammatory Spine, Joint or Connective Tissue Disorders, with Intermediate CC",0,507,0,0,5,1504,10,210,"Yes",0.4,601.6,"","",{"$f":"IF(ISERROR((#REF!-#REF!)/#REF!),0,(#REF!-#REF!)/#REF!)","v":0},{"$f":"IF(ISERROR((#REF!-#REF!)/#REF!),0,(#REF!-#REF!)/#REF!)","v":0},{"$f":"IF(ISERROR((#REF!-#REF!)/#REF!),0,(#REF!-#REF!)/#REF!)","v":0},{"$f":"IF(ISERROR((#REF!-#REF!)/#REF!),0,(#REF!-#REF!)/#REF!)","v":0},{"$f":"IF(ISERROR((#REF!-#REF!)/#REF!),0,(#REF!-#REF!)/#REF!)","v":0},{"$f":"IF(ISERROR((#REF!-#REF!)/#REF!),0,(#REF!-#REF!)/#REF!)","v":0},{"$f":"IF(ISERROR((#REF!-#REF!)/#REF!),0,(#REF!-#REF!)/#REF!)","v":0},{"$f":"IF(ISERROR((#REF!-#REF!)/#REF!),0,(#REF!-#REF!)/#REF!)","v":0},{"$f":"IF(ISERROR((#REF!-#REF!)/#REF!),0,(#REF!-#REF!)/#REF!)","v":0},{"$f":"IF(ISERROR((#REF!-#REF!)/#REF!),0,(#REF!-#REF!)/#REF!)","v":0},{"$f":"IF(ISERROR((#REF!-#REF!)/#REF!),0,(#REF!-#REF!)/#REF!)","v":0},{"$f":"IF(ISERROR((#REF!-#REF!)/#REF!),0,(#REF!-#REF!)/#REF!)","v":0},{"$f":"IF(ISERROR((#REF!-#REF!)/#REF!),0,(#REF!-#REF!)/#REF!)","v":0}]
[null,"HD23C","Inflammatory Spine, Joint or Connective Tissue Disorders, without CC",0,443,0,0,5,618,5,210,"Yes",0.65,401.7,"","",{"$f":"IF(ISERROR((#REF!-#REF!)/#REF!),0,(#REF!-#REF!)/#REF!)","v":0},{"$f":"IF(ISERROR((#REF!-#REF!)/#REF!),0,(#REF!-#REF!)/#REF!)","v":0},{"$f":"IF(ISERROR((#REF!-#REF!)/#REF!),0,(#REF!-#REF!)/#REF!)","v":0},{"$f":"IF(ISERROR((#REF!-#REF!)/#REF!),0,(#REF!-#REF!)/#REF!)","v":0},{"$f":"IF(ISERROR((#REF!-#REF!)/#REF!),0,(#REF!-#REF!)/#REF!)","v":0},{"$f":"IF(ISERROR((#REF!-#REF!)/#REF!),0,(#REF!-#REF!)/#REF!)","v":0},{"$f":"IF(ISERROR((#REF!-#REF!)/#REF!),0,(#REF!-#REF!)/#REF!)","v":0},{"$f":"IF(ISERROR((#REF!-#REF!)/#REF!),0,(#REF!-#REF!)/#REF!)","v":0},{"$f":"IF(ISERROR((#REF!-#REF!)/#REF!),0,(#REF!-#REF!)/#REF!)","v":0},{"$f":"IF(ISERROR((#REF!-#REF!)/#REF!),0,(#REF!-#REF!)/#REF!)","v":0},{"$f":"IF(ISERROR((#REF!-#REF!)/#REF!),0,(#REF!-#REF!)/#REF!)","v":0},{"$f":"IF(ISERROR((#REF!-#REF!)/#REF!),0,(#REF!-#REF!)/#REF!)","v":0},{"$f":"IF(ISERROR((#REF!-#REF!)/#REF!),0,(#REF!-#REF!)/#REF!)","v":0}]
[null,"HD24A","Non-Inflammatory Bone or Joint Disorders, with Major CC",0,861,0,0,10,3546,50,210,"Yes",0.30000000000000004,1063.8000000000002,"","",{"$f":"IF(ISERROR((#REF!-#REF!)/#REF!),0,(#REF!-#REF!)/#REF!)","v":0},{"$f":"IF(ISERROR((#REF!-#REF!)/#REF!),0,(#REF!-#REF!)/#REF!)","v":0},{"$f":"IF(ISERROR((#REF!-#REF!)/#REF!),0,(#REF!-#REF!)/#REF!)","v":0},{"$f":"IF(ISERROR((#REF!-#REF!)/#REF!),0,(#REF!-#REF!)/#REF!)","v":0},{"$f":"IF(ISERROR((#REF!-#REF!)/#REF!),0,(#REF!-#REF!)/#REF!)","v":0},{"$f":"IF(ISERROR((#REF!-#REF!)/#REF!),0,(#REF!-#REF!)/#REF!)","v":0},{"$f":"IF(ISERROR((#REF!-#REF!)/#REF!),0,(#REF!-#REF!)/#REF!)","v":0},{"$f":"IF(ISERROR((#REF!-#REF!)/#REF!),0,(#REF!-#REF!)/#REF!)","v":0},{"$f":"IF(ISERROR((#REF!-#REF!)/#REF!),0,(#REF!-#REF!)/#REF!)","v":0},{"$f":"IF(ISERROR((#REF!-#REF!)/#REF!),0,(#REF!-#REF!)/#REF!)","v":0},{"$f":"IF(ISERROR((#REF!-#REF!)/#REF!),0,(#REF!-#REF!)/#REF!)","v":0},{"$f":"IF(ISERROR((#REF!-#REF!)/#REF!),0,(#REF!-#REF!)/#REF!)","v":0},{"$f":"IF(ISERROR((#REF!-#REF!)/#REF!),0,(#REF!-#REF!)/#REF!)","v":0}]
[null,"HD24B","Non-Inflammatory Bone or Joint Disorders, with Intermediate CC",0,370,0,0,5,1839,15,210,"Yes",0.30000000000000004,551.70000000000005,"","",{"$f":"IF(ISERROR((#REF!-#REF!)/#REF!),0,(#REF!-#REF!)/#REF!)","v":0},{"$f":"IF(ISERROR((#REF!-#REF!)/#REF!),0,(#REF!-#REF!)/#REF!)","v":0},{"$f":"IF(ISERROR((#REF!-#REF!)/#REF!),0,(#REF!-#REF!)/#REF!)","v":0},{"$f":"IF(ISERROR((#REF!-#REF!)/#REF!),0,(#REF!-#REF!)/#REF!)","v":0},{"$f":"IF(ISERROR((#REF!-#REF!)/#REF!),0,(#REF!-#REF!)/#REF!)","v":0},{"$f":"IF(ISERROR((#REF!-#REF!)/#REF!),0,(#REF!-#REF!)/#REF!)","v":0},{"$f":"IF(ISERROR((#REF!-#REF!)/#REF!),0,(#REF!-#REF!)/#REF!)","v":0},{"$f":"IF(ISERROR((#REF!-#REF!)/#REF!),0,(#REF!-#REF!)/#REF!)","v":0},{"$f":"IF(ISERROR((#REF!-#REF!)/#REF!),0,(#REF!-#REF!)/#REF!)","v":0},{"$f":"IF(ISERROR((#REF!-#REF!)/#REF!),0,(#REF!-#REF!)/#REF!)","v":0},{"$f":"IF(ISERROR((#REF!-#REF!)/#REF!),0,(#REF!-#REF!)/#REF!)","v":0},{"$f":"IF(ISERROR((#REF!-#REF!)/#REF!),0,(#REF!-#REF!)/#REF!)","v":0},{"$f":"IF(ISERROR((#REF!-#REF!)/#REF!),0,(#REF!-#REF!)/#REF!)","v":0}]
[null,"HD24C","Non-Inflammatory Bone or Joint Disorders, without CC",0,367,0,0,5,654,5,210,"Yes",0.65,425.1,"","",{"$f":"IF(ISERROR((#REF!-#REF!)/#REF!),0,(#REF!-#REF!)/#REF!)","v":0},{"$f":"IF(ISERROR((#REF!-#REF!)/#REF!),0,(#REF!-#REF!)/#REF!)","v":0},{"$f":"IF(ISERROR((#REF!-#REF!)/#REF!),0,(#REF!-#REF!)/#REF!)","v":0},{"$f":"IF(ISERROR((#REF!-#REF!)/#REF!),0,(#REF!-#REF!)/#REF!)","v":0},{"$f":"IF(ISERROR((#REF!-#REF!)/#REF!),0,(#REF!-#REF!)/#REF!)","v":0},{"$f":"IF(ISERROR((#REF!-#REF!)/#REF!),0,(#REF!-#REF!)/#REF!)","v":0},{"$f":"IF(ISERROR((#REF!-#REF!)/#REF!),0,(#REF!-#REF!)/#REF!)","v":0},{"$f":"IF(ISERROR((#REF!-#REF!)/#REF!),0,(#REF!-#REF!)/#REF!)","v":0},{"$f":"IF(ISERROR((#REF!-#REF!)/#REF!),0,(#REF!-#REF!)/#REF!)","v":0},{"$f":"IF(ISERROR((#REF!-#REF!)/#REF!),0,(#REF!-#REF!)/#REF!)","v":0},{"$f":"IF(ISERROR((#REF!-#REF!)/#REF!),0,(#REF!-#REF!)/#REF!)","v":0},{"$f":"IF(ISERROR((#REF!-#REF!)/#REF!),0,(#REF!-#REF!)/#REF!)","v":0},{"$f":"IF(ISERROR((#REF!-#REF!)/#REF!),0,(#REF!-#REF!)/#REF!)","v":0}]
[null,"HD25A","Infections of Bones or Joints, with Major CC",0,2166,0,0,23,5302,62,210,"Yes",0.30000000000000004,1590.6000000000001,"","",{"$f":"IF(ISERROR((#REF!-#REF!)/#REF!),0,(#REF!-#REF!)/#REF!)","v":0},{"$f":"IF(ISERROR((#REF!-#REF!)/#REF!),0,(#REF!-#REF!)/#REF!)","v":0},{"$f":"IF(ISERROR((#REF!-#REF!)/#REF!),0,(#REF!-#REF!)/#REF!)","v":0},{"$f":"IF(ISERROR((#REF!-#REF!)/#REF!),0,(#REF!-#REF!)/#REF!)","v":0},{"$f":"IF(ISERROR((#REF!-#REF!)/#REF!),0,(#REF!-#REF!)/#REF!)","v":0},{"$f":"IF(ISERROR((#REF!-#REF!)/#REF!),0,(#REF!-#REF!)/#REF!)","v":0},{"$f":"IF(ISERROR((#REF!-#REF!)/#REF!),0,(#REF!-#REF!)/#REF!)","v":0},{"$f":"IF(ISERROR((#REF!-#REF!)/#REF!),0,(#REF!-#REF!)/#REF!)","v":0},{"$f":"IF(ISERROR((#REF!-#REF!)/#REF!),0,(#REF!-#REF!)/#REF!)","v":0},{"$f":"IF(ISERROR((#REF!-#REF!)/#REF!),0,(#REF!-#REF!)/#REF!)","v":0},{"$f":"IF(ISERROR((#REF!-#REF!)/#REF!),0,(#REF!-#REF!)/#REF!)","v":0},{"$f":"IF(ISERROR((#REF!-#REF!)/#REF!),0,(#REF!-#REF!)/#REF!)","v":0},{"$f":"IF(ISERROR((#REF!-#REF!)/#REF!),0,(#REF!-#REF!)/#REF!)","v":0}]
[null,"HD25B","Infections of Bones or Joints, with Intermediate CC",0,671,0,0,5,2892,27,210,"Yes",0.30000000000000004,867.60000000000014,"","",{"$f":"IF(ISERROR((#REF!-#REF!)/#REF!),0,(#REF!-#REF!)/#REF!)","v":0},{"$f":"IF(ISERROR((#REF!-#REF!)/#REF!),0,(#REF!-#REF!)/#REF!)","v":0},{"$f":"IF(ISERROR((#REF!-#REF!)/#REF!),0,(#REF!-#REF!)/#REF!)","v":0},{"$f":"IF(ISERROR((#REF!-#REF!)/#REF!),0,(#REF!-#REF!)/#REF!)","v":0},{"$f":"IF(ISERROR((#REF!-#REF!)/#REF!),0,(#REF!-#REF!)/#REF!)","v":0},{"$f":"IF(ISERROR((#REF!-#REF!)/#REF!),0,(#REF!-#REF!)/#REF!)","v":0},{"$f":"IF(ISERROR((#REF!-#REF!)/#REF!),0,(#REF!-#REF!)/#REF!)","v":0},{"$f":"IF(ISERROR((#REF!-#REF!)/#REF!),0,(#REF!-#REF!)/#REF!)","v":0},{"$f":"IF(ISERROR((#REF!-#REF!)/#REF!),0,(#REF!-#REF!)/#REF!)","v":0},{"$f":"IF(ISERROR((#REF!-#REF!)/#REF!),0,(#REF!-#REF!)/#REF!)","v":0},{"$f":"IF(ISERROR((#REF!-#REF!)/#REF!),0,(#REF!-#REF!)/#REF!)","v":0},{"$f":"IF(ISERROR((#REF!-#REF!)/#REF!),0,(#REF!-#REF!)/#REF!)","v":0},{"$f":"IF(ISERROR((#REF!-#REF!)/#REF!),0,(#REF!-#REF!)/#REF!)","v":0}]
[null,"HD25C","Infections of Bones or Joints, without CC",0,459,0,0,5,2354,18,210,"Yes",0.30000000000000004,706.20000000000016,"","",{"$f":"IF(ISERROR((#REF!-#REF!)/#REF!),0,(#REF!-#REF!)/#REF!)","v":0},{"$f":"IF(ISERROR((#REF!-#REF!)/#REF!),0,(#REF!-#REF!)/#REF!)","v":0},{"$f":"IF(ISERROR((#REF!-#REF!)/#REF!),0,(#REF!-#REF!)/#REF!)","v":0},{"$f":"IF(ISERROR((#REF!-#REF!)/#REF!),0,(#REF!-#REF!)/#REF!)","v":0},{"$f":"IF(ISERROR((#REF!-#REF!)/#REF!),0,(#REF!-#REF!)/#REF!)","v":0},{"$f":"IF(ISERROR((#REF!-#REF!)/#REF!),0,(#REF!-#REF!)/#REF!)","v":0},{"$f":"IF(ISERROR((#REF!-#REF!)/#REF!),0,(#REF!-#REF!)/#REF!)","v":0},{"$f":"IF(ISERROR((#REF!-#REF!)/#REF!),0,(#REF!-#REF!)/#REF!)","v":0},{"$f":"IF(ISERROR((#REF!-#REF!)/#REF!),0,(#REF!-#REF!)/#REF!)","v":0},{"$f":"IF(ISERROR((#REF!-#REF!)/#REF!),0,(#REF!-#REF!)/#REF!)","v":0},{"$f":"IF(ISERROR((#REF!-#REF!)/#REF!),0,(#REF!-#REF!)/#REF!)","v":0},{"$f":"IF(ISERROR((#REF!-#REF!)/#REF!),0,(#REF!-#REF!)/#REF!)","v":0},{"$f":"IF(ISERROR((#REF!-#REF!)/#REF!),0,(#REF!-#REF!)/#REF!)","v":0}]
[null,"HD26A","Musculoskeletal Signs and Symptoms, with Major CC",0,4850,0,0,68,2840,36,210,"Yes",0.30000000000000004,852.00000000000011,"","",{"$f":"IF(ISERROR((#REF!-#REF!)/#REF!),0,(#REF!-#REF!)/#REF!)","v":0},{"$f":"IF(ISERROR((#REF!-#REF!)/#REF!),0,(#REF!-#REF!)/#REF!)","v":0},{"$f":"IF(ISERROR((#REF!-#REF!)/#REF!),0,(#REF!-#REF!)/#REF!)","v":0},{"$f":"IF(ISERROR((#REF!-#REF!)/#REF!),0,(#REF!-#REF!)/#REF!)","v":0},{"$f":"IF(ISERROR((#REF!-#REF!)/#REF!),0,(#REF!-#REF!)/#REF!)","v":0},{"$f":"IF(ISERROR((#REF!-#REF!)/#REF!),0,(#REF!-#REF!)/#REF!)","v":0},{"$f":"IF(ISERROR((#REF!-#REF!)/#REF!),0,(#REF!-#REF!)/#REF!)","v":0},{"$f":"IF(ISERROR((#REF!-#REF!)/#REF!),0,(#REF!-#REF!)/#REF!)","v":0},{"$f":"IF(ISERROR((#REF!-#REF!)/#REF!),0,(#REF!-#REF!)/#REF!)","v":0},{"$f":"IF(ISERROR((#REF!-#REF!)/#REF!),0,(#REF!-#REF!)/#REF!)","v":0},{"$f":"IF(ISERROR((#REF!-#REF!)/#REF!),0,(#REF!-#REF!)/#REF!)","v":0},{"$f":"IF(ISERROR((#REF!-#REF!)/#REF!),0,(#REF!-#REF!)/#REF!)","v":0},{"$f":"IF(ISERROR((#REF!-#REF!)/#REF!),0,(#REF!-#REF!)/#REF!)","v":0}]
[null,"HD26B","Musculoskeletal Signs and Symptoms, with Intermediate CC",0,1224,0,0,8,1157,8,210,"Yes",0.4,462.8,"","",{"$f":"IF(ISERROR((#REF!-#REF!)/#REF!),0,(#REF!-#REF!)/#REF!)","v":0},{"$f":"IF(ISERROR((#REF!-#REF!)/#REF!),0,(#REF!-#REF!)/#REF!)","v":0},{"$f":"IF(ISERROR((#REF!-#REF!)/#REF!),0,(#REF!-#REF!)/#REF!)","v":0},{"$f":"IF(ISERROR((#REF!-#REF!)/#REF!),0,(#REF!-#REF!)/#REF!)","v":0},{"$f":"IF(ISERROR((#REF!-#REF!)/#REF!),0,(#REF!-#REF!)/#REF!)","v":0},{"$f":"IF(ISERROR((#REF!-#REF!)/#REF!),0,(#REF!-#REF!)/#REF!)","v":0},{"$f":"IF(ISERROR((#REF!-#REF!)/#REF!),0,(#REF!-#REF!)/#REF!)","v":0},{"$f":"IF(ISERROR((#REF!-#REF!)/#REF!),0,(#REF!-#REF!)/#REF!)","v":0},{"$f":"IF(ISERROR((#REF!-#REF!)/#REF!),0,(#REF!-#REF!)/#REF!)","v":0},{"$f":"IF(ISERROR((#REF!-#REF!)/#REF!),0,(#REF!-#REF!)/#REF!)","v":0},{"$f":"IF(ISERROR((#REF!-#REF!)/#REF!),0,(#REF!-#REF!)/#REF!)","v":0},{"$f":"IF(ISERROR((#REF!-#REF!)/#REF!),0,(#REF!-#REF!)/#REF!)","v":0},{"$f":"IF(ISERROR((#REF!-#REF!)/#REF!),0,(#REF!-#REF!)/#REF!)","v":0}]
[null,"HD26C","Musculoskeletal Signs and Symptoms, without CC",0,468,0,0,5,442,5,210,"Yes",1,442,"","",{"$f":"IF(ISERROR((#REF!-#REF!)/#REF!),0,(#REF!-#REF!)/#REF!)","v":0},{"$f":"IF(ISERROR((#REF!-#REF!)/#REF!),0,(#REF!-#REF!)/#REF!)","v":0},{"$f":"IF(ISERROR((#REF!-#REF!)/#REF!),0,(#REF!-#REF!)/#REF!)","v":0},{"$f":"IF(ISERROR((#REF!-#REF!)/#REF!),0,(#REF!-#REF!)/#REF!)","v":0},{"$f":"IF(ISERROR((#REF!-#REF!)/#REF!),0,(#REF!-#REF!)/#REF!)","v":0},{"$f":"IF(ISERROR((#REF!-#REF!)/#REF!),0,(#REF!-#REF!)/#REF!)","v":0},{"$f":"IF(ISERROR((#REF!-#REF!)/#REF!),0,(#REF!-#REF!)/#REF!)","v":0},{"$f":"IF(ISERROR((#REF!-#REF!)/#REF!),0,(#REF!-#REF!)/#REF!)","v":0},{"$f":"IF(ISERROR((#REF!-#REF!)/#REF!),0,(#REF!-#REF!)/#REF!)","v":0},{"$f":"IF(ISERROR((#REF!-#REF!)/#REF!),0,(#REF!-#REF!)/#REF!)","v":0},{"$f":"IF(ISERROR((#REF!-#REF!)/#REF!),0,(#REF!-#REF!)/#REF!)","v":0},{"$f":"IF(ISERROR((#REF!-#REF!)/#REF!),0,(#REF!-#REF!)/#REF!)","v":0},{"$f":"IF(ISERROR((#REF!-#REF!)/#REF!),0,(#REF!-#REF!)/#REF!)","v":0}]
[null,"HD39A","Pathological Fractures with Major CC",0,2192,0,0,20,4692,57,210,"Yes",0.30000000000000004,1407.6000000000001,"","",{"$f":"IF(ISERROR((#REF!-#REF!)/#REF!),0,(#REF!-#REF!)/#REF!)","v":0},{"$f":"IF(ISERROR((#REF!-#REF!)/#REF!),0,(#REF!-#REF!)/#REF!)","v":0},{"$f":"IF(ISERROR((#REF!-#REF!)/#REF!),0,(#REF!-#REF!)/#REF!)","v":0},{"$f":"IF(ISERROR((#REF!-#REF!)/#REF!),0,(#REF!-#REF!)/#REF!)","v":0},{"$f":"IF(ISERROR((#REF!-#REF!)/#REF!),0,(#REF!-#REF!)/#REF!)","v":0},{"$f":"IF(ISERROR((#REF!-#REF!)/#REF!),0,(#REF!-#REF!)/#REF!)","v":0},{"$f":"IF(ISERROR((#REF!-#REF!)/#REF!),0,(#REF!-#REF!)/#REF!)","v":0},{"$f":"IF(ISERROR((#REF!-#REF!)/#REF!),0,(#REF!-#REF!)/#REF!)","v":0},{"$f":"IF(ISERROR((#REF!-#REF!)/#REF!),0,(#REF!-#REF!)/#REF!)","v":0},{"$f":"IF(ISERROR((#REF!-#REF!)/#REF!),0,(#REF!-#REF!)/#REF!)","v":0},{"$f":"IF(ISERROR((#REF!-#REF!)/#REF!),0,(#REF!-#REF!)/#REF!)","v":0},{"$f":"IF(ISERROR((#REF!-#REF!)/#REF!),0,(#REF!-#REF!)/#REF!)","v":0},{"$f":"IF(ISERROR((#REF!-#REF!)/#REF!),0,(#REF!-#REF!)/#REF!)","v":0}]
[null,"HD39B","Pathological Fractures with Intermediate CC",0,375,0,0,5,3018,35,210,"Yes",0.30000000000000004,905.40000000000009,"","",{"$f":"IF(ISERROR((#REF!-#REF!)/#REF!),0,(#REF!-#REF!)/#REF!)","v":0},{"$f":"IF(ISERROR((#REF!-#REF!)/#REF!),0,(#REF!-#REF!)/#REF!)","v":0},{"$f":"IF(ISERROR((#REF!-#REF!)/#REF!),0,(#REF!-#REF!)/#REF!)","v":0},{"$f":"IF(ISERROR((#REF!-#REF!)/#REF!),0,(#REF!-#REF!)/#REF!)","v":0},{"$f":"IF(ISERROR((#REF!-#REF!)/#REF!),0,(#REF!-#REF!)/#REF!)","v":0},{"$f":"IF(ISERROR((#REF!-#REF!)/#REF!),0,(#REF!-#REF!)/#REF!)","v":0},{"$f":"IF(ISERROR((#REF!-#REF!)/#REF!),0,(#REF!-#REF!)/#REF!)","v":0},{"$f":"IF(ISERROR((#REF!-#REF!)/#REF!),0,(#REF!-#REF!)/#REF!)","v":0},{"$f":"IF(ISERROR((#REF!-#REF!)/#REF!),0,(#REF!-#REF!)/#REF!)","v":0},{"$f":"IF(ISERROR((#REF!-#REF!)/#REF!),0,(#REF!-#REF!)/#REF!)","v":0},{"$f":"IF(ISERROR((#REF!-#REF!)/#REF!),0,(#REF!-#REF!)/#REF!)","v":0},{"$f":"IF(ISERROR((#REF!-#REF!)/#REF!),0,(#REF!-#REF!)/#REF!)","v":0},{"$f":"IF(ISERROR((#REF!-#REF!)/#REF!),0,(#REF!-#REF!)/#REF!)","v":0}]
[null,"HD39C","Pathological Fractures without CC",0,351,0,0,5,1996,22,210,"Yes",0.30000000000000004,598.80000000000007,"","",{"$f":"IF(ISERROR((#REF!-#REF!)/#REF!),0,(#REF!-#REF!)/#REF!)","v":0},{"$f":"IF(ISERROR((#REF!-#REF!)/#REF!),0,(#REF!-#REF!)/#REF!)","v":0},{"$f":"IF(ISERROR((#REF!-#REF!)/#REF!),0,(#REF!-#REF!)/#REF!)","v":0},{"$f":"IF(ISERROR((#REF!-#REF!)/#REF!),0,(#REF!-#REF!)/#REF!)","v":0},{"$f":"IF(ISERROR((#REF!-#REF!)/#REF!),0,(#REF!-#REF!)/#REF!)","v":0},{"$f":"IF(ISERROR((#REF!-#REF!)/#REF!),0,(#REF!-#REF!)/#REF!)","v":0},{"$f":"IF(ISERROR((#REF!-#REF!)/#REF!),0,(#REF!-#REF!)/#REF!)","v":0},{"$f":"IF(ISERROR((#REF!-#REF!)/#REF!),0,(#REF!-#REF!)/#REF!)","v":0},{"$f":"IF(ISERROR((#REF!-#REF!)/#REF!),0,(#REF!-#REF!)/#REF!)","v":0},{"$f":"IF(ISERROR((#REF!-#REF!)/#REF!),0,(#REF!-#REF!)/#REF!)","v":0},{"$f":"IF(ISERROR((#REF!-#REF!)/#REF!),0,(#REF!-#REF!)/#REF!)","v":0},{"$f":"IF(ISERROR((#REF!-#REF!)/#REF!),0,(#REF!-#REF!)/#REF!)","v":0},{"$f":"IF(ISERROR((#REF!-#REF!)/#REF!),0,(#REF!-#REF!)/#REF!)","v":0}]
[null,"HD40A","Malignancy of Bone or Connective Tissue, with Major CC",0,1402,0,0,13,3811,42,210,"Yes",0.30000000000000004,1143.3000000000002,"","",{"$f":"IF(ISERROR((#REF!-#REF!)/#REF!),0,(#REF!-#REF!)/#REF!)","v":0},{"$f":"IF(ISERROR((#REF!-#REF!)/#REF!),0,(#REF!-#REF!)/#REF!)","v":0},{"$f":"IF(ISERROR((#REF!-#REF!)/#REF!),0,(#REF!-#REF!)/#REF!)","v":0},{"$f":"IF(ISERROR((#REF!-#REF!)/#REF!),0,(#REF!-#REF!)/#REF!)","v":0},{"$f":"IF(ISERROR((#REF!-#REF!)/#REF!),0,(#REF!-#REF!)/#REF!)","v":0},{"$f":"IF(ISERROR((#REF!-#REF!)/#REF!),0,(#REF!-#REF!)/#REF!)","v":0},{"$f":"IF(ISERROR((#REF!-#REF!)/#REF!),0,(#REF!-#REF!)/#REF!)","v":0},{"$f":"IF(ISERROR((#REF!-#REF!)/#REF!),0,(#REF!-#REF!)/#REF!)","v":0},{"$f":"IF(ISERROR((#REF!-#REF!)/#REF!),0,(#REF!-#REF!)/#REF!)","v":0},{"$f":"IF(ISERROR((#REF!-#REF!)/#REF!),0,(#REF!-#REF!)/#REF!)","v":0},{"$f":"IF(ISERROR((#REF!-#REF!)/#REF!),0,(#REF!-#REF!)/#REF!)","v":0},{"$f":"IF(ISERROR((#REF!-#REF!)/#REF!),0,(#REF!-#REF!)/#REF!)","v":0},{"$f":"IF(ISERROR((#REF!-#REF!)/#REF!),0,(#REF!-#REF!)/#REF!)","v":0}]
[null,"HD40B","Malignancy of Bone or Connective Tissue, with Intermediate CC",0,387,0,0,5,2576,22,210,"Yes",0.30000000000000004,772.80000000000007,"","",{"$f":"IF(ISERROR((#REF!-#REF!)/#REF!),0,(#REF!-#REF!)/#REF!)","v":0},{"$f":"IF(ISERROR((#REF!-#REF!)/#REF!),0,(#REF!-#REF!)/#REF!)","v":0},{"$f":"IF(ISERROR((#REF!-#REF!)/#REF!),0,(#REF!-#REF!)/#REF!)","v":0},{"$f":"IF(ISERROR((#REF!-#REF!)/#REF!),0,(#REF!-#REF!)/#REF!)","v":0},{"$f":"IF(ISERROR((#REF!-#REF!)/#REF!),0,(#REF!-#REF!)/#REF!)","v":0},{"$f":"IF(ISERROR((#REF!-#REF!)/#REF!),0,(#REF!-#REF!)/#REF!)","v":0},{"$f":"IF(ISERROR((#REF!-#REF!)/#REF!),0,(#REF!-#REF!)/#REF!)","v":0},{"$f":"IF(ISERROR((#REF!-#REF!)/#REF!),0,(#REF!-#REF!)/#REF!)","v":0},{"$f":"IF(ISERROR((#REF!-#REF!)/#REF!),0,(#REF!-#REF!)/#REF!)","v":0},{"$f":"IF(ISERROR((#REF!-#REF!)/#REF!),0,(#REF!-#REF!)/#REF!)","v":0},{"$f":"IF(ISERROR((#REF!-#REF!)/#REF!),0,(#REF!-#REF!)/#REF!)","v":0},{"$f":"IF(ISERROR((#REF!-#REF!)/#REF!),0,(#REF!-#REF!)/#REF!)","v":0},{"$f":"IF(ISERROR((#REF!-#REF!)/#REF!),0,(#REF!-#REF!)/#REF!)","v":0}]
[null,"HD40C","Malignancy of Bone or Connective Tissue, without CC",0,387,0,0,5,2149,15,210,"Yes",0.4,859.6,"","",{"$f":"IF(ISERROR((#REF!-#REF!)/#REF!),0,(#REF!-#REF!)/#REF!)","v":0},{"$f":"IF(ISERROR((#REF!-#REF!)/#REF!),0,(#REF!-#REF!)/#REF!)","v":0},{"$f":"IF(ISERROR((#REF!-#REF!)/#REF!),0,(#REF!-#REF!)/#REF!)","v":0},{"$f":"IF(ISERROR((#REF!-#REF!)/#REF!),0,(#REF!-#REF!)/#REF!)","v":0},{"$f":"IF(ISERROR((#REF!-#REF!)/#REF!),0,(#REF!-#REF!)/#REF!)","v":0},{"$f":"IF(ISERROR((#REF!-#REF!)/#REF!),0,(#REF!-#REF!)/#REF!)","v":0},{"$f":"IF(ISERROR((#REF!-#REF!)/#REF!),0,(#REF!-#REF!)/#REF!)","v":0},{"$f":"IF(ISERROR((#REF!-#REF!)/#REF!),0,(#REF!-#REF!)/#REF!)","v":0},{"$f":"IF(ISERROR((#REF!-#REF!)/#REF!),0,(#REF!-#REF!)/#REF!)","v":0},{"$f":"IF(ISERROR((#REF!-#REF!)/#REF!),0,(#REF!-#REF!)/#REF!)","v":0},{"$f":"IF(ISERROR((#REF!-#REF!)/#REF!),0,(#REF!-#REF!)/#REF!)","v":0},{"$f":"IF(ISERROR((#REF!-#REF!)/#REF!),0,(#REF!-#REF!)/#REF!)","v":0},{"$f":"IF(ISERROR((#REF!-#REF!)/#REF!),0,(#REF!-#REF!)/#REF!)","v":0}]
[null,"HR01B","Reconstruction Procedures Category 6, with CC",0,31381,0,0,49,31381,49,210,"No","-",0,"","",{"$f":"IF(ISERROR((#REF!-#REF!)/#REF!),0,(#REF!-#REF!)/#REF!)","v":0},{"$f":"IF(ISERROR((#REF!-#REF!)/#REF!),0,(#REF!-#REF!)/#REF!)","v":0},{"$f":"IF(ISERROR((#REF!-#REF!)/#REF!),0,(#REF!-#REF!)/#REF!)","v":0},{"$f":"IF(ISERROR((#REF!-#REF!)/#REF!),0,(#REF!-#REF!)/#REF!)","v":0},{"$f":"IF(ISERROR((#REF!-#REF!)/#REF!),0,(#REF!-#REF!)/#REF!)","v":0},{"$f":"IF(ISERROR((#REF!-#REF!)/#REF!),0,(#REF!-#REF!)/#REF!)","v":0},{"$f":"IF(ISERROR((#REF!-#REF!)/#REF!),0,(#REF!-#REF!)/#REF!)","v":0},{"$f":"IF(ISERROR((#REF!-#REF!)/#REF!),0,(#REF!-#REF!)/#REF!)","v":0},{"$f":"IF(ISERROR((#REF!-#REF!)/#REF!),0,(#REF!-#REF!)/#REF!)","v":0},{"$f":"IF(ISERROR((#REF!-#REF!)/#REF!),0,(#REF!-#REF!)/#REF!)","v":0},{"$f":"IF(ISERROR((#REF!-#REF!)/#REF!),0,(#REF!-#REF!)/#REF!)","v":0},{"$f":"IF(ISERROR((#REF!-#REF!)/#REF!),0,(#REF!-#REF!)/#REF!)","v":0},{"$f":"IF(ISERROR((#REF!-#REF!)/#REF!),0,(#REF!-#REF!)/#REF!)","v":0}]
[null,"HR01C","Reconstruction Procedures Category 6, without CC",0,20075,0,0,17,20075,17,210,"No","-",0,"","",{"$f":"IF(ISERROR((#REF!-#REF!)/#REF!),0,(#REF!-#REF!)/#REF!)","v":0},{"$f":"IF(ISERROR((#REF!-#REF!)/#REF!),0,(#REF!-#REF!)/#REF!)","v":0},{"$f":"IF(ISERROR((#REF!-#REF!)/#REF!),0,(#REF!-#REF!)/#REF!)","v":0},{"$f":"IF(ISERROR((#REF!-#REF!)/#REF!),0,(#REF!-#REF!)/#REF!)","v":0},{"$f":"IF(ISERROR((#REF!-#REF!)/#REF!),0,(#REF!-#REF!)/#REF!)","v":0},{"$f":"IF(ISERROR((#REF!-#REF!)/#REF!),0,(#REF!-#REF!)/#REF!)","v":0},{"$f":"IF(ISERROR((#REF!-#REF!)/#REF!),0,(#REF!-#REF!)/#REF!)","v":0},{"$f":"IF(ISERROR((#REF!-#REF!)/#REF!),0,(#REF!-#REF!)/#REF!)","v":0},{"$f":"IF(ISERROR((#REF!-#REF!)/#REF!),0,(#REF!-#REF!)/#REF!)","v":0},{"$f":"IF(ISERROR((#REF!-#REF!)/#REF!),0,(#REF!-#REF!)/#REF!)","v":0},{"$f":"IF(ISERROR((#REF!-#REF!)/#REF!),0,(#REF!-#REF!)/#REF!)","v":0},{"$f":"IF(ISERROR((#REF!-#REF!)/#REF!),0,(#REF!-#REF!)/#REF!)","v":0},{"$f":"IF(ISERROR((#REF!-#REF!)/#REF!),0,(#REF!-#REF!)/#REF!)","v":0}]
[null,"HR02Z","Reconstruction Procedures Category 5",0,14735,0,0,14,17062,54,210,"No","-",0,"","",{"$f":"IF(ISERROR((#REF!-#REF!)/#REF!),0,(#REF!-#REF!)/#REF!)","v":0},{"$f":"IF(ISERROR((#REF!-#REF!)/#REF!),0,(#REF!-#REF!)/#REF!)","v":0},{"$f":"IF(ISERROR((#REF!-#REF!)/#REF!),0,(#REF!-#REF!)/#REF!)","v":0},{"$f":"IF(ISERROR((#REF!-#REF!)/#REF!),0,(#REF!-#REF!)/#REF!)","v":0},{"$f":"IF(ISERROR((#REF!-#REF!)/#REF!),0,(#REF!-#REF!)/#REF!)","v":0},{"$f":"IF(ISERROR((#REF!-#REF!)/#REF!),0,(#REF!-#REF!)/#REF!)","v":0},{"$f":"IF(ISERROR((#REF!-#REF!)/#REF!),0,(#REF!-#REF!)/#REF!)","v":0},{"$f":"IF(ISERROR((#REF!-#REF!)/#REF!),0,(#REF!-#REF!)/#REF!)","v":0},{"$f":"IF(ISERROR((#REF!-#REF!)/#REF!),0,(#REF!-#REF!)/#REF!)","v":0},{"$f":"IF(ISERROR((#REF!-#REF!)/#REF!),0,(#REF!-#REF!)/#REF!)","v":0},{"$f":"IF(ISERROR((#REF!-#REF!)/#REF!),0,(#REF!-#REF!)/#REF!)","v":0},{"$f":"IF(ISERROR((#REF!-#REF!)/#REF!),0,(#REF!-#REF!)/#REF!)","v":0},{"$f":"IF(ISERROR((#REF!-#REF!)/#REF!),0,(#REF!-#REF!)/#REF!)","v":0}]
[null,"HR03Z","Reconstruction Procedures Category 4",0,11129,0,0,26,12530,98,210,"No","-",0,"","",{"$f":"IF(ISERROR((#REF!-#REF!)/#REF!),0,(#REF!-#REF!)/#REF!)","v":0},{"$f":"IF(ISERROR((#REF!-#REF!)/#REF!),0,(#REF!-#REF!)/#REF!)","v":0},{"$f":"IF(ISERROR((#REF!-#REF!)/#REF!),0,(#REF!-#REF!)/#REF!)","v":0},{"$f":"IF(ISERROR((#REF!-#REF!)/#REF!),0,(#REF!-#REF!)/#REF!)","v":0},{"$f":"IF(ISERROR((#REF!-#REF!)/#REF!),0,(#REF!-#REF!)/#REF!)","v":0},{"$f":"IF(ISERROR((#REF!-#REF!)/#REF!),0,(#REF!-#REF!)/#REF!)","v":0},{"$f":"IF(ISERROR((#REF!-#REF!)/#REF!),0,(#REF!-#REF!)/#REF!)","v":0},{"$f":"IF(ISERROR((#REF!-#REF!)/#REF!),0,(#REF!-#REF!)/#REF!)","v":0},{"$f":"IF(ISERROR((#REF!-#REF!)/#REF!),0,(#REF!-#REF!)/#REF!)","v":0},{"$f":"IF(ISERROR((#REF!-#REF!)/#REF!),0,(#REF!-#REF!)/#REF!)","v":0},{"$f":"IF(ISERROR((#REF!-#REF!)/#REF!),0,(#REF!-#REF!)/#REF!)","v":0},{"$f":"IF(ISERROR((#REF!-#REF!)/#REF!),0,(#REF!-#REF!)/#REF!)","v":0},{"$f":"IF(ISERROR((#REF!-#REF!)/#REF!),0,(#REF!-#REF!)/#REF!)","v":0}]
[null,"HR04B","Reconstruction Procedures Category 3, with CC",0,14601.934155889945,0,0,55,23667.082033905175,55,210,"No","-",0,"","",{"$f":"IF(ISERROR((#REF!-#REF!)/#REF!),0,(#REF!-#REF!)/#REF!)","v":0},{"$f":"IF(ISERROR((#REF!-#REF!)/#REF!),0,(#REF!-#REF!)/#REF!)","v":0},{"$f":"IF(ISERROR((#REF!-#REF!)/#REF!),0,(#REF!-#REF!)/#REF!)","v":0},{"$f":"IF(ISERROR((#REF!-#REF!)/#REF!),0,(#REF!-#REF!)/#REF!)","v":0},{"$f":"IF(ISERROR((#REF!-#REF!)/#REF!),0,(#REF!-#REF!)/#REF!)","v":0},{"$f":"IF(ISERROR((#REF!-#REF!)/#REF!),0,(#REF!-#REF!)/#REF!)","v":0},{"$f":"IF(ISERROR((#REF!-#REF!)/#REF!),0,(#REF!-#REF!)/#REF!)","v":0},{"$f":"IF(ISERROR((#REF!-#REF!)/#REF!),0,(#REF!-#REF!)/#REF!)","v":0},{"$f":"IF(ISERROR((#REF!-#REF!)/#REF!),0,(#REF!-#REF!)/#REF!)","v":0},{"$f":"IF(ISERROR((#REF!-#REF!)/#REF!),0,(#REF!-#REF!)/#REF!)","v":0},{"$f":"IF(ISERROR((#REF!-#REF!)/#REF!),0,(#REF!-#REF!)/#REF!)","v":0},{"$f":"IF(ISERROR((#REF!-#REF!)/#REF!),0,(#REF!-#REF!)/#REF!)","v":0},{"$f":"IF(ISERROR((#REF!-#REF!)/#REF!),0,(#REF!-#REF!)/#REF!)","v":0}]
[null,"HR04C","Reconstruction Procedures Category 3, without CC",0,9703,0,0,15,10037.901116710522,15,210,"No","-",0,"","",{"$f":"IF(ISERROR((#REF!-#REF!)/#REF!),0,(#REF!-#REF!)/#REF!)","v":0},{"$f":"IF(ISERROR((#REF!-#REF!)/#REF!),0,(#REF!-#REF!)/#REF!)","v":0},{"$f":"IF(ISERROR((#REF!-#REF!)/#REF!),0,(#REF!-#REF!)/#REF!)","v":0},{"$f":"IF(ISERROR((#REF!-#REF!)/#REF!),0,(#REF!-#REF!)/#REF!)","v":0},{"$f":"IF(ISERROR((#REF!-#REF!)/#REF!),0,(#REF!-#REF!)/#REF!)","v":0},{"$f":"IF(ISERROR((#REF!-#REF!)/#REF!),0,(#REF!-#REF!)/#REF!)","v":0},{"$f":"IF(ISERROR((#REF!-#REF!)/#REF!),0,(#REF!-#REF!)/#REF!)","v":0},{"$f":"IF(ISERROR((#REF!-#REF!)/#REF!),0,(#REF!-#REF!)/#REF!)","v":0},{"$f":"IF(ISERROR((#REF!-#REF!)/#REF!),0,(#REF!-#REF!)/#REF!)","v":0},{"$f":"IF(ISERROR((#REF!-#REF!)/#REF!),0,(#REF!-#REF!)/#REF!)","v":0},{"$f":"IF(ISERROR((#REF!-#REF!)/#REF!),0,(#REF!-#REF!)/#REF!)","v":0},{"$f":"IF(ISERROR((#REF!-#REF!)/#REF!),0,(#REF!-#REF!)/#REF!)","v":0},{"$f":"IF(ISERROR((#REF!-#REF!)/#REF!),0,(#REF!-#REF!)/#REF!)","v":0}]
[null,"HR05Z","Reconstruction Procedures Category 2",0,8753,0,0,16,8753,16,210,"No","-",0,"","",{"$f":"IF(ISERROR((#REF!-#REF!)/#REF!),0,(#REF!-#REF!)/#REF!)","v":0},{"$f":"IF(ISERROR((#REF!-#REF!)/#REF!),0,(#REF!-#REF!)/#REF!)","v":0},{"$f":"IF(ISERROR((#REF!-#REF!)/#REF!),0,(#REF!-#REF!)/#REF!)","v":0},{"$f":"IF(ISERROR((#REF!-#REF!)/#REF!),0,(#REF!-#REF!)/#REF!)","v":0},{"$f":"IF(ISERROR((#REF!-#REF!)/#REF!),0,(#REF!-#REF!)/#REF!)","v":0},{"$f":"IF(ISERROR((#REF!-#REF!)/#REF!),0,(#REF!-#REF!)/#REF!)","v":0},{"$f":"IF(ISERROR((#REF!-#REF!)/#REF!),0,(#REF!-#REF!)/#REF!)","v":0},{"$f":"IF(ISERROR((#REF!-#REF!)/#REF!),0,(#REF!-#REF!)/#REF!)","v":0},{"$f":"IF(ISERROR((#REF!-#REF!)/#REF!),0,(#REF!-#REF!)/#REF!)","v":0},{"$f":"IF(ISERROR((#REF!-#REF!)/#REF!),0,(#REF!-#REF!)/#REF!)","v":0},{"$f":"IF(ISERROR((#REF!-#REF!)/#REF!),0,(#REF!-#REF!)/#REF!)","v":0},{"$f":"IF(ISERROR((#REF!-#REF!)/#REF!),0,(#REF!-#REF!)/#REF!)","v":0},{"$f":"IF(ISERROR((#REF!-#REF!)/#REF!),0,(#REF!-#REF!)/#REF!)","v":0}]
[null,"HR06A","Reconstruction Procedures Category 1, 19 years and over",0,6795,0,0,9,6795,9,210,"No","-",0,"","",{"$f":"IF(ISERROR((#REF!-#REF!)/#REF!),0,(#REF!-#REF!)/#REF!)","v":0},{"$f":"IF(ISERROR((#REF!-#REF!)/#REF!),0,(#REF!-#REF!)/#REF!)","v":0},{"$f":"IF(ISERROR((#REF!-#REF!)/#REF!),0,(#REF!-#REF!)/#REF!)","v":0},{"$f":"IF(ISERROR((#REF!-#REF!)/#REF!),0,(#REF!-#REF!)/#REF!)","v":0},{"$f":"IF(ISERROR((#REF!-#REF!)/#REF!),0,(#REF!-#REF!)/#REF!)","v":0},{"$f":"IF(ISERROR((#REF!-#REF!)/#REF!),0,(#REF!-#REF!)/#REF!)","v":0},{"$f":"IF(ISERROR((#REF!-#REF!)/#REF!),0,(#REF!-#REF!)/#REF!)","v":0},{"$f":"IF(ISERROR((#REF!-#REF!)/#REF!),0,(#REF!-#REF!)/#REF!)","v":0},{"$f":"IF(ISERROR((#REF!-#REF!)/#REF!),0,(#REF!-#REF!)/#REF!)","v":0},{"$f":"IF(ISERROR((#REF!-#REF!)/#REF!),0,(#REF!-#REF!)/#REF!)","v":0},{"$f":"IF(ISERROR((#REF!-#REF!)/#REF!),0,(#REF!-#REF!)/#REF!)","v":0},{"$f":"IF(ISERROR((#REF!-#REF!)/#REF!),0,(#REF!-#REF!)/#REF!)","v":0},{"$f":"IF(ISERROR((#REF!-#REF!)/#REF!),0,(#REF!-#REF!)/#REF!)","v":0}]
[null,"HR06B","Reconstruction Procedures Category 1, 18 years and under",0,5586,0,0,5,9277.847580254007,5,317,"No","-",0,"","",{"$f":"IF(ISERROR((#REF!-#REF!)/#REF!),0,(#REF!-#REF!)/#REF!)","v":0},{"$f":"IF(ISERROR((#REF!-#REF!)/#REF!),0,(#REF!-#REF!)/#REF!)","v":0},{"$f":"IF(ISERROR((#REF!-#REF!)/#REF!),0,(#REF!-#REF!)/#REF!)","v":0},{"$f":"IF(ISERROR((#REF!-#REF!)/#REF!),0,(#REF!-#REF!)/#REF!)","v":0},{"$f":"IF(ISERROR((#REF!-#REF!)/#REF!),0,(#REF!-#REF!)/#REF!)","v":0},{"$f":"IF(ISERROR((#REF!-#REF!)/#REF!),0,(#REF!-#REF!)/#REF!)","v":0},{"$f":"IF(ISERROR((#REF!-#REF!)/#REF!),0,(#REF!-#REF!)/#REF!)","v":0},{"$f":"IF(ISERROR((#REF!-#REF!)/#REF!),0,(#REF!-#REF!)/#REF!)","v":0},{"$f":"IF(ISERROR((#REF!-#REF!)/#REF!),0,(#REF!-#REF!)/#REF!)","v":0},{"$f":"IF(ISERROR((#REF!-#REF!)/#REF!),0,(#REF!-#REF!)/#REF!)","v":0},{"$f":"IF(ISERROR((#REF!-#REF!)/#REF!),0,(#REF!-#REF!)/#REF!)","v":0},{"$f":"IF(ISERROR((#REF!-#REF!)/#REF!),0,(#REF!-#REF!)/#REF!)","v":0},{"$f":"IF(ISERROR((#REF!-#REF!)/#REF!),0,(#REF!-#REF!)/#REF!)","v":0}]
[null,"JA12A","Malignant Breast Disorders with Major CC",0,526,0,0,5,3061,27,207,"Yes",0.30000000000000004,918.30000000000018,"","",{"$f":"IF(ISERROR((#REF!-#REF!)/#REF!),0,(#REF!-#REF!)/#REF!)","v":0},{"$f":"IF(ISERROR((#REF!-#REF!)/#REF!),0,(#REF!-#REF!)/#REF!)","v":0},{"$f":"IF(ISERROR((#REF!-#REF!)/#REF!),0,(#REF!-#REF!)/#REF!)","v":0},{"$f":"IF(ISERROR((#REF!-#REF!)/#REF!),0,(#REF!-#REF!)/#REF!)","v":0},{"$f":"IF(ISERROR((#REF!-#REF!)/#REF!),0,(#REF!-#REF!)/#REF!)","v":0},{"$f":"IF(ISERROR((#REF!-#REF!)/#REF!),0,(#REF!-#REF!)/#REF!)","v":0},{"$f":"IF(ISERROR((#REF!-#REF!)/#REF!),0,(#REF!-#REF!)/#REF!)","v":0},{"$f":"IF(ISERROR((#REF!-#REF!)/#REF!),0,(#REF!-#REF!)/#REF!)","v":0},{"$f":"IF(ISERROR((#REF!-#REF!)/#REF!),0,(#REF!-#REF!)/#REF!)","v":0},{"$f":"IF(ISERROR((#REF!-#REF!)/#REF!),0,(#REF!-#REF!)/#REF!)","v":0},{"$f":"IF(ISERROR((#REF!-#REF!)/#REF!),0,(#REF!-#REF!)/#REF!)","v":0},{"$f":"IF(ISERROR((#REF!-#REF!)/#REF!),0,(#REF!-#REF!)/#REF!)","v":0},{"$f":"IF(ISERROR((#REF!-#REF!)/#REF!),0,(#REF!-#REF!)/#REF!)","v":0}]
[null,"JA12B","Malignant Breast Disorders with Intermediate CC",0,366,0,0,5,1504,8,207,"Yes",0.4,601.6,"","",{"$f":"IF(ISERROR((#REF!-#REF!)/#REF!),0,(#REF!-#REF!)/#REF!)","v":0},{"$f":"IF(ISERROR((#REF!-#REF!)/#REF!),0,(#REF!-#REF!)/#REF!)","v":0},{"$f":"IF(ISERROR((#REF!-#REF!)/#REF!),0,(#REF!-#REF!)/#REF!)","v":0},{"$f":"IF(ISERROR((#REF!-#REF!)/#REF!),0,(#REF!-#REF!)/#REF!)","v":0},{"$f":"IF(ISERROR((#REF!-#REF!)/#REF!),0,(#REF!-#REF!)/#REF!)","v":0},{"$f":"IF(ISERROR((#REF!-#REF!)/#REF!),0,(#REF!-#REF!)/#REF!)","v":0},{"$f":"IF(ISERROR((#REF!-#REF!)/#REF!),0,(#REF!-#REF!)/#REF!)","v":0},{"$f":"IF(ISERROR((#REF!-#REF!)/#REF!),0,(#REF!-#REF!)/#REF!)","v":0},{"$f":"IF(ISERROR((#REF!-#REF!)/#REF!),0,(#REF!-#REF!)/#REF!)","v":0},{"$f":"IF(ISERROR((#REF!-#REF!)/#REF!),0,(#REF!-#REF!)/#REF!)","v":0},{"$f":"IF(ISERROR((#REF!-#REF!)/#REF!),0,(#REF!-#REF!)/#REF!)","v":0},{"$f":"IF(ISERROR((#REF!-#REF!)/#REF!),0,(#REF!-#REF!)/#REF!)","v":0},{"$f":"IF(ISERROR((#REF!-#REF!)/#REF!),0,(#REF!-#REF!)/#REF!)","v":0}]
[null,"JA12C","Malignant Breast Disorders without CC",0,366,0,0,5,539,5,207,"Yes",0.65,350.35,"","",{"$f":"IF(ISERROR((#REF!-#REF!)/#REF!),0,(#REF!-#REF!)/#REF!)","v":0},{"$f":"IF(ISERROR((#REF!-#REF!)/#REF!),0,(#REF!-#REF!)/#REF!)","v":0},{"$f":"IF(ISERROR((#REF!-#REF!)/#REF!),0,(#REF!-#REF!)/#REF!)","v":0},{"$f":"IF(ISERROR((#REF!-#REF!)/#REF!),0,(#REF!-#REF!)/#REF!)","v":0},{"$f":"IF(ISERROR((#REF!-#REF!)/#REF!),0,(#REF!-#REF!)/#REF!)","v":0},{"$f":"IF(ISERROR((#REF!-#REF!)/#REF!),0,(#REF!-#REF!)/#REF!)","v":0},{"$f":"IF(ISERROR((#REF!-#REF!)/#REF!),0,(#REF!-#REF!)/#REF!)","v":0},{"$f":"IF(ISERROR((#REF!-#REF!)/#REF!),0,(#REF!-#REF!)/#REF!)","v":0},{"$f":"IF(ISERROR((#REF!-#REF!)/#REF!),0,(#REF!-#REF!)/#REF!)","v":0},{"$f":"IF(ISERROR((#REF!-#REF!)/#REF!),0,(#REF!-#REF!)/#REF!)","v":0},{"$f":"IF(ISERROR((#REF!-#REF!)/#REF!),0,(#REF!-#REF!)/#REF!)","v":0},{"$f":"IF(ISERROR((#REF!-#REF!)/#REF!),0,(#REF!-#REF!)/#REF!)","v":0},{"$f":"IF(ISERROR((#REF!-#REF!)/#REF!),0,(#REF!-#REF!)/#REF!)","v":0}]
[null,"JA13Z","Non-Malignant Breast Disorders",0,1047,0,0,5,972,5,207,"Yes",0.65,631.80000000000007,"","",{"$f":"IF(ISERROR((#REF!-#REF!)/#REF!),0,(#REF!-#REF!)/#REF!)","v":0},{"$f":"IF(ISERROR((#REF!-#REF!)/#REF!),0,(#REF!-#REF!)/#REF!)","v":0},{"$f":"IF(ISERROR((#REF!-#REF!)/#REF!),0,(#REF!-#REF!)/#REF!)","v":0},{"$f":"IF(ISERROR((#REF!-#REF!)/#REF!),0,(#REF!-#REF!)/#REF!)","v":0},{"$f":"IF(ISERROR((#REF!-#REF!)/#REF!),0,(#REF!-#REF!)/#REF!)","v":0},{"$f":"IF(ISERROR((#REF!-#REF!)/#REF!),0,(#REF!-#REF!)/#REF!)","v":0},{"$f":"IF(ISERROR((#REF!-#REF!)/#REF!),0,(#REF!-#REF!)/#REF!)","v":0},{"$f":"IF(ISERROR((#REF!-#REF!)/#REF!),0,(#REF!-#REF!)/#REF!)","v":0},{"$f":"IF(ISERROR((#REF!-#REF!)/#REF!),0,(#REF!-#REF!)/#REF!)","v":0},{"$f":"IF(ISERROR((#REF!-#REF!)/#REF!),0,(#REF!-#REF!)/#REF!)","v":0},{"$f":"IF(ISERROR((#REF!-#REF!)/#REF!),0,(#REF!-#REF!)/#REF!)","v":0},{"$f":"IF(ISERROR((#REF!-#REF!)/#REF!),0,(#REF!-#REF!)/#REF!)","v":0},{"$f":"IF(ISERROR((#REF!-#REF!)/#REF!),0,(#REF!-#REF!)/#REF!)","v":0}]
[null,"JA14Z","Free Perforator Flap Breast Reconstruction",0,7522,0,0,10,6789,15,207,"No","-",0,"","",{"$f":"IF(ISERROR((#REF!-#REF!)/#REF!),0,(#REF!-#REF!)/#REF!)","v":0},{"$f":"IF(ISERROR((#REF!-#REF!)/#REF!),0,(#REF!-#REF!)/#REF!)","v":0},{"$f":"IF(ISERROR((#REF!-#REF!)/#REF!),0,(#REF!-#REF!)/#REF!)","v":0},{"$f":"IF(ISERROR((#REF!-#REF!)/#REF!),0,(#REF!-#REF!)/#REF!)","v":0},{"$f":"IF(ISERROR((#REF!-#REF!)/#REF!),0,(#REF!-#REF!)/#REF!)","v":0},{"$f":"IF(ISERROR((#REF!-#REF!)/#REF!),0,(#REF!-#REF!)/#REF!)","v":0},{"$f":"IF(ISERROR((#REF!-#REF!)/#REF!),0,(#REF!-#REF!)/#REF!)","v":0},{"$f":"IF(ISERROR((#REF!-#REF!)/#REF!),0,(#REF!-#REF!)/#REF!)","v":0},{"$f":"IF(ISERROR((#REF!-#REF!)/#REF!),0,(#REF!-#REF!)/#REF!)","v":0},{"$f":"IF(ISERROR((#REF!-#REF!)/#REF!),0,(#REF!-#REF!)/#REF!)","v":0},{"$f":"IF(ISERROR((#REF!-#REF!)/#REF!),0,(#REF!-#REF!)/#REF!)","v":0},{"$f":"IF(ISERROR((#REF!-#REF!)/#REF!),0,(#REF!-#REF!)/#REF!)","v":0},{"$f":"IF(ISERROR((#REF!-#REF!)/#REF!),0,(#REF!-#REF!)/#REF!)","v":0}]
[null,"JA18A","Unilateral Minor Breast Procedures with Major CC",0,1182,0,0,5,3209,37,207,"No","-",0,"","",{"$f":"IF(ISERROR((#REF!-#REF!)/#REF!),0,(#REF!-#REF!)/#REF!)","v":0},{"$f":"IF(ISERROR((#REF!-#REF!)/#REF!),0,(#REF!-#REF!)/#REF!)","v":0},{"$f":"IF(ISERROR((#REF!-#REF!)/#REF!),0,(#REF!-#REF!)/#REF!)","v":0},{"$f":"IF(ISERROR((#REF!-#REF!)/#REF!),0,(#REF!-#REF!)/#REF!)","v":0},{"$f":"IF(ISERROR((#REF!-#REF!)/#REF!),0,(#REF!-#REF!)/#REF!)","v":0},{"$f":"IF(ISERROR((#REF!-#REF!)/#REF!),0,(#REF!-#REF!)/#REF!)","v":0},{"$f":"IF(ISERROR((#REF!-#REF!)/#REF!),0,(#REF!-#REF!)/#REF!)","v":0},{"$f":"IF(ISERROR((#REF!-#REF!)/#REF!),0,(#REF!-#REF!)/#REF!)","v":0},{"$f":"IF(ISERROR((#REF!-#REF!)/#REF!),0,(#REF!-#REF!)/#REF!)","v":0},{"$f":"IF(ISERROR((#REF!-#REF!)/#REF!),0,(#REF!-#REF!)/#REF!)","v":0},{"$f":"IF(ISERROR((#REF!-#REF!)/#REF!),0,(#REF!-#REF!)/#REF!)","v":0},{"$f":"IF(ISERROR((#REF!-#REF!)/#REF!),0,(#REF!-#REF!)/#REF!)","v":0},{"$f":"IF(ISERROR((#REF!-#REF!)/#REF!),0,(#REF!-#REF!)/#REF!)","v":0}]
[null,"JA18B","Unilateral Minor Breast Procedures with Intermediate CC",0,855,0,0,5,1487,9,207,"No","-",0,"","",{"$f":"IF(ISERROR((#REF!-#REF!)/#REF!),0,(#REF!-#REF!)/#REF!)","v":0},{"$f":"IF(ISERROR((#REF!-#REF!)/#REF!),0,(#REF!-#REF!)/#REF!)","v":0},{"$f":"IF(ISERROR((#REF!-#REF!)/#REF!),0,(#REF!-#REF!)/#REF!)","v":0},{"$f":"IF(ISERROR((#REF!-#REF!)/#REF!),0,(#REF!-#REF!)/#REF!)","v":0},{"$f":"IF(ISERROR((#REF!-#REF!)/#REF!),0,(#REF!-#REF!)/#REF!)","v":0},{"$f":"IF(ISERROR((#REF!-#REF!)/#REF!),0,(#REF!-#REF!)/#REF!)","v":0},{"$f":"IF(ISERROR((#REF!-#REF!)/#REF!),0,(#REF!-#REF!)/#REF!)","v":0},{"$f":"IF(ISERROR((#REF!-#REF!)/#REF!),0,(#REF!-#REF!)/#REF!)","v":0},{"$f":"IF(ISERROR((#REF!-#REF!)/#REF!),0,(#REF!-#REF!)/#REF!)","v":0},{"$f":"IF(ISERROR((#REF!-#REF!)/#REF!),0,(#REF!-#REF!)/#REF!)","v":0},{"$f":"IF(ISERROR((#REF!-#REF!)/#REF!),0,(#REF!-#REF!)/#REF!)","v":0},{"$f":"IF(ISERROR((#REF!-#REF!)/#REF!),0,(#REF!-#REF!)/#REF!)","v":0},{"$f":"IF(ISERROR((#REF!-#REF!)/#REF!),0,(#REF!-#REF!)/#REF!)","v":0}]
[null,"JA18C","Unilateral Minor Breast Procedures without CC",317,623,0,0,5,936,5,207,"No","-",0,"","",{"$f":"IF(ISERROR((#REF!-#REF!)/#REF!),0,(#REF!-#REF!)/#REF!)","v":0},{"$f":"IF(ISERROR((#REF!-#REF!)/#REF!),0,(#REF!-#REF!)/#REF!)","v":0},{"$f":"IF(ISERROR((#REF!-#REF!)/#REF!),0,(#REF!-#REF!)/#REF!)","v":0},{"$f":"IF(ISERROR((#REF!-#REF!)/#REF!),0,(#REF!-#REF!)/#REF!)","v":0},{"$f":"IF(ISERROR((#REF!-#REF!)/#REF!),0,(#REF!-#REF!)/#REF!)","v":0},{"$f":"IF(ISERROR((#REF!-#REF!)/#REF!),0,(#REF!-#REF!)/#REF!)","v":0},{"$f":"IF(ISERROR((#REF!-#REF!)/#REF!),0,(#REF!-#REF!)/#REF!)","v":0},{"$f":"IF(ISERROR((#REF!-#REF!)/#REF!),0,(#REF!-#REF!)/#REF!)","v":0},{"$f":"IF(ISERROR((#REF!-#REF!)/#REF!),0,(#REF!-#REF!)/#REF!)","v":0},{"$f":"IF(ISERROR((#REF!-#REF!)/#REF!),0,(#REF!-#REF!)/#REF!)","v":0},{"$f":"IF(ISERROR((#REF!-#REF!)/#REF!),0,(#REF!-#REF!)/#REF!)","v":0},{"$f":"IF(ISERROR((#REF!-#REF!)/#REF!),0,(#REF!-#REF!)/#REF!)","v":0},{"$f":"IF(ISERROR((#REF!-#REF!)/#REF!),0,(#REF!-#REF!)/#REF!)","v":0}]
[null,"JA19Z","Bilateral Minor Breast Procedures",0,649,0,0,5,1774,50,207,"No","-",0,"","",{"$f":"IF(ISERROR((#REF!-#REF!)/#REF!),0,(#REF!-#REF!)/#REF!)","v":0},{"$f":"IF(ISERROR((#REF!-#REF!)/#REF!),0,(#REF!-#REF!)/#REF!)","v":0},{"$f":"IF(ISERROR((#REF!-#REF!)/#REF!),0,(#REF!-#REF!)/#REF!)","v":0},{"$f":"IF(ISERROR((#REF!-#REF!)/#REF!),0,(#REF!-#REF!)/#REF!)","v":0},{"$f":"IF(ISERROR((#REF!-#REF!)/#REF!),0,(#REF!-#REF!)/#REF!)","v":0},{"$f":"IF(ISERROR((#REF!-#REF!)/#REF!),0,(#REF!-#REF!)/#REF!)","v":0},{"$f":"IF(ISERROR((#REF!-#REF!)/#REF!),0,(#REF!-#REF!)/#REF!)","v":0},{"$f":"IF(ISERROR((#REF!-#REF!)/#REF!),0,(#REF!-#REF!)/#REF!)","v":0},{"$f":"IF(ISERROR((#REF!-#REF!)/#REF!),0,(#REF!-#REF!)/#REF!)","v":0},{"$f":"IF(ISERROR((#REF!-#REF!)/#REF!),0,(#REF!-#REF!)/#REF!)","v":0},{"$f":"IF(ISERROR((#REF!-#REF!)/#REF!),0,(#REF!-#REF!)/#REF!)","v":0},{"$f":"IF(ISERROR((#REF!-#REF!)/#REF!),0,(#REF!-#REF!)/#REF!)","v":0},{"$f":"IF(ISERROR((#REF!-#REF!)/#REF!),0,(#REF!-#REF!)/#REF!)","v":0}]
[null,"JA20A","Unilateral Major Breast Procedures with Major CC",0,2306,0,0,5,3689,52,207,"No","-",0,"","",{"$f":"IF(ISERROR((#REF!-#REF!)/#REF!),0,(#REF!-#REF!)/#REF!)","v":0},{"$f":"IF(ISERROR((#REF!-#REF!)/#REF!),0,(#REF!-#REF!)/#REF!)","v":0},{"$f":"IF(ISERROR((#REF!-#REF!)/#REF!),0,(#REF!-#REF!)/#REF!)","v":0},{"$f":"IF(ISERROR((#REF!-#REF!)/#REF!),0,(#REF!-#REF!)/#REF!)","v":0},{"$f":"IF(ISERROR((#REF!-#REF!)/#REF!),0,(#REF!-#REF!)/#REF!)","v":0},{"$f":"IF(ISERROR((#REF!-#REF!)/#REF!),0,(#REF!-#REF!)/#REF!)","v":0},{"$f":"IF(ISERROR((#REF!-#REF!)/#REF!),0,(#REF!-#REF!)/#REF!)","v":0},{"$f":"IF(ISERROR((#REF!-#REF!)/#REF!),0,(#REF!-#REF!)/#REF!)","v":0},{"$f":"IF(ISERROR((#REF!-#REF!)/#REF!),0,(#REF!-#REF!)/#REF!)","v":0},{"$f":"IF(ISERROR((#REF!-#REF!)/#REF!),0,(#REF!-#REF!)/#REF!)","v":0},{"$f":"IF(ISERROR((#REF!-#REF!)/#REF!),0,(#REF!-#REF!)/#REF!)","v":0},{"$f":"IF(ISERROR((#REF!-#REF!)/#REF!),0,(#REF!-#REF!)/#REF!)","v":0},{"$f":"IF(ISERROR((#REF!-#REF!)/#REF!),0,(#REF!-#REF!)/#REF!)","v":0}]
[null,"JA20B","Unilateral Major Breast Procedures with Intermediate CC",0,2105,0,0,5,3212,14,207,"No","-",0,1,"sub-HRG",{"$f":"IF(ISERROR((#REF!-#REF!)/#REF!),0,(#REF!-#REF!)/#REF!)","v":0},{"$f":"IF(ISERROR((#REF!-#REF!)/#REF!),0,(#REF!-#REF!)/#REF!)","v":0},{"$f":"IF(ISERROR((#REF!-#REF!)/#REF!),0,(#REF!-#REF!)/#REF!)","v":0},{"$f":"IF(ISERROR((#REF!-#REF!)/#REF!),0,(#REF!-#REF!)/#REF!)","v":0},{"$f":"IF(ISERROR((#REF!-#REF!)/#REF!),0,(#REF!-#REF!)/#REF!)","v":0},{"$f":"IF(ISERROR((#REF!-#REF!)/#REF!),0,(#REF!-#REF!)/#REF!)","v":0},{"$f":"IF(ISERROR((#REF!-#REF!)/#REF!),0,(#REF!-#REF!)/#REF!)","v":0},{"$f":"IF(ISERROR((#REF!-#REF!)/#REF!),0,(#REF!-#REF!)/#REF!)","v":0},{"$f":"IF(ISERROR((#REF!-#REF!)/#REF!),0,(#REF!-#REF!)/#REF!)","v":0},{"$f":"IF(ISERROR((#REF!-#REF!)/#REF!),0,(#REF!-#REF!)/#REF!)","v":0},{"$f":"IF(ISERROR((#REF!-#REF!)/#REF!),0,(#REF!-#REF!)/#REF!)","v":0},{"$f":"IF(ISERROR((#REF!-#REF!)/#REF!),0,(#REF!-#REF!)/#REF!)","v":0},{"$f":"IF(ISERROR((#REF!-#REF!)/#REF!),0,(#REF!-#REF!)/#REF!)","v":0}]
[null,"JA20C","Unilateral Major Breast Procedures without CC",0,1910,0,0,5,1782,10,207,"No","-",0,1,"sub-HRG",{"$f":"IF(ISERROR((#REF!-#REF!)/#REF!),0,(#REF!-#REF!)/#REF!)","v":0},{"$f":"IF(ISERROR((#REF!-#REF!)/#REF!),0,(#REF!-#REF!)/#REF!)","v":0},{"$f":"IF(ISERROR((#REF!-#REF!)/#REF!),0,(#REF!-#REF!)/#REF!)","v":0},{"$f":"IF(ISERROR((#REF!-#REF!)/#REF!),0,(#REF!-#REF!)/#REF!)","v":0},{"$f":"IF(ISERROR((#REF!-#REF!)/#REF!),0,(#REF!-#REF!)/#REF!)","v":0},{"$f":"IF(ISERROR((#REF!-#REF!)/#REF!),0,(#REF!-#REF!)/#REF!)","v":0},{"$f":"IF(ISERROR((#REF!-#REF!)/#REF!),0,(#REF!-#REF!)/#REF!)","v":0},{"$f":"IF(ISERROR((#REF!-#REF!)/#REF!),0,(#REF!-#REF!)/#REF!)","v":0},{"$f":"IF(ISERROR((#REF!-#REF!)/#REF!),0,(#REF!-#REF!)/#REF!)","v":0},{"$f":"IF(ISERROR((#REF!-#REF!)/#REF!),0,(#REF!-#REF!)/#REF!)","v":0},{"$f":"IF(ISERROR((#REF!-#REF!)/#REF!),0,(#REF!-#REF!)/#REF!)","v":0},{"$f":"IF(ISERROR((#REF!-#REF!)/#REF!),0,(#REF!-#REF!)/#REF!)","v":0},{"$f":"IF(ISERROR((#REF!-#REF!)/#REF!),0,(#REF!-#REF!)/#REF!)","v":0}]
[null,"JA21A","Bilateral Major Breast Procedures with CC",0,2907,0,0,6,2856,49,207,"No","-",0,"","",{"$f":"IF(ISERROR((#REF!-#REF!)/#REF!),0,(#REF!-#REF!)/#REF!)","v":0},{"$f":"IF(ISERROR((#REF!-#REF!)/#REF!),0,(#REF!-#REF!)/#REF!)","v":0},{"$f":"IF(ISERROR((#REF!-#REF!)/#REF!),0,(#REF!-#REF!)/#REF!)","v":0},{"$f":"IF(ISERROR((#REF!-#REF!)/#REF!),0,(#REF!-#REF!)/#REF!)","v":0},{"$f":"IF(ISERROR((#REF!-#REF!)/#REF!),0,(#REF!-#REF!)/#REF!)","v":0},{"$f":"IF(ISERROR((#REF!-#REF!)/#REF!),0,(#REF!-#REF!)/#REF!)","v":0},{"$f":"IF(ISERROR((#REF!-#REF!)/#REF!),0,(#REF!-#REF!)/#REF!)","v":0},{"$f":"IF(ISERROR((#REF!-#REF!)/#REF!),0,(#REF!-#REF!)/#REF!)","v":0},{"$f":"IF(ISERROR((#REF!-#REF!)/#REF!),0,(#REF!-#REF!)/#REF!)","v":0},{"$f":"IF(ISERROR((#REF!-#REF!)/#REF!),0,(#REF!-#REF!)/#REF!)","v":0},{"$f":"IF(ISERROR((#REF!-#REF!)/#REF!),0,(#REF!-#REF!)/#REF!)","v":0},{"$f":"IF(ISERROR((#REF!-#REF!)/#REF!),0,(#REF!-#REF!)/#REF!)","v":0},{"$f":"IF(ISERROR((#REF!-#REF!)/#REF!),0,(#REF!-#REF!)/#REF!)","v":0}]
[null,"JA21B","Bilateral Major Breast Procedures without CC",0,2535,0,0,5,2072,17,207,"No","-",0,"","",{"$f":"IF(ISERROR((#REF!-#REF!)/#REF!),0,(#REF!-#REF!)/#REF!)","v":0},{"$f":"IF(ISERROR((#REF!-#REF!)/#REF!),0,(#REF!-#REF!)/#REF!)","v":0},{"$f":"IF(ISERROR((#REF!-#REF!)/#REF!),0,(#REF!-#REF!)/#REF!)","v":0},{"$f":"IF(ISERROR((#REF!-#REF!)/#REF!),0,(#REF!-#REF!)/#REF!)","v":0},{"$f":"IF(ISERROR((#REF!-#REF!)/#REF!),0,(#REF!-#REF!)/#REF!)","v":0},{"$f":"IF(ISERROR((#REF!-#REF!)/#REF!),0,(#REF!-#REF!)/#REF!)","v":0},{"$f":"IF(ISERROR((#REF!-#REF!)/#REF!),0,(#REF!-#REF!)/#REF!)","v":0},{"$f":"IF(ISERROR((#REF!-#REF!)/#REF!),0,(#REF!-#REF!)/#REF!)","v":0},{"$f":"IF(ISERROR((#REF!-#REF!)/#REF!),0,(#REF!-#REF!)/#REF!)","v":0},{"$f":"IF(ISERROR((#REF!-#REF!)/#REF!),0,(#REF!-#REF!)/#REF!)","v":0},{"$f":"IF(ISERROR((#REF!-#REF!)/#REF!),0,(#REF!-#REF!)/#REF!)","v":0},{"$f":"IF(ISERROR((#REF!-#REF!)/#REF!),0,(#REF!-#REF!)/#REF!)","v":0},{"$f":"IF(ISERROR((#REF!-#REF!)/#REF!),0,(#REF!-#REF!)/#REF!)","v":0}]
[null,"JA24A","Unilateral Intermediate Breast Procedures with Major CC",0,1454,0,0,5,5301,46,207,"No","-",0,1,"sub-HRG",{"$f":"IF(ISERROR((#REF!-#REF!)/#REF!),0,(#REF!-#REF!)/#REF!)","v":0},{"$f":"IF(ISERROR((#REF!-#REF!)/#REF!),0,(#REF!-#REF!)/#REF!)","v":0},{"$f":"IF(ISERROR((#REF!-#REF!)/#REF!),0,(#REF!-#REF!)/#REF!)","v":0},{"$f":"IF(ISERROR((#REF!-#REF!)/#REF!),0,(#REF!-#REF!)/#REF!)","v":0},{"$f":"IF(ISERROR((#REF!-#REF!)/#REF!),0,(#REF!-#REF!)/#REF!)","v":0},{"$f":"IF(ISERROR((#REF!-#REF!)/#REF!),0,(#REF!-#REF!)/#REF!)","v":0},{"$f":"IF(ISERROR((#REF!-#REF!)/#REF!),0,(#REF!-#REF!)/#REF!)","v":0},{"$f":"IF(ISERROR((#REF!-#REF!)/#REF!),0,(#REF!-#REF!)/#REF!)","v":0},{"$f":"IF(ISERROR((#REF!-#REF!)/#REF!),0,(#REF!-#REF!)/#REF!)","v":0},{"$f":"IF(ISERROR((#REF!-#REF!)/#REF!),0,(#REF!-#REF!)/#REF!)","v":0},{"$f":"IF(ISERROR((#REF!-#REF!)/#REF!),0,(#REF!-#REF!)/#REF!)","v":0},{"$f":"IF(ISERROR((#REF!-#REF!)/#REF!),0,(#REF!-#REF!)/#REF!)","v":0},{"$f":"IF(ISERROR((#REF!-#REF!)/#REF!),0,(#REF!-#REF!)/#REF!)","v":0}]
[null,"JA24B","Unilateral Intermediate Breast Procedures with Intermediate CC",0,1373,0,0,5,2759,20,207,"No","-",0,1,"sub-HRG",{"$f":"IF(ISERROR((#REF!-#REF!)/#REF!),0,(#REF!-#REF!)/#REF!)","v":0},{"$f":"IF(ISERROR((#REF!-#REF!)/#REF!),0,(#REF!-#REF!)/#REF!)","v":0},{"$f":"IF(ISERROR((#REF!-#REF!)/#REF!),0,(#REF!-#REF!)/#REF!)","v":0},{"$f":"IF(ISERROR((#REF!-#REF!)/#REF!),0,(#REF!-#REF!)/#REF!)","v":0},{"$f":"IF(ISERROR((#REF!-#REF!)/#REF!),0,(#REF!-#REF!)/#REF!)","v":0},{"$f":"IF(ISERROR((#REF!-#REF!)/#REF!),0,(#REF!-#REF!)/#REF!)","v":0},{"$f":"IF(ISERROR((#REF!-#REF!)/#REF!),0,(#REF!-#REF!)/#REF!)","v":0},{"$f":"IF(ISERROR((#REF!-#REF!)/#REF!),0,(#REF!-#REF!)/#REF!)","v":0},{"$f":"IF(ISERROR((#REF!-#REF!)/#REF!),0,(#REF!-#REF!)/#REF!)","v":0},{"$f":"IF(ISERROR((#REF!-#REF!)/#REF!),0,(#REF!-#REF!)/#REF!)","v":0},{"$f":"IF(ISERROR((#REF!-#REF!)/#REF!),0,(#REF!-#REF!)/#REF!)","v":0},{"$f":"IF(ISERROR((#REF!-#REF!)/#REF!),0,(#REF!-#REF!)/#REF!)","v":0},{"$f":"IF(ISERROR((#REF!-#REF!)/#REF!),0,(#REF!-#REF!)/#REF!)","v":0}]
[null,"JA24C","Unilateral Intermediate Breast Procedures without CC",0,1196,0,0,5,2094,11,207,"No","-",0,1,"sub-HRG",{"$f":"IF(ISERROR((#REF!-#REF!)/#REF!),0,(#REF!-#REF!)/#REF!)","v":0},{"$f":"IF(ISERROR((#REF!-#REF!)/#REF!),0,(#REF!-#REF!)/#REF!)","v":0},{"$f":"IF(ISERROR((#REF!-#REF!)/#REF!),0,(#REF!-#REF!)/#REF!)","v":0},{"$f":"IF(ISERROR((#REF!-#REF!)/#REF!),0,(#REF!-#REF!)/#REF!)","v":0},{"$f":"IF(ISERROR((#REF!-#REF!)/#REF!),0,(#REF!-#REF!)/#REF!)","v":0},{"$f":"IF(ISERROR((#REF!-#REF!)/#REF!),0,(#REF!-#REF!)/#REF!)","v":0},{"$f":"IF(ISERROR((#REF!-#REF!)/#REF!),0,(#REF!-#REF!)/#REF!)","v":0},{"$f":"IF(ISERROR((#REF!-#REF!)/#REF!),0,(#REF!-#REF!)/#REF!)","v":0},{"$f":"IF(ISERROR((#REF!-#REF!)/#REF!),0,(#REF!-#REF!)/#REF!)","v":0},{"$f":"IF(ISERROR((#REF!-#REF!)/#REF!),0,(#REF!-#REF!)/#REF!)","v":0},{"$f":"IF(ISERROR((#REF!-#REF!)/#REF!),0,(#REF!-#REF!)/#REF!)","v":0},{"$f":"IF(ISERROR((#REF!-#REF!)/#REF!),0,(#REF!-#REF!)/#REF!)","v":0},{"$f":"IF(ISERROR((#REF!-#REF!)/#REF!),0,(#REF!-#REF!)/#REF!)","v":0}]
[null,"JA25Z","Bilateral Intermediate Breast Procedures",0,1460,0,0,5,2147,28,207,"No","-",0,"","",{"$f":"IF(ISERROR((#REF!-#REF!)/#REF!),0,(#REF!-#REF!)/#REF!)","v":0},{"$f":"IF(ISERROR((#REF!-#REF!)/#REF!),0,(#REF!-#REF!)/#REF!)","v":0},{"$f":"IF(ISERROR((#REF!-#REF!)/#REF!),0,(#REF!-#REF!)/#REF!)","v":0},{"$f":"IF(ISERROR((#REF!-#REF!)/#REF!),0,(#REF!-#REF!)/#REF!)","v":0},{"$f":"IF(ISERROR((#REF!-#REF!)/#REF!),0,(#REF!-#REF!)/#REF!)","v":0},{"$f":"IF(ISERROR((#REF!-#REF!)/#REF!),0,(#REF!-#REF!)/#REF!)","v":0},{"$f":"IF(ISERROR((#REF!-#REF!)/#REF!),0,(#REF!-#REF!)/#REF!)","v":0},{"$f":"IF(ISERROR((#REF!-#REF!)/#REF!),0,(#REF!-#REF!)/#REF!)","v":0},{"$f":"IF(ISERROR((#REF!-#REF!)/#REF!),0,(#REF!-#REF!)/#REF!)","v":0},{"$f":"IF(ISERROR((#REF!-#REF!)/#REF!),0,(#REF!-#REF!)/#REF!)","v":0},{"$f":"IF(ISERROR((#REF!-#REF!)/#REF!),0,(#REF!-#REF!)/#REF!)","v":0},{"$f":"IF(ISERROR((#REF!-#REF!)/#REF!),0,(#REF!-#REF!)/#REF!)","v":0},{"$f":"IF(ISERROR((#REF!-#REF!)/#REF!),0,(#REF!-#REF!)/#REF!)","v":0}]
[null,"JA26Z","Major Breast Procedures with Lymph Node Surgery",0,2833,0,0,6,2959,37,207,"No","-",0,1,"sub-HRG",{"$f":"IF(ISERROR((#REF!-#REF!)/#REF!),0,(#REF!-#REF!)/#REF!)","v":0},{"$f":"IF(ISERROR((#REF!-#REF!)/#REF!),0,(#REF!-#REF!)/#REF!)","v":0},{"$f":"IF(ISERROR((#REF!-#REF!)/#REF!),0,(#REF!-#REF!)/#REF!)","v":0},{"$f":"IF(ISERROR((#REF!-#REF!)/#REF!),0,(#REF!-#REF!)/#REF!)","v":0},{"$f":"IF(ISERROR((#REF!-#REF!)/#REF!),0,(#REF!-#REF!)/#REF!)","v":0},{"$f":"IF(ISERROR((#REF!-#REF!)/#REF!),0,(#REF!-#REF!)/#REF!)","v":0},{"$f":"IF(ISERROR((#REF!-#REF!)/#REF!),0,(#REF!-#REF!)/#REF!)","v":0},{"$f":"IF(ISERROR((#REF!-#REF!)/#REF!),0,(#REF!-#REF!)/#REF!)","v":0},{"$f":"IF(ISERROR((#REF!-#REF!)/#REF!),0,(#REF!-#REF!)/#REF!)","v":0},{"$f":"IF(ISERROR((#REF!-#REF!)/#REF!),0,(#REF!-#REF!)/#REF!)","v":0},{"$f":"IF(ISERROR((#REF!-#REF!)/#REF!),0,(#REF!-#REF!)/#REF!)","v":0},{"$f":"IF(ISERROR((#REF!-#REF!)/#REF!),0,(#REF!-#REF!)/#REF!)","v":0},{"$f":"IF(ISERROR((#REF!-#REF!)/#REF!),0,(#REF!-#REF!)/#REF!)","v":0}]
[null,"JA27Z","Mastectomy with Simple Breast Reconstruction",0,5403,0,0,11,5058,26,207,"No","-",0,"","",{"$f":"IF(ISERROR((#REF!-#REF!)/#REF!),0,(#REF!-#REF!)/#REF!)","v":0},{"$f":"IF(ISERROR((#REF!-#REF!)/#REF!),0,(#REF!-#REF!)/#REF!)","v":0},{"$f":"IF(ISERROR((#REF!-#REF!)/#REF!),0,(#REF!-#REF!)/#REF!)","v":0},{"$f":"IF(ISERROR((#REF!-#REF!)/#REF!),0,(#REF!-#REF!)/#REF!)","v":0},{"$f":"IF(ISERROR((#REF!-#REF!)/#REF!),0,(#REF!-#REF!)/#REF!)","v":0},{"$f":"IF(ISERROR((#REF!-#REF!)/#REF!),0,(#REF!-#REF!)/#REF!)","v":0},{"$f":"IF(ISERROR((#REF!-#REF!)/#REF!),0,(#REF!-#REF!)/#REF!)","v":0},{"$f":"IF(ISERROR((#REF!-#REF!)/#REF!),0,(#REF!-#REF!)/#REF!)","v":0},{"$f":"IF(ISERROR((#REF!-#REF!)/#REF!),0,(#REF!-#REF!)/#REF!)","v":0},{"$f":"IF(ISERROR((#REF!-#REF!)/#REF!),0,(#REF!-#REF!)/#REF!)","v":0},{"$f":"IF(ISERROR((#REF!-#REF!)/#REF!),0,(#REF!-#REF!)/#REF!)","v":0},{"$f":"IF(ISERROR((#REF!-#REF!)/#REF!),0,(#REF!-#REF!)/#REF!)","v":0},{"$f":"IF(ISERROR((#REF!-#REF!)/#REF!),0,(#REF!-#REF!)/#REF!)","v":0}]
[null,"JA28Z","Mastectomy with Complex Breast Reconstruction",0,8380,0,0,11,2249,5,207,"No","-",0,"","",{"$f":"IF(ISERROR((#REF!-#REF!)/#REF!),0,(#REF!-#REF!)/#REF!)","v":0},{"$f":"IF(ISERROR((#REF!-#REF!)/#REF!),0,(#REF!-#REF!)/#REF!)","v":0},{"$f":"IF(ISERROR((#REF!-#REF!)/#REF!),0,(#REF!-#REF!)/#REF!)","v":0},{"$f":"IF(ISERROR((#REF!-#REF!)/#REF!),0,(#REF!-#REF!)/#REF!)","v":0},{"$f":"IF(ISERROR((#REF!-#REF!)/#REF!),0,(#REF!-#REF!)/#REF!)","v":0},{"$f":"IF(ISERROR((#REF!-#REF!)/#REF!),0,(#REF!-#REF!)/#REF!)","v":0},{"$f":"IF(ISERROR((#REF!-#REF!)/#REF!),0,(#REF!-#REF!)/#REF!)","v":0},{"$f":"IF(ISERROR((#REF!-#REF!)/#REF!),0,(#REF!-#REF!)/#REF!)","v":0},{"$f":"IF(ISERROR((#REF!-#REF!)/#REF!),0,(#REF!-#REF!)/#REF!)","v":0},{"$f":"IF(ISERROR((#REF!-#REF!)/#REF!),0,(#REF!-#REF!)/#REF!)","v":0},{"$f":"IF(ISERROR((#REF!-#REF!)/#REF!),0,(#REF!-#REF!)/#REF!)","v":0},{"$f":"IF(ISERROR((#REF!-#REF!)/#REF!),0,(#REF!-#REF!)/#REF!)","v":0},{"$f":"IF(ISERROR((#REF!-#REF!)/#REF!),0,(#REF!-#REF!)/#REF!)","v":0}]
[null,"JA30Z","Unilateral Pedicled Myocutaneous Breast Reconstruction with or without Insertion of Prosthesis",0,4196,0,0,11,3805,13,207,"No","-",0,"","",{"$f":"IF(ISERROR((#REF!-#REF!)/#REF!),0,(#REF!-#REF!)/#REF!)","v":0},{"$f":"IF(ISERROR((#REF!-#REF!)/#REF!),0,(#REF!-#REF!)/#REF!)","v":0},{"$f":"IF(ISERROR((#REF!-#REF!)/#REF!),0,(#REF!-#REF!)/#REF!)","v":0},{"$f":"IF(ISERROR((#REF!-#REF!)/#REF!),0,(#REF!-#REF!)/#REF!)","v":0},{"$f":"IF(ISERROR((#REF!-#REF!)/#REF!),0,(#REF!-#REF!)/#REF!)","v":0},{"$f":"IF(ISERROR((#REF!-#REF!)/#REF!),0,(#REF!-#REF!)/#REF!)","v":0},{"$f":"IF(ISERROR((#REF!-#REF!)/#REF!),0,(#REF!-#REF!)/#REF!)","v":0},{"$f":"IF(ISERROR((#REF!-#REF!)/#REF!),0,(#REF!-#REF!)/#REF!)","v":0},{"$f":"IF(ISERROR((#REF!-#REF!)/#REF!),0,(#REF!-#REF!)/#REF!)","v":0},{"$f":"IF(ISERROR((#REF!-#REF!)/#REF!),0,(#REF!-#REF!)/#REF!)","v":0},{"$f":"IF(ISERROR((#REF!-#REF!)/#REF!),0,(#REF!-#REF!)/#REF!)","v":0},{"$f":"IF(ISERROR((#REF!-#REF!)/#REF!),0,(#REF!-#REF!)/#REF!)","v":0},{"$f":"IF(ISERROR((#REF!-#REF!)/#REF!),0,(#REF!-#REF!)/#REF!)","v":0}]
[null,"JA31Z","Bilateral Pedicled Myocutaneous Breast Reconstruction with or without Insertion of Prosthesis",0,3607,0,0,15,3607,15,207,"No","-",0,"","",{"$f":"IF(ISERROR((#REF!-#REF!)/#REF!),0,(#REF!-#REF!)/#REF!)","v":0},{"$f":"IF(ISERROR((#REF!-#REF!)/#REF!),0,(#REF!-#REF!)/#REF!)","v":0},{"$f":"IF(ISERROR((#REF!-#REF!)/#REF!),0,(#REF!-#REF!)/#REF!)","v":0},{"$f":"IF(ISERROR((#REF!-#REF!)/#REF!),0,(#REF!-#REF!)/#REF!)","v":0},{"$f":"IF(ISERROR((#REF!-#REF!)/#REF!),0,(#REF!-#REF!)/#REF!)","v":0},{"$f":"IF(ISERROR((#REF!-#REF!)/#REF!),0,(#REF!-#REF!)/#REF!)","v":0},{"$f":"IF(ISERROR((#REF!-#REF!)/#REF!),0,(#REF!-#REF!)/#REF!)","v":0},{"$f":"IF(ISERROR((#REF!-#REF!)/#REF!),0,(#REF!-#REF!)/#REF!)","v":0},{"$f":"IF(ISERROR((#REF!-#REF!)/#REF!),0,(#REF!-#REF!)/#REF!)","v":0},{"$f":"IF(ISERROR((#REF!-#REF!)/#REF!),0,(#REF!-#REF!)/#REF!)","v":0},{"$f":"IF(ISERROR((#REF!-#REF!)/#REF!),0,(#REF!-#REF!)/#REF!)","v":0},{"$f":"IF(ISERROR((#REF!-#REF!)/#REF!),0,(#REF!-#REF!)/#REF!)","v":0},{"$f":"IF(ISERROR((#REF!-#REF!)/#REF!),0,(#REF!-#REF!)/#REF!)","v":0}]
[null,"JC01A","Major Multiple Skin Procedures with Major CC",0,6883,0,0,46,9315,65,207,"No","-",0,"","",{"$f":"IF(ISERROR((#REF!-#REF!)/#REF!),0,(#REF!-#REF!)/#REF!)","v":0},{"$f":"IF(ISERROR((#REF!-#REF!)/#REF!),0,(#REF!-#REF!)/#REF!)","v":0},{"$f":"IF(ISERROR((#REF!-#REF!)/#REF!),0,(#REF!-#REF!)/#REF!)","v":0},{"$f":"IF(ISERROR((#REF!-#REF!)/#REF!),0,(#REF!-#REF!)/#REF!)","v":0},{"$f":"IF(ISERROR((#REF!-#REF!)/#REF!),0,(#REF!-#REF!)/#REF!)","v":0},{"$f":"IF(ISERROR((#REF!-#REF!)/#REF!),0,(#REF!-#REF!)/#REF!)","v":0},{"$f":"IF(ISERROR((#REF!-#REF!)/#REF!),0,(#REF!-#REF!)/#REF!)","v":0},{"$f":"IF(ISERROR((#REF!-#REF!)/#REF!),0,(#REF!-#REF!)/#REF!)","v":0},{"$f":"IF(ISERROR((#REF!-#REF!)/#REF!),0,(#REF!-#REF!)/#REF!)","v":0},{"$f":"IF(ISERROR((#REF!-#REF!)/#REF!),0,(#REF!-#REF!)/#REF!)","v":0},{"$f":"IF(ISERROR((#REF!-#REF!)/#REF!),0,(#REF!-#REF!)/#REF!)","v":0},{"$f":"IF(ISERROR((#REF!-#REF!)/#REF!),0,(#REF!-#REF!)/#REF!)","v":0},{"$f":"IF(ISERROR((#REF!-#REF!)/#REF!),0,(#REF!-#REF!)/#REF!)","v":0}]
[null,"JC01B","Major Multiple Skin Procedures with Intermediate CC",0,3229,0,0,18,5073,29,207,"No","-",0,"","",{"$f":"IF(ISERROR((#REF!-#REF!)/#REF!),0,(#REF!-#REF!)/#REF!)","v":0},{"$f":"IF(ISERROR((#REF!-#REF!)/#REF!),0,(#REF!-#REF!)/#REF!)","v":0},{"$f":"IF(ISERROR((#REF!-#REF!)/#REF!),0,(#REF!-#REF!)/#REF!)","v":0},{"$f":"IF(ISERROR((#REF!-#REF!)/#REF!),0,(#REF!-#REF!)/#REF!)","v":0},{"$f":"IF(ISERROR((#REF!-#REF!)/#REF!),0,(#REF!-#REF!)/#REF!)","v":0},{"$f":"IF(ISERROR((#REF!-#REF!)/#REF!),0,(#REF!-#REF!)/#REF!)","v":0},{"$f":"IF(ISERROR((#REF!-#REF!)/#REF!),0,(#REF!-#REF!)/#REF!)","v":0},{"$f":"IF(ISERROR((#REF!-#REF!)/#REF!),0,(#REF!-#REF!)/#REF!)","v":0},{"$f":"IF(ISERROR((#REF!-#REF!)/#REF!),0,(#REF!-#REF!)/#REF!)","v":0},{"$f":"IF(ISERROR((#REF!-#REF!)/#REF!),0,(#REF!-#REF!)/#REF!)","v":0},{"$f":"IF(ISERROR((#REF!-#REF!)/#REF!),0,(#REF!-#REF!)/#REF!)","v":0},{"$f":"IF(ISERROR((#REF!-#REF!)/#REF!),0,(#REF!-#REF!)/#REF!)","v":0},{"$f":"IF(ISERROR((#REF!-#REF!)/#REF!),0,(#REF!-#REF!)/#REF!)","v":0}]
[null,"JC01C","Major Multiple Skin Procedures without CC",0,1450,0,0,5,3515,16,207,"No","-",0,"","",{"$f":"IF(ISERROR((#REF!-#REF!)/#REF!),0,(#REF!-#REF!)/#REF!)","v":0},{"$f":"IF(ISERROR((#REF!-#REF!)/#REF!),0,(#REF!-#REF!)/#REF!)","v":0},{"$f":"IF(ISERROR((#REF!-#REF!)/#REF!),0,(#REF!-#REF!)/#REF!)","v":0},{"$f":"IF(ISERROR((#REF!-#REF!)/#REF!),0,(#REF!-#REF!)/#REF!)","v":0},{"$f":"IF(ISERROR((#REF!-#REF!)/#REF!),0,(#REF!-#REF!)/#REF!)","v":0},{"$f":"IF(ISERROR((#REF!-#REF!)/#REF!),0,(#REF!-#REF!)/#REF!)","v":0},{"$f":"IF(ISERROR((#REF!-#REF!)/#REF!),0,(#REF!-#REF!)/#REF!)","v":0},{"$f":"IF(ISERROR((#REF!-#REF!)/#REF!),0,(#REF!-#REF!)/#REF!)","v":0},{"$f":"IF(ISERROR((#REF!-#REF!)/#REF!),0,(#REF!-#REF!)/#REF!)","v":0},{"$f":"IF(ISERROR((#REF!-#REF!)/#REF!),0,(#REF!-#REF!)/#REF!)","v":0},{"$f":"IF(ISERROR((#REF!-#REF!)/#REF!),0,(#REF!-#REF!)/#REF!)","v":0},{"$f":"IF(ISERROR((#REF!-#REF!)/#REF!),0,(#REF!-#REF!)/#REF!)","v":0},{"$f":"IF(ISERROR((#REF!-#REF!)/#REF!),0,(#REF!-#REF!)/#REF!)","v":0}]
[null,"JC02A","Major Skin Procedures Category 2, with Major CC",0,4538,0,0,25,6619,44,207,"No","-",0,"","",{"$f":"IF(ISERROR((#REF!-#REF!)/#REF!),0,(#REF!-#REF!)/#REF!)","v":0},{"$f":"IF(ISERROR((#REF!-#REF!)/#REF!),0,(#REF!-#REF!)/#REF!)","v":0},{"$f":"IF(ISERROR((#REF!-#REF!)/#REF!),0,(#REF!-#REF!)/#REF!)","v":0},{"$f":"IF(ISERROR((#REF!-#REF!)/#REF!),0,(#REF!-#REF!)/#REF!)","v":0},{"$f":"IF(ISERROR((#REF!-#REF!)/#REF!),0,(#REF!-#REF!)/#REF!)","v":0},{"$f":"IF(ISERROR((#REF!-#REF!)/#REF!),0,(#REF!-#REF!)/#REF!)","v":0},{"$f":"IF(ISERROR((#REF!-#REF!)/#REF!),0,(#REF!-#REF!)/#REF!)","v":0},{"$f":"IF(ISERROR((#REF!-#REF!)/#REF!),0,(#REF!-#REF!)/#REF!)","v":0},{"$f":"IF(ISERROR((#REF!-#REF!)/#REF!),0,(#REF!-#REF!)/#REF!)","v":0},{"$f":"IF(ISERROR((#REF!-#REF!)/#REF!),0,(#REF!-#REF!)/#REF!)","v":0},{"$f":"IF(ISERROR((#REF!-#REF!)/#REF!),0,(#REF!-#REF!)/#REF!)","v":0},{"$f":"IF(ISERROR((#REF!-#REF!)/#REF!),0,(#REF!-#REF!)/#REF!)","v":0},{"$f":"IF(ISERROR((#REF!-#REF!)/#REF!),0,(#REF!-#REF!)/#REF!)","v":0}]
[null,"JC02B","Major Skin Procedures Category 2, with Intermediate CC",0,3382,0,0,14,4299,33,207,"No","-",0,"","",{"$f":"IF(ISERROR((#REF!-#REF!)/#REF!),0,(#REF!-#REF!)/#REF!)","v":0},{"$f":"IF(ISERROR((#REF!-#REF!)/#REF!),0,(#REF!-#REF!)/#REF!)","v":0},{"$f":"IF(ISERROR((#REF!-#REF!)/#REF!),0,(#REF!-#REF!)/#REF!)","v":0},{"$f":"IF(ISERROR((#REF!-#REF!)/#REF!),0,(#REF!-#REF!)/#REF!)","v":0},{"$f":"IF(ISERROR((#REF!-#REF!)/#REF!),0,(#REF!-#REF!)/#REF!)","v":0},{"$f":"IF(ISERROR((#REF!-#REF!)/#REF!),0,(#REF!-#REF!)/#REF!)","v":0},{"$f":"IF(ISERROR((#REF!-#REF!)/#REF!),0,(#REF!-#REF!)/#REF!)","v":0},{"$f":"IF(ISERROR((#REF!-#REF!)/#REF!),0,(#REF!-#REF!)/#REF!)","v":0},{"$f":"IF(ISERROR((#REF!-#REF!)/#REF!),0,(#REF!-#REF!)/#REF!)","v":0},{"$f":"IF(ISERROR((#REF!-#REF!)/#REF!),0,(#REF!-#REF!)/#REF!)","v":0},{"$f":"IF(ISERROR((#REF!-#REF!)/#REF!),0,(#REF!-#REF!)/#REF!)","v":0},{"$f":"IF(ISERROR((#REF!-#REF!)/#REF!),0,(#REF!-#REF!)/#REF!)","v":0},{"$f":"IF(ISERROR((#REF!-#REF!)/#REF!),0,(#REF!-#REF!)/#REF!)","v":0}]
[null,"JC02C","Major Skin Procedures Category 2, without CC",0,2611,0,0,11,3166,16,207,"No","-",0,"","",{"$f":"IF(ISERROR((#REF!-#REF!)/#REF!),0,(#REF!-#REF!)/#REF!)","v":0},{"$f":"IF(ISERROR((#REF!-#REF!)/#REF!),0,(#REF!-#REF!)/#REF!)","v":0},{"$f":"IF(ISERROR((#REF!-#REF!)/#REF!),0,(#REF!-#REF!)/#REF!)","v":0},{"$f":"IF(ISERROR((#REF!-#REF!)/#REF!),0,(#REF!-#REF!)/#REF!)","v":0},{"$f":"IF(ISERROR((#REF!-#REF!)/#REF!),0,(#REF!-#REF!)/#REF!)","v":0},{"$f":"IF(ISERROR((#REF!-#REF!)/#REF!),0,(#REF!-#REF!)/#REF!)","v":0},{"$f":"IF(ISERROR((#REF!-#REF!)/#REF!),0,(#REF!-#REF!)/#REF!)","v":0},{"$f":"IF(ISERROR((#REF!-#REF!)/#REF!),0,(#REF!-#REF!)/#REF!)","v":0},{"$f":"IF(ISERROR((#REF!-#REF!)/#REF!),0,(#REF!-#REF!)/#REF!)","v":0},{"$f":"IF(ISERROR((#REF!-#REF!)/#REF!),0,(#REF!-#REF!)/#REF!)","v":0},{"$f":"IF(ISERROR((#REF!-#REF!)/#REF!),0,(#REF!-#REF!)/#REF!)","v":0},{"$f":"IF(ISERROR((#REF!-#REF!)/#REF!),0,(#REF!-#REF!)/#REF!)","v":0},{"$f":"IF(ISERROR((#REF!-#REF!)/#REF!),0,(#REF!-#REF!)/#REF!)","v":0}]
[null,"JC03A","Major Skin Procedures Category 1, with Major CC",0,3509,0,0,20,5470,47,207,"No","-",0,"","",{"$f":"IF(ISERROR((#REF!-#REF!)/#REF!),0,(#REF!-#REF!)/#REF!)","v":0},{"$f":"IF(ISERROR((#REF!-#REF!)/#REF!),0,(#REF!-#REF!)/#REF!)","v":0},{"$f":"IF(ISERROR((#REF!-#REF!)/#REF!),0,(#REF!-#REF!)/#REF!)","v":0},{"$f":"IF(ISERROR((#REF!-#REF!)/#REF!),0,(#REF!-#REF!)/#REF!)","v":0},{"$f":"IF(ISERROR((#REF!-#REF!)/#REF!),0,(#REF!-#REF!)/#REF!)","v":0},{"$f":"IF(ISERROR((#REF!-#REF!)/#REF!),0,(#REF!-#REF!)/#REF!)","v":0},{"$f":"IF(ISERROR((#REF!-#REF!)/#REF!),0,(#REF!-#REF!)/#REF!)","v":0},{"$f":"IF(ISERROR((#REF!-#REF!)/#REF!),0,(#REF!-#REF!)/#REF!)","v":0},{"$f":"IF(ISERROR((#REF!-#REF!)/#REF!),0,(#REF!-#REF!)/#REF!)","v":0},{"$f":"IF(ISERROR((#REF!-#REF!)/#REF!),0,(#REF!-#REF!)/#REF!)","v":0},{"$f":"IF(ISERROR((#REF!-#REF!)/#REF!),0,(#REF!-#REF!)/#REF!)","v":0},{"$f":"IF(ISERROR((#REF!-#REF!)/#REF!),0,(#REF!-#REF!)/#REF!)","v":0},{"$f":"IF(ISERROR((#REF!-#REF!)/#REF!),0,(#REF!-#REF!)/#REF!)","v":0}]
[null,"JC03B","Major Skin Procedures Category 1, with Intermediate CC",0,1942,0,0,5,2617,16,207,"No","-",0,"","",{"$f":"IF(ISERROR((#REF!-#REF!)/#REF!),0,(#REF!-#REF!)/#REF!)","v":0},{"$f":"IF(ISERROR((#REF!-#REF!)/#REF!),0,(#REF!-#REF!)/#REF!)","v":0},{"$f":"IF(ISERROR((#REF!-#REF!)/#REF!),0,(#REF!-#REF!)/#REF!)","v":0},{"$f":"IF(ISERROR((#REF!-#REF!)/#REF!),0,(#REF!-#REF!)/#REF!)","v":0},{"$f":"IF(ISERROR((#REF!-#REF!)/#REF!),0,(#REF!-#REF!)/#REF!)","v":0},{"$f":"IF(ISERROR((#REF!-#REF!)/#REF!),0,(#REF!-#REF!)/#REF!)","v":0},{"$f":"IF(ISERROR((#REF!-#REF!)/#REF!),0,(#REF!-#REF!)/#REF!)","v":0},{"$f":"IF(ISERROR((#REF!-#REF!)/#REF!),0,(#REF!-#REF!)/#REF!)","v":0},{"$f":"IF(ISERROR((#REF!-#REF!)/#REF!),0,(#REF!-#REF!)/#REF!)","v":0},{"$f":"IF(ISERROR((#REF!-#REF!)/#REF!),0,(#REF!-#REF!)/#REF!)","v":0},{"$f":"IF(ISERROR((#REF!-#REF!)/#REF!),0,(#REF!-#REF!)/#REF!)","v":0},{"$f":"IF(ISERROR((#REF!-#REF!)/#REF!),0,(#REF!-#REF!)/#REF!)","v":0},{"$f":"IF(ISERROR((#REF!-#REF!)/#REF!),0,(#REF!-#REF!)/#REF!)","v":0}]
[null,"JC03C","Major Skin Procedures Category 1, without CC",108,1233,0,0,5,1602,6,207,"No","-",0,"","",{"$f":"IF(ISERROR((#REF!-#REF!)/#REF!),0,(#REF!-#REF!)/#REF!)","v":0},{"$f":"IF(ISERROR((#REF!-#REF!)/#REF!),0,(#REF!-#REF!)/#REF!)","v":0},{"$f":"IF(ISERROR((#REF!-#REF!)/#REF!),0,(#REF!-#REF!)/#REF!)","v":0},{"$f":"IF(ISERROR((#REF!-#REF!)/#REF!),0,(#REF!-#REF!)/#REF!)","v":0},{"$f":"IF(ISERROR((#REF!-#REF!)/#REF!),0,(#REF!-#REF!)/#REF!)","v":0},{"$f":"IF(ISERROR((#REF!-#REF!)/#REF!),0,(#REF!-#REF!)/#REF!)","v":0},{"$f":"IF(ISERROR((#REF!-#REF!)/#REF!),0,(#REF!-#REF!)/#REF!)","v":0},{"$f":"IF(ISERROR((#REF!-#REF!)/#REF!),0,(#REF!-#REF!)/#REF!)","v":0},{"$f":"IF(ISERROR((#REF!-#REF!)/#REF!),0,(#REF!-#REF!)/#REF!)","v":0},{"$f":"IF(ISERROR((#REF!-#REF!)/#REF!),0,(#REF!-#REF!)/#REF!)","v":0},{"$f":"IF(ISERROR((#REF!-#REF!)/#REF!),0,(#REF!-#REF!)/#REF!)","v":0},{"$f":"IF(ISERROR((#REF!-#REF!)/#REF!),0,(#REF!-#REF!)/#REF!)","v":0},{"$f":"IF(ISERROR((#REF!-#REF!)/#REF!),0,(#REF!-#REF!)/#REF!)","v":0}]
[null,"JC04A","Intermediate Skin Procedures Category 2, with Major CC",0,1742,0,0,5,2959,29,207,"No","-",0,"","",{"$f":"IF(ISERROR((#REF!-#REF!)/#REF!),0,(#REF!-#REF!)/#REF!)","v":0},{"$f":"IF(ISERROR((#REF!-#REF!)/#REF!),0,(#REF!-#REF!)/#REF!)","v":0},{"$f":"IF(ISERROR((#REF!-#REF!)/#REF!),0,(#REF!-#REF!)/#REF!)","v":0},{"$f":"IF(ISERROR((#REF!-#REF!)/#REF!),0,(#REF!-#REF!)/#REF!)","v":0},{"$f":"IF(ISERROR((#REF!-#REF!)/#REF!),0,(#REF!-#REF!)/#REF!)","v":0},{"$f":"IF(ISERROR((#REF!-#REF!)/#REF!),0,(#REF!-#REF!)/#REF!)","v":0},{"$f":"IF(ISERROR((#REF!-#REF!)/#REF!),0,(#REF!-#REF!)/#REF!)","v":0},{"$f":"IF(ISERROR((#REF!-#REF!)/#REF!),0,(#REF!-#REF!)/#REF!)","v":0},{"$f":"IF(ISERROR((#REF!-#REF!)/#REF!),0,(#REF!-#REF!)/#REF!)","v":0},{"$f":"IF(ISERROR((#REF!-#REF!)/#REF!),0,(#REF!-#REF!)/#REF!)","v":0},{"$f":"IF(ISERROR((#REF!-#REF!)/#REF!),0,(#REF!-#REF!)/#REF!)","v":0},{"$f":"IF(ISERROR((#REF!-#REF!)/#REF!),0,(#REF!-#REF!)/#REF!)","v":0},{"$f":"IF(ISERROR((#REF!-#REF!)/#REF!),0,(#REF!-#REF!)/#REF!)","v":0}]
[null,"JC04B","Intermediate Skin Procedures Category 2, with Intermediate CC",0,1213,0,0,5,1496,9,207,"No","-",0,"","",{"$f":"IF(ISERROR((#REF!-#REF!)/#REF!),0,(#REF!-#REF!)/#REF!)","v":0},{"$f":"IF(ISERROR((#REF!-#REF!)/#REF!),0,(#REF!-#REF!)/#REF!)","v":0},{"$f":"IF(ISERROR((#REF!-#REF!)/#REF!),0,(#REF!-#REF!)/#REF!)","v":0},{"$f":"IF(ISERROR((#REF!-#REF!)/#REF!),0,(#REF!-#REF!)/#REF!)","v":0},{"$f":"IF(ISERROR((#REF!-#REF!)/#REF!),0,(#REF!-#REF!)/#REF!)","v":0},{"$f":"IF(ISERROR((#REF!-#REF!)/#REF!),0,(#REF!-#REF!)/#REF!)","v":0},{"$f":"IF(ISERROR((#REF!-#REF!)/#REF!),0,(#REF!-#REF!)/#REF!)","v":0},{"$f":"IF(ISERROR((#REF!-#REF!)/#REF!),0,(#REF!-#REF!)/#REF!)","v":0},{"$f":"IF(ISERROR((#REF!-#REF!)/#REF!),0,(#REF!-#REF!)/#REF!)","v":0},{"$f":"IF(ISERROR((#REF!-#REF!)/#REF!),0,(#REF!-#REF!)/#REF!)","v":0},{"$f":"IF(ISERROR((#REF!-#REF!)/#REF!),0,(#REF!-#REF!)/#REF!)","v":0},{"$f":"IF(ISERROR((#REF!-#REF!)/#REF!),0,(#REF!-#REF!)/#REF!)","v":0},{"$f":"IF(ISERROR((#REF!-#REF!)/#REF!),0,(#REF!-#REF!)/#REF!)","v":0}]
[null,"JC04C","Intermediate Skin Procedures Category 2, without CC",116,863,0,0,5,1257,5,207,"No","-",0,"","",{"$f":"IF(ISERROR((#REF!-#REF!)/#REF!),0,(#REF!-#REF!)/#REF!)","v":0},{"$f":"IF(ISERROR((#REF!-#REF!)/#REF!),0,(#REF!-#REF!)/#REF!)","v":0},{"$f":"IF(ISERROR((#REF!-#REF!)/#REF!),0,(#REF!-#REF!)/#REF!)","v":0},{"$f":"IF(ISERROR((#REF!-#REF!)/#REF!),0,(#REF!-#REF!)/#REF!)","v":0},{"$f":"IF(ISERROR((#REF!-#REF!)/#REF!),0,(#REF!-#REF!)/#REF!)","v":0},{"$f":"IF(ISERROR((#REF!-#REF!)/#REF!),0,(#REF!-#REF!)/#REF!)","v":0},{"$f":"IF(ISERROR((#REF!-#REF!)/#REF!),0,(#REF!-#REF!)/#REF!)","v":0},{"$f":"IF(ISERROR((#REF!-#REF!)/#REF!),0,(#REF!-#REF!)/#REF!)","v":0},{"$f":"IF(ISERROR((#REF!-#REF!)/#REF!),0,(#REF!-#REF!)/#REF!)","v":0},{"$f":"IF(ISERROR((#REF!-#REF!)/#REF!),0,(#REF!-#REF!)/#REF!)","v":0},{"$f":"IF(ISERROR((#REF!-#REF!)/#REF!),0,(#REF!-#REF!)/#REF!)","v":0},{"$f":"IF(ISERROR((#REF!-#REF!)/#REF!),0,(#REF!-#REF!)/#REF!)","v":0},{"$f":"IF(ISERROR((#REF!-#REF!)/#REF!),0,(#REF!-#REF!)/#REF!)","v":0}]
[null,"JC05A","Intermediate Skin Procedures Category 1, with Major CC",0,1419.50995029919,0,0,5,889,5,207,"No","-",0,"","",{"$f":"IF(ISERROR((#REF!-#REF!)/#REF!),0,(#REF!-#REF!)/#REF!)","v":0},{"$f":"IF(ISERROR((#REF!-#REF!)/#REF!),0,(#REF!-#REF!)/#REF!)","v":0},{"$f":"IF(ISERROR((#REF!-#REF!)/#REF!),0,(#REF!-#REF!)/#REF!)","v":0},{"$f":"IF(ISERROR((#REF!-#REF!)/#REF!),0,(#REF!-#REF!)/#REF!)","v":0},{"$f":"IF(ISERROR((#REF!-#REF!)/#REF!),0,(#REF!-#REF!)/#REF!)","v":0},{"$f":"IF(ISERROR((#REF!-#REF!)/#REF!),0,(#REF!-#REF!)/#REF!)","v":0},{"$f":"IF(ISERROR((#REF!-#REF!)/#REF!),0,(#REF!-#REF!)/#REF!)","v":0},{"$f":"IF(ISERROR((#REF!-#REF!)/#REF!),0,(#REF!-#REF!)/#REF!)","v":0},{"$f":"IF(ISERROR((#REF!-#REF!)/#REF!),0,(#REF!-#REF!)/#REF!)","v":0},{"$f":"IF(ISERROR((#REF!-#REF!)/#REF!),0,(#REF!-#REF!)/#REF!)","v":0},{"$f":"IF(ISERROR((#REF!-#REF!)/#REF!),0,(#REF!-#REF!)/#REF!)","v":0},{"$f":"IF(ISERROR((#REF!-#REF!)/#REF!),0,(#REF!-#REF!)/#REF!)","v":0},{"$f":"IF(ISERROR((#REF!-#REF!)/#REF!),0,(#REF!-#REF!)/#REF!)","v":0}]
[null,"JC05B","Intermediate Skin Procedures Category 1, with Intermediate CC",0,1047,0,0,5,805,5,207,"No","-",0,"","",{"$f":"IF(ISERROR((#REF!-#REF!)/#REF!),0,(#REF!-#REF!)/#REF!)","v":0},{"$f":"IF(ISERROR((#REF!-#REF!)/#REF!),0,(#REF!-#REF!)/#REF!)","v":0},{"$f":"IF(ISERROR((#REF!-#REF!)/#REF!),0,(#REF!-#REF!)/#REF!)","v":0},{"$f":"IF(ISERROR((#REF!-#REF!)/#REF!),0,(#REF!-#REF!)/#REF!)","v":0},{"$f":"IF(ISERROR((#REF!-#REF!)/#REF!),0,(#REF!-#REF!)/#REF!)","v":0},{"$f":"IF(ISERROR((#REF!-#REF!)/#REF!),0,(#REF!-#REF!)/#REF!)","v":0},{"$f":"IF(ISERROR((#REF!-#REF!)/#REF!),0,(#REF!-#REF!)/#REF!)","v":0},{"$f":"IF(ISERROR((#REF!-#REF!)/#REF!),0,(#REF!-#REF!)/#REF!)","v":0},{"$f":"IF(ISERROR((#REF!-#REF!)/#REF!),0,(#REF!-#REF!)/#REF!)","v":0},{"$f":"IF(ISERROR((#REF!-#REF!)/#REF!),0,(#REF!-#REF!)/#REF!)","v":0},{"$f":"IF(ISERROR((#REF!-#REF!)/#REF!),0,(#REF!-#REF!)/#REF!)","v":0},{"$f":"IF(ISERROR((#REF!-#REF!)/#REF!),0,(#REF!-#REF!)/#REF!)","v":0},{"$f":"IF(ISERROR((#REF!-#REF!)/#REF!),0,(#REF!-#REF!)/#REF!)","v":0}]
[null,"JC05C","Intermediate Skin Procedures Category 1, without CC",129,957,0,0,5,819,5,207,"No","-",0,"","",{"$f":"IF(ISERROR((#REF!-#REF!)/#REF!),0,(#REF!-#REF!)/#REF!)","v":0},{"$f":"IF(ISERROR((#REF!-#REF!)/#REF!),0,(#REF!-#REF!)/#REF!)","v":0},{"$f":"IF(ISERROR((#REF!-#REF!)/#REF!),0,(#REF!-#REF!)/#REF!)","v":0},{"$f":"IF(ISERROR((#REF!-#REF!)/#REF!),0,(#REF!-#REF!)/#REF!)","v":0},{"$f":"IF(ISERROR((#REF!-#REF!)/#REF!),0,(#REF!-#REF!)/#REF!)","v":0},{"$f":"IF(ISERROR((#REF!-#REF!)/#REF!),0,(#REF!-#REF!)/#REF!)","v":0},{"$f":"IF(ISERROR((#REF!-#REF!)/#REF!),0,(#REF!-#REF!)/#REF!)","v":0},{"$f":"IF(ISERROR((#REF!-#REF!)/#REF!),0,(#REF!-#REF!)/#REF!)","v":0},{"$f":"IF(ISERROR((#REF!-#REF!)/#REF!),0,(#REF!-#REF!)/#REF!)","v":0},{"$f":"IF(ISERROR((#REF!-#REF!)/#REF!),0,(#REF!-#REF!)/#REF!)","v":0},{"$f":"IF(ISERROR((#REF!-#REF!)/#REF!),0,(#REF!-#REF!)/#REF!)","v":0},{"$f":"IF(ISERROR((#REF!-#REF!)/#REF!),0,(#REF!-#REF!)/#REF!)","v":0},{"$f":"IF(ISERROR((#REF!-#REF!)/#REF!),0,(#REF!-#REF!)/#REF!)","v":0}]
[null,"JC06A","Minor Skin Procedures Category 2, with Major CC",0,1237,0,0,5,1062,5,207,"No","-",0,"","",{"$f":"IF(ISERROR((#REF!-#REF!)/#REF!),0,(#REF!-#REF!)/#REF!)","v":0},{"$f":"IF(ISERROR((#REF!-#REF!)/#REF!),0,(#REF!-#REF!)/#REF!)","v":0},{"$f":"IF(ISERROR((#REF!-#REF!)/#REF!),0,(#REF!-#REF!)/#REF!)","v":0},{"$f":"IF(ISERROR((#REF!-#REF!)/#REF!),0,(#REF!-#REF!)/#REF!)","v":0},{"$f":"IF(ISERROR((#REF!-#REF!)/#REF!),0,(#REF!-#REF!)/#REF!)","v":0},{"$f":"IF(ISERROR((#REF!-#REF!)/#REF!),0,(#REF!-#REF!)/#REF!)","v":0},{"$f":"IF(ISERROR((#REF!-#REF!)/#REF!),0,(#REF!-#REF!)/#REF!)","v":0},{"$f":"IF(ISERROR((#REF!-#REF!)/#REF!),0,(#REF!-#REF!)/#REF!)","v":0},{"$f":"IF(ISERROR((#REF!-#REF!)/#REF!),0,(#REF!-#REF!)/#REF!)","v":0},{"$f":"IF(ISERROR((#REF!-#REF!)/#REF!),0,(#REF!-#REF!)/#REF!)","v":0},{"$f":"IF(ISERROR((#REF!-#REF!)/#REF!),0,(#REF!-#REF!)/#REF!)","v":0},{"$f":"IF(ISERROR((#REF!-#REF!)/#REF!),0,(#REF!-#REF!)/#REF!)","v":0},{"$f":"IF(ISERROR((#REF!-#REF!)/#REF!),0,(#REF!-#REF!)/#REF!)","v":0}]
[null,"JC06B","Minor Skin Procedures Category 2, with Intermediate CC",0,1272.2777662607994,0,0,5,1062,5,207,"No","-",0,"","",{"$f":"IF(ISERROR((#REF!-#REF!)/#REF!),0,(#REF!-#REF!)/#REF!)","v":0},{"$f":"IF(ISERROR((#REF!-#REF!)/#REF!),0,(#REF!-#REF!)/#REF!)","v":0},{"$f":"IF(ISERROR((#REF!-#REF!)/#REF!),0,(#REF!-#REF!)/#REF!)","v":0},{"$f":"IF(ISERROR((#REF!-#REF!)/#REF!),0,(#REF!-#REF!)/#REF!)","v":0},{"$f":"IF(ISERROR((#REF!-#REF!)/#REF!),0,(#REF!-#REF!)/#REF!)","v":0},{"$f":"IF(ISERROR((#REF!-#REF!)/#REF!),0,(#REF!-#REF!)/#REF!)","v":0},{"$f":"IF(ISERROR((#REF!-#REF!)/#REF!),0,(#REF!-#REF!)/#REF!)","v":0},{"$f":"IF(ISERROR((#REF!-#REF!)/#REF!),0,(#REF!-#REF!)/#REF!)","v":0},{"$f":"IF(ISERROR((#REF!-#REF!)/#REF!),0,(#REF!-#REF!)/#REF!)","v":0},{"$f":"IF(ISERROR((#REF!-#REF!)/#REF!),0,(#REF!-#REF!)/#REF!)","v":0},{"$f":"IF(ISERROR((#REF!-#REF!)/#REF!),0,(#REF!-#REF!)/#REF!)","v":0},{"$f":"IF(ISERROR((#REF!-#REF!)/#REF!),0,(#REF!-#REF!)/#REF!)","v":0},{"$f":"IF(ISERROR((#REF!-#REF!)/#REF!),0,(#REF!-#REF!)/#REF!)","v":0}]
[null,"JC06C","Minor Skin Procedures Category 2, without CC",0,1178,0,0,5,1062,5,207,"No","-",0,"","",{"$f":"IF(ISERROR((#REF!-#REF!)/#REF!),0,(#REF!-#REF!)/#REF!)","v":0},{"$f":"IF(ISERROR((#REF!-#REF!)/#REF!),0,(#REF!-#REF!)/#REF!)","v":0},{"$f":"IF(ISERROR((#REF!-#REF!)/#REF!),0,(#REF!-#REF!)/#REF!)","v":0},{"$f":"IF(ISERROR((#REF!-#REF!)/#REF!),0,(#REF!-#REF!)/#REF!)","v":0},{"$f":"IF(ISERROR((#REF!-#REF!)/#REF!),0,(#REF!-#REF!)/#REF!)","v":0},{"$f":"IF(ISERROR((#REF!-#REF!)/#REF!),0,(#REF!-#REF!)/#REF!)","v":0},{"$f":"IF(ISERROR((#REF!-#REF!)/#REF!),0,(#REF!-#REF!)/#REF!)","v":0},{"$f":"IF(ISERROR((#REF!-#REF!)/#REF!),0,(#REF!-#REF!)/#REF!)","v":0},{"$f":"IF(ISERROR((#REF!-#REF!)/#REF!),0,(#REF!-#REF!)/#REF!)","v":0},{"$f":"IF(ISERROR((#REF!-#REF!)/#REF!),0,(#REF!-#REF!)/#REF!)","v":0},{"$f":"IF(ISERROR((#REF!-#REF!)/#REF!),0,(#REF!-#REF!)/#REF!)","v":0},{"$f":"IF(ISERROR((#REF!-#REF!)/#REF!),0,(#REF!-#REF!)/#REF!)","v":0},{"$f":"IF(ISERROR((#REF!-#REF!)/#REF!),0,(#REF!-#REF!)/#REF!)","v":0}]
[null,"JC07Z","Minor Skin Procedures Category 1",0,1819.7939497058085,0,0,5,752,5,207,"No","-",0,"","",{"$f":"IF(ISERROR((#REF!-#REF!)/#REF!),0,(#REF!-#REF!)/#REF!)","v":0},{"$f":"IF(ISERROR((#REF!-#REF!)/#REF!),0,(#REF!-#REF!)/#REF!)","v":0},{"$f":"IF(ISERROR((#REF!-#REF!)/#REF!),0,(#REF!-#REF!)/#REF!)","v":0},{"$f":"IF(ISERROR((#REF!-#REF!)/#REF!),0,(#REF!-#REF!)/#REF!)","v":0},{"$f":"IF(ISERROR((#REF!-#REF!)/#REF!),0,(#REF!-#REF!)/#REF!)","v":0},{"$f":"IF(ISERROR((#REF!-#REF!)/#REF!),0,(#REF!-#REF!)/#REF!)","v":0},{"$f":"IF(ISERROR((#REF!-#REF!)/#REF!),0,(#REF!-#REF!)/#REF!)","v":0},{"$f":"IF(ISERROR((#REF!-#REF!)/#REF!),0,(#REF!-#REF!)/#REF!)","v":0},{"$f":"IF(ISERROR((#REF!-#REF!)/#REF!),0,(#REF!-#REF!)/#REF!)","v":0},{"$f":"IF(ISERROR((#REF!-#REF!)/#REF!),0,(#REF!-#REF!)/#REF!)","v":0},{"$f":"IF(ISERROR((#REF!-#REF!)/#REF!),0,(#REF!-#REF!)/#REF!)","v":0},{"$f":"IF(ISERROR((#REF!-#REF!)/#REF!),0,(#REF!-#REF!)/#REF!)","v":0},{"$f":"IF(ISERROR((#REF!-#REF!)/#REF!),0,(#REF!-#REF!)/#REF!)","v":0}]
[null,"JC09Z","Patch Tests",91,94,0,0,5,51,5,207,"No","-",0,"","",{"$f":"IF(ISERROR((#REF!-#REF!)/#REF!),0,(#REF!-#REF!)/#REF!)","v":0},{"$f":"IF(ISERROR((#REF!-#REF!)/#REF!),0,(#REF!-#REF!)/#REF!)","v":0},{"$f":"IF(ISERROR((#REF!-#REF!)/#REF!),0,(#REF!-#REF!)/#REF!)","v":0},{"$f":"IF(ISERROR((#REF!-#REF!)/#REF!),0,(#REF!-#REF!)/#REF!)","v":0},{"$f":"IF(ISERROR((#REF!-#REF!)/#REF!),0,(#REF!-#REF!)/#REF!)","v":0},{"$f":"IF(ISERROR((#REF!-#REF!)/#REF!),0,(#REF!-#REF!)/#REF!)","v":0},{"$f":"IF(ISERROR((#REF!-#REF!)/#REF!),0,(#REF!-#REF!)/#REF!)","v":0},{"$f":"IF(ISERROR((#REF!-#REF!)/#REF!),0,(#REF!-#REF!)/#REF!)","v":0},{"$f":"IF(ISERROR((#REF!-#REF!)/#REF!),0,(#REF!-#REF!)/#REF!)","v":0},{"$f":"IF(ISERROR((#REF!-#REF!)/#REF!),0,(#REF!-#REF!)/#REF!)","v":0},{"$f":"IF(ISERROR((#REF!-#REF!)/#REF!),0,(#REF!-#REF!)/#REF!)","v":0},{"$f":"IF(ISERROR((#REF!-#REF!)/#REF!),0,(#REF!-#REF!)/#REF!)","v":0},{"$f":"IF(ISERROR((#REF!-#REF!)/#REF!),0,(#REF!-#REF!)/#REF!)","v":0}]
[null,"JC10Z","Specified Skin Examinations and Investigations",137,142,0,0,5,307,5,207,"No","-",0,"","",{"$f":"IF(ISERROR((#REF!-#REF!)/#REF!),0,(#REF!-#REF!)/#REF!)","v":0},{"$f":"IF(ISERROR((#REF!-#REF!)/#REF!),0,(#REF!-#REF!)/#REF!)","v":0},{"$f":"IF(ISERROR((#REF!-#REF!)/#REF!),0,(#REF!-#REF!)/#REF!)","v":0},{"$f":"IF(ISERROR((#REF!-#REF!)/#REF!),0,(#REF!-#REF!)/#REF!)","v":0},{"$f":"IF(ISERROR((#REF!-#REF!)/#REF!),0,(#REF!-#REF!)/#REF!)","v":0},{"$f":"IF(ISERROR((#REF!-#REF!)/#REF!),0,(#REF!-#REF!)/#REF!)","v":0},{"$f":"IF(ISERROR((#REF!-#REF!)/#REF!),0,(#REF!-#REF!)/#REF!)","v":0},{"$f":"IF(ISERROR((#REF!-#REF!)/#REF!),0,(#REF!-#REF!)/#REF!)","v":0},{"$f":"IF(ISERROR((#REF!-#REF!)/#REF!),0,(#REF!-#REF!)/#REF!)","v":0},{"$f":"IF(ISERROR((#REF!-#REF!)/#REF!),0,(#REF!-#REF!)/#REF!)","v":0},{"$f":"IF(ISERROR((#REF!-#REF!)/#REF!),0,(#REF!-#REF!)/#REF!)","v":0},{"$f":"IF(ISERROR((#REF!-#REF!)/#REF!),0,(#REF!-#REF!)/#REF!)","v":0},{"$f":"IF(ISERROR((#REF!-#REF!)/#REF!),0,(#REF!-#REF!)/#REF!)","v":0}]
[null,"JC11Z","Other Diagnostic Skin Tests",161,167,0,0,5,300,5,207,"No","-",0,"","",{"$f":"IF(ISERROR((#REF!-#REF!)/#REF!),0,(#REF!-#REF!)/#REF!)","v":0},{"$f":"IF(ISERROR((#REF!-#REF!)/#REF!),0,(#REF!-#REF!)/#REF!)","v":0},{"$f":"IF(ISERROR((#REF!-#REF!)/#REF!),0,(#REF!-#REF!)/#REF!)","v":0},{"$f":"IF(ISERROR((#REF!-#REF!)/#REF!),0,(#REF!-#REF!)/#REF!)","v":0},{"$f":"IF(ISERROR((#REF!-#REF!)/#REF!),0,(#REF!-#REF!)/#REF!)","v":0},{"$f":"IF(ISERROR((#REF!-#REF!)/#REF!),0,(#REF!-#REF!)/#REF!)","v":0},{"$f":"IF(ISERROR((#REF!-#REF!)/#REF!),0,(#REF!-#REF!)/#REF!)","v":0},{"$f":"IF(ISERROR((#REF!-#REF!)/#REF!),0,(#REF!-#REF!)/#REF!)","v":0},{"$f":"IF(ISERROR((#REF!-#REF!)/#REF!),0,(#REF!-#REF!)/#REF!)","v":0},{"$f":"IF(ISERROR((#REF!-#REF!)/#REF!),0,(#REF!-#REF!)/#REF!)","v":0},{"$f":"IF(ISERROR((#REF!-#REF!)/#REF!),0,(#REF!-#REF!)/#REF!)","v":0},{"$f":"IF(ISERROR((#REF!-#REF!)/#REF!),0,(#REF!-#REF!)/#REF!)","v":0},{"$f":"IF(ISERROR((#REF!-#REF!)/#REF!),0,(#REF!-#REF!)/#REF!)","v":0}]
[null,"JC12Z","Urticaria Tests",0,432,0,0,5,497,5,207,"No","-",0,"","",{"$f":"IF(ISERROR((#REF!-#REF!)/#REF!),0,(#REF!-#REF!)/#REF!)","v":0},{"$f":"IF(ISERROR((#REF!-#REF!)/#REF!),0,(#REF!-#REF!)/#REF!)","v":0},{"$f":"IF(ISERROR((#REF!-#REF!)/#REF!),0,(#REF!-#REF!)/#REF!)","v":0},{"$f":"IF(ISERROR((#REF!-#REF!)/#REF!),0,(#REF!-#REF!)/#REF!)","v":0},{"$f":"IF(ISERROR((#REF!-#REF!)/#REF!),0,(#REF!-#REF!)/#REF!)","v":0},{"$f":"IF(ISERROR((#REF!-#REF!)/#REF!),0,(#REF!-#REF!)/#REF!)","v":0},{"$f":"IF(ISERROR((#REF!-#REF!)/#REF!),0,(#REF!-#REF!)/#REF!)","v":0},{"$f":"IF(ISERROR((#REF!-#REF!)/#REF!),0,(#REF!-#REF!)/#REF!)","v":0},{"$f":"IF(ISERROR((#REF!-#REF!)/#REF!),0,(#REF!-#REF!)/#REF!)","v":0},{"$f":"IF(ISERROR((#REF!-#REF!)/#REF!),0,(#REF!-#REF!)/#REF!)","v":0},{"$f":"IF(ISERROR((#REF!-#REF!)/#REF!),0,(#REF!-#REF!)/#REF!)","v":0},{"$f":"IF(ISERROR((#REF!-#REF!)/#REF!),0,(#REF!-#REF!)/#REF!)","v":0},{"$f":"IF(ISERROR((#REF!-#REF!)/#REF!),0,(#REF!-#REF!)/#REF!)","v":0}]
[null,"JC13Z","Photo Tests",0,517,0,0,5,517,5,207,"No","-",0,"","",{"$f":"IF(ISERROR((#REF!-#REF!)/#REF!),0,(#REF!-#REF!)/#REF!)","v":0},{"$f":"IF(ISERROR((#REF!-#REF!)/#REF!),0,(#REF!-#REF!)/#REF!)","v":0},{"$f":"IF(ISERROR((#REF!-#REF!)/#REF!),0,(#REF!-#REF!)/#REF!)","v":0},{"$f":"IF(ISERROR((#REF!-#REF!)/#REF!),0,(#REF!-#REF!)/#REF!)","v":0},{"$f":"IF(ISERROR((#REF!-#REF!)/#REF!),0,(#REF!-#REF!)/#REF!)","v":0},{"$f":"IF(ISERROR((#REF!-#REF!)/#REF!),0,(#REF!-#REF!)/#REF!)","v":0},{"$f":"IF(ISERROR((#REF!-#REF!)/#REF!),0,(#REF!-#REF!)/#REF!)","v":0},{"$f":"IF(ISERROR((#REF!-#REF!)/#REF!),0,(#REF!-#REF!)/#REF!)","v":0},{"$f":"IF(ISERROR((#REF!-#REF!)/#REF!),0,(#REF!-#REF!)/#REF!)","v":0},{"$f":"IF(ISERROR((#REF!-#REF!)/#REF!),0,(#REF!-#REF!)/#REF!)","v":0},{"$f":"IF(ISERROR((#REF!-#REF!)/#REF!),0,(#REF!-#REF!)/#REF!)","v":0},{"$f":"IF(ISERROR((#REF!-#REF!)/#REF!),0,(#REF!-#REF!)/#REF!)","v":0},{"$f":"IF(ISERROR((#REF!-#REF!)/#REF!),0,(#REF!-#REF!)/#REF!)","v":0}]
[null,"JC14Z","Skin Therapies Level 2",114,790.48936873850221,0,0,5,662,5,207,"No","-",0,"","",{"$f":"IF(ISERROR((#REF!-#REF!)/#REF!),0,(#REF!-#REF!)/#REF!)","v":0},{"$f":"IF(ISERROR((#REF!-#REF!)/#REF!),0,(#REF!-#REF!)/#REF!)","v":0},{"$f":"IF(ISERROR((#REF!-#REF!)/#REF!),0,(#REF!-#REF!)/#REF!)","v":0},{"$f":"IF(ISERROR((#REF!-#REF!)/#REF!),0,(#REF!-#REF!)/#REF!)","v":0},{"$f":"IF(ISERROR((#REF!-#REF!)/#REF!),0,(#REF!-#REF!)/#REF!)","v":0},{"$f":"IF(ISERROR((#REF!-#REF!)/#REF!),0,(#REF!-#REF!)/#REF!)","v":0},{"$f":"IF(ISERROR((#REF!-#REF!)/#REF!),0,(#REF!-#REF!)/#REF!)","v":0},{"$f":"IF(ISERROR((#REF!-#REF!)/#REF!),0,(#REF!-#REF!)/#REF!)","v":0},{"$f":"IF(ISERROR((#REF!-#REF!)/#REF!),0,(#REF!-#REF!)/#REF!)","v":0},{"$f":"IF(ISERROR((#REF!-#REF!)/#REF!),0,(#REF!-#REF!)/#REF!)","v":0},{"$f":"IF(ISERROR((#REF!-#REF!)/#REF!),0,(#REF!-#REF!)/#REF!)","v":0},{"$f":"IF(ISERROR((#REF!-#REF!)/#REF!),0,(#REF!-#REF!)/#REF!)","v":0},{"$f":"IF(ISERROR((#REF!-#REF!)/#REF!),0,(#REF!-#REF!)/#REF!)","v":0}]
[null,"JC15Z","Skin Therapies Level 3",125,809.57150032443781,0,0,5,688,5,207,"No","-",0,"","",{"$f":"IF(ISERROR((#REF!-#REF!)/#REF!),0,(#REF!-#REF!)/#REF!)","v":0},{"$f":"IF(ISERROR((#REF!-#REF!)/#REF!),0,(#REF!-#REF!)/#REF!)","v":0},{"$f":"IF(ISERROR((#REF!-#REF!)/#REF!),0,(#REF!-#REF!)/#REF!)","v":0},{"$f":"IF(ISERROR((#REF!-#REF!)/#REF!),0,(#REF!-#REF!)/#REF!)","v":0},{"$f":"IF(ISERROR((#REF!-#REF!)/#REF!),0,(#REF!-#REF!)/#REF!)","v":0},{"$f":"IF(ISERROR((#REF!-#REF!)/#REF!),0,(#REF!-#REF!)/#REF!)","v":0},{"$f":"IF(ISERROR((#REF!-#REF!)/#REF!),0,(#REF!-#REF!)/#REF!)","v":0},{"$f":"IF(ISERROR((#REF!-#REF!)/#REF!),0,(#REF!-#REF!)/#REF!)","v":0},{"$f":"IF(ISERROR((#REF!-#REF!)/#REF!),0,(#REF!-#REF!)/#REF!)","v":0},{"$f":"IF(ISERROR((#REF!-#REF!)/#REF!),0,(#REF!-#REF!)/#REF!)","v":0},{"$f":"IF(ISERROR((#REF!-#REF!)/#REF!),0,(#REF!-#REF!)/#REF!)","v":0},{"$f":"IF(ISERROR((#REF!-#REF!)/#REF!),0,(#REF!-#REF!)/#REF!)","v":0},{"$f":"IF(ISERROR((#REF!-#REF!)/#REF!),0,(#REF!-#REF!)/#REF!)","v":0}]
[null,"JC16Z","Skin Therapies Level 4",0,1004.9496917693875,0,0,5,784,5,207,"No","-",0,"","",{"$f":"IF(ISERROR((#REF!-#REF!)/#REF!),0,(#REF!-#REF!)/#REF!)","v":0},{"$f":"IF(ISERROR((#REF!-#REF!)/#REF!),0,(#REF!-#REF!)/#REF!)","v":0},{"$f":"IF(ISERROR((#REF!-#REF!)/#REF!),0,(#REF!-#REF!)/#REF!)","v":0},{"$f":"IF(ISERROR((#REF!-#REF!)/#REF!),0,(#REF!-#REF!)/#REF!)","v":0},{"$f":"IF(ISERROR((#REF!-#REF!)/#REF!),0,(#REF!-#REF!)/#REF!)","v":0},{"$f":"IF(ISERROR((#REF!-#REF!)/#REF!),0,(#REF!-#REF!)/#REF!)","v":0},{"$f":"IF(ISERROR((#REF!-#REF!)/#REF!),0,(#REF!-#REF!)/#REF!)","v":0},{"$f":"IF(ISERROR((#REF!-#REF!)/#REF!),0,(#REF!-#REF!)/#REF!)","v":0},{"$f":"IF(ISERROR((#REF!-#REF!)/#REF!),0,(#REF!-#REF!)/#REF!)","v":0},{"$f":"IF(ISERROR((#REF!-#REF!)/#REF!),0,(#REF!-#REF!)/#REF!)","v":0},{"$f":"IF(ISERROR((#REF!-#REF!)/#REF!),0,(#REF!-#REF!)/#REF!)","v":0},{"$f":"IF(ISERROR((#REF!-#REF!)/#REF!),0,(#REF!-#REF!)/#REF!)","v":0},{"$f":"IF(ISERROR((#REF!-#REF!)/#REF!),0,(#REF!-#REF!)/#REF!)","v":0}]
[null,"JC17Z","Skin Therapies Level 5",0,1057.981261760395,0,0,5,956,5,207,"No","-",0,"","",{"$f":"IF(ISERROR((#REF!-#REF!)/#REF!),0,(#REF!-#REF!)/#REF!)","v":0},{"$f":"IF(ISERROR((#REF!-#REF!)/#REF!),0,(#REF!-#REF!)/#REF!)","v":0},{"$f":"IF(ISERROR((#REF!-#REF!)/#REF!),0,(#REF!-#REF!)/#REF!)","v":0},{"$f":"IF(ISERROR((#REF!-#REF!)/#REF!),0,(#REF!-#REF!)/#REF!)","v":0},{"$f":"IF(ISERROR((#REF!-#REF!)/#REF!),0,(#REF!-#REF!)/#REF!)","v":0},{"$f":"IF(ISERROR((#REF!-#REF!)/#REF!),0,(#REF!-#REF!)/#REF!)","v":0},{"$f":"IF(ISERROR((#REF!-#REF!)/#REF!),0,(#REF!-#REF!)/#REF!)","v":0},{"$f":"IF(ISERROR((#REF!-#REF!)/#REF!),0,(#REF!-#REF!)/#REF!)","v":0},{"$f":"IF(ISERROR((#REF!-#REF!)/#REF!),0,(#REF!-#REF!)/#REF!)","v":0},{"$f":"IF(ISERROR((#REF!-#REF!)/#REF!),0,(#REF!-#REF!)/#REF!)","v":0},{"$f":"IF(ISERROR((#REF!-#REF!)/#REF!),0,(#REF!-#REF!)/#REF!)","v":0},{"$f":"IF(ISERROR((#REF!-#REF!)/#REF!),0,(#REF!-#REF!)/#REF!)","v":0},{"$f":"IF(ISERROR((#REF!-#REF!)/#REF!),0,(#REF!-#REF!)/#REF!)","v":0}]
[null,"JC18Z","Electrical and Other Invasive Therapy Level 2",109,423,0,0,5,587,5,207,"No","-",0,"","",{"$f":"IF(ISERROR((#REF!-#REF!)/#REF!),0,(#REF!-#REF!)/#REF!)","v":0},{"$f":"IF(ISERROR((#REF!-#REF!)/#REF!),0,(#REF!-#REF!)/#REF!)","v":0},{"$f":"IF(ISERROR((#REF!-#REF!)/#REF!),0,(#REF!-#REF!)/#REF!)","v":0},{"$f":"IF(ISERROR((#REF!-#REF!)/#REF!),0,(#REF!-#REF!)/#REF!)","v":0},{"$f":"IF(ISERROR((#REF!-#REF!)/#REF!),0,(#REF!-#REF!)/#REF!)","v":0},{"$f":"IF(ISERROR((#REF!-#REF!)/#REF!),0,(#REF!-#REF!)/#REF!)","v":0},{"$f":"IF(ISERROR((#REF!-#REF!)/#REF!),0,(#REF!-#REF!)/#REF!)","v":0},{"$f":"IF(ISERROR((#REF!-#REF!)/#REF!),0,(#REF!-#REF!)/#REF!)","v":0},{"$f":"IF(ISERROR((#REF!-#REF!)/#REF!),0,(#REF!-#REF!)/#REF!)","v":0},{"$f":"IF(ISERROR((#REF!-#REF!)/#REF!),0,(#REF!-#REF!)/#REF!)","v":0},{"$f":"IF(ISERROR((#REF!-#REF!)/#REF!),0,(#REF!-#REF!)/#REF!)","v":0},{"$f":"IF(ISERROR((#REF!-#REF!)/#REF!),0,(#REF!-#REF!)/#REF!)","v":0},{"$f":"IF(ISERROR((#REF!-#REF!)/#REF!),0,(#REF!-#REF!)/#REF!)","v":0}]
[null,"JC19D","Electrical and Other Invasive Therapy Level 4, 19 years and over",135,140,0,0,5,384,5,207,"No","-",0,"","",{"$f":"IF(ISERROR((#REF!-#REF!)/#REF!),0,(#REF!-#REF!)/#REF!)","v":0},{"$f":"IF(ISERROR((#REF!-#REF!)/#REF!),0,(#REF!-#REF!)/#REF!)","v":0},{"$f":"IF(ISERROR((#REF!-#REF!)/#REF!),0,(#REF!-#REF!)/#REF!)","v":0},{"$f":"IF(ISERROR((#REF!-#REF!)/#REF!),0,(#REF!-#REF!)/#REF!)","v":0},{"$f":"IF(ISERROR((#REF!-#REF!)/#REF!),0,(#REF!-#REF!)/#REF!)","v":0},{"$f":"IF(ISERROR((#REF!-#REF!)/#REF!),0,(#REF!-#REF!)/#REF!)","v":0},{"$f":"IF(ISERROR((#REF!-#REF!)/#REF!),0,(#REF!-#REF!)/#REF!)","v":0},{"$f":"IF(ISERROR((#REF!-#REF!)/#REF!),0,(#REF!-#REF!)/#REF!)","v":0},{"$f":"IF(ISERROR((#REF!-#REF!)/#REF!),0,(#REF!-#REF!)/#REF!)","v":0},{"$f":"IF(ISERROR((#REF!-#REF!)/#REF!),0,(#REF!-#REF!)/#REF!)","v":0},{"$f":"IF(ISERROR((#REF!-#REF!)/#REF!),0,(#REF!-#REF!)/#REF!)","v":0},{"$f":"IF(ISERROR((#REF!-#REF!)/#REF!),0,(#REF!-#REF!)/#REF!)","v":0},{"$f":"IF(ISERROR((#REF!-#REF!)/#REF!),0,(#REF!-#REF!)/#REF!)","v":0}]
[null,"JC19U","Electrical and Other Invasive Therapy Level 4, 18 years and under",0,507,0,0,5,429,5,368,"No","-",0,"","",{"$f":"IF(ISERROR((#REF!-#REF!)/#REF!),0,(#REF!-#REF!)/#REF!)","v":0},{"$f":"IF(ISERROR((#REF!-#REF!)/#REF!),0,(#REF!-#REF!)/#REF!)","v":0},{"$f":"IF(ISERROR((#REF!-#REF!)/#REF!),0,(#REF!-#REF!)/#REF!)","v":0},{"$f":"IF(ISERROR((#REF!-#REF!)/#REF!),0,(#REF!-#REF!)/#REF!)","v":0},{"$f":"IF(ISERROR((#REF!-#REF!)/#REF!),0,(#REF!-#REF!)/#REF!)","v":0},{"$f":"IF(ISERROR((#REF!-#REF!)/#REF!),0,(#REF!-#REF!)/#REF!)","v":0},{"$f":"IF(ISERROR((#REF!-#REF!)/#REF!),0,(#REF!-#REF!)/#REF!)","v":0},{"$f":"IF(ISERROR((#REF!-#REF!)/#REF!),0,(#REF!-#REF!)/#REF!)","v":0},{"$f":"IF(ISERROR((#REF!-#REF!)/#REF!),0,(#REF!-#REF!)/#REF!)","v":0},{"$f":"IF(ISERROR((#REF!-#REF!)/#REF!),0,(#REF!-#REF!)/#REF!)","v":0},{"$f":"IF(ISERROR((#REF!-#REF!)/#REF!),0,(#REF!-#REF!)/#REF!)","v":0},{"$f":"IF(ISERROR((#REF!-#REF!)/#REF!),0,(#REF!-#REF!)/#REF!)","v":0},{"$f":"IF(ISERROR((#REF!-#REF!)/#REF!),0,(#REF!-#REF!)/#REF!)","v":0}]
[null,"JC20Z","Electrical and Other Invasive Therapy Level 3",109,109,0,0,5,622,5,207,"No","-",0,"","",{"$f":"IF(ISERROR((#REF!-#REF!)/#REF!),0,(#REF!-#REF!)/#REF!)","v":0},{"$f":"IF(ISERROR((#REF!-#REF!)/#REF!),0,(#REF!-#REF!)/#REF!)","v":0},{"$f":"IF(ISERROR((#REF!-#REF!)/#REF!),0,(#REF!-#REF!)/#REF!)","v":0},{"$f":"IF(ISERROR((#REF!-#REF!)/#REF!),0,(#REF!-#REF!)/#REF!)","v":0},{"$f":"IF(ISERROR((#REF!-#REF!)/#REF!),0,(#REF!-#REF!)/#REF!)","v":0},{"$f":"IF(ISERROR((#REF!-#REF!)/#REF!),0,(#REF!-#REF!)/#REF!)","v":0},{"$f":"IF(ISERROR((#REF!-#REF!)/#REF!),0,(#REF!-#REF!)/#REF!)","v":0},{"$f":"IF(ISERROR((#REF!-#REF!)/#REF!),0,(#REF!-#REF!)/#REF!)","v":0},{"$f":"IF(ISERROR((#REF!-#REF!)/#REF!),0,(#REF!-#REF!)/#REF!)","v":0},{"$f":"IF(ISERROR((#REF!-#REF!)/#REF!),0,(#REF!-#REF!)/#REF!)","v":0},{"$f":"IF(ISERROR((#REF!-#REF!)/#REF!),0,(#REF!-#REF!)/#REF!)","v":0},{"$f":"IF(ISERROR((#REF!-#REF!)/#REF!),0,(#REF!-#REF!)/#REF!)","v":0},{"$f":"IF(ISERROR((#REF!-#REF!)/#REF!),0,(#REF!-#REF!)/#REF!)","v":0}]
[null,"JC27Z","Nursing Procedures or Dressings",0,751.44024163995368,0,0,5,407,5,207,"No","-",0,"","",{"$f":"IF(ISERROR((#REF!-#REF!)/#REF!),0,(#REF!-#REF!)/#REF!)","v":0},{"$f":"IF(ISERROR((#REF!-#REF!)/#REF!),0,(#REF!-#REF!)/#REF!)","v":0},{"$f":"IF(ISERROR((#REF!-#REF!)/#REF!),0,(#REF!-#REF!)/#REF!)","v":0},{"$f":"IF(ISERROR((#REF!-#REF!)/#REF!),0,(#REF!-#REF!)/#REF!)","v":0},{"$f":"IF(ISERROR((#REF!-#REF!)/#REF!),0,(#REF!-#REF!)/#REF!)","v":0},{"$f":"IF(ISERROR((#REF!-#REF!)/#REF!),0,(#REF!-#REF!)/#REF!)","v":0},{"$f":"IF(ISERROR((#REF!-#REF!)/#REF!),0,(#REF!-#REF!)/#REF!)","v":0},{"$f":"IF(ISERROR((#REF!-#REF!)/#REF!),0,(#REF!-#REF!)/#REF!)","v":0},{"$f":"IF(ISERROR((#REF!-#REF!)/#REF!),0,(#REF!-#REF!)/#REF!)","v":0},{"$f":"IF(ISERROR((#REF!-#REF!)/#REF!),0,(#REF!-#REF!)/#REF!)","v":0},{"$f":"IF(ISERROR((#REF!-#REF!)/#REF!),0,(#REF!-#REF!)/#REF!)","v":0},{"$f":"IF(ISERROR((#REF!-#REF!)/#REF!),0,(#REF!-#REF!)/#REF!)","v":0},{"$f":"IF(ISERROR((#REF!-#REF!)/#REF!),0,(#REF!-#REF!)/#REF!)","v":0}]
[null,"JD01A","Major Skin Disorders Category 2, with Major CC",0,3501,0,0,45,6234.3136033745714,49,207,"Yes",0.30000000000000004,1870.2940810123716,"","",{"$f":"IF(ISERROR((#REF!-#REF!)/#REF!),0,(#REF!-#REF!)/#REF!)","v":0},{"$f":"IF(ISERROR((#REF!-#REF!)/#REF!),0,(#REF!-#REF!)/#REF!)","v":0},{"$f":"IF(ISERROR((#REF!-#REF!)/#REF!),0,(#REF!-#REF!)/#REF!)","v":0},{"$f":"IF(ISERROR((#REF!-#REF!)/#REF!),0,(#REF!-#REF!)/#REF!)","v":0},{"$f":"IF(ISERROR((#REF!-#REF!)/#REF!),0,(#REF!-#REF!)/#REF!)","v":0},{"$f":"IF(ISERROR((#REF!-#REF!)/#REF!),0,(#REF!-#REF!)/#REF!)","v":0},{"$f":"IF(ISERROR((#REF!-#REF!)/#REF!),0,(#REF!-#REF!)/#REF!)","v":0},{"$f":"IF(ISERROR((#REF!-#REF!)/#REF!),0,(#REF!-#REF!)/#REF!)","v":0},{"$f":"IF(ISERROR((#REF!-#REF!)/#REF!),0,(#REF!-#REF!)/#REF!)","v":0},{"$f":"IF(ISERROR((#REF!-#REF!)/#REF!),0,(#REF!-#REF!)/#REF!)","v":0},{"$f":"IF(ISERROR((#REF!-#REF!)/#REF!),0,(#REF!-#REF!)/#REF!)","v":0},{"$f":"IF(ISERROR((#REF!-#REF!)/#REF!),0,(#REF!-#REF!)/#REF!)","v":0},{"$f":"IF(ISERROR((#REF!-#REF!)/#REF!),0,(#REF!-#REF!)/#REF!)","v":0}]
[null,"JD01B","Major Skin Disorders Category 2, with Intermediate CC",0,1962,0,0,25,4058.5590142192359,21,207,"Yes",0.30000000000000004,1217.567704265771,"","",{"$f":"IF(ISERROR((#REF!-#REF!)/#REF!),0,(#REF!-#REF!)/#REF!)","v":0},{"$f":"IF(ISERROR((#REF!-#REF!)/#REF!),0,(#REF!-#REF!)/#REF!)","v":0},{"$f":"IF(ISERROR((#REF!-#REF!)/#REF!),0,(#REF!-#REF!)/#REF!)","v":0},{"$f":"IF(ISERROR((#REF!-#REF!)/#REF!),0,(#REF!-#REF!)/#REF!)","v":0},{"$f":"IF(ISERROR((#REF!-#REF!)/#REF!),0,(#REF!-#REF!)/#REF!)","v":0},{"$f":"IF(ISERROR((#REF!-#REF!)/#REF!),0,(#REF!-#REF!)/#REF!)","v":0},{"$f":"IF(ISERROR((#REF!-#REF!)/#REF!),0,(#REF!-#REF!)/#REF!)","v":0},{"$f":"IF(ISERROR((#REF!-#REF!)/#REF!),0,(#REF!-#REF!)/#REF!)","v":0},{"$f":"IF(ISERROR((#REF!-#REF!)/#REF!),0,(#REF!-#REF!)/#REF!)","v":0},{"$f":"IF(ISERROR((#REF!-#REF!)/#REF!),0,(#REF!-#REF!)/#REF!)","v":0},{"$f":"IF(ISERROR((#REF!-#REF!)/#REF!),0,(#REF!-#REF!)/#REF!)","v":0},{"$f":"IF(ISERROR((#REF!-#REF!)/#REF!),0,(#REF!-#REF!)/#REF!)","v":0},{"$f":"IF(ISERROR((#REF!-#REF!)/#REF!),0,(#REF!-#REF!)/#REF!)","v":0}]
[null,"JD01C","Major Skin Disorders Category 2, without CC",0,564,0,0,5,1487,15,207,"Yes",0.30000000000000004,446.10000000000008,"","",{"$f":"IF(ISERROR((#REF!-#REF!)/#REF!),0,(#REF!-#REF!)/#REF!)","v":0},{"$f":"IF(ISERROR((#REF!-#REF!)/#REF!),0,(#REF!-#REF!)/#REF!)","v":0},{"$f":"IF(ISERROR((#REF!-#REF!)/#REF!),0,(#REF!-#REF!)/#REF!)","v":0},{"$f":"IF(ISERROR((#REF!-#REF!)/#REF!),0,(#REF!-#REF!)/#REF!)","v":0},{"$f":"IF(ISERROR((#REF!-#REF!)/#REF!),0,(#REF!-#REF!)/#REF!)","v":0},{"$f":"IF(ISERROR((#REF!-#REF!)/#REF!),0,(#REF!-#REF!)/#REF!)","v":0},{"$f":"IF(ISERROR((#REF!-#REF!)/#REF!),0,(#REF!-#REF!)/#REF!)","v":0},{"$f":"IF(ISERROR((#REF!-#REF!)/#REF!),0,(#REF!-#REF!)/#REF!)","v":0},{"$f":"IF(ISERROR((#REF!-#REF!)/#REF!),0,(#REF!-#REF!)/#REF!)","v":0},{"$f":"IF(ISERROR((#REF!-#REF!)/#REF!),0,(#REF!-#REF!)/#REF!)","v":0},{"$f":"IF(ISERROR((#REF!-#REF!)/#REF!),0,(#REF!-#REF!)/#REF!)","v":0},{"$f":"IF(ISERROR((#REF!-#REF!)/#REF!),0,(#REF!-#REF!)/#REF!)","v":0},{"$f":"IF(ISERROR((#REF!-#REF!)/#REF!),0,(#REF!-#REF!)/#REF!)","v":0}]
[null,"JD02A","Major Skin Disorders Category 1, with Major CC",0,2405,0,0,33,4214,44,207,"Yes",0.30000000000000004,1264.2000000000003,"","",{"$f":"IF(ISERROR((#REF!-#REF!)/#REF!),0,(#REF!-#REF!)/#REF!)","v":0},{"$f":"IF(ISERROR((#REF!-#REF!)/#REF!),0,(#REF!-#REF!)/#REF!)","v":0},{"$f":"IF(ISERROR((#REF!-#REF!)/#REF!),0,(#REF!-#REF!)/#REF!)","v":0},{"$f":"IF(ISERROR((#REF!-#REF!)/#REF!),0,(#REF!-#REF!)/#REF!)","v":0},{"$f":"IF(ISERROR((#REF!-#REF!)/#REF!),0,(#REF!-#REF!)/#REF!)","v":0},{"$f":"IF(ISERROR((#REF!-#REF!)/#REF!),0,(#REF!-#REF!)/#REF!)","v":0},{"$f":"IF(ISERROR((#REF!-#REF!)/#REF!),0,(#REF!-#REF!)/#REF!)","v":0},{"$f":"IF(ISERROR((#REF!-#REF!)/#REF!),0,(#REF!-#REF!)/#REF!)","v":0},{"$f":"IF(ISERROR((#REF!-#REF!)/#REF!),0,(#REF!-#REF!)/#REF!)","v":0},{"$f":"IF(ISERROR((#REF!-#REF!)/#REF!),0,(#REF!-#REF!)/#REF!)","v":0},{"$f":"IF(ISERROR((#REF!-#REF!)/#REF!),0,(#REF!-#REF!)/#REF!)","v":0},{"$f":"IF(ISERROR((#REF!-#REF!)/#REF!),0,(#REF!-#REF!)/#REF!)","v":0},{"$f":"IF(ISERROR((#REF!-#REF!)/#REF!),0,(#REF!-#REF!)/#REF!)","v":0}]
[null,"JD02B","Major Skin Disorders Category 1, with Intermediate CC",0,2221,0,0,30,2972,26,207,"Yes",0.30000000000000004,891.60000000000014,"","",{"$f":"IF(ISERROR((#REF!-#REF!)/#REF!),0,(#REF!-#REF!)/#REF!)","v":0},{"$f":"IF(ISERROR((#REF!-#REF!)/#REF!),0,(#REF!-#REF!)/#REF!)","v":0},{"$f":"IF(ISERROR((#REF!-#REF!)/#REF!),0,(#REF!-#REF!)/#REF!)","v":0},{"$f":"IF(ISERROR((#REF!-#REF!)/#REF!),0,(#REF!-#REF!)/#REF!)","v":0},{"$f":"IF(ISERROR((#REF!-#REF!)/#REF!),0,(#REF!-#REF!)/#REF!)","v":0},{"$f":"IF(ISERROR((#REF!-#REF!)/#REF!),0,(#REF!-#REF!)/#REF!)","v":0},{"$f":"IF(ISERROR((#REF!-#REF!)/#REF!),0,(#REF!-#REF!)/#REF!)","v":0},{"$f":"IF(ISERROR((#REF!-#REF!)/#REF!),0,(#REF!-#REF!)/#REF!)","v":0},{"$f":"IF(ISERROR((#REF!-#REF!)/#REF!),0,(#REF!-#REF!)/#REF!)","v":0},{"$f":"IF(ISERROR((#REF!-#REF!)/#REF!),0,(#REF!-#REF!)/#REF!)","v":0},{"$f":"IF(ISERROR((#REF!-#REF!)/#REF!),0,(#REF!-#REF!)/#REF!)","v":0},{"$f":"IF(ISERROR((#REF!-#REF!)/#REF!),0,(#REF!-#REF!)/#REF!)","v":0},{"$f":"IF(ISERROR((#REF!-#REF!)/#REF!),0,(#REF!-#REF!)/#REF!)","v":0}]
[null,"JD02C","Major Skin Disorders Category 1, without CC",0,295,0,0,5,2723,19,207,"Yes",0.30000000000000004,816.90000000000009,"","",{"$f":"IF(ISERROR((#REF!-#REF!)/#REF!),0,(#REF!-#REF!)/#REF!)","v":0},{"$f":"IF(ISERROR((#REF!-#REF!)/#REF!),0,(#REF!-#REF!)/#REF!)","v":0},{"$f":"IF(ISERROR((#REF!-#REF!)/#REF!),0,(#REF!-#REF!)/#REF!)","v":0},{"$f":"IF(ISERROR((#REF!-#REF!)/#REF!),0,(#REF!-#REF!)/#REF!)","v":0},{"$f":"IF(ISERROR((#REF!-#REF!)/#REF!),0,(#REF!-#REF!)/#REF!)","v":0},{"$f":"IF(ISERROR((#REF!-#REF!)/#REF!),0,(#REF!-#REF!)/#REF!)","v":0},{"$f":"IF(ISERROR((#REF!-#REF!)/#REF!),0,(#REF!-#REF!)/#REF!)","v":0},{"$f":"IF(ISERROR((#REF!-#REF!)/#REF!),0,(#REF!-#REF!)/#REF!)","v":0},{"$f":"IF(ISERROR((#REF!-#REF!)/#REF!),0,(#REF!-#REF!)/#REF!)","v":0},{"$f":"IF(ISERROR((#REF!-#REF!)/#REF!),0,(#REF!-#REF!)/#REF!)","v":0},{"$f":"IF(ISERROR((#REF!-#REF!)/#REF!),0,(#REF!-#REF!)/#REF!)","v":0},{"$f":"IF(ISERROR((#REF!-#REF!)/#REF!),0,(#REF!-#REF!)/#REF!)","v":0},{"$f":"IF(ISERROR((#REF!-#REF!)/#REF!),0,(#REF!-#REF!)/#REF!)","v":0}]
[null,"JD03A","Intermediate Skin Disorders Category 2, with Major CC",0,5489.1990524855655,0,0,20,4238.3161713428708,30,207,"Yes",0.30000000000000004,1271.4948514028615,"","",{"$f":"IF(ISERROR((#REF!-#REF!)/#REF!),0,(#REF!-#REF!)/#REF!)","v":0},{"$f":"IF(ISERROR((#REF!-#REF!)/#REF!),0,(#REF!-#REF!)/#REF!)","v":0},{"$f":"IF(ISERROR((#REF!-#REF!)/#REF!),0,(#REF!-#REF!)/#REF!)","v":0},{"$f":"IF(ISERROR((#REF!-#REF!)/#REF!),0,(#REF!-#REF!)/#REF!)","v":0},{"$f":"IF(ISERROR((#REF!-#REF!)/#REF!),0,(#REF!-#REF!)/#REF!)","v":0},{"$f":"IF(ISERROR((#REF!-#REF!)/#REF!),0,(#REF!-#REF!)/#REF!)","v":0},{"$f":"IF(ISERROR((#REF!-#REF!)/#REF!),0,(#REF!-#REF!)/#REF!)","v":0},{"$f":"IF(ISERROR((#REF!-#REF!)/#REF!),0,(#REF!-#REF!)/#REF!)","v":0},{"$f":"IF(ISERROR((#REF!-#REF!)/#REF!),0,(#REF!-#REF!)/#REF!)","v":0},{"$f":"IF(ISERROR((#REF!-#REF!)/#REF!),0,(#REF!-#REF!)/#REF!)","v":0},{"$f":"IF(ISERROR((#REF!-#REF!)/#REF!),0,(#REF!-#REF!)/#REF!)","v":0},{"$f":"IF(ISERROR((#REF!-#REF!)/#REF!),0,(#REF!-#REF!)/#REF!)","v":0},{"$f":"IF(ISERROR((#REF!-#REF!)/#REF!),0,(#REF!-#REF!)/#REF!)","v":0}]
[null,"JD03B","Intermediate Skin Disorders Category 2, with Intermediate CC",0,2787.979392261595,0,0,8,1244.6764976690447,14,207,"No","-",0,1,"sub-HRG",{"$f":"IF(ISERROR((#REF!-#REF!)/#REF!),0,(#REF!-#REF!)/#REF!)","v":0},{"$f":"IF(ISERROR((#REF!-#REF!)/#REF!),0,(#REF!-#REF!)/#REF!)","v":0},{"$f":"IF(ISERROR((#REF!-#REF!)/#REF!),0,(#REF!-#REF!)/#REF!)","v":0},{"$f":"IF(ISERROR((#REF!-#REF!)/#REF!),0,(#REF!-#REF!)/#REF!)","v":0},{"$f":"IF(ISERROR((#REF!-#REF!)/#REF!),0,(#REF!-#REF!)/#REF!)","v":0},{"$f":"IF(ISERROR((#REF!-#REF!)/#REF!),0,(#REF!-#REF!)/#REF!)","v":0},{"$f":"IF(ISERROR((#REF!-#REF!)/#REF!),0,(#REF!-#REF!)/#REF!)","v":0},{"$f":"IF(ISERROR((#REF!-#REF!)/#REF!),0,(#REF!-#REF!)/#REF!)","v":0},{"$f":"IF(ISERROR((#REF!-#REF!)/#REF!),0,(#REF!-#REF!)/#REF!)","v":0},{"$f":"IF(ISERROR((#REF!-#REF!)/#REF!),0,(#REF!-#REF!)/#REF!)","v":0},{"$f":"IF(ISERROR((#REF!-#REF!)/#REF!),0,(#REF!-#REF!)/#REF!)","v":0},{"$f":"IF(ISERROR((#REF!-#REF!)/#REF!),0,(#REF!-#REF!)/#REF!)","v":0},{"$f":"IF(ISERROR((#REF!-#REF!)/#REF!),0,(#REF!-#REF!)/#REF!)","v":0}]
[null,"JD03C","Intermediate Skin Disorders Category 2, without CC",0,2274.7423384736812,0,0,5,827.19832374360499,8,207,"No","-",0,1,"sub-HRG",{"$f":"IF(ISERROR((#REF!-#REF!)/#REF!),0,(#REF!-#REF!)/#REF!)","v":0},{"$f":"IF(ISERROR((#REF!-#REF!)/#REF!),0,(#REF!-#REF!)/#REF!)","v":0},{"$f":"IF(ISERROR((#REF!-#REF!)/#REF!),0,(#REF!-#REF!)/#REF!)","v":0},{"$f":"IF(ISERROR((#REF!-#REF!)/#REF!),0,(#REF!-#REF!)/#REF!)","v":0},{"$f":"IF(ISERROR((#REF!-#REF!)/#REF!),0,(#REF!-#REF!)/#REF!)","v":0},{"$f":"IF(ISERROR((#REF!-#REF!)/#REF!),0,(#REF!-#REF!)/#REF!)","v":0},{"$f":"IF(ISERROR((#REF!-#REF!)/#REF!),0,(#REF!-#REF!)/#REF!)","v":0},{"$f":"IF(ISERROR((#REF!-#REF!)/#REF!),0,(#REF!-#REF!)/#REF!)","v":0},{"$f":"IF(ISERROR((#REF!-#REF!)/#REF!),0,(#REF!-#REF!)/#REF!)","v":0},{"$f":"IF(ISERROR((#REF!-#REF!)/#REF!),0,(#REF!-#REF!)/#REF!)","v":0},{"$f":"IF(ISERROR((#REF!-#REF!)/#REF!),0,(#REF!-#REF!)/#REF!)","v":0},{"$f":"IF(ISERROR((#REF!-#REF!)/#REF!),0,(#REF!-#REF!)/#REF!)","v":0},{"$f":"IF(ISERROR((#REF!-#REF!)/#REF!),0,(#REF!-#REF!)/#REF!)","v":0}]
[null,"JD04A","Intermediate Skin Disorders Category 1, with Major CC",0,1644,0,0,13,2607.8059065119578,17,207,"Yes",0.30000000000000004,782.34177195358745,"","",{"$f":"IF(ISERROR((#REF!-#REF!)/#REF!),0,(#REF!-#REF!)/#REF!)","v":0},{"$f":"IF(ISERROR((#REF!-#REF!)/#REF!),0,(#REF!-#REF!)/#REF!)","v":0},{"$f":"IF(ISERROR((#REF!-#REF!)/#REF!),0,(#REF!-#REF!)/#REF!)","v":0},{"$f":"IF(ISERROR((#REF!-#REF!)/#REF!),0,(#REF!-#REF!)/#REF!)","v":0},{"$f":"IF(ISERROR((#REF!-#REF!)/#REF!),0,(#REF!-#REF!)/#REF!)","v":0},{"$f":"IF(ISERROR((#REF!-#REF!)/#REF!),0,(#REF!-#REF!)/#REF!)","v":0},{"$f":"IF(ISERROR((#REF!-#REF!)/#REF!),0,(#REF!-#REF!)/#REF!)","v":0},{"$f":"IF(ISERROR((#REF!-#REF!)/#REF!),0,(#REF!-#REF!)/#REF!)","v":0},{"$f":"IF(ISERROR((#REF!-#REF!)/#REF!),0,(#REF!-#REF!)/#REF!)","v":0},{"$f":"IF(ISERROR((#REF!-#REF!)/#REF!),0,(#REF!-#REF!)/#REF!)","v":0},{"$f":"IF(ISERROR((#REF!-#REF!)/#REF!),0,(#REF!-#REF!)/#REF!)","v":0},{"$f":"IF(ISERROR((#REF!-#REF!)/#REF!),0,(#REF!-#REF!)/#REF!)","v":0},{"$f":"IF(ISERROR((#REF!-#REF!)/#REF!),0,(#REF!-#REF!)/#REF!)","v":0}]
[null,"JD04B","Intermediate Skin Disorders Category 1, with Intermediate CC",0,993,0,0,5,1168,9,207,"No","-",0,1,"sub-HRG",{"$f":"IF(ISERROR((#REF!-#REF!)/#REF!),0,(#REF!-#REF!)/#REF!)","v":0},{"$f":"IF(ISERROR((#REF!-#REF!)/#REF!),0,(#REF!-#REF!)/#REF!)","v":0},{"$f":"IF(ISERROR((#REF!-#REF!)/#REF!),0,(#REF!-#REF!)/#REF!)","v":0},{"$f":"IF(ISERROR((#REF!-#REF!)/#REF!),0,(#REF!-#REF!)/#REF!)","v":0},{"$f":"IF(ISERROR((#REF!-#REF!)/#REF!),0,(#REF!-#REF!)/#REF!)","v":0},{"$f":"IF(ISERROR((#REF!-#REF!)/#REF!),0,(#REF!-#REF!)/#REF!)","v":0},{"$f":"IF(ISERROR((#REF!-#REF!)/#REF!),0,(#REF!-#REF!)/#REF!)","v":0},{"$f":"IF(ISERROR((#REF!-#REF!)/#REF!),0,(#REF!-#REF!)/#REF!)","v":0},{"$f":"IF(ISERROR((#REF!-#REF!)/#REF!),0,(#REF!-#REF!)/#REF!)","v":0},{"$f":"IF(ISERROR((#REF!-#REF!)/#REF!),0,(#REF!-#REF!)/#REF!)","v":0},{"$f":"IF(ISERROR((#REF!-#REF!)/#REF!),0,(#REF!-#REF!)/#REF!)","v":0},{"$f":"IF(ISERROR((#REF!-#REF!)/#REF!),0,(#REF!-#REF!)/#REF!)","v":0},{"$f":"IF(ISERROR((#REF!-#REF!)/#REF!),0,(#REF!-#REF!)/#REF!)","v":0}]
[null,"JD04C","Intermediate Skin Disorders Category 1, without CC",0,658,0,0,5,838,5,207,"No","-",0,1,"sub-HRG",{"$f":"IF(ISERROR((#REF!-#REF!)/#REF!),0,(#REF!-#REF!)/#REF!)","v":0},{"$f":"IF(ISERROR((#REF!-#REF!)/#REF!),0,(#REF!-#REF!)/#REF!)","v":0},{"$f":"IF(ISERROR((#REF!-#REF!)/#REF!),0,(#REF!-#REF!)/#REF!)","v":0},{"$f":"IF(ISERROR((#REF!-#REF!)/#REF!),0,(#REF!-#REF!)/#REF!)","v":0},{"$f":"IF(ISERROR((#REF!-#REF!)/#REF!),0,(#REF!-#REF!)/#REF!)","v":0},{"$f":"IF(ISERROR((#REF!-#REF!)/#REF!),0,(#REF!-#REF!)/#REF!)","v":0},{"$f":"IF(ISERROR((#REF!-#REF!)/#REF!),0,(#REF!-#REF!)/#REF!)","v":0},{"$f":"IF(ISERROR((#REF!-#REF!)/#REF!),0,(#REF!-#REF!)/#REF!)","v":0},{"$f":"IF(ISERROR((#REF!-#REF!)/#REF!),0,(#REF!-#REF!)/#REF!)","v":0},{"$f":"IF(ISERROR((#REF!-#REF!)/#REF!),0,(#REF!-#REF!)/#REF!)","v":0},{"$f":"IF(ISERROR((#REF!-#REF!)/#REF!),0,(#REF!-#REF!)/#REF!)","v":0},{"$f":"IF(ISERROR((#REF!-#REF!)/#REF!),0,(#REF!-#REF!)/#REF!)","v":0},{"$f":"IF(ISERROR((#REF!-#REF!)/#REF!),0,(#REF!-#REF!)/#REF!)","v":0}]
[null,"JD05A","Minor Skin Disorders Category 2, with Major CC",0,1693,0,0,10,1603,10,207,"Yes",0.4,641.20000000000005,"","",{"$f":"IF(ISERROR((#REF!-#REF!)/#REF!),0,(#REF!-#REF!)/#REF!)","v":0},{"$f":"IF(ISERROR((#REF!-#REF!)/#REF!),0,(#REF!-#REF!)/#REF!)","v":0},{"$f":"IF(ISERROR((#REF!-#REF!)/#REF!),0,(#REF!-#REF!)/#REF!)","v":0},{"$f":"IF(ISERROR((#REF!-#REF!)/#REF!),0,(#REF!-#REF!)/#REF!)","v":0},{"$f":"IF(ISERROR((#REF!-#REF!)/#REF!),0,(#REF!-#REF!)/#REF!)","v":0},{"$f":"IF(ISERROR((#REF!-#REF!)/#REF!),0,(#REF!-#REF!)/#REF!)","v":0},{"$f":"IF(ISERROR((#REF!-#REF!)/#REF!),0,(#REF!-#REF!)/#REF!)","v":0},{"$f":"IF(ISERROR((#REF!-#REF!)/#REF!),0,(#REF!-#REF!)/#REF!)","v":0},{"$f":"IF(ISERROR((#REF!-#REF!)/#REF!),0,(#REF!-#REF!)/#REF!)","v":0},{"$f":"IF(ISERROR((#REF!-#REF!)/#REF!),0,(#REF!-#REF!)/#REF!)","v":0},{"$f":"IF(ISERROR((#REF!-#REF!)/#REF!),0,(#REF!-#REF!)/#REF!)","v":0},{"$f":"IF(ISERROR((#REF!-#REF!)/#REF!),0,(#REF!-#REF!)/#REF!)","v":0},{"$f":"IF(ISERROR((#REF!-#REF!)/#REF!),0,(#REF!-#REF!)/#REF!)","v":0}]
[null,"JD05B","Minor Skin Disorders Category 2, with Intermediate CC",0,2323.7245919897709,0,0,5,849,5,207,"Yes",0.65,551.85,"","",{"$f":"IF(ISERROR((#REF!-#REF!)/#REF!),0,(#REF!-#REF!)/#REF!)","v":0},{"$f":"IF(ISERROR((#REF!-#REF!)/#REF!),0,(#REF!-#REF!)/#REF!)","v":0},{"$f":"IF(ISERROR((#REF!-#REF!)/#REF!),0,(#REF!-#REF!)/#REF!)","v":0},{"$f":"IF(ISERROR((#REF!-#REF!)/#REF!),0,(#REF!-#REF!)/#REF!)","v":0},{"$f":"IF(ISERROR((#REF!-#REF!)/#REF!),0,(#REF!-#REF!)/#REF!)","v":0},{"$f":"IF(ISERROR((#REF!-#REF!)/#REF!),0,(#REF!-#REF!)/#REF!)","v":0},{"$f":"IF(ISERROR((#REF!-#REF!)/#REF!),0,(#REF!-#REF!)/#REF!)","v":0},{"$f":"IF(ISERROR((#REF!-#REF!)/#REF!),0,(#REF!-#REF!)/#REF!)","v":0},{"$f":"IF(ISERROR((#REF!-#REF!)/#REF!),0,(#REF!-#REF!)/#REF!)","v":0},{"$f":"IF(ISERROR((#REF!-#REF!)/#REF!),0,(#REF!-#REF!)/#REF!)","v":0},{"$f":"IF(ISERROR((#REF!-#REF!)/#REF!),0,(#REF!-#REF!)/#REF!)","v":0},{"$f":"IF(ISERROR((#REF!-#REF!)/#REF!),0,(#REF!-#REF!)/#REF!)","v":0},{"$f":"IF(ISERROR((#REF!-#REF!)/#REF!),0,(#REF!-#REF!)/#REF!)","v":0}]
[null,"JD05C","Minor Skin Disorders Category 2, without CC",0,725,0,0,5,474,5,207,"Yes",1,474,"","",{"$f":"IF(ISERROR((#REF!-#REF!)/#REF!),0,(#REF!-#REF!)/#REF!)","v":0},{"$f":"IF(ISERROR((#REF!-#REF!)/#REF!),0,(#REF!-#REF!)/#REF!)","v":0},{"$f":"IF(ISERROR((#REF!-#REF!)/#REF!),0,(#REF!-#REF!)/#REF!)","v":0},{"$f":"IF(ISERROR((#REF!-#REF!)/#REF!),0,(#REF!-#REF!)/#REF!)","v":0},{"$f":"IF(ISERROR((#REF!-#REF!)/#REF!),0,(#REF!-#REF!)/#REF!)","v":0},{"$f":"IF(ISERROR((#REF!-#REF!)/#REF!),0,(#REF!-#REF!)/#REF!)","v":0},{"$f":"IF(ISERROR((#REF!-#REF!)/#REF!),0,(#REF!-#REF!)/#REF!)","v":0},{"$f":"IF(ISERROR((#REF!-#REF!)/#REF!),0,(#REF!-#REF!)/#REF!)","v":0},{"$f":"IF(ISERROR((#REF!-#REF!)/#REF!),0,(#REF!-#REF!)/#REF!)","v":0},{"$f":"IF(ISERROR((#REF!-#REF!)/#REF!),0,(#REF!-#REF!)/#REF!)","v":0},{"$f":"IF(ISERROR((#REF!-#REF!)/#REF!),0,(#REF!-#REF!)/#REF!)","v":0},{"$f":"IF(ISERROR((#REF!-#REF!)/#REF!),0,(#REF!-#REF!)/#REF!)","v":0},{"$f":"IF(ISERROR((#REF!-#REF!)/#REF!),0,(#REF!-#REF!)/#REF!)","v":0}]
[null,"JD06A","Minor Skin Disorders Category 1, with CC",0,1184,0,0,8,1944.6764123049002,8,207,"Yes",0.4,777.87056492196007,"","",{"$f":"IF(ISERROR((#REF!-#REF!)/#REF!),0,(#REF!-#REF!)/#REF!)","v":0},{"$f":"IF(ISERROR((#REF!-#REF!)/#REF!),0,(#REF!-#REF!)/#REF!)","v":0},{"$f":"IF(ISERROR((#REF!-#REF!)/#REF!),0,(#REF!-#REF!)/#REF!)","v":0},{"$f":"IF(ISERROR((#REF!-#REF!)/#REF!),0,(#REF!-#REF!)/#REF!)","v":0},{"$f":"IF(ISERROR((#REF!-#REF!)/#REF!),0,(#REF!-#REF!)/#REF!)","v":0},{"$f":"IF(ISERROR((#REF!-#REF!)/#REF!),0,(#REF!-#REF!)/#REF!)","v":0},{"$f":"IF(ISERROR((#REF!-#REF!)/#REF!),0,(#REF!-#REF!)/#REF!)","v":0},{"$f":"IF(ISERROR((#REF!-#REF!)/#REF!),0,(#REF!-#REF!)/#REF!)","v":0},{"$f":"IF(ISERROR((#REF!-#REF!)/#REF!),0,(#REF!-#REF!)/#REF!)","v":0},{"$f":"IF(ISERROR((#REF!-#REF!)/#REF!),0,(#REF!-#REF!)/#REF!)","v":0},{"$f":"IF(ISERROR((#REF!-#REF!)/#REF!),0,(#REF!-#REF!)/#REF!)","v":0},{"$f":"IF(ISERROR((#REF!-#REF!)/#REF!),0,(#REF!-#REF!)/#REF!)","v":0},{"$f":"IF(ISERROR((#REF!-#REF!)/#REF!),0,(#REF!-#REF!)/#REF!)","v":0}]
[null,"JD06B","Minor Skin Disorders Category 1, without CC",0,576,0,0,5,509,5,207,"Yes",1,509,"","",{"$f":"IF(ISERROR((#REF!-#REF!)/#REF!),0,(#REF!-#REF!)/#REF!)","v":0},{"$f":"IF(ISERROR((#REF!-#REF!)/#REF!),0,(#REF!-#REF!)/#REF!)","v":0},{"$f":"IF(ISERROR((#REF!-#REF!)/#REF!),0,(#REF!-#REF!)/#REF!)","v":0},{"$f":"IF(ISERROR((#REF!-#REF!)/#REF!),0,(#REF!-#REF!)/#REF!)","v":0},{"$f":"IF(ISERROR((#REF!-#REF!)/#REF!),0,(#REF!-#REF!)/#REF!)","v":0},{"$f":"IF(ISERROR((#REF!-#REF!)/#REF!),0,(#REF!-#REF!)/#REF!)","v":0},{"$f":"IF(ISERROR((#REF!-#REF!)/#REF!),0,(#REF!-#REF!)/#REF!)","v":0},{"$f":"IF(ISERROR((#REF!-#REF!)/#REF!),0,(#REF!-#REF!)/#REF!)","v":0},{"$f":"IF(ISERROR((#REF!-#REF!)/#REF!),0,(#REF!-#REF!)/#REF!)","v":0},{"$f":"IF(ISERROR((#REF!-#REF!)/#REF!),0,(#REF!-#REF!)/#REF!)","v":0},{"$f":"IF(ISERROR((#REF!-#REF!)/#REF!),0,(#REF!-#REF!)/#REF!)","v":0},{"$f":"IF(ISERROR((#REF!-#REF!)/#REF!),0,(#REF!-#REF!)/#REF!)","v":0},{"$f":"IF(ISERROR((#REF!-#REF!)/#REF!),0,(#REF!-#REF!)/#REF!)","v":0}]
[null,"KA03A","Parathyroid Procedures with CC",0,3692.2170989013293,0,0,5,6068,51,190,"No","-",0,"","",{"$f":"IF(ISERROR((#REF!-#REF!)/#REF!),0,(#REF!-#REF!)/#REF!)","v":0},{"$f":"IF(ISERROR((#REF!-#REF!)/#REF!),0,(#REF!-#REF!)/#REF!)","v":0},{"$f":"IF(ISERROR((#REF!-#REF!)/#REF!),0,(#REF!-#REF!)/#REF!)","v":0},{"$f":"IF(ISERROR((#REF!-#REF!)/#REF!),0,(#REF!-#REF!)/#REF!)","v":0},{"$f":"IF(ISERROR((#REF!-#REF!)/#REF!),0,(#REF!-#REF!)/#REF!)","v":0},{"$f":"IF(ISERROR((#REF!-#REF!)/#REF!),0,(#REF!-#REF!)/#REF!)","v":0},{"$f":"IF(ISERROR((#REF!-#REF!)/#REF!),0,(#REF!-#REF!)/#REF!)","v":0},{"$f":"IF(ISERROR((#REF!-#REF!)/#REF!),0,(#REF!-#REF!)/#REF!)","v":0},{"$f":"IF(ISERROR((#REF!-#REF!)/#REF!),0,(#REF!-#REF!)/#REF!)","v":0},{"$f":"IF(ISERROR((#REF!-#REF!)/#REF!),0,(#REF!-#REF!)/#REF!)","v":0},{"$f":"IF(ISERROR((#REF!-#REF!)/#REF!),0,(#REF!-#REF!)/#REF!)","v":0},{"$f":"IF(ISERROR((#REF!-#REF!)/#REF!),0,(#REF!-#REF!)/#REF!)","v":0},{"$f":"IF(ISERROR((#REF!-#REF!)/#REF!),0,(#REF!-#REF!)/#REF!)","v":0}]
[null,"KA03B","Parathyroid Procedures without CC",0,3525.7382442378839,0,0,5,2763,51,190,"No","-",0,"","",{"$f":"IF(ISERROR((#REF!-#REF!)/#REF!),0,(#REF!-#REF!)/#REF!)","v":0},{"$f":"IF(ISERROR((#REF!-#REF!)/#REF!),0,(#REF!-#REF!)/#REF!)","v":0},{"$f":"IF(ISERROR((#REF!-#REF!)/#REF!),0,(#REF!-#REF!)/#REF!)","v":0},{"$f":"IF(ISERROR((#REF!-#REF!)/#REF!),0,(#REF!-#REF!)/#REF!)","v":0},{"$f":"IF(ISERROR((#REF!-#REF!)/#REF!),0,(#REF!-#REF!)/#REF!)","v":0},{"$f":"IF(ISERROR((#REF!-#REF!)/#REF!),0,(#REF!-#REF!)/#REF!)","v":0},{"$f":"IF(ISERROR((#REF!-#REF!)/#REF!),0,(#REF!-#REF!)/#REF!)","v":0},{"$f":"IF(ISERROR((#REF!-#REF!)/#REF!),0,(#REF!-#REF!)/#REF!)","v":0},{"$f":"IF(ISERROR((#REF!-#REF!)/#REF!),0,(#REF!-#REF!)/#REF!)","v":0},{"$f":"IF(ISERROR((#REF!-#REF!)/#REF!),0,(#REF!-#REF!)/#REF!)","v":0},{"$f":"IF(ISERROR((#REF!-#REF!)/#REF!),0,(#REF!-#REF!)/#REF!)","v":0},{"$f":"IF(ISERROR((#REF!-#REF!)/#REF!),0,(#REF!-#REF!)/#REF!)","v":0},{"$f":"IF(ISERROR((#REF!-#REF!)/#REF!),0,(#REF!-#REF!)/#REF!)","v":0}]
[null,"KA04Z","Adrenal Procedures",0,9560.4549902035396,0,0,14,5843,51,190,"No","-",0,"","",{"$f":"IF(ISERROR((#REF!-#REF!)/#REF!),0,(#REF!-#REF!)/#REF!)","v":0},{"$f":"IF(ISERROR((#REF!-#REF!)/#REF!),0,(#REF!-#REF!)/#REF!)","v":0},{"$f":"IF(ISERROR((#REF!-#REF!)/#REF!),0,(#REF!-#REF!)/#REF!)","v":0},{"$f":"IF(ISERROR((#REF!-#REF!)/#REF!),0,(#REF!-#REF!)/#REF!)","v":0},{"$f":"IF(ISERROR((#REF!-#REF!)/#REF!),0,(#REF!-#REF!)/#REF!)","v":0},{"$f":"IF(ISERROR((#REF!-#REF!)/#REF!),0,(#REF!-#REF!)/#REF!)","v":0},{"$f":"IF(ISERROR((#REF!-#REF!)/#REF!),0,(#REF!-#REF!)/#REF!)","v":0},{"$f":"IF(ISERROR((#REF!-#REF!)/#REF!),0,(#REF!-#REF!)/#REF!)","v":0},{"$f":"IF(ISERROR((#REF!-#REF!)/#REF!),0,(#REF!-#REF!)/#REF!)","v":0},{"$f":"IF(ISERROR((#REF!-#REF!)/#REF!),0,(#REF!-#REF!)/#REF!)","v":0},{"$f":"IF(ISERROR((#REF!-#REF!)/#REF!),0,(#REF!-#REF!)/#REF!)","v":0},{"$f":"IF(ISERROR((#REF!-#REF!)/#REF!),0,(#REF!-#REF!)/#REF!)","v":0},{"$f":"IF(ISERROR((#REF!-#REF!)/#REF!),0,(#REF!-#REF!)/#REF!)","v":0}]
[null,"KA05A","Anterior Pituitary Disorders with CC",0,485,0,0,5,4230.3928297428329,20,190,"Yes",0.30000000000000004,1269.11784892285,"","",{"$f":"IF(ISERROR((#REF!-#REF!)/#REF!),0,(#REF!-#REF!)/#REF!)","v":0},{"$f":"IF(ISERROR((#REF!-#REF!)/#REF!),0,(#REF!-#REF!)/#REF!)","v":0},{"$f":"IF(ISERROR((#REF!-#REF!)/#REF!),0,(#REF!-#REF!)/#REF!)","v":0},{"$f":"IF(ISERROR((#REF!-#REF!)/#REF!),0,(#REF!-#REF!)/#REF!)","v":0},{"$f":"IF(ISERROR((#REF!-#REF!)/#REF!),0,(#REF!-#REF!)/#REF!)","v":0},{"$f":"IF(ISERROR((#REF!-#REF!)/#REF!),0,(#REF!-#REF!)/#REF!)","v":0},{"$f":"IF(ISERROR((#REF!-#REF!)/#REF!),0,(#REF!-#REF!)/#REF!)","v":0},{"$f":"IF(ISERROR((#REF!-#REF!)/#REF!),0,(#REF!-#REF!)/#REF!)","v":0},{"$f":"IF(ISERROR((#REF!-#REF!)/#REF!),0,(#REF!-#REF!)/#REF!)","v":0},{"$f":"IF(ISERROR((#REF!-#REF!)/#REF!),0,(#REF!-#REF!)/#REF!)","v":0},{"$f":"IF(ISERROR((#REF!-#REF!)/#REF!),0,(#REF!-#REF!)/#REF!)","v":0},{"$f":"IF(ISERROR((#REF!-#REF!)/#REF!),0,(#REF!-#REF!)/#REF!)","v":0},{"$f":"IF(ISERROR((#REF!-#REF!)/#REF!),0,(#REF!-#REF!)/#REF!)","v":0}]
[null,"KA05B","Anterior Pituitary Disorders without CC",0,485,0,0,5,1064,8,190,"Yes",0.4,425.6,"","",{"$f":"IF(ISERROR((#REF!-#REF!)/#REF!),0,(#REF!-#REF!)/#REF!)","v":0},{"$f":"IF(ISERROR((#REF!-#REF!)/#REF!),0,(#REF!-#REF!)/#REF!)","v":0},{"$f":"IF(ISERROR((#REF!-#REF!)/#REF!),0,(#REF!-#REF!)/#REF!)","v":0},{"$f":"IF(ISERROR((#REF!-#REF!)/#REF!),0,(#REF!-#REF!)/#REF!)","v":0},{"$f":"IF(ISERROR((#REF!-#REF!)/#REF!),0,(#REF!-#REF!)/#REF!)","v":0},{"$f":"IF(ISERROR((#REF!-#REF!)/#REF!),0,(#REF!-#REF!)/#REF!)","v":0},{"$f":"IF(ISERROR((#REF!-#REF!)/#REF!),0,(#REF!-#REF!)/#REF!)","v":0},{"$f":"IF(ISERROR((#REF!-#REF!)/#REF!),0,(#REF!-#REF!)/#REF!)","v":0},{"$f":"IF(ISERROR((#REF!-#REF!)/#REF!),0,(#REF!-#REF!)/#REF!)","v":0},{"$f":"IF(ISERROR((#REF!-#REF!)/#REF!),0,(#REF!-#REF!)/#REF!)","v":0},{"$f":"IF(ISERROR((#REF!-#REF!)/#REF!),0,(#REF!-#REF!)/#REF!)","v":0},{"$f":"IF(ISERROR((#REF!-#REF!)/#REF!),0,(#REF!-#REF!)/#REF!)","v":0},{"$f":"IF(ISERROR((#REF!-#REF!)/#REF!),0,(#REF!-#REF!)/#REF!)","v":0}]
[null,"KA06A","Non-Pituitary Neoplasia and Hypoplasia, with CC",0,1103,0,0,8,5580.6051780329626,32,190,"Yes",0.30000000000000004,1674.1815534098889,"","",{"$f":"IF(ISERROR((#REF!-#REF!)/#REF!),0,(#REF!-#REF!)/#REF!)","v":0},{"$f":"IF(ISERROR((#REF!-#REF!)/#REF!),0,(#REF!-#REF!)/#REF!)","v":0},{"$f":"IF(ISERROR((#REF!-#REF!)/#REF!),0,(#REF!-#REF!)/#REF!)","v":0},{"$f":"IF(ISERROR((#REF!-#REF!)/#REF!),0,(#REF!-#REF!)/#REF!)","v":0},{"$f":"IF(ISERROR((#REF!-#REF!)/#REF!),0,(#REF!-#REF!)/#REF!)","v":0},{"$f":"IF(ISERROR((#REF!-#REF!)/#REF!),0,(#REF!-#REF!)/#REF!)","v":0},{"$f":"IF(ISERROR((#REF!-#REF!)/#REF!),0,(#REF!-#REF!)/#REF!)","v":0},{"$f":"IF(ISERROR((#REF!-#REF!)/#REF!),0,(#REF!-#REF!)/#REF!)","v":0},{"$f":"IF(ISERROR((#REF!-#REF!)/#REF!),0,(#REF!-#REF!)/#REF!)","v":0},{"$f":"IF(ISERROR((#REF!-#REF!)/#REF!),0,(#REF!-#REF!)/#REF!)","v":0},{"$f":"IF(ISERROR((#REF!-#REF!)/#REF!),0,(#REF!-#REF!)/#REF!)","v":0},{"$f":"IF(ISERROR((#REF!-#REF!)/#REF!),0,(#REF!-#REF!)/#REF!)","v":0},{"$f":"IF(ISERROR((#REF!-#REF!)/#REF!),0,(#REF!-#REF!)/#REF!)","v":0}]
[null,"KA06B","Non-Pituitary Neoplasia and Hypoplasia, without CC",0,1042,0,0,8,2674.6776188439517,6,190,"Yes",0.4,1069.8710475375808,"","",{"$f":"IF(ISERROR((#REF!-#REF!)/#REF!),0,(#REF!-#REF!)/#REF!)","v":0},{"$f":"IF(ISERROR((#REF!-#REF!)/#REF!),0,(#REF!-#REF!)/#REF!)","v":0},{"$f":"IF(ISERROR((#REF!-#REF!)/#REF!),0,(#REF!-#REF!)/#REF!)","v":0},{"$f":"IF(ISERROR((#REF!-#REF!)/#REF!),0,(#REF!-#REF!)/#REF!)","v":0},{"$f":"IF(ISERROR((#REF!-#REF!)/#REF!),0,(#REF!-#REF!)/#REF!)","v":0},{"$f":"IF(ISERROR((#REF!-#REF!)/#REF!),0,(#REF!-#REF!)/#REF!)","v":0},{"$f":"IF(ISERROR((#REF!-#REF!)/#REF!),0,(#REF!-#REF!)/#REF!)","v":0},{"$f":"IF(ISERROR((#REF!-#REF!)/#REF!),0,(#REF!-#REF!)/#REF!)","v":0},{"$f":"IF(ISERROR((#REF!-#REF!)/#REF!),0,(#REF!-#REF!)/#REF!)","v":0},{"$f":"IF(ISERROR((#REF!-#REF!)/#REF!),0,(#REF!-#REF!)/#REF!)","v":0},{"$f":"IF(ISERROR((#REF!-#REF!)/#REF!),0,(#REF!-#REF!)/#REF!)","v":0},{"$f":"IF(ISERROR((#REF!-#REF!)/#REF!),0,(#REF!-#REF!)/#REF!)","v":0},{"$f":"IF(ISERROR((#REF!-#REF!)/#REF!),0,(#REF!-#REF!)/#REF!)","v":0}]
[null,"KA07Z","Non-Surgical Thyroid Disorders",0,1138.4656895516107,0,0,5,1912,13,190,"Yes",0.30000000000000004,573.60000000000014,"","",{"$f":"IF(ISERROR((#REF!-#REF!)/#REF!),0,(#REF!-#REF!)/#REF!)","v":0},{"$f":"IF(ISERROR((#REF!-#REF!)/#REF!),0,(#REF!-#REF!)/#REF!)","v":0},{"$f":"IF(ISERROR((#REF!-#REF!)/#REF!),0,(#REF!-#REF!)/#REF!)","v":0},{"$f":"IF(ISERROR((#REF!-#REF!)/#REF!),0,(#REF!-#REF!)/#REF!)","v":0},{"$f":"IF(ISERROR((#REF!-#REF!)/#REF!),0,(#REF!-#REF!)/#REF!)","v":0},{"$f":"IF(ISERROR((#REF!-#REF!)/#REF!),0,(#REF!-#REF!)/#REF!)","v":0},{"$f":"IF(ISERROR((#REF!-#REF!)/#REF!),0,(#REF!-#REF!)/#REF!)","v":0},{"$f":"IF(ISERROR((#REF!-#REF!)/#REF!),0,(#REF!-#REF!)/#REF!)","v":0},{"$f":"IF(ISERROR((#REF!-#REF!)/#REF!),0,(#REF!-#REF!)/#REF!)","v":0},{"$f":"IF(ISERROR((#REF!-#REF!)/#REF!),0,(#REF!-#REF!)/#REF!)","v":0},{"$f":"IF(ISERROR((#REF!-#REF!)/#REF!),0,(#REF!-#REF!)/#REF!)","v":0},{"$f":"IF(ISERROR((#REF!-#REF!)/#REF!),0,(#REF!-#REF!)/#REF!)","v":0},{"$f":"IF(ISERROR((#REF!-#REF!)/#REF!),0,(#REF!-#REF!)/#REF!)","v":0}]
[null,"KA08Z","Other Endocrine Disorders",0,517,0,0,5,1904,14,190,"Yes",0.30000000000000004,571.20000000000005,"","",{"$f":"IF(ISERROR((#REF!-#REF!)/#REF!),0,(#REF!-#REF!)/#REF!)","v":0},{"$f":"IF(ISERROR((#REF!-#REF!)/#REF!),0,(#REF!-#REF!)/#REF!)","v":0},{"$f":"IF(ISERROR((#REF!-#REF!)/#REF!),0,(#REF!-#REF!)/#REF!)","v":0},{"$f":"IF(ISERROR((#REF!-#REF!)/#REF!),0,(#REF!-#REF!)/#REF!)","v":0},{"$f":"IF(ISERROR((#REF!-#REF!)/#REF!),0,(#REF!-#REF!)/#REF!)","v":0},{"$f":"IF(ISERROR((#REF!-#REF!)/#REF!),0,(#REF!-#REF!)/#REF!)","v":0},{"$f":"IF(ISERROR((#REF!-#REF!)/#REF!),0,(#REF!-#REF!)/#REF!)","v":0},{"$f":"IF(ISERROR((#REF!-#REF!)/#REF!),0,(#REF!-#REF!)/#REF!)","v":0},{"$f":"IF(ISERROR((#REF!-#REF!)/#REF!),0,(#REF!-#REF!)/#REF!)","v":0},{"$f":"IF(ISERROR((#REF!-#REF!)/#REF!),0,(#REF!-#REF!)/#REF!)","v":0},{"$f":"IF(ISERROR((#REF!-#REF!)/#REF!),0,(#REF!-#REF!)/#REF!)","v":0},{"$f":"IF(ISERROR((#REF!-#REF!)/#REF!),0,(#REF!-#REF!)/#REF!)","v":0},{"$f":"IF(ISERROR((#REF!-#REF!)/#REF!),0,(#REF!-#REF!)/#REF!)","v":0}]
[null,"KA09A","Thyroid Procedures with CC",0,4745.0845929626876,0,0,6,5811,47,190,"No","-",0,"","",{"$f":"IF(ISERROR((#REF!-#REF!)/#REF!),0,(#REF!-#REF!)/#REF!)","v":0},{"$f":"IF(ISERROR((#REF!-#REF!)/#REF!),0,(#REF!-#REF!)/#REF!)","v":0},{"$f":"IF(ISERROR((#REF!-#REF!)/#REF!),0,(#REF!-#REF!)/#REF!)","v":0},{"$f":"IF(ISERROR((#REF!-#REF!)/#REF!),0,(#REF!-#REF!)/#REF!)","v":0},{"$f":"IF(ISERROR((#REF!-#REF!)/#REF!),0,(#REF!-#REF!)/#REF!)","v":0},{"$f":"IF(ISERROR((#REF!-#REF!)/#REF!),0,(#REF!-#REF!)/#REF!)","v":0},{"$f":"IF(ISERROR((#REF!-#REF!)/#REF!),0,(#REF!-#REF!)/#REF!)","v":0},{"$f":"IF(ISERROR((#REF!-#REF!)/#REF!),0,(#REF!-#REF!)/#REF!)","v":0},{"$f":"IF(ISERROR((#REF!-#REF!)/#REF!),0,(#REF!-#REF!)/#REF!)","v":0},{"$f":"IF(ISERROR((#REF!-#REF!)/#REF!),0,(#REF!-#REF!)/#REF!)","v":0},{"$f":"IF(ISERROR((#REF!-#REF!)/#REF!),0,(#REF!-#REF!)/#REF!)","v":0},{"$f":"IF(ISERROR((#REF!-#REF!)/#REF!),0,(#REF!-#REF!)/#REF!)","v":0},{"$f":"IF(ISERROR((#REF!-#REF!)/#REF!),0,(#REF!-#REF!)/#REF!)","v":0}]
[null,"KA09B","Thyroid Procedures without CC",0,3844.4841190042853,0,0,5,2405.1113665674516,14,190,"No","-",0,"","",{"$f":"IF(ISERROR((#REF!-#REF!)/#REF!),0,(#REF!-#REF!)/#REF!)","v":0},{"$f":"IF(ISERROR((#REF!-#REF!)/#REF!),0,(#REF!-#REF!)/#REF!)","v":0},{"$f":"IF(ISERROR((#REF!-#REF!)/#REF!),0,(#REF!-#REF!)/#REF!)","v":0},{"$f":"IF(ISERROR((#REF!-#REF!)/#REF!),0,(#REF!-#REF!)/#REF!)","v":0},{"$f":"IF(ISERROR((#REF!-#REF!)/#REF!),0,(#REF!-#REF!)/#REF!)","v":0},{"$f":"IF(ISERROR((#REF!-#REF!)/#REF!),0,(#REF!-#REF!)/#REF!)","v":0},{"$f":"IF(ISERROR((#REF!-#REF!)/#REF!),0,(#REF!-#REF!)/#REF!)","v":0},{"$f":"IF(ISERROR((#REF!-#REF!)/#REF!),0,(#REF!-#REF!)/#REF!)","v":0},{"$f":"IF(ISERROR((#REF!-#REF!)/#REF!),0,(#REF!-#REF!)/#REF!)","v":0},{"$f":"IF(ISERROR((#REF!-#REF!)/#REF!),0,(#REF!-#REF!)/#REF!)","v":0},{"$f":"IF(ISERROR((#REF!-#REF!)/#REF!),0,(#REF!-#REF!)/#REF!)","v":0},{"$f":"IF(ISERROR((#REF!-#REF!)/#REF!),0,(#REF!-#REF!)/#REF!)","v":0},{"$f":"IF(ISERROR((#REF!-#REF!)/#REF!),0,(#REF!-#REF!)/#REF!)","v":0}]
[null,"KB01A","Diabetes with Hypoglycaemic Disorders, 70 years and over",0,1468,0,0,19,2476.5930728261096,19,190,"Yes",0.30000000000000004,742.97792184783304,1,"sub-HRG",{"$f":"IF(ISERROR((#REF!-#REF!)/#REF!),0,(#REF!-#REF!)/#REF!)","v":0},{"$f":"IF(ISERROR((#REF!-#REF!)/#REF!),0,(#REF!-#REF!)/#REF!)","v":0},{"$f":"IF(ISERROR((#REF!-#REF!)/#REF!),0,(#REF!-#REF!)/#REF!)","v":0},{"$f":"IF(ISERROR((#REF!-#REF!)/#REF!),0,(#REF!-#REF!)/#REF!)","v":0},{"$f":"IF(ISERROR((#REF!-#REF!)/#REF!),0,(#REF!-#REF!)/#REF!)","v":0},{"$f":"IF(ISERROR((#REF!-#REF!)/#REF!),0,(#REF!-#REF!)/#REF!)","v":0},{"$f":"IF(ISERROR((#REF!-#REF!)/#REF!),0,(#REF!-#REF!)/#REF!)","v":0},{"$f":"IF(ISERROR((#REF!-#REF!)/#REF!),0,(#REF!-#REF!)/#REF!)","v":0},{"$f":"IF(ISERROR((#REF!-#REF!)/#REF!),0,(#REF!-#REF!)/#REF!)","v":0},{"$f":"IF(ISERROR((#REF!-#REF!)/#REF!),0,(#REF!-#REF!)/#REF!)","v":0},{"$f":"IF(ISERROR((#REF!-#REF!)/#REF!),0,(#REF!-#REF!)/#REF!)","v":0},{"$f":"IF(ISERROR((#REF!-#REF!)/#REF!),0,(#REF!-#REF!)/#REF!)","v":0},{"$f":"IF(ISERROR((#REF!-#REF!)/#REF!),0,(#REF!-#REF!)/#REF!)","v":0}]
[null,"KB01B","Diabetes with Hypoglycaemic Disorders, 69 years and under",0,846,0,0,8,1685.730400680198,8,190,"Yes",0.4,674.29216027207929,1,"sub-HRG",{"$f":"IF(ISERROR((#REF!-#REF!)/#REF!),0,(#REF!-#REF!)/#REF!)","v":0},{"$f":"IF(ISERROR((#REF!-#REF!)/#REF!),0,(#REF!-#REF!)/#REF!)","v":0},{"$f":"IF(ISERROR((#REF!-#REF!)/#REF!),0,(#REF!-#REF!)/#REF!)","v":0},{"$f":"IF(ISERROR((#REF!-#REF!)/#REF!),0,(#REF!-#REF!)/#REF!)","v":0},{"$f":"IF(ISERROR((#REF!-#REF!)/#REF!),0,(#REF!-#REF!)/#REF!)","v":0},{"$f":"IF(ISERROR((#REF!-#REF!)/#REF!),0,(#REF!-#REF!)/#REF!)","v":0},{"$f":"IF(ISERROR((#REF!-#REF!)/#REF!),0,(#REF!-#REF!)/#REF!)","v":0},{"$f":"IF(ISERROR((#REF!-#REF!)/#REF!),0,(#REF!-#REF!)/#REF!)","v":0},{"$f":"IF(ISERROR((#REF!-#REF!)/#REF!),0,(#REF!-#REF!)/#REF!)","v":0},{"$f":"IF(ISERROR((#REF!-#REF!)/#REF!),0,(#REF!-#REF!)/#REF!)","v":0},{"$f":"IF(ISERROR((#REF!-#REF!)/#REF!),0,(#REF!-#REF!)/#REF!)","v":0},{"$f":"IF(ISERROR((#REF!-#REF!)/#REF!),0,(#REF!-#REF!)/#REF!)","v":0},{"$f":"IF(ISERROR((#REF!-#REF!)/#REF!),0,(#REF!-#REF!)/#REF!)","v":0}]
[null,"KB02A","Diabetes with Hyperglycaemic Disorders, 70 years and over with Major CC",0,1247,0,0,46,3510.30664814085,36,190,"Yes",0.30000000000000004,1053.0919944422551,1,"sub-HRG",{"$f":"IF(ISERROR((#REF!-#REF!)/#REF!),0,(#REF!-#REF!)/#REF!)","v":0},{"$f":"IF(ISERROR((#REF!-#REF!)/#REF!),0,(#REF!-#REF!)/#REF!)","v":0},{"$f":"IF(ISERROR((#REF!-#REF!)/#REF!),0,(#REF!-#REF!)/#REF!)","v":0},{"$f":"IF(ISERROR((#REF!-#REF!)/#REF!),0,(#REF!-#REF!)/#REF!)","v":0},{"$f":"IF(ISERROR((#REF!-#REF!)/#REF!),0,(#REF!-#REF!)/#REF!)","v":0},{"$f":"IF(ISERROR((#REF!-#REF!)/#REF!),0,(#REF!-#REF!)/#REF!)","v":0},{"$f":"IF(ISERROR((#REF!-#REF!)/#REF!),0,(#REF!-#REF!)/#REF!)","v":0},{"$f":"IF(ISERROR((#REF!-#REF!)/#REF!),0,(#REF!-#REF!)/#REF!)","v":0},{"$f":"IF(ISERROR((#REF!-#REF!)/#REF!),0,(#REF!-#REF!)/#REF!)","v":0},{"$f":"IF(ISERROR((#REF!-#REF!)/#REF!),0,(#REF!-#REF!)/#REF!)","v":0},{"$f":"IF(ISERROR((#REF!-#REF!)/#REF!),0,(#REF!-#REF!)/#REF!)","v":0},{"$f":"IF(ISERROR((#REF!-#REF!)/#REF!),0,(#REF!-#REF!)/#REF!)","v":0},{"$f":"IF(ISERROR((#REF!-#REF!)/#REF!),0,(#REF!-#REF!)/#REF!)","v":0}]
[null,"KB02B","Diabetes with Hyperglycaemic Disorders, 70 years and over with Intermediate CC",0,576,0,0,5,2642.6576983639034,16,190,"Yes",0.30000000000000004,792.7973095091711,1,"sub-HRG",{"$f":"IF(ISERROR((#REF!-#REF!)/#REF!),0,(#REF!-#REF!)/#REF!)","v":0},{"$f":"IF(ISERROR((#REF!-#REF!)/#REF!),0,(#REF!-#REF!)/#REF!)","v":0},{"$f":"IF(ISERROR((#REF!-#REF!)/#REF!),0,(#REF!-#REF!)/#REF!)","v":0},{"$f":"IF(ISERROR((#REF!-#REF!)/#REF!),0,(#REF!-#REF!)/#REF!)","v":0},{"$f":"IF(ISERROR((#REF!-#REF!)/#REF!),0,(#REF!-#REF!)/#REF!)","v":0},{"$f":"IF(ISERROR((#REF!-#REF!)/#REF!),0,(#REF!-#REF!)/#REF!)","v":0},{"$f":"IF(ISERROR((#REF!-#REF!)/#REF!),0,(#REF!-#REF!)/#REF!)","v":0},{"$f":"IF(ISERROR((#REF!-#REF!)/#REF!),0,(#REF!-#REF!)/#REF!)","v":0},{"$f":"IF(ISERROR((#REF!-#REF!)/#REF!),0,(#REF!-#REF!)/#REF!)","v":0},{"$f":"IF(ISERROR((#REF!-#REF!)/#REF!),0,(#REF!-#REF!)/#REF!)","v":0},{"$f":"IF(ISERROR((#REF!-#REF!)/#REF!),0,(#REF!-#REF!)/#REF!)","v":0},{"$f":"IF(ISERROR((#REF!-#REF!)/#REF!),0,(#REF!-#REF!)/#REF!)","v":0},{"$f":"IF(ISERROR((#REF!-#REF!)/#REF!),0,(#REF!-#REF!)/#REF!)","v":0}]
[null,"KB02C","Diabetes with Hyperglycaemic Disorders, 70 years and over without CC",0,249,0,0,5,1360,10,190,"Yes",0.4,544,1,"sub-HRG",{"$f":"IF(ISERROR((#REF!-#REF!)/#REF!),0,(#REF!-#REF!)/#REF!)","v":0},{"$f":"IF(ISERROR((#REF!-#REF!)/#REF!),0,(#REF!-#REF!)/#REF!)","v":0},{"$f":"IF(ISERROR((#REF!-#REF!)/#REF!),0,(#REF!-#REF!)/#REF!)","v":0},{"$f":"IF(ISERROR((#REF!-#REF!)/#REF!),0,(#REF!-#REF!)/#REF!)","v":0},{"$f":"IF(ISERROR((#REF!-#REF!)/#REF!),0,(#REF!-#REF!)/#REF!)","v":0},{"$f":"IF(ISERROR((#REF!-#REF!)/#REF!),0,(#REF!-#REF!)/#REF!)","v":0},{"$f":"IF(ISERROR((#REF!-#REF!)/#REF!),0,(#REF!-#REF!)/#REF!)","v":0},{"$f":"IF(ISERROR((#REF!-#REF!)/#REF!),0,(#REF!-#REF!)/#REF!)","v":0},{"$f":"IF(ISERROR((#REF!-#REF!)/#REF!),0,(#REF!-#REF!)/#REF!)","v":0},{"$f":"IF(ISERROR((#REF!-#REF!)/#REF!),0,(#REF!-#REF!)/#REF!)","v":0},{"$f":"IF(ISERROR((#REF!-#REF!)/#REF!),0,(#REF!-#REF!)/#REF!)","v":0},{"$f":"IF(ISERROR((#REF!-#REF!)/#REF!),0,(#REF!-#REF!)/#REF!)","v":0},{"$f":"IF(ISERROR((#REF!-#REF!)/#REF!),0,(#REF!-#REF!)/#REF!)","v":0}]
[null,"KB02D","Diabetes with Hyperglycaemic Disorders, 69 years and under with Major CC",0,1620,0,0,10,2913.4203543350718,20,190,"Yes",0.30000000000000004,874.02610630052163,1,"sub-HRG",{"$f":"IF(ISERROR((#REF!-#REF!)/#REF!),0,(#REF!-#REF!)/#REF!)","v":0},{"$f":"IF(ISERROR((#REF!-#REF!)/#REF!),0,(#REF!-#REF!)/#REF!)","v":0},{"$f":"IF(ISERROR((#REF!-#REF!)/#REF!),0,(#REF!-#REF!)/#REF!)","v":0},{"$f":"IF(ISERROR((#REF!-#REF!)/#REF!),0,(#REF!-#REF!)/#REF!)","v":0},{"$f":"IF(ISERROR((#REF!-#REF!)/#REF!),0,(#REF!-#REF!)/#REF!)","v":0},{"$f":"IF(ISERROR((#REF!-#REF!)/#REF!),0,(#REF!-#REF!)/#REF!)","v":0},{"$f":"IF(ISERROR((#REF!-#REF!)/#REF!),0,(#REF!-#REF!)/#REF!)","v":0},{"$f":"IF(ISERROR((#REF!-#REF!)/#REF!),0,(#REF!-#REF!)/#REF!)","v":0},{"$f":"IF(ISERROR((#REF!-#REF!)/#REF!),0,(#REF!-#REF!)/#REF!)","v":0},{"$f":"IF(ISERROR((#REF!-#REF!)/#REF!),0,(#REF!-#REF!)/#REF!)","v":0},{"$f":"IF(ISERROR((#REF!-#REF!)/#REF!),0,(#REF!-#REF!)/#REF!)","v":0},{"$f":"IF(ISERROR((#REF!-#REF!)/#REF!),0,(#REF!-#REF!)/#REF!)","v":0},{"$f":"IF(ISERROR((#REF!-#REF!)/#REF!),0,(#REF!-#REF!)/#REF!)","v":0}]
[null,"KB02E","Diabetes with Hyperglycaemic Disorders, 69 years and under with Intermediate CC",0,495,0,0,5,1732.1391983932235,9,190,"Yes",0.4,692.85567935728943,1,"sub-HRG",{"$f":"IF(ISERROR((#REF!-#REF!)/#REF!),0,(#REF!-#REF!)/#REF!)","v":0},{"$f":"IF(ISERROR((#REF!-#REF!)/#REF!),0,(#REF!-#REF!)/#REF!)","v":0},{"$f":"IF(ISERROR((#REF!-#REF!)/#REF!),0,(#REF!-#REF!)/#REF!)","v":0},{"$f":"IF(ISERROR((#REF!-#REF!)/#REF!),0,(#REF!-#REF!)/#REF!)","v":0},{"$f":"IF(ISERROR((#REF!-#REF!)/#REF!),0,(#REF!-#REF!)/#REF!)","v":0},{"$f":"IF(ISERROR((#REF!-#REF!)/#REF!),0,(#REF!-#REF!)/#REF!)","v":0},{"$f":"IF(ISERROR((#REF!-#REF!)/#REF!),0,(#REF!-#REF!)/#REF!)","v":0},{"$f":"IF(ISERROR((#REF!-#REF!)/#REF!),0,(#REF!-#REF!)/#REF!)","v":0},{"$f":"IF(ISERROR((#REF!-#REF!)/#REF!),0,(#REF!-#REF!)/#REF!)","v":0},{"$f":"IF(ISERROR((#REF!-#REF!)/#REF!),0,(#REF!-#REF!)/#REF!)","v":0},{"$f":"IF(ISERROR((#REF!-#REF!)/#REF!),0,(#REF!-#REF!)/#REF!)","v":0},{"$f":"IF(ISERROR((#REF!-#REF!)/#REF!),0,(#REF!-#REF!)/#REF!)","v":0},{"$f":"IF(ISERROR((#REF!-#REF!)/#REF!),0,(#REF!-#REF!)/#REF!)","v":0}]
[null,"KB02F","Diabetes with Hyperglycaemic Disorders, 69 years and under without CC",0,316,0,0,5,1361.9941339440593,5,190,"Yes",0.65,885.29618706363851,1,"sub-HRG",{"$f":"IF(ISERROR((#REF!-#REF!)/#REF!),0,(#REF!-#REF!)/#REF!)","v":0},{"$f":"IF(ISERROR((#REF!-#REF!)/#REF!),0,(#REF!-#REF!)/#REF!)","v":0},{"$f":"IF(ISERROR((#REF!-#REF!)/#REF!),0,(#REF!-#REF!)/#REF!)","v":0},{"$f":"IF(ISERROR((#REF!-#REF!)/#REF!),0,(#REF!-#REF!)/#REF!)","v":0},{"$f":"IF(ISERROR((#REF!-#REF!)/#REF!),0,(#REF!-#REF!)/#REF!)","v":0},{"$f":"IF(ISERROR((#REF!-#REF!)/#REF!),0,(#REF!-#REF!)/#REF!)","v":0},{"$f":"IF(ISERROR((#REF!-#REF!)/#REF!),0,(#REF!-#REF!)/#REF!)","v":0},{"$f":"IF(ISERROR((#REF!-#REF!)/#REF!),0,(#REF!-#REF!)/#REF!)","v":0},{"$f":"IF(ISERROR((#REF!-#REF!)/#REF!),0,(#REF!-#REF!)/#REF!)","v":0},{"$f":"IF(ISERROR((#REF!-#REF!)/#REF!),0,(#REF!-#REF!)/#REF!)","v":0},{"$f":"IF(ISERROR((#REF!-#REF!)/#REF!),0,(#REF!-#REF!)/#REF!)","v":0},{"$f":"IF(ISERROR((#REF!-#REF!)/#REF!),0,(#REF!-#REF!)/#REF!)","v":0},{"$f":"IF(ISERROR((#REF!-#REF!)/#REF!),0,(#REF!-#REF!)/#REF!)","v":0}]
[null,"KB03A","Diabetes with Lower Limb Complications, with Major CC",0,1833,0,0,30,7320.0808322461617,48,190,"Yes",0.30000000000000004,2196.0242496738488,"","",{"$f":"IF(ISERROR((#REF!-#REF!)/#REF!),0,(#REF!-#REF!)/#REF!)","v":0},{"$f":"IF(ISERROR((#REF!-#REF!)/#REF!),0,(#REF!-#REF!)/#REF!)","v":0},{"$f":"IF(ISERROR((#REF!-#REF!)/#REF!),0,(#REF!-#REF!)/#REF!)","v":0},{"$f":"IF(ISERROR((#REF!-#REF!)/#REF!),0,(#REF!-#REF!)/#REF!)","v":0},{"$f":"IF(ISERROR((#REF!-#REF!)/#REF!),0,(#REF!-#REF!)/#REF!)","v":0},{"$f":"IF(ISERROR((#REF!-#REF!)/#REF!),0,(#REF!-#REF!)/#REF!)","v":0},{"$f":"IF(ISERROR((#REF!-#REF!)/#REF!),0,(#REF!-#REF!)/#REF!)","v":0},{"$f":"IF(ISERROR((#REF!-#REF!)/#REF!),0,(#REF!-#REF!)/#REF!)","v":0},{"$f":"IF(ISERROR((#REF!-#REF!)/#REF!),0,(#REF!-#REF!)/#REF!)","v":0},{"$f":"IF(ISERROR((#REF!-#REF!)/#REF!),0,(#REF!-#REF!)/#REF!)","v":0},{"$f":"IF(ISERROR((#REF!-#REF!)/#REF!),0,(#REF!-#REF!)/#REF!)","v":0},{"$f":"IF(ISERROR((#REF!-#REF!)/#REF!),0,(#REF!-#REF!)/#REF!)","v":0},{"$f":"IF(ISERROR((#REF!-#REF!)/#REF!),0,(#REF!-#REF!)/#REF!)","v":0}]
[null,"KB03B","Diabetes with Lower Limb Complications, without Major CC",0,1139,0,0,8,2587.4191406094401,21,190,"Yes",0.30000000000000004,776.22574218283216,"","",{"$f":"IF(ISERROR((#REF!-#REF!)/#REF!),0,(#REF!-#REF!)/#REF!)","v":0},{"$f":"IF(ISERROR((#REF!-#REF!)/#REF!),0,(#REF!-#REF!)/#REF!)","v":0},{"$f":"IF(ISERROR((#REF!-#REF!)/#REF!),0,(#REF!-#REF!)/#REF!)","v":0},{"$f":"IF(ISERROR((#REF!-#REF!)/#REF!),0,(#REF!-#REF!)/#REF!)","v":0},{"$f":"IF(ISERROR((#REF!-#REF!)/#REF!),0,(#REF!-#REF!)/#REF!)","v":0},{"$f":"IF(ISERROR((#REF!-#REF!)/#REF!),0,(#REF!-#REF!)/#REF!)","v":0},{"$f":"IF(ISERROR((#REF!-#REF!)/#REF!),0,(#REF!-#REF!)/#REF!)","v":0},{"$f":"IF(ISERROR((#REF!-#REF!)/#REF!),0,(#REF!-#REF!)/#REF!)","v":0},{"$f":"IF(ISERROR((#REF!-#REF!)/#REF!),0,(#REF!-#REF!)/#REF!)","v":0},{"$f":"IF(ISERROR((#REF!-#REF!)/#REF!),0,(#REF!-#REF!)/#REF!)","v":0},{"$f":"IF(ISERROR((#REF!-#REF!)/#REF!),0,(#REF!-#REF!)/#REF!)","v":0},{"$f":"IF(ISERROR((#REF!-#REF!)/#REF!),0,(#REF!-#REF!)/#REF!)","v":0},{"$f":"IF(ISERROR((#REF!-#REF!)/#REF!),0,(#REF!-#REF!)/#REF!)","v":0}]
[null,"KB04Z","Continuous Subcutaneous Insulin Infusion",199,541,0,0,5,1461,14,190,"No","-",0,"","",{"$f":"IF(ISERROR((#REF!-#REF!)/#REF!),0,(#REF!-#REF!)/#REF!)","v":0},{"$f":"IF(ISERROR((#REF!-#REF!)/#REF!),0,(#REF!-#REF!)/#REF!)","v":0},{"$f":"IF(ISERROR((#REF!-#REF!)/#REF!),0,(#REF!-#REF!)/#REF!)","v":0},{"$f":"IF(ISERROR((#REF!-#REF!)/#REF!),0,(#REF!-#REF!)/#REF!)","v":0},{"$f":"IF(ISERROR((#REF!-#REF!)/#REF!),0,(#REF!-#REF!)/#REF!)","v":0},{"$f":"IF(ISERROR((#REF!-#REF!)/#REF!),0,(#REF!-#REF!)/#REF!)","v":0},{"$f":"IF(ISERROR((#REF!-#REF!)/#REF!),0,(#REF!-#REF!)/#REF!)","v":0},{"$f":"IF(ISERROR((#REF!-#REF!)/#REF!),0,(#REF!-#REF!)/#REF!)","v":0},{"$f":"IF(ISERROR((#REF!-#REF!)/#REF!),0,(#REF!-#REF!)/#REF!)","v":0},{"$f":"IF(ISERROR((#REF!-#REF!)/#REF!),0,(#REF!-#REF!)/#REF!)","v":0},{"$f":"IF(ISERROR((#REF!-#REF!)/#REF!),0,(#REF!-#REF!)/#REF!)","v":0},{"$f":"IF(ISERROR((#REF!-#REF!)/#REF!),0,(#REF!-#REF!)/#REF!)","v":0},{"$f":"IF(ISERROR((#REF!-#REF!)/#REF!),0,(#REF!-#REF!)/#REF!)","v":0}]
[null,"KC04Z","Inborn Errors of Metabolism",0,238,0,0,5,2350,13,190,"Yes",0.30000000000000004,705.00000000000011,"","",{"$f":"IF(ISERROR((#REF!-#REF!)/#REF!),0,(#REF!-#REF!)/#REF!)","v":0},{"$f":"IF(ISERROR((#REF!-#REF!)/#REF!),0,(#REF!-#REF!)/#REF!)","v":0},{"$f":"IF(ISERROR((#REF!-#REF!)/#REF!),0,(#REF!-#REF!)/#REF!)","v":0},{"$f":"IF(ISERROR((#REF!-#REF!)/#REF!),0,(#REF!-#REF!)/#REF!)","v":0},{"$f":"IF(ISERROR((#REF!-#REF!)/#REF!),0,(#REF!-#REF!)/#REF!)","v":0},{"$f":"IF(ISERROR((#REF!-#REF!)/#REF!),0,(#REF!-#REF!)/#REF!)","v":0},{"$f":"IF(ISERROR((#REF!-#REF!)/#REF!),0,(#REF!-#REF!)/#REF!)","v":0},{"$f":"IF(ISERROR((#REF!-#REF!)/#REF!),0,(#REF!-#REF!)/#REF!)","v":0},{"$f":"IF(ISERROR((#REF!-#REF!)/#REF!),0,(#REF!-#REF!)/#REF!)","v":0},{"$f":"IF(ISERROR((#REF!-#REF!)/#REF!),0,(#REF!-#REF!)/#REF!)","v":0},{"$f":"IF(ISERROR((#REF!-#REF!)/#REF!),0,(#REF!-#REF!)/#REF!)","v":0},{"$f":"IF(ISERROR((#REF!-#REF!)/#REF!),0,(#REF!-#REF!)/#REF!)","v":0},{"$f":"IF(ISERROR((#REF!-#REF!)/#REF!),0,(#REF!-#REF!)/#REF!)","v":0}]
[null,"KC05A","Fluid and Electrolyte Disorders, 70 years and over with Major CC",0,1866,0,0,25,4816.3564633136411,38,190,"Yes",0.30000000000000004,1444.9069389940926,"","",{"$f":"IF(ISERROR((#REF!-#REF!)/#REF!),0,(#REF!-#REF!)/#REF!)","v":0},{"$f":"IF(ISERROR((#REF!-#REF!)/#REF!),0,(#REF!-#REF!)/#REF!)","v":0},{"$f":"IF(ISERROR((#REF!-#REF!)/#REF!),0,(#REF!-#REF!)/#REF!)","v":0},{"$f":"IF(ISERROR((#REF!-#REF!)/#REF!),0,(#REF!-#REF!)/#REF!)","v":0},{"$f":"IF(ISERROR((#REF!-#REF!)/#REF!),0,(#REF!-#REF!)/#REF!)","v":0},{"$f":"IF(ISERROR((#REF!-#REF!)/#REF!),0,(#REF!-#REF!)/#REF!)","v":0},{"$f":"IF(ISERROR((#REF!-#REF!)/#REF!),0,(#REF!-#REF!)/#REF!)","v":0},{"$f":"IF(ISERROR((#REF!-#REF!)/#REF!),0,(#REF!-#REF!)/#REF!)","v":0},{"$f":"IF(ISERROR((#REF!-#REF!)/#REF!),0,(#REF!-#REF!)/#REF!)","v":0},{"$f":"IF(ISERROR((#REF!-#REF!)/#REF!),0,(#REF!-#REF!)/#REF!)","v":0},{"$f":"IF(ISERROR((#REF!-#REF!)/#REF!),0,(#REF!-#REF!)/#REF!)","v":0},{"$f":"IF(ISERROR((#REF!-#REF!)/#REF!),0,(#REF!-#REF!)/#REF!)","v":0},{"$f":"IF(ISERROR((#REF!-#REF!)/#REF!),0,(#REF!-#REF!)/#REF!)","v":0}]
[null,"KC05B","Fluid and Electrolyte Disorders, 70 years and over with Intermediate CC",0,400,0,0,5,2913.8976745487194,16,190,"Yes",0.30000000000000004,874.16930236461599,"","",{"$f":"IF(ISERROR((#REF!-#REF!)/#REF!),0,(#REF!-#REF!)/#REF!)","v":0},{"$f":"IF(ISERROR((#REF!-#REF!)/#REF!),0,(#REF!-#REF!)/#REF!)","v":0},{"$f":"IF(ISERROR((#REF!-#REF!)/#REF!),0,(#REF!-#REF!)/#REF!)","v":0},{"$f":"IF(ISERROR((#REF!-#REF!)/#REF!),0,(#REF!-#REF!)/#REF!)","v":0},{"$f":"IF(ISERROR((#REF!-#REF!)/#REF!),0,(#REF!-#REF!)/#REF!)","v":0},{"$f":"IF(ISERROR((#REF!-#REF!)/#REF!),0,(#REF!-#REF!)/#REF!)","v":0},{"$f":"IF(ISERROR((#REF!-#REF!)/#REF!),0,(#REF!-#REF!)/#REF!)","v":0},{"$f":"IF(ISERROR((#REF!-#REF!)/#REF!),0,(#REF!-#REF!)/#REF!)","v":0},{"$f":"IF(ISERROR((#REF!-#REF!)/#REF!),0,(#REF!-#REF!)/#REF!)","v":0},{"$f":"IF(ISERROR((#REF!-#REF!)/#REF!),0,(#REF!-#REF!)/#REF!)","v":0},{"$f":"IF(ISERROR((#REF!-#REF!)/#REF!),0,(#REF!-#REF!)/#REF!)","v":0},{"$f":"IF(ISERROR((#REF!-#REF!)/#REF!),0,(#REF!-#REF!)/#REF!)","v":0},{"$f":"IF(ISERROR((#REF!-#REF!)/#REF!),0,(#REF!-#REF!)/#REF!)","v":0}]
[null,"KC05C","Fluid and Electrolyte Disorders, 70 years and over without CC",0,279,0,0,5,1117,8,190,"Yes",0.4,446.8,"","",{"$f":"IF(ISERROR((#REF!-#REF!)/#REF!),0,(#REF!-#REF!)/#REF!)","v":0},{"$f":"IF(ISERROR((#REF!-#REF!)/#REF!),0,(#REF!-#REF!)/#REF!)","v":0},{"$f":"IF(ISERROR((#REF!-#REF!)/#REF!),0,(#REF!-#REF!)/#REF!)","v":0},{"$f":"IF(ISERROR((#REF!-#REF!)/#REF!),0,(#REF!-#REF!)/#REF!)","v":0},{"$f":"IF(ISERROR((#REF!-#REF!)/#REF!),0,(#REF!-#REF!)/#REF!)","v":0},{"$f":"IF(ISERROR((#REF!-#REF!)/#REF!),0,(#REF!-#REF!)/#REF!)","v":0},{"$f":"IF(ISERROR((#REF!-#REF!)/#REF!),0,(#REF!-#REF!)/#REF!)","v":0},{"$f":"IF(ISERROR((#REF!-#REF!)/#REF!),0,(#REF!-#REF!)/#REF!)","v":0},{"$f":"IF(ISERROR((#REF!-#REF!)/#REF!),0,(#REF!-#REF!)/#REF!)","v":0},{"$f":"IF(ISERROR((#REF!-#REF!)/#REF!),0,(#REF!-#REF!)/#REF!)","v":0},{"$f":"IF(ISERROR((#REF!-#REF!)/#REF!),0,(#REF!-#REF!)/#REF!)","v":0},{"$f":"IF(ISERROR((#REF!-#REF!)/#REF!),0,(#REF!-#REF!)/#REF!)","v":0},{"$f":"IF(ISERROR((#REF!-#REF!)/#REF!),0,(#REF!-#REF!)/#REF!)","v":0}]
[null,"KC05D","Fluid and Electrolyte Disorders, 69 years and under with Major CC",0,1069,0,0,8,2964.1819471579129,25,190,"Yes",0.30000000000000004,889.25458414737398,"","",{"$f":"IF(ISERROR((#REF!-#REF!)/#REF!),0,(#REF!-#REF!)/#REF!)","v":0},{"$f":"IF(ISERROR((#REF!-#REF!)/#REF!),0,(#REF!-#REF!)/#REF!)","v":0},{"$f":"IF(ISERROR((#REF!-#REF!)/#REF!),0,(#REF!-#REF!)/#REF!)","v":0},{"$f":"IF(ISERROR((#REF!-#REF!)/#REF!),0,(#REF!-#REF!)/#REF!)","v":0},{"$f":"IF(ISERROR((#REF!-#REF!)/#REF!),0,(#REF!-#REF!)/#REF!)","v":0},{"$f":"IF(ISERROR((#REF!-#REF!)/#REF!),0,(#REF!-#REF!)/#REF!)","v":0},{"$f":"IF(ISERROR((#REF!-#REF!)/#REF!),0,(#REF!-#REF!)/#REF!)","v":0},{"$f":"IF(ISERROR((#REF!-#REF!)/#REF!),0,(#REF!-#REF!)/#REF!)","v":0},{"$f":"IF(ISERROR((#REF!-#REF!)/#REF!),0,(#REF!-#REF!)/#REF!)","v":0},{"$f":"IF(ISERROR((#REF!-#REF!)/#REF!),0,(#REF!-#REF!)/#REF!)","v":0},{"$f":"IF(ISERROR((#REF!-#REF!)/#REF!),0,(#REF!-#REF!)/#REF!)","v":0},{"$f":"IF(ISERROR((#REF!-#REF!)/#REF!),0,(#REF!-#REF!)/#REF!)","v":0},{"$f":"IF(ISERROR((#REF!-#REF!)/#REF!),0,(#REF!-#REF!)/#REF!)","v":0}]
[null,"KC05E","Fluid and Electrolyte Disorders, 69 years and under with Intermediate CC",0,1213.3647480747429,0,0,5,2244.416642363828,9,190,"Yes",0.4,897.76665694553128,"","",{"$f":"IF(ISERROR((#REF!-#REF!)/#REF!),0,(#REF!-#REF!)/#REF!)","v":0},{"$f":"IF(ISERROR((#REF!-#REF!)/#REF!),0,(#REF!-#REF!)/#REF!)","v":0},{"$f":"IF(ISERROR((#REF!-#REF!)/#REF!),0,(#REF!-#REF!)/#REF!)","v":0},{"$f":"IF(ISERROR((#REF!-#REF!)/#REF!),0,(#REF!-#REF!)/#REF!)","v":0},{"$f":"IF(ISERROR((#REF!-#REF!)/#REF!),0,(#REF!-#REF!)/#REF!)","v":0},{"$f":"IF(ISERROR((#REF!-#REF!)/#REF!),0,(#REF!-#REF!)/#REF!)","v":0},{"$f":"IF(ISERROR((#REF!-#REF!)/#REF!),0,(#REF!-#REF!)/#REF!)","v":0},{"$f":"IF(ISERROR((#REF!-#REF!)/#REF!),0,(#REF!-#REF!)/#REF!)","v":0},{"$f":"IF(ISERROR((#REF!-#REF!)/#REF!),0,(#REF!-#REF!)/#REF!)","v":0},{"$f":"IF(ISERROR((#REF!-#REF!)/#REF!),0,(#REF!-#REF!)/#REF!)","v":0},{"$f":"IF(ISERROR((#REF!-#REF!)/#REF!),0,(#REF!-#REF!)/#REF!)","v":0},{"$f":"IF(ISERROR((#REF!-#REF!)/#REF!),0,(#REF!-#REF!)/#REF!)","v":0},{"$f":"IF(ISERROR((#REF!-#REF!)/#REF!),0,(#REF!-#REF!)/#REF!)","v":0}]
[null,"KC05F","Fluid and Electrolyte Disorders, 69 years and under without CC",0,335,0,0,5,471,5,190,"Yes",1,471,"","",{"$f":"IF(ISERROR((#REF!-#REF!)/#REF!),0,(#REF!-#REF!)/#REF!)","v":0},{"$f":"IF(ISERROR((#REF!-#REF!)/#REF!),0,(#REF!-#REF!)/#REF!)","v":0},{"$f":"IF(ISERROR((#REF!-#REF!)/#REF!),0,(#REF!-#REF!)/#REF!)","v":0},{"$f":"IF(ISERROR((#REF!-#REF!)/#REF!),0,(#REF!-#REF!)/#REF!)","v":0},{"$f":"IF(ISERROR((#REF!-#REF!)/#REF!),0,(#REF!-#REF!)/#REF!)","v":0},{"$f":"IF(ISERROR((#REF!-#REF!)/#REF!),0,(#REF!-#REF!)/#REF!)","v":0},{"$f":"IF(ISERROR((#REF!-#REF!)/#REF!),0,(#REF!-#REF!)/#REF!)","v":0},{"$f":"IF(ISERROR((#REF!-#REF!)/#REF!),0,(#REF!-#REF!)/#REF!)","v":0},{"$f":"IF(ISERROR((#REF!-#REF!)/#REF!),0,(#REF!-#REF!)/#REF!)","v":0},{"$f":"IF(ISERROR((#REF!-#REF!)/#REF!),0,(#REF!-#REF!)/#REF!)","v":0},{"$f":"IF(ISERROR((#REF!-#REF!)/#REF!),0,(#REF!-#REF!)/#REF!)","v":0},{"$f":"IF(ISERROR((#REF!-#REF!)/#REF!),0,(#REF!-#REF!)/#REF!)","v":0},{"$f":"IF(ISERROR((#REF!-#REF!)/#REF!),0,(#REF!-#REF!)/#REF!)","v":0}]
[null,"LA04D","Kidney or Urinary Tract Infections, with length of stay 2 days or more, with Major CC",0,3604,0,0,43,4482.0435538878819,43,200,"No","-",0,"","",{"$f":"IF(ISERROR((#REF!-#REF!)/#REF!),0,(#REF!-#REF!)/#REF!)","v":0},{"$f":"IF(ISERROR((#REF!-#REF!)/#REF!),0,(#REF!-#REF!)/#REF!)","v":0},{"$f":"IF(ISERROR((#REF!-#REF!)/#REF!),0,(#REF!-#REF!)/#REF!)","v":0},{"$f":"IF(ISERROR((#REF!-#REF!)/#REF!),0,(#REF!-#REF!)/#REF!)","v":0},{"$f":"IF(ISERROR((#REF!-#REF!)/#REF!),0,(#REF!-#REF!)/#REF!)","v":0},{"$f":"IF(ISERROR((#REF!-#REF!)/#REF!),0,(#REF!-#REF!)/#REF!)","v":0},{"$f":"IF(ISERROR((#REF!-#REF!)/#REF!),0,(#REF!-#REF!)/#REF!)","v":0},{"$f":"IF(ISERROR((#REF!-#REF!)/#REF!),0,(#REF!-#REF!)/#REF!)","v":0},{"$f":"IF(ISERROR((#REF!-#REF!)/#REF!),0,(#REF!-#REF!)/#REF!)","v":0},{"$f":"IF(ISERROR((#REF!-#REF!)/#REF!),0,(#REF!-#REF!)/#REF!)","v":0},{"$f":"IF(ISERROR((#REF!-#REF!)/#REF!),0,(#REF!-#REF!)/#REF!)","v":0},{"$f":"IF(ISERROR((#REF!-#REF!)/#REF!),0,(#REF!-#REF!)/#REF!)","v":0},{"$f":"IF(ISERROR((#REF!-#REF!)/#REF!),0,(#REF!-#REF!)/#REF!)","v":0}]
[null,"LA04E","Kidney or Urinary Tract Infections, with length of stay 2 days or more, with Intermediate CC",0,2860.2178975961847,0,0,15,2352.8082978470934,18,200,"No","-",0,"","",{"$f":"IF(ISERROR((#REF!-#REF!)/#REF!),0,(#REF!-#REF!)/#REF!)","v":0},{"$f":"IF(ISERROR((#REF!-#REF!)/#REF!),0,(#REF!-#REF!)/#REF!)","v":0},{"$f":"IF(ISERROR((#REF!-#REF!)/#REF!),0,(#REF!-#REF!)/#REF!)","v":0},{"$f":"IF(ISERROR((#REF!-#REF!)/#REF!),0,(#REF!-#REF!)/#REF!)","v":0},{"$f":"IF(ISERROR((#REF!-#REF!)/#REF!),0,(#REF!-#REF!)/#REF!)","v":0},{"$f":"IF(ISERROR((#REF!-#REF!)/#REF!),0,(#REF!-#REF!)/#REF!)","v":0},{"$f":"IF(ISERROR((#REF!-#REF!)/#REF!),0,(#REF!-#REF!)/#REF!)","v":0},{"$f":"IF(ISERROR((#REF!-#REF!)/#REF!),0,(#REF!-#REF!)/#REF!)","v":0},{"$f":"IF(ISERROR((#REF!-#REF!)/#REF!),0,(#REF!-#REF!)/#REF!)","v":0},{"$f":"IF(ISERROR((#REF!-#REF!)/#REF!),0,(#REF!-#REF!)/#REF!)","v":0},{"$f":"IF(ISERROR((#REF!-#REF!)/#REF!),0,(#REF!-#REF!)/#REF!)","v":0},{"$f":"IF(ISERROR((#REF!-#REF!)/#REF!),0,(#REF!-#REF!)/#REF!)","v":0},{"$f":"IF(ISERROR((#REF!-#REF!)/#REF!),0,(#REF!-#REF!)/#REF!)","v":0}]
[null,"LA04F","Kidney or Urinary Tract Infections, with length of stay 2 days or more, without CC",0,1331,0,0,10,1635.567096309733,10,200,"No","-",0,"","",{"$f":"IF(ISERROR((#REF!-#REF!)/#REF!),0,(#REF!-#REF!)/#REF!)","v":0},{"$f":"IF(ISERROR((#REF!-#REF!)/#REF!),0,(#REF!-#REF!)/#REF!)","v":0},{"$f":"IF(ISERROR((#REF!-#REF!)/#REF!),0,(#REF!-#REF!)/#REF!)","v":0},{"$f":"IF(ISERROR((#REF!-#REF!)/#REF!),0,(#REF!-#REF!)/#REF!)","v":0},{"$f":"IF(ISERROR((#REF!-#REF!)/#REF!),0,(#REF!-#REF!)/#REF!)","v":0},{"$f":"IF(ISERROR((#REF!-#REF!)/#REF!),0,(#REF!-#REF!)/#REF!)","v":0},{"$f":"IF(ISERROR((#REF!-#REF!)/#REF!),0,(#REF!-#REF!)/#REF!)","v":0},{"$f":"IF(ISERROR((#REF!-#REF!)/#REF!),0,(#REF!-#REF!)/#REF!)","v":0},{"$f":"IF(ISERROR((#REF!-#REF!)/#REF!),0,(#REF!-#REF!)/#REF!)","v":0},{"$f":"IF(ISERROR((#REF!-#REF!)/#REF!),0,(#REF!-#REF!)/#REF!)","v":0},{"$f":"IF(ISERROR((#REF!-#REF!)/#REF!),0,(#REF!-#REF!)/#REF!)","v":0},{"$f":"IF(ISERROR((#REF!-#REF!)/#REF!),0,(#REF!-#REF!)/#REF!)","v":0},{"$f":"IF(ISERROR((#REF!-#REF!)/#REF!),0,(#REF!-#REF!)/#REF!)","v":0}]
[null,"LA04G","Kidney or Urinary Tract Infections, with length of stay 1 day or less",0,353,0,0,5,423,5,200,"Yes",1,423,"","",{"$f":"IF(ISERROR((#REF!-#REF!)/#REF!),0,(#REF!-#REF!)/#REF!)","v":0},{"$f":"IF(ISERROR((#REF!-#REF!)/#REF!),0,(#REF!-#REF!)/#REF!)","v":0},{"$f":"IF(ISERROR((#REF!-#REF!)/#REF!),0,(#REF!-#REF!)/#REF!)","v":0},{"$f":"IF(ISERROR((#REF!-#REF!)/#REF!),0,(#REF!-#REF!)/#REF!)","v":0},{"$f":"IF(ISERROR((#REF!-#REF!)/#REF!),0,(#REF!-#REF!)/#REF!)","v":0},{"$f":"IF(ISERROR((#REF!-#REF!)/#REF!),0,(#REF!-#REF!)/#REF!)","v":0},{"$f":"IF(ISERROR((#REF!-#REF!)/#REF!),0,(#REF!-#REF!)/#REF!)","v":0},{"$f":"IF(ISERROR((#REF!-#REF!)/#REF!),0,(#REF!-#REF!)/#REF!)","v":0},{"$f":"IF(ISERROR((#REF!-#REF!)/#REF!),0,(#REF!-#REF!)/#REF!)","v":0},{"$f":"IF(ISERROR((#REF!-#REF!)/#REF!),0,(#REF!-#REF!)/#REF!)","v":0},{"$f":"IF(ISERROR((#REF!-#REF!)/#REF!),0,(#REF!-#REF!)/#REF!)","v":0},{"$f":"IF(ISERROR((#REF!-#REF!)/#REF!),0,(#REF!-#REF!)/#REF!)","v":0},{"$f":"IF(ISERROR((#REF!-#REF!)/#REF!),0,(#REF!-#REF!)/#REF!)","v":0}]
[null,"LA05Z","Renal Replacement Peritoneal Dialysis Associated Procedures",0,1081,0,0,5,621,5,200,"No","-",0,"","",{"$f":"IF(ISERROR((#REF!-#REF!)/#REF!),0,(#REF!-#REF!)/#REF!)","v":0},{"$f":"IF(ISERROR((#REF!-#REF!)/#REF!),0,(#REF!-#REF!)/#REF!)","v":0},{"$f":"IF(ISERROR((#REF!-#REF!)/#REF!),0,(#REF!-#REF!)/#REF!)","v":0},{"$f":"IF(ISERROR((#REF!-#REF!)/#REF!),0,(#REF!-#REF!)/#REF!)","v":0},{"$f":"IF(ISERROR((#REF!-#REF!)/#REF!),0,(#REF!-#REF!)/#REF!)","v":0},{"$f":"IF(ISERROR((#REF!-#REF!)/#REF!),0,(#REF!-#REF!)/#REF!)","v":0},{"$f":"IF(ISERROR((#REF!-#REF!)/#REF!),0,(#REF!-#REF!)/#REF!)","v":0},{"$f":"IF(ISERROR((#REF!-#REF!)/#REF!),0,(#REF!-#REF!)/#REF!)","v":0},{"$f":"IF(ISERROR((#REF!-#REF!)/#REF!),0,(#REF!-#REF!)/#REF!)","v":0},{"$f":"IF(ISERROR((#REF!-#REF!)/#REF!),0,(#REF!-#REF!)/#REF!)","v":0},{"$f":"IF(ISERROR((#REF!-#REF!)/#REF!),0,(#REF!-#REF!)/#REF!)","v":0},{"$f":"IF(ISERROR((#REF!-#REF!)/#REF!),0,(#REF!-#REF!)/#REF!)","v":0},{"$f":"IF(ISERROR((#REF!-#REF!)/#REF!),0,(#REF!-#REF!)/#REF!)","v":0}]
[null,"LA07C","Acute Kidney Injury without CC",0,905,0,0,10,2025.8170462609185,14,200,"Yes",0.30000000000000004,607.74511387827567,"","",{"$f":"IF(ISERROR((#REF!-#REF!)/#REF!),0,(#REF!-#REF!)/#REF!)","v":0},{"$f":"IF(ISERROR((#REF!-#REF!)/#REF!),0,(#REF!-#REF!)/#REF!)","v":0},{"$f":"IF(ISERROR((#REF!-#REF!)/#REF!),0,(#REF!-#REF!)/#REF!)","v":0},{"$f":"IF(ISERROR((#REF!-#REF!)/#REF!),0,(#REF!-#REF!)/#REF!)","v":0},{"$f":"IF(ISERROR((#REF!-#REF!)/#REF!),0,(#REF!-#REF!)/#REF!)","v":0},{"$f":"IF(ISERROR((#REF!-#REF!)/#REF!),0,(#REF!-#REF!)/#REF!)","v":0},{"$f":"IF(ISERROR((#REF!-#REF!)/#REF!),0,(#REF!-#REF!)/#REF!)","v":0},{"$f":"IF(ISERROR((#REF!-#REF!)/#REF!),0,(#REF!-#REF!)/#REF!)","v":0},{"$f":"IF(ISERROR((#REF!-#REF!)/#REF!),0,(#REF!-#REF!)/#REF!)","v":0},{"$f":"IF(ISERROR((#REF!-#REF!)/#REF!),0,(#REF!-#REF!)/#REF!)","v":0},{"$f":"IF(ISERROR((#REF!-#REF!)/#REF!),0,(#REF!-#REF!)/#REF!)","v":0},{"$f":"IF(ISERROR((#REF!-#REF!)/#REF!),0,(#REF!-#REF!)/#REF!)","v":0},{"$f":"IF(ISERROR((#REF!-#REF!)/#REF!),0,(#REF!-#REF!)/#REF!)","v":0}]
[null,"LA07D","Acute Kidney Injury with Interventions, with Major CC",0,5850,0,0,57,6907.1898432975695,57,200,"Yes",0.30000000000000004,2072.1569529892713,"","",{"$f":"IF(ISERROR((#REF!-#REF!)/#REF!),0,(#REF!-#REF!)/#REF!)","v":0},{"$f":"IF(ISERROR((#REF!-#REF!)/#REF!),0,(#REF!-#REF!)/#REF!)","v":0},{"$f":"IF(ISERROR((#REF!-#REF!)/#REF!),0,(#REF!-#REF!)/#REF!)","v":0},{"$f":"IF(ISERROR((#REF!-#REF!)/#REF!),0,(#REF!-#REF!)/#REF!)","v":0},{"$f":"IF(ISERROR((#REF!-#REF!)/#REF!),0,(#REF!-#REF!)/#REF!)","v":0},{"$f":"IF(ISERROR((#REF!-#REF!)/#REF!),0,(#REF!-#REF!)/#REF!)","v":0},{"$f":"IF(ISERROR((#REF!-#REF!)/#REF!),0,(#REF!-#REF!)/#REF!)","v":0},{"$f":"IF(ISERROR((#REF!-#REF!)/#REF!),0,(#REF!-#REF!)/#REF!)","v":0},{"$f":"IF(ISERROR((#REF!-#REF!)/#REF!),0,(#REF!-#REF!)/#REF!)","v":0},{"$f":"IF(ISERROR((#REF!-#REF!)/#REF!),0,(#REF!-#REF!)/#REF!)","v":0},{"$f":"IF(ISERROR((#REF!-#REF!)/#REF!),0,(#REF!-#REF!)/#REF!)","v":0},{"$f":"IF(ISERROR((#REF!-#REF!)/#REF!),0,(#REF!-#REF!)/#REF!)","v":0},{"$f":"IF(ISERROR((#REF!-#REF!)/#REF!),0,(#REF!-#REF!)/#REF!)","v":0}]
[null,"LA07E","Acute Kidney Injury without Interventions, with Major CC",0,3879.4754780131616,0,0,44,3945.9703998184268,34,200,"Yes",0.30000000000000004,1183.7911199455282,"","",{"$f":"IF(ISERROR((#REF!-#REF!)/#REF!),0,(#REF!-#REF!)/#REF!)","v":0},{"$f":"IF(ISERROR((#REF!-#REF!)/#REF!),0,(#REF!-#REF!)/#REF!)","v":0},{"$f":"IF(ISERROR((#REF!-#REF!)/#REF!),0,(#REF!-#REF!)/#REF!)","v":0},{"$f":"IF(ISERROR((#REF!-#REF!)/#REF!),0,(#REF!-#REF!)/#REF!)","v":0},{"$f":"IF(ISERROR((#REF!-#REF!)/#REF!),0,(#REF!-#REF!)/#REF!)","v":0},{"$f":"IF(ISERROR((#REF!-#REF!)/#REF!),0,(#REF!-#REF!)/#REF!)","v":0},{"$f":"IF(ISERROR((#REF!-#REF!)/#REF!),0,(#REF!-#REF!)/#REF!)","v":0},{"$f":"IF(ISERROR((#REF!-#REF!)/#REF!),0,(#REF!-#REF!)/#REF!)","v":0},{"$f":"IF(ISERROR((#REF!-#REF!)/#REF!),0,(#REF!-#REF!)/#REF!)","v":0},{"$f":"IF(ISERROR((#REF!-#REF!)/#REF!),0,(#REF!-#REF!)/#REF!)","v":0},{"$f":"IF(ISERROR((#REF!-#REF!)/#REF!),0,(#REF!-#REF!)/#REF!)","v":0},{"$f":"IF(ISERROR((#REF!-#REF!)/#REF!),0,(#REF!-#REF!)/#REF!)","v":0},{"$f":"IF(ISERROR((#REF!-#REF!)/#REF!),0,(#REF!-#REF!)/#REF!)","v":0}]
[null,"LA07F","Acute Kidney Injury with Interventions, with Intermediate CC",0,3695,0,0,31,3695,31,200,"Yes",0.30000000000000004,1108.5000000000002,"","",{"$f":"IF(ISERROR((#REF!-#REF!)/#REF!),0,(#REF!-#REF!)/#REF!)","v":0},{"$f":"IF(ISERROR((#REF!-#REF!)/#REF!),0,(#REF!-#REF!)/#REF!)","v":0},{"$f":"IF(ISERROR((#REF!-#REF!)/#REF!),0,(#REF!-#REF!)/#REF!)","v":0},{"$f":"IF(ISERROR((#REF!-#REF!)/#REF!),0,(#REF!-#REF!)/#REF!)","v":0},{"$f":"IF(ISERROR((#REF!-#REF!)/#REF!),0,(#REF!-#REF!)/#REF!)","v":0},{"$f":"IF(ISERROR((#REF!-#REF!)/#REF!),0,(#REF!-#REF!)/#REF!)","v":0},{"$f":"IF(ISERROR((#REF!-#REF!)/#REF!),0,(#REF!-#REF!)/#REF!)","v":0},{"$f":"IF(ISERROR((#REF!-#REF!)/#REF!),0,(#REF!-#REF!)/#REF!)","v":0},{"$f":"IF(ISERROR((#REF!-#REF!)/#REF!),0,(#REF!-#REF!)/#REF!)","v":0},{"$f":"IF(ISERROR((#REF!-#REF!)/#REF!),0,(#REF!-#REF!)/#REF!)","v":0},{"$f":"IF(ISERROR((#REF!-#REF!)/#REF!),0,(#REF!-#REF!)/#REF!)","v":0},{"$f":"IF(ISERROR((#REF!-#REF!)/#REF!),0,(#REF!-#REF!)/#REF!)","v":0},{"$f":"IF(ISERROR((#REF!-#REF!)/#REF!),0,(#REF!-#REF!)/#REF!)","v":0}]
[null,"LA07G","Acute Kidney Injury without Interventions, with Intermediate CC",0,1535,0,0,15,2515.339328150797,17,200,"Yes",0.30000000000000004,754.60179844523918,"","",{"$f":"IF(ISERROR((#REF!-#REF!)/#REF!),0,(#REF!-#REF!)/#REF!)","v":0},{"$f":"IF(ISERROR((#REF!-#REF!)/#REF!),0,(#REF!-#REF!)/#REF!)","v":0},{"$f":"IF(ISERROR((#REF!-#REF!)/#REF!),0,(#REF!-#REF!)/#REF!)","v":0},{"$f":"IF(ISERROR((#REF!-#REF!)/#REF!),0,(#REF!-#REF!)/#REF!)","v":0},{"$f":"IF(ISERROR((#REF!-#REF!)/#REF!),0,(#REF!-#REF!)/#REF!)","v":0},{"$f":"IF(ISERROR((#REF!-#REF!)/#REF!),0,(#REF!-#REF!)/#REF!)","v":0},{"$f":"IF(ISERROR((#REF!-#REF!)/#REF!),0,(#REF!-#REF!)/#REF!)","v":0},{"$f":"IF(ISERROR((#REF!-#REF!)/#REF!),0,(#REF!-#REF!)/#REF!)","v":0},{"$f":"IF(ISERROR((#REF!-#REF!)/#REF!),0,(#REF!-#REF!)/#REF!)","v":0},{"$f":"IF(ISERROR((#REF!-#REF!)/#REF!),0,(#REF!-#REF!)/#REF!)","v":0},{"$f":"IF(ISERROR((#REF!-#REF!)/#REF!),0,(#REF!-#REF!)/#REF!)","v":0},{"$f":"IF(ISERROR((#REF!-#REF!)/#REF!),0,(#REF!-#REF!)/#REF!)","v":0},{"$f":"IF(ISERROR((#REF!-#REF!)/#REF!),0,(#REF!-#REF!)/#REF!)","v":0}]
[null,"LA08A","Chronic Kidney Disease with length of stay 2 days or more, with Major CC",0,3576,0,0,31,4582.5707815090063,40,200,"No","-",0,"","",{"$f":"IF(ISERROR((#REF!-#REF!)/#REF!),0,(#REF!-#REF!)/#REF!)","v":0},{"$f":"IF(ISERROR((#REF!-#REF!)/#REF!),0,(#REF!-#REF!)/#REF!)","v":0},{"$f":"IF(ISERROR((#REF!-#REF!)/#REF!),0,(#REF!-#REF!)/#REF!)","v":0},{"$f":"IF(ISERROR((#REF!-#REF!)/#REF!),0,(#REF!-#REF!)/#REF!)","v":0},{"$f":"IF(ISERROR((#REF!-#REF!)/#REF!),0,(#REF!-#REF!)/#REF!)","v":0},{"$f":"IF(ISERROR((#REF!-#REF!)/#REF!),0,(#REF!-#REF!)/#REF!)","v":0},{"$f":"IF(ISERROR((#REF!-#REF!)/#REF!),0,(#REF!-#REF!)/#REF!)","v":0},{"$f":"IF(ISERROR((#REF!-#REF!)/#REF!),0,(#REF!-#REF!)/#REF!)","v":0},{"$f":"IF(ISERROR((#REF!-#REF!)/#REF!),0,(#REF!-#REF!)/#REF!)","v":0},{"$f":"IF(ISERROR((#REF!-#REF!)/#REF!),0,(#REF!-#REF!)/#REF!)","v":0},{"$f":"IF(ISERROR((#REF!-#REF!)/#REF!),0,(#REF!-#REF!)/#REF!)","v":0},{"$f":"IF(ISERROR((#REF!-#REF!)/#REF!),0,(#REF!-#REF!)/#REF!)","v":0},{"$f":"IF(ISERROR((#REF!-#REF!)/#REF!),0,(#REF!-#REF!)/#REF!)","v":0}]
[null,"LA08B","Chronic Kidney Disease with length of stay 2 days or more, with Intermediate CC",0,2326,0,0,7,2829.5992641363609,18,200,"No","-",0,"","",{"$f":"IF(ISERROR((#REF!-#REF!)/#REF!),0,(#REF!-#REF!)/#REF!)","v":0},{"$f":"IF(ISERROR((#REF!-#REF!)/#REF!),0,(#REF!-#REF!)/#REF!)","v":0},{"$f":"IF(ISERROR((#REF!-#REF!)/#REF!),0,(#REF!-#REF!)/#REF!)","v":0},{"$f":"IF(ISERROR((#REF!-#REF!)/#REF!),0,(#REF!-#REF!)/#REF!)","v":0},{"$f":"IF(ISERROR((#REF!-#REF!)/#REF!),0,(#REF!-#REF!)/#REF!)","v":0},{"$f":"IF(ISERROR((#REF!-#REF!)/#REF!),0,(#REF!-#REF!)/#REF!)","v":0},{"$f":"IF(ISERROR((#REF!-#REF!)/#REF!),0,(#REF!-#REF!)/#REF!)","v":0},{"$f":"IF(ISERROR((#REF!-#REF!)/#REF!),0,(#REF!-#REF!)/#REF!)","v":0},{"$f":"IF(ISERROR((#REF!-#REF!)/#REF!),0,(#REF!-#REF!)/#REF!)","v":0},{"$f":"IF(ISERROR((#REF!-#REF!)/#REF!),0,(#REF!-#REF!)/#REF!)","v":0},{"$f":"IF(ISERROR((#REF!-#REF!)/#REF!),0,(#REF!-#REF!)/#REF!)","v":0},{"$f":"IF(ISERROR((#REF!-#REF!)/#REF!),0,(#REF!-#REF!)/#REF!)","v":0},{"$f":"IF(ISERROR((#REF!-#REF!)/#REF!),0,(#REF!-#REF!)/#REF!)","v":0}]
[null,"LA08C","Chronic Kidney Disease with length of stay 2 days or more, without CC",0,2103,0,0,5,2445,15,200,"No","-",0,"","",{"$f":"IF(ISERROR((#REF!-#REF!)/#REF!),0,(#REF!-#REF!)/#REF!)","v":0},{"$f":"IF(ISERROR((#REF!-#REF!)/#REF!),0,(#REF!-#REF!)/#REF!)","v":0},{"$f":"IF(ISERROR((#REF!-#REF!)/#REF!),0,(#REF!-#REF!)/#REF!)","v":0},{"$f":"IF(ISERROR((#REF!-#REF!)/#REF!),0,(#REF!-#REF!)/#REF!)","v":0},{"$f":"IF(ISERROR((#REF!-#REF!)/#REF!),0,(#REF!-#REF!)/#REF!)","v":0},{"$f":"IF(ISERROR((#REF!-#REF!)/#REF!),0,(#REF!-#REF!)/#REF!)","v":0},{"$f":"IF(ISERROR((#REF!-#REF!)/#REF!),0,(#REF!-#REF!)/#REF!)","v":0},{"$f":"IF(ISERROR((#REF!-#REF!)/#REF!),0,(#REF!-#REF!)/#REF!)","v":0},{"$f":"IF(ISERROR((#REF!-#REF!)/#REF!),0,(#REF!-#REF!)/#REF!)","v":0},{"$f":"IF(ISERROR((#REF!-#REF!)/#REF!),0,(#REF!-#REF!)/#REF!)","v":0},{"$f":"IF(ISERROR((#REF!-#REF!)/#REF!),0,(#REF!-#REF!)/#REF!)","v":0},{"$f":"IF(ISERROR((#REF!-#REF!)/#REF!),0,(#REF!-#REF!)/#REF!)","v":0},{"$f":"IF(ISERROR((#REF!-#REF!)/#REF!),0,(#REF!-#REF!)/#REF!)","v":0}]
[null,"LA08E","Chronic Kidney Disease with length of stay 1 day or less, associated with Renal Dialysis",0,0,0,0,5,0,5,0,"No","-",0,"","",{"$f":"IF(ISERROR((#REF!-#REF!)/#REF!),0,(#REF!-#REF!)/#REF!)","v":0},{"$f":"IF(ISERROR((#REF!-#REF!)/#REF!),0,(#REF!-#REF!)/#REF!)","v":0},{"$f":"IF(ISERROR((#REF!-#REF!)/#REF!),0,(#REF!-#REF!)/#REF!)","v":0},{"$f":"IF(ISERROR((#REF!-#REF!)/#REF!),0,(#REF!-#REF!)/#REF!)","v":0},{"$f":"IF(ISERROR((#REF!-#REF!)/#REF!),0,(#REF!-#REF!)/#REF!)","v":0},{"$f":"IF(ISERROR((#REF!-#REF!)/#REF!),0,(#REF!-#REF!)/#REF!)","v":0},{"$f":"IF(ISERROR((#REF!-#REF!)/#REF!),0,(#REF!-#REF!)/#REF!)","v":0},{"$f":"IF(ISERROR((#REF!-#REF!)/#REF!),0,(#REF!-#REF!)/#REF!)","v":0},{"$f":"IF(ISERROR((#REF!-#REF!)/#REF!),0,(#REF!-#REF!)/#REF!)","v":0},{"$f":"IF(ISERROR((#REF!-#REF!)/#REF!),0,(#REF!-#REF!)/#REF!)","v":0},{"$f":"IF(ISERROR((#REF!-#REF!)/#REF!),0,(#REF!-#REF!)/#REF!)","v":0},{"$f":"IF(ISERROR((#REF!-#REF!)/#REF!),0,(#REF!-#REF!)/#REF!)","v":0},{"$f":"IF(ISERROR((#REF!-#REF!)/#REF!),0,(#REF!-#REF!)/#REF!)","v":0}]
[null,"LA08F","Chronic Kidney Disease with length of stay 1 day or less, not associated with Renal Dialysis",0,240,0,0,5,449,5,200,"Yes",1,449,"","",{"$f":"IF(ISERROR((#REF!-#REF!)/#REF!),0,(#REF!-#REF!)/#REF!)","v":0},{"$f":"IF(ISERROR((#REF!-#REF!)/#REF!),0,(#REF!-#REF!)/#REF!)","v":0},{"$f":"IF(ISERROR((#REF!-#REF!)/#REF!),0,(#REF!-#REF!)/#REF!)","v":0},{"$f":"IF(ISERROR((#REF!-#REF!)/#REF!),0,(#REF!-#REF!)/#REF!)","v":0},{"$f":"IF(ISERROR((#REF!-#REF!)/#REF!),0,(#REF!-#REF!)/#REF!)","v":0},{"$f":"IF(ISERROR((#REF!-#REF!)/#REF!),0,(#REF!-#REF!)/#REF!)","v":0},{"$f":"IF(ISERROR((#REF!-#REF!)/#REF!),0,(#REF!-#REF!)/#REF!)","v":0},{"$f":"IF(ISERROR((#REF!-#REF!)/#REF!),0,(#REF!-#REF!)/#REF!)","v":0},{"$f":"IF(ISERROR((#REF!-#REF!)/#REF!),0,(#REF!-#REF!)/#REF!)","v":0},{"$f":"IF(ISERROR((#REF!-#REF!)/#REF!),0,(#REF!-#REF!)/#REF!)","v":0},{"$f":"IF(ISERROR((#REF!-#REF!)/#REF!),0,(#REF!-#REF!)/#REF!)","v":0},{"$f":"IF(ISERROR((#REF!-#REF!)/#REF!),0,(#REF!-#REF!)/#REF!)","v":0},{"$f":"IF(ISERROR((#REF!-#REF!)/#REF!),0,(#REF!-#REF!)/#REF!)","v":0}]
[null,"LA09E","General Renal Disorders with length of stay 2 days or more, with Major CC",0,3477,0,0,30,3712.3810784462366,29,200,"No","-",0,"","",{"$f":"IF(ISERROR((#REF!-#REF!)/#REF!),0,(#REF!-#REF!)/#REF!)","v":0},{"$f":"IF(ISERROR((#REF!-#REF!)/#REF!),0,(#REF!-#REF!)/#REF!)","v":0},{"$f":"IF(ISERROR((#REF!-#REF!)/#REF!),0,(#REF!-#REF!)/#REF!)","v":0},{"$f":"IF(ISERROR((#REF!-#REF!)/#REF!),0,(#REF!-#REF!)/#REF!)","v":0},{"$f":"IF(ISERROR((#REF!-#REF!)/#REF!),0,(#REF!-#REF!)/#REF!)","v":0},{"$f":"IF(ISERROR((#REF!-#REF!)/#REF!),0,(#REF!-#REF!)/#REF!)","v":0},{"$f":"IF(ISERROR((#REF!-#REF!)/#REF!),0,(#REF!-#REF!)/#REF!)","v":0},{"$f":"IF(ISERROR((#REF!-#REF!)/#REF!),0,(#REF!-#REF!)/#REF!)","v":0},{"$f":"IF(ISERROR((#REF!-#REF!)/#REF!),0,(#REF!-#REF!)/#REF!)","v":0},{"$f":"IF(ISERROR((#REF!-#REF!)/#REF!),0,(#REF!-#REF!)/#REF!)","v":0},{"$f":"IF(ISERROR((#REF!-#REF!)/#REF!),0,(#REF!-#REF!)/#REF!)","v":0},{"$f":"IF(ISERROR((#REF!-#REF!)/#REF!),0,(#REF!-#REF!)/#REF!)","v":0},{"$f":"IF(ISERROR((#REF!-#REF!)/#REF!),0,(#REF!-#REF!)/#REF!)","v":0}]
[null,"LA09F","General Renal Disorders with length of stay 2 days or more, with Intermediate CC",0,2143,0,0,10,1949.1627398039595,11,200,"No","-",0,"","",{"$f":"IF(ISERROR((#REF!-#REF!)/#REF!),0,(#REF!-#REF!)/#REF!)","v":0},{"$f":"IF(ISERROR((#REF!-#REF!)/#REF!),0,(#REF!-#REF!)/#REF!)","v":0},{"$f":"IF(ISERROR((#REF!-#REF!)/#REF!),0,(#REF!-#REF!)/#REF!)","v":0},{"$f":"IF(ISERROR((#REF!-#REF!)/#REF!),0,(#REF!-#REF!)/#REF!)","v":0},{"$f":"IF(ISERROR((#REF!-#REF!)/#REF!),0,(#REF!-#REF!)/#REF!)","v":0},{"$f":"IF(ISERROR((#REF!-#REF!)/#REF!),0,(#REF!-#REF!)/#REF!)","v":0},{"$f":"IF(ISERROR((#REF!-#REF!)/#REF!),0,(#REF!-#REF!)/#REF!)","v":0},{"$f":"IF(ISERROR((#REF!-#REF!)/#REF!),0,(#REF!-#REF!)/#REF!)","v":0},{"$f":"IF(ISERROR((#REF!-#REF!)/#REF!),0,(#REF!-#REF!)/#REF!)","v":0},{"$f":"IF(ISERROR((#REF!-#REF!)/#REF!),0,(#REF!-#REF!)/#REF!)","v":0},{"$f":"IF(ISERROR((#REF!-#REF!)/#REF!),0,(#REF!-#REF!)/#REF!)","v":0},{"$f":"IF(ISERROR((#REF!-#REF!)/#REF!),0,(#REF!-#REF!)/#REF!)","v":0},{"$f":"IF(ISERROR((#REF!-#REF!)/#REF!),0,(#REF!-#REF!)/#REF!)","v":0}]
[null,"LA09G","General Renal Disorders with length of stay 2 days or more, without CC",0,1928,0,0,7,1370.8080771068383,7,200,"No","-",0,"","",{"$f":"IF(ISERROR((#REF!-#REF!)/#REF!),0,(#REF!-#REF!)/#REF!)","v":0},{"$f":"IF(ISERROR((#REF!-#REF!)/#REF!),0,(#REF!-#REF!)/#REF!)","v":0},{"$f":"IF(ISERROR((#REF!-#REF!)/#REF!),0,(#REF!-#REF!)/#REF!)","v":0},{"$f":"IF(ISERROR((#REF!-#REF!)/#REF!),0,(#REF!-#REF!)/#REF!)","v":0},{"$f":"IF(ISERROR((#REF!-#REF!)/#REF!),0,(#REF!-#REF!)/#REF!)","v":0},{"$f":"IF(ISERROR((#REF!-#REF!)/#REF!),0,(#REF!-#REF!)/#REF!)","v":0},{"$f":"IF(ISERROR((#REF!-#REF!)/#REF!),0,(#REF!-#REF!)/#REF!)","v":0},{"$f":"IF(ISERROR((#REF!-#REF!)/#REF!),0,(#REF!-#REF!)/#REF!)","v":0},{"$f":"IF(ISERROR((#REF!-#REF!)/#REF!),0,(#REF!-#REF!)/#REF!)","v":0},{"$f":"IF(ISERROR((#REF!-#REF!)/#REF!),0,(#REF!-#REF!)/#REF!)","v":0},{"$f":"IF(ISERROR((#REF!-#REF!)/#REF!),0,(#REF!-#REF!)/#REF!)","v":0},{"$f":"IF(ISERROR((#REF!-#REF!)/#REF!),0,(#REF!-#REF!)/#REF!)","v":0},{"$f":"IF(ISERROR((#REF!-#REF!)/#REF!),0,(#REF!-#REF!)/#REF!)","v":0}]
[null,"LA09H","General Renal Disorders with length of stay 1 day or less",0,280,0,0,5,440,5,200,"Yes",1,440,"","",{"$f":"IF(ISERROR((#REF!-#REF!)/#REF!),0,(#REF!-#REF!)/#REF!)","v":0},{"$f":"IF(ISERROR((#REF!-#REF!)/#REF!),0,(#REF!-#REF!)/#REF!)","v":0},{"$f":"IF(ISERROR((#REF!-#REF!)/#REF!),0,(#REF!-#REF!)/#REF!)","v":0},{"$f":"IF(ISERROR((#REF!-#REF!)/#REF!),0,(#REF!-#REF!)/#REF!)","v":0},{"$f":"IF(ISERROR((#REF!-#REF!)/#REF!),0,(#REF!-#REF!)/#REF!)","v":0},{"$f":"IF(ISERROR((#REF!-#REF!)/#REF!),0,(#REF!-#REF!)/#REF!)","v":0},{"$f":"IF(ISERROR((#REF!-#REF!)/#REF!),0,(#REF!-#REF!)/#REF!)","v":0},{"$f":"IF(ISERROR((#REF!-#REF!)/#REF!),0,(#REF!-#REF!)/#REF!)","v":0},{"$f":"IF(ISERROR((#REF!-#REF!)/#REF!),0,(#REF!-#REF!)/#REF!)","v":0},{"$f":"IF(ISERROR((#REF!-#REF!)/#REF!),0,(#REF!-#REF!)/#REF!)","v":0},{"$f":"IF(ISERROR((#REF!-#REF!)/#REF!),0,(#REF!-#REF!)/#REF!)","v":0},{"$f":"IF(ISERROR((#REF!-#REF!)/#REF!),0,(#REF!-#REF!)/#REF!)","v":0},{"$f":"IF(ISERROR((#REF!-#REF!)/#REF!),0,(#REF!-#REF!)/#REF!)","v":0}]
[null,"LB01A","Percutaneous Nephrostomy with CC",0,2659,0,0,14,4684,36,200,"No","-",0,"","",{"$f":"IF(ISERROR((#REF!-#REF!)/#REF!),0,(#REF!-#REF!)/#REF!)","v":0},{"$f":"IF(ISERROR((#REF!-#REF!)/#REF!),0,(#REF!-#REF!)/#REF!)","v":0},{"$f":"IF(ISERROR((#REF!-#REF!)/#REF!),0,(#REF!-#REF!)/#REF!)","v":0},{"$f":"IF(ISERROR((#REF!-#REF!)/#REF!),0,(#REF!-#REF!)/#REF!)","v":0},{"$f":"IF(ISERROR((#REF!-#REF!)/#REF!),0,(#REF!-#REF!)/#REF!)","v":0},{"$f":"IF(ISERROR((#REF!-#REF!)/#REF!),0,(#REF!-#REF!)/#REF!)","v":0},{"$f":"IF(ISERROR((#REF!-#REF!)/#REF!),0,(#REF!-#REF!)/#REF!)","v":0},{"$f":"IF(ISERROR((#REF!-#REF!)/#REF!),0,(#REF!-#REF!)/#REF!)","v":0},{"$f":"IF(ISERROR((#REF!-#REF!)/#REF!),0,(#REF!-#REF!)/#REF!)","v":0},{"$f":"IF(ISERROR((#REF!-#REF!)/#REF!),0,(#REF!-#REF!)/#REF!)","v":0},{"$f":"IF(ISERROR((#REF!-#REF!)/#REF!),0,(#REF!-#REF!)/#REF!)","v":0},{"$f":"IF(ISERROR((#REF!-#REF!)/#REF!),0,(#REF!-#REF!)/#REF!)","v":0},{"$f":"IF(ISERROR((#REF!-#REF!)/#REF!),0,(#REF!-#REF!)/#REF!)","v":0}]
[null,"LB01B","Percutaneous Nephrostomy without CC",0,2008,0,0,10,2315,16,200,"No","-",0,"","",{"$f":"IF(ISERROR((#REF!-#REF!)/#REF!),0,(#REF!-#REF!)/#REF!)","v":0},{"$f":"IF(ISERROR((#REF!-#REF!)/#REF!),0,(#REF!-#REF!)/#REF!)","v":0},{"$f":"IF(ISERROR((#REF!-#REF!)/#REF!),0,(#REF!-#REF!)/#REF!)","v":0},{"$f":"IF(ISERROR((#REF!-#REF!)/#REF!),0,(#REF!-#REF!)/#REF!)","v":0},{"$f":"IF(ISERROR((#REF!-#REF!)/#REF!),0,(#REF!-#REF!)/#REF!)","v":0},{"$f":"IF(ISERROR((#REF!-#REF!)/#REF!),0,(#REF!-#REF!)/#REF!)","v":0},{"$f":"IF(ISERROR((#REF!-#REF!)/#REF!),0,(#REF!-#REF!)/#REF!)","v":0},{"$f":"IF(ISERROR((#REF!-#REF!)/#REF!),0,(#REF!-#REF!)/#REF!)","v":0},{"$f":"IF(ISERROR((#REF!-#REF!)/#REF!),0,(#REF!-#REF!)/#REF!)","v":0},{"$f":"IF(ISERROR((#REF!-#REF!)/#REF!),0,(#REF!-#REF!)/#REF!)","v":0},{"$f":"IF(ISERROR((#REF!-#REF!)/#REF!),0,(#REF!-#REF!)/#REF!)","v":0},{"$f":"IF(ISERROR((#REF!-#REF!)/#REF!),0,(#REF!-#REF!)/#REF!)","v":0},{"$f":"IF(ISERROR((#REF!-#REF!)/#REF!),0,(#REF!-#REF!)/#REF!)","v":0}]
[null,"LB05A","Intermediate Percutaneous Kidney or Ureter Procedures, 19 years and over, with Major CC",0,2683,0,0,16,4479,38,200,"No","-",0,"","",{"$f":"IF(ISERROR((#REF!-#REF!)/#REF!),0,(#REF!-#REF!)/#REF!)","v":0},{"$f":"IF(ISERROR((#REF!-#REF!)/#REF!),0,(#REF!-#REF!)/#REF!)","v":0},{"$f":"IF(ISERROR((#REF!-#REF!)/#REF!),0,(#REF!-#REF!)/#REF!)","v":0},{"$f":"IF(ISERROR((#REF!-#REF!)/#REF!),0,(#REF!-#REF!)/#REF!)","v":0},{"$f":"IF(ISERROR((#REF!-#REF!)/#REF!),0,(#REF!-#REF!)/#REF!)","v":0},{"$f":"IF(ISERROR((#REF!-#REF!)/#REF!),0,(#REF!-#REF!)/#REF!)","v":0},{"$f":"IF(ISERROR((#REF!-#REF!)/#REF!),0,(#REF!-#REF!)/#REF!)","v":0},{"$f":"IF(ISERROR((#REF!-#REF!)/#REF!),0,(#REF!-#REF!)/#REF!)","v":0},{"$f":"IF(ISERROR((#REF!-#REF!)/#REF!),0,(#REF!-#REF!)/#REF!)","v":0},{"$f":"IF(ISERROR((#REF!-#REF!)/#REF!),0,(#REF!-#REF!)/#REF!)","v":0},{"$f":"IF(ISERROR((#REF!-#REF!)/#REF!),0,(#REF!-#REF!)/#REF!)","v":0},{"$f":"IF(ISERROR((#REF!-#REF!)/#REF!),0,(#REF!-#REF!)/#REF!)","v":0},{"$f":"IF(ISERROR((#REF!-#REF!)/#REF!),0,(#REF!-#REF!)/#REF!)","v":0}]
[null,"LB05B","Intermediate Percutaneous Kidney or Ureter Procedures, 19 years and over, with Intermediate CC",0,1407,0,0,5,2202,16,200,"No","-",0,"","",{"$f":"IF(ISERROR((#REF!-#REF!)/#REF!),0,(#REF!-#REF!)/#REF!)","v":0},{"$f":"IF(ISERROR((#REF!-#REF!)/#REF!),0,(#REF!-#REF!)/#REF!)","v":0},{"$f":"IF(ISERROR((#REF!-#REF!)/#REF!),0,(#REF!-#REF!)/#REF!)","v":0},{"$f":"IF(ISERROR((#REF!-#REF!)/#REF!),0,(#REF!-#REF!)/#REF!)","v":0},{"$f":"IF(ISERROR((#REF!-#REF!)/#REF!),0,(#REF!-#REF!)/#REF!)","v":0},{"$f":"IF(ISERROR((#REF!-#REF!)/#REF!),0,(#REF!-#REF!)/#REF!)","v":0},{"$f":"IF(ISERROR((#REF!-#REF!)/#REF!),0,(#REF!-#REF!)/#REF!)","v":0},{"$f":"IF(ISERROR((#REF!-#REF!)/#REF!),0,(#REF!-#REF!)/#REF!)","v":0},{"$f":"IF(ISERROR((#REF!-#REF!)/#REF!),0,(#REF!-#REF!)/#REF!)","v":0},{"$f":"IF(ISERROR((#REF!-#REF!)/#REF!),0,(#REF!-#REF!)/#REF!)","v":0},{"$f":"IF(ISERROR((#REF!-#REF!)/#REF!),0,(#REF!-#REF!)/#REF!)","v":0},{"$f":"IF(ISERROR((#REF!-#REF!)/#REF!),0,(#REF!-#REF!)/#REF!)","v":0},{"$f":"IF(ISERROR((#REF!-#REF!)/#REF!),0,(#REF!-#REF!)/#REF!)","v":0}]
[null,"LB05C","Intermediate Percutaneous Kidney or Ureter Procedures, 19 years and over, without CC",0,1407,0,0,5,1432,9,200,"No","-",0,"","",{"$f":"IF(ISERROR((#REF!-#REF!)/#REF!),0,(#REF!-#REF!)/#REF!)","v":0},{"$f":"IF(ISERROR((#REF!-#REF!)/#REF!),0,(#REF!-#REF!)/#REF!)","v":0},{"$f":"IF(ISERROR((#REF!-#REF!)/#REF!),0,(#REF!-#REF!)/#REF!)","v":0},{"$f":"IF(ISERROR((#REF!-#REF!)/#REF!),0,(#REF!-#REF!)/#REF!)","v":0},{"$f":"IF(ISERROR((#REF!-#REF!)/#REF!),0,(#REF!-#REF!)/#REF!)","v":0},{"$f":"IF(ISERROR((#REF!-#REF!)/#REF!),0,(#REF!-#REF!)/#REF!)","v":0},{"$f":"IF(ISERROR((#REF!-#REF!)/#REF!),0,(#REF!-#REF!)/#REF!)","v":0},{"$f":"IF(ISERROR((#REF!-#REF!)/#REF!),0,(#REF!-#REF!)/#REF!)","v":0},{"$f":"IF(ISERROR((#REF!-#REF!)/#REF!),0,(#REF!-#REF!)/#REF!)","v":0},{"$f":"IF(ISERROR((#REF!-#REF!)/#REF!),0,(#REF!-#REF!)/#REF!)","v":0},{"$f":"IF(ISERROR((#REF!-#REF!)/#REF!),0,(#REF!-#REF!)/#REF!)","v":0},{"$f":"IF(ISERROR((#REF!-#REF!)/#REF!),0,(#REF!-#REF!)/#REF!)","v":0},{"$f":"IF(ISERROR((#REF!-#REF!)/#REF!),0,(#REF!-#REF!)/#REF!)","v":0}]
[null,"LB05D","Intermediate Percutaneous Kidney or Ureter Procedures, 18 years and under",0,2371,0,0,5,3903,14,369,"No","-",0,"","",{"$f":"IF(ISERROR((#REF!-#REF!)/#REF!),0,(#REF!-#REF!)/#REF!)","v":0},{"$f":"IF(ISERROR((#REF!-#REF!)/#REF!),0,(#REF!-#REF!)/#REF!)","v":0},{"$f":"IF(ISERROR((#REF!-#REF!)/#REF!),0,(#REF!-#REF!)/#REF!)","v":0},{"$f":"IF(ISERROR((#REF!-#REF!)/#REF!),0,(#REF!-#REF!)/#REF!)","v":0},{"$f":"IF(ISERROR((#REF!-#REF!)/#REF!),0,(#REF!-#REF!)/#REF!)","v":0},{"$f":"IF(ISERROR((#REF!-#REF!)/#REF!),0,(#REF!-#REF!)/#REF!)","v":0},{"$f":"IF(ISERROR((#REF!-#REF!)/#REF!),0,(#REF!-#REF!)/#REF!)","v":0},{"$f":"IF(ISERROR((#REF!-#REF!)/#REF!),0,(#REF!-#REF!)/#REF!)","v":0},{"$f":"IF(ISERROR((#REF!-#REF!)/#REF!),0,(#REF!-#REF!)/#REF!)","v":0},{"$f":"IF(ISERROR((#REF!-#REF!)/#REF!),0,(#REF!-#REF!)/#REF!)","v":0},{"$f":"IF(ISERROR((#REF!-#REF!)/#REF!),0,(#REF!-#REF!)/#REF!)","v":0},{"$f":"IF(ISERROR((#REF!-#REF!)/#REF!),0,(#REF!-#REF!)/#REF!)","v":0},{"$f":"IF(ISERROR((#REF!-#REF!)/#REF!),0,(#REF!-#REF!)/#REF!)","v":0}]
[null,"LB06D","Kidney, Urinary Tract or Prostate Neoplasms, with length of stay 2 days or more, with Major CC",0,3394,0,0,34,4052,41,200,"No","-",0,"","",{"$f":"IF(ISERROR((#REF!-#REF!)/#REF!),0,(#REF!-#REF!)/#REF!)","v":0},{"$f":"IF(ISERROR((#REF!-#REF!)/#REF!),0,(#REF!-#REF!)/#REF!)","v":0},{"$f":"IF(ISERROR((#REF!-#REF!)/#REF!),0,(#REF!-#REF!)/#REF!)","v":0},{"$f":"IF(ISERROR((#REF!-#REF!)/#REF!),0,(#REF!-#REF!)/#REF!)","v":0},{"$f":"IF(ISERROR((#REF!-#REF!)/#REF!),0,(#REF!-#REF!)/#REF!)","v":0},{"$f":"IF(ISERROR((#REF!-#REF!)/#REF!),0,(#REF!-#REF!)/#REF!)","v":0},{"$f":"IF(ISERROR((#REF!-#REF!)/#REF!),0,(#REF!-#REF!)/#REF!)","v":0},{"$f":"IF(ISERROR((#REF!-#REF!)/#REF!),0,(#REF!-#REF!)/#REF!)","v":0},{"$f":"IF(ISERROR((#REF!-#REF!)/#REF!),0,(#REF!-#REF!)/#REF!)","v":0},{"$f":"IF(ISERROR((#REF!-#REF!)/#REF!),0,(#REF!-#REF!)/#REF!)","v":0},{"$f":"IF(ISERROR((#REF!-#REF!)/#REF!),0,(#REF!-#REF!)/#REF!)","v":0},{"$f":"IF(ISERROR((#REF!-#REF!)/#REF!),0,(#REF!-#REF!)/#REF!)","v":0},{"$f":"IF(ISERROR((#REF!-#REF!)/#REF!),0,(#REF!-#REF!)/#REF!)","v":0}]
[null,"LB06E","Kidney, Urinary Tract or Prostate Neoplasms, with length of stay 2 days or more, with Intermediate CC",0,1825,0,0,7,2330,21,200,"No","-",0,"","",{"$f":"IF(ISERROR((#REF!-#REF!)/#REF!),0,(#REF!-#REF!)/#REF!)","v":0},{"$f":"IF(ISERROR((#REF!-#REF!)/#REF!),0,(#REF!-#REF!)/#REF!)","v":0},{"$f":"IF(ISERROR((#REF!-#REF!)/#REF!),0,(#REF!-#REF!)/#REF!)","v":0},{"$f":"IF(ISERROR((#REF!-#REF!)/#REF!),0,(#REF!-#REF!)/#REF!)","v":0},{"$f":"IF(ISERROR((#REF!-#REF!)/#REF!),0,(#REF!-#REF!)/#REF!)","v":0},{"$f":"IF(ISERROR((#REF!-#REF!)/#REF!),0,(#REF!-#REF!)/#REF!)","v":0},{"$f":"IF(ISERROR((#REF!-#REF!)/#REF!),0,(#REF!-#REF!)/#REF!)","v":0},{"$f":"IF(ISERROR((#REF!-#REF!)/#REF!),0,(#REF!-#REF!)/#REF!)","v":0},{"$f":"IF(ISERROR((#REF!-#REF!)/#REF!),0,(#REF!-#REF!)/#REF!)","v":0},{"$f":"IF(ISERROR((#REF!-#REF!)/#REF!),0,(#REF!-#REF!)/#REF!)","v":0},{"$f":"IF(ISERROR((#REF!-#REF!)/#REF!),0,(#REF!-#REF!)/#REF!)","v":0},{"$f":"IF(ISERROR((#REF!-#REF!)/#REF!),0,(#REF!-#REF!)/#REF!)","v":0},{"$f":"IF(ISERROR((#REF!-#REF!)/#REF!),0,(#REF!-#REF!)/#REF!)","v":0}]
[null,"LB06F","Kidney, Urinary Tract or Prostate Neoplasms, with length of stay 2 days or more, without CC",0,1454,0,0,5,1796,13,200,"No","-",0,"","",{"$f":"IF(ISERROR((#REF!-#REF!)/#REF!),0,(#REF!-#REF!)/#REF!)","v":0},{"$f":"IF(ISERROR((#REF!-#REF!)/#REF!),0,(#REF!-#REF!)/#REF!)","v":0},{"$f":"IF(ISERROR((#REF!-#REF!)/#REF!),0,(#REF!-#REF!)/#REF!)","v":0},{"$f":"IF(ISERROR((#REF!-#REF!)/#REF!),0,(#REF!-#REF!)/#REF!)","v":0},{"$f":"IF(ISERROR((#REF!-#REF!)/#REF!),0,(#REF!-#REF!)/#REF!)","v":0},{"$f":"IF(ISERROR((#REF!-#REF!)/#REF!),0,(#REF!-#REF!)/#REF!)","v":0},{"$f":"IF(ISERROR((#REF!-#REF!)/#REF!),0,(#REF!-#REF!)/#REF!)","v":0},{"$f":"IF(ISERROR((#REF!-#REF!)/#REF!),0,(#REF!-#REF!)/#REF!)","v":0},{"$f":"IF(ISERROR((#REF!-#REF!)/#REF!),0,(#REF!-#REF!)/#REF!)","v":0},{"$f":"IF(ISERROR((#REF!-#REF!)/#REF!),0,(#REF!-#REF!)/#REF!)","v":0},{"$f":"IF(ISERROR((#REF!-#REF!)/#REF!),0,(#REF!-#REF!)/#REF!)","v":0},{"$f":"IF(ISERROR((#REF!-#REF!)/#REF!),0,(#REF!-#REF!)/#REF!)","v":0},{"$f":"IF(ISERROR((#REF!-#REF!)/#REF!),0,(#REF!-#REF!)/#REF!)","v":0}]
[null,"LB06G","Kidney, Urinary Tract or Prostate Neoplasms, with length of stay 1 day or less",0,333,0,0,5,569,5,200,"Yes",1,569,"","",{"$f":"IF(ISERROR((#REF!-#REF!)/#REF!),0,(#REF!-#REF!)/#REF!)","v":0},{"$f":"IF(ISERROR((#REF!-#REF!)/#REF!),0,(#REF!-#REF!)/#REF!)","v":0},{"$f":"IF(ISERROR((#REF!-#REF!)/#REF!),0,(#REF!-#REF!)/#REF!)","v":0},{"$f":"IF(ISERROR((#REF!-#REF!)/#REF!),0,(#REF!-#REF!)/#REF!)","v":0},{"$f":"IF(ISERROR((#REF!-#REF!)/#REF!),0,(#REF!-#REF!)/#REF!)","v":0},{"$f":"IF(ISERROR((#REF!-#REF!)/#REF!),0,(#REF!-#REF!)/#REF!)","v":0},{"$f":"IF(ISERROR((#REF!-#REF!)/#REF!),0,(#REF!-#REF!)/#REF!)","v":0},{"$f":"IF(ISERROR((#REF!-#REF!)/#REF!),0,(#REF!-#REF!)/#REF!)","v":0},{"$f":"IF(ISERROR((#REF!-#REF!)/#REF!),0,(#REF!-#REF!)/#REF!)","v":0},{"$f":"IF(ISERROR((#REF!-#REF!)/#REF!),0,(#REF!-#REF!)/#REF!)","v":0},{"$f":"IF(ISERROR((#REF!-#REF!)/#REF!),0,(#REF!-#REF!)/#REF!)","v":0},{"$f":"IF(ISERROR((#REF!-#REF!)/#REF!),0,(#REF!-#REF!)/#REF!)","v":0},{"$f":"IF(ISERROR((#REF!-#REF!)/#REF!),0,(#REF!-#REF!)/#REF!)","v":0}]
[null,"LB09C","Intermediate Endoscopic Ureter Procedures, 18 years and under",0,1034,0,0,5,1602,5,369,"No","-",0,"","",{"$f":"IF(ISERROR((#REF!-#REF!)/#REF!),0,(#REF!-#REF!)/#REF!)","v":0},{"$f":"IF(ISERROR((#REF!-#REF!)/#REF!),0,(#REF!-#REF!)/#REF!)","v":0},{"$f":"IF(ISERROR((#REF!-#REF!)/#REF!),0,(#REF!-#REF!)/#REF!)","v":0},{"$f":"IF(ISERROR((#REF!-#REF!)/#REF!),0,(#REF!-#REF!)/#REF!)","v":0},{"$f":"IF(ISERROR((#REF!-#REF!)/#REF!),0,(#REF!-#REF!)/#REF!)","v":0},{"$f":"IF(ISERROR((#REF!-#REF!)/#REF!),0,(#REF!-#REF!)/#REF!)","v":0},{"$f":"IF(ISERROR((#REF!-#REF!)/#REF!),0,(#REF!-#REF!)/#REF!)","v":0},{"$f":"IF(ISERROR((#REF!-#REF!)/#REF!),0,(#REF!-#REF!)/#REF!)","v":0},{"$f":"IF(ISERROR((#REF!-#REF!)/#REF!),0,(#REF!-#REF!)/#REF!)","v":0},{"$f":"IF(ISERROR((#REF!-#REF!)/#REF!),0,(#REF!-#REF!)/#REF!)","v":0},{"$f":"IF(ISERROR((#REF!-#REF!)/#REF!),0,(#REF!-#REF!)/#REF!)","v":0},{"$f":"IF(ISERROR((#REF!-#REF!)/#REF!),0,(#REF!-#REF!)/#REF!)","v":0},{"$f":"IF(ISERROR((#REF!-#REF!)/#REF!),0,(#REF!-#REF!)/#REF!)","v":0}]
[null,"LB09D","Intermediate Endoscopic Ureter Procedures, 19 years and over",0,739,0,0,5,1095,5,200,"No","-",0,"","",{"$f":"IF(ISERROR((#REF!-#REF!)/#REF!),0,(#REF!-#REF!)/#REF!)","v":0},{"$f":"IF(ISERROR((#REF!-#REF!)/#REF!),0,(#REF!-#REF!)/#REF!)","v":0},{"$f":"IF(ISERROR((#REF!-#REF!)/#REF!),0,(#REF!-#REF!)/#REF!)","v":0},{"$f":"IF(ISERROR((#REF!-#REF!)/#REF!),0,(#REF!-#REF!)/#REF!)","v":0},{"$f":"IF(ISERROR((#REF!-#REF!)/#REF!),0,(#REF!-#REF!)/#REF!)","v":0},{"$f":"IF(ISERROR((#REF!-#REF!)/#REF!),0,(#REF!-#REF!)/#REF!)","v":0},{"$f":"IF(ISERROR((#REF!-#REF!)/#REF!),0,(#REF!-#REF!)/#REF!)","v":0},{"$f":"IF(ISERROR((#REF!-#REF!)/#REF!),0,(#REF!-#REF!)/#REF!)","v":0},{"$f":"IF(ISERROR((#REF!-#REF!)/#REF!),0,(#REF!-#REF!)/#REF!)","v":0},{"$f":"IF(ISERROR((#REF!-#REF!)/#REF!),0,(#REF!-#REF!)/#REF!)","v":0},{"$f":"IF(ISERROR((#REF!-#REF!)/#REF!),0,(#REF!-#REF!)/#REF!)","v":0},{"$f":"IF(ISERROR((#REF!-#REF!)/#REF!),0,(#REF!-#REF!)/#REF!)","v":0},{"$f":"IF(ISERROR((#REF!-#REF!)/#REF!),0,(#REF!-#REF!)/#REF!)","v":0}]
[null,"LB10A","Major Open Bladder Procedures or Reconstruction, 19 years and over",0,4785,0,0,27,3706,16,200,"No","-",0,"","",{"$f":"IF(ISERROR((#REF!-#REF!)/#REF!),0,(#REF!-#REF!)/#REF!)","v":0},{"$f":"IF(ISERROR((#REF!-#REF!)/#REF!),0,(#REF!-#REF!)/#REF!)","v":0},{"$f":"IF(ISERROR((#REF!-#REF!)/#REF!),0,(#REF!-#REF!)/#REF!)","v":0},{"$f":"IF(ISERROR((#REF!-#REF!)/#REF!),0,(#REF!-#REF!)/#REF!)","v":0},{"$f":"IF(ISERROR((#REF!-#REF!)/#REF!),0,(#REF!-#REF!)/#REF!)","v":0},{"$f":"IF(ISERROR((#REF!-#REF!)/#REF!),0,(#REF!-#REF!)/#REF!)","v":0},{"$f":"IF(ISERROR((#REF!-#REF!)/#REF!),0,(#REF!-#REF!)/#REF!)","v":0},{"$f":"IF(ISERROR((#REF!-#REF!)/#REF!),0,(#REF!-#REF!)/#REF!)","v":0},{"$f":"IF(ISERROR((#REF!-#REF!)/#REF!),0,(#REF!-#REF!)/#REF!)","v":0},{"$f":"IF(ISERROR((#REF!-#REF!)/#REF!),0,(#REF!-#REF!)/#REF!)","v":0},{"$f":"IF(ISERROR((#REF!-#REF!)/#REF!),0,(#REF!-#REF!)/#REF!)","v":0},{"$f":"IF(ISERROR((#REF!-#REF!)/#REF!),0,(#REF!-#REF!)/#REF!)","v":0},{"$f":"IF(ISERROR((#REF!-#REF!)/#REF!),0,(#REF!-#REF!)/#REF!)","v":0}]
[null,"LB10B","Major Open Bladder Procedures or Reconstruction, 18 years and under",0,4950,0,0,16,4411,25,369,"No","-",0,"","",{"$f":"IF(ISERROR((#REF!-#REF!)/#REF!),0,(#REF!-#REF!)/#REF!)","v":0},{"$f":"IF(ISERROR((#REF!-#REF!)/#REF!),0,(#REF!-#REF!)/#REF!)","v":0},{"$f":"IF(ISERROR((#REF!-#REF!)/#REF!),0,(#REF!-#REF!)/#REF!)","v":0},{"$f":"IF(ISERROR((#REF!-#REF!)/#REF!),0,(#REF!-#REF!)/#REF!)","v":0},{"$f":"IF(ISERROR((#REF!-#REF!)/#REF!),0,(#REF!-#REF!)/#REF!)","v":0},{"$f":"IF(ISERROR((#REF!-#REF!)/#REF!),0,(#REF!-#REF!)/#REF!)","v":0},{"$f":"IF(ISERROR((#REF!-#REF!)/#REF!),0,(#REF!-#REF!)/#REF!)","v":0},{"$f":"IF(ISERROR((#REF!-#REF!)/#REF!),0,(#REF!-#REF!)/#REF!)","v":0},{"$f":"IF(ISERROR((#REF!-#REF!)/#REF!),0,(#REF!-#REF!)/#REF!)","v":0},{"$f":"IF(ISERROR((#REF!-#REF!)/#REF!),0,(#REF!-#REF!)/#REF!)","v":0},{"$f":"IF(ISERROR((#REF!-#REF!)/#REF!),0,(#REF!-#REF!)/#REF!)","v":0},{"$f":"IF(ISERROR((#REF!-#REF!)/#REF!),0,(#REF!-#REF!)/#REF!)","v":0},{"$f":"IF(ISERROR((#REF!-#REF!)/#REF!),0,(#REF!-#REF!)/#REF!)","v":0}]
[null,"LB12Z","Intermediate Open Bladder Procedures",0,2456,0,0,9,3672,28,200,"No","-",0,"","",{"$f":"IF(ISERROR((#REF!-#REF!)/#REF!),0,(#REF!-#REF!)/#REF!)","v":0},{"$f":"IF(ISERROR((#REF!-#REF!)/#REF!),0,(#REF!-#REF!)/#REF!)","v":0},{"$f":"IF(ISERROR((#REF!-#REF!)/#REF!),0,(#REF!-#REF!)/#REF!)","v":0},{"$f":"IF(ISERROR((#REF!-#REF!)/#REF!),0,(#REF!-#REF!)/#REF!)","v":0},{"$f":"IF(ISERROR((#REF!-#REF!)/#REF!),0,(#REF!-#REF!)/#REF!)","v":0},{"$f":"IF(ISERROR((#REF!-#REF!)/#REF!),0,(#REF!-#REF!)/#REF!)","v":0},{"$f":"IF(ISERROR((#REF!-#REF!)/#REF!),0,(#REF!-#REF!)/#REF!)","v":0},{"$f":"IF(ISERROR((#REF!-#REF!)/#REF!),0,(#REF!-#REF!)/#REF!)","v":0},{"$f":"IF(ISERROR((#REF!-#REF!)/#REF!),0,(#REF!-#REF!)/#REF!)","v":0},{"$f":"IF(ISERROR((#REF!-#REF!)/#REF!),0,(#REF!-#REF!)/#REF!)","v":0},{"$f":"IF(ISERROR((#REF!-#REF!)/#REF!),0,(#REF!-#REF!)/#REF!)","v":0},{"$f":"IF(ISERROR((#REF!-#REF!)/#REF!),0,(#REF!-#REF!)/#REF!)","v":0},{"$f":"IF(ISERROR((#REF!-#REF!)/#REF!),0,(#REF!-#REF!)/#REF!)","v":0}]
[null,"LB13A","Major Endoscopic Bladder Procedures with CC",0,1592,0,0,5,5213,41,200,"No","-",0,"","",{"$f":"IF(ISERROR((#REF!-#REF!)/#REF!),0,(#REF!-#REF!)/#REF!)","v":0},{"$f":"IF(ISERROR((#REF!-#REF!)/#REF!),0,(#REF!-#REF!)/#REF!)","v":0},{"$f":"IF(ISERROR((#REF!-#REF!)/#REF!),0,(#REF!-#REF!)/#REF!)","v":0},{"$f":"IF(ISERROR((#REF!-#REF!)/#REF!),0,(#REF!-#REF!)/#REF!)","v":0},{"$f":"IF(ISERROR((#REF!-#REF!)/#REF!),0,(#REF!-#REF!)/#REF!)","v":0},{"$f":"IF(ISERROR((#REF!-#REF!)/#REF!),0,(#REF!-#REF!)/#REF!)","v":0},{"$f":"IF(ISERROR((#REF!-#REF!)/#REF!),0,(#REF!-#REF!)/#REF!)","v":0},{"$f":"IF(ISERROR((#REF!-#REF!)/#REF!),0,(#REF!-#REF!)/#REF!)","v":0},{"$f":"IF(ISERROR((#REF!-#REF!)/#REF!),0,(#REF!-#REF!)/#REF!)","v":0},{"$f":"IF(ISERROR((#REF!-#REF!)/#REF!),0,(#REF!-#REF!)/#REF!)","v":0},{"$f":"IF(ISERROR((#REF!-#REF!)/#REF!),0,(#REF!-#REF!)/#REF!)","v":0},{"$f":"IF(ISERROR((#REF!-#REF!)/#REF!),0,(#REF!-#REF!)/#REF!)","v":0},{"$f":"IF(ISERROR((#REF!-#REF!)/#REF!),0,(#REF!-#REF!)/#REF!)","v":0}]
[null,"LB13B","Major Endoscopic Bladder Procedures without CC",0,1374,0,0,5,2667,17,200,"No","-",0,"","",{"$f":"IF(ISERROR((#REF!-#REF!)/#REF!),0,(#REF!-#REF!)/#REF!)","v":0},{"$f":"IF(ISERROR((#REF!-#REF!)/#REF!),0,(#REF!-#REF!)/#REF!)","v":0},{"$f":"IF(ISERROR((#REF!-#REF!)/#REF!),0,(#REF!-#REF!)/#REF!)","v":0},{"$f":"IF(ISERROR((#REF!-#REF!)/#REF!),0,(#REF!-#REF!)/#REF!)","v":0},{"$f":"IF(ISERROR((#REF!-#REF!)/#REF!),0,(#REF!-#REF!)/#REF!)","v":0},{"$f":"IF(ISERROR((#REF!-#REF!)/#REF!),0,(#REF!-#REF!)/#REF!)","v":0},{"$f":"IF(ISERROR((#REF!-#REF!)/#REF!),0,(#REF!-#REF!)/#REF!)","v":0},{"$f":"IF(ISERROR((#REF!-#REF!)/#REF!),0,(#REF!-#REF!)/#REF!)","v":0},{"$f":"IF(ISERROR((#REF!-#REF!)/#REF!),0,(#REF!-#REF!)/#REF!)","v":0},{"$f":"IF(ISERROR((#REF!-#REF!)/#REF!),0,(#REF!-#REF!)/#REF!)","v":0},{"$f":"IF(ISERROR((#REF!-#REF!)/#REF!),0,(#REF!-#REF!)/#REF!)","v":0},{"$f":"IF(ISERROR((#REF!-#REF!)/#REF!),0,(#REF!-#REF!)/#REF!)","v":0},{"$f":"IF(ISERROR((#REF!-#REF!)/#REF!),0,(#REF!-#REF!)/#REF!)","v":0}]
[null,"LB14Z","Intermediate Endoscopic Bladder Procedures",837,479,0,0,5,878,5,200,"No","-",0,1,"HRG",{"$f":"IF(ISERROR((#REF!-#REF!)/#REF!),0,(#REF!-#REF!)/#REF!)","v":0},{"$f":"IF(ISERROR((#REF!-#REF!)/#REF!),0,(#REF!-#REF!)/#REF!)","v":0},{"$f":"IF(ISERROR((#REF!-#REF!)/#REF!),0,(#REF!-#REF!)/#REF!)","v":0},{"$f":"IF(ISERROR((#REF!-#REF!)/#REF!),0,(#REF!-#REF!)/#REF!)","v":0},{"$f":"IF(ISERROR((#REF!-#REF!)/#REF!),0,(#REF!-#REF!)/#REF!)","v":0},{"$f":"IF(ISERROR((#REF!-#REF!)/#REF!),0,(#REF!-#REF!)/#REF!)","v":0},{"$f":"IF(ISERROR((#REF!-#REF!)/#REF!),0,(#REF!-#REF!)/#REF!)","v":0},{"$f":"IF(ISERROR((#REF!-#REF!)/#REF!),0,(#REF!-#REF!)/#REF!)","v":0},{"$f":"IF(ISERROR((#REF!-#REF!)/#REF!),0,(#REF!-#REF!)/#REF!)","v":0},{"$f":"IF(ISERROR((#REF!-#REF!)/#REF!),0,(#REF!-#REF!)/#REF!)","v":0},{"$f":"IF(ISERROR((#REF!-#REF!)/#REF!),0,(#REF!-#REF!)/#REF!)","v":0},{"$f":"IF(ISERROR((#REF!-#REF!)/#REF!),0,(#REF!-#REF!)/#REF!)","v":0},{"$f":"IF(ISERROR((#REF!-#REF!)/#REF!),0,(#REF!-#REF!)/#REF!)","v":0}]
[null,"LB15D","Minor Bladder Procedures, 18 years and under",0,694,0,0,5,659,5,369,"No","-",0,"","",{"$f":"IF(ISERROR((#REF!-#REF!)/#REF!),0,(#REF!-#REF!)/#REF!)","v":0},{"$f":"IF(ISERROR((#REF!-#REF!)/#REF!),0,(#REF!-#REF!)/#REF!)","v":0},{"$f":"IF(ISERROR((#REF!-#REF!)/#REF!),0,(#REF!-#REF!)/#REF!)","v":0},{"$f":"IF(ISERROR((#REF!-#REF!)/#REF!),0,(#REF!-#REF!)/#REF!)","v":0},{"$f":"IF(ISERROR((#REF!-#REF!)/#REF!),0,(#REF!-#REF!)/#REF!)","v":0},{"$f":"IF(ISERROR((#REF!-#REF!)/#REF!),0,(#REF!-#REF!)/#REF!)","v":0},{"$f":"IF(ISERROR((#REF!-#REF!)/#REF!),0,(#REF!-#REF!)/#REF!)","v":0},{"$f":"IF(ISERROR((#REF!-#REF!)/#REF!),0,(#REF!-#REF!)/#REF!)","v":0},{"$f":"IF(ISERROR((#REF!-#REF!)/#REF!),0,(#REF!-#REF!)/#REF!)","v":0},{"$f":"IF(ISERROR((#REF!-#REF!)/#REF!),0,(#REF!-#REF!)/#REF!)","v":0},{"$f":"IF(ISERROR((#REF!-#REF!)/#REF!),0,(#REF!-#REF!)/#REF!)","v":0},{"$f":"IF(ISERROR((#REF!-#REF!)/#REF!),0,(#REF!-#REF!)/#REF!)","v":0},{"$f":"IF(ISERROR((#REF!-#REF!)/#REF!),0,(#REF!-#REF!)/#REF!)","v":0}]
[null,"LB15E","Minor Bladder Procedures, 19 years and over",271,296,0,0,5,497,5,200,"No","-",0,"","",{"$f":"IF(ISERROR((#REF!-#REF!)/#REF!),0,(#REF!-#REF!)/#REF!)","v":0},{"$f":"IF(ISERROR((#REF!-#REF!)/#REF!),0,(#REF!-#REF!)/#REF!)","v":0},{"$f":"IF(ISERROR((#REF!-#REF!)/#REF!),0,(#REF!-#REF!)/#REF!)","v":0},{"$f":"IF(ISERROR((#REF!-#REF!)/#REF!),0,(#REF!-#REF!)/#REF!)","v":0},{"$f":"IF(ISERROR((#REF!-#REF!)/#REF!),0,(#REF!-#REF!)/#REF!)","v":0},{"$f":"IF(ISERROR((#REF!-#REF!)/#REF!),0,(#REF!-#REF!)/#REF!)","v":0},{"$f":"IF(ISERROR((#REF!-#REF!)/#REF!),0,(#REF!-#REF!)/#REF!)","v":0},{"$f":"IF(ISERROR((#REF!-#REF!)/#REF!),0,(#REF!-#REF!)/#REF!)","v":0},{"$f":"IF(ISERROR((#REF!-#REF!)/#REF!),0,(#REF!-#REF!)/#REF!)","v":0},{"$f":"IF(ISERROR((#REF!-#REF!)/#REF!),0,(#REF!-#REF!)/#REF!)","v":0},{"$f":"IF(ISERROR((#REF!-#REF!)/#REF!),0,(#REF!-#REF!)/#REF!)","v":0},{"$f":"IF(ISERROR((#REF!-#REF!)/#REF!),0,(#REF!-#REF!)/#REF!)","v":0},{"$f":"IF(ISERROR((#REF!-#REF!)/#REF!),0,(#REF!-#REF!)/#REF!)","v":0}]
[null,"LB16A","Urinary Incontinence or Other Urinary Problems, with Major CC",0,2017,0,0,18,2405,25,200,"Yes",0.30000000000000004,721.50000000000011,"","",{"$f":"IF(ISERROR((#REF!-#REF!)/#REF!),0,(#REF!-#REF!)/#REF!)","v":0},{"$f":"IF(ISERROR((#REF!-#REF!)/#REF!),0,(#REF!-#REF!)/#REF!)","v":0},{"$f":"IF(ISERROR((#REF!-#REF!)/#REF!),0,(#REF!-#REF!)/#REF!)","v":0},{"$f":"IF(ISERROR((#REF!-#REF!)/#REF!),0,(#REF!-#REF!)/#REF!)","v":0},{"$f":"IF(ISERROR((#REF!-#REF!)/#REF!),0,(#REF!-#REF!)/#REF!)","v":0},{"$f":"IF(ISERROR((#REF!-#REF!)/#REF!),0,(#REF!-#REF!)/#REF!)","v":0},{"$f":"IF(ISERROR((#REF!-#REF!)/#REF!),0,(#REF!-#REF!)/#REF!)","v":0},{"$f":"IF(ISERROR((#REF!-#REF!)/#REF!),0,(#REF!-#REF!)/#REF!)","v":0},{"$f":"IF(ISERROR((#REF!-#REF!)/#REF!),0,(#REF!-#REF!)/#REF!)","v":0},{"$f":"IF(ISERROR((#REF!-#REF!)/#REF!),0,(#REF!-#REF!)/#REF!)","v":0},{"$f":"IF(ISERROR((#REF!-#REF!)/#REF!),0,(#REF!-#REF!)/#REF!)","v":0},{"$f":"IF(ISERROR((#REF!-#REF!)/#REF!),0,(#REF!-#REF!)/#REF!)","v":0},{"$f":"IF(ISERROR((#REF!-#REF!)/#REF!),0,(#REF!-#REF!)/#REF!)","v":0}]
[null,"LB16B","Urinary Incontinence or Other Urinary Problems, with Intermediate CC",0,994,0,0,8,985,9,200,"No","-",0,1,"HRG",{"$f":"IF(ISERROR((#REF!-#REF!)/#REF!),0,(#REF!-#REF!)/#REF!)","v":0},{"$f":"IF(ISERROR((#REF!-#REF!)/#REF!),0,(#REF!-#REF!)/#REF!)","v":0},{"$f":"IF(ISERROR((#REF!-#REF!)/#REF!),0,(#REF!-#REF!)/#REF!)","v":0},{"$f":"IF(ISERROR((#REF!-#REF!)/#REF!),0,(#REF!-#REF!)/#REF!)","v":0},{"$f":"IF(ISERROR((#REF!-#REF!)/#REF!),0,(#REF!-#REF!)/#REF!)","v":0},{"$f":"IF(ISERROR((#REF!-#REF!)/#REF!),0,(#REF!-#REF!)/#REF!)","v":0},{"$f":"IF(ISERROR((#REF!-#REF!)/#REF!),0,(#REF!-#REF!)/#REF!)","v":0},{"$f":"IF(ISERROR((#REF!-#REF!)/#REF!),0,(#REF!-#REF!)/#REF!)","v":0},{"$f":"IF(ISERROR((#REF!-#REF!)/#REF!),0,(#REF!-#REF!)/#REF!)","v":0},{"$f":"IF(ISERROR((#REF!-#REF!)/#REF!),0,(#REF!-#REF!)/#REF!)","v":0},{"$f":"IF(ISERROR((#REF!-#REF!)/#REF!),0,(#REF!-#REF!)/#REF!)","v":0},{"$f":"IF(ISERROR((#REF!-#REF!)/#REF!),0,(#REF!-#REF!)/#REF!)","v":0},{"$f":"IF(ISERROR((#REF!-#REF!)/#REF!),0,(#REF!-#REF!)/#REF!)","v":0}]
[null,"LB16C","Urinary Incontinence or Other Urinary Problems, without CC",0,619,0,0,5,579,8,200,"No","-",0,1,"HRG",{"$f":"IF(ISERROR((#REF!-#REF!)/#REF!),0,(#REF!-#REF!)/#REF!)","v":0},{"$f":"IF(ISERROR((#REF!-#REF!)/#REF!),0,(#REF!-#REF!)/#REF!)","v":0},{"$f":"IF(ISERROR((#REF!-#REF!)/#REF!),0,(#REF!-#REF!)/#REF!)","v":0},{"$f":"IF(ISERROR((#REF!-#REF!)/#REF!),0,(#REF!-#REF!)/#REF!)","v":0},{"$f":"IF(ISERROR((#REF!-#REF!)/#REF!),0,(#REF!-#REF!)/#REF!)","v":0},{"$f":"IF(ISERROR((#REF!-#REF!)/#REF!),0,(#REF!-#REF!)/#REF!)","v":0},{"$f":"IF(ISERROR((#REF!-#REF!)/#REF!),0,(#REF!-#REF!)/#REF!)","v":0},{"$f":"IF(ISERROR((#REF!-#REF!)/#REF!),0,(#REF!-#REF!)/#REF!)","v":0},{"$f":"IF(ISERROR((#REF!-#REF!)/#REF!),0,(#REF!-#REF!)/#REF!)","v":0},{"$f":"IF(ISERROR((#REF!-#REF!)/#REF!),0,(#REF!-#REF!)/#REF!)","v":0},{"$f":"IF(ISERROR((#REF!-#REF!)/#REF!),0,(#REF!-#REF!)/#REF!)","v":0},{"$f":"IF(ISERROR((#REF!-#REF!)/#REF!),0,(#REF!-#REF!)/#REF!)","v":0},{"$f":"IF(ISERROR((#REF!-#REF!)/#REF!),0,(#REF!-#REF!)/#REF!)","v":0}]
[null,"LB17Z","Introduction of Therapeutic Substance into Bladder",184,200,0,0,5,570,5,200,"No","-",0,"","",{"$f":"IF(ISERROR((#REF!-#REF!)/#REF!),0,(#REF!-#REF!)/#REF!)","v":0},{"$f":"IF(ISERROR((#REF!-#REF!)/#REF!),0,(#REF!-#REF!)/#REF!)","v":0},{"$f":"IF(ISERROR((#REF!-#REF!)/#REF!),0,(#REF!-#REF!)/#REF!)","v":0},{"$f":"IF(ISERROR((#REF!-#REF!)/#REF!),0,(#REF!-#REF!)/#REF!)","v":0},{"$f":"IF(ISERROR((#REF!-#REF!)/#REF!),0,(#REF!-#REF!)/#REF!)","v":0},{"$f":"IF(ISERROR((#REF!-#REF!)/#REF!),0,(#REF!-#REF!)/#REF!)","v":0},{"$f":"IF(ISERROR((#REF!-#REF!)/#REF!),0,(#REF!-#REF!)/#REF!)","v":0},{"$f":"IF(ISERROR((#REF!-#REF!)/#REF!),0,(#REF!-#REF!)/#REF!)","v":0},{"$f":"IF(ISERROR((#REF!-#REF!)/#REF!),0,(#REF!-#REF!)/#REF!)","v":0},{"$f":"IF(ISERROR((#REF!-#REF!)/#REF!),0,(#REF!-#REF!)/#REF!)","v":0},{"$f":"IF(ISERROR((#REF!-#REF!)/#REF!),0,(#REF!-#REF!)/#REF!)","v":0},{"$f":"IF(ISERROR((#REF!-#REF!)/#REF!),0,(#REF!-#REF!)/#REF!)","v":0},{"$f":"IF(ISERROR((#REF!-#REF!)/#REF!),0,(#REF!-#REF!)/#REF!)","v":0}]
[null,"LB18Z","Attention to Suprapubic Bladder Catheter",0,359,0,0,5,507,5,200,"No","-",0,"","",{"$f":"IF(ISERROR((#REF!-#REF!)/#REF!),0,(#REF!-#REF!)/#REF!)","v":0},{"$f":"IF(ISERROR((#REF!-#REF!)/#REF!),0,(#REF!-#REF!)/#REF!)","v":0},{"$f":"IF(ISERROR((#REF!-#REF!)/#REF!),0,(#REF!-#REF!)/#REF!)","v":0},{"$f":"IF(ISERROR((#REF!-#REF!)/#REF!),0,(#REF!-#REF!)/#REF!)","v":0},{"$f":"IF(ISERROR((#REF!-#REF!)/#REF!),0,(#REF!-#REF!)/#REF!)","v":0},{"$f":"IF(ISERROR((#REF!-#REF!)/#REF!),0,(#REF!-#REF!)/#REF!)","v":0},{"$f":"IF(ISERROR((#REF!-#REF!)/#REF!),0,(#REF!-#REF!)/#REF!)","v":0},{"$f":"IF(ISERROR((#REF!-#REF!)/#REF!),0,(#REF!-#REF!)/#REF!)","v":0},{"$f":"IF(ISERROR((#REF!-#REF!)/#REF!),0,(#REF!-#REF!)/#REF!)","v":0},{"$f":"IF(ISERROR((#REF!-#REF!)/#REF!),0,(#REF!-#REF!)/#REF!)","v":0},{"$f":"IF(ISERROR((#REF!-#REF!)/#REF!),0,(#REF!-#REF!)/#REF!)","v":0},{"$f":"IF(ISERROR((#REF!-#REF!)/#REF!),0,(#REF!-#REF!)/#REF!)","v":0},{"$f":"IF(ISERROR((#REF!-#REF!)/#REF!),0,(#REF!-#REF!)/#REF!)","v":0}]
[null,"LB19A","Ureteric or Bladder Disorders, with CC",0,1345,0,0,8,2216,17,200,"Yes",0.30000000000000004,664.80000000000007,"","",{"$f":"IF(ISERROR((#REF!-#REF!)/#REF!),0,(#REF!-#REF!)/#REF!)","v":0},{"$f":"IF(ISERROR((#REF!-#REF!)/#REF!),0,(#REF!-#REF!)/#REF!)","v":0},{"$f":"IF(ISERROR((#REF!-#REF!)/#REF!),0,(#REF!-#REF!)/#REF!)","v":0},{"$f":"IF(ISERROR((#REF!-#REF!)/#REF!),0,(#REF!-#REF!)/#REF!)","v":0},{"$f":"IF(ISERROR((#REF!-#REF!)/#REF!),0,(#REF!-#REF!)/#REF!)","v":0},{"$f":"IF(ISERROR((#REF!-#REF!)/#REF!),0,(#REF!-#REF!)/#REF!)","v":0},{"$f":"IF(ISERROR((#REF!-#REF!)/#REF!),0,(#REF!-#REF!)/#REF!)","v":0},{"$f":"IF(ISERROR((#REF!-#REF!)/#REF!),0,(#REF!-#REF!)/#REF!)","v":0},{"$f":"IF(ISERROR((#REF!-#REF!)/#REF!),0,(#REF!-#REF!)/#REF!)","v":0},{"$f":"IF(ISERROR((#REF!-#REF!)/#REF!),0,(#REF!-#REF!)/#REF!)","v":0},{"$f":"IF(ISERROR((#REF!-#REF!)/#REF!),0,(#REF!-#REF!)/#REF!)","v":0},{"$f":"IF(ISERROR((#REF!-#REF!)/#REF!),0,(#REF!-#REF!)/#REF!)","v":0},{"$f":"IF(ISERROR((#REF!-#REF!)/#REF!),0,(#REF!-#REF!)/#REF!)","v":0}]
[null,"LB19B","Ureteric or Bladder Disorders, without CC",0,776,0,0,5,983,8,200,"Yes",0.65,638.95000000000005,"","",{"$f":"IF(ISERROR((#REF!-#REF!)/#REF!),0,(#REF!-#REF!)/#REF!)","v":0},{"$f":"IF(ISERROR((#REF!-#REF!)/#REF!),0,(#REF!-#REF!)/#REF!)","v":0},{"$f":"IF(ISERROR((#REF!-#REF!)/#REF!),0,(#REF!-#REF!)/#REF!)","v":0},{"$f":"IF(ISERROR((#REF!-#REF!)/#REF!),0,(#REF!-#REF!)/#REF!)","v":0},{"$f":"IF(ISERROR((#REF!-#REF!)/#REF!),0,(#REF!-#REF!)/#REF!)","v":0},{"$f":"IF(ISERROR((#REF!-#REF!)/#REF!),0,(#REF!-#REF!)/#REF!)","v":0},{"$f":"IF(ISERROR((#REF!-#REF!)/#REF!),0,(#REF!-#REF!)/#REF!)","v":0},{"$f":"IF(ISERROR((#REF!-#REF!)/#REF!),0,(#REF!-#REF!)/#REF!)","v":0},{"$f":"IF(ISERROR((#REF!-#REF!)/#REF!),0,(#REF!-#REF!)/#REF!)","v":0},{"$f":"IF(ISERROR((#REF!-#REF!)/#REF!),0,(#REF!-#REF!)/#REF!)","v":0},{"$f":"IF(ISERROR((#REF!-#REF!)/#REF!),0,(#REF!-#REF!)/#REF!)","v":0},{"$f":"IF(ISERROR((#REF!-#REF!)/#REF!),0,(#REF!-#REF!)/#REF!)","v":0},{"$f":"IF(ISERROR((#REF!-#REF!)/#REF!),0,(#REF!-#REF!)/#REF!)","v":0}]
[null,"LB20A","Infection or Mechanical Problems Related to Genito-Urinary Prostheses, Implants or Grafts, with CC",0,1740,0,0,9,1716,11,200,"Yes",0.30000000000000004,514.80000000000007,"","",{"$f":"IF(ISERROR((#REF!-#REF!)/#REF!),0,(#REF!-#REF!)/#REF!)","v":0},{"$f":"IF(ISERROR((#REF!-#REF!)/#REF!),0,(#REF!-#REF!)/#REF!)","v":0},{"$f":"IF(ISERROR((#REF!-#REF!)/#REF!),0,(#REF!-#REF!)/#REF!)","v":0},{"$f":"IF(ISERROR((#REF!-#REF!)/#REF!),0,(#REF!-#REF!)/#REF!)","v":0},{"$f":"IF(ISERROR((#REF!-#REF!)/#REF!),0,(#REF!-#REF!)/#REF!)","v":0},{"$f":"IF(ISERROR((#REF!-#REF!)/#REF!),0,(#REF!-#REF!)/#REF!)","v":0},{"$f":"IF(ISERROR((#REF!-#REF!)/#REF!),0,(#REF!-#REF!)/#REF!)","v":0},{"$f":"IF(ISERROR((#REF!-#REF!)/#REF!),0,(#REF!-#REF!)/#REF!)","v":0},{"$f":"IF(ISERROR((#REF!-#REF!)/#REF!),0,(#REF!-#REF!)/#REF!)","v":0},{"$f":"IF(ISERROR((#REF!-#REF!)/#REF!),0,(#REF!-#REF!)/#REF!)","v":0},{"$f":"IF(ISERROR((#REF!-#REF!)/#REF!),0,(#REF!-#REF!)/#REF!)","v":0},{"$f":"IF(ISERROR((#REF!-#REF!)/#REF!),0,(#REF!-#REF!)/#REF!)","v":0},{"$f":"IF(ISERROR((#REF!-#REF!)/#REF!),0,(#REF!-#REF!)/#REF!)","v":0}]
[null,"LB20B","Infection or Mechanical Problems Related to Genito-Urinary Prostheses, Implants or Grafts, without CC",0,1142,0,0,5,610,5,200,"Yes",1,610,"","",{"$f":"IF(ISERROR((#REF!-#REF!)/#REF!),0,(#REF!-#REF!)/#REF!)","v":0},{"$f":"IF(ISERROR((#REF!-#REF!)/#REF!),0,(#REF!-#REF!)/#REF!)","v":0},{"$f":"IF(ISERROR((#REF!-#REF!)/#REF!),0,(#REF!-#REF!)/#REF!)","v":0},{"$f":"IF(ISERROR((#REF!-#REF!)/#REF!),0,(#REF!-#REF!)/#REF!)","v":0},{"$f":"IF(ISERROR((#REF!-#REF!)/#REF!),0,(#REF!-#REF!)/#REF!)","v":0},{"$f":"IF(ISERROR((#REF!-#REF!)/#REF!),0,(#REF!-#REF!)/#REF!)","v":0},{"$f":"IF(ISERROR((#REF!-#REF!)/#REF!),0,(#REF!-#REF!)/#REF!)","v":0},{"$f":"IF(ISERROR((#REF!-#REF!)/#REF!),0,(#REF!-#REF!)/#REF!)","v":0},{"$f":"IF(ISERROR((#REF!-#REF!)/#REF!),0,(#REF!-#REF!)/#REF!)","v":0},{"$f":"IF(ISERROR((#REF!-#REF!)/#REF!),0,(#REF!-#REF!)/#REF!)","v":0},{"$f":"IF(ISERROR((#REF!-#REF!)/#REF!),0,(#REF!-#REF!)/#REF!)","v":0},{"$f":"IF(ISERROR((#REF!-#REF!)/#REF!),0,(#REF!-#REF!)/#REF!)","v":0},{"$f":"IF(ISERROR((#REF!-#REF!)/#REF!),0,(#REF!-#REF!)/#REF!)","v":0}]
[null,"LB21Z","Major Open Prostate or Bladder Neck Procedures (Male)",0,4129,0,0,10,4813,27,200,"No","-",0,"","",{"$f":"IF(ISERROR((#REF!-#REF!)/#REF!),0,(#REF!-#REF!)/#REF!)","v":0},{"$f":"IF(ISERROR((#REF!-#REF!)/#REF!),0,(#REF!-#REF!)/#REF!)","v":0},{"$f":"IF(ISERROR((#REF!-#REF!)/#REF!),0,(#REF!-#REF!)/#REF!)","v":0},{"$f":"IF(ISERROR((#REF!-#REF!)/#REF!),0,(#REF!-#REF!)/#REF!)","v":0},{"$f":"IF(ISERROR((#REF!-#REF!)/#REF!),0,(#REF!-#REF!)/#REF!)","v":0},{"$f":"IF(ISERROR((#REF!-#REF!)/#REF!),0,(#REF!-#REF!)/#REF!)","v":0},{"$f":"IF(ISERROR((#REF!-#REF!)/#REF!),0,(#REF!-#REF!)/#REF!)","v":0},{"$f":"IF(ISERROR((#REF!-#REF!)/#REF!),0,(#REF!-#REF!)/#REF!)","v":0},{"$f":"IF(ISERROR((#REF!-#REF!)/#REF!),0,(#REF!-#REF!)/#REF!)","v":0},{"$f":"IF(ISERROR((#REF!-#REF!)/#REF!),0,(#REF!-#REF!)/#REF!)","v":0},{"$f":"IF(ISERROR((#REF!-#REF!)/#REF!),0,(#REF!-#REF!)/#REF!)","v":0},{"$f":"IF(ISERROR((#REF!-#REF!)/#REF!),0,(#REF!-#REF!)/#REF!)","v":0},{"$f":"IF(ISERROR((#REF!-#REF!)/#REF!),0,(#REF!-#REF!)/#REF!)","v":0}]
[null,"LB22Z","Major Laparoscopic Prostate or Bladder Neck Procedures (Male)",0,4340,0,0,5,4291,45,200,"No","-",0,"","",{"$f":"IF(ISERROR((#REF!-#REF!)/#REF!),0,(#REF!-#REF!)/#REF!)","v":0},{"$f":"IF(ISERROR((#REF!-#REF!)/#REF!),0,(#REF!-#REF!)/#REF!)","v":0},{"$f":"IF(ISERROR((#REF!-#REF!)/#REF!),0,(#REF!-#REF!)/#REF!)","v":0},{"$f":"IF(ISERROR((#REF!-#REF!)/#REF!),0,(#REF!-#REF!)/#REF!)","v":0},{"$f":"IF(ISERROR((#REF!-#REF!)/#REF!),0,(#REF!-#REF!)/#REF!)","v":0},{"$f":"IF(ISERROR((#REF!-#REF!)/#REF!),0,(#REF!-#REF!)/#REF!)","v":0},{"$f":"IF(ISERROR((#REF!-#REF!)/#REF!),0,(#REF!-#REF!)/#REF!)","v":0},{"$f":"IF(ISERROR((#REF!-#REF!)/#REF!),0,(#REF!-#REF!)/#REF!)","v":0},{"$f":"IF(ISERROR((#REF!-#REF!)/#REF!),0,(#REF!-#REF!)/#REF!)","v":0},{"$f":"IF(ISERROR((#REF!-#REF!)/#REF!),0,(#REF!-#REF!)/#REF!)","v":0},{"$f":"IF(ISERROR((#REF!-#REF!)/#REF!),0,(#REF!-#REF!)/#REF!)","v":0},{"$f":"IF(ISERROR((#REF!-#REF!)/#REF!),0,(#REF!-#REF!)/#REF!)","v":0},{"$f":"IF(ISERROR((#REF!-#REF!)/#REF!),0,(#REF!-#REF!)/#REF!)","v":0}]
[null,"LB25A","Transurethral Prostate Resection Procedures with Major CC",0,2692,0,0,12,6574,50,200,"No","-",0,"","",{"$f":"IF(ISERROR((#REF!-#REF!)/#REF!),0,(#REF!-#REF!)/#REF!)","v":0},{"$f":"IF(ISERROR((#REF!-#REF!)/#REF!),0,(#REF!-#REF!)/#REF!)","v":0},{"$f":"IF(ISERROR((#REF!-#REF!)/#REF!),0,(#REF!-#REF!)/#REF!)","v":0},{"$f":"IF(ISERROR((#REF!-#REF!)/#REF!),0,(#REF!-#REF!)/#REF!)","v":0},{"$f":"IF(ISERROR((#REF!-#REF!)/#REF!),0,(#REF!-#REF!)/#REF!)","v":0},{"$f":"IF(ISERROR((#REF!-#REF!)/#REF!),0,(#REF!-#REF!)/#REF!)","v":0},{"$f":"IF(ISERROR((#REF!-#REF!)/#REF!),0,(#REF!-#REF!)/#REF!)","v":0},{"$f":"IF(ISERROR((#REF!-#REF!)/#REF!),0,(#REF!-#REF!)/#REF!)","v":0},{"$f":"IF(ISERROR((#REF!-#REF!)/#REF!),0,(#REF!-#REF!)/#REF!)","v":0},{"$f":"IF(ISERROR((#REF!-#REF!)/#REF!),0,(#REF!-#REF!)/#REF!)","v":0},{"$f":"IF(ISERROR((#REF!-#REF!)/#REF!),0,(#REF!-#REF!)/#REF!)","v":0},{"$f":"IF(ISERROR((#REF!-#REF!)/#REF!),0,(#REF!-#REF!)/#REF!)","v":0},{"$f":"IF(ISERROR((#REF!-#REF!)/#REF!),0,(#REF!-#REF!)/#REF!)","v":0}]
[null,"LB25B","Transurethral Prostate Resection Procedures with Intermediate CC",0,0,1907,1703,5,3661,25,200,"No","-",0,1,"HRG",{"$f":"IF(ISERROR((#REF!-#REF!)/#REF!),0,(#REF!-#REF!)/#REF!)","v":0},{"$f":"IF(ISERROR((#REF!-#REF!)/#REF!),0,(#REF!-#REF!)/#REF!)","v":0},{"$f":"IF(ISERROR((#REF!-#REF!)/#REF!),0,(#REF!-#REF!)/#REF!)","v":0},{"$f":"IF(ISERROR((#REF!-#REF!)/#REF!),0,(#REF!-#REF!)/#REF!)","v":0},{"$f":"IF(ISERROR((#REF!-#REF!)/#REF!),0,(#REF!-#REF!)/#REF!)","v":0},{"$f":"IF(ISERROR((#REF!-#REF!)/#REF!),0,(#REF!-#REF!)/#REF!)","v":0},{"$f":"IF(ISERROR((#REF!-#REF!)/#REF!),0,(#REF!-#REF!)/#REF!)","v":0},{"$f":"IF(ISERROR((#REF!-#REF!)/#REF!),0,(#REF!-#REF!)/#REF!)","v":0},{"$f":"IF(ISERROR((#REF!-#REF!)/#REF!),0,(#REF!-#REF!)/#REF!)","v":0},{"$f":"IF(ISERROR((#REF!-#REF!)/#REF!),0,(#REF!-#REF!)/#REF!)","v":0},{"$f":"IF(ISERROR((#REF!-#REF!)/#REF!),0,(#REF!-#REF!)/#REF!)","v":0},{"$f":"IF(ISERROR((#REF!-#REF!)/#REF!),0,(#REF!-#REF!)/#REF!)","v":0},{"$f":"IF(ISERROR((#REF!-#REF!)/#REF!),0,(#REF!-#REF!)/#REF!)","v":0}]
[null,"LB25C","Transurethral Prostate Resection Procedures without CC",0,0,1821,1617,5,2836,15,200,"No","-",0,1,"HRG",{"$f":"IF(ISERROR((#REF!-#REF!)/#REF!),0,(#REF!-#REF!)/#REF!)","v":0},{"$f":"IF(ISERROR((#REF!-#REF!)/#REF!),0,(#REF!-#REF!)/#REF!)","v":0},{"$f":"IF(ISERROR((#REF!-#REF!)/#REF!),0,(#REF!-#REF!)/#REF!)","v":0},{"$f":"IF(ISERROR((#REF!-#REF!)/#REF!),0,(#REF!-#REF!)/#REF!)","v":0},{"$f":"IF(ISERROR((#REF!-#REF!)/#REF!),0,(#REF!-#REF!)/#REF!)","v":0},{"$f":"IF(ISERROR((#REF!-#REF!)/#REF!),0,(#REF!-#REF!)/#REF!)","v":0},{"$f":"IF(ISERROR((#REF!-#REF!)/#REF!),0,(#REF!-#REF!)/#REF!)","v":0},{"$f":"IF(ISERROR((#REF!-#REF!)/#REF!),0,(#REF!-#REF!)/#REF!)","v":0},{"$f":"IF(ISERROR((#REF!-#REF!)/#REF!),0,(#REF!-#REF!)/#REF!)","v":0},{"$f":"IF(ISERROR((#REF!-#REF!)/#REF!),0,(#REF!-#REF!)/#REF!)","v":0},{"$f":"IF(ISERROR((#REF!-#REF!)/#REF!),0,(#REF!-#REF!)/#REF!)","v":0},{"$f":"IF(ISERROR((#REF!-#REF!)/#REF!),0,(#REF!-#REF!)/#REF!)","v":0},{"$f":"IF(ISERROR((#REF!-#REF!)/#REF!),0,(#REF!-#REF!)/#REF!)","v":0}]
[null,"LB26Z","Intermediate Endoscopic Prostate or Bladder Neck Procedures (Male and Female)",0,1231,0,0,5,2522,20,200,"No","-",0,"","",{"$f":"IF(ISERROR((#REF!-#REF!)/#REF!),0,(#REF!-#REF!)/#REF!)","v":0},{"$f":"IF(ISERROR((#REF!-#REF!)/#REF!),0,(#REF!-#REF!)/#REF!)","v":0},{"$f":"IF(ISERROR((#REF!-#REF!)/#REF!),0,(#REF!-#REF!)/#REF!)","v":0},{"$f":"IF(ISERROR((#REF!-#REF!)/#REF!),0,(#REF!-#REF!)/#REF!)","v":0},{"$f":"IF(ISERROR((#REF!-#REF!)/#REF!),0,(#REF!-#REF!)/#REF!)","v":0},{"$f":"IF(ISERROR((#REF!-#REF!)/#REF!),0,(#REF!-#REF!)/#REF!)","v":0},{"$f":"IF(ISERROR((#REF!-#REF!)/#REF!),0,(#REF!-#REF!)/#REF!)","v":0},{"$f":"IF(ISERROR((#REF!-#REF!)/#REF!),0,(#REF!-#REF!)/#REF!)","v":0},{"$f":"IF(ISERROR((#REF!-#REF!)/#REF!),0,(#REF!-#REF!)/#REF!)","v":0},{"$f":"IF(ISERROR((#REF!-#REF!)/#REF!),0,(#REF!-#REF!)/#REF!)","v":0},{"$f":"IF(ISERROR((#REF!-#REF!)/#REF!),0,(#REF!-#REF!)/#REF!)","v":0},{"$f":"IF(ISERROR((#REF!-#REF!)/#REF!),0,(#REF!-#REF!)/#REF!)","v":0},{"$f":"IF(ISERROR((#REF!-#REF!)/#REF!),0,(#REF!-#REF!)/#REF!)","v":0}]
[null,"LB27Z","Minor Endoscopic Prostate or Bladder Neck Procedures (Male)",328,0,359,1087,5,569,5,200,"No","-",0,"","",{"$f":"IF(ISERROR((#REF!-#REF!)/#REF!),0,(#REF!-#REF!)/#REF!)","v":0},{"$f":"IF(ISERROR((#REF!-#REF!)/#REF!),0,(#REF!-#REF!)/#REF!)","v":0},{"$f":"IF(ISERROR((#REF!-#REF!)/#REF!),0,(#REF!-#REF!)/#REF!)","v":0},{"$f":"IF(ISERROR((#REF!-#REF!)/#REF!),0,(#REF!-#REF!)/#REF!)","v":0},{"$f":"IF(ISERROR((#REF!-#REF!)/#REF!),0,(#REF!-#REF!)/#REF!)","v":0},{"$f":"IF(ISERROR((#REF!-#REF!)/#REF!),0,(#REF!-#REF!)/#REF!)","v":0},{"$f":"IF(ISERROR((#REF!-#REF!)/#REF!),0,(#REF!-#REF!)/#REF!)","v":0},{"$f":"IF(ISERROR((#REF!-#REF!)/#REF!),0,(#REF!-#REF!)/#REF!)","v":0},{"$f":"IF(ISERROR((#REF!-#REF!)/#REF!),0,(#REF!-#REF!)/#REF!)","v":0},{"$f":"IF(ISERROR((#REF!-#REF!)/#REF!),0,(#REF!-#REF!)/#REF!)","v":0},{"$f":"IF(ISERROR((#REF!-#REF!)/#REF!),0,(#REF!-#REF!)/#REF!)","v":0},{"$f":"IF(ISERROR((#REF!-#REF!)/#REF!),0,(#REF!-#REF!)/#REF!)","v":0},{"$f":"IF(ISERROR((#REF!-#REF!)/#REF!),0,(#REF!-#REF!)/#REF!)","v":0}]
[null,"LB28A","Non-Malignant Prostate Disorders with CC",0,1040,0,0,8,1646,12,200,"Yes",0.30000000000000004,493.80000000000007,"","",{"$f":"IF(ISERROR((#REF!-#REF!)/#REF!),0,(#REF!-#REF!)/#REF!)","v":0},{"$f":"IF(ISERROR((#REF!-#REF!)/#REF!),0,(#REF!-#REF!)/#REF!)","v":0},{"$f":"IF(ISERROR((#REF!-#REF!)/#REF!),0,(#REF!-#REF!)/#REF!)","v":0},{"$f":"IF(ISERROR((#REF!-#REF!)/#REF!),0,(#REF!-#REF!)/#REF!)","v":0},{"$f":"IF(ISERROR((#REF!-#REF!)/#REF!),0,(#REF!-#REF!)/#REF!)","v":0},{"$f":"IF(ISERROR((#REF!-#REF!)/#REF!),0,(#REF!-#REF!)/#REF!)","v":0},{"$f":"IF(ISERROR((#REF!-#REF!)/#REF!),0,(#REF!-#REF!)/#REF!)","v":0},{"$f":"IF(ISERROR((#REF!-#REF!)/#REF!),0,(#REF!-#REF!)/#REF!)","v":0},{"$f":"IF(ISERROR((#REF!-#REF!)/#REF!),0,(#REF!-#REF!)/#REF!)","v":0},{"$f":"IF(ISERROR((#REF!-#REF!)/#REF!),0,(#REF!-#REF!)/#REF!)","v":0},{"$f":"IF(ISERROR((#REF!-#REF!)/#REF!),0,(#REF!-#REF!)/#REF!)","v":0},{"$f":"IF(ISERROR((#REF!-#REF!)/#REF!),0,(#REF!-#REF!)/#REF!)","v":0},{"$f":"IF(ISERROR((#REF!-#REF!)/#REF!),0,(#REF!-#REF!)/#REF!)","v":0}]
[null,"LB28B","Non-Malignant Prostate Disorders without CC",0,674,0,0,5,938,6,200,"Yes",0.65,609.70000000000005,"","",{"$f":"IF(ISERROR((#REF!-#REF!)/#REF!),0,(#REF!-#REF!)/#REF!)","v":0},{"$f":"IF(ISERROR((#REF!-#REF!)/#REF!),0,(#REF!-#REF!)/#REF!)","v":0},{"$f":"IF(ISERROR((#REF!-#REF!)/#REF!),0,(#REF!-#REF!)/#REF!)","v":0},{"$f":"IF(ISERROR((#REF!-#REF!)/#REF!),0,(#REF!-#REF!)/#REF!)","v":0},{"$f":"IF(ISERROR((#REF!-#REF!)/#REF!),0,(#REF!-#REF!)/#REF!)","v":0},{"$f":"IF(ISERROR((#REF!-#REF!)/#REF!),0,(#REF!-#REF!)/#REF!)","v":0},{"$f":"IF(ISERROR((#REF!-#REF!)/#REF!),0,(#REF!-#REF!)/#REF!)","v":0},{"$f":"IF(ISERROR((#REF!-#REF!)/#REF!),0,(#REF!-#REF!)/#REF!)","v":0},{"$f":"IF(ISERROR((#REF!-#REF!)/#REF!),0,(#REF!-#REF!)/#REF!)","v":0},{"$f":"IF(ISERROR((#REF!-#REF!)/#REF!),0,(#REF!-#REF!)/#REF!)","v":0},{"$f":"IF(ISERROR((#REF!-#REF!)/#REF!),0,(#REF!-#REF!)/#REF!)","v":0},{"$f":"IF(ISERROR((#REF!-#REF!)/#REF!),0,(#REF!-#REF!)/#REF!)","v":0},{"$f":"IF(ISERROR((#REF!-#REF!)/#REF!),0,(#REF!-#REF!)/#REF!)","v":0}]
[null,"LB29A","Major Open Urethra Procedures, 19 years and over",0,2901,0,0,6,2901,6,200,"No","-",0,"","",{"$f":"IF(ISERROR((#REF!-#REF!)/#REF!),0,(#REF!-#REF!)/#REF!)","v":0},{"$f":"IF(ISERROR((#REF!-#REF!)/#REF!),0,(#REF!-#REF!)/#REF!)","v":0},{"$f":"IF(ISERROR((#REF!-#REF!)/#REF!),0,(#REF!-#REF!)/#REF!)","v":0},{"$f":"IF(ISERROR((#REF!-#REF!)/#REF!),0,(#REF!-#REF!)/#REF!)","v":0},{"$f":"IF(ISERROR((#REF!-#REF!)/#REF!),0,(#REF!-#REF!)/#REF!)","v":0},{"$f":"IF(ISERROR((#REF!-#REF!)/#REF!),0,(#REF!-#REF!)/#REF!)","v":0},{"$f":"IF(ISERROR((#REF!-#REF!)/#REF!),0,(#REF!-#REF!)/#REF!)","v":0},{"$f":"IF(ISERROR((#REF!-#REF!)/#REF!),0,(#REF!-#REF!)/#REF!)","v":0},{"$f":"IF(ISERROR((#REF!-#REF!)/#REF!),0,(#REF!-#REF!)/#REF!)","v":0},{"$f":"IF(ISERROR((#REF!-#REF!)/#REF!),0,(#REF!-#REF!)/#REF!)","v":0},{"$f":"IF(ISERROR((#REF!-#REF!)/#REF!),0,(#REF!-#REF!)/#REF!)","v":0},{"$f":"IF(ISERROR((#REF!-#REF!)/#REF!),0,(#REF!-#REF!)/#REF!)","v":0},{"$f":"IF(ISERROR((#REF!-#REF!)/#REF!),0,(#REF!-#REF!)/#REF!)","v":0}]
[null,"LB29C","Major Open Urethra Procedures, between 2 and 18 years",0,2044,0,0,5,1172,6,369,"No","-",0,"","",{"$f":"IF(ISERROR((#REF!-#REF!)/#REF!),0,(#REF!-#REF!)/#REF!)","v":0},{"$f":"IF(ISERROR((#REF!-#REF!)/#REF!),0,(#REF!-#REF!)/#REF!)","v":0},{"$f":"IF(ISERROR((#REF!-#REF!)/#REF!),0,(#REF!-#REF!)/#REF!)","v":0},{"$f":"IF(ISERROR((#REF!-#REF!)/#REF!),0,(#REF!-#REF!)/#REF!)","v":0},{"$f":"IF(ISERROR((#REF!-#REF!)/#REF!),0,(#REF!-#REF!)/#REF!)","v":0},{"$f":"IF(ISERROR((#REF!-#REF!)/#REF!),0,(#REF!-#REF!)/#REF!)","v":0},{"$f":"IF(ISERROR((#REF!-#REF!)/#REF!),0,(#REF!-#REF!)/#REF!)","v":0},{"$f":"IF(ISERROR((#REF!-#REF!)/#REF!),0,(#REF!-#REF!)/#REF!)","v":0},{"$f":"IF(ISERROR((#REF!-#REF!)/#REF!),0,(#REF!-#REF!)/#REF!)","v":0},{"$f":"IF(ISERROR((#REF!-#REF!)/#REF!),0,(#REF!-#REF!)/#REF!)","v":0},{"$f":"IF(ISERROR((#REF!-#REF!)/#REF!),0,(#REF!-#REF!)/#REF!)","v":0},{"$f":"IF(ISERROR((#REF!-#REF!)/#REF!),0,(#REF!-#REF!)/#REF!)","v":0},{"$f":"IF(ISERROR((#REF!-#REF!)/#REF!),0,(#REF!-#REF!)/#REF!)","v":0}]
[null,"LB29D","Major Open Urethra Procedures, 1 year and under",0,1849,0,0,5,3999,23,369,"No","-",0,"","",{"$f":"IF(ISERROR((#REF!-#REF!)/#REF!),0,(#REF!-#REF!)/#REF!)","v":0},{"$f":"IF(ISERROR((#REF!-#REF!)/#REF!),0,(#REF!-#REF!)/#REF!)","v":0},{"$f":"IF(ISERROR((#REF!-#REF!)/#REF!),0,(#REF!-#REF!)/#REF!)","v":0},{"$f":"IF(ISERROR((#REF!-#REF!)/#REF!),0,(#REF!-#REF!)/#REF!)","v":0},{"$f":"IF(ISERROR((#REF!-#REF!)/#REF!),0,(#REF!-#REF!)/#REF!)","v":0},{"$f":"IF(ISERROR((#REF!-#REF!)/#REF!),0,(#REF!-#REF!)/#REF!)","v":0},{"$f":"IF(ISERROR((#REF!-#REF!)/#REF!),0,(#REF!-#REF!)/#REF!)","v":0},{"$f":"IF(ISERROR((#REF!-#REF!)/#REF!),0,(#REF!-#REF!)/#REF!)","v":0},{"$f":"IF(ISERROR((#REF!-#REF!)/#REF!),0,(#REF!-#REF!)/#REF!)","v":0},{"$f":"IF(ISERROR((#REF!-#REF!)/#REF!),0,(#REF!-#REF!)/#REF!)","v":0},{"$f":"IF(ISERROR((#REF!-#REF!)/#REF!),0,(#REF!-#REF!)/#REF!)","v":0},{"$f":"IF(ISERROR((#REF!-#REF!)/#REF!),0,(#REF!-#REF!)/#REF!)","v":0},{"$f":"IF(ISERROR((#REF!-#REF!)/#REF!),0,(#REF!-#REF!)/#REF!)","v":0}]
[null,"LB33Z","Vasectomy Procedures",0,634,0,0,5,572,5,200,"Yes",1,572,"","",{"$f":"IF(ISERROR((#REF!-#REF!)/#REF!),0,(#REF!-#REF!)/#REF!)","v":0},{"$f":"IF(ISERROR((#REF!-#REF!)/#REF!),0,(#REF!-#REF!)/#REF!)","v":0},{"$f":"IF(ISERROR((#REF!-#REF!)/#REF!),0,(#REF!-#REF!)/#REF!)","v":0},{"$f":"IF(ISERROR((#REF!-#REF!)/#REF!),0,(#REF!-#REF!)/#REF!)","v":0},{"$f":"IF(ISERROR((#REF!-#REF!)/#REF!),0,(#REF!-#REF!)/#REF!)","v":0},{"$f":"IF(ISERROR((#REF!-#REF!)/#REF!),0,(#REF!-#REF!)/#REF!)","v":0},{"$f":"IF(ISERROR((#REF!-#REF!)/#REF!),0,(#REF!-#REF!)/#REF!)","v":0},{"$f":"IF(ISERROR((#REF!-#REF!)/#REF!),0,(#REF!-#REF!)/#REF!)","v":0},{"$f":"IF(ISERROR((#REF!-#REF!)/#REF!),0,(#REF!-#REF!)/#REF!)","v":0},{"$f":"IF(ISERROR((#REF!-#REF!)/#REF!),0,(#REF!-#REF!)/#REF!)","v":0},{"$f":"IF(ISERROR((#REF!-#REF!)/#REF!),0,(#REF!-#REF!)/#REF!)","v":0},{"$f":"IF(ISERROR((#REF!-#REF!)/#REF!),0,(#REF!-#REF!)/#REF!)","v":0},{"$f":"IF(ISERROR((#REF!-#REF!)/#REF!),0,(#REF!-#REF!)/#REF!)","v":0}]
[null,"LB35A","Scrotum, Testis or Vas Deferens Disorders with CC",0,1484,0,0,9,1590,10,200,"Yes",0.4,636,"","",{"$f":"IF(ISERROR((#REF!-#REF!)/#REF!),0,(#REF!-#REF!)/#REF!)","v":0},{"$f":"IF(ISERROR((#REF!-#REF!)/#REF!),0,(#REF!-#REF!)/#REF!)","v":0},{"$f":"IF(ISERROR((#REF!-#REF!)/#REF!),0,(#REF!-#REF!)/#REF!)","v":0},{"$f":"IF(ISERROR((#REF!-#REF!)/#REF!),0,(#REF!-#REF!)/#REF!)","v":0},{"$f":"IF(ISERROR((#REF!-#REF!)/#REF!),0,(#REF!-#REF!)/#REF!)","v":0},{"$f":"IF(ISERROR((#REF!-#REF!)/#REF!),0,(#REF!-#REF!)/#REF!)","v":0},{"$f":"IF(ISERROR((#REF!-#REF!)/#REF!),0,(#REF!-#REF!)/#REF!)","v":0},{"$f":"IF(ISERROR((#REF!-#REF!)/#REF!),0,(#REF!-#REF!)/#REF!)","v":0},{"$f":"IF(ISERROR((#REF!-#REF!)/#REF!),0,(#REF!-#REF!)/#REF!)","v":0},{"$f":"IF(ISERROR((#REF!-#REF!)/#REF!),0,(#REF!-#REF!)/#REF!)","v":0},{"$f":"IF(ISERROR((#REF!-#REF!)/#REF!),0,(#REF!-#REF!)/#REF!)","v":0},{"$f":"IF(ISERROR((#REF!-#REF!)/#REF!),0,(#REF!-#REF!)/#REF!)","v":0},{"$f":"IF(ISERROR((#REF!-#REF!)/#REF!),0,(#REF!-#REF!)/#REF!)","v":0}]
[null,"LB35B","Scrotum, Testis or Vas Deferens Disorders without CC",0,952,0,0,8,538,5,200,"Yes",1,538,"","",{"$f":"IF(ISERROR((#REF!-#REF!)/#REF!),0,(#REF!-#REF!)/#REF!)","v":0},{"$f":"IF(ISERROR((#REF!-#REF!)/#REF!),0,(#REF!-#REF!)/#REF!)","v":0},{"$f":"IF(ISERROR((#REF!-#REF!)/#REF!),0,(#REF!-#REF!)/#REF!)","v":0},{"$f":"IF(ISERROR((#REF!-#REF!)/#REF!),0,(#REF!-#REF!)/#REF!)","v":0},{"$f":"IF(ISERROR((#REF!-#REF!)/#REF!),0,(#REF!-#REF!)/#REF!)","v":0},{"$f":"IF(ISERROR((#REF!-#REF!)/#REF!),0,(#REF!-#REF!)/#REF!)","v":0},{"$f":"IF(ISERROR((#REF!-#REF!)/#REF!),0,(#REF!-#REF!)/#REF!)","v":0},{"$f":"IF(ISERROR((#REF!-#REF!)/#REF!),0,(#REF!-#REF!)/#REF!)","v":0},{"$f":"IF(ISERROR((#REF!-#REF!)/#REF!),0,(#REF!-#REF!)/#REF!)","v":0},{"$f":"IF(ISERROR((#REF!-#REF!)/#REF!),0,(#REF!-#REF!)/#REF!)","v":0},{"$f":"IF(ISERROR((#REF!-#REF!)/#REF!),0,(#REF!-#REF!)/#REF!)","v":0},{"$f":"IF(ISERROR((#REF!-#REF!)/#REF!),0,(#REF!-#REF!)/#REF!)","v":0},{"$f":"IF(ISERROR((#REF!-#REF!)/#REF!),0,(#REF!-#REF!)/#REF!)","v":0}]
[null,"LB36Z","Extracorporeal Lithotripsy",0,423,0,0,5,574,5,200,"No","-",0,"","",{"$f":"IF(ISERROR((#REF!-#REF!)/#REF!),0,(#REF!-#REF!)/#REF!)","v":0},{"$f":"IF(ISERROR((#REF!-#REF!)/#REF!),0,(#REF!-#REF!)/#REF!)","v":0},{"$f":"IF(ISERROR((#REF!-#REF!)/#REF!),0,(#REF!-#REF!)/#REF!)","v":0},{"$f":"IF(ISERROR((#REF!-#REF!)/#REF!),0,(#REF!-#REF!)/#REF!)","v":0},{"$f":"IF(ISERROR((#REF!-#REF!)/#REF!),0,(#REF!-#REF!)/#REF!)","v":0},{"$f":"IF(ISERROR((#REF!-#REF!)/#REF!),0,(#REF!-#REF!)/#REF!)","v":0},{"$f":"IF(ISERROR((#REF!-#REF!)/#REF!),0,(#REF!-#REF!)/#REF!)","v":0},{"$f":"IF(ISERROR((#REF!-#REF!)/#REF!),0,(#REF!-#REF!)/#REF!)","v":0},{"$f":"IF(ISERROR((#REF!-#REF!)/#REF!),0,(#REF!-#REF!)/#REF!)","v":0},{"$f":"IF(ISERROR((#REF!-#REF!)/#REF!),0,(#REF!-#REF!)/#REF!)","v":0},{"$f":"IF(ISERROR((#REF!-#REF!)/#REF!),0,(#REF!-#REF!)/#REF!)","v":0},{"$f":"IF(ISERROR((#REF!-#REF!)/#REF!),0,(#REF!-#REF!)/#REF!)","v":0},{"$f":"IF(ISERROR((#REF!-#REF!)/#REF!),0,(#REF!-#REF!)/#REF!)","v":0}]
[null,"LB37A","Miscellaneous Urinary Tract Findings with CC",0,772,0,0,5,1395,8,200,"Yes",0.4,558,"","",{"$f":"IF(ISERROR((#REF!-#REF!)/#REF!),0,(#REF!-#REF!)/#REF!)","v":0},{"$f":"IF(ISERROR((#REF!-#REF!)/#REF!),0,(#REF!-#REF!)/#REF!)","v":0},{"$f":"IF(ISERROR((#REF!-#REF!)/#REF!),0,(#REF!-#REF!)/#REF!)","v":0},{"$f":"IF(ISERROR((#REF!-#REF!)/#REF!),0,(#REF!-#REF!)/#REF!)","v":0},{"$f":"IF(ISERROR((#REF!-#REF!)/#REF!),0,(#REF!-#REF!)/#REF!)","v":0},{"$f":"IF(ISERROR((#REF!-#REF!)/#REF!),0,(#REF!-#REF!)/#REF!)","v":0},{"$f":"IF(ISERROR((#REF!-#REF!)/#REF!),0,(#REF!-#REF!)/#REF!)","v":0},{"$f":"IF(ISERROR((#REF!-#REF!)/#REF!),0,(#REF!-#REF!)/#REF!)","v":0},{"$f":"IF(ISERROR((#REF!-#REF!)/#REF!),0,(#REF!-#REF!)/#REF!)","v":0},{"$f":"IF(ISERROR((#REF!-#REF!)/#REF!),0,(#REF!-#REF!)/#REF!)","v":0},{"$f":"IF(ISERROR((#REF!-#REF!)/#REF!),0,(#REF!-#REF!)/#REF!)","v":0},{"$f":"IF(ISERROR((#REF!-#REF!)/#REF!),0,(#REF!-#REF!)/#REF!)","v":0},{"$f":"IF(ISERROR((#REF!-#REF!)/#REF!),0,(#REF!-#REF!)/#REF!)","v":0}]
[null,"LB37B","Miscellaneous Urinary Tract Findings without CC",0,342,0,0,5,512,5,200,"Yes",1,512,"","",{"$f":"IF(ISERROR((#REF!-#REF!)/#REF!),0,(#REF!-#REF!)/#REF!)","v":0},{"$f":"IF(ISERROR((#REF!-#REF!)/#REF!),0,(#REF!-#REF!)/#REF!)","v":0},{"$f":"IF(ISERROR((#REF!-#REF!)/#REF!),0,(#REF!-#REF!)/#REF!)","v":0},{"$f":"IF(ISERROR((#REF!-#REF!)/#REF!),0,(#REF!-#REF!)/#REF!)","v":0},{"$f":"IF(ISERROR((#REF!-#REF!)/#REF!),0,(#REF!-#REF!)/#REF!)","v":0},{"$f":"IF(ISERROR((#REF!-#REF!)/#REF!),0,(#REF!-#REF!)/#REF!)","v":0},{"$f":"IF(ISERROR((#REF!-#REF!)/#REF!),0,(#REF!-#REF!)/#REF!)","v":0},{"$f":"IF(ISERROR((#REF!-#REF!)/#REF!),0,(#REF!-#REF!)/#REF!)","v":0},{"$f":"IF(ISERROR((#REF!-#REF!)/#REF!),0,(#REF!-#REF!)/#REF!)","v":0},{"$f":"IF(ISERROR((#REF!-#REF!)/#REF!),0,(#REF!-#REF!)/#REF!)","v":0},{"$f":"IF(ISERROR((#REF!-#REF!)/#REF!),0,(#REF!-#REF!)/#REF!)","v":0},{"$f":"IF(ISERROR((#REF!-#REF!)/#REF!),0,(#REF!-#REF!)/#REF!)","v":0},{"$f":"IF(ISERROR((#REF!-#REF!)/#REF!),0,(#REF!-#REF!)/#REF!)","v":0}]
[null,"LB38A","Unspecified Haematuria with Major CC",0,1939,0,0,18,2245,20,200,"Yes",0.30000000000000004,673.50000000000011,"","",{"$f":"IF(ISERROR((#REF!-#REF!)/#REF!),0,(#REF!-#REF!)/#REF!)","v":0},{"$f":"IF(ISERROR((#REF!-#REF!)/#REF!),0,(#REF!-#REF!)/#REF!)","v":0},{"$f":"IF(ISERROR((#REF!-#REF!)/#REF!),0,(#REF!-#REF!)/#REF!)","v":0},{"$f":"IF(ISERROR((#REF!-#REF!)/#REF!),0,(#REF!-#REF!)/#REF!)","v":0},{"$f":"IF(ISERROR((#REF!-#REF!)/#REF!),0,(#REF!-#REF!)/#REF!)","v":0},{"$f":"IF(ISERROR((#REF!-#REF!)/#REF!),0,(#REF!-#REF!)/#REF!)","v":0},{"$f":"IF(ISERROR((#REF!-#REF!)/#REF!),0,(#REF!-#REF!)/#REF!)","v":0},{"$f":"IF(ISERROR((#REF!-#REF!)/#REF!),0,(#REF!-#REF!)/#REF!)","v":0},{"$f":"IF(ISERROR((#REF!-#REF!)/#REF!),0,(#REF!-#REF!)/#REF!)","v":0},{"$f":"IF(ISERROR((#REF!-#REF!)/#REF!),0,(#REF!-#REF!)/#REF!)","v":0},{"$f":"IF(ISERROR((#REF!-#REF!)/#REF!),0,(#REF!-#REF!)/#REF!)","v":0},{"$f":"IF(ISERROR((#REF!-#REF!)/#REF!),0,(#REF!-#REF!)/#REF!)","v":0},{"$f":"IF(ISERROR((#REF!-#REF!)/#REF!),0,(#REF!-#REF!)/#REF!)","v":0}]
[null,"LB38B","Unspecified Haematuria without Major CC",0,711,0,0,5,1319,10,200,"Yes",0.4,527.6,"","",{"$f":"IF(ISERROR((#REF!-#REF!)/#REF!),0,(#REF!-#REF!)/#REF!)","v":0},{"$f":"IF(ISERROR((#REF!-#REF!)/#REF!),0,(#REF!-#REF!)/#REF!)","v":0},{"$f":"IF(ISERROR((#REF!-#REF!)/#REF!),0,(#REF!-#REF!)/#REF!)","v":0},{"$f":"IF(ISERROR((#REF!-#REF!)/#REF!),0,(#REF!-#REF!)/#REF!)","v":0},{"$f":"IF(ISERROR((#REF!-#REF!)/#REF!),0,(#REF!-#REF!)/#REF!)","v":0},{"$f":"IF(ISERROR((#REF!-#REF!)/#REF!),0,(#REF!-#REF!)/#REF!)","v":0},{"$f":"IF(ISERROR((#REF!-#REF!)/#REF!),0,(#REF!-#REF!)/#REF!)","v":0},{"$f":"IF(ISERROR((#REF!-#REF!)/#REF!),0,(#REF!-#REF!)/#REF!)","v":0},{"$f":"IF(ISERROR((#REF!-#REF!)/#REF!),0,(#REF!-#REF!)/#REF!)","v":0},{"$f":"IF(ISERROR((#REF!-#REF!)/#REF!),0,(#REF!-#REF!)/#REF!)","v":0},{"$f":"IF(ISERROR((#REF!-#REF!)/#REF!),0,(#REF!-#REF!)/#REF!)","v":0},{"$f":"IF(ISERROR((#REF!-#REF!)/#REF!),0,(#REF!-#REF!)/#REF!)","v":0},{"$f":"IF(ISERROR((#REF!-#REF!)/#REF!),0,(#REF!-#REF!)/#REF!)","v":0}]
[null,"LB39A","Cystectomy with Urinary Diversion and Reconstruction, with CC",0,8910,0,0,28,8409,50,200,"No","-",0,"","",{"$f":"IF(ISERROR((#REF!-#REF!)/#REF!),0,(#REF!-#REF!)/#REF!)","v":0},{"$f":"IF(ISERROR((#REF!-#REF!)/#REF!),0,(#REF!-#REF!)/#REF!)","v":0},{"$f":"IF(ISERROR((#REF!-#REF!)/#REF!),0,(#REF!-#REF!)/#REF!)","v":0},{"$f":"IF(ISERROR((#REF!-#REF!)/#REF!),0,(#REF!-#REF!)/#REF!)","v":0},{"$f":"IF(ISERROR((#REF!-#REF!)/#REF!),0,(#REF!-#REF!)/#REF!)","v":0},{"$f":"IF(ISERROR((#REF!-#REF!)/#REF!),0,(#REF!-#REF!)/#REF!)","v":0},{"$f":"IF(ISERROR((#REF!-#REF!)/#REF!),0,(#REF!-#REF!)/#REF!)","v":0},{"$f":"IF(ISERROR((#REF!-#REF!)/#REF!),0,(#REF!-#REF!)/#REF!)","v":0},{"$f":"IF(ISERROR((#REF!-#REF!)/#REF!),0,(#REF!-#REF!)/#REF!)","v":0},{"$f":"IF(ISERROR((#REF!-#REF!)/#REF!),0,(#REF!-#REF!)/#REF!)","v":0},{"$f":"IF(ISERROR((#REF!-#REF!)/#REF!),0,(#REF!-#REF!)/#REF!)","v":0},{"$f":"IF(ISERROR((#REF!-#REF!)/#REF!),0,(#REF!-#REF!)/#REF!)","v":0},{"$f":"IF(ISERROR((#REF!-#REF!)/#REF!),0,(#REF!-#REF!)/#REF!)","v":0}]
[null,"LB39B","Cystectomy with Urinary Diversion and Reconstruction, without CC",0,7208,0,0,21,4675,25,200,"No","-",0,"","",{"$f":"IF(ISERROR((#REF!-#REF!)/#REF!),0,(#REF!-#REF!)/#REF!)","v":0},{"$f":"IF(ISERROR((#REF!-#REF!)/#REF!),0,(#REF!-#REF!)/#REF!)","v":0},{"$f":"IF(ISERROR((#REF!-#REF!)/#REF!),0,(#REF!-#REF!)/#REF!)","v":0},{"$f":"IF(ISERROR((#REF!-#REF!)/#REF!),0,(#REF!-#REF!)/#REF!)","v":0},{"$f":"IF(ISERROR((#REF!-#REF!)/#REF!),0,(#REF!-#REF!)/#REF!)","v":0},{"$f":"IF(ISERROR((#REF!-#REF!)/#REF!),0,(#REF!-#REF!)/#REF!)","v":0},{"$f":"IF(ISERROR((#REF!-#REF!)/#REF!),0,(#REF!-#REF!)/#REF!)","v":0},{"$f":"IF(ISERROR((#REF!-#REF!)/#REF!),0,(#REF!-#REF!)/#REF!)","v":0},{"$f":"IF(ISERROR((#REF!-#REF!)/#REF!),0,(#REF!-#REF!)/#REF!)","v":0},{"$f":"IF(ISERROR((#REF!-#REF!)/#REF!),0,(#REF!-#REF!)/#REF!)","v":0},{"$f":"IF(ISERROR((#REF!-#REF!)/#REF!),0,(#REF!-#REF!)/#REF!)","v":0},{"$f":"IF(ISERROR((#REF!-#REF!)/#REF!),0,(#REF!-#REF!)/#REF!)","v":0},{"$f":"IF(ISERROR((#REF!-#REF!)/#REF!),0,(#REF!-#REF!)/#REF!)","v":0}]
[null,"LB40A","Urinary Tract Stone Disease with CC",0,1466,0,0,8,781,6,200,"No","-",0,1,"HRG",{"$f":"IF(ISERROR((#REF!-#REF!)/#REF!),0,(#REF!-#REF!)/#REF!)","v":0},{"$f":"IF(ISERROR((#REF!-#REF!)/#REF!),0,(#REF!-#REF!)/#REF!)","v":0},{"$f":"IF(ISERROR((#REF!-#REF!)/#REF!),0,(#REF!-#REF!)/#REF!)","v":0},{"$f":"IF(ISERROR((#REF!-#REF!)/#REF!),0,(#REF!-#REF!)/#REF!)","v":0},{"$f":"IF(ISERROR((#REF!-#REF!)/#REF!),0,(#REF!-#REF!)/#REF!)","v":0},{"$f":"IF(ISERROR((#REF!-#REF!)/#REF!),0,(#REF!-#REF!)/#REF!)","v":0},{"$f":"IF(ISERROR((#REF!-#REF!)/#REF!),0,(#REF!-#REF!)/#REF!)","v":0},{"$f":"IF(ISERROR((#REF!-#REF!)/#REF!),0,(#REF!-#REF!)/#REF!)","v":0},{"$f":"IF(ISERROR((#REF!-#REF!)/#REF!),0,(#REF!-#REF!)/#REF!)","v":0},{"$f":"IF(ISERROR((#REF!-#REF!)/#REF!),0,(#REF!-#REF!)/#REF!)","v":0},{"$f":"IF(ISERROR((#REF!-#REF!)/#REF!),0,(#REF!-#REF!)/#REF!)","v":0},{"$f":"IF(ISERROR((#REF!-#REF!)/#REF!),0,(#REF!-#REF!)/#REF!)","v":0},{"$f":"IF(ISERROR((#REF!-#REF!)/#REF!),0,(#REF!-#REF!)/#REF!)","v":0}]
[null,"LB40B","Urinary Tract Stone Disease without CC",0,828,0,0,5,464,5,200,"No","-",0,1,"HRG",{"$f":"IF(ISERROR((#REF!-#REF!)/#REF!),0,(#REF!-#REF!)/#REF!)","v":0},{"$f":"IF(ISERROR((#REF!-#REF!)/#REF!),0,(#REF!-#REF!)/#REF!)","v":0},{"$f":"IF(ISERROR((#REF!-#REF!)/#REF!),0,(#REF!-#REF!)/#REF!)","v":0},{"$f":"IF(ISERROR((#REF!-#REF!)/#REF!),0,(#REF!-#REF!)/#REF!)","v":0},{"$f":"IF(ISERROR((#REF!-#REF!)/#REF!),0,(#REF!-#REF!)/#REF!)","v":0},{"$f":"IF(ISERROR((#REF!-#REF!)/#REF!),0,(#REF!-#REF!)/#REF!)","v":0},{"$f":"IF(ISERROR((#REF!-#REF!)/#REF!),0,(#REF!-#REF!)/#REF!)","v":0},{"$f":"IF(ISERROR((#REF!-#REF!)/#REF!),0,(#REF!-#REF!)/#REF!)","v":0},{"$f":"IF(ISERROR((#REF!-#REF!)/#REF!),0,(#REF!-#REF!)/#REF!)","v":0},{"$f":"IF(ISERROR((#REF!-#REF!)/#REF!),0,(#REF!-#REF!)/#REF!)","v":0},{"$f":"IF(ISERROR((#REF!-#REF!)/#REF!),0,(#REF!-#REF!)/#REF!)","v":0},{"$f":"IF(ISERROR((#REF!-#REF!)/#REF!),0,(#REF!-#REF!)/#REF!)","v":0},{"$f":"IF(ISERROR((#REF!-#REF!)/#REF!),0,(#REF!-#REF!)/#REF!)","v":0}]
[null,"LB42A","Dynamic Studies of Urinary Tract, 19 years and over",257,276,0,0,5,473,5,200,"No","-",0,"","",{"$f":"IF(ISERROR((#REF!-#REF!)/#REF!),0,(#REF!-#REF!)/#REF!)","v":0},{"$f":"IF(ISERROR((#REF!-#REF!)/#REF!),0,(#REF!-#REF!)/#REF!)","v":0},{"$f":"IF(ISERROR((#REF!-#REF!)/#REF!),0,(#REF!-#REF!)/#REF!)","v":0},{"$f":"IF(ISERROR((#REF!-#REF!)/#REF!),0,(#REF!-#REF!)/#REF!)","v":0},{"$f":"IF(ISERROR((#REF!-#REF!)/#REF!),0,(#REF!-#REF!)/#REF!)","v":0},{"$f":"IF(ISERROR((#REF!-#REF!)/#REF!),0,(#REF!-#REF!)/#REF!)","v":0},{"$f":"IF(ISERROR((#REF!-#REF!)/#REF!),0,(#REF!-#REF!)/#REF!)","v":0},{"$f":"IF(ISERROR((#REF!-#REF!)/#REF!),0,(#REF!-#REF!)/#REF!)","v":0},{"$f":"IF(ISERROR((#REF!-#REF!)/#REF!),0,(#REF!-#REF!)/#REF!)","v":0},{"$f":"IF(ISERROR((#REF!-#REF!)/#REF!),0,(#REF!-#REF!)/#REF!)","v":0},{"$f":"IF(ISERROR((#REF!-#REF!)/#REF!),0,(#REF!-#REF!)/#REF!)","v":0},{"$f":"IF(ISERROR((#REF!-#REF!)/#REF!),0,(#REF!-#REF!)/#REF!)","v":0},{"$f":"IF(ISERROR((#REF!-#REF!)/#REF!),0,(#REF!-#REF!)/#REF!)","v":0}]
[null,"LB42B","Dynamic Studies of Urinary Tract, between 2 and 18 years",0,418,0,0,5,892,5,369,"No","-",0,"","",{"$f":"IF(ISERROR((#REF!-#REF!)/#REF!),0,(#REF!-#REF!)/#REF!)","v":0},{"$f":"IF(ISERROR((#REF!-#REF!)/#REF!),0,(#REF!-#REF!)/#REF!)","v":0},{"$f":"IF(ISERROR((#REF!-#REF!)/#REF!),0,(#REF!-#REF!)/#REF!)","v":0},{"$f":"IF(ISERROR((#REF!-#REF!)/#REF!),0,(#REF!-#REF!)/#REF!)","v":0},{"$f":"IF(ISERROR((#REF!-#REF!)/#REF!),0,(#REF!-#REF!)/#REF!)","v":0},{"$f":"IF(ISERROR((#REF!-#REF!)/#REF!),0,(#REF!-#REF!)/#REF!)","v":0},{"$f":"IF(ISERROR((#REF!-#REF!)/#REF!),0,(#REF!-#REF!)/#REF!)","v":0},{"$f":"IF(ISERROR((#REF!-#REF!)/#REF!),0,(#REF!-#REF!)/#REF!)","v":0},{"$f":"IF(ISERROR((#REF!-#REF!)/#REF!),0,(#REF!-#REF!)/#REF!)","v":0},{"$f":"IF(ISERROR((#REF!-#REF!)/#REF!),0,(#REF!-#REF!)/#REF!)","v":0},{"$f":"IF(ISERROR((#REF!-#REF!)/#REF!),0,(#REF!-#REF!)/#REF!)","v":0},{"$f":"IF(ISERROR((#REF!-#REF!)/#REF!),0,(#REF!-#REF!)/#REF!)","v":0},{"$f":"IF(ISERROR((#REF!-#REF!)/#REF!),0,(#REF!-#REF!)/#REF!)","v":0}]
[null,"LB42C","Dynamic Studies of Urinary Tract, 1 year and under",0,397,0,0,5,903,5,369,"No","-",0,"","",{"$f":"IF(ISERROR((#REF!-#REF!)/#REF!),0,(#REF!-#REF!)/#REF!)","v":0},{"$f":"IF(ISERROR((#REF!-#REF!)/#REF!),0,(#REF!-#REF!)/#REF!)","v":0},{"$f":"IF(ISERROR((#REF!-#REF!)/#REF!),0,(#REF!-#REF!)/#REF!)","v":0},{"$f":"IF(ISERROR((#REF!-#REF!)/#REF!),0,(#REF!-#REF!)/#REF!)","v":0},{"$f":"IF(ISERROR((#REF!-#REF!)/#REF!),0,(#REF!-#REF!)/#REF!)","v":0},{"$f":"IF(ISERROR((#REF!-#REF!)/#REF!),0,(#REF!-#REF!)/#REF!)","v":0},{"$f":"IF(ISERROR((#REF!-#REF!)/#REF!),0,(#REF!-#REF!)/#REF!)","v":0},{"$f":"IF(ISERROR((#REF!-#REF!)/#REF!),0,(#REF!-#REF!)/#REF!)","v":0},{"$f":"IF(ISERROR((#REF!-#REF!)/#REF!),0,(#REF!-#REF!)/#REF!)","v":0},{"$f":"IF(ISERROR((#REF!-#REF!)/#REF!),0,(#REF!-#REF!)/#REF!)","v":0},{"$f":"IF(ISERROR((#REF!-#REF!)/#REF!),0,(#REF!-#REF!)/#REF!)","v":0},{"$f":"IF(ISERROR((#REF!-#REF!)/#REF!),0,(#REF!-#REF!)/#REF!)","v":0},{"$f":"IF(ISERROR((#REF!-#REF!)/#REF!),0,(#REF!-#REF!)/#REF!)","v":0}]
[null,"LB43Z","Treatment of Erectile Dysfunction",0,312,0,0,5,555,5,200,"No","-",0,"","",{"$f":"IF(ISERROR((#REF!-#REF!)/#REF!),0,(#REF!-#REF!)/#REF!)","v":0},{"$f":"IF(ISERROR((#REF!-#REF!)/#REF!),0,(#REF!-#REF!)/#REF!)","v":0},{"$f":"IF(ISERROR((#REF!-#REF!)/#REF!),0,(#REF!-#REF!)/#REF!)","v":0},{"$f":"IF(ISERROR((#REF!-#REF!)/#REF!),0,(#REF!-#REF!)/#REF!)","v":0},{"$f":"IF(ISERROR((#REF!-#REF!)/#REF!),0,(#REF!-#REF!)/#REF!)","v":0},{"$f":"IF(ISERROR((#REF!-#REF!)/#REF!),0,(#REF!-#REF!)/#REF!)","v":0},{"$f":"IF(ISERROR((#REF!-#REF!)/#REF!),0,(#REF!-#REF!)/#REF!)","v":0},{"$f":"IF(ISERROR((#REF!-#REF!)/#REF!),0,(#REF!-#REF!)/#REF!)","v":0},{"$f":"IF(ISERROR((#REF!-#REF!)/#REF!),0,(#REF!-#REF!)/#REF!)","v":0},{"$f":"IF(ISERROR((#REF!-#REF!)/#REF!),0,(#REF!-#REF!)/#REF!)","v":0},{"$f":"IF(ISERROR((#REF!-#REF!)/#REF!),0,(#REF!-#REF!)/#REF!)","v":0},{"$f":"IF(ISERROR((#REF!-#REF!)/#REF!),0,(#REF!-#REF!)/#REF!)","v":0},{"$f":"IF(ISERROR((#REF!-#REF!)/#REF!),0,(#REF!-#REF!)/#REF!)","v":0}]
[null,"LB47Z","Major Open Penis Procedures",0,3728,0,0,11,2688,6,200,"No","-",0,"","",{"$f":"IF(ISERROR((#REF!-#REF!)/#REF!),0,(#REF!-#REF!)/#REF!)","v":0},{"$f":"IF(ISERROR((#REF!-#REF!)/#REF!),0,(#REF!-#REF!)/#REF!)","v":0},{"$f":"IF(ISERROR((#REF!-#REF!)/#REF!),0,(#REF!-#REF!)/#REF!)","v":0},{"$f":"IF(ISERROR((#REF!-#REF!)/#REF!),0,(#REF!-#REF!)/#REF!)","v":0},{"$f":"IF(ISERROR((#REF!-#REF!)/#REF!),0,(#REF!-#REF!)/#REF!)","v":0},{"$f":"IF(ISERROR((#REF!-#REF!)/#REF!),0,(#REF!-#REF!)/#REF!)","v":0},{"$f":"IF(ISERROR((#REF!-#REF!)/#REF!),0,(#REF!-#REF!)/#REF!)","v":0},{"$f":"IF(ISERROR((#REF!-#REF!)/#REF!),0,(#REF!-#REF!)/#REF!)","v":0},{"$f":"IF(ISERROR((#REF!-#REF!)/#REF!),0,(#REF!-#REF!)/#REF!)","v":0},{"$f":"IF(ISERROR((#REF!-#REF!)/#REF!),0,(#REF!-#REF!)/#REF!)","v":0},{"$f":"IF(ISERROR((#REF!-#REF!)/#REF!),0,(#REF!-#REF!)/#REF!)","v":0},{"$f":"IF(ISERROR((#REF!-#REF!)/#REF!),0,(#REF!-#REF!)/#REF!)","v":0},{"$f":"IF(ISERROR((#REF!-#REF!)/#REF!),0,(#REF!-#REF!)/#REF!)","v":0}]
[null,"LB48Z","Intermediate Open Penis Procedures",0,1850,0,0,5,2854,16,200,"No","-",0,"","",{"$f":"IF(ISERROR((#REF!-#REF!)/#REF!),0,(#REF!-#REF!)/#REF!)","v":0},{"$f":"IF(ISERROR((#REF!-#REF!)/#REF!),0,(#REF!-#REF!)/#REF!)","v":0},{"$f":"IF(ISERROR((#REF!-#REF!)/#REF!),0,(#REF!-#REF!)/#REF!)","v":0},{"$f":"IF(ISERROR((#REF!-#REF!)/#REF!),0,(#REF!-#REF!)/#REF!)","v":0},{"$f":"IF(ISERROR((#REF!-#REF!)/#REF!),0,(#REF!-#REF!)/#REF!)","v":0},{"$f":"IF(ISERROR((#REF!-#REF!)/#REF!),0,(#REF!-#REF!)/#REF!)","v":0},{"$f":"IF(ISERROR((#REF!-#REF!)/#REF!),0,(#REF!-#REF!)/#REF!)","v":0},{"$f":"IF(ISERROR((#REF!-#REF!)/#REF!),0,(#REF!-#REF!)/#REF!)","v":0},{"$f":"IF(ISERROR((#REF!-#REF!)/#REF!),0,(#REF!-#REF!)/#REF!)","v":0},{"$f":"IF(ISERROR((#REF!-#REF!)/#REF!),0,(#REF!-#REF!)/#REF!)","v":0},{"$f":"IF(ISERROR((#REF!-#REF!)/#REF!),0,(#REF!-#REF!)/#REF!)","v":0},{"$f":"IF(ISERROR((#REF!-#REF!)/#REF!),0,(#REF!-#REF!)/#REF!)","v":0},{"$f":"IF(ISERROR((#REF!-#REF!)/#REF!),0,(#REF!-#REF!)/#REF!)","v":0}]
[null,"LB49Z","High Intensity Focused Ultrasound (Male and Female)",0,1669,0,0,5,2326,45,200,"No","-",0,"","",{"$f":"IF(ISERROR((#REF!-#REF!)/#REF!),0,(#REF!-#REF!)/#REF!)","v":0},{"$f":"IF(ISERROR((#REF!-#REF!)/#REF!),0,(#REF!-#REF!)/#REF!)","v":0},{"$f":"IF(ISERROR((#REF!-#REF!)/#REF!),0,(#REF!-#REF!)/#REF!)","v":0},{"$f":"IF(ISERROR((#REF!-#REF!)/#REF!),0,(#REF!-#REF!)/#REF!)","v":0},{"$f":"IF(ISERROR((#REF!-#REF!)/#REF!),0,(#REF!-#REF!)/#REF!)","v":0},{"$f":"IF(ISERROR((#REF!-#REF!)/#REF!),0,(#REF!-#REF!)/#REF!)","v":0},{"$f":"IF(ISERROR((#REF!-#REF!)/#REF!),0,(#REF!-#REF!)/#REF!)","v":0},{"$f":"IF(ISERROR((#REF!-#REF!)/#REF!),0,(#REF!-#REF!)/#REF!)","v":0},{"$f":"IF(ISERROR((#REF!-#REF!)/#REF!),0,(#REF!-#REF!)/#REF!)","v":0},{"$f":"IF(ISERROR((#REF!-#REF!)/#REF!),0,(#REF!-#REF!)/#REF!)","v":0},{"$f":"IF(ISERROR((#REF!-#REF!)/#REF!),0,(#REF!-#REF!)/#REF!)","v":0},{"$f":"IF(ISERROR((#REF!-#REF!)/#REF!),0,(#REF!-#REF!)/#REF!)","v":0},{"$f":"IF(ISERROR((#REF!-#REF!)/#REF!),0,(#REF!-#REF!)/#REF!)","v":0}]
[null,"LB50Z","Implantation of Artificial Urinary Sphincter (Male and Female)",0,8180,0,0,5,8180,20,200,"No","-",0,"","",{"$f":"IF(ISERROR((#REF!-#REF!)/#REF!),0,(#REF!-#REF!)/#REF!)","v":0},{"$f":"IF(ISERROR((#REF!-#REF!)/#REF!),0,(#REF!-#REF!)/#REF!)","v":0},{"$f":"IF(ISERROR((#REF!-#REF!)/#REF!),0,(#REF!-#REF!)/#REF!)","v":0},{"$f":"IF(ISERROR((#REF!-#REF!)/#REF!),0,(#REF!-#REF!)/#REF!)","v":0},{"$f":"IF(ISERROR((#REF!-#REF!)/#REF!),0,(#REF!-#REF!)/#REF!)","v":0},{"$f":"IF(ISERROR((#REF!-#REF!)/#REF!),0,(#REF!-#REF!)/#REF!)","v":0},{"$f":"IF(ISERROR((#REF!-#REF!)/#REF!),0,(#REF!-#REF!)/#REF!)","v":0},{"$f":"IF(ISERROR((#REF!-#REF!)/#REF!),0,(#REF!-#REF!)/#REF!)","v":0},{"$f":"IF(ISERROR((#REF!-#REF!)/#REF!),0,(#REF!-#REF!)/#REF!)","v":0},{"$f":"IF(ISERROR((#REF!-#REF!)/#REF!),0,(#REF!-#REF!)/#REF!)","v":0},{"$f":"IF(ISERROR((#REF!-#REF!)/#REF!),0,(#REF!-#REF!)/#REF!)","v":0},{"$f":"IF(ISERROR((#REF!-#REF!)/#REF!),0,(#REF!-#REF!)/#REF!)","v":0},{"$f":"IF(ISERROR((#REF!-#REF!)/#REF!),0,(#REF!-#REF!)/#REF!)","v":0}]
[null,"LB51Z","Vaginal Tape Operations for Urinary Incontinence",0,0,1110,907,5,1285,6,200,"No","-",0,1,"HRG",{"$f":"IF(ISERROR((#REF!-#REF!)/#REF!),0,(#REF!-#REF!)/#REF!)","v":0},{"$f":"IF(ISERROR((#REF!-#REF!)/#REF!),0,(#REF!-#REF!)/#REF!)","v":0},{"$f":"IF(ISERROR((#REF!-#REF!)/#REF!),0,(#REF!-#REF!)/#REF!)","v":0},{"$f":"IF(ISERROR((#REF!-#REF!)/#REF!),0,(#REF!-#REF!)/#REF!)","v":0},{"$f":"IF(ISERROR((#REF!-#REF!)/#REF!),0,(#REF!-#REF!)/#REF!)","v":0},{"$f":"IF(ISERROR((#REF!-#REF!)/#REF!),0,(#REF!-#REF!)/#REF!)","v":0},{"$f":"IF(ISERROR((#REF!-#REF!)/#REF!),0,(#REF!-#REF!)/#REF!)","v":0},{"$f":"IF(ISERROR((#REF!-#REF!)/#REF!),0,(#REF!-#REF!)/#REF!)","v":0},{"$f":"IF(ISERROR((#REF!-#REF!)/#REF!),0,(#REF!-#REF!)/#REF!)","v":0},{"$f":"IF(ISERROR((#REF!-#REF!)/#REF!),0,(#REF!-#REF!)/#REF!)","v":0},{"$f":"IF(ISERROR((#REF!-#REF!)/#REF!),0,(#REF!-#REF!)/#REF!)","v":0},{"$f":"IF(ISERROR((#REF!-#REF!)/#REF!),0,(#REF!-#REF!)/#REF!)","v":0},{"$f":"IF(ISERROR((#REF!-#REF!)/#REF!),0,(#REF!-#REF!)/#REF!)","v":0}]
[null,"LB52Z","Major Open Scrotum, Testis or Vas Deferens Procedures",0,1410,0,0,5,3018,21,200,"No","-",0,"","",{"$f":"IF(ISERROR((#REF!-#REF!)/#REF!),0,(#REF!-#REF!)/#REF!)","v":0},{"$f":"IF(ISERROR((#REF!-#REF!)/#REF!),0,(#REF!-#REF!)/#REF!)","v":0},{"$f":"IF(ISERROR((#REF!-#REF!)/#REF!),0,(#REF!-#REF!)/#REF!)","v":0},{"$f":"IF(ISERROR((#REF!-#REF!)/#REF!),0,(#REF!-#REF!)/#REF!)","v":0},{"$f":"IF(ISERROR((#REF!-#REF!)/#REF!),0,(#REF!-#REF!)/#REF!)","v":0},{"$f":"IF(ISERROR((#REF!-#REF!)/#REF!),0,(#REF!-#REF!)/#REF!)","v":0},{"$f":"IF(ISERROR((#REF!-#REF!)/#REF!),0,(#REF!-#REF!)/#REF!)","v":0},{"$f":"IF(ISERROR((#REF!-#REF!)/#REF!),0,(#REF!-#REF!)/#REF!)","v":0},{"$f":"IF(ISERROR((#REF!-#REF!)/#REF!),0,(#REF!-#REF!)/#REF!)","v":0},{"$f":"IF(ISERROR((#REF!-#REF!)/#REF!),0,(#REF!-#REF!)/#REF!)","v":0},{"$f":"IF(ISERROR((#REF!-#REF!)/#REF!),0,(#REF!-#REF!)/#REF!)","v":0},{"$f":"IF(ISERROR((#REF!-#REF!)/#REF!),0,(#REF!-#REF!)/#REF!)","v":0},{"$f":"IF(ISERROR((#REF!-#REF!)/#REF!),0,(#REF!-#REF!)/#REF!)","v":0}]
[null,"LB53A","Intermediate Open Scrotum, Testis or Vas Deferens Procedures, 19 years and over",0,1262,0,0,5,2376,11,200,"No","-",0,"","",{"$f":"IF(ISERROR((#REF!-#REF!)/#REF!),0,(#REF!-#REF!)/#REF!)","v":0},{"$f":"IF(ISERROR((#REF!-#REF!)/#REF!),0,(#REF!-#REF!)/#REF!)","v":0},{"$f":"IF(ISERROR((#REF!-#REF!)/#REF!),0,(#REF!-#REF!)/#REF!)","v":0},{"$f":"IF(ISERROR((#REF!-#REF!)/#REF!),0,(#REF!-#REF!)/#REF!)","v":0},{"$f":"IF(ISERROR((#REF!-#REF!)/#REF!),0,(#REF!-#REF!)/#REF!)","v":0},{"$f":"IF(ISERROR((#REF!-#REF!)/#REF!),0,(#REF!-#REF!)/#REF!)","v":0},{"$f":"IF(ISERROR((#REF!-#REF!)/#REF!),0,(#REF!-#REF!)/#REF!)","v":0},{"$f":"IF(ISERROR((#REF!-#REF!)/#REF!),0,(#REF!-#REF!)/#REF!)","v":0},{"$f":"IF(ISERROR((#REF!-#REF!)/#REF!),0,(#REF!-#REF!)/#REF!)","v":0},{"$f":"IF(ISERROR((#REF!-#REF!)/#REF!),0,(#REF!-#REF!)/#REF!)","v":0},{"$f":"IF(ISERROR((#REF!-#REF!)/#REF!),0,(#REF!-#REF!)/#REF!)","v":0},{"$f":"IF(ISERROR((#REF!-#REF!)/#REF!),0,(#REF!-#REF!)/#REF!)","v":0},{"$f":"IF(ISERROR((#REF!-#REF!)/#REF!),0,(#REF!-#REF!)/#REF!)","v":0}]
[null,"LB53B","Intermediate Open Scrotum, Testis or Vas Deferens Procedures, 18 years and under",0,1278,0,0,5,1543,5,369,"No","-",0,"","",{"$f":"IF(ISERROR((#REF!-#REF!)/#REF!),0,(#REF!-#REF!)/#REF!)","v":0},{"$f":"IF(ISERROR((#REF!-#REF!)/#REF!),0,(#REF!-#REF!)/#REF!)","v":0},{"$f":"IF(ISERROR((#REF!-#REF!)/#REF!),0,(#REF!-#REF!)/#REF!)","v":0},{"$f":"IF(ISERROR((#REF!-#REF!)/#REF!),0,(#REF!-#REF!)/#REF!)","v":0},{"$f":"IF(ISERROR((#REF!-#REF!)/#REF!),0,(#REF!-#REF!)/#REF!)","v":0},{"$f":"IF(ISERROR((#REF!-#REF!)/#REF!),0,(#REF!-#REF!)/#REF!)","v":0},{"$f":"IF(ISERROR((#REF!-#REF!)/#REF!),0,(#REF!-#REF!)/#REF!)","v":0},{"$f":"IF(ISERROR((#REF!-#REF!)/#REF!),0,(#REF!-#REF!)/#REF!)","v":0},{"$f":"IF(ISERROR((#REF!-#REF!)/#REF!),0,(#REF!-#REF!)/#REF!)","v":0},{"$f":"IF(ISERROR((#REF!-#REF!)/#REF!),0,(#REF!-#REF!)/#REF!)","v":0},{"$f":"IF(ISERROR((#REF!-#REF!)/#REF!),0,(#REF!-#REF!)/#REF!)","v":0},{"$f":"IF(ISERROR((#REF!-#REF!)/#REF!),0,(#REF!-#REF!)/#REF!)","v":0},{"$f":"IF(ISERROR((#REF!-#REF!)/#REF!),0,(#REF!-#REF!)/#REF!)","v":0}]
[null,"LB54A","Minor Scrotum, Testis or Vas Deferens Procedures, 19 years and over",0,917,0,0,5,1121,5,200,"No","-",0,"","",{"$f":"IF(ISERROR((#REF!-#REF!)/#REF!),0,(#REF!-#REF!)/#REF!)","v":0},{"$f":"IF(ISERROR((#REF!-#REF!)/#REF!),0,(#REF!-#REF!)/#REF!)","v":0},{"$f":"IF(ISERROR((#REF!-#REF!)/#REF!),0,(#REF!-#REF!)/#REF!)","v":0},{"$f":"IF(ISERROR((#REF!-#REF!)/#REF!),0,(#REF!-#REF!)/#REF!)","v":0},{"$f":"IF(ISERROR((#REF!-#REF!)/#REF!),0,(#REF!-#REF!)/#REF!)","v":0},{"$f":"IF(ISERROR((#REF!-#REF!)/#REF!),0,(#REF!-#REF!)/#REF!)","v":0},{"$f":"IF(ISERROR((#REF!-#REF!)/#REF!),0,(#REF!-#REF!)/#REF!)","v":0},{"$f":"IF(ISERROR((#REF!-#REF!)/#REF!),0,(#REF!-#REF!)/#REF!)","v":0},{"$f":"IF(ISERROR((#REF!-#REF!)/#REF!),0,(#REF!-#REF!)/#REF!)","v":0},{"$f":"IF(ISERROR((#REF!-#REF!)/#REF!),0,(#REF!-#REF!)/#REF!)","v":0},{"$f":"IF(ISERROR((#REF!-#REF!)/#REF!),0,(#REF!-#REF!)/#REF!)","v":0},{"$f":"IF(ISERROR((#REF!-#REF!)/#REF!),0,(#REF!-#REF!)/#REF!)","v":0},{"$f":"IF(ISERROR((#REF!-#REF!)/#REF!),0,(#REF!-#REF!)/#REF!)","v":0}]
[null,"LB54C","Minor Scrotum, Testis or Vas Deferens Procedures, between 2 and 18 years",0,1192,0,0,5,1191,5,369,"No","-",0,"","",{"$f":"IF(ISERROR((#REF!-#REF!)/#REF!),0,(#REF!-#REF!)/#REF!)","v":0},{"$f":"IF(ISERROR((#REF!-#REF!)/#REF!),0,(#REF!-#REF!)/#REF!)","v":0},{"$f":"IF(ISERROR((#REF!-#REF!)/#REF!),0,(#REF!-#REF!)/#REF!)","v":0},{"$f":"IF(ISERROR((#REF!-#REF!)/#REF!),0,(#REF!-#REF!)/#REF!)","v":0},{"$f":"IF(ISERROR((#REF!-#REF!)/#REF!),0,(#REF!-#REF!)/#REF!)","v":0},{"$f":"IF(ISERROR((#REF!-#REF!)/#REF!),0,(#REF!-#REF!)/#REF!)","v":0},{"$f":"IF(ISERROR((#REF!-#REF!)/#REF!),0,(#REF!-#REF!)/#REF!)","v":0},{"$f":"IF(ISERROR((#REF!-#REF!)/#REF!),0,(#REF!-#REF!)/#REF!)","v":0},{"$f":"IF(ISERROR((#REF!-#REF!)/#REF!),0,(#REF!-#REF!)/#REF!)","v":0},{"$f":"IF(ISERROR((#REF!-#REF!)/#REF!),0,(#REF!-#REF!)/#REF!)","v":0},{"$f":"IF(ISERROR((#REF!-#REF!)/#REF!),0,(#REF!-#REF!)/#REF!)","v":0},{"$f":"IF(ISERROR((#REF!-#REF!)/#REF!),0,(#REF!-#REF!)/#REF!)","v":0},{"$f":"IF(ISERROR((#REF!-#REF!)/#REF!),0,(#REF!-#REF!)/#REF!)","v":0}]
[null,"LB54D","Minor Scrotum, Testis or Vas Deferens Procedures, 1 year and under",0,1270,0,0,5,1312,5,369,"No","-",0,"","",{"$f":"IF(ISERROR((#REF!-#REF!)/#REF!),0,(#REF!-#REF!)/#REF!)","v":0},{"$f":"IF(ISERROR((#REF!-#REF!)/#REF!),0,(#REF!-#REF!)/#REF!)","v":0},{"$f":"IF(ISERROR((#REF!-#REF!)/#REF!),0,(#REF!-#REF!)/#REF!)","v":0},{"$f":"IF(ISERROR((#REF!-#REF!)/#REF!),0,(#REF!-#REF!)/#REF!)","v":0},{"$f":"IF(ISERROR((#REF!-#REF!)/#REF!),0,(#REF!-#REF!)/#REF!)","v":0},{"$f":"IF(ISERROR((#REF!-#REF!)/#REF!),0,(#REF!-#REF!)/#REF!)","v":0},{"$f":"IF(ISERROR((#REF!-#REF!)/#REF!),0,(#REF!-#REF!)/#REF!)","v":0},{"$f":"IF(ISERROR((#REF!-#REF!)/#REF!),0,(#REF!-#REF!)/#REF!)","v":0},{"$f":"IF(ISERROR((#REF!-#REF!)/#REF!),0,(#REF!-#REF!)/#REF!)","v":0},{"$f":"IF(ISERROR((#REF!-#REF!)/#REF!),0,(#REF!-#REF!)/#REF!)","v":0},{"$f":"IF(ISERROR((#REF!-#REF!)/#REF!),0,(#REF!-#REF!)/#REF!)","v":0},{"$f":"IF(ISERROR((#REF!-#REF!)/#REF!),0,(#REF!-#REF!)/#REF!)","v":0},{"$f":"IF(ISERROR((#REF!-#REF!)/#REF!),0,(#REF!-#REF!)/#REF!)","v":0}]
[null,"LB55A","Minor or Intermediate Urethra Procedures, 19 years and over",0,636,0,0,5,837,5,200,"No","-",0,"","",{"$f":"IF(ISERROR((#REF!-#REF!)/#REF!),0,(#REF!-#REF!)/#REF!)","v":0},{"$f":"IF(ISERROR((#REF!-#REF!)/#REF!),0,(#REF!-#REF!)/#REF!)","v":0},{"$f":"IF(ISERROR((#REF!-#REF!)/#REF!),0,(#REF!-#REF!)/#REF!)","v":0},{"$f":"IF(ISERROR((#REF!-#REF!)/#REF!),0,(#REF!-#REF!)/#REF!)","v":0},{"$f":"IF(ISERROR((#REF!-#REF!)/#REF!),0,(#REF!-#REF!)/#REF!)","v":0},{"$f":"IF(ISERROR((#REF!-#REF!)/#REF!),0,(#REF!-#REF!)/#REF!)","v":0},{"$f":"IF(ISERROR((#REF!-#REF!)/#REF!),0,(#REF!-#REF!)/#REF!)","v":0},{"$f":"IF(ISERROR((#REF!-#REF!)/#REF!),0,(#REF!-#REF!)/#REF!)","v":0},{"$f":"IF(ISERROR((#REF!-#REF!)/#REF!),0,(#REF!-#REF!)/#REF!)","v":0},{"$f":"IF(ISERROR((#REF!-#REF!)/#REF!),0,(#REF!-#REF!)/#REF!)","v":0},{"$f":"IF(ISERROR((#REF!-#REF!)/#REF!),0,(#REF!-#REF!)/#REF!)","v":0},{"$f":"IF(ISERROR((#REF!-#REF!)/#REF!),0,(#REF!-#REF!)/#REF!)","v":0},{"$f":"IF(ISERROR((#REF!-#REF!)/#REF!),0,(#REF!-#REF!)/#REF!)","v":0}]
[null,"LB55B","Minor or Intermediate Urethra Procedures, 18 years and under",0,829,0,0,5,1441,5,369,"No","-",0,"","",{"$f":"IF(ISERROR((#REF!-#REF!)/#REF!),0,(#REF!-#REF!)/#REF!)","v":0},{"$f":"IF(ISERROR((#REF!-#REF!)/#REF!),0,(#REF!-#REF!)/#REF!)","v":0},{"$f":"IF(ISERROR((#REF!-#REF!)/#REF!),0,(#REF!-#REF!)/#REF!)","v":0},{"$f":"IF(ISERROR((#REF!-#REF!)/#REF!),0,(#REF!-#REF!)/#REF!)","v":0},{"$f":"IF(ISERROR((#REF!-#REF!)/#REF!),0,(#REF!-#REF!)/#REF!)","v":0},{"$f":"IF(ISERROR((#REF!-#REF!)/#REF!),0,(#REF!-#REF!)/#REF!)","v":0},{"$f":"IF(ISERROR((#REF!-#REF!)/#REF!),0,(#REF!-#REF!)/#REF!)","v":0},{"$f":"IF(ISERROR((#REF!-#REF!)/#REF!),0,(#REF!-#REF!)/#REF!)","v":0},{"$f":"IF(ISERROR((#REF!-#REF!)/#REF!),0,(#REF!-#REF!)/#REF!)","v":0},{"$f":"IF(ISERROR((#REF!-#REF!)/#REF!),0,(#REF!-#REF!)/#REF!)","v":0},{"$f":"IF(ISERROR((#REF!-#REF!)/#REF!),0,(#REF!-#REF!)/#REF!)","v":0},{"$f":"IF(ISERROR((#REF!-#REF!)/#REF!),0,(#REF!-#REF!)/#REF!)","v":0},{"$f":"IF(ISERROR((#REF!-#REF!)/#REF!),0,(#REF!-#REF!)/#REF!)","v":0}]
[null,"LB56A","Minor Penis Procedures, 19 years and over",0,767,0,0,5,659,5,200,"No","-",0,"","",{"$f":"IF(ISERROR((#REF!-#REF!)/#REF!),0,(#REF!-#REF!)/#REF!)","v":0},{"$f":"IF(ISERROR((#REF!-#REF!)/#REF!),0,(#REF!-#REF!)/#REF!)","v":0},{"$f":"IF(ISERROR((#REF!-#REF!)/#REF!),0,(#REF!-#REF!)/#REF!)","v":0},{"$f":"IF(ISERROR((#REF!-#REF!)/#REF!),0,(#REF!-#REF!)/#REF!)","v":0},{"$f":"IF(ISERROR((#REF!-#REF!)/#REF!),0,(#REF!-#REF!)/#REF!)","v":0},{"$f":"IF(ISERROR((#REF!-#REF!)/#REF!),0,(#REF!-#REF!)/#REF!)","v":0},{"$f":"IF(ISERROR((#REF!-#REF!)/#REF!),0,(#REF!-#REF!)/#REF!)","v":0},{"$f":"IF(ISERROR((#REF!-#REF!)/#REF!),0,(#REF!-#REF!)/#REF!)","v":0},{"$f":"IF(ISERROR((#REF!-#REF!)/#REF!),0,(#REF!-#REF!)/#REF!)","v":0},{"$f":"IF(ISERROR((#REF!-#REF!)/#REF!),0,(#REF!-#REF!)/#REF!)","v":0},{"$f":"IF(ISERROR((#REF!-#REF!)/#REF!),0,(#REF!-#REF!)/#REF!)","v":0},{"$f":"IF(ISERROR((#REF!-#REF!)/#REF!),0,(#REF!-#REF!)/#REF!)","v":0},{"$f":"IF(ISERROR((#REF!-#REF!)/#REF!),0,(#REF!-#REF!)/#REF!)","v":0}]
[null,"LB56C","Minor Penis Procedures, between 2 and 18 years",0,851,0,0,5,926,5,369,"No","-",0,"","",{"$f":"IF(ISERROR((#REF!-#REF!)/#REF!),0,(#REF!-#REF!)/#REF!)","v":0},{"$f":"IF(ISERROR((#REF!-#REF!)/#REF!),0,(#REF!-#REF!)/#REF!)","v":0},{"$f":"IF(ISERROR((#REF!-#REF!)/#REF!),0,(#REF!-#REF!)/#REF!)","v":0},{"$f":"IF(ISERROR((#REF!-#REF!)/#REF!),0,(#REF!-#REF!)/#REF!)","v":0},{"$f":"IF(ISERROR((#REF!-#REF!)/#REF!),0,(#REF!-#REF!)/#REF!)","v":0},{"$f":"IF(ISERROR((#REF!-#REF!)/#REF!),0,(#REF!-#REF!)/#REF!)","v":0},{"$f":"IF(ISERROR((#REF!-#REF!)/#REF!),0,(#REF!-#REF!)/#REF!)","v":0},{"$f":"IF(ISERROR((#REF!-#REF!)/#REF!),0,(#REF!-#REF!)/#REF!)","v":0},{"$f":"IF(ISERROR((#REF!-#REF!)/#REF!),0,(#REF!-#REF!)/#REF!)","v":0},{"$f":"IF(ISERROR((#REF!-#REF!)/#REF!),0,(#REF!-#REF!)/#REF!)","v":0},{"$f":"IF(ISERROR((#REF!-#REF!)/#REF!),0,(#REF!-#REF!)/#REF!)","v":0},{"$f":"IF(ISERROR((#REF!-#REF!)/#REF!),0,(#REF!-#REF!)/#REF!)","v":0},{"$f":"IF(ISERROR((#REF!-#REF!)/#REF!),0,(#REF!-#REF!)/#REF!)","v":0}]
[null,"LB56D","Minor Penis Procedures, 1 year and under",0,876,0,0,5,1242,5,369,"No","-",0,"","",{"$f":"IF(ISERROR((#REF!-#REF!)/#REF!),0,(#REF!-#REF!)/#REF!)","v":0},{"$f":"IF(ISERROR((#REF!-#REF!)/#REF!),0,(#REF!-#REF!)/#REF!)","v":0},{"$f":"IF(ISERROR((#REF!-#REF!)/#REF!),0,(#REF!-#REF!)/#REF!)","v":0},{"$f":"IF(ISERROR((#REF!-#REF!)/#REF!),0,(#REF!-#REF!)/#REF!)","v":0},{"$f":"IF(ISERROR((#REF!-#REF!)/#REF!),0,(#REF!-#REF!)/#REF!)","v":0},{"$f":"IF(ISERROR((#REF!-#REF!)/#REF!),0,(#REF!-#REF!)/#REF!)","v":0},{"$f":"IF(ISERROR((#REF!-#REF!)/#REF!),0,(#REF!-#REF!)/#REF!)","v":0},{"$f":"IF(ISERROR((#REF!-#REF!)/#REF!),0,(#REF!-#REF!)/#REF!)","v":0},{"$f":"IF(ISERROR((#REF!-#REF!)/#REF!),0,(#REF!-#REF!)/#REF!)","v":0},{"$f":"IF(ISERROR((#REF!-#REF!)/#REF!),0,(#REF!-#REF!)/#REF!)","v":0},{"$f":"IF(ISERROR((#REF!-#REF!)/#REF!),0,(#REF!-#REF!)/#REF!)","v":0},{"$f":"IF(ISERROR((#REF!-#REF!)/#REF!),0,(#REF!-#REF!)/#REF!)","v":0},{"$f":"IF(ISERROR((#REF!-#REF!)/#REF!),0,(#REF!-#REF!)/#REF!)","v":0}]
[null,"LB57A","Urethral Disorders with CC",0,1527,0,0,5,2170,15,200,"Yes",0.30000000000000004,651.00000000000011,"","",{"$f":"IF(ISERROR((#REF!-#REF!)/#REF!),0,(#REF!-#REF!)/#REF!)","v":0},{"$f":"IF(ISERROR((#REF!-#REF!)/#REF!),0,(#REF!-#REF!)/#REF!)","v":0},{"$f":"IF(ISERROR((#REF!-#REF!)/#REF!),0,(#REF!-#REF!)/#REF!)","v":0},{"$f":"IF(ISERROR((#REF!-#REF!)/#REF!),0,(#REF!-#REF!)/#REF!)","v":0},{"$f":"IF(ISERROR((#REF!-#REF!)/#REF!),0,(#REF!-#REF!)/#REF!)","v":0},{"$f":"IF(ISERROR((#REF!-#REF!)/#REF!),0,(#REF!-#REF!)/#REF!)","v":0},{"$f":"IF(ISERROR((#REF!-#REF!)/#REF!),0,(#REF!-#REF!)/#REF!)","v":0},{"$f":"IF(ISERROR((#REF!-#REF!)/#REF!),0,(#REF!-#REF!)/#REF!)","v":0},{"$f":"IF(ISERROR((#REF!-#REF!)/#REF!),0,(#REF!-#REF!)/#REF!)","v":0},{"$f":"IF(ISERROR((#REF!-#REF!)/#REF!),0,(#REF!-#REF!)/#REF!)","v":0},{"$f":"IF(ISERROR((#REF!-#REF!)/#REF!),0,(#REF!-#REF!)/#REF!)","v":0},{"$f":"IF(ISERROR((#REF!-#REF!)/#REF!),0,(#REF!-#REF!)/#REF!)","v":0},{"$f":"IF(ISERROR((#REF!-#REF!)/#REF!),0,(#REF!-#REF!)/#REF!)","v":0}]
[null,"LB57B","Urethral Disorders without CC",0,1091,0,0,5,1157,8,200,"Yes",0.65,752.05000000000007,"","",{"$f":"IF(ISERROR((#REF!-#REF!)/#REF!),0,(#REF!-#REF!)/#REF!)","v":0},{"$f":"IF(ISERROR((#REF!-#REF!)/#REF!),0,(#REF!-#REF!)/#REF!)","v":0},{"$f":"IF(ISERROR((#REF!-#REF!)/#REF!),0,(#REF!-#REF!)/#REF!)","v":0},{"$f":"IF(ISERROR((#REF!-#REF!)/#REF!),0,(#REF!-#REF!)/#REF!)","v":0},{"$f":"IF(ISERROR((#REF!-#REF!)/#REF!),0,(#REF!-#REF!)/#REF!)","v":0},{"$f":"IF(ISERROR((#REF!-#REF!)/#REF!),0,(#REF!-#REF!)/#REF!)","v":0},{"$f":"IF(ISERROR((#REF!-#REF!)/#REF!),0,(#REF!-#REF!)/#REF!)","v":0},{"$f":"IF(ISERROR((#REF!-#REF!)/#REF!),0,(#REF!-#REF!)/#REF!)","v":0},{"$f":"IF(ISERROR((#REF!-#REF!)/#REF!),0,(#REF!-#REF!)/#REF!)","v":0},{"$f":"IF(ISERROR((#REF!-#REF!)/#REF!),0,(#REF!-#REF!)/#REF!)","v":0},{"$f":"IF(ISERROR((#REF!-#REF!)/#REF!),0,(#REF!-#REF!)/#REF!)","v":0},{"$f":"IF(ISERROR((#REF!-#REF!)/#REF!),0,(#REF!-#REF!)/#REF!)","v":0},{"$f":"IF(ISERROR((#REF!-#REF!)/#REF!),0,(#REF!-#REF!)/#REF!)","v":0}]
[null,"LB58A","Penile Disorders with CC",0,1253,0,0,8,1623,10,200,"Yes",0.4,649.20000000000005,"","",{"$f":"IF(ISERROR((#REF!-#REF!)/#REF!),0,(#REF!-#REF!)/#REF!)","v":0},{"$f":"IF(ISERROR((#REF!-#REF!)/#REF!),0,(#REF!-#REF!)/#REF!)","v":0},{"$f":"IF(ISERROR((#REF!-#REF!)/#REF!),0,(#REF!-#REF!)/#REF!)","v":0},{"$f":"IF(ISERROR((#REF!-#REF!)/#REF!),0,(#REF!-#REF!)/#REF!)","v":0},{"$f":"IF(ISERROR((#REF!-#REF!)/#REF!),0,(#REF!-#REF!)/#REF!)","v":0},{"$f":"IF(ISERROR((#REF!-#REF!)/#REF!),0,(#REF!-#REF!)/#REF!)","v":0},{"$f":"IF(ISERROR((#REF!-#REF!)/#REF!),0,(#REF!-#REF!)/#REF!)","v":0},{"$f":"IF(ISERROR((#REF!-#REF!)/#REF!),0,(#REF!-#REF!)/#REF!)","v":0},{"$f":"IF(ISERROR((#REF!-#REF!)/#REF!),0,(#REF!-#REF!)/#REF!)","v":0},{"$f":"IF(ISERROR((#REF!-#REF!)/#REF!),0,(#REF!-#REF!)/#REF!)","v":0},{"$f":"IF(ISERROR((#REF!-#REF!)/#REF!),0,(#REF!-#REF!)/#REF!)","v":0},{"$f":"IF(ISERROR((#REF!-#REF!)/#REF!),0,(#REF!-#REF!)/#REF!)","v":0},{"$f":"IF(ISERROR((#REF!-#REF!)/#REF!),0,(#REF!-#REF!)/#REF!)","v":0}]
[null,"LB58B","Penile Disorders without CC",0,745,0,0,5,555,5,200,"Yes",1,555,"","",{"$f":"IF(ISERROR((#REF!-#REF!)/#REF!),0,(#REF!-#REF!)/#REF!)","v":0},{"$f":"IF(ISERROR((#REF!-#REF!)/#REF!),0,(#REF!-#REF!)/#REF!)","v":0},{"$f":"IF(ISERROR((#REF!-#REF!)/#REF!),0,(#REF!-#REF!)/#REF!)","v":0},{"$f":"IF(ISERROR((#REF!-#REF!)/#REF!),0,(#REF!-#REF!)/#REF!)","v":0},{"$f":"IF(ISERROR((#REF!-#REF!)/#REF!),0,(#REF!-#REF!)/#REF!)","v":0},{"$f":"IF(ISERROR((#REF!-#REF!)/#REF!),0,(#REF!-#REF!)/#REF!)","v":0},{"$f":"IF(ISERROR((#REF!-#REF!)/#REF!),0,(#REF!-#REF!)/#REF!)","v":0},{"$f":"IF(ISERROR((#REF!-#REF!)/#REF!),0,(#REF!-#REF!)/#REF!)","v":0},{"$f":"IF(ISERROR((#REF!-#REF!)/#REF!),0,(#REF!-#REF!)/#REF!)","v":0},{"$f":"IF(ISERROR((#REF!-#REF!)/#REF!),0,(#REF!-#REF!)/#REF!)","v":0},{"$f":"IF(ISERROR((#REF!-#REF!)/#REF!),0,(#REF!-#REF!)/#REF!)","v":0},{"$f":"IF(ISERROR((#REF!-#REF!)/#REF!),0,(#REF!-#REF!)/#REF!)","v":0},{"$f":"IF(ISERROR((#REF!-#REF!)/#REF!),0,(#REF!-#REF!)/#REF!)","v":0}]
[null,"LB59Z","Major Open or Laparoscopic Bladder Neck Procedures (Female)",0,2874,0,0,11,2450,35,200,"No","-",0,"","",{"$f":"IF(ISERROR((#REF!-#REF!)/#REF!),0,(#REF!-#REF!)/#REF!)","v":0},{"$f":"IF(ISERROR((#REF!-#REF!)/#REF!),0,(#REF!-#REF!)/#REF!)","v":0},{"$f":"IF(ISERROR((#REF!-#REF!)/#REF!),0,(#REF!-#REF!)/#REF!)","v":0},{"$f":"IF(ISERROR((#REF!-#REF!)/#REF!),0,(#REF!-#REF!)/#REF!)","v":0},{"$f":"IF(ISERROR((#REF!-#REF!)/#REF!),0,(#REF!-#REF!)/#REF!)","v":0},{"$f":"IF(ISERROR((#REF!-#REF!)/#REF!),0,(#REF!-#REF!)/#REF!)","v":0},{"$f":"IF(ISERROR((#REF!-#REF!)/#REF!),0,(#REF!-#REF!)/#REF!)","v":0},{"$f":"IF(ISERROR((#REF!-#REF!)/#REF!),0,(#REF!-#REF!)/#REF!)","v":0},{"$f":"IF(ISERROR((#REF!-#REF!)/#REF!),0,(#REF!-#REF!)/#REF!)","v":0},{"$f":"IF(ISERROR((#REF!-#REF!)/#REF!),0,(#REF!-#REF!)/#REF!)","v":0},{"$f":"IF(ISERROR((#REF!-#REF!)/#REF!),0,(#REF!-#REF!)/#REF!)","v":0},{"$f":"IF(ISERROR((#REF!-#REF!)/#REF!),0,(#REF!-#REF!)/#REF!)","v":0},{"$f":"IF(ISERROR((#REF!-#REF!)/#REF!),0,(#REF!-#REF!)/#REF!)","v":0}]
[null,"LB60A","Complex Open or Laparoscopic, Kidney or Ureter Procedures, with Major CC",0,8585,0,0,43,8951,61,200,"No","-",0,"","",{"$f":"IF(ISERROR((#REF!-#REF!)/#REF!),0,(#REF!-#REF!)/#REF!)","v":0},{"$f":"IF(ISERROR((#REF!-#REF!)/#REF!),0,(#REF!-#REF!)/#REF!)","v":0},{"$f":"IF(ISERROR((#REF!-#REF!)/#REF!),0,(#REF!-#REF!)/#REF!)","v":0},{"$f":"IF(ISERROR((#REF!-#REF!)/#REF!),0,(#REF!-#REF!)/#REF!)","v":0},{"$f":"IF(ISERROR((#REF!-#REF!)/#REF!),0,(#REF!-#REF!)/#REF!)","v":0},{"$f":"IF(ISERROR((#REF!-#REF!)/#REF!),0,(#REF!-#REF!)/#REF!)","v":0},{"$f":"IF(ISERROR((#REF!-#REF!)/#REF!),0,(#REF!-#REF!)/#REF!)","v":0},{"$f":"IF(ISERROR((#REF!-#REF!)/#REF!),0,(#REF!-#REF!)/#REF!)","v":0},{"$f":"IF(ISERROR((#REF!-#REF!)/#REF!),0,(#REF!-#REF!)/#REF!)","v":0},{"$f":"IF(ISERROR((#REF!-#REF!)/#REF!),0,(#REF!-#REF!)/#REF!)","v":0},{"$f":"IF(ISERROR((#REF!-#REF!)/#REF!),0,(#REF!-#REF!)/#REF!)","v":0},{"$f":"IF(ISERROR((#REF!-#REF!)/#REF!),0,(#REF!-#REF!)/#REF!)","v":0},{"$f":"IF(ISERROR((#REF!-#REF!)/#REF!),0,(#REF!-#REF!)/#REF!)","v":0}]
[null,"LB60B","Complex Open or Laparoscopic, Kidney or Ureter Procedures, without Major CC",0,4502,0,0,16,5488,33,200,"No","-",0,"","",{"$f":"IF(ISERROR((#REF!-#REF!)/#REF!),0,(#REF!-#REF!)/#REF!)","v":0},{"$f":"IF(ISERROR((#REF!-#REF!)/#REF!),0,(#REF!-#REF!)/#REF!)","v":0},{"$f":"IF(ISERROR((#REF!-#REF!)/#REF!),0,(#REF!-#REF!)/#REF!)","v":0},{"$f":"IF(ISERROR((#REF!-#REF!)/#REF!),0,(#REF!-#REF!)/#REF!)","v":0},{"$f":"IF(ISERROR((#REF!-#REF!)/#REF!),0,(#REF!-#REF!)/#REF!)","v":0},{"$f":"IF(ISERROR((#REF!-#REF!)/#REF!),0,(#REF!-#REF!)/#REF!)","v":0},{"$f":"IF(ISERROR((#REF!-#REF!)/#REF!),0,(#REF!-#REF!)/#REF!)","v":0},{"$f":"IF(ISERROR((#REF!-#REF!)/#REF!),0,(#REF!-#REF!)/#REF!)","v":0},{"$f":"IF(ISERROR((#REF!-#REF!)/#REF!),0,(#REF!-#REF!)/#REF!)","v":0},{"$f":"IF(ISERROR((#REF!-#REF!)/#REF!),0,(#REF!-#REF!)/#REF!)","v":0},{"$f":"IF(ISERROR((#REF!-#REF!)/#REF!),0,(#REF!-#REF!)/#REF!)","v":0},{"$f":"IF(ISERROR((#REF!-#REF!)/#REF!),0,(#REF!-#REF!)/#REF!)","v":0},{"$f":"IF(ISERROR((#REF!-#REF!)/#REF!),0,(#REF!-#REF!)/#REF!)","v":0}]
[null,"LB61A","Major Open Kidney or Ureter Procedures, 19 years and over with Major CC",0,6131,0,0,26,6639,57,200,"No","-",0,"","",{"$f":"IF(ISERROR((#REF!-#REF!)/#REF!),0,(#REF!-#REF!)/#REF!)","v":0},{"$f":"IF(ISERROR((#REF!-#REF!)/#REF!),0,(#REF!-#REF!)/#REF!)","v":0},{"$f":"IF(ISERROR((#REF!-#REF!)/#REF!),0,(#REF!-#REF!)/#REF!)","v":0},{"$f":"IF(ISERROR((#REF!-#REF!)/#REF!),0,(#REF!-#REF!)/#REF!)","v":0},{"$f":"IF(ISERROR((#REF!-#REF!)/#REF!),0,(#REF!-#REF!)/#REF!)","v":0},{"$f":"IF(ISERROR((#REF!-#REF!)/#REF!),0,(#REF!-#REF!)/#REF!)","v":0},{"$f":"IF(ISERROR((#REF!-#REF!)/#REF!),0,(#REF!-#REF!)/#REF!)","v":0},{"$f":"IF(ISERROR((#REF!-#REF!)/#REF!),0,(#REF!-#REF!)/#REF!)","v":0},{"$f":"IF(ISERROR((#REF!-#REF!)/#REF!),0,(#REF!-#REF!)/#REF!)","v":0},{"$f":"IF(ISERROR((#REF!-#REF!)/#REF!),0,(#REF!-#REF!)/#REF!)","v":0},{"$f":"IF(ISERROR((#REF!-#REF!)/#REF!),0,(#REF!-#REF!)/#REF!)","v":0},{"$f":"IF(ISERROR((#REF!-#REF!)/#REF!),0,(#REF!-#REF!)/#REF!)","v":0},{"$f":"IF(ISERROR((#REF!-#REF!)/#REF!),0,(#REF!-#REF!)/#REF!)","v":0}]
[null,"LB61B","Major Open Kidney or Ureter Procedures, 19 years and over without Major CC",0,3802,0,0,15,3968,26,200,"No","-",0,"","",{"$f":"IF(ISERROR((#REF!-#REF!)/#REF!),0,(#REF!-#REF!)/#REF!)","v":0},{"$f":"IF(ISERROR((#REF!-#REF!)/#REF!),0,(#REF!-#REF!)/#REF!)","v":0},{"$f":"IF(ISERROR((#REF!-#REF!)/#REF!),0,(#REF!-#REF!)/#REF!)","v":0},{"$f":"IF(ISERROR((#REF!-#REF!)/#REF!),0,(#REF!-#REF!)/#REF!)","v":0},{"$f":"IF(ISERROR((#REF!-#REF!)/#REF!),0,(#REF!-#REF!)/#REF!)","v":0},{"$f":"IF(ISERROR((#REF!-#REF!)/#REF!),0,(#REF!-#REF!)/#REF!)","v":0},{"$f":"IF(ISERROR((#REF!-#REF!)/#REF!),0,(#REF!-#REF!)/#REF!)","v":0},{"$f":"IF(ISERROR((#REF!-#REF!)/#REF!),0,(#REF!-#REF!)/#REF!)","v":0},{"$f":"IF(ISERROR((#REF!-#REF!)/#REF!),0,(#REF!-#REF!)/#REF!)","v":0},{"$f":"IF(ISERROR((#REF!-#REF!)/#REF!),0,(#REF!-#REF!)/#REF!)","v":0},{"$f":"IF(ISERROR((#REF!-#REF!)/#REF!),0,(#REF!-#REF!)/#REF!)","v":0},{"$f":"IF(ISERROR((#REF!-#REF!)/#REF!),0,(#REF!-#REF!)/#REF!)","v":0},{"$f":"IF(ISERROR((#REF!-#REF!)/#REF!),0,(#REF!-#REF!)/#REF!)","v":0}]
[null,"LB62A","Major Laparoscopic Kidney or Ureter Procedures, 19 years and over with CC",0,4421,0,0,11,5154,33,200,"No","-",0,"","",{"$f":"IF(ISERROR((#REF!-#REF!)/#REF!),0,(#REF!-#REF!)/#REF!)","v":0},{"$f":"IF(ISERROR((#REF!-#REF!)/#REF!),0,(#REF!-#REF!)/#REF!)","v":0},{"$f":"IF(ISERROR((#REF!-#REF!)/#REF!),0,(#REF!-#REF!)/#REF!)","v":0},{"$f":"IF(ISERROR((#REF!-#REF!)/#REF!),0,(#REF!-#REF!)/#REF!)","v":0},{"$f":"IF(ISERROR((#REF!-#REF!)/#REF!),0,(#REF!-#REF!)/#REF!)","v":0},{"$f":"IF(ISERROR((#REF!-#REF!)/#REF!),0,(#REF!-#REF!)/#REF!)","v":0},{"$f":"IF(ISERROR((#REF!-#REF!)/#REF!),0,(#REF!-#REF!)/#REF!)","v":0},{"$f":"IF(ISERROR((#REF!-#REF!)/#REF!),0,(#REF!-#REF!)/#REF!)","v":0},{"$f":"IF(ISERROR((#REF!-#REF!)/#REF!),0,(#REF!-#REF!)/#REF!)","v":0},{"$f":"IF(ISERROR((#REF!-#REF!)/#REF!),0,(#REF!-#REF!)/#REF!)","v":0},{"$f":"IF(ISERROR((#REF!-#REF!)/#REF!),0,(#REF!-#REF!)/#REF!)","v":0},{"$f":"IF(ISERROR((#REF!-#REF!)/#REF!),0,(#REF!-#REF!)/#REF!)","v":0},{"$f":"IF(ISERROR((#REF!-#REF!)/#REF!),0,(#REF!-#REF!)/#REF!)","v":0}]
[null,"LB62B","Major Laparoscopic Kidney or Ureter Procedures, 19 years and over without CC",0,3859,0,0,7,5154,33,200,"No","-",0,"","",{"$f":"IF(ISERROR((#REF!-#REF!)/#REF!),0,(#REF!-#REF!)/#REF!)","v":0},{"$f":"IF(ISERROR((#REF!-#REF!)/#REF!),0,(#REF!-#REF!)/#REF!)","v":0},{"$f":"IF(ISERROR((#REF!-#REF!)/#REF!),0,(#REF!-#REF!)/#REF!)","v":0},{"$f":"IF(ISERROR((#REF!-#REF!)/#REF!),0,(#REF!-#REF!)/#REF!)","v":0},{"$f":"IF(ISERROR((#REF!-#REF!)/#REF!),0,(#REF!-#REF!)/#REF!)","v":0},{"$f":"IF(ISERROR((#REF!-#REF!)/#REF!),0,(#REF!-#REF!)/#REF!)","v":0},{"$f":"IF(ISERROR((#REF!-#REF!)/#REF!),0,(#REF!-#REF!)/#REF!)","v":0},{"$f":"IF(ISERROR((#REF!-#REF!)/#REF!),0,(#REF!-#REF!)/#REF!)","v":0},{"$f":"IF(ISERROR((#REF!-#REF!)/#REF!),0,(#REF!-#REF!)/#REF!)","v":0},{"$f":"IF(ISERROR((#REF!-#REF!)/#REF!),0,(#REF!-#REF!)/#REF!)","v":0},{"$f":"IF(ISERROR((#REF!-#REF!)/#REF!),0,(#REF!-#REF!)/#REF!)","v":0},{"$f":"IF(ISERROR((#REF!-#REF!)/#REF!),0,(#REF!-#REF!)/#REF!)","v":0},{"$f":"IF(ISERROR((#REF!-#REF!)/#REF!),0,(#REF!-#REF!)/#REF!)","v":0}]
[null,"LB63A","Major Open or Laparoscopic, Kidney or Ureter Procedures, 18 years and under with CC",0,5601,0,0,12,10712,54,369,"No","-",0,"","",{"$f":"IF(ISERROR((#REF!-#REF!)/#REF!),0,(#REF!-#REF!)/#REF!)","v":0},{"$f":"IF(ISERROR((#REF!-#REF!)/#REF!),0,(#REF!-#REF!)/#REF!)","v":0},{"$f":"IF(ISERROR((#REF!-#REF!)/#REF!),0,(#REF!-#REF!)/#REF!)","v":0},{"$f":"IF(ISERROR((#REF!-#REF!)/#REF!),0,(#REF!-#REF!)/#REF!)","v":0},{"$f":"IF(ISERROR((#REF!-#REF!)/#REF!),0,(#REF!-#REF!)/#REF!)","v":0},{"$f":"IF(ISERROR((#REF!-#REF!)/#REF!),0,(#REF!-#REF!)/#REF!)","v":0},{"$f":"IF(ISERROR((#REF!-#REF!)/#REF!),0,(#REF!-#REF!)/#REF!)","v":0},{"$f":"IF(ISERROR((#REF!-#REF!)/#REF!),0,(#REF!-#REF!)/#REF!)","v":0},{"$f":"IF(ISERROR((#REF!-#REF!)/#REF!),0,(#REF!-#REF!)/#REF!)","v":0},{"$f":"IF(ISERROR((#REF!-#REF!)/#REF!),0,(#REF!-#REF!)/#REF!)","v":0},{"$f":"IF(ISERROR((#REF!-#REF!)/#REF!),0,(#REF!-#REF!)/#REF!)","v":0},{"$f":"IF(ISERROR((#REF!-#REF!)/#REF!),0,(#REF!-#REF!)/#REF!)","v":0},{"$f":"IF(ISERROR((#REF!-#REF!)/#REF!),0,(#REF!-#REF!)/#REF!)","v":0}]
[null,"LB63B","Major Open or Laparoscopic, Kidney or Ureter Procedures, 18 years and under without CC",0,3763,0,0,5,4977,16,369,"No","-",0,"","",{"$f":"IF(ISERROR((#REF!-#REF!)/#REF!),0,(#REF!-#REF!)/#REF!)","v":0},{"$f":"IF(ISERROR((#REF!-#REF!)/#REF!),0,(#REF!-#REF!)/#REF!)","v":0},{"$f":"IF(ISERROR((#REF!-#REF!)/#REF!),0,(#REF!-#REF!)/#REF!)","v":0},{"$f":"IF(ISERROR((#REF!-#REF!)/#REF!),0,(#REF!-#REF!)/#REF!)","v":0},{"$f":"IF(ISERROR((#REF!-#REF!)/#REF!),0,(#REF!-#REF!)/#REF!)","v":0},{"$f":"IF(ISERROR((#REF!-#REF!)/#REF!),0,(#REF!-#REF!)/#REF!)","v":0},{"$f":"IF(ISERROR((#REF!-#REF!)/#REF!),0,(#REF!-#REF!)/#REF!)","v":0},{"$f":"IF(ISERROR((#REF!-#REF!)/#REF!),0,(#REF!-#REF!)/#REF!)","v":0},{"$f":"IF(ISERROR((#REF!-#REF!)/#REF!),0,(#REF!-#REF!)/#REF!)","v":0},{"$f":"IF(ISERROR((#REF!-#REF!)/#REF!),0,(#REF!-#REF!)/#REF!)","v":0},{"$f":"IF(ISERROR((#REF!-#REF!)/#REF!),0,(#REF!-#REF!)/#REF!)","v":0},{"$f":"IF(ISERROR((#REF!-#REF!)/#REF!),0,(#REF!-#REF!)/#REF!)","v":0},{"$f":"IF(ISERROR((#REF!-#REF!)/#REF!),0,(#REF!-#REF!)/#REF!)","v":0}]
[null,"LB64A","Complex Endoscopic Kidney or Ureter Procedures, 19 years and over with Major CC",0,3224,0,0,17,6289,47,200,"No","-",0,"","",{"$f":"IF(ISERROR((#REF!-#REF!)/#REF!),0,(#REF!-#REF!)/#REF!)","v":0},{"$f":"IF(ISERROR((#REF!-#REF!)/#REF!),0,(#REF!-#REF!)/#REF!)","v":0},{"$f":"IF(ISERROR((#REF!-#REF!)/#REF!),0,(#REF!-#REF!)/#REF!)","v":0},{"$f":"IF(ISERROR((#REF!-#REF!)/#REF!),0,(#REF!-#REF!)/#REF!)","v":0},{"$f":"IF(ISERROR((#REF!-#REF!)/#REF!),0,(#REF!-#REF!)/#REF!)","v":0},{"$f":"IF(ISERROR((#REF!-#REF!)/#REF!),0,(#REF!-#REF!)/#REF!)","v":0},{"$f":"IF(ISERROR((#REF!-#REF!)/#REF!),0,(#REF!-#REF!)/#REF!)","v":0},{"$f":"IF(ISERROR((#REF!-#REF!)/#REF!),0,(#REF!-#REF!)/#REF!)","v":0},{"$f":"IF(ISERROR((#REF!-#REF!)/#REF!),0,(#REF!-#REF!)/#REF!)","v":0},{"$f":"IF(ISERROR((#REF!-#REF!)/#REF!),0,(#REF!-#REF!)/#REF!)","v":0},{"$f":"IF(ISERROR((#REF!-#REF!)/#REF!),0,(#REF!-#REF!)/#REF!)","v":0},{"$f":"IF(ISERROR((#REF!-#REF!)/#REF!),0,(#REF!-#REF!)/#REF!)","v":0},{"$f":"IF(ISERROR((#REF!-#REF!)/#REF!),0,(#REF!-#REF!)/#REF!)","v":0}]
[null,"LB64B","Complex Endoscopic Kidney or Ureter Procedures, 19 years and over without Major CC",0,1934,0,0,5,2517,12,200,"No","-",0,"","",{"$f":"IF(ISERROR((#REF!-#REF!)/#REF!),0,(#REF!-#REF!)/#REF!)","v":0},{"$f":"IF(ISERROR((#REF!-#REF!)/#REF!),0,(#REF!-#REF!)/#REF!)","v":0},{"$f":"IF(ISERROR((#REF!-#REF!)/#REF!),0,(#REF!-#REF!)/#REF!)","v":0},{"$f":"IF(ISERROR((#REF!-#REF!)/#REF!),0,(#REF!-#REF!)/#REF!)","v":0},{"$f":"IF(ISERROR((#REF!-#REF!)/#REF!),0,(#REF!-#REF!)/#REF!)","v":0},{"$f":"IF(ISERROR((#REF!-#REF!)/#REF!),0,(#REF!-#REF!)/#REF!)","v":0},{"$f":"IF(ISERROR((#REF!-#REF!)/#REF!),0,(#REF!-#REF!)/#REF!)","v":0},{"$f":"IF(ISERROR((#REF!-#REF!)/#REF!),0,(#REF!-#REF!)/#REF!)","v":0},{"$f":"IF(ISERROR((#REF!-#REF!)/#REF!),0,(#REF!-#REF!)/#REF!)","v":0},{"$f":"IF(ISERROR((#REF!-#REF!)/#REF!),0,(#REF!-#REF!)/#REF!)","v":0},{"$f":"IF(ISERROR((#REF!-#REF!)/#REF!),0,(#REF!-#REF!)/#REF!)","v":0},{"$f":"IF(ISERROR((#REF!-#REF!)/#REF!),0,(#REF!-#REF!)/#REF!)","v":0},{"$f":"IF(ISERROR((#REF!-#REF!)/#REF!),0,(#REF!-#REF!)/#REF!)","v":0}]
[null,"LB65A","Major Endoscopic Kidney or Ureter Procedures, 19 years and over with Major CC",0,2431,0,0,14,4524,35,200,"No","-",0,"","",{"$f":"IF(ISERROR((#REF!-#REF!)/#REF!),0,(#REF!-#REF!)/#REF!)","v":0},{"$f":"IF(ISERROR((#REF!-#REF!)/#REF!),0,(#REF!-#REF!)/#REF!)","v":0},{"$f":"IF(ISERROR((#REF!-#REF!)/#REF!),0,(#REF!-#REF!)/#REF!)","v":0},{"$f":"IF(ISERROR((#REF!-#REF!)/#REF!),0,(#REF!-#REF!)/#REF!)","v":0},{"$f":"IF(ISERROR((#REF!-#REF!)/#REF!),0,(#REF!-#REF!)/#REF!)","v":0},{"$f":"IF(ISERROR((#REF!-#REF!)/#REF!),0,(#REF!-#REF!)/#REF!)","v":0},{"$f":"IF(ISERROR((#REF!-#REF!)/#REF!),0,(#REF!-#REF!)/#REF!)","v":0},{"$f":"IF(ISERROR((#REF!-#REF!)/#REF!),0,(#REF!-#REF!)/#REF!)","v":0},{"$f":"IF(ISERROR((#REF!-#REF!)/#REF!),0,(#REF!-#REF!)/#REF!)","v":0},{"$f":"IF(ISERROR((#REF!-#REF!)/#REF!),0,(#REF!-#REF!)/#REF!)","v":0},{"$f":"IF(ISERROR((#REF!-#REF!)/#REF!),0,(#REF!-#REF!)/#REF!)","v":0},{"$f":"IF(ISERROR((#REF!-#REF!)/#REF!),0,(#REF!-#REF!)/#REF!)","v":0},{"$f":"IF(ISERROR((#REF!-#REF!)/#REF!),0,(#REF!-#REF!)/#REF!)","v":0}]
[null,"LB65B","Major Endoscopic Kidney or Ureter Procedures, 19 years and over without Major CC",0,1630,0,0,5,2185,10,200,"No","-",0,"","",{"$f":"IF(ISERROR((#REF!-#REF!)/#REF!),0,(#REF!-#REF!)/#REF!)","v":0},{"$f":"IF(ISERROR((#REF!-#REF!)/#REF!),0,(#REF!-#REF!)/#REF!)","v":0},{"$f":"IF(ISERROR((#REF!-#REF!)/#REF!),0,(#REF!-#REF!)/#REF!)","v":0},{"$f":"IF(ISERROR((#REF!-#REF!)/#REF!),0,(#REF!-#REF!)/#REF!)","v":0},{"$f":"IF(ISERROR((#REF!-#REF!)/#REF!),0,(#REF!-#REF!)/#REF!)","v":0},{"$f":"IF(ISERROR((#REF!-#REF!)/#REF!),0,(#REF!-#REF!)/#REF!)","v":0},{"$f":"IF(ISERROR((#REF!-#REF!)/#REF!),0,(#REF!-#REF!)/#REF!)","v":0},{"$f":"IF(ISERROR((#REF!-#REF!)/#REF!),0,(#REF!-#REF!)/#REF!)","v":0},{"$f":"IF(ISERROR((#REF!-#REF!)/#REF!),0,(#REF!-#REF!)/#REF!)","v":0},{"$f":"IF(ISERROR((#REF!-#REF!)/#REF!),0,(#REF!-#REF!)/#REF!)","v":0},{"$f":"IF(ISERROR((#REF!-#REF!)/#REF!),0,(#REF!-#REF!)/#REF!)","v":0},{"$f":"IF(ISERROR((#REF!-#REF!)/#REF!),0,(#REF!-#REF!)/#REF!)","v":0},{"$f":"IF(ISERROR((#REF!-#REF!)/#REF!),0,(#REF!-#REF!)/#REF!)","v":0}]
[null,"LB66Z","Complex or Major Endoscopic, Kidney or Ureter Procedures, 18 years and under",0,2797,0,0,5,2914,9,369,"No","-",0,"","",{"$f":"IF(ISERROR((#REF!-#REF!)/#REF!),0,(#REF!-#REF!)/#REF!)","v":0},{"$f":"IF(ISERROR((#REF!-#REF!)/#REF!),0,(#REF!-#REF!)/#REF!)","v":0},{"$f":"IF(ISERROR((#REF!-#REF!)/#REF!),0,(#REF!-#REF!)/#REF!)","v":0},{"$f":"IF(ISERROR((#REF!-#REF!)/#REF!),0,(#REF!-#REF!)/#REF!)","v":0},{"$f":"IF(ISERROR((#REF!-#REF!)/#REF!),0,(#REF!-#REF!)/#REF!)","v":0},{"$f":"IF(ISERROR((#REF!-#REF!)/#REF!),0,(#REF!-#REF!)/#REF!)","v":0},{"$f":"IF(ISERROR((#REF!-#REF!)/#REF!),0,(#REF!-#REF!)/#REF!)","v":0},{"$f":"IF(ISERROR((#REF!-#REF!)/#REF!),0,(#REF!-#REF!)/#REF!)","v":0},{"$f":"IF(ISERROR((#REF!-#REF!)/#REF!),0,(#REF!-#REF!)/#REF!)","v":0},{"$f":"IF(ISERROR((#REF!-#REF!)/#REF!),0,(#REF!-#REF!)/#REF!)","v":0},{"$f":"IF(ISERROR((#REF!-#REF!)/#REF!),0,(#REF!-#REF!)/#REF!)","v":0},{"$f":"IF(ISERROR((#REF!-#REF!)/#REF!),0,(#REF!-#REF!)/#REF!)","v":0},{"$f":"IF(ISERROR((#REF!-#REF!)/#REF!),0,(#REF!-#REF!)/#REF!)","v":0}]
[null,"LB67A","Complex Open Bladder Procedures with Major CC",0,11379,0,0,59,13945,103,200,"No","-",0,"","",{"$f":"IF(ISERROR((#REF!-#REF!)/#REF!),0,(#REF!-#REF!)/#REF!)","v":0},{"$f":"IF(ISERROR((#REF!-#REF!)/#REF!),0,(#REF!-#REF!)/#REF!)","v":0},{"$f":"IF(ISERROR((#REF!-#REF!)/#REF!),0,(#REF!-#REF!)/#REF!)","v":0},{"$f":"IF(ISERROR((#REF!-#REF!)/#REF!),0,(#REF!-#REF!)/#REF!)","v":0},{"$f":"IF(ISERROR((#REF!-#REF!)/#REF!),0,(#REF!-#REF!)/#REF!)","v":0},{"$f":"IF(ISERROR((#REF!-#REF!)/#REF!),0,(#REF!-#REF!)/#REF!)","v":0},{"$f":"IF(ISERROR((#REF!-#REF!)/#REF!),0,(#REF!-#REF!)/#REF!)","v":0},{"$f":"IF(ISERROR((#REF!-#REF!)/#REF!),0,(#REF!-#REF!)/#REF!)","v":0},{"$f":"IF(ISERROR((#REF!-#REF!)/#REF!),0,(#REF!-#REF!)/#REF!)","v":0},{"$f":"IF(ISERROR((#REF!-#REF!)/#REF!),0,(#REF!-#REF!)/#REF!)","v":0},{"$f":"IF(ISERROR((#REF!-#REF!)/#REF!),0,(#REF!-#REF!)/#REF!)","v":0},{"$f":"IF(ISERROR((#REF!-#REF!)/#REF!),0,(#REF!-#REF!)/#REF!)","v":0},{"$f":"IF(ISERROR((#REF!-#REF!)/#REF!),0,(#REF!-#REF!)/#REF!)","v":0}]
[null,"LB67B","Complex Open Bladder Procedures without Major CC",0,7153,0,0,25,9041,50,200,"No","-",0,"","",{"$f":"IF(ISERROR((#REF!-#REF!)/#REF!),0,(#REF!-#REF!)/#REF!)","v":0},{"$f":"IF(ISERROR((#REF!-#REF!)/#REF!),0,(#REF!-#REF!)/#REF!)","v":0},{"$f":"IF(ISERROR((#REF!-#REF!)/#REF!),0,(#REF!-#REF!)/#REF!)","v":0},{"$f":"IF(ISERROR((#REF!-#REF!)/#REF!),0,(#REF!-#REF!)/#REF!)","v":0},{"$f":"IF(ISERROR((#REF!-#REF!)/#REF!),0,(#REF!-#REF!)/#REF!)","v":0},{"$f":"IF(ISERROR((#REF!-#REF!)/#REF!),0,(#REF!-#REF!)/#REF!)","v":0},{"$f":"IF(ISERROR((#REF!-#REF!)/#REF!),0,(#REF!-#REF!)/#REF!)","v":0},{"$f":"IF(ISERROR((#REF!-#REF!)/#REF!),0,(#REF!-#REF!)/#REF!)","v":0},{"$f":"IF(ISERROR((#REF!-#REF!)/#REF!),0,(#REF!-#REF!)/#REF!)","v":0},{"$f":"IF(ISERROR((#REF!-#REF!)/#REF!),0,(#REF!-#REF!)/#REF!)","v":0},{"$f":"IF(ISERROR((#REF!-#REF!)/#REF!),0,(#REF!-#REF!)/#REF!)","v":0},{"$f":"IF(ISERROR((#REF!-#REF!)/#REF!),0,(#REF!-#REF!)/#REF!)","v":0},{"$f":"IF(ISERROR((#REF!-#REF!)/#REF!),0,(#REF!-#REF!)/#REF!)","v":0}]
[null,"LB68Z","Complex Endoscopic Bladder Procedures",0,2119,0,0,6,5064,39,200,"No","-",0,"","",{"$f":"IF(ISERROR((#REF!-#REF!)/#REF!),0,(#REF!-#REF!)/#REF!)","v":0},{"$f":"IF(ISERROR((#REF!-#REF!)/#REF!),0,(#REF!-#REF!)/#REF!)","v":0},{"$f":"IF(ISERROR((#REF!-#REF!)/#REF!),0,(#REF!-#REF!)/#REF!)","v":0},{"$f":"IF(ISERROR((#REF!-#REF!)/#REF!),0,(#REF!-#REF!)/#REF!)","v":0},{"$f":"IF(ISERROR((#REF!-#REF!)/#REF!),0,(#REF!-#REF!)/#REF!)","v":0},{"$f":"IF(ISERROR((#REF!-#REF!)/#REF!),0,(#REF!-#REF!)/#REF!)","v":0},{"$f":"IF(ISERROR((#REF!-#REF!)/#REF!),0,(#REF!-#REF!)/#REF!)","v":0},{"$f":"IF(ISERROR((#REF!-#REF!)/#REF!),0,(#REF!-#REF!)/#REF!)","v":0},{"$f":"IF(ISERROR((#REF!-#REF!)/#REF!),0,(#REF!-#REF!)/#REF!)","v":0},{"$f":"IF(ISERROR((#REF!-#REF!)/#REF!),0,(#REF!-#REF!)/#REF!)","v":0},{"$f":"IF(ISERROR((#REF!-#REF!)/#REF!),0,(#REF!-#REF!)/#REF!)","v":0},{"$f":"IF(ISERROR((#REF!-#REF!)/#REF!),0,(#REF!-#REF!)/#REF!)","v":0},{"$f":"IF(ISERROR((#REF!-#REF!)/#REF!),0,(#REF!-#REF!)/#REF!)","v":0}]
[null,"LB69Z","Major Robotic Prostate or Bladder Neck Procedures (Male)",0,4513,0,0,6,6554,6,200,"No","-",0,"","",{"$f":"IF(ISERROR((#REF!-#REF!)/#REF!),0,(#REF!-#REF!)/#REF!)","v":0},{"$f":"IF(ISERROR((#REF!-#REF!)/#REF!),0,(#REF!-#REF!)/#REF!)","v":0},{"$f":"IF(ISERROR((#REF!-#REF!)/#REF!),0,(#REF!-#REF!)/#REF!)","v":0},{"$f":"IF(ISERROR((#REF!-#REF!)/#REF!),0,(#REF!-#REF!)/#REF!)","v":0},{"$f":"IF(ISERROR((#REF!-#REF!)/#REF!),0,(#REF!-#REF!)/#REF!)","v":0},{"$f":"IF(ISERROR((#REF!-#REF!)/#REF!),0,(#REF!-#REF!)/#REF!)","v":0},{"$f":"IF(ISERROR((#REF!-#REF!)/#REF!),0,(#REF!-#REF!)/#REF!)","v":0},{"$f":"IF(ISERROR((#REF!-#REF!)/#REF!),0,(#REF!-#REF!)/#REF!)","v":0},{"$f":"IF(ISERROR((#REF!-#REF!)/#REF!),0,(#REF!-#REF!)/#REF!)","v":0},{"$f":"IF(ISERROR((#REF!-#REF!)/#REF!),0,(#REF!-#REF!)/#REF!)","v":0},{"$f":"IF(ISERROR((#REF!-#REF!)/#REF!),0,(#REF!-#REF!)/#REF!)","v":0},{"$f":"IF(ISERROR((#REF!-#REF!)/#REF!),0,(#REF!-#REF!)/#REF!)","v":0},{"$f":"IF(ISERROR((#REF!-#REF!)/#REF!),0,(#REF!-#REF!)/#REF!)","v":0}]
[null,"LB70A","Complex Endoscopic Prostate or Bladder Neck Procedures (Male and Female) with CC",0,2339,0,0,7,6522,40,200,"No","-",0,"","",{"$f":"IF(ISERROR((#REF!-#REF!)/#REF!),0,(#REF!-#REF!)/#REF!)","v":0},{"$f":"IF(ISERROR((#REF!-#REF!)/#REF!),0,(#REF!-#REF!)/#REF!)","v":0},{"$f":"IF(ISERROR((#REF!-#REF!)/#REF!),0,(#REF!-#REF!)/#REF!)","v":0},{"$f":"IF(ISERROR((#REF!-#REF!)/#REF!),0,(#REF!-#REF!)/#REF!)","v":0},{"$f":"IF(ISERROR((#REF!-#REF!)/#REF!),0,(#REF!-#REF!)/#REF!)","v":0},{"$f":"IF(ISERROR((#REF!-#REF!)/#REF!),0,(#REF!-#REF!)/#REF!)","v":0},{"$f":"IF(ISERROR((#REF!-#REF!)/#REF!),0,(#REF!-#REF!)/#REF!)","v":0},{"$f":"IF(ISERROR((#REF!-#REF!)/#REF!),0,(#REF!-#REF!)/#REF!)","v":0},{"$f":"IF(ISERROR((#REF!-#REF!)/#REF!),0,(#REF!-#REF!)/#REF!)","v":0},{"$f":"IF(ISERROR((#REF!-#REF!)/#REF!),0,(#REF!-#REF!)/#REF!)","v":0},{"$f":"IF(ISERROR((#REF!-#REF!)/#REF!),0,(#REF!-#REF!)/#REF!)","v":0},{"$f":"IF(ISERROR((#REF!-#REF!)/#REF!),0,(#REF!-#REF!)/#REF!)","v":0},{"$f":"IF(ISERROR((#REF!-#REF!)/#REF!),0,(#REF!-#REF!)/#REF!)","v":0}]
[null,"LB70B","Complex Endoscopic Prostate or Bladder Neck Procedures (Male and Female) without CC",0,2052,0,0,6,2846,16,200,"No","-",0,"","",{"$f":"IF(ISERROR((#REF!-#REF!)/#REF!),0,(#REF!-#REF!)/#REF!)","v":0},{"$f":"IF(ISERROR((#REF!-#REF!)/#REF!),0,(#REF!-#REF!)/#REF!)","v":0},{"$f":"IF(ISERROR((#REF!-#REF!)/#REF!),0,(#REF!-#REF!)/#REF!)","v":0},{"$f":"IF(ISERROR((#REF!-#REF!)/#REF!),0,(#REF!-#REF!)/#REF!)","v":0},{"$f":"IF(ISERROR((#REF!-#REF!)/#REF!),0,(#REF!-#REF!)/#REF!)","v":0},{"$f":"IF(ISERROR((#REF!-#REF!)/#REF!),0,(#REF!-#REF!)/#REF!)","v":0},{"$f":"IF(ISERROR((#REF!-#REF!)/#REF!),0,(#REF!-#REF!)/#REF!)","v":0},{"$f":"IF(ISERROR((#REF!-#REF!)/#REF!),0,(#REF!-#REF!)/#REF!)","v":0},{"$f":"IF(ISERROR((#REF!-#REF!)/#REF!),0,(#REF!-#REF!)/#REF!)","v":0},{"$f":"IF(ISERROR((#REF!-#REF!)/#REF!),0,(#REF!-#REF!)/#REF!)","v":0},{"$f":"IF(ISERROR((#REF!-#REF!)/#REF!),0,(#REF!-#REF!)/#REF!)","v":0},{"$f":"IF(ISERROR((#REF!-#REF!)/#REF!),0,(#REF!-#REF!)/#REF!)","v":0},{"$f":"IF(ISERROR((#REF!-#REF!)/#REF!),0,(#REF!-#REF!)/#REF!)","v":0}]
[null,"LB71Z","Total Pelvic Exenteration",0,12099,0,0,57,13282,119,200,"No","-",0,"","",{"$f":"IF(ISERROR((#REF!-#REF!)/#REF!),0,(#REF!-#REF!)/#REF!)","v":0},{"$f":"IF(ISERROR((#REF!-#REF!)/#REF!),0,(#REF!-#REF!)/#REF!)","v":0},{"$f":"IF(ISERROR((#REF!-#REF!)/#REF!),0,(#REF!-#REF!)/#REF!)","v":0},{"$f":"IF(ISERROR((#REF!-#REF!)/#REF!),0,(#REF!-#REF!)/#REF!)","v":0},{"$f":"IF(ISERROR((#REF!-#REF!)/#REF!),0,(#REF!-#REF!)/#REF!)","v":0},{"$f":"IF(ISERROR((#REF!-#REF!)/#REF!),0,(#REF!-#REF!)/#REF!)","v":0},{"$f":"IF(ISERROR((#REF!-#REF!)/#REF!),0,(#REF!-#REF!)/#REF!)","v":0},{"$f":"IF(ISERROR((#REF!-#REF!)/#REF!),0,(#REF!-#REF!)/#REF!)","v":0},{"$f":"IF(ISERROR((#REF!-#REF!)/#REF!),0,(#REF!-#REF!)/#REF!)","v":0},{"$f":"IF(ISERROR((#REF!-#REF!)/#REF!),0,(#REF!-#REF!)/#REF!)","v":0},{"$f":"IF(ISERROR((#REF!-#REF!)/#REF!),0,(#REF!-#REF!)/#REF!)","v":0},{"$f":"IF(ISERROR((#REF!-#REF!)/#REF!),0,(#REF!-#REF!)/#REF!)","v":0},{"$f":"IF(ISERROR((#REF!-#REF!)/#REF!),0,(#REF!-#REF!)/#REF!)","v":0}]
[null,"LB72A","Diagnostic Flexible Cystoscopy, 19 years and over",386,221,0,0,5,588,5,200,"No","-",0,1,"HRG",{"$f":"IF(ISERROR((#REF!-#REF!)/#REF!),0,(#REF!-#REF!)/#REF!)","v":0},{"$f":"IF(ISERROR((#REF!-#REF!)/#REF!),0,(#REF!-#REF!)/#REF!)","v":0},{"$f":"IF(ISERROR((#REF!-#REF!)/#REF!),0,(#REF!-#REF!)/#REF!)","v":0},{"$f":"IF(ISERROR((#REF!-#REF!)/#REF!),0,(#REF!-#REF!)/#REF!)","v":0},{"$f":"IF(ISERROR((#REF!-#REF!)/#REF!),0,(#REF!-#REF!)/#REF!)","v":0},{"$f":"IF(ISERROR((#REF!-#REF!)/#REF!),0,(#REF!-#REF!)/#REF!)","v":0},{"$f":"IF(ISERROR((#REF!-#REF!)/#REF!),0,(#REF!-#REF!)/#REF!)","v":0},{"$f":"IF(ISERROR((#REF!-#REF!)/#REF!),0,(#REF!-#REF!)/#REF!)","v":0},{"$f":"IF(ISERROR((#REF!-#REF!)/#REF!),0,(#REF!-#REF!)/#REF!)","v":0},{"$f":"IF(ISERROR((#REF!-#REF!)/#REF!),0,(#REF!-#REF!)/#REF!)","v":0},{"$f":"IF(ISERROR((#REF!-#REF!)/#REF!),0,(#REF!-#REF!)/#REF!)","v":0},{"$f":"IF(ISERROR((#REF!-#REF!)/#REF!),0,(#REF!-#REF!)/#REF!)","v":0},{"$f":"IF(ISERROR((#REF!-#REF!)/#REF!),0,(#REF!-#REF!)/#REF!)","v":0}]
[null,"LB72B","Diagnostic Flexible Cystoscopy, 18 years and under",0,680,0,0,5,1069,5,369,"No","-",0,"","",{"$f":"IF(ISERROR((#REF!-#REF!)/#REF!),0,(#REF!-#REF!)/#REF!)","v":0},{"$f":"IF(ISERROR((#REF!-#REF!)/#REF!),0,(#REF!-#REF!)/#REF!)","v":0},{"$f":"IF(ISERROR((#REF!-#REF!)/#REF!),0,(#REF!-#REF!)/#REF!)","v":0},{"$f":"IF(ISERROR((#REF!-#REF!)/#REF!),0,(#REF!-#REF!)/#REF!)","v":0},{"$f":"IF(ISERROR((#REF!-#REF!)/#REF!),0,(#REF!-#REF!)/#REF!)","v":0},{"$f":"IF(ISERROR((#REF!-#REF!)/#REF!),0,(#REF!-#REF!)/#REF!)","v":0},{"$f":"IF(ISERROR((#REF!-#REF!)/#REF!),0,(#REF!-#REF!)/#REF!)","v":0},{"$f":"IF(ISERROR((#REF!-#REF!)/#REF!),0,(#REF!-#REF!)/#REF!)","v":0},{"$f":"IF(ISERROR((#REF!-#REF!)/#REF!),0,(#REF!-#REF!)/#REF!)","v":0},{"$f":"IF(ISERROR((#REF!-#REF!)/#REF!),0,(#REF!-#REF!)/#REF!)","v":0},{"$f":"IF(ISERROR((#REF!-#REF!)/#REF!),0,(#REF!-#REF!)/#REF!)","v":0},{"$f":"IF(ISERROR((#REF!-#REF!)/#REF!),0,(#REF!-#REF!)/#REF!)","v":0},{"$f":"IF(ISERROR((#REF!-#REF!)/#REF!),0,(#REF!-#REF!)/#REF!)","v":0}]
[null,"LB73Z","Diagnostic Flexible Cystoscopy using Photodynamic Fluorescence",0,1135,0,0,5,470,5,200,"No","-",0,"","",{"$f":"IF(ISERROR((#REF!-#REF!)/#REF!),0,(#REF!-#REF!)/#REF!)","v":0},{"$f":"IF(ISERROR((#REF!-#REF!)/#REF!),0,(#REF!-#REF!)/#REF!)","v":0},{"$f":"IF(ISERROR((#REF!-#REF!)/#REF!),0,(#REF!-#REF!)/#REF!)","v":0},{"$f":"IF(ISERROR((#REF!-#REF!)/#REF!),0,(#REF!-#REF!)/#REF!)","v":0},{"$f":"IF(ISERROR((#REF!-#REF!)/#REF!),0,(#REF!-#REF!)/#REF!)","v":0},{"$f":"IF(ISERROR((#REF!-#REF!)/#REF!),0,(#REF!-#REF!)/#REF!)","v":0},{"$f":"IF(ISERROR((#REF!-#REF!)/#REF!),0,(#REF!-#REF!)/#REF!)","v":0},{"$f":"IF(ISERROR((#REF!-#REF!)/#REF!),0,(#REF!-#REF!)/#REF!)","v":0},{"$f":"IF(ISERROR((#REF!-#REF!)/#REF!),0,(#REF!-#REF!)/#REF!)","v":0},{"$f":"IF(ISERROR((#REF!-#REF!)/#REF!),0,(#REF!-#REF!)/#REF!)","v":0},{"$f":"IF(ISERROR((#REF!-#REF!)/#REF!),0,(#REF!-#REF!)/#REF!)","v":0},{"$f":"IF(ISERROR((#REF!-#REF!)/#REF!),0,(#REF!-#REF!)/#REF!)","v":0},{"$f":"IF(ISERROR((#REF!-#REF!)/#REF!),0,(#REF!-#REF!)/#REF!)","v":0}]
[null,"LB74Z","Implantation of Penile Prosthesis",0,8596,0,0,5,8622,20,200,"No","-",0,"","",{"$f":"IF(ISERROR((#REF!-#REF!)/#REF!),0,(#REF!-#REF!)/#REF!)","v":0},{"$f":"IF(ISERROR((#REF!-#REF!)/#REF!),0,(#REF!-#REF!)/#REF!)","v":0},{"$f":"IF(ISERROR((#REF!-#REF!)/#REF!),0,(#REF!-#REF!)/#REF!)","v":0},{"$f":"IF(ISERROR((#REF!-#REF!)/#REF!),0,(#REF!-#REF!)/#REF!)","v":0},{"$f":"IF(ISERROR((#REF!-#REF!)/#REF!),0,(#REF!-#REF!)/#REF!)","v":0},{"$f":"IF(ISERROR((#REF!-#REF!)/#REF!),0,(#REF!-#REF!)/#REF!)","v":0},{"$f":"IF(ISERROR((#REF!-#REF!)/#REF!),0,(#REF!-#REF!)/#REF!)","v":0},{"$f":"IF(ISERROR((#REF!-#REF!)/#REF!),0,(#REF!-#REF!)/#REF!)","v":0},{"$f":"IF(ISERROR((#REF!-#REF!)/#REF!),0,(#REF!-#REF!)/#REF!)","v":0},{"$f":"IF(ISERROR((#REF!-#REF!)/#REF!),0,(#REF!-#REF!)/#REF!)","v":0},{"$f":"IF(ISERROR((#REF!-#REF!)/#REF!),0,(#REF!-#REF!)/#REF!)","v":0},{"$f":"IF(ISERROR((#REF!-#REF!)/#REF!),0,(#REF!-#REF!)/#REF!)","v":0},{"$f":"IF(ISERROR((#REF!-#REF!)/#REF!),0,(#REF!-#REF!)/#REF!)","v":0}]
[null,"MA01Z","Complex Open Upper or Lower Genital Tract Procedures",0,3995,0,0,12,6382,46,249,"No","-",0,"","",{"$f":"IF(ISERROR((#REF!-#REF!)/#REF!),0,(#REF!-#REF!)/#REF!)","v":0},{"$f":"IF(ISERROR((#REF!-#REF!)/#REF!),0,(#REF!-#REF!)/#REF!)","v":0},{"$f":"IF(ISERROR((#REF!-#REF!)/#REF!),0,(#REF!-#REF!)/#REF!)","v":0},{"$f":"IF(ISERROR((#REF!-#REF!)/#REF!),0,(#REF!-#REF!)/#REF!)","v":0},{"$f":"IF(ISERROR((#REF!-#REF!)/#REF!),0,(#REF!-#REF!)/#REF!)","v":0},{"$f":"IF(ISERROR((#REF!-#REF!)/#REF!),0,(#REF!-#REF!)/#REF!)","v":0},{"$f":"IF(ISERROR((#REF!-#REF!)/#REF!),0,(#REF!-#REF!)/#REF!)","v":0},{"$f":"IF(ISERROR((#REF!-#REF!)/#REF!),0,(#REF!-#REF!)/#REF!)","v":0},{"$f":"IF(ISERROR((#REF!-#REF!)/#REF!),0,(#REF!-#REF!)/#REF!)","v":0},{"$f":"IF(ISERROR((#REF!-#REF!)/#REF!),0,(#REF!-#REF!)/#REF!)","v":0},{"$f":"IF(ISERROR((#REF!-#REF!)/#REF!),0,(#REF!-#REF!)/#REF!)","v":0},{"$f":"IF(ISERROR((#REF!-#REF!)/#REF!),0,(#REF!-#REF!)/#REF!)","v":0},{"$f":"IF(ISERROR((#REF!-#REF!)/#REF!),0,(#REF!-#REF!)/#REF!)","v":0}]
[null,"MA02Z","Very Major Open Upper or Lower Genital Tract Procedures",0,3115,0,0,7,4646,19,249,"No","-",0,"","",{"$f":"IF(ISERROR((#REF!-#REF!)/#REF!),0,(#REF!-#REF!)/#REF!)","v":0},{"$f":"IF(ISERROR((#REF!-#REF!)/#REF!),0,(#REF!-#REF!)/#REF!)","v":0},{"$f":"IF(ISERROR((#REF!-#REF!)/#REF!),0,(#REF!-#REF!)/#REF!)","v":0},{"$f":"IF(ISERROR((#REF!-#REF!)/#REF!),0,(#REF!-#REF!)/#REF!)","v":0},{"$f":"IF(ISERROR((#REF!-#REF!)/#REF!),0,(#REF!-#REF!)/#REF!)","v":0},{"$f":"IF(ISERROR((#REF!-#REF!)/#REF!),0,(#REF!-#REF!)/#REF!)","v":0},{"$f":"IF(ISERROR((#REF!-#REF!)/#REF!),0,(#REF!-#REF!)/#REF!)","v":0},{"$f":"IF(ISERROR((#REF!-#REF!)/#REF!),0,(#REF!-#REF!)/#REF!)","v":0},{"$f":"IF(ISERROR((#REF!-#REF!)/#REF!),0,(#REF!-#REF!)/#REF!)","v":0},{"$f":"IF(ISERROR((#REF!-#REF!)/#REF!),0,(#REF!-#REF!)/#REF!)","v":0},{"$f":"IF(ISERROR((#REF!-#REF!)/#REF!),0,(#REF!-#REF!)/#REF!)","v":0},{"$f":"IF(ISERROR((#REF!-#REF!)/#REF!),0,(#REF!-#REF!)/#REF!)","v":0},{"$f":"IF(ISERROR((#REF!-#REF!)/#REF!),0,(#REF!-#REF!)/#REF!)","v":0}]
[null,"MA03A","Major Open Lower Genital Tract Procedures with CC",0,3508.4746265137637,0,0,5,2941,23,249,"No","-",0,"","",{"$f":"IF(ISERROR((#REF!-#REF!)/#REF!),0,(#REF!-#REF!)/#REF!)","v":0},{"$f":"IF(ISERROR((#REF!-#REF!)/#REF!),0,(#REF!-#REF!)/#REF!)","v":0},{"$f":"IF(ISERROR((#REF!-#REF!)/#REF!),0,(#REF!-#REF!)/#REF!)","v":0},{"$f":"IF(ISERROR((#REF!-#REF!)/#REF!),0,(#REF!-#REF!)/#REF!)","v":0},{"$f":"IF(ISERROR((#REF!-#REF!)/#REF!),0,(#REF!-#REF!)/#REF!)","v":0},{"$f":"IF(ISERROR((#REF!-#REF!)/#REF!),0,(#REF!-#REF!)/#REF!)","v":0},{"$f":"IF(ISERROR((#REF!-#REF!)/#REF!),0,(#REF!-#REF!)/#REF!)","v":0},{"$f":"IF(ISERROR((#REF!-#REF!)/#REF!),0,(#REF!-#REF!)/#REF!)","v":0},{"$f":"IF(ISERROR((#REF!-#REF!)/#REF!),0,(#REF!-#REF!)/#REF!)","v":0},{"$f":"IF(ISERROR((#REF!-#REF!)/#REF!),0,(#REF!-#REF!)/#REF!)","v":0},{"$f":"IF(ISERROR((#REF!-#REF!)/#REF!),0,(#REF!-#REF!)/#REF!)","v":0},{"$f":"IF(ISERROR((#REF!-#REF!)/#REF!),0,(#REF!-#REF!)/#REF!)","v":0},{"$f":"IF(ISERROR((#REF!-#REF!)/#REF!),0,(#REF!-#REF!)/#REF!)","v":0}]
[null,"MA03B","Major Open Lower Genital Tract Procedures without CC",0,3072.3432370909104,0,0,6,1604,6,249,"No","-",0,"","",{"$f":"IF(ISERROR((#REF!-#REF!)/#REF!),0,(#REF!-#REF!)/#REF!)","v":0},{"$f":"IF(ISERROR((#REF!-#REF!)/#REF!),0,(#REF!-#REF!)/#REF!)","v":0},{"$f":"IF(ISERROR((#REF!-#REF!)/#REF!),0,(#REF!-#REF!)/#REF!)","v":0},{"$f":"IF(ISERROR((#REF!-#REF!)/#REF!),0,(#REF!-#REF!)/#REF!)","v":0},{"$f":"IF(ISERROR((#REF!-#REF!)/#REF!),0,(#REF!-#REF!)/#REF!)","v":0},{"$f":"IF(ISERROR((#REF!-#REF!)/#REF!),0,(#REF!-#REF!)/#REF!)","v":0},{"$f":"IF(ISERROR((#REF!-#REF!)/#REF!),0,(#REF!-#REF!)/#REF!)","v":0},{"$f":"IF(ISERROR((#REF!-#REF!)/#REF!),0,(#REF!-#REF!)/#REF!)","v":0},{"$f":"IF(ISERROR((#REF!-#REF!)/#REF!),0,(#REF!-#REF!)/#REF!)","v":0},{"$f":"IF(ISERROR((#REF!-#REF!)/#REF!),0,(#REF!-#REF!)/#REF!)","v":0},{"$f":"IF(ISERROR((#REF!-#REF!)/#REF!),0,(#REF!-#REF!)/#REF!)","v":0},{"$f":"IF(ISERROR((#REF!-#REF!)/#REF!),0,(#REF!-#REF!)/#REF!)","v":0},{"$f":"IF(ISERROR((#REF!-#REF!)/#REF!),0,(#REF!-#REF!)/#REF!)","v":0}]
[null,"MA04A","Intermediate Open Lower Genital Tract Procedures with CC",0,2490.8801647844289,0,0,6,2012,8,249,"No","-",0,"","",{"$f":"IF(ISERROR((#REF!-#REF!)/#REF!),0,(#REF!-#REF!)/#REF!)","v":0},{"$f":"IF(ISERROR((#REF!-#REF!)/#REF!),0,(#REF!-#REF!)/#REF!)","v":0},{"$f":"IF(ISERROR((#REF!-#REF!)/#REF!),0,(#REF!-#REF!)/#REF!)","v":0},{"$f":"IF(ISERROR((#REF!-#REF!)/#REF!),0,(#REF!-#REF!)/#REF!)","v":0},{"$f":"IF(ISERROR((#REF!-#REF!)/#REF!),0,(#REF!-#REF!)/#REF!)","v":0},{"$f":"IF(ISERROR((#REF!-#REF!)/#REF!),0,(#REF!-#REF!)/#REF!)","v":0},{"$f":"IF(ISERROR((#REF!-#REF!)/#REF!),0,(#REF!-#REF!)/#REF!)","v":0},{"$f":"IF(ISERROR((#REF!-#REF!)/#REF!),0,(#REF!-#REF!)/#REF!)","v":0},{"$f":"IF(ISERROR((#REF!-#REF!)/#REF!),0,(#REF!-#REF!)/#REF!)","v":0},{"$f":"IF(ISERROR((#REF!-#REF!)/#REF!),0,(#REF!-#REF!)/#REF!)","v":0},{"$f":"IF(ISERROR((#REF!-#REF!)/#REF!),0,(#REF!-#REF!)/#REF!)","v":0},{"$f":"IF(ISERROR((#REF!-#REF!)/#REF!),0,(#REF!-#REF!)/#REF!)","v":0},{"$f":"IF(ISERROR((#REF!-#REF!)/#REF!),0,(#REF!-#REF!)/#REF!)","v":0}]
[null,"MA04B","Intermediate Open Lower Genital Tract Procedures without CC",0,2029.2312155391983,0,0,5,1430,5,249,"No","-",0,"","",{"$f":"IF(ISERROR((#REF!-#REF!)/#REF!),0,(#REF!-#REF!)/#REF!)","v":0},{"$f":"IF(ISERROR((#REF!-#REF!)/#REF!),0,(#REF!-#REF!)/#REF!)","v":0},{"$f":"IF(ISERROR((#REF!-#REF!)/#REF!),0,(#REF!-#REF!)/#REF!)","v":0},{"$f":"IF(ISERROR((#REF!-#REF!)/#REF!),0,(#REF!-#REF!)/#REF!)","v":0},{"$f":"IF(ISERROR((#REF!-#REF!)/#REF!),0,(#REF!-#REF!)/#REF!)","v":0},{"$f":"IF(ISERROR((#REF!-#REF!)/#REF!),0,(#REF!-#REF!)/#REF!)","v":0},{"$f":"IF(ISERROR((#REF!-#REF!)/#REF!),0,(#REF!-#REF!)/#REF!)","v":0},{"$f":"IF(ISERROR((#REF!-#REF!)/#REF!),0,(#REF!-#REF!)/#REF!)","v":0},{"$f":"IF(ISERROR((#REF!-#REF!)/#REF!),0,(#REF!-#REF!)/#REF!)","v":0},{"$f":"IF(ISERROR((#REF!-#REF!)/#REF!),0,(#REF!-#REF!)/#REF!)","v":0},{"$f":"IF(ISERROR((#REF!-#REF!)/#REF!),0,(#REF!-#REF!)/#REF!)","v":0},{"$f":"IF(ISERROR((#REF!-#REF!)/#REF!),0,(#REF!-#REF!)/#REF!)","v":0},{"$f":"IF(ISERROR((#REF!-#REF!)/#REF!),0,(#REF!-#REF!)/#REF!)","v":0}]
[null,"MA06Z","Major Open or Laparoscopic, Upper or Lower Genital Tract Procedures for Malignancy",0,4033.8406311142753,0,0,7,4713,27,249,"No","-",0,"","",{"$f":"IF(ISERROR((#REF!-#REF!)/#REF!),0,(#REF!-#REF!)/#REF!)","v":0},{"$f":"IF(ISERROR((#REF!-#REF!)/#REF!),0,(#REF!-#REF!)/#REF!)","v":0},{"$f":"IF(ISERROR((#REF!-#REF!)/#REF!),0,(#REF!-#REF!)/#REF!)","v":0},{"$f":"IF(ISERROR((#REF!-#REF!)/#REF!),0,(#REF!-#REF!)/#REF!)","v":0},{"$f":"IF(ISERROR((#REF!-#REF!)/#REF!),0,(#REF!-#REF!)/#REF!)","v":0},{"$f":"IF(ISERROR((#REF!-#REF!)/#REF!),0,(#REF!-#REF!)/#REF!)","v":0},{"$f":"IF(ISERROR((#REF!-#REF!)/#REF!),0,(#REF!-#REF!)/#REF!)","v":0},{"$f":"IF(ISERROR((#REF!-#REF!)/#REF!),0,(#REF!-#REF!)/#REF!)","v":0},{"$f":"IF(ISERROR((#REF!-#REF!)/#REF!),0,(#REF!-#REF!)/#REF!)","v":0},{"$f":"IF(ISERROR((#REF!-#REF!)/#REF!),0,(#REF!-#REF!)/#REF!)","v":0},{"$f":"IF(ISERROR((#REF!-#REF!)/#REF!),0,(#REF!-#REF!)/#REF!)","v":0},{"$f":"IF(ISERROR((#REF!-#REF!)/#REF!),0,(#REF!-#REF!)/#REF!)","v":0},{"$f":"IF(ISERROR((#REF!-#REF!)/#REF!),0,(#REF!-#REF!)/#REF!)","v":0}]
[null,"MA07C","Major Open Upper Genital Tract Procedures with Major CC",0,4935.5253953294741,0,0,11,5731,38,249,"No","-",0,"","",{"$f":"IF(ISERROR((#REF!-#REF!)/#REF!),0,(#REF!-#REF!)/#REF!)","v":0},{"$f":"IF(ISERROR((#REF!-#REF!)/#REF!),0,(#REF!-#REF!)/#REF!)","v":0},{"$f":"IF(ISERROR((#REF!-#REF!)/#REF!),0,(#REF!-#REF!)/#REF!)","v":0},{"$f":"IF(ISERROR((#REF!-#REF!)/#REF!),0,(#REF!-#REF!)/#REF!)","v":0},{"$f":"IF(ISERROR((#REF!-#REF!)/#REF!),0,(#REF!-#REF!)/#REF!)","v":0},{"$f":"IF(ISERROR((#REF!-#REF!)/#REF!),0,(#REF!-#REF!)/#REF!)","v":0},{"$f":"IF(ISERROR((#REF!-#REF!)/#REF!),0,(#REF!-#REF!)/#REF!)","v":0},{"$f":"IF(ISERROR((#REF!-#REF!)/#REF!),0,(#REF!-#REF!)/#REF!)","v":0},{"$f":"IF(ISERROR((#REF!-#REF!)/#REF!),0,(#REF!-#REF!)/#REF!)","v":0},{"$f":"IF(ISERROR((#REF!-#REF!)/#REF!),0,(#REF!-#REF!)/#REF!)","v":0},{"$f":"IF(ISERROR((#REF!-#REF!)/#REF!),0,(#REF!-#REF!)/#REF!)","v":0},{"$f":"IF(ISERROR((#REF!-#REF!)/#REF!),0,(#REF!-#REF!)/#REF!)","v":0},{"$f":"IF(ISERROR((#REF!-#REF!)/#REF!),0,(#REF!-#REF!)/#REF!)","v":0}]
[null,"MA07D","Major Open Upper Genital Tract Procedures without Major CC",0,3604.571057281596,0,0,5,2908,7,249,"No","-",0,"","",{"$f":"IF(ISERROR((#REF!-#REF!)/#REF!),0,(#REF!-#REF!)/#REF!)","v":0},{"$f":"IF(ISERROR((#REF!-#REF!)/#REF!),0,(#REF!-#REF!)/#REF!)","v":0},{"$f":"IF(ISERROR((#REF!-#REF!)/#REF!),0,(#REF!-#REF!)/#REF!)","v":0},{"$f":"IF(ISERROR((#REF!-#REF!)/#REF!),0,(#REF!-#REF!)/#REF!)","v":0},{"$f":"IF(ISERROR((#REF!-#REF!)/#REF!),0,(#REF!-#REF!)/#REF!)","v":0},{"$f":"IF(ISERROR((#REF!-#REF!)/#REF!),0,(#REF!-#REF!)/#REF!)","v":0},{"$f":"IF(ISERROR((#REF!-#REF!)/#REF!),0,(#REF!-#REF!)/#REF!)","v":0},{"$f":"IF(ISERROR((#REF!-#REF!)/#REF!),0,(#REF!-#REF!)/#REF!)","v":0},{"$f":"IF(ISERROR((#REF!-#REF!)/#REF!),0,(#REF!-#REF!)/#REF!)","v":0},{"$f":"IF(ISERROR((#REF!-#REF!)/#REF!),0,(#REF!-#REF!)/#REF!)","v":0},{"$f":"IF(ISERROR((#REF!-#REF!)/#REF!),0,(#REF!-#REF!)/#REF!)","v":0},{"$f":"IF(ISERROR((#REF!-#REF!)/#REF!),0,(#REF!-#REF!)/#REF!)","v":0},{"$f":"IF(ISERROR((#REF!-#REF!)/#REF!),0,(#REF!-#REF!)/#REF!)","v":0}]
[null,"MA08Z","Major Laparoscopic or Endoscopic, Upper Genital Tract Procedures",0,2174,0,0,5,2126,5,249,"No","-",0,"","",{"$f":"IF(ISERROR((#REF!-#REF!)/#REF!),0,(#REF!-#REF!)/#REF!)","v":0},{"$f":"IF(ISERROR((#REF!-#REF!)/#REF!),0,(#REF!-#REF!)/#REF!)","v":0},{"$f":"IF(ISERROR((#REF!-#REF!)/#REF!),0,(#REF!-#REF!)/#REF!)","v":0},{"$f":"IF(ISERROR((#REF!-#REF!)/#REF!),0,(#REF!-#REF!)/#REF!)","v":0},{"$f":"IF(ISERROR((#REF!-#REF!)/#REF!),0,(#REF!-#REF!)/#REF!)","v":0},{"$f":"IF(ISERROR((#REF!-#REF!)/#REF!),0,(#REF!-#REF!)/#REF!)","v":0},{"$f":"IF(ISERROR((#REF!-#REF!)/#REF!),0,(#REF!-#REF!)/#REF!)","v":0},{"$f":"IF(ISERROR((#REF!-#REF!)/#REF!),0,(#REF!-#REF!)/#REF!)","v":0},{"$f":"IF(ISERROR((#REF!-#REF!)/#REF!),0,(#REF!-#REF!)/#REF!)","v":0},{"$f":"IF(ISERROR((#REF!-#REF!)/#REF!),0,(#REF!-#REF!)/#REF!)","v":0},{"$f":"IF(ISERROR((#REF!-#REF!)/#REF!),0,(#REF!-#REF!)/#REF!)","v":0},{"$f":"IF(ISERROR((#REF!-#REF!)/#REF!),0,(#REF!-#REF!)/#REF!)","v":0},{"$f":"IF(ISERROR((#REF!-#REF!)/#REF!),0,(#REF!-#REF!)/#REF!)","v":0}]
[null,"MA09Z","Intermediate Laparoscopic or Endoscopic, Upper Genital Tract Procedures",0,1559,0,0,5,2483,6,249,"No","-",0,"","",{"$f":"IF(ISERROR((#REF!-#REF!)/#REF!),0,(#REF!-#REF!)/#REF!)","v":0},{"$f":"IF(ISERROR((#REF!-#REF!)/#REF!),0,(#REF!-#REF!)/#REF!)","v":0},{"$f":"IF(ISERROR((#REF!-#REF!)/#REF!),0,(#REF!-#REF!)/#REF!)","v":0},{"$f":"IF(ISERROR((#REF!-#REF!)/#REF!),0,(#REF!-#REF!)/#REF!)","v":0},{"$f":"IF(ISERROR((#REF!-#REF!)/#REF!),0,(#REF!-#REF!)/#REF!)","v":0},{"$f":"IF(ISERROR((#REF!-#REF!)/#REF!),0,(#REF!-#REF!)/#REF!)","v":0},{"$f":"IF(ISERROR((#REF!-#REF!)/#REF!),0,(#REF!-#REF!)/#REF!)","v":0},{"$f":"IF(ISERROR((#REF!-#REF!)/#REF!),0,(#REF!-#REF!)/#REF!)","v":0},{"$f":"IF(ISERROR((#REF!-#REF!)/#REF!),0,(#REF!-#REF!)/#REF!)","v":0},{"$f":"IF(ISERROR((#REF!-#REF!)/#REF!),0,(#REF!-#REF!)/#REF!)","v":0},{"$f":"IF(ISERROR((#REF!-#REF!)/#REF!),0,(#REF!-#REF!)/#REF!)","v":0},{"$f":"IF(ISERROR((#REF!-#REF!)/#REF!),0,(#REF!-#REF!)/#REF!)","v":0},{"$f":"IF(ISERROR((#REF!-#REF!)/#REF!),0,(#REF!-#REF!)/#REF!)","v":0}]
[null,"MA10Z","Minor Laparoscopic or Endoscopic, Upper Genital Tract Procedures",1083,1173.5848015874067,0,0,5,1609,5,249,"No","-",0,1,"HRG",{"$f":"IF(ISERROR((#REF!-#REF!)/#REF!),0,(#REF!-#REF!)/#REF!)","v":0},{"$f":"IF(ISERROR((#REF!-#REF!)/#REF!),0,(#REF!-#REF!)/#REF!)","v":0},{"$f":"IF(ISERROR((#REF!-#REF!)/#REF!),0,(#REF!-#REF!)/#REF!)","v":0},{"$f":"IF(ISERROR((#REF!-#REF!)/#REF!),0,(#REF!-#REF!)/#REF!)","v":0},{"$f":"IF(ISERROR((#REF!-#REF!)/#REF!),0,(#REF!-#REF!)/#REF!)","v":0},{"$f":"IF(ISERROR((#REF!-#REF!)/#REF!),0,(#REF!-#REF!)/#REF!)","v":0},{"$f":"IF(ISERROR((#REF!-#REF!)/#REF!),0,(#REF!-#REF!)/#REF!)","v":0},{"$f":"IF(ISERROR((#REF!-#REF!)/#REF!),0,(#REF!-#REF!)/#REF!)","v":0},{"$f":"IF(ISERROR((#REF!-#REF!)/#REF!),0,(#REF!-#REF!)/#REF!)","v":0},{"$f":"IF(ISERROR((#REF!-#REF!)/#REF!),0,(#REF!-#REF!)/#REF!)","v":0},{"$f":"IF(ISERROR((#REF!-#REF!)/#REF!),0,(#REF!-#REF!)/#REF!)","v":0},{"$f":"IF(ISERROR((#REF!-#REF!)/#REF!),0,(#REF!-#REF!)/#REF!)","v":0},{"$f":"IF(ISERROR((#REF!-#REF!)/#REF!),0,(#REF!-#REF!)/#REF!)","v":0}]
[null,"MA11Z","Intermediate Open Upper Genital Tract Procedures",0,1856,0,0,5,2739,10,249,"No","-",0,"","",{"$f":"IF(ISERROR((#REF!-#REF!)/#REF!),0,(#REF!-#REF!)/#REF!)","v":0},{"$f":"IF(ISERROR((#REF!-#REF!)/#REF!),0,(#REF!-#REF!)/#REF!)","v":0},{"$f":"IF(ISERROR((#REF!-#REF!)/#REF!),0,(#REF!-#REF!)/#REF!)","v":0},{"$f":"IF(ISERROR((#REF!-#REF!)/#REF!),0,(#REF!-#REF!)/#REF!)","v":0},{"$f":"IF(ISERROR((#REF!-#REF!)/#REF!),0,(#REF!-#REF!)/#REF!)","v":0},{"$f":"IF(ISERROR((#REF!-#REF!)/#REF!),0,(#REF!-#REF!)/#REF!)","v":0},{"$f":"IF(ISERROR((#REF!-#REF!)/#REF!),0,(#REF!-#REF!)/#REF!)","v":0},{"$f":"IF(ISERROR((#REF!-#REF!)/#REF!),0,(#REF!-#REF!)/#REF!)","v":0},{"$f":"IF(ISERROR((#REF!-#REF!)/#REF!),0,(#REF!-#REF!)/#REF!)","v":0},{"$f":"IF(ISERROR((#REF!-#REF!)/#REF!),0,(#REF!-#REF!)/#REF!)","v":0},{"$f":"IF(ISERROR((#REF!-#REF!)/#REF!),0,(#REF!-#REF!)/#REF!)","v":0},{"$f":"IF(ISERROR((#REF!-#REF!)/#REF!),0,(#REF!-#REF!)/#REF!)","v":0},{"$f":"IF(ISERROR((#REF!-#REF!)/#REF!),0,(#REF!-#REF!)/#REF!)","v":0}]
[null,"MA12Z","Resection or Ablation Procedures for Intra-uterine Lesions",0,892,0,0,5,939,5,249,"No","-",0,"","",{"$f":"IF(ISERROR((#REF!-#REF!)/#REF!),0,(#REF!-#REF!)/#REF!)","v":0},{"$f":"IF(ISERROR((#REF!-#REF!)/#REF!),0,(#REF!-#REF!)/#REF!)","v":0},{"$f":"IF(ISERROR((#REF!-#REF!)/#REF!),0,(#REF!-#REF!)/#REF!)","v":0},{"$f":"IF(ISERROR((#REF!-#REF!)/#REF!),0,(#REF!-#REF!)/#REF!)","v":0},{"$f":"IF(ISERROR((#REF!-#REF!)/#REF!),0,(#REF!-#REF!)/#REF!)","v":0},{"$f":"IF(ISERROR((#REF!-#REF!)/#REF!),0,(#REF!-#REF!)/#REF!)","v":0},{"$f":"IF(ISERROR((#REF!-#REF!)/#REF!),0,(#REF!-#REF!)/#REF!)","v":0},{"$f":"IF(ISERROR((#REF!-#REF!)/#REF!),0,(#REF!-#REF!)/#REF!)","v":0},{"$f":"IF(ISERROR((#REF!-#REF!)/#REF!),0,(#REF!-#REF!)/#REF!)","v":0},{"$f":"IF(ISERROR((#REF!-#REF!)/#REF!),0,(#REF!-#REF!)/#REF!)","v":0},{"$f":"IF(ISERROR((#REF!-#REF!)/#REF!),0,(#REF!-#REF!)/#REF!)","v":0},{"$f":"IF(ISERROR((#REF!-#REF!)/#REF!),0,(#REF!-#REF!)/#REF!)","v":0},{"$f":"IF(ISERROR((#REF!-#REF!)/#REF!),0,(#REF!-#REF!)/#REF!)","v":0}]
[null,"MA17C","Dilation and Evacuation, less than 14 weeks gestation",0,689,0,0,5,1018,5,249,"No","-",0,"","",{"$f":"IF(ISERROR((#REF!-#REF!)/#REF!),0,(#REF!-#REF!)/#REF!)","v":0},{"$f":"IF(ISERROR((#REF!-#REF!)/#REF!),0,(#REF!-#REF!)/#REF!)","v":0},{"$f":"IF(ISERROR((#REF!-#REF!)/#REF!),0,(#REF!-#REF!)/#REF!)","v":0},{"$f":"IF(ISERROR((#REF!-#REF!)/#REF!),0,(#REF!-#REF!)/#REF!)","v":0},{"$f":"IF(ISERROR((#REF!-#REF!)/#REF!),0,(#REF!-#REF!)/#REF!)","v":0},{"$f":"IF(ISERROR((#REF!-#REF!)/#REF!),0,(#REF!-#REF!)/#REF!)","v":0},{"$f":"IF(ISERROR((#REF!-#REF!)/#REF!),0,(#REF!-#REF!)/#REF!)","v":0},{"$f":"IF(ISERROR((#REF!-#REF!)/#REF!),0,(#REF!-#REF!)/#REF!)","v":0},{"$f":"IF(ISERROR((#REF!-#REF!)/#REF!),0,(#REF!-#REF!)/#REF!)","v":0},{"$f":"IF(ISERROR((#REF!-#REF!)/#REF!),0,(#REF!-#REF!)/#REF!)","v":0},{"$f":"IF(ISERROR((#REF!-#REF!)/#REF!),0,(#REF!-#REF!)/#REF!)","v":0},{"$f":"IF(ISERROR((#REF!-#REF!)/#REF!),0,(#REF!-#REF!)/#REF!)","v":0},{"$f":"IF(ISERROR((#REF!-#REF!)/#REF!),0,(#REF!-#REF!)/#REF!)","v":0}]
[null,"MA17D","Dilation and Evacuation, 14 to 20 weeks gestation",0,568,0,0,5,1414,5,249,"No","-",0,"","",{"$f":"IF(ISERROR((#REF!-#REF!)/#REF!),0,(#REF!-#REF!)/#REF!)","v":0},{"$f":"IF(ISERROR((#REF!-#REF!)/#REF!),0,(#REF!-#REF!)/#REF!)","v":0},{"$f":"IF(ISERROR((#REF!-#REF!)/#REF!),0,(#REF!-#REF!)/#REF!)","v":0},{"$f":"IF(ISERROR((#REF!-#REF!)/#REF!),0,(#REF!-#REF!)/#REF!)","v":0},{"$f":"IF(ISERROR((#REF!-#REF!)/#REF!),0,(#REF!-#REF!)/#REF!)","v":0},{"$f":"IF(ISERROR((#REF!-#REF!)/#REF!),0,(#REF!-#REF!)/#REF!)","v":0},{"$f":"IF(ISERROR((#REF!-#REF!)/#REF!),0,(#REF!-#REF!)/#REF!)","v":0},{"$f":"IF(ISERROR((#REF!-#REF!)/#REF!),0,(#REF!-#REF!)/#REF!)","v":0},{"$f":"IF(ISERROR((#REF!-#REF!)/#REF!),0,(#REF!-#REF!)/#REF!)","v":0},{"$f":"IF(ISERROR((#REF!-#REF!)/#REF!),0,(#REF!-#REF!)/#REF!)","v":0},{"$f":"IF(ISERROR((#REF!-#REF!)/#REF!),0,(#REF!-#REF!)/#REF!)","v":0},{"$f":"IF(ISERROR((#REF!-#REF!)/#REF!),0,(#REF!-#REF!)/#REF!)","v":0},{"$f":"IF(ISERROR((#REF!-#REF!)/#REF!),0,(#REF!-#REF!)/#REF!)","v":0}]
[null,"MA18C","Medical Termination of Pregnancy, less than 14 weeks gestation",0,391,0,0,5,624,5,249,"Yes",1,624,"","",{"$f":"IF(ISERROR((#REF!-#REF!)/#REF!),0,(#REF!-#REF!)/#REF!)","v":0},{"$f":"IF(ISERROR((#REF!-#REF!)/#REF!),0,(#REF!-#REF!)/#REF!)","v":0},{"$f":"IF(ISERROR((#REF!-#REF!)/#REF!),0,(#REF!-#REF!)/#REF!)","v":0},{"$f":"IF(ISERROR((#REF!-#REF!)/#REF!),0,(#REF!-#REF!)/#REF!)","v":0},{"$f":"IF(ISERROR((#REF!-#REF!)/#REF!),0,(#REF!-#REF!)/#REF!)","v":0},{"$f":"IF(ISERROR((#REF!-#REF!)/#REF!),0,(#REF!-#REF!)/#REF!)","v":0},{"$f":"IF(ISERROR((#REF!-#REF!)/#REF!),0,(#REF!-#REF!)/#REF!)","v":0},{"$f":"IF(ISERROR((#REF!-#REF!)/#REF!),0,(#REF!-#REF!)/#REF!)","v":0},{"$f":"IF(ISERROR((#REF!-#REF!)/#REF!),0,(#REF!-#REF!)/#REF!)","v":0},{"$f":"IF(ISERROR((#REF!-#REF!)/#REF!),0,(#REF!-#REF!)/#REF!)","v":0},{"$f":"IF(ISERROR((#REF!-#REF!)/#REF!),0,(#REF!-#REF!)/#REF!)","v":0},{"$f":"IF(ISERROR((#REF!-#REF!)/#REF!),0,(#REF!-#REF!)/#REF!)","v":0},{"$f":"IF(ISERROR((#REF!-#REF!)/#REF!),0,(#REF!-#REF!)/#REF!)","v":0}]
[null,"MA18D","Medical Termination of Pregnancy, 14 to 20 weeks gestation",0,491,0,0,5,1013,5,249,"Yes",1,1013,"","",{"$f":"IF(ISERROR((#REF!-#REF!)/#REF!),0,(#REF!-#REF!)/#REF!)","v":0},{"$f":"IF(ISERROR((#REF!-#REF!)/#REF!),0,(#REF!-#REF!)/#REF!)","v":0},{"$f":"IF(ISERROR((#REF!-#REF!)/#REF!),0,(#REF!-#REF!)/#REF!)","v":0},{"$f":"IF(ISERROR((#REF!-#REF!)/#REF!),0,(#REF!-#REF!)/#REF!)","v":0},{"$f":"IF(ISERROR((#REF!-#REF!)/#REF!),0,(#REF!-#REF!)/#REF!)","v":0},{"$f":"IF(ISERROR((#REF!-#REF!)/#REF!),0,(#REF!-#REF!)/#REF!)","v":0},{"$f":"IF(ISERROR((#REF!-#REF!)/#REF!),0,(#REF!-#REF!)/#REF!)","v":0},{"$f":"IF(ISERROR((#REF!-#REF!)/#REF!),0,(#REF!-#REF!)/#REF!)","v":0},{"$f":"IF(ISERROR((#REF!-#REF!)/#REF!),0,(#REF!-#REF!)/#REF!)","v":0},{"$f":"IF(ISERROR((#REF!-#REF!)/#REF!),0,(#REF!-#REF!)/#REF!)","v":0},{"$f":"IF(ISERROR((#REF!-#REF!)/#REF!),0,(#REF!-#REF!)/#REF!)","v":0},{"$f":"IF(ISERROR((#REF!-#REF!)/#REF!),0,(#REF!-#REF!)/#REF!)","v":0},{"$f":"IF(ISERROR((#REF!-#REF!)/#REF!),0,(#REF!-#REF!)/#REF!)","v":0}]
[null,"MA19A","Vacuum Aspiration with Cannula, less than 14 weeks gestation",0,1222.4037470714604,0,0,5,953,5,249,"No","-",0,"","",{"$f":"IF(ISERROR((#REF!-#REF!)/#REF!),0,(#REF!-#REF!)/#REF!)","v":0},{"$f":"IF(ISERROR((#REF!-#REF!)/#REF!),0,(#REF!-#REF!)/#REF!)","v":0},{"$f":"IF(ISERROR((#REF!-#REF!)/#REF!),0,(#REF!-#REF!)/#REF!)","v":0},{"$f":"IF(ISERROR((#REF!-#REF!)/#REF!),0,(#REF!-#REF!)/#REF!)","v":0},{"$f":"IF(ISERROR((#REF!-#REF!)/#REF!),0,(#REF!-#REF!)/#REF!)","v":0},{"$f":"IF(ISERROR((#REF!-#REF!)/#REF!),0,(#REF!-#REF!)/#REF!)","v":0},{"$f":"IF(ISERROR((#REF!-#REF!)/#REF!),0,(#REF!-#REF!)/#REF!)","v":0},{"$f":"IF(ISERROR((#REF!-#REF!)/#REF!),0,(#REF!-#REF!)/#REF!)","v":0},{"$f":"IF(ISERROR((#REF!-#REF!)/#REF!),0,(#REF!-#REF!)/#REF!)","v":0},{"$f":"IF(ISERROR((#REF!-#REF!)/#REF!),0,(#REF!-#REF!)/#REF!)","v":0},{"$f":"IF(ISERROR((#REF!-#REF!)/#REF!),0,(#REF!-#REF!)/#REF!)","v":0},{"$f":"IF(ISERROR((#REF!-#REF!)/#REF!),0,(#REF!-#REF!)/#REF!)","v":0},{"$f":"IF(ISERROR((#REF!-#REF!)/#REF!),0,(#REF!-#REF!)/#REF!)","v":0}]
[null,"MA19B","Vacuum Aspiration with Cannula, 14 to 20 weeks gestation",0,666,0,0,5,1309,5,249,"No","-",0,"","",{"$f":"IF(ISERROR((#REF!-#REF!)/#REF!),0,(#REF!-#REF!)/#REF!)","v":0},{"$f":"IF(ISERROR((#REF!-#REF!)/#REF!),0,(#REF!-#REF!)/#REF!)","v":0},{"$f":"IF(ISERROR((#REF!-#REF!)/#REF!),0,(#REF!-#REF!)/#REF!)","v":0},{"$f":"IF(ISERROR((#REF!-#REF!)/#REF!),0,(#REF!-#REF!)/#REF!)","v":0},{"$f":"IF(ISERROR((#REF!-#REF!)/#REF!),0,(#REF!-#REF!)/#REF!)","v":0},{"$f":"IF(ISERROR((#REF!-#REF!)/#REF!),0,(#REF!-#REF!)/#REF!)","v":0},{"$f":"IF(ISERROR((#REF!-#REF!)/#REF!),0,(#REF!-#REF!)/#REF!)","v":0},{"$f":"IF(ISERROR((#REF!-#REF!)/#REF!),0,(#REF!-#REF!)/#REF!)","v":0},{"$f":"IF(ISERROR((#REF!-#REF!)/#REF!),0,(#REF!-#REF!)/#REF!)","v":0},{"$f":"IF(ISERROR((#REF!-#REF!)/#REF!),0,(#REF!-#REF!)/#REF!)","v":0},{"$f":"IF(ISERROR((#REF!-#REF!)/#REF!),0,(#REF!-#REF!)/#REF!)","v":0},{"$f":"IF(ISERROR((#REF!-#REF!)/#REF!),0,(#REF!-#REF!)/#REF!)","v":0},{"$f":"IF(ISERROR((#REF!-#REF!)/#REF!),0,(#REF!-#REF!)/#REF!)","v":0}]
[null,"MA20Z","Medical or Surgical Termination of Pregnancy, over 20 weeks gestation",0,611,0,0,5,1368,5,249,"No","-",0,"","",{"$f":"IF(ISERROR((#REF!-#REF!)/#REF!),0,(#REF!-#REF!)/#REF!)","v":0},{"$f":"IF(ISERROR((#REF!-#REF!)/#REF!),0,(#REF!-#REF!)/#REF!)","v":0},{"$f":"IF(ISERROR((#REF!-#REF!)/#REF!),0,(#REF!-#REF!)/#REF!)","v":0},{"$f":"IF(ISERROR((#REF!-#REF!)/#REF!),0,(#REF!-#REF!)/#REF!)","v":0},{"$f":"IF(ISERROR((#REF!-#REF!)/#REF!),0,(#REF!-#REF!)/#REF!)","v":0},{"$f":"IF(ISERROR((#REF!-#REF!)/#REF!),0,(#REF!-#REF!)/#REF!)","v":0},{"$f":"IF(ISERROR((#REF!-#REF!)/#REF!),0,(#REF!-#REF!)/#REF!)","v":0},{"$f":"IF(ISERROR((#REF!-#REF!)/#REF!),0,(#REF!-#REF!)/#REF!)","v":0},{"$f":"IF(ISERROR((#REF!-#REF!)/#REF!),0,(#REF!-#REF!)/#REF!)","v":0},{"$f":"IF(ISERROR((#REF!-#REF!)/#REF!),0,(#REF!-#REF!)/#REF!)","v":0},{"$f":"IF(ISERROR((#REF!-#REF!)/#REF!),0,(#REF!-#REF!)/#REF!)","v":0},{"$f":"IF(ISERROR((#REF!-#REF!)/#REF!),0,(#REF!-#REF!)/#REF!)","v":0},{"$f":"IF(ISERROR((#REF!-#REF!)/#REF!),0,(#REF!-#REF!)/#REF!)","v":0}]
[null,"MA21Z","Diagnostic Hysteroscopy",494,282,0,0,5,581,5,249,"No","-",0,1,"HRG",{"$f":"IF(ISERROR((#REF!-#REF!)/#REF!),0,(#REF!-#REF!)/#REF!)","v":0},{"$f":"IF(ISERROR((#REF!-#REF!)/#REF!),0,(#REF!-#REF!)/#REF!)","v":0},{"$f":"IF(ISERROR((#REF!-#REF!)/#REF!),0,(#REF!-#REF!)/#REF!)","v":0},{"$f":"IF(ISERROR((#REF!-#REF!)/#REF!),0,(#REF!-#REF!)/#REF!)","v":0},{"$f":"IF(ISERROR((#REF!-#REF!)/#REF!),0,(#REF!-#REF!)/#REF!)","v":0},{"$f":"IF(ISERROR((#REF!-#REF!)/#REF!),0,(#REF!-#REF!)/#REF!)","v":0},{"$f":"IF(ISERROR((#REF!-#REF!)/#REF!),0,(#REF!-#REF!)/#REF!)","v":0},{"$f":"IF(ISERROR((#REF!-#REF!)/#REF!),0,(#REF!-#REF!)/#REF!)","v":0},{"$f":"IF(ISERROR((#REF!-#REF!)/#REF!),0,(#REF!-#REF!)/#REF!)","v":0},{"$f":"IF(ISERROR((#REF!-#REF!)/#REF!),0,(#REF!-#REF!)/#REF!)","v":0},{"$f":"IF(ISERROR((#REF!-#REF!)/#REF!),0,(#REF!-#REF!)/#REF!)","v":0},{"$f":"IF(ISERROR((#REF!-#REF!)/#REF!),0,(#REF!-#REF!)/#REF!)","v":0},{"$f":"IF(ISERROR((#REF!-#REF!)/#REF!),0,(#REF!-#REF!)/#REF!)","v":0}]
[null,"MA22Z","Minor Lower Genital Tract Procedures Category 1",0,786,0,0,5,960,5,249,"No","-",0,"","",{"$f":"IF(ISERROR((#REF!-#REF!)/#REF!),0,(#REF!-#REF!)/#REF!)","v":0},{"$f":"IF(ISERROR((#REF!-#REF!)/#REF!),0,(#REF!-#REF!)/#REF!)","v":0},{"$f":"IF(ISERROR((#REF!-#REF!)/#REF!),0,(#REF!-#REF!)/#REF!)","v":0},{"$f":"IF(ISERROR((#REF!-#REF!)/#REF!),0,(#REF!-#REF!)/#REF!)","v":0},{"$f":"IF(ISERROR((#REF!-#REF!)/#REF!),0,(#REF!-#REF!)/#REF!)","v":0},{"$f":"IF(ISERROR((#REF!-#REF!)/#REF!),0,(#REF!-#REF!)/#REF!)","v":0},{"$f":"IF(ISERROR((#REF!-#REF!)/#REF!),0,(#REF!-#REF!)/#REF!)","v":0},{"$f":"IF(ISERROR((#REF!-#REF!)/#REF!),0,(#REF!-#REF!)/#REF!)","v":0},{"$f":"IF(ISERROR((#REF!-#REF!)/#REF!),0,(#REF!-#REF!)/#REF!)","v":0},{"$f":"IF(ISERROR((#REF!-#REF!)/#REF!),0,(#REF!-#REF!)/#REF!)","v":0},{"$f":"IF(ISERROR((#REF!-#REF!)/#REF!),0,(#REF!-#REF!)/#REF!)","v":0},{"$f":"IF(ISERROR((#REF!-#REF!)/#REF!),0,(#REF!-#REF!)/#REF!)","v":0},{"$f":"IF(ISERROR((#REF!-#REF!)/#REF!),0,(#REF!-#REF!)/#REF!)","v":0}]
[null,"MA23Z","Minor Lower Genital Tract Procedures Category 2",132,704.53330915623894,0,0,5,429,5,249,"No","-",0,"","",{"$f":"IF(ISERROR((#REF!-#REF!)/#REF!),0,(#REF!-#REF!)/#REF!)","v":0},{"$f":"IF(ISERROR((#REF!-#REF!)/#REF!),0,(#REF!-#REF!)/#REF!)","v":0},{"$f":"IF(ISERROR((#REF!-#REF!)/#REF!),0,(#REF!-#REF!)/#REF!)","v":0},{"$f":"IF(ISERROR((#REF!-#REF!)/#REF!),0,(#REF!-#REF!)/#REF!)","v":0},{"$f":"IF(ISERROR((#REF!-#REF!)/#REF!),0,(#REF!-#REF!)/#REF!)","v":0},{"$f":"IF(ISERROR((#REF!-#REF!)/#REF!),0,(#REF!-#REF!)/#REF!)","v":0},{"$f":"IF(ISERROR((#REF!-#REF!)/#REF!),0,(#REF!-#REF!)/#REF!)","v":0},{"$f":"IF(ISERROR((#REF!-#REF!)/#REF!),0,(#REF!-#REF!)/#REF!)","v":0},{"$f":"IF(ISERROR((#REF!-#REF!)/#REF!),0,(#REF!-#REF!)/#REF!)","v":0},{"$f":"IF(ISERROR((#REF!-#REF!)/#REF!),0,(#REF!-#REF!)/#REF!)","v":0},{"$f":"IF(ISERROR((#REF!-#REF!)/#REF!),0,(#REF!-#REF!)/#REF!)","v":0},{"$f":"IF(ISERROR((#REF!-#REF!)/#REF!),0,(#REF!-#REF!)/#REF!)","v":0},{"$f":"IF(ISERROR((#REF!-#REF!)/#REF!),0,(#REF!-#REF!)/#REF!)","v":0}]
[null,"MA24Z","Minor Upper Genital Tract Procedures Category 1",0,870,0,0,5,795,5,249,"No","-",0,"","",{"$f":"IF(ISERROR((#REF!-#REF!)/#REF!),0,(#REF!-#REF!)/#REF!)","v":0},{"$f":"IF(ISERROR((#REF!-#REF!)/#REF!),0,(#REF!-#REF!)/#REF!)","v":0},{"$f":"IF(ISERROR((#REF!-#REF!)/#REF!),0,(#REF!-#REF!)/#REF!)","v":0},{"$f":"IF(ISERROR((#REF!-#REF!)/#REF!),0,(#REF!-#REF!)/#REF!)","v":0},{"$f":"IF(ISERROR((#REF!-#REF!)/#REF!),0,(#REF!-#REF!)/#REF!)","v":0},{"$f":"IF(ISERROR((#REF!-#REF!)/#REF!),0,(#REF!-#REF!)/#REF!)","v":0},{"$f":"IF(ISERROR((#REF!-#REF!)/#REF!),0,(#REF!-#REF!)/#REF!)","v":0},{"$f":"IF(ISERROR((#REF!-#REF!)/#REF!),0,(#REF!-#REF!)/#REF!)","v":0},{"$f":"IF(ISERROR((#REF!-#REF!)/#REF!),0,(#REF!-#REF!)/#REF!)","v":0},{"$f":"IF(ISERROR((#REF!-#REF!)/#REF!),0,(#REF!-#REF!)/#REF!)","v":0},{"$f":"IF(ISERROR((#REF!-#REF!)/#REF!),0,(#REF!-#REF!)/#REF!)","v":0},{"$f":"IF(ISERROR((#REF!-#REF!)/#REF!),0,(#REF!-#REF!)/#REF!)","v":0},{"$f":"IF(ISERROR((#REF!-#REF!)/#REF!),0,(#REF!-#REF!)/#REF!)","v":0}]
[null,"MA25Z","Minor Upper Genital Tract Procedures Category 2",124,716.26373044309662,0,0,5,579,5,249,"No","-",0,"","",{"$f":"IF(ISERROR((#REF!-#REF!)/#REF!),0,(#REF!-#REF!)/#REF!)","v":0},{"$f":"IF(ISERROR((#REF!-#REF!)/#REF!),0,(#REF!-#REF!)/#REF!)","v":0},{"$f":"IF(ISERROR((#REF!-#REF!)/#REF!),0,(#REF!-#REF!)/#REF!)","v":0},{"$f":"IF(ISERROR((#REF!-#REF!)/#REF!),0,(#REF!-#REF!)/#REF!)","v":0},{"$f":"IF(ISERROR((#REF!-#REF!)/#REF!),0,(#REF!-#REF!)/#REF!)","v":0},{"$f":"IF(ISERROR((#REF!-#REF!)/#REF!),0,(#REF!-#REF!)/#REF!)","v":0},{"$f":"IF(ISERROR((#REF!-#REF!)/#REF!),0,(#REF!-#REF!)/#REF!)","v":0},{"$f":"IF(ISERROR((#REF!-#REF!)/#REF!),0,(#REF!-#REF!)/#REF!)","v":0},{"$f":"IF(ISERROR((#REF!-#REF!)/#REF!),0,(#REF!-#REF!)/#REF!)","v":0},{"$f":"IF(ISERROR((#REF!-#REF!)/#REF!),0,(#REF!-#REF!)/#REF!)","v":0},{"$f":"IF(ISERROR((#REF!-#REF!)/#REF!),0,(#REF!-#REF!)/#REF!)","v":0},{"$f":"IF(ISERROR((#REF!-#REF!)/#REF!),0,(#REF!-#REF!)/#REF!)","v":0},{"$f":"IF(ISERROR((#REF!-#REF!)/#REF!),0,(#REF!-#REF!)/#REF!)","v":0}]
[null,"MA26Z","Complex Open or Laparoscopic, Upper or Lower Genital Tract Procedures for Malignancy",0,3939,0,0,11,5849,26,249,"No","-",0,"","",{"$f":"IF(ISERROR((#REF!-#REF!)/#REF!),0,(#REF!-#REF!)/#REF!)","v":0},{"$f":"IF(ISERROR((#REF!-#REF!)/#REF!),0,(#REF!-#REF!)/#REF!)","v":0},{"$f":"IF(ISERROR((#REF!-#REF!)/#REF!),0,(#REF!-#REF!)/#REF!)","v":0},{"$f":"IF(ISERROR((#REF!-#REF!)/#REF!),0,(#REF!-#REF!)/#REF!)","v":0},{"$f":"IF(ISERROR((#REF!-#REF!)/#REF!),0,(#REF!-#REF!)/#REF!)","v":0},{"$f":"IF(ISERROR((#REF!-#REF!)/#REF!),0,(#REF!-#REF!)/#REF!)","v":0},{"$f":"IF(ISERROR((#REF!-#REF!)/#REF!),0,(#REF!-#REF!)/#REF!)","v":0},{"$f":"IF(ISERROR((#REF!-#REF!)/#REF!),0,(#REF!-#REF!)/#REF!)","v":0},{"$f":"IF(ISERROR((#REF!-#REF!)/#REF!),0,(#REF!-#REF!)/#REF!)","v":0},{"$f":"IF(ISERROR((#REF!-#REF!)/#REF!),0,(#REF!-#REF!)/#REF!)","v":0},{"$f":"IF(ISERROR((#REF!-#REF!)/#REF!),0,(#REF!-#REF!)/#REF!)","v":0},{"$f":"IF(ISERROR((#REF!-#REF!)/#REF!),0,(#REF!-#REF!)/#REF!)","v":0},{"$f":"IF(ISERROR((#REF!-#REF!)/#REF!),0,(#REF!-#REF!)/#REF!)","v":0}]
[null,"MA27Z","Minor Upper or Lower Genital Tract Procedures for Malignancy",0,924,0,0,5,885,5,249,"No","-",0,"","",{"$f":"IF(ISERROR((#REF!-#REF!)/#REF!),0,(#REF!-#REF!)/#REF!)","v":0},{"$f":"IF(ISERROR((#REF!-#REF!)/#REF!),0,(#REF!-#REF!)/#REF!)","v":0},{"$f":"IF(ISERROR((#REF!-#REF!)/#REF!),0,(#REF!-#REF!)/#REF!)","v":0},{"$f":"IF(ISERROR((#REF!-#REF!)/#REF!),0,(#REF!-#REF!)/#REF!)","v":0},{"$f":"IF(ISERROR((#REF!-#REF!)/#REF!),0,(#REF!-#REF!)/#REF!)","v":0},{"$f":"IF(ISERROR((#REF!-#REF!)/#REF!),0,(#REF!-#REF!)/#REF!)","v":0},{"$f":"IF(ISERROR((#REF!-#REF!)/#REF!),0,(#REF!-#REF!)/#REF!)","v":0},{"$f":"IF(ISERROR((#REF!-#REF!)/#REF!),0,(#REF!-#REF!)/#REF!)","v":0},{"$f":"IF(ISERROR((#REF!-#REF!)/#REF!),0,(#REF!-#REF!)/#REF!)","v":0},{"$f":"IF(ISERROR((#REF!-#REF!)/#REF!),0,(#REF!-#REF!)/#REF!)","v":0},{"$f":"IF(ISERROR((#REF!-#REF!)/#REF!),0,(#REF!-#REF!)/#REF!)","v":0},{"$f":"IF(ISERROR((#REF!-#REF!)/#REF!),0,(#REF!-#REF!)/#REF!)","v":0},{"$f":"IF(ISERROR((#REF!-#REF!)/#REF!),0,(#REF!-#REF!)/#REF!)","v":0}]
[null,"MA28Z","Complex Laparoscopic or Endoscopic, Upper Genital Tract Procedures",0,2772,0,0,6,3808,19,249,"No","-",0,"","",{"$f":"IF(ISERROR((#REF!-#REF!)/#REF!),0,(#REF!-#REF!)/#REF!)","v":0},{"$f":"IF(ISERROR((#REF!-#REF!)/#REF!),0,(#REF!-#REF!)/#REF!)","v":0},{"$f":"IF(ISERROR((#REF!-#REF!)/#REF!),0,(#REF!-#REF!)/#REF!)","v":0},{"$f":"IF(ISERROR((#REF!-#REF!)/#REF!),0,(#REF!-#REF!)/#REF!)","v":0},{"$f":"IF(ISERROR((#REF!-#REF!)/#REF!),0,(#REF!-#REF!)/#REF!)","v":0},{"$f":"IF(ISERROR((#REF!-#REF!)/#REF!),0,(#REF!-#REF!)/#REF!)","v":0},{"$f":"IF(ISERROR((#REF!-#REF!)/#REF!),0,(#REF!-#REF!)/#REF!)","v":0},{"$f":"IF(ISERROR((#REF!-#REF!)/#REF!),0,(#REF!-#REF!)/#REF!)","v":0},{"$f":"IF(ISERROR((#REF!-#REF!)/#REF!),0,(#REF!-#REF!)/#REF!)","v":0},{"$f":"IF(ISERROR((#REF!-#REF!)/#REF!),0,(#REF!-#REF!)/#REF!)","v":0},{"$f":"IF(ISERROR((#REF!-#REF!)/#REF!),0,(#REF!-#REF!)/#REF!)","v":0},{"$f":"IF(ISERROR((#REF!-#REF!)/#REF!),0,(#REF!-#REF!)/#REF!)","v":0},{"$f":"IF(ISERROR((#REF!-#REF!)/#REF!),0,(#REF!-#REF!)/#REF!)","v":0}]
[null,"MA29Z","Major Female Pelvic Peritoneum Adhesion Procedures",0,1650,0,0,5,3267,15,249,"No","-",0,"","",{"$f":"IF(ISERROR((#REF!-#REF!)/#REF!),0,(#REF!-#REF!)/#REF!)","v":0},{"$f":"IF(ISERROR((#REF!-#REF!)/#REF!),0,(#REF!-#REF!)/#REF!)","v":0},{"$f":"IF(ISERROR((#REF!-#REF!)/#REF!),0,(#REF!-#REF!)/#REF!)","v":0},{"$f":"IF(ISERROR((#REF!-#REF!)/#REF!),0,(#REF!-#REF!)/#REF!)","v":0},{"$f":"IF(ISERROR((#REF!-#REF!)/#REF!),0,(#REF!-#REF!)/#REF!)","v":0},{"$f":"IF(ISERROR((#REF!-#REF!)/#REF!),0,(#REF!-#REF!)/#REF!)","v":0},{"$f":"IF(ISERROR((#REF!-#REF!)/#REF!),0,(#REF!-#REF!)/#REF!)","v":0},{"$f":"IF(ISERROR((#REF!-#REF!)/#REF!),0,(#REF!-#REF!)/#REF!)","v":0},{"$f":"IF(ISERROR((#REF!-#REF!)/#REF!),0,(#REF!-#REF!)/#REF!)","v":0},{"$f":"IF(ISERROR((#REF!-#REF!)/#REF!),0,(#REF!-#REF!)/#REF!)","v":0},{"$f":"IF(ISERROR((#REF!-#REF!)/#REF!),0,(#REF!-#REF!)/#REF!)","v":0},{"$f":"IF(ISERROR((#REF!-#REF!)/#REF!),0,(#REF!-#REF!)/#REF!)","v":0},{"$f":"IF(ISERROR((#REF!-#REF!)/#REF!),0,(#REF!-#REF!)/#REF!)","v":0}]
[null,"MA30Z","Intermediate Female Pelvic Peritoneum Adhesion Procedures",0,1216,0,0,5,1427,5,249,"No","-",0,"","",{"$f":"IF(ISERROR((#REF!-#REF!)/#REF!),0,(#REF!-#REF!)/#REF!)","v":0},{"$f":"IF(ISERROR((#REF!-#REF!)/#REF!),0,(#REF!-#REF!)/#REF!)","v":0},{"$f":"IF(ISERROR((#REF!-#REF!)/#REF!),0,(#REF!-#REF!)/#REF!)","v":0},{"$f":"IF(ISERROR((#REF!-#REF!)/#REF!),0,(#REF!-#REF!)/#REF!)","v":0},{"$f":"IF(ISERROR((#REF!-#REF!)/#REF!),0,(#REF!-#REF!)/#REF!)","v":0},{"$f":"IF(ISERROR((#REF!-#REF!)/#REF!),0,(#REF!-#REF!)/#REF!)","v":0},{"$f":"IF(ISERROR((#REF!-#REF!)/#REF!),0,(#REF!-#REF!)/#REF!)","v":0},{"$f":"IF(ISERROR((#REF!-#REF!)/#REF!),0,(#REF!-#REF!)/#REF!)","v":0},{"$f":"IF(ISERROR((#REF!-#REF!)/#REF!),0,(#REF!-#REF!)/#REF!)","v":0},{"$f":"IF(ISERROR((#REF!-#REF!)/#REF!),0,(#REF!-#REF!)/#REF!)","v":0},{"$f":"IF(ISERROR((#REF!-#REF!)/#REF!),0,(#REF!-#REF!)/#REF!)","v":0},{"$f":"IF(ISERROR((#REF!-#REF!)/#REF!),0,(#REF!-#REF!)/#REF!)","v":0},{"$f":"IF(ISERROR((#REF!-#REF!)/#REF!),0,(#REF!-#REF!)/#REF!)","v":0}]
[null,"MB01A","Lower Genital Tract Disorders with CC",0,1490,0,0,5,1506,10,249,"Yes",0.4,602.4,"","",{"$f":"IF(ISERROR((#REF!-#REF!)/#REF!),0,(#REF!-#REF!)/#REF!)","v":0},{"$f":"IF(ISERROR((#REF!-#REF!)/#REF!),0,(#REF!-#REF!)/#REF!)","v":0},{"$f":"IF(ISERROR((#REF!-#REF!)/#REF!),0,(#REF!-#REF!)/#REF!)","v":0},{"$f":"IF(ISERROR((#REF!-#REF!)/#REF!),0,(#REF!-#REF!)/#REF!)","v":0},{"$f":"IF(ISERROR((#REF!-#REF!)/#REF!),0,(#REF!-#REF!)/#REF!)","v":0},{"$f":"IF(ISERROR((#REF!-#REF!)/#REF!),0,(#REF!-#REF!)/#REF!)","v":0},{"$f":"IF(ISERROR((#REF!-#REF!)/#REF!),0,(#REF!-#REF!)/#REF!)","v":0},{"$f":"IF(ISERROR((#REF!-#REF!)/#REF!),0,(#REF!-#REF!)/#REF!)","v":0},{"$f":"IF(ISERROR((#REF!-#REF!)/#REF!),0,(#REF!-#REF!)/#REF!)","v":0},{"$f":"IF(ISERROR((#REF!-#REF!)/#REF!),0,(#REF!-#REF!)/#REF!)","v":0},{"$f":"IF(ISERROR((#REF!-#REF!)/#REF!),0,(#REF!-#REF!)/#REF!)","v":0},{"$f":"IF(ISERROR((#REF!-#REF!)/#REF!),0,(#REF!-#REF!)/#REF!)","v":0},{"$f":"IF(ISERROR((#REF!-#REF!)/#REF!),0,(#REF!-#REF!)/#REF!)","v":0}]
[null,"MB01B","Lower Genital Tract Disorders without CC",0,1117.2167755231349,0,0,5,1042.2361155632964,5,249,"Yes",1,1042.2361155632964,"","",{"$f":"IF(ISERROR((#REF!-#REF!)/#REF!),0,(#REF!-#REF!)/#REF!)","v":0},{"$f":"IF(ISERROR((#REF!-#REF!)/#REF!),0,(#REF!-#REF!)/#REF!)","v":0},{"$f":"IF(ISERROR((#REF!-#REF!)/#REF!),0,(#REF!-#REF!)/#REF!)","v":0},{"$f":"IF(ISERROR((#REF!-#REF!)/#REF!),0,(#REF!-#REF!)/#REF!)","v":0},{"$f":"IF(ISERROR((#REF!-#REF!)/#REF!),0,(#REF!-#REF!)/#REF!)","v":0},{"$f":"IF(ISERROR((#REF!-#REF!)/#REF!),0,(#REF!-#REF!)/#REF!)","v":0},{"$f":"IF(ISERROR((#REF!-#REF!)/#REF!),0,(#REF!-#REF!)/#REF!)","v":0},{"$f":"IF(ISERROR((#REF!-#REF!)/#REF!),0,(#REF!-#REF!)/#REF!)","v":0},{"$f":"IF(ISERROR((#REF!-#REF!)/#REF!),0,(#REF!-#REF!)/#REF!)","v":0},{"$f":"IF(ISERROR((#REF!-#REF!)/#REF!),0,(#REF!-#REF!)/#REF!)","v":0},{"$f":"IF(ISERROR((#REF!-#REF!)/#REF!),0,(#REF!-#REF!)/#REF!)","v":0},{"$f":"IF(ISERROR((#REF!-#REF!)/#REF!),0,(#REF!-#REF!)/#REF!)","v":0},{"$f":"IF(ISERROR((#REF!-#REF!)/#REF!),0,(#REF!-#REF!)/#REF!)","v":0}]
[null,"MB02Z","Genital Prolapse or Incontinence",0,1239,0,0,8,1604,13,249,"Yes",0.4,641.6,"","",{"$f":"IF(ISERROR((#REF!-#REF!)/#REF!),0,(#REF!-#REF!)/#REF!)","v":0},{"$f":"IF(ISERROR((#REF!-#REF!)/#REF!),0,(#REF!-#REF!)/#REF!)","v":0},{"$f":"IF(ISERROR((#REF!-#REF!)/#REF!),0,(#REF!-#REF!)/#REF!)","v":0},{"$f":"IF(ISERROR((#REF!-#REF!)/#REF!),0,(#REF!-#REF!)/#REF!)","v":0},{"$f":"IF(ISERROR((#REF!-#REF!)/#REF!),0,(#REF!-#REF!)/#REF!)","v":0},{"$f":"IF(ISERROR((#REF!-#REF!)/#REF!),0,(#REF!-#REF!)/#REF!)","v":0},{"$f":"IF(ISERROR((#REF!-#REF!)/#REF!),0,(#REF!-#REF!)/#REF!)","v":0},{"$f":"IF(ISERROR((#REF!-#REF!)/#REF!),0,(#REF!-#REF!)/#REF!)","v":0},{"$f":"IF(ISERROR((#REF!-#REF!)/#REF!),0,(#REF!-#REF!)/#REF!)","v":0},{"$f":"IF(ISERROR((#REF!-#REF!)/#REF!),0,(#REF!-#REF!)/#REF!)","v":0},{"$f":"IF(ISERROR((#REF!-#REF!)/#REF!),0,(#REF!-#REF!)/#REF!)","v":0},{"$f":"IF(ISERROR((#REF!-#REF!)/#REF!),0,(#REF!-#REF!)/#REF!)","v":0},{"$f":"IF(ISERROR((#REF!-#REF!)/#REF!),0,(#REF!-#REF!)/#REF!)","v":0}]
[null,"MB03A","Uterus Disorders (including Fibroids), Menstrual Disorders or Endometriosis, with CC",0,1463,0,0,5,2427.1558369353247,8,249,"Yes",0.4,970.86233477412998,"","",{"$f":"IF(ISERROR((#REF!-#REF!)/#REF!),0,(#REF!-#REF!)/#REF!)","v":0},{"$f":"IF(ISERROR((#REF!-#REF!)/#REF!),0,(#REF!-#REF!)/#REF!)","v":0},{"$f":"IF(ISERROR((#REF!-#REF!)/#REF!),0,(#REF!-#REF!)/#REF!)","v":0},{"$f":"IF(ISERROR((#REF!-#REF!)/#REF!),0,(#REF!-#REF!)/#REF!)","v":0},{"$f":"IF(ISERROR((#REF!-#REF!)/#REF!),0,(#REF!-#REF!)/#REF!)","v":0},{"$f":"IF(ISERROR((#REF!-#REF!)/#REF!),0,(#REF!-#REF!)/#REF!)","v":0},{"$f":"IF(ISERROR((#REF!-#REF!)/#REF!),0,(#REF!-#REF!)/#REF!)","v":0},{"$f":"IF(ISERROR((#REF!-#REF!)/#REF!),0,(#REF!-#REF!)/#REF!)","v":0},{"$f":"IF(ISERROR((#REF!-#REF!)/#REF!),0,(#REF!-#REF!)/#REF!)","v":0},{"$f":"IF(ISERROR((#REF!-#REF!)/#REF!),0,(#REF!-#REF!)/#REF!)","v":0},{"$f":"IF(ISERROR((#REF!-#REF!)/#REF!),0,(#REF!-#REF!)/#REF!)","v":0},{"$f":"IF(ISERROR((#REF!-#REF!)/#REF!),0,(#REF!-#REF!)/#REF!)","v":0},{"$f":"IF(ISERROR((#REF!-#REF!)/#REF!),0,(#REF!-#REF!)/#REF!)","v":0}]
[null,"MB03B","Uterus Disorders (including Fibroids), Menstrual Disorders or Endometriosis, without CC",0,1406.0144077534414,0,0,5,815.42657740833147,5,249,"Yes",1,815.42657740833147,"","",{"$f":"IF(ISERROR((#REF!-#REF!)/#REF!),0,(#REF!-#REF!)/#REF!)","v":0},{"$f":"IF(ISERROR((#REF!-#REF!)/#REF!),0,(#REF!-#REF!)/#REF!)","v":0},{"$f":"IF(ISERROR((#REF!-#REF!)/#REF!),0,(#REF!-#REF!)/#REF!)","v":0},{"$f":"IF(ISERROR((#REF!-#REF!)/#REF!),0,(#REF!-#REF!)/#REF!)","v":0},{"$f":"IF(ISERROR((#REF!-#REF!)/#REF!),0,(#REF!-#REF!)/#REF!)","v":0},{"$f":"IF(ISERROR((#REF!-#REF!)/#REF!),0,(#REF!-#REF!)/#REF!)","v":0},{"$f":"IF(ISERROR((#REF!-#REF!)/#REF!),0,(#REF!-#REF!)/#REF!)","v":0},{"$f":"IF(ISERROR((#REF!-#REF!)/#REF!),0,(#REF!-#REF!)/#REF!)","v":0},{"$f":"IF(ISERROR((#REF!-#REF!)/#REF!),0,(#REF!-#REF!)/#REF!)","v":0},{"$f":"IF(ISERROR((#REF!-#REF!)/#REF!),0,(#REF!-#REF!)/#REF!)","v":0},{"$f":"IF(ISERROR((#REF!-#REF!)/#REF!),0,(#REF!-#REF!)/#REF!)","v":0},{"$f":"IF(ISERROR((#REF!-#REF!)/#REF!),0,(#REF!-#REF!)/#REF!)","v":0},{"$f":"IF(ISERROR((#REF!-#REF!)/#REF!),0,(#REF!-#REF!)/#REF!)","v":0}]
[null,"MB04A","Ovary, Fallopian Tube or Pelvic Disorders, with CC",0,2513.870826343838,0,0,5,3165.3515873096148,12,249,"Yes",0.30000000000000004,949.60547619288457,"","",{"$f":"IF(ISERROR((#REF!-#REF!)/#REF!),0,(#REF!-#REF!)/#REF!)","v":0},{"$f":"IF(ISERROR((#REF!-#REF!)/#REF!),0,(#REF!-#REF!)/#REF!)","v":0},{"$f":"IF(ISERROR((#REF!-#REF!)/#REF!),0,(#REF!-#REF!)/#REF!)","v":0},{"$f":"IF(ISERROR((#REF!-#REF!)/#REF!),0,(#REF!-#REF!)/#REF!)","v":0},{"$f":"IF(ISERROR((#REF!-#REF!)/#REF!),0,(#REF!-#REF!)/#REF!)","v":0},{"$f":"IF(ISERROR((#REF!-#REF!)/#REF!),0,(#REF!-#REF!)/#REF!)","v":0},{"$f":"IF(ISERROR((#REF!-#REF!)/#REF!),0,(#REF!-#REF!)/#REF!)","v":0},{"$f":"IF(ISERROR((#REF!-#REF!)/#REF!),0,(#REF!-#REF!)/#REF!)","v":0},{"$f":"IF(ISERROR((#REF!-#REF!)/#REF!),0,(#REF!-#REF!)/#REF!)","v":0},{"$f":"IF(ISERROR((#REF!-#REF!)/#REF!),0,(#REF!-#REF!)/#REF!)","v":0},{"$f":"IF(ISERROR((#REF!-#REF!)/#REF!),0,(#REF!-#REF!)/#REF!)","v":0},{"$f":"IF(ISERROR((#REF!-#REF!)/#REF!),0,(#REF!-#REF!)/#REF!)","v":0},{"$f":"IF(ISERROR((#REF!-#REF!)/#REF!),0,(#REF!-#REF!)/#REF!)","v":0}]
[null,"MB04B","Ovary, Fallopian Tube or Pelvic Disorders, without CC",0,2143.2013408622174,0,0,5,1694.2961560198116,6,249,"Yes",0.65,1101.2925014128775,"","",{"$f":"IF(ISERROR((#REF!-#REF!)/#REF!),0,(#REF!-#REF!)/#REF!)","v":0},{"$f":"IF(ISERROR((#REF!-#REF!)/#REF!),0,(#REF!-#REF!)/#REF!)","v":0},{"$f":"IF(ISERROR((#REF!-#REF!)/#REF!),0,(#REF!-#REF!)/#REF!)","v":0},{"$f":"IF(ISERROR((#REF!-#REF!)/#REF!),0,(#REF!-#REF!)/#REF!)","v":0},{"$f":"IF(ISERROR((#REF!-#REF!)/#REF!),0,(#REF!-#REF!)/#REF!)","v":0},{"$f":"IF(ISERROR((#REF!-#REF!)/#REF!),0,(#REF!-#REF!)/#REF!)","v":0},{"$f":"IF(ISERROR((#REF!-#REF!)/#REF!),0,(#REF!-#REF!)/#REF!)","v":0},{"$f":"IF(ISERROR((#REF!-#REF!)/#REF!),0,(#REF!-#REF!)/#REF!)","v":0},{"$f":"IF(ISERROR((#REF!-#REF!)/#REF!),0,(#REF!-#REF!)/#REF!)","v":0},{"$f":"IF(ISERROR((#REF!-#REF!)/#REF!),0,(#REF!-#REF!)/#REF!)","v":0},{"$f":"IF(ISERROR((#REF!-#REF!)/#REF!),0,(#REF!-#REF!)/#REF!)","v":0},{"$f":"IF(ISERROR((#REF!-#REF!)/#REF!),0,(#REF!-#REF!)/#REF!)","v":0},{"$f":"IF(ISERROR((#REF!-#REF!)/#REF!),0,(#REF!-#REF!)/#REF!)","v":0}]
[null,"MB05A","Gynaecological Malignancy with length of stay 1 day or more",0,2147.3359258910732,0,0,9,4502.5906079822962,28,249,"Yes",0.30000000000000004,1350.7771823946891,"","",{"$f":"IF(ISERROR((#REF!-#REF!)/#REF!),0,(#REF!-#REF!)/#REF!)","v":0},{"$f":"IF(ISERROR((#REF!-#REF!)/#REF!),0,(#REF!-#REF!)/#REF!)","v":0},{"$f":"IF(ISERROR((#REF!-#REF!)/#REF!),0,(#REF!-#REF!)/#REF!)","v":0},{"$f":"IF(ISERROR((#REF!-#REF!)/#REF!),0,(#REF!-#REF!)/#REF!)","v":0},{"$f":"IF(ISERROR((#REF!-#REF!)/#REF!),0,(#REF!-#REF!)/#REF!)","v":0},{"$f":"IF(ISERROR((#REF!-#REF!)/#REF!),0,(#REF!-#REF!)/#REF!)","v":0},{"$f":"IF(ISERROR((#REF!-#REF!)/#REF!),0,(#REF!-#REF!)/#REF!)","v":0},{"$f":"IF(ISERROR((#REF!-#REF!)/#REF!),0,(#REF!-#REF!)/#REF!)","v":0},{"$f":"IF(ISERROR((#REF!-#REF!)/#REF!),0,(#REF!-#REF!)/#REF!)","v":0},{"$f":"IF(ISERROR((#REF!-#REF!)/#REF!),0,(#REF!-#REF!)/#REF!)","v":0},{"$f":"IF(ISERROR((#REF!-#REF!)/#REF!),0,(#REF!-#REF!)/#REF!)","v":0},{"$f":"IF(ISERROR((#REF!-#REF!)/#REF!),0,(#REF!-#REF!)/#REF!)","v":0},{"$f":"IF(ISERROR((#REF!-#REF!)/#REF!),0,(#REF!-#REF!)/#REF!)","v":0}]
[null,"MB05B","Gynaecological Malignancy with length of stay 0 days",0,294,0,0,5,439,5,249,"Yes",1,439,"","",{"$f":"IF(ISERROR((#REF!-#REF!)/#REF!),0,(#REF!-#REF!)/#REF!)","v":0},{"$f":"IF(ISERROR((#REF!-#REF!)/#REF!),0,(#REF!-#REF!)/#REF!)","v":0},{"$f":"IF(ISERROR((#REF!-#REF!)/#REF!),0,(#REF!-#REF!)/#REF!)","v":0},{"$f":"IF(ISERROR((#REF!-#REF!)/#REF!),0,(#REF!-#REF!)/#REF!)","v":0},{"$f":"IF(ISERROR((#REF!-#REF!)/#REF!),0,(#REF!-#REF!)/#REF!)","v":0},{"$f":"IF(ISERROR((#REF!-#REF!)/#REF!),0,(#REF!-#REF!)/#REF!)","v":0},{"$f":"IF(ISERROR((#REF!-#REF!)/#REF!),0,(#REF!-#REF!)/#REF!)","v":0},{"$f":"IF(ISERROR((#REF!-#REF!)/#REF!),0,(#REF!-#REF!)/#REF!)","v":0},{"$f":"IF(ISERROR((#REF!-#REF!)/#REF!),0,(#REF!-#REF!)/#REF!)","v":0},{"$f":"IF(ISERROR((#REF!-#REF!)/#REF!),0,(#REF!-#REF!)/#REF!)","v":0},{"$f":"IF(ISERROR((#REF!-#REF!)/#REF!),0,(#REF!-#REF!)/#REF!)","v":0},{"$f":"IF(ISERROR((#REF!-#REF!)/#REF!),0,(#REF!-#REF!)/#REF!)","v":0},{"$f":"IF(ISERROR((#REF!-#REF!)/#REF!),0,(#REF!-#REF!)/#REF!)","v":0}]
[null,"MB06Z","Other Gynaecological Conditions",0,1458.9449990635471,0,0,5,1931.2832170379036,8,249,"Yes",0.65,1255.3340910746374,"","",{"$f":"IF(ISERROR((#REF!-#REF!)/#REF!),0,(#REF!-#REF!)/#REF!)","v":0},{"$f":"IF(ISERROR((#REF!-#REF!)/#REF!),0,(#REF!-#REF!)/#REF!)","v":0},{"$f":"IF(ISERROR((#REF!-#REF!)/#REF!),0,(#REF!-#REF!)/#REF!)","v":0},{"$f":"IF(ISERROR((#REF!-#REF!)/#REF!),0,(#REF!-#REF!)/#REF!)","v":0},{"$f":"IF(ISERROR((#REF!-#REF!)/#REF!),0,(#REF!-#REF!)/#REF!)","v":0},{"$f":"IF(ISERROR((#REF!-#REF!)/#REF!),0,(#REF!-#REF!)/#REF!)","v":0},{"$f":"IF(ISERROR((#REF!-#REF!)/#REF!),0,(#REF!-#REF!)/#REF!)","v":0},{"$f":"IF(ISERROR((#REF!-#REF!)/#REF!),0,(#REF!-#REF!)/#REF!)","v":0},{"$f":"IF(ISERROR((#REF!-#REF!)/#REF!),0,(#REF!-#REF!)/#REF!)","v":0},{"$f":"IF(ISERROR((#REF!-#REF!)/#REF!),0,(#REF!-#REF!)/#REF!)","v":0},{"$f":"IF(ISERROR((#REF!-#REF!)/#REF!),0,(#REF!-#REF!)/#REF!)","v":0},{"$f":"IF(ISERROR((#REF!-#REF!)/#REF!),0,(#REF!-#REF!)/#REF!)","v":0},{"$f":"IF(ISERROR((#REF!-#REF!)/#REF!),0,(#REF!-#REF!)/#REF!)","v":0}]
[null,"MB07Z","Gynaecological Fistula Conditions",0,2830.1171447371025,0,0,7,3633.1366062941934,24,249,"Yes",0.30000000000000004,1089.9409818882582,"","",{"$f":"IF(ISERROR((#REF!-#REF!)/#REF!),0,(#REF!-#REF!)/#REF!)","v":0},{"$f":"IF(ISERROR((#REF!-#REF!)/#REF!),0,(#REF!-#REF!)/#REF!)","v":0},{"$f":"IF(ISERROR((#REF!-#REF!)/#REF!),0,(#REF!-#REF!)/#REF!)","v":0},{"$f":"IF(ISERROR((#REF!-#REF!)/#REF!),0,(#REF!-#REF!)/#REF!)","v":0},{"$f":"IF(ISERROR((#REF!-#REF!)/#REF!),0,(#REF!-#REF!)/#REF!)","v":0},{"$f":"IF(ISERROR((#REF!-#REF!)/#REF!),0,(#REF!-#REF!)/#REF!)","v":0},{"$f":"IF(ISERROR((#REF!-#REF!)/#REF!),0,(#REF!-#REF!)/#REF!)","v":0},{"$f":"IF(ISERROR((#REF!-#REF!)/#REF!),0,(#REF!-#REF!)/#REF!)","v":0},{"$f":"IF(ISERROR((#REF!-#REF!)/#REF!),0,(#REF!-#REF!)/#REF!)","v":0},{"$f":"IF(ISERROR((#REF!-#REF!)/#REF!),0,(#REF!-#REF!)/#REF!)","v":0},{"$f":"IF(ISERROR((#REF!-#REF!)/#REF!),0,(#REF!-#REF!)/#REF!)","v":0},{"$f":"IF(ISERROR((#REF!-#REF!)/#REF!),0,(#REF!-#REF!)/#REF!)","v":0},{"$f":"IF(ISERROR((#REF!-#REF!)/#REF!),0,(#REF!-#REF!)/#REF!)","v":0}]
[null,"MB08Z","Threatened or Spontaneous Miscarriage",0,770.45968512235277,0,0,5,558.42881666947596,5,249,"Yes",1,558.42881666947596,"","",{"$f":"IF(ISERROR((#REF!-#REF!)/#REF!),0,(#REF!-#REF!)/#REF!)","v":0},{"$f":"IF(ISERROR((#REF!-#REF!)/#REF!),0,(#REF!-#REF!)/#REF!)","v":0},{"$f":"IF(ISERROR((#REF!-#REF!)/#REF!),0,(#REF!-#REF!)/#REF!)","v":0},{"$f":"IF(ISERROR((#REF!-#REF!)/#REF!),0,(#REF!-#REF!)/#REF!)","v":0},{"$f":"IF(ISERROR((#REF!-#REF!)/#REF!),0,(#REF!-#REF!)/#REF!)","v":0},{"$f":"IF(ISERROR((#REF!-#REF!)/#REF!),0,(#REF!-#REF!)/#REF!)","v":0},{"$f":"IF(ISERROR((#REF!-#REF!)/#REF!),0,(#REF!-#REF!)/#REF!)","v":0},{"$f":"IF(ISERROR((#REF!-#REF!)/#REF!),0,(#REF!-#REF!)/#REF!)","v":0},{"$f":"IF(ISERROR((#REF!-#REF!)/#REF!),0,(#REF!-#REF!)/#REF!)","v":0},{"$f":"IF(ISERROR((#REF!-#REF!)/#REF!),0,(#REF!-#REF!)/#REF!)","v":0},{"$f":"IF(ISERROR((#REF!-#REF!)/#REF!),0,(#REF!-#REF!)/#REF!)","v":0},{"$f":"IF(ISERROR((#REF!-#REF!)/#REF!),0,(#REF!-#REF!)/#REF!)","v":0},{"$f":"IF(ISERROR((#REF!-#REF!)/#REF!),0,(#REF!-#REF!)/#REF!)","v":0}]
[null,"PA01A","Nervous System Disorders with CC",0,1056,0,0,5,1831,10,288,"No","-",0,"","",{"$f":"IF(ISERROR((#REF!-#REF!)/#REF!),0,(#REF!-#REF!)/#REF!)","v":0},{"$f":"IF(ISERROR((#REF!-#REF!)/#REF!),0,(#REF!-#REF!)/#REF!)","v":0},{"$f":"IF(ISERROR((#REF!-#REF!)/#REF!),0,(#REF!-#REF!)/#REF!)","v":0},{"$f":"IF(ISERROR((#REF!-#REF!)/#REF!),0,(#REF!-#REF!)/#REF!)","v":0},{"$f":"IF(ISERROR((#REF!-#REF!)/#REF!),0,(#REF!-#REF!)/#REF!)","v":0},{"$f":"IF(ISERROR((#REF!-#REF!)/#REF!),0,(#REF!-#REF!)/#REF!)","v":0},{"$f":"IF(ISERROR((#REF!-#REF!)/#REF!),0,(#REF!-#REF!)/#REF!)","v":0},{"$f":"IF(ISERROR((#REF!-#REF!)/#REF!),0,(#REF!-#REF!)/#REF!)","v":0},{"$f":"IF(ISERROR((#REF!-#REF!)/#REF!),0,(#REF!-#REF!)/#REF!)","v":0},{"$f":"IF(ISERROR((#REF!-#REF!)/#REF!),0,(#REF!-#REF!)/#REF!)","v":0},{"$f":"IF(ISERROR((#REF!-#REF!)/#REF!),0,(#REF!-#REF!)/#REF!)","v":0},{"$f":"IF(ISERROR((#REF!-#REF!)/#REF!),0,(#REF!-#REF!)/#REF!)","v":0},{"$f":"IF(ISERROR((#REF!-#REF!)/#REF!),0,(#REF!-#REF!)/#REF!)","v":0}]
[null,"PA01B","Nervous System Disorders without CC",0,778,0,0,5,713,5,288,"No","-",0,"","",{"$f":"IF(ISERROR((#REF!-#REF!)/#REF!),0,(#REF!-#REF!)/#REF!)","v":0},{"$f":"IF(ISERROR((#REF!-#REF!)/#REF!),0,(#REF!-#REF!)/#REF!)","v":0},{"$f":"IF(ISERROR((#REF!-#REF!)/#REF!),0,(#REF!-#REF!)/#REF!)","v":0},{"$f":"IF(ISERROR((#REF!-#REF!)/#REF!),0,(#REF!-#REF!)/#REF!)","v":0},{"$f":"IF(ISERROR((#REF!-#REF!)/#REF!),0,(#REF!-#REF!)/#REF!)","v":0},{"$f":"IF(ISERROR((#REF!-#REF!)/#REF!),0,(#REF!-#REF!)/#REF!)","v":0},{"$f":"IF(ISERROR((#REF!-#REF!)/#REF!),0,(#REF!-#REF!)/#REF!)","v":0},{"$f":"IF(ISERROR((#REF!-#REF!)/#REF!),0,(#REF!-#REF!)/#REF!)","v":0},{"$f":"IF(ISERROR((#REF!-#REF!)/#REF!),0,(#REF!-#REF!)/#REF!)","v":0},{"$f":"IF(ISERROR((#REF!-#REF!)/#REF!),0,(#REF!-#REF!)/#REF!)","v":0},{"$f":"IF(ISERROR((#REF!-#REF!)/#REF!),0,(#REF!-#REF!)/#REF!)","v":0},{"$f":"IF(ISERROR((#REF!-#REF!)/#REF!),0,(#REF!-#REF!)/#REF!)","v":0},{"$f":"IF(ISERROR((#REF!-#REF!)/#REF!),0,(#REF!-#REF!)/#REF!)","v":0}]
[null,"PA02A","Epilepsy Syndrome with CC",0,1300,0,0,5,1061,5,288,"No","-",0,"","",{"$f":"IF(ISERROR((#REF!-#REF!)/#REF!),0,(#REF!-#REF!)/#REF!)","v":0},{"$f":"IF(ISERROR((#REF!-#REF!)/#REF!),0,(#REF!-#REF!)/#REF!)","v":0},{"$f":"IF(ISERROR((#REF!-#REF!)/#REF!),0,(#REF!-#REF!)/#REF!)","v":0},{"$f":"IF(ISERROR((#REF!-#REF!)/#REF!),0,(#REF!-#REF!)/#REF!)","v":0},{"$f":"IF(ISERROR((#REF!-#REF!)/#REF!),0,(#REF!-#REF!)/#REF!)","v":0},{"$f":"IF(ISERROR((#REF!-#REF!)/#REF!),0,(#REF!-#REF!)/#REF!)","v":0},{"$f":"IF(ISERROR((#REF!-#REF!)/#REF!),0,(#REF!-#REF!)/#REF!)","v":0},{"$f":"IF(ISERROR((#REF!-#REF!)/#REF!),0,(#REF!-#REF!)/#REF!)","v":0},{"$f":"IF(ISERROR((#REF!-#REF!)/#REF!),0,(#REF!-#REF!)/#REF!)","v":0},{"$f":"IF(ISERROR((#REF!-#REF!)/#REF!),0,(#REF!-#REF!)/#REF!)","v":0},{"$f":"IF(ISERROR((#REF!-#REF!)/#REF!),0,(#REF!-#REF!)/#REF!)","v":0},{"$f":"IF(ISERROR((#REF!-#REF!)/#REF!),0,(#REF!-#REF!)/#REF!)","v":0},{"$f":"IF(ISERROR((#REF!-#REF!)/#REF!),0,(#REF!-#REF!)/#REF!)","v":0}]
[null,"PA02B","Epilepsy Syndrome without CC",0,916,0,0,5,739,5,288,"No","-",0,"","",{"$f":"IF(ISERROR((#REF!-#REF!)/#REF!),0,(#REF!-#REF!)/#REF!)","v":0},{"$f":"IF(ISERROR((#REF!-#REF!)/#REF!),0,(#REF!-#REF!)/#REF!)","v":0},{"$f":"IF(ISERROR((#REF!-#REF!)/#REF!),0,(#REF!-#REF!)/#REF!)","v":0},{"$f":"IF(ISERROR((#REF!-#REF!)/#REF!),0,(#REF!-#REF!)/#REF!)","v":0},{"$f":"IF(ISERROR((#REF!-#REF!)/#REF!),0,(#REF!-#REF!)/#REF!)","v":0},{"$f":"IF(ISERROR((#REF!-#REF!)/#REF!),0,(#REF!-#REF!)/#REF!)","v":0},{"$f":"IF(ISERROR((#REF!-#REF!)/#REF!),0,(#REF!-#REF!)/#REF!)","v":0},{"$f":"IF(ISERROR((#REF!-#REF!)/#REF!),0,(#REF!-#REF!)/#REF!)","v":0},{"$f":"IF(ISERROR((#REF!-#REF!)/#REF!),0,(#REF!-#REF!)/#REF!)","v":0},{"$f":"IF(ISERROR((#REF!-#REF!)/#REF!),0,(#REF!-#REF!)/#REF!)","v":0},{"$f":"IF(ISERROR((#REF!-#REF!)/#REF!),0,(#REF!-#REF!)/#REF!)","v":0},{"$f":"IF(ISERROR((#REF!-#REF!)/#REF!),0,(#REF!-#REF!)/#REF!)","v":0},{"$f":"IF(ISERROR((#REF!-#REF!)/#REF!),0,(#REF!-#REF!)/#REF!)","v":0}]
[null,"PA03A","Febrile Convulsions, under 1 year",0,731,0,0,5,878,5,288,"No","-",0,"","",{"$f":"IF(ISERROR((#REF!-#REF!)/#REF!),0,(#REF!-#REF!)/#REF!)","v":0},{"$f":"IF(ISERROR((#REF!-#REF!)/#REF!),0,(#REF!-#REF!)/#REF!)","v":0},{"$f":"IF(ISERROR((#REF!-#REF!)/#REF!),0,(#REF!-#REF!)/#REF!)","v":0},{"$f":"IF(ISERROR((#REF!-#REF!)/#REF!),0,(#REF!-#REF!)/#REF!)","v":0},{"$f":"IF(ISERROR((#REF!-#REF!)/#REF!),0,(#REF!-#REF!)/#REF!)","v":0},{"$f":"IF(ISERROR((#REF!-#REF!)/#REF!),0,(#REF!-#REF!)/#REF!)","v":0},{"$f":"IF(ISERROR((#REF!-#REF!)/#REF!),0,(#REF!-#REF!)/#REF!)","v":0},{"$f":"IF(ISERROR((#REF!-#REF!)/#REF!),0,(#REF!-#REF!)/#REF!)","v":0},{"$f":"IF(ISERROR((#REF!-#REF!)/#REF!),0,(#REF!-#REF!)/#REF!)","v":0},{"$f":"IF(ISERROR((#REF!-#REF!)/#REF!),0,(#REF!-#REF!)/#REF!)","v":0},{"$f":"IF(ISERROR((#REF!-#REF!)/#REF!),0,(#REF!-#REF!)/#REF!)","v":0},{"$f":"IF(ISERROR((#REF!-#REF!)/#REF!),0,(#REF!-#REF!)/#REF!)","v":0},{"$f":"IF(ISERROR((#REF!-#REF!)/#REF!),0,(#REF!-#REF!)/#REF!)","v":0}]
[null,"PA03B","Febrile Convulsions, 1 year and over",0,659,0,0,5,584,5,288,"No","-",0,"","",{"$f":"IF(ISERROR((#REF!-#REF!)/#REF!),0,(#REF!-#REF!)/#REF!)","v":0},{"$f":"IF(ISERROR((#REF!-#REF!)/#REF!),0,(#REF!-#REF!)/#REF!)","v":0},{"$f":"IF(ISERROR((#REF!-#REF!)/#REF!),0,(#REF!-#REF!)/#REF!)","v":0},{"$f":"IF(ISERROR((#REF!-#REF!)/#REF!),0,(#REF!-#REF!)/#REF!)","v":0},{"$f":"IF(ISERROR((#REF!-#REF!)/#REF!),0,(#REF!-#REF!)/#REF!)","v":0},{"$f":"IF(ISERROR((#REF!-#REF!)/#REF!),0,(#REF!-#REF!)/#REF!)","v":0},{"$f":"IF(ISERROR((#REF!-#REF!)/#REF!),0,(#REF!-#REF!)/#REF!)","v":0},{"$f":"IF(ISERROR((#REF!-#REF!)/#REF!),0,(#REF!-#REF!)/#REF!)","v":0},{"$f":"IF(ISERROR((#REF!-#REF!)/#REF!),0,(#REF!-#REF!)/#REF!)","v":0},{"$f":"IF(ISERROR((#REF!-#REF!)/#REF!),0,(#REF!-#REF!)/#REF!)","v":0},{"$f":"IF(ISERROR((#REF!-#REF!)/#REF!),0,(#REF!-#REF!)/#REF!)","v":0},{"$f":"IF(ISERROR((#REF!-#REF!)/#REF!),0,(#REF!-#REF!)/#REF!)","v":0},{"$f":"IF(ISERROR((#REF!-#REF!)/#REF!),0,(#REF!-#REF!)/#REF!)","v":0}]
[null,"PA04A","Headaches and Migraines, with CC",0,883,0,0,5,697,5,288,"No","-",0,"","",{"$f":"IF(ISERROR((#REF!-#REF!)/#REF!),0,(#REF!-#REF!)/#REF!)","v":0},{"$f":"IF(ISERROR((#REF!-#REF!)/#REF!),0,(#REF!-#REF!)/#REF!)","v":0},{"$f":"IF(ISERROR((#REF!-#REF!)/#REF!),0,(#REF!-#REF!)/#REF!)","v":0},{"$f":"IF(ISERROR((#REF!-#REF!)/#REF!),0,(#REF!-#REF!)/#REF!)","v":0},{"$f":"IF(ISERROR((#REF!-#REF!)/#REF!),0,(#REF!-#REF!)/#REF!)","v":0},{"$f":"IF(ISERROR((#REF!-#REF!)/#REF!),0,(#REF!-#REF!)/#REF!)","v":0},{"$f":"IF(ISERROR((#REF!-#REF!)/#REF!),0,(#REF!-#REF!)/#REF!)","v":0},{"$f":"IF(ISERROR((#REF!-#REF!)/#REF!),0,(#REF!-#REF!)/#REF!)","v":0},{"$f":"IF(ISERROR((#REF!-#REF!)/#REF!),0,(#REF!-#REF!)/#REF!)","v":0},{"$f":"IF(ISERROR((#REF!-#REF!)/#REF!),0,(#REF!-#REF!)/#REF!)","v":0},{"$f":"IF(ISERROR((#REF!-#REF!)/#REF!),0,(#REF!-#REF!)/#REF!)","v":0},{"$f":"IF(ISERROR((#REF!-#REF!)/#REF!),0,(#REF!-#REF!)/#REF!)","v":0},{"$f":"IF(ISERROR((#REF!-#REF!)/#REF!),0,(#REF!-#REF!)/#REF!)","v":0}]
[null,"PA04B","Headaches and Migraines, without CC",0,673,0,0,5,550,5,288,"No","-",0,"","",{"$f":"IF(ISERROR((#REF!-#REF!)/#REF!),0,(#REF!-#REF!)/#REF!)","v":0},{"$f":"IF(ISERROR((#REF!-#REF!)/#REF!),0,(#REF!-#REF!)/#REF!)","v":0},{"$f":"IF(ISERROR((#REF!-#REF!)/#REF!),0,(#REF!-#REF!)/#REF!)","v":0},{"$f":"IF(ISERROR((#REF!-#REF!)/#REF!),0,(#REF!-#REF!)/#REF!)","v":0},{"$f":"IF(ISERROR((#REF!-#REF!)/#REF!),0,(#REF!-#REF!)/#REF!)","v":0},{"$f":"IF(ISERROR((#REF!-#REF!)/#REF!),0,(#REF!-#REF!)/#REF!)","v":0},{"$f":"IF(ISERROR((#REF!-#REF!)/#REF!),0,(#REF!-#REF!)/#REF!)","v":0},{"$f":"IF(ISERROR((#REF!-#REF!)/#REF!),0,(#REF!-#REF!)/#REF!)","v":0},{"$f":"IF(ISERROR((#REF!-#REF!)/#REF!),0,(#REF!-#REF!)/#REF!)","v":0},{"$f":"IF(ISERROR((#REF!-#REF!)/#REF!),0,(#REF!-#REF!)/#REF!)","v":0},{"$f":"IF(ISERROR((#REF!-#REF!)/#REF!),0,(#REF!-#REF!)/#REF!)","v":0},{"$f":"IF(ISERROR((#REF!-#REF!)/#REF!),0,(#REF!-#REF!)/#REF!)","v":0},{"$f":"IF(ISERROR((#REF!-#REF!)/#REF!),0,(#REF!-#REF!)/#REF!)","v":0}]
[null,"PA06Z","Head Injury with Intracranial Injury",0,772,0,0,5,1776,9,288,"No","-",0,"","",{"$f":"IF(ISERROR((#REF!-#REF!)/#REF!),0,(#REF!-#REF!)/#REF!)","v":0},{"$f":"IF(ISERROR((#REF!-#REF!)/#REF!),0,(#REF!-#REF!)/#REF!)","v":0},{"$f":"IF(ISERROR((#REF!-#REF!)/#REF!),0,(#REF!-#REF!)/#REF!)","v":0},{"$f":"IF(ISERROR((#REF!-#REF!)/#REF!),0,(#REF!-#REF!)/#REF!)","v":0},{"$f":"IF(ISERROR((#REF!-#REF!)/#REF!),0,(#REF!-#REF!)/#REF!)","v":0},{"$f":"IF(ISERROR((#REF!-#REF!)/#REF!),0,(#REF!-#REF!)/#REF!)","v":0},{"$f":"IF(ISERROR((#REF!-#REF!)/#REF!),0,(#REF!-#REF!)/#REF!)","v":0},{"$f":"IF(ISERROR((#REF!-#REF!)/#REF!),0,(#REF!-#REF!)/#REF!)","v":0},{"$f":"IF(ISERROR((#REF!-#REF!)/#REF!),0,(#REF!-#REF!)/#REF!)","v":0},{"$f":"IF(ISERROR((#REF!-#REF!)/#REF!),0,(#REF!-#REF!)/#REF!)","v":0},{"$f":"IF(ISERROR((#REF!-#REF!)/#REF!),0,(#REF!-#REF!)/#REF!)","v":0},{"$f":"IF(ISERROR((#REF!-#REF!)/#REF!),0,(#REF!-#REF!)/#REF!)","v":0},{"$f":"IF(ISERROR((#REF!-#REF!)/#REF!),0,(#REF!-#REF!)/#REF!)","v":0}]
[null,"PA07A","Head Injury without Intracranial Injury, with CC",0,967,0,0,5,602,5,288,"No","-",0,"","",{"$f":"IF(ISERROR((#REF!-#REF!)/#REF!),0,(#REF!-#REF!)/#REF!)","v":0},{"$f":"IF(ISERROR((#REF!-#REF!)/#REF!),0,(#REF!-#REF!)/#REF!)","v":0},{"$f":"IF(ISERROR((#REF!-#REF!)/#REF!),0,(#REF!-#REF!)/#REF!)","v":0},{"$f":"IF(ISERROR((#REF!-#REF!)/#REF!),0,(#REF!-#REF!)/#REF!)","v":0},{"$f":"IF(ISERROR((#REF!-#REF!)/#REF!),0,(#REF!-#REF!)/#REF!)","v":0},{"$f":"IF(ISERROR((#REF!-#REF!)/#REF!),0,(#REF!-#REF!)/#REF!)","v":0},{"$f":"IF(ISERROR((#REF!-#REF!)/#REF!),0,(#REF!-#REF!)/#REF!)","v":0},{"$f":"IF(ISERROR((#REF!-#REF!)/#REF!),0,(#REF!-#REF!)/#REF!)","v":0},{"$f":"IF(ISERROR((#REF!-#REF!)/#REF!),0,(#REF!-#REF!)/#REF!)","v":0},{"$f":"IF(ISERROR((#REF!-#REF!)/#REF!),0,(#REF!-#REF!)/#REF!)","v":0},{"$f":"IF(ISERROR((#REF!-#REF!)/#REF!),0,(#REF!-#REF!)/#REF!)","v":0},{"$f":"IF(ISERROR((#REF!-#REF!)/#REF!),0,(#REF!-#REF!)/#REF!)","v":0},{"$f":"IF(ISERROR((#REF!-#REF!)/#REF!),0,(#REF!-#REF!)/#REF!)","v":0}]
[null,"PA07B","Head Injury without Intracranial Injury, without CC",0,661,0,0,5,505,5,288,"No","-",0,"","",{"$f":"IF(ISERROR((#REF!-#REF!)/#REF!),0,(#REF!-#REF!)/#REF!)","v":0},{"$f":"IF(ISERROR((#REF!-#REF!)/#REF!),0,(#REF!-#REF!)/#REF!)","v":0},{"$f":"IF(ISERROR((#REF!-#REF!)/#REF!),0,(#REF!-#REF!)/#REF!)","v":0},{"$f":"IF(ISERROR((#REF!-#REF!)/#REF!),0,(#REF!-#REF!)/#REF!)","v":0},{"$f":"IF(ISERROR((#REF!-#REF!)/#REF!),0,(#REF!-#REF!)/#REF!)","v":0},{"$f":"IF(ISERROR((#REF!-#REF!)/#REF!),0,(#REF!-#REF!)/#REF!)","v":0},{"$f":"IF(ISERROR((#REF!-#REF!)/#REF!),0,(#REF!-#REF!)/#REF!)","v":0},{"$f":"IF(ISERROR((#REF!-#REF!)/#REF!),0,(#REF!-#REF!)/#REF!)","v":0},{"$f":"IF(ISERROR((#REF!-#REF!)/#REF!),0,(#REF!-#REF!)/#REF!)","v":0},{"$f":"IF(ISERROR((#REF!-#REF!)/#REF!),0,(#REF!-#REF!)/#REF!)","v":0},{"$f":"IF(ISERROR((#REF!-#REF!)/#REF!),0,(#REF!-#REF!)/#REF!)","v":0},{"$f":"IF(ISERROR((#REF!-#REF!)/#REF!),0,(#REF!-#REF!)/#REF!)","v":0},{"$f":"IF(ISERROR((#REF!-#REF!)/#REF!),0,(#REF!-#REF!)/#REF!)","v":0}]
[null,"PA08A","Intermediate Injury without Intracranial Injury, with CC",0,1910,0,0,5,1031,5,288,"No","-",0,"","",{"$f":"IF(ISERROR((#REF!-#REF!)/#REF!),0,(#REF!-#REF!)/#REF!)","v":0},{"$f":"IF(ISERROR((#REF!-#REF!)/#REF!),0,(#REF!-#REF!)/#REF!)","v":0},{"$f":"IF(ISERROR((#REF!-#REF!)/#REF!),0,(#REF!-#REF!)/#REF!)","v":0},{"$f":"IF(ISERROR((#REF!-#REF!)/#REF!),0,(#REF!-#REF!)/#REF!)","v":0},{"$f":"IF(ISERROR((#REF!-#REF!)/#REF!),0,(#REF!-#REF!)/#REF!)","v":0},{"$f":"IF(ISERROR((#REF!-#REF!)/#REF!),0,(#REF!-#REF!)/#REF!)","v":0},{"$f":"IF(ISERROR((#REF!-#REF!)/#REF!),0,(#REF!-#REF!)/#REF!)","v":0},{"$f":"IF(ISERROR((#REF!-#REF!)/#REF!),0,(#REF!-#REF!)/#REF!)","v":0},{"$f":"IF(ISERROR((#REF!-#REF!)/#REF!),0,(#REF!-#REF!)/#REF!)","v":0},{"$f":"IF(ISERROR((#REF!-#REF!)/#REF!),0,(#REF!-#REF!)/#REF!)","v":0},{"$f":"IF(ISERROR((#REF!-#REF!)/#REF!),0,(#REF!-#REF!)/#REF!)","v":0},{"$f":"IF(ISERROR((#REF!-#REF!)/#REF!),0,(#REF!-#REF!)/#REF!)","v":0},{"$f":"IF(ISERROR((#REF!-#REF!)/#REF!),0,(#REF!-#REF!)/#REF!)","v":0}]
[null,"PA08B","Intermediate Injury without Intracranial Injury, without CC",0,741,0,0,5,838,5,288,"No","-",0,"","",{"$f":"IF(ISERROR((#REF!-#REF!)/#REF!),0,(#REF!-#REF!)/#REF!)","v":0},{"$f":"IF(ISERROR((#REF!-#REF!)/#REF!),0,(#REF!-#REF!)/#REF!)","v":0},{"$f":"IF(ISERROR((#REF!-#REF!)/#REF!),0,(#REF!-#REF!)/#REF!)","v":0},{"$f":"IF(ISERROR((#REF!-#REF!)/#REF!),0,(#REF!-#REF!)/#REF!)","v":0},{"$f":"IF(ISERROR((#REF!-#REF!)/#REF!),0,(#REF!-#REF!)/#REF!)","v":0},{"$f":"IF(ISERROR((#REF!-#REF!)/#REF!),0,(#REF!-#REF!)/#REF!)","v":0},{"$f":"IF(ISERROR((#REF!-#REF!)/#REF!),0,(#REF!-#REF!)/#REF!)","v":0},{"$f":"IF(ISERROR((#REF!-#REF!)/#REF!),0,(#REF!-#REF!)/#REF!)","v":0},{"$f":"IF(ISERROR((#REF!-#REF!)/#REF!),0,(#REF!-#REF!)/#REF!)","v":0},{"$f":"IF(ISERROR((#REF!-#REF!)/#REF!),0,(#REF!-#REF!)/#REF!)","v":0},{"$f":"IF(ISERROR((#REF!-#REF!)/#REF!),0,(#REF!-#REF!)/#REF!)","v":0},{"$f":"IF(ISERROR((#REF!-#REF!)/#REF!),0,(#REF!-#REF!)/#REF!)","v":0},{"$f":"IF(ISERROR((#REF!-#REF!)/#REF!),0,(#REF!-#REF!)/#REF!)","v":0}]
[null,"PA11Z","Acute Upper Respiratory Tract Infection and Common Cold",0,566,0,0,5,484,5,288,"No","-",0,"","",{"$f":"IF(ISERROR((#REF!-#REF!)/#REF!),0,(#REF!-#REF!)/#REF!)","v":0},{"$f":"IF(ISERROR((#REF!-#REF!)/#REF!),0,(#REF!-#REF!)/#REF!)","v":0},{"$f":"IF(ISERROR((#REF!-#REF!)/#REF!),0,(#REF!-#REF!)/#REF!)","v":0},{"$f":"IF(ISERROR((#REF!-#REF!)/#REF!),0,(#REF!-#REF!)/#REF!)","v":0},{"$f":"IF(ISERROR((#REF!-#REF!)/#REF!),0,(#REF!-#REF!)/#REF!)","v":0},{"$f":"IF(ISERROR((#REF!-#REF!)/#REF!),0,(#REF!-#REF!)/#REF!)","v":0},{"$f":"IF(ISERROR((#REF!-#REF!)/#REF!),0,(#REF!-#REF!)/#REF!)","v":0},{"$f":"IF(ISERROR((#REF!-#REF!)/#REF!),0,(#REF!-#REF!)/#REF!)","v":0},{"$f":"IF(ISERROR((#REF!-#REF!)/#REF!),0,(#REF!-#REF!)/#REF!)","v":0},{"$f":"IF(ISERROR((#REF!-#REF!)/#REF!),0,(#REF!-#REF!)/#REF!)","v":0},{"$f":"IF(ISERROR((#REF!-#REF!)/#REF!),0,(#REF!-#REF!)/#REF!)","v":0},{"$f":"IF(ISERROR((#REF!-#REF!)/#REF!),0,(#REF!-#REF!)/#REF!)","v":0},{"$f":"IF(ISERROR((#REF!-#REF!)/#REF!),0,(#REF!-#REF!)/#REF!)","v":0}]
[null,"PA12Z","Asthma or Wheezing",0,599,0,0,5,702,5,288,"No","-",0,"","",{"$f":"IF(ISERROR((#REF!-#REF!)/#REF!),0,(#REF!-#REF!)/#REF!)","v":0},{"$f":"IF(ISERROR((#REF!-#REF!)/#REF!),0,(#REF!-#REF!)/#REF!)","v":0},{"$f":"IF(ISERROR((#REF!-#REF!)/#REF!),0,(#REF!-#REF!)/#REF!)","v":0},{"$f":"IF(ISERROR((#REF!-#REF!)/#REF!),0,(#REF!-#REF!)/#REF!)","v":0},{"$f":"IF(ISERROR((#REF!-#REF!)/#REF!),0,(#REF!-#REF!)/#REF!)","v":0},{"$f":"IF(ISERROR((#REF!-#REF!)/#REF!),0,(#REF!-#REF!)/#REF!)","v":0},{"$f":"IF(ISERROR((#REF!-#REF!)/#REF!),0,(#REF!-#REF!)/#REF!)","v":0},{"$f":"IF(ISERROR((#REF!-#REF!)/#REF!),0,(#REF!-#REF!)/#REF!)","v":0},{"$f":"IF(ISERROR((#REF!-#REF!)/#REF!),0,(#REF!-#REF!)/#REF!)","v":0},{"$f":"IF(ISERROR((#REF!-#REF!)/#REF!),0,(#REF!-#REF!)/#REF!)","v":0},{"$f":"IF(ISERROR((#REF!-#REF!)/#REF!),0,(#REF!-#REF!)/#REF!)","v":0},{"$f":"IF(ISERROR((#REF!-#REF!)/#REF!),0,(#REF!-#REF!)/#REF!)","v":0},{"$f":"IF(ISERROR((#REF!-#REF!)/#REF!),0,(#REF!-#REF!)/#REF!)","v":0}]
[null,"PA14C","Lower Respiratory Tract Disorders without Acute Bronchiolitis, with length of stay 1 day or more, with CC",0,4871,0,0,20,2240,12,288,"No","-",0,"","",{"$f":"IF(ISERROR((#REF!-#REF!)/#REF!),0,(#REF!-#REF!)/#REF!)","v":0},{"$f":"IF(ISERROR((#REF!-#REF!)/#REF!),0,(#REF!-#REF!)/#REF!)","v":0},{"$f":"IF(ISERROR((#REF!-#REF!)/#REF!),0,(#REF!-#REF!)/#REF!)","v":0},{"$f":"IF(ISERROR((#REF!-#REF!)/#REF!),0,(#REF!-#REF!)/#REF!)","v":0},{"$f":"IF(ISERROR((#REF!-#REF!)/#REF!),0,(#REF!-#REF!)/#REF!)","v":0},{"$f":"IF(ISERROR((#REF!-#REF!)/#REF!),0,(#REF!-#REF!)/#REF!)","v":0},{"$f":"IF(ISERROR((#REF!-#REF!)/#REF!),0,(#REF!-#REF!)/#REF!)","v":0},{"$f":"IF(ISERROR((#REF!-#REF!)/#REF!),0,(#REF!-#REF!)/#REF!)","v":0},{"$f":"IF(ISERROR((#REF!-#REF!)/#REF!),0,(#REF!-#REF!)/#REF!)","v":0},{"$f":"IF(ISERROR((#REF!-#REF!)/#REF!),0,(#REF!-#REF!)/#REF!)","v":0},{"$f":"IF(ISERROR((#REF!-#REF!)/#REF!),0,(#REF!-#REF!)/#REF!)","v":0},{"$f":"IF(ISERROR((#REF!-#REF!)/#REF!),0,(#REF!-#REF!)/#REF!)","v":0},{"$f":"IF(ISERROR((#REF!-#REF!)/#REF!),0,(#REF!-#REF!)/#REF!)","v":0}]
[null,"PA14D","Lower Respiratory Tract Disorders without Acute Bronchiolitis, with length of stay 1 day or more, without CC",0,2630,0,0,11,1082,6,288,"No","-",0,"","",{"$f":"IF(ISERROR((#REF!-#REF!)/#REF!),0,(#REF!-#REF!)/#REF!)","v":0},{"$f":"IF(ISERROR((#REF!-#REF!)/#REF!),0,(#REF!-#REF!)/#REF!)","v":0},{"$f":"IF(ISERROR((#REF!-#REF!)/#REF!),0,(#REF!-#REF!)/#REF!)","v":0},{"$f":"IF(ISERROR((#REF!-#REF!)/#REF!),0,(#REF!-#REF!)/#REF!)","v":0},{"$f":"IF(ISERROR((#REF!-#REF!)/#REF!),0,(#REF!-#REF!)/#REF!)","v":0},{"$f":"IF(ISERROR((#REF!-#REF!)/#REF!),0,(#REF!-#REF!)/#REF!)","v":0},{"$f":"IF(ISERROR((#REF!-#REF!)/#REF!),0,(#REF!-#REF!)/#REF!)","v":0},{"$f":"IF(ISERROR((#REF!-#REF!)/#REF!),0,(#REF!-#REF!)/#REF!)","v":0},{"$f":"IF(ISERROR((#REF!-#REF!)/#REF!),0,(#REF!-#REF!)/#REF!)","v":0},{"$f":"IF(ISERROR((#REF!-#REF!)/#REF!),0,(#REF!-#REF!)/#REF!)","v":0},{"$f":"IF(ISERROR((#REF!-#REF!)/#REF!),0,(#REF!-#REF!)/#REF!)","v":0},{"$f":"IF(ISERROR((#REF!-#REF!)/#REF!),0,(#REF!-#REF!)/#REF!)","v":0},{"$f":"IF(ISERROR((#REF!-#REF!)/#REF!),0,(#REF!-#REF!)/#REF!)","v":0}]
[null,"PA14E","Lower Respiratory Tract Disorders without Acute Bronchiolitis, with length of stay 0 days",0,504,0,0,5,399,5,288,"No","-",0,"","",{"$f":"IF(ISERROR((#REF!-#REF!)/#REF!),0,(#REF!-#REF!)/#REF!)","v":0},{"$f":"IF(ISERROR((#REF!-#REF!)/#REF!),0,(#REF!-#REF!)/#REF!)","v":0},{"$f":"IF(ISERROR((#REF!-#REF!)/#REF!),0,(#REF!-#REF!)/#REF!)","v":0},{"$f":"IF(ISERROR((#REF!-#REF!)/#REF!),0,(#REF!-#REF!)/#REF!)","v":0},{"$f":"IF(ISERROR((#REF!-#REF!)/#REF!),0,(#REF!-#REF!)/#REF!)","v":0},{"$f":"IF(ISERROR((#REF!-#REF!)/#REF!),0,(#REF!-#REF!)/#REF!)","v":0},{"$f":"IF(ISERROR((#REF!-#REF!)/#REF!),0,(#REF!-#REF!)/#REF!)","v":0},{"$f":"IF(ISERROR((#REF!-#REF!)/#REF!),0,(#REF!-#REF!)/#REF!)","v":0},{"$f":"IF(ISERROR((#REF!-#REF!)/#REF!),0,(#REF!-#REF!)/#REF!)","v":0},{"$f":"IF(ISERROR((#REF!-#REF!)/#REF!),0,(#REF!-#REF!)/#REF!)","v":0},{"$f":"IF(ISERROR((#REF!-#REF!)/#REF!),0,(#REF!-#REF!)/#REF!)","v":0},{"$f":"IF(ISERROR((#REF!-#REF!)/#REF!),0,(#REF!-#REF!)/#REF!)","v":0},{"$f":"IF(ISERROR((#REF!-#REF!)/#REF!),0,(#REF!-#REF!)/#REF!)","v":0}]
[null,"PA15A","Acute Bronchiolitis with CC",0,2618,0,0,13,1808,11,288,"No","-",0,"","",{"$f":"IF(ISERROR((#REF!-#REF!)/#REF!),0,(#REF!-#REF!)/#REF!)","v":0},{"$f":"IF(ISERROR((#REF!-#REF!)/#REF!),0,(#REF!-#REF!)/#REF!)","v":0},{"$f":"IF(ISERROR((#REF!-#REF!)/#REF!),0,(#REF!-#REF!)/#REF!)","v":0},{"$f":"IF(ISERROR((#REF!-#REF!)/#REF!),0,(#REF!-#REF!)/#REF!)","v":0},{"$f":"IF(ISERROR((#REF!-#REF!)/#REF!),0,(#REF!-#REF!)/#REF!)","v":0},{"$f":"IF(ISERROR((#REF!-#REF!)/#REF!),0,(#REF!-#REF!)/#REF!)","v":0},{"$f":"IF(ISERROR((#REF!-#REF!)/#REF!),0,(#REF!-#REF!)/#REF!)","v":0},{"$f":"IF(ISERROR((#REF!-#REF!)/#REF!),0,(#REF!-#REF!)/#REF!)","v":0},{"$f":"IF(ISERROR((#REF!-#REF!)/#REF!),0,(#REF!-#REF!)/#REF!)","v":0},{"$f":"IF(ISERROR((#REF!-#REF!)/#REF!),0,(#REF!-#REF!)/#REF!)","v":0},{"$f":"IF(ISERROR((#REF!-#REF!)/#REF!),0,(#REF!-#REF!)/#REF!)","v":0},{"$f":"IF(ISERROR((#REF!-#REF!)/#REF!),0,(#REF!-#REF!)/#REF!)","v":0},{"$f":"IF(ISERROR((#REF!-#REF!)/#REF!),0,(#REF!-#REF!)/#REF!)","v":0}]
[null,"PA15B","Acute Bronchiolitis without CC",0,939,0,0,5,858,5,288,"No","-",0,"","",{"$f":"IF(ISERROR((#REF!-#REF!)/#REF!),0,(#REF!-#REF!)/#REF!)","v":0},{"$f":"IF(ISERROR((#REF!-#REF!)/#REF!),0,(#REF!-#REF!)/#REF!)","v":0},{"$f":"IF(ISERROR((#REF!-#REF!)/#REF!),0,(#REF!-#REF!)/#REF!)","v":0},{"$f":"IF(ISERROR((#REF!-#REF!)/#REF!),0,(#REF!-#REF!)/#REF!)","v":0},{"$f":"IF(ISERROR((#REF!-#REF!)/#REF!),0,(#REF!-#REF!)/#REF!)","v":0},{"$f":"IF(ISERROR((#REF!-#REF!)/#REF!),0,(#REF!-#REF!)/#REF!)","v":0},{"$f":"IF(ISERROR((#REF!-#REF!)/#REF!),0,(#REF!-#REF!)/#REF!)","v":0},{"$f":"IF(ISERROR((#REF!-#REF!)/#REF!),0,(#REF!-#REF!)/#REF!)","v":0},{"$f":"IF(ISERROR((#REF!-#REF!)/#REF!),0,(#REF!-#REF!)/#REF!)","v":0},{"$f":"IF(ISERROR((#REF!-#REF!)/#REF!),0,(#REF!-#REF!)/#REF!)","v":0},{"$f":"IF(ISERROR((#REF!-#REF!)/#REF!),0,(#REF!-#REF!)/#REF!)","v":0},{"$f":"IF(ISERROR((#REF!-#REF!)/#REF!),0,(#REF!-#REF!)/#REF!)","v":0},{"$f":"IF(ISERROR((#REF!-#REF!)/#REF!),0,(#REF!-#REF!)/#REF!)","v":0}]
[null,"PA16A","Major Infections with CC",0,1619,0,0,5,1740,10,288,"No","-",0,"","",{"$f":"IF(ISERROR((#REF!-#REF!)/#REF!),0,(#REF!-#REF!)/#REF!)","v":0},{"$f":"IF(ISERROR((#REF!-#REF!)/#REF!),0,(#REF!-#REF!)/#REF!)","v":0},{"$f":"IF(ISERROR((#REF!-#REF!)/#REF!),0,(#REF!-#REF!)/#REF!)","v":0},{"$f":"IF(ISERROR((#REF!-#REF!)/#REF!),0,(#REF!-#REF!)/#REF!)","v":0},{"$f":"IF(ISERROR((#REF!-#REF!)/#REF!),0,(#REF!-#REF!)/#REF!)","v":0},{"$f":"IF(ISERROR((#REF!-#REF!)/#REF!),0,(#REF!-#REF!)/#REF!)","v":0},{"$f":"IF(ISERROR((#REF!-#REF!)/#REF!),0,(#REF!-#REF!)/#REF!)","v":0},{"$f":"IF(ISERROR((#REF!-#REF!)/#REF!),0,(#REF!-#REF!)/#REF!)","v":0},{"$f":"IF(ISERROR((#REF!-#REF!)/#REF!),0,(#REF!-#REF!)/#REF!)","v":0},{"$f":"IF(ISERROR((#REF!-#REF!)/#REF!),0,(#REF!-#REF!)/#REF!)","v":0},{"$f":"IF(ISERROR((#REF!-#REF!)/#REF!),0,(#REF!-#REF!)/#REF!)","v":0},{"$f":"IF(ISERROR((#REF!-#REF!)/#REF!),0,(#REF!-#REF!)/#REF!)","v":0},{"$f":"IF(ISERROR((#REF!-#REF!)/#REF!),0,(#REF!-#REF!)/#REF!)","v":0}]
[null,"PA16B","Major Infections without CC",0,617,0,0,5,809,5,288,"No","-",0,"","",{"$f":"IF(ISERROR((#REF!-#REF!)/#REF!),0,(#REF!-#REF!)/#REF!)","v":0},{"$f":"IF(ISERROR((#REF!-#REF!)/#REF!),0,(#REF!-#REF!)/#REF!)","v":0},{"$f":"IF(ISERROR((#REF!-#REF!)/#REF!),0,(#REF!-#REF!)/#REF!)","v":0},{"$f":"IF(ISERROR((#REF!-#REF!)/#REF!),0,(#REF!-#REF!)/#REF!)","v":0},{"$f":"IF(ISERROR((#REF!-#REF!)/#REF!),0,(#REF!-#REF!)/#REF!)","v":0},{"$f":"IF(ISERROR((#REF!-#REF!)/#REF!),0,(#REF!-#REF!)/#REF!)","v":0},{"$f":"IF(ISERROR((#REF!-#REF!)/#REF!),0,(#REF!-#REF!)/#REF!)","v":0},{"$f":"IF(ISERROR((#REF!-#REF!)/#REF!),0,(#REF!-#REF!)/#REF!)","v":0},{"$f":"IF(ISERROR((#REF!-#REF!)/#REF!),0,(#REF!-#REF!)/#REF!)","v":0},{"$f":"IF(ISERROR((#REF!-#REF!)/#REF!),0,(#REF!-#REF!)/#REF!)","v":0},{"$f":"IF(ISERROR((#REF!-#REF!)/#REF!),0,(#REF!-#REF!)/#REF!)","v":0},{"$f":"IF(ISERROR((#REF!-#REF!)/#REF!),0,(#REF!-#REF!)/#REF!)","v":0},{"$f":"IF(ISERROR((#REF!-#REF!)/#REF!),0,(#REF!-#REF!)/#REF!)","v":0}]
[null,"PA17A","Intermediate Infections with CC",0,1121,0,0,5,1261,8,288,"No","-",0,"","",{"$f":"IF(ISERROR((#REF!-#REF!)/#REF!),0,(#REF!-#REF!)/#REF!)","v":0},{"$f":"IF(ISERROR((#REF!-#REF!)/#REF!),0,(#REF!-#REF!)/#REF!)","v":0},{"$f":"IF(ISERROR((#REF!-#REF!)/#REF!),0,(#REF!-#REF!)/#REF!)","v":0},{"$f":"IF(ISERROR((#REF!-#REF!)/#REF!),0,(#REF!-#REF!)/#REF!)","v":0},{"$f":"IF(ISERROR((#REF!-#REF!)/#REF!),0,(#REF!-#REF!)/#REF!)","v":0},{"$f":"IF(ISERROR((#REF!-#REF!)/#REF!),0,(#REF!-#REF!)/#REF!)","v":0},{"$f":"IF(ISERROR((#REF!-#REF!)/#REF!),0,(#REF!-#REF!)/#REF!)","v":0},{"$f":"IF(ISERROR((#REF!-#REF!)/#REF!),0,(#REF!-#REF!)/#REF!)","v":0},{"$f":"IF(ISERROR((#REF!-#REF!)/#REF!),0,(#REF!-#REF!)/#REF!)","v":0},{"$f":"IF(ISERROR((#REF!-#REF!)/#REF!),0,(#REF!-#REF!)/#REF!)","v":0},{"$f":"IF(ISERROR((#REF!-#REF!)/#REF!),0,(#REF!-#REF!)/#REF!)","v":0},{"$f":"IF(ISERROR((#REF!-#REF!)/#REF!),0,(#REF!-#REF!)/#REF!)","v":0},{"$f":"IF(ISERROR((#REF!-#REF!)/#REF!),0,(#REF!-#REF!)/#REF!)","v":0}]
[null,"PA17B","Intermediate Infections without CC",0,519,0,0,5,799,5,288,"No","-",0,"","",{"$f":"IF(ISERROR((#REF!-#REF!)/#REF!),0,(#REF!-#REF!)/#REF!)","v":0},{"$f":"IF(ISERROR((#REF!-#REF!)/#REF!),0,(#REF!-#REF!)/#REF!)","v":0},{"$f":"IF(ISERROR((#REF!-#REF!)/#REF!),0,(#REF!-#REF!)/#REF!)","v":0},{"$f":"IF(ISERROR((#REF!-#REF!)/#REF!),0,(#REF!-#REF!)/#REF!)","v":0},{"$f":"IF(ISERROR((#REF!-#REF!)/#REF!),0,(#REF!-#REF!)/#REF!)","v":0},{"$f":"IF(ISERROR((#REF!-#REF!)/#REF!),0,(#REF!-#REF!)/#REF!)","v":0},{"$f":"IF(ISERROR((#REF!-#REF!)/#REF!),0,(#REF!-#REF!)/#REF!)","v":0},{"$f":"IF(ISERROR((#REF!-#REF!)/#REF!),0,(#REF!-#REF!)/#REF!)","v":0},{"$f":"IF(ISERROR((#REF!-#REF!)/#REF!),0,(#REF!-#REF!)/#REF!)","v":0},{"$f":"IF(ISERROR((#REF!-#REF!)/#REF!),0,(#REF!-#REF!)/#REF!)","v":0},{"$f":"IF(ISERROR((#REF!-#REF!)/#REF!),0,(#REF!-#REF!)/#REF!)","v":0},{"$f":"IF(ISERROR((#REF!-#REF!)/#REF!),0,(#REF!-#REF!)/#REF!)","v":0},{"$f":"IF(ISERROR((#REF!-#REF!)/#REF!),0,(#REF!-#REF!)/#REF!)","v":0}]
[null,"PA18A","Minor Infections with CC",0,845,0,0,5,960,5,288,"No","-",0,"","",{"$f":"IF(ISERROR((#REF!-#REF!)/#REF!),0,(#REF!-#REF!)/#REF!)","v":0},{"$f":"IF(ISERROR((#REF!-#REF!)/#REF!),0,(#REF!-#REF!)/#REF!)","v":0},{"$f":"IF(ISERROR((#REF!-#REF!)/#REF!),0,(#REF!-#REF!)/#REF!)","v":0},{"$f":"IF(ISERROR((#REF!-#REF!)/#REF!),0,(#REF!-#REF!)/#REF!)","v":0},{"$f":"IF(ISERROR((#REF!-#REF!)/#REF!),0,(#REF!-#REF!)/#REF!)","v":0},{"$f":"IF(ISERROR((#REF!-#REF!)/#REF!),0,(#REF!-#REF!)/#REF!)","v":0},{"$f":"IF(ISERROR((#REF!-#REF!)/#REF!),0,(#REF!-#REF!)/#REF!)","v":0},{"$f":"IF(ISERROR((#REF!-#REF!)/#REF!),0,(#REF!-#REF!)/#REF!)","v":0},{"$f":"IF(ISERROR((#REF!-#REF!)/#REF!),0,(#REF!-#REF!)/#REF!)","v":0},{"$f":"IF(ISERROR((#REF!-#REF!)/#REF!),0,(#REF!-#REF!)/#REF!)","v":0},{"$f":"IF(ISERROR((#REF!-#REF!)/#REF!),0,(#REF!-#REF!)/#REF!)","v":0},{"$f":"IF(ISERROR((#REF!-#REF!)/#REF!),0,(#REF!-#REF!)/#REF!)","v":0},{"$f":"IF(ISERROR((#REF!-#REF!)/#REF!),0,(#REF!-#REF!)/#REF!)","v":0}]
[null,"PA18B","Minor Infections without CC",0,417,0,0,5,525,5,288,"No","-",0,"","",{"$f":"IF(ISERROR((#REF!-#REF!)/#REF!),0,(#REF!-#REF!)/#REF!)","v":0},{"$f":"IF(ISERROR((#REF!-#REF!)/#REF!),0,(#REF!-#REF!)/#REF!)","v":0},{"$f":"IF(ISERROR((#REF!-#REF!)/#REF!),0,(#REF!-#REF!)/#REF!)","v":0},{"$f":"IF(ISERROR((#REF!-#REF!)/#REF!),0,(#REF!-#REF!)/#REF!)","v":0},{"$f":"IF(ISERROR((#REF!-#REF!)/#REF!),0,(#REF!-#REF!)/#REF!)","v":0},{"$f":"IF(ISERROR((#REF!-#REF!)/#REF!),0,(#REF!-#REF!)/#REF!)","v":0},{"$f":"IF(ISERROR((#REF!-#REF!)/#REF!),0,(#REF!-#REF!)/#REF!)","v":0},{"$f":"IF(ISERROR((#REF!-#REF!)/#REF!),0,(#REF!-#REF!)/#REF!)","v":0},{"$f":"IF(ISERROR((#REF!-#REF!)/#REF!),0,(#REF!-#REF!)/#REF!)","v":0},{"$f":"IF(ISERROR((#REF!-#REF!)/#REF!),0,(#REF!-#REF!)/#REF!)","v":0},{"$f":"IF(ISERROR((#REF!-#REF!)/#REF!),0,(#REF!-#REF!)/#REF!)","v":0},{"$f":"IF(ISERROR((#REF!-#REF!)/#REF!),0,(#REF!-#REF!)/#REF!)","v":0},{"$f":"IF(ISERROR((#REF!-#REF!)/#REF!),0,(#REF!-#REF!)/#REF!)","v":0}]
[null,"PA19A","Viral Infections with length of stay 1 day or less",0,626.80454659746397,0,0,5,455,5,288,"No","-",0,"","",{"$f":"IF(ISERROR((#REF!-#REF!)/#REF!),0,(#REF!-#REF!)/#REF!)","v":0},{"$f":"IF(ISERROR((#REF!-#REF!)/#REF!),0,(#REF!-#REF!)/#REF!)","v":0},{"$f":"IF(ISERROR((#REF!-#REF!)/#REF!),0,(#REF!-#REF!)/#REF!)","v":0},{"$f":"IF(ISERROR((#REF!-#REF!)/#REF!),0,(#REF!-#REF!)/#REF!)","v":0},{"$f":"IF(ISERROR((#REF!-#REF!)/#REF!),0,(#REF!-#REF!)/#REF!)","v":0},{"$f":"IF(ISERROR((#REF!-#REF!)/#REF!),0,(#REF!-#REF!)/#REF!)","v":0},{"$f":"IF(ISERROR((#REF!-#REF!)/#REF!),0,(#REF!-#REF!)/#REF!)","v":0},{"$f":"IF(ISERROR((#REF!-#REF!)/#REF!),0,(#REF!-#REF!)/#REF!)","v":0},{"$f":"IF(ISERROR((#REF!-#REF!)/#REF!),0,(#REF!-#REF!)/#REF!)","v":0},{"$f":"IF(ISERROR((#REF!-#REF!)/#REF!),0,(#REF!-#REF!)/#REF!)","v":0},{"$f":"IF(ISERROR((#REF!-#REF!)/#REF!),0,(#REF!-#REF!)/#REF!)","v":0},{"$f":"IF(ISERROR((#REF!-#REF!)/#REF!),0,(#REF!-#REF!)/#REF!)","v":0},{"$f":"IF(ISERROR((#REF!-#REF!)/#REF!),0,(#REF!-#REF!)/#REF!)","v":0}]
[null,"PA19B","Viral Infections with length of stay 2 days or more",0,1654,0,0,5,1282,5,288,"No","-",0,"","",{"$f":"IF(ISERROR((#REF!-#REF!)/#REF!),0,(#REF!-#REF!)/#REF!)","v":0},{"$f":"IF(ISERROR((#REF!-#REF!)/#REF!),0,(#REF!-#REF!)/#REF!)","v":0},{"$f":"IF(ISERROR((#REF!-#REF!)/#REF!),0,(#REF!-#REF!)/#REF!)","v":0},{"$f":"IF(ISERROR((#REF!-#REF!)/#REF!),0,(#REF!-#REF!)/#REF!)","v":0},{"$f":"IF(ISERROR((#REF!-#REF!)/#REF!),0,(#REF!-#REF!)/#REF!)","v":0},{"$f":"IF(ISERROR((#REF!-#REF!)/#REF!),0,(#REF!-#REF!)/#REF!)","v":0},{"$f":"IF(ISERROR((#REF!-#REF!)/#REF!),0,(#REF!-#REF!)/#REF!)","v":0},{"$f":"IF(ISERROR((#REF!-#REF!)/#REF!),0,(#REF!-#REF!)/#REF!)","v":0},{"$f":"IF(ISERROR((#REF!-#REF!)/#REF!),0,(#REF!-#REF!)/#REF!)","v":0},{"$f":"IF(ISERROR((#REF!-#REF!)/#REF!),0,(#REF!-#REF!)/#REF!)","v":0},{"$f":"IF(ISERROR((#REF!-#REF!)/#REF!),0,(#REF!-#REF!)/#REF!)","v":0},{"$f":"IF(ISERROR((#REF!-#REF!)/#REF!),0,(#REF!-#REF!)/#REF!)","v":0},{"$f":"IF(ISERROR((#REF!-#REF!)/#REF!),0,(#REF!-#REF!)/#REF!)","v":0}]
[null,"PA20A","Fever Unspecified with CC",0,970,0,0,5,1008,5,288,"No","-",0,"","",{"$f":"IF(ISERROR((#REF!-#REF!)/#REF!),0,(#REF!-#REF!)/#REF!)","v":0},{"$f":"IF(ISERROR((#REF!-#REF!)/#REF!),0,(#REF!-#REF!)/#REF!)","v":0},{"$f":"IF(ISERROR((#REF!-#REF!)/#REF!),0,(#REF!-#REF!)/#REF!)","v":0},{"$f":"IF(ISERROR((#REF!-#REF!)/#REF!),0,(#REF!-#REF!)/#REF!)","v":0},{"$f":"IF(ISERROR((#REF!-#REF!)/#REF!),0,(#REF!-#REF!)/#REF!)","v":0},{"$f":"IF(ISERROR((#REF!-#REF!)/#REF!),0,(#REF!-#REF!)/#REF!)","v":0},{"$f":"IF(ISERROR((#REF!-#REF!)/#REF!),0,(#REF!-#REF!)/#REF!)","v":0},{"$f":"IF(ISERROR((#REF!-#REF!)/#REF!),0,(#REF!-#REF!)/#REF!)","v":0},{"$f":"IF(ISERROR((#REF!-#REF!)/#REF!),0,(#REF!-#REF!)/#REF!)","v":0},{"$f":"IF(ISERROR((#REF!-#REF!)/#REF!),0,(#REF!-#REF!)/#REF!)","v":0},{"$f":"IF(ISERROR((#REF!-#REF!)/#REF!),0,(#REF!-#REF!)/#REF!)","v":0},{"$f":"IF(ISERROR((#REF!-#REF!)/#REF!),0,(#REF!-#REF!)/#REF!)","v":0},{"$f":"IF(ISERROR((#REF!-#REF!)/#REF!),0,(#REF!-#REF!)/#REF!)","v":0}]
[null,"PA20B","Fever Unspecified without CC",0,369,0,0,5,599,5,288,"No","-",0,"","",{"$f":"IF(ISERROR((#REF!-#REF!)/#REF!),0,(#REF!-#REF!)/#REF!)","v":0},{"$f":"IF(ISERROR((#REF!-#REF!)/#REF!),0,(#REF!-#REF!)/#REF!)","v":0},{"$f":"IF(ISERROR((#REF!-#REF!)/#REF!),0,(#REF!-#REF!)/#REF!)","v":0},{"$f":"IF(ISERROR((#REF!-#REF!)/#REF!),0,(#REF!-#REF!)/#REF!)","v":0},{"$f":"IF(ISERROR((#REF!-#REF!)/#REF!),0,(#REF!-#REF!)/#REF!)","v":0},{"$f":"IF(ISERROR((#REF!-#REF!)/#REF!),0,(#REF!-#REF!)/#REF!)","v":0},{"$f":"IF(ISERROR((#REF!-#REF!)/#REF!),0,(#REF!-#REF!)/#REF!)","v":0},{"$f":"IF(ISERROR((#REF!-#REF!)/#REF!),0,(#REF!-#REF!)/#REF!)","v":0},{"$f":"IF(ISERROR((#REF!-#REF!)/#REF!),0,(#REF!-#REF!)/#REF!)","v":0},{"$f":"IF(ISERROR((#REF!-#REF!)/#REF!),0,(#REF!-#REF!)/#REF!)","v":0},{"$f":"IF(ISERROR((#REF!-#REF!)/#REF!),0,(#REF!-#REF!)/#REF!)","v":0},{"$f":"IF(ISERROR((#REF!-#REF!)/#REF!),0,(#REF!-#REF!)/#REF!)","v":0},{"$f":"IF(ISERROR((#REF!-#REF!)/#REF!),0,(#REF!-#REF!)/#REF!)","v":0}]
[null,"PA21A","Infectious or Non-Infectious Gastroenteritis, with CC",0,2489.9270264837187,0,0,8,913,5,288,"No","-",0,"","",{"$f":"IF(ISERROR((#REF!-#REF!)/#REF!),0,(#REF!-#REF!)/#REF!)","v":0},{"$f":"IF(ISERROR((#REF!-#REF!)/#REF!),0,(#REF!-#REF!)/#REF!)","v":0},{"$f":"IF(ISERROR((#REF!-#REF!)/#REF!),0,(#REF!-#REF!)/#REF!)","v":0},{"$f":"IF(ISERROR((#REF!-#REF!)/#REF!),0,(#REF!-#REF!)/#REF!)","v":0},{"$f":"IF(ISERROR((#REF!-#REF!)/#REF!),0,(#REF!-#REF!)/#REF!)","v":0},{"$f":"IF(ISERROR((#REF!-#REF!)/#REF!),0,(#REF!-#REF!)/#REF!)","v":0},{"$f":"IF(ISERROR((#REF!-#REF!)/#REF!),0,(#REF!-#REF!)/#REF!)","v":0},{"$f":"IF(ISERROR((#REF!-#REF!)/#REF!),0,(#REF!-#REF!)/#REF!)","v":0},{"$f":"IF(ISERROR((#REF!-#REF!)/#REF!),0,(#REF!-#REF!)/#REF!)","v":0},{"$f":"IF(ISERROR((#REF!-#REF!)/#REF!),0,(#REF!-#REF!)/#REF!)","v":0},{"$f":"IF(ISERROR((#REF!-#REF!)/#REF!),0,(#REF!-#REF!)/#REF!)","v":0},{"$f":"IF(ISERROR((#REF!-#REF!)/#REF!),0,(#REF!-#REF!)/#REF!)","v":0},{"$f":"IF(ISERROR((#REF!-#REF!)/#REF!),0,(#REF!-#REF!)/#REF!)","v":0}]
[null,"PA21B","Infectious or Non-Infectious Gastroenteritis, without CC",0,646,0,0,5,558,5,288,"No","-",0,"","",{"$f":"IF(ISERROR((#REF!-#REF!)/#REF!),0,(#REF!-#REF!)/#REF!)","v":0},{"$f":"IF(ISERROR((#REF!-#REF!)/#REF!),0,(#REF!-#REF!)/#REF!)","v":0},{"$f":"IF(ISERROR((#REF!-#REF!)/#REF!),0,(#REF!-#REF!)/#REF!)","v":0},{"$f":"IF(ISERROR((#REF!-#REF!)/#REF!),0,(#REF!-#REF!)/#REF!)","v":0},{"$f":"IF(ISERROR((#REF!-#REF!)/#REF!),0,(#REF!-#REF!)/#REF!)","v":0},{"$f":"IF(ISERROR((#REF!-#REF!)/#REF!),0,(#REF!-#REF!)/#REF!)","v":0},{"$f":"IF(ISERROR((#REF!-#REF!)/#REF!),0,(#REF!-#REF!)/#REF!)","v":0},{"$f":"IF(ISERROR((#REF!-#REF!)/#REF!),0,(#REF!-#REF!)/#REF!)","v":0},{"$f":"IF(ISERROR((#REF!-#REF!)/#REF!),0,(#REF!-#REF!)/#REF!)","v":0},{"$f":"IF(ISERROR((#REF!-#REF!)/#REF!),0,(#REF!-#REF!)/#REF!)","v":0},{"$f":"IF(ISERROR((#REF!-#REF!)/#REF!),0,(#REF!-#REF!)/#REF!)","v":0},{"$f":"IF(ISERROR((#REF!-#REF!)/#REF!),0,(#REF!-#REF!)/#REF!)","v":0},{"$f":"IF(ISERROR((#REF!-#REF!)/#REF!),0,(#REF!-#REF!)/#REF!)","v":0}]
[null,"PA22Z","Chest Pain",0,841,0,0,5,459,5,288,"No","-",0,"","",{"$f":"IF(ISERROR((#REF!-#REF!)/#REF!),0,(#REF!-#REF!)/#REF!)","v":0},{"$f":"IF(ISERROR((#REF!-#REF!)/#REF!),0,(#REF!-#REF!)/#REF!)","v":0},{"$f":"IF(ISERROR((#REF!-#REF!)/#REF!),0,(#REF!-#REF!)/#REF!)","v":0},{"$f":"IF(ISERROR((#REF!-#REF!)/#REF!),0,(#REF!-#REF!)/#REF!)","v":0},{"$f":"IF(ISERROR((#REF!-#REF!)/#REF!),0,(#REF!-#REF!)/#REF!)","v":0},{"$f":"IF(ISERROR((#REF!-#REF!)/#REF!),0,(#REF!-#REF!)/#REF!)","v":0},{"$f":"IF(ISERROR((#REF!-#REF!)/#REF!),0,(#REF!-#REF!)/#REF!)","v":0},{"$f":"IF(ISERROR((#REF!-#REF!)/#REF!),0,(#REF!-#REF!)/#REF!)","v":0},{"$f":"IF(ISERROR((#REF!-#REF!)/#REF!),0,(#REF!-#REF!)/#REF!)","v":0},{"$f":"IF(ISERROR((#REF!-#REF!)/#REF!),0,(#REF!-#REF!)/#REF!)","v":0},{"$f":"IF(ISERROR((#REF!-#REF!)/#REF!),0,(#REF!-#REF!)/#REF!)","v":0},{"$f":"IF(ISERROR((#REF!-#REF!)/#REF!),0,(#REF!-#REF!)/#REF!)","v":0},{"$f":"IF(ISERROR((#REF!-#REF!)/#REF!),0,(#REF!-#REF!)/#REF!)","v":0}]
[null,"PA23A","Cardiac Conditions with CC",0,1445,0,0,5,3257,16,288,"No","-",0,"","",{"$f":"IF(ISERROR((#REF!-#REF!)/#REF!),0,(#REF!-#REF!)/#REF!)","v":0},{"$f":"IF(ISERROR((#REF!-#REF!)/#REF!),0,(#REF!-#REF!)/#REF!)","v":0},{"$f":"IF(ISERROR((#REF!-#REF!)/#REF!),0,(#REF!-#REF!)/#REF!)","v":0},{"$f":"IF(ISERROR((#REF!-#REF!)/#REF!),0,(#REF!-#REF!)/#REF!)","v":0},{"$f":"IF(ISERROR((#REF!-#REF!)/#REF!),0,(#REF!-#REF!)/#REF!)","v":0},{"$f":"IF(ISERROR((#REF!-#REF!)/#REF!),0,(#REF!-#REF!)/#REF!)","v":0},{"$f":"IF(ISERROR((#REF!-#REF!)/#REF!),0,(#REF!-#REF!)/#REF!)","v":0},{"$f":"IF(ISERROR((#REF!-#REF!)/#REF!),0,(#REF!-#REF!)/#REF!)","v":0},{"$f":"IF(ISERROR((#REF!-#REF!)/#REF!),0,(#REF!-#REF!)/#REF!)","v":0},{"$f":"IF(ISERROR((#REF!-#REF!)/#REF!),0,(#REF!-#REF!)/#REF!)","v":0},{"$f":"IF(ISERROR((#REF!-#REF!)/#REF!),0,(#REF!-#REF!)/#REF!)","v":0},{"$f":"IF(ISERROR((#REF!-#REF!)/#REF!),0,(#REF!-#REF!)/#REF!)","v":0},{"$f":"IF(ISERROR((#REF!-#REF!)/#REF!),0,(#REF!-#REF!)/#REF!)","v":0}]
[null,"PA23B","Cardiac Conditions without CC",0,970,0,0,5,1217,8,288,"No","-",0,"","",{"$f":"IF(ISERROR((#REF!-#REF!)/#REF!),0,(#REF!-#REF!)/#REF!)","v":0},{"$f":"IF(ISERROR((#REF!-#REF!)/#REF!),0,(#REF!-#REF!)/#REF!)","v":0},{"$f":"IF(ISERROR((#REF!-#REF!)/#REF!),0,(#REF!-#REF!)/#REF!)","v":0},{"$f":"IF(ISERROR((#REF!-#REF!)/#REF!),0,(#REF!-#REF!)/#REF!)","v":0},{"$f":"IF(ISERROR((#REF!-#REF!)/#REF!),0,(#REF!-#REF!)/#REF!)","v":0},{"$f":"IF(ISERROR((#REF!-#REF!)/#REF!),0,(#REF!-#REF!)/#REF!)","v":0},{"$f":"IF(ISERROR((#REF!-#REF!)/#REF!),0,(#REF!-#REF!)/#REF!)","v":0},{"$f":"IF(ISERROR((#REF!-#REF!)/#REF!),0,(#REF!-#REF!)/#REF!)","v":0},{"$f":"IF(ISERROR((#REF!-#REF!)/#REF!),0,(#REF!-#REF!)/#REF!)","v":0},{"$f":"IF(ISERROR((#REF!-#REF!)/#REF!),0,(#REF!-#REF!)/#REF!)","v":0},{"$f":"IF(ISERROR((#REF!-#REF!)/#REF!),0,(#REF!-#REF!)/#REF!)","v":0},{"$f":"IF(ISERROR((#REF!-#REF!)/#REF!),0,(#REF!-#REF!)/#REF!)","v":0},{"$f":"IF(ISERROR((#REF!-#REF!)/#REF!),0,(#REF!-#REF!)/#REF!)","v":0}]
[null,"PA24Z","Arrhythmia or Conduction Disorders",0,1429,0,0,5,737,5,288,"No","-",0,"","",{"$f":"IF(ISERROR((#REF!-#REF!)/#REF!),0,(#REF!-#REF!)/#REF!)","v":0},{"$f":"IF(ISERROR((#REF!-#REF!)/#REF!),0,(#REF!-#REF!)/#REF!)","v":0},{"$f":"IF(ISERROR((#REF!-#REF!)/#REF!),0,(#REF!-#REF!)/#REF!)","v":0},{"$f":"IF(ISERROR((#REF!-#REF!)/#REF!),0,(#REF!-#REF!)/#REF!)","v":0},{"$f":"IF(ISERROR((#REF!-#REF!)/#REF!),0,(#REF!-#REF!)/#REF!)","v":0},{"$f":"IF(ISERROR((#REF!-#REF!)/#REF!),0,(#REF!-#REF!)/#REF!)","v":0},{"$f":"IF(ISERROR((#REF!-#REF!)/#REF!),0,(#REF!-#REF!)/#REF!)","v":0},{"$f":"IF(ISERROR((#REF!-#REF!)/#REF!),0,(#REF!-#REF!)/#REF!)","v":0},{"$f":"IF(ISERROR((#REF!-#REF!)/#REF!),0,(#REF!-#REF!)/#REF!)","v":0},{"$f":"IF(ISERROR((#REF!-#REF!)/#REF!),0,(#REF!-#REF!)/#REF!)","v":0},{"$f":"IF(ISERROR((#REF!-#REF!)/#REF!),0,(#REF!-#REF!)/#REF!)","v":0},{"$f":"IF(ISERROR((#REF!-#REF!)/#REF!),0,(#REF!-#REF!)/#REF!)","v":0},{"$f":"IF(ISERROR((#REF!-#REF!)/#REF!),0,(#REF!-#REF!)/#REF!)","v":0}]
[null,"PA25A","Major Gastrointestinal Disorders with CC",0,2270,0,0,8,2650,13,288,"No","-",0,"","",{"$f":"IF(ISERROR((#REF!-#REF!)/#REF!),0,(#REF!-#REF!)/#REF!)","v":0},{"$f":"IF(ISERROR((#REF!-#REF!)/#REF!),0,(#REF!-#REF!)/#REF!)","v":0},{"$f":"IF(ISERROR((#REF!-#REF!)/#REF!),0,(#REF!-#REF!)/#REF!)","v":0},{"$f":"IF(ISERROR((#REF!-#REF!)/#REF!),0,(#REF!-#REF!)/#REF!)","v":0},{"$f":"IF(ISERROR((#REF!-#REF!)/#REF!),0,(#REF!-#REF!)/#REF!)","v":0},{"$f":"IF(ISERROR((#REF!-#REF!)/#REF!),0,(#REF!-#REF!)/#REF!)","v":0},{"$f":"IF(ISERROR((#REF!-#REF!)/#REF!),0,(#REF!-#REF!)/#REF!)","v":0},{"$f":"IF(ISERROR((#REF!-#REF!)/#REF!),0,(#REF!-#REF!)/#REF!)","v":0},{"$f":"IF(ISERROR((#REF!-#REF!)/#REF!),0,(#REF!-#REF!)/#REF!)","v":0},{"$f":"IF(ISERROR((#REF!-#REF!)/#REF!),0,(#REF!-#REF!)/#REF!)","v":0},{"$f":"IF(ISERROR((#REF!-#REF!)/#REF!),0,(#REF!-#REF!)/#REF!)","v":0},{"$f":"IF(ISERROR((#REF!-#REF!)/#REF!),0,(#REF!-#REF!)/#REF!)","v":0},{"$f":"IF(ISERROR((#REF!-#REF!)/#REF!),0,(#REF!-#REF!)/#REF!)","v":0}]
[null,"PA25B","Major Gastrointestinal Disorders without CC",0,1352,0,0,5,1103,5,288,"No","-",0,"","",{"$f":"IF(ISERROR((#REF!-#REF!)/#REF!),0,(#REF!-#REF!)/#REF!)","v":0},{"$f":"IF(ISERROR((#REF!-#REF!)/#REF!),0,(#REF!-#REF!)/#REF!)","v":0},{"$f":"IF(ISERROR((#REF!-#REF!)/#REF!),0,(#REF!-#REF!)/#REF!)","v":0},{"$f":"IF(ISERROR((#REF!-#REF!)/#REF!),0,(#REF!-#REF!)/#REF!)","v":0},{"$f":"IF(ISERROR((#REF!-#REF!)/#REF!),0,(#REF!-#REF!)/#REF!)","v":0},{"$f":"IF(ISERROR((#REF!-#REF!)/#REF!),0,(#REF!-#REF!)/#REF!)","v":0},{"$f":"IF(ISERROR((#REF!-#REF!)/#REF!),0,(#REF!-#REF!)/#REF!)","v":0},{"$f":"IF(ISERROR((#REF!-#REF!)/#REF!),0,(#REF!-#REF!)/#REF!)","v":0},{"$f":"IF(ISERROR((#REF!-#REF!)/#REF!),0,(#REF!-#REF!)/#REF!)","v":0},{"$f":"IF(ISERROR((#REF!-#REF!)/#REF!),0,(#REF!-#REF!)/#REF!)","v":0},{"$f":"IF(ISERROR((#REF!-#REF!)/#REF!),0,(#REF!-#REF!)/#REF!)","v":0},{"$f":"IF(ISERROR((#REF!-#REF!)/#REF!),0,(#REF!-#REF!)/#REF!)","v":0},{"$f":"IF(ISERROR((#REF!-#REF!)/#REF!),0,(#REF!-#REF!)/#REF!)","v":0}]
[null,"PA26A","Other Gastrointestinal Disorders with CC",0,1487,0,0,5,1054,5,288,"No","-",0,"","",{"$f":"IF(ISERROR((#REF!-#REF!)/#REF!),0,(#REF!-#REF!)/#REF!)","v":0},{"$f":"IF(ISERROR((#REF!-#REF!)/#REF!),0,(#REF!-#REF!)/#REF!)","v":0},{"$f":"IF(ISERROR((#REF!-#REF!)/#REF!),0,(#REF!-#REF!)/#REF!)","v":0},{"$f":"IF(ISERROR((#REF!-#REF!)/#REF!),0,(#REF!-#REF!)/#REF!)","v":0},{"$f":"IF(ISERROR((#REF!-#REF!)/#REF!),0,(#REF!-#REF!)/#REF!)","v":0},{"$f":"IF(ISERROR((#REF!-#REF!)/#REF!),0,(#REF!-#REF!)/#REF!)","v":0},{"$f":"IF(ISERROR((#REF!-#REF!)/#REF!),0,(#REF!-#REF!)/#REF!)","v":0},{"$f":"IF(ISERROR((#REF!-#REF!)/#REF!),0,(#REF!-#REF!)/#REF!)","v":0},{"$f":"IF(ISERROR((#REF!-#REF!)/#REF!),0,(#REF!-#REF!)/#REF!)","v":0},{"$f":"IF(ISERROR((#REF!-#REF!)/#REF!),0,(#REF!-#REF!)/#REF!)","v":0},{"$f":"IF(ISERROR((#REF!-#REF!)/#REF!),0,(#REF!-#REF!)/#REF!)","v":0},{"$f":"IF(ISERROR((#REF!-#REF!)/#REF!),0,(#REF!-#REF!)/#REF!)","v":0},{"$f":"IF(ISERROR((#REF!-#REF!)/#REF!),0,(#REF!-#REF!)/#REF!)","v":0}]
[null,"PA26B","Other Gastrointestinal Disorders without CC",0,835,0,0,5,589,5,288,"No","-",0,"","",{"$f":"IF(ISERROR((#REF!-#REF!)/#REF!),0,(#REF!-#REF!)/#REF!)","v":0},{"$f":"IF(ISERROR((#REF!-#REF!)/#REF!),0,(#REF!-#REF!)/#REF!)","v":0},{"$f":"IF(ISERROR((#REF!-#REF!)/#REF!),0,(#REF!-#REF!)/#REF!)","v":0},{"$f":"IF(ISERROR((#REF!-#REF!)/#REF!),0,(#REF!-#REF!)/#REF!)","v":0},{"$f":"IF(ISERROR((#REF!-#REF!)/#REF!),0,(#REF!-#REF!)/#REF!)","v":0},{"$f":"IF(ISERROR((#REF!-#REF!)/#REF!),0,(#REF!-#REF!)/#REF!)","v":0},{"$f":"IF(ISERROR((#REF!-#REF!)/#REF!),0,(#REF!-#REF!)/#REF!)","v":0},{"$f":"IF(ISERROR((#REF!-#REF!)/#REF!),0,(#REF!-#REF!)/#REF!)","v":0},{"$f":"IF(ISERROR((#REF!-#REF!)/#REF!),0,(#REF!-#REF!)/#REF!)","v":0},{"$f":"IF(ISERROR((#REF!-#REF!)/#REF!),0,(#REF!-#REF!)/#REF!)","v":0},{"$f":"IF(ISERROR((#REF!-#REF!)/#REF!),0,(#REF!-#REF!)/#REF!)","v":0},{"$f":"IF(ISERROR((#REF!-#REF!)/#REF!),0,(#REF!-#REF!)/#REF!)","v":0},{"$f":"IF(ISERROR((#REF!-#REF!)/#REF!),0,(#REF!-#REF!)/#REF!)","v":0}]
[null,"PA27Z","Inflammatory Bowel Disease",0,637,0,0,5,1959,14,288,"No","-",0,"","",{"$f":"IF(ISERROR((#REF!-#REF!)/#REF!),0,(#REF!-#REF!)/#REF!)","v":0},{"$f":"IF(ISERROR((#REF!-#REF!)/#REF!),0,(#REF!-#REF!)/#REF!)","v":0},{"$f":"IF(ISERROR((#REF!-#REF!)/#REF!),0,(#REF!-#REF!)/#REF!)","v":0},{"$f":"IF(ISERROR((#REF!-#REF!)/#REF!),0,(#REF!-#REF!)/#REF!)","v":0},{"$f":"IF(ISERROR((#REF!-#REF!)/#REF!),0,(#REF!-#REF!)/#REF!)","v":0},{"$f":"IF(ISERROR((#REF!-#REF!)/#REF!),0,(#REF!-#REF!)/#REF!)","v":0},{"$f":"IF(ISERROR((#REF!-#REF!)/#REF!),0,(#REF!-#REF!)/#REF!)","v":0},{"$f":"IF(ISERROR((#REF!-#REF!)/#REF!),0,(#REF!-#REF!)/#REF!)","v":0},{"$f":"IF(ISERROR((#REF!-#REF!)/#REF!),0,(#REF!-#REF!)/#REF!)","v":0},{"$f":"IF(ISERROR((#REF!-#REF!)/#REF!),0,(#REF!-#REF!)/#REF!)","v":0},{"$f":"IF(ISERROR((#REF!-#REF!)/#REF!),0,(#REF!-#REF!)/#REF!)","v":0},{"$f":"IF(ISERROR((#REF!-#REF!)/#REF!),0,(#REF!-#REF!)/#REF!)","v":0},{"$f":"IF(ISERROR((#REF!-#REF!)/#REF!),0,(#REF!-#REF!)/#REF!)","v":0}]
[null,"PA28A","Feeding Difficulties and Vomiting, with CC",0,2099,0,0,10,1024,5,288,"No","-",0,"","",{"$f":"IF(ISERROR((#REF!-#REF!)/#REF!),0,(#REF!-#REF!)/#REF!)","v":0},{"$f":"IF(ISERROR((#REF!-#REF!)/#REF!),0,(#REF!-#REF!)/#REF!)","v":0},{"$f":"IF(ISERROR((#REF!-#REF!)/#REF!),0,(#REF!-#REF!)/#REF!)","v":0},{"$f":"IF(ISERROR((#REF!-#REF!)/#REF!),0,(#REF!-#REF!)/#REF!)","v":0},{"$f":"IF(ISERROR((#REF!-#REF!)/#REF!),0,(#REF!-#REF!)/#REF!)","v":0},{"$f":"IF(ISERROR((#REF!-#REF!)/#REF!),0,(#REF!-#REF!)/#REF!)","v":0},{"$f":"IF(ISERROR((#REF!-#REF!)/#REF!),0,(#REF!-#REF!)/#REF!)","v":0},{"$f":"IF(ISERROR((#REF!-#REF!)/#REF!),0,(#REF!-#REF!)/#REF!)","v":0},{"$f":"IF(ISERROR((#REF!-#REF!)/#REF!),0,(#REF!-#REF!)/#REF!)","v":0},{"$f":"IF(ISERROR((#REF!-#REF!)/#REF!),0,(#REF!-#REF!)/#REF!)","v":0},{"$f":"IF(ISERROR((#REF!-#REF!)/#REF!),0,(#REF!-#REF!)/#REF!)","v":0},{"$f":"IF(ISERROR((#REF!-#REF!)/#REF!),0,(#REF!-#REF!)/#REF!)","v":0},{"$f":"IF(ISERROR((#REF!-#REF!)/#REF!),0,(#REF!-#REF!)/#REF!)","v":0}]
[null,"PA28B","Feeding Difficulties and Vomiting, without CC",0,1193.0900335234487,0,0,5,551,5,288,"No","-",0,"","",{"$f":"IF(ISERROR((#REF!-#REF!)/#REF!),0,(#REF!-#REF!)/#REF!)","v":0},{"$f":"IF(ISERROR((#REF!-#REF!)/#REF!),0,(#REF!-#REF!)/#REF!)","v":0},{"$f":"IF(ISERROR((#REF!-#REF!)/#REF!),0,(#REF!-#REF!)/#REF!)","v":0},{"$f":"IF(ISERROR((#REF!-#REF!)/#REF!),0,(#REF!-#REF!)/#REF!)","v":0},{"$f":"IF(ISERROR((#REF!-#REF!)/#REF!),0,(#REF!-#REF!)/#REF!)","v":0},{"$f":"IF(ISERROR((#REF!-#REF!)/#REF!),0,(#REF!-#REF!)/#REF!)","v":0},{"$f":"IF(ISERROR((#REF!-#REF!)/#REF!),0,(#REF!-#REF!)/#REF!)","v":0},{"$f":"IF(ISERROR((#REF!-#REF!)/#REF!),0,(#REF!-#REF!)/#REF!)","v":0},{"$f":"IF(ISERROR((#REF!-#REF!)/#REF!),0,(#REF!-#REF!)/#REF!)","v":0},{"$f":"IF(ISERROR((#REF!-#REF!)/#REF!),0,(#REF!-#REF!)/#REF!)","v":0},{"$f":"IF(ISERROR((#REF!-#REF!)/#REF!),0,(#REF!-#REF!)/#REF!)","v":0},{"$f":"IF(ISERROR((#REF!-#REF!)/#REF!),0,(#REF!-#REF!)/#REF!)","v":0},{"$f":"IF(ISERROR((#REF!-#REF!)/#REF!),0,(#REF!-#REF!)/#REF!)","v":0}]
[null,"PA29Z","Abdominal Pain",0,691,0,0,5,580,5,288,"No","-",0,"","",{"$f":"IF(ISERROR((#REF!-#REF!)/#REF!),0,(#REF!-#REF!)/#REF!)","v":0},{"$f":"IF(ISERROR((#REF!-#REF!)/#REF!),0,(#REF!-#REF!)/#REF!)","v":0},{"$f":"IF(ISERROR((#REF!-#REF!)/#REF!),0,(#REF!-#REF!)/#REF!)","v":0},{"$f":"IF(ISERROR((#REF!-#REF!)/#REF!),0,(#REF!-#REF!)/#REF!)","v":0},{"$f":"IF(ISERROR((#REF!-#REF!)/#REF!),0,(#REF!-#REF!)/#REF!)","v":0},{"$f":"IF(ISERROR((#REF!-#REF!)/#REF!),0,(#REF!-#REF!)/#REF!)","v":0},{"$f":"IF(ISERROR((#REF!-#REF!)/#REF!),0,(#REF!-#REF!)/#REF!)","v":0},{"$f":"IF(ISERROR((#REF!-#REF!)/#REF!),0,(#REF!-#REF!)/#REF!)","v":0},{"$f":"IF(ISERROR((#REF!-#REF!)/#REF!),0,(#REF!-#REF!)/#REF!)","v":0},{"$f":"IF(ISERROR((#REF!-#REF!)/#REF!),0,(#REF!-#REF!)/#REF!)","v":0},{"$f":"IF(ISERROR((#REF!-#REF!)/#REF!),0,(#REF!-#REF!)/#REF!)","v":0},{"$f":"IF(ISERROR((#REF!-#REF!)/#REF!),0,(#REF!-#REF!)/#REF!)","v":0},{"$f":"IF(ISERROR((#REF!-#REF!)/#REF!),0,(#REF!-#REF!)/#REF!)","v":0}]
[null,"PA30A","Faltering Growth (Failure to Thrive) with CC",0,1161,0,0,5,2157,14,288,"No","-",0,"","",{"$f":"IF(ISERROR((#REF!-#REF!)/#REF!),0,(#REF!-#REF!)/#REF!)","v":0},{"$f":"IF(ISERROR((#REF!-#REF!)/#REF!),0,(#REF!-#REF!)/#REF!)","v":0},{"$f":"IF(ISERROR((#REF!-#REF!)/#REF!),0,(#REF!-#REF!)/#REF!)","v":0},{"$f":"IF(ISERROR((#REF!-#REF!)/#REF!),0,(#REF!-#REF!)/#REF!)","v":0},{"$f":"IF(ISERROR((#REF!-#REF!)/#REF!),0,(#REF!-#REF!)/#REF!)","v":0},{"$f":"IF(ISERROR((#REF!-#REF!)/#REF!),0,(#REF!-#REF!)/#REF!)","v":0},{"$f":"IF(ISERROR((#REF!-#REF!)/#REF!),0,(#REF!-#REF!)/#REF!)","v":0},{"$f":"IF(ISERROR((#REF!-#REF!)/#REF!),0,(#REF!-#REF!)/#REF!)","v":0},{"$f":"IF(ISERROR((#REF!-#REF!)/#REF!),0,(#REF!-#REF!)/#REF!)","v":0},{"$f":"IF(ISERROR((#REF!-#REF!)/#REF!),0,(#REF!-#REF!)/#REF!)","v":0},{"$f":"IF(ISERROR((#REF!-#REF!)/#REF!),0,(#REF!-#REF!)/#REF!)","v":0},{"$f":"IF(ISERROR((#REF!-#REF!)/#REF!),0,(#REF!-#REF!)/#REF!)","v":0},{"$f":"IF(ISERROR((#REF!-#REF!)/#REF!),0,(#REF!-#REF!)/#REF!)","v":0}]
[null,"PA30B","Faltering Growth (Failure to Thrive) without CC",0,673,0,0,5,779,5,288,"No","-",0,"","",{"$f":"IF(ISERROR((#REF!-#REF!)/#REF!),0,(#REF!-#REF!)/#REF!)","v":0},{"$f":"IF(ISERROR((#REF!-#REF!)/#REF!),0,(#REF!-#REF!)/#REF!)","v":0},{"$f":"IF(ISERROR((#REF!-#REF!)/#REF!),0,(#REF!-#REF!)/#REF!)","v":0},{"$f":"IF(ISERROR((#REF!-#REF!)/#REF!),0,(#REF!-#REF!)/#REF!)","v":0},{"$f":"IF(ISERROR((#REF!-#REF!)/#REF!),0,(#REF!-#REF!)/#REF!)","v":0},{"$f":"IF(ISERROR((#REF!-#REF!)/#REF!),0,(#REF!-#REF!)/#REF!)","v":0},{"$f":"IF(ISERROR((#REF!-#REF!)/#REF!),0,(#REF!-#REF!)/#REF!)","v":0},{"$f":"IF(ISERROR((#REF!-#REF!)/#REF!),0,(#REF!-#REF!)/#REF!)","v":0},{"$f":"IF(ISERROR((#REF!-#REF!)/#REF!),0,(#REF!-#REF!)/#REF!)","v":0},{"$f":"IF(ISERROR((#REF!-#REF!)/#REF!),0,(#REF!-#REF!)/#REF!)","v":0},{"$f":"IF(ISERROR((#REF!-#REF!)/#REF!),0,(#REF!-#REF!)/#REF!)","v":0},{"$f":"IF(ISERROR((#REF!-#REF!)/#REF!),0,(#REF!-#REF!)/#REF!)","v":0},{"$f":"IF(ISERROR((#REF!-#REF!)/#REF!),0,(#REF!-#REF!)/#REF!)","v":0}]
[null,"PA31Z","Major Injury without Intracranial Injury",0,1653,0,0,14,3094,26,288,"No","-",0,"","",{"$f":"IF(ISERROR((#REF!-#REF!)/#REF!),0,(#REF!-#REF!)/#REF!)","v":0},{"$f":"IF(ISERROR((#REF!-#REF!)/#REF!),0,(#REF!-#REF!)/#REF!)","v":0},{"$f":"IF(ISERROR((#REF!-#REF!)/#REF!),0,(#REF!-#REF!)/#REF!)","v":0},{"$f":"IF(ISERROR((#REF!-#REF!)/#REF!),0,(#REF!-#REF!)/#REF!)","v":0},{"$f":"IF(ISERROR((#REF!-#REF!)/#REF!),0,(#REF!-#REF!)/#REF!)","v":0},{"$f":"IF(ISERROR((#REF!-#REF!)/#REF!),0,(#REF!-#REF!)/#REF!)","v":0},{"$f":"IF(ISERROR((#REF!-#REF!)/#REF!),0,(#REF!-#REF!)/#REF!)","v":0},{"$f":"IF(ISERROR((#REF!-#REF!)/#REF!),0,(#REF!-#REF!)/#REF!)","v":0},{"$f":"IF(ISERROR((#REF!-#REF!)/#REF!),0,(#REF!-#REF!)/#REF!)","v":0},{"$f":"IF(ISERROR((#REF!-#REF!)/#REF!),0,(#REF!-#REF!)/#REF!)","v":0},{"$f":"IF(ISERROR((#REF!-#REF!)/#REF!),0,(#REF!-#REF!)/#REF!)","v":0},{"$f":"IF(ISERROR((#REF!-#REF!)/#REF!),0,(#REF!-#REF!)/#REF!)","v":0},{"$f":"IF(ISERROR((#REF!-#REF!)/#REF!),0,(#REF!-#REF!)/#REF!)","v":0}]
[null,"PA32A","Minor Injury without Intracranial Injury, with CC",0,636,0,0,5,642,5,288,"No","-",0,"","",{"$f":"IF(ISERROR((#REF!-#REF!)/#REF!),0,(#REF!-#REF!)/#REF!)","v":0},{"$f":"IF(ISERROR((#REF!-#REF!)/#REF!),0,(#REF!-#REF!)/#REF!)","v":0},{"$f":"IF(ISERROR((#REF!-#REF!)/#REF!),0,(#REF!-#REF!)/#REF!)","v":0},{"$f":"IF(ISERROR((#REF!-#REF!)/#REF!),0,(#REF!-#REF!)/#REF!)","v":0},{"$f":"IF(ISERROR((#REF!-#REF!)/#REF!),0,(#REF!-#REF!)/#REF!)","v":0},{"$f":"IF(ISERROR((#REF!-#REF!)/#REF!),0,(#REF!-#REF!)/#REF!)","v":0},{"$f":"IF(ISERROR((#REF!-#REF!)/#REF!),0,(#REF!-#REF!)/#REF!)","v":0},{"$f":"IF(ISERROR((#REF!-#REF!)/#REF!),0,(#REF!-#REF!)/#REF!)","v":0},{"$f":"IF(ISERROR((#REF!-#REF!)/#REF!),0,(#REF!-#REF!)/#REF!)","v":0},{"$f":"IF(ISERROR((#REF!-#REF!)/#REF!),0,(#REF!-#REF!)/#REF!)","v":0},{"$f":"IF(ISERROR((#REF!-#REF!)/#REF!),0,(#REF!-#REF!)/#REF!)","v":0},{"$f":"IF(ISERROR((#REF!-#REF!)/#REF!),0,(#REF!-#REF!)/#REF!)","v":0},{"$f":"IF(ISERROR((#REF!-#REF!)/#REF!),0,(#REF!-#REF!)/#REF!)","v":0}]
[null,"PA32B","Minor Injury without Intracranial Injury, without CC",0,636,0,0,5,543,5,288,"No","-",0,"","",{"$f":"IF(ISERROR((#REF!-#REF!)/#REF!),0,(#REF!-#REF!)/#REF!)","v":0},{"$f":"IF(ISERROR((#REF!-#REF!)/#REF!),0,(#REF!-#REF!)/#REF!)","v":0},{"$f":"IF(ISERROR((#REF!-#REF!)/#REF!),0,(#REF!-#REF!)/#REF!)","v":0},{"$f":"IF(ISERROR((#REF!-#REF!)/#REF!),0,(#REF!-#REF!)/#REF!)","v":0},{"$f":"IF(ISERROR((#REF!-#REF!)/#REF!),0,(#REF!-#REF!)/#REF!)","v":0},{"$f":"IF(ISERROR((#REF!-#REF!)/#REF!),0,(#REF!-#REF!)/#REF!)","v":0},{"$f":"IF(ISERROR((#REF!-#REF!)/#REF!),0,(#REF!-#REF!)/#REF!)","v":0},{"$f":"IF(ISERROR((#REF!-#REF!)/#REF!),0,(#REF!-#REF!)/#REF!)","v":0},{"$f":"IF(ISERROR((#REF!-#REF!)/#REF!),0,(#REF!-#REF!)/#REF!)","v":0},{"$f":"IF(ISERROR((#REF!-#REF!)/#REF!),0,(#REF!-#REF!)/#REF!)","v":0},{"$f":"IF(ISERROR((#REF!-#REF!)/#REF!),0,(#REF!-#REF!)/#REF!)","v":0},{"$f":"IF(ISERROR((#REF!-#REF!)/#REF!),0,(#REF!-#REF!)/#REF!)","v":0},{"$f":"IF(ISERROR((#REF!-#REF!)/#REF!),0,(#REF!-#REF!)/#REF!)","v":0}]
[null,"PA34A","Musculoskeletal or Connective Tissue Disorders, with CC",0,988,0,0,5,967,5,288,"No","-",0,"","",{"$f":"IF(ISERROR((#REF!-#REF!)/#REF!),0,(#REF!-#REF!)/#REF!)","v":0},{"$f":"IF(ISERROR((#REF!-#REF!)/#REF!),0,(#REF!-#REF!)/#REF!)","v":0},{"$f":"IF(ISERROR((#REF!-#REF!)/#REF!),0,(#REF!-#REF!)/#REF!)","v":0},{"$f":"IF(ISERROR((#REF!-#REF!)/#REF!),0,(#REF!-#REF!)/#REF!)","v":0},{"$f":"IF(ISERROR((#REF!-#REF!)/#REF!),0,(#REF!-#REF!)/#REF!)","v":0},{"$f":"IF(ISERROR((#REF!-#REF!)/#REF!),0,(#REF!-#REF!)/#REF!)","v":0},{"$f":"IF(ISERROR((#REF!-#REF!)/#REF!),0,(#REF!-#REF!)/#REF!)","v":0},{"$f":"IF(ISERROR((#REF!-#REF!)/#REF!),0,(#REF!-#REF!)/#REF!)","v":0},{"$f":"IF(ISERROR((#REF!-#REF!)/#REF!),0,(#REF!-#REF!)/#REF!)","v":0},{"$f":"IF(ISERROR((#REF!-#REF!)/#REF!),0,(#REF!-#REF!)/#REF!)","v":0},{"$f":"IF(ISERROR((#REF!-#REF!)/#REF!),0,(#REF!-#REF!)/#REF!)","v":0},{"$f":"IF(ISERROR((#REF!-#REF!)/#REF!),0,(#REF!-#REF!)/#REF!)","v":0},{"$f":"IF(ISERROR((#REF!-#REF!)/#REF!),0,(#REF!-#REF!)/#REF!)","v":0}]
[null,"PA34B","Musculoskeletal or Connective Tissue Disorders, without CC",0,688,0,0,5,648,5,288,"No","-",0,"","",{"$f":"IF(ISERROR((#REF!-#REF!)/#REF!),0,(#REF!-#REF!)/#REF!)","v":0},{"$f":"IF(ISERROR((#REF!-#REF!)/#REF!),0,(#REF!-#REF!)/#REF!)","v":0},{"$f":"IF(ISERROR((#REF!-#REF!)/#REF!),0,(#REF!-#REF!)/#REF!)","v":0},{"$f":"IF(ISERROR((#REF!-#REF!)/#REF!),0,(#REF!-#REF!)/#REF!)","v":0},{"$f":"IF(ISERROR((#REF!-#REF!)/#REF!),0,(#REF!-#REF!)/#REF!)","v":0},{"$f":"IF(ISERROR((#REF!-#REF!)/#REF!),0,(#REF!-#REF!)/#REF!)","v":0},{"$f":"IF(ISERROR((#REF!-#REF!)/#REF!),0,(#REF!-#REF!)/#REF!)","v":0},{"$f":"IF(ISERROR((#REF!-#REF!)/#REF!),0,(#REF!-#REF!)/#REF!)","v":0},{"$f":"IF(ISERROR((#REF!-#REF!)/#REF!),0,(#REF!-#REF!)/#REF!)","v":0},{"$f":"IF(ISERROR((#REF!-#REF!)/#REF!),0,(#REF!-#REF!)/#REF!)","v":0},{"$f":"IF(ISERROR((#REF!-#REF!)/#REF!),0,(#REF!-#REF!)/#REF!)","v":0},{"$f":"IF(ISERROR((#REF!-#REF!)/#REF!),0,(#REF!-#REF!)/#REF!)","v":0},{"$f":"IF(ISERROR((#REF!-#REF!)/#REF!),0,(#REF!-#REF!)/#REF!)","v":0}]
[null,"PA35A","Skin Disorders with CC",0,955,0,0,5,1189,8,288,"No","-",0,"","",{"$f":"IF(ISERROR((#REF!-#REF!)/#REF!),0,(#REF!-#REF!)/#REF!)","v":0},{"$f":"IF(ISERROR((#REF!-#REF!)/#REF!),0,(#REF!-#REF!)/#REF!)","v":0},{"$f":"IF(ISERROR((#REF!-#REF!)/#REF!),0,(#REF!-#REF!)/#REF!)","v":0},{"$f":"IF(ISERROR((#REF!-#REF!)/#REF!),0,(#REF!-#REF!)/#REF!)","v":0},{"$f":"IF(ISERROR((#REF!-#REF!)/#REF!),0,(#REF!-#REF!)/#REF!)","v":0},{"$f":"IF(ISERROR((#REF!-#REF!)/#REF!),0,(#REF!-#REF!)/#REF!)","v":0},{"$f":"IF(ISERROR((#REF!-#REF!)/#REF!),0,(#REF!-#REF!)/#REF!)","v":0},{"$f":"IF(ISERROR((#REF!-#REF!)/#REF!),0,(#REF!-#REF!)/#REF!)","v":0},{"$f":"IF(ISERROR((#REF!-#REF!)/#REF!),0,(#REF!-#REF!)/#REF!)","v":0},{"$f":"IF(ISERROR((#REF!-#REF!)/#REF!),0,(#REF!-#REF!)/#REF!)","v":0},{"$f":"IF(ISERROR((#REF!-#REF!)/#REF!),0,(#REF!-#REF!)/#REF!)","v":0},{"$f":"IF(ISERROR((#REF!-#REF!)/#REF!),0,(#REF!-#REF!)/#REF!)","v":0},{"$f":"IF(ISERROR((#REF!-#REF!)/#REF!),0,(#REF!-#REF!)/#REF!)","v":0}]
[null,"PA35B","Skin Disorders without CC",0,608,0,0,5,602,5,288,"No","-",0,"","",{"$f":"IF(ISERROR((#REF!-#REF!)/#REF!),0,(#REF!-#REF!)/#REF!)","v":0},{"$f":"IF(ISERROR((#REF!-#REF!)/#REF!),0,(#REF!-#REF!)/#REF!)","v":0},{"$f":"IF(ISERROR((#REF!-#REF!)/#REF!),0,(#REF!-#REF!)/#REF!)","v":0},{"$f":"IF(ISERROR((#REF!-#REF!)/#REF!),0,(#REF!-#REF!)/#REF!)","v":0},{"$f":"IF(ISERROR((#REF!-#REF!)/#REF!),0,(#REF!-#REF!)/#REF!)","v":0},{"$f":"IF(ISERROR((#REF!-#REF!)/#REF!),0,(#REF!-#REF!)/#REF!)","v":0},{"$f":"IF(ISERROR((#REF!-#REF!)/#REF!),0,(#REF!-#REF!)/#REF!)","v":0},{"$f":"IF(ISERROR((#REF!-#REF!)/#REF!),0,(#REF!-#REF!)/#REF!)","v":0},{"$f":"IF(ISERROR((#REF!-#REF!)/#REF!),0,(#REF!-#REF!)/#REF!)","v":0},{"$f":"IF(ISERROR((#REF!-#REF!)/#REF!),0,(#REF!-#REF!)/#REF!)","v":0},{"$f":"IF(ISERROR((#REF!-#REF!)/#REF!),0,(#REF!-#REF!)/#REF!)","v":0},{"$f":"IF(ISERROR((#REF!-#REF!)/#REF!),0,(#REF!-#REF!)/#REF!)","v":0},{"$f":"IF(ISERROR((#REF!-#REF!)/#REF!),0,(#REF!-#REF!)/#REF!)","v":0}]
[null,"PA36Z","Endocrine Disorders, excluding Diabetes Mellitus",0,703,0,0,5,1120,8,288,"No","-",0,"","",{"$f":"IF(ISERROR((#REF!-#REF!)/#REF!),0,(#REF!-#REF!)/#REF!)","v":0},{"$f":"IF(ISERROR((#REF!-#REF!)/#REF!),0,(#REF!-#REF!)/#REF!)","v":0},{"$f":"IF(ISERROR((#REF!-#REF!)/#REF!),0,(#REF!-#REF!)/#REF!)","v":0},{"$f":"IF(ISERROR((#REF!-#REF!)/#REF!),0,(#REF!-#REF!)/#REF!)","v":0},{"$f":"IF(ISERROR((#REF!-#REF!)/#REF!),0,(#REF!-#REF!)/#REF!)","v":0},{"$f":"IF(ISERROR((#REF!-#REF!)/#REF!),0,(#REF!-#REF!)/#REF!)","v":0},{"$f":"IF(ISERROR((#REF!-#REF!)/#REF!),0,(#REF!-#REF!)/#REF!)","v":0},{"$f":"IF(ISERROR((#REF!-#REF!)/#REF!),0,(#REF!-#REF!)/#REF!)","v":0},{"$f":"IF(ISERROR((#REF!-#REF!)/#REF!),0,(#REF!-#REF!)/#REF!)","v":0},{"$f":"IF(ISERROR((#REF!-#REF!)/#REF!),0,(#REF!-#REF!)/#REF!)","v":0},{"$f":"IF(ISERROR((#REF!-#REF!)/#REF!),0,(#REF!-#REF!)/#REF!)","v":0},{"$f":"IF(ISERROR((#REF!-#REF!)/#REF!),0,(#REF!-#REF!)/#REF!)","v":0},{"$f":"IF(ISERROR((#REF!-#REF!)/#REF!),0,(#REF!-#REF!)/#REF!)","v":0}]
[null,"PA38C","Renal Disease with Renal Failure, with length of stay 0 days",0,504,0,0,5,592,5,288,"No","-",0,"","",{"$f":"IF(ISERROR((#REF!-#REF!)/#REF!),0,(#REF!-#REF!)/#REF!)","v":0},{"$f":"IF(ISERROR((#REF!-#REF!)/#REF!),0,(#REF!-#REF!)/#REF!)","v":0},{"$f":"IF(ISERROR((#REF!-#REF!)/#REF!),0,(#REF!-#REF!)/#REF!)","v":0},{"$f":"IF(ISERROR((#REF!-#REF!)/#REF!),0,(#REF!-#REF!)/#REF!)","v":0},{"$f":"IF(ISERROR((#REF!-#REF!)/#REF!),0,(#REF!-#REF!)/#REF!)","v":0},{"$f":"IF(ISERROR((#REF!-#REF!)/#REF!),0,(#REF!-#REF!)/#REF!)","v":0},{"$f":"IF(ISERROR((#REF!-#REF!)/#REF!),0,(#REF!-#REF!)/#REF!)","v":0},{"$f":"IF(ISERROR((#REF!-#REF!)/#REF!),0,(#REF!-#REF!)/#REF!)","v":0},{"$f":"IF(ISERROR((#REF!-#REF!)/#REF!),0,(#REF!-#REF!)/#REF!)","v":0},{"$f":"IF(ISERROR((#REF!-#REF!)/#REF!),0,(#REF!-#REF!)/#REF!)","v":0},{"$f":"IF(ISERROR((#REF!-#REF!)/#REF!),0,(#REF!-#REF!)/#REF!)","v":0},{"$f":"IF(ISERROR((#REF!-#REF!)/#REF!),0,(#REF!-#REF!)/#REF!)","v":0},{"$f":"IF(ISERROR((#REF!-#REF!)/#REF!),0,(#REF!-#REF!)/#REF!)","v":0}]
[null,"PA38D","Renal Disease with Renal Failure, with length of stay 1 day or more",0,3546,0,0,9,2605,14,288,"No","-",0,"","",{"$f":"IF(ISERROR((#REF!-#REF!)/#REF!),0,(#REF!-#REF!)/#REF!)","v":0},{"$f":"IF(ISERROR((#REF!-#REF!)/#REF!),0,(#REF!-#REF!)/#REF!)","v":0},{"$f":"IF(ISERROR((#REF!-#REF!)/#REF!),0,(#REF!-#REF!)/#REF!)","v":0},{"$f":"IF(ISERROR((#REF!-#REF!)/#REF!),0,(#REF!-#REF!)/#REF!)","v":0},{"$f":"IF(ISERROR((#REF!-#REF!)/#REF!),0,(#REF!-#REF!)/#REF!)","v":0},{"$f":"IF(ISERROR((#REF!-#REF!)/#REF!),0,(#REF!-#REF!)/#REF!)","v":0},{"$f":"IF(ISERROR((#REF!-#REF!)/#REF!),0,(#REF!-#REF!)/#REF!)","v":0},{"$f":"IF(ISERROR((#REF!-#REF!)/#REF!),0,(#REF!-#REF!)/#REF!)","v":0},{"$f":"IF(ISERROR((#REF!-#REF!)/#REF!),0,(#REF!-#REF!)/#REF!)","v":0},{"$f":"IF(ISERROR((#REF!-#REF!)/#REF!),0,(#REF!-#REF!)/#REF!)","v":0},{"$f":"IF(ISERROR((#REF!-#REF!)/#REF!),0,(#REF!-#REF!)/#REF!)","v":0},{"$f":"IF(ISERROR((#REF!-#REF!)/#REF!),0,(#REF!-#REF!)/#REF!)","v":0},{"$f":"IF(ISERROR((#REF!-#REF!)/#REF!),0,(#REF!-#REF!)/#REF!)","v":0}]
[null,"PA40A","Acute Lymphoblastic Leukaemia with length of stay 1 day or more, with CC",0,7577,0,0,25,5297,22,288,"No","-",0,"","",{"$f":"IF(ISERROR((#REF!-#REF!)/#REF!),0,(#REF!-#REF!)/#REF!)","v":0},{"$f":"IF(ISERROR((#REF!-#REF!)/#REF!),0,(#REF!-#REF!)/#REF!)","v":0},{"$f":"IF(ISERROR((#REF!-#REF!)/#REF!),0,(#REF!-#REF!)/#REF!)","v":0},{"$f":"IF(ISERROR((#REF!-#REF!)/#REF!),0,(#REF!-#REF!)/#REF!)","v":0},{"$f":"IF(ISERROR((#REF!-#REF!)/#REF!),0,(#REF!-#REF!)/#REF!)","v":0},{"$f":"IF(ISERROR((#REF!-#REF!)/#REF!),0,(#REF!-#REF!)/#REF!)","v":0},{"$f":"IF(ISERROR((#REF!-#REF!)/#REF!),0,(#REF!-#REF!)/#REF!)","v":0},{"$f":"IF(ISERROR((#REF!-#REF!)/#REF!),0,(#REF!-#REF!)/#REF!)","v":0},{"$f":"IF(ISERROR((#REF!-#REF!)/#REF!),0,(#REF!-#REF!)/#REF!)","v":0},{"$f":"IF(ISERROR((#REF!-#REF!)/#REF!),0,(#REF!-#REF!)/#REF!)","v":0},{"$f":"IF(ISERROR((#REF!-#REF!)/#REF!),0,(#REF!-#REF!)/#REF!)","v":0},{"$f":"IF(ISERROR((#REF!-#REF!)/#REF!),0,(#REF!-#REF!)/#REF!)","v":0},{"$f":"IF(ISERROR((#REF!-#REF!)/#REF!),0,(#REF!-#REF!)/#REF!)","v":0}]
[null,"PA40B","Acute Lymphoblastic Leukaemia with length of stay 1 day or more, without CC",0,4103,0,0,11,3462,14,288,"No","-",0,"","",{"$f":"IF(ISERROR((#REF!-#REF!)/#REF!),0,(#REF!-#REF!)/#REF!)","v":0},{"$f":"IF(ISERROR((#REF!-#REF!)/#REF!),0,(#REF!-#REF!)/#REF!)","v":0},{"$f":"IF(ISERROR((#REF!-#REF!)/#REF!),0,(#REF!-#REF!)/#REF!)","v":0},{"$f":"IF(ISERROR((#REF!-#REF!)/#REF!),0,(#REF!-#REF!)/#REF!)","v":0},{"$f":"IF(ISERROR((#REF!-#REF!)/#REF!),0,(#REF!-#REF!)/#REF!)","v":0},{"$f":"IF(ISERROR((#REF!-#REF!)/#REF!),0,(#REF!-#REF!)/#REF!)","v":0},{"$f":"IF(ISERROR((#REF!-#REF!)/#REF!),0,(#REF!-#REF!)/#REF!)","v":0},{"$f":"IF(ISERROR((#REF!-#REF!)/#REF!),0,(#REF!-#REF!)/#REF!)","v":0},{"$f":"IF(ISERROR((#REF!-#REF!)/#REF!),0,(#REF!-#REF!)/#REF!)","v":0},{"$f":"IF(ISERROR((#REF!-#REF!)/#REF!),0,(#REF!-#REF!)/#REF!)","v":0},{"$f":"IF(ISERROR((#REF!-#REF!)/#REF!),0,(#REF!-#REF!)/#REF!)","v":0},{"$f":"IF(ISERROR((#REF!-#REF!)/#REF!),0,(#REF!-#REF!)/#REF!)","v":0},{"$f":"IF(ISERROR((#REF!-#REF!)/#REF!),0,(#REF!-#REF!)/#REF!)","v":0}]
[null,"PA41Z","Other Haematological Malignancies with length of stay 1 day or more",0,8875,0,0,51,7164,35,288,"No","-",0,"","",{"$f":"IF(ISERROR((#REF!-#REF!)/#REF!),0,(#REF!-#REF!)/#REF!)","v":0},{"$f":"IF(ISERROR((#REF!-#REF!)/#REF!),0,(#REF!-#REF!)/#REF!)","v":0},{"$f":"IF(ISERROR((#REF!-#REF!)/#REF!),0,(#REF!-#REF!)/#REF!)","v":0},{"$f":"IF(ISERROR((#REF!-#REF!)/#REF!),0,(#REF!-#REF!)/#REF!)","v":0},{"$f":"IF(ISERROR((#REF!-#REF!)/#REF!),0,(#REF!-#REF!)/#REF!)","v":0},{"$f":"IF(ISERROR((#REF!-#REF!)/#REF!),0,(#REF!-#REF!)/#REF!)","v":0},{"$f":"IF(ISERROR((#REF!-#REF!)/#REF!),0,(#REF!-#REF!)/#REF!)","v":0},{"$f":"IF(ISERROR((#REF!-#REF!)/#REF!),0,(#REF!-#REF!)/#REF!)","v":0},{"$f":"IF(ISERROR((#REF!-#REF!)/#REF!),0,(#REF!-#REF!)/#REF!)","v":0},{"$f":"IF(ISERROR((#REF!-#REF!)/#REF!),0,(#REF!-#REF!)/#REF!)","v":0},{"$f":"IF(ISERROR((#REF!-#REF!)/#REF!),0,(#REF!-#REF!)/#REF!)","v":0},{"$f":"IF(ISERROR((#REF!-#REF!)/#REF!),0,(#REF!-#REF!)/#REF!)","v":0},{"$f":"IF(ISERROR((#REF!-#REF!)/#REF!),0,(#REF!-#REF!)/#REF!)","v":0}]
[null,"PA42Z","Brain Tumours with length of stay 1 day or more",0,3052,0,0,9,2782,9,288,"No","-",0,"","",{"$f":"IF(ISERROR((#REF!-#REF!)/#REF!),0,(#REF!-#REF!)/#REF!)","v":0},{"$f":"IF(ISERROR((#REF!-#REF!)/#REF!),0,(#REF!-#REF!)/#REF!)","v":0},{"$f":"IF(ISERROR((#REF!-#REF!)/#REF!),0,(#REF!-#REF!)/#REF!)","v":0},{"$f":"IF(ISERROR((#REF!-#REF!)/#REF!),0,(#REF!-#REF!)/#REF!)","v":0},{"$f":"IF(ISERROR((#REF!-#REF!)/#REF!),0,(#REF!-#REF!)/#REF!)","v":0},{"$f":"IF(ISERROR((#REF!-#REF!)/#REF!),0,(#REF!-#REF!)/#REF!)","v":0},{"$f":"IF(ISERROR((#REF!-#REF!)/#REF!),0,(#REF!-#REF!)/#REF!)","v":0},{"$f":"IF(ISERROR((#REF!-#REF!)/#REF!),0,(#REF!-#REF!)/#REF!)","v":0},{"$f":"IF(ISERROR((#REF!-#REF!)/#REF!),0,(#REF!-#REF!)/#REF!)","v":0},{"$f":"IF(ISERROR((#REF!-#REF!)/#REF!),0,(#REF!-#REF!)/#REF!)","v":0},{"$f":"IF(ISERROR((#REF!-#REF!)/#REF!),0,(#REF!-#REF!)/#REF!)","v":0},{"$f":"IF(ISERROR((#REF!-#REF!)/#REF!),0,(#REF!-#REF!)/#REF!)","v":0},{"$f":"IF(ISERROR((#REF!-#REF!)/#REF!),0,(#REF!-#REF!)/#REF!)","v":0}]
[null,"PA43A","Other Neoplasms with length of stay 1 day or more, with CC",0,3390,0,0,10,4092,15,288,"No","-",0,"","",{"$f":"IF(ISERROR((#REF!-#REF!)/#REF!),0,(#REF!-#REF!)/#REF!)","v":0},{"$f":"IF(ISERROR((#REF!-#REF!)/#REF!),0,(#REF!-#REF!)/#REF!)","v":0},{"$f":"IF(ISERROR((#REF!-#REF!)/#REF!),0,(#REF!-#REF!)/#REF!)","v":0},{"$f":"IF(ISERROR((#REF!-#REF!)/#REF!),0,(#REF!-#REF!)/#REF!)","v":0},{"$f":"IF(ISERROR((#REF!-#REF!)/#REF!),0,(#REF!-#REF!)/#REF!)","v":0},{"$f":"IF(ISERROR((#REF!-#REF!)/#REF!),0,(#REF!-#REF!)/#REF!)","v":0},{"$f":"IF(ISERROR((#REF!-#REF!)/#REF!),0,(#REF!-#REF!)/#REF!)","v":0},{"$f":"IF(ISERROR((#REF!-#REF!)/#REF!),0,(#REF!-#REF!)/#REF!)","v":0},{"$f":"IF(ISERROR((#REF!-#REF!)/#REF!),0,(#REF!-#REF!)/#REF!)","v":0},{"$f":"IF(ISERROR((#REF!-#REF!)/#REF!),0,(#REF!-#REF!)/#REF!)","v":0},{"$f":"IF(ISERROR((#REF!-#REF!)/#REF!),0,(#REF!-#REF!)/#REF!)","v":0},{"$f":"IF(ISERROR((#REF!-#REF!)/#REF!),0,(#REF!-#REF!)/#REF!)","v":0},{"$f":"IF(ISERROR((#REF!-#REF!)/#REF!),0,(#REF!-#REF!)/#REF!)","v":0}]
[null,"PA43B","Other Neoplasms with length of stay 1 day or more, without CC",0,2600,0,0,7,2395,10,288,"No","-",0,"","",{"$f":"IF(ISERROR((#REF!-#REF!)/#REF!),0,(#REF!-#REF!)/#REF!)","v":0},{"$f":"IF(ISERROR((#REF!-#REF!)/#REF!),0,(#REF!-#REF!)/#REF!)","v":0},{"$f":"IF(ISERROR((#REF!-#REF!)/#REF!),0,(#REF!-#REF!)/#REF!)","v":0},{"$f":"IF(ISERROR((#REF!-#REF!)/#REF!),0,(#REF!-#REF!)/#REF!)","v":0},{"$f":"IF(ISERROR((#REF!-#REF!)/#REF!),0,(#REF!-#REF!)/#REF!)","v":0},{"$f":"IF(ISERROR((#REF!-#REF!)/#REF!),0,(#REF!-#REF!)/#REF!)","v":0},{"$f":"IF(ISERROR((#REF!-#REF!)/#REF!),0,(#REF!-#REF!)/#REF!)","v":0},{"$f":"IF(ISERROR((#REF!-#REF!)/#REF!),0,(#REF!-#REF!)/#REF!)","v":0},{"$f":"IF(ISERROR((#REF!-#REF!)/#REF!),0,(#REF!-#REF!)/#REF!)","v":0},{"$f":"IF(ISERROR((#REF!-#REF!)/#REF!),0,(#REF!-#REF!)/#REF!)","v":0},{"$f":"IF(ISERROR((#REF!-#REF!)/#REF!),0,(#REF!-#REF!)/#REF!)","v":0},{"$f":"IF(ISERROR((#REF!-#REF!)/#REF!),0,(#REF!-#REF!)/#REF!)","v":0},{"$f":"IF(ISERROR((#REF!-#REF!)/#REF!),0,(#REF!-#REF!)/#REF!)","v":0}]
[null,"PA44Z","Neoplasm Diagnoses with length of stay 0 days",0,533,0,0,5,536,5,288,"No","-",0,"","",{"$f":"IF(ISERROR((#REF!-#REF!)/#REF!),0,(#REF!-#REF!)/#REF!)","v":0},{"$f":"IF(ISERROR((#REF!-#REF!)/#REF!),0,(#REF!-#REF!)/#REF!)","v":0},{"$f":"IF(ISERROR((#REF!-#REF!)/#REF!),0,(#REF!-#REF!)/#REF!)","v":0},{"$f":"IF(ISERROR((#REF!-#REF!)/#REF!),0,(#REF!-#REF!)/#REF!)","v":0},{"$f":"IF(ISERROR((#REF!-#REF!)/#REF!),0,(#REF!-#REF!)/#REF!)","v":0},{"$f":"IF(ISERROR((#REF!-#REF!)/#REF!),0,(#REF!-#REF!)/#REF!)","v":0},{"$f":"IF(ISERROR((#REF!-#REF!)/#REF!),0,(#REF!-#REF!)/#REF!)","v":0},{"$f":"IF(ISERROR((#REF!-#REF!)/#REF!),0,(#REF!-#REF!)/#REF!)","v":0},{"$f":"IF(ISERROR((#REF!-#REF!)/#REF!),0,(#REF!-#REF!)/#REF!)","v":0},{"$f":"IF(ISERROR((#REF!-#REF!)/#REF!),0,(#REF!-#REF!)/#REF!)","v":0},{"$f":"IF(ISERROR((#REF!-#REF!)/#REF!),0,(#REF!-#REF!)/#REF!)","v":0},{"$f":"IF(ISERROR((#REF!-#REF!)/#REF!),0,(#REF!-#REF!)/#REF!)","v":0},{"$f":"IF(ISERROR((#REF!-#REF!)/#REF!),0,(#REF!-#REF!)/#REF!)","v":0}]
[null,"PA45Z","Febrile Neutropenia with Malignancy",0,11292,0,0,46,3619,12,288,"No","-",0,"","",{"$f":"IF(ISERROR((#REF!-#REF!)/#REF!),0,(#REF!-#REF!)/#REF!)","v":0},{"$f":"IF(ISERROR((#REF!-#REF!)/#REF!),0,(#REF!-#REF!)/#REF!)","v":0},{"$f":"IF(ISERROR((#REF!-#REF!)/#REF!),0,(#REF!-#REF!)/#REF!)","v":0},{"$f":"IF(ISERROR((#REF!-#REF!)/#REF!),0,(#REF!-#REF!)/#REF!)","v":0},{"$f":"IF(ISERROR((#REF!-#REF!)/#REF!),0,(#REF!-#REF!)/#REF!)","v":0},{"$f":"IF(ISERROR((#REF!-#REF!)/#REF!),0,(#REF!-#REF!)/#REF!)","v":0},{"$f":"IF(ISERROR((#REF!-#REF!)/#REF!),0,(#REF!-#REF!)/#REF!)","v":0},{"$f":"IF(ISERROR((#REF!-#REF!)/#REF!),0,(#REF!-#REF!)/#REF!)","v":0},{"$f":"IF(ISERROR((#REF!-#REF!)/#REF!),0,(#REF!-#REF!)/#REF!)","v":0},{"$f":"IF(ISERROR((#REF!-#REF!)/#REF!),0,(#REF!-#REF!)/#REF!)","v":0},{"$f":"IF(ISERROR((#REF!-#REF!)/#REF!),0,(#REF!-#REF!)/#REF!)","v":0},{"$f":"IF(ISERROR((#REF!-#REF!)/#REF!),0,(#REF!-#REF!)/#REF!)","v":0},{"$f":"IF(ISERROR((#REF!-#REF!)/#REF!),0,(#REF!-#REF!)/#REF!)","v":0}]
[null,"PA46Z","Paediatric Thalassaemia",0,567,0,0,5,985,5,288,"No","-",0,"","",{"$f":"IF(ISERROR((#REF!-#REF!)/#REF!),0,(#REF!-#REF!)/#REF!)","v":0},{"$f":"IF(ISERROR((#REF!-#REF!)/#REF!),0,(#REF!-#REF!)/#REF!)","v":0},{"$f":"IF(ISERROR((#REF!-#REF!)/#REF!),0,(#REF!-#REF!)/#REF!)","v":0},{"$f":"IF(ISERROR((#REF!-#REF!)/#REF!),0,(#REF!-#REF!)/#REF!)","v":0},{"$f":"IF(ISERROR((#REF!-#REF!)/#REF!),0,(#REF!-#REF!)/#REF!)","v":0},{"$f":"IF(ISERROR((#REF!-#REF!)/#REF!),0,(#REF!-#REF!)/#REF!)","v":0},{"$f":"IF(ISERROR((#REF!-#REF!)/#REF!),0,(#REF!-#REF!)/#REF!)","v":0},{"$f":"IF(ISERROR((#REF!-#REF!)/#REF!),0,(#REF!-#REF!)/#REF!)","v":0},{"$f":"IF(ISERROR((#REF!-#REF!)/#REF!),0,(#REF!-#REF!)/#REF!)","v":0},{"$f":"IF(ISERROR((#REF!-#REF!)/#REF!),0,(#REF!-#REF!)/#REF!)","v":0},{"$f":"IF(ISERROR((#REF!-#REF!)/#REF!),0,(#REF!-#REF!)/#REF!)","v":0},{"$f":"IF(ISERROR((#REF!-#REF!)/#REF!),0,(#REF!-#REF!)/#REF!)","v":0},{"$f":"IF(ISERROR((#REF!-#REF!)/#REF!),0,(#REF!-#REF!)/#REF!)","v":0}]
[null,"PA47Z","Sickle-cell Anaemia with Crisis",0,815,0,0,5,1531,9,288,"No","-",0,"","",{"$f":"IF(ISERROR((#REF!-#REF!)/#REF!),0,(#REF!-#REF!)/#REF!)","v":0},{"$f":"IF(ISERROR((#REF!-#REF!)/#REF!),0,(#REF!-#REF!)/#REF!)","v":0},{"$f":"IF(ISERROR((#REF!-#REF!)/#REF!),0,(#REF!-#REF!)/#REF!)","v":0},{"$f":"IF(ISERROR((#REF!-#REF!)/#REF!),0,(#REF!-#REF!)/#REF!)","v":0},{"$f":"IF(ISERROR((#REF!-#REF!)/#REF!),0,(#REF!-#REF!)/#REF!)","v":0},{"$f":"IF(ISERROR((#REF!-#REF!)/#REF!),0,(#REF!-#REF!)/#REF!)","v":0},{"$f":"IF(ISERROR((#REF!-#REF!)/#REF!),0,(#REF!-#REF!)/#REF!)","v":0},{"$f":"IF(ISERROR((#REF!-#REF!)/#REF!),0,(#REF!-#REF!)/#REF!)","v":0},{"$f":"IF(ISERROR((#REF!-#REF!)/#REF!),0,(#REF!-#REF!)/#REF!)","v":0},{"$f":"IF(ISERROR((#REF!-#REF!)/#REF!),0,(#REF!-#REF!)/#REF!)","v":0},{"$f":"IF(ISERROR((#REF!-#REF!)/#REF!),0,(#REF!-#REF!)/#REF!)","v":0},{"$f":"IF(ISERROR((#REF!-#REF!)/#REF!),0,(#REF!-#REF!)/#REF!)","v":0},{"$f":"IF(ISERROR((#REF!-#REF!)/#REF!),0,(#REF!-#REF!)/#REF!)","v":0}]
[null,"PA48A","Blood Cell Disorders with CC",0,1343,0,0,5,2382,11,288,"No","-",0,"","",{"$f":"IF(ISERROR((#REF!-#REF!)/#REF!),0,(#REF!-#REF!)/#REF!)","v":0},{"$f":"IF(ISERROR((#REF!-#REF!)/#REF!),0,(#REF!-#REF!)/#REF!)","v":0},{"$f":"IF(ISERROR((#REF!-#REF!)/#REF!),0,(#REF!-#REF!)/#REF!)","v":0},{"$f":"IF(ISERROR((#REF!-#REF!)/#REF!),0,(#REF!-#REF!)/#REF!)","v":0},{"$f":"IF(ISERROR((#REF!-#REF!)/#REF!),0,(#REF!-#REF!)/#REF!)","v":0},{"$f":"IF(ISERROR((#REF!-#REF!)/#REF!),0,(#REF!-#REF!)/#REF!)","v":0},{"$f":"IF(ISERROR((#REF!-#REF!)/#REF!),0,(#REF!-#REF!)/#REF!)","v":0},{"$f":"IF(ISERROR((#REF!-#REF!)/#REF!),0,(#REF!-#REF!)/#REF!)","v":0},{"$f":"IF(ISERROR((#REF!-#REF!)/#REF!),0,(#REF!-#REF!)/#REF!)","v":0},{"$f":"IF(ISERROR((#REF!-#REF!)/#REF!),0,(#REF!-#REF!)/#REF!)","v":0},{"$f":"IF(ISERROR((#REF!-#REF!)/#REF!),0,(#REF!-#REF!)/#REF!)","v":0},{"$f":"IF(ISERROR((#REF!-#REF!)/#REF!),0,(#REF!-#REF!)/#REF!)","v":0},{"$f":"IF(ISERROR((#REF!-#REF!)/#REF!),0,(#REF!-#REF!)/#REF!)","v":0}]
[null,"PA48B","Blood Cell Disorders without CC",0,645,0,0,5,970,5,288,"No","-",0,"","",{"$f":"IF(ISERROR((#REF!-#REF!)/#REF!),0,(#REF!-#REF!)/#REF!)","v":0},{"$f":"IF(ISERROR((#REF!-#REF!)/#REF!),0,(#REF!-#REF!)/#REF!)","v":0},{"$f":"IF(ISERROR((#REF!-#REF!)/#REF!),0,(#REF!-#REF!)/#REF!)","v":0},{"$f":"IF(ISERROR((#REF!-#REF!)/#REF!),0,(#REF!-#REF!)/#REF!)","v":0},{"$f":"IF(ISERROR((#REF!-#REF!)/#REF!),0,(#REF!-#REF!)/#REF!)","v":0},{"$f":"IF(ISERROR((#REF!-#REF!)/#REF!),0,(#REF!-#REF!)/#REF!)","v":0},{"$f":"IF(ISERROR((#REF!-#REF!)/#REF!),0,(#REF!-#REF!)/#REF!)","v":0},{"$f":"IF(ISERROR((#REF!-#REF!)/#REF!),0,(#REF!-#REF!)/#REF!)","v":0},{"$f":"IF(ISERROR((#REF!-#REF!)/#REF!),0,(#REF!-#REF!)/#REF!)","v":0},{"$f":"IF(ISERROR((#REF!-#REF!)/#REF!),0,(#REF!-#REF!)/#REF!)","v":0},{"$f":"IF(ISERROR((#REF!-#REF!)/#REF!),0,(#REF!-#REF!)/#REF!)","v":0},{"$f":"IF(ISERROR((#REF!-#REF!)/#REF!),0,(#REF!-#REF!)/#REF!)","v":0},{"$f":"IF(ISERROR((#REF!-#REF!)/#REF!),0,(#REF!-#REF!)/#REF!)","v":0}]
[null,"PA49Z","Coagulation Disorders",0,550,0,0,5,637,5,288,"No","-",0,"","",{"$f":"IF(ISERROR((#REF!-#REF!)/#REF!),0,(#REF!-#REF!)/#REF!)","v":0},{"$f":"IF(ISERROR((#REF!-#REF!)/#REF!),0,(#REF!-#REF!)/#REF!)","v":0},{"$f":"IF(ISERROR((#REF!-#REF!)/#REF!),0,(#REF!-#REF!)/#REF!)","v":0},{"$f":"IF(ISERROR((#REF!-#REF!)/#REF!),0,(#REF!-#REF!)/#REF!)","v":0},{"$f":"IF(ISERROR((#REF!-#REF!)/#REF!),0,(#REF!-#REF!)/#REF!)","v":0},{"$f":"IF(ISERROR((#REF!-#REF!)/#REF!),0,(#REF!-#REF!)/#REF!)","v":0},{"$f":"IF(ISERROR((#REF!-#REF!)/#REF!),0,(#REF!-#REF!)/#REF!)","v":0},{"$f":"IF(ISERROR((#REF!-#REF!)/#REF!),0,(#REF!-#REF!)/#REF!)","v":0},{"$f":"IF(ISERROR((#REF!-#REF!)/#REF!),0,(#REF!-#REF!)/#REF!)","v":0},{"$f":"IF(ISERROR((#REF!-#REF!)/#REF!),0,(#REF!-#REF!)/#REF!)","v":0},{"$f":"IF(ISERROR((#REF!-#REF!)/#REF!),0,(#REF!-#REF!)/#REF!)","v":0},{"$f":"IF(ISERROR((#REF!-#REF!)/#REF!),0,(#REF!-#REF!)/#REF!)","v":0},{"$f":"IF(ISERROR((#REF!-#REF!)/#REF!),0,(#REF!-#REF!)/#REF!)","v":0}]
[null,"PA50Z","Ingestion Poisoning or Allergies",0,453,0,0,5,503,5,288,"No","-",0,"","",{"$f":"IF(ISERROR((#REF!-#REF!)/#REF!),0,(#REF!-#REF!)/#REF!)","v":0},{"$f":"IF(ISERROR((#REF!-#REF!)/#REF!),0,(#REF!-#REF!)/#REF!)","v":0},{"$f":"IF(ISERROR((#REF!-#REF!)/#REF!),0,(#REF!-#REF!)/#REF!)","v":0},{"$f":"IF(ISERROR((#REF!-#REF!)/#REF!),0,(#REF!-#REF!)/#REF!)","v":0},{"$f":"IF(ISERROR((#REF!-#REF!)/#REF!),0,(#REF!-#REF!)/#REF!)","v":0},{"$f":"IF(ISERROR((#REF!-#REF!)/#REF!),0,(#REF!-#REF!)/#REF!)","v":0},{"$f":"IF(ISERROR((#REF!-#REF!)/#REF!),0,(#REF!-#REF!)/#REF!)","v":0},{"$f":"IF(ISERROR((#REF!-#REF!)/#REF!),0,(#REF!-#REF!)/#REF!)","v":0},{"$f":"IF(ISERROR((#REF!-#REF!)/#REF!),0,(#REF!-#REF!)/#REF!)","v":0},{"$f":"IF(ISERROR((#REF!-#REF!)/#REF!),0,(#REF!-#REF!)/#REF!)","v":0},{"$f":"IF(ISERROR((#REF!-#REF!)/#REF!),0,(#REF!-#REF!)/#REF!)","v":0},{"$f":"IF(ISERROR((#REF!-#REF!)/#REF!),0,(#REF!-#REF!)/#REF!)","v":0},{"$f":"IF(ISERROR((#REF!-#REF!)/#REF!),0,(#REF!-#REF!)/#REF!)","v":0}]
[null,"PA51Z","Child Safeguarding (welfare and protection)",0,616,0,0,5,936,5,288,"No","-",0,"","",{"$f":"IF(ISERROR((#REF!-#REF!)/#REF!),0,(#REF!-#REF!)/#REF!)","v":0},{"$f":"IF(ISERROR((#REF!-#REF!)/#REF!),0,(#REF!-#REF!)/#REF!)","v":0},{"$f":"IF(ISERROR((#REF!-#REF!)/#REF!),0,(#REF!-#REF!)/#REF!)","v":0},{"$f":"IF(ISERROR((#REF!-#REF!)/#REF!),0,(#REF!-#REF!)/#REF!)","v":0},{"$f":"IF(ISERROR((#REF!-#REF!)/#REF!),0,(#REF!-#REF!)/#REF!)","v":0},{"$f":"IF(ISERROR((#REF!-#REF!)/#REF!),0,(#REF!-#REF!)/#REF!)","v":0},{"$f":"IF(ISERROR((#REF!-#REF!)/#REF!),0,(#REF!-#REF!)/#REF!)","v":0},{"$f":"IF(ISERROR((#REF!-#REF!)/#REF!),0,(#REF!-#REF!)/#REF!)","v":0},{"$f":"IF(ISERROR((#REF!-#REF!)/#REF!),0,(#REF!-#REF!)/#REF!)","v":0},{"$f":"IF(ISERROR((#REF!-#REF!)/#REF!),0,(#REF!-#REF!)/#REF!)","v":0},{"$f":"IF(ISERROR((#REF!-#REF!)/#REF!),0,(#REF!-#REF!)/#REF!)","v":0},{"$f":"IF(ISERROR((#REF!-#REF!)/#REF!),0,(#REF!-#REF!)/#REF!)","v":0},{"$f":"IF(ISERROR((#REF!-#REF!)/#REF!),0,(#REF!-#REF!)/#REF!)","v":0}]
[null,"PA54Z","Convalescent or other Relief Care",0,957,0,0,5,590,5,288,"No","-",0,"","",{"$f":"IF(ISERROR((#REF!-#REF!)/#REF!),0,(#REF!-#REF!)/#REF!)","v":0},{"$f":"IF(ISERROR((#REF!-#REF!)/#REF!),0,(#REF!-#REF!)/#REF!)","v":0},{"$f":"IF(ISERROR((#REF!-#REF!)/#REF!),0,(#REF!-#REF!)/#REF!)","v":0},{"$f":"IF(ISERROR((#REF!-#REF!)/#REF!),0,(#REF!-#REF!)/#REF!)","v":0},{"$f":"IF(ISERROR((#REF!-#REF!)/#REF!),0,(#REF!-#REF!)/#REF!)","v":0},{"$f":"IF(ISERROR((#REF!-#REF!)/#REF!),0,(#REF!-#REF!)/#REF!)","v":0},{"$f":"IF(ISERROR((#REF!-#REF!)/#REF!),0,(#REF!-#REF!)/#REF!)","v":0},{"$f":"IF(ISERROR((#REF!-#REF!)/#REF!),0,(#REF!-#REF!)/#REF!)","v":0},{"$f":"IF(ISERROR((#REF!-#REF!)/#REF!),0,(#REF!-#REF!)/#REF!)","v":0},{"$f":"IF(ISERROR((#REF!-#REF!)/#REF!),0,(#REF!-#REF!)/#REF!)","v":0},{"$f":"IF(ISERROR((#REF!-#REF!)/#REF!),0,(#REF!-#REF!)/#REF!)","v":0},{"$f":"IF(ISERROR((#REF!-#REF!)/#REF!),0,(#REF!-#REF!)/#REF!)","v":0},{"$f":"IF(ISERROR((#REF!-#REF!)/#REF!),0,(#REF!-#REF!)/#REF!)","v":0}]
[null,"PA55Z","Respite Care",0,1193,0,0,5,844,5,288,"No","-",0,"","",{"$f":"IF(ISERROR((#REF!-#REF!)/#REF!),0,(#REF!-#REF!)/#REF!)","v":0},{"$f":"IF(ISERROR((#REF!-#REF!)/#REF!),0,(#REF!-#REF!)/#REF!)","v":0},{"$f":"IF(ISERROR((#REF!-#REF!)/#REF!),0,(#REF!-#REF!)/#REF!)","v":0},{"$f":"IF(ISERROR((#REF!-#REF!)/#REF!),0,(#REF!-#REF!)/#REF!)","v":0},{"$f":"IF(ISERROR((#REF!-#REF!)/#REF!),0,(#REF!-#REF!)/#REF!)","v":0},{"$f":"IF(ISERROR((#REF!-#REF!)/#REF!),0,(#REF!-#REF!)/#REF!)","v":0},{"$f":"IF(ISERROR((#REF!-#REF!)/#REF!),0,(#REF!-#REF!)/#REF!)","v":0},{"$f":"IF(ISERROR((#REF!-#REF!)/#REF!),0,(#REF!-#REF!)/#REF!)","v":0},{"$f":"IF(ISERROR((#REF!-#REF!)/#REF!),0,(#REF!-#REF!)/#REF!)","v":0},{"$f":"IF(ISERROR((#REF!-#REF!)/#REF!),0,(#REF!-#REF!)/#REF!)","v":0},{"$f":"IF(ISERROR((#REF!-#REF!)/#REF!),0,(#REF!-#REF!)/#REF!)","v":0},{"$f":"IF(ISERROR((#REF!-#REF!)/#REF!),0,(#REF!-#REF!)/#REF!)","v":0},{"$f":"IF(ISERROR((#REF!-#REF!)/#REF!),0,(#REF!-#REF!)/#REF!)","v":0}]
[null,"PA56A","Paediatric Admission for Unexplained Symptoms, with CC",0,1112,0,0,5,751,5,288,"No","-",0,"","",{"$f":"IF(ISERROR((#REF!-#REF!)/#REF!),0,(#REF!-#REF!)/#REF!)","v":0},{"$f":"IF(ISERROR((#REF!-#REF!)/#REF!),0,(#REF!-#REF!)/#REF!)","v":0},{"$f":"IF(ISERROR((#REF!-#REF!)/#REF!),0,(#REF!-#REF!)/#REF!)","v":0},{"$f":"IF(ISERROR((#REF!-#REF!)/#REF!),0,(#REF!-#REF!)/#REF!)","v":0},{"$f":"IF(ISERROR((#REF!-#REF!)/#REF!),0,(#REF!-#REF!)/#REF!)","v":0},{"$f":"IF(ISERROR((#REF!-#REF!)/#REF!),0,(#REF!-#REF!)/#REF!)","v":0},{"$f":"IF(ISERROR((#REF!-#REF!)/#REF!),0,(#REF!-#REF!)/#REF!)","v":0},{"$f":"IF(ISERROR((#REF!-#REF!)/#REF!),0,(#REF!-#REF!)/#REF!)","v":0},{"$f":"IF(ISERROR((#REF!-#REF!)/#REF!),0,(#REF!-#REF!)/#REF!)","v":0},{"$f":"IF(ISERROR((#REF!-#REF!)/#REF!),0,(#REF!-#REF!)/#REF!)","v":0},{"$f":"IF(ISERROR((#REF!-#REF!)/#REF!),0,(#REF!-#REF!)/#REF!)","v":0},{"$f":"IF(ISERROR((#REF!-#REF!)/#REF!),0,(#REF!-#REF!)/#REF!)","v":0},{"$f":"IF(ISERROR((#REF!-#REF!)/#REF!),0,(#REF!-#REF!)/#REF!)","v":0}]
[null,"PA56B","Paediatric Admission for Unexplained Symptoms, without CC",0,1017.2965744777231,0,0,5,552,5,288,"No","-",0,"","",{"$f":"IF(ISERROR((#REF!-#REF!)/#REF!),0,(#REF!-#REF!)/#REF!)","v":0},{"$f":"IF(ISERROR((#REF!-#REF!)/#REF!),0,(#REF!-#REF!)/#REF!)","v":0},{"$f":"IF(ISERROR((#REF!-#REF!)/#REF!),0,(#REF!-#REF!)/#REF!)","v":0},{"$f":"IF(ISERROR((#REF!-#REF!)/#REF!),0,(#REF!-#REF!)/#REF!)","v":0},{"$f":"IF(ISERROR((#REF!-#REF!)/#REF!),0,(#REF!-#REF!)/#REF!)","v":0},{"$f":"IF(ISERROR((#REF!-#REF!)/#REF!),0,(#REF!-#REF!)/#REF!)","v":0},{"$f":"IF(ISERROR((#REF!-#REF!)/#REF!),0,(#REF!-#REF!)/#REF!)","v":0},{"$f":"IF(ISERROR((#REF!-#REF!)/#REF!),0,(#REF!-#REF!)/#REF!)","v":0},{"$f":"IF(ISERROR((#REF!-#REF!)/#REF!),0,(#REF!-#REF!)/#REF!)","v":0},{"$f":"IF(ISERROR((#REF!-#REF!)/#REF!),0,(#REF!-#REF!)/#REF!)","v":0},{"$f":"IF(ISERROR((#REF!-#REF!)/#REF!),0,(#REF!-#REF!)/#REF!)","v":0},{"$f":"IF(ISERROR((#REF!-#REF!)/#REF!),0,(#REF!-#REF!)/#REF!)","v":0},{"$f":"IF(ISERROR((#REF!-#REF!)/#REF!),0,(#REF!-#REF!)/#REF!)","v":0}]
[null,"PA57Z","Examination, Follow-up, Special Screening or other Admissions, with length of stay 1 day or more",0,1766,0,0,5,826,5,288,"No","-",0,"","",{"$f":"IF(ISERROR((#REF!-#REF!)/#REF!),0,(#REF!-#REF!)/#REF!)","v":0},{"$f":"IF(ISERROR((#REF!-#REF!)/#REF!),0,(#REF!-#REF!)/#REF!)","v":0},{"$f":"IF(ISERROR((#REF!-#REF!)/#REF!),0,(#REF!-#REF!)/#REF!)","v":0},{"$f":"IF(ISERROR((#REF!-#REF!)/#REF!),0,(#REF!-#REF!)/#REF!)","v":0},{"$f":"IF(ISERROR((#REF!-#REF!)/#REF!),0,(#REF!-#REF!)/#REF!)","v":0},{"$f":"IF(ISERROR((#REF!-#REF!)/#REF!),0,(#REF!-#REF!)/#REF!)","v":0},{"$f":"IF(ISERROR((#REF!-#REF!)/#REF!),0,(#REF!-#REF!)/#REF!)","v":0},{"$f":"IF(ISERROR((#REF!-#REF!)/#REF!),0,(#REF!-#REF!)/#REF!)","v":0},{"$f":"IF(ISERROR((#REF!-#REF!)/#REF!),0,(#REF!-#REF!)/#REF!)","v":0},{"$f":"IF(ISERROR((#REF!-#REF!)/#REF!),0,(#REF!-#REF!)/#REF!)","v":0},{"$f":"IF(ISERROR((#REF!-#REF!)/#REF!),0,(#REF!-#REF!)/#REF!)","v":0},{"$f":"IF(ISERROR((#REF!-#REF!)/#REF!),0,(#REF!-#REF!)/#REF!)","v":0},{"$f":"IF(ISERROR((#REF!-#REF!)/#REF!),0,(#REF!-#REF!)/#REF!)","v":0}]
[null,"PA58Z","Examination, Follow-up, Special Screening or other Admissions, with length of stay 0 days",0,427,0,0,5,346,5,288,"No","-",0,"","",{"$f":"IF(ISERROR((#REF!-#REF!)/#REF!),0,(#REF!-#REF!)/#REF!)","v":0},{"$f":"IF(ISERROR((#REF!-#REF!)/#REF!),0,(#REF!-#REF!)/#REF!)","v":0},{"$f":"IF(ISERROR((#REF!-#REF!)/#REF!),0,(#REF!-#REF!)/#REF!)","v":0},{"$f":"IF(ISERROR((#REF!-#REF!)/#REF!),0,(#REF!-#REF!)/#REF!)","v":0},{"$f":"IF(ISERROR((#REF!-#REF!)/#REF!),0,(#REF!-#REF!)/#REF!)","v":0},{"$f":"IF(ISERROR((#REF!-#REF!)/#REF!),0,(#REF!-#REF!)/#REF!)","v":0},{"$f":"IF(ISERROR((#REF!-#REF!)/#REF!),0,(#REF!-#REF!)/#REF!)","v":0},{"$f":"IF(ISERROR((#REF!-#REF!)/#REF!),0,(#REF!-#REF!)/#REF!)","v":0},{"$f":"IF(ISERROR((#REF!-#REF!)/#REF!),0,(#REF!-#REF!)/#REF!)","v":0},{"$f":"IF(ISERROR((#REF!-#REF!)/#REF!),0,(#REF!-#REF!)/#REF!)","v":0},{"$f":"IF(ISERROR((#REF!-#REF!)/#REF!),0,(#REF!-#REF!)/#REF!)","v":0},{"$f":"IF(ISERROR((#REF!-#REF!)/#REF!),0,(#REF!-#REF!)/#REF!)","v":0},{"$f":"IF(ISERROR((#REF!-#REF!)/#REF!),0,(#REF!-#REF!)/#REF!)","v":0}]
[null,"PA59C","Major Congenital Conditions, under 1 year, with CC",0,1504,0,0,5,2734,29,288,"No","-",0,"","",{"$f":"IF(ISERROR((#REF!-#REF!)/#REF!),0,(#REF!-#REF!)/#REF!)","v":0},{"$f":"IF(ISERROR((#REF!-#REF!)/#REF!),0,(#REF!-#REF!)/#REF!)","v":0},{"$f":"IF(ISERROR((#REF!-#REF!)/#REF!),0,(#REF!-#REF!)/#REF!)","v":0},{"$f":"IF(ISERROR((#REF!-#REF!)/#REF!),0,(#REF!-#REF!)/#REF!)","v":0},{"$f":"IF(ISERROR((#REF!-#REF!)/#REF!),0,(#REF!-#REF!)/#REF!)","v":0},{"$f":"IF(ISERROR((#REF!-#REF!)/#REF!),0,(#REF!-#REF!)/#REF!)","v":0},{"$f":"IF(ISERROR((#REF!-#REF!)/#REF!),0,(#REF!-#REF!)/#REF!)","v":0},{"$f":"IF(ISERROR((#REF!-#REF!)/#REF!),0,(#REF!-#REF!)/#REF!)","v":0},{"$f":"IF(ISERROR((#REF!-#REF!)/#REF!),0,(#REF!-#REF!)/#REF!)","v":0},{"$f":"IF(ISERROR((#REF!-#REF!)/#REF!),0,(#REF!-#REF!)/#REF!)","v":0},{"$f":"IF(ISERROR((#REF!-#REF!)/#REF!),0,(#REF!-#REF!)/#REF!)","v":0},{"$f":"IF(ISERROR((#REF!-#REF!)/#REF!),0,(#REF!-#REF!)/#REF!)","v":0},{"$f":"IF(ISERROR((#REF!-#REF!)/#REF!),0,(#REF!-#REF!)/#REF!)","v":0}]
[null,"PA59D","Major Congenital Conditions, under 1 year, without CC",0,754,0,0,5,854,5,288,"No","-",0,"","",{"$f":"IF(ISERROR((#REF!-#REF!)/#REF!),0,(#REF!-#REF!)/#REF!)","v":0},{"$f":"IF(ISERROR((#REF!-#REF!)/#REF!),0,(#REF!-#REF!)/#REF!)","v":0},{"$f":"IF(ISERROR((#REF!-#REF!)/#REF!),0,(#REF!-#REF!)/#REF!)","v":0},{"$f":"IF(ISERROR((#REF!-#REF!)/#REF!),0,(#REF!-#REF!)/#REF!)","v":0},{"$f":"IF(ISERROR((#REF!-#REF!)/#REF!),0,(#REF!-#REF!)/#REF!)","v":0},{"$f":"IF(ISERROR((#REF!-#REF!)/#REF!),0,(#REF!-#REF!)/#REF!)","v":0},{"$f":"IF(ISERROR((#REF!-#REF!)/#REF!),0,(#REF!-#REF!)/#REF!)","v":0},{"$f":"IF(ISERROR((#REF!-#REF!)/#REF!),0,(#REF!-#REF!)/#REF!)","v":0},{"$f":"IF(ISERROR((#REF!-#REF!)/#REF!),0,(#REF!-#REF!)/#REF!)","v":0},{"$f":"IF(ISERROR((#REF!-#REF!)/#REF!),0,(#REF!-#REF!)/#REF!)","v":0},{"$f":"IF(ISERROR((#REF!-#REF!)/#REF!),0,(#REF!-#REF!)/#REF!)","v":0},{"$f":"IF(ISERROR((#REF!-#REF!)/#REF!),0,(#REF!-#REF!)/#REF!)","v":0},{"$f":"IF(ISERROR((#REF!-#REF!)/#REF!),0,(#REF!-#REF!)/#REF!)","v":0}]
[null,"PA59E","Major Congenital Conditions, 1 year and over, with CC",0,1174,0,0,5,2234,13,288,"No","-",0,"","",{"$f":"IF(ISERROR((#REF!-#REF!)/#REF!),0,(#REF!-#REF!)/#REF!)","v":0},{"$f":"IF(ISERROR((#REF!-#REF!)/#REF!),0,(#REF!-#REF!)/#REF!)","v":0},{"$f":"IF(ISERROR((#REF!-#REF!)/#REF!),0,(#REF!-#REF!)/#REF!)","v":0},{"$f":"IF(ISERROR((#REF!-#REF!)/#REF!),0,(#REF!-#REF!)/#REF!)","v":0},{"$f":"IF(ISERROR((#REF!-#REF!)/#REF!),0,(#REF!-#REF!)/#REF!)","v":0},{"$f":"IF(ISERROR((#REF!-#REF!)/#REF!),0,(#REF!-#REF!)/#REF!)","v":0},{"$f":"IF(ISERROR((#REF!-#REF!)/#REF!),0,(#REF!-#REF!)/#REF!)","v":0},{"$f":"IF(ISERROR((#REF!-#REF!)/#REF!),0,(#REF!-#REF!)/#REF!)","v":0},{"$f":"IF(ISERROR((#REF!-#REF!)/#REF!),0,(#REF!-#REF!)/#REF!)","v":0},{"$f":"IF(ISERROR((#REF!-#REF!)/#REF!),0,(#REF!-#REF!)/#REF!)","v":0},{"$f":"IF(ISERROR((#REF!-#REF!)/#REF!),0,(#REF!-#REF!)/#REF!)","v":0},{"$f":"IF(ISERROR((#REF!-#REF!)/#REF!),0,(#REF!-#REF!)/#REF!)","v":0},{"$f":"IF(ISERROR((#REF!-#REF!)/#REF!),0,(#REF!-#REF!)/#REF!)","v":0}]
[null,"PA59F","Major Congenital Conditions, 1 year and over, without CC",0,821,0,0,5,780,5,288,"No","-",0,"","",{"$f":"IF(ISERROR((#REF!-#REF!)/#REF!),0,(#REF!-#REF!)/#REF!)","v":0},{"$f":"IF(ISERROR((#REF!-#REF!)/#REF!),0,(#REF!-#REF!)/#REF!)","v":0},{"$f":"IF(ISERROR((#REF!-#REF!)/#REF!),0,(#REF!-#REF!)/#REF!)","v":0},{"$f":"IF(ISERROR((#REF!-#REF!)/#REF!),0,(#REF!-#REF!)/#REF!)","v":0},{"$f":"IF(ISERROR((#REF!-#REF!)/#REF!),0,(#REF!-#REF!)/#REF!)","v":0},{"$f":"IF(ISERROR((#REF!-#REF!)/#REF!),0,(#REF!-#REF!)/#REF!)","v":0},{"$f":"IF(ISERROR((#REF!-#REF!)/#REF!),0,(#REF!-#REF!)/#REF!)","v":0},{"$f":"IF(ISERROR((#REF!-#REF!)/#REF!),0,(#REF!-#REF!)/#REF!)","v":0},{"$f":"IF(ISERROR((#REF!-#REF!)/#REF!),0,(#REF!-#REF!)/#REF!)","v":0},{"$f":"IF(ISERROR((#REF!-#REF!)/#REF!),0,(#REF!-#REF!)/#REF!)","v":0},{"$f":"IF(ISERROR((#REF!-#REF!)/#REF!),0,(#REF!-#REF!)/#REF!)","v":0},{"$f":"IF(ISERROR((#REF!-#REF!)/#REF!),0,(#REF!-#REF!)/#REF!)","v":0},{"$f":"IF(ISERROR((#REF!-#REF!)/#REF!),0,(#REF!-#REF!)/#REF!)","v":0}]
[null,"PA60C","Other Congenital Conditions, under 1 year, with CC",0,970,0,0,5,1516,9,288,"No","-",0,"","",{"$f":"IF(ISERROR((#REF!-#REF!)/#REF!),0,(#REF!-#REF!)/#REF!)","v":0},{"$f":"IF(ISERROR((#REF!-#REF!)/#REF!),0,(#REF!-#REF!)/#REF!)","v":0},{"$f":"IF(ISERROR((#REF!-#REF!)/#REF!),0,(#REF!-#REF!)/#REF!)","v":0},{"$f":"IF(ISERROR((#REF!-#REF!)/#REF!),0,(#REF!-#REF!)/#REF!)","v":0},{"$f":"IF(ISERROR((#REF!-#REF!)/#REF!),0,(#REF!-#REF!)/#REF!)","v":0},{"$f":"IF(ISERROR((#REF!-#REF!)/#REF!),0,(#REF!-#REF!)/#REF!)","v":0},{"$f":"IF(ISERROR((#REF!-#REF!)/#REF!),0,(#REF!-#REF!)/#REF!)","v":0},{"$f":"IF(ISERROR((#REF!-#REF!)/#REF!),0,(#REF!-#REF!)/#REF!)","v":0},{"$f":"IF(ISERROR((#REF!-#REF!)/#REF!),0,(#REF!-#REF!)/#REF!)","v":0},{"$f":"IF(ISERROR((#REF!-#REF!)/#REF!),0,(#REF!-#REF!)/#REF!)","v":0},{"$f":"IF(ISERROR((#REF!-#REF!)/#REF!),0,(#REF!-#REF!)/#REF!)","v":0},{"$f":"IF(ISERROR((#REF!-#REF!)/#REF!),0,(#REF!-#REF!)/#REF!)","v":0},{"$f":"IF(ISERROR((#REF!-#REF!)/#REF!),0,(#REF!-#REF!)/#REF!)","v":0}]
[null,"PA60D","Other Congenital Conditions, under 1 year, without CC",0,664,0,0,5,546,5,288,"No","-",0,"","",{"$f":"IF(ISERROR((#REF!-#REF!)/#REF!),0,(#REF!-#REF!)/#REF!)","v":0},{"$f":"IF(ISERROR((#REF!-#REF!)/#REF!),0,(#REF!-#REF!)/#REF!)","v":0},{"$f":"IF(ISERROR((#REF!-#REF!)/#REF!),0,(#REF!-#REF!)/#REF!)","v":0},{"$f":"IF(ISERROR((#REF!-#REF!)/#REF!),0,(#REF!-#REF!)/#REF!)","v":0},{"$f":"IF(ISERROR((#REF!-#REF!)/#REF!),0,(#REF!-#REF!)/#REF!)","v":0},{"$f":"IF(ISERROR((#REF!-#REF!)/#REF!),0,(#REF!-#REF!)/#REF!)","v":0},{"$f":"IF(ISERROR((#REF!-#REF!)/#REF!),0,(#REF!-#REF!)/#REF!)","v":0},{"$f":"IF(ISERROR((#REF!-#REF!)/#REF!),0,(#REF!-#REF!)/#REF!)","v":0},{"$f":"IF(ISERROR((#REF!-#REF!)/#REF!),0,(#REF!-#REF!)/#REF!)","v":0},{"$f":"IF(ISERROR((#REF!-#REF!)/#REF!),0,(#REF!-#REF!)/#REF!)","v":0},{"$f":"IF(ISERROR((#REF!-#REF!)/#REF!),0,(#REF!-#REF!)/#REF!)","v":0},{"$f":"IF(ISERROR((#REF!-#REF!)/#REF!),0,(#REF!-#REF!)/#REF!)","v":0},{"$f":"IF(ISERROR((#REF!-#REF!)/#REF!),0,(#REF!-#REF!)/#REF!)","v":0}]
[null,"PA60E","Other Congenital Conditions, 1 year and over, with CC",0,952,0,0,5,1470,8,288,"No","-",0,"","",{"$f":"IF(ISERROR((#REF!-#REF!)/#REF!),0,(#REF!-#REF!)/#REF!)","v":0},{"$f":"IF(ISERROR((#REF!-#REF!)/#REF!),0,(#REF!-#REF!)/#REF!)","v":0},{"$f":"IF(ISERROR((#REF!-#REF!)/#REF!),0,(#REF!-#REF!)/#REF!)","v":0},{"$f":"IF(ISERROR((#REF!-#REF!)/#REF!),0,(#REF!-#REF!)/#REF!)","v":0},{"$f":"IF(ISERROR((#REF!-#REF!)/#REF!),0,(#REF!-#REF!)/#REF!)","v":0},{"$f":"IF(ISERROR((#REF!-#REF!)/#REF!),0,(#REF!-#REF!)/#REF!)","v":0},{"$f":"IF(ISERROR((#REF!-#REF!)/#REF!),0,(#REF!-#REF!)/#REF!)","v":0},{"$f":"IF(ISERROR((#REF!-#REF!)/#REF!),0,(#REF!-#REF!)/#REF!)","v":0},{"$f":"IF(ISERROR((#REF!-#REF!)/#REF!),0,(#REF!-#REF!)/#REF!)","v":0},{"$f":"IF(ISERROR((#REF!-#REF!)/#REF!),0,(#REF!-#REF!)/#REF!)","v":0},{"$f":"IF(ISERROR((#REF!-#REF!)/#REF!),0,(#REF!-#REF!)/#REF!)","v":0},{"$f":"IF(ISERROR((#REF!-#REF!)/#REF!),0,(#REF!-#REF!)/#REF!)","v":0},{"$f":"IF(ISERROR((#REF!-#REF!)/#REF!),0,(#REF!-#REF!)/#REF!)","v":0}]
[null,"PA60F","Other Congenital Conditions, 1 year and over, without CC",0,772,0,0,5,746,5,288,"No","-",0,"","",{"$f":"IF(ISERROR((#REF!-#REF!)/#REF!),0,(#REF!-#REF!)/#REF!)","v":0},{"$f":"IF(ISERROR((#REF!-#REF!)/#REF!),0,(#REF!-#REF!)/#REF!)","v":0},{"$f":"IF(ISERROR((#REF!-#REF!)/#REF!),0,(#REF!-#REF!)/#REF!)","v":0},{"$f":"IF(ISERROR((#REF!-#REF!)/#REF!),0,(#REF!-#REF!)/#REF!)","v":0},{"$f":"IF(ISERROR((#REF!-#REF!)/#REF!),0,(#REF!-#REF!)/#REF!)","v":0},{"$f":"IF(ISERROR((#REF!-#REF!)/#REF!),0,(#REF!-#REF!)/#REF!)","v":0},{"$f":"IF(ISERROR((#REF!-#REF!)/#REF!),0,(#REF!-#REF!)/#REF!)","v":0},{"$f":"IF(ISERROR((#REF!-#REF!)/#REF!),0,(#REF!-#REF!)/#REF!)","v":0},{"$f":"IF(ISERROR((#REF!-#REF!)/#REF!),0,(#REF!-#REF!)/#REF!)","v":0},{"$f":"IF(ISERROR((#REF!-#REF!)/#REF!),0,(#REF!-#REF!)/#REF!)","v":0},{"$f":"IF(ISERROR((#REF!-#REF!)/#REF!),0,(#REF!-#REF!)/#REF!)","v":0},{"$f":"IF(ISERROR((#REF!-#REF!)/#REF!),0,(#REF!-#REF!)/#REF!)","v":0},{"$f":"IF(ISERROR((#REF!-#REF!)/#REF!),0,(#REF!-#REF!)/#REF!)","v":0}]
[null,"PA62Z","Syncope and Collapse",0,679,0,0,5,502,5,288,"No","-",0,"","",{"$f":"IF(ISERROR((#REF!-#REF!)/#REF!),0,(#REF!-#REF!)/#REF!)","v":0},{"$f":"IF(ISERROR((#REF!-#REF!)/#REF!),0,(#REF!-#REF!)/#REF!)","v":0},{"$f":"IF(ISERROR((#REF!-#REF!)/#REF!),0,(#REF!-#REF!)/#REF!)","v":0},{"$f":"IF(ISERROR((#REF!-#REF!)/#REF!),0,(#REF!-#REF!)/#REF!)","v":0},{"$f":"IF(ISERROR((#REF!-#REF!)/#REF!),0,(#REF!-#REF!)/#REF!)","v":0},{"$f":"IF(ISERROR((#REF!-#REF!)/#REF!),0,(#REF!-#REF!)/#REF!)","v":0},{"$f":"IF(ISERROR((#REF!-#REF!)/#REF!),0,(#REF!-#REF!)/#REF!)","v":0},{"$f":"IF(ISERROR((#REF!-#REF!)/#REF!),0,(#REF!-#REF!)/#REF!)","v":0},{"$f":"IF(ISERROR((#REF!-#REF!)/#REF!),0,(#REF!-#REF!)/#REF!)","v":0},{"$f":"IF(ISERROR((#REF!-#REF!)/#REF!),0,(#REF!-#REF!)/#REF!)","v":0},{"$f":"IF(ISERROR((#REF!-#REF!)/#REF!),0,(#REF!-#REF!)/#REF!)","v":0},{"$f":"IF(ISERROR((#REF!-#REF!)/#REF!),0,(#REF!-#REF!)/#REF!)","v":0},{"$f":"IF(ISERROR((#REF!-#REF!)/#REF!),0,(#REF!-#REF!)/#REF!)","v":0}]
[null,"PA63A","Head, Neck and Ear Disorders with length of stay 0 days",0,511,0,0,5,351,5,288,"No","-",0,"","",{"$f":"IF(ISERROR((#REF!-#REF!)/#REF!),0,(#REF!-#REF!)/#REF!)","v":0},{"$f":"IF(ISERROR((#REF!-#REF!)/#REF!),0,(#REF!-#REF!)/#REF!)","v":0},{"$f":"IF(ISERROR((#REF!-#REF!)/#REF!),0,(#REF!-#REF!)/#REF!)","v":0},{"$f":"IF(ISERROR((#REF!-#REF!)/#REF!),0,(#REF!-#REF!)/#REF!)","v":0},{"$f":"IF(ISERROR((#REF!-#REF!)/#REF!),0,(#REF!-#REF!)/#REF!)","v":0},{"$f":"IF(ISERROR((#REF!-#REF!)/#REF!),0,(#REF!-#REF!)/#REF!)","v":0},{"$f":"IF(ISERROR((#REF!-#REF!)/#REF!),0,(#REF!-#REF!)/#REF!)","v":0},{"$f":"IF(ISERROR((#REF!-#REF!)/#REF!),0,(#REF!-#REF!)/#REF!)","v":0},{"$f":"IF(ISERROR((#REF!-#REF!)/#REF!),0,(#REF!-#REF!)/#REF!)","v":0},{"$f":"IF(ISERROR((#REF!-#REF!)/#REF!),0,(#REF!-#REF!)/#REF!)","v":0},{"$f":"IF(ISERROR((#REF!-#REF!)/#REF!),0,(#REF!-#REF!)/#REF!)","v":0},{"$f":"IF(ISERROR((#REF!-#REF!)/#REF!),0,(#REF!-#REF!)/#REF!)","v":0},{"$f":"IF(ISERROR((#REF!-#REF!)/#REF!),0,(#REF!-#REF!)/#REF!)","v":0}]
[null,"PA63B","Head, Neck and Ear Disorders with length of stay 1 day or more, with CC",0,2195.9773080793912,0,0,5,994,5,288,"No","-",0,"","",{"$f":"IF(ISERROR((#REF!-#REF!)/#REF!),0,(#REF!-#REF!)/#REF!)","v":0},{"$f":"IF(ISERROR((#REF!-#REF!)/#REF!),0,(#REF!-#REF!)/#REF!)","v":0},{"$f":"IF(ISERROR((#REF!-#REF!)/#REF!),0,(#REF!-#REF!)/#REF!)","v":0},{"$f":"IF(ISERROR((#REF!-#REF!)/#REF!),0,(#REF!-#REF!)/#REF!)","v":0},{"$f":"IF(ISERROR((#REF!-#REF!)/#REF!),0,(#REF!-#REF!)/#REF!)","v":0},{"$f":"IF(ISERROR((#REF!-#REF!)/#REF!),0,(#REF!-#REF!)/#REF!)","v":0},{"$f":"IF(ISERROR((#REF!-#REF!)/#REF!),0,(#REF!-#REF!)/#REF!)","v":0},{"$f":"IF(ISERROR((#REF!-#REF!)/#REF!),0,(#REF!-#REF!)/#REF!)","v":0},{"$f":"IF(ISERROR((#REF!-#REF!)/#REF!),0,(#REF!-#REF!)/#REF!)","v":0},{"$f":"IF(ISERROR((#REF!-#REF!)/#REF!),0,(#REF!-#REF!)/#REF!)","v":0},{"$f":"IF(ISERROR((#REF!-#REF!)/#REF!),0,(#REF!-#REF!)/#REF!)","v":0},{"$f":"IF(ISERROR((#REF!-#REF!)/#REF!),0,(#REF!-#REF!)/#REF!)","v":0},{"$f":"IF(ISERROR((#REF!-#REF!)/#REF!),0,(#REF!-#REF!)/#REF!)","v":0}]
[null,"PA63C","Head, Neck and Ear Disorders with length of stay 1 day or more, without CC",0,2020.1838490336654,0,0,5,720,5,288,"No","-",0,"","",{"$f":"IF(ISERROR((#REF!-#REF!)/#REF!),0,(#REF!-#REF!)/#REF!)","v":0},{"$f":"IF(ISERROR((#REF!-#REF!)/#REF!),0,(#REF!-#REF!)/#REF!)","v":0},{"$f":"IF(ISERROR((#REF!-#REF!)/#REF!),0,(#REF!-#REF!)/#REF!)","v":0},{"$f":"IF(ISERROR((#REF!-#REF!)/#REF!),0,(#REF!-#REF!)/#REF!)","v":0},{"$f":"IF(ISERROR((#REF!-#REF!)/#REF!),0,(#REF!-#REF!)/#REF!)","v":0},{"$f":"IF(ISERROR((#REF!-#REF!)/#REF!),0,(#REF!-#REF!)/#REF!)","v":0},{"$f":"IF(ISERROR((#REF!-#REF!)/#REF!),0,(#REF!-#REF!)/#REF!)","v":0},{"$f":"IF(ISERROR((#REF!-#REF!)/#REF!),0,(#REF!-#REF!)/#REF!)","v":0},{"$f":"IF(ISERROR((#REF!-#REF!)/#REF!),0,(#REF!-#REF!)/#REF!)","v":0},{"$f":"IF(ISERROR((#REF!-#REF!)/#REF!),0,(#REF!-#REF!)/#REF!)","v":0},{"$f":"IF(ISERROR((#REF!-#REF!)/#REF!),0,(#REF!-#REF!)/#REF!)","v":0},{"$f":"IF(ISERROR((#REF!-#REF!)/#REF!),0,(#REF!-#REF!)/#REF!)","v":0},{"$f":"IF(ISERROR((#REF!-#REF!)/#REF!),0,(#REF!-#REF!)/#REF!)","v":0}]
[null,"PA64A","Non-Surgical Ophthalmology with length of stay 0 days",0,552,0,0,5,355,5,288,"No","-",0,"","",{"$f":"IF(ISERROR((#REF!-#REF!)/#REF!),0,(#REF!-#REF!)/#REF!)","v":0},{"$f":"IF(ISERROR((#REF!-#REF!)/#REF!),0,(#REF!-#REF!)/#REF!)","v":0},{"$f":"IF(ISERROR((#REF!-#REF!)/#REF!),0,(#REF!-#REF!)/#REF!)","v":0},{"$f":"IF(ISERROR((#REF!-#REF!)/#REF!),0,(#REF!-#REF!)/#REF!)","v":0},{"$f":"IF(ISERROR((#REF!-#REF!)/#REF!),0,(#REF!-#REF!)/#REF!)","v":0},{"$f":"IF(ISERROR((#REF!-#REF!)/#REF!),0,(#REF!-#REF!)/#REF!)","v":0},{"$f":"IF(ISERROR((#REF!-#REF!)/#REF!),0,(#REF!-#REF!)/#REF!)","v":0},{"$f":"IF(ISERROR((#REF!-#REF!)/#REF!),0,(#REF!-#REF!)/#REF!)","v":0},{"$f":"IF(ISERROR((#REF!-#REF!)/#REF!),0,(#REF!-#REF!)/#REF!)","v":0},{"$f":"IF(ISERROR((#REF!-#REF!)/#REF!),0,(#REF!-#REF!)/#REF!)","v":0},{"$f":"IF(ISERROR((#REF!-#REF!)/#REF!),0,(#REF!-#REF!)/#REF!)","v":0},{"$f":"IF(ISERROR((#REF!-#REF!)/#REF!),0,(#REF!-#REF!)/#REF!)","v":0},{"$f":"IF(ISERROR((#REF!-#REF!)/#REF!),0,(#REF!-#REF!)/#REF!)","v":0}]
[null,"PA64B","Non-Surgical Ophthalmology with length of stay 1 day or more, with CC",0,1522,0,0,5,1274,6,288,"No","-",0,"","",{"$f":"IF(ISERROR((#REF!-#REF!)/#REF!),0,(#REF!-#REF!)/#REF!)","v":0},{"$f":"IF(ISERROR((#REF!-#REF!)/#REF!),0,(#REF!-#REF!)/#REF!)","v":0},{"$f":"IF(ISERROR((#REF!-#REF!)/#REF!),0,(#REF!-#REF!)/#REF!)","v":0},{"$f":"IF(ISERROR((#REF!-#REF!)/#REF!),0,(#REF!-#REF!)/#REF!)","v":0},{"$f":"IF(ISERROR((#REF!-#REF!)/#REF!),0,(#REF!-#REF!)/#REF!)","v":0},{"$f":"IF(ISERROR((#REF!-#REF!)/#REF!),0,(#REF!-#REF!)/#REF!)","v":0},{"$f":"IF(ISERROR((#REF!-#REF!)/#REF!),0,(#REF!-#REF!)/#REF!)","v":0},{"$f":"IF(ISERROR((#REF!-#REF!)/#REF!),0,(#REF!-#REF!)/#REF!)","v":0},{"$f":"IF(ISERROR((#REF!-#REF!)/#REF!),0,(#REF!-#REF!)/#REF!)","v":0},{"$f":"IF(ISERROR((#REF!-#REF!)/#REF!),0,(#REF!-#REF!)/#REF!)","v":0},{"$f":"IF(ISERROR((#REF!-#REF!)/#REF!),0,(#REF!-#REF!)/#REF!)","v":0},{"$f":"IF(ISERROR((#REF!-#REF!)/#REF!),0,(#REF!-#REF!)/#REF!)","v":0},{"$f":"IF(ISERROR((#REF!-#REF!)/#REF!),0,(#REF!-#REF!)/#REF!)","v":0}]
[null,"PA64C","Non-Surgical Ophthalmology with length of stay 1 day or more, without CC",0,1415,0,0,6,1120,6,288,"No","-",0,"","",{"$f":"IF(ISERROR((#REF!-#REF!)/#REF!),0,(#REF!-#REF!)/#REF!)","v":0},{"$f":"IF(ISERROR((#REF!-#REF!)/#REF!),0,(#REF!-#REF!)/#REF!)","v":0},{"$f":"IF(ISERROR((#REF!-#REF!)/#REF!),0,(#REF!-#REF!)/#REF!)","v":0},{"$f":"IF(ISERROR((#REF!-#REF!)/#REF!),0,(#REF!-#REF!)/#REF!)","v":0},{"$f":"IF(ISERROR((#REF!-#REF!)/#REF!),0,(#REF!-#REF!)/#REF!)","v":0},{"$f":"IF(ISERROR((#REF!-#REF!)/#REF!),0,(#REF!-#REF!)/#REF!)","v":0},{"$f":"IF(ISERROR((#REF!-#REF!)/#REF!),0,(#REF!-#REF!)/#REF!)","v":0},{"$f":"IF(ISERROR((#REF!-#REF!)/#REF!),0,(#REF!-#REF!)/#REF!)","v":0},{"$f":"IF(ISERROR((#REF!-#REF!)/#REF!),0,(#REF!-#REF!)/#REF!)","v":0},{"$f":"IF(ISERROR((#REF!-#REF!)/#REF!),0,(#REF!-#REF!)/#REF!)","v":0},{"$f":"IF(ISERROR((#REF!-#REF!)/#REF!),0,(#REF!-#REF!)/#REF!)","v":0},{"$f":"IF(ISERROR((#REF!-#REF!)/#REF!),0,(#REF!-#REF!)/#REF!)","v":0},{"$f":"IF(ISERROR((#REF!-#REF!)/#REF!),0,(#REF!-#REF!)/#REF!)","v":0}]
[null,"PA65A","Upper Respiratory Tract Disorders with length of stay 0 days",0,504,0,0,5,348,5,288,"No","-",0,"","",{"$f":"IF(ISERROR((#REF!-#REF!)/#REF!),0,(#REF!-#REF!)/#REF!)","v":0},{"$f":"IF(ISERROR((#REF!-#REF!)/#REF!),0,(#REF!-#REF!)/#REF!)","v":0},{"$f":"IF(ISERROR((#REF!-#REF!)/#REF!),0,(#REF!-#REF!)/#REF!)","v":0},{"$f":"IF(ISERROR((#REF!-#REF!)/#REF!),0,(#REF!-#REF!)/#REF!)","v":0},{"$f":"IF(ISERROR((#REF!-#REF!)/#REF!),0,(#REF!-#REF!)/#REF!)","v":0},{"$f":"IF(ISERROR((#REF!-#REF!)/#REF!),0,(#REF!-#REF!)/#REF!)","v":0},{"$f":"IF(ISERROR((#REF!-#REF!)/#REF!),0,(#REF!-#REF!)/#REF!)","v":0},{"$f":"IF(ISERROR((#REF!-#REF!)/#REF!),0,(#REF!-#REF!)/#REF!)","v":0},{"$f":"IF(ISERROR((#REF!-#REF!)/#REF!),0,(#REF!-#REF!)/#REF!)","v":0},{"$f":"IF(ISERROR((#REF!-#REF!)/#REF!),0,(#REF!-#REF!)/#REF!)","v":0},{"$f":"IF(ISERROR((#REF!-#REF!)/#REF!),0,(#REF!-#REF!)/#REF!)","v":0},{"$f":"IF(ISERROR((#REF!-#REF!)/#REF!),0,(#REF!-#REF!)/#REF!)","v":0},{"$f":"IF(ISERROR((#REF!-#REF!)/#REF!),0,(#REF!-#REF!)/#REF!)","v":0}]
[null,"PA65B","Upper Respiratory Tract Disorders with length of stay 1 day or more, with CC",0,1665,0,0,5,1425,6,288,"No","-",0,"","",{"$f":"IF(ISERROR((#REF!-#REF!)/#REF!),0,(#REF!-#REF!)/#REF!)","v":0},{"$f":"IF(ISERROR((#REF!-#REF!)/#REF!),0,(#REF!-#REF!)/#REF!)","v":0},{"$f":"IF(ISERROR((#REF!-#REF!)/#REF!),0,(#REF!-#REF!)/#REF!)","v":0},{"$f":"IF(ISERROR((#REF!-#REF!)/#REF!),0,(#REF!-#REF!)/#REF!)","v":0},{"$f":"IF(ISERROR((#REF!-#REF!)/#REF!),0,(#REF!-#REF!)/#REF!)","v":0},{"$f":"IF(ISERROR((#REF!-#REF!)/#REF!),0,(#REF!-#REF!)/#REF!)","v":0},{"$f":"IF(ISERROR((#REF!-#REF!)/#REF!),0,(#REF!-#REF!)/#REF!)","v":0},{"$f":"IF(ISERROR((#REF!-#REF!)/#REF!),0,(#REF!-#REF!)/#REF!)","v":0},{"$f":"IF(ISERROR((#REF!-#REF!)/#REF!),0,(#REF!-#REF!)/#REF!)","v":0},{"$f":"IF(ISERROR((#REF!-#REF!)/#REF!),0,(#REF!-#REF!)/#REF!)","v":0},{"$f":"IF(ISERROR((#REF!-#REF!)/#REF!),0,(#REF!-#REF!)/#REF!)","v":0},{"$f":"IF(ISERROR((#REF!-#REF!)/#REF!),0,(#REF!-#REF!)/#REF!)","v":0},{"$f":"IF(ISERROR((#REF!-#REF!)/#REF!),0,(#REF!-#REF!)/#REF!)","v":0}]
[null,"PA65C","Upper Respiratory Tract Disorders with length of stay 1 day or more, without CC",0,962.54123477495614,0,0,5,584,5,288,"No","-",0,"","",{"$f":"IF(ISERROR((#REF!-#REF!)/#REF!),0,(#REF!-#REF!)/#REF!)","v":0},{"$f":"IF(ISERROR((#REF!-#REF!)/#REF!),0,(#REF!-#REF!)/#REF!)","v":0},{"$f":"IF(ISERROR((#REF!-#REF!)/#REF!),0,(#REF!-#REF!)/#REF!)","v":0},{"$f":"IF(ISERROR((#REF!-#REF!)/#REF!),0,(#REF!-#REF!)/#REF!)","v":0},{"$f":"IF(ISERROR((#REF!-#REF!)/#REF!),0,(#REF!-#REF!)/#REF!)","v":0},{"$f":"IF(ISERROR((#REF!-#REF!)/#REF!),0,(#REF!-#REF!)/#REF!)","v":0},{"$f":"IF(ISERROR((#REF!-#REF!)/#REF!),0,(#REF!-#REF!)/#REF!)","v":0},{"$f":"IF(ISERROR((#REF!-#REF!)/#REF!),0,(#REF!-#REF!)/#REF!)","v":0},{"$f":"IF(ISERROR((#REF!-#REF!)/#REF!),0,(#REF!-#REF!)/#REF!)","v":0},{"$f":"IF(ISERROR((#REF!-#REF!)/#REF!),0,(#REF!-#REF!)/#REF!)","v":0},{"$f":"IF(ISERROR((#REF!-#REF!)/#REF!),0,(#REF!-#REF!)/#REF!)","v":0},{"$f":"IF(ISERROR((#REF!-#REF!)/#REF!),0,(#REF!-#REF!)/#REF!)","v":0},{"$f":"IF(ISERROR((#REF!-#REF!)/#REF!),0,(#REF!-#REF!)/#REF!)","v":0}]
[null,"PA66Z","Rash or Other Non-Specific Skin Eruption",0,356,0,0,5,491,5,288,"No","-",0,"","",{"$f":"IF(ISERROR((#REF!-#REF!)/#REF!),0,(#REF!-#REF!)/#REF!)","v":0},{"$f":"IF(ISERROR((#REF!-#REF!)/#REF!),0,(#REF!-#REF!)/#REF!)","v":0},{"$f":"IF(ISERROR((#REF!-#REF!)/#REF!),0,(#REF!-#REF!)/#REF!)","v":0},{"$f":"IF(ISERROR((#REF!-#REF!)/#REF!),0,(#REF!-#REF!)/#REF!)","v":0},{"$f":"IF(ISERROR((#REF!-#REF!)/#REF!),0,(#REF!-#REF!)/#REF!)","v":0},{"$f":"IF(ISERROR((#REF!-#REF!)/#REF!),0,(#REF!-#REF!)/#REF!)","v":0},{"$f":"IF(ISERROR((#REF!-#REF!)/#REF!),0,(#REF!-#REF!)/#REF!)","v":0},{"$f":"IF(ISERROR((#REF!-#REF!)/#REF!),0,(#REF!-#REF!)/#REF!)","v":0},{"$f":"IF(ISERROR((#REF!-#REF!)/#REF!),0,(#REF!-#REF!)/#REF!)","v":0},{"$f":"IF(ISERROR((#REF!-#REF!)/#REF!),0,(#REF!-#REF!)/#REF!)","v":0},{"$f":"IF(ISERROR((#REF!-#REF!)/#REF!),0,(#REF!-#REF!)/#REF!)","v":0},{"$f":"IF(ISERROR((#REF!-#REF!)/#REF!),0,(#REF!-#REF!)/#REF!)","v":0},{"$f":"IF(ISERROR((#REF!-#REF!)/#REF!),0,(#REF!-#REF!)/#REF!)","v":0}]
[null,"PA67Z","Diabetes Mellitus, with Ketoacidosis or Coma",0,1459,0,0,10,1055,6,288,"No","-",0,"","",{"$f":"IF(ISERROR((#REF!-#REF!)/#REF!),0,(#REF!-#REF!)/#REF!)","v":0},{"$f":"IF(ISERROR((#REF!-#REF!)/#REF!),0,(#REF!-#REF!)/#REF!)","v":0},{"$f":"IF(ISERROR((#REF!-#REF!)/#REF!),0,(#REF!-#REF!)/#REF!)","v":0},{"$f":"IF(ISERROR((#REF!-#REF!)/#REF!),0,(#REF!-#REF!)/#REF!)","v":0},{"$f":"IF(ISERROR((#REF!-#REF!)/#REF!),0,(#REF!-#REF!)/#REF!)","v":0},{"$f":"IF(ISERROR((#REF!-#REF!)/#REF!),0,(#REF!-#REF!)/#REF!)","v":0},{"$f":"IF(ISERROR((#REF!-#REF!)/#REF!),0,(#REF!-#REF!)/#REF!)","v":0},{"$f":"IF(ISERROR((#REF!-#REF!)/#REF!),0,(#REF!-#REF!)/#REF!)","v":0},{"$f":"IF(ISERROR((#REF!-#REF!)/#REF!),0,(#REF!-#REF!)/#REF!)","v":0},{"$f":"IF(ISERROR((#REF!-#REF!)/#REF!),0,(#REF!-#REF!)/#REF!)","v":0},{"$f":"IF(ISERROR((#REF!-#REF!)/#REF!),0,(#REF!-#REF!)/#REF!)","v":0},{"$f":"IF(ISERROR((#REF!-#REF!)/#REF!),0,(#REF!-#REF!)/#REF!)","v":0},{"$f":"IF(ISERROR((#REF!-#REF!)/#REF!),0,(#REF!-#REF!)/#REF!)","v":0}]
[null,"PA68Z","Diabetes Mellitus, without Ketoacidosis or Coma",0,1207,0,0,5,954,5,288,"No","-",0,"","",{"$f":"IF(ISERROR((#REF!-#REF!)/#REF!),0,(#REF!-#REF!)/#REF!)","v":0},{"$f":"IF(ISERROR((#REF!-#REF!)/#REF!),0,(#REF!-#REF!)/#REF!)","v":0},{"$f":"IF(ISERROR((#REF!-#REF!)/#REF!),0,(#REF!-#REF!)/#REF!)","v":0},{"$f":"IF(ISERROR((#REF!-#REF!)/#REF!),0,(#REF!-#REF!)/#REF!)","v":0},{"$f":"IF(ISERROR((#REF!-#REF!)/#REF!),0,(#REF!-#REF!)/#REF!)","v":0},{"$f":"IF(ISERROR((#REF!-#REF!)/#REF!),0,(#REF!-#REF!)/#REF!)","v":0},{"$f":"IF(ISERROR((#REF!-#REF!)/#REF!),0,(#REF!-#REF!)/#REF!)","v":0},{"$f":"IF(ISERROR((#REF!-#REF!)/#REF!),0,(#REF!-#REF!)/#REF!)","v":0},{"$f":"IF(ISERROR((#REF!-#REF!)/#REF!),0,(#REF!-#REF!)/#REF!)","v":0},{"$f":"IF(ISERROR((#REF!-#REF!)/#REF!),0,(#REF!-#REF!)/#REF!)","v":0},{"$f":"IF(ISERROR((#REF!-#REF!)/#REF!),0,(#REF!-#REF!)/#REF!)","v":0},{"$f":"IF(ISERROR((#REF!-#REF!)/#REF!),0,(#REF!-#REF!)/#REF!)","v":0},{"$f":"IF(ISERROR((#REF!-#REF!)/#REF!),0,(#REF!-#REF!)/#REF!)","v":0}]
[null,"PA69Z","Nephritic and Nephrotic Renal Diseases",0,662,0,0,5,1350,9,288,"No","-",0,"","",{"$f":"IF(ISERROR((#REF!-#REF!)/#REF!),0,(#REF!-#REF!)/#REF!)","v":0},{"$f":"IF(ISERROR((#REF!-#REF!)/#REF!),0,(#REF!-#REF!)/#REF!)","v":0},{"$f":"IF(ISERROR((#REF!-#REF!)/#REF!),0,(#REF!-#REF!)/#REF!)","v":0},{"$f":"IF(ISERROR((#REF!-#REF!)/#REF!),0,(#REF!-#REF!)/#REF!)","v":0},{"$f":"IF(ISERROR((#REF!-#REF!)/#REF!),0,(#REF!-#REF!)/#REF!)","v":0},{"$f":"IF(ISERROR((#REF!-#REF!)/#REF!),0,(#REF!-#REF!)/#REF!)","v":0},{"$f":"IF(ISERROR((#REF!-#REF!)/#REF!),0,(#REF!-#REF!)/#REF!)","v":0},{"$f":"IF(ISERROR((#REF!-#REF!)/#REF!),0,(#REF!-#REF!)/#REF!)","v":0},{"$f":"IF(ISERROR((#REF!-#REF!)/#REF!),0,(#REF!-#REF!)/#REF!)","v":0},{"$f":"IF(ISERROR((#REF!-#REF!)/#REF!),0,(#REF!-#REF!)/#REF!)","v":0},{"$f":"IF(ISERROR((#REF!-#REF!)/#REF!),0,(#REF!-#REF!)/#REF!)","v":0},{"$f":"IF(ISERROR((#REF!-#REF!)/#REF!),0,(#REF!-#REF!)/#REF!)","v":0},{"$f":"IF(ISERROR((#REF!-#REF!)/#REF!),0,(#REF!-#REF!)/#REF!)","v":0}]
[null,"PA70Z","Other Renal Diseases",0,687,0,0,5,577,5,288,"No","-",0,"","",{"$f":"IF(ISERROR((#REF!-#REF!)/#REF!),0,(#REF!-#REF!)/#REF!)","v":0},{"$f":"IF(ISERROR((#REF!-#REF!)/#REF!),0,(#REF!-#REF!)/#REF!)","v":0},{"$f":"IF(ISERROR((#REF!-#REF!)/#REF!),0,(#REF!-#REF!)/#REF!)","v":0},{"$f":"IF(ISERROR((#REF!-#REF!)/#REF!),0,(#REF!-#REF!)/#REF!)","v":0},{"$f":"IF(ISERROR((#REF!-#REF!)/#REF!),0,(#REF!-#REF!)/#REF!)","v":0},{"$f":"IF(ISERROR((#REF!-#REF!)/#REF!),0,(#REF!-#REF!)/#REF!)","v":0},{"$f":"IF(ISERROR((#REF!-#REF!)/#REF!),0,(#REF!-#REF!)/#REF!)","v":0},{"$f":"IF(ISERROR((#REF!-#REF!)/#REF!),0,(#REF!-#REF!)/#REF!)","v":0},{"$f":"IF(ISERROR((#REF!-#REF!)/#REF!),0,(#REF!-#REF!)/#REF!)","v":0},{"$f":"IF(ISERROR((#REF!-#REF!)/#REF!),0,(#REF!-#REF!)/#REF!)","v":0},{"$f":"IF(ISERROR((#REF!-#REF!)/#REF!),0,(#REF!-#REF!)/#REF!)","v":0},{"$f":"IF(ISERROR((#REF!-#REF!)/#REF!),0,(#REF!-#REF!)/#REF!)","v":0},{"$f":"IF(ISERROR((#REF!-#REF!)/#REF!),0,(#REF!-#REF!)/#REF!)","v":0}]
[null,"PA71Z","Paediatric Hepatobiliary or Pancreatic Disorders",0,2225,0,0,5,1760,9,288,"No","-",0,"","",{"$f":"IF(ISERROR((#REF!-#REF!)/#REF!),0,(#REF!-#REF!)/#REF!)","v":0},{"$f":"IF(ISERROR((#REF!-#REF!)/#REF!),0,(#REF!-#REF!)/#REF!)","v":0},{"$f":"IF(ISERROR((#REF!-#REF!)/#REF!),0,(#REF!-#REF!)/#REF!)","v":0},{"$f":"IF(ISERROR((#REF!-#REF!)/#REF!),0,(#REF!-#REF!)/#REF!)","v":0},{"$f":"IF(ISERROR((#REF!-#REF!)/#REF!),0,(#REF!-#REF!)/#REF!)","v":0},{"$f":"IF(ISERROR((#REF!-#REF!)/#REF!),0,(#REF!-#REF!)/#REF!)","v":0},{"$f":"IF(ISERROR((#REF!-#REF!)/#REF!),0,(#REF!-#REF!)/#REF!)","v":0},{"$f":"IF(ISERROR((#REF!-#REF!)/#REF!),0,(#REF!-#REF!)/#REF!)","v":0},{"$f":"IF(ISERROR((#REF!-#REF!)/#REF!),0,(#REF!-#REF!)/#REF!)","v":0},{"$f":"IF(ISERROR((#REF!-#REF!)/#REF!),0,(#REF!-#REF!)/#REF!)","v":0},{"$f":"IF(ISERROR((#REF!-#REF!)/#REF!),0,(#REF!-#REF!)/#REF!)","v":0},{"$f":"IF(ISERROR((#REF!-#REF!)/#REF!),0,(#REF!-#REF!)/#REF!)","v":0},{"$f":"IF(ISERROR((#REF!-#REF!)/#REF!),0,(#REF!-#REF!)/#REF!)","v":0}]
[null,"PA72Z","Metabolic Disorders",0,1922,0,0,5,2365,9,288,"No","-",0,"","",{"$f":"IF(ISERROR((#REF!-#REF!)/#REF!),0,(#REF!-#REF!)/#REF!)","v":0},{"$f":"IF(ISERROR((#REF!-#REF!)/#REF!),0,(#REF!-#REF!)/#REF!)","v":0},{"$f":"IF(ISERROR((#REF!-#REF!)/#REF!),0,(#REF!-#REF!)/#REF!)","v":0},{"$f":"IF(ISERROR((#REF!-#REF!)/#REF!),0,(#REF!-#REF!)/#REF!)","v":0},{"$f":"IF(ISERROR((#REF!-#REF!)/#REF!),0,(#REF!-#REF!)/#REF!)","v":0},{"$f":"IF(ISERROR((#REF!-#REF!)/#REF!),0,(#REF!-#REF!)/#REF!)","v":0},{"$f":"IF(ISERROR((#REF!-#REF!)/#REF!),0,(#REF!-#REF!)/#REF!)","v":0},{"$f":"IF(ISERROR((#REF!-#REF!)/#REF!),0,(#REF!-#REF!)/#REF!)","v":0},{"$f":"IF(ISERROR((#REF!-#REF!)/#REF!),0,(#REF!-#REF!)/#REF!)","v":0},{"$f":"IF(ISERROR((#REF!-#REF!)/#REF!),0,(#REF!-#REF!)/#REF!)","v":0},{"$f":"IF(ISERROR((#REF!-#REF!)/#REF!),0,(#REF!-#REF!)/#REF!)","v":0},{"$f":"IF(ISERROR((#REF!-#REF!)/#REF!),0,(#REF!-#REF!)/#REF!)","v":0},{"$f":"IF(ISERROR((#REF!-#REF!)/#REF!),0,(#REF!-#REF!)/#REF!)","v":0}]
[null,"PB01Z","Major Neonatal Diagnoses",0,1375,0,0,10,1148,14,288,"No","-",0,"","",{"$f":"IF(ISERROR((#REF!-#REF!)/#REF!),0,(#REF!-#REF!)/#REF!)","v":0},{"$f":"IF(ISERROR((#REF!-#REF!)/#REF!),0,(#REF!-#REF!)/#REF!)","v":0},{"$f":"IF(ISERROR((#REF!-#REF!)/#REF!),0,(#REF!-#REF!)/#REF!)","v":0},{"$f":"IF(ISERROR((#REF!-#REF!)/#REF!),0,(#REF!-#REF!)/#REF!)","v":0},{"$f":"IF(ISERROR((#REF!-#REF!)/#REF!),0,(#REF!-#REF!)/#REF!)","v":0},{"$f":"IF(ISERROR((#REF!-#REF!)/#REF!),0,(#REF!-#REF!)/#REF!)","v":0},{"$f":"IF(ISERROR((#REF!-#REF!)/#REF!),0,(#REF!-#REF!)/#REF!)","v":0},{"$f":"IF(ISERROR((#REF!-#REF!)/#REF!),0,(#REF!-#REF!)/#REF!)","v":0},{"$f":"IF(ISERROR((#REF!-#REF!)/#REF!),0,(#REF!-#REF!)/#REF!)","v":0},{"$f":"IF(ISERROR((#REF!-#REF!)/#REF!),0,(#REF!-#REF!)/#REF!)","v":0},{"$f":"IF(ISERROR((#REF!-#REF!)/#REF!),0,(#REF!-#REF!)/#REF!)","v":0},{"$f":"IF(ISERROR((#REF!-#REF!)/#REF!),0,(#REF!-#REF!)/#REF!)","v":0},{"$f":"IF(ISERROR((#REF!-#REF!)/#REF!),0,(#REF!-#REF!)/#REF!)","v":0}]
[null,"PB02Z","Minor Neonatal Diagnoses",0,404,0,0,5,770,14,288,"No","-",0,"","",{"$f":"IF(ISERROR((#REF!-#REF!)/#REF!),0,(#REF!-#REF!)/#REF!)","v":0},{"$f":"IF(ISERROR((#REF!-#REF!)/#REF!),0,(#REF!-#REF!)/#REF!)","v":0},{"$f":"IF(ISERROR((#REF!-#REF!)/#REF!),0,(#REF!-#REF!)/#REF!)","v":0},{"$f":"IF(ISERROR((#REF!-#REF!)/#REF!),0,(#REF!-#REF!)/#REF!)","v":0},{"$f":"IF(ISERROR((#REF!-#REF!)/#REF!),0,(#REF!-#REF!)/#REF!)","v":0},{"$f":"IF(ISERROR((#REF!-#REF!)/#REF!),0,(#REF!-#REF!)/#REF!)","v":0},{"$f":"IF(ISERROR((#REF!-#REF!)/#REF!),0,(#REF!-#REF!)/#REF!)","v":0},{"$f":"IF(ISERROR((#REF!-#REF!)/#REF!),0,(#REF!-#REF!)/#REF!)","v":0},{"$f":"IF(ISERROR((#REF!-#REF!)/#REF!),0,(#REF!-#REF!)/#REF!)","v":0},{"$f":"IF(ISERROR((#REF!-#REF!)/#REF!),0,(#REF!-#REF!)/#REF!)","v":0},{"$f":"IF(ISERROR((#REF!-#REF!)/#REF!),0,(#REF!-#REF!)/#REF!)","v":0},{"$f":"IF(ISERROR((#REF!-#REF!)/#REF!),0,(#REF!-#REF!)/#REF!)","v":0},{"$f":"IF(ISERROR((#REF!-#REF!)/#REF!),0,(#REF!-#REF!)/#REF!)","v":0}]
[null,"PB03Z","Healthy Baby",0,0,0,0,5,0,5,0,"No","-",0,"","",{"$f":"IF(ISERROR((#REF!-#REF!)/#REF!),0,(#REF!-#REF!)/#REF!)","v":0},{"$f":"IF(ISERROR((#REF!-#REF!)/#REF!),0,(#REF!-#REF!)/#REF!)","v":0},{"$f":"IF(ISERROR((#REF!-#REF!)/#REF!),0,(#REF!-#REF!)/#REF!)","v":0},{"$f":"IF(ISERROR((#REF!-#REF!)/#REF!),0,(#REF!-#REF!)/#REF!)","v":0},{"$f":"IF(ISERROR((#REF!-#REF!)/#REF!),0,(#REF!-#REF!)/#REF!)","v":0},{"$f":"IF(ISERROR((#REF!-#REF!)/#REF!),0,(#REF!-#REF!)/#REF!)","v":0},{"$f":"IF(ISERROR((#REF!-#REF!)/#REF!),0,(#REF!-#REF!)/#REF!)","v":0},{"$f":"IF(ISERROR((#REF!-#REF!)/#REF!),0,(#REF!-#REF!)/#REF!)","v":0},{"$f":"IF(ISERROR((#REF!-#REF!)/#REF!),0,(#REF!-#REF!)/#REF!)","v":0},{"$f":"IF(ISERROR((#REF!-#REF!)/#REF!),0,(#REF!-#REF!)/#REF!)","v":0},{"$f":"IF(ISERROR((#REF!-#REF!)/#REF!),0,(#REF!-#REF!)/#REF!)","v":0},{"$f":"IF(ISERROR((#REF!-#REF!)/#REF!),0,(#REF!-#REF!)/#REF!)","v":0},{"$f":"IF(ISERROR((#REF!-#REF!)/#REF!),0,(#REF!-#REF!)/#REF!)","v":0}]
[null,"QZ01A","Aortic or Abdominal Surgery, with CC",0,13983.509411739591,0,0,24,8719,50,218,"No","-",0,1,"sub-HRG",{"$f":"IF(ISERROR((#REF!-#REF!)/#REF!),0,(#REF!-#REF!)/#REF!)","v":0},{"$f":"IF(ISERROR((#REF!-#REF!)/#REF!),0,(#REF!-#REF!)/#REF!)","v":0},{"$f":"IF(ISERROR((#REF!-#REF!)/#REF!),0,(#REF!-#REF!)/#REF!)","v":0},{"$f":"IF(ISERROR((#REF!-#REF!)/#REF!),0,(#REF!-#REF!)/#REF!)","v":0},{"$f":"IF(ISERROR((#REF!-#REF!)/#REF!),0,(#REF!-#REF!)/#REF!)","v":0},{"$f":"IF(ISERROR((#REF!-#REF!)/#REF!),0,(#REF!-#REF!)/#REF!)","v":0},{"$f":"IF(ISERROR((#REF!-#REF!)/#REF!),0,(#REF!-#REF!)/#REF!)","v":0},{"$f":"IF(ISERROR((#REF!-#REF!)/#REF!),0,(#REF!-#REF!)/#REF!)","v":0},{"$f":"IF(ISERROR((#REF!-#REF!)/#REF!),0,(#REF!-#REF!)/#REF!)","v":0},{"$f":"IF(ISERROR((#REF!-#REF!)/#REF!),0,(#REF!-#REF!)/#REF!)","v":0},{"$f":"IF(ISERROR((#REF!-#REF!)/#REF!),0,(#REF!-#REF!)/#REF!)","v":0},{"$f":"IF(ISERROR((#REF!-#REF!)/#REF!),0,(#REF!-#REF!)/#REF!)","v":0},{"$f":"IF(ISERROR((#REF!-#REF!)/#REF!),0,(#REF!-#REF!)/#REF!)","v":0}]
[null,"QZ01B","Aortic or Abdominal Surgery, without CC",0,10116.215713466339,0,0,14,5633,25,218,"No","-",0,1,"sub-HRG",{"$f":"IF(ISERROR((#REF!-#REF!)/#REF!),0,(#REF!-#REF!)/#REF!)","v":0},{"$f":"IF(ISERROR((#REF!-#REF!)/#REF!),0,(#REF!-#REF!)/#REF!)","v":0},{"$f":"IF(ISERROR((#REF!-#REF!)/#REF!),0,(#REF!-#REF!)/#REF!)","v":0},{"$f":"IF(ISERROR((#REF!-#REF!)/#REF!),0,(#REF!-#REF!)/#REF!)","v":0},{"$f":"IF(ISERROR((#REF!-#REF!)/#REF!),0,(#REF!-#REF!)/#REF!)","v":0},{"$f":"IF(ISERROR((#REF!-#REF!)/#REF!),0,(#REF!-#REF!)/#REF!)","v":0},{"$f":"IF(ISERROR((#REF!-#REF!)/#REF!),0,(#REF!-#REF!)/#REF!)","v":0},{"$f":"IF(ISERROR((#REF!-#REF!)/#REF!),0,(#REF!-#REF!)/#REF!)","v":0},{"$f":"IF(ISERROR((#REF!-#REF!)/#REF!),0,(#REF!-#REF!)/#REF!)","v":0},{"$f":"IF(ISERROR((#REF!-#REF!)/#REF!),0,(#REF!-#REF!)/#REF!)","v":0},{"$f":"IF(ISERROR((#REF!-#REF!)/#REF!),0,(#REF!-#REF!)/#REF!)","v":0},{"$f":"IF(ISERROR((#REF!-#REF!)/#REF!),0,(#REF!-#REF!)/#REF!)","v":0},{"$f":"IF(ISERROR((#REF!-#REF!)/#REF!),0,(#REF!-#REF!)/#REF!)","v":0}]
[null,"QZ02A","Lower Limb Arterial Surgery with CC",0,12437.439730955633,0,0,19,9564.1798763607203,58,218,"No","-",0,"","",{"$f":"IF(ISERROR((#REF!-#REF!)/#REF!),0,(#REF!-#REF!)/#REF!)","v":0},{"$f":"IF(ISERROR((#REF!-#REF!)/#REF!),0,(#REF!-#REF!)/#REF!)","v":0},{"$f":"IF(ISERROR((#REF!-#REF!)/#REF!),0,(#REF!-#REF!)/#REF!)","v":0},{"$f":"IF(ISERROR((#REF!-#REF!)/#REF!),0,(#REF!-#REF!)/#REF!)","v":0},{"$f":"IF(ISERROR((#REF!-#REF!)/#REF!),0,(#REF!-#REF!)/#REF!)","v":0},{"$f":"IF(ISERROR((#REF!-#REF!)/#REF!),0,(#REF!-#REF!)/#REF!)","v":0},{"$f":"IF(ISERROR((#REF!-#REF!)/#REF!),0,(#REF!-#REF!)/#REF!)","v":0},{"$f":"IF(ISERROR((#REF!-#REF!)/#REF!),0,(#REF!-#REF!)/#REF!)","v":0},{"$f":"IF(ISERROR((#REF!-#REF!)/#REF!),0,(#REF!-#REF!)/#REF!)","v":0},{"$f":"IF(ISERROR((#REF!-#REF!)/#REF!),0,(#REF!-#REF!)/#REF!)","v":0},{"$f":"IF(ISERROR((#REF!-#REF!)/#REF!),0,(#REF!-#REF!)/#REF!)","v":0},{"$f":"IF(ISERROR((#REF!-#REF!)/#REF!),0,(#REF!-#REF!)/#REF!)","v":0},{"$f":"IF(ISERROR((#REF!-#REF!)/#REF!),0,(#REF!-#REF!)/#REF!)","v":0}]
[null,"QZ02B","Lower Limb Arterial Surgery without CC",0,7471.5187475420717,0,0,11,5871,25,218,"No","-",0,"","",{"$f":"IF(ISERROR((#REF!-#REF!)/#REF!),0,(#REF!-#REF!)/#REF!)","v":0},{"$f":"IF(ISERROR((#REF!-#REF!)/#REF!),0,(#REF!-#REF!)/#REF!)","v":0},{"$f":"IF(ISERROR((#REF!-#REF!)/#REF!),0,(#REF!-#REF!)/#REF!)","v":0},{"$f":"IF(ISERROR((#REF!-#REF!)/#REF!),0,(#REF!-#REF!)/#REF!)","v":0},{"$f":"IF(ISERROR((#REF!-#REF!)/#REF!),0,(#REF!-#REF!)/#REF!)","v":0},{"$f":"IF(ISERROR((#REF!-#REF!)/#REF!),0,(#REF!-#REF!)/#REF!)","v":0},{"$f":"IF(ISERROR((#REF!-#REF!)/#REF!),0,(#REF!-#REF!)/#REF!)","v":0},{"$f":"IF(ISERROR((#REF!-#REF!)/#REF!),0,(#REF!-#REF!)/#REF!)","v":0},{"$f":"IF(ISERROR((#REF!-#REF!)/#REF!),0,(#REF!-#REF!)/#REF!)","v":0},{"$f":"IF(ISERROR((#REF!-#REF!)/#REF!),0,(#REF!-#REF!)/#REF!)","v":0},{"$f":"IF(ISERROR((#REF!-#REF!)/#REF!),0,(#REF!-#REF!)/#REF!)","v":0},{"$f":"IF(ISERROR((#REF!-#REF!)/#REF!),0,(#REF!-#REF!)/#REF!)","v":0},{"$f":"IF(ISERROR((#REF!-#REF!)/#REF!),0,(#REF!-#REF!)/#REF!)","v":0}]
[null,"QZ03Z","Bypasses to Tibial Arteries",0,15227.081877563489,0,0,31,12510,69,218,"No","-",0,"","",{"$f":"IF(ISERROR((#REF!-#REF!)/#REF!),0,(#REF!-#REF!)/#REF!)","v":0},{"$f":"IF(ISERROR((#REF!-#REF!)/#REF!),0,(#REF!-#REF!)/#REF!)","v":0},{"$f":"IF(ISERROR((#REF!-#REF!)/#REF!),0,(#REF!-#REF!)/#REF!)","v":0},{"$f":"IF(ISERROR((#REF!-#REF!)/#REF!),0,(#REF!-#REF!)/#REF!)","v":0},{"$f":"IF(ISERROR((#REF!-#REF!)/#REF!),0,(#REF!-#REF!)/#REF!)","v":0},{"$f":"IF(ISERROR((#REF!-#REF!)/#REF!),0,(#REF!-#REF!)/#REF!)","v":0},{"$f":"IF(ISERROR((#REF!-#REF!)/#REF!),0,(#REF!-#REF!)/#REF!)","v":0},{"$f":"IF(ISERROR((#REF!-#REF!)/#REF!),0,(#REF!-#REF!)/#REF!)","v":0},{"$f":"IF(ISERROR((#REF!-#REF!)/#REF!),0,(#REF!-#REF!)/#REF!)","v":0},{"$f":"IF(ISERROR((#REF!-#REF!)/#REF!),0,(#REF!-#REF!)/#REF!)","v":0},{"$f":"IF(ISERROR((#REF!-#REF!)/#REF!),0,(#REF!-#REF!)/#REF!)","v":0},{"$f":"IF(ISERROR((#REF!-#REF!)/#REF!),0,(#REF!-#REF!)/#REF!)","v":0},{"$f":"IF(ISERROR((#REF!-#REF!)/#REF!),0,(#REF!-#REF!)/#REF!)","v":0}]
[null,"QZ04Z","Extracranial or Upper Limb Arterial Surgery",0,6680.5443938332401,0,0,5,5475,27,218,"No","-",0,"","",{"$f":"IF(ISERROR((#REF!-#REF!)/#REF!),0,(#REF!-#REF!)/#REF!)","v":0},{"$f":"IF(ISERROR((#REF!-#REF!)/#REF!),0,(#REF!-#REF!)/#REF!)","v":0},{"$f":"IF(ISERROR((#REF!-#REF!)/#REF!),0,(#REF!-#REF!)/#REF!)","v":0},{"$f":"IF(ISERROR((#REF!-#REF!)/#REF!),0,(#REF!-#REF!)/#REF!)","v":0},{"$f":"IF(ISERROR((#REF!-#REF!)/#REF!),0,(#REF!-#REF!)/#REF!)","v":0},{"$f":"IF(ISERROR((#REF!-#REF!)/#REF!),0,(#REF!-#REF!)/#REF!)","v":0},{"$f":"IF(ISERROR((#REF!-#REF!)/#REF!),0,(#REF!-#REF!)/#REF!)","v":0},{"$f":"IF(ISERROR((#REF!-#REF!)/#REF!),0,(#REF!-#REF!)/#REF!)","v":0},{"$f":"IF(ISERROR((#REF!-#REF!)/#REF!),0,(#REF!-#REF!)/#REF!)","v":0},{"$f":"IF(ISERROR((#REF!-#REF!)/#REF!),0,(#REF!-#REF!)/#REF!)","v":0},{"$f":"IF(ISERROR((#REF!-#REF!)/#REF!),0,(#REF!-#REF!)/#REF!)","v":0},{"$f":"IF(ISERROR((#REF!-#REF!)/#REF!),0,(#REF!-#REF!)/#REF!)","v":0},{"$f":"IF(ISERROR((#REF!-#REF!)/#REF!),0,(#REF!-#REF!)/#REF!)","v":0}]
[null,"QZ05A","Miscellaneous Vascular Procedures with CC",0,1533,0,0,5,4079,32,218,"No","-",0,"","",{"$f":"IF(ISERROR((#REF!-#REF!)/#REF!),0,(#REF!-#REF!)/#REF!)","v":0},{"$f":"IF(ISERROR((#REF!-#REF!)/#REF!),0,(#REF!-#REF!)/#REF!)","v":0},{"$f":"IF(ISERROR((#REF!-#REF!)/#REF!),0,(#REF!-#REF!)/#REF!)","v":0},{"$f":"IF(ISERROR((#REF!-#REF!)/#REF!),0,(#REF!-#REF!)/#REF!)","v":0},{"$f":"IF(ISERROR((#REF!-#REF!)/#REF!),0,(#REF!-#REF!)/#REF!)","v":0},{"$f":"IF(ISERROR((#REF!-#REF!)/#REF!),0,(#REF!-#REF!)/#REF!)","v":0},{"$f":"IF(ISERROR((#REF!-#REF!)/#REF!),0,(#REF!-#REF!)/#REF!)","v":0},{"$f":"IF(ISERROR((#REF!-#REF!)/#REF!),0,(#REF!-#REF!)/#REF!)","v":0},{"$f":"IF(ISERROR((#REF!-#REF!)/#REF!),0,(#REF!-#REF!)/#REF!)","v":0},{"$f":"IF(ISERROR((#REF!-#REF!)/#REF!),0,(#REF!-#REF!)/#REF!)","v":0},{"$f":"IF(ISERROR((#REF!-#REF!)/#REF!),0,(#REF!-#REF!)/#REF!)","v":0},{"$f":"IF(ISERROR((#REF!-#REF!)/#REF!),0,(#REF!-#REF!)/#REF!)","v":0},{"$f":"IF(ISERROR((#REF!-#REF!)/#REF!),0,(#REF!-#REF!)/#REF!)","v":0}]
[null,"QZ05B","Miscellaneous Vascular Procedures without CC",229,1084,0,0,5,2155,14,218,"No","-",0,"","",{"$f":"IF(ISERROR((#REF!-#REF!)/#REF!),0,(#REF!-#REF!)/#REF!)","v":0},{"$f":"IF(ISERROR((#REF!-#REF!)/#REF!),0,(#REF!-#REF!)/#REF!)","v":0},{"$f":"IF(ISERROR((#REF!-#REF!)/#REF!),0,(#REF!-#REF!)/#REF!)","v":0},{"$f":"IF(ISERROR((#REF!-#REF!)/#REF!),0,(#REF!-#REF!)/#REF!)","v":0},{"$f":"IF(ISERROR((#REF!-#REF!)/#REF!),0,(#REF!-#REF!)/#REF!)","v":0},{"$f":"IF(ISERROR((#REF!-#REF!)/#REF!),0,(#REF!-#REF!)/#REF!)","v":0},{"$f":"IF(ISERROR((#REF!-#REF!)/#REF!),0,(#REF!-#REF!)/#REF!)","v":0},{"$f":"IF(ISERROR((#REF!-#REF!)/#REF!),0,(#REF!-#REF!)/#REF!)","v":0},{"$f":"IF(ISERROR((#REF!-#REF!)/#REF!),0,(#REF!-#REF!)/#REF!)","v":0},{"$f":"IF(ISERROR((#REF!-#REF!)/#REF!),0,(#REF!-#REF!)/#REF!)","v":0},{"$f":"IF(ISERROR((#REF!-#REF!)/#REF!),0,(#REF!-#REF!)/#REF!)","v":0},{"$f":"IF(ISERROR((#REF!-#REF!)/#REF!),0,(#REF!-#REF!)/#REF!)","v":0},{"$f":"IF(ISERROR((#REF!-#REF!)/#REF!),0,(#REF!-#REF!)/#REF!)","v":0}]
[null,"QZ11A","Amputations with Major CC",0,13737,0,0,109,15871,126,218,"No","-",0,"","",{"$f":"IF(ISERROR((#REF!-#REF!)/#REF!),0,(#REF!-#REF!)/#REF!)","v":0},{"$f":"IF(ISERROR((#REF!-#REF!)/#REF!),0,(#REF!-#REF!)/#REF!)","v":0},{"$f":"IF(ISERROR((#REF!-#REF!)/#REF!),0,(#REF!-#REF!)/#REF!)","v":0},{"$f":"IF(ISERROR((#REF!-#REF!)/#REF!),0,(#REF!-#REF!)/#REF!)","v":0},{"$f":"IF(ISERROR((#REF!-#REF!)/#REF!),0,(#REF!-#REF!)/#REF!)","v":0},{"$f":"IF(ISERROR((#REF!-#REF!)/#REF!),0,(#REF!-#REF!)/#REF!)","v":0},{"$f":"IF(ISERROR((#REF!-#REF!)/#REF!),0,(#REF!-#REF!)/#REF!)","v":0},{"$f":"IF(ISERROR((#REF!-#REF!)/#REF!),0,(#REF!-#REF!)/#REF!)","v":0},{"$f":"IF(ISERROR((#REF!-#REF!)/#REF!),0,(#REF!-#REF!)/#REF!)","v":0},{"$f":"IF(ISERROR((#REF!-#REF!)/#REF!),0,(#REF!-#REF!)/#REF!)","v":0},{"$f":"IF(ISERROR((#REF!-#REF!)/#REF!),0,(#REF!-#REF!)/#REF!)","v":0},{"$f":"IF(ISERROR((#REF!-#REF!)/#REF!),0,(#REF!-#REF!)/#REF!)","v":0},{"$f":"IF(ISERROR((#REF!-#REF!)/#REF!),0,(#REF!-#REF!)/#REF!)","v":0}]
[null,"QZ11B","Amputations without Major CC",0,8599,0,0,50,12253.442409351323,86,218,"No","-",0,"","",{"$f":"IF(ISERROR((#REF!-#REF!)/#REF!),0,(#REF!-#REF!)/#REF!)","v":0},{"$f":"IF(ISERROR((#REF!-#REF!)/#REF!),0,(#REF!-#REF!)/#REF!)","v":0},{"$f":"IF(ISERROR((#REF!-#REF!)/#REF!),0,(#REF!-#REF!)/#REF!)","v":0},{"$f":"IF(ISERROR((#REF!-#REF!)/#REF!),0,(#REF!-#REF!)/#REF!)","v":0},{"$f":"IF(ISERROR((#REF!-#REF!)/#REF!),0,(#REF!-#REF!)/#REF!)","v":0},{"$f":"IF(ISERROR((#REF!-#REF!)/#REF!),0,(#REF!-#REF!)/#REF!)","v":0},{"$f":"IF(ISERROR((#REF!-#REF!)/#REF!),0,(#REF!-#REF!)/#REF!)","v":0},{"$f":"IF(ISERROR((#REF!-#REF!)/#REF!),0,(#REF!-#REF!)/#REF!)","v":0},{"$f":"IF(ISERROR((#REF!-#REF!)/#REF!),0,(#REF!-#REF!)/#REF!)","v":0},{"$f":"IF(ISERROR((#REF!-#REF!)/#REF!),0,(#REF!-#REF!)/#REF!)","v":0},{"$f":"IF(ISERROR((#REF!-#REF!)/#REF!),0,(#REF!-#REF!)/#REF!)","v":0},{"$f":"IF(ISERROR((#REF!-#REF!)/#REF!),0,(#REF!-#REF!)/#REF!)","v":0},{"$f":"IF(ISERROR((#REF!-#REF!)/#REF!),0,(#REF!-#REF!)/#REF!)","v":0}]
[null,"QZ12Z","Foot Procedures for Diabetes or Arterial Disease, or Procedures to Amputation Stumps",0,2534,0,0,13,6716,52,218,"No","-",0,"","",{"$f":"IF(ISERROR((#REF!-#REF!)/#REF!),0,(#REF!-#REF!)/#REF!)","v":0},{"$f":"IF(ISERROR((#REF!-#REF!)/#REF!),0,(#REF!-#REF!)/#REF!)","v":0},{"$f":"IF(ISERROR((#REF!-#REF!)/#REF!),0,(#REF!-#REF!)/#REF!)","v":0},{"$f":"IF(ISERROR((#REF!-#REF!)/#REF!),0,(#REF!-#REF!)/#REF!)","v":0},{"$f":"IF(ISERROR((#REF!-#REF!)/#REF!),0,(#REF!-#REF!)/#REF!)","v":0},{"$f":"IF(ISERROR((#REF!-#REF!)/#REF!),0,(#REF!-#REF!)/#REF!)","v":0},{"$f":"IF(ISERROR((#REF!-#REF!)/#REF!),0,(#REF!-#REF!)/#REF!)","v":0},{"$f":"IF(ISERROR((#REF!-#REF!)/#REF!),0,(#REF!-#REF!)/#REF!)","v":0},{"$f":"IF(ISERROR((#REF!-#REF!)/#REF!),0,(#REF!-#REF!)/#REF!)","v":0},{"$f":"IF(ISERROR((#REF!-#REF!)/#REF!),0,(#REF!-#REF!)/#REF!)","v":0},{"$f":"IF(ISERROR((#REF!-#REF!)/#REF!),0,(#REF!-#REF!)/#REF!)","v":0},{"$f":"IF(ISERROR((#REF!-#REF!)/#REF!),0,(#REF!-#REF!)/#REF!)","v":0},{"$f":"IF(ISERROR((#REF!-#REF!)/#REF!),0,(#REF!-#REF!)/#REF!)","v":0}]
[null,"QZ13A","Vascular Access for Renal Replacement Therapy, with CC",0,1218,0,0,5,1222,10,218,"No","-",0,"","",{"$f":"IF(ISERROR((#REF!-#REF!)/#REF!),0,(#REF!-#REF!)/#REF!)","v":0},{"$f":"IF(ISERROR((#REF!-#REF!)/#REF!),0,(#REF!-#REF!)/#REF!)","v":0},{"$f":"IF(ISERROR((#REF!-#REF!)/#REF!),0,(#REF!-#REF!)/#REF!)","v":0},{"$f":"IF(ISERROR((#REF!-#REF!)/#REF!),0,(#REF!-#REF!)/#REF!)","v":0},{"$f":"IF(ISERROR((#REF!-#REF!)/#REF!),0,(#REF!-#REF!)/#REF!)","v":0},{"$f":"IF(ISERROR((#REF!-#REF!)/#REF!),0,(#REF!-#REF!)/#REF!)","v":0},{"$f":"IF(ISERROR((#REF!-#REF!)/#REF!),0,(#REF!-#REF!)/#REF!)","v":0},{"$f":"IF(ISERROR((#REF!-#REF!)/#REF!),0,(#REF!-#REF!)/#REF!)","v":0},{"$f":"IF(ISERROR((#REF!-#REF!)/#REF!),0,(#REF!-#REF!)/#REF!)","v":0},{"$f":"IF(ISERROR((#REF!-#REF!)/#REF!),0,(#REF!-#REF!)/#REF!)","v":0},{"$f":"IF(ISERROR((#REF!-#REF!)/#REF!),0,(#REF!-#REF!)/#REF!)","v":0},{"$f":"IF(ISERROR((#REF!-#REF!)/#REF!),0,(#REF!-#REF!)/#REF!)","v":0},{"$f":"IF(ISERROR((#REF!-#REF!)/#REF!),0,(#REF!-#REF!)/#REF!)","v":0}]
[null,"QZ13B","Vascular Access for Renal Replacement Therapy, without CC",0,1218,0,0,5,1222,10,218,"No","-",0,"","",{"$f":"IF(ISERROR((#REF!-#REF!)/#REF!),0,(#REF!-#REF!)/#REF!)","v":0},{"$f":"IF(ISERROR((#REF!-#REF!)/#REF!),0,(#REF!-#REF!)/#REF!)","v":0},{"$f":"IF(ISERROR((#REF!-#REF!)/#REF!),0,(#REF!-#REF!)/#REF!)","v":0},{"$f":"IF(ISERROR((#REF!-#REF!)/#REF!),0,(#REF!-#REF!)/#REF!)","v":0},{"$f":"IF(ISERROR((#REF!-#REF!)/#REF!),0,(#REF!-#REF!)/#REF!)","v":0},{"$f":"IF(ISERROR((#REF!-#REF!)/#REF!),0,(#REF!-#REF!)/#REF!)","v":0},{"$f":"IF(ISERROR((#REF!-#REF!)/#REF!),0,(#REF!-#REF!)/#REF!)","v":0},{"$f":"IF(ISERROR((#REF!-#REF!)/#REF!),0,(#REF!-#REF!)/#REF!)","v":0},{"$f":"IF(ISERROR((#REF!-#REF!)/#REF!),0,(#REF!-#REF!)/#REF!)","v":0},{"$f":"IF(ISERROR((#REF!-#REF!)/#REF!),0,(#REF!-#REF!)/#REF!)","v":0},{"$f":"IF(ISERROR((#REF!-#REF!)/#REF!),0,(#REF!-#REF!)/#REF!)","v":0},{"$f":"IF(ISERROR((#REF!-#REF!)/#REF!),0,(#REF!-#REF!)/#REF!)","v":0},{"$f":"IF(ISERROR((#REF!-#REF!)/#REF!),0,(#REF!-#REF!)/#REF!)","v":0}]
[null,"QZ14A","Vascular Access except for Renal Replacement Therapy, with CC",0,1131.7140896145074,0,0,5,1127,8,218,"No","-",0,"","",{"$f":"IF(ISERROR((#REF!-#REF!)/#REF!),0,(#REF!-#REF!)/#REF!)","v":0},{"$f":"IF(ISERROR((#REF!-#REF!)/#REF!),0,(#REF!-#REF!)/#REF!)","v":0},{"$f":"IF(ISERROR((#REF!-#REF!)/#REF!),0,(#REF!-#REF!)/#REF!)","v":0},{"$f":"IF(ISERROR((#REF!-#REF!)/#REF!),0,(#REF!-#REF!)/#REF!)","v":0},{"$f":"IF(ISERROR((#REF!-#REF!)/#REF!),0,(#REF!-#REF!)/#REF!)","v":0},{"$f":"IF(ISERROR((#REF!-#REF!)/#REF!),0,(#REF!-#REF!)/#REF!)","v":0},{"$f":"IF(ISERROR((#REF!-#REF!)/#REF!),0,(#REF!-#REF!)/#REF!)","v":0},{"$f":"IF(ISERROR((#REF!-#REF!)/#REF!),0,(#REF!-#REF!)/#REF!)","v":0},{"$f":"IF(ISERROR((#REF!-#REF!)/#REF!),0,(#REF!-#REF!)/#REF!)","v":0},{"$f":"IF(ISERROR((#REF!-#REF!)/#REF!),0,(#REF!-#REF!)/#REF!)","v":0},{"$f":"IF(ISERROR((#REF!-#REF!)/#REF!),0,(#REF!-#REF!)/#REF!)","v":0},{"$f":"IF(ISERROR((#REF!-#REF!)/#REF!),0,(#REF!-#REF!)/#REF!)","v":0},{"$f":"IF(ISERROR((#REF!-#REF!)/#REF!),0,(#REF!-#REF!)/#REF!)","v":0}]
[null,"QZ14B","Vascular Access except for Renal Replacement Therapy, without CC",213,615.20058553463264,0,0,5,881,5,218,"No","-",0,"","",{"$f":"IF(ISERROR((#REF!-#REF!)/#REF!),0,(#REF!-#REF!)/#REF!)","v":0},{"$f":"IF(ISERROR((#REF!-#REF!)/#REF!),0,(#REF!-#REF!)/#REF!)","v":0},{"$f":"IF(ISERROR((#REF!-#REF!)/#REF!),0,(#REF!-#REF!)/#REF!)","v":0},{"$f":"IF(ISERROR((#REF!-#REF!)/#REF!),0,(#REF!-#REF!)/#REF!)","v":0},{"$f":"IF(ISERROR((#REF!-#REF!)/#REF!),0,(#REF!-#REF!)/#REF!)","v":0},{"$f":"IF(ISERROR((#REF!-#REF!)/#REF!),0,(#REF!-#REF!)/#REF!)","v":0},{"$f":"IF(ISERROR((#REF!-#REF!)/#REF!),0,(#REF!-#REF!)/#REF!)","v":0},{"$f":"IF(ISERROR((#REF!-#REF!)/#REF!),0,(#REF!-#REF!)/#REF!)","v":0},{"$f":"IF(ISERROR((#REF!-#REF!)/#REF!),0,(#REF!-#REF!)/#REF!)","v":0},{"$f":"IF(ISERROR((#REF!-#REF!)/#REF!),0,(#REF!-#REF!)/#REF!)","v":0},{"$f":"IF(ISERROR((#REF!-#REF!)/#REF!),0,(#REF!-#REF!)/#REF!)","v":0},{"$f":"IF(ISERROR((#REF!-#REF!)/#REF!),0,(#REF!-#REF!)/#REF!)","v":0},{"$f":"IF(ISERROR((#REF!-#REF!)/#REF!),0,(#REF!-#REF!)/#REF!)","v":0}]
[null,"QZ15A","Therapeutic Endovascular Procedures with Major CC",0,5243,0,0,62,8173,94,218,"No","-",0,"","",{"$f":"IF(ISERROR((#REF!-#REF!)/#REF!),0,(#REF!-#REF!)/#REF!)","v":0},{"$f":"IF(ISERROR((#REF!-#REF!)/#REF!),0,(#REF!-#REF!)/#REF!)","v":0},{"$f":"IF(ISERROR((#REF!-#REF!)/#REF!),0,(#REF!-#REF!)/#REF!)","v":0},{"$f":"IF(ISERROR((#REF!-#REF!)/#REF!),0,(#REF!-#REF!)/#REF!)","v":0},{"$f":"IF(ISERROR((#REF!-#REF!)/#REF!),0,(#REF!-#REF!)/#REF!)","v":0},{"$f":"IF(ISERROR((#REF!-#REF!)/#REF!),0,(#REF!-#REF!)/#REF!)","v":0},{"$f":"IF(ISERROR((#REF!-#REF!)/#REF!),0,(#REF!-#REF!)/#REF!)","v":0},{"$f":"IF(ISERROR((#REF!-#REF!)/#REF!),0,(#REF!-#REF!)/#REF!)","v":0},{"$f":"IF(ISERROR((#REF!-#REF!)/#REF!),0,(#REF!-#REF!)/#REF!)","v":0},{"$f":"IF(ISERROR((#REF!-#REF!)/#REF!),0,(#REF!-#REF!)/#REF!)","v":0},{"$f":"IF(ISERROR((#REF!-#REF!)/#REF!),0,(#REF!-#REF!)/#REF!)","v":0},{"$f":"IF(ISERROR((#REF!-#REF!)/#REF!),0,(#REF!-#REF!)/#REF!)","v":0},{"$f":"IF(ISERROR((#REF!-#REF!)/#REF!),0,(#REF!-#REF!)/#REF!)","v":0}]
[null,"QZ15B","Therapeutic Endovascular Procedures with Intermediate CC",0,1395,0,0,5,5247.2702221477639,42,218,"No","-",0,1,"sub-HRG",{"$f":"IF(ISERROR((#REF!-#REF!)/#REF!),0,(#REF!-#REF!)/#REF!)","v":0},{"$f":"IF(ISERROR((#REF!-#REF!)/#REF!),0,(#REF!-#REF!)/#REF!)","v":0},{"$f":"IF(ISERROR((#REF!-#REF!)/#REF!),0,(#REF!-#REF!)/#REF!)","v":0},{"$f":"IF(ISERROR((#REF!-#REF!)/#REF!),0,(#REF!-#REF!)/#REF!)","v":0},{"$f":"IF(ISERROR((#REF!-#REF!)/#REF!),0,(#REF!-#REF!)/#REF!)","v":0},{"$f":"IF(ISERROR((#REF!-#REF!)/#REF!),0,(#REF!-#REF!)/#REF!)","v":0},{"$f":"IF(ISERROR((#REF!-#REF!)/#REF!),0,(#REF!-#REF!)/#REF!)","v":0},{"$f":"IF(ISERROR((#REF!-#REF!)/#REF!),0,(#REF!-#REF!)/#REF!)","v":0},{"$f":"IF(ISERROR((#REF!-#REF!)/#REF!),0,(#REF!-#REF!)/#REF!)","v":0},{"$f":"IF(ISERROR((#REF!-#REF!)/#REF!),0,(#REF!-#REF!)/#REF!)","v":0},{"$f":"IF(ISERROR((#REF!-#REF!)/#REF!),0,(#REF!-#REF!)/#REF!)","v":0},{"$f":"IF(ISERROR((#REF!-#REF!)/#REF!),0,(#REF!-#REF!)/#REF!)","v":0},{"$f":"IF(ISERROR((#REF!-#REF!)/#REF!),0,(#REF!-#REF!)/#REF!)","v":0}]
[null,"QZ15C","Therapeutic Endovascular Procedures without CC",0,807,0,0,5,3126,21,218,"No","-",0,1,"sub-HRG",{"$f":"IF(ISERROR((#REF!-#REF!)/#REF!),0,(#REF!-#REF!)/#REF!)","v":0},{"$f":"IF(ISERROR((#REF!-#REF!)/#REF!),0,(#REF!-#REF!)/#REF!)","v":0},{"$f":"IF(ISERROR((#REF!-#REF!)/#REF!),0,(#REF!-#REF!)/#REF!)","v":0},{"$f":"IF(ISERROR((#REF!-#REF!)/#REF!),0,(#REF!-#REF!)/#REF!)","v":0},{"$f":"IF(ISERROR((#REF!-#REF!)/#REF!),0,(#REF!-#REF!)/#REF!)","v":0},{"$f":"IF(ISERROR((#REF!-#REF!)/#REF!),0,(#REF!-#REF!)/#REF!)","v":0},{"$f":"IF(ISERROR((#REF!-#REF!)/#REF!),0,(#REF!-#REF!)/#REF!)","v":0},{"$f":"IF(ISERROR((#REF!-#REF!)/#REF!),0,(#REF!-#REF!)/#REF!)","v":0},{"$f":"IF(ISERROR((#REF!-#REF!)/#REF!),0,(#REF!-#REF!)/#REF!)","v":0},{"$f":"IF(ISERROR((#REF!-#REF!)/#REF!),0,(#REF!-#REF!)/#REF!)","v":0},{"$f":"IF(ISERROR((#REF!-#REF!)/#REF!),0,(#REF!-#REF!)/#REF!)","v":0},{"$f":"IF(ISERROR((#REF!-#REF!)/#REF!),0,(#REF!-#REF!)/#REF!)","v":0},{"$f":"IF(ISERROR((#REF!-#REF!)/#REF!),0,(#REF!-#REF!)/#REF!)","v":0}]
[null,"QZ16A","Diagnostic Vascular Radiology or other Transluminal Diagnostic Procedures, with Major CC",0,5695,0,0,35,7121,77,218,"No","-",0,"","",{"$f":"IF(ISERROR((#REF!-#REF!)/#REF!),0,(#REF!-#REF!)/#REF!)","v":0},{"$f":"IF(ISERROR((#REF!-#REF!)/#REF!),0,(#REF!-#REF!)/#REF!)","v":0},{"$f":"IF(ISERROR((#REF!-#REF!)/#REF!),0,(#REF!-#REF!)/#REF!)","v":0},{"$f":"IF(ISERROR((#REF!-#REF!)/#REF!),0,(#REF!-#REF!)/#REF!)","v":0},{"$f":"IF(ISERROR((#REF!-#REF!)/#REF!),0,(#REF!-#REF!)/#REF!)","v":0},{"$f":"IF(ISERROR((#REF!-#REF!)/#REF!),0,(#REF!-#REF!)/#REF!)","v":0},{"$f":"IF(ISERROR((#REF!-#REF!)/#REF!),0,(#REF!-#REF!)/#REF!)","v":0},{"$f":"IF(ISERROR((#REF!-#REF!)/#REF!),0,(#REF!-#REF!)/#REF!)","v":0},{"$f":"IF(ISERROR((#REF!-#REF!)/#REF!),0,(#REF!-#REF!)/#REF!)","v":0},{"$f":"IF(ISERROR((#REF!-#REF!)/#REF!),0,(#REF!-#REF!)/#REF!)","v":0},{"$f":"IF(ISERROR((#REF!-#REF!)/#REF!),0,(#REF!-#REF!)/#REF!)","v":0},{"$f":"IF(ISERROR((#REF!-#REF!)/#REF!),0,(#REF!-#REF!)/#REF!)","v":0},{"$f":"IF(ISERROR((#REF!-#REF!)/#REF!),0,(#REF!-#REF!)/#REF!)","v":0}]
[null,"QZ16B","Diagnostic Vascular Radiology or other Transluminal Diagnostic Procedures, with Intermediate CC",0,1258,0,0,5,4090,36,218,"No","-",0,"","",{"$f":"IF(ISERROR((#REF!-#REF!)/#REF!),0,(#REF!-#REF!)/#REF!)","v":0},{"$f":"IF(ISERROR((#REF!-#REF!)/#REF!),0,(#REF!-#REF!)/#REF!)","v":0},{"$f":"IF(ISERROR((#REF!-#REF!)/#REF!),0,(#REF!-#REF!)/#REF!)","v":0},{"$f":"IF(ISERROR((#REF!-#REF!)/#REF!),0,(#REF!-#REF!)/#REF!)","v":0},{"$f":"IF(ISERROR((#REF!-#REF!)/#REF!),0,(#REF!-#REF!)/#REF!)","v":0},{"$f":"IF(ISERROR((#REF!-#REF!)/#REF!),0,(#REF!-#REF!)/#REF!)","v":0},{"$f":"IF(ISERROR((#REF!-#REF!)/#REF!),0,(#REF!-#REF!)/#REF!)","v":0},{"$f":"IF(ISERROR((#REF!-#REF!)/#REF!),0,(#REF!-#REF!)/#REF!)","v":0},{"$f":"IF(ISERROR((#REF!-#REF!)/#REF!),0,(#REF!-#REF!)/#REF!)","v":0},{"$f":"IF(ISERROR((#REF!-#REF!)/#REF!),0,(#REF!-#REF!)/#REF!)","v":0},{"$f":"IF(ISERROR((#REF!-#REF!)/#REF!),0,(#REF!-#REF!)/#REF!)","v":0},{"$f":"IF(ISERROR((#REF!-#REF!)/#REF!),0,(#REF!-#REF!)/#REF!)","v":0},{"$f":"IF(ISERROR((#REF!-#REF!)/#REF!),0,(#REF!-#REF!)/#REF!)","v":0}]
[null,"QZ16C","Diagnostic Vascular Radiology or other Transluminal Diagnostic Procedures, without CC",0,1059,0,0,5,2422,19,218,"No","-",0,"","",{"$f":"IF(ISERROR((#REF!-#REF!)/#REF!),0,(#REF!-#REF!)/#REF!)","v":0},{"$f":"IF(ISERROR((#REF!-#REF!)/#REF!),0,(#REF!-#REF!)/#REF!)","v":0},{"$f":"IF(ISERROR((#REF!-#REF!)/#REF!),0,(#REF!-#REF!)/#REF!)","v":0},{"$f":"IF(ISERROR((#REF!-#REF!)/#REF!),0,(#REF!-#REF!)/#REF!)","v":0},{"$f":"IF(ISERROR((#REF!-#REF!)/#REF!),0,(#REF!-#REF!)/#REF!)","v":0},{"$f":"IF(ISERROR((#REF!-#REF!)/#REF!),0,(#REF!-#REF!)/#REF!)","v":0},{"$f":"IF(ISERROR((#REF!-#REF!)/#REF!),0,(#REF!-#REF!)/#REF!)","v":0},{"$f":"IF(ISERROR((#REF!-#REF!)/#REF!),0,(#REF!-#REF!)/#REF!)","v":0},{"$f":"IF(ISERROR((#REF!-#REF!)/#REF!),0,(#REF!-#REF!)/#REF!)","v":0},{"$f":"IF(ISERROR((#REF!-#REF!)/#REF!),0,(#REF!-#REF!)/#REF!)","v":0},{"$f":"IF(ISERROR((#REF!-#REF!)/#REF!),0,(#REF!-#REF!)/#REF!)","v":0},{"$f":"IF(ISERROR((#REF!-#REF!)/#REF!),0,(#REF!-#REF!)/#REF!)","v":0},{"$f":"IF(ISERROR((#REF!-#REF!)/#REF!),0,(#REF!-#REF!)/#REF!)","v":0}]
[null,"QZ17A","Non-Surgical Peripheral Vascular Disease with Major CC",0,3189,0,0,52,4583,52,218,"Yes",0.30000000000000004,1374.9,"","",{"$f":"IF(ISERROR((#REF!-#REF!)/#REF!),0,(#REF!-#REF!)/#REF!)","v":0},{"$f":"IF(ISERROR((#REF!-#REF!)/#REF!),0,(#REF!-#REF!)/#REF!)","v":0},{"$f":"IF(ISERROR((#REF!-#REF!)/#REF!),0,(#REF!-#REF!)/#REF!)","v":0},{"$f":"IF(ISERROR((#REF!-#REF!)/#REF!),0,(#REF!-#REF!)/#REF!)","v":0},{"$f":"IF(ISERROR((#REF!-#REF!)/#REF!),0,(#REF!-#REF!)/#REF!)","v":0},{"$f":"IF(ISERROR((#REF!-#REF!)/#REF!),0,(#REF!-#REF!)/#REF!)","v":0},{"$f":"IF(ISERROR((#REF!-#REF!)/#REF!),0,(#REF!-#REF!)/#REF!)","v":0},{"$f":"IF(ISERROR((#REF!-#REF!)/#REF!),0,(#REF!-#REF!)/#REF!)","v":0},{"$f":"IF(ISERROR((#REF!-#REF!)/#REF!),0,(#REF!-#REF!)/#REF!)","v":0},{"$f":"IF(ISERROR((#REF!-#REF!)/#REF!),0,(#REF!-#REF!)/#REF!)","v":0},{"$f":"IF(ISERROR((#REF!-#REF!)/#REF!),0,(#REF!-#REF!)/#REF!)","v":0},{"$f":"IF(ISERROR((#REF!-#REF!)/#REF!),0,(#REF!-#REF!)/#REF!)","v":0},{"$f":"IF(ISERROR((#REF!-#REF!)/#REF!),0,(#REF!-#REF!)/#REF!)","v":0}]
[null,"QZ17B","Non-Surgical Peripheral Vascular Disease with Intermediate CC",0,976,0,0,5,2676,19,218,"Yes",0.30000000000000004,802.80000000000007,"","",{"$f":"IF(ISERROR((#REF!-#REF!)/#REF!),0,(#REF!-#REF!)/#REF!)","v":0},{"$f":"IF(ISERROR((#REF!-#REF!)/#REF!),0,(#REF!-#REF!)/#REF!)","v":0},{"$f":"IF(ISERROR((#REF!-#REF!)/#REF!),0,(#REF!-#REF!)/#REF!)","v":0},{"$f":"IF(ISERROR((#REF!-#REF!)/#REF!),0,(#REF!-#REF!)/#REF!)","v":0},{"$f":"IF(ISERROR((#REF!-#REF!)/#REF!),0,(#REF!-#REF!)/#REF!)","v":0},{"$f":"IF(ISERROR((#REF!-#REF!)/#REF!),0,(#REF!-#REF!)/#REF!)","v":0},{"$f":"IF(ISERROR((#REF!-#REF!)/#REF!),0,(#REF!-#REF!)/#REF!)","v":0},{"$f":"IF(ISERROR((#REF!-#REF!)/#REF!),0,(#REF!-#REF!)/#REF!)","v":0},{"$f":"IF(ISERROR((#REF!-#REF!)/#REF!),0,(#REF!-#REF!)/#REF!)","v":0},{"$f":"IF(ISERROR((#REF!-#REF!)/#REF!),0,(#REF!-#REF!)/#REF!)","v":0},{"$f":"IF(ISERROR((#REF!-#REF!)/#REF!),0,(#REF!-#REF!)/#REF!)","v":0},{"$f":"IF(ISERROR((#REF!-#REF!)/#REF!),0,(#REF!-#REF!)/#REF!)","v":0},{"$f":"IF(ISERROR((#REF!-#REF!)/#REF!),0,(#REF!-#REF!)/#REF!)","v":0}]
[null,"QZ17C","Non-Surgical Peripheral Vascular Disease without CC",0,473,0,0,5,1637.8390905685737,8,218,"Yes",0.4,655.13563622742959,"","",{"$f":"IF(ISERROR((#REF!-#REF!)/#REF!),0,(#REF!-#REF!)/#REF!)","v":0},{"$f":"IF(ISERROR((#REF!-#REF!)/#REF!),0,(#REF!-#REF!)/#REF!)","v":0},{"$f":"IF(ISERROR((#REF!-#REF!)/#REF!),0,(#REF!-#REF!)/#REF!)","v":0},{"$f":"IF(ISERROR((#REF!-#REF!)/#REF!),0,(#REF!-#REF!)/#REF!)","v":0},{"$f":"IF(ISERROR((#REF!-#REF!)/#REF!),0,(#REF!-#REF!)/#REF!)","v":0},{"$f":"IF(ISERROR((#REF!-#REF!)/#REF!),0,(#REF!-#REF!)/#REF!)","v":0},{"$f":"IF(ISERROR((#REF!-#REF!)/#REF!),0,(#REF!-#REF!)/#REF!)","v":0},{"$f":"IF(ISERROR((#REF!-#REF!)/#REF!),0,(#REF!-#REF!)/#REF!)","v":0},{"$f":"IF(ISERROR((#REF!-#REF!)/#REF!),0,(#REF!-#REF!)/#REF!)","v":0},{"$f":"IF(ISERROR((#REF!-#REF!)/#REF!),0,(#REF!-#REF!)/#REF!)","v":0},{"$f":"IF(ISERROR((#REF!-#REF!)/#REF!),0,(#REF!-#REF!)/#REF!)","v":0},{"$f":"IF(ISERROR((#REF!-#REF!)/#REF!),0,(#REF!-#REF!)/#REF!)","v":0},{"$f":"IF(ISERROR((#REF!-#REF!)/#REF!),0,(#REF!-#REF!)/#REF!)","v":0}]
[null,"QZ19Z","Blood Vessel Injury with No Significant Procedure",0,446,0,0,114,1684,8,218,"Yes",0.4,673.6,"","",{"$f":"IF(ISERROR((#REF!-#REF!)/#REF!),0,(#REF!-#REF!)/#REF!)","v":0},{"$f":"IF(ISERROR((#REF!-#REF!)/#REF!),0,(#REF!-#REF!)/#REF!)","v":0},{"$f":"IF(ISERROR((#REF!-#REF!)/#REF!),0,(#REF!-#REF!)/#REF!)","v":0},{"$f":"IF(ISERROR((#REF!-#REF!)/#REF!),0,(#REF!-#REF!)/#REF!)","v":0},{"$f":"IF(ISERROR((#REF!-#REF!)/#REF!),0,(#REF!-#REF!)/#REF!)","v":0},{"$f":"IF(ISERROR((#REF!-#REF!)/#REF!),0,(#REF!-#REF!)/#REF!)","v":0},{"$f":"IF(ISERROR((#REF!-#REF!)/#REF!),0,(#REF!-#REF!)/#REF!)","v":0},{"$f":"IF(ISERROR((#REF!-#REF!)/#REF!),0,(#REF!-#REF!)/#REF!)","v":0},{"$f":"IF(ISERROR((#REF!-#REF!)/#REF!),0,(#REF!-#REF!)/#REF!)","v":0},{"$f":"IF(ISERROR((#REF!-#REF!)/#REF!),0,(#REF!-#REF!)/#REF!)","v":0},{"$f":"IF(ISERROR((#REF!-#REF!)/#REF!),0,(#REF!-#REF!)/#REF!)","v":0},{"$f":"IF(ISERROR((#REF!-#REF!)/#REF!),0,(#REF!-#REF!)/#REF!)","v":0},{"$f":"IF(ISERROR((#REF!-#REF!)/#REF!),0,(#REF!-#REF!)/#REF!)","v":0}]
[null,"QZ20Z","Deep Vein Thrombosis",0,451,0,0,5,1411.6416038158932,10,218,"No","-",0,1,"HRG",{"$f":"IF(ISERROR((#REF!-#REF!)/#REF!),0,(#REF!-#REF!)/#REF!)","v":0},{"$f":"IF(ISERROR((#REF!-#REF!)/#REF!),0,(#REF!-#REF!)/#REF!)","v":0},{"$f":"IF(ISERROR((#REF!-#REF!)/#REF!),0,(#REF!-#REF!)/#REF!)","v":0},{"$f":"IF(ISERROR((#REF!-#REF!)/#REF!),0,(#REF!-#REF!)/#REF!)","v":0},{"$f":"IF(ISERROR((#REF!-#REF!)/#REF!),0,(#REF!-#REF!)/#REF!)","v":0},{"$f":"IF(ISERROR((#REF!-#REF!)/#REF!),0,(#REF!-#REF!)/#REF!)","v":0},{"$f":"IF(ISERROR((#REF!-#REF!)/#REF!),0,(#REF!-#REF!)/#REF!)","v":0},{"$f":"IF(ISERROR((#REF!-#REF!)/#REF!),0,(#REF!-#REF!)/#REF!)","v":0},{"$f":"IF(ISERROR((#REF!-#REF!)/#REF!),0,(#REF!-#REF!)/#REF!)","v":0},{"$f":"IF(ISERROR((#REF!-#REF!)/#REF!),0,(#REF!-#REF!)/#REF!)","v":0},{"$f":"IF(ISERROR((#REF!-#REF!)/#REF!),0,(#REF!-#REF!)/#REF!)","v":0},{"$f":"IF(ISERROR((#REF!-#REF!)/#REF!),0,(#REF!-#REF!)/#REF!)","v":0},{"$f":"IF(ISERROR((#REF!-#REF!)/#REF!),0,(#REF!-#REF!)/#REF!)","v":0}]
[null,"QZ21A","Re-do Varicose Vein Procedures with CC (includes Ulceration)",0,1395,0,0,5,1395,5,218,"No","-",0,"","",{"$f":"IF(ISERROR((#REF!-#REF!)/#REF!),0,(#REF!-#REF!)/#REF!)","v":0},{"$f":"IF(ISERROR((#REF!-#REF!)/#REF!),0,(#REF!-#REF!)/#REF!)","v":0},{"$f":"IF(ISERROR((#REF!-#REF!)/#REF!),0,(#REF!-#REF!)/#REF!)","v":0},{"$f":"IF(ISERROR((#REF!-#REF!)/#REF!),0,(#REF!-#REF!)/#REF!)","v":0},{"$f":"IF(ISERROR((#REF!-#REF!)/#REF!),0,(#REF!-#REF!)/#REF!)","v":0},{"$f":"IF(ISERROR((#REF!-#REF!)/#REF!),0,(#REF!-#REF!)/#REF!)","v":0},{"$f":"IF(ISERROR((#REF!-#REF!)/#REF!),0,(#REF!-#REF!)/#REF!)","v":0},{"$f":"IF(ISERROR((#REF!-#REF!)/#REF!),0,(#REF!-#REF!)/#REF!)","v":0},{"$f":"IF(ISERROR((#REF!-#REF!)/#REF!),0,(#REF!-#REF!)/#REF!)","v":0},{"$f":"IF(ISERROR((#REF!-#REF!)/#REF!),0,(#REF!-#REF!)/#REF!)","v":0},{"$f":"IF(ISERROR((#REF!-#REF!)/#REF!),0,(#REF!-#REF!)/#REF!)","v":0},{"$f":"IF(ISERROR((#REF!-#REF!)/#REF!),0,(#REF!-#REF!)/#REF!)","v":0},{"$f":"IF(ISERROR((#REF!-#REF!)/#REF!),0,(#REF!-#REF!)/#REF!)","v":0}]
[null,"QZ21B","Re-do Varicose Vein Procedures, without CC",0,1356,0,0,5,1356,5,218,"No","-",0,"","",{"$f":"IF(ISERROR((#REF!-#REF!)/#REF!),0,(#REF!-#REF!)/#REF!)","v":0},{"$f":"IF(ISERROR((#REF!-#REF!)/#REF!),0,(#REF!-#REF!)/#REF!)","v":0},{"$f":"IF(ISERROR((#REF!-#REF!)/#REF!),0,(#REF!-#REF!)/#REF!)","v":0},{"$f":"IF(ISERROR((#REF!-#REF!)/#REF!),0,(#REF!-#REF!)/#REF!)","v":0},{"$f":"IF(ISERROR((#REF!-#REF!)/#REF!),0,(#REF!-#REF!)/#REF!)","v":0},{"$f":"IF(ISERROR((#REF!-#REF!)/#REF!),0,(#REF!-#REF!)/#REF!)","v":0},{"$f":"IF(ISERROR((#REF!-#REF!)/#REF!),0,(#REF!-#REF!)/#REF!)","v":0},{"$f":"IF(ISERROR((#REF!-#REF!)/#REF!),0,(#REF!-#REF!)/#REF!)","v":0},{"$f":"IF(ISERROR((#REF!-#REF!)/#REF!),0,(#REF!-#REF!)/#REF!)","v":0},{"$f":"IF(ISERROR((#REF!-#REF!)/#REF!),0,(#REF!-#REF!)/#REF!)","v":0},{"$f":"IF(ISERROR((#REF!-#REF!)/#REF!),0,(#REF!-#REF!)/#REF!)","v":0},{"$f":"IF(ISERROR((#REF!-#REF!)/#REF!),0,(#REF!-#REF!)/#REF!)","v":0},{"$f":"IF(ISERROR((#REF!-#REF!)/#REF!),0,(#REF!-#REF!)/#REF!)","v":0}]
[null,"QZ22A","Primary Varicose Vein Procedures with CC (includes Ulceration)",0,1209,0,0,5,4214,41,218,"No","-",0,"","",{"$f":"IF(ISERROR((#REF!-#REF!)/#REF!),0,(#REF!-#REF!)/#REF!)","v":0},{"$f":"IF(ISERROR((#REF!-#REF!)/#REF!),0,(#REF!-#REF!)/#REF!)","v":0},{"$f":"IF(ISERROR((#REF!-#REF!)/#REF!),0,(#REF!-#REF!)/#REF!)","v":0},{"$f":"IF(ISERROR((#REF!-#REF!)/#REF!),0,(#REF!-#REF!)/#REF!)","v":0},{"$f":"IF(ISERROR((#REF!-#REF!)/#REF!),0,(#REF!-#REF!)/#REF!)","v":0},{"$f":"IF(ISERROR((#REF!-#REF!)/#REF!),0,(#REF!-#REF!)/#REF!)","v":0},{"$f":"IF(ISERROR((#REF!-#REF!)/#REF!),0,(#REF!-#REF!)/#REF!)","v":0},{"$f":"IF(ISERROR((#REF!-#REF!)/#REF!),0,(#REF!-#REF!)/#REF!)","v":0},{"$f":"IF(ISERROR((#REF!-#REF!)/#REF!),0,(#REF!-#REF!)/#REF!)","v":0},{"$f":"IF(ISERROR((#REF!-#REF!)/#REF!),0,(#REF!-#REF!)/#REF!)","v":0},{"$f":"IF(ISERROR((#REF!-#REF!)/#REF!),0,(#REF!-#REF!)/#REF!)","v":0},{"$f":"IF(ISERROR((#REF!-#REF!)/#REF!),0,(#REF!-#REF!)/#REF!)","v":0},{"$f":"IF(ISERROR((#REF!-#REF!)/#REF!),0,(#REF!-#REF!)/#REF!)","v":0}]
[null,"QZ22B","Primary Varicose Vein Procedures, without CC",0,1049,0,0,5,1516,10,218,"No","-",0,"","",{"$f":"IF(ISERROR((#REF!-#REF!)/#REF!),0,(#REF!-#REF!)/#REF!)","v":0},{"$f":"IF(ISERROR((#REF!-#REF!)/#REF!),0,(#REF!-#REF!)/#REF!)","v":0},{"$f":"IF(ISERROR((#REF!-#REF!)/#REF!),0,(#REF!-#REF!)/#REF!)","v":0},{"$f":"IF(ISERROR((#REF!-#REF!)/#REF!),0,(#REF!-#REF!)/#REF!)","v":0},{"$f":"IF(ISERROR((#REF!-#REF!)/#REF!),0,(#REF!-#REF!)/#REF!)","v":0},{"$f":"IF(ISERROR((#REF!-#REF!)/#REF!),0,(#REF!-#REF!)/#REF!)","v":0},{"$f":"IF(ISERROR((#REF!-#REF!)/#REF!),0,(#REF!-#REF!)/#REF!)","v":0},{"$f":"IF(ISERROR((#REF!-#REF!)/#REF!),0,(#REF!-#REF!)/#REF!)","v":0},{"$f":"IF(ISERROR((#REF!-#REF!)/#REF!),0,(#REF!-#REF!)/#REF!)","v":0},{"$f":"IF(ISERROR((#REF!-#REF!)/#REF!),0,(#REF!-#REF!)/#REF!)","v":0},{"$f":"IF(ISERROR((#REF!-#REF!)/#REF!),0,(#REF!-#REF!)/#REF!)","v":0},{"$f":"IF(ISERROR((#REF!-#REF!)/#REF!),0,(#REF!-#REF!)/#REF!)","v":0},{"$f":"IF(ISERROR((#REF!-#REF!)/#REF!),0,(#REF!-#REF!)/#REF!)","v":0}]
[null,"QZ23Z","Thoracoabdominal Aneurysm Repair",0,12724,0,0,36,12270,68,218,"No","-",0,"","",{"$f":"IF(ISERROR((#REF!-#REF!)/#REF!),0,(#REF!-#REF!)/#REF!)","v":0},{"$f":"IF(ISERROR((#REF!-#REF!)/#REF!),0,(#REF!-#REF!)/#REF!)","v":0},{"$f":"IF(ISERROR((#REF!-#REF!)/#REF!),0,(#REF!-#REF!)/#REF!)","v":0},{"$f":"IF(ISERROR((#REF!-#REF!)/#REF!),0,(#REF!-#REF!)/#REF!)","v":0},{"$f":"IF(ISERROR((#REF!-#REF!)/#REF!),0,(#REF!-#REF!)/#REF!)","v":0},{"$f":"IF(ISERROR((#REF!-#REF!)/#REF!),0,(#REF!-#REF!)/#REF!)","v":0},{"$f":"IF(ISERROR((#REF!-#REF!)/#REF!),0,(#REF!-#REF!)/#REF!)","v":0},{"$f":"IF(ISERROR((#REF!-#REF!)/#REF!),0,(#REF!-#REF!)/#REF!)","v":0},{"$f":"IF(ISERROR((#REF!-#REF!)/#REF!),0,(#REF!-#REF!)/#REF!)","v":0},{"$f":"IF(ISERROR((#REF!-#REF!)/#REF!),0,(#REF!-#REF!)/#REF!)","v":0},{"$f":"IF(ISERROR((#REF!-#REF!)/#REF!),0,(#REF!-#REF!)/#REF!)","v":0},{"$f":"IF(ISERROR((#REF!-#REF!)/#REF!),0,(#REF!-#REF!)/#REF!)","v":0},{"$f":"IF(ISERROR((#REF!-#REF!)/#REF!),0,(#REF!-#REF!)/#REF!)","v":0}]
[null,"RC01Z","Major Uroradiology Interventional Radiology Procedures",0,2943,0,0,23,{"$error":"#N/A"},33,227,"No","-",0,"","",{"$f":"IF(ISERROR((#REF!-#REF!)/#REF!),0,(#REF!-#REF!)/#REF!)","v":0},{"$f":"IF(ISERROR((#REF!-#REF!)/#REF!),0,(#REF!-#REF!)/#REF!)","v":0},{"$f":"IF(ISERROR((#REF!-#REF!)/#REF!),0,(#REF!-#REF!)/#REF!)","v":0},{"$f":"IF(ISERROR((#REF!-#REF!)/#REF!),0,(#REF!-#REF!)/#REF!)","v":0},{"$f":"IF(ISERROR((#REF!-#REF!)/#REF!),0,(#REF!-#REF!)/#REF!)","v":0},{"$f":"IF(ISERROR((#REF!-#REF!)/#REF!),0,(#REF!-#REF!)/#REF!)","v":0},{"$f":"IF(ISERROR((#REF!-#REF!)/#REF!),0,(#REF!-#REF!)/#REF!)","v":0},{"$f":"IF(ISERROR((#REF!-#REF!)/#REF!),0,(#REF!-#REF!)/#REF!)","v":0},{"$f":"IF(ISERROR((#REF!-#REF!)/#REF!),0,(#REF!-#REF!)/#REF!)","v":0},{"$f":"IF(ISERROR((#REF!-#REF!)/#REF!),0,(#REF!-#REF!)/#REF!)","v":0},{"$f":"IF(ISERROR((#REF!-#REF!)/#REF!),0,(#REF!-#REF!)/#REF!)","v":0},{"$f":"IF(ISERROR((#REF!-#REF!)/#REF!),0,(#REF!-#REF!)/#REF!)","v":0},{"$f":"IF(ISERROR((#REF!-#REF!)/#REF!),0,(#REF!-#REF!)/#REF!)","v":0}]
[null,"RC02Z","Intermediate Uroradiology Interventional Radiology Procedures",0,1169,0,0,5,{"$error":"#N/A"},33,227,"No","-",0,"","",{"$f":"IF(ISERROR((#REF!-#REF!)/#REF!),0,(#REF!-#REF!)/#REF!)","v":0},{"$f":"IF(ISERROR((#REF!-#REF!)/#REF!),0,(#REF!-#REF!)/#REF!)","v":0},{"$f":"IF(ISERROR((#REF!-#REF!)/#REF!),0,(#REF!-#REF!)/#REF!)","v":0},{"$f":"IF(ISERROR((#REF!-#REF!)/#REF!),0,(#REF!-#REF!)/#REF!)","v":0},{"$f":"IF(ISERROR((#REF!-#REF!)/#REF!),0,(#REF!-#REF!)/#REF!)","v":0},{"$f":"IF(ISERROR((#REF!-#REF!)/#REF!),0,(#REF!-#REF!)/#REF!)","v":0},{"$f":"IF(ISERROR((#REF!-#REF!)/#REF!),0,(#REF!-#REF!)/#REF!)","v":0},{"$f":"IF(ISERROR((#REF!-#REF!)/#REF!),0,(#REF!-#REF!)/#REF!)","v":0},{"$f":"IF(ISERROR((#REF!-#REF!)/#REF!),0,(#REF!-#REF!)/#REF!)","v":0},{"$f":"IF(ISERROR((#REF!-#REF!)/#REF!),0,(#REF!-#REF!)/#REF!)","v":0},{"$f":"IF(ISERROR((#REF!-#REF!)/#REF!),0,(#REF!-#REF!)/#REF!)","v":0},{"$f":"IF(ISERROR((#REF!-#REF!)/#REF!),0,(#REF!-#REF!)/#REF!)","v":0},{"$f":"IF(ISERROR((#REF!-#REF!)/#REF!),0,(#REF!-#REF!)/#REF!)","v":0}]
[null,"RC11A","Endovascular Stent Graft for Ruptured Abdominal Aortic Aneurysm, One Branched Stent Graft",0,4232,0,0,12,{"$error":"#N/A"},30,227,"No","-",0,"","",{"$f":"IF(ISERROR((#REF!-#REF!)/#REF!),0,(#REF!-#REF!)/#REF!)","v":0},{"$f":"IF(ISERROR((#REF!-#REF!)/#REF!),0,(#REF!-#REF!)/#REF!)","v":0},{"$f":"IF(ISERROR((#REF!-#REF!)/#REF!),0,(#REF!-#REF!)/#REF!)","v":0},{"$f":"IF(ISERROR((#REF!-#REF!)/#REF!),0,(#REF!-#REF!)/#REF!)","v":0},{"$f":"IF(ISERROR((#REF!-#REF!)/#REF!),0,(#REF!-#REF!)/#REF!)","v":0},{"$f":"IF(ISERROR((#REF!-#REF!)/#REF!),0,(#REF!-#REF!)/#REF!)","v":0},{"$f":"IF(ISERROR((#REF!-#REF!)/#REF!),0,(#REF!-#REF!)/#REF!)","v":0},{"$f":"IF(ISERROR((#REF!-#REF!)/#REF!),0,(#REF!-#REF!)/#REF!)","v":0},{"$f":"IF(ISERROR((#REF!-#REF!)/#REF!),0,(#REF!-#REF!)/#REF!)","v":0},{"$f":"IF(ISERROR((#REF!-#REF!)/#REF!),0,(#REF!-#REF!)/#REF!)","v":0},{"$f":"IF(ISERROR((#REF!-#REF!)/#REF!),0,(#REF!-#REF!)/#REF!)","v":0},{"$f":"IF(ISERROR((#REF!-#REF!)/#REF!),0,(#REF!-#REF!)/#REF!)","v":0},{"$f":"IF(ISERROR((#REF!-#REF!)/#REF!),0,(#REF!-#REF!)/#REF!)","v":0}]
[null,"RC11B","Endovascular Stent Graft for Ruptured Abdominal Aortic Aneurysm, One Fenestrated Stent Graft",0,4232,0,0,12,{"$error":"#N/A"},30,227,"No","-",0,"","",{"$f":"IF(ISERROR((#REF!-#REF!)/#REF!),0,(#REF!-#REF!)/#REF!)","v":0},{"$f":"IF(ISERROR((#REF!-#REF!)/#REF!),0,(#REF!-#REF!)/#REF!)","v":0},{"$f":"IF(ISERROR((#REF!-#REF!)/#REF!),0,(#REF!-#REF!)/#REF!)","v":0},{"$f":"IF(ISERROR((#REF!-#REF!)/#REF!),0,(#REF!-#REF!)/#REF!)","v":0},{"$f":"IF(ISERROR((#REF!-#REF!)/#REF!),0,(#REF!-#REF!)/#REF!)","v":0},{"$f":"IF(ISERROR((#REF!-#REF!)/#REF!),0,(#REF!-#REF!)/#REF!)","v":0},{"$f":"IF(ISERROR((#REF!-#REF!)/#REF!),0,(#REF!-#REF!)/#REF!)","v":0},{"$f":"IF(ISERROR((#REF!-#REF!)/#REF!),0,(#REF!-#REF!)/#REF!)","v":0},{"$f":"IF(ISERROR((#REF!-#REF!)/#REF!),0,(#REF!-#REF!)/#REF!)","v":0},{"$f":"IF(ISERROR((#REF!-#REF!)/#REF!),0,(#REF!-#REF!)/#REF!)","v":0},{"$f":"IF(ISERROR((#REF!-#REF!)/#REF!),0,(#REF!-#REF!)/#REF!)","v":0},{"$f":"IF(ISERROR((#REF!-#REF!)/#REF!),0,(#REF!-#REF!)/#REF!)","v":0},{"$f":"IF(ISERROR((#REF!-#REF!)/#REF!),0,(#REF!-#REF!)/#REF!)","v":0}]
[null,"RC11C","Endovascular Stent Graft for Ruptured Abdominal Aortic Aneurysm, One Stent Graft",0,4232,0,0,12,{"$error":"#N/A"},30,227,"No","-",0,"","",{"$f":"IF(ISERROR((#REF!-#REF!)/#REF!),0,(#REF!-#REF!)/#REF!)","v":0},{"$f":"IF(ISERROR((#REF!-#REF!)/#REF!),0,(#REF!-#REF!)/#REF!)","v":0},{"$f":"IF(ISERROR((#REF!-#REF!)/#REF!),0,(#REF!-#REF!)/#REF!)","v":0},{"$f":"IF(ISERROR((#REF!-#REF!)/#REF!),0,(#REF!-#REF!)/#REF!)","v":0},{"$f":"IF(ISERROR((#REF!-#REF!)/#REF!),0,(#REF!-#REF!)/#REF!)","v":0},{"$f":"IF(ISERROR((#REF!-#REF!)/#REF!),0,(#REF!-#REF!)/#REF!)","v":0},{"$f":"IF(ISERROR((#REF!-#REF!)/#REF!),0,(#REF!-#REF!)/#REF!)","v":0},{"$f":"IF(ISERROR((#REF!-#REF!)/#REF!),0,(#REF!-#REF!)/#REF!)","v":0},{"$f":"IF(ISERROR((#REF!-#REF!)/#REF!),0,(#REF!-#REF!)/#REF!)","v":0},{"$f":"IF(ISERROR((#REF!-#REF!)/#REF!),0,(#REF!-#REF!)/#REF!)","v":0},{"$f":"IF(ISERROR((#REF!-#REF!)/#REF!),0,(#REF!-#REF!)/#REF!)","v":0},{"$f":"IF(ISERROR((#REF!-#REF!)/#REF!),0,(#REF!-#REF!)/#REF!)","v":0},{"$f":"IF(ISERROR((#REF!-#REF!)/#REF!),0,(#REF!-#REF!)/#REF!)","v":0}]
[null,"RC11D","Endovascular Stent Graft for Ruptured Abdominal Aortic Aneurysm, Two Stent Grafts",0,4232,0,0,12,{"$error":"#N/A"},22,227,"No","-",0,"","",{"$f":"IF(ISERROR((#REF!-#REF!)/#REF!),0,(#REF!-#REF!)/#REF!)","v":0},{"$f":"IF(ISERROR((#REF!-#REF!)/#REF!),0,(#REF!-#REF!)/#REF!)","v":0},{"$f":"IF(ISERROR((#REF!-#REF!)/#REF!),0,(#REF!-#REF!)/#REF!)","v":0},{"$f":"IF(ISERROR((#REF!-#REF!)/#REF!),0,(#REF!-#REF!)/#REF!)","v":0},{"$f":"IF(ISERROR((#REF!-#REF!)/#REF!),0,(#REF!-#REF!)/#REF!)","v":0},{"$f":"IF(ISERROR((#REF!-#REF!)/#REF!),0,(#REF!-#REF!)/#REF!)","v":0},{"$f":"IF(ISERROR((#REF!-#REF!)/#REF!),0,(#REF!-#REF!)/#REF!)","v":0},{"$f":"IF(ISERROR((#REF!-#REF!)/#REF!),0,(#REF!-#REF!)/#REF!)","v":0},{"$f":"IF(ISERROR((#REF!-#REF!)/#REF!),0,(#REF!-#REF!)/#REF!)","v":0},{"$f":"IF(ISERROR((#REF!-#REF!)/#REF!),0,(#REF!-#REF!)/#REF!)","v":0},{"$f":"IF(ISERROR((#REF!-#REF!)/#REF!),0,(#REF!-#REF!)/#REF!)","v":0},{"$f":"IF(ISERROR((#REF!-#REF!)/#REF!),0,(#REF!-#REF!)/#REF!)","v":0},{"$f":"IF(ISERROR((#REF!-#REF!)/#REF!),0,(#REF!-#REF!)/#REF!)","v":0}]
[null,"RC11E","Endovascular Stent Graft for Ruptured Abdominal Aortic Aneurysm, Three or more Stent Grafts",0,4232,0,0,12,{"$error":"#N/A"},27,227,"No","-",0,"","",{"$f":"IF(ISERROR((#REF!-#REF!)/#REF!),0,(#REF!-#REF!)/#REF!)","v":0},{"$f":"IF(ISERROR((#REF!-#REF!)/#REF!),0,(#REF!-#REF!)/#REF!)","v":0},{"$f":"IF(ISERROR((#REF!-#REF!)/#REF!),0,(#REF!-#REF!)/#REF!)","v":0},{"$f":"IF(ISERROR((#REF!-#REF!)/#REF!),0,(#REF!-#REF!)/#REF!)","v":0},{"$f":"IF(ISERROR((#REF!-#REF!)/#REF!),0,(#REF!-#REF!)/#REF!)","v":0},{"$f":"IF(ISERROR((#REF!-#REF!)/#REF!),0,(#REF!-#REF!)/#REF!)","v":0},{"$f":"IF(ISERROR((#REF!-#REF!)/#REF!),0,(#REF!-#REF!)/#REF!)","v":0},{"$f":"IF(ISERROR((#REF!-#REF!)/#REF!),0,(#REF!-#REF!)/#REF!)","v":0},{"$f":"IF(ISERROR((#REF!-#REF!)/#REF!),0,(#REF!-#REF!)/#REF!)","v":0},{"$f":"IF(ISERROR((#REF!-#REF!)/#REF!),0,(#REF!-#REF!)/#REF!)","v":0},{"$f":"IF(ISERROR((#REF!-#REF!)/#REF!),0,(#REF!-#REF!)/#REF!)","v":0},{"$f":"IF(ISERROR((#REF!-#REF!)/#REF!),0,(#REF!-#REF!)/#REF!)","v":0},{"$f":"IF(ISERROR((#REF!-#REF!)/#REF!),0,(#REF!-#REF!)/#REF!)","v":0}]
[null,"RC12A","Infrarenal or Aorto-Uni-Iliac Endovascular Stent Graft for Non-Ruptured Abdominal Aortic Aneurysm, One Branched Stent Graft",0,15555.942563666735,0,0,11,{"$error":"#N/A"},35,227,"No","-",0,1,"HRG",{"$f":"IF(ISERROR((#REF!-#REF!)/#REF!),0,(#REF!-#REF!)/#REF!)","v":0},{"$f":"IF(ISERROR((#REF!-#REF!)/#REF!),0,(#REF!-#REF!)/#REF!)","v":0},{"$f":"IF(ISERROR((#REF!-#REF!)/#REF!),0,(#REF!-#REF!)/#REF!)","v":0},{"$f":"IF(ISERROR((#REF!-#REF!)/#REF!),0,(#REF!-#REF!)/#REF!)","v":0},{"$f":"IF(ISERROR((#REF!-#REF!)/#REF!),0,(#REF!-#REF!)/#REF!)","v":0},{"$f":"IF(ISERROR((#REF!-#REF!)/#REF!),0,(#REF!-#REF!)/#REF!)","v":0},{"$f":"IF(ISERROR((#REF!-#REF!)/#REF!),0,(#REF!-#REF!)/#REF!)","v":0},{"$f":"IF(ISERROR((#REF!-#REF!)/#REF!),0,(#REF!-#REF!)/#REF!)","v":0},{"$f":"IF(ISERROR((#REF!-#REF!)/#REF!),0,(#REF!-#REF!)/#REF!)","v":0},{"$f":"IF(ISERROR((#REF!-#REF!)/#REF!),0,(#REF!-#REF!)/#REF!)","v":0},{"$f":"IF(ISERROR((#REF!-#REF!)/#REF!),0,(#REF!-#REF!)/#REF!)","v":0},{"$f":"IF(ISERROR((#REF!-#REF!)/#REF!),0,(#REF!-#REF!)/#REF!)","v":0},{"$f":"IF(ISERROR((#REF!-#REF!)/#REF!),0,(#REF!-#REF!)/#REF!)","v":0}]
[null,"RC12B","Infrarenal or Aorto-Uni-Iliac Endovascular Stent Graft for Non-Ruptured Abdominal Aortic Aneurysm, One Fenestrated Stent Graft",0,6137,0,0,11,{"$error":"#N/A"},35,227,"No","-",0,1,"HRG",{"$f":"IF(ISERROR((#REF!-#REF!)/#REF!),0,(#REF!-#REF!)/#REF!)","v":0},{"$f":"IF(ISERROR((#REF!-#REF!)/#REF!),0,(#REF!-#REF!)/#REF!)","v":0},{"$f":"IF(ISERROR((#REF!-#REF!)/#REF!),0,(#REF!-#REF!)/#REF!)","v":0},{"$f":"IF(ISERROR((#REF!-#REF!)/#REF!),0,(#REF!-#REF!)/#REF!)","v":0},{"$f":"IF(ISERROR((#REF!-#REF!)/#REF!),0,(#REF!-#REF!)/#REF!)","v":0},{"$f":"IF(ISERROR((#REF!-#REF!)/#REF!),0,(#REF!-#REF!)/#REF!)","v":0},{"$f":"IF(ISERROR((#REF!-#REF!)/#REF!),0,(#REF!-#REF!)/#REF!)","v":0},{"$f":"IF(ISERROR((#REF!-#REF!)/#REF!),0,(#REF!-#REF!)/#REF!)","v":0},{"$f":"IF(ISERROR((#REF!-#REF!)/#REF!),0,(#REF!-#REF!)/#REF!)","v":0},{"$f":"IF(ISERROR((#REF!-#REF!)/#REF!),0,(#REF!-#REF!)/#REF!)","v":0},{"$f":"IF(ISERROR((#REF!-#REF!)/#REF!),0,(#REF!-#REF!)/#REF!)","v":0},{"$f":"IF(ISERROR((#REF!-#REF!)/#REF!),0,(#REF!-#REF!)/#REF!)","v":0},{"$f":"IF(ISERROR((#REF!-#REF!)/#REF!),0,(#REF!-#REF!)/#REF!)","v":0}]
[null,"RC12C","Infrarenal or Aorto-Uni-Iliac Endovascular Stent Graft for Non-Ruptured Abdominal Aortic Aneurysm, One Stent Graft",0,6137,0,0,11,{"$error":"#N/A"},35,227,"No","-",0,1,"HRG",{"$f":"IF(ISERROR((#REF!-#REF!)/#REF!),0,(#REF!-#REF!)/#REF!)","v":0},{"$f":"IF(ISERROR((#REF!-#REF!)/#REF!),0,(#REF!-#REF!)/#REF!)","v":0},{"$f":"IF(ISERROR((#REF!-#REF!)/#REF!),0,(#REF!-#REF!)/#REF!)","v":0},{"$f":"IF(ISERROR((#REF!-#REF!)/#REF!),0,(#REF!-#REF!)/#REF!)","v":0},{"$f":"IF(ISERROR((#REF!-#REF!)/#REF!),0,(#REF!-#REF!)/#REF!)","v":0},{"$f":"IF(ISERROR((#REF!-#REF!)/#REF!),0,(#REF!-#REF!)/#REF!)","v":0},{"$f":"IF(ISERROR((#REF!-#REF!)/#REF!),0,(#REF!-#REF!)/#REF!)","v":0},{"$f":"IF(ISERROR((#REF!-#REF!)/#REF!),0,(#REF!-#REF!)/#REF!)","v":0},{"$f":"IF(ISERROR((#REF!-#REF!)/#REF!),0,(#REF!-#REF!)/#REF!)","v":0},{"$f":"IF(ISERROR((#REF!-#REF!)/#REF!),0,(#REF!-#REF!)/#REF!)","v":0},{"$f":"IF(ISERROR((#REF!-#REF!)/#REF!),0,(#REF!-#REF!)/#REF!)","v":0},{"$f":"IF(ISERROR((#REF!-#REF!)/#REF!),0,(#REF!-#REF!)/#REF!)","v":0},{"$f":"IF(ISERROR((#REF!-#REF!)/#REF!),0,(#REF!-#REF!)/#REF!)","v":0}]
[null,"RC12D","Infrarenal or Aorto-Uni-Iliac Endovascular Stent Graft for Non-Ruptured Abdominal Aortic Aneurysm, Two Stent Grafts",0,22241.138365157203,0,0,11,{"$error":"#N/A"},35,227,"No","-",0,1,"HRG",{"$f":"IF(ISERROR((#REF!-#REF!)/#REF!),0,(#REF!-#REF!)/#REF!)","v":0},{"$f":"IF(ISERROR((#REF!-#REF!)/#REF!),0,(#REF!-#REF!)/#REF!)","v":0},{"$f":"IF(ISERROR((#REF!-#REF!)/#REF!),0,(#REF!-#REF!)/#REF!)","v":0},{"$f":"IF(ISERROR((#REF!-#REF!)/#REF!),0,(#REF!-#REF!)/#REF!)","v":0},{"$f":"IF(ISERROR((#REF!-#REF!)/#REF!),0,(#REF!-#REF!)/#REF!)","v":0},{"$f":"IF(ISERROR((#REF!-#REF!)/#REF!),0,(#REF!-#REF!)/#REF!)","v":0},{"$f":"IF(ISERROR((#REF!-#REF!)/#REF!),0,(#REF!-#REF!)/#REF!)","v":0},{"$f":"IF(ISERROR((#REF!-#REF!)/#REF!),0,(#REF!-#REF!)/#REF!)","v":0},{"$f":"IF(ISERROR((#REF!-#REF!)/#REF!),0,(#REF!-#REF!)/#REF!)","v":0},{"$f":"IF(ISERROR((#REF!-#REF!)/#REF!),0,(#REF!-#REF!)/#REF!)","v":0},{"$f":"IF(ISERROR((#REF!-#REF!)/#REF!),0,(#REF!-#REF!)/#REF!)","v":0},{"$f":"IF(ISERROR((#REF!-#REF!)/#REF!),0,(#REF!-#REF!)/#REF!)","v":0},{"$f":"IF(ISERROR((#REF!-#REF!)/#REF!),0,(#REF!-#REF!)/#REF!)","v":0}]
[null,"RC12E","Infrarenal or Aorto-Uni-Iliac Endovascular Stent Graft for Non-Ruptured Abdominal Aortic Aneurysm, Three or more Stent Grafts",0,6137,0,0,11,{"$error":"#N/A"},35,227,"No","-",0,1,"HRG",{"$f":"IF(ISERROR((#REF!-#REF!)/#REF!),0,(#REF!-#REF!)/#REF!)","v":0},{"$f":"IF(ISERROR((#REF!-#REF!)/#REF!),0,(#REF!-#REF!)/#REF!)","v":0},{"$f":"IF(ISERROR((#REF!-#REF!)/#REF!),0,(#REF!-#REF!)/#REF!)","v":0},{"$f":"IF(ISERROR((#REF!-#REF!)/#REF!),0,(#REF!-#REF!)/#REF!)","v":0},{"$f":"IF(ISERROR((#REF!-#REF!)/#REF!),0,(#REF!-#REF!)/#REF!)","v":0},{"$f":"IF(ISERROR((#REF!-#REF!)/#REF!),0,(#REF!-#REF!)/#REF!)","v":0},{"$f":"IF(ISERROR((#REF!-#REF!)/#REF!),0,(#REF!-#REF!)/#REF!)","v":0},{"$f":"IF(ISERROR((#REF!-#REF!)/#REF!),0,(#REF!-#REF!)/#REF!)","v":0},{"$f":"IF(ISERROR((#REF!-#REF!)/#REF!),0,(#REF!-#REF!)/#REF!)","v":0},{"$f":"IF(ISERROR((#REF!-#REF!)/#REF!),0,(#REF!-#REF!)/#REF!)","v":0},{"$f":"IF(ISERROR((#REF!-#REF!)/#REF!),0,(#REF!-#REF!)/#REF!)","v":0},{"$f":"IF(ISERROR((#REF!-#REF!)/#REF!),0,(#REF!-#REF!)/#REF!)","v":0},{"$f":"IF(ISERROR((#REF!-#REF!)/#REF!),0,(#REF!-#REF!)/#REF!)","v":0}]
[null,"RC13A","Other Endovascular Stent Graft for Non-Ruptured Abdominal Aortic Aneurysm, One Branched Stent Graft",0,6137,0,0,16,{"$error":"#N/A"},42,227,"No","-",0,1,"HRG",{"$f":"IF(ISERROR((#REF!-#REF!)/#REF!),0,(#REF!-#REF!)/#REF!)","v":0},{"$f":"IF(ISERROR((#REF!-#REF!)/#REF!),0,(#REF!-#REF!)/#REF!)","v":0},{"$f":"IF(ISERROR((#REF!-#REF!)/#REF!),0,(#REF!-#REF!)/#REF!)","v":0},{"$f":"IF(ISERROR((#REF!-#REF!)/#REF!),0,(#REF!-#REF!)/#REF!)","v":0},{"$f":"IF(ISERROR((#REF!-#REF!)/#REF!),0,(#REF!-#REF!)/#REF!)","v":0},{"$f":"IF(ISERROR((#REF!-#REF!)/#REF!),0,(#REF!-#REF!)/#REF!)","v":0},{"$f":"IF(ISERROR((#REF!-#REF!)/#REF!),0,(#REF!-#REF!)/#REF!)","v":0},{"$f":"IF(ISERROR((#REF!-#REF!)/#REF!),0,(#REF!-#REF!)/#REF!)","v":0},{"$f":"IF(ISERROR((#REF!-#REF!)/#REF!),0,(#REF!-#REF!)/#REF!)","v":0},{"$f":"IF(ISERROR((#REF!-#REF!)/#REF!),0,(#REF!-#REF!)/#REF!)","v":0},{"$f":"IF(ISERROR((#REF!-#REF!)/#REF!),0,(#REF!-#REF!)/#REF!)","v":0},{"$f":"IF(ISERROR((#REF!-#REF!)/#REF!),0,(#REF!-#REF!)/#REF!)","v":0},{"$f":"IF(ISERROR((#REF!-#REF!)/#REF!),0,(#REF!-#REF!)/#REF!)","v":0}]
[null,"RC13B","Other Endovascular Stent Graft for Non-Ruptured Abdominal Aortic Aneurysm, One Fenestrated Stent Graft",0,6137,0,0,16,{"$error":"#N/A"},42,227,"No","-",0,1,"HRG",{"$f":"IF(ISERROR((#REF!-#REF!)/#REF!),0,(#REF!-#REF!)/#REF!)","v":0},{"$f":"IF(ISERROR((#REF!-#REF!)/#REF!),0,(#REF!-#REF!)/#REF!)","v":0},{"$f":"IF(ISERROR((#REF!-#REF!)/#REF!),0,(#REF!-#REF!)/#REF!)","v":0},{"$f":"IF(ISERROR((#REF!-#REF!)/#REF!),0,(#REF!-#REF!)/#REF!)","v":0},{"$f":"IF(ISERROR((#REF!-#REF!)/#REF!),0,(#REF!-#REF!)/#REF!)","v":0},{"$f":"IF(ISERROR((#REF!-#REF!)/#REF!),0,(#REF!-#REF!)/#REF!)","v":0},{"$f":"IF(ISERROR((#REF!-#REF!)/#REF!),0,(#REF!-#REF!)/#REF!)","v":0},{"$f":"IF(ISERROR((#REF!-#REF!)/#REF!),0,(#REF!-#REF!)/#REF!)","v":0},{"$f":"IF(ISERROR((#REF!-#REF!)/#REF!),0,(#REF!-#REF!)/#REF!)","v":0},{"$f":"IF(ISERROR((#REF!-#REF!)/#REF!),0,(#REF!-#REF!)/#REF!)","v":0},{"$f":"IF(ISERROR((#REF!-#REF!)/#REF!),0,(#REF!-#REF!)/#REF!)","v":0},{"$f":"IF(ISERROR((#REF!-#REF!)/#REF!),0,(#REF!-#REF!)/#REF!)","v":0},{"$f":"IF(ISERROR((#REF!-#REF!)/#REF!),0,(#REF!-#REF!)/#REF!)","v":0}]
[null,"RC13C","Other Endovascular Stent Graft for Non-Ruptured Abdominal Aortic Aneurysm, One Stent Graft",0,6137,0,0,16,{"$error":"#N/A"},42,227,"No","-",0,1,"HRG",{"$f":"IF(ISERROR((#REF!-#REF!)/#REF!),0,(#REF!-#REF!)/#REF!)","v":0},{"$f":"IF(ISERROR((#REF!-#REF!)/#REF!),0,(#REF!-#REF!)/#REF!)","v":0},{"$f":"IF(ISERROR((#REF!-#REF!)/#REF!),0,(#REF!-#REF!)/#REF!)","v":0},{"$f":"IF(ISERROR((#REF!-#REF!)/#REF!),0,(#REF!-#REF!)/#REF!)","v":0},{"$f":"IF(ISERROR((#REF!-#REF!)/#REF!),0,(#REF!-#REF!)/#REF!)","v":0},{"$f":"IF(ISERROR((#REF!-#REF!)/#REF!),0,(#REF!-#REF!)/#REF!)","v":0},{"$f":"IF(ISERROR((#REF!-#REF!)/#REF!),0,(#REF!-#REF!)/#REF!)","v":0},{"$f":"IF(ISERROR((#REF!-#REF!)/#REF!),0,(#REF!-#REF!)/#REF!)","v":0},{"$f":"IF(ISERROR((#REF!-#REF!)/#REF!),0,(#REF!-#REF!)/#REF!)","v":0},{"$f":"IF(ISERROR((#REF!-#REF!)/#REF!),0,(#REF!-#REF!)/#REF!)","v":0},{"$f":"IF(ISERROR((#REF!-#REF!)/#REF!),0,(#REF!-#REF!)/#REF!)","v":0},{"$f":"IF(ISERROR((#REF!-#REF!)/#REF!),0,(#REF!-#REF!)/#REF!)","v":0},{"$f":"IF(ISERROR((#REF!-#REF!)/#REF!),0,(#REF!-#REF!)/#REF!)","v":0}]
[null,"RC13D","Other Endovascular Stent Graft for Non-Ruptured Abdominal Aortic Aneurysm, Two Stent Grafts",0,6137,0,0,16,{"$error":"#N/A"},42,227,"No","-",0,1,"HRG",{"$f":"IF(ISERROR((#REF!-#REF!)/#REF!),0,(#REF!-#REF!)/#REF!)","v":0},{"$f":"IF(ISERROR((#REF!-#REF!)/#REF!),0,(#REF!-#REF!)/#REF!)","v":0},{"$f":"IF(ISERROR((#REF!-#REF!)/#REF!),0,(#REF!-#REF!)/#REF!)","v":0},{"$f":"IF(ISERROR((#REF!-#REF!)/#REF!),0,(#REF!-#REF!)/#REF!)","v":0},{"$f":"IF(ISERROR((#REF!-#REF!)/#REF!),0,(#REF!-#REF!)/#REF!)","v":0},{"$f":"IF(ISERROR((#REF!-#REF!)/#REF!),0,(#REF!-#REF!)/#REF!)","v":0},{"$f":"IF(ISERROR((#REF!-#REF!)/#REF!),0,(#REF!-#REF!)/#REF!)","v":0},{"$f":"IF(ISERROR((#REF!-#REF!)/#REF!),0,(#REF!-#REF!)/#REF!)","v":0},{"$f":"IF(ISERROR((#REF!-#REF!)/#REF!),0,(#REF!-#REF!)/#REF!)","v":0},{"$f":"IF(ISERROR((#REF!-#REF!)/#REF!),0,(#REF!-#REF!)/#REF!)","v":0},{"$f":"IF(ISERROR((#REF!-#REF!)/#REF!),0,(#REF!-#REF!)/#REF!)","v":0},{"$f":"IF(ISERROR((#REF!-#REF!)/#REF!),0,(#REF!-#REF!)/#REF!)","v":0},{"$f":"IF(ISERROR((#REF!-#REF!)/#REF!),0,(#REF!-#REF!)/#REF!)","v":0}]
[null,"RC13E","Other Endovascular Stent Graft for Non-Ruptured Abdominal Aortic Aneurysm, Three or more Stent Grafts",0,6137,0,0,16,{"$error":"#N/A"},42,227,"No","-",0,1,"HRG",{"$f":"IF(ISERROR((#REF!-#REF!)/#REF!),0,(#REF!-#REF!)/#REF!)","v":0},{"$f":"IF(ISERROR((#REF!-#REF!)/#REF!),0,(#REF!-#REF!)/#REF!)","v":0},{"$f":"IF(ISERROR((#REF!-#REF!)/#REF!),0,(#REF!-#REF!)/#REF!)","v":0},{"$f":"IF(ISERROR((#REF!-#REF!)/#REF!),0,(#REF!-#REF!)/#REF!)","v":0},{"$f":"IF(ISERROR((#REF!-#REF!)/#REF!),0,(#REF!-#REF!)/#REF!)","v":0},{"$f":"IF(ISERROR((#REF!-#REF!)/#REF!),0,(#REF!-#REF!)/#REF!)","v":0},{"$f":"IF(ISERROR((#REF!-#REF!)/#REF!),0,(#REF!-#REF!)/#REF!)","v":0},{"$f":"IF(ISERROR((#REF!-#REF!)/#REF!),0,(#REF!-#REF!)/#REF!)","v":0},{"$f":"IF(ISERROR((#REF!-#REF!)/#REF!),0,(#REF!-#REF!)/#REF!)","v":0},{"$f":"IF(ISERROR((#REF!-#REF!)/#REF!),0,(#REF!-#REF!)/#REF!)","v":0},{"$f":"IF(ISERROR((#REF!-#REF!)/#REF!),0,(#REF!-#REF!)/#REF!)","v":0},{"$f":"IF(ISERROR((#REF!-#REF!)/#REF!),0,(#REF!-#REF!)/#REF!)","v":0},{"$f":"IF(ISERROR((#REF!-#REF!)/#REF!),0,(#REF!-#REF!)/#REF!)","v":0}]
[null,"RC14Z","Major Vascular Interventional Radiology Procedures",0,1911,0,0,5,{"$error":"#N/A"},48,227,"No","-",0,1,"HRG",{"$f":"IF(ISERROR((#REF!-#REF!)/#REF!),0,(#REF!-#REF!)/#REF!)","v":0},{"$f":"IF(ISERROR((#REF!-#REF!)/#REF!),0,(#REF!-#REF!)/#REF!)","v":0},{"$f":"IF(ISERROR((#REF!-#REF!)/#REF!),0,(#REF!-#REF!)/#REF!)","v":0},{"$f":"IF(ISERROR((#REF!-#REF!)/#REF!),0,(#REF!-#REF!)/#REF!)","v":0},{"$f":"IF(ISERROR((#REF!-#REF!)/#REF!),0,(#REF!-#REF!)/#REF!)","v":0},{"$f":"IF(ISERROR((#REF!-#REF!)/#REF!),0,(#REF!-#REF!)/#REF!)","v":0},{"$f":"IF(ISERROR((#REF!-#REF!)/#REF!),0,(#REF!-#REF!)/#REF!)","v":0},{"$f":"IF(ISERROR((#REF!-#REF!)/#REF!),0,(#REF!-#REF!)/#REF!)","v":0},{"$f":"IF(ISERROR((#REF!-#REF!)/#REF!),0,(#REF!-#REF!)/#REF!)","v":0},{"$f":"IF(ISERROR((#REF!-#REF!)/#REF!),0,(#REF!-#REF!)/#REF!)","v":0},{"$f":"IF(ISERROR((#REF!-#REF!)/#REF!),0,(#REF!-#REF!)/#REF!)","v":0},{"$f":"IF(ISERROR((#REF!-#REF!)/#REF!),0,(#REF!-#REF!)/#REF!)","v":0},{"$f":"IF(ISERROR((#REF!-#REF!)/#REF!),0,(#REF!-#REF!)/#REF!)","v":0}]
[null,"RC15Z","Intermediate Vascular Interventional Radiology Procedures",0,1245,0,0,16,{"$error":"#N/A"},48,227,"No","-",0,"","",{"$f":"IF(ISERROR((#REF!-#REF!)/#REF!),0,(#REF!-#REF!)/#REF!)","v":0},{"$f":"IF(ISERROR((#REF!-#REF!)/#REF!),0,(#REF!-#REF!)/#REF!)","v":0},{"$f":"IF(ISERROR((#REF!-#REF!)/#REF!),0,(#REF!-#REF!)/#REF!)","v":0},{"$f":"IF(ISERROR((#REF!-#REF!)/#REF!),0,(#REF!-#REF!)/#REF!)","v":0},{"$f":"IF(ISERROR((#REF!-#REF!)/#REF!),0,(#REF!-#REF!)/#REF!)","v":0},{"$f":"IF(ISERROR((#REF!-#REF!)/#REF!),0,(#REF!-#REF!)/#REF!)","v":0},{"$f":"IF(ISERROR((#REF!-#REF!)/#REF!),0,(#REF!-#REF!)/#REF!)","v":0},{"$f":"IF(ISERROR((#REF!-#REF!)/#REF!),0,(#REF!-#REF!)/#REF!)","v":0},{"$f":"IF(ISERROR((#REF!-#REF!)/#REF!),0,(#REF!-#REF!)/#REF!)","v":0},{"$f":"IF(ISERROR((#REF!-#REF!)/#REF!),0,(#REF!-#REF!)/#REF!)","v":0},{"$f":"IF(ISERROR((#REF!-#REF!)/#REF!),0,(#REF!-#REF!)/#REF!)","v":0},{"$f":"IF(ISERROR((#REF!-#REF!)/#REF!),0,(#REF!-#REF!)/#REF!)","v":0},{"$f":"IF(ISERROR((#REF!-#REF!)/#REF!),0,(#REF!-#REF!)/#REF!)","v":0}]
[null,"RC16Z","Minor Vascular Interventional Radiology Procedures",0,997,0,0,5,{"$error":"#N/A"},47,227,"No","-",0,"","",{"$f":"IF(ISERROR((#REF!-#REF!)/#REF!),0,(#REF!-#REF!)/#REF!)","v":0},{"$f":"IF(ISERROR((#REF!-#REF!)/#REF!),0,(#REF!-#REF!)/#REF!)","v":0},{"$f":"IF(ISERROR((#REF!-#REF!)/#REF!),0,(#REF!-#REF!)/#REF!)","v":0},{"$f":"IF(ISERROR((#REF!-#REF!)/#REF!),0,(#REF!-#REF!)/#REF!)","v":0},{"$f":"IF(ISERROR((#REF!-#REF!)/#REF!),0,(#REF!-#REF!)/#REF!)","v":0},{"$f":"IF(ISERROR((#REF!-#REF!)/#REF!),0,(#REF!-#REF!)/#REF!)","v":0},{"$f":"IF(ISERROR((#REF!-#REF!)/#REF!),0,(#REF!-#REF!)/#REF!)","v":0},{"$f":"IF(ISERROR((#REF!-#REF!)/#REF!),0,(#REF!-#REF!)/#REF!)","v":0},{"$f":"IF(ISERROR((#REF!-#REF!)/#REF!),0,(#REF!-#REF!)/#REF!)","v":0},{"$f":"IF(ISERROR((#REF!-#REF!)/#REF!),0,(#REF!-#REF!)/#REF!)","v":0},{"$f":"IF(ISERROR((#REF!-#REF!)/#REF!),0,(#REF!-#REF!)/#REF!)","v":0},{"$f":"IF(ISERROR((#REF!-#REF!)/#REF!),0,(#REF!-#REF!)/#REF!)","v":0},{"$f":"IF(ISERROR((#REF!-#REF!)/#REF!),0,(#REF!-#REF!)/#REF!)","v":0}]
[null,"RC31Z","Major Hepatobiliary Interventional Radiology Procedures",0,4024,0,0,40,{"$error":"#N/A"},40,227,"No","-",0,1,"sub-HRG",{"$f":"IF(ISERROR((#REF!-#REF!)/#REF!),0,(#REF!-#REF!)/#REF!)","v":0},{"$f":"IF(ISERROR((#REF!-#REF!)/#REF!),0,(#REF!-#REF!)/#REF!)","v":0},{"$f":"IF(ISERROR((#REF!-#REF!)/#REF!),0,(#REF!-#REF!)/#REF!)","v":0},{"$f":"IF(ISERROR((#REF!-#REF!)/#REF!),0,(#REF!-#REF!)/#REF!)","v":0},{"$f":"IF(ISERROR((#REF!-#REF!)/#REF!),0,(#REF!-#REF!)/#REF!)","v":0},{"$f":"IF(ISERROR((#REF!-#REF!)/#REF!),0,(#REF!-#REF!)/#REF!)","v":0},{"$f":"IF(ISERROR((#REF!-#REF!)/#REF!),0,(#REF!-#REF!)/#REF!)","v":0},{"$f":"IF(ISERROR((#REF!-#REF!)/#REF!),0,(#REF!-#REF!)/#REF!)","v":0},{"$f":"IF(ISERROR((#REF!-#REF!)/#REF!),0,(#REF!-#REF!)/#REF!)","v":0},{"$f":"IF(ISERROR((#REF!-#REF!)/#REF!),0,(#REF!-#REF!)/#REF!)","v":0},{"$f":"IF(ISERROR((#REF!-#REF!)/#REF!),0,(#REF!-#REF!)/#REF!)","v":0},{"$f":"IF(ISERROR((#REF!-#REF!)/#REF!),0,(#REF!-#REF!)/#REF!)","v":0},{"$f":"IF(ISERROR((#REF!-#REF!)/#REF!),0,(#REF!-#REF!)/#REF!)","v":0}]
[null,"RC32Z","Intermediate Hepatobiliary Interventional Radiology Procedures",0,6324.1532004218898,0,0,40,{"$error":"#N/A"},40,227,"No","-",0,"","",{"$f":"IF(ISERROR((#REF!-#REF!)/#REF!),0,(#REF!-#REF!)/#REF!)","v":0},{"$f":"IF(ISERROR((#REF!-#REF!)/#REF!),0,(#REF!-#REF!)/#REF!)","v":0},{"$f":"IF(ISERROR((#REF!-#REF!)/#REF!),0,(#REF!-#REF!)/#REF!)","v":0},{"$f":"IF(ISERROR((#REF!-#REF!)/#REF!),0,(#REF!-#REF!)/#REF!)","v":0},{"$f":"IF(ISERROR((#REF!-#REF!)/#REF!),0,(#REF!-#REF!)/#REF!)","v":0},{"$f":"IF(ISERROR((#REF!-#REF!)/#REF!),0,(#REF!-#REF!)/#REF!)","v":0},{"$f":"IF(ISERROR((#REF!-#REF!)/#REF!),0,(#REF!-#REF!)/#REF!)","v":0},{"$f":"IF(ISERROR((#REF!-#REF!)/#REF!),0,(#REF!-#REF!)/#REF!)","v":0},{"$f":"IF(ISERROR((#REF!-#REF!)/#REF!),0,(#REF!-#REF!)/#REF!)","v":0},{"$f":"IF(ISERROR((#REF!-#REF!)/#REF!),0,(#REF!-#REF!)/#REF!)","v":0},{"$f":"IF(ISERROR((#REF!-#REF!)/#REF!),0,(#REF!-#REF!)/#REF!)","v":0},{"$f":"IF(ISERROR((#REF!-#REF!)/#REF!),0,(#REF!-#REF!)/#REF!)","v":0},{"$f":"IF(ISERROR((#REF!-#REF!)/#REF!),0,(#REF!-#REF!)/#REF!)","v":0}]
[null,"RC33Z","Minor Hepatobiliary Interventional Radiology Procedures",0,4024,0,0,40,{"$error":"#N/A"},40,227,"No","-",0,"","",{"$f":"IF(ISERROR((#REF!-#REF!)/#REF!),0,(#REF!-#REF!)/#REF!)","v":0},{"$f":"IF(ISERROR((#REF!-#REF!)/#REF!),0,(#REF!-#REF!)/#REF!)","v":0},{"$f":"IF(ISERROR((#REF!-#REF!)/#REF!),0,(#REF!-#REF!)/#REF!)","v":0},{"$f":"IF(ISERROR((#REF!-#REF!)/#REF!),0,(#REF!-#REF!)/#REF!)","v":0},{"$f":"IF(ISERROR((#REF!-#REF!)/#REF!),0,(#REF!-#REF!)/#REF!)","v":0},{"$f":"IF(ISERROR((#REF!-#REF!)/#REF!),0,(#REF!-#REF!)/#REF!)","v":0},{"$f":"IF(ISERROR((#REF!-#REF!)/#REF!),0,(#REF!-#REF!)/#REF!)","v":0},{"$f":"IF(ISERROR((#REF!-#REF!)/#REF!),0,(#REF!-#REF!)/#REF!)","v":0},{"$f":"IF(ISERROR((#REF!-#REF!)/#REF!),0,(#REF!-#REF!)/#REF!)","v":0},{"$f":"IF(ISERROR((#REF!-#REF!)/#REF!),0,(#REF!-#REF!)/#REF!)","v":0},{"$f":"IF(ISERROR((#REF!-#REF!)/#REF!),0,(#REF!-#REF!)/#REF!)","v":0},{"$f":"IF(ISERROR((#REF!-#REF!)/#REF!),0,(#REF!-#REF!)/#REF!)","v":0},{"$f":"IF(ISERROR((#REF!-#REF!)/#REF!),0,(#REF!-#REF!)/#REF!)","v":0}]
[null,"RC41Z","Uterine Fibroid Embolisation",0,2503,0,0,5,{"$error":"#N/A"},5,227,"No","-",0,1,"HRG",{"$f":"IF(ISERROR((#REF!-#REF!)/#REF!),0,(#REF!-#REF!)/#REF!)","v":0},{"$f":"IF(ISERROR((#REF!-#REF!)/#REF!),0,(#REF!-#REF!)/#REF!)","v":0},{"$f":"IF(ISERROR((#REF!-#REF!)/#REF!),0,(#REF!-#REF!)/#REF!)","v":0},{"$f":"IF(ISERROR((#REF!-#REF!)/#REF!),0,(#REF!-#REF!)/#REF!)","v":0},{"$f":"IF(ISERROR((#REF!-#REF!)/#REF!),0,(#REF!-#REF!)/#REF!)","v":0},{"$f":"IF(ISERROR((#REF!-#REF!)/#REF!),0,(#REF!-#REF!)/#REF!)","v":0},{"$f":"IF(ISERROR((#REF!-#REF!)/#REF!),0,(#REF!-#REF!)/#REF!)","v":0},{"$f":"IF(ISERROR((#REF!-#REF!)/#REF!),0,(#REF!-#REF!)/#REF!)","v":0},{"$f":"IF(ISERROR((#REF!-#REF!)/#REF!),0,(#REF!-#REF!)/#REF!)","v":0},{"$f":"IF(ISERROR((#REF!-#REF!)/#REF!),0,(#REF!-#REF!)/#REF!)","v":0},{"$f":"IF(ISERROR((#REF!-#REF!)/#REF!),0,(#REF!-#REF!)/#REF!)","v":0},{"$f":"IF(ISERROR((#REF!-#REF!)/#REF!),0,(#REF!-#REF!)/#REF!)","v":0},{"$f":"IF(ISERROR((#REF!-#REF!)/#REF!),0,(#REF!-#REF!)/#REF!)","v":0}]
[null,"RC42Z","Major Obstetric or Gynaecology, Interventional Radiology Procedures",0,1626,0,0,26,{"$error":"#N/A"},28,227,"No","-",0,"","",{"$f":"IF(ISERROR((#REF!-#REF!)/#REF!),0,(#REF!-#REF!)/#REF!)","v":0},{"$f":"IF(ISERROR((#REF!-#REF!)/#REF!),0,(#REF!-#REF!)/#REF!)","v":0},{"$f":"IF(ISERROR((#REF!-#REF!)/#REF!),0,(#REF!-#REF!)/#REF!)","v":0},{"$f":"IF(ISERROR((#REF!-#REF!)/#REF!),0,(#REF!-#REF!)/#REF!)","v":0},{"$f":"IF(ISERROR((#REF!-#REF!)/#REF!),0,(#REF!-#REF!)/#REF!)","v":0},{"$f":"IF(ISERROR((#REF!-#REF!)/#REF!),0,(#REF!-#REF!)/#REF!)","v":0},{"$f":"IF(ISERROR((#REF!-#REF!)/#REF!),0,(#REF!-#REF!)/#REF!)","v":0},{"$f":"IF(ISERROR((#REF!-#REF!)/#REF!),0,(#REF!-#REF!)/#REF!)","v":0},{"$f":"IF(ISERROR((#REF!-#REF!)/#REF!),0,(#REF!-#REF!)/#REF!)","v":0},{"$f":"IF(ISERROR((#REF!-#REF!)/#REF!),0,(#REF!-#REF!)/#REF!)","v":0},{"$f":"IF(ISERROR((#REF!-#REF!)/#REF!),0,(#REF!-#REF!)/#REF!)","v":0},{"$f":"IF(ISERROR((#REF!-#REF!)/#REF!),0,(#REF!-#REF!)/#REF!)","v":0},{"$f":"IF(ISERROR((#REF!-#REF!)/#REF!),0,(#REF!-#REF!)/#REF!)","v":0}]
[null,"RC51Z","Major Neurology Interventional Radiology Procedures",0,2169,0,0,10,{"$error":"#N/A"},35,227,"No","-",0,"","",{"$f":"IF(ISERROR((#REF!-#REF!)/#REF!),0,(#REF!-#REF!)/#REF!)","v":0},{"$f":"IF(ISERROR((#REF!-#REF!)/#REF!),0,(#REF!-#REF!)/#REF!)","v":0},{"$f":"IF(ISERROR((#REF!-#REF!)/#REF!),0,(#REF!-#REF!)/#REF!)","v":0},{"$f":"IF(ISERROR((#REF!-#REF!)/#REF!),0,(#REF!-#REF!)/#REF!)","v":0},{"$f":"IF(ISERROR((#REF!-#REF!)/#REF!),0,(#REF!-#REF!)/#REF!)","v":0},{"$f":"IF(ISERROR((#REF!-#REF!)/#REF!),0,(#REF!-#REF!)/#REF!)","v":0},{"$f":"IF(ISERROR((#REF!-#REF!)/#REF!),0,(#REF!-#REF!)/#REF!)","v":0},{"$f":"IF(ISERROR((#REF!-#REF!)/#REF!),0,(#REF!-#REF!)/#REF!)","v":0},{"$f":"IF(ISERROR((#REF!-#REF!)/#REF!),0,(#REF!-#REF!)/#REF!)","v":0},{"$f":"IF(ISERROR((#REF!-#REF!)/#REF!),0,(#REF!-#REF!)/#REF!)","v":0},{"$f":"IF(ISERROR((#REF!-#REF!)/#REF!),0,(#REF!-#REF!)/#REF!)","v":0},{"$f":"IF(ISERROR((#REF!-#REF!)/#REF!),0,(#REF!-#REF!)/#REF!)","v":0},{"$f":"IF(ISERROR((#REF!-#REF!)/#REF!),0,(#REF!-#REF!)/#REF!)","v":0}]
[null,"SA01D","Aplastic Anaemia with CC",0,2175,0,0,18,2645,18,232,"Yes",0.30000000000000004,793.50000000000011,"","",{"$f":"IF(ISERROR((#REF!-#REF!)/#REF!),0,(#REF!-#REF!)/#REF!)","v":0},{"$f":"IF(ISERROR((#REF!-#REF!)/#REF!),0,(#REF!-#REF!)/#REF!)","v":0},{"$f":"IF(ISERROR((#REF!-#REF!)/#REF!),0,(#REF!-#REF!)/#REF!)","v":0},{"$f":"IF(ISERROR((#REF!-#REF!)/#REF!),0,(#REF!-#REF!)/#REF!)","v":0},{"$f":"IF(ISERROR((#REF!-#REF!)/#REF!),0,(#REF!-#REF!)/#REF!)","v":0},{"$f":"IF(ISERROR((#REF!-#REF!)/#REF!),0,(#REF!-#REF!)/#REF!)","v":0},{"$f":"IF(ISERROR((#REF!-#REF!)/#REF!),0,(#REF!-#REF!)/#REF!)","v":0},{"$f":"IF(ISERROR((#REF!-#REF!)/#REF!),0,(#REF!-#REF!)/#REF!)","v":0},{"$f":"IF(ISERROR((#REF!-#REF!)/#REF!),0,(#REF!-#REF!)/#REF!)","v":0},{"$f":"IF(ISERROR((#REF!-#REF!)/#REF!),0,(#REF!-#REF!)/#REF!)","v":0},{"$f":"IF(ISERROR((#REF!-#REF!)/#REF!),0,(#REF!-#REF!)/#REF!)","v":0},{"$f":"IF(ISERROR((#REF!-#REF!)/#REF!),0,(#REF!-#REF!)/#REF!)","v":0},{"$f":"IF(ISERROR((#REF!-#REF!)/#REF!),0,(#REF!-#REF!)/#REF!)","v":0}]
[null,"SA01F","Aplastic Anaemia without CC",0,562,0,0,5,1943,12,232,"Yes",0.30000000000000004,582.90000000000009,"","",{"$f":"IF(ISERROR((#REF!-#REF!)/#REF!),0,(#REF!-#REF!)/#REF!)","v":0},{"$f":"IF(ISERROR((#REF!-#REF!)/#REF!),0,(#REF!-#REF!)/#REF!)","v":0},{"$f":"IF(ISERROR((#REF!-#REF!)/#REF!),0,(#REF!-#REF!)/#REF!)","v":0},{"$f":"IF(ISERROR((#REF!-#REF!)/#REF!),0,(#REF!-#REF!)/#REF!)","v":0},{"$f":"IF(ISERROR((#REF!-#REF!)/#REF!),0,(#REF!-#REF!)/#REF!)","v":0},{"$f":"IF(ISERROR((#REF!-#REF!)/#REF!),0,(#REF!-#REF!)/#REF!)","v":0},{"$f":"IF(ISERROR((#REF!-#REF!)/#REF!),0,(#REF!-#REF!)/#REF!)","v":0},{"$f":"IF(ISERROR((#REF!-#REF!)/#REF!),0,(#REF!-#REF!)/#REF!)","v":0},{"$f":"IF(ISERROR((#REF!-#REF!)/#REF!),0,(#REF!-#REF!)/#REF!)","v":0},{"$f":"IF(ISERROR((#REF!-#REF!)/#REF!),0,(#REF!-#REF!)/#REF!)","v":0},{"$f":"IF(ISERROR((#REF!-#REF!)/#REF!),0,(#REF!-#REF!)/#REF!)","v":0},{"$f":"IF(ISERROR((#REF!-#REF!)/#REF!),0,(#REF!-#REF!)/#REF!)","v":0},{"$f":"IF(ISERROR((#REF!-#REF!)/#REF!),0,(#REF!-#REF!)/#REF!)","v":0}]
[null,"SA02D","Coagulation Defect with CC",0,459,0,0,5,1187,5,232,"Yes",0.30000000000000004,356.10000000000008,"","",{"$f":"IF(ISERROR((#REF!-#REF!)/#REF!),0,(#REF!-#REF!)/#REF!)","v":0},{"$f":"IF(ISERROR((#REF!-#REF!)/#REF!),0,(#REF!-#REF!)/#REF!)","v":0},{"$f":"IF(ISERROR((#REF!-#REF!)/#REF!),0,(#REF!-#REF!)/#REF!)","v":0},{"$f":"IF(ISERROR((#REF!-#REF!)/#REF!),0,(#REF!-#REF!)/#REF!)","v":0},{"$f":"IF(ISERROR((#REF!-#REF!)/#REF!),0,(#REF!-#REF!)/#REF!)","v":0},{"$f":"IF(ISERROR((#REF!-#REF!)/#REF!),0,(#REF!-#REF!)/#REF!)","v":0},{"$f":"IF(ISERROR((#REF!-#REF!)/#REF!),0,(#REF!-#REF!)/#REF!)","v":0},{"$f":"IF(ISERROR((#REF!-#REF!)/#REF!),0,(#REF!-#REF!)/#REF!)","v":0},{"$f":"IF(ISERROR((#REF!-#REF!)/#REF!),0,(#REF!-#REF!)/#REF!)","v":0},{"$f":"IF(ISERROR((#REF!-#REF!)/#REF!),0,(#REF!-#REF!)/#REF!)","v":0},{"$f":"IF(ISERROR((#REF!-#REF!)/#REF!),0,(#REF!-#REF!)/#REF!)","v":0},{"$f":"IF(ISERROR((#REF!-#REF!)/#REF!),0,(#REF!-#REF!)/#REF!)","v":0},{"$f":"IF(ISERROR((#REF!-#REF!)/#REF!),0,(#REF!-#REF!)/#REF!)","v":0}]
[null,"SA02F","Coagulation Defect without CC",0,459,0,0,5,1187,5,232,"Yes",1,1187,"","",{"$f":"IF(ISERROR((#REF!-#REF!)/#REF!),0,(#REF!-#REF!)/#REF!)","v":0},{"$f":"IF(ISERROR((#REF!-#REF!)/#REF!),0,(#REF!-#REF!)/#REF!)","v":0},{"$f":"IF(ISERROR((#REF!-#REF!)/#REF!),0,(#REF!-#REF!)/#REF!)","v":0},{"$f":"IF(ISERROR((#REF!-#REF!)/#REF!),0,(#REF!-#REF!)/#REF!)","v":0},{"$f":"IF(ISERROR((#REF!-#REF!)/#REF!),0,(#REF!-#REF!)/#REF!)","v":0},{"$f":"IF(ISERROR((#REF!-#REF!)/#REF!),0,(#REF!-#REF!)/#REF!)","v":0},{"$f":"IF(ISERROR((#REF!-#REF!)/#REF!),0,(#REF!-#REF!)/#REF!)","v":0},{"$f":"IF(ISERROR((#REF!-#REF!)/#REF!),0,(#REF!-#REF!)/#REF!)","v":0},{"$f":"IF(ISERROR((#REF!-#REF!)/#REF!),0,(#REF!-#REF!)/#REF!)","v":0},{"$f":"IF(ISERROR((#REF!-#REF!)/#REF!),0,(#REF!-#REF!)/#REF!)","v":0},{"$f":"IF(ISERROR((#REF!-#REF!)/#REF!),0,(#REF!-#REF!)/#REF!)","v":0},{"$f":"IF(ISERROR((#REF!-#REF!)/#REF!),0,(#REF!-#REF!)/#REF!)","v":0},{"$f":"IF(ISERROR((#REF!-#REF!)/#REF!),0,(#REF!-#REF!)/#REF!)","v":0}]
[null,"SA03D","Haemolytic Anaemia with CC",0,467,0,0,5,4134.4185181254525,18,232,"No","-",0,1,"HRG",{"$f":"IF(ISERROR((#REF!-#REF!)/#REF!),0,(#REF!-#REF!)/#REF!)","v":0},{"$f":"IF(ISERROR((#REF!-#REF!)/#REF!),0,(#REF!-#REF!)/#REF!)","v":0},{"$f":"IF(ISERROR((#REF!-#REF!)/#REF!),0,(#REF!-#REF!)/#REF!)","v":0},{"$f":"IF(ISERROR((#REF!-#REF!)/#REF!),0,(#REF!-#REF!)/#REF!)","v":0},{"$f":"IF(ISERROR((#REF!-#REF!)/#REF!),0,(#REF!-#REF!)/#REF!)","v":0},{"$f":"IF(ISERROR((#REF!-#REF!)/#REF!),0,(#REF!-#REF!)/#REF!)","v":0},{"$f":"IF(ISERROR((#REF!-#REF!)/#REF!),0,(#REF!-#REF!)/#REF!)","v":0},{"$f":"IF(ISERROR((#REF!-#REF!)/#REF!),0,(#REF!-#REF!)/#REF!)","v":0},{"$f":"IF(ISERROR((#REF!-#REF!)/#REF!),0,(#REF!-#REF!)/#REF!)","v":0},{"$f":"IF(ISERROR((#REF!-#REF!)/#REF!),0,(#REF!-#REF!)/#REF!)","v":0},{"$f":"IF(ISERROR((#REF!-#REF!)/#REF!),0,(#REF!-#REF!)/#REF!)","v":0},{"$f":"IF(ISERROR((#REF!-#REF!)/#REF!),0,(#REF!-#REF!)/#REF!)","v":0},{"$f":"IF(ISERROR((#REF!-#REF!)/#REF!),0,(#REF!-#REF!)/#REF!)","v":0}]
[null,"SA03F","Haemolytic Anaemia without CC",0,386,0,0,5,1979.7691669369005,14,232,"No","-",0,1,"HRG",{"$f":"IF(ISERROR((#REF!-#REF!)/#REF!),0,(#REF!-#REF!)/#REF!)","v":0},{"$f":"IF(ISERROR((#REF!-#REF!)/#REF!),0,(#REF!-#REF!)/#REF!)","v":0},{"$f":"IF(ISERROR((#REF!-#REF!)/#REF!),0,(#REF!-#REF!)/#REF!)","v":0},{"$f":"IF(ISERROR((#REF!-#REF!)/#REF!),0,(#REF!-#REF!)/#REF!)","v":0},{"$f":"IF(ISERROR((#REF!-#REF!)/#REF!),0,(#REF!-#REF!)/#REF!)","v":0},{"$f":"IF(ISERROR((#REF!-#REF!)/#REF!),0,(#REF!-#REF!)/#REF!)","v":0},{"$f":"IF(ISERROR((#REF!-#REF!)/#REF!),0,(#REF!-#REF!)/#REF!)","v":0},{"$f":"IF(ISERROR((#REF!-#REF!)/#REF!),0,(#REF!-#REF!)/#REF!)","v":0},{"$f":"IF(ISERROR((#REF!-#REF!)/#REF!),0,(#REF!-#REF!)/#REF!)","v":0},{"$f":"IF(ISERROR((#REF!-#REF!)/#REF!),0,(#REF!-#REF!)/#REF!)","v":0},{"$f":"IF(ISERROR((#REF!-#REF!)/#REF!),0,(#REF!-#REF!)/#REF!)","v":0},{"$f":"IF(ISERROR((#REF!-#REF!)/#REF!),0,(#REF!-#REF!)/#REF!)","v":0},{"$f":"IF(ISERROR((#REF!-#REF!)/#REF!),0,(#REF!-#REF!)/#REF!)","v":0}]
[null,"SA04D","Iron Deficiency Anaemia with CC",0,1533.7751131897644,0,0,5,2692.5102806833038,21,232,"No","-",0,1,"HRG",{"$f":"IF(ISERROR((#REF!-#REF!)/#REF!),0,(#REF!-#REF!)/#REF!)","v":0},{"$f":"IF(ISERROR((#REF!-#REF!)/#REF!),0,(#REF!-#REF!)/#REF!)","v":0},{"$f":"IF(ISERROR((#REF!-#REF!)/#REF!),0,(#REF!-#REF!)/#REF!)","v":0},{"$f":"IF(ISERROR((#REF!-#REF!)/#REF!),0,(#REF!-#REF!)/#REF!)","v":0},{"$f":"IF(ISERROR((#REF!-#REF!)/#REF!),0,(#REF!-#REF!)/#REF!)","v":0},{"$f":"IF(ISERROR((#REF!-#REF!)/#REF!),0,(#REF!-#REF!)/#REF!)","v":0},{"$f":"IF(ISERROR((#REF!-#REF!)/#REF!),0,(#REF!-#REF!)/#REF!)","v":0},{"$f":"IF(ISERROR((#REF!-#REF!)/#REF!),0,(#REF!-#REF!)/#REF!)","v":0},{"$f":"IF(ISERROR((#REF!-#REF!)/#REF!),0,(#REF!-#REF!)/#REF!)","v":0},{"$f":"IF(ISERROR((#REF!-#REF!)/#REF!),0,(#REF!-#REF!)/#REF!)","v":0},{"$f":"IF(ISERROR((#REF!-#REF!)/#REF!),0,(#REF!-#REF!)/#REF!)","v":0},{"$f":"IF(ISERROR((#REF!-#REF!)/#REF!),0,(#REF!-#REF!)/#REF!)","v":0},{"$f":"IF(ISERROR((#REF!-#REF!)/#REF!),0,(#REF!-#REF!)/#REF!)","v":0}]
[null,"SA04F","Iron Deficiency Anaemia without CC",0,1129.7371677714889,0,0,5,1197.5764701589139,6,232,"No","-",0,1,"HRG",{"$f":"IF(ISERROR((#REF!-#REF!)/#REF!),0,(#REF!-#REF!)/#REF!)","v":0},{"$f":"IF(ISERROR((#REF!-#REF!)/#REF!),0,(#REF!-#REF!)/#REF!)","v":0},{"$f":"IF(ISERROR((#REF!-#REF!)/#REF!),0,(#REF!-#REF!)/#REF!)","v":0},{"$f":"IF(ISERROR((#REF!-#REF!)/#REF!),0,(#REF!-#REF!)/#REF!)","v":0},{"$f":"IF(ISERROR((#REF!-#REF!)/#REF!),0,(#REF!-#REF!)/#REF!)","v":0},{"$f":"IF(ISERROR((#REF!-#REF!)/#REF!),0,(#REF!-#REF!)/#REF!)","v":0},{"$f":"IF(ISERROR((#REF!-#REF!)/#REF!),0,(#REF!-#REF!)/#REF!)","v":0},{"$f":"IF(ISERROR((#REF!-#REF!)/#REF!),0,(#REF!-#REF!)/#REF!)","v":0},{"$f":"IF(ISERROR((#REF!-#REF!)/#REF!),0,(#REF!-#REF!)/#REF!)","v":0},{"$f":"IF(ISERROR((#REF!-#REF!)/#REF!),0,(#REF!-#REF!)/#REF!)","v":0},{"$f":"IF(ISERROR((#REF!-#REF!)/#REF!),0,(#REF!-#REF!)/#REF!)","v":0},{"$f":"IF(ISERROR((#REF!-#REF!)/#REF!),0,(#REF!-#REF!)/#REF!)","v":0},{"$f":"IF(ISERROR((#REF!-#REF!)/#REF!),0,(#REF!-#REF!)/#REF!)","v":0}]
[null,"SA05D","Megaloblastic Anaemia with CC",0,667.50292529217359,0,0,5,2706.5522464173596,22,232,"No","-",0,1,"HRG",{"$f":"IF(ISERROR((#REF!-#REF!)/#REF!),0,(#REF!-#REF!)/#REF!)","v":0},{"$f":"IF(ISERROR((#REF!-#REF!)/#REF!),0,(#REF!-#REF!)/#REF!)","v":0},{"$f":"IF(ISERROR((#REF!-#REF!)/#REF!),0,(#REF!-#REF!)/#REF!)","v":0},{"$f":"IF(ISERROR((#REF!-#REF!)/#REF!),0,(#REF!-#REF!)/#REF!)","v":0},{"$f":"IF(ISERROR((#REF!-#REF!)/#REF!),0,(#REF!-#REF!)/#REF!)","v":0},{"$f":"IF(ISERROR((#REF!-#REF!)/#REF!),0,(#REF!-#REF!)/#REF!)","v":0},{"$f":"IF(ISERROR((#REF!-#REF!)/#REF!),0,(#REF!-#REF!)/#REF!)","v":0},{"$f":"IF(ISERROR((#REF!-#REF!)/#REF!),0,(#REF!-#REF!)/#REF!)","v":0},{"$f":"IF(ISERROR((#REF!-#REF!)/#REF!),0,(#REF!-#REF!)/#REF!)","v":0},{"$f":"IF(ISERROR((#REF!-#REF!)/#REF!),0,(#REF!-#REF!)/#REF!)","v":0},{"$f":"IF(ISERROR((#REF!-#REF!)/#REF!),0,(#REF!-#REF!)/#REF!)","v":0},{"$f":"IF(ISERROR((#REF!-#REF!)/#REF!),0,(#REF!-#REF!)/#REF!)","v":0},{"$f":"IF(ISERROR((#REF!-#REF!)/#REF!),0,(#REF!-#REF!)/#REF!)","v":0}]
[null,"SA05F","Megaloblastic Anaemia without CC",0,344,0,0,5,1143,11,232,"No","-",0,1,"HRG",{"$f":"IF(ISERROR((#REF!-#REF!)/#REF!),0,(#REF!-#REF!)/#REF!)","v":0},{"$f":"IF(ISERROR((#REF!-#REF!)/#REF!),0,(#REF!-#REF!)/#REF!)","v":0},{"$f":"IF(ISERROR((#REF!-#REF!)/#REF!),0,(#REF!-#REF!)/#REF!)","v":0},{"$f":"IF(ISERROR((#REF!-#REF!)/#REF!),0,(#REF!-#REF!)/#REF!)","v":0},{"$f":"IF(ISERROR((#REF!-#REF!)/#REF!),0,(#REF!-#REF!)/#REF!)","v":0},{"$f":"IF(ISERROR((#REF!-#REF!)/#REF!),0,(#REF!-#REF!)/#REF!)","v":0},{"$f":"IF(ISERROR((#REF!-#REF!)/#REF!),0,(#REF!-#REF!)/#REF!)","v":0},{"$f":"IF(ISERROR((#REF!-#REF!)/#REF!),0,(#REF!-#REF!)/#REF!)","v":0},{"$f":"IF(ISERROR((#REF!-#REF!)/#REF!),0,(#REF!-#REF!)/#REF!)","v":0},{"$f":"IF(ISERROR((#REF!-#REF!)/#REF!),0,(#REF!-#REF!)/#REF!)","v":0},{"$f":"IF(ISERROR((#REF!-#REF!)/#REF!),0,(#REF!-#REF!)/#REF!)","v":0},{"$f":"IF(ISERROR((#REF!-#REF!)/#REF!),0,(#REF!-#REF!)/#REF!)","v":0},{"$f":"IF(ISERROR((#REF!-#REF!)/#REF!),0,(#REF!-#REF!)/#REF!)","v":0}]
[null,"SA06D","Myelodysplastic Syndrome with CC",0,614,0,0,5,5259.9864492957277,25,232,"Yes",0.30000000000000004,1577.9959347887186,"","",{"$f":"IF(ISERROR((#REF!-#REF!)/#REF!),0,(#REF!-#REF!)/#REF!)","v":0},{"$f":"IF(ISERROR((#REF!-#REF!)/#REF!),0,(#REF!-#REF!)/#REF!)","v":0},{"$f":"IF(ISERROR((#REF!-#REF!)/#REF!),0,(#REF!-#REF!)/#REF!)","v":0},{"$f":"IF(ISERROR((#REF!-#REF!)/#REF!),0,(#REF!-#REF!)/#REF!)","v":0},{"$f":"IF(ISERROR((#REF!-#REF!)/#REF!),0,(#REF!-#REF!)/#REF!)","v":0},{"$f":"IF(ISERROR((#REF!-#REF!)/#REF!),0,(#REF!-#REF!)/#REF!)","v":0},{"$f":"IF(ISERROR((#REF!-#REF!)/#REF!),0,(#REF!-#REF!)/#REF!)","v":0},{"$f":"IF(ISERROR((#REF!-#REF!)/#REF!),0,(#REF!-#REF!)/#REF!)","v":0},{"$f":"IF(ISERROR((#REF!-#REF!)/#REF!),0,(#REF!-#REF!)/#REF!)","v":0},{"$f":"IF(ISERROR((#REF!-#REF!)/#REF!),0,(#REF!-#REF!)/#REF!)","v":0},{"$f":"IF(ISERROR((#REF!-#REF!)/#REF!),0,(#REF!-#REF!)/#REF!)","v":0},{"$f":"IF(ISERROR((#REF!-#REF!)/#REF!),0,(#REF!-#REF!)/#REF!)","v":0},{"$f":"IF(ISERROR((#REF!-#REF!)/#REF!),0,(#REF!-#REF!)/#REF!)","v":0}]
[null,"SA06F","Myelodysplastic Syndrome without CC",0,1121.8917707730759,0,0,5,2431.493586804801,13,232,"Yes",0.4,972.59743472192042,"","",{"$f":"IF(ISERROR((#REF!-#REF!)/#REF!),0,(#REF!-#REF!)/#REF!)","v":0},{"$f":"IF(ISERROR((#REF!-#REF!)/#REF!),0,(#REF!-#REF!)/#REF!)","v":0},{"$f":"IF(ISERROR((#REF!-#REF!)/#REF!),0,(#REF!-#REF!)/#REF!)","v":0},{"$f":"IF(ISERROR((#REF!-#REF!)/#REF!),0,(#REF!-#REF!)/#REF!)","v":0},{"$f":"IF(ISERROR((#REF!-#REF!)/#REF!),0,(#REF!-#REF!)/#REF!)","v":0},{"$f":"IF(ISERROR((#REF!-#REF!)/#REF!),0,(#REF!-#REF!)/#REF!)","v":0},{"$f":"IF(ISERROR((#REF!-#REF!)/#REF!),0,(#REF!-#REF!)/#REF!)","v":0},{"$f":"IF(ISERROR((#REF!-#REF!)/#REF!),0,(#REF!-#REF!)/#REF!)","v":0},{"$f":"IF(ISERROR((#REF!-#REF!)/#REF!),0,(#REF!-#REF!)/#REF!)","v":0},{"$f":"IF(ISERROR((#REF!-#REF!)/#REF!),0,(#REF!-#REF!)/#REF!)","v":0},{"$f":"IF(ISERROR((#REF!-#REF!)/#REF!),0,(#REF!-#REF!)/#REF!)","v":0},{"$f":"IF(ISERROR((#REF!-#REF!)/#REF!),0,(#REF!-#REF!)/#REF!)","v":0},{"$f":"IF(ISERROR((#REF!-#REF!)/#REF!),0,(#REF!-#REF!)/#REF!)","v":0}]
[null,"SA07D","Myeloproliferative Disorder with CC",0,345,0,0,5,3256,20,232,"Yes",0.30000000000000004,976.80000000000018,"","",{"$f":"IF(ISERROR((#REF!-#REF!)/#REF!),0,(#REF!-#REF!)/#REF!)","v":0},{"$f":"IF(ISERROR((#REF!-#REF!)/#REF!),0,(#REF!-#REF!)/#REF!)","v":0},{"$f":"IF(ISERROR((#REF!-#REF!)/#REF!),0,(#REF!-#REF!)/#REF!)","v":0},{"$f":"IF(ISERROR((#REF!-#REF!)/#REF!),0,(#REF!-#REF!)/#REF!)","v":0},{"$f":"IF(ISERROR((#REF!-#REF!)/#REF!),0,(#REF!-#REF!)/#REF!)","v":0},{"$f":"IF(ISERROR((#REF!-#REF!)/#REF!),0,(#REF!-#REF!)/#REF!)","v":0},{"$f":"IF(ISERROR((#REF!-#REF!)/#REF!),0,(#REF!-#REF!)/#REF!)","v":0},{"$f":"IF(ISERROR((#REF!-#REF!)/#REF!),0,(#REF!-#REF!)/#REF!)","v":0},{"$f":"IF(ISERROR((#REF!-#REF!)/#REF!),0,(#REF!-#REF!)/#REF!)","v":0},{"$f":"IF(ISERROR((#REF!-#REF!)/#REF!),0,(#REF!-#REF!)/#REF!)","v":0},{"$f":"IF(ISERROR((#REF!-#REF!)/#REF!),0,(#REF!-#REF!)/#REF!)","v":0},{"$f":"IF(ISERROR((#REF!-#REF!)/#REF!),0,(#REF!-#REF!)/#REF!)","v":0},{"$f":"IF(ISERROR((#REF!-#REF!)/#REF!),0,(#REF!-#REF!)/#REF!)","v":0}]
[null,"SA07F","Myeloproliferative Disorder without CC",0,560.72422424954755,0,0,5,855,5,232,"Yes",0.65,555.75,"","",{"$f":"IF(ISERROR((#REF!-#REF!)/#REF!),0,(#REF!-#REF!)/#REF!)","v":0},{"$f":"IF(ISERROR((#REF!-#REF!)/#REF!),0,(#REF!-#REF!)/#REF!)","v":0},{"$f":"IF(ISERROR((#REF!-#REF!)/#REF!),0,(#REF!-#REF!)/#REF!)","v":0},{"$f":"IF(ISERROR((#REF!-#REF!)/#REF!),0,(#REF!-#REF!)/#REF!)","v":0},{"$f":"IF(ISERROR((#REF!-#REF!)/#REF!),0,(#REF!-#REF!)/#REF!)","v":0},{"$f":"IF(ISERROR((#REF!-#REF!)/#REF!),0,(#REF!-#REF!)/#REF!)","v":0},{"$f":"IF(ISERROR((#REF!-#REF!)/#REF!),0,(#REF!-#REF!)/#REF!)","v":0},{"$f":"IF(ISERROR((#REF!-#REF!)/#REF!),0,(#REF!-#REF!)/#REF!)","v":0},{"$f":"IF(ISERROR((#REF!-#REF!)/#REF!),0,(#REF!-#REF!)/#REF!)","v":0},{"$f":"IF(ISERROR((#REF!-#REF!)/#REF!),0,(#REF!-#REF!)/#REF!)","v":0},{"$f":"IF(ISERROR((#REF!-#REF!)/#REF!),0,(#REF!-#REF!)/#REF!)","v":0},{"$f":"IF(ISERROR((#REF!-#REF!)/#REF!),0,(#REF!-#REF!)/#REF!)","v":0},{"$f":"IF(ISERROR((#REF!-#REF!)/#REF!),0,(#REF!-#REF!)/#REF!)","v":0}]
[null,"SA08D","Other Haematological or Splenic Disorders, with CC",0,476,0,0,5,3317.5737283734766,19,232,"Yes",0.30000000000000004,995.27211851204311,"","",{"$f":"IF(ISERROR((#REF!-#REF!)/#REF!),0,(#REF!-#REF!)/#REF!)","v":0},{"$f":"IF(ISERROR((#REF!-#REF!)/#REF!),0,(#REF!-#REF!)/#REF!)","v":0},{"$f":"IF(ISERROR((#REF!-#REF!)/#REF!),0,(#REF!-#REF!)/#REF!)","v":0},{"$f":"IF(ISERROR((#REF!-#REF!)/#REF!),0,(#REF!-#REF!)/#REF!)","v":0},{"$f":"IF(ISERROR((#REF!-#REF!)/#REF!),0,(#REF!-#REF!)/#REF!)","v":0},{"$f":"IF(ISERROR((#REF!-#REF!)/#REF!),0,(#REF!-#REF!)/#REF!)","v":0},{"$f":"IF(ISERROR((#REF!-#REF!)/#REF!),0,(#REF!-#REF!)/#REF!)","v":0},{"$f":"IF(ISERROR((#REF!-#REF!)/#REF!),0,(#REF!-#REF!)/#REF!)","v":0},{"$f":"IF(ISERROR((#REF!-#REF!)/#REF!),0,(#REF!-#REF!)/#REF!)","v":0},{"$f":"IF(ISERROR((#REF!-#REF!)/#REF!),0,(#REF!-#REF!)/#REF!)","v":0},{"$f":"IF(ISERROR((#REF!-#REF!)/#REF!),0,(#REF!-#REF!)/#REF!)","v":0},{"$f":"IF(ISERROR((#REF!-#REF!)/#REF!),0,(#REF!-#REF!)/#REF!)","v":0},{"$f":"IF(ISERROR((#REF!-#REF!)/#REF!),0,(#REF!-#REF!)/#REF!)","v":0}]
[null,"SA08F","Other Haematological or Splenic Disorders, without CC",0,1223.8819317524462,0,0,5,1473,8,232,"Yes",0.4,589.20000000000005,"","",{"$f":"IF(ISERROR((#REF!-#REF!)/#REF!),0,(#REF!-#REF!)/#REF!)","v":0},{"$f":"IF(ISERROR((#REF!-#REF!)/#REF!),0,(#REF!-#REF!)/#REF!)","v":0},{"$f":"IF(ISERROR((#REF!-#REF!)/#REF!),0,(#REF!-#REF!)/#REF!)","v":0},{"$f":"IF(ISERROR((#REF!-#REF!)/#REF!),0,(#REF!-#REF!)/#REF!)","v":0},{"$f":"IF(ISERROR((#REF!-#REF!)/#REF!),0,(#REF!-#REF!)/#REF!)","v":0},{"$f":"IF(ISERROR((#REF!-#REF!)/#REF!),0,(#REF!-#REF!)/#REF!)","v":0},{"$f":"IF(ISERROR((#REF!-#REF!)/#REF!),0,(#REF!-#REF!)/#REF!)","v":0},{"$f":"IF(ISERROR((#REF!-#REF!)/#REF!),0,(#REF!-#REF!)/#REF!)","v":0},{"$f":"IF(ISERROR((#REF!-#REF!)/#REF!),0,(#REF!-#REF!)/#REF!)","v":0},{"$f":"IF(ISERROR((#REF!-#REF!)/#REF!),0,(#REF!-#REF!)/#REF!)","v":0},{"$f":"IF(ISERROR((#REF!-#REF!)/#REF!),0,(#REF!-#REF!)/#REF!)","v":0},{"$f":"IF(ISERROR((#REF!-#REF!)/#REF!),0,(#REF!-#REF!)/#REF!)","v":0},{"$f":"IF(ISERROR((#REF!-#REF!)/#REF!),0,(#REF!-#REF!)/#REF!)","v":0}]
[null,"SA09D","Other Red Blood Cell Disorders with CC",0,865.23240196141478,0,0,5,3427.4965455215602,19,232,"Yes",0.30000000000000004,1028.2489636564683,"","",{"$f":"IF(ISERROR((#REF!-#REF!)/#REF!),0,(#REF!-#REF!)/#REF!)","v":0},{"$f":"IF(ISERROR((#REF!-#REF!)/#REF!),0,(#REF!-#REF!)/#REF!)","v":0},{"$f":"IF(ISERROR((#REF!-#REF!)/#REF!),0,(#REF!-#REF!)/#REF!)","v":0},{"$f":"IF(ISERROR((#REF!-#REF!)/#REF!),0,(#REF!-#REF!)/#REF!)","v":0},{"$f":"IF(ISERROR((#REF!-#REF!)/#REF!),0,(#REF!-#REF!)/#REF!)","v":0},{"$f":"IF(ISERROR((#REF!-#REF!)/#REF!),0,(#REF!-#REF!)/#REF!)","v":0},{"$f":"IF(ISERROR((#REF!-#REF!)/#REF!),0,(#REF!-#REF!)/#REF!)","v":0},{"$f":"IF(ISERROR((#REF!-#REF!)/#REF!),0,(#REF!-#REF!)/#REF!)","v":0},{"$f":"IF(ISERROR((#REF!-#REF!)/#REF!),0,(#REF!-#REF!)/#REF!)","v":0},{"$f":"IF(ISERROR((#REF!-#REF!)/#REF!),0,(#REF!-#REF!)/#REF!)","v":0},{"$f":"IF(ISERROR((#REF!-#REF!)/#REF!),0,(#REF!-#REF!)/#REF!)","v":0},{"$f":"IF(ISERROR((#REF!-#REF!)/#REF!),0,(#REF!-#REF!)/#REF!)","v":0},{"$f":"IF(ISERROR((#REF!-#REF!)/#REF!),0,(#REF!-#REF!)/#REF!)","v":0}]
[null,"SA09F","Other Red Blood Cell Disorders without CC",0,514.04974031862548,0,0,5,2064.0652145622503,6,232,"Yes",0.4,825.6260858249002,"","",{"$f":"IF(ISERROR((#REF!-#REF!)/#REF!),0,(#REF!-#REF!)/#REF!)","v":0},{"$f":"IF(ISERROR((#REF!-#REF!)/#REF!),0,(#REF!-#REF!)/#REF!)","v":0},{"$f":"IF(ISERROR((#REF!-#REF!)/#REF!),0,(#REF!-#REF!)/#REF!)","v":0},{"$f":"IF(ISERROR((#REF!-#REF!)/#REF!),0,(#REF!-#REF!)/#REF!)","v":0},{"$f":"IF(ISERROR((#REF!-#REF!)/#REF!),0,(#REF!-#REF!)/#REF!)","v":0},{"$f":"IF(ISERROR((#REF!-#REF!)/#REF!),0,(#REF!-#REF!)/#REF!)","v":0},{"$f":"IF(ISERROR((#REF!-#REF!)/#REF!),0,(#REF!-#REF!)/#REF!)","v":0},{"$f":"IF(ISERROR((#REF!-#REF!)/#REF!),0,(#REF!-#REF!)/#REF!)","v":0},{"$f":"IF(ISERROR((#REF!-#REF!)/#REF!),0,(#REF!-#REF!)/#REF!)","v":0},{"$f":"IF(ISERROR((#REF!-#REF!)/#REF!),0,(#REF!-#REF!)/#REF!)","v":0},{"$f":"IF(ISERROR((#REF!-#REF!)/#REF!),0,(#REF!-#REF!)/#REF!)","v":0},{"$f":"IF(ISERROR((#REF!-#REF!)/#REF!),0,(#REF!-#REF!)/#REF!)","v":0},{"$f":"IF(ISERROR((#REF!-#REF!)/#REF!),0,(#REF!-#REF!)/#REF!)","v":0}]
[null,"SA10E","Sickle Cell Anaemia with Crisis, or with CC",0,906,0,0,5,1769,13,232,"Yes",0.4,707.6,"","",{"$f":"IF(ISERROR((#REF!-#REF!)/#REF!),0,(#REF!-#REF!)/#REF!)","v":0},{"$f":"IF(ISERROR((#REF!-#REF!)/#REF!),0,(#REF!-#REF!)/#REF!)","v":0},{"$f":"IF(ISERROR((#REF!-#REF!)/#REF!),0,(#REF!-#REF!)/#REF!)","v":0},{"$f":"IF(ISERROR((#REF!-#REF!)/#REF!),0,(#REF!-#REF!)/#REF!)","v":0},{"$f":"IF(ISERROR((#REF!-#REF!)/#REF!),0,(#REF!-#REF!)/#REF!)","v":0},{"$f":"IF(ISERROR((#REF!-#REF!)/#REF!),0,(#REF!-#REF!)/#REF!)","v":0},{"$f":"IF(ISERROR((#REF!-#REF!)/#REF!),0,(#REF!-#REF!)/#REF!)","v":0},{"$f":"IF(ISERROR((#REF!-#REF!)/#REF!),0,(#REF!-#REF!)/#REF!)","v":0},{"$f":"IF(ISERROR((#REF!-#REF!)/#REF!),0,(#REF!-#REF!)/#REF!)","v":0},{"$f":"IF(ISERROR((#REF!-#REF!)/#REF!),0,(#REF!-#REF!)/#REF!)","v":0},{"$f":"IF(ISERROR((#REF!-#REF!)/#REF!),0,(#REF!-#REF!)/#REF!)","v":0},{"$f":"IF(ISERROR((#REF!-#REF!)/#REF!),0,(#REF!-#REF!)/#REF!)","v":0},{"$f":"IF(ISERROR((#REF!-#REF!)/#REF!),0,(#REF!-#REF!)/#REF!)","v":0}]
[null,"SA10F","Sickle Cell Anaemia without CC",0,428,0,0,5,622,5,232,"Yes",1,622,"","",{"$f":"IF(ISERROR((#REF!-#REF!)/#REF!),0,(#REF!-#REF!)/#REF!)","v":0},{"$f":"IF(ISERROR((#REF!-#REF!)/#REF!),0,(#REF!-#REF!)/#REF!)","v":0},{"$f":"IF(ISERROR((#REF!-#REF!)/#REF!),0,(#REF!-#REF!)/#REF!)","v":0},{"$f":"IF(ISERROR((#REF!-#REF!)/#REF!),0,(#REF!-#REF!)/#REF!)","v":0},{"$f":"IF(ISERROR((#REF!-#REF!)/#REF!),0,(#REF!-#REF!)/#REF!)","v":0},{"$f":"IF(ISERROR((#REF!-#REF!)/#REF!),0,(#REF!-#REF!)/#REF!)","v":0},{"$f":"IF(ISERROR((#REF!-#REF!)/#REF!),0,(#REF!-#REF!)/#REF!)","v":0},{"$f":"IF(ISERROR((#REF!-#REF!)/#REF!),0,(#REF!-#REF!)/#REF!)","v":0},{"$f":"IF(ISERROR((#REF!-#REF!)/#REF!),0,(#REF!-#REF!)/#REF!)","v":0},{"$f":"IF(ISERROR((#REF!-#REF!)/#REF!),0,(#REF!-#REF!)/#REF!)","v":0},{"$f":"IF(ISERROR((#REF!-#REF!)/#REF!),0,(#REF!-#REF!)/#REF!)","v":0},{"$f":"IF(ISERROR((#REF!-#REF!)/#REF!),0,(#REF!-#REF!)/#REF!)","v":0},{"$f":"IF(ISERROR((#REF!-#REF!)/#REF!),0,(#REF!-#REF!)/#REF!)","v":0}]
[null,"SA11Z","Thalassaemia",0,367,0,0,5,693,5,232,"Yes",1,693,"","",{"$f":"IF(ISERROR((#REF!-#REF!)/#REF!),0,(#REF!-#REF!)/#REF!)","v":0},{"$f":"IF(ISERROR((#REF!-#REF!)/#REF!),0,(#REF!-#REF!)/#REF!)","v":0},{"$f":"IF(ISERROR((#REF!-#REF!)/#REF!),0,(#REF!-#REF!)/#REF!)","v":0},{"$f":"IF(ISERROR((#REF!-#REF!)/#REF!),0,(#REF!-#REF!)/#REF!)","v":0},{"$f":"IF(ISERROR((#REF!-#REF!)/#REF!),0,(#REF!-#REF!)/#REF!)","v":0},{"$f":"IF(ISERROR((#REF!-#REF!)/#REF!),0,(#REF!-#REF!)/#REF!)","v":0},{"$f":"IF(ISERROR((#REF!-#REF!)/#REF!),0,(#REF!-#REF!)/#REF!)","v":0},{"$f":"IF(ISERROR((#REF!-#REF!)/#REF!),0,(#REF!-#REF!)/#REF!)","v":0},{"$f":"IF(ISERROR((#REF!-#REF!)/#REF!),0,(#REF!-#REF!)/#REF!)","v":0},{"$f":"IF(ISERROR((#REF!-#REF!)/#REF!),0,(#REF!-#REF!)/#REF!)","v":0},{"$f":"IF(ISERROR((#REF!-#REF!)/#REF!),0,(#REF!-#REF!)/#REF!)","v":0},{"$f":"IF(ISERROR((#REF!-#REF!)/#REF!),0,(#REF!-#REF!)/#REF!)","v":0},{"$f":"IF(ISERROR((#REF!-#REF!)/#REF!),0,(#REF!-#REF!)/#REF!)","v":0}]
[null,"SA12D","Thrombocytopenia with CC",0,1221.1826488286167,0,0,5,3420.4719532120007,16,232,"Yes",0.30000000000000004,1026.1415859636004,"","",{"$f":"IF(ISERROR((#REF!-#REF!)/#REF!),0,(#REF!-#REF!)/#REF!)","v":0},{"$f":"IF(ISERROR((#REF!-#REF!)/#REF!),0,(#REF!-#REF!)/#REF!)","v":0},{"$f":"IF(ISERROR((#REF!-#REF!)/#REF!),0,(#REF!-#REF!)/#REF!)","v":0},{"$f":"IF(ISERROR((#REF!-#REF!)/#REF!),0,(#REF!-#REF!)/#REF!)","v":0},{"$f":"IF(ISERROR((#REF!-#REF!)/#REF!),0,(#REF!-#REF!)/#REF!)","v":0},{"$f":"IF(ISERROR((#REF!-#REF!)/#REF!),0,(#REF!-#REF!)/#REF!)","v":0},{"$f":"IF(ISERROR((#REF!-#REF!)/#REF!),0,(#REF!-#REF!)/#REF!)","v":0},{"$f":"IF(ISERROR((#REF!-#REF!)/#REF!),0,(#REF!-#REF!)/#REF!)","v":0},{"$f":"IF(ISERROR((#REF!-#REF!)/#REF!),0,(#REF!-#REF!)/#REF!)","v":0},{"$f":"IF(ISERROR((#REF!-#REF!)/#REF!),0,(#REF!-#REF!)/#REF!)","v":0},{"$f":"IF(ISERROR((#REF!-#REF!)/#REF!),0,(#REF!-#REF!)/#REF!)","v":0},{"$f":"IF(ISERROR((#REF!-#REF!)/#REF!),0,(#REF!-#REF!)/#REF!)","v":0},{"$f":"IF(ISERROR((#REF!-#REF!)/#REF!),0,(#REF!-#REF!)/#REF!)","v":0}]
[null,"SA12F","Thrombocytopenia without CC",0,382,0,0,5,2197.4500629582012,9,232,"Yes",0.4,878.98002518328053,"","",{"$f":"IF(ISERROR((#REF!-#REF!)/#REF!),0,(#REF!-#REF!)/#REF!)","v":0},{"$f":"IF(ISERROR((#REF!-#REF!)/#REF!),0,(#REF!-#REF!)/#REF!)","v":0},{"$f":"IF(ISERROR((#REF!-#REF!)/#REF!),0,(#REF!-#REF!)/#REF!)","v":0},{"$f":"IF(ISERROR((#REF!-#REF!)/#REF!),0,(#REF!-#REF!)/#REF!)","v":0},{"$f":"IF(ISERROR((#REF!-#REF!)/#REF!),0,(#REF!-#REF!)/#REF!)","v":0},{"$f":"IF(ISERROR((#REF!-#REF!)/#REF!),0,(#REF!-#REF!)/#REF!)","v":0},{"$f":"IF(ISERROR((#REF!-#REF!)/#REF!),0,(#REF!-#REF!)/#REF!)","v":0},{"$f":"IF(ISERROR((#REF!-#REF!)/#REF!),0,(#REF!-#REF!)/#REF!)","v":0},{"$f":"IF(ISERROR((#REF!-#REF!)/#REF!),0,(#REF!-#REF!)/#REF!)","v":0},{"$f":"IF(ISERROR((#REF!-#REF!)/#REF!),0,(#REF!-#REF!)/#REF!)","v":0},{"$f":"IF(ISERROR((#REF!-#REF!)/#REF!),0,(#REF!-#REF!)/#REF!)","v":0},{"$f":"IF(ISERROR((#REF!-#REF!)/#REF!),0,(#REF!-#REF!)/#REF!)","v":0},{"$f":"IF(ISERROR((#REF!-#REF!)/#REF!),0,(#REF!-#REF!)/#REF!)","v":0}]
[null,"SA13A","Single Plasma Exchange, Leucophoresis or Red Cell Exchange, with length of stay 2 days or less, 19 years and over",142,728.97316478509754,0,0,5,623,5,232,"No","-",0,"","",{"$f":"IF(ISERROR((#REF!-#REF!)/#REF!),0,(#REF!-#REF!)/#REF!)","v":0},{"$f":"IF(ISERROR((#REF!-#REF!)/#REF!),0,(#REF!-#REF!)/#REF!)","v":0},{"$f":"IF(ISERROR((#REF!-#REF!)/#REF!),0,(#REF!-#REF!)/#REF!)","v":0},{"$f":"IF(ISERROR((#REF!-#REF!)/#REF!),0,(#REF!-#REF!)/#REF!)","v":0},{"$f":"IF(ISERROR((#REF!-#REF!)/#REF!),0,(#REF!-#REF!)/#REF!)","v":0},{"$f":"IF(ISERROR((#REF!-#REF!)/#REF!),0,(#REF!-#REF!)/#REF!)","v":0},{"$f":"IF(ISERROR((#REF!-#REF!)/#REF!),0,(#REF!-#REF!)/#REF!)","v":0},{"$f":"IF(ISERROR((#REF!-#REF!)/#REF!),0,(#REF!-#REF!)/#REF!)","v":0},{"$f":"IF(ISERROR((#REF!-#REF!)/#REF!),0,(#REF!-#REF!)/#REF!)","v":0},{"$f":"IF(ISERROR((#REF!-#REF!)/#REF!),0,(#REF!-#REF!)/#REF!)","v":0},{"$f":"IF(ISERROR((#REF!-#REF!)/#REF!),0,(#REF!-#REF!)/#REF!)","v":0},{"$f":"IF(ISERROR((#REF!-#REF!)/#REF!),0,(#REF!-#REF!)/#REF!)","v":0},{"$f":"IF(ISERROR((#REF!-#REF!)/#REF!),0,(#REF!-#REF!)/#REF!)","v":0}]
[null,"SA13B","Single Plasma Exchange, Leucophoresis or Red Cell Exchange, with length of stay 2 days or less, 18 years and under",171,593,0,0,5,592,5,232,"No","-",0,"","",{"$f":"IF(ISERROR((#REF!-#REF!)/#REF!),0,(#REF!-#REF!)/#REF!)","v":0},{"$f":"IF(ISERROR((#REF!-#REF!)/#REF!),0,(#REF!-#REF!)/#REF!)","v":0},{"$f":"IF(ISERROR((#REF!-#REF!)/#REF!),0,(#REF!-#REF!)/#REF!)","v":0},{"$f":"IF(ISERROR((#REF!-#REF!)/#REF!),0,(#REF!-#REF!)/#REF!)","v":0},{"$f":"IF(ISERROR((#REF!-#REF!)/#REF!),0,(#REF!-#REF!)/#REF!)","v":0},{"$f":"IF(ISERROR((#REF!-#REF!)/#REF!),0,(#REF!-#REF!)/#REF!)","v":0},{"$f":"IF(ISERROR((#REF!-#REF!)/#REF!),0,(#REF!-#REF!)/#REF!)","v":0},{"$f":"IF(ISERROR((#REF!-#REF!)/#REF!),0,(#REF!-#REF!)/#REF!)","v":0},{"$f":"IF(ISERROR((#REF!-#REF!)/#REF!),0,(#REF!-#REF!)/#REF!)","v":0},{"$f":"IF(ISERROR((#REF!-#REF!)/#REF!),0,(#REF!-#REF!)/#REF!)","v":0},{"$f":"IF(ISERROR((#REF!-#REF!)/#REF!),0,(#REF!-#REF!)/#REF!)","v":0},{"$f":"IF(ISERROR((#REF!-#REF!)/#REF!),0,(#REF!-#REF!)/#REF!)","v":0},{"$f":"IF(ISERROR((#REF!-#REF!)/#REF!),0,(#REF!-#REF!)/#REF!)","v":0}]
[null,"SA14Z","Plasma Exchanges 2 to 9",0,3149,0,0,18,7656,45,232,"No","-",0,"","",{"$f":"IF(ISERROR((#REF!-#REF!)/#REF!),0,(#REF!-#REF!)/#REF!)","v":0},{"$f":"IF(ISERROR((#REF!-#REF!)/#REF!),0,(#REF!-#REF!)/#REF!)","v":0},{"$f":"IF(ISERROR((#REF!-#REF!)/#REF!),0,(#REF!-#REF!)/#REF!)","v":0},{"$f":"IF(ISERROR((#REF!-#REF!)/#REF!),0,(#REF!-#REF!)/#REF!)","v":0},{"$f":"IF(ISERROR((#REF!-#REF!)/#REF!),0,(#REF!-#REF!)/#REF!)","v":0},{"$f":"IF(ISERROR((#REF!-#REF!)/#REF!),0,(#REF!-#REF!)/#REF!)","v":0},{"$f":"IF(ISERROR((#REF!-#REF!)/#REF!),0,(#REF!-#REF!)/#REF!)","v":0},{"$f":"IF(ISERROR((#REF!-#REF!)/#REF!),0,(#REF!-#REF!)/#REF!)","v":0},{"$f":"IF(ISERROR((#REF!-#REF!)/#REF!),0,(#REF!-#REF!)/#REF!)","v":0},{"$f":"IF(ISERROR((#REF!-#REF!)/#REF!),0,(#REF!-#REF!)/#REF!)","v":0},{"$f":"IF(ISERROR((#REF!-#REF!)/#REF!),0,(#REF!-#REF!)/#REF!)","v":0},{"$f":"IF(ISERROR((#REF!-#REF!)/#REF!),0,(#REF!-#REF!)/#REF!)","v":0},{"$f":"IF(ISERROR((#REF!-#REF!)/#REF!),0,(#REF!-#REF!)/#REF!)","v":0}]
[null,"SA15Z","Plasma Exchanges 10 to 19",0,3149,0,0,18,13127,55,232,"No","-",0,"","",{"$f":"IF(ISERROR((#REF!-#REF!)/#REF!),0,(#REF!-#REF!)/#REF!)","v":0},{"$f":"IF(ISERROR((#REF!-#REF!)/#REF!),0,(#REF!-#REF!)/#REF!)","v":0},{"$f":"IF(ISERROR((#REF!-#REF!)/#REF!),0,(#REF!-#REF!)/#REF!)","v":0},{"$f":"IF(ISERROR((#REF!-#REF!)/#REF!),0,(#REF!-#REF!)/#REF!)","v":0},{"$f":"IF(ISERROR((#REF!-#REF!)/#REF!),0,(#REF!-#REF!)/#REF!)","v":0},{"$f":"IF(ISERROR((#REF!-#REF!)/#REF!),0,(#REF!-#REF!)/#REF!)","v":0},{"$f":"IF(ISERROR((#REF!-#REF!)/#REF!),0,(#REF!-#REF!)/#REF!)","v":0},{"$f":"IF(ISERROR((#REF!-#REF!)/#REF!),0,(#REF!-#REF!)/#REF!)","v":0},{"$f":"IF(ISERROR((#REF!-#REF!)/#REF!),0,(#REF!-#REF!)/#REF!)","v":0},{"$f":"IF(ISERROR((#REF!-#REF!)/#REF!),0,(#REF!-#REF!)/#REF!)","v":0},{"$f":"IF(ISERROR((#REF!-#REF!)/#REF!),0,(#REF!-#REF!)/#REF!)","v":0},{"$f":"IF(ISERROR((#REF!-#REF!)/#REF!),0,(#REF!-#REF!)/#REF!)","v":0},{"$f":"IF(ISERROR((#REF!-#REF!)/#REF!),0,(#REF!-#REF!)/#REF!)","v":0}]
[null,"SA16Z","Plasma Exchanges 20 or more",0,3149,0,0,18,13127,55,232,"No","-",0,"","",{"$f":"IF(ISERROR((#REF!-#REF!)/#REF!),0,(#REF!-#REF!)/#REF!)","v":0},{"$f":"IF(ISERROR((#REF!-#REF!)/#REF!),0,(#REF!-#REF!)/#REF!)","v":0},{"$f":"IF(ISERROR((#REF!-#REF!)/#REF!),0,(#REF!-#REF!)/#REF!)","v":0},{"$f":"IF(ISERROR((#REF!-#REF!)/#REF!),0,(#REF!-#REF!)/#REF!)","v":0},{"$f":"IF(ISERROR((#REF!-#REF!)/#REF!),0,(#REF!-#REF!)/#REF!)","v":0},{"$f":"IF(ISERROR((#REF!-#REF!)/#REF!),0,(#REF!-#REF!)/#REF!)","v":0},{"$f":"IF(ISERROR((#REF!-#REF!)/#REF!),0,(#REF!-#REF!)/#REF!)","v":0},{"$f":"IF(ISERROR((#REF!-#REF!)/#REF!),0,(#REF!-#REF!)/#REF!)","v":0},{"$f":"IF(ISERROR((#REF!-#REF!)/#REF!),0,(#REF!-#REF!)/#REF!)","v":0},{"$f":"IF(ISERROR((#REF!-#REF!)/#REF!),0,(#REF!-#REF!)/#REF!)","v":0},{"$f":"IF(ISERROR((#REF!-#REF!)/#REF!),0,(#REF!-#REF!)/#REF!)","v":0},{"$f":"IF(ISERROR((#REF!-#REF!)/#REF!),0,(#REF!-#REF!)/#REF!)","v":0},{"$f":"IF(ISERROR((#REF!-#REF!)/#REF!),0,(#REF!-#REF!)/#REF!)","v":0}]
[null,"SA17D","Malignant Disorders of Lymphatic or Haematological Systems, with CC",0,392,0,0,5,3494.4507548290399,26,232,"Yes",0.30000000000000004,1048.3352264487121,"","",{"$f":"IF(ISERROR((#REF!-#REF!)/#REF!),0,(#REF!-#REF!)/#REF!)","v":0},{"$f":"IF(ISERROR((#REF!-#REF!)/#REF!),0,(#REF!-#REF!)/#REF!)","v":0},{"$f":"IF(ISERROR((#REF!-#REF!)/#REF!),0,(#REF!-#REF!)/#REF!)","v":0},{"$f":"IF(ISERROR((#REF!-#REF!)/#REF!),0,(#REF!-#REF!)/#REF!)","v":0},{"$f":"IF(ISERROR((#REF!-#REF!)/#REF!),0,(#REF!-#REF!)/#REF!)","v":0},{"$f":"IF(ISERROR((#REF!-#REF!)/#REF!),0,(#REF!-#REF!)/#REF!)","v":0},{"$f":"IF(ISERROR((#REF!-#REF!)/#REF!),0,(#REF!-#REF!)/#REF!)","v":0},{"$f":"IF(ISERROR((#REF!-#REF!)/#REF!),0,(#REF!-#REF!)/#REF!)","v":0},{"$f":"IF(ISERROR((#REF!-#REF!)/#REF!),0,(#REF!-#REF!)/#REF!)","v":0},{"$f":"IF(ISERROR((#REF!-#REF!)/#REF!),0,(#REF!-#REF!)/#REF!)","v":0},{"$f":"IF(ISERROR((#REF!-#REF!)/#REF!),0,(#REF!-#REF!)/#REF!)","v":0},{"$f":"IF(ISERROR((#REF!-#REF!)/#REF!),0,(#REF!-#REF!)/#REF!)","v":0},{"$f":"IF(ISERROR((#REF!-#REF!)/#REF!),0,(#REF!-#REF!)/#REF!)","v":0}]
[null,"SA17F","Malignant Disorders of Lymphatic or Haematological Systems, without CC",0,368,0,0,5,1181,5,232,"Yes",0.4,472.40000000000003,"","",{"$f":"IF(ISERROR((#REF!-#REF!)/#REF!),0,(#REF!-#REF!)/#REF!)","v":0},{"$f":"IF(ISERROR((#REF!-#REF!)/#REF!),0,(#REF!-#REF!)/#REF!)","v":0},{"$f":"IF(ISERROR((#REF!-#REF!)/#REF!),0,(#REF!-#REF!)/#REF!)","v":0},{"$f":"IF(ISERROR((#REF!-#REF!)/#REF!),0,(#REF!-#REF!)/#REF!)","v":0},{"$f":"IF(ISERROR((#REF!-#REF!)/#REF!),0,(#REF!-#REF!)/#REF!)","v":0},{"$f":"IF(ISERROR((#REF!-#REF!)/#REF!),0,(#REF!-#REF!)/#REF!)","v":0},{"$f":"IF(ISERROR((#REF!-#REF!)/#REF!),0,(#REF!-#REF!)/#REF!)","v":0},{"$f":"IF(ISERROR((#REF!-#REF!)/#REF!),0,(#REF!-#REF!)/#REF!)","v":0},{"$f":"IF(ISERROR((#REF!-#REF!)/#REF!),0,(#REF!-#REF!)/#REF!)","v":0},{"$f":"IF(ISERROR((#REF!-#REF!)/#REF!),0,(#REF!-#REF!)/#REF!)","v":0},{"$f":"IF(ISERROR((#REF!-#REF!)/#REF!),0,(#REF!-#REF!)/#REF!)","v":0},{"$f":"IF(ISERROR((#REF!-#REF!)/#REF!),0,(#REF!-#REF!)/#REF!)","v":0},{"$f":"IF(ISERROR((#REF!-#REF!)/#REF!),0,(#REF!-#REF!)/#REF!)","v":0}]
[null,"SA18Z","Bone Marrow Harvest",0,1533,0,0,5,2209,6,232,"No","-",0,"","",{"$f":"IF(ISERROR((#REF!-#REF!)/#REF!),0,(#REF!-#REF!)/#REF!)","v":0},{"$f":"IF(ISERROR((#REF!-#REF!)/#REF!),0,(#REF!-#REF!)/#REF!)","v":0},{"$f":"IF(ISERROR((#REF!-#REF!)/#REF!),0,(#REF!-#REF!)/#REF!)","v":0},{"$f":"IF(ISERROR((#REF!-#REF!)/#REF!),0,(#REF!-#REF!)/#REF!)","v":0},{"$f":"IF(ISERROR((#REF!-#REF!)/#REF!),0,(#REF!-#REF!)/#REF!)","v":0},{"$f":"IF(ISERROR((#REF!-#REF!)/#REF!),0,(#REF!-#REF!)/#REF!)","v":0},{"$f":"IF(ISERROR((#REF!-#REF!)/#REF!),0,(#REF!-#REF!)/#REF!)","v":0},{"$f":"IF(ISERROR((#REF!-#REF!)/#REF!),0,(#REF!-#REF!)/#REF!)","v":0},{"$f":"IF(ISERROR((#REF!-#REF!)/#REF!),0,(#REF!-#REF!)/#REF!)","v":0},{"$f":"IF(ISERROR((#REF!-#REF!)/#REF!),0,(#REF!-#REF!)/#REF!)","v":0},{"$f":"IF(ISERROR((#REF!-#REF!)/#REF!),0,(#REF!-#REF!)/#REF!)","v":0},{"$f":"IF(ISERROR((#REF!-#REF!)/#REF!),0,(#REF!-#REF!)/#REF!)","v":0},{"$f":"IF(ISERROR((#REF!-#REF!)/#REF!),0,(#REF!-#REF!)/#REF!)","v":0}]
[null,"SA24D","Acute Lymphoblastic Leukaemia with CC",0,1445,0,0,5,8515,65,232,"Yes",0.30000000000000004,2554.5000000000005,"","",{"$f":"IF(ISERROR((#REF!-#REF!)/#REF!),0,(#REF!-#REF!)/#REF!)","v":0},{"$f":"IF(ISERROR((#REF!-#REF!)/#REF!),0,(#REF!-#REF!)/#REF!)","v":0},{"$f":"IF(ISERROR((#REF!-#REF!)/#REF!),0,(#REF!-#REF!)/#REF!)","v":0},{"$f":"IF(ISERROR((#REF!-#REF!)/#REF!),0,(#REF!-#REF!)/#REF!)","v":0},{"$f":"IF(ISERROR((#REF!-#REF!)/#REF!),0,(#REF!-#REF!)/#REF!)","v":0},{"$f":"IF(ISERROR((#REF!-#REF!)/#REF!),0,(#REF!-#REF!)/#REF!)","v":0},{"$f":"IF(ISERROR((#REF!-#REF!)/#REF!),0,(#REF!-#REF!)/#REF!)","v":0},{"$f":"IF(ISERROR((#REF!-#REF!)/#REF!),0,(#REF!-#REF!)/#REF!)","v":0},{"$f":"IF(ISERROR((#REF!-#REF!)/#REF!),0,(#REF!-#REF!)/#REF!)","v":0},{"$f":"IF(ISERROR((#REF!-#REF!)/#REF!),0,(#REF!-#REF!)/#REF!)","v":0},{"$f":"IF(ISERROR((#REF!-#REF!)/#REF!),0,(#REF!-#REF!)/#REF!)","v":0},{"$f":"IF(ISERROR((#REF!-#REF!)/#REF!),0,(#REF!-#REF!)/#REF!)","v":0},{"$f":"IF(ISERROR((#REF!-#REF!)/#REF!),0,(#REF!-#REF!)/#REF!)","v":0}]
[null,"SA24F","Acute Lymphoblastic Leukaemia without CC",0,644,0,0,5,3635,13,232,"Yes",0.30000000000000004,1090.5000000000002,"","",{"$f":"IF(ISERROR((#REF!-#REF!)/#REF!),0,(#REF!-#REF!)/#REF!)","v":0},{"$f":"IF(ISERROR((#REF!-#REF!)/#REF!),0,(#REF!-#REF!)/#REF!)","v":0},{"$f":"IF(ISERROR((#REF!-#REF!)/#REF!),0,(#REF!-#REF!)/#REF!)","v":0},{"$f":"IF(ISERROR((#REF!-#REF!)/#REF!),0,(#REF!-#REF!)/#REF!)","v":0},{"$f":"IF(ISERROR((#REF!-#REF!)/#REF!),0,(#REF!-#REF!)/#REF!)","v":0},{"$f":"IF(ISERROR((#REF!-#REF!)/#REF!),0,(#REF!-#REF!)/#REF!)","v":0},{"$f":"IF(ISERROR((#REF!-#REF!)/#REF!),0,(#REF!-#REF!)/#REF!)","v":0},{"$f":"IF(ISERROR((#REF!-#REF!)/#REF!),0,(#REF!-#REF!)/#REF!)","v":0},{"$f":"IF(ISERROR((#REF!-#REF!)/#REF!),0,(#REF!-#REF!)/#REF!)","v":0},{"$f":"IF(ISERROR((#REF!-#REF!)/#REF!),0,(#REF!-#REF!)/#REF!)","v":0},{"$f":"IF(ISERROR((#REF!-#REF!)/#REF!),0,(#REF!-#REF!)/#REF!)","v":0},{"$f":"IF(ISERROR((#REF!-#REF!)/#REF!),0,(#REF!-#REF!)/#REF!)","v":0},{"$f":"IF(ISERROR((#REF!-#REF!)/#REF!),0,(#REF!-#REF!)/#REF!)","v":0}]
[null,"SA25D","Acute Myeloid Leukaemia with CC",0,3223,0,0,25,6926,54,232,"Yes",0.30000000000000004,2077.8000000000002,"","",{"$f":"IF(ISERROR((#REF!-#REF!)/#REF!),0,(#REF!-#REF!)/#REF!)","v":0},{"$f":"IF(ISERROR((#REF!-#REF!)/#REF!),0,(#REF!-#REF!)/#REF!)","v":0},{"$f":"IF(ISERROR((#REF!-#REF!)/#REF!),0,(#REF!-#REF!)/#REF!)","v":0},{"$f":"IF(ISERROR((#REF!-#REF!)/#REF!),0,(#REF!-#REF!)/#REF!)","v":0},{"$f":"IF(ISERROR((#REF!-#REF!)/#REF!),0,(#REF!-#REF!)/#REF!)","v":0},{"$f":"IF(ISERROR((#REF!-#REF!)/#REF!),0,(#REF!-#REF!)/#REF!)","v":0},{"$f":"IF(ISERROR((#REF!-#REF!)/#REF!),0,(#REF!-#REF!)/#REF!)","v":0},{"$f":"IF(ISERROR((#REF!-#REF!)/#REF!),0,(#REF!-#REF!)/#REF!)","v":0},{"$f":"IF(ISERROR((#REF!-#REF!)/#REF!),0,(#REF!-#REF!)/#REF!)","v":0},{"$f":"IF(ISERROR((#REF!-#REF!)/#REF!),0,(#REF!-#REF!)/#REF!)","v":0},{"$f":"IF(ISERROR((#REF!-#REF!)/#REF!),0,(#REF!-#REF!)/#REF!)","v":0},{"$f":"IF(ISERROR((#REF!-#REF!)/#REF!),0,(#REF!-#REF!)/#REF!)","v":0},{"$f":"IF(ISERROR((#REF!-#REF!)/#REF!),0,(#REF!-#REF!)/#REF!)","v":0}]
[null,"SA25F","Acute Myeloid Leukaemia without CC",0,1036.2393594060725,0,0,5,4220,20,232,"Yes",0.30000000000000004,1266.0000000000002,"","",{"$f":"IF(ISERROR((#REF!-#REF!)/#REF!),0,(#REF!-#REF!)/#REF!)","v":0},{"$f":"IF(ISERROR((#REF!-#REF!)/#REF!),0,(#REF!-#REF!)/#REF!)","v":0},{"$f":"IF(ISERROR((#REF!-#REF!)/#REF!),0,(#REF!-#REF!)/#REF!)","v":0},{"$f":"IF(ISERROR((#REF!-#REF!)/#REF!),0,(#REF!-#REF!)/#REF!)","v":0},{"$f":"IF(ISERROR((#REF!-#REF!)/#REF!),0,(#REF!-#REF!)/#REF!)","v":0},{"$f":"IF(ISERROR((#REF!-#REF!)/#REF!),0,(#REF!-#REF!)/#REF!)","v":0},{"$f":"IF(ISERROR((#REF!-#REF!)/#REF!),0,(#REF!-#REF!)/#REF!)","v":0},{"$f":"IF(ISERROR((#REF!-#REF!)/#REF!),0,(#REF!-#REF!)/#REF!)","v":0},{"$f":"IF(ISERROR((#REF!-#REF!)/#REF!),0,(#REF!-#REF!)/#REF!)","v":0},{"$f":"IF(ISERROR((#REF!-#REF!)/#REF!),0,(#REF!-#REF!)/#REF!)","v":0},{"$f":"IF(ISERROR((#REF!-#REF!)/#REF!),0,(#REF!-#REF!)/#REF!)","v":0},{"$f":"IF(ISERROR((#REF!-#REF!)/#REF!),0,(#REF!-#REF!)/#REF!)","v":0},{"$f":"IF(ISERROR((#REF!-#REF!)/#REF!),0,(#REF!-#REF!)/#REF!)","v":0}]
[null,"SA30Z","Plasma Cell Disorders",0,345,0,0,5,4081.5120867014616,30,232,"Yes",0.30000000000000004,1224.4536260104387,"","",{"$f":"IF(ISERROR((#REF!-#REF!)/#REF!),0,(#REF!-#REF!)/#REF!)","v":0},{"$f":"IF(ISERROR((#REF!-#REF!)/#REF!),0,(#REF!-#REF!)/#REF!)","v":0},{"$f":"IF(ISERROR((#REF!-#REF!)/#REF!),0,(#REF!-#REF!)/#REF!)","v":0},{"$f":"IF(ISERROR((#REF!-#REF!)/#REF!),0,(#REF!-#REF!)/#REF!)","v":0},{"$f":"IF(ISERROR((#REF!-#REF!)/#REF!),0,(#REF!-#REF!)/#REF!)","v":0},{"$f":"IF(ISERROR((#REF!-#REF!)/#REF!),0,(#REF!-#REF!)/#REF!)","v":0},{"$f":"IF(ISERROR((#REF!-#REF!)/#REF!),0,(#REF!-#REF!)/#REF!)","v":0},{"$f":"IF(ISERROR((#REF!-#REF!)/#REF!),0,(#REF!-#REF!)/#REF!)","v":0},{"$f":"IF(ISERROR((#REF!-#REF!)/#REF!),0,(#REF!-#REF!)/#REF!)","v":0},{"$f":"IF(ISERROR((#REF!-#REF!)/#REF!),0,(#REF!-#REF!)/#REF!)","v":0},{"$f":"IF(ISERROR((#REF!-#REF!)/#REF!),0,(#REF!-#REF!)/#REF!)","v":0},{"$f":"IF(ISERROR((#REF!-#REF!)/#REF!),0,(#REF!-#REF!)/#REF!)","v":0},{"$f":"IF(ISERROR((#REF!-#REF!)/#REF!),0,(#REF!-#REF!)/#REF!)","v":0}]
[null,"SA31Z","Malignant Lymphoma, including Hodgkin's and non-Hodgkin's",0,2836.9553255774013,0,0,5,3967,29,232,"Yes",0.30000000000000004,1190.1000000000001,"","",{"$f":"IF(ISERROR((#REF!-#REF!)/#REF!),0,(#REF!-#REF!)/#REF!)","v":0},{"$f":"IF(ISERROR((#REF!-#REF!)/#REF!),0,(#REF!-#REF!)/#REF!)","v":0},{"$f":"IF(ISERROR((#REF!-#REF!)/#REF!),0,(#REF!-#REF!)/#REF!)","v":0},{"$f":"IF(ISERROR((#REF!-#REF!)/#REF!),0,(#REF!-#REF!)/#REF!)","v":0},{"$f":"IF(ISERROR((#REF!-#REF!)/#REF!),0,(#REF!-#REF!)/#REF!)","v":0},{"$f":"IF(ISERROR((#REF!-#REF!)/#REF!),0,(#REF!-#REF!)/#REF!)","v":0},{"$f":"IF(ISERROR((#REF!-#REF!)/#REF!),0,(#REF!-#REF!)/#REF!)","v":0},{"$f":"IF(ISERROR((#REF!-#REF!)/#REF!),0,(#REF!-#REF!)/#REF!)","v":0},{"$f":"IF(ISERROR((#REF!-#REF!)/#REF!),0,(#REF!-#REF!)/#REF!)","v":0},{"$f":"IF(ISERROR((#REF!-#REF!)/#REF!),0,(#REF!-#REF!)/#REF!)","v":0},{"$f":"IF(ISERROR((#REF!-#REF!)/#REF!),0,(#REF!-#REF!)/#REF!)","v":0},{"$f":"IF(ISERROR((#REF!-#REF!)/#REF!),0,(#REF!-#REF!)/#REF!)","v":0},{"$f":"IF(ISERROR((#REF!-#REF!)/#REF!),0,(#REF!-#REF!)/#REF!)","v":0}]
[null,"SA32Z","Chronic Lymphocytic Leukaemia and Related Disorders",0,349,0,0,5,3930.481513153552,23,232,"Yes",0.30000000000000004,1179.1444539460658,"","",{"$f":"IF(ISERROR((#REF!-#REF!)/#REF!),0,(#REF!-#REF!)/#REF!)","v":0},{"$f":"IF(ISERROR((#REF!-#REF!)/#REF!),0,(#REF!-#REF!)/#REF!)","v":0},{"$f":"IF(ISERROR((#REF!-#REF!)/#REF!),0,(#REF!-#REF!)/#REF!)","v":0},{"$f":"IF(ISERROR((#REF!-#REF!)/#REF!),0,(#REF!-#REF!)/#REF!)","v":0},{"$f":"IF(ISERROR((#REF!-#REF!)/#REF!),0,(#REF!-#REF!)/#REF!)","v":0},{"$f":"IF(ISERROR((#REF!-#REF!)/#REF!),0,(#REF!-#REF!)/#REF!)","v":0},{"$f":"IF(ISERROR((#REF!-#REF!)/#REF!),0,(#REF!-#REF!)/#REF!)","v":0},{"$f":"IF(ISERROR((#REF!-#REF!)/#REF!),0,(#REF!-#REF!)/#REF!)","v":0},{"$f":"IF(ISERROR((#REF!-#REF!)/#REF!),0,(#REF!-#REF!)/#REF!)","v":0},{"$f":"IF(ISERROR((#REF!-#REF!)/#REF!),0,(#REF!-#REF!)/#REF!)","v":0},{"$f":"IF(ISERROR((#REF!-#REF!)/#REF!),0,(#REF!-#REF!)/#REF!)","v":0},{"$f":"IF(ISERROR((#REF!-#REF!)/#REF!),0,(#REF!-#REF!)/#REF!)","v":0},{"$f":"IF(ISERROR((#REF!-#REF!)/#REF!),0,(#REF!-#REF!)/#REF!)","v":0}]
[null,"SA33Z","Diagnostic Bone Marrow Extraction",0,434,0,0,5,557,5,232,"No","-",0,"","",{"$f":"IF(ISERROR((#REF!-#REF!)/#REF!),0,(#REF!-#REF!)/#REF!)","v":0},{"$f":"IF(ISERROR((#REF!-#REF!)/#REF!),0,(#REF!-#REF!)/#REF!)","v":0},{"$f":"IF(ISERROR((#REF!-#REF!)/#REF!),0,(#REF!-#REF!)/#REF!)","v":0},{"$f":"IF(ISERROR((#REF!-#REF!)/#REF!),0,(#REF!-#REF!)/#REF!)","v":0},{"$f":"IF(ISERROR((#REF!-#REF!)/#REF!),0,(#REF!-#REF!)/#REF!)","v":0},{"$f":"IF(ISERROR((#REF!-#REF!)/#REF!),0,(#REF!-#REF!)/#REF!)","v":0},{"$f":"IF(ISERROR((#REF!-#REF!)/#REF!),0,(#REF!-#REF!)/#REF!)","v":0},{"$f":"IF(ISERROR((#REF!-#REF!)/#REF!),0,(#REF!-#REF!)/#REF!)","v":0},{"$f":"IF(ISERROR((#REF!-#REF!)/#REF!),0,(#REF!-#REF!)/#REF!)","v":0},{"$f":"IF(ISERROR((#REF!-#REF!)/#REF!),0,(#REF!-#REF!)/#REF!)","v":0},{"$f":"IF(ISERROR((#REF!-#REF!)/#REF!),0,(#REF!-#REF!)/#REF!)","v":0},{"$f":"IF(ISERROR((#REF!-#REF!)/#REF!),0,(#REF!-#REF!)/#REF!)","v":0},{"$f":"IF(ISERROR((#REF!-#REF!)/#REF!),0,(#REF!-#REF!)/#REF!)","v":0}]
[null,"SB97Z","Same Day Chemotherapy Admission or Attendance",0,0,0,0,5,0,5,0,"No","-",0,"","",{"$f":"IF(ISERROR((#REF!-#REF!)/#REF!),0,(#REF!-#REF!)/#REF!)","v":0},{"$f":"IF(ISERROR((#REF!-#REF!)/#REF!),0,(#REF!-#REF!)/#REF!)","v":0},{"$f":"IF(ISERROR((#REF!-#REF!)/#REF!),0,(#REF!-#REF!)/#REF!)","v":0},{"$f":"IF(ISERROR((#REF!-#REF!)/#REF!),0,(#REF!-#REF!)/#REF!)","v":0},{"$f":"IF(ISERROR((#REF!-#REF!)/#REF!),0,(#REF!-#REF!)/#REF!)","v":0},{"$f":"IF(ISERROR((#REF!-#REF!)/#REF!),0,(#REF!-#REF!)/#REF!)","v":0},{"$f":"IF(ISERROR((#REF!-#REF!)/#REF!),0,(#REF!-#REF!)/#REF!)","v":0},{"$f":"IF(ISERROR((#REF!-#REF!)/#REF!),0,(#REF!-#REF!)/#REF!)","v":0},{"$f":"IF(ISERROR((#REF!-#REF!)/#REF!),0,(#REF!-#REF!)/#REF!)","v":0},{"$f":"IF(ISERROR((#REF!-#REF!)/#REF!),0,(#REF!-#REF!)/#REF!)","v":0},{"$f":"IF(ISERROR((#REF!-#REF!)/#REF!),0,(#REF!-#REF!)/#REF!)","v":0},{"$f":"IF(ISERROR((#REF!-#REF!)/#REF!),0,(#REF!-#REF!)/#REF!)","v":0},{"$f":"IF(ISERROR((#REF!-#REF!)/#REF!),0,(#REF!-#REF!)/#REF!)","v":0}]
[null,"SC97Z","Same Day External Beam Radiotherapy Admission or Attendance",0,0,0,0,5,0,5,0,"No","-",0,"","",{"$f":"IF(ISERROR((#REF!-#REF!)/#REF!),0,(#REF!-#REF!)/#REF!)","v":0},{"$f":"IF(ISERROR((#REF!-#REF!)/#REF!),0,(#REF!-#REF!)/#REF!)","v":0},{"$f":"IF(ISERROR((#REF!-#REF!)/#REF!),0,(#REF!-#REF!)/#REF!)","v":0},{"$f":"IF(ISERROR((#REF!-#REF!)/#REF!),0,(#REF!-#REF!)/#REF!)","v":0},{"$f":"IF(ISERROR((#REF!-#REF!)/#REF!),0,(#REF!-#REF!)/#REF!)","v":0},{"$f":"IF(ISERROR((#REF!-#REF!)/#REF!),0,(#REF!-#REF!)/#REF!)","v":0},{"$f":"IF(ISERROR((#REF!-#REF!)/#REF!),0,(#REF!-#REF!)/#REF!)","v":0},{"$f":"IF(ISERROR((#REF!-#REF!)/#REF!),0,(#REF!-#REF!)/#REF!)","v":0},{"$f":"IF(ISERROR((#REF!-#REF!)/#REF!),0,(#REF!-#REF!)/#REF!)","v":0},{"$f":"IF(ISERROR((#REF!-#REF!)/#REF!),0,(#REF!-#REF!)/#REF!)","v":0},{"$f":"IF(ISERROR((#REF!-#REF!)/#REF!),0,(#REF!-#REF!)/#REF!)","v":0},{"$f":"IF(ISERROR((#REF!-#REF!)/#REF!),0,(#REF!-#REF!)/#REF!)","v":0},{"$f":"IF(ISERROR((#REF!-#REF!)/#REF!),0,(#REF!-#REF!)/#REF!)","v":0}]
[null,"UZ01Z","Data Invalid for Grouping",0,0,0,0,5,0,5,0,"No","-",0,"","",{"$f":"IF(ISERROR((#REF!-#REF!)/#REF!),0,(#REF!-#REF!)/#REF!)","v":0},{"$f":"IF(ISERROR((#REF!-#REF!)/#REF!),0,(#REF!-#REF!)/#REF!)","v":0},{"$f":"IF(ISERROR((#REF!-#REF!)/#REF!),0,(#REF!-#REF!)/#REF!)","v":0},{"$f":"IF(ISERROR((#REF!-#REF!)/#REF!),0,(#REF!-#REF!)/#REF!)","v":0},{"$f":"IF(ISERROR((#REF!-#REF!)/#REF!),0,(#REF!-#REF!)/#REF!)","v":0},{"$f":"IF(ISERROR((#REF!-#REF!)/#REF!),0,(#REF!-#REF!)/#REF!)","v":0},{"$f":"IF(ISERROR((#REF!-#REF!)/#REF!),0,(#REF!-#REF!)/#REF!)","v":0},{"$f":"IF(ISERROR((#REF!-#REF!)/#REF!),0,(#REF!-#REF!)/#REF!)","v":0},{"$f":"IF(ISERROR((#REF!-#REF!)/#REF!),0,(#REF!-#REF!)/#REF!)","v":0},{"$f":"IF(ISERROR((#REF!-#REF!)/#REF!),0,(#REF!-#REF!)/#REF!)","v":0},{"$f":"IF(ISERROR((#REF!-#REF!)/#REF!),0,(#REF!-#REF!)/#REF!)","v":0},{"$f":"IF(ISERROR((#REF!-#REF!)/#REF!),0,(#REF!-#REF!)/#REF!)","v":0},{"$f":"IF(ISERROR((#REF!-#REF!)/#REF!),0,(#REF!-#REF!)/#REF!)","v":0}]
[null,"VA10A","Multiple Trauma Diagnoses score <=23, with no Interventions",0,1548.10204968061,0,0,5,1410.1407913072032,5,211,"Yes",0.4,564.05631652288127,"","",{"$f":"IF(ISERROR((#REF!-#REF!)/#REF!),0,(#REF!-#REF!)/#REF!)","v":0},{"$f":"IF(ISERROR((#REF!-#REF!)/#REF!),0,(#REF!-#REF!)/#REF!)","v":0},{"$f":"IF(ISERROR((#REF!-#REF!)/#REF!),0,(#REF!-#REF!)/#REF!)","v":0},{"$f":"IF(ISERROR((#REF!-#REF!)/#REF!),0,(#REF!-#REF!)/#REF!)","v":0},{"$f":"IF(ISERROR((#REF!-#REF!)/#REF!),0,(#REF!-#REF!)/#REF!)","v":0},{"$f":"IF(ISERROR((#REF!-#REF!)/#REF!),0,(#REF!-#REF!)/#REF!)","v":0},{"$f":"IF(ISERROR((#REF!-#REF!)/#REF!),0,(#REF!-#REF!)/#REF!)","v":0},{"$f":"IF(ISERROR((#REF!-#REF!)/#REF!),0,(#REF!-#REF!)/#REF!)","v":0},{"$f":"IF(ISERROR((#REF!-#REF!)/#REF!),0,(#REF!-#REF!)/#REF!)","v":0},{"$f":"IF(ISERROR((#REF!-#REF!)/#REF!),0,(#REF!-#REF!)/#REF!)","v":0},{"$f":"IF(ISERROR((#REF!-#REF!)/#REF!),0,(#REF!-#REF!)/#REF!)","v":0},{"$f":"IF(ISERROR((#REF!-#REF!)/#REF!),0,(#REF!-#REF!)/#REF!)","v":0},{"$f":"IF(ISERROR((#REF!-#REF!)/#REF!),0,(#REF!-#REF!)/#REF!)","v":0}]
[null,"VA10B","Multiple Trauma Diagnoses score 24-32, with no Interventions",0,1824,0,0,21,1824,21,211,"Yes",0.30000000000000004,547.20000000000005,"","",{"$f":"IF(ISERROR((#REF!-#REF!)/#REF!),0,(#REF!-#REF!)/#REF!)","v":0},{"$f":"IF(ISERROR((#REF!-#REF!)/#REF!),0,(#REF!-#REF!)/#REF!)","v":0},{"$f":"IF(ISERROR((#REF!-#REF!)/#REF!),0,(#REF!-#REF!)/#REF!)","v":0},{"$f":"IF(ISERROR((#REF!-#REF!)/#REF!),0,(#REF!-#REF!)/#REF!)","v":0},{"$f":"IF(ISERROR((#REF!-#REF!)/#REF!),0,(#REF!-#REF!)/#REF!)","v":0},{"$f":"IF(ISERROR((#REF!-#REF!)/#REF!),0,(#REF!-#REF!)/#REF!)","v":0},{"$f":"IF(ISERROR((#REF!-#REF!)/#REF!),0,(#REF!-#REF!)/#REF!)","v":0},{"$f":"IF(ISERROR((#REF!-#REF!)/#REF!),0,(#REF!-#REF!)/#REF!)","v":0},{"$f":"IF(ISERROR((#REF!-#REF!)/#REF!),0,(#REF!-#REF!)/#REF!)","v":0},{"$f":"IF(ISERROR((#REF!-#REF!)/#REF!),0,(#REF!-#REF!)/#REF!)","v":0},{"$f":"IF(ISERROR((#REF!-#REF!)/#REF!),0,(#REF!-#REF!)/#REF!)","v":0},{"$f":"IF(ISERROR((#REF!-#REF!)/#REF!),0,(#REF!-#REF!)/#REF!)","v":0},{"$f":"IF(ISERROR((#REF!-#REF!)/#REF!),0,(#REF!-#REF!)/#REF!)","v":0}]
[null,"VA10C","Multiple Trauma Diagnoses score 33-50, with no Interventions",0,3639,0,0,37,5224.469677035866,37,211,"Yes",0.30000000000000004,1567.3409031107601,"","",{"$f":"IF(ISERROR((#REF!-#REF!)/#REF!),0,(#REF!-#REF!)/#REF!)","v":0},{"$f":"IF(ISERROR((#REF!-#REF!)/#REF!),0,(#REF!-#REF!)/#REF!)","v":0},{"$f":"IF(ISERROR((#REF!-#REF!)/#REF!),0,(#REF!-#REF!)/#REF!)","v":0},{"$f":"IF(ISERROR((#REF!-#REF!)/#REF!),0,(#REF!-#REF!)/#REF!)","v":0},{"$f":"IF(ISERROR((#REF!-#REF!)/#REF!),0,(#REF!-#REF!)/#REF!)","v":0},{"$f":"IF(ISERROR((#REF!-#REF!)/#REF!),0,(#REF!-#REF!)/#REF!)","v":0},{"$f":"IF(ISERROR((#REF!-#REF!)/#REF!),0,(#REF!-#REF!)/#REF!)","v":0},{"$f":"IF(ISERROR((#REF!-#REF!)/#REF!),0,(#REF!-#REF!)/#REF!)","v":0},{"$f":"IF(ISERROR((#REF!-#REF!)/#REF!),0,(#REF!-#REF!)/#REF!)","v":0},{"$f":"IF(ISERROR((#REF!-#REF!)/#REF!),0,(#REF!-#REF!)/#REF!)","v":0},{"$f":"IF(ISERROR((#REF!-#REF!)/#REF!),0,(#REF!-#REF!)/#REF!)","v":0},{"$f":"IF(ISERROR((#REF!-#REF!)/#REF!),0,(#REF!-#REF!)/#REF!)","v":0},{"$f":"IF(ISERROR((#REF!-#REF!)/#REF!),0,(#REF!-#REF!)/#REF!)","v":0}]
[null,"VA10D","Multiple Trauma Diagnoses score >=51, with no Interventions",0,6022,0,0,66,7508.9524444433009,66,211,"Yes",0.30000000000000004,2252.6857333329908,"","",{"$f":"IF(ISERROR((#REF!-#REF!)/#REF!),0,(#REF!-#REF!)/#REF!)","v":0},{"$f":"IF(ISERROR((#REF!-#REF!)/#REF!),0,(#REF!-#REF!)/#REF!)","v":0},{"$f":"IF(ISERROR((#REF!-#REF!)/#REF!),0,(#REF!-#REF!)/#REF!)","v":0},{"$f":"IF(ISERROR((#REF!-#REF!)/#REF!),0,(#REF!-#REF!)/#REF!)","v":0},{"$f":"IF(ISERROR((#REF!-#REF!)/#REF!),0,(#REF!-#REF!)/#REF!)","v":0},{"$f":"IF(ISERROR((#REF!-#REF!)/#REF!),0,(#REF!-#REF!)/#REF!)","v":0},{"$f":"IF(ISERROR((#REF!-#REF!)/#REF!),0,(#REF!-#REF!)/#REF!)","v":0},{"$f":"IF(ISERROR((#REF!-#REF!)/#REF!),0,(#REF!-#REF!)/#REF!)","v":0},{"$f":"IF(ISERROR((#REF!-#REF!)/#REF!),0,(#REF!-#REF!)/#REF!)","v":0},{"$f":"IF(ISERROR((#REF!-#REF!)/#REF!),0,(#REF!-#REF!)/#REF!)","v":0},{"$f":"IF(ISERROR((#REF!-#REF!)/#REF!),0,(#REF!-#REF!)/#REF!)","v":0},{"$f":"IF(ISERROR((#REF!-#REF!)/#REF!),0,(#REF!-#REF!)/#REF!)","v":0},{"$f":"IF(ISERROR((#REF!-#REF!)/#REF!),0,(#REF!-#REF!)/#REF!)","v":0}]
[null,"VA11A","Multiple Trauma Diagnoses score <=23, with Interventions score 1-8",0,1621,0,0,8,1621,8,211,"No","-",0,1,"sub-HRG",{"$f":"IF(ISERROR((#REF!-#REF!)/#REF!),0,(#REF!-#REF!)/#REF!)","v":0},{"$f":"IF(ISERROR((#REF!-#REF!)/#REF!),0,(#REF!-#REF!)/#REF!)","v":0},{"$f":"IF(ISERROR((#REF!-#REF!)/#REF!),0,(#REF!-#REF!)/#REF!)","v":0},{"$f":"IF(ISERROR((#REF!-#REF!)/#REF!),0,(#REF!-#REF!)/#REF!)","v":0},{"$f":"IF(ISERROR((#REF!-#REF!)/#REF!),0,(#REF!-#REF!)/#REF!)","v":0},{"$f":"IF(ISERROR((#REF!-#REF!)/#REF!),0,(#REF!-#REF!)/#REF!)","v":0},{"$f":"IF(ISERROR((#REF!-#REF!)/#REF!),0,(#REF!-#REF!)/#REF!)","v":0},{"$f":"IF(ISERROR((#REF!-#REF!)/#REF!),0,(#REF!-#REF!)/#REF!)","v":0},{"$f":"IF(ISERROR((#REF!-#REF!)/#REF!),0,(#REF!-#REF!)/#REF!)","v":0},{"$f":"IF(ISERROR((#REF!-#REF!)/#REF!),0,(#REF!-#REF!)/#REF!)","v":0},{"$f":"IF(ISERROR((#REF!-#REF!)/#REF!),0,(#REF!-#REF!)/#REF!)","v":0},{"$f":"IF(ISERROR((#REF!-#REF!)/#REF!),0,(#REF!-#REF!)/#REF!)","v":0},{"$f":"IF(ISERROR((#REF!-#REF!)/#REF!),0,(#REF!-#REF!)/#REF!)","v":0}]
[null,"VA11B","Multiple Trauma Diagnoses score 24-32, with Interventions score 1-8",0,2261,0,0,16,2846.8968298283717,16,211,"No","-",0,1,"sub-HRG",{"$f":"IF(ISERROR((#REF!-#REF!)/#REF!),0,(#REF!-#REF!)/#REF!)","v":0},{"$f":"IF(ISERROR((#REF!-#REF!)/#REF!),0,(#REF!-#REF!)/#REF!)","v":0},{"$f":"IF(ISERROR((#REF!-#REF!)/#REF!),0,(#REF!-#REF!)/#REF!)","v":0},{"$f":"IF(ISERROR((#REF!-#REF!)/#REF!),0,(#REF!-#REF!)/#REF!)","v":0},{"$f":"IF(ISERROR((#REF!-#REF!)/#REF!),0,(#REF!-#REF!)/#REF!)","v":0},{"$f":"IF(ISERROR((#REF!-#REF!)/#REF!),0,(#REF!-#REF!)/#REF!)","v":0},{"$f":"IF(ISERROR((#REF!-#REF!)/#REF!),0,(#REF!-#REF!)/#REF!)","v":0},{"$f":"IF(ISERROR((#REF!-#REF!)/#REF!),0,(#REF!-#REF!)/#REF!)","v":0},{"$f":"IF(ISERROR((#REF!-#REF!)/#REF!),0,(#REF!-#REF!)/#REF!)","v":0},{"$f":"IF(ISERROR((#REF!-#REF!)/#REF!),0,(#REF!-#REF!)/#REF!)","v":0},{"$f":"IF(ISERROR((#REF!-#REF!)/#REF!),0,(#REF!-#REF!)/#REF!)","v":0},{"$f":"IF(ISERROR((#REF!-#REF!)/#REF!),0,(#REF!-#REF!)/#REF!)","v":0},{"$f":"IF(ISERROR((#REF!-#REF!)/#REF!),0,(#REF!-#REF!)/#REF!)","v":0}]
[null,"VA11C","Multiple Trauma Diagnoses score 33-50, with Interventions score 1-8",0,3795,0,0,35,3795,35,211,"No","-",0,1,"sub-HRG",{"$f":"IF(ISERROR((#REF!-#REF!)/#REF!),0,(#REF!-#REF!)/#REF!)","v":0},{"$f":"IF(ISERROR((#REF!-#REF!)/#REF!),0,(#REF!-#REF!)/#REF!)","v":0},{"$f":"IF(ISERROR((#REF!-#REF!)/#REF!),0,(#REF!-#REF!)/#REF!)","v":0},{"$f":"IF(ISERROR((#REF!-#REF!)/#REF!),0,(#REF!-#REF!)/#REF!)","v":0},{"$f":"IF(ISERROR((#REF!-#REF!)/#REF!),0,(#REF!-#REF!)/#REF!)","v":0},{"$f":"IF(ISERROR((#REF!-#REF!)/#REF!),0,(#REF!-#REF!)/#REF!)","v":0},{"$f":"IF(ISERROR((#REF!-#REF!)/#REF!),0,(#REF!-#REF!)/#REF!)","v":0},{"$f":"IF(ISERROR((#REF!-#REF!)/#REF!),0,(#REF!-#REF!)/#REF!)","v":0},{"$f":"IF(ISERROR((#REF!-#REF!)/#REF!),0,(#REF!-#REF!)/#REF!)","v":0},{"$f":"IF(ISERROR((#REF!-#REF!)/#REF!),0,(#REF!-#REF!)/#REF!)","v":0},{"$f":"IF(ISERROR((#REF!-#REF!)/#REF!),0,(#REF!-#REF!)/#REF!)","v":0},{"$f":"IF(ISERROR((#REF!-#REF!)/#REF!),0,(#REF!-#REF!)/#REF!)","v":0},{"$f":"IF(ISERROR((#REF!-#REF!)/#REF!),0,(#REF!-#REF!)/#REF!)","v":0}]
[null,"VA11D","Multiple Trauma Diagnoses score >=51, with Interventions score 1-8",0,7114,0,0,71,7114,71,211,"No","-",0,1,"sub-HRG",{"$f":"IF(ISERROR((#REF!-#REF!)/#REF!),0,(#REF!-#REF!)/#REF!)","v":0},{"$f":"IF(ISERROR((#REF!-#REF!)/#REF!),0,(#REF!-#REF!)/#REF!)","v":0},{"$f":"IF(ISERROR((#REF!-#REF!)/#REF!),0,(#REF!-#REF!)/#REF!)","v":0},{"$f":"IF(ISERROR((#REF!-#REF!)/#REF!),0,(#REF!-#REF!)/#REF!)","v":0},{"$f":"IF(ISERROR((#REF!-#REF!)/#REF!),0,(#REF!-#REF!)/#REF!)","v":0},{"$f":"IF(ISERROR((#REF!-#REF!)/#REF!),0,(#REF!-#REF!)/#REF!)","v":0},{"$f":"IF(ISERROR((#REF!-#REF!)/#REF!),0,(#REF!-#REF!)/#REF!)","v":0},{"$f":"IF(ISERROR((#REF!-#REF!)/#REF!),0,(#REF!-#REF!)/#REF!)","v":0},{"$f":"IF(ISERROR((#REF!-#REF!)/#REF!),0,(#REF!-#REF!)/#REF!)","v":0},{"$f":"IF(ISERROR((#REF!-#REF!)/#REF!),0,(#REF!-#REF!)/#REF!)","v":0},{"$f":"IF(ISERROR((#REF!-#REF!)/#REF!),0,(#REF!-#REF!)/#REF!)","v":0},{"$f":"IF(ISERROR((#REF!-#REF!)/#REF!),0,(#REF!-#REF!)/#REF!)","v":0},{"$f":"IF(ISERROR((#REF!-#REF!)/#REF!),0,(#REF!-#REF!)/#REF!)","v":0}]
[null,"VA12A","Multiple Trauma Diagnoses score <=23, with Interventions score 9-18",0,3521,0,0,21,3521,21,211,"No","-",0,1,"sub-HRG",{"$f":"IF(ISERROR((#REF!-#REF!)/#REF!),0,(#REF!-#REF!)/#REF!)","v":0},{"$f":"IF(ISERROR((#REF!-#REF!)/#REF!),0,(#REF!-#REF!)/#REF!)","v":0},{"$f":"IF(ISERROR((#REF!-#REF!)/#REF!),0,(#REF!-#REF!)/#REF!)","v":0},{"$f":"IF(ISERROR((#REF!-#REF!)/#REF!),0,(#REF!-#REF!)/#REF!)","v":0},{"$f":"IF(ISERROR((#REF!-#REF!)/#REF!),0,(#REF!-#REF!)/#REF!)","v":0},{"$f":"IF(ISERROR((#REF!-#REF!)/#REF!),0,(#REF!-#REF!)/#REF!)","v":0},{"$f":"IF(ISERROR((#REF!-#REF!)/#REF!),0,(#REF!-#REF!)/#REF!)","v":0},{"$f":"IF(ISERROR((#REF!-#REF!)/#REF!),0,(#REF!-#REF!)/#REF!)","v":0},{"$f":"IF(ISERROR((#REF!-#REF!)/#REF!),0,(#REF!-#REF!)/#REF!)","v":0},{"$f":"IF(ISERROR((#REF!-#REF!)/#REF!),0,(#REF!-#REF!)/#REF!)","v":0},{"$f":"IF(ISERROR((#REF!-#REF!)/#REF!),0,(#REF!-#REF!)/#REF!)","v":0},{"$f":"IF(ISERROR((#REF!-#REF!)/#REF!),0,(#REF!-#REF!)/#REF!)","v":0},{"$f":"IF(ISERROR((#REF!-#REF!)/#REF!),0,(#REF!-#REF!)/#REF!)","v":0}]
[null,"VA12B","Multiple Trauma Diagnoses score 24-32, with Interventions score 9-18",0,5092,0,0,32,7703.0054130425597,32,211,"No","-",0,1,"sub-HRG",{"$f":"IF(ISERROR((#REF!-#REF!)/#REF!),0,(#REF!-#REF!)/#REF!)","v":0},{"$f":"IF(ISERROR((#REF!-#REF!)/#REF!),0,(#REF!-#REF!)/#REF!)","v":0},{"$f":"IF(ISERROR((#REF!-#REF!)/#REF!),0,(#REF!-#REF!)/#REF!)","v":0},{"$f":"IF(ISERROR((#REF!-#REF!)/#REF!),0,(#REF!-#REF!)/#REF!)","v":0},{"$f":"IF(ISERROR((#REF!-#REF!)/#REF!),0,(#REF!-#REF!)/#REF!)","v":0},{"$f":"IF(ISERROR((#REF!-#REF!)/#REF!),0,(#REF!-#REF!)/#REF!)","v":0},{"$f":"IF(ISERROR((#REF!-#REF!)/#REF!),0,(#REF!-#REF!)/#REF!)","v":0},{"$f":"IF(ISERROR((#REF!-#REF!)/#REF!),0,(#REF!-#REF!)/#REF!)","v":0},{"$f":"IF(ISERROR((#REF!-#REF!)/#REF!),0,(#REF!-#REF!)/#REF!)","v":0},{"$f":"IF(ISERROR((#REF!-#REF!)/#REF!),0,(#REF!-#REF!)/#REF!)","v":0},{"$f":"IF(ISERROR((#REF!-#REF!)/#REF!),0,(#REF!-#REF!)/#REF!)","v":0},{"$f":"IF(ISERROR((#REF!-#REF!)/#REF!),0,(#REF!-#REF!)/#REF!)","v":0},{"$f":"IF(ISERROR((#REF!-#REF!)/#REF!),0,(#REF!-#REF!)/#REF!)","v":0}]
[null,"VA12C","Multiple Trauma Diagnoses score 33-50, with Interventions score 9-18",0,6538,0,0,47,8666.6701958593731,47,211,"No","-",0,1,"sub-HRG",{"$f":"IF(ISERROR((#REF!-#REF!)/#REF!),0,(#REF!-#REF!)/#REF!)","v":0},{"$f":"IF(ISERROR((#REF!-#REF!)/#REF!),0,(#REF!-#REF!)/#REF!)","v":0},{"$f":"IF(ISERROR((#REF!-#REF!)/#REF!),0,(#REF!-#REF!)/#REF!)","v":0},{"$f":"IF(ISERROR((#REF!-#REF!)/#REF!),0,(#REF!-#REF!)/#REF!)","v":0},{"$f":"IF(ISERROR((#REF!-#REF!)/#REF!),0,(#REF!-#REF!)/#REF!)","v":0},{"$f":"IF(ISERROR((#REF!-#REF!)/#REF!),0,(#REF!-#REF!)/#REF!)","v":0},{"$f":"IF(ISERROR((#REF!-#REF!)/#REF!),0,(#REF!-#REF!)/#REF!)","v":0},{"$f":"IF(ISERROR((#REF!-#REF!)/#REF!),0,(#REF!-#REF!)/#REF!)","v":0},{"$f":"IF(ISERROR((#REF!-#REF!)/#REF!),0,(#REF!-#REF!)/#REF!)","v":0},{"$f":"IF(ISERROR((#REF!-#REF!)/#REF!),0,(#REF!-#REF!)/#REF!)","v":0},{"$f":"IF(ISERROR((#REF!-#REF!)/#REF!),0,(#REF!-#REF!)/#REF!)","v":0},{"$f":"IF(ISERROR((#REF!-#REF!)/#REF!),0,(#REF!-#REF!)/#REF!)","v":0},{"$f":"IF(ISERROR((#REF!-#REF!)/#REF!),0,(#REF!-#REF!)/#REF!)","v":0}]
[null,"VA12D","Multiple Trauma Diagnoses score >=51, with Interventions score 9-18",0,9746,0,0,85,14987.123469129543,85,211,"No","-",0,1,"sub-HRG",{"$f":"IF(ISERROR((#REF!-#REF!)/#REF!),0,(#REF!-#REF!)/#REF!)","v":0},{"$f":"IF(ISERROR((#REF!-#REF!)/#REF!),0,(#REF!-#REF!)/#REF!)","v":0},{"$f":"IF(ISERROR((#REF!-#REF!)/#REF!),0,(#REF!-#REF!)/#REF!)","v":0},{"$f":"IF(ISERROR((#REF!-#REF!)/#REF!),0,(#REF!-#REF!)/#REF!)","v":0},{"$f":"IF(ISERROR((#REF!-#REF!)/#REF!),0,(#REF!-#REF!)/#REF!)","v":0},{"$f":"IF(ISERROR((#REF!-#REF!)/#REF!),0,(#REF!-#REF!)/#REF!)","v":0},{"$f":"IF(ISERROR((#REF!-#REF!)/#REF!),0,(#REF!-#REF!)/#REF!)","v":0},{"$f":"IF(ISERROR((#REF!-#REF!)/#REF!),0,(#REF!-#REF!)/#REF!)","v":0},{"$f":"IF(ISERROR((#REF!-#REF!)/#REF!),0,(#REF!-#REF!)/#REF!)","v":0},{"$f":"IF(ISERROR((#REF!-#REF!)/#REF!),0,(#REF!-#REF!)/#REF!)","v":0},{"$f":"IF(ISERROR((#REF!-#REF!)/#REF!),0,(#REF!-#REF!)/#REF!)","v":0},{"$f":"IF(ISERROR((#REF!-#REF!)/#REF!),0,(#REF!-#REF!)/#REF!)","v":0},{"$f":"IF(ISERROR((#REF!-#REF!)/#REF!),0,(#REF!-#REF!)/#REF!)","v":0}]
[null,"VA13A","Multiple Trauma Diagnoses score <=23, with Interventions score 19-29",0,3943,0,0,19,3943,19,211,"No","-",0,"","",{"$f":"IF(ISERROR((#REF!-#REF!)/#REF!),0,(#REF!-#REF!)/#REF!)","v":0},{"$f":"IF(ISERROR((#REF!-#REF!)/#REF!),0,(#REF!-#REF!)/#REF!)","v":0},{"$f":"IF(ISERROR((#REF!-#REF!)/#REF!),0,(#REF!-#REF!)/#REF!)","v":0},{"$f":"IF(ISERROR((#REF!-#REF!)/#REF!),0,(#REF!-#REF!)/#REF!)","v":0},{"$f":"IF(ISERROR((#REF!-#REF!)/#REF!),0,(#REF!-#REF!)/#REF!)","v":0},{"$f":"IF(ISERROR((#REF!-#REF!)/#REF!),0,(#REF!-#REF!)/#REF!)","v":0},{"$f":"IF(ISERROR((#REF!-#REF!)/#REF!),0,(#REF!-#REF!)/#REF!)","v":0},{"$f":"IF(ISERROR((#REF!-#REF!)/#REF!),0,(#REF!-#REF!)/#REF!)","v":0},{"$f":"IF(ISERROR((#REF!-#REF!)/#REF!),0,(#REF!-#REF!)/#REF!)","v":0},{"$f":"IF(ISERROR((#REF!-#REF!)/#REF!),0,(#REF!-#REF!)/#REF!)","v":0},{"$f":"IF(ISERROR((#REF!-#REF!)/#REF!),0,(#REF!-#REF!)/#REF!)","v":0},{"$f":"IF(ISERROR((#REF!-#REF!)/#REF!),0,(#REF!-#REF!)/#REF!)","v":0},{"$f":"IF(ISERROR((#REF!-#REF!)/#REF!),0,(#REF!-#REF!)/#REF!)","v":0}]
[null,"VA13B","Multiple Trauma Diagnoses score 24-32, with Interventions score 19-29",0,5575,0,0,31,10140.353495487414,31,211,"No","-",0,"","",{"$f":"IF(ISERROR((#REF!-#REF!)/#REF!),0,(#REF!-#REF!)/#REF!)","v":0},{"$f":"IF(ISERROR((#REF!-#REF!)/#REF!),0,(#REF!-#REF!)/#REF!)","v":0},{"$f":"IF(ISERROR((#REF!-#REF!)/#REF!),0,(#REF!-#REF!)/#REF!)","v":0},{"$f":"IF(ISERROR((#REF!-#REF!)/#REF!),0,(#REF!-#REF!)/#REF!)","v":0},{"$f":"IF(ISERROR((#REF!-#REF!)/#REF!),0,(#REF!-#REF!)/#REF!)","v":0},{"$f":"IF(ISERROR((#REF!-#REF!)/#REF!),0,(#REF!-#REF!)/#REF!)","v":0},{"$f":"IF(ISERROR((#REF!-#REF!)/#REF!),0,(#REF!-#REF!)/#REF!)","v":0},{"$f":"IF(ISERROR((#REF!-#REF!)/#REF!),0,(#REF!-#REF!)/#REF!)","v":0},{"$f":"IF(ISERROR((#REF!-#REF!)/#REF!),0,(#REF!-#REF!)/#REF!)","v":0},{"$f":"IF(ISERROR((#REF!-#REF!)/#REF!),0,(#REF!-#REF!)/#REF!)","v":0},{"$f":"IF(ISERROR((#REF!-#REF!)/#REF!),0,(#REF!-#REF!)/#REF!)","v":0},{"$f":"IF(ISERROR((#REF!-#REF!)/#REF!),0,(#REF!-#REF!)/#REF!)","v":0},{"$f":"IF(ISERROR((#REF!-#REF!)/#REF!),0,(#REF!-#REF!)/#REF!)","v":0}]
[null,"VA13C","Multiple Trauma Diagnoses score 33-50, with Interventions score 19-29",0,7570,0,0,44,7570,44,211,"No","-",0,"","",{"$f":"IF(ISERROR((#REF!-#REF!)/#REF!),0,(#REF!-#REF!)/#REF!)","v":0},{"$f":"IF(ISERROR((#REF!-#REF!)/#REF!),0,(#REF!-#REF!)/#REF!)","v":0},{"$f":"IF(ISERROR((#REF!-#REF!)/#REF!),0,(#REF!-#REF!)/#REF!)","v":0},{"$f":"IF(ISERROR((#REF!-#REF!)/#REF!),0,(#REF!-#REF!)/#REF!)","v":0},{"$f":"IF(ISERROR((#REF!-#REF!)/#REF!),0,(#REF!-#REF!)/#REF!)","v":0},{"$f":"IF(ISERROR((#REF!-#REF!)/#REF!),0,(#REF!-#REF!)/#REF!)","v":0},{"$f":"IF(ISERROR((#REF!-#REF!)/#REF!),0,(#REF!-#REF!)/#REF!)","v":0},{"$f":"IF(ISERROR((#REF!-#REF!)/#REF!),0,(#REF!-#REF!)/#REF!)","v":0},{"$f":"IF(ISERROR((#REF!-#REF!)/#REF!),0,(#REF!-#REF!)/#REF!)","v":0},{"$f":"IF(ISERROR((#REF!-#REF!)/#REF!),0,(#REF!-#REF!)/#REF!)","v":0},{"$f":"IF(ISERROR((#REF!-#REF!)/#REF!),0,(#REF!-#REF!)/#REF!)","v":0},{"$f":"IF(ISERROR((#REF!-#REF!)/#REF!),0,(#REF!-#REF!)/#REF!)","v":0},{"$f":"IF(ISERROR((#REF!-#REF!)/#REF!),0,(#REF!-#REF!)/#REF!)","v":0}]
[null,"VA13D","Multiple Trauma Diagnoses score >=51, with Interventions score 19-29",0,11665,0,0,93,20822.820028820974,93,211,"No","-",0,"","",{"$f":"IF(ISERROR((#REF!-#REF!)/#REF!),0,(#REF!-#REF!)/#REF!)","v":0},{"$f":"IF(ISERROR((#REF!-#REF!)/#REF!),0,(#REF!-#REF!)/#REF!)","v":0},{"$f":"IF(ISERROR((#REF!-#REF!)/#REF!),0,(#REF!-#REF!)/#REF!)","v":0},{"$f":"IF(ISERROR((#REF!-#REF!)/#REF!),0,(#REF!-#REF!)/#REF!)","v":0},{"$f":"IF(ISERROR((#REF!-#REF!)/#REF!),0,(#REF!-#REF!)/#REF!)","v":0},{"$f":"IF(ISERROR((#REF!-#REF!)/#REF!),0,(#REF!-#REF!)/#REF!)","v":0},{"$f":"IF(ISERROR((#REF!-#REF!)/#REF!),0,(#REF!-#REF!)/#REF!)","v":0},{"$f":"IF(ISERROR((#REF!-#REF!)/#REF!),0,(#REF!-#REF!)/#REF!)","v":0},{"$f":"IF(ISERROR((#REF!-#REF!)/#REF!),0,(#REF!-#REF!)/#REF!)","v":0},{"$f":"IF(ISERROR((#REF!-#REF!)/#REF!),0,(#REF!-#REF!)/#REF!)","v":0},{"$f":"IF(ISERROR((#REF!-#REF!)/#REF!),0,(#REF!-#REF!)/#REF!)","v":0},{"$f":"IF(ISERROR((#REF!-#REF!)/#REF!),0,(#REF!-#REF!)/#REF!)","v":0},{"$f":"IF(ISERROR((#REF!-#REF!)/#REF!),0,(#REF!-#REF!)/#REF!)","v":0}]
[null,"VA14A","Multiple Trauma Diagnoses score <=23, with Interventions score 30-44",0,5951,0,0,22,5951,22,211,"No","-",0,"","",{"$f":"IF(ISERROR((#REF!-#REF!)/#REF!),0,(#REF!-#REF!)/#REF!)","v":0},{"$f":"IF(ISERROR((#REF!-#REF!)/#REF!),0,(#REF!-#REF!)/#REF!)","v":0},{"$f":"IF(ISERROR((#REF!-#REF!)/#REF!),0,(#REF!-#REF!)/#REF!)","v":0},{"$f":"IF(ISERROR((#REF!-#REF!)/#REF!),0,(#REF!-#REF!)/#REF!)","v":0},{"$f":"IF(ISERROR((#REF!-#REF!)/#REF!),0,(#REF!-#REF!)/#REF!)","v":0},{"$f":"IF(ISERROR((#REF!-#REF!)/#REF!),0,(#REF!-#REF!)/#REF!)","v":0},{"$f":"IF(ISERROR((#REF!-#REF!)/#REF!),0,(#REF!-#REF!)/#REF!)","v":0},{"$f":"IF(ISERROR((#REF!-#REF!)/#REF!),0,(#REF!-#REF!)/#REF!)","v":0},{"$f":"IF(ISERROR((#REF!-#REF!)/#REF!),0,(#REF!-#REF!)/#REF!)","v":0},{"$f":"IF(ISERROR((#REF!-#REF!)/#REF!),0,(#REF!-#REF!)/#REF!)","v":0},{"$f":"IF(ISERROR((#REF!-#REF!)/#REF!),0,(#REF!-#REF!)/#REF!)","v":0},{"$f":"IF(ISERROR((#REF!-#REF!)/#REF!),0,(#REF!-#REF!)/#REF!)","v":0},{"$f":"IF(ISERROR((#REF!-#REF!)/#REF!),0,(#REF!-#REF!)/#REF!)","v":0}]
[null,"VA14B","Multiple Trauma Diagnoses score 24-32, with Interventions score 30-44",0,7272,0,0,33,7272,33,211,"No","-",0,"","",{"$f":"IF(ISERROR((#REF!-#REF!)/#REF!),0,(#REF!-#REF!)/#REF!)","v":0},{"$f":"IF(ISERROR((#REF!-#REF!)/#REF!),0,(#REF!-#REF!)/#REF!)","v":0},{"$f":"IF(ISERROR((#REF!-#REF!)/#REF!),0,(#REF!-#REF!)/#REF!)","v":0},{"$f":"IF(ISERROR((#REF!-#REF!)/#REF!),0,(#REF!-#REF!)/#REF!)","v":0},{"$f":"IF(ISERROR((#REF!-#REF!)/#REF!),0,(#REF!-#REF!)/#REF!)","v":0},{"$f":"IF(ISERROR((#REF!-#REF!)/#REF!),0,(#REF!-#REF!)/#REF!)","v":0},{"$f":"IF(ISERROR((#REF!-#REF!)/#REF!),0,(#REF!-#REF!)/#REF!)","v":0},{"$f":"IF(ISERROR((#REF!-#REF!)/#REF!),0,(#REF!-#REF!)/#REF!)","v":0},{"$f":"IF(ISERROR((#REF!-#REF!)/#REF!),0,(#REF!-#REF!)/#REF!)","v":0},{"$f":"IF(ISERROR((#REF!-#REF!)/#REF!),0,(#REF!-#REF!)/#REF!)","v":0},{"$f":"IF(ISERROR((#REF!-#REF!)/#REF!),0,(#REF!-#REF!)/#REF!)","v":0},{"$f":"IF(ISERROR((#REF!-#REF!)/#REF!),0,(#REF!-#REF!)/#REF!)","v":0},{"$f":"IF(ISERROR((#REF!-#REF!)/#REF!),0,(#REF!-#REF!)/#REF!)","v":0}]
[null,"VA14C","Multiple Trauma Diagnoses score 33-50, with Interventions score 30-44",0,9487,0,0,50,9487,50,211,"No","-",0,"","",{"$f":"IF(ISERROR((#REF!-#REF!)/#REF!),0,(#REF!-#REF!)/#REF!)","v":0},{"$f":"IF(ISERROR((#REF!-#REF!)/#REF!),0,(#REF!-#REF!)/#REF!)","v":0},{"$f":"IF(ISERROR((#REF!-#REF!)/#REF!),0,(#REF!-#REF!)/#REF!)","v":0},{"$f":"IF(ISERROR((#REF!-#REF!)/#REF!),0,(#REF!-#REF!)/#REF!)","v":0},{"$f":"IF(ISERROR((#REF!-#REF!)/#REF!),0,(#REF!-#REF!)/#REF!)","v":0},{"$f":"IF(ISERROR((#REF!-#REF!)/#REF!),0,(#REF!-#REF!)/#REF!)","v":0},{"$f":"IF(ISERROR((#REF!-#REF!)/#REF!),0,(#REF!-#REF!)/#REF!)","v":0},{"$f":"IF(ISERROR((#REF!-#REF!)/#REF!),0,(#REF!-#REF!)/#REF!)","v":0},{"$f":"IF(ISERROR((#REF!-#REF!)/#REF!),0,(#REF!-#REF!)/#REF!)","v":0},{"$f":"IF(ISERROR((#REF!-#REF!)/#REF!),0,(#REF!-#REF!)/#REF!)","v":0},{"$f":"IF(ISERROR((#REF!-#REF!)/#REF!),0,(#REF!-#REF!)/#REF!)","v":0},{"$f":"IF(ISERROR((#REF!-#REF!)/#REF!),0,(#REF!-#REF!)/#REF!)","v":0},{"$f":"IF(ISERROR((#REF!-#REF!)/#REF!),0,(#REF!-#REF!)/#REF!)","v":0}]
[null,"VA14D","Multiple Trauma Diagnoses score >=51, with Interventions score 30-44",0,14280,0,0,97,14280,97,211,"No","-",0,"","",{"$f":"IF(ISERROR((#REF!-#REF!)/#REF!),0,(#REF!-#REF!)/#REF!)","v":0},{"$f":"IF(ISERROR((#REF!-#REF!)/#REF!),0,(#REF!-#REF!)/#REF!)","v":0},{"$f":"IF(ISERROR((#REF!-#REF!)/#REF!),0,(#REF!-#REF!)/#REF!)","v":0},{"$f":"IF(ISERROR((#REF!-#REF!)/#REF!),0,(#REF!-#REF!)/#REF!)","v":0},{"$f":"IF(ISERROR((#REF!-#REF!)/#REF!),0,(#REF!-#REF!)/#REF!)","v":0},{"$f":"IF(ISERROR((#REF!-#REF!)/#REF!),0,(#REF!-#REF!)/#REF!)","v":0},{"$f":"IF(ISERROR((#REF!-#REF!)/#REF!),0,(#REF!-#REF!)/#REF!)","v":0},{"$f":"IF(ISERROR((#REF!-#REF!)/#REF!),0,(#REF!-#REF!)/#REF!)","v":0},{"$f":"IF(ISERROR((#REF!-#REF!)/#REF!),0,(#REF!-#REF!)/#REF!)","v":0},{"$f":"IF(ISERROR((#REF!-#REF!)/#REF!),0,(#REF!-#REF!)/#REF!)","v":0},{"$f":"IF(ISERROR((#REF!-#REF!)/#REF!),0,(#REF!-#REF!)/#REF!)","v":0},{"$f":"IF(ISERROR((#REF!-#REF!)/#REF!),0,(#REF!-#REF!)/#REF!)","v":0},{"$f":"IF(ISERROR((#REF!-#REF!)/#REF!),0,(#REF!-#REF!)/#REF!)","v":0}]
[null,"VA15A","Multiple Trauma Diagnoses score <=23, with Interventions score >=45",0,8348,0,0,32,8348,32,211,"No","-",0,"","",{"$f":"IF(ISERROR((#REF!-#REF!)/#REF!),0,(#REF!-#REF!)/#REF!)","v":0},{"$f":"IF(ISERROR((#REF!-#REF!)/#REF!),0,(#REF!-#REF!)/#REF!)","v":0},{"$f":"IF(ISERROR((#REF!-#REF!)/#REF!),0,(#REF!-#REF!)/#REF!)","v":0},{"$f":"IF(ISERROR((#REF!-#REF!)/#REF!),0,(#REF!-#REF!)/#REF!)","v":0},{"$f":"IF(ISERROR((#REF!-#REF!)/#REF!),0,(#REF!-#REF!)/#REF!)","v":0},{"$f":"IF(ISERROR((#REF!-#REF!)/#REF!),0,(#REF!-#REF!)/#REF!)","v":0},{"$f":"IF(ISERROR((#REF!-#REF!)/#REF!),0,(#REF!-#REF!)/#REF!)","v":0},{"$f":"IF(ISERROR((#REF!-#REF!)/#REF!),0,(#REF!-#REF!)/#REF!)","v":0},{"$f":"IF(ISERROR((#REF!-#REF!)/#REF!),0,(#REF!-#REF!)/#REF!)","v":0},{"$f":"IF(ISERROR((#REF!-#REF!)/#REF!),0,(#REF!-#REF!)/#REF!)","v":0},{"$f":"IF(ISERROR((#REF!-#REF!)/#REF!),0,(#REF!-#REF!)/#REF!)","v":0},{"$f":"IF(ISERROR((#REF!-#REF!)/#REF!),0,(#REF!-#REF!)/#REF!)","v":0},{"$f":"IF(ISERROR((#REF!-#REF!)/#REF!),0,(#REF!-#REF!)/#REF!)","v":0}]
[null,"VA15B","Multiple Trauma Diagnoses score 24-32, with Interventions score >=45",0,13788,0,0,50,13788,50,211,"No","-",0,"","",{"$f":"IF(ISERROR((#REF!-#REF!)/#REF!),0,(#REF!-#REF!)/#REF!)","v":0},{"$f":"IF(ISERROR((#REF!-#REF!)/#REF!),0,(#REF!-#REF!)/#REF!)","v":0},{"$f":"IF(ISERROR((#REF!-#REF!)/#REF!),0,(#REF!-#REF!)/#REF!)","v":0},{"$f":"IF(ISERROR((#REF!-#REF!)/#REF!),0,(#REF!-#REF!)/#REF!)","v":0},{"$f":"IF(ISERROR((#REF!-#REF!)/#REF!),0,(#REF!-#REF!)/#REF!)","v":0},{"$f":"IF(ISERROR((#REF!-#REF!)/#REF!),0,(#REF!-#REF!)/#REF!)","v":0},{"$f":"IF(ISERROR((#REF!-#REF!)/#REF!),0,(#REF!-#REF!)/#REF!)","v":0},{"$f":"IF(ISERROR((#REF!-#REF!)/#REF!),0,(#REF!-#REF!)/#REF!)","v":0},{"$f":"IF(ISERROR((#REF!-#REF!)/#REF!),0,(#REF!-#REF!)/#REF!)","v":0},{"$f":"IF(ISERROR((#REF!-#REF!)/#REF!),0,(#REF!-#REF!)/#REF!)","v":0},{"$f":"IF(ISERROR((#REF!-#REF!)/#REF!),0,(#REF!-#REF!)/#REF!)","v":0},{"$f":"IF(ISERROR((#REF!-#REF!)/#REF!),0,(#REF!-#REF!)/#REF!)","v":0},{"$f":"IF(ISERROR((#REF!-#REF!)/#REF!),0,(#REF!-#REF!)/#REF!)","v":0}]
[null,"VA15C","Multiple Trauma Diagnoses score 33-50, with Interventions score >=45",0,14580,0,0,73,14580,73,211,"No","-",0,"","",{"$f":"IF(ISERROR((#REF!-#REF!)/#REF!),0,(#REF!-#REF!)/#REF!)","v":0},{"$f":"IF(ISERROR((#REF!-#REF!)/#REF!),0,(#REF!-#REF!)/#REF!)","v":0},{"$f":"IF(ISERROR((#REF!-#REF!)/#REF!),0,(#REF!-#REF!)/#REF!)","v":0},{"$f":"IF(ISERROR((#REF!-#REF!)/#REF!),0,(#REF!-#REF!)/#REF!)","v":0},{"$f":"IF(ISERROR((#REF!-#REF!)/#REF!),0,(#REF!-#REF!)/#REF!)","v":0},{"$f":"IF(ISERROR((#REF!-#REF!)/#REF!),0,(#REF!-#REF!)/#REF!)","v":0},{"$f":"IF(ISERROR((#REF!-#REF!)/#REF!),0,(#REF!-#REF!)/#REF!)","v":0},{"$f":"IF(ISERROR((#REF!-#REF!)/#REF!),0,(#REF!-#REF!)/#REF!)","v":0},{"$f":"IF(ISERROR((#REF!-#REF!)/#REF!),0,(#REF!-#REF!)/#REF!)","v":0},{"$f":"IF(ISERROR((#REF!-#REF!)/#REF!),0,(#REF!-#REF!)/#REF!)","v":0},{"$f":"IF(ISERROR((#REF!-#REF!)/#REF!),0,(#REF!-#REF!)/#REF!)","v":0},{"$f":"IF(ISERROR((#REF!-#REF!)/#REF!),0,(#REF!-#REF!)/#REF!)","v":0},{"$f":"IF(ISERROR((#REF!-#REF!)/#REF!),0,(#REF!-#REF!)/#REF!)","v":0}]
[null,"VA15D","Multiple Trauma Diagnoses score >=51, with Interventions score >=45",0,24672,0,0,128,24672,128,211,"No","-",0,"","",{"$f":"IF(ISERROR((#REF!-#REF!)/#REF!),0,(#REF!-#REF!)/#REF!)","v":0},{"$f":"IF(ISERROR((#REF!-#REF!)/#REF!),0,(#REF!-#REF!)/#REF!)","v":0},{"$f":"IF(ISERROR((#REF!-#REF!)/#REF!),0,(#REF!-#REF!)/#REF!)","v":0},{"$f":"IF(ISERROR((#REF!-#REF!)/#REF!),0,(#REF!-#REF!)/#REF!)","v":0},{"$f":"IF(ISERROR((#REF!-#REF!)/#REF!),0,(#REF!-#REF!)/#REF!)","v":0},{"$f":"IF(ISERROR((#REF!-#REF!)/#REF!),0,(#REF!-#REF!)/#REF!)","v":0},{"$f":"IF(ISERROR((#REF!-#REF!)/#REF!),0,(#REF!-#REF!)/#REF!)","v":0},{"$f":"IF(ISERROR((#REF!-#REF!)/#REF!),0,(#REF!-#REF!)/#REF!)","v":0},{"$f":"IF(ISERROR((#REF!-#REF!)/#REF!),0,(#REF!-#REF!)/#REF!)","v":0},{"$f":"IF(ISERROR((#REF!-#REF!)/#REF!),0,(#REF!-#REF!)/#REF!)","v":0},{"$f":"IF(ISERROR((#REF!-#REF!)/#REF!),0,(#REF!-#REF!)/#REF!)","v":0},{"$f":"IF(ISERROR((#REF!-#REF!)/#REF!),0,(#REF!-#REF!)/#REF!)","v":0},{"$f":"IF(ISERROR((#REF!-#REF!)/#REF!),0,(#REF!-#REF!)/#REF!)","v":0}]
[null,"WA01W","Manifestations of HIV or AIDS, with CC",0,900,0,0,5,3717,24,198,"Yes",0.30000000000000004,1115.1000000000001,"","",{"$f":"IF(ISERROR((#REF!-#REF!)/#REF!),0,(#REF!-#REF!)/#REF!)","v":0},{"$f":"IF(ISERROR((#REF!-#REF!)/#REF!),0,(#REF!-#REF!)/#REF!)","v":0},{"$f":"IF(ISERROR((#REF!-#REF!)/#REF!),0,(#REF!-#REF!)/#REF!)","v":0},{"$f":"IF(ISERROR((#REF!-#REF!)/#REF!),0,(#REF!-#REF!)/#REF!)","v":0},{"$f":"IF(ISERROR((#REF!-#REF!)/#REF!),0,(#REF!-#REF!)/#REF!)","v":0},{"$f":"IF(ISERROR((#REF!-#REF!)/#REF!),0,(#REF!-#REF!)/#REF!)","v":0},{"$f":"IF(ISERROR((#REF!-#REF!)/#REF!),0,(#REF!-#REF!)/#REF!)","v":0},{"$f":"IF(ISERROR((#REF!-#REF!)/#REF!),0,(#REF!-#REF!)/#REF!)","v":0},{"$f":"IF(ISERROR((#REF!-#REF!)/#REF!),0,(#REF!-#REF!)/#REF!)","v":0},{"$f":"IF(ISERROR((#REF!-#REF!)/#REF!),0,(#REF!-#REF!)/#REF!)","v":0},{"$f":"IF(ISERROR((#REF!-#REF!)/#REF!),0,(#REF!-#REF!)/#REF!)","v":0},{"$f":"IF(ISERROR((#REF!-#REF!)/#REF!),0,(#REF!-#REF!)/#REF!)","v":0},{"$f":"IF(ISERROR((#REF!-#REF!)/#REF!),0,(#REF!-#REF!)/#REF!)","v":0}]
[null,"WA01Y","Manifestations of HIV or AIDS, without CC",0,468,0,0,5,2438,14,198,"Yes",0.30000000000000004,731.40000000000009,"","",{"$f":"IF(ISERROR((#REF!-#REF!)/#REF!),0,(#REF!-#REF!)/#REF!)","v":0},{"$f":"IF(ISERROR((#REF!-#REF!)/#REF!),0,(#REF!-#REF!)/#REF!)","v":0},{"$f":"IF(ISERROR((#REF!-#REF!)/#REF!),0,(#REF!-#REF!)/#REF!)","v":0},{"$f":"IF(ISERROR((#REF!-#REF!)/#REF!),0,(#REF!-#REF!)/#REF!)","v":0},{"$f":"IF(ISERROR((#REF!-#REF!)/#REF!),0,(#REF!-#REF!)/#REF!)","v":0},{"$f":"IF(ISERROR((#REF!-#REF!)/#REF!),0,(#REF!-#REF!)/#REF!)","v":0},{"$f":"IF(ISERROR((#REF!-#REF!)/#REF!),0,(#REF!-#REF!)/#REF!)","v":0},{"$f":"IF(ISERROR((#REF!-#REF!)/#REF!),0,(#REF!-#REF!)/#REF!)","v":0},{"$f":"IF(ISERROR((#REF!-#REF!)/#REF!),0,(#REF!-#REF!)/#REF!)","v":0},{"$f":"IF(ISERROR((#REF!-#REF!)/#REF!),0,(#REF!-#REF!)/#REF!)","v":0},{"$f":"IF(ISERROR((#REF!-#REF!)/#REF!),0,(#REF!-#REF!)/#REF!)","v":0},{"$f":"IF(ISERROR((#REF!-#REF!)/#REF!),0,(#REF!-#REF!)/#REF!)","v":0},{"$f":"IF(ISERROR((#REF!-#REF!)/#REF!),0,(#REF!-#REF!)/#REF!)","v":0}]
[null,"WA02W","Disorders of Immunity without HIV or AIDS, with CC",0,359,0,0,5,1632,13,198,"Yes",0.4,652.80000000000007,"","",{"$f":"IF(ISERROR((#REF!-#REF!)/#REF!),0,(#REF!-#REF!)/#REF!)","v":0},{"$f":"IF(ISERROR((#REF!-#REF!)/#REF!),0,(#REF!-#REF!)/#REF!)","v":0},{"$f":"IF(ISERROR((#REF!-#REF!)/#REF!),0,(#REF!-#REF!)/#REF!)","v":0},{"$f":"IF(ISERROR((#REF!-#REF!)/#REF!),0,(#REF!-#REF!)/#REF!)","v":0},{"$f":"IF(ISERROR((#REF!-#REF!)/#REF!),0,(#REF!-#REF!)/#REF!)","v":0},{"$f":"IF(ISERROR((#REF!-#REF!)/#REF!),0,(#REF!-#REF!)/#REF!)","v":0},{"$f":"IF(ISERROR((#REF!-#REF!)/#REF!),0,(#REF!-#REF!)/#REF!)","v":0},{"$f":"IF(ISERROR((#REF!-#REF!)/#REF!),0,(#REF!-#REF!)/#REF!)","v":0},{"$f":"IF(ISERROR((#REF!-#REF!)/#REF!),0,(#REF!-#REF!)/#REF!)","v":0},{"$f":"IF(ISERROR((#REF!-#REF!)/#REF!),0,(#REF!-#REF!)/#REF!)","v":0},{"$f":"IF(ISERROR((#REF!-#REF!)/#REF!),0,(#REF!-#REF!)/#REF!)","v":0},{"$f":"IF(ISERROR((#REF!-#REF!)/#REF!),0,(#REF!-#REF!)/#REF!)","v":0},{"$f":"IF(ISERROR((#REF!-#REF!)/#REF!),0,(#REF!-#REF!)/#REF!)","v":0}]
[null,"WA02Y","Disorders of Immunity without HIV or AIDS, without CC",0,318,0,0,5,873.59218169116264,5,198,"Yes",1,873.59218169116264,"","",{"$f":"IF(ISERROR((#REF!-#REF!)/#REF!),0,(#REF!-#REF!)/#REF!)","v":0},{"$f":"IF(ISERROR((#REF!-#REF!)/#REF!),0,(#REF!-#REF!)/#REF!)","v":0},{"$f":"IF(ISERROR((#REF!-#REF!)/#REF!),0,(#REF!-#REF!)/#REF!)","v":0},{"$f":"IF(ISERROR((#REF!-#REF!)/#REF!),0,(#REF!-#REF!)/#REF!)","v":0},{"$f":"IF(ISERROR((#REF!-#REF!)/#REF!),0,(#REF!-#REF!)/#REF!)","v":0},{"$f":"IF(ISERROR((#REF!-#REF!)/#REF!),0,(#REF!-#REF!)/#REF!)","v":0},{"$f":"IF(ISERROR((#REF!-#REF!)/#REF!),0,(#REF!-#REF!)/#REF!)","v":0},{"$f":"IF(ISERROR((#REF!-#REF!)/#REF!),0,(#REF!-#REF!)/#REF!)","v":0},{"$f":"IF(ISERROR((#REF!-#REF!)/#REF!),0,(#REF!-#REF!)/#REF!)","v":0},{"$f":"IF(ISERROR((#REF!-#REF!)/#REF!),0,(#REF!-#REF!)/#REF!)","v":0},{"$f":"IF(ISERROR((#REF!-#REF!)/#REF!),0,(#REF!-#REF!)/#REF!)","v":0},{"$f":"IF(ISERROR((#REF!-#REF!)/#REF!),0,(#REF!-#REF!)/#REF!)","v":0},{"$f":"IF(ISERROR((#REF!-#REF!)/#REF!),0,(#REF!-#REF!)/#REF!)","v":0}]
[null,"WA03V","Septicaemia with Major CC",0,3736,0,0,36,3771.4988142321836,36,198,"Yes",0.30000000000000004,1131.4496442696552,"","",{"$f":"IF(ISERROR((#REF!-#REF!)/#REF!),0,(#REF!-#REF!)/#REF!)","v":0},{"$f":"IF(ISERROR((#REF!-#REF!)/#REF!),0,(#REF!-#REF!)/#REF!)","v":0},{"$f":"IF(ISERROR((#REF!-#REF!)/#REF!),0,(#REF!-#REF!)/#REF!)","v":0},{"$f":"IF(ISERROR((#REF!-#REF!)/#REF!),0,(#REF!-#REF!)/#REF!)","v":0},{"$f":"IF(ISERROR((#REF!-#REF!)/#REF!),0,(#REF!-#REF!)/#REF!)","v":0},{"$f":"IF(ISERROR((#REF!-#REF!)/#REF!),0,(#REF!-#REF!)/#REF!)","v":0},{"$f":"IF(ISERROR((#REF!-#REF!)/#REF!),0,(#REF!-#REF!)/#REF!)","v":0},{"$f":"IF(ISERROR((#REF!-#REF!)/#REF!),0,(#REF!-#REF!)/#REF!)","v":0},{"$f":"IF(ISERROR((#REF!-#REF!)/#REF!),0,(#REF!-#REF!)/#REF!)","v":0},{"$f":"IF(ISERROR((#REF!-#REF!)/#REF!),0,(#REF!-#REF!)/#REF!)","v":0},{"$f":"IF(ISERROR((#REF!-#REF!)/#REF!),0,(#REF!-#REF!)/#REF!)","v":0},{"$f":"IF(ISERROR((#REF!-#REF!)/#REF!),0,(#REF!-#REF!)/#REF!)","v":0},{"$f":"IF(ISERROR((#REF!-#REF!)/#REF!),0,(#REF!-#REF!)/#REF!)","v":0}]
[null,"WA03X","Septicaemia with Intermediate CC",0,2633,0,0,19,2870.4778611935549,18,198,"Yes",0.30000000000000004,861.14335835806662,"","",{"$f":"IF(ISERROR((#REF!-#REF!)/#REF!),0,(#REF!-#REF!)/#REF!)","v":0},{"$f":"IF(ISERROR((#REF!-#REF!)/#REF!),0,(#REF!-#REF!)/#REF!)","v":0},{"$f":"IF(ISERROR((#REF!-#REF!)/#REF!),0,(#REF!-#REF!)/#REF!)","v":0},{"$f":"IF(ISERROR((#REF!-#REF!)/#REF!),0,(#REF!-#REF!)/#REF!)","v":0},{"$f":"IF(ISERROR((#REF!-#REF!)/#REF!),0,(#REF!-#REF!)/#REF!)","v":0},{"$f":"IF(ISERROR((#REF!-#REF!)/#REF!),0,(#REF!-#REF!)/#REF!)","v":0},{"$f":"IF(ISERROR((#REF!-#REF!)/#REF!),0,(#REF!-#REF!)/#REF!)","v":0},{"$f":"IF(ISERROR((#REF!-#REF!)/#REF!),0,(#REF!-#REF!)/#REF!)","v":0},{"$f":"IF(ISERROR((#REF!-#REF!)/#REF!),0,(#REF!-#REF!)/#REF!)","v":0},{"$f":"IF(ISERROR((#REF!-#REF!)/#REF!),0,(#REF!-#REF!)/#REF!)","v":0},{"$f":"IF(ISERROR((#REF!-#REF!)/#REF!),0,(#REF!-#REF!)/#REF!)","v":0},{"$f":"IF(ISERROR((#REF!-#REF!)/#REF!),0,(#REF!-#REF!)/#REF!)","v":0},{"$f":"IF(ISERROR((#REF!-#REF!)/#REF!),0,(#REF!-#REF!)/#REF!)","v":0}]
[null,"WA03Y","Septicaemia without CC",0,1307,0,0,11,2563.529829292846,14,198,"Yes",0.30000000000000004,769.05894878785386,"","",{"$f":"IF(ISERROR((#REF!-#REF!)/#REF!),0,(#REF!-#REF!)/#REF!)","v":0},{"$f":"IF(ISERROR((#REF!-#REF!)/#REF!),0,(#REF!-#REF!)/#REF!)","v":0},{"$f":"IF(ISERROR((#REF!-#REF!)/#REF!),0,(#REF!-#REF!)/#REF!)","v":0},{"$f":"IF(ISERROR((#REF!-#REF!)/#REF!),0,(#REF!-#REF!)/#REF!)","v":0},{"$f":"IF(ISERROR((#REF!-#REF!)/#REF!),0,(#REF!-#REF!)/#REF!)","v":0},{"$f":"IF(ISERROR((#REF!-#REF!)/#REF!),0,(#REF!-#REF!)/#REF!)","v":0},{"$f":"IF(ISERROR((#REF!-#REF!)/#REF!),0,(#REF!-#REF!)/#REF!)","v":0},{"$f":"IF(ISERROR((#REF!-#REF!)/#REF!),0,(#REF!-#REF!)/#REF!)","v":0},{"$f":"IF(ISERROR((#REF!-#REF!)/#REF!),0,(#REF!-#REF!)/#REF!)","v":0},{"$f":"IF(ISERROR((#REF!-#REF!)/#REF!),0,(#REF!-#REF!)/#REF!)","v":0},{"$f":"IF(ISERROR((#REF!-#REF!)/#REF!),0,(#REF!-#REF!)/#REF!)","v":0},{"$f":"IF(ISERROR((#REF!-#REF!)/#REF!),0,(#REF!-#REF!)/#REF!)","v":0},{"$f":"IF(ISERROR((#REF!-#REF!)/#REF!),0,(#REF!-#REF!)/#REF!)","v":0}]
[null,"WA04S","Acute Febrile Illness with length of stay 4 days or less, with Major CC",0,759,0,0,5,931,6,198,"Yes",0.65,605.15,"","",{"$f":"IF(ISERROR((#REF!-#REF!)/#REF!),0,(#REF!-#REF!)/#REF!)","v":0},{"$f":"IF(ISERROR((#REF!-#REF!)/#REF!),0,(#REF!-#REF!)/#REF!)","v":0},{"$f":"IF(ISERROR((#REF!-#REF!)/#REF!),0,(#REF!-#REF!)/#REF!)","v":0},{"$f":"IF(ISERROR((#REF!-#REF!)/#REF!),0,(#REF!-#REF!)/#REF!)","v":0},{"$f":"IF(ISERROR((#REF!-#REF!)/#REF!),0,(#REF!-#REF!)/#REF!)","v":0},{"$f":"IF(ISERROR((#REF!-#REF!)/#REF!),0,(#REF!-#REF!)/#REF!)","v":0},{"$f":"IF(ISERROR((#REF!-#REF!)/#REF!),0,(#REF!-#REF!)/#REF!)","v":0},{"$f":"IF(ISERROR((#REF!-#REF!)/#REF!),0,(#REF!-#REF!)/#REF!)","v":0},{"$f":"IF(ISERROR((#REF!-#REF!)/#REF!),0,(#REF!-#REF!)/#REF!)","v":0},{"$f":"IF(ISERROR((#REF!-#REF!)/#REF!),0,(#REF!-#REF!)/#REF!)","v":0},{"$f":"IF(ISERROR((#REF!-#REF!)/#REF!),0,(#REF!-#REF!)/#REF!)","v":0},{"$f":"IF(ISERROR((#REF!-#REF!)/#REF!),0,(#REF!-#REF!)/#REF!)","v":0},{"$f":"IF(ISERROR((#REF!-#REF!)/#REF!),0,(#REF!-#REF!)/#REF!)","v":0}]
[null,"WA04T","Acute Febrile Illness with length of stay 4 days or less, with Intermediate CC",0,759,0,0,5,709,5,198,"Yes",1,709,"","",{"$f":"IF(ISERROR((#REF!-#REF!)/#REF!),0,(#REF!-#REF!)/#REF!)","v":0},{"$f":"IF(ISERROR((#REF!-#REF!)/#REF!),0,(#REF!-#REF!)/#REF!)","v":0},{"$f":"IF(ISERROR((#REF!-#REF!)/#REF!),0,(#REF!-#REF!)/#REF!)","v":0},{"$f":"IF(ISERROR((#REF!-#REF!)/#REF!),0,(#REF!-#REF!)/#REF!)","v":0},{"$f":"IF(ISERROR((#REF!-#REF!)/#REF!),0,(#REF!-#REF!)/#REF!)","v":0},{"$f":"IF(ISERROR((#REF!-#REF!)/#REF!),0,(#REF!-#REF!)/#REF!)","v":0},{"$f":"IF(ISERROR((#REF!-#REF!)/#REF!),0,(#REF!-#REF!)/#REF!)","v":0},{"$f":"IF(ISERROR((#REF!-#REF!)/#REF!),0,(#REF!-#REF!)/#REF!)","v":0},{"$f":"IF(ISERROR((#REF!-#REF!)/#REF!),0,(#REF!-#REF!)/#REF!)","v":0},{"$f":"IF(ISERROR((#REF!-#REF!)/#REF!),0,(#REF!-#REF!)/#REF!)","v":0},{"$f":"IF(ISERROR((#REF!-#REF!)/#REF!),0,(#REF!-#REF!)/#REF!)","v":0},{"$f":"IF(ISERROR((#REF!-#REF!)/#REF!),0,(#REF!-#REF!)/#REF!)","v":0},{"$f":"IF(ISERROR((#REF!-#REF!)/#REF!),0,(#REF!-#REF!)/#REF!)","v":0}]
[null,"WA04U","Acute Febrile Illness with length of stay 4 days or less, without CC",0,1012.1484790168797,0,0,5,560,5,198,"Yes",1,560,"","",{"$f":"IF(ISERROR((#REF!-#REF!)/#REF!),0,(#REF!-#REF!)/#REF!)","v":0},{"$f":"IF(ISERROR((#REF!-#REF!)/#REF!),0,(#REF!-#REF!)/#REF!)","v":0},{"$f":"IF(ISERROR((#REF!-#REF!)/#REF!),0,(#REF!-#REF!)/#REF!)","v":0},{"$f":"IF(ISERROR((#REF!-#REF!)/#REF!),0,(#REF!-#REF!)/#REF!)","v":0},{"$f":"IF(ISERROR((#REF!-#REF!)/#REF!),0,(#REF!-#REF!)/#REF!)","v":0},{"$f":"IF(ISERROR((#REF!-#REF!)/#REF!),0,(#REF!-#REF!)/#REF!)","v":0},{"$f":"IF(ISERROR((#REF!-#REF!)/#REF!),0,(#REF!-#REF!)/#REF!)","v":0},{"$f":"IF(ISERROR((#REF!-#REF!)/#REF!),0,(#REF!-#REF!)/#REF!)","v":0},{"$f":"IF(ISERROR((#REF!-#REF!)/#REF!),0,(#REF!-#REF!)/#REF!)","v":0},{"$f":"IF(ISERROR((#REF!-#REF!)/#REF!),0,(#REF!-#REF!)/#REF!)","v":0},{"$f":"IF(ISERROR((#REF!-#REF!)/#REF!),0,(#REF!-#REF!)/#REF!)","v":0},{"$f":"IF(ISERROR((#REF!-#REF!)/#REF!),0,(#REF!-#REF!)/#REF!)","v":0},{"$f":"IF(ISERROR((#REF!-#REF!)/#REF!),0,(#REF!-#REF!)/#REF!)","v":0}]
[null,"WA05Q","Pyrexia of Unknown Origin with length of stay 5 days or more, with CC",0,3785,0,0,26,3440.2362191672523,18,198,"No","-",0,"","",{"$f":"IF(ISERROR((#REF!-#REF!)/#REF!),0,(#REF!-#REF!)/#REF!)","v":0},{"$f":"IF(ISERROR((#REF!-#REF!)/#REF!),0,(#REF!-#REF!)/#REF!)","v":0},{"$f":"IF(ISERROR((#REF!-#REF!)/#REF!),0,(#REF!-#REF!)/#REF!)","v":0},{"$f":"IF(ISERROR((#REF!-#REF!)/#REF!),0,(#REF!-#REF!)/#REF!)","v":0},{"$f":"IF(ISERROR((#REF!-#REF!)/#REF!),0,(#REF!-#REF!)/#REF!)","v":0},{"$f":"IF(ISERROR((#REF!-#REF!)/#REF!),0,(#REF!-#REF!)/#REF!)","v":0},{"$f":"IF(ISERROR((#REF!-#REF!)/#REF!),0,(#REF!-#REF!)/#REF!)","v":0},{"$f":"IF(ISERROR((#REF!-#REF!)/#REF!),0,(#REF!-#REF!)/#REF!)","v":0},{"$f":"IF(ISERROR((#REF!-#REF!)/#REF!),0,(#REF!-#REF!)/#REF!)","v":0},{"$f":"IF(ISERROR((#REF!-#REF!)/#REF!),0,(#REF!-#REF!)/#REF!)","v":0},{"$f":"IF(ISERROR((#REF!-#REF!)/#REF!),0,(#REF!-#REF!)/#REF!)","v":0},{"$f":"IF(ISERROR((#REF!-#REF!)/#REF!),0,(#REF!-#REF!)/#REF!)","v":0},{"$f":"IF(ISERROR((#REF!-#REF!)/#REF!),0,(#REF!-#REF!)/#REF!)","v":0}]
[null,"WA05R","Pyrexia of Unknown Origin with length of stay 5 days or more, without CC",0,3652,0,0,6,2263,15,198,"No","-",0,"","",{"$f":"IF(ISERROR((#REF!-#REF!)/#REF!),0,(#REF!-#REF!)/#REF!)","v":0},{"$f":"IF(ISERROR((#REF!-#REF!)/#REF!),0,(#REF!-#REF!)/#REF!)","v":0},{"$f":"IF(ISERROR((#REF!-#REF!)/#REF!),0,(#REF!-#REF!)/#REF!)","v":0},{"$f":"IF(ISERROR((#REF!-#REF!)/#REF!),0,(#REF!-#REF!)/#REF!)","v":0},{"$f":"IF(ISERROR((#REF!-#REF!)/#REF!),0,(#REF!-#REF!)/#REF!)","v":0},{"$f":"IF(ISERROR((#REF!-#REF!)/#REF!),0,(#REF!-#REF!)/#REF!)","v":0},{"$f":"IF(ISERROR((#REF!-#REF!)/#REF!),0,(#REF!-#REF!)/#REF!)","v":0},{"$f":"IF(ISERROR((#REF!-#REF!)/#REF!),0,(#REF!-#REF!)/#REF!)","v":0},{"$f":"IF(ISERROR((#REF!-#REF!)/#REF!),0,(#REF!-#REF!)/#REF!)","v":0},{"$f":"IF(ISERROR((#REF!-#REF!)/#REF!),0,(#REF!-#REF!)/#REF!)","v":0},{"$f":"IF(ISERROR((#REF!-#REF!)/#REF!),0,(#REF!-#REF!)/#REF!)","v":0},{"$f":"IF(ISERROR((#REF!-#REF!)/#REF!),0,(#REF!-#REF!)/#REF!)","v":0},{"$f":"IF(ISERROR((#REF!-#REF!)/#REF!),0,(#REF!-#REF!)/#REF!)","v":0}]
[null,"WA06W","Other Viral Illness with CC",0,2198,0,0,15,1034,5,198,"Yes",0.4,413.6,"","",{"$f":"IF(ISERROR((#REF!-#REF!)/#REF!),0,(#REF!-#REF!)/#REF!)","v":0},{"$f":"IF(ISERROR((#REF!-#REF!)/#REF!),0,(#REF!-#REF!)/#REF!)","v":0},{"$f":"IF(ISERROR((#REF!-#REF!)/#REF!),0,(#REF!-#REF!)/#REF!)","v":0},{"$f":"IF(ISERROR((#REF!-#REF!)/#REF!),0,(#REF!-#REF!)/#REF!)","v":0},{"$f":"IF(ISERROR((#REF!-#REF!)/#REF!),0,(#REF!-#REF!)/#REF!)","v":0},{"$f":"IF(ISERROR((#REF!-#REF!)/#REF!),0,(#REF!-#REF!)/#REF!)","v":0},{"$f":"IF(ISERROR((#REF!-#REF!)/#REF!),0,(#REF!-#REF!)/#REF!)","v":0},{"$f":"IF(ISERROR((#REF!-#REF!)/#REF!),0,(#REF!-#REF!)/#REF!)","v":0},{"$f":"IF(ISERROR((#REF!-#REF!)/#REF!),0,(#REF!-#REF!)/#REF!)","v":0},{"$f":"IF(ISERROR((#REF!-#REF!)/#REF!),0,(#REF!-#REF!)/#REF!)","v":0},{"$f":"IF(ISERROR((#REF!-#REF!)/#REF!),0,(#REF!-#REF!)/#REF!)","v":0},{"$f":"IF(ISERROR((#REF!-#REF!)/#REF!),0,(#REF!-#REF!)/#REF!)","v":0},{"$f":"IF(ISERROR((#REF!-#REF!)/#REF!),0,(#REF!-#REF!)/#REF!)","v":0}]
[null,"WA06Y","Other Viral Illness without CC",0,871,0,0,5,1319.6737984517865,5,198,"Yes",1,1319.6737984517865,"","",{"$f":"IF(ISERROR((#REF!-#REF!)/#REF!),0,(#REF!-#REF!)/#REF!)","v":0},{"$f":"IF(ISERROR((#REF!-#REF!)/#REF!),0,(#REF!-#REF!)/#REF!)","v":0},{"$f":"IF(ISERROR((#REF!-#REF!)/#REF!),0,(#REF!-#REF!)/#REF!)","v":0},{"$f":"IF(ISERROR((#REF!-#REF!)/#REF!),0,(#REF!-#REF!)/#REF!)","v":0},{"$f":"IF(ISERROR((#REF!-#REF!)/#REF!),0,(#REF!-#REF!)/#REF!)","v":0},{"$f":"IF(ISERROR((#REF!-#REF!)/#REF!),0,(#REF!-#REF!)/#REF!)","v":0},{"$f":"IF(ISERROR((#REF!-#REF!)/#REF!),0,(#REF!-#REF!)/#REF!)","v":0},{"$f":"IF(ISERROR((#REF!-#REF!)/#REF!),0,(#REF!-#REF!)/#REF!)","v":0},{"$f":"IF(ISERROR((#REF!-#REF!)/#REF!),0,(#REF!-#REF!)/#REF!)","v":0},{"$f":"IF(ISERROR((#REF!-#REF!)/#REF!),0,(#REF!-#REF!)/#REF!)","v":0},{"$f":"IF(ISERROR((#REF!-#REF!)/#REF!),0,(#REF!-#REF!)/#REF!)","v":0},{"$f":"IF(ISERROR((#REF!-#REF!)/#REF!),0,(#REF!-#REF!)/#REF!)","v":0},{"$f":"IF(ISERROR((#REF!-#REF!)/#REF!),0,(#REF!-#REF!)/#REF!)","v":0}]
[null,"WA07Z","Complex Infectious Diseases",0,186,0,0,5,2937,23,198,"Yes",0.30000000000000004,881.10000000000014,"","",{"$f":"IF(ISERROR((#REF!-#REF!)/#REF!),0,(#REF!-#REF!)/#REF!)","v":0},{"$f":"IF(ISERROR((#REF!-#REF!)/#REF!),0,(#REF!-#REF!)/#REF!)","v":0},{"$f":"IF(ISERROR((#REF!-#REF!)/#REF!),0,(#REF!-#REF!)/#REF!)","v":0},{"$f":"IF(ISERROR((#REF!-#REF!)/#REF!),0,(#REF!-#REF!)/#REF!)","v":0},{"$f":"IF(ISERROR((#REF!-#REF!)/#REF!),0,(#REF!-#REF!)/#REF!)","v":0},{"$f":"IF(ISERROR((#REF!-#REF!)/#REF!),0,(#REF!-#REF!)/#REF!)","v":0},{"$f":"IF(ISERROR((#REF!-#REF!)/#REF!),0,(#REF!-#REF!)/#REF!)","v":0},{"$f":"IF(ISERROR((#REF!-#REF!)/#REF!),0,(#REF!-#REF!)/#REF!)","v":0},{"$f":"IF(ISERROR((#REF!-#REF!)/#REF!),0,(#REF!-#REF!)/#REF!)","v":0},{"$f":"IF(ISERROR((#REF!-#REF!)/#REF!),0,(#REF!-#REF!)/#REF!)","v":0},{"$f":"IF(ISERROR((#REF!-#REF!)/#REF!),0,(#REF!-#REF!)/#REF!)","v":0},{"$f":"IF(ISERROR((#REF!-#REF!)/#REF!),0,(#REF!-#REF!)/#REF!)","v":0},{"$f":"IF(ISERROR((#REF!-#REF!)/#REF!),0,(#REF!-#REF!)/#REF!)","v":0}]
[null,"WA08Z","Malaria",0,1016,0,0,9,3469.9358030457092,6,198,"Yes",0.4,1387.9743212182839,"","",{"$f":"IF(ISERROR((#REF!-#REF!)/#REF!),0,(#REF!-#REF!)/#REF!)","v":0},{"$f":"IF(ISERROR((#REF!-#REF!)/#REF!),0,(#REF!-#REF!)/#REF!)","v":0},{"$f":"IF(ISERROR((#REF!-#REF!)/#REF!),0,(#REF!-#REF!)/#REF!)","v":0},{"$f":"IF(ISERROR((#REF!-#REF!)/#REF!),0,(#REF!-#REF!)/#REF!)","v":0},{"$f":"IF(ISERROR((#REF!-#REF!)/#REF!),0,(#REF!-#REF!)/#REF!)","v":0},{"$f":"IF(ISERROR((#REF!-#REF!)/#REF!),0,(#REF!-#REF!)/#REF!)","v":0},{"$f":"IF(ISERROR((#REF!-#REF!)/#REF!),0,(#REF!-#REF!)/#REF!)","v":0},{"$f":"IF(ISERROR((#REF!-#REF!)/#REF!),0,(#REF!-#REF!)/#REF!)","v":0},{"$f":"IF(ISERROR((#REF!-#REF!)/#REF!),0,(#REF!-#REF!)/#REF!)","v":0},{"$f":"IF(ISERROR((#REF!-#REF!)/#REF!),0,(#REF!-#REF!)/#REF!)","v":0},{"$f":"IF(ISERROR((#REF!-#REF!)/#REF!),0,(#REF!-#REF!)/#REF!)","v":0},{"$f":"IF(ISERROR((#REF!-#REF!)/#REF!),0,(#REF!-#REF!)/#REF!)","v":0},{"$f":"IF(ISERROR((#REF!-#REF!)/#REF!),0,(#REF!-#REF!)/#REF!)","v":0}]
[null,"WA09W","Other Non-Viral Infection with CC",0,1249,0,0,5,3740.0676386150012,25,198,"Yes",0.30000000000000004,1122.0202915845005,"","",{"$f":"IF(ISERROR((#REF!-#REF!)/#REF!),0,(#REF!-#REF!)/#REF!)","v":0},{"$f":"IF(ISERROR((#REF!-#REF!)/#REF!),0,(#REF!-#REF!)/#REF!)","v":0},{"$f":"IF(ISERROR((#REF!-#REF!)/#REF!),0,(#REF!-#REF!)/#REF!)","v":0},{"$f":"IF(ISERROR((#REF!-#REF!)/#REF!),0,(#REF!-#REF!)/#REF!)","v":0},{"$f":"IF(ISERROR((#REF!-#REF!)/#REF!),0,(#REF!-#REF!)/#REF!)","v":0},{"$f":"IF(ISERROR((#REF!-#REF!)/#REF!),0,(#REF!-#REF!)/#REF!)","v":0},{"$f":"IF(ISERROR((#REF!-#REF!)/#REF!),0,(#REF!-#REF!)/#REF!)","v":0},{"$f":"IF(ISERROR((#REF!-#REF!)/#REF!),0,(#REF!-#REF!)/#REF!)","v":0},{"$f":"IF(ISERROR((#REF!-#REF!)/#REF!),0,(#REF!-#REF!)/#REF!)","v":0},{"$f":"IF(ISERROR((#REF!-#REF!)/#REF!),0,(#REF!-#REF!)/#REF!)","v":0},{"$f":"IF(ISERROR((#REF!-#REF!)/#REF!),0,(#REF!-#REF!)/#REF!)","v":0},{"$f":"IF(ISERROR((#REF!-#REF!)/#REF!),0,(#REF!-#REF!)/#REF!)","v":0},{"$f":"IF(ISERROR((#REF!-#REF!)/#REF!),0,(#REF!-#REF!)/#REF!)","v":0}]
[null,"WA09Y","Other Non-Viral Infection without CC",0,543,0,0,5,1933.4894649059961,9,198,"Yes",0.4,773.39578596239846,"","",{"$f":"IF(ISERROR((#REF!-#REF!)/#REF!),0,(#REF!-#REF!)/#REF!)","v":0},{"$f":"IF(ISERROR((#REF!-#REF!)/#REF!),0,(#REF!-#REF!)/#REF!)","v":0},{"$f":"IF(ISERROR((#REF!-#REF!)/#REF!),0,(#REF!-#REF!)/#REF!)","v":0},{"$f":"IF(ISERROR((#REF!-#REF!)/#REF!),0,(#REF!-#REF!)/#REF!)","v":0},{"$f":"IF(ISERROR((#REF!-#REF!)/#REF!),0,(#REF!-#REF!)/#REF!)","v":0},{"$f":"IF(ISERROR((#REF!-#REF!)/#REF!),0,(#REF!-#REF!)/#REF!)","v":0},{"$f":"IF(ISERROR((#REF!-#REF!)/#REF!),0,(#REF!-#REF!)/#REF!)","v":0},{"$f":"IF(ISERROR((#REF!-#REF!)/#REF!),0,(#REF!-#REF!)/#REF!)","v":0},{"$f":"IF(ISERROR((#REF!-#REF!)/#REF!),0,(#REF!-#REF!)/#REF!)","v":0},{"$f":"IF(ISERROR((#REF!-#REF!)/#REF!),0,(#REF!-#REF!)/#REF!)","v":0},{"$f":"IF(ISERROR((#REF!-#REF!)/#REF!),0,(#REF!-#REF!)/#REF!)","v":0},{"$f":"IF(ISERROR((#REF!-#REF!)/#REF!),0,(#REF!-#REF!)/#REF!)","v":0},{"$f":"IF(ISERROR((#REF!-#REF!)/#REF!),0,(#REF!-#REF!)/#REF!)","v":0}]
[null,"WA10Z","Other Infections (Genito-Urinary Medicine)",0,888,0,0,5,2826.3921073705083,9,198,"Yes",0.4,1130.5568429482034,"","",{"$f":"IF(ISERROR((#REF!-#REF!)/#REF!),0,(#REF!-#REF!)/#REF!)","v":0},{"$f":"IF(ISERROR((#REF!-#REF!)/#REF!),0,(#REF!-#REF!)/#REF!)","v":0},{"$f":"IF(ISERROR((#REF!-#REF!)/#REF!),0,(#REF!-#REF!)/#REF!)","v":0},{"$f":"IF(ISERROR((#REF!-#REF!)/#REF!),0,(#REF!-#REF!)/#REF!)","v":0},{"$f":"IF(ISERROR((#REF!-#REF!)/#REF!),0,(#REF!-#REF!)/#REF!)","v":0},{"$f":"IF(ISERROR((#REF!-#REF!)/#REF!),0,(#REF!-#REF!)/#REF!)","v":0},{"$f":"IF(ISERROR((#REF!-#REF!)/#REF!),0,(#REF!-#REF!)/#REF!)","v":0},{"$f":"IF(ISERROR((#REF!-#REF!)/#REF!),0,(#REF!-#REF!)/#REF!)","v":0},{"$f":"IF(ISERROR((#REF!-#REF!)/#REF!),0,(#REF!-#REF!)/#REF!)","v":0},{"$f":"IF(ISERROR((#REF!-#REF!)/#REF!),0,(#REF!-#REF!)/#REF!)","v":0},{"$f":"IF(ISERROR((#REF!-#REF!)/#REF!),0,(#REF!-#REF!)/#REF!)","v":0},{"$f":"IF(ISERROR((#REF!-#REF!)/#REF!),0,(#REF!-#REF!)/#REF!)","v":0},{"$f":"IF(ISERROR((#REF!-#REF!)/#REF!),0,(#REF!-#REF!)/#REF!)","v":0}]
[null,"WA11V","Poisoning, Toxic, Environmental and Unspecified Effects, with Major CC",0,2211,0,0,28,3064.2176092717286,16,198,"Yes",0.30000000000000004,919.26528278151875,"","",{"$f":"IF(ISERROR((#REF!-#REF!)/#REF!),0,(#REF!-#REF!)/#REF!)","v":0},{"$f":"IF(ISERROR((#REF!-#REF!)/#REF!),0,(#REF!-#REF!)/#REF!)","v":0},{"$f":"IF(ISERROR((#REF!-#REF!)/#REF!),0,(#REF!-#REF!)/#REF!)","v":0},{"$f":"IF(ISERROR((#REF!-#REF!)/#REF!),0,(#REF!-#REF!)/#REF!)","v":0},{"$f":"IF(ISERROR((#REF!-#REF!)/#REF!),0,(#REF!-#REF!)/#REF!)","v":0},{"$f":"IF(ISERROR((#REF!-#REF!)/#REF!),0,(#REF!-#REF!)/#REF!)","v":0},{"$f":"IF(ISERROR((#REF!-#REF!)/#REF!),0,(#REF!-#REF!)/#REF!)","v":0},{"$f":"IF(ISERROR((#REF!-#REF!)/#REF!),0,(#REF!-#REF!)/#REF!)","v":0},{"$f":"IF(ISERROR((#REF!-#REF!)/#REF!),0,(#REF!-#REF!)/#REF!)","v":0},{"$f":"IF(ISERROR((#REF!-#REF!)/#REF!),0,(#REF!-#REF!)/#REF!)","v":0},{"$f":"IF(ISERROR((#REF!-#REF!)/#REF!),0,(#REF!-#REF!)/#REF!)","v":0},{"$f":"IF(ISERROR((#REF!-#REF!)/#REF!),0,(#REF!-#REF!)/#REF!)","v":0},{"$f":"IF(ISERROR((#REF!-#REF!)/#REF!),0,(#REF!-#REF!)/#REF!)","v":0}]
[null,"WA11X","Poisoning, Toxic, Environmental and Unspecified Effects, with Intermediate CC",0,810,0,0,5,446,5,198,"No","-",0,1,"HRG",{"$f":"IF(ISERROR((#REF!-#REF!)/#REF!),0,(#REF!-#REF!)/#REF!)","v":0},{"$f":"IF(ISERROR((#REF!-#REF!)/#REF!),0,(#REF!-#REF!)/#REF!)","v":0},{"$f":"IF(ISERROR((#REF!-#REF!)/#REF!),0,(#REF!-#REF!)/#REF!)","v":0},{"$f":"IF(ISERROR((#REF!-#REF!)/#REF!),0,(#REF!-#REF!)/#REF!)","v":0},{"$f":"IF(ISERROR((#REF!-#REF!)/#REF!),0,(#REF!-#REF!)/#REF!)","v":0},{"$f":"IF(ISERROR((#REF!-#REF!)/#REF!),0,(#REF!-#REF!)/#REF!)","v":0},{"$f":"IF(ISERROR((#REF!-#REF!)/#REF!),0,(#REF!-#REF!)/#REF!)","v":0},{"$f":"IF(ISERROR((#REF!-#REF!)/#REF!),0,(#REF!-#REF!)/#REF!)","v":0},{"$f":"IF(ISERROR((#REF!-#REF!)/#REF!),0,(#REF!-#REF!)/#REF!)","v":0},{"$f":"IF(ISERROR((#REF!-#REF!)/#REF!),0,(#REF!-#REF!)/#REF!)","v":0},{"$f":"IF(ISERROR((#REF!-#REF!)/#REF!),0,(#REF!-#REF!)/#REF!)","v":0},{"$f":"IF(ISERROR((#REF!-#REF!)/#REF!),0,(#REF!-#REF!)/#REF!)","v":0},{"$f":"IF(ISERROR((#REF!-#REF!)/#REF!),0,(#REF!-#REF!)/#REF!)","v":0}]
[null,"WA11Y","Poisoning, Toxic, Environmental and Unspecified Effects, without CC",0,272,0,0,5,157,5,198,"No","-",0,1,"HRG",{"$f":"IF(ISERROR((#REF!-#REF!)/#REF!),0,(#REF!-#REF!)/#REF!)","v":0},{"$f":"IF(ISERROR((#REF!-#REF!)/#REF!),0,(#REF!-#REF!)/#REF!)","v":0},{"$f":"IF(ISERROR((#REF!-#REF!)/#REF!),0,(#REF!-#REF!)/#REF!)","v":0},{"$f":"IF(ISERROR((#REF!-#REF!)/#REF!),0,(#REF!-#REF!)/#REF!)","v":0},{"$f":"IF(ISERROR((#REF!-#REF!)/#REF!),0,(#REF!-#REF!)/#REF!)","v":0},{"$f":"IF(ISERROR((#REF!-#REF!)/#REF!),0,(#REF!-#REF!)/#REF!)","v":0},{"$f":"IF(ISERROR((#REF!-#REF!)/#REF!),0,(#REF!-#REF!)/#REF!)","v":0},{"$f":"IF(ISERROR((#REF!-#REF!)/#REF!),0,(#REF!-#REF!)/#REF!)","v":0},{"$f":"IF(ISERROR((#REF!-#REF!)/#REF!),0,(#REF!-#REF!)/#REF!)","v":0},{"$f":"IF(ISERROR((#REF!-#REF!)/#REF!),0,(#REF!-#REF!)/#REF!)","v":0},{"$f":"IF(ISERROR((#REF!-#REF!)/#REF!),0,(#REF!-#REF!)/#REF!)","v":0},{"$f":"IF(ISERROR((#REF!-#REF!)/#REF!),0,(#REF!-#REF!)/#REF!)","v":0},{"$f":"IF(ISERROR((#REF!-#REF!)/#REF!),0,(#REF!-#REF!)/#REF!)","v":0}]
[null,"WA12V","Complications of Procedures with Major CC",0,2532,0,0,20,3784,30,198,"Yes",0.30000000000000004,1135.2000000000003,"","",{"$f":"IF(ISERROR((#REF!-#REF!)/#REF!),0,(#REF!-#REF!)/#REF!)","v":0},{"$f":"IF(ISERROR((#REF!-#REF!)/#REF!),0,(#REF!-#REF!)/#REF!)","v":0},{"$f":"IF(ISERROR((#REF!-#REF!)/#REF!),0,(#REF!-#REF!)/#REF!)","v":0},{"$f":"IF(ISERROR((#REF!-#REF!)/#REF!),0,(#REF!-#REF!)/#REF!)","v":0},{"$f":"IF(ISERROR((#REF!-#REF!)/#REF!),0,(#REF!-#REF!)/#REF!)","v":0},{"$f":"IF(ISERROR((#REF!-#REF!)/#REF!),0,(#REF!-#REF!)/#REF!)","v":0},{"$f":"IF(ISERROR((#REF!-#REF!)/#REF!),0,(#REF!-#REF!)/#REF!)","v":0},{"$f":"IF(ISERROR((#REF!-#REF!)/#REF!),0,(#REF!-#REF!)/#REF!)","v":0},{"$f":"IF(ISERROR((#REF!-#REF!)/#REF!),0,(#REF!-#REF!)/#REF!)","v":0},{"$f":"IF(ISERROR((#REF!-#REF!)/#REF!),0,(#REF!-#REF!)/#REF!)","v":0},{"$f":"IF(ISERROR((#REF!-#REF!)/#REF!),0,(#REF!-#REF!)/#REF!)","v":0},{"$f":"IF(ISERROR((#REF!-#REF!)/#REF!),0,(#REF!-#REF!)/#REF!)","v":0},{"$f":"IF(ISERROR((#REF!-#REF!)/#REF!),0,(#REF!-#REF!)/#REF!)","v":0}]
[null,"WA12X","Complications of Procedures with Intermediate CC",0,1632,0,0,10,2245.2360474108555,11,198,"Yes",0.30000000000000004,673.57081422325678,"","",{"$f":"IF(ISERROR((#REF!-#REF!)/#REF!),0,(#REF!-#REF!)/#REF!)","v":0},{"$f":"IF(ISERROR((#REF!-#REF!)/#REF!),0,(#REF!-#REF!)/#REF!)","v":0},{"$f":"IF(ISERROR((#REF!-#REF!)/#REF!),0,(#REF!-#REF!)/#REF!)","v":0},{"$f":"IF(ISERROR((#REF!-#REF!)/#REF!),0,(#REF!-#REF!)/#REF!)","v":0},{"$f":"IF(ISERROR((#REF!-#REF!)/#REF!),0,(#REF!-#REF!)/#REF!)","v":0},{"$f":"IF(ISERROR((#REF!-#REF!)/#REF!),0,(#REF!-#REF!)/#REF!)","v":0},{"$f":"IF(ISERROR((#REF!-#REF!)/#REF!),0,(#REF!-#REF!)/#REF!)","v":0},{"$f":"IF(ISERROR((#REF!-#REF!)/#REF!),0,(#REF!-#REF!)/#REF!)","v":0},{"$f":"IF(ISERROR((#REF!-#REF!)/#REF!),0,(#REF!-#REF!)/#REF!)","v":0},{"$f":"IF(ISERROR((#REF!-#REF!)/#REF!),0,(#REF!-#REF!)/#REF!)","v":0},{"$f":"IF(ISERROR((#REF!-#REF!)/#REF!),0,(#REF!-#REF!)/#REF!)","v":0},{"$f":"IF(ISERROR((#REF!-#REF!)/#REF!),0,(#REF!-#REF!)/#REF!)","v":0},{"$f":"IF(ISERROR((#REF!-#REF!)/#REF!),0,(#REF!-#REF!)/#REF!)","v":0}]
[null,"WA12Y","Complications of Procedures without CC",0,957,0,0,5,994,5,198,"Yes",0.65,646.1,"","",{"$f":"IF(ISERROR((#REF!-#REF!)/#REF!),0,(#REF!-#REF!)/#REF!)","v":0},{"$f":"IF(ISERROR((#REF!-#REF!)/#REF!),0,(#REF!-#REF!)/#REF!)","v":0},{"$f":"IF(ISERROR((#REF!-#REF!)/#REF!),0,(#REF!-#REF!)/#REF!)","v":0},{"$f":"IF(ISERROR((#REF!-#REF!)/#REF!),0,(#REF!-#REF!)/#REF!)","v":0},{"$f":"IF(ISERROR((#REF!-#REF!)/#REF!),0,(#REF!-#REF!)/#REF!)","v":0},{"$f":"IF(ISERROR((#REF!-#REF!)/#REF!),0,(#REF!-#REF!)/#REF!)","v":0},{"$f":"IF(ISERROR((#REF!-#REF!)/#REF!),0,(#REF!-#REF!)/#REF!)","v":0},{"$f":"IF(ISERROR((#REF!-#REF!)/#REF!),0,(#REF!-#REF!)/#REF!)","v":0},{"$f":"IF(ISERROR((#REF!-#REF!)/#REF!),0,(#REF!-#REF!)/#REF!)","v":0},{"$f":"IF(ISERROR((#REF!-#REF!)/#REF!),0,(#REF!-#REF!)/#REF!)","v":0},{"$f":"IF(ISERROR((#REF!-#REF!)/#REF!),0,(#REF!-#REF!)/#REF!)","v":0},{"$f":"IF(ISERROR((#REF!-#REF!)/#REF!),0,(#REF!-#REF!)/#REF!)","v":0},{"$f":"IF(ISERROR((#REF!-#REF!)/#REF!),0,(#REF!-#REF!)/#REF!)","v":0}]
[null,"WA15K","Respite Care with length of stay 9 days or more, with Major CC",0,8067,0,0,16,8067,16,198,"No","-",0,"","",{"$f":"IF(ISERROR((#REF!-#REF!)/#REF!),0,(#REF!-#REF!)/#REF!)","v":0},{"$f":"IF(ISERROR((#REF!-#REF!)/#REF!),0,(#REF!-#REF!)/#REF!)","v":0},{"$f":"IF(ISERROR((#REF!-#REF!)/#REF!),0,(#REF!-#REF!)/#REF!)","v":0},{"$f":"IF(ISERROR((#REF!-#REF!)/#REF!),0,(#REF!-#REF!)/#REF!)","v":0},{"$f":"IF(ISERROR((#REF!-#REF!)/#REF!),0,(#REF!-#REF!)/#REF!)","v":0},{"$f":"IF(ISERROR((#REF!-#REF!)/#REF!),0,(#REF!-#REF!)/#REF!)","v":0},{"$f":"IF(ISERROR((#REF!-#REF!)/#REF!),0,(#REF!-#REF!)/#REF!)","v":0},{"$f":"IF(ISERROR((#REF!-#REF!)/#REF!),0,(#REF!-#REF!)/#REF!)","v":0},{"$f":"IF(ISERROR((#REF!-#REF!)/#REF!),0,(#REF!-#REF!)/#REF!)","v":0},{"$f":"IF(ISERROR((#REF!-#REF!)/#REF!),0,(#REF!-#REF!)/#REF!)","v":0},{"$f":"IF(ISERROR((#REF!-#REF!)/#REF!),0,(#REF!-#REF!)/#REF!)","v":0},{"$f":"IF(ISERROR((#REF!-#REF!)/#REF!),0,(#REF!-#REF!)/#REF!)","v":0},{"$f":"IF(ISERROR((#REF!-#REF!)/#REF!),0,(#REF!-#REF!)/#REF!)","v":0}]
[null,"WA15L","Respite Care with length of stay 9 days or more, with Intermediate CC",0,8067,0,0,16,8067,16,198,"No","-",0,"","",{"$f":"IF(ISERROR((#REF!-#REF!)/#REF!),0,(#REF!-#REF!)/#REF!)","v":0},{"$f":"IF(ISERROR((#REF!-#REF!)/#REF!),0,(#REF!-#REF!)/#REF!)","v":0},{"$f":"IF(ISERROR((#REF!-#REF!)/#REF!),0,(#REF!-#REF!)/#REF!)","v":0},{"$f":"IF(ISERROR((#REF!-#REF!)/#REF!),0,(#REF!-#REF!)/#REF!)","v":0},{"$f":"IF(ISERROR((#REF!-#REF!)/#REF!),0,(#REF!-#REF!)/#REF!)","v":0},{"$f":"IF(ISERROR((#REF!-#REF!)/#REF!),0,(#REF!-#REF!)/#REF!)","v":0},{"$f":"IF(ISERROR((#REF!-#REF!)/#REF!),0,(#REF!-#REF!)/#REF!)","v":0},{"$f":"IF(ISERROR((#REF!-#REF!)/#REF!),0,(#REF!-#REF!)/#REF!)","v":0},{"$f":"IF(ISERROR((#REF!-#REF!)/#REF!),0,(#REF!-#REF!)/#REF!)","v":0},{"$f":"IF(ISERROR((#REF!-#REF!)/#REF!),0,(#REF!-#REF!)/#REF!)","v":0},{"$f":"IF(ISERROR((#REF!-#REF!)/#REF!),0,(#REF!-#REF!)/#REF!)","v":0},{"$f":"IF(ISERROR((#REF!-#REF!)/#REF!),0,(#REF!-#REF!)/#REF!)","v":0},{"$f":"IF(ISERROR((#REF!-#REF!)/#REF!),0,(#REF!-#REF!)/#REF!)","v":0}]
[null,"WA15M","Respite Care with length of stay 9 days or more, without CC",0,8067,0,0,16,8067,16,198,"No","-",0,"","",{"$f":"IF(ISERROR((#REF!-#REF!)/#REF!),0,(#REF!-#REF!)/#REF!)","v":0},{"$f":"IF(ISERROR((#REF!-#REF!)/#REF!),0,(#REF!-#REF!)/#REF!)","v":0},{"$f":"IF(ISERROR((#REF!-#REF!)/#REF!),0,(#REF!-#REF!)/#REF!)","v":0},{"$f":"IF(ISERROR((#REF!-#REF!)/#REF!),0,(#REF!-#REF!)/#REF!)","v":0},{"$f":"IF(ISERROR((#REF!-#REF!)/#REF!),0,(#REF!-#REF!)/#REF!)","v":0},{"$f":"IF(ISERROR((#REF!-#REF!)/#REF!),0,(#REF!-#REF!)/#REF!)","v":0},{"$f":"IF(ISERROR((#REF!-#REF!)/#REF!),0,(#REF!-#REF!)/#REF!)","v":0},{"$f":"IF(ISERROR((#REF!-#REF!)/#REF!),0,(#REF!-#REF!)/#REF!)","v":0},{"$f":"IF(ISERROR((#REF!-#REF!)/#REF!),0,(#REF!-#REF!)/#REF!)","v":0},{"$f":"IF(ISERROR((#REF!-#REF!)/#REF!),0,(#REF!-#REF!)/#REF!)","v":0},{"$f":"IF(ISERROR((#REF!-#REF!)/#REF!),0,(#REF!-#REF!)/#REF!)","v":0},{"$f":"IF(ISERROR((#REF!-#REF!)/#REF!),0,(#REF!-#REF!)/#REF!)","v":0},{"$f":"IF(ISERROR((#REF!-#REF!)/#REF!),0,(#REF!-#REF!)/#REF!)","v":0}]
[null,"WA15N","Respite Care with length of stay between 5 and 8 days, with Major CC",0,2157,0,0,7,3325,7,198,"No","-",0,"","",{"$f":"IF(ISERROR((#REF!-#REF!)/#REF!),0,(#REF!-#REF!)/#REF!)","v":0},{"$f":"IF(ISERROR((#REF!-#REF!)/#REF!),0,(#REF!-#REF!)/#REF!)","v":0},{"$f":"IF(ISERROR((#REF!-#REF!)/#REF!),0,(#REF!-#REF!)/#REF!)","v":0},{"$f":"IF(ISERROR((#REF!-#REF!)/#REF!),0,(#REF!-#REF!)/#REF!)","v":0},{"$f":"IF(ISERROR((#REF!-#REF!)/#REF!),0,(#REF!-#REF!)/#REF!)","v":0},{"$f":"IF(ISERROR((#REF!-#REF!)/#REF!),0,(#REF!-#REF!)/#REF!)","v":0},{"$f":"IF(ISERROR((#REF!-#REF!)/#REF!),0,(#REF!-#REF!)/#REF!)","v":0},{"$f":"IF(ISERROR((#REF!-#REF!)/#REF!),0,(#REF!-#REF!)/#REF!)","v":0},{"$f":"IF(ISERROR((#REF!-#REF!)/#REF!),0,(#REF!-#REF!)/#REF!)","v":0},{"$f":"IF(ISERROR((#REF!-#REF!)/#REF!),0,(#REF!-#REF!)/#REF!)","v":0},{"$f":"IF(ISERROR((#REF!-#REF!)/#REF!),0,(#REF!-#REF!)/#REF!)","v":0},{"$f":"IF(ISERROR((#REF!-#REF!)/#REF!),0,(#REF!-#REF!)/#REF!)","v":0},{"$f":"IF(ISERROR((#REF!-#REF!)/#REF!),0,(#REF!-#REF!)/#REF!)","v":0}]
[null,"WA15O","Respite Care with length of stay between 5 and 8 days, with Intermediate CC",0,2157,0,0,7,2418,9,198,"No","-",0,"","",{"$f":"IF(ISERROR((#REF!-#REF!)/#REF!),0,(#REF!-#REF!)/#REF!)","v":0},{"$f":"IF(ISERROR((#REF!-#REF!)/#REF!),0,(#REF!-#REF!)/#REF!)","v":0},{"$f":"IF(ISERROR((#REF!-#REF!)/#REF!),0,(#REF!-#REF!)/#REF!)","v":0},{"$f":"IF(ISERROR((#REF!-#REF!)/#REF!),0,(#REF!-#REF!)/#REF!)","v":0},{"$f":"IF(ISERROR((#REF!-#REF!)/#REF!),0,(#REF!-#REF!)/#REF!)","v":0},{"$f":"IF(ISERROR((#REF!-#REF!)/#REF!),0,(#REF!-#REF!)/#REF!)","v":0},{"$f":"IF(ISERROR((#REF!-#REF!)/#REF!),0,(#REF!-#REF!)/#REF!)","v":0},{"$f":"IF(ISERROR((#REF!-#REF!)/#REF!),0,(#REF!-#REF!)/#REF!)","v":0},{"$f":"IF(ISERROR((#REF!-#REF!)/#REF!),0,(#REF!-#REF!)/#REF!)","v":0},{"$f":"IF(ISERROR((#REF!-#REF!)/#REF!),0,(#REF!-#REF!)/#REF!)","v":0},{"$f":"IF(ISERROR((#REF!-#REF!)/#REF!),0,(#REF!-#REF!)/#REF!)","v":0},{"$f":"IF(ISERROR((#REF!-#REF!)/#REF!),0,(#REF!-#REF!)/#REF!)","v":0},{"$f":"IF(ISERROR((#REF!-#REF!)/#REF!),0,(#REF!-#REF!)/#REF!)","v":0}]
[null,"WA15P","Respite Care with length of stay between 5 and 8 days, without CC",0,2157,0,0,7,1490,10,196,"No","-",0,"","",{"$f":"IF(ISERROR((#REF!-#REF!)/#REF!),0,(#REF!-#REF!)/#REF!)","v":0},{"$f":"IF(ISERROR((#REF!-#REF!)/#REF!),0,(#REF!-#REF!)/#REF!)","v":0},{"$f":"IF(ISERROR((#REF!-#REF!)/#REF!),0,(#REF!-#REF!)/#REF!)","v":0},{"$f":"IF(ISERROR((#REF!-#REF!)/#REF!),0,(#REF!-#REF!)/#REF!)","v":0},{"$f":"IF(ISERROR((#REF!-#REF!)/#REF!),0,(#REF!-#REF!)/#REF!)","v":0},{"$f":"IF(ISERROR((#REF!-#REF!)/#REF!),0,(#REF!-#REF!)/#REF!)","v":0},{"$f":"IF(ISERROR((#REF!-#REF!)/#REF!),0,(#REF!-#REF!)/#REF!)","v":0},{"$f":"IF(ISERROR((#REF!-#REF!)/#REF!),0,(#REF!-#REF!)/#REF!)","v":0},{"$f":"IF(ISERROR((#REF!-#REF!)/#REF!),0,(#REF!-#REF!)/#REF!)","v":0},{"$f":"IF(ISERROR((#REF!-#REF!)/#REF!),0,(#REF!-#REF!)/#REF!)","v":0},{"$f":"IF(ISERROR((#REF!-#REF!)/#REF!),0,(#REF!-#REF!)/#REF!)","v":0},{"$f":"IF(ISERROR((#REF!-#REF!)/#REF!),0,(#REF!-#REF!)/#REF!)","v":0},{"$f":"IF(ISERROR((#REF!-#REF!)/#REF!),0,(#REF!-#REF!)/#REF!)","v":0}]
[null,"WA15V","Respite Care with length of stay 4 days or less",0,889,0,0,7,817,5,198,"Yes",0.65,531.05000000000007,"","",{"$f":"IF(ISERROR((#REF!-#REF!)/#REF!),0,(#REF!-#REF!)/#REF!)","v":0},{"$f":"IF(ISERROR((#REF!-#REF!)/#REF!),0,(#REF!-#REF!)/#REF!)","v":0},{"$f":"IF(ISERROR((#REF!-#REF!)/#REF!),0,(#REF!-#REF!)/#REF!)","v":0},{"$f":"IF(ISERROR((#REF!-#REF!)/#REF!),0,(#REF!-#REF!)/#REF!)","v":0},{"$f":"IF(ISERROR((#REF!-#REF!)/#REF!),0,(#REF!-#REF!)/#REF!)","v":0},{"$f":"IF(ISERROR((#REF!-#REF!)/#REF!),0,(#REF!-#REF!)/#REF!)","v":0},{"$f":"IF(ISERROR((#REF!-#REF!)/#REF!),0,(#REF!-#REF!)/#REF!)","v":0},{"$f":"IF(ISERROR((#REF!-#REF!)/#REF!),0,(#REF!-#REF!)/#REF!)","v":0},{"$f":"IF(ISERROR((#REF!-#REF!)/#REF!),0,(#REF!-#REF!)/#REF!)","v":0},{"$f":"IF(ISERROR((#REF!-#REF!)/#REF!),0,(#REF!-#REF!)/#REF!)","v":0},{"$f":"IF(ISERROR((#REF!-#REF!)/#REF!),0,(#REF!-#REF!)/#REF!)","v":0},{"$f":"IF(ISERROR((#REF!-#REF!)/#REF!),0,(#REF!-#REF!)/#REF!)","v":0},{"$f":"IF(ISERROR((#REF!-#REF!)/#REF!),0,(#REF!-#REF!)/#REF!)","v":0}]
[null,"WA16W","Shock and Anaphylaxis, with CC",0,871,0,0,5,510,5,198,"Yes",1,510,"","",{"$f":"IF(ISERROR((#REF!-#REF!)/#REF!),0,(#REF!-#REF!)/#REF!)","v":0},{"$f":"IF(ISERROR((#REF!-#REF!)/#REF!),0,(#REF!-#REF!)/#REF!)","v":0},{"$f":"IF(ISERROR((#REF!-#REF!)/#REF!),0,(#REF!-#REF!)/#REF!)","v":0},{"$f":"IF(ISERROR((#REF!-#REF!)/#REF!),0,(#REF!-#REF!)/#REF!)","v":0},{"$f":"IF(ISERROR((#REF!-#REF!)/#REF!),0,(#REF!-#REF!)/#REF!)","v":0},{"$f":"IF(ISERROR((#REF!-#REF!)/#REF!),0,(#REF!-#REF!)/#REF!)","v":0},{"$f":"IF(ISERROR((#REF!-#REF!)/#REF!),0,(#REF!-#REF!)/#REF!)","v":0},{"$f":"IF(ISERROR((#REF!-#REF!)/#REF!),0,(#REF!-#REF!)/#REF!)","v":0},{"$f":"IF(ISERROR((#REF!-#REF!)/#REF!),0,(#REF!-#REF!)/#REF!)","v":0},{"$f":"IF(ISERROR((#REF!-#REF!)/#REF!),0,(#REF!-#REF!)/#REF!)","v":0},{"$f":"IF(ISERROR((#REF!-#REF!)/#REF!),0,(#REF!-#REF!)/#REF!)","v":0},{"$f":"IF(ISERROR((#REF!-#REF!)/#REF!),0,(#REF!-#REF!)/#REF!)","v":0},{"$f":"IF(ISERROR((#REF!-#REF!)/#REF!),0,(#REF!-#REF!)/#REF!)","v":0}]
[null,"WA16Y","Shock and Anaphylaxis, without CC",0,464,0,0,5,360,5,198,"Yes",1,360,"","",{"$f":"IF(ISERROR((#REF!-#REF!)/#REF!),0,(#REF!-#REF!)/#REF!)","v":0},{"$f":"IF(ISERROR((#REF!-#REF!)/#REF!),0,(#REF!-#REF!)/#REF!)","v":0},{"$f":"IF(ISERROR((#REF!-#REF!)/#REF!),0,(#REF!-#REF!)/#REF!)","v":0},{"$f":"IF(ISERROR((#REF!-#REF!)/#REF!),0,(#REF!-#REF!)/#REF!)","v":0},{"$f":"IF(ISERROR((#REF!-#REF!)/#REF!),0,(#REF!-#REF!)/#REF!)","v":0},{"$f":"IF(ISERROR((#REF!-#REF!)/#REF!),0,(#REF!-#REF!)/#REF!)","v":0},{"$f":"IF(ISERROR((#REF!-#REF!)/#REF!),0,(#REF!-#REF!)/#REF!)","v":0},{"$f":"IF(ISERROR((#REF!-#REF!)/#REF!),0,(#REF!-#REF!)/#REF!)","v":0},{"$f":"IF(ISERROR((#REF!-#REF!)/#REF!),0,(#REF!-#REF!)/#REF!)","v":0},{"$f":"IF(ISERROR((#REF!-#REF!)/#REF!),0,(#REF!-#REF!)/#REF!)","v":0},{"$f":"IF(ISERROR((#REF!-#REF!)/#REF!),0,(#REF!-#REF!)/#REF!)","v":0},{"$f":"IF(ISERROR((#REF!-#REF!)/#REF!),0,(#REF!-#REF!)/#REF!)","v":0},{"$f":"IF(ISERROR((#REF!-#REF!)/#REF!),0,(#REF!-#REF!)/#REF!)","v":0}]
[null,"WA17V","Other Admissions Related to Neoplasms with Major CC",0,2454,0,0,26,3914,36,198,"Yes",0.30000000000000004,1174.2000000000003,"","",{"$f":"IF(ISERROR((#REF!-#REF!)/#REF!),0,(#REF!-#REF!)/#REF!)","v":0},{"$f":"IF(ISERROR((#REF!-#REF!)/#REF!),0,(#REF!-#REF!)/#REF!)","v":0},{"$f":"IF(ISERROR((#REF!-#REF!)/#REF!),0,(#REF!-#REF!)/#REF!)","v":0},{"$f":"IF(ISERROR((#REF!-#REF!)/#REF!),0,(#REF!-#REF!)/#REF!)","v":0},{"$f":"IF(ISERROR((#REF!-#REF!)/#REF!),0,(#REF!-#REF!)/#REF!)","v":0},{"$f":"IF(ISERROR((#REF!-#REF!)/#REF!),0,(#REF!-#REF!)/#REF!)","v":0},{"$f":"IF(ISERROR((#REF!-#REF!)/#REF!),0,(#REF!-#REF!)/#REF!)","v":0},{"$f":"IF(ISERROR((#REF!-#REF!)/#REF!),0,(#REF!-#REF!)/#REF!)","v":0},{"$f":"IF(ISERROR((#REF!-#REF!)/#REF!),0,(#REF!-#REF!)/#REF!)","v":0},{"$f":"IF(ISERROR((#REF!-#REF!)/#REF!),0,(#REF!-#REF!)/#REF!)","v":0},{"$f":"IF(ISERROR((#REF!-#REF!)/#REF!),0,(#REF!-#REF!)/#REF!)","v":0},{"$f":"IF(ISERROR((#REF!-#REF!)/#REF!),0,(#REF!-#REF!)/#REF!)","v":0},{"$f":"IF(ISERROR((#REF!-#REF!)/#REF!),0,(#REF!-#REF!)/#REF!)","v":0}]
[null,"WA17X","Other Admissions Related to Neoplasms with Intermediate CC",0,745,0,0,5,3453.981365787924,25,198,"Yes",0.30000000000000004,1036.1944097363773,"","",{"$f":"IF(ISERROR((#REF!-#REF!)/#REF!),0,(#REF!-#REF!)/#REF!)","v":0},{"$f":"IF(ISERROR((#REF!-#REF!)/#REF!),0,(#REF!-#REF!)/#REF!)","v":0},{"$f":"IF(ISERROR((#REF!-#REF!)/#REF!),0,(#REF!-#REF!)/#REF!)","v":0},{"$f":"IF(ISERROR((#REF!-#REF!)/#REF!),0,(#REF!-#REF!)/#REF!)","v":0},{"$f":"IF(ISERROR((#REF!-#REF!)/#REF!),0,(#REF!-#REF!)/#REF!)","v":0},{"$f":"IF(ISERROR((#REF!-#REF!)/#REF!),0,(#REF!-#REF!)/#REF!)","v":0},{"$f":"IF(ISERROR((#REF!-#REF!)/#REF!),0,(#REF!-#REF!)/#REF!)","v":0},{"$f":"IF(ISERROR((#REF!-#REF!)/#REF!),0,(#REF!-#REF!)/#REF!)","v":0},{"$f":"IF(ISERROR((#REF!-#REF!)/#REF!),0,(#REF!-#REF!)/#REF!)","v":0},{"$f":"IF(ISERROR((#REF!-#REF!)/#REF!),0,(#REF!-#REF!)/#REF!)","v":0},{"$f":"IF(ISERROR((#REF!-#REF!)/#REF!),0,(#REF!-#REF!)/#REF!)","v":0},{"$f":"IF(ISERROR((#REF!-#REF!)/#REF!),0,(#REF!-#REF!)/#REF!)","v":0},{"$f":"IF(ISERROR((#REF!-#REF!)/#REF!),0,(#REF!-#REF!)/#REF!)","v":0}]
[null,"WA17Y","Other Admissions Related to Neoplasms without CC",0,2710.2975162535104,0,0,5,1739,10,198,"Yes",0.4,695.6,"","",{"$f":"IF(ISERROR((#REF!-#REF!)/#REF!),0,(#REF!-#REF!)/#REF!)","v":0},{"$f":"IF(ISERROR((#REF!-#REF!)/#REF!),0,(#REF!-#REF!)/#REF!)","v":0},{"$f":"IF(ISERROR((#REF!-#REF!)/#REF!),0,(#REF!-#REF!)/#REF!)","v":0},{"$f":"IF(ISERROR((#REF!-#REF!)/#REF!),0,(#REF!-#REF!)/#REF!)","v":0},{"$f":"IF(ISERROR((#REF!-#REF!)/#REF!),0,(#REF!-#REF!)/#REF!)","v":0},{"$f":"IF(ISERROR((#REF!-#REF!)/#REF!),0,(#REF!-#REF!)/#REF!)","v":0},{"$f":"IF(ISERROR((#REF!-#REF!)/#REF!),0,(#REF!-#REF!)/#REF!)","v":0},{"$f":"IF(ISERROR((#REF!-#REF!)/#REF!),0,(#REF!-#REF!)/#REF!)","v":0},{"$f":"IF(ISERROR((#REF!-#REF!)/#REF!),0,(#REF!-#REF!)/#REF!)","v":0},{"$f":"IF(ISERROR((#REF!-#REF!)/#REF!),0,(#REF!-#REF!)/#REF!)","v":0},{"$f":"IF(ISERROR((#REF!-#REF!)/#REF!),0,(#REF!-#REF!)/#REF!)","v":0},{"$f":"IF(ISERROR((#REF!-#REF!)/#REF!),0,(#REF!-#REF!)/#REF!)","v":0},{"$f":"IF(ISERROR((#REF!-#REF!)/#REF!),0,(#REF!-#REF!)/#REF!)","v":0}]
[null,"WA18V","Admission for Unexplained Symptoms with Major CC",0,2577,0,0,38,3440.3782104419852,40,198,"Yes",0.30000000000000004,1032.1134631325956,"","",{"$f":"IF(ISERROR((#REF!-#REF!)/#REF!),0,(#REF!-#REF!)/#REF!)","v":0},{"$f":"IF(ISERROR((#REF!-#REF!)/#REF!),0,(#REF!-#REF!)/#REF!)","v":0},{"$f":"IF(ISERROR((#REF!-#REF!)/#REF!),0,(#REF!-#REF!)/#REF!)","v":0},{"$f":"IF(ISERROR((#REF!-#REF!)/#REF!),0,(#REF!-#REF!)/#REF!)","v":0},{"$f":"IF(ISERROR((#REF!-#REF!)/#REF!),0,(#REF!-#REF!)/#REF!)","v":0},{"$f":"IF(ISERROR((#REF!-#REF!)/#REF!),0,(#REF!-#REF!)/#REF!)","v":0},{"$f":"IF(ISERROR((#REF!-#REF!)/#REF!),0,(#REF!-#REF!)/#REF!)","v":0},{"$f":"IF(ISERROR((#REF!-#REF!)/#REF!),0,(#REF!-#REF!)/#REF!)","v":0},{"$f":"IF(ISERROR((#REF!-#REF!)/#REF!),0,(#REF!-#REF!)/#REF!)","v":0},{"$f":"IF(ISERROR((#REF!-#REF!)/#REF!),0,(#REF!-#REF!)/#REF!)","v":0},{"$f":"IF(ISERROR((#REF!-#REF!)/#REF!),0,(#REF!-#REF!)/#REF!)","v":0},{"$f":"IF(ISERROR((#REF!-#REF!)/#REF!),0,(#REF!-#REF!)/#REF!)","v":0},{"$f":"IF(ISERROR((#REF!-#REF!)/#REF!),0,(#REF!-#REF!)/#REF!)","v":0}]
[null,"WA18X","Admission for Unexplained Symptoms with Intermediate CC",0,632,0,0,5,2222.2448767300903,15,198,"Yes",0.30000000000000004,666.67346301902717,"","",{"$f":"IF(ISERROR((#REF!-#REF!)/#REF!),0,(#REF!-#REF!)/#REF!)","v":0},{"$f":"IF(ISERROR((#REF!-#REF!)/#REF!),0,(#REF!-#REF!)/#REF!)","v":0},{"$f":"IF(ISERROR((#REF!-#REF!)/#REF!),0,(#REF!-#REF!)/#REF!)","v":0},{"$f":"IF(ISERROR((#REF!-#REF!)/#REF!),0,(#REF!-#REF!)/#REF!)","v":0},{"$f":"IF(ISERROR((#REF!-#REF!)/#REF!),0,(#REF!-#REF!)/#REF!)","v":0},{"$f":"IF(ISERROR((#REF!-#REF!)/#REF!),0,(#REF!-#REF!)/#REF!)","v":0},{"$f":"IF(ISERROR((#REF!-#REF!)/#REF!),0,(#REF!-#REF!)/#REF!)","v":0},{"$f":"IF(ISERROR((#REF!-#REF!)/#REF!),0,(#REF!-#REF!)/#REF!)","v":0},{"$f":"IF(ISERROR((#REF!-#REF!)/#REF!),0,(#REF!-#REF!)/#REF!)","v":0},{"$f":"IF(ISERROR((#REF!-#REF!)/#REF!),0,(#REF!-#REF!)/#REF!)","v":0},{"$f":"IF(ISERROR((#REF!-#REF!)/#REF!),0,(#REF!-#REF!)/#REF!)","v":0},{"$f":"IF(ISERROR((#REF!-#REF!)/#REF!),0,(#REF!-#REF!)/#REF!)","v":0},{"$f":"IF(ISERROR((#REF!-#REF!)/#REF!),0,(#REF!-#REF!)/#REF!)","v":0}]
[null,"WA18Y","Admission for Unexplained Symptoms without CC",0,215,0,0,5,711,5,198,"Yes",0.65,462.15000000000003,"","",{"$f":"IF(ISERROR((#REF!-#REF!)/#REF!),0,(#REF!-#REF!)/#REF!)","v":0},{"$f":"IF(ISERROR((#REF!-#REF!)/#REF!),0,(#REF!-#REF!)/#REF!)","v":0},{"$f":"IF(ISERROR((#REF!-#REF!)/#REF!),0,(#REF!-#REF!)/#REF!)","v":0},{"$f":"IF(ISERROR((#REF!-#REF!)/#REF!),0,(#REF!-#REF!)/#REF!)","v":0},{"$f":"IF(ISERROR((#REF!-#REF!)/#REF!),0,(#REF!-#REF!)/#REF!)","v":0},{"$f":"IF(ISERROR((#REF!-#REF!)/#REF!),0,(#REF!-#REF!)/#REF!)","v":0},{"$f":"IF(ISERROR((#REF!-#REF!)/#REF!),0,(#REF!-#REF!)/#REF!)","v":0},{"$f":"IF(ISERROR((#REF!-#REF!)/#REF!),0,(#REF!-#REF!)/#REF!)","v":0},{"$f":"IF(ISERROR((#REF!-#REF!)/#REF!),0,(#REF!-#REF!)/#REF!)","v":0},{"$f":"IF(ISERROR((#REF!-#REF!)/#REF!),0,(#REF!-#REF!)/#REF!)","v":0},{"$f":"IF(ISERROR((#REF!-#REF!)/#REF!),0,(#REF!-#REF!)/#REF!)","v":0},{"$f":"IF(ISERROR((#REF!-#REF!)/#REF!),0,(#REF!-#REF!)/#REF!)","v":0},{"$f":"IF(ISERROR((#REF!-#REF!)/#REF!),0,(#REF!-#REF!)/#REF!)","v":0}]
[null,"WA19W","Abnormal Findings without Diagnosis, with CC",0,442,0,0,5,2207.0362364546777,8,198,"Yes",0.4,882.81449458187114,"","",{"$f":"IF(ISERROR((#REF!-#REF!)/#REF!),0,(#REF!-#REF!)/#REF!)","v":0},{"$f":"IF(ISERROR((#REF!-#REF!)/#REF!),0,(#REF!-#REF!)/#REF!)","v":0},{"$f":"IF(ISERROR((#REF!-#REF!)/#REF!),0,(#REF!-#REF!)/#REF!)","v":0},{"$f":"IF(ISERROR((#REF!-#REF!)/#REF!),0,(#REF!-#REF!)/#REF!)","v":0},{"$f":"IF(ISERROR((#REF!-#REF!)/#REF!),0,(#REF!-#REF!)/#REF!)","v":0},{"$f":"IF(ISERROR((#REF!-#REF!)/#REF!),0,(#REF!-#REF!)/#REF!)","v":0},{"$f":"IF(ISERROR((#REF!-#REF!)/#REF!),0,(#REF!-#REF!)/#REF!)","v":0},{"$f":"IF(ISERROR((#REF!-#REF!)/#REF!),0,(#REF!-#REF!)/#REF!)","v":0},{"$f":"IF(ISERROR((#REF!-#REF!)/#REF!),0,(#REF!-#REF!)/#REF!)","v":0},{"$f":"IF(ISERROR((#REF!-#REF!)/#REF!),0,(#REF!-#REF!)/#REF!)","v":0},{"$f":"IF(ISERROR((#REF!-#REF!)/#REF!),0,(#REF!-#REF!)/#REF!)","v":0},{"$f":"IF(ISERROR((#REF!-#REF!)/#REF!),0,(#REF!-#REF!)/#REF!)","v":0},{"$f":"IF(ISERROR((#REF!-#REF!)/#REF!),0,(#REF!-#REF!)/#REF!)","v":0}]
[null,"WA19Y","Abnormal Findings without Diagnosis, without CC",0,306,0,0,5,427,5,198,"Yes",1,427,"","",{"$f":"IF(ISERROR((#REF!-#REF!)/#REF!),0,(#REF!-#REF!)/#REF!)","v":0},{"$f":"IF(ISERROR((#REF!-#REF!)/#REF!),0,(#REF!-#REF!)/#REF!)","v":0},{"$f":"IF(ISERROR((#REF!-#REF!)/#REF!),0,(#REF!-#REF!)/#REF!)","v":0},{"$f":"IF(ISERROR((#REF!-#REF!)/#REF!),0,(#REF!-#REF!)/#REF!)","v":0},{"$f":"IF(ISERROR((#REF!-#REF!)/#REF!),0,(#REF!-#REF!)/#REF!)","v":0},{"$f":"IF(ISERROR((#REF!-#REF!)/#REF!),0,(#REF!-#REF!)/#REF!)","v":0},{"$f":"IF(ISERROR((#REF!-#REF!)/#REF!),0,(#REF!-#REF!)/#REF!)","v":0},{"$f":"IF(ISERROR((#REF!-#REF!)/#REF!),0,(#REF!-#REF!)/#REF!)","v":0},{"$f":"IF(ISERROR((#REF!-#REF!)/#REF!),0,(#REF!-#REF!)/#REF!)","v":0},{"$f":"IF(ISERROR((#REF!-#REF!)/#REF!),0,(#REF!-#REF!)/#REF!)","v":0},{"$f":"IF(ISERROR((#REF!-#REF!)/#REF!),0,(#REF!-#REF!)/#REF!)","v":0},{"$f":"IF(ISERROR((#REF!-#REF!)/#REF!),0,(#REF!-#REF!)/#REF!)","v":0},{"$f":"IF(ISERROR((#REF!-#REF!)/#REF!),0,(#REF!-#REF!)/#REF!)","v":0}]
[null,"WA20W","Examination, Follow-up or Special Screening, with CC",0,460,0,0,5,986.93017432832903,5,198,"Yes",0.65,641.50461331341387,"","",{"$f":"IF(ISERROR((#REF!-#REF!)/#REF!),0,(#REF!-#REF!)/#REF!)","v":0},{"$f":"IF(ISERROR((#REF!-#REF!)/#REF!),0,(#REF!-#REF!)/#REF!)","v":0},{"$f":"IF(ISERROR((#REF!-#REF!)/#REF!),0,(#REF!-#REF!)/#REF!)","v":0},{"$f":"IF(ISERROR((#REF!-#REF!)/#REF!),0,(#REF!-#REF!)/#REF!)","v":0},{"$f":"IF(ISERROR((#REF!-#REF!)/#REF!),0,(#REF!-#REF!)/#REF!)","v":0},{"$f":"IF(ISERROR((#REF!-#REF!)/#REF!),0,(#REF!-#REF!)/#REF!)","v":0},{"$f":"IF(ISERROR((#REF!-#REF!)/#REF!),0,(#REF!-#REF!)/#REF!)","v":0},{"$f":"IF(ISERROR((#REF!-#REF!)/#REF!),0,(#REF!-#REF!)/#REF!)","v":0},{"$f":"IF(ISERROR((#REF!-#REF!)/#REF!),0,(#REF!-#REF!)/#REF!)","v":0},{"$f":"IF(ISERROR((#REF!-#REF!)/#REF!),0,(#REF!-#REF!)/#REF!)","v":0},{"$f":"IF(ISERROR((#REF!-#REF!)/#REF!),0,(#REF!-#REF!)/#REF!)","v":0},{"$f":"IF(ISERROR((#REF!-#REF!)/#REF!),0,(#REF!-#REF!)/#REF!)","v":0},{"$f":"IF(ISERROR((#REF!-#REF!)/#REF!),0,(#REF!-#REF!)/#REF!)","v":0}]
[null,"WA20Y","Examination, Follow-up or Special Screening, without CC",0,1938.451919233489,0,0,5,363,5,198,"Yes",1,363,"","",{"$f":"IF(ISERROR((#REF!-#REF!)/#REF!),0,(#REF!-#REF!)/#REF!)","v":0},{"$f":"IF(ISERROR((#REF!-#REF!)/#REF!),0,(#REF!-#REF!)/#REF!)","v":0},{"$f":"IF(ISERROR((#REF!-#REF!)/#REF!),0,(#REF!-#REF!)/#REF!)","v":0},{"$f":"IF(ISERROR((#REF!-#REF!)/#REF!),0,(#REF!-#REF!)/#REF!)","v":0},{"$f":"IF(ISERROR((#REF!-#REF!)/#REF!),0,(#REF!-#REF!)/#REF!)","v":0},{"$f":"IF(ISERROR((#REF!-#REF!)/#REF!),0,(#REF!-#REF!)/#REF!)","v":0},{"$f":"IF(ISERROR((#REF!-#REF!)/#REF!),0,(#REF!-#REF!)/#REF!)","v":0},{"$f":"IF(ISERROR((#REF!-#REF!)/#REF!),0,(#REF!-#REF!)/#REF!)","v":0},{"$f":"IF(ISERROR((#REF!-#REF!)/#REF!),0,(#REF!-#REF!)/#REF!)","v":0},{"$f":"IF(ISERROR((#REF!-#REF!)/#REF!),0,(#REF!-#REF!)/#REF!)","v":0},{"$f":"IF(ISERROR((#REF!-#REF!)/#REF!),0,(#REF!-#REF!)/#REF!)","v":0},{"$f":"IF(ISERROR((#REF!-#REF!)/#REF!),0,(#REF!-#REF!)/#REF!)","v":0},{"$f":"IF(ISERROR((#REF!-#REF!)/#REF!),0,(#REF!-#REF!)/#REF!)","v":0}]
[null,"WA21W","Other Procedures or Health Care Problems, with CC",0,553,0,0,5,2235,10,198,"Yes",0.30000000000000004,670.50000000000011,"","",{"$f":"IF(ISERROR((#REF!-#REF!)/#REF!),0,(#REF!-#REF!)/#REF!)","v":0},{"$f":"IF(ISERROR((#REF!-#REF!)/#REF!),0,(#REF!-#REF!)/#REF!)","v":0},{"$f":"IF(ISERROR((#REF!-#REF!)/#REF!),0,(#REF!-#REF!)/#REF!)","v":0},{"$f":"IF(ISERROR((#REF!-#REF!)/#REF!),0,(#REF!-#REF!)/#REF!)","v":0},{"$f":"IF(ISERROR((#REF!-#REF!)/#REF!),0,(#REF!-#REF!)/#REF!)","v":0},{"$f":"IF(ISERROR((#REF!-#REF!)/#REF!),0,(#REF!-#REF!)/#REF!)","v":0},{"$f":"IF(ISERROR((#REF!-#REF!)/#REF!),0,(#REF!-#REF!)/#REF!)","v":0},{"$f":"IF(ISERROR((#REF!-#REF!)/#REF!),0,(#REF!-#REF!)/#REF!)","v":0},{"$f":"IF(ISERROR((#REF!-#REF!)/#REF!),0,(#REF!-#REF!)/#REF!)","v":0},{"$f":"IF(ISERROR((#REF!-#REF!)/#REF!),0,(#REF!-#REF!)/#REF!)","v":0},{"$f":"IF(ISERROR((#REF!-#REF!)/#REF!),0,(#REF!-#REF!)/#REF!)","v":0},{"$f":"IF(ISERROR((#REF!-#REF!)/#REF!),0,(#REF!-#REF!)/#REF!)","v":0},{"$f":"IF(ISERROR((#REF!-#REF!)/#REF!),0,(#REF!-#REF!)/#REF!)","v":0}]
[null,"WA21Y","Other Procedures or Health Care Problems, without CC",0,467,0,0,5,579,5,198,"Yes",1,579,"","",{"$f":"IF(ISERROR((#REF!-#REF!)/#REF!),0,(#REF!-#REF!)/#REF!)","v":0},{"$f":"IF(ISERROR((#REF!-#REF!)/#REF!),0,(#REF!-#REF!)/#REF!)","v":0},{"$f":"IF(ISERROR((#REF!-#REF!)/#REF!),0,(#REF!-#REF!)/#REF!)","v":0},{"$f":"IF(ISERROR((#REF!-#REF!)/#REF!),0,(#REF!-#REF!)/#REF!)","v":0},{"$f":"IF(ISERROR((#REF!-#REF!)/#REF!),0,(#REF!-#REF!)/#REF!)","v":0},{"$f":"IF(ISERROR((#REF!-#REF!)/#REF!),0,(#REF!-#REF!)/#REF!)","v":0},{"$f":"IF(ISERROR((#REF!-#REF!)/#REF!),0,(#REF!-#REF!)/#REF!)","v":0},{"$f":"IF(ISERROR((#REF!-#REF!)/#REF!),0,(#REF!-#REF!)/#REF!)","v":0},{"$f":"IF(ISERROR((#REF!-#REF!)/#REF!),0,(#REF!-#REF!)/#REF!)","v":0},{"$f":"IF(ISERROR((#REF!-#REF!)/#REF!),0,(#REF!-#REF!)/#REF!)","v":0},{"$f":"IF(ISERROR((#REF!-#REF!)/#REF!),0,(#REF!-#REF!)/#REF!)","v":0},{"$f":"IF(ISERROR((#REF!-#REF!)/#REF!),0,(#REF!-#REF!)/#REF!)","v":0},{"$f":"IF(ISERROR((#REF!-#REF!)/#REF!),0,(#REF!-#REF!)/#REF!)","v":0}]
[null,"WA22V","Other Specified Admissions or Counselling, with Major CC",0,3515,0,0,80,4388.3743790886365,52,198,"Yes",0.30000000000000004,1316.5123137265912,"","",{"$f":"IF(ISERROR((#REF!-#REF!)/#REF!),0,(#REF!-#REF!)/#REF!)","v":0},{"$f":"IF(ISERROR((#REF!-#REF!)/#REF!),0,(#REF!-#REF!)/#REF!)","v":0},{"$f":"IF(ISERROR((#REF!-#REF!)/#REF!),0,(#REF!-#REF!)/#REF!)","v":0},{"$f":"IF(ISERROR((#REF!-#REF!)/#REF!),0,(#REF!-#REF!)/#REF!)","v":0},{"$f":"IF(ISERROR((#REF!-#REF!)/#REF!),0,(#REF!-#REF!)/#REF!)","v":0},{"$f":"IF(ISERROR((#REF!-#REF!)/#REF!),0,(#REF!-#REF!)/#REF!)","v":0},{"$f":"IF(ISERROR((#REF!-#REF!)/#REF!),0,(#REF!-#REF!)/#REF!)","v":0},{"$f":"IF(ISERROR((#REF!-#REF!)/#REF!),0,(#REF!-#REF!)/#REF!)","v":0},{"$f":"IF(ISERROR((#REF!-#REF!)/#REF!),0,(#REF!-#REF!)/#REF!)","v":0},{"$f":"IF(ISERROR((#REF!-#REF!)/#REF!),0,(#REF!-#REF!)/#REF!)","v":0},{"$f":"IF(ISERROR((#REF!-#REF!)/#REF!),0,(#REF!-#REF!)/#REF!)","v":0},{"$f":"IF(ISERROR((#REF!-#REF!)/#REF!),0,(#REF!-#REF!)/#REF!)","v":0},{"$f":"IF(ISERROR((#REF!-#REF!)/#REF!),0,(#REF!-#REF!)/#REF!)","v":0}]
[null,"WA22X","Other Specified Admissions or Counselling, with Intermediate CC",0,2374,0,0,48,4022.0830473531155,34,198,"Yes",0.30000000000000004,1206.6249142059348,"","",{"$f":"IF(ISERROR((#REF!-#REF!)/#REF!),0,(#REF!-#REF!)/#REF!)","v":0},{"$f":"IF(ISERROR((#REF!-#REF!)/#REF!),0,(#REF!-#REF!)/#REF!)","v":0},{"$f":"IF(ISERROR((#REF!-#REF!)/#REF!),0,(#REF!-#REF!)/#REF!)","v":0},{"$f":"IF(ISERROR((#REF!-#REF!)/#REF!),0,(#REF!-#REF!)/#REF!)","v":0},{"$f":"IF(ISERROR((#REF!-#REF!)/#REF!),0,(#REF!-#REF!)/#REF!)","v":0},{"$f":"IF(ISERROR((#REF!-#REF!)/#REF!),0,(#REF!-#REF!)/#REF!)","v":0},{"$f":"IF(ISERROR((#REF!-#REF!)/#REF!),0,(#REF!-#REF!)/#REF!)","v":0},{"$f":"IF(ISERROR((#REF!-#REF!)/#REF!),0,(#REF!-#REF!)/#REF!)","v":0},{"$f":"IF(ISERROR((#REF!-#REF!)/#REF!),0,(#REF!-#REF!)/#REF!)","v":0},{"$f":"IF(ISERROR((#REF!-#REF!)/#REF!),0,(#REF!-#REF!)/#REF!)","v":0},{"$f":"IF(ISERROR((#REF!-#REF!)/#REF!),0,(#REF!-#REF!)/#REF!)","v":0},{"$f":"IF(ISERROR((#REF!-#REF!)/#REF!),0,(#REF!-#REF!)/#REF!)","v":0},{"$f":"IF(ISERROR((#REF!-#REF!)/#REF!),0,(#REF!-#REF!)/#REF!)","v":0}]
[null,"WA22Y","Other Specified Admissions or Counselling, without CC",0,264,0,0,5,844,5,198,"Yes",0.4,337.6,"","",{"$f":"IF(ISERROR((#REF!-#REF!)/#REF!),0,(#REF!-#REF!)/#REF!)","v":0},{"$f":"IF(ISERROR((#REF!-#REF!)/#REF!),0,(#REF!-#REF!)/#REF!)","v":0},{"$f":"IF(ISERROR((#REF!-#REF!)/#REF!),0,(#REF!-#REF!)/#REF!)","v":0},{"$f":"IF(ISERROR((#REF!-#REF!)/#REF!),0,(#REF!-#REF!)/#REF!)","v":0},{"$f":"IF(ISERROR((#REF!-#REF!)/#REF!),0,(#REF!-#REF!)/#REF!)","v":0},{"$f":"IF(ISERROR((#REF!-#REF!)/#REF!),0,(#REF!-#REF!)/#REF!)","v":0},{"$f":"IF(ISERROR((#REF!-#REF!)/#REF!),0,(#REF!-#REF!)/#REF!)","v":0},{"$f":"IF(ISERROR((#REF!-#REF!)/#REF!),0,(#REF!-#REF!)/#REF!)","v":0},{"$f":"IF(ISERROR((#REF!-#REF!)/#REF!),0,(#REF!-#REF!)/#REF!)","v":0},{"$f":"IF(ISERROR((#REF!-#REF!)/#REF!),0,(#REF!-#REF!)/#REF!)","v":0},{"$f":"IF(ISERROR((#REF!-#REF!)/#REF!),0,(#REF!-#REF!)/#REF!)","v":0},{"$f":"IF(ISERROR((#REF!-#REF!)/#REF!),0,(#REF!-#REF!)/#REF!)","v":0},{"$f":"IF(ISERROR((#REF!-#REF!)/#REF!),0,(#REF!-#REF!)/#REF!)","v":0}]
[null,"WA23V","Falls without Specific Cause, with Major CC",0,4371,0,0,69,4032.3373564741937,47,198,"Yes",0.30000000000000004,1209.7012069422583,"","",{"$f":"IF(ISERROR((#REF!-#REF!)/#REF!),0,(#REF!-#REF!)/#REF!)","v":0},{"$f":"IF(ISERROR((#REF!-#REF!)/#REF!),0,(#REF!-#REF!)/#REF!)","v":0},{"$f":"IF(ISERROR((#REF!-#REF!)/#REF!),0,(#REF!-#REF!)/#REF!)","v":0},{"$f":"IF(ISERROR((#REF!-#REF!)/#REF!),0,(#REF!-#REF!)/#REF!)","v":0},{"$f":"IF(ISERROR((#REF!-#REF!)/#REF!),0,(#REF!-#REF!)/#REF!)","v":0},{"$f":"IF(ISERROR((#REF!-#REF!)/#REF!),0,(#REF!-#REF!)/#REF!)","v":0},{"$f":"IF(ISERROR((#REF!-#REF!)/#REF!),0,(#REF!-#REF!)/#REF!)","v":0},{"$f":"IF(ISERROR((#REF!-#REF!)/#REF!),0,(#REF!-#REF!)/#REF!)","v":0},{"$f":"IF(ISERROR((#REF!-#REF!)/#REF!),0,(#REF!-#REF!)/#REF!)","v":0},{"$f":"IF(ISERROR((#REF!-#REF!)/#REF!),0,(#REF!-#REF!)/#REF!)","v":0},{"$f":"IF(ISERROR((#REF!-#REF!)/#REF!),0,(#REF!-#REF!)/#REF!)","v":0},{"$f":"IF(ISERROR((#REF!-#REF!)/#REF!),0,(#REF!-#REF!)/#REF!)","v":0},{"$f":"IF(ISERROR((#REF!-#REF!)/#REF!),0,(#REF!-#REF!)/#REF!)","v":0}]
[null,"WA23X","Falls without Specific Cause, with Intermediate CC",0,4053,0,0,67,3287.7798464525654,29,198,"Yes",0.30000000000000004,986.33395393576973,"","",{"$f":"IF(ISERROR((#REF!-#REF!)/#REF!),0,(#REF!-#REF!)/#REF!)","v":0},{"$f":"IF(ISERROR((#REF!-#REF!)/#REF!),0,(#REF!-#REF!)/#REF!)","v":0},{"$f":"IF(ISERROR((#REF!-#REF!)/#REF!),0,(#REF!-#REF!)/#REF!)","v":0},{"$f":"IF(ISERROR((#REF!-#REF!)/#REF!),0,(#REF!-#REF!)/#REF!)","v":0},{"$f":"IF(ISERROR((#REF!-#REF!)/#REF!),0,(#REF!-#REF!)/#REF!)","v":0},{"$f":"IF(ISERROR((#REF!-#REF!)/#REF!),0,(#REF!-#REF!)/#REF!)","v":0},{"$f":"IF(ISERROR((#REF!-#REF!)/#REF!),0,(#REF!-#REF!)/#REF!)","v":0},{"$f":"IF(ISERROR((#REF!-#REF!)/#REF!),0,(#REF!-#REF!)/#REF!)","v":0},{"$f":"IF(ISERROR((#REF!-#REF!)/#REF!),0,(#REF!-#REF!)/#REF!)","v":0},{"$f":"IF(ISERROR((#REF!-#REF!)/#REF!),0,(#REF!-#REF!)/#REF!)","v":0},{"$f":"IF(ISERROR((#REF!-#REF!)/#REF!),0,(#REF!-#REF!)/#REF!)","v":0},{"$f":"IF(ISERROR((#REF!-#REF!)/#REF!),0,(#REF!-#REF!)/#REF!)","v":0},{"$f":"IF(ISERROR((#REF!-#REF!)/#REF!),0,(#REF!-#REF!)/#REF!)","v":0}]
[null,"WA23Y","Falls without Specific Cause, without CC",0,2311,0,0,96,998,5,198,"Yes",0.4,400,"","",{"$f":"IF(ISERROR((#REF!-#REF!)/#REF!),0,(#REF!-#REF!)/#REF!)","v":0},{"$f":"IF(ISERROR((#REF!-#REF!)/#REF!),0,(#REF!-#REF!)/#REF!)","v":0},{"$f":"IF(ISERROR((#REF!-#REF!)/#REF!),0,(#REF!-#REF!)/#REF!)","v":0},{"$f":"IF(ISERROR((#REF!-#REF!)/#REF!),0,(#REF!-#REF!)/#REF!)","v":0},{"$f":"IF(ISERROR((#REF!-#REF!)/#REF!),0,(#REF!-#REF!)/#REF!)","v":0},{"$f":"IF(ISERROR((#REF!-#REF!)/#REF!),0,(#REF!-#REF!)/#REF!)","v":0},{"$f":"IF(ISERROR((#REF!-#REF!)/#REF!),0,(#REF!-#REF!)/#REF!)","v":0},{"$f":"IF(ISERROR((#REF!-#REF!)/#REF!),0,(#REF!-#REF!)/#REF!)","v":0},{"$f":"IF(ISERROR((#REF!-#REF!)/#REF!),0,(#REF!-#REF!)/#REF!)","v":0},{"$f":"IF(ISERROR((#REF!-#REF!)/#REF!),0,(#REF!-#REF!)/#REF!)","v":0},{"$f":"IF(ISERROR((#REF!-#REF!)/#REF!),0,(#REF!-#REF!)/#REF!)","v":0},{"$f":"IF(ISERROR((#REF!-#REF!)/#REF!),0,(#REF!-#REF!)/#REF!)","v":0},{"$f":"IF(ISERROR((#REF!-#REF!)/#REF!),0,(#REF!-#REF!)/#REF!)","v":0}]
[null,"WA24Z","Procedures on the Lymphatic System",0,1802,0,0,5,4100,36,198,"No","-",0,"","",{"$f":"IF(ISERROR((#REF!-#REF!)/#REF!),0,(#REF!-#REF!)/#REF!)","v":0},{"$f":"IF(ISERROR((#REF!-#REF!)/#REF!),0,(#REF!-#REF!)/#REF!)","v":0},{"$f":"IF(ISERROR((#REF!-#REF!)/#REF!),0,(#REF!-#REF!)/#REF!)","v":0},{"$f":"IF(ISERROR((#REF!-#REF!)/#REF!),0,(#REF!-#REF!)/#REF!)","v":0},{"$f":"IF(ISERROR((#REF!-#REF!)/#REF!),0,(#REF!-#REF!)/#REF!)","v":0},{"$f":"IF(ISERROR((#REF!-#REF!)/#REF!),0,(#REF!-#REF!)/#REF!)","v":0},{"$f":"IF(ISERROR((#REF!-#REF!)/#REF!),0,(#REF!-#REF!)/#REF!)","v":0},{"$f":"IF(ISERROR((#REF!-#REF!)/#REF!),0,(#REF!-#REF!)/#REF!)","v":0},{"$f":"IF(ISERROR((#REF!-#REF!)/#REF!),0,(#REF!-#REF!)/#REF!)","v":0},{"$f":"IF(ISERROR((#REF!-#REF!)/#REF!),0,(#REF!-#REF!)/#REF!)","v":0},{"$f":"IF(ISERROR((#REF!-#REF!)/#REF!),0,(#REF!-#REF!)/#REF!)","v":0},{"$f":"IF(ISERROR((#REF!-#REF!)/#REF!),0,(#REF!-#REF!)/#REF!)","v":0},{"$f":"IF(ISERROR((#REF!-#REF!)/#REF!),0,(#REF!-#REF!)/#REF!)","v":0}]

{"sheet":"3 A&E","index":1,"n_rows":17,"n_cols":4,"rows_kept":17,"cut":false,"hidden":false,"merged":[[2,2,2,3]]}
["2016-17 Local Modification Tariff - A&E"]
[]
[null,null," Local Modification Tariff (£)"]
["HRG code","HRG name","Type 1 and 2 Departments","Type 3 Departments"]
["VB01Z","Emergency Medicine, Any Investigation with Category 5 Treatment",246,57]
["VB02Z","Emergency Medicine, Category 3 Investigation with Category 4 Treatment",237.24824068602342,57]
["VB03Z","Emergency Medicine, Category 3 Investigation with Category 1-3 Treatment",212.86454217558571,57]
["VB04Z","Emergency Medicine, Category 2 Investigation with Category 4 Treatment",188.01233674391835,57]
["VB05Z","Emergency Medicine, Category 2 Investigation with Category 3 Treatment",162.07960064130893,57]
["VB06Z","Emergency Medicine, Category 1 Investigation with Category 3-4 Treatment",105,57]
["VB07Z","Emergency Medicine, Category 2 Investigation with Category 2 Treatment",164.46632260579122,57]
["VB08Z","Emergency Medicine, Category 2 Investigation with Category 1 Treatment",148.26888174309966,57]
["VB09Z","Emergency Medicine, Category 1 Investigation with Category 1-2 Treatment",103.41443012333841,57]
["VB10Z","Emergency Medicine, Dental Care",58,57]
["VB11Z","Emergency Medicine, No Investigation with No Significant Treatment",57,57]
[]
["Please note that patients who are dead on arrival (DOA) and/or are grouped to VB99Z attract the tariff for VB09Z"]

{"sheet":"8 Maternity prices","index":2,"n_rows":50,"n_cols":13,"rows_kept":50,"cut":false,"hidden":false,"merged":[]}
["2016-17 Tariff - Local Modification Maternity Pathway"]
[]
[null,1,"Delivery phase"]
[]
[null,"Code","Name","Outpatient procedure tariff (£)","Combined day case / ordinary elective / non-elective spell tariff (£)","Long stay trimpoint (days)","Per day long stay payment (for days exceeding trimpoint) (£)","Reduced short stay emergency tariff \napplicable?","% applied in calculation of reduced short stay emergency tariff ","Reduced short stay emergency tariff (£)"]
[null,"n/a","With complications and co-morbidities","-",4008.5741057410287,7,389,"No","-","-"]
[null,"n/a","Without complications and co-morbidities","-",2557.2709845695508,5,389,"No","-","-"]
[]
[]
[null,2,"Non-delivery phases"]
[]
[null,"2a","Antenatal phase"]
[]
[null,"Code","Name","Tariff (£)"]
[null,"n/a","Standard",1240.6793817924072]
[null,"n/a","Intermediate",2070.6540775425556]
[null,"n/a","Intensive",4979.4889935015044]
[]
[null,"2b","Postnatal phase"]
[]
[null,"Code","Name","Tariff (£)"]
[null,"n/a","Standard",250]
[null,"n/a","Intermediate",315]
[null,"n/a","Intensive",848]
[]
[]
[null,3,"Mandatory delivery admitted patient and outpatient procedure prices for maternity services*"]
[]
[]
[null,"HRG code","HRG name","Combined day case / ordinary elective spell tariff (£)","Day case spell tariff (£)","Ordinary elective spell tariff (£)","Ordinary elective long stay trimpoint (days)","Non-elective spell tariff (£)","Non-elective long stay trimpoint (days)","Per day long stay payment (for days exceeding trimpoint) (£)","Reduced short stay emergency tariff \napplicable?","% applied in calculation of reduced short stay emergency tariff ","Reduced short stay emergency tariff (£)"]
[null,"NZ11A","Normal Delivery with CC",4008.5741057410287,"-","-",7,4008.5741057410287,7,389,"No","-","-"]
[null,"NZ11B","Normal Delivery without CC",2557.2709845695508,"-","-",5,2557.2709845695508,5,389,"No","-","-"]
[null,"NZ11C","Normal Delivery with Epidural, with CC",4008.5741057410287,"-","-",7,4008.5741057410287,7,389,"No","-","-"]
[null,"NZ11D","Normal Delivery with Epidural, without CC",2557.2709845695508,"-","-",5,2557.2709845695508,5,389,"No","-","-"]
[null,"NZ11E","Normal Delivery with Induction, with CC",4008.5741057410287,"-","-",7,4008.5741057410287,7,389,"No","-","-"]
[null,"NZ11F","Normal Delivery with Induction, without CC",2557.2709845695508,"-","-",5,2557.2709845695508,5,389,"No","-","-"]
[null,"NZ11G","Normal Delivery with Post-partum Surgical Intervention",4008.5741057410287,"-","-",7,4008.5741057410287,7,389,"No","-","-"]
[null,"NZ12A","Assisted Delivery with CC",4008.5741057410287,"-","-",7,4008.5741057410287,7,389,"No","-","-"]
[null,"NZ12B","Assisted Delivery without CC",2557.2709845695508,"-","-",5,2557.2709845695508,5,389,"No","-","-"]
[null,"NZ12C","Assisted Delivery with Epidural, with CC",4008.5741057410287,"-","-",7,4008.5741057410287,7,389,"No","-","-"]
[null,"NZ12D","Assisted Delivery with Epidural, without CC",2557.2709845695508,"-","-",5,2557.2709845695508,5,389,"No","-","-"]
[null,"NZ12E","Assisted Delivery with Induction, with CC",4008.5741057410287,"-","-",7,4008.5741057410287,7,389,"No","-","-"]
[null,"NZ12F","Assisted Delivery with Induction, without CC",2557.2709845695508,"-","-",5,2557.2709845695508,5,389,"No","-","-"]
[null,"NZ12G","Assisted Delivery with Post-partum Surgical Intervention",4008.5741057410287,"-","-",7,4008.5741057410287,7,389,"No","-","-"]
[null,"NZ13A","Planned Lower Uterine Caesarean Section with CC",4008.5741057410287,"-","-",7,4008.5741057410287,7,389,"No","-","-"]
[null,"NZ13B","Planned Lower Uterine Caesarean Section without CC",2557.2709845695508,"-","-",5,2557.2709845695508,5,389,"No","-","-"]
[null,"NZ14A","Emergency or Upper Uterine Caesarean Section, with CC",4008.5741057410287,"-","-",7,4008.5741057410287,7,389,"No","-","-"]
[null,"NZ14B","Emergency or Upper Uterine Caesarean Section, without CC",2557.2709845695508,"-","-",5,2557.2709845695508,5,389,"No","-","-"]
[null,"NZ15Z","Caesarean Section with Eclampsia, Pre-eclampsia or Placenta Praevia",4008.5741057410287,"-","-",7,4008.5741057410287,7,389,"No","-","-"]
[null,"* Please note, these prices were shown under 01. APC & OPROC in the 14/15 Tariff Information sheet (Annex 5A to the 14/15 National Tariff)"]