{"text_format":"1","workbook":"xlsx","n_sheets":24,"sheets":["Instructions","STATISTICAL NEIGHBOURS","Lookups","Contents","Early Years Table","Early Years Table ","3YO Take up","3YO Take up ","4YO Take up","4YO Take up ","3+4YO Take up","3+4YO Take up ","Qualifications","Qualifications ","EYFSP - GLD","EYFSP - GLD ","EYFSP - FSM","EYFSP - FSM ","EYFSP - 20%","EYFSP - 20% ","Data","Area codes","SNCodes","LEA Nos codes"],"not_rendered":{"charts":7,"images":0,"macros":1,"external_links":0,"defined_names":37,"comments":0,"pivot_tables":0},"unopened":[],"bounds":{"document_bytes":16777216,"sheet_cells":100000,"rows_first":2000,"rows_last":500,"rows_between":2000,"halvings":0,"cell_chars":16384,"cell_head_chars":4096},"cells_cut":0,"cells_raw":0,"read":"whole","date_system":"1900"}

{"sheet":"Instructions","index":0,"n_rows":11,"n_cols":2,"rows_kept":11,"cut":false,"hidden":false,"merged":[[26,1,26,10],[16,1,16,10],[3,1,4,10],[7,1,7,10],[8,1,8,10],[5,1,5,10],[6,1,6,10]]}
[]
[null,"Early Years Benchmarking Tables - Main Spreadsheet"]
[]
[null,"This spreadsheet contains data for all local authorities on funded early education. The main spreadsheet contains information on funding, take up, quality and outcomes of early years education alongside contextual data on the number of under 5s and the deprivation rank for each local authority."]
[]
[null,"The Child Development strand of the tool shows the percentage of children achieving a good level of development, how well children who are eligible for free school meals do in comparison to other children, and how well the lowest attaining children do in comparison to other children. "]
[null,"The Take Up strand of the tool shows the number and percentage of children benefitting from some funded early education. This is shown for three and four year olds separately as well as in total. Also included is information on the qualifications of staff working in settings that provide funded early education."]
[null,"The information can be viewed regionally (for example, London, South West, North East) or by type of local authority (London, Unitary, Upper Tier or Metropolitan). Alternatively, you may choose your statistical neighbours or up to 10 local authorities of your choice by selecting the \"Statistical neighbours\" option."]
[null,"Information on the data sources and underlying calculations can be found in the technical annex."]
[]
[null,"Please select data to view: "]

{"sheet":"STATISTICAL NEIGHBOURS","index":1,"n_rows":25,"n_cols":7,"rows_kept":25,"cut":false,"hidden":true,"merged":[[28,1,34,4],[1,1,1,11],[11,1,11,4],[24,1,26,4],[5,1,5,4],[18,1,18,4],[16,1,16,4]]}
[]
[null,"This worksheet allows you to view data for your own LA along with your statistical neighbours, or with your own choice of other LAs."]
[]
[null,"Choose LAs",null,null,null,null,"Other LAs"]
[]
[null,"1. Please select your LA"]
[]
[null,"My LA"]
[]
[]
[]
[null,"2. Then either select your statistical neighbours:"]
[]
[]
[]
[]
[null,"Or make your own selection of LAs using the drop down boxes"]
[]
[null,"3. When you have made your selection, press the \"Create Table\" button to view the benchmarking table"]
[]
[]
[]
[]
[]
[null,"Note: When statistical neighbours are selected, LAs are shown in order of closeness to your LA"]

{"sheet":"Lookups","index":2,"n_rows":16,"n_cols":4,"rows_kept":16,"cut":false,"hidden":true,"merged":[]}
[]
[null,"CHOICE"]
[null,"STATISTICAL NEIGHBOURS"]
[null,"LONDON","Cell link",1]
[null,"METROPOLITAN AUTHORITIES"]
[null,"UNITARY AUTHORITIES"]
[null,"UPPER TIER AUTHORITIES"]
[null,"East of England"]
[null,"East Midlands"]
[null,"North East"]
[null,"North West"]
[null,"South East"]
[null,"South West"]
[null,"West Midlands"]
[null,"Yorkshire and the Humber"]
[null,"All LAs"]

{"sheet":"Contents","index":3,"n_rows":30,"n_cols":4,"rows_kept":30,"cut":false,"hidden":true,"merged":[[27,3,27,18],[29,3,29,17],[6,3,6,12],[11,3,11,10],[13,3,13,10],[15,3,15,11],[20,3,20,18],[25,3,25,12]]}
[]
[null,"Contents"]
[]
[]
[null,null,"Main Spreadsheet"]
[]
[null,null,null,"Early Years Table - Main benchmarking spreadsheet (including quality and context)"]
[]
[]
[null,null,"Take Up"]
[]
[null,null,null,"3YO Take up - Three year olds benefiting from funded early education"]
[]
[null,null,null,"4YO Take up - Four year olds benefiting from funded early education"]
[]
[null,null,null,"3+4YO Take up - Three and four year olds benefiting from funded early education"]
[]
[]
[null,null,"Staff Qualifications"]
[]
[null,null,null,"Qualifications - Percentage of private, voluntary and independent providers with staff with QTS/EYPS who work directly with three and four year olds"]
[]
[]
[null,null,"Child Development - Early Years Foundation Stage Profile"]
[]
[null,null,null,"EYFSP GLD - Percentage of children achieving a good level of development at age five"]
[]
[null,null,null,"EYFSP FSM - Percentage gap between pupils eligible for free school meals and the rest in achieving a good level of development at age five"]
[]
[null,null,null,"EYFSP 20% - Percentage gap between the lowest achieving 20% and the rest in achieving a good level of development at age five"]

{"sheet":"Early Years Table","index":4,"n_rows":231,"n_cols":16,"rows_kept":231,"cut":false,"hidden":true,"merged":[[228,0,228,4],[230,0,230,5],[212,0,212,5],[216,0,216,5],[220,0,220,5],[222,0,222,4],[226,0,226,7],[0,14,0,15],[1,14,1,15],[3,2,3,4],[3,9,3,11],[3,12,3,15],[3,6,3,7],[174,0,174,10],[176,0,176,5],[177,0,177,5],[208,0,208,7]]}
[null,null,"Early Years Benchmarking - Main Spreadsheet",null,null,null,null,null,null,null,null,null,null,null,"Return to contents"]
["All LAs",null,null,null,null,null,null,null,null,null,null,null,null,null,"Return to instructions"]
[]
["To print use the buttons below.",null,"Funding",null,null,"Quality","Qualifications",null,"Take UpA","Child Development (EYFSP)14",null,null,"Context"]
[null,null,"Planned spend1 on 2 year olds - average rate per hour2,3\n(2013-14)","Allocated hourly rate for 2 year olds4\n(2013-14)","Planned spend1 on 3 and 4 year olds - average rate per hour5\n(2013-14)","% of childcare and early years settings6 rated good or outstanding by Ofsted7\n(As at 31st October 2013)","% of PVI8 providers with QTS9/EYPS10 graduates working directly with 3 and 4 year olds11 (2013)","% of 3 and 4 year olds11 receiving funded early education at PVI8 providers with QTS9/EYPS10 graduates working directly with children\n(2013)","% of 3 and 4 year olds11 receiving funded early education12,13\n(2013)","% of children achieving a good level of development15,16\n(2013)","% gap between pupils eligible for free school meals and the rest16,17\n(2013)","% gap between the lowest achieving 20% and the rest16,18\n(2013)","Number of 0-4 year olds19\n(Mid-2012)","Deprivation rank20,21\n(2010)","% of 3 and 4 year olds11 receiving funded early education12,13 in maintained22 settings\n(2013)","% of 3 and 4 year olds11 receiving funded early education12,13 in PVI8 providers\n(2013)"]
["England - Average (mean) or Total",null,{"$f":"Data!C157","v":5.27},{"$f":"Data!AQ157","v":5.09},{"$f":"Data!D157","v":4.21},{"$f":"Data!E157","v":0.77},{"$f":"Data!AP157","v":0.39},{"$f":"Data!AS157","v":0.44},{"$f":"Data!AI157","v":0.96},{"$f":"Data!AK157","v":0.52},{"$f":"Data!AL157","v":0.19},{"$f":"Data!AM157","v":0.36599999999999999},{"$f":"Data!F157","v":3328750},null,{"$f":"Data!AR157","v":0.59},{"$f":"Data!H157","v":0.4}]
["England - Average (median)",null,{"$f":"Data!C158","v":5},{"$f":"Data!AQ158","v":4.93},{"$f":"Data!D158","v":4.04},{"$f":"Data!E158","v":0.76},{"$f":"Data!AP158","v":0.39500000000000002},{"$f":"Data!AS158","v":0.44},{"$f":"Data!AI158","v":0.97},{"$f":"Data!AK158","v":0.51},{"$f":"Data!AL158","v":0.19500000000000001},{"$f":"Data!AM158","v":0.35499999999999998},{"$f":"Data!F158","v":17500},{"$f":"Data!G158","v":76.5},{"$f":"Data!AR158","v":0.625},{"$f":"Data!H158","v":0.36}]
["England - Minimum",null,{"$f":"Data!C159","v":4.5},{"$f":"Data!AQ159","v":4.8499999999999996},{"$f":"Data!D159","v":2.99},{"$f":"Data!E159","v":0.59},{"$f":"Data!AP159","v":0},{"$f":"Data!AS159","v":0},{"$f":"Data!AI159","v":0.79},{"$f":"Data!AK159","v":0.28000000000000003},{"$f":"Data!AL159","v":0.02},{"$f":"Data!AM159","v":0.105},{"$f":"Data!F159","v":100},{"$f":"Data!G159","v":1},{"$f":"Data!AR159","v":0.33},{"$f":"Data!H159","v":0.03}]
["England - Maximum",null,{"$f":"Data!C160","v":9.99},{"$f":"Data!AQ160","v":7.08},{"$f":"Data!D160","v":6.81},{"$f":"Data!E160","v":1},{"$f":"Data!AP160","v":0.73},{"$f":"Data!AS160","v":0.81},{"$f":"Data!AI160","v":1.1499999999999999},{"$f":"Data!AK160","v":1},{"$f":"Data!AL160","v":0.34},{"$f":"Data!AM160","v":0.44600000000000001},{"$f":"Data!F160","v":90800},{"$f":"Data!G160","v":149},{"$f":"Data!AR160","v":0.97},{"$f":"Data!H160","v":0.66}]
["Selection - Average (median)",null,{"$f":"MEDIAN(C13:C164)","v":5},{"$f":"MEDIAN(D13:D164)","v":4.93},4.04,0.76,{"$f":"MEDIAN(G13:G164)","v":0.39500000000000002},0.44,0.97,0.51,0.19500000000000001,0.35499999999999998,17500,76.5,{"$f":"MEDIAN(O13:O164)","v":0.625},0.36]
["Selection - Minimum",null,{"$f":"MIN(C13:C164)","v":4.5},{"$f":"MIN(D13:D164)","v":4.8499999999999996},2.99,0.59,{"$f":"MIN(G13:G164)","v":0},0,0.79,0.28000000000000003,0.02,0.105,100,1,{"$f":"MIN(O13:O164)","v":0.33},0.03]
["Selection - Maximum",null,{"$f":"MAX(C13:C164)","v":9.99},{"$f":"MAX(D13:D164)","v":7.08},6.81,1,{"$f":"MAX(G13:G164)","v":0.73},0.81,1.1499999999999999,1,0.34,0.44600000000000001,90800,149,{"$f":"MAX(O13:O164)","v":0.97},0.66]
[301,{"$f":"IF($A13=\"\",\"\",IF(ISBLANK($A13),\"\",INDEX('LEA Nos codes'!$A$3:$A$154,MATCH($A13,'LEA Nos codes'!$B$3:$B$154,0))))","v":"Barking and Dagenham"},{"$f":"IF($A13=\"\",\"\",IF(ISBLANK($A13),\"\",VLOOKUP($A13,Data!$A$4:$V$155,3,FALSE)))","v":5.2},{"$f":"IF($A13=\"\",\"\",IF(ISBLANK($A13),\"\",VLOOKUP($A13,Data!$A$4:$AQ$155,43,FALSE)))","v":5.28},{"$f":"IF($A13=\"\",\"\",IF(ISBLANK($A13),\"\",VLOOKUP($A13,Data!$A$4:$V$155,4,FALSE)))","v":3.87},{"$f":"IF($A13=\"\",\"\",IF(ISBLANK($A13),\"\",VLOOKUP($A13,Data!$A$4:$V$155,5,FALSE)))","v":0.74},{"$f":"IF($A13=\"\",\"\",IF(ISBLANK($A13),\"\",VLOOKUP($A13,Data!$A$4:$AP$155,42,FALSE)))","v":0.34},{"$f":"IF($A13=\"\",\"\",IF(ISBLANK($A13),\"\",VLOOKUP($A13,Data!$A$4:$AS$155,45,FALSE)))","v":0.39},{"$f":"IF($A13=\"\",\"\",IF(ISBLANK($A13),\"\",VLOOKUP($A13,Data!$A$4:$AI$155,35,FALSE)))","v":0.89},{"$f":"IF($A13=\"\",\"\",IF(ISBLANK($A13),\"\",VLOOKUP($A13,Data!$A$4:$AM$155,37,FALSE)))","v":0.46},{"$f":"IF($A13=\"\",\"\",IF(ISBLANK($A13),\"\",VLOOKUP($A13,Data!$A$4:$AM$155,38,FALSE)))","v":0.12},{"$f":"IF($A13=\"\",\"\",IF(ISBLANK($A13),\"\",VLOOKUP($A13,Data!$A$4:$AM$155,39,FALSE)))","v":0.38299999999999995},{"$f":"IF($A13=\"\",\"\",IF(ISBLANK($A13),\"\",VLOOKUP($A13,Data!$A$4:$AI$155,6,FALSE)))","v":19200},{"$f":"IF($A13=\"\",\"\",IF(ISBLANK($A13),\"\",VLOOKUP($A13,Data!$A$4:$AI$155,7,FALSE)))","v":20},{"$f":"IF($A13=\"\",\"\",IF(ISBLANK($A13),\"\",VLOOKUP($A13,Data!$A$4:$AR$155,44,FALSE)))","v":0.77},{"$f":"IF($A13=\"\",\"\",IF(ISBLANK($A13),\"\",VLOOKUP($A13,Data!$A$4:$AI$155,8,FALSE)))","v":0.22}]
[302,{"$f":"IF($A14=\"\",\"\",IF(ISBLANK($A14),\"\",INDEX('LEA Nos codes'!$A$3:$A$154,MATCH($A14,'LEA Nos codes'!$B$3:$B$154,0))))","v":"Barnet"},{"$f":"IF($A14=\"\",\"\",IF(ISBLANK($A14),\"\",VLOOKUP($A14,Data!$A$4:$V$155,3,FALSE)))","v":6},{"$f":"IF($A14=\"\",\"\",IF(ISBLANK($A14),\"\",VLOOKUP($A14,Data!$A$4:$AQ$155,43,FALSE)))","v":5.53},{"$f":"IF($A14=\"\",\"\",IF(ISBLANK($A14),\"\",VLOOKUP($A14,Data!$A$4:$V$155,4,FALSE)))","v":4.57},{"$f":"IF($A14=\"\",\"\",IF(ISBLANK($A14),\"\",VLOOKUP($A14,Data!$A$4:$V$155,5,FALSE)))","v":0.75},{"$f":"IF($A14=\"\",\"\",IF(ISBLANK($A14),\"\",VLOOKUP($A14,Data!$A$4:$AP$155,42,FALSE)))","v":0.49},{"$f":"IF($A14=\"\",\"\",IF(ISBLANK($A14),\"\",VLOOKUP($A14,Data!$A$4:$AS$155,45,FALSE)))","v":0.49},{"$f":"IF($A14=\"\",\"\",IF(ISBLANK($A14),\"\",VLOOKUP($A14,Data!$A$4:$AI$155,35,FALSE)))","v":0.84},{"$f":"IF($A14=\"\",\"\",IF(ISBLANK($A14),\"\",VLOOKUP($A14,Data!$A$4:$AM$155,37,FALSE)))","v":0.6},{"$f":"IF($A14=\"\",\"\",IF(ISBLANK($A14),\"\",VLOOKUP($A14,Data!$A$4:$AM$155,38,FALSE)))","v":0.16},{"$f":"IF($A14=\"\",\"\",IF(ISBLANK($A14),\"\",VLOOKUP($A14,Data!$A$4:$AM$155,39,FALSE)))","v":0.32},{"$f":"IF($A14=\"\",\"\",IF(ISBLANK($A14),\"\",VLOOKUP($A14,Data!$A$4:$AI$155,6,FALSE)))","v":27300},{"$f":"IF($A14=\"\",\"\",IF(ISBLANK($A14),\"\",VLOOKUP($A14,Data!$A$4:$AI$155,7,FALSE)))","v":106},{"$f":"IF($A14=\"\",\"\",IF(ISBLANK($A14),\"\",VLOOKUP($A14,Data!$A$4:$AR$155,44,FALSE)))","v":0.7},{"$f":"IF($A14=\"\",\"\",IF(ISBLANK($A14),\"\",VLOOKUP($A14,Data!$A$4:$AI$155,8,FALSE)))","v":0.3}]
[370,{"$f":"IF($A15=\"\",\"\",IF(ISBLANK($A15),\"\",INDEX('LEA Nos codes'!$A$3:$A$154,MATCH($A15,'LEA Nos codes'!$B$3:$B$154,0))))","v":"Barnsley"},{"$f":"IF($A15=\"\",\"\",IF(ISBLANK($A15),\"\",VLOOKUP($A15,Data!$A$4:$V$155,3,FALSE)))","v":4.95},{"$f":"IF($A15=\"\",\"\",IF(ISBLANK($A15),\"\",VLOOKUP($A15,Data!$A$4:$AQ$155,43,FALSE)))","v":4.8499999999999996},{"$f":"IF($A15=\"\",\"\",IF(ISBLANK($A15),\"\",VLOOKUP($A15,Data!$A$4:$V$155,4,FALSE)))","v":4.03},{"$f":"IF($A15=\"\",\"\",IF(ISBLANK($A15),\"\",VLOOKUP($A15,Data!$A$4:$V$155,5,FALSE)))","v":0.79},{"$f":"IF($A15=\"\",\"\",IF(ISBLANK($A15),\"\",VLOOKUP($A15,Data!$A$4:$AP$155,42,FALSE)))","v":0.47},{"$f":"IF($A15=\"\",\"\",IF(ISBLANK($A15),\"\",VLOOKUP($A15,Data!$A$4:$AS$155,45,FALSE)))","v":0.46},{"$f":"IF($A15=\"\",\"\",IF(ISBLANK($A15),\"\",VLOOKUP($A15,Data!$A$4:$AI$155,35,FALSE)))","v":0.97},{"$f":"IF($A15=\"\",\"\",IF(ISBLANK($A15),\"\",VLOOKUP($A15,Data!$A$4:$AM$155,37,FALSE)))","v":0.5},{"$f":"IF($A15=\"\",\"\",IF(ISBLANK($A15),\"\",VLOOKUP($A15,Data!$A$4:$AM$155,38,FALSE)))","v":0.23},{"$f":"IF($A15=\"\",\"\",IF(ISBLANK($A15),\"\",VLOOKUP($A15,Data!$A$4:$AM$155,39,FALSE)))","v":0.37799999999999995},{"$f":"IF($A15=\"\",\"\",IF(ISBLANK($A15),\"\",VLOOKUP($A15,Data!$A$4:$AI$155,6,FALSE)))","v":14400},{"$f":"IF($A15=\"\",\"\",IF(ISBLANK($A15),\"\",VLOOKUP($A15,Data!$A$4:$AI$155,7,FALSE)))","v":40},{"$f":"IF($A15=\"\",\"\",IF(ISBLANK($A15),\"\",VLOOKUP($A15,Data!$A$4:$AR$155,44,FALSE)))","v":0.76},{"$f":"IF($A15=\"\",\"\",IF(ISBLANK($A15),\"\",VLOOKUP($A15,Data!$A$4:$AI$155,8,FALSE)))","v":0.24}]
[800,{"$f":"IF($A16=\"\",\"\",IF(ISBLANK($A16),\"\",INDEX('LEA Nos codes'!$A$3:$A$154,MATCH($A16,'LEA Nos codes'!$B$3:$B$154,0))))","v":"Bath & North East Somerset"},{"$f":"IF($A16=\"\",\"\",IF(ISBLANK($A16),\"\",VLOOKUP($A16,Data!$A$4:$V$155,3,FALSE)))","v":5},{"$f":"IF($A16=\"\",\"\",IF(ISBLANK($A16),\"\",VLOOKUP($A16,Data!$A$4:$AQ$155,43,FALSE)))","v":5.07},{"$f":"IF($A16=\"\",\"\",IF(ISBLANK($A16),\"\",VLOOKUP($A16,Data!$A$4:$V$155,4,FALSE)))","v":3.72},{"$f":"IF($A16=\"\",\"\",IF(ISBLANK($A16),\"\",VLOOKUP($A16,Data!$A$4:$V$155,5,FALSE)))","v":0.82},{"$f":"IF($A16=\"\",\"\",IF(ISBLANK($A16),\"\",VLOOKUP($A16,Data!$A$4:$AP$155,42,FALSE)))","v":0.62},{"$f":"IF($A16=\"\",\"\",IF(ISBLANK($A16),\"\",VLOOKUP($A16,Data!$A$4:$AS$155,45,FALSE)))","v":0.69},{"$f":"IF($A16=\"\",\"\",IF(ISBLANK($A16),\"\",VLOOKUP($A16,Data!$A$4:$AI$155,35,FALSE)))","v":1.03},{"$f":"IF($A16=\"\",\"\",IF(ISBLANK($A16),\"\",VLOOKUP($A16,Data!$A$4:$AM$155,37,FALSE)))","v":0.51},{"$f":"IF($A16=\"\",\"\",IF(ISBLANK($A16),\"\",VLOOKUP($A16,Data!$A$4:$AM$155,38,FALSE)))","v":0.25},{"$f":"IF($A16=\"\",\"\",IF(ISBLANK($A16),\"\",VLOOKUP($A16,Data!$A$4:$AM$155,39,FALSE)))","v":0.32},{"$f":"IF($A16=\"\",\"\",IF(ISBLANK($A16),\"\",VLOOKUP($A16,Data!$A$4:$AI$155,6,FALSE)))","v":9300},{"$f":"IF($A16=\"\",\"\",IF(ISBLANK($A16),\"\",VLOOKUP($A16,Data!$A$4:$AI$155,7,FALSE)))","v":135},{"$f":"IF($A16=\"\",\"\",IF(ISBLANK($A16),\"\",VLOOKUP($A16,Data!$A$4:$AR$155,44,FALSE)))","v":0.42},{"$f":"IF($A16=\"\",\"\",IF(ISBLANK($A16),\"\",VLOOKUP($A16,Data!$A$4:$AI$155,8,FALSE)))","v":0.57999999999999996}]
[822,{"$f":"IF($A17=\"\",\"\",IF(ISBLANK($A17),\"\",INDEX('LEA Nos codes'!$A$3:$A$154,MATCH($A17,'LEA Nos codes'!$B$3:$B$154,0))))","v":"Bedford Borough"},{"$f":"IF($A17=\"\",\"\",IF(ISBLANK($A17),\"\",VLOOKUP($A17,Data!$A$4:$V$155,3,FALSE)))","v":5.03},{"$f":"IF($A17=\"\",\"\",IF(ISBLANK($A17),\"\",VLOOKUP($A17,Data!$A$4:$AQ$155,43,FALSE)))","v":5.03},{"$f":"IF($A17=\"\",\"\",IF(ISBLANK($A17),\"\",VLOOKUP($A17,Data!$A$4:$V$155,4,FALSE)))","v":4},{"$f":"IF($A17=\"\",\"\",IF(ISBLANK($A17),\"\",VLOOKUP($A17,Data!$A$4:$V$155,5,FALSE)))","v":0.9},{"$f":"IF($A17=\"\",\"\",IF(ISBLANK($A17),\"\",VLOOKUP($A17,Data!$A$4:$AP$155,42,FALSE)))","v":0.28999999999999998},{"$f":"IF($A17=\"\",\"\",IF(ISBLANK($A17),\"\",VLOOKUP($A17,Data!$A$4:$AS$155,45,FALSE)))","v":0.36},{"$f":"IF($A17=\"\",\"\",IF(ISBLANK($A17),\"\",VLOOKUP($A17,Data!$A$4:$AI$155,35,FALSE)))","v":1.06},{"$f":"IF($A17=\"\",\"\",IF(ISBLANK($A17),\"\",VLOOKUP($A17,Data!$A$4:$AM$155,37,FALSE)))","v":0.48},{"$f":"IF($A17=\"\",\"\",IF(ISBLANK($A17),\"\",VLOOKUP($A17,Data!$A$4:$AM$155,38,FALSE)))","v":0.19},{"$f":"IF($A17=\"\",\"\",IF(ISBLANK($A17),\"\",VLOOKUP($A17,Data!$A$4:$AM$155,39,FALSE)))","v":0.33799999999999997},{"$f":"IF($A17=\"\",\"\",IF(ISBLANK($A17),\"\",VLOOKUP($A17,Data!$A$4:$AI$155,6,FALSE)))","v":10500},{"$f":"IF($A17=\"\",\"\",IF(ISBLANK($A17),\"\",VLOOKUP($A17,Data!$A$4:$AI$155,7,FALSE)))","v":130},{"$f":"IF($A17=\"\",\"\",IF(ISBLANK($A17),\"\",VLOOKUP($A17,Data!$A$4:$AR$155,44,FALSE)))","v":0.55000000000000004},{"$f":"IF($A17=\"\",\"\",IF(ISBLANK($A17),\"\",VLOOKUP($A17,Data!$A$4:$AI$155,8,FALSE)))","v":0.45}]
[303,{"$f":"IF($A18=\"\",\"\",IF(ISBLANK($A18),\"\",INDEX('LEA Nos codes'!$A$3:$A$154,MATCH($A18,'LEA Nos codes'!$B$3:$B$154,0))))","v":"Bexley"},{"$f":"IF($A18=\"\",\"\",IF(ISBLANK($A18),\"\",VLOOKUP($A18,Data!$A$4:$V$155,3,FALSE)))","v":5.28},{"$f":"IF($A18=\"\",\"\",IF(ISBLANK($A18),\"\",VLOOKUP($A18,Data!$A$4:$AQ$155,43,FALSE)))","v":5.28},{"$f":"IF($A18=\"\",\"\",IF(ISBLANK($A18),\"\",VLOOKUP($A18,Data!$A$4:$V$155,4,FALSE)))","v":3.85},{"$f":"IF($A18=\"\",\"\",IF(ISBLANK($A18),\"\",VLOOKUP($A18,Data!$A$4:$V$155,5,FALSE)))","v":0.78},{"$f":"IF($A18=\"\",\"\",IF(ISBLANK($A18),\"\",VLOOKUP($A18,Data!$A$4:$AP$155,42,FALSE)))","v":0.4},{"$f":"IF($A18=\"\",\"\",IF(ISBLANK($A18),\"\",VLOOKUP($A18,Data!$A$4:$AS$155,45,FALSE)))","v":0.4},{"$f":"IF($A18=\"\",\"\",IF(ISBLANK($A18),\"\",VLOOKUP($A18,Data!$A$4:$AI$155,35,FALSE)))","v":0.98},{"$f":"IF($A18=\"\",\"\",IF(ISBLANK($A18),\"\",VLOOKUP($A18,Data!$A$4:$AM$155,37,FALSE)))","v":0.64},{"$f":"IF($A18=\"\",\"\",IF(ISBLANK($A18),\"\",VLOOKUP($A18,Data!$A$4:$AM$155,38,FALSE)))","v":0.2},{"$f":"IF($A18=\"\",\"\",IF(ISBLANK($A18),\"\",VLOOKUP($A18,Data!$A$4:$AM$155,39,FALSE)))","v":0.27600000000000002},{"$f":"IF($A18=\"\",\"\",IF(ISBLANK($A18),\"\",VLOOKUP($A18,Data!$A$4:$AI$155,6,FALSE)))","v":15700},{"$f":"IF($A18=\"\",\"\",IF(ISBLANK($A18),\"\",VLOOKUP($A18,Data!$A$4:$AI$155,7,FALSE)))","v":105},{"$f":"IF($A18=\"\",\"\",IF(ISBLANK($A18),\"\",VLOOKUP($A18,Data!$A$4:$AR$155,44,FALSE)))","v":0.63},{"$f":"IF($A18=\"\",\"\",IF(ISBLANK($A18),\"\",VLOOKUP($A18,Data!$A$4:$AI$155,8,FALSE)))","v":0.35}]
[330,{"$f":"IF($A19=\"\",\"\",IF(ISBLANK($A19),\"\",INDEX('LEA Nos codes'!$A$3:$A$154,MATCH($A19,'LEA Nos codes'!$B$3:$B$154,0))))","v":"Birmingham"},{"$f":"IF($A19=\"\",\"\",IF(ISBLANK($A19),\"\",VLOOKUP($A19,Data!$A$4:$V$155,3,FALSE)))","v":"."},{"$f":"IF($A19=\"\",\"\",IF(ISBLANK($A19),\"\",VLOOKUP($A19,Data!$A$4:$AQ$155,43,FALSE)))","v":4.8899999999999997},{"$f":"IF($A19=\"\",\"\",IF(ISBLANK($A19),\"\",VLOOKUP($A19,Data!$A$4:$V$155,4,FALSE)))","v":5.31},{"$f":"IF($A19=\"\",\"\",IF(ISBLANK($A19),\"\",VLOOKUP($A19,Data!$A$4:$V$155,5,FALSE)))","v":0.72},{"$f":"IF($A19=\"\",\"\",IF(ISBLANK($A19),\"\",VLOOKUP($A19,Data!$A$4:$AP$155,42,FALSE)))","v":0.3},{"$f":"IF($A19=\"\",\"\",IF(ISBLANK($A19),\"\",VLOOKUP($A19,Data!$A$4:$AS$155,45,FALSE)))","v":0.39},{"$f":"IF($A19=\"\",\"\",IF(ISBLANK($A19),\"\",VLOOKUP($A19,Data!$A$4:$AI$155,35,FALSE)))","v":0.92},{"$f":"IF($A19=\"\",\"\",IF(ISBLANK($A19),\"\",VLOOKUP($A19,Data!$A$4:$AM$155,37,FALSE)))","v":0.5},{"$f":"IF($A19=\"\",\"\",IF(ISBLANK($A19),\"\",VLOOKUP($A19,Data!$A$4:$AM$155,38,FALSE)))","v":0.15},{"$f":"IF($A19=\"\",\"\",IF(ISBLANK($A19),\"\",VLOOKUP($A19,Data!$A$4:$AM$155,39,FALSE)))","v":0.40600000000000003},{"$f":"IF($A19=\"\",\"\",IF(ISBLANK($A19),\"\",VLOOKUP($A19,Data!$A$4:$AI$155,6,FALSE)))","v":83900},{"$f":"IF($A19=\"\",\"\",IF(ISBLANK($A19),\"\",VLOOKUP($A19,Data!$A$4:$AI$155,7,FALSE)))","v":9},{"$f":"IF($A19=\"\",\"\",IF(ISBLANK($A19),\"\",VLOOKUP($A19,Data!$A$4:$AR$155,44,FALSE)))","v":0.68},{"$f":"IF($A19=\"\",\"\",IF(ISBLANK($A19),\"\",VLOOKUP($A19,Data!$A$4:$AI$155,8,FALSE)))","v":0.31}]
[889,{"$f":"IF($A20=\"\",\"\",IF(ISBLANK($A20),\"\",INDEX('LEA Nos codes'!$A$3:$A$154,MATCH($A20,'LEA Nos codes'!$B$3:$B$154,0))))","v":"Blackburn with Darwen"},{"$f":"IF($A20=\"\",\"\",IF(ISBLANK($A20),\"\",VLOOKUP($A20,Data!$A$4:$V$155,3,FALSE)))","v":"."},{"$f":"IF($A20=\"\",\"\",IF(ISBLANK($A20),\"\",VLOOKUP($A20,Data!$A$4:$AQ$155,43,FALSE)))","v":4.8499999999999996},{"$f":"IF($A20=\"\",\"\",IF(ISBLANK($A20),\"\",VLOOKUP($A20,Data!$A$4:$V$155,4,FALSE)))","v":4.03},{"$f":"IF($A20=\"\",\"\",IF(ISBLANK($A20),\"\",VLOOKUP($A20,Data!$A$4:$V$155,5,FALSE)))","v":0.75},{"$f":"IF($A20=\"\",\"\",IF(ISBLANK($A20),\"\",VLOOKUP($A20,Data!$A$4:$AP$155,42,FALSE)))","v":0.61},{"$f":"IF($A20=\"\",\"\",IF(ISBLANK($A20),\"\",VLOOKUP($A20,Data!$A$4:$AS$155,45,FALSE)))","v":0.73},{"$f":"IF($A20=\"\",\"\",IF(ISBLANK($A20),\"\",VLOOKUP($A20,Data!$A$4:$AI$155,35,FALSE)))","v":0.94},{"$f":"IF($A20=\"\",\"\",IF(ISBLANK($A20),\"\",VLOOKUP($A20,Data!$A$4:$AM$155,37,FALSE)))","v":0.4},{"$f":"IF($A20=\"\",\"\",IF(ISBLANK($A20),\"\",VLOOKUP($A20,Data!$A$4:$AM$155,38,FALSE)))","v":0.1},{"$f":"IF($A20=\"\",\"\",IF(ISBLANK($A20),\"\",VLOOKUP($A20,Data!$A$4:$AM$155,39,FALSE)))","v":0.41899999999999998},{"$f":"IF($A20=\"\",\"\",IF(ISBLANK($A20),\"\",VLOOKUP($A20,Data!$A$4:$AI$155,6,FALSE)))","v":11300},{"$f":"IF($A20=\"\",\"\",IF(ISBLANK($A20),\"\",VLOOKUP($A20,Data!$A$4:$AI$155,7,FALSE)))","v":16},{"$f":"IF($A20=\"\",\"\",IF(ISBLANK($A20),\"\",VLOOKUP($A20,Data!$A$4:$AR$155,44,FALSE)))","v":0.57999999999999996},{"$f":"IF($A20=\"\",\"\",IF(ISBLANK($A20),\"\",VLOOKUP($A20,Data!$A$4:$AI$155,8,FALSE)))","v":0.42}]
[890,{"$f":"IF($A21=\"\",\"\",IF(ISBLANK($A21),\"\",INDEX('LEA Nos codes'!$A$3:$A$154,MATCH($A21,'LEA Nos codes'!$B$3:$B$154,0))))","v":"Blackpool"},{"$f":"IF($A21=\"\",\"\",IF(ISBLANK($A21),\"\",VLOOKUP($A21,Data!$A$4:$V$155,3,FALSE)))","v":4.8499999999999996},{"$f":"IF($A21=\"\",\"\",IF(ISBLANK($A21),\"\",VLOOKUP($A21,Data!$A$4:$AQ$155,43,FALSE)))","v":4.8499999999999996},{"$f":"IF($A21=\"\",\"\",IF(ISBLANK($A21),\"\",VLOOKUP($A21,Data!$A$4:$V$155,4,FALSE)))","v":3.63},{"$f":"IF($A21=\"\",\"\",IF(ISBLANK($A21),\"\",VLOOKUP($A21,Data!$A$4:$V$155,5,FALSE)))","v":0.78},{"$f":"IF($A21=\"\",\"\",IF(ISBLANK($A21),\"\",VLOOKUP($A21,Data!$A$4:$AP$155,42,FALSE)))","v":0.36},{"$f":"IF($A21=\"\",\"\",IF(ISBLANK($A21),\"\",VLOOKUP($A21,Data!$A$4:$AS$155,45,FALSE)))","v":0.49},{"$f":"IF($A21=\"\",\"\",IF(ISBLANK($A21),\"\",VLOOKUP($A21,Data!$A$4:$AI$155,35,FALSE)))","v":0.95},{"$f":"IF($A21=\"\",\"\",IF(ISBLANK($A21),\"\",VLOOKUP($A21,Data!$A$4:$AM$155,37,FALSE)))","v":0.52},{"$f":"IF($A21=\"\",\"\",IF(ISBLANK($A21),\"\",VLOOKUP($A21,Data!$A$4:$AM$155,38,FALSE)))","v":0.17},{"$f":"IF($A21=\"\",\"\",IF(ISBLANK($A21),\"\",VLOOKUP($A21,Data!$A$4:$AM$155,39,FALSE)))","v":0.33},{"$f":"IF($A21=\"\",\"\",IF(ISBLANK($A21),\"\",VLOOKUP($A21,Data!$A$4:$AI$155,6,FALSE)))","v":8500},{"$f":"IF($A21=\"\",\"\",IF(ISBLANK($A21),\"\",VLOOKUP($A21,Data!$A$4:$AI$155,7,FALSE)))","v":6},{"$f":"IF($A21=\"\",\"\",IF(ISBLANK($A21),\"\",VLOOKUP($A21,Data!$A$4:$AR$155,44,FALSE)))","v":0.56999999999999995},{"$f":"IF($A21=\"\",\"\",IF(ISBLANK($A21),\"\",VLOOKUP($A21,Data!$A$4:$AI$155,8,FALSE)))","v":0.42}]
[350,{"$f":"IF($A22=\"\",\"\",IF(ISBLANK($A22),\"\",INDEX('LEA Nos codes'!$A$3:$A$154,MATCH($A22,'LEA Nos codes'!$B$3:$B$154,0))))","v":"Bolton"},{"$f":"IF($A22=\"\",\"\",IF(ISBLANK($A22),\"\",VLOOKUP($A22,Data!$A$4:$V$155,3,FALSE)))","v":4.8499999999999996},{"$f":"IF($A22=\"\",\"\",IF(ISBLANK($A22),\"\",VLOOKUP($A22,Data!$A$4:$AQ$155,43,FALSE)))","v":4.95},{"$f":"IF($A22=\"\",\"\",IF(ISBLANK($A22),\"\",VLOOKUP($A22,Data!$A$4:$V$155,4,FALSE)))","v":4.25},{"$f":"IF($A22=\"\",\"\",IF(ISBLANK($A22),\"\",VLOOKUP($A22,Data!$A$4:$V$155,5,FALSE)))","v":0.77},{"$f":"IF($A22=\"\",\"\",IF(ISBLANK($A22),\"\",VLOOKUP($A22,Data!$A$4:$AP$155,42,FALSE)))","v":0.37},{"$f":"IF($A22=\"\",\"\",IF(ISBLANK($A22),\"\",VLOOKUP($A22,Data!$A$4:$AS$155,45,FALSE)))","v":0.47},{"$f":"IF($A22=\"\",\"\",IF(ISBLANK($A22),\"\",VLOOKUP($A22,Data!$A$4:$AI$155,35,FALSE)))","v":1},{"$f":"IF($A22=\"\",\"\",IF(ISBLANK($A22),\"\",VLOOKUP($A22,Data!$A$4:$AM$155,37,FALSE)))","v":0.48},{"$f":"IF($A22=\"\",\"\",IF(ISBLANK($A22),\"\",VLOOKUP($A22,Data!$A$4:$AM$155,38,FALSE)))","v":0.19},{"$f":"IF($A22=\"\",\"\",IF(ISBLANK($A22),\"\",VLOOKUP($A22,Data!$A$4:$AM$155,39,FALSE)))","v":0.41100000000000003},{"$f":"IF($A22=\"\",\"\",IF(ISBLANK($A22),\"\",VLOOKUP($A22,Data!$A$4:$AI$155,6,FALSE)))","v":19300},{"$f":"IF($A22=\"\",\"\",IF(ISBLANK($A22),\"\",VLOOKUP($A22,Data!$A$4:$AI$155,7,FALSE)))","v":31},{"$f":"IF($A22=\"\",\"\",IF(ISBLANK($A22),\"\",VLOOKUP($A22,Data!$A$4:$AR$155,44,FALSE)))","v":0.7},{"$f":"IF($A22=\"\",\"\",IF(ISBLANK($A22),\"\",VLOOKUP($A22,Data!$A$4:$AI$155,8,FALSE)))","v":0.28999999999999998}]
[837,{"$f":"IF($A23=\"\",\"\",IF(ISBLANK($A23),\"\",INDEX('LEA Nos codes'!$A$3:$A$154,MATCH($A23,'LEA Nos codes'!$B$3:$B$154,0))))","v":"Bournemouth"},{"$f":"IF($A23=\"\",\"\",IF(ISBLANK($A23),\"\",VLOOKUP($A23,Data!$A$4:$V$155,3,FALSE)))","v":4.8499999999999996},{"$f":"IF($A23=\"\",\"\",IF(ISBLANK($A23),\"\",VLOOKUP($A23,Data!$A$4:$AQ$155,43,FALSE)))","v":4.88},{"$f":"IF($A23=\"\",\"\",IF(ISBLANK($A23),\"\",VLOOKUP($A23,Data!$A$4:$V$155,4,FALSE)))","v":4.05},{"$f":"IF($A23=\"\",\"\",IF(ISBLANK($A23),\"\",VLOOKUP($A23,Data!$A$4:$V$155,5,FALSE)))","v":0.75},{"$f":"IF($A23=\"\",\"\",IF(ISBLANK($A23),\"\",VLOOKUP($A23,Data!$A$4:$AP$155,42,FALSE)))","v":0.43},{"$f":"IF($A23=\"\",\"\",IF(ISBLANK($A23),\"\",VLOOKUP($A23,Data!$A$4:$AS$155,45,FALSE)))","v":0.48},{"$f":"IF($A23=\"\",\"\",IF(ISBLANK($A23),\"\",VLOOKUP($A23,Data!$A$4:$AI$155,35,FALSE)))","v":0.99},{"$f":"IF($A23=\"\",\"\",IF(ISBLANK($A23),\"\",VLOOKUP($A23,Data!$A$4:$AM$155,37,FALSE)))","v":0.56999999999999995},{"$f":"IF($A23=\"\",\"\",IF(ISBLANK($A23),\"\",VLOOKUP($A23,Data!$A$4:$AM$155,38,FALSE)))","v":0.18},{"$f":"IF($A23=\"\",\"\",IF(ISBLANK($A23),\"\",VLOOKUP($A23,Data!$A$4:$AM$155,39,FALSE)))","v":0.29199999999999998},{"$f":"IF($A23=\"\",\"\",IF(ISBLANK($A23),\"\",VLOOKUP($A23,Data!$A$4:$AI$155,6,FALSE)))","v":10900},{"$f":"IF($A23=\"\",\"\",IF(ISBLANK($A23),\"\",VLOOKUP($A23,Data!$A$4:$AI$155,7,FALSE)))","v":72},{"$f":"IF($A23=\"\",\"\",IF(ISBLANK($A23),\"\",VLOOKUP($A23,Data!$A$4:$AR$155,44,FALSE)))","v":0.36},{"$f":"IF($A23=\"\",\"\",IF(ISBLANK($A23),\"\",VLOOKUP($A23,Data!$A$4:$AI$155,8,FALSE)))","v":0.64}]
[867,{"$f":"IF($A24=\"\",\"\",IF(ISBLANK($A24),\"\",INDEX('LEA Nos codes'!$A$3:$A$154,MATCH($A24,'LEA Nos codes'!$B$3:$B$154,0))))","v":"Bracknell Forest"},{"$f":"IF($A24=\"\",\"\",IF(ISBLANK($A24),\"\",VLOOKUP($A24,Data!$A$4:$V$155,3,FALSE)))","v":5.46},{"$f":"IF($A24=\"\",\"\",IF(ISBLANK($A24),\"\",VLOOKUP($A24,Data!$A$4:$AQ$155,43,FALSE)))","v":5.49},{"$f":"IF($A24=\"\",\"\",IF(ISBLANK($A24),\"\",VLOOKUP($A24,Data!$A$4:$V$155,4,FALSE)))","v":3.85},{"$f":"IF($A24=\"\",\"\",IF(ISBLANK($A24),\"\",VLOOKUP($A24,Data!$A$4:$V$155,5,FALSE)))","v":0.87},{"$f":"IF($A24=\"\",\"\",IF(ISBLANK($A24),\"\",VLOOKUP($A24,Data!$A$4:$AP$155,42,FALSE)))","v":0.27},{"$f":"IF($A24=\"\",\"\",IF(ISBLANK($A24),\"\",VLOOKUP($A24,Data!$A$4:$AS$155,45,FALSE)))","v":0.28999999999999998},{"$f":"IF($A24=\"\",\"\",IF(ISBLANK($A24),\"\",VLOOKUP($A24,Data!$A$4:$AI$155,35,FALSE)))","v":0.91},{"$f":"IF($A24=\"\",\"\",IF(ISBLANK($A24),\"\",VLOOKUP($A24,Data!$A$4:$AM$155,37,FALSE)))","v":0.57999999999999996},{"$f":"IF($A24=\"\",\"\",IF(ISBLANK($A24),\"\",VLOOKUP($A24,Data!$A$4:$AM$155,38,FALSE)))","v":0.26},{"$f":"IF($A24=\"\",\"\",IF(ISBLANK($A24),\"\",VLOOKUP($A24,Data!$A$4:$AM$155,39,FALSE)))","v":0.27300000000000002},{"$f":"IF($A24=\"\",\"\",IF(ISBLANK($A24),\"\",VLOOKUP($A24,Data!$A$4:$AI$155,6,FALSE)))","v":8200},{"$f":"IF($A24=\"\",\"\",IF(ISBLANK($A24),\"\",VLOOKUP($A24,Data!$A$4:$AI$155,7,FALSE)))","v":145},{"$f":"IF($A24=\"\",\"\",IF(ISBLANK($A24),\"\",VLOOKUP($A24,Data!$A$4:$AR$155,44,FALSE)))","v":0.56000000000000005},{"$f":"IF($A24=\"\",\"\",IF(ISBLANK($A24),\"\",VLOOKUP($A24,Data!$A$4:$AI$155,8,FALSE)))","v":0.43}]
[380,{"$f":"IF($A25=\"\",\"\",IF(ISBLANK($A25),\"\",INDEX('LEA Nos codes'!$A$3:$A$154,MATCH($A25,'LEA Nos codes'!$B$3:$B$154,0))))","v":"Bradford"},{"$f":"IF($A25=\"\",\"\",IF(ISBLANK($A25),\"\",VLOOKUP($A25,Data!$A$4:$V$155,3,FALSE)))","v":"."},{"$f":"IF($A25=\"\",\"\",IF(ISBLANK($A25),\"\",VLOOKUP($A25,Data!$A$4:$AQ$155,43,FALSE)))","v":4.8499999999999996},{"$f":"IF($A25=\"\",\"\",IF(ISBLANK($A25),\"\",VLOOKUP($A25,Data!$A$4:$V$155,4,FALSE)))","v":5.18},{"$f":"IF($A25=\"\",\"\",IF(ISBLANK($A25),\"\",VLOOKUP($A25,Data!$A$4:$V$155,5,FALSE)))","v":0.71},{"$f":"IF($A25=\"\",\"\",IF(ISBLANK($A25),\"\",VLOOKUP($A25,Data!$A$4:$AP$155,42,FALSE)))","v":0.46},{"$f":"IF($A25=\"\",\"\",IF(ISBLANK($A25),\"\",VLOOKUP($A25,Data!$A$4:$AS$155,45,FALSE)))","v":0.54},{"$f":"IF($A25=\"\",\"\",IF(ISBLANK($A25),\"\",VLOOKUP($A25,Data!$A$4:$AI$155,35,FALSE)))","v":0.95},{"$f":"IF($A25=\"\",\"\",IF(ISBLANK($A25),\"\",VLOOKUP($A25,Data!$A$4:$AM$155,37,FALSE)))","v":0.49},{"$f":"IF($A25=\"\",\"\",IF(ISBLANK($A25),\"\",VLOOKUP($A25,Data!$A$4:$AM$155,38,FALSE)))","v":0.16},{"$f":"IF($A25=\"\",\"\",IF(ISBLANK($A25),\"\",VLOOKUP($A25,Data!$A$4:$AM$155,39,FALSE)))","v":0.42599999999999999},{"$f":"IF($A25=\"\",\"\",IF(ISBLANK($A25),\"\",VLOOKUP($A25,Data!$A$4:$AI$155,6,FALSE)))","v":41400},{"$f":"IF($A25=\"\",\"\",IF(ISBLANK($A25),\"\",VLOOKUP($A25,Data!$A$4:$AI$155,7,FALSE)))","v":24},{"$f":"IF($A25=\"\",\"\",IF(ISBLANK($A25),\"\",VLOOKUP($A25,Data!$A$4:$AR$155,44,FALSE)))","v":0.77},{"$f":"IF($A25=\"\",\"\",IF(ISBLANK($A25),\"\",VLOOKUP($A25,Data!$A$4:$AI$155,8,FALSE)))","v":0.22}]
[304,{"$f":"IF($A26=\"\",\"\",IF(ISBLANK($A26),\"\",INDEX('LEA Nos codes'!$A$3:$A$154,MATCH($A26,'LEA Nos codes'!$B$3:$B$154,0))))","v":"Brent"},{"$f":"IF($A26=\"\",\"\",IF(ISBLANK($A26),\"\",VLOOKUP($A26,Data!$A$4:$V$155,3,FALSE)))","v":6},{"$f":"IF($A26=\"\",\"\",IF(ISBLANK($A26),\"\",VLOOKUP($A26,Data!$A$4:$AQ$155,43,FALSE)))","v":5.53},{"$f":"IF($A26=\"\",\"\",IF(ISBLANK($A26),\"\",VLOOKUP($A26,Data!$A$4:$V$155,4,FALSE)))","v":4.51},{"$f":"IF($A26=\"\",\"\",IF(ISBLANK($A26),\"\",VLOOKUP($A26,Data!$A$4:$V$155,5,FALSE)))","v":0.64},{"$f":"IF($A26=\"\",\"\",IF(ISBLANK($A26),\"\",VLOOKUP($A26,Data!$A$4:$AP$155,42,FALSE)))","v":0.54},{"$f":"IF($A26=\"\",\"\",IF(ISBLANK($A26),\"\",VLOOKUP($A26,Data!$A$4:$AS$155,45,FALSE)))","v":0.53},{"$f":"IF($A26=\"\",\"\",IF(ISBLANK($A26),\"\",VLOOKUP($A26,Data!$A$4:$AI$155,35,FALSE)))","v":0.89},{"$f":"IF($A26=\"\",\"\",IF(ISBLANK($A26),\"\",VLOOKUP($A26,Data!$A$4:$AM$155,37,FALSE)))","v":0.56000000000000005},{"$f":"IF($A26=\"\",\"\",IF(ISBLANK($A26),\"\",VLOOKUP($A26,Data!$A$4:$AM$155,38,FALSE)))","v":0.04},{"$f":"IF($A26=\"\",\"\",IF(ISBLANK($A26),\"\",VLOOKUP($A26,Data!$A$4:$AM$155,39,FALSE)))","v":0.33500000000000002},{"$f":"IF($A26=\"\",\"\",IF(ISBLANK($A26),\"\",VLOOKUP($A26,Data!$A$4:$AI$155,6,FALSE)))","v":23200},{"$f":"IF($A26=\"\",\"\",IF(ISBLANK($A26),\"\",VLOOKUP($A26,Data!$A$4:$AI$155,7,FALSE)))","v":30},{"$f":"IF($A26=\"\",\"\",IF(ISBLANK($A26),\"\",VLOOKUP($A26,Data!$A$4:$AR$155,44,FALSE)))","v":0.66},{"$f":"IF($A26=\"\",\"\",IF(ISBLANK($A26),\"\",VLOOKUP($A26,Data!$A$4:$AI$155,8,FALSE)))","v":0.32}]
[846,{"$f":"IF($A27=\"\",\"\",IF(ISBLANK($A27),\"\",INDEX('LEA Nos codes'!$A$3:$A$154,MATCH($A27,'LEA Nos codes'!$B$3:$B$154,0))))","v":"Brighton and Hove"},{"$f":"IF($A27=\"\",\"\",IF(ISBLANK($A27),\"\",VLOOKUP($A27,Data!$A$4:$V$155,3,FALSE)))","v":6.23},{"$f":"IF($A27=\"\",\"\",IF(ISBLANK($A27),\"\",VLOOKUP($A27,Data!$A$4:$AQ$155,43,FALSE)))","v":4.8499999999999996},{"$f":"IF($A27=\"\",\"\",IF(ISBLANK($A27),\"\",VLOOKUP($A27,Data!$A$4:$V$155,4,FALSE)))","v":4.1500000000000004},{"$f":"IF($A27=\"\",\"\",IF(ISBLANK($A27),\"\",VLOOKUP($A27,Data!$A$4:$V$155,5,FALSE)))","v":0.87},{"$f":"IF($A27=\"\",\"\",IF(ISBLANK($A27),\"\",VLOOKUP($A27,Data!$A$4:$AP$155,42,FALSE)))","v":0.59},{"$f":"IF($A27=\"\",\"\",IF(ISBLANK($A27),\"\",VLOOKUP($A27,Data!$A$4:$AS$155,45,FALSE)))","v":0.65},{"$f":"IF($A27=\"\",\"\",IF(ISBLANK($A27),\"\",VLOOKUP($A27,Data!$A$4:$AI$155,35,FALSE)))","v":1.03},{"$f":"IF($A27=\"\",\"\",IF(ISBLANK($A27),\"\",VLOOKUP($A27,Data!$A$4:$AM$155,37,FALSE)))","v":0.45},{"$f":"IF($A27=\"\",\"\",IF(ISBLANK($A27),\"\",VLOOKUP($A27,Data!$A$4:$AM$155,38,FALSE)))","v":0.22},{"$f":"IF($A27=\"\",\"\",IF(ISBLANK($A27),\"\",VLOOKUP($A27,Data!$A$4:$AM$155,39,FALSE)))","v":0.32600000000000001},{"$f":"IF($A27=\"\",\"\",IF(ISBLANK($A27),\"\",VLOOKUP($A27,Data!$A$4:$AI$155,6,FALSE)))","v":15300},{"$f":"IF($A27=\"\",\"\",IF(ISBLANK($A27),\"\",VLOOKUP($A27,Data!$A$4:$AI$155,7,FALSE)))","v":53},{"$f":"IF($A27=\"\",\"\",IF(ISBLANK($A27),\"\",VLOOKUP($A27,Data!$A$4:$AR$155,44,FALSE)))","v":0.46},{"$f":"IF($A27=\"\",\"\",IF(ISBLANK($A27),\"\",VLOOKUP($A27,Data!$A$4:$AI$155,8,FALSE)))","v":0.54}]
[305,{"$f":"IF($A28=\"\",\"\",IF(ISBLANK($A28),\"\",INDEX('LEA Nos codes'!$A$3:$A$154,MATCH($A28,'LEA Nos codes'!$B$3:$B$154,0))))","v":"Bromley"},{"$f":"IF($A28=\"\",\"\",IF(ISBLANK($A28),\"\",VLOOKUP($A28,Data!$A$4:$V$155,3,FALSE)))","v":6.38},{"$f":"IF($A28=\"\",\"\",IF(ISBLANK($A28),\"\",VLOOKUP($A28,Data!$A$4:$AQ$155,43,FALSE)))","v":5.28},{"$f":"IF($A28=\"\",\"\",IF(ISBLANK($A28),\"\",VLOOKUP($A28,Data!$A$4:$V$155,4,FALSE)))","v":4.03},{"$f":"IF($A28=\"\",\"\",IF(ISBLANK($A28),\"\",VLOOKUP($A28,Data!$A$4:$V$155,5,FALSE)))","v":0.89},{"$f":"IF($A28=\"\",\"\",IF(ISBLANK($A28),\"\",VLOOKUP($A28,Data!$A$4:$AP$155,42,FALSE)))","v":0.42},{"$f":"IF($A28=\"\",\"\",IF(ISBLANK($A28),\"\",VLOOKUP($A28,Data!$A$4:$AS$155,45,FALSE)))","v":0.49},{"$f":"IF($A28=\"\",\"\",IF(ISBLANK($A28),\"\",VLOOKUP($A28,Data!$A$4:$AI$155,35,FALSE)))","v":0.99},{"$f":"IF($A28=\"\",\"\",IF(ISBLANK($A28),\"\",VLOOKUP($A28,Data!$A$4:$AM$155,37,FALSE)))","v":0.61},{"$f":"IF($A28=\"\",\"\",IF(ISBLANK($A28),\"\",VLOOKUP($A28,Data!$A$4:$AM$155,38,FALSE)))","v":0.25},{"$f":"IF($A28=\"\",\"\",IF(ISBLANK($A28),\"\",VLOOKUP($A28,Data!$A$4:$AM$155,39,FALSE)))","v":0.313},{"$f":"IF($A28=\"\",\"\",IF(ISBLANK($A28),\"\",VLOOKUP($A28,Data!$A$4:$AI$155,6,FALSE)))","v":20800},{"$f":"IF($A28=\"\",\"\",IF(ISBLANK($A28),\"\",VLOOKUP($A28,Data!$A$4:$AI$155,7,FALSE)))","v":123},{"$f":"IF($A28=\"\",\"\",IF(ISBLANK($A28),\"\",VLOOKUP($A28,Data!$A$4:$AR$155,44,FALSE)))","v":0.39},{"$f":"IF($A28=\"\",\"\",IF(ISBLANK($A28),\"\",VLOOKUP($A28,Data!$A$4:$AI$155,8,FALSE)))","v":0.61}]
[825,{"$f":"IF($A29=\"\",\"\",IF(ISBLANK($A29),\"\",INDEX('LEA Nos codes'!$A$3:$A$154,MATCH($A29,'LEA Nos codes'!$B$3:$B$154,0))))","v":"Buckinghamshire"},{"$f":"IF($A29=\"\",\"\",IF(ISBLANK($A29),\"\",VLOOKUP($A29,Data!$A$4:$V$155,3,FALSE)))","v":5.31},{"$f":"IF($A29=\"\",\"\",IF(ISBLANK($A29),\"\",VLOOKUP($A29,Data!$A$4:$AQ$155,43,FALSE)))","v":5.33},{"$f":"IF($A29=\"\",\"\",IF(ISBLANK($A29),\"\",VLOOKUP($A29,Data!$A$4:$V$155,4,FALSE)))","v":4.21},{"$f":"IF($A29=\"\",\"\",IF(ISBLANK($A29),\"\",VLOOKUP($A29,Data!$A$4:$V$155,5,FALSE)))","v":0.81},{"$f":"IF($A29=\"\",\"\",IF(ISBLANK($A29),\"\",VLOOKUP($A29,Data!$A$4:$AP$155,42,FALSE)))","v":0.4},{"$f":"IF($A29=\"\",\"\",IF(ISBLANK($A29),\"\",VLOOKUP($A29,Data!$A$4:$AS$155,45,FALSE)))","v":0.41},{"$f":"IF($A29=\"\",\"\",IF(ISBLANK($A29),\"\",VLOOKUP($A29,Data!$A$4:$AI$155,35,FALSE)))","v":0.96},{"$f":"IF($A29=\"\",\"\",IF(ISBLANK($A29),\"\",VLOOKUP($A29,Data!$A$4:$AM$155,37,FALSE)))","v":0.55000000000000004},{"$f":"IF($A29=\"\",\"\",IF(ISBLANK($A29),\"\",VLOOKUP($A29,Data!$A$4:$AM$155,38,FALSE)))","v":0.25},{"$f":"IF($A29=\"\",\"\",IF(ISBLANK($A29),\"\",VLOOKUP($A29,Data!$A$4:$AM$155,39,FALSE)))","v":0.32600000000000001},{"$f":"IF($A29=\"\",\"\",IF(ISBLANK($A29),\"\",VLOOKUP($A29,Data!$A$4:$AI$155,6,FALSE)))","v":32700},{"$f":"IF($A29=\"\",\"\",IF(ISBLANK($A29),\"\",VLOOKUP($A29,Data!$A$4:$AI$155,7,FALSE)))","v":142},{"$f":"IF($A29=\"\",\"\",IF(ISBLANK($A29),\"\",VLOOKUP($A29,Data!$A$4:$AR$155,44,FALSE)))","v":0.48},{"$f":"IF($A29=\"\",\"\",IF(ISBLANK($A29),\"\",VLOOKUP($A29,Data!$A$4:$AI$155,8,FALSE)))","v":0.51}]
[351,{"$f":"IF($A30=\"\",\"\",IF(ISBLANK($A30),\"\",INDEX('LEA Nos codes'!$A$3:$A$154,MATCH($A30,'LEA Nos codes'!$B$3:$B$154,0))))","v":"Bury"},{"$f":"IF($A30=\"\",\"\",IF(ISBLANK($A30),\"\",VLOOKUP($A30,Data!$A$4:$V$155,3,FALSE)))","v":6.79},{"$f":"IF($A30=\"\",\"\",IF(ISBLANK($A30),\"\",VLOOKUP($A30,Data!$A$4:$AQ$155,43,FALSE)))","v":4.95},{"$f":"IF($A30=\"\",\"\",IF(ISBLANK($A30),\"\",VLOOKUP($A30,Data!$A$4:$V$155,4,FALSE)))","v":3.61},{"$f":"IF($A30=\"\",\"\",IF(ISBLANK($A30),\"\",VLOOKUP($A30,Data!$A$4:$V$155,5,FALSE)))","v":0.61},{"$f":"IF($A30=\"\",\"\",IF(ISBLANK($A30),\"\",VLOOKUP($A30,Data!$A$4:$AP$155,42,FALSE)))","v":0.46},{"$f":"IF($A30=\"\",\"\",IF(ISBLANK($A30),\"\",VLOOKUP($A30,Data!$A$4:$AS$155,45,FALSE)))","v":0.52},{"$f":"IF($A30=\"\",\"\",IF(ISBLANK($A30),\"\",VLOOKUP($A30,Data!$A$4:$AI$155,35,FALSE)))","v":0.96},{"$f":"IF($A30=\"\",\"\",IF(ISBLANK($A30),\"\",VLOOKUP($A30,Data!$A$4:$AM$155,37,FALSE)))","v":0.51},{"$f":"IF($A30=\"\",\"\",IF(ISBLANK($A30),\"\",VLOOKUP($A30,Data!$A$4:$AM$155,38,FALSE)))","v":0.24},{"$f":"IF($A30=\"\",\"\",IF(ISBLANK($A30),\"\",VLOOKUP($A30,Data!$A$4:$AM$155,39,FALSE)))","v":0.38700000000000001},{"$f":"IF($A30=\"\",\"\",IF(ISBLANK($A30),\"\",VLOOKUP($A30,Data!$A$4:$AI$155,6,FALSE)))","v":12600},{"$f":"IF($A30=\"\",\"\",IF(ISBLANK($A30),\"\",VLOOKUP($A30,Data!$A$4:$AI$155,7,FALSE)))","v":81},{"$f":"IF($A30=\"\",\"\",IF(ISBLANK($A30),\"\",VLOOKUP($A30,Data!$A$4:$AR$155,44,FALSE)))","v":0.66},{"$f":"IF($A30=\"\",\"\",IF(ISBLANK($A30),\"\",VLOOKUP($A30,Data!$A$4:$AI$155,8,FALSE)))","v":0.33}]
[381,{"$f":"IF($A31=\"\",\"\",IF(ISBLANK($A31),\"\",INDEX('LEA Nos codes'!$A$3:$A$154,MATCH($A31,'LEA Nos codes'!$B$3:$B$154,0))))","v":"Calderdale"},{"$f":"IF($A31=\"\",\"\",IF(ISBLANK($A31),\"\",VLOOKUP($A31,Data!$A$4:$V$155,3,FALSE)))","v":5.19},{"$f":"IF($A31=\"\",\"\",IF(ISBLANK($A31),\"\",VLOOKUP($A31,Data!$A$4:$AQ$155,43,FALSE)))","v":4.8499999999999996},{"$f":"IF($A31=\"\",\"\",IF(ISBLANK($A31),\"\",VLOOKUP($A31,Data!$A$4:$V$155,4,FALSE)))","v":4.0199999999999996},{"$f":"IF($A31=\"\",\"\",IF(ISBLANK($A31),\"\",VLOOKUP($A31,Data!$A$4:$V$155,5,FALSE)))","v":0.69},{"$f":"IF($A31=\"\",\"\",IF(ISBLANK($A31),\"\",VLOOKUP($A31,Data!$A$4:$AP$155,42,FALSE)))","v":0.01},{"$f":"IF($A31=\"\",\"\",IF(ISBLANK($A31),\"\",VLOOKUP($A31,Data!$A$4:$AS$155,45,FALSE)))","v":0.01},{"$f":"IF($A31=\"\",\"\",IF(ISBLANK($A31),\"\",VLOOKUP($A31,Data!$A$4:$AI$155,35,FALSE)))","v":1.03},{"$f":"IF($A31=\"\",\"\",IF(ISBLANK($A31),\"\",VLOOKUP($A31,Data!$A$4:$AM$155,37,FALSE)))","v":0.45},{"$f":"IF($A31=\"\",\"\",IF(ISBLANK($A31),\"\",VLOOKUP($A31,Data!$A$4:$AM$155,38,FALSE)))","v":0.2},{"$f":"IF($A31=\"\",\"\",IF(ISBLANK($A31),\"\",VLOOKUP($A31,Data!$A$4:$AM$155,39,FALSE)))","v":0.36799999999999999},{"$f":"IF($A31=\"\",\"\",IF(ISBLANK($A31),\"\",VLOOKUP($A31,Data!$A$4:$AI$155,6,FALSE)))","v":13100},{"$f":"IF($A31=\"\",\"\",IF(ISBLANK($A31),\"\",VLOOKUP($A31,Data!$A$4:$AI$155,7,FALSE)))","v":75},{"$f":"IF($A31=\"\",\"\",IF(ISBLANK($A31),\"\",VLOOKUP($A31,Data!$A$4:$AR$155,44,FALSE)))","v":0.6},{"$f":"IF($A31=\"\",\"\",IF(ISBLANK($A31),\"\",VLOOKUP($A31,Data!$A$4:$AI$155,8,FALSE)))","v":0.4}]
[873,{"$f":"IF($A32=\"\",\"\",IF(ISBLANK($A32),\"\",INDEX('LEA Nos codes'!$A$3:$A$154,MATCH($A32,'LEA Nos codes'!$B$3:$B$154,0))))","v":"Cambridgeshire"},{"$f":"IF($A32=\"\",\"\",IF(ISBLANK($A32),\"\",VLOOKUP($A32,Data!$A$4:$V$155,3,FALSE)))","v":5.36},{"$f":"IF($A32=\"\",\"\",IF(ISBLANK($A32),\"\",VLOOKUP($A32,Data!$A$4:$AQ$155,43,FALSE)))","v":5.05},{"$f":"IF($A32=\"\",\"\",IF(ISBLANK($A32),\"\",VLOOKUP($A32,Data!$A$4:$V$155,4,FALSE)))","v":4.25},{"$f":"IF($A32=\"\",\"\",IF(ISBLANK($A32),\"\",VLOOKUP($A32,Data!$A$4:$V$155,5,FALSE)))","v":0.79},{"$f":"IF($A32=\"\",\"\",IF(ISBLANK($A32),\"\",VLOOKUP($A32,Data!$A$4:$AP$155,42,FALSE)))","v":0.31},{"$f":"IF($A32=\"\",\"\",IF(ISBLANK($A32),\"\",VLOOKUP($A32,Data!$A$4:$AS$155,45,FALSE)))","v":0.31},{"$f":"IF($A32=\"\",\"\",IF(ISBLANK($A32),\"\",VLOOKUP($A32,Data!$A$4:$AI$155,35,FALSE)))","v":0.95},{"$f":"IF($A32=\"\",\"\",IF(ISBLANK($A32),\"\",VLOOKUP($A32,Data!$A$4:$AM$155,37,FALSE)))","v":0.51},{"$f":"IF($A32=\"\",\"\",IF(ISBLANK($A32),\"\",VLOOKUP($A32,Data!$A$4:$AM$155,38,FALSE)))","v":0.22},{"$f":"IF($A32=\"\",\"\",IF(ISBLANK($A32),\"\",VLOOKUP($A32,Data!$A$4:$AM$155,39,FALSE)))","v":0.33899999999999997},{"$f":"IF($A32=\"\",\"\",IF(ISBLANK($A32),\"\",VLOOKUP($A32,Data!$A$4:$AI$155,6,FALSE)))","v":37800},{"$f":"IF($A32=\"\",\"\",IF(ISBLANK($A32),\"\",VLOOKUP($A32,Data!$A$4:$AI$155,7,FALSE)))","v":132},{"$f":"IF($A32=\"\",\"\",IF(ISBLANK($A32),\"\",VLOOKUP($A32,Data!$A$4:$AR$155,44,FALSE)))","v":0.45},{"$f":"IF($A32=\"\",\"\",IF(ISBLANK($A32),\"\",VLOOKUP($A32,Data!$A$4:$AI$155,8,FALSE)))","v":0.55000000000000004}]
[202,{"$f":"IF($A33=\"\",\"\",IF(ISBLANK($A33),\"\",INDEX('LEA Nos codes'!$A$3:$A$154,MATCH($A33,'LEA Nos codes'!$B$3:$B$154,0))))","v":"Camden"},{"$f":"IF($A33=\"\",\"\",IF(ISBLANK($A33),\"\",VLOOKUP($A33,Data!$A$4:$V$155,3,FALSE)))","v":9.1},{"$f":"IF($A33=\"\",\"\",IF(ISBLANK($A33),\"\",VLOOKUP($A33,Data!$A$4:$AQ$155,43,FALSE)))","v":6.07},{"$f":"IF($A33=\"\",\"\",IF(ISBLANK($A33),\"\",VLOOKUP($A33,Data!$A$4:$V$155,4,FALSE)))","v":6.27},{"$f":"IF($A33=\"\",\"\",IF(ISBLANK($A33),\"\",VLOOKUP($A33,Data!$A$4:$V$155,5,FALSE)))","v":0.73},{"$f":"IF($A33=\"\",\"\",IF(ISBLANK($A33),\"\",VLOOKUP($A33,Data!$A$4:$AP$155,42,FALSE)))","v":0.64},{"$f":"IF($A33=\"\",\"\",IF(ISBLANK($A33),\"\",VLOOKUP($A33,Data!$A$4:$AS$155,45,FALSE)))","v":0.74},{"$f":"IF($A33=\"\",\"\",IF(ISBLANK($A33),\"\",VLOOKUP($A33,Data!$A$4:$AI$155,35,FALSE)))","v":0.82},{"$f":"IF($A33=\"\",\"\",IF(ISBLANK($A33),\"\",VLOOKUP($A33,Data!$A$4:$AM$155,37,FALSE)))","v":0.47},{"$f":"IF($A33=\"\",\"\",IF(ISBLANK($A33),\"\",VLOOKUP($A33,Data!$A$4:$AM$155,38,FALSE)))","v":0.19},{"$f":"IF($A33=\"\",\"\",IF(ISBLANK($A33),\"\",VLOOKUP($A33,Data!$A$4:$AM$155,39,FALSE)))","v":0.36799999999999999},{"$f":"IF($A33=\"\",\"\",IF(ISBLANK($A33),\"\",VLOOKUP($A33,Data!$A$4:$AI$155,6,FALSE)))","v":13800},{"$f":"IF($A33=\"\",\"\",IF(ISBLANK($A33),\"\",VLOOKUP($A33,Data!$A$4:$AI$155,7,FALSE)))","v":59},{"$f":"IF($A33=\"\",\"\",IF(ISBLANK($A33),\"\",VLOOKUP($A33,Data!$A$4:$AR$155,44,FALSE)))","v":0.55000000000000004},{"$f":"IF($A33=\"\",\"\",IF(ISBLANK($A33),\"\",VLOOKUP($A33,Data!$A$4:$AI$155,8,FALSE)))","v":0.44}]
[823,{"$f":"IF($A34=\"\",\"\",IF(ISBLANK($A34),\"\",INDEX('LEA Nos codes'!$A$3:$A$154,MATCH($A34,'LEA Nos codes'!$B$3:$B$154,0))))","v":"Central Bedfordshire"},{"$f":"IF($A34=\"\",\"\",IF(ISBLANK($A34),\"\",VLOOKUP($A34,Data!$A$4:$V$155,3,FALSE)))","v":"."},{"$f":"IF($A34=\"\",\"\",IF(ISBLANK($A34),\"\",VLOOKUP($A34,Data!$A$4:$AQ$155,43,FALSE)))","v":5.03},{"$f":"IF($A34=\"\",\"\",IF(ISBLANK($A34),\"\",VLOOKUP($A34,Data!$A$4:$V$155,4,FALSE)))","v":4.04},{"$f":"IF($A34=\"\",\"\",IF(ISBLANK($A34),\"\",VLOOKUP($A34,Data!$A$4:$V$155,5,FALSE)))","v":0.85},{"$f":"IF($A34=\"\",\"\",IF(ISBLANK($A34),\"\",VLOOKUP($A34,Data!$A$4:$AP$155,42,FALSE)))","v":0.38},{"$f":"IF($A34=\"\",\"\",IF(ISBLANK($A34),\"\",VLOOKUP($A34,Data!$A$4:$AS$155,45,FALSE)))","v":0.4},{"$f":"IF($A34=\"\",\"\",IF(ISBLANK($A34),\"\",VLOOKUP($A34,Data!$A$4:$AI$155,35,FALSE)))","v":1.01},{"$f":"IF($A34=\"\",\"\",IF(ISBLANK($A34),\"\",VLOOKUP($A34,Data!$A$4:$AM$155,37,FALSE)))","v":0.49},{"$f":"IF($A34=\"\",\"\",IF(ISBLANK($A34),\"\",VLOOKUP($A34,Data!$A$4:$AM$155,38,FALSE)))","v":0.23},{"$f":"IF($A34=\"\",\"\",IF(ISBLANK($A34),\"\",VLOOKUP($A34,Data!$A$4:$AM$155,39,FALSE)))","v":0.29499999999999998},{"$f":"IF($A34=\"\",\"\",IF(ISBLANK($A34),\"\",VLOOKUP($A34,Data!$A$4:$AI$155,6,FALSE)))","v":16600},{"$f":"IF($A34=\"\",\"\",IF(ISBLANK($A34),\"\",VLOOKUP($A34,Data!$A$4:$AI$155,7,FALSE)))","v":130},{"$f":"IF($A34=\"\",\"\",IF(ISBLANK($A34),\"\",VLOOKUP($A34,Data!$A$4:$AR$155,44,FALSE)))","v":0.57999999999999996},{"$f":"IF($A34=\"\",\"\",IF(ISBLANK($A34),\"\",VLOOKUP($A34,Data!$A$4:$AI$155,8,FALSE)))","v":0.42}]
[895,{"$f":"IF($A35=\"\",\"\",IF(ISBLANK($A35),\"\",INDEX('LEA Nos codes'!$A$3:$A$154,MATCH($A35,'LEA Nos codes'!$B$3:$B$154,0))))","v":"Cheshire East"},{"$f":"IF($A35=\"\",\"\",IF(ISBLANK($A35),\"\",VLOOKUP($A35,Data!$A$4:$V$155,3,FALSE)))","v":4.8499999999999996},{"$f":"IF($A35=\"\",\"\",IF(ISBLANK($A35),\"\",VLOOKUP($A35,Data!$A$4:$AQ$155,43,FALSE)))","v":4.93},{"$f":"IF($A35=\"\",\"\",IF(ISBLANK($A35),\"\",VLOOKUP($A35,Data!$A$4:$V$155,4,FALSE)))","v":3.66},{"$f":"IF($A35=\"\",\"\",IF(ISBLANK($A35),\"\",VLOOKUP($A35,Data!$A$4:$V$155,5,FALSE)))","v":0.76},{"$f":"IF($A35=\"\",\"\",IF(ISBLANK($A35),\"\",VLOOKUP($A35,Data!$A$4:$AP$155,42,FALSE)))","v":0.54},{"$f":"IF($A35=\"\",\"\",IF(ISBLANK($A35),\"\",VLOOKUP($A35,Data!$A$4:$AS$155,45,FALSE)))","v":0.56000000000000005},{"$f":"IF($A35=\"\",\"\",IF(ISBLANK($A35),\"\",VLOOKUP($A35,Data!$A$4:$AI$155,35,FALSE)))","v":1.04},{"$f":"IF($A35=\"\",\"\",IF(ISBLANK($A35),\"\",VLOOKUP($A35,Data!$A$4:$AM$155,37,FALSE)))","v":0.56000000000000005},{"$f":"IF($A35=\"\",\"\",IF(ISBLANK($A35),\"\",VLOOKUP($A35,Data!$A$4:$AM$155,38,FALSE)))","v":0.23},{"$f":"IF($A35=\"\",\"\",IF(ISBLANK($A35),\"\",VLOOKUP($A35,Data!$A$4:$AM$155,39,FALSE)))","v":0.35},{"$f":"IF($A35=\"\",\"\",IF(ISBLANK($A35),\"\",VLOOKUP($A35,Data!$A$4:$AI$155,6,FALSE)))","v":20400},{"$f":"IF($A35=\"\",\"\",IF(ISBLANK($A35),\"\",VLOOKUP($A35,Data!$A$4:$AI$155,7,FALSE)))","v":121},{"$f":"IF($A35=\"\",\"\",IF(ISBLANK($A35),\"\",VLOOKUP($A35,Data!$A$4:$AR$155,44,FALSE)))","v":0.43},{"$f":"IF($A35=\"\",\"\",IF(ISBLANK($A35),\"\",VLOOKUP($A35,Data!$A$4:$AI$155,8,FALSE)))","v":0.56999999999999995}]
[896,{"$f":"IF($A36=\"\",\"\",IF(ISBLANK($A36),\"\",INDEX('LEA Nos codes'!$A$3:$A$154,MATCH($A36,'LEA Nos codes'!$B$3:$B$154,0))))","v":"Cheshire West and Chester"},{"$f":"IF($A36=\"\",\"\",IF(ISBLANK($A36),\"\",VLOOKUP($A36,Data!$A$4:$V$155,3,FALSE)))","v":4.8499999999999996},{"$f":"IF($A36=\"\",\"\",IF(ISBLANK($A36),\"\",VLOOKUP($A36,Data!$A$4:$AQ$155,43,FALSE)))","v":4.93},{"$f":"IF($A36=\"\",\"\",IF(ISBLANK($A36),\"\",VLOOKUP($A36,Data!$A$4:$V$155,4,FALSE)))","v":3.83},{"$f":"IF($A36=\"\",\"\",IF(ISBLANK($A36),\"\",VLOOKUP($A36,Data!$A$4:$V$155,5,FALSE)))","v":0.74},{"$f":"IF($A36=\"\",\"\",IF(ISBLANK($A36),\"\",VLOOKUP($A36,Data!$A$4:$AP$155,42,FALSE)))","v":0.5},{"$f":"IF($A36=\"\",\"\",IF(ISBLANK($A36),\"\",VLOOKUP($A36,Data!$A$4:$AS$155,45,FALSE)))","v":0.6},{"$f":"IF($A36=\"\",\"\",IF(ISBLANK($A36),\"\",VLOOKUP($A36,Data!$A$4:$AI$155,35,FALSE)))","v":1.05},{"$f":"IF($A36=\"\",\"\",IF(ISBLANK($A36),\"\",VLOOKUP($A36,Data!$A$4:$AM$155,37,FALSE)))","v":0.52},{"$f":"IF($A36=\"\",\"\",IF(ISBLANK($A36),\"\",VLOOKUP($A36,Data!$A$4:$AM$155,38,FALSE)))","v":0.25},{"$f":"IF($A36=\"\",\"\",IF(ISBLANK($A36),\"\",VLOOKUP($A36,Data!$A$4:$AM$155,39,FALSE)))","v":0.32},{"$f":"IF($A36=\"\",\"\",IF(ISBLANK($A36),\"\",VLOOKUP($A36,Data!$A$4:$AI$155,6,FALSE)))","v":18300},{"$f":"IF($A36=\"\",\"\",IF(ISBLANK($A36),\"\",VLOOKUP($A36,Data!$A$4:$AI$155,7,FALSE)))","v":121},{"$f":"IF($A36=\"\",\"\",IF(ISBLANK($A36),\"\",VLOOKUP($A36,Data!$A$4:$AR$155,44,FALSE)))","v":0.48},{"$f":"IF($A36=\"\",\"\",IF(ISBLANK($A36),\"\",VLOOKUP($A36,Data!$A$4:$AI$155,8,FALSE)))","v":0.51}]
[801,{"$f":"IF($A37=\"\",\"\",IF(ISBLANK($A37),\"\",INDEX('LEA Nos codes'!$A$3:$A$154,MATCH($A37,'LEA Nos codes'!$B$3:$B$154,0))))","v":"City of Bristol"},{"$f":"IF($A37=\"\",\"\",IF(ISBLANK($A37),\"\",VLOOKUP($A37,Data!$A$4:$V$155,3,FALSE)))","v":5.03},{"$f":"IF($A37=\"\",\"\",IF(ISBLANK($A37),\"\",VLOOKUP($A37,Data!$A$4:$AQ$155,43,FALSE)))","v":5.07},{"$f":"IF($A37=\"\",\"\",IF(ISBLANK($A37),\"\",VLOOKUP($A37,Data!$A$4:$V$155,4,FALSE)))","v":4.62},{"$f":"IF($A37=\"\",\"\",IF(ISBLANK($A37),\"\",VLOOKUP($A37,Data!$A$4:$V$155,5,FALSE)))","v":0.68},{"$f":"IF($A37=\"\",\"\",IF(ISBLANK($A37),\"\",VLOOKUP($A37,Data!$A$4:$AP$155,42,FALSE)))","v":0.73},{"$f":"IF($A37=\"\",\"\",IF(ISBLANK($A37),\"\",VLOOKUP($A37,Data!$A$4:$AS$155,45,FALSE)))","v":0.78},{"$f":"IF($A37=\"\",\"\",IF(ISBLANK($A37),\"\",VLOOKUP($A37,Data!$A$4:$AI$155,35,FALSE)))","v":0.92},{"$f":"IF($A37=\"\",\"\",IF(ISBLANK($A37),\"\",VLOOKUP($A37,Data!$A$4:$AM$155,37,FALSE)))","v":0.5},{"$f":"IF($A37=\"\",\"\",IF(ISBLANK($A37),\"\",VLOOKUP($A37,Data!$A$4:$AM$155,38,FALSE)))","v":0.21},{"$f":"IF($A37=\"\",\"\",IF(ISBLANK($A37),\"\",VLOOKUP($A37,Data!$A$4:$AM$155,39,FALSE)))","v":0.38600000000000001},{"$f":"IF($A37=\"\",\"\",IF(ISBLANK($A37),\"\",VLOOKUP($A37,Data!$A$4:$AI$155,6,FALSE)))","v":30700},{"$f":"IF($A37=\"\",\"\",IF(ISBLANK($A37),\"\",VLOOKUP($A37,Data!$A$4:$AI$155,7,FALSE)))","v":63},{"$f":"IF($A37=\"\",\"\",IF(ISBLANK($A37),\"\",VLOOKUP($A37,Data!$A$4:$AR$155,44,FALSE)))","v":0.64},{"$f":"IF($A37=\"\",\"\",IF(ISBLANK($A37),\"\",VLOOKUP($A37,Data!$A$4:$AI$155,8,FALSE)))","v":0.35}]
[810,{"$f":"IF($A38=\"\",\"\",IF(ISBLANK($A38),\"\",INDEX('LEA Nos codes'!$A$3:$A$154,MATCH($A38,'LEA Nos codes'!$B$3:$B$154,0))))","v":"City of Kingston Upon Hull"},{"$f":"IF($A38=\"\",\"\",IF(ISBLANK($A38),\"\",VLOOKUP($A38,Data!$A$4:$V$155,3,FALSE)))","v":"."},{"$f":"IF($A38=\"\",\"\",IF(ISBLANK($A38),\"\",VLOOKUP($A38,Data!$A$4:$AQ$155,43,FALSE)))","v":4.8499999999999996},{"$f":"IF($A38=\"\",\"\",IF(ISBLANK($A38),\"\",VLOOKUP($A38,Data!$A$4:$V$155,4,FALSE)))","v":3.66},{"$f":"IF($A38=\"\",\"\",IF(ISBLANK($A38),\"\",VLOOKUP($A38,Data!$A$4:$V$155,5,FALSE)))","v":0.79},{"$f":"IF($A38=\"\",\"\",IF(ISBLANK($A38),\"\",VLOOKUP($A38,Data!$A$4:$AP$155,42,FALSE)))","v":0.11},{"$f":"IF($A38=\"\",\"\",IF(ISBLANK($A38),\"\",VLOOKUP($A38,Data!$A$4:$AS$155,45,FALSE)))","v":0.15},{"$f":"IF($A38=\"\",\"\",IF(ISBLANK($A38),\"\",VLOOKUP($A38,Data!$A$4:$AI$155,35,FALSE)))","v":0.96},{"$f":"IF($A38=\"\",\"\",IF(ISBLANK($A38),\"\",VLOOKUP($A38,Data!$A$4:$AM$155,37,FALSE)))","v":0.42},{"$f":"IF($A38=\"\",\"\",IF(ISBLANK($A38),\"\",VLOOKUP($A38,Data!$A$4:$AM$155,38,FALSE)))","v":0.1},{"$f":"IF($A38=\"\",\"\",IF(ISBLANK($A38),\"\",VLOOKUP($A38,Data!$A$4:$AM$155,39,FALSE)))","v":0.40799999999999997},{"$f":"IF($A38=\"\",\"\",IF(ISBLANK($A38),\"\",VLOOKUP($A38,Data!$A$4:$AI$155,6,FALSE)))","v":17800},{"$f":"IF($A38=\"\",\"\",IF(ISBLANK($A38),\"\",VLOOKUP($A38,Data!$A$4:$AI$155,7,FALSE)))","v":10},{"$f":"IF($A38=\"\",\"\",IF(ISBLANK($A38),\"\",VLOOKUP($A38,Data!$A$4:$AR$155,44,FALSE)))","v":0.75},{"$f":"IF($A38=\"\",\"\",IF(ISBLANK($A38),\"\",VLOOKUP($A38,Data!$A$4:$AI$155,8,FALSE)))","v":0.25}]
[201,{"$f":"IF($A39=\"\",\"\",IF(ISBLANK($A39),\"\",INDEX('LEA Nos codes'!$A$3:$A$154,MATCH($A39,'LEA Nos codes'!$B$3:$B$154,0))))","v":"City of London"},{"$f":"IF($A39=\"\",\"\",IF(ISBLANK($A39),\"\",VLOOKUP($A39,Data!$A$4:$V$155,3,FALSE)))","v":"."},{"$f":"IF($A39=\"\",\"\",IF(ISBLANK($A39),\"\",VLOOKUP($A39,Data!$A$4:$AQ$155,43,FALSE)))","v":7.08},{"$f":"IF($A39=\"\",\"\",IF(ISBLANK($A39),\"\",VLOOKUP($A39,Data!$A$4:$V$155,4,FALSE)))","v":5.78},{"$f":"IF($A39=\"\",\"\",IF(ISBLANK($A39),\"\",VLOOKUP($A39,Data!$A$4:$V$155,5,FALSE)))","v":1},{"$f":"IF($A39=\"\",\"\",IF(ISBLANK($A39),\"\",VLOOKUP($A39,Data!$A$4:$AP$155,42,FALSE)))","v":0},{"$f":"IF($A39=\"\",\"\",IF(ISBLANK($A39),\"\",VLOOKUP($A39,Data!$A$4:$AS$155,45,FALSE)))","v":0},{"$f":"IF($A39=\"\",\"\",IF(ISBLANK($A39),\"\",VLOOKUP($A39,Data!$A$4:$AI$155,35,FALSE)))","v":1.1499999999999999},{"$f":"IF($A39=\"\",\"\",IF(ISBLANK($A39),\"\",VLOOKUP($A39,Data!$A$4:$AM$155,37,FALSE)))","v":0.64},{"$f":"IF($A39=\"\",\"\",IF(ISBLANK($A39),\"\",VLOOKUP($A39,Data!$A$4:$AM$155,38,FALSE)))","v":0.25},{"$f":"IF($A39=\"\",\"\",IF(ISBLANK($A39),\"\",VLOOKUP($A39,Data!$A$4:$AM$155,39,FALSE)))","v":0.36099999999999999},{"$f":"IF($A39=\"\",\"\",IF(ISBLANK($A39),\"\",VLOOKUP($A39,Data!$A$4:$AI$155,6,FALSE)))","v":300},{"$f":"IF($A39=\"\",\"\",IF(ISBLANK($A39),\"\",VLOOKUP($A39,Data!$A$4:$AI$155,7,FALSE)))","v":140},{"$f":"IF($A39=\"\",\"\",IF(ISBLANK($A39),\"\",VLOOKUP($A39,Data!$A$4:$AR$155,44,FALSE)))","v":0.51},{"$f":"IF($A39=\"\",\"\",IF(ISBLANK($A39),\"\",VLOOKUP($A39,Data!$A$4:$AI$155,8,FALSE)))","v":0.44}]
[908,{"$f":"IF($A40=\"\",\"\",IF(ISBLANK($A40),\"\",INDEX('LEA Nos codes'!$A$3:$A$154,MATCH($A40,'LEA Nos codes'!$B$3:$B$154,0))))","v":"Cornwall"},{"$f":"IF($A40=\"\",\"\",IF(ISBLANK($A40),\"\",VLOOKUP($A40,Data!$A$4:$V$155,3,FALSE)))","v":4.8499999999999996},{"$f":"IF($A40=\"\",\"\",IF(ISBLANK($A40),\"\",VLOOKUP($A40,Data!$A$4:$AQ$155,43,FALSE)))","v":4.8499999999999996},{"$f":"IF($A40=\"\",\"\",IF(ISBLANK($A40),\"\",VLOOKUP($A40,Data!$A$4:$V$155,4,FALSE)))","v":3.95},{"$f":"IF($A40=\"\",\"\",IF(ISBLANK($A40),\"\",VLOOKUP($A40,Data!$A$4:$V$155,5,FALSE)))","v":0.86},{"$f":"IF($A40=\"\",\"\",IF(ISBLANK($A40),\"\",VLOOKUP($A40,Data!$A$4:$AP$155,42,FALSE)))","v":0.49},{"$f":"IF($A40=\"\",\"\",IF(ISBLANK($A40),\"\",VLOOKUP($A40,Data!$A$4:$AS$155,45,FALSE)))","v":0.53},{"$f":"IF($A40=\"\",\"\",IF(ISBLANK($A40),\"\",VLOOKUP($A40,Data!$A$4:$AI$155,35,FALSE)))","v":1.01},{"$f":"IF($A40=\"\",\"\",IF(ISBLANK($A40),\"\",VLOOKUP($A40,Data!$A$4:$AM$155,37,FALSE)))","v":0.49},{"$f":"IF($A40=\"\",\"\",IF(ISBLANK($A40),\"\",VLOOKUP($A40,Data!$A$4:$AM$155,38,FALSE)))","v":0.19},{"$f":"IF($A40=\"\",\"\",IF(ISBLANK($A40),\"\",VLOOKUP($A40,Data!$A$4:$AM$155,39,FALSE)))","v":0.34600000000000003},{"$f":"IF($A40=\"\",\"\",IF(ISBLANK($A40),\"\",VLOOKUP($A40,Data!$A$4:$AI$155,6,FALSE)))","v":28300},{"$f":"IF($A40=\"\",\"\",IF(ISBLANK($A40),\"\",VLOOKUP($A40,Data!$A$4:$AI$155,7,FALSE)))","v":78},{"$f":"IF($A40=\"\",\"\",IF(ISBLANK($A40),\"\",VLOOKUP($A40,Data!$A$4:$AR$155,44,FALSE)))","v":0.47},{"$f":"IF($A40=\"\",\"\",IF(ISBLANK($A40),\"\",VLOOKUP($A40,Data!$A$4:$AI$155,8,FALSE)))","v":0.53}]
[331,{"$f":"IF($A41=\"\",\"\",IF(ISBLANK($A41),\"\",INDEX('LEA Nos codes'!$A$3:$A$154,MATCH($A41,'LEA Nos codes'!$B$3:$B$154,0))))","v":"Coventry"},{"$f":"IF($A41=\"\",\"\",IF(ISBLANK($A41),\"\",VLOOKUP($A41,Data!$A$4:$V$155,3,FALSE)))","v":"."},{"$f":"IF($A41=\"\",\"\",IF(ISBLANK($A41),\"\",VLOOKUP($A41,Data!$A$4:$AQ$155,43,FALSE)))","v":4.8899999999999997},{"$f":"IF($A41=\"\",\"\",IF(ISBLANK($A41),\"\",VLOOKUP($A41,Data!$A$4:$V$155,4,FALSE)))","v":3.55},{"$f":"IF($A41=\"\",\"\",IF(ISBLANK($A41),\"\",VLOOKUP($A41,Data!$A$4:$V$155,5,FALSE)))","v":0.74},{"$f":"IF($A41=\"\",\"\",IF(ISBLANK($A41),\"\",VLOOKUP($A41,Data!$A$4:$AP$155,42,FALSE)))","v":0.21},{"$f":"IF($A41=\"\",\"\",IF(ISBLANK($A41),\"\",VLOOKUP($A41,Data!$A$4:$AS$155,45,FALSE)))","v":0.24},{"$f":"IF($A41=\"\",\"\",IF(ISBLANK($A41),\"\",VLOOKUP($A41,Data!$A$4:$AI$155,35,FALSE)))","v":0.94},{"$f":"IF($A41=\"\",\"\",IF(ISBLANK($A41),\"\",VLOOKUP($A41,Data!$A$4:$AM$155,37,FALSE)))","v":0.55000000000000004},{"$f":"IF($A41=\"\",\"\",IF(ISBLANK($A41),\"\",VLOOKUP($A41,Data!$A$4:$AM$155,38,FALSE)))","v":0.17},{"$f":"IF($A41=\"\",\"\",IF(ISBLANK($A41),\"\",VLOOKUP($A41,Data!$A$4:$AM$155,39,FALSE)))","v":0.36399999999999999},{"$f":"IF($A41=\"\",\"\",IF(ISBLANK($A41),\"\",VLOOKUP($A41,Data!$A$4:$AI$155,6,FALSE)))","v":23200},{"$f":"IF($A41=\"\",\"\",IF(ISBLANK($A41),\"\",VLOOKUP($A41,Data!$A$4:$AI$155,7,FALSE)))","v":42},{"$f":"IF($A41=\"\",\"\",IF(ISBLANK($A41),\"\",VLOOKUP($A41,Data!$A$4:$AR$155,44,FALSE)))","v":0.66},{"$f":"IF($A41=\"\",\"\",IF(ISBLANK($A41),\"\",VLOOKUP($A41,Data!$A$4:$AI$155,8,FALSE)))","v":0.33}]
[306,{"$f":"IF($A42=\"\",\"\",IF(ISBLANK($A42),\"\",INDEX('LEA Nos codes'!$A$3:$A$154,MATCH($A42,'LEA Nos codes'!$B$3:$B$154,0))))","v":"Croydon"},{"$f":"IF($A42=\"\",\"\",IF(ISBLANK($A42),\"\",VLOOKUP($A42,Data!$A$4:$V$155,3,FALSE)))","v":6},{"$f":"IF($A42=\"\",\"\",IF(ISBLANK($A42),\"\",VLOOKUP($A42,Data!$A$4:$AQ$155,43,FALSE)))","v":5.28},{"$f":"IF($A42=\"\",\"\",IF(ISBLANK($A42),\"\",VLOOKUP($A42,Data!$A$4:$V$155,4,FALSE)))","v":3.97},{"$f":"IF($A42=\"\",\"\",IF(ISBLANK($A42),\"\",VLOOKUP($A42,Data!$A$4:$V$155,5,FALSE)))","v":0.79},{"$f":"IF($A42=\"\",\"\",IF(ISBLANK($A42),\"\",VLOOKUP($A42,Data!$A$4:$AP$155,42,FALSE)))","v":0.33},{"$f":"IF($A42=\"\",\"\",IF(ISBLANK($A42),\"\",VLOOKUP($A42,Data!$A$4:$AS$155,45,FALSE)))","v":0.36},{"$f":"IF($A42=\"\",\"\",IF(ISBLANK($A42),\"\",VLOOKUP($A42,Data!$A$4:$AI$155,35,FALSE)))","v":0.88},{"$f":"IF($A42=\"\",\"\",IF(ISBLANK($A42),\"\",VLOOKUP($A42,Data!$A$4:$AM$155,37,FALSE)))","v":0.46},{"$f":"IF($A42=\"\",\"\",IF(ISBLANK($A42),\"\",VLOOKUP($A42,Data!$A$4:$AM$155,38,FALSE)))","v":0.15},{"$f":"IF($A42=\"\",\"\",IF(ISBLANK($A42),\"\",VLOOKUP($A42,Data!$A$4:$AM$155,39,FALSE)))","v":0.39100000000000001},{"$f":"IF($A42=\"\",\"\",IF(ISBLANK($A42),\"\",VLOOKUP($A42,Data!$A$4:$AI$155,6,FALSE)))","v":28600},{"$f":"IF($A42=\"\",\"\",IF(ISBLANK($A42),\"\",VLOOKUP($A42,Data!$A$4:$AI$155,7,FALSE)))","v":77},{"$f":"IF($A42=\"\",\"\",IF(ISBLANK($A42),\"\",VLOOKUP($A42,Data!$A$4:$AR$155,44,FALSE)))","v":0.6},{"$f":"IF($A42=\"\",\"\",IF(ISBLANK($A42),\"\",VLOOKUP($A42,Data!$A$4:$AI$155,8,FALSE)))","v":0.39}]
[909,{"$f":"IF($A43=\"\",\"\",IF(ISBLANK($A43),\"\",INDEX('LEA Nos codes'!$A$3:$A$154,MATCH($A43,'LEA Nos codes'!$B$3:$B$154,0))))","v":"Cumbria"},{"$f":"IF($A43=\"\",\"\",IF(ISBLANK($A43),\"\",VLOOKUP($A43,Data!$A$4:$V$155,3,FALSE)))","v":4.8499999999999996},{"$f":"IF($A43=\"\",\"\",IF(ISBLANK($A43),\"\",VLOOKUP($A43,Data!$A$4:$AQ$155,43,FALSE)))","v":4.8499999999999996},{"$f":"IF($A43=\"\",\"\",IF(ISBLANK($A43),\"\",VLOOKUP($A43,Data!$A$4:$V$155,4,FALSE)))","v":3.69},{"$f":"IF($A43=\"\",\"\",IF(ISBLANK($A43),\"\",VLOOKUP($A43,Data!$A$4:$V$155,5,FALSE)))","v":0.86},{"$f":"IF($A43=\"\",\"\",IF(ISBLANK($A43),\"\",VLOOKUP($A43,Data!$A$4:$AP$155,42,FALSE)))","v":0.41},{"$f":"IF($A43=\"\",\"\",IF(ISBLANK($A43),\"\",VLOOKUP($A43,Data!$A$4:$AS$155,45,FALSE)))","v":0.47},{"$f":"IF($A43=\"\",\"\",IF(ISBLANK($A43),\"\",VLOOKUP($A43,Data!$A$4:$AI$155,35,FALSE)))","v":1.03},{"$f":"IF($A43=\"\",\"\",IF(ISBLANK($A43),\"\",VLOOKUP($A43,Data!$A$4:$AM$155,37,FALSE)))","v":0.5},{"$f":"IF($A43=\"\",\"\",IF(ISBLANK($A43),\"\",VLOOKUP($A43,Data!$A$4:$AM$155,38,FALSE)))","v":0.23},{"$f":"IF($A43=\"\",\"\",IF(ISBLANK($A43),\"\",VLOOKUP($A43,Data!$A$4:$AM$155,39,FALSE)))","v":0.35600000000000004},{"$f":"IF($A43=\"\",\"\",IF(ISBLANK($A43),\"\",VLOOKUP($A43,Data!$A$4:$AI$155,6,FALSE)))","v":25300},{"$f":"IF($A43=\"\",\"\",IF(ISBLANK($A43),\"\",VLOOKUP($A43,Data!$A$4:$AI$155,7,FALSE)))","v":85},{"$f":"IF($A43=\"\",\"\",IF(ISBLANK($A43),\"\",VLOOKUP($A43,Data!$A$4:$AR$155,44,FALSE)))","v":0.66},{"$f":"IF($A43=\"\",\"\",IF(ISBLANK($A43),\"\",VLOOKUP($A43,Data!$A$4:$AI$155,8,FALSE)))","v":0.34}]
[841,{"$f":"IF($A44=\"\",\"\",IF(ISBLANK($A44),\"\",INDEX('LEA Nos codes'!$A$3:$A$154,MATCH($A44,'LEA Nos codes'!$B$3:$B$154,0))))","v":"Darlington"},{"$f":"IF($A44=\"\",\"\",IF(ISBLANK($A44),\"\",VLOOKUP($A44,Data!$A$4:$V$155,3,FALSE)))","v":"."},{"$f":"IF($A44=\"\",\"\",IF(ISBLANK($A44),\"\",VLOOKUP($A44,Data!$A$4:$AQ$155,43,FALSE)))","v":4.8499999999999996},{"$f":"IF($A44=\"\",\"\",IF(ISBLANK($A44),\"\",VLOOKUP($A44,Data!$A$4:$V$155,4,FALSE)))","v":3.82},{"$f":"IF($A44=\"\",\"\",IF(ISBLANK($A44),\"\",VLOOKUP($A44,Data!$A$4:$V$155,5,FALSE)))","v":0.7},{"$f":"IF($A44=\"\",\"\",IF(ISBLANK($A44),\"\",VLOOKUP($A44,Data!$A$4:$AP$155,42,FALSE)))","v":0.44},{"$f":"IF($A44=\"\",\"\",IF(ISBLANK($A44),\"\",VLOOKUP($A44,Data!$A$4:$AS$155,45,FALSE)))","v":0.49},{"$f":"IF($A44=\"\",\"\",IF(ISBLANK($A44),\"\",VLOOKUP($A44,Data!$A$4:$AI$155,35,FALSE)))","v":1},{"$f":"IF($A44=\"\",\"\",IF(ISBLANK($A44),\"\",VLOOKUP($A44,Data!$A$4:$AM$155,37,FALSE)))","v":0.49},{"$f":"IF($A44=\"\",\"\",IF(ISBLANK($A44),\"\",VLOOKUP($A44,Data!$A$4:$AM$155,38,FALSE)))","v":0.18},{"$f":"IF($A44=\"\",\"\",IF(ISBLANK($A44),\"\",VLOOKUP($A44,Data!$A$4:$AM$155,39,FALSE)))","v":0.42499999999999999},{"$f":"IF($A44=\"\",\"\",IF(ISBLANK($A44),\"\",VLOOKUP($A44,Data!$A$4:$AI$155,6,FALSE)))","v":6600},{"$f":"IF($A44=\"\",\"\",IF(ISBLANK($A44),\"\",VLOOKUP($A44,Data!$A$4:$AI$155,7,FALSE)))","v":60},{"$f":"IF($A44=\"\",\"\",IF(ISBLANK($A44),\"\",VLOOKUP($A44,Data!$A$4:$AR$155,44,FALSE)))","v":0.68},{"$f":"IF($A44=\"\",\"\",IF(ISBLANK($A44),\"\",VLOOKUP($A44,Data!$A$4:$AI$155,8,FALSE)))","v":0.32}]
[831,{"$f":"IF($A45=\"\",\"\",IF(ISBLANK($A45),\"\",INDEX('LEA Nos codes'!$A$3:$A$154,MATCH($A45,'LEA Nos codes'!$B$3:$B$154,0))))","v":"Derby"},{"$f":"IF($A45=\"\",\"\",IF(ISBLANK($A45),\"\",VLOOKUP($A45,Data!$A$4:$V$155,3,FALSE)))","v":4.8499999999999996},{"$f":"IF($A45=\"\",\"\",IF(ISBLANK($A45),\"\",VLOOKUP($A45,Data!$A$4:$AQ$155,43,FALSE)))","v":4.8499999999999996},{"$f":"IF($A45=\"\",\"\",IF(ISBLANK($A45),\"\",VLOOKUP($A45,Data!$A$4:$V$155,4,FALSE)))","v":4.4800000000000004},{"$f":"IF($A45=\"\",\"\",IF(ISBLANK($A45),\"\",VLOOKUP($A45,Data!$A$4:$V$155,5,FALSE)))","v":0.68},{"$f":"IF($A45=\"\",\"\",IF(ISBLANK($A45),\"\",VLOOKUP($A45,Data!$A$4:$AP$155,42,FALSE)))","v":0.35},{"$f":"IF($A45=\"\",\"\",IF(ISBLANK($A45),\"\",VLOOKUP($A45,Data!$A$4:$AS$155,45,FALSE)))","v":0.36},{"$f":"IF($A45=\"\",\"\",IF(ISBLANK($A45),\"\",VLOOKUP($A45,Data!$A$4:$AI$155,35,FALSE)))","v":0.94},{"$f":"IF($A45=\"\",\"\",IF(ISBLANK($A45),\"\",VLOOKUP($A45,Data!$A$4:$AM$155,37,FALSE)))","v":0.41},{"$f":"IF($A45=\"\",\"\",IF(ISBLANK($A45),\"\",VLOOKUP($A45,Data!$A$4:$AM$155,38,FALSE)))","v":0.17},{"$f":"IF($A45=\"\",\"\",IF(ISBLANK($A45),\"\",VLOOKUP($A45,Data!$A$4:$AM$155,39,FALSE)))","v":0.41100000000000003},{"$f":"IF($A45=\"\",\"\",IF(ISBLANK($A45),\"\",VLOOKUP($A45,Data!$A$4:$AI$155,6,FALSE)))","v":18100},{"$f":"IF($A45=\"\",\"\",IF(ISBLANK($A45),\"\",VLOOKUP($A45,Data!$A$4:$AI$155,7,FALSE)))","v":67},{"$f":"IF($A45=\"\",\"\",IF(ISBLANK($A45),\"\",VLOOKUP($A45,Data!$A$4:$AR$155,44,FALSE)))","v":0.71},{"$f":"IF($A45=\"\",\"\",IF(ISBLANK($A45),\"\",VLOOKUP($A45,Data!$A$4:$AI$155,8,FALSE)))","v":0.28000000000000003}]
[830,{"$f":"IF($A46=\"\",\"\",IF(ISBLANK($A46),\"\",INDEX('LEA Nos codes'!$A$3:$A$154,MATCH($A46,'LEA Nos codes'!$B$3:$B$154,0))))","v":"Derbyshire"},{"$f":"IF($A46=\"\",\"\",IF(ISBLANK($A46),\"\",VLOOKUP($A46,Data!$A$4:$V$155,3,FALSE)))","v":4.8499999999999996},{"$f":"IF($A46=\"\",\"\",IF(ISBLANK($A46),\"\",VLOOKUP($A46,Data!$A$4:$AQ$155,43,FALSE)))","v":4.8499999999999996},{"$f":"IF($A46=\"\",\"\",IF(ISBLANK($A46),\"\",VLOOKUP($A46,Data!$A$4:$V$155,4,FALSE)))","v":4.32},{"$f":"IF($A46=\"\",\"\",IF(ISBLANK($A46),\"\",VLOOKUP($A46,Data!$A$4:$V$155,5,FALSE)))","v":0.78},{"$f":"IF($A46=\"\",\"\",IF(ISBLANK($A46),\"\",VLOOKUP($A46,Data!$A$4:$AP$155,42,FALSE)))","v":0.32},{"$f":"IF($A46=\"\",\"\",IF(ISBLANK($A46),\"\",VLOOKUP($A46,Data!$A$4:$AS$155,45,FALSE)))","v":0.36},{"$f":"IF($A46=\"\",\"\",IF(ISBLANK($A46),\"\",VLOOKUP($A46,Data!$A$4:$AI$155,35,FALSE)))","v":0.99},{"$f":"IF($A46=\"\",\"\",IF(ISBLANK($A46),\"\",VLOOKUP($A46,Data!$A$4:$AM$155,37,FALSE)))","v":0.5},{"$f":"IF($A46=\"\",\"\",IF(ISBLANK($A46),\"\",VLOOKUP($A46,Data!$A$4:$AM$155,38,FALSE)))","v":0.21},{"$f":"IF($A46=\"\",\"\",IF(ISBLANK($A46),\"\",VLOOKUP($A46,Data!$A$4:$AM$155,39,FALSE)))","v":0.374},{"$f":"IF($A46=\"\",\"\",IF(ISBLANK($A46),\"\",VLOOKUP($A46,Data!$A$4:$AI$155,6,FALSE)))","v":42100},{"$f":"IF($A46=\"\",\"\",IF(ISBLANK($A46),\"\",VLOOKUP($A46,Data!$A$4:$AI$155,7,FALSE)))","v":99},{"$f":"IF($A46=\"\",\"\",IF(ISBLANK($A46),\"\",VLOOKUP($A46,Data!$A$4:$AR$155,44,FALSE)))","v":0.64},{"$f":"IF($A46=\"\",\"\",IF(ISBLANK($A46),\"\",VLOOKUP($A46,Data!$A$4:$AI$155,8,FALSE)))","v":0.36}]
[878,{"$f":"IF($A47=\"\",\"\",IF(ISBLANK($A47),\"\",INDEX('LEA Nos codes'!$A$3:$A$154,MATCH($A47,'LEA Nos codes'!$B$3:$B$154,0))))","v":"Devon"},{"$f":"IF($A47=\"\",\"\",IF(ISBLANK($A47),\"\",VLOOKUP($A47,Data!$A$4:$V$155,3,FALSE)))","v":5.48},{"$f":"IF($A47=\"\",\"\",IF(ISBLANK($A47),\"\",VLOOKUP($A47,Data!$A$4:$AQ$155,43,FALSE)))","v":4.8499999999999996},{"$f":"IF($A47=\"\",\"\",IF(ISBLANK($A47),\"\",VLOOKUP($A47,Data!$A$4:$V$155,4,FALSE)))","v":3.92},{"$f":"IF($A47=\"\",\"\",IF(ISBLANK($A47),\"\",VLOOKUP($A47,Data!$A$4:$V$155,5,FALSE)))","v":0.84},{"$f":"IF($A47=\"\",\"\",IF(ISBLANK($A47),\"\",VLOOKUP($A47,Data!$A$4:$AP$155,42,FALSE)))","v":0.39},{"$f":"IF($A47=\"\",\"\",IF(ISBLANK($A47),\"\",VLOOKUP($A47,Data!$A$4:$AS$155,45,FALSE)))","v":0.46},{"$f":"IF($A47=\"\",\"\",IF(ISBLANK($A47),\"\",VLOOKUP($A47,Data!$A$4:$AI$155,35,FALSE)))","v":1.02},{"$f":"IF($A47=\"\",\"\",IF(ISBLANK($A47),\"\",VLOOKUP($A47,Data!$A$4:$AM$155,37,FALSE)))","v":0.64},{"$f":"IF($A47=\"\",\"\",IF(ISBLANK($A47),\"\",VLOOKUP($A47,Data!$A$4:$AM$155,38,FALSE)))","v":0.19},{"$f":"IF($A47=\"\",\"\",IF(ISBLANK($A47),\"\",VLOOKUP($A47,Data!$A$4:$AM$155,39,FALSE)))","v":0.26},{"$f":"IF($A47=\"\",\"\",IF(ISBLANK($A47),\"\",VLOOKUP($A47,Data!$A$4:$AI$155,6,FALSE)))","v":38300},{"$f":"IF($A47=\"\",\"\",IF(ISBLANK($A47),\"\",VLOOKUP($A47,Data!$A$4:$AI$155,7,FALSE)))","v":104},{"$f":"IF($A47=\"\",\"\",IF(ISBLANK($A47),\"\",VLOOKUP($A47,Data!$A$4:$AR$155,44,FALSE)))","v":0.48},{"$f":"IF($A47=\"\",\"\",IF(ISBLANK($A47),\"\",VLOOKUP($A47,Data!$A$4:$AI$155,8,FALSE)))","v":0.52}]
[371,{"$f":"IF($A48=\"\",\"\",IF(ISBLANK($A48),\"\",INDEX('LEA Nos codes'!$A$3:$A$154,MATCH($A48,'LEA Nos codes'!$B$3:$B$154,0))))","v":"Doncaster"},{"$f":"IF($A48=\"\",\"\",IF(ISBLANK($A48),\"\",VLOOKUP($A48,Data!$A$4:$V$155,3,FALSE)))","v":4.8499999999999996},{"$f":"IF($A48=\"\",\"\",IF(ISBLANK($A48),\"\",VLOOKUP($A48,Data!$A$4:$AQ$155,43,FALSE)))","v":4.8499999999999996},{"$f":"IF($A48=\"\",\"\",IF(ISBLANK($A48),\"\",VLOOKUP($A48,Data!$A$4:$V$155,4,FALSE)))","v":3.91},{"$f":"IF($A48=\"\",\"\",IF(ISBLANK($A48),\"\",VLOOKUP($A48,Data!$A$4:$V$155,5,FALSE)))","v":0.69},{"$f":"IF($A48=\"\",\"\",IF(ISBLANK($A48),\"\",VLOOKUP($A48,Data!$A$4:$AP$155,42,FALSE)))","v":0.36},{"$f":"IF($A48=\"\",\"\",IF(ISBLANK($A48),\"\",VLOOKUP($A48,Data!$A$4:$AS$155,45,FALSE)))","v":0.46},{"$f":"IF($A48=\"\",\"\",IF(ISBLANK($A48),\"\",VLOOKUP($A48,Data!$A$4:$AI$155,35,FALSE)))","v":0.93},{"$f":"IF($A48=\"\",\"\",IF(ISBLANK($A48),\"\",VLOOKUP($A48,Data!$A$4:$AM$155,37,FALSE)))","v":0.43},{"$f":"IF($A48=\"\",\"\",IF(ISBLANK($A48),\"\",VLOOKUP($A48,Data!$A$4:$AM$155,38,FALSE)))","v":0.19},{"$f":"IF($A48=\"\",\"\",IF(ISBLANK($A48),\"\",VLOOKUP($A48,Data!$A$4:$AM$155,39,FALSE)))","v":0.374},{"$f":"IF($A48=\"\",\"\",IF(ISBLANK($A48),\"\",VLOOKUP($A48,Data!$A$4:$AI$155,6,FALSE)))","v":19300},{"$f":"IF($A48=\"\",\"\",IF(ISBLANK($A48),\"\",VLOOKUP($A48,Data!$A$4:$AI$155,7,FALSE)))","v":33},{"$f":"IF($A48=\"\",\"\",IF(ISBLANK($A48),\"\",VLOOKUP($A48,Data!$A$4:$AR$155,44,FALSE)))","v":0.79},{"$f":"IF($A48=\"\",\"\",IF(ISBLANK($A48),\"\",VLOOKUP($A48,Data!$A$4:$AI$155,8,FALSE)))","v":0.21}]
[835,{"$f":"IF($A49=\"\",\"\",IF(ISBLANK($A49),\"\",INDEX('LEA Nos codes'!$A$3:$A$154,MATCH($A49,'LEA Nos codes'!$B$3:$B$154,0))))","v":"Dorset"},{"$f":"IF($A49=\"\",\"\",IF(ISBLANK($A49),\"\",VLOOKUP($A49,Data!$A$4:$V$155,3,FALSE)))","v":6.79},{"$f":"IF($A49=\"\",\"\",IF(ISBLANK($A49),\"\",VLOOKUP($A49,Data!$A$4:$AQ$155,43,FALSE)))","v":4.88},{"$f":"IF($A49=\"\",\"\",IF(ISBLANK($A49),\"\",VLOOKUP($A49,Data!$A$4:$V$155,4,FALSE)))","v":3.7},{"$f":"IF($A49=\"\",\"\",IF(ISBLANK($A49),\"\",VLOOKUP($A49,Data!$A$4:$V$155,5,FALSE)))","v":0.79},{"$f":"IF($A49=\"\",\"\",IF(ISBLANK($A49),\"\",VLOOKUP($A49,Data!$A$4:$AP$155,42,FALSE)))","v":0.43},{"$f":"IF($A49=\"\",\"\",IF(ISBLANK($A49),\"\",VLOOKUP($A49,Data!$A$4:$AS$155,45,FALSE)))","v":0.42},{"$f":"IF($A49=\"\",\"\",IF(ISBLANK($A49),\"\",VLOOKUP($A49,Data!$A$4:$AI$155,35,FALSE)))","v":0.99},{"$f":"IF($A49=\"\",\"\",IF(ISBLANK($A49),\"\",VLOOKUP($A49,Data!$A$4:$AM$155,37,FALSE)))","v":0.61},{"$f":"IF($A49=\"\",\"\",IF(ISBLANK($A49),\"\",VLOOKUP($A49,Data!$A$4:$AM$155,38,FALSE)))","v":0.23},{"$f":"IF($A49=\"\",\"\",IF(ISBLANK($A49),\"\",VLOOKUP($A49,Data!$A$4:$AM$155,39,FALSE)))","v":0.26200000000000001},{"$f":"IF($A49=\"\",\"\",IF(ISBLANK($A49),\"\",VLOOKUP($A49,Data!$A$4:$AI$155,6,FALSE)))","v":19500},{"$f":"IF($A49=\"\",\"\",IF(ISBLANK($A49),\"\",VLOOKUP($A49,Data!$A$4:$AI$155,7,FALSE)))","v":125},{"$f":"IF($A49=\"\",\"\",IF(ISBLANK($A49),\"\",VLOOKUP($A49,Data!$A$4:$AR$155,44,FALSE)))","v":0.36},{"$f":"IF($A49=\"\",\"\",IF(ISBLANK($A49),\"\",VLOOKUP($A49,Data!$A$4:$AI$155,8,FALSE)))","v":0.63}]
[332,{"$f":"IF($A50=\"\",\"\",IF(ISBLANK($A50),\"\",INDEX('LEA Nos codes'!$A$3:$A$154,MATCH($A50,'LEA Nos codes'!$B$3:$B$154,0))))","v":"Dudley"},{"$f":"IF($A50=\"\",\"\",IF(ISBLANK($A50),\"\",VLOOKUP($A50,Data!$A$4:$V$155,3,FALSE)))","v":4.5},{"$f":"IF($A50=\"\",\"\",IF(ISBLANK($A50),\"\",VLOOKUP($A50,Data!$A$4:$AQ$155,43,FALSE)))","v":4.8899999999999997},{"$f":"IF($A50=\"\",\"\",IF(ISBLANK($A50),\"\",VLOOKUP($A50,Data!$A$4:$V$155,4,FALSE)))","v":3.63},{"$f":"IF($A50=\"\",\"\",IF(ISBLANK($A50),\"\",VLOOKUP($A50,Data!$A$4:$V$155,5,FALSE)))","v":0.85},{"$f":"IF($A50=\"\",\"\",IF(ISBLANK($A50),\"\",VLOOKUP($A50,Data!$A$4:$AP$155,42,FALSE)))","v":0.32},{"$f":"IF($A50=\"\",\"\",IF(ISBLANK($A50),\"\",VLOOKUP($A50,Data!$A$4:$AS$155,45,FALSE)))","v":0.3},{"$f":"IF($A50=\"\",\"\",IF(ISBLANK($A50),\"\",VLOOKUP($A50,Data!$A$4:$AI$155,35,FALSE)))","v":0.96},{"$f":"IF($A50=\"\",\"\",IF(ISBLANK($A50),\"\",VLOOKUP($A50,Data!$A$4:$AM$155,37,FALSE)))","v":0.51},{"$f":"IF($A50=\"\",\"\",IF(ISBLANK($A50),\"\",VLOOKUP($A50,Data!$A$4:$AM$155,38,FALSE)))","v":0.22},{"$f":"IF($A50=\"\",\"\",IF(ISBLANK($A50),\"\",VLOOKUP($A50,Data!$A$4:$AM$155,39,FALSE)))","v":0.39899999999999997},{"$f":"IF($A50=\"\",\"\",IF(ISBLANK($A50),\"\",VLOOKUP($A50,Data!$A$4:$AI$155,6,FALSE)))","v":19100},{"$f":"IF($A50=\"\",\"\",IF(ISBLANK($A50),\"\",VLOOKUP($A50,Data!$A$4:$AI$155,7,FALSE)))","v":74},{"$f":"IF($A50=\"\",\"\",IF(ISBLANK($A50),\"\",VLOOKUP($A50,Data!$A$4:$AR$155,44,FALSE)))","v":0.66},{"$f":"IF($A50=\"\",\"\",IF(ISBLANK($A50),\"\",VLOOKUP($A50,Data!$A$4:$AI$155,8,FALSE)))","v":0.34}]
[840,{"$f":"IF($A51=\"\",\"\",IF(ISBLANK($A51),\"\",INDEX('LEA Nos codes'!$A$3:$A$154,MATCH($A51,'LEA Nos codes'!$B$3:$B$154,0))))","v":"Durham"},{"$f":"IF($A51=\"\",\"\",IF(ISBLANK($A51),\"\",VLOOKUP($A51,Data!$A$4:$V$155,3,FALSE)))","v":4.8499999999999996},{"$f":"IF($A51=\"\",\"\",IF(ISBLANK($A51),\"\",VLOOKUP($A51,Data!$A$4:$AQ$155,43,FALSE)))","v":4.8499999999999996},{"$f":"IF($A51=\"\",\"\",IF(ISBLANK($A51),\"\",VLOOKUP($A51,Data!$A$4:$V$155,4,FALSE)))","v":4.04},{"$f":"IF($A51=\"\",\"\",IF(ISBLANK($A51),\"\",VLOOKUP($A51,Data!$A$4:$V$155,5,FALSE)))","v":0.73},{"$f":"IF($A51=\"\",\"\",IF(ISBLANK($A51),\"\",VLOOKUP($A51,Data!$A$4:$AP$155,42,FALSE)))","v":0.39},{"$f":"IF($A51=\"\",\"\",IF(ISBLANK($A51),\"\",VLOOKUP($A51,Data!$A$4:$AS$155,45,FALSE)))","v":0.35},{"$f":"IF($A51=\"\",\"\",IF(ISBLANK($A51),\"\",VLOOKUP($A51,Data!$A$4:$AI$155,35,FALSE)))","v":0.95},{"$f":"IF($A51=\"\",\"\",IF(ISBLANK($A51),\"\",VLOOKUP($A51,Data!$A$4:$AM$155,37,FALSE)))","v":0.42},{"$f":"IF($A51=\"\",\"\",IF(ISBLANK($A51),\"\",VLOOKUP($A51,Data!$A$4:$AM$155,38,FALSE)))","v":0.21},{"$f":"IF($A51=\"\",\"\",IF(ISBLANK($A51),\"\",VLOOKUP($A51,Data!$A$4:$AM$155,39,FALSE)))","v":0.42799999999999999},{"$f":"IF($A51=\"\",\"\",IF(ISBLANK($A51),\"\",VLOOKUP($A51,Data!$A$4:$AI$155,6,FALSE)))","v":28900},{"$f":"IF($A51=\"\",\"\",IF(ISBLANK($A51),\"\",VLOOKUP($A51,Data!$A$4:$AI$155,7,FALSE)))","v":50},{"$f":"IF($A51=\"\",\"\",IF(ISBLANK($A51),\"\",VLOOKUP($A51,Data!$A$4:$AR$155,44,FALSE)))","v":0.77},{"$f":"IF($A51=\"\",\"\",IF(ISBLANK($A51),\"\",VLOOKUP($A51,Data!$A$4:$AI$155,8,FALSE)))","v":0.22}]
[307,{"$f":"IF($A52=\"\",\"\",IF(ISBLANK($A52),\"\",INDEX('LEA Nos codes'!$A$3:$A$154,MATCH($A52,'LEA Nos codes'!$B$3:$B$154,0))))","v":"Ealing"},{"$f":"IF($A52=\"\",\"\",IF(ISBLANK($A52),\"\",VLOOKUP($A52,Data!$A$4:$V$155,3,FALSE)))","v":"."},{"$f":"IF($A52=\"\",\"\",IF(ISBLANK($A52),\"\",VLOOKUP($A52,Data!$A$4:$AQ$155,43,FALSE)))","v":5.53},{"$f":"IF($A52=\"\",\"\",IF(ISBLANK($A52),\"\",VLOOKUP($A52,Data!$A$4:$V$155,4,FALSE)))","v":4.3099999999999996},{"$f":"IF($A52=\"\",\"\",IF(ISBLANK($A52),\"\",VLOOKUP($A52,Data!$A$4:$V$155,5,FALSE)))","v":0.71},{"$f":"IF($A52=\"\",\"\",IF(ISBLANK($A52),\"\",VLOOKUP($A52,Data!$A$4:$AP$155,42,FALSE)))","v":0.52},{"$f":"IF($A52=\"\",\"\",IF(ISBLANK($A52),\"\",VLOOKUP($A52,Data!$A$4:$AS$155,45,FALSE)))","v":0.6},{"$f":"IF($A52=\"\",\"\",IF(ISBLANK($A52),\"\",VLOOKUP($A52,Data!$A$4:$AI$155,35,FALSE)))","v":0.95},{"$f":"IF($A52=\"\",\"\",IF(ISBLANK($A52),\"\",VLOOKUP($A52,Data!$A$4:$AM$155,37,FALSE)))","v":0.56000000000000005},{"$f":"IF($A52=\"\",\"\",IF(ISBLANK($A52),\"\",VLOOKUP($A52,Data!$A$4:$AM$155,38,FALSE)))","v":0.09},{"$f":"IF($A52=\"\",\"\",IF(ISBLANK($A52),\"\",VLOOKUP($A52,Data!$A$4:$AM$155,39,FALSE)))","v":0.33399999999999996},{"$f":"IF($A52=\"\",\"\",IF(ISBLANK($A52),\"\",VLOOKUP($A52,Data!$A$4:$AI$155,6,FALSE)))","v":26200},{"$f":"IF($A52=\"\",\"\",IF(ISBLANK($A52),\"\",VLOOKUP($A52,Data!$A$4:$AI$155,7,FALSE)))","v":64},{"$f":"IF($A52=\"\",\"\",IF(ISBLANK($A52),\"\",VLOOKUP($A52,Data!$A$4:$AR$155,44,FALSE)))","v":0.74},{"$f":"IF($A52=\"\",\"\",IF(ISBLANK($A52),\"\",VLOOKUP($A52,Data!$A$4:$AI$155,8,FALSE)))","v":0.24}]
[811,{"$f":"IF($A53=\"\",\"\",IF(ISBLANK($A53),\"\",INDEX('LEA Nos codes'!$A$3:$A$154,MATCH($A53,'LEA Nos codes'!$B$3:$B$154,0))))","v":"East Riding of Yorkshire"},{"$f":"IF($A53=\"\",\"\",IF(ISBLANK($A53),\"\",VLOOKUP($A53,Data!$A$4:$V$155,3,FALSE)))","v":5.21},{"$f":"IF($A53=\"\",\"\",IF(ISBLANK($A53),\"\",VLOOKUP($A53,Data!$A$4:$AQ$155,43,FALSE)))","v":4.8499999999999996},{"$f":"IF($A53=\"\",\"\",IF(ISBLANK($A53),\"\",VLOOKUP($A53,Data!$A$4:$V$155,4,FALSE)))","v":3.91},{"$f":"IF($A53=\"\",\"\",IF(ISBLANK($A53),\"\",VLOOKUP($A53,Data!$A$4:$V$155,5,FALSE)))","v":0.87},{"$f":"IF($A53=\"\",\"\",IF(ISBLANK($A53),\"\",VLOOKUP($A53,Data!$A$4:$AP$155,42,FALSE)))","v":0.39},{"$f":"IF($A53=\"\",\"\",IF(ISBLANK($A53),\"\",VLOOKUP($A53,Data!$A$4:$AS$155,45,FALSE)))","v":0.45},{"$f":"IF($A53=\"\",\"\",IF(ISBLANK($A53),\"\",VLOOKUP($A53,Data!$A$4:$AI$155,35,FALSE)))","v":1.03},{"$f":"IF($A53=\"\",\"\",IF(ISBLANK($A53),\"\",VLOOKUP($A53,Data!$A$4:$AM$155,37,FALSE)))","v":0.55000000000000004},{"$f":"IF($A53=\"\",\"\",IF(ISBLANK($A53),\"\",VLOOKUP($A53,Data!$A$4:$AM$155,38,FALSE)))","v":0.25},{"$f":"IF($A53=\"\",\"\",IF(ISBLANK($A53),\"\",VLOOKUP($A53,Data!$A$4:$AM$155,39,FALSE)))","v":0.29799999999999999},{"$f":"IF($A53=\"\",\"\",IF(ISBLANK($A53),\"\",VLOOKUP($A53,Data!$A$4:$AI$155,6,FALSE)))","v":16600},{"$f":"IF($A53=\"\",\"\",IF(ISBLANK($A53),\"\",VLOOKUP($A53,Data!$A$4:$AI$155,7,FALSE)))","v":122},{"$f":"IF($A53=\"\",\"\",IF(ISBLANK($A53),\"\",VLOOKUP($A53,Data!$A$4:$AR$155,44,FALSE)))","v":0.59},{"$f":"IF($A53=\"\",\"\",IF(ISBLANK($A53),\"\",VLOOKUP($A53,Data!$A$4:$AI$155,8,FALSE)))","v":0.41}]
[845,{"$f":"IF($A54=\"\",\"\",IF(ISBLANK($A54),\"\",INDEX('LEA Nos codes'!$A$3:$A$154,MATCH($A54,'LEA Nos codes'!$B$3:$B$154,0))))","v":"East Sussex"},{"$f":"IF($A54=\"\",\"\",IF(ISBLANK($A54),\"\",VLOOKUP($A54,Data!$A$4:$V$155,3,FALSE)))","v":5.21},{"$f":"IF($A54=\"\",\"\",IF(ISBLANK($A54),\"\",VLOOKUP($A54,Data!$A$4:$AQ$155,43,FALSE)))","v":4.8499999999999996},{"$f":"IF($A54=\"\",\"\",IF(ISBLANK($A54),\"\",VLOOKUP($A54,Data!$A$4:$V$155,4,FALSE)))","v":3.66},{"$f":"IF($A54=\"\",\"\",IF(ISBLANK($A54),\"\",VLOOKUP($A54,Data!$A$4:$V$155,5,FALSE)))","v":0.77},{"$f":"IF($A54=\"\",\"\",IF(ISBLANK($A54),\"\",VLOOKUP($A54,Data!$A$4:$AP$155,42,FALSE)))","v":0.37},{"$f":"IF($A54=\"\",\"\",IF(ISBLANK($A54),\"\",VLOOKUP($A54,Data!$A$4:$AS$155,45,FALSE)))","v":0.38},{"$f":"IF($A54=\"\",\"\",IF(ISBLANK($A54),\"\",VLOOKUP($A54,Data!$A$4:$AI$155,35,FALSE)))","v":0.97},{"$f":"IF($A54=\"\",\"\",IF(ISBLANK($A54),\"\",VLOOKUP($A54,Data!$A$4:$AM$155,37,FALSE)))","v":0.44},{"$f":"IF($A54=\"\",\"\",IF(ISBLANK($A54),\"\",VLOOKUP($A54,Data!$A$4:$AM$155,38,FALSE)))","v":0.2},{"$f":"IF($A54=\"\",\"\",IF(ISBLANK($A54),\"\",VLOOKUP($A54,Data!$A$4:$AM$155,39,FALSE)))","v":0.37200000000000005},{"$f":"IF($A54=\"\",\"\",IF(ISBLANK($A54),\"\",VLOOKUP($A54,Data!$A$4:$AI$155,6,FALSE)))","v":28100},{"$f":"IF($A54=\"\",\"\",IF(ISBLANK($A54),\"\",VLOOKUP($A54,Data!$A$4:$AI$155,7,FALSE)))","v":90},{"$f":"IF($A54=\"\",\"\",IF(ISBLANK($A54),\"\",VLOOKUP($A54,Data!$A$4:$AR$155,44,FALSE)))","v":0.39},{"$f":"IF($A54=\"\",\"\",IF(ISBLANK($A54),\"\",VLOOKUP($A54,Data!$A$4:$AI$155,8,FALSE)))","v":0.61}]
[308,{"$f":"IF($A55=\"\",\"\",IF(ISBLANK($A55),\"\",INDEX('LEA Nos codes'!$A$3:$A$154,MATCH($A55,'LEA Nos codes'!$B$3:$B$154,0))))","v":"Enfield"},{"$f":"IF($A55=\"\",\"\",IF(ISBLANK($A55),\"\",VLOOKUP($A55,Data!$A$4:$V$155,3,FALSE)))","v":6},{"$f":"IF($A55=\"\",\"\",IF(ISBLANK($A55),\"\",VLOOKUP($A55,Data!$A$4:$AQ$155,43,FALSE)))","v":5.28},{"$f":"IF($A55=\"\",\"\",IF(ISBLANK($A55),\"\",VLOOKUP($A55,Data!$A$4:$V$155,4,FALSE)))","v":3.99},{"$f":"IF($A55=\"\",\"\",IF(ISBLANK($A55),\"\",VLOOKUP($A55,Data!$A$4:$V$155,5,FALSE)))","v":0.71},{"$f":"IF($A55=\"\",\"\",IF(ISBLANK($A55),\"\",VLOOKUP($A55,Data!$A$4:$AP$155,42,FALSE)))","v":0.49},{"$f":"IF($A55=\"\",\"\",IF(ISBLANK($A55),\"\",VLOOKUP($A55,Data!$A$4:$AS$155,45,FALSE)))","v":0.47},{"$f":"IF($A55=\"\",\"\",IF(ISBLANK($A55),\"\",VLOOKUP($A55,Data!$A$4:$AI$155,35,FALSE)))","v":0.87},{"$f":"IF($A55=\"\",\"\",IF(ISBLANK($A55),\"\",VLOOKUP($A55,Data!$A$4:$AM$155,37,FALSE)))","v":0.49},{"$f":"IF($A55=\"\",\"\",IF(ISBLANK($A55),\"\",VLOOKUP($A55,Data!$A$4:$AM$155,38,FALSE)))","v":0.11},{"$f":"IF($A55=\"\",\"\",IF(ISBLANK($A55),\"\",VLOOKUP($A55,Data!$A$4:$AM$155,39,FALSE)))","v":0.39799999999999996},{"$f":"IF($A55=\"\",\"\",IF(ISBLANK($A55),\"\",VLOOKUP($A55,Data!$A$4:$AI$155,6,FALSE)))","v":25000},{"$f":"IF($A55=\"\",\"\",IF(ISBLANK($A55),\"\",VLOOKUP($A55,Data!$A$4:$AI$155,7,FALSE)))","v":51},{"$f":"IF($A55=\"\",\"\",IF(ISBLANK($A55),\"\",VLOOKUP($A55,Data!$A$4:$AR$155,44,FALSE)))","v":0.63},{"$f":"IF($A55=\"\",\"\",IF(ISBLANK($A55),\"\",VLOOKUP($A55,Data!$A$4:$AI$155,8,FALSE)))","v":0.36}]
[881,{"$f":"IF($A56=\"\",\"\",IF(ISBLANK($A56),\"\",INDEX('LEA Nos codes'!$A$3:$A$154,MATCH($A56,'LEA Nos codes'!$B$3:$B$154,0))))","v":"Essex"},{"$f":"IF($A56=\"\",\"\",IF(ISBLANK($A56),\"\",VLOOKUP($A56,Data!$A$4:$V$155,3,FALSE)))","v":5},{"$f":"IF($A56=\"\",\"\",IF(ISBLANK($A56),\"\",VLOOKUP($A56,Data!$A$4:$AQ$155,43,FALSE)))","v":5.0199999999999996},{"$f":"IF($A56=\"\",\"\",IF(ISBLANK($A56),\"\",VLOOKUP($A56,Data!$A$4:$V$155,4,FALSE)))","v":4.08},{"$f":"IF($A56=\"\",\"\",IF(ISBLANK($A56),\"\",VLOOKUP($A56,Data!$A$4:$V$155,5,FALSE)))","v":0.8},{"$f":"IF($A56=\"\",\"\",IF(ISBLANK($A56),\"\",VLOOKUP($A56,Data!$A$4:$AP$155,42,FALSE)))","v":0.28999999999999998},{"$f":"IF($A56=\"\",\"\",IF(ISBLANK($A56),\"\",VLOOKUP($A56,Data!$A$4:$AS$155,45,FALSE)))","v":0.36},{"$f":"IF($A56=\"\",\"\",IF(ISBLANK($A56),\"\",VLOOKUP($A56,Data!$A$4:$AI$155,35,FALSE)))","v":0.98},{"$f":"IF($A56=\"\",\"\",IF(ISBLANK($A56),\"\",VLOOKUP($A56,Data!$A$4:$AM$155,37,FALSE)))","v":0.53},{"$f":"IF($A56=\"\",\"\",IF(ISBLANK($A56),\"\",VLOOKUP($A56,Data!$A$4:$AM$155,38,FALSE)))","v":0.21},{"$f":"IF($A56=\"\",\"\",IF(ISBLANK($A56),\"\",VLOOKUP($A56,Data!$A$4:$AM$155,39,FALSE)))","v":0.33200000000000002},{"$f":"IF($A56=\"\",\"\",IF(ISBLANK($A56),\"\",VLOOKUP($A56,Data!$A$4:$AI$155,6,FALSE)))","v":83600},{"$f":"IF($A56=\"\",\"\",IF(ISBLANK($A56),\"\",VLOOKUP($A56,Data!$A$4:$AI$155,7,FALSE)))","v":119},{"$f":"IF($A56=\"\",\"\",IF(ISBLANK($A56),\"\",VLOOKUP($A56,Data!$A$4:$AR$155,44,FALSE)))","v":0.42},{"$f":"IF($A56=\"\",\"\",IF(ISBLANK($A56),\"\",VLOOKUP($A56,Data!$A$4:$AI$155,8,FALSE)))","v":0.57999999999999996}]
[390,{"$f":"IF($A57=\"\",\"\",IF(ISBLANK($A57),\"\",INDEX('LEA Nos codes'!$A$3:$A$154,MATCH($A57,'LEA Nos codes'!$B$3:$B$154,0))))","v":"Gateshead"},{"$f":"IF($A57=\"\",\"\",IF(ISBLANK($A57),\"\",VLOOKUP($A57,Data!$A$4:$V$155,3,FALSE)))","v":4.8499999999999996},{"$f":"IF($A57=\"\",\"\",IF(ISBLANK($A57),\"\",VLOOKUP($A57,Data!$A$4:$AQ$155,43,FALSE)))","v":4.8499999999999996},{"$f":"IF($A57=\"\",\"\",IF(ISBLANK($A57),\"\",VLOOKUP($A57,Data!$A$4:$V$155,4,FALSE)))","v":4.1399999999999997},{"$f":"IF($A57=\"\",\"\",IF(ISBLANK($A57),\"\",VLOOKUP($A57,Data!$A$4:$V$155,5,FALSE)))","v":0.79},{"$f":"IF($A57=\"\",\"\",IF(ISBLANK($A57),\"\",VLOOKUP($A57,Data!$A$4:$AP$155,42,FALSE)))","v":0.52},{"$f":"IF($A57=\"\",\"\",IF(ISBLANK($A57),\"\",VLOOKUP($A57,Data!$A$4:$AS$155,45,FALSE)))","v":0.56000000000000005},{"$f":"IF($A57=\"\",\"\",IF(ISBLANK($A57),\"\",VLOOKUP($A57,Data!$A$4:$AI$155,35,FALSE)))","v":0.96},{"$f":"IF($A57=\"\",\"\",IF(ISBLANK($A57),\"\",VLOOKUP($A57,Data!$A$4:$AM$155,37,FALSE)))","v":0.34},{"$f":"IF($A57=\"\",\"\",IF(ISBLANK($A57),\"\",VLOOKUP($A57,Data!$A$4:$AM$155,38,FALSE)))","v":0.19},{"$f":"IF($A57=\"\",\"\",IF(ISBLANK($A57),\"\",VLOOKUP($A57,Data!$A$4:$AM$155,39,FALSE)))","v":0.34},{"$f":"IF($A57=\"\",\"\",IF(ISBLANK($A57),\"\",VLOOKUP($A57,Data!$A$4:$AI$155,6,FALSE)))","v":11900},{"$f":"IF($A57=\"\",\"\",IF(ISBLANK($A57),\"\",VLOOKUP($A57,Data!$A$4:$AI$155,7,FALSE)))","v":37},{"$f":"IF($A57=\"\",\"\",IF(ISBLANK($A57),\"\",VLOOKUP($A57,Data!$A$4:$AR$155,44,FALSE)))","v":0.71},{"$f":"IF($A57=\"\",\"\",IF(ISBLANK($A57),\"\",VLOOKUP($A57,Data!$A$4:$AI$155,8,FALSE)))","v":0.28000000000000003}]
[916,{"$f":"IF($A58=\"\",\"\",IF(ISBLANK($A58),\"\",INDEX('LEA Nos codes'!$A$3:$A$154,MATCH($A58,'LEA Nos codes'!$B$3:$B$154,0))))","v":"Gloucestershire"},{"$f":"IF($A58=\"\",\"\",IF(ISBLANK($A58),\"\",VLOOKUP($A58,Data!$A$4:$V$155,3,FALSE)))","v":5.22},{"$f":"IF($A58=\"\",\"\",IF(ISBLANK($A58),\"\",VLOOKUP($A58,Data!$A$4:$AQ$155,43,FALSE)))","v":4.93},{"$f":"IF($A58=\"\",\"\",IF(ISBLANK($A58),\"\",VLOOKUP($A58,Data!$A$4:$V$155,4,FALSE)))","v":3.39},{"$f":"IF($A58=\"\",\"\",IF(ISBLANK($A58),\"\",VLOOKUP($A58,Data!$A$4:$V$155,5,FALSE)))","v":0.78},{"$f":"IF($A58=\"\",\"\",IF(ISBLANK($A58),\"\",VLOOKUP($A58,Data!$A$4:$AP$155,42,FALSE)))","v":0},{"$f":"IF($A58=\"\",\"\",IF(ISBLANK($A58),\"\",VLOOKUP($A58,Data!$A$4:$AS$155,45,FALSE)))","v":0},{"$f":"IF($A58=\"\",\"\",IF(ISBLANK($A58),\"\",VLOOKUP($A58,Data!$A$4:$AI$155,35,FALSE)))","v":0.99},{"$f":"IF($A58=\"\",\"\",IF(ISBLANK($A58),\"\",VLOOKUP($A58,Data!$A$4:$AM$155,37,FALSE)))","v":0.52},{"$f":"IF($A58=\"\",\"\",IF(ISBLANK($A58),\"\",VLOOKUP($A58,Data!$A$4:$AM$155,38,FALSE)))","v":0.21},{"$f":"IF($A58=\"\",\"\",IF(ISBLANK($A58),\"\",VLOOKUP($A58,Data!$A$4:$AM$155,39,FALSE)))","v":0.33700000000000002},{"$f":"IF($A58=\"\",\"\",IF(ISBLANK($A58),\"\",VLOOKUP($A58,Data!$A$4:$AI$155,6,FALSE)))","v":34100},{"$f":"IF($A58=\"\",\"\",IF(ISBLANK($A58),\"\",VLOOKUP($A58,Data!$A$4:$AI$155,7,FALSE)))","v":126},{"$f":"IF($A58=\"\",\"\",IF(ISBLANK($A58),\"\",VLOOKUP($A58,Data!$A$4:$AR$155,44,FALSE)))","v":0.33},{"$f":"IF($A58=\"\",\"\",IF(ISBLANK($A58),\"\",VLOOKUP($A58,Data!$A$4:$AI$155,8,FALSE)))","v":0.66}]
[203,{"$f":"IF($A59=\"\",\"\",IF(ISBLANK($A59),\"\",INDEX('LEA Nos codes'!$A$3:$A$154,MATCH($A59,'LEA Nos codes'!$B$3:$B$154,0))))","v":"Greenwich"},{"$f":"IF($A59=\"\",\"\",IF(ISBLANK($A59),\"\",VLOOKUP($A59,Data!$A$4:$V$155,3,FALSE)))","v":6},{"$f":"IF($A59=\"\",\"\",IF(ISBLANK($A59),\"\",VLOOKUP($A59,Data!$A$4:$AQ$155,43,FALSE)))","v":6.07},{"$f":"IF($A59=\"\",\"\",IF(ISBLANK($A59),\"\",VLOOKUP($A59,Data!$A$4:$V$155,4,FALSE)))","v":4.6100000000000003},{"$f":"IF($A59=\"\",\"\",IF(ISBLANK($A59),\"\",VLOOKUP($A59,Data!$A$4:$V$155,5,FALSE)))","v":0.77},{"$f":"IF($A59=\"\",\"\",IF(ISBLANK($A59),\"\",VLOOKUP($A59,Data!$A$4:$AP$155,42,FALSE)))","v":0.41},{"$f":"IF($A59=\"\",\"\",IF(ISBLANK($A59),\"\",VLOOKUP($A59,Data!$A$4:$AS$155,45,FALSE)))","v":0.43},{"$f":"IF($A59=\"\",\"\",IF(ISBLANK($A59),\"\",VLOOKUP($A59,Data!$A$4:$AI$155,35,FALSE)))","v":0.89},{"$f":"IF($A59=\"\",\"\",IF(ISBLANK($A59),\"\",VLOOKUP($A59,Data!$A$4:$AM$155,37,FALSE)))","v":0.69},{"$f":"IF($A59=\"\",\"\",IF(ISBLANK($A59),\"\",VLOOKUP($A59,Data!$A$4:$AM$155,38,FALSE)))","v":0.12},{"$f":"IF($A59=\"\",\"\",IF(ISBLANK($A59),\"\",VLOOKUP($A59,Data!$A$4:$AM$155,39,FALSE)))","v":0.29299999999999998},{"$f":"IF($A59=\"\",\"\",IF(ISBLANK($A59),\"\",VLOOKUP($A59,Data!$A$4:$AI$155,6,FALSE)))","v":21500},{"$f":"IF($A59=\"\",\"\",IF(ISBLANK($A59),\"\",VLOOKUP($A59,Data!$A$4:$AI$155,7,FALSE)))","v":26},{"$f":"IF($A59=\"\",\"\",IF(ISBLANK($A59),\"\",VLOOKUP($A59,Data!$A$4:$AR$155,44,FALSE)))","v":0.79},{"$f":"IF($A59=\"\",\"\",IF(ISBLANK($A59),\"\",VLOOKUP($A59,Data!$A$4:$AI$155,8,FALSE)))","v":0.21}]
[204,{"$f":"IF($A60=\"\",\"\",IF(ISBLANK($A60),\"\",INDEX('LEA Nos codes'!$A$3:$A$154,MATCH($A60,'LEA Nos codes'!$B$3:$B$154,0))))","v":"Hackney"},{"$f":"IF($A60=\"\",\"\",IF(ISBLANK($A60),\"\",VLOOKUP($A60,Data!$A$4:$V$155,3,FALSE)))","v":6.08},{"$f":"IF($A60=\"\",\"\",IF(ISBLANK($A60),\"\",VLOOKUP($A60,Data!$A$4:$AQ$155,43,FALSE)))","v":6.07},{"$f":"IF($A60=\"\",\"\",IF(ISBLANK($A60),\"\",VLOOKUP($A60,Data!$A$4:$V$155,4,FALSE)))","v":5.43},{"$f":"IF($A60=\"\",\"\",IF(ISBLANK($A60),\"\",VLOOKUP($A60,Data!$A$4:$V$155,5,FALSE)))","v":0.79},{"$f":"IF($A60=\"\",\"\",IF(ISBLANK($A60),\"\",VLOOKUP($A60,Data!$A$4:$AP$155,42,FALSE)))","v":0.3},{"$f":"IF($A60=\"\",\"\",IF(ISBLANK($A60),\"\",VLOOKUP($A60,Data!$A$4:$AS$155,45,FALSE)))","v":0.28999999999999998},{"$f":"IF($A60=\"\",\"\",IF(ISBLANK($A60),\"\",VLOOKUP($A60,Data!$A$4:$AI$155,35,FALSE)))","v":0.96},{"$f":"IF($A60=\"\",\"\",IF(ISBLANK($A60),\"\",VLOOKUP($A60,Data!$A$4:$AM$155,37,FALSE)))","v":0.56999999999999995},{"$f":"IF($A60=\"\",\"\",IF(ISBLANK($A60),\"\",VLOOKUP($A60,Data!$A$4:$AM$155,38,FALSE)))","v":0.03},{"$f":"IF($A60=\"\",\"\",IF(ISBLANK($A60),\"\",VLOOKUP($A60,Data!$A$4:$AM$155,39,FALSE)))","v":0.32600000000000001},{"$f":"IF($A60=\"\",\"\",IF(ISBLANK($A60),\"\",VLOOKUP($A60,Data!$A$4:$AI$155,6,FALSE)))","v":19600},{"$f":"IF($A60=\"\",\"\",IF(ISBLANK($A60),\"\",VLOOKUP($A60,Data!$A$4:$AI$155,7,FALSE)))","v":2},{"$f":"IF($A60=\"\",\"\",IF(ISBLANK($A60),\"\",VLOOKUP($A60,Data!$A$4:$AR$155,44,FALSE)))","v":0.61},{"$f":"IF($A60=\"\",\"\",IF(ISBLANK($A60),\"\",VLOOKUP($A60,Data!$A$4:$AI$155,8,FALSE)))","v":0.39}]
[876,{"$f":"IF($A61=\"\",\"\",IF(ISBLANK($A61),\"\",INDEX('LEA Nos codes'!$A$3:$A$154,MATCH($A61,'LEA Nos codes'!$B$3:$B$154,0))))","v":"Halton"},{"$f":"IF($A61=\"\",\"\",IF(ISBLANK($A61),\"\",VLOOKUP($A61,Data!$A$4:$V$155,3,FALSE)))","v":4.95},{"$f":"IF($A61=\"\",\"\",IF(ISBLANK($A61),\"\",VLOOKUP($A61,Data!$A$4:$AQ$155,43,FALSE)))","v":4.93},{"$f":"IF($A61=\"\",\"\",IF(ISBLANK($A61),\"\",VLOOKUP($A61,Data!$A$4:$V$155,4,FALSE)))","v":3.69},{"$f":"IF($A61=\"\",\"\",IF(ISBLANK($A61),\"\",VLOOKUP($A61,Data!$A$4:$V$155,5,FALSE)))","v":0.69},{"$f":"IF($A61=\"\",\"\",IF(ISBLANK($A61),\"\",VLOOKUP($A61,Data!$A$4:$AP$155,42,FALSE)))","v":0.14000000000000001},{"$f":"IF($A61=\"\",\"\",IF(ISBLANK($A61),\"\",VLOOKUP($A61,Data!$A$4:$AS$155,45,FALSE)))","v":0.17},{"$f":"IF($A61=\"\",\"\",IF(ISBLANK($A61),\"\",VLOOKUP($A61,Data!$A$4:$AI$155,35,FALSE)))","v":0.9},{"$f":"IF($A61=\"\",\"\",IF(ISBLANK($A61),\"\",VLOOKUP($A61,Data!$A$4:$AM$155,37,FALSE)))","v":0.37},{"$f":"IF($A61=\"\",\"\",IF(ISBLANK($A61),\"\",VLOOKUP($A61,Data!$A$4:$AM$155,38,FALSE)))","v":0.18},{"$f":"IF($A61=\"\",\"\",IF(ISBLANK($A61),\"\",VLOOKUP($A61,Data!$A$4:$AM$155,39,FALSE)))","v":0.36200000000000004},{"$f":"IF($A61=\"\",\"\",IF(ISBLANK($A61),\"\",VLOOKUP($A61,Data!$A$4:$AI$155,6,FALSE)))","v":8300},{"$f":"IF($A61=\"\",\"\",IF(ISBLANK($A61),\"\",VLOOKUP($A61,Data!$A$4:$AI$155,7,FALSE)))","v":25},{"$f":"IF($A61=\"\",\"\",IF(ISBLANK($A61),\"\",VLOOKUP($A61,Data!$A$4:$AR$155,44,FALSE)))","v":0.53},{"$f":"IF($A61=\"\",\"\",IF(ISBLANK($A61),\"\",VLOOKUP($A61,Data!$A$4:$AI$155,8,FALSE)))","v":0.43}]
[205,{"$f":"IF($A62=\"\",\"\",IF(ISBLANK($A62),\"\",INDEX('LEA Nos codes'!$A$3:$A$154,MATCH($A62,'LEA Nos codes'!$B$3:$B$154,0))))","v":"Hammersmith and Fulham"},{"$f":"IF($A62=\"\",\"\",IF(ISBLANK($A62),\"\",VLOOKUP($A62,Data!$A$4:$V$155,3,FALSE)))","v":"."},{"$f":"IF($A62=\"\",\"\",IF(ISBLANK($A62),\"\",VLOOKUP($A62,Data!$A$4:$AQ$155,43,FALSE)))","v":6.07},{"$f":"IF($A62=\"\",\"\",IF(ISBLANK($A62),\"\",VLOOKUP($A62,Data!$A$4:$V$155,4,FALSE)))","v":"."},{"$f":"IF($A62=\"\",\"\",IF(ISBLANK($A62),\"\",VLOOKUP($A62,Data!$A$4:$V$155,5,FALSE)))","v":0.66},{"$f":"IF($A62=\"\",\"\",IF(ISBLANK($A62),\"\",VLOOKUP($A62,Data!$A$4:$AP$155,42,FALSE)))","v":0.48},{"$f":"IF($A62=\"\",\"\",IF(ISBLANK($A62),\"\",VLOOKUP($A62,Data!$A$4:$AS$155,45,FALSE)))","v":0.59},{"$f":"IF($A62=\"\",\"\",IF(ISBLANK($A62),\"\",VLOOKUP($A62,Data!$A$4:$AI$155,35,FALSE)))","v":0.93},{"$f":"IF($A62=\"\",\"\",IF(ISBLANK($A62),\"\",VLOOKUP($A62,Data!$A$4:$AM$155,37,FALSE)))","v":0.53},{"$f":"IF($A62=\"\",\"\",IF(ISBLANK($A62),\"\",VLOOKUP($A62,Data!$A$4:$AM$155,38,FALSE)))","v":0.18},{"$f":"IF($A62=\"\",\"\",IF(ISBLANK($A62),\"\",VLOOKUP($A62,Data!$A$4:$AM$155,39,FALSE)))","v":0.32500000000000001},{"$f":"IF($A62=\"\",\"\",IF(ISBLANK($A62),\"\",VLOOKUP($A62,Data!$A$4:$AI$155,6,FALSE)))","v":11900},{"$f":"IF($A62=\"\",\"\",IF(ISBLANK($A62),\"\",VLOOKUP($A62,Data!$A$4:$AI$155,7,FALSE)))","v":46},{"$f":"IF($A62=\"\",\"\",IF(ISBLANK($A62),\"\",VLOOKUP($A62,Data!$A$4:$AR$155,44,FALSE)))","v":0.6},{"$f":"IF($A62=\"\",\"\",IF(ISBLANK($A62),\"\",VLOOKUP($A62,Data!$A$4:$AI$155,8,FALSE)))","v":0.39}]
[850,{"$f":"IF($A63=\"\",\"\",IF(ISBLANK($A63),\"\",INDEX('LEA Nos codes'!$A$3:$A$154,MATCH($A63,'LEA Nos codes'!$B$3:$B$154,0))))","v":"Hampshire"},{"$f":"IF($A63=\"\",\"\",IF(ISBLANK($A63),\"\",VLOOKUP($A63,Data!$A$4:$V$155,3,FALSE)))","v":5.56},{"$f":"IF($A63=\"\",\"\",IF(ISBLANK($A63),\"\",VLOOKUP($A63,Data!$A$4:$AQ$155,43,FALSE)))","v":5.07},{"$f":"IF($A63=\"\",\"\",IF(ISBLANK($A63),\"\",VLOOKUP($A63,Data!$A$4:$V$155,4,FALSE)))","v":4.4400000000000004},{"$f":"IF($A63=\"\",\"\",IF(ISBLANK($A63),\"\",VLOOKUP($A63,Data!$A$4:$V$155,5,FALSE)))","v":0.81},{"$f":"IF($A63=\"\",\"\",IF(ISBLANK($A63),\"\",VLOOKUP($A63,Data!$A$4:$AP$155,42,FALSE)))","v":0.39},{"$f":"IF($A63=\"\",\"\",IF(ISBLANK($A63),\"\",VLOOKUP($A63,Data!$A$4:$AS$155,45,FALSE)))","v":0.42},{"$f":"IF($A63=\"\",\"\",IF(ISBLANK($A63),\"\",VLOOKUP($A63,Data!$A$4:$AI$155,35,FALSE)))","v":0.96},{"$f":"IF($A63=\"\",\"\",IF(ISBLANK($A63),\"\",VLOOKUP($A63,Data!$A$4:$AM$155,37,FALSE)))","v":0.59},{"$f":"IF($A63=\"\",\"\",IF(ISBLANK($A63),\"\",VLOOKUP($A63,Data!$A$4:$AM$155,38,FALSE)))","v":0.24},{"$f":"IF($A63=\"\",\"\",IF(ISBLANK($A63),\"\",VLOOKUP($A63,Data!$A$4:$AM$155,39,FALSE)))","v":0.28899999999999998},{"$f":"IF($A63=\"\",\"\",IF(ISBLANK($A63),\"\",VLOOKUP($A63,Data!$A$4:$AI$155,6,FALSE)))","v":78700},{"$f":"IF($A63=\"\",\"\",IF(ISBLANK($A63),\"\",VLOOKUP($A63,Data!$A$4:$AI$155,7,FALSE)))","v":139},{"$f":"IF($A63=\"\",\"\",IF(ISBLANK($A63),\"\",VLOOKUP($A63,Data!$A$4:$AR$155,44,FALSE)))","v":0.35},{"$f":"IF($A63=\"\",\"\",IF(ISBLANK($A63),\"\",VLOOKUP($A63,Data!$A$4:$AI$155,8,FALSE)))","v":0.64}]
[309,{"$f":"IF($A64=\"\",\"\",IF(ISBLANK($A64),\"\",INDEX('LEA Nos codes'!$A$3:$A$154,MATCH($A64,'LEA Nos codes'!$B$3:$B$154,0))))","v":"Haringey"},{"$f":"IF($A64=\"\",\"\",IF(ISBLANK($A64),\"\",VLOOKUP($A64,Data!$A$4:$V$155,3,FALSE)))","v":5.39},{"$f":"IF($A64=\"\",\"\",IF(ISBLANK($A64),\"\",VLOOKUP($A64,Data!$A$4:$AQ$155,43,FALSE)))","v":5.28},{"$f":"IF($A64=\"\",\"\",IF(ISBLANK($A64),\"\",VLOOKUP($A64,Data!$A$4:$V$155,4,FALSE)))","v":4.68},{"$f":"IF($A64=\"\",\"\",IF(ISBLANK($A64),\"\",VLOOKUP($A64,Data!$A$4:$V$155,5,FALSE)))","v":0.62},{"$f":"IF($A64=\"\",\"\",IF(ISBLANK($A64),\"\",VLOOKUP($A64,Data!$A$4:$AP$155,42,FALSE)))","v":0.48},{"$f":"IF($A64=\"\",\"\",IF(ISBLANK($A64),\"\",VLOOKUP($A64,Data!$A$4:$AS$155,45,FALSE)))","v":0.43},{"$f":"IF($A64=\"\",\"\",IF(ISBLANK($A64),\"\",VLOOKUP($A64,Data!$A$4:$AI$155,35,FALSE)))","v":0.9},{"$f":"IF($A64=\"\",\"\",IF(ISBLANK($A64),\"\",VLOOKUP($A64,Data!$A$4:$AM$155,37,FALSE)))","v":0.5},{"$f":"IF($A64=\"\",\"\",IF(ISBLANK($A64),\"\",VLOOKUP($A64,Data!$A$4:$AM$155,38,FALSE)))","v":0.13},{"$f":"IF($A64=\"\",\"\",IF(ISBLANK($A64),\"\",VLOOKUP($A64,Data!$A$4:$AM$155,39,FALSE)))","v":0.36599999999999999},{"$f":"IF($A64=\"\",\"\",IF(ISBLANK($A64),\"\",VLOOKUP($A64,Data!$A$4:$AI$155,6,FALSE)))","v":18300},{"$f":"IF($A64=\"\",\"\",IF(ISBLANK($A64),\"\",VLOOKUP($A64,Data!$A$4:$AI$155,7,FALSE)))","v":12},{"$f":"IF($A64=\"\",\"\",IF(ISBLANK($A64),\"\",VLOOKUP($A64,Data!$A$4:$AR$155,44,FALSE)))","v":0.78},{"$f":"IF($A64=\"\",\"\",IF(ISBLANK($A64),\"\",VLOOKUP($A64,Data!$A$4:$AI$155,8,FALSE)))","v":0.21}]
[310,{"$f":"IF($A65=\"\",\"\",IF(ISBLANK($A65),\"\",INDEX('LEA Nos codes'!$A$3:$A$154,MATCH($A65,'LEA Nos codes'!$B$3:$B$154,0))))","v":"Harrow"},{"$f":"IF($A65=\"\",\"\",IF(ISBLANK($A65),\"\",VLOOKUP($A65,Data!$A$4:$V$155,3,FALSE)))","v":5.53},{"$f":"IF($A65=\"\",\"\",IF(ISBLANK($A65),\"\",VLOOKUP($A65,Data!$A$4:$AQ$155,43,FALSE)))","v":5.53},{"$f":"IF($A65=\"\",\"\",IF(ISBLANK($A65),\"\",VLOOKUP($A65,Data!$A$4:$V$155,4,FALSE)))","v":4.1399999999999997},{"$f":"IF($A65=\"\",\"\",IF(ISBLANK($A65),\"\",VLOOKUP($A65,Data!$A$4:$V$155,5,FALSE)))","v":0.69},{"$f":"IF($A65=\"\",\"\",IF(ISBLANK($A65),\"\",VLOOKUP($A65,Data!$A$4:$AP$155,42,FALSE)))","v":0.38},{"$f":"IF($A65=\"\",\"\",IF(ISBLANK($A65),\"\",VLOOKUP($A65,Data!$A$4:$AS$155,45,FALSE)))","v":0.39},{"$f":"IF($A65=\"\",\"\",IF(ISBLANK($A65),\"\",VLOOKUP($A65,Data!$A$4:$AI$155,35,FALSE)))","v":0.87},{"$f":"IF($A65=\"\",\"\",IF(ISBLANK($A65),\"\",VLOOKUP($A65,Data!$A$4:$AM$155,37,FALSE)))","v":0.45},{"$f":"IF($A65=\"\",\"\",IF(ISBLANK($A65),\"\",VLOOKUP($A65,Data!$A$4:$AM$155,38,FALSE)))","v":0.16},{"$f":"IF($A65=\"\",\"\",IF(ISBLANK($A65),\"\",VLOOKUP($A65,Data!$A$4:$AM$155,39,FALSE)))","v":0.379},{"$f":"IF($A65=\"\",\"\",IF(ISBLANK($A65),\"\",VLOOKUP($A65,Data!$A$4:$AI$155,6,FALSE)))","v":16600},{"$f":"IF($A65=\"\",\"\",IF(ISBLANK($A65),\"\",VLOOKUP($A65,Data!$A$4:$AI$155,7,FALSE)))","v":117},{"$f":"IF($A65=\"\",\"\",IF(ISBLANK($A65),\"\",VLOOKUP($A65,Data!$A$4:$AR$155,44,FALSE)))","v":0.56000000000000005},{"$f":"IF($A65=\"\",\"\",IF(ISBLANK($A65),\"\",VLOOKUP($A65,Data!$A$4:$AI$155,8,FALSE)))","v":0.43}]
[805,{"$f":"IF($A66=\"\",\"\",IF(ISBLANK($A66),\"\",INDEX('LEA Nos codes'!$A$3:$A$154,MATCH($A66,'LEA Nos codes'!$B$3:$B$154,0))))","v":"Hartlepool"},{"$f":"IF($A66=\"\",\"\",IF(ISBLANK($A66),\"\",VLOOKUP($A66,Data!$A$4:$V$155,3,FALSE)))","v":4.8499999999999996},{"$f":"IF($A66=\"\",\"\",IF(ISBLANK($A66),\"\",VLOOKUP($A66,Data!$A$4:$AQ$155,43,FALSE)))","v":4.8499999999999996},{"$f":"IF($A66=\"\",\"\",IF(ISBLANK($A66),\"\",VLOOKUP($A66,Data!$A$4:$V$155,4,FALSE)))","v":3.49},{"$f":"IF($A66=\"\",\"\",IF(ISBLANK($A66),\"\",VLOOKUP($A66,Data!$A$4:$V$155,5,FALSE)))","v":0.77},{"$f":"IF($A66=\"\",\"\",IF(ISBLANK($A66),\"\",VLOOKUP($A66,Data!$A$4:$AP$155,42,FALSE)))","v":0.17},{"$f":"IF($A66=\"\",\"\",IF(ISBLANK($A66),\"\",VLOOKUP($A66,Data!$A$4:$AS$155,45,FALSE)))","v":0.1},{"$f":"IF($A66=\"\",\"\",IF(ISBLANK($A66),\"\",VLOOKUP($A66,Data!$A$4:$AI$155,35,FALSE)))","v":1},{"$f":"IF($A66=\"\",\"\",IF(ISBLANK($A66),\"\",VLOOKUP($A66,Data!$A$4:$AM$155,37,FALSE)))","v":0.48},{"$f":"IF($A66=\"\",\"\",IF(ISBLANK($A66),\"\",VLOOKUP($A66,Data!$A$4:$AM$155,38,FALSE)))","v":0.26},{"$f":"IF($A66=\"\",\"\",IF(ISBLANK($A66),\"\",VLOOKUP($A66,Data!$A$4:$AM$155,39,FALSE)))","v":0.39899999999999997},{"$f":"IF($A66=\"\",\"\",IF(ISBLANK($A66),\"\",VLOOKUP($A66,Data!$A$4:$AI$155,6,FALSE)))","v":5800},{"$f":"IF($A66=\"\",\"\",IF(ISBLANK($A66),\"\",VLOOKUP($A66,Data!$A$4:$AI$155,7,FALSE)))","v":22},{"$f":"IF($A66=\"\",\"\",IF(ISBLANK($A66),\"\",VLOOKUP($A66,Data!$A$4:$AR$155,44,FALSE)))","v":0.94},{"$f":"IF($A66=\"\",\"\",IF(ISBLANK($A66),\"\",VLOOKUP($A66,Data!$A$4:$AI$155,8,FALSE)))","v":0.05}]
[311,{"$f":"IF($A67=\"\",\"\",IF(ISBLANK($A67),\"\",INDEX('LEA Nos codes'!$A$3:$A$154,MATCH($A67,'LEA Nos codes'!$B$3:$B$154,0))))","v":"Havering"},{"$f":"IF($A67=\"\",\"\",IF(ISBLANK($A67),\"\",VLOOKUP($A67,Data!$A$4:$V$155,3,FALSE)))","v":"."},{"$f":"IF($A67=\"\",\"\",IF(ISBLANK($A67),\"\",VLOOKUP($A67,Data!$A$4:$AQ$155,43,FALSE)))","v":5.28},{"$f":"IF($A67=\"\",\"\",IF(ISBLANK($A67),\"\",VLOOKUP($A67,Data!$A$4:$V$155,4,FALSE)))","v":4.1399999999999997},{"$f":"IF($A67=\"\",\"\",IF(ISBLANK($A67),\"\",VLOOKUP($A67,Data!$A$4:$V$155,5,FALSE)))","v":0.72},{"$f":"IF($A67=\"\",\"\",IF(ISBLANK($A67),\"\",VLOOKUP($A67,Data!$A$4:$AP$155,42,FALSE)))","v":0.38},{"$f":"IF($A67=\"\",\"\",IF(ISBLANK($A67),\"\",VLOOKUP($A67,Data!$A$4:$AS$155,45,FALSE)))","v":0.36},{"$f":"IF($A67=\"\",\"\",IF(ISBLANK($A67),\"\",VLOOKUP($A67,Data!$A$4:$AI$155,35,FALSE)))","v":1.01},{"$f":"IF($A67=\"\",\"\",IF(ISBLANK($A67),\"\",VLOOKUP($A67,Data!$A$4:$AM$155,37,FALSE)))","v":0.59},{"$f":"IF($A67=\"\",\"\",IF(ISBLANK($A67),\"\",VLOOKUP($A67,Data!$A$4:$AM$155,38,FALSE)))","v":0.23},{"$f":"IF($A67=\"\",\"\",IF(ISBLANK($A67),\"\",VLOOKUP($A67,Data!$A$4:$AM$155,39,FALSE)))","v":0.27300000000000002},{"$f":"IF($A67=\"\",\"\",IF(ISBLANK($A67),\"\",VLOOKUP($A67,Data!$A$4:$AI$155,6,FALSE)))","v":14300},{"$f":"IF($A67=\"\",\"\",IF(ISBLANK($A67),\"\",VLOOKUP($A67,Data!$A$4:$AI$155,7,FALSE)))","v":107},{"$f":"IF($A67=\"\",\"\",IF(ISBLANK($A67),\"\",VLOOKUP($A67,Data!$A$4:$AR$155,44,FALSE)))","v":0.49},{"$f":"IF($A67=\"\",\"\",IF(ISBLANK($A67),\"\",VLOOKUP($A67,Data!$A$4:$AI$155,8,FALSE)))","v":0.5}]
[884,{"$f":"IF($A68=\"\",\"\",IF(ISBLANK($A68),\"\",INDEX('LEA Nos codes'!$A$3:$A$154,MATCH($A68,'LEA Nos codes'!$B$3:$B$154,0))))","v":"Herefordshire"},{"$f":"IF($A68=\"\",\"\",IF(ISBLANK($A68),\"\",VLOOKUP($A68,Data!$A$4:$V$155,3,FALSE)))","v":4.8499999999999996},{"$f":"IF($A68=\"\",\"\",IF(ISBLANK($A68),\"\",VLOOKUP($A68,Data!$A$4:$AQ$155,43,FALSE)))","v":4.8499999999999996},{"$f":"IF($A68=\"\",\"\",IF(ISBLANK($A68),\"\",VLOOKUP($A68,Data!$A$4:$V$155,4,FALSE)))","v":3.48},{"$f":"IF($A68=\"\",\"\",IF(ISBLANK($A68),\"\",VLOOKUP($A68,Data!$A$4:$V$155,5,FALSE)))","v":0.78},{"$f":"IF($A68=\"\",\"\",IF(ISBLANK($A68),\"\",VLOOKUP($A68,Data!$A$4:$AP$155,42,FALSE)))","v":0.56000000000000005},{"$f":"IF($A68=\"\",\"\",IF(ISBLANK($A68),\"\",VLOOKUP($A68,Data!$A$4:$AS$155,45,FALSE)))","v":0.63},{"$f":"IF($A68=\"\",\"\",IF(ISBLANK($A68),\"\",VLOOKUP($A68,Data!$A$4:$AI$155,35,FALSE)))","v":0.96},{"$f":"IF($A68=\"\",\"\",IF(ISBLANK($A68),\"\",VLOOKUP($A68,Data!$A$4:$AM$155,37,FALSE)))","v":0.55000000000000004},{"$f":"IF($A68=\"\",\"\",IF(ISBLANK($A68),\"\",VLOOKUP($A68,Data!$A$4:$AM$155,38,FALSE)))","v":0.23},{"$f":"IF($A68=\"\",\"\",IF(ISBLANK($A68),\"\",VLOOKUP($A68,Data!$A$4:$AM$155,39,FALSE)))","v":0.35100000000000003},{"$f":"IF($A68=\"\",\"\",IF(ISBLANK($A68),\"\",VLOOKUP($A68,Data!$A$4:$AI$155,6,FALSE)))","v":9800},{"$f":"IF($A68=\"\",\"\",IF(ISBLANK($A68),\"\",VLOOKUP($A68,Data!$A$4:$AI$155,7,FALSE)))","v":100},{"$f":"IF($A68=\"\",\"\",IF(ISBLANK($A68),\"\",VLOOKUP($A68,Data!$A$4:$AR$155,44,FALSE)))","v":0.44},{"$f":"IF($A68=\"\",\"\",IF(ISBLANK($A68),\"\",VLOOKUP($A68,Data!$A$4:$AI$155,8,FALSE)))","v":0.55000000000000004}]
[919,{"$f":"IF($A69=\"\",\"\",IF(ISBLANK($A69),\"\",INDEX('LEA Nos codes'!$A$3:$A$154,MATCH($A69,'LEA Nos codes'!$B$3:$B$154,0))))","v":"Hertfordshire"},{"$f":"IF($A69=\"\",\"\",IF(ISBLANK($A69),\"\",VLOOKUP($A69,Data!$A$4:$V$155,3,FALSE)))","v":"."},{"$f":"IF($A69=\"\",\"\",IF(ISBLANK($A69),\"\",VLOOKUP($A69,Data!$A$4:$AQ$155,43,FALSE)))","v":5.24},{"$f":"IF($A69=\"\",\"\",IF(ISBLANK($A69),\"\",VLOOKUP($A69,Data!$A$4:$V$155,4,FALSE)))","v":4.72},{"$f":"IF($A69=\"\",\"\",IF(ISBLANK($A69),\"\",VLOOKUP($A69,Data!$A$4:$V$155,5,FALSE)))","v":0.84},{"$f":"IF($A69=\"\",\"\",IF(ISBLANK($A69),\"\",VLOOKUP($A69,Data!$A$4:$AP$155,42,FALSE)))","v":0.46},{"$f":"IF($A69=\"\",\"\",IF(ISBLANK($A69),\"\",VLOOKUP($A69,Data!$A$4:$AS$155,45,FALSE)))","v":0.54},{"$f":"IF($A69=\"\",\"\",IF(ISBLANK($A69),\"\",VLOOKUP($A69,Data!$A$4:$AI$155,35,FALSE)))","v":0.96},{"$f":"IF($A69=\"\",\"\",IF(ISBLANK($A69),\"\",VLOOKUP($A69,Data!$A$4:$AM$155,37,FALSE)))","v":0.61},{"$f":"IF($A69=\"\",\"\",IF(ISBLANK($A69),\"\",VLOOKUP($A69,Data!$A$4:$AM$155,38,FALSE)))","v":0.23},{"$f":"IF($A69=\"\",\"\",IF(ISBLANK($A69),\"\",VLOOKUP($A69,Data!$A$4:$AM$155,39,FALSE)))","v":0.28800000000000003},{"$f":"IF($A69=\"\",\"\",IF(ISBLANK($A69),\"\",VLOOKUP($A69,Data!$A$4:$AI$155,6,FALSE)))","v":76600},{"$f":"IF($A69=\"\",\"\",IF(ISBLANK($A69),\"\",VLOOKUP($A69,Data!$A$4:$AI$155,7,FALSE)))","v":138},{"$f":"IF($A69=\"\",\"\",IF(ISBLANK($A69),\"\",VLOOKUP($A69,Data!$A$4:$AR$155,44,FALSE)))","v":0.69},{"$f":"IF($A69=\"\",\"\",IF(ISBLANK($A69),\"\",VLOOKUP($A69,Data!$A$4:$AI$155,8,FALSE)))","v":0.31}]
[312,{"$f":"IF($A70=\"\",\"\",IF(ISBLANK($A70),\"\",INDEX('LEA Nos codes'!$A$3:$A$154,MATCH($A70,'LEA Nos codes'!$B$3:$B$154,0))))","v":"Hillingdon"},{"$f":"IF($A70=\"\",\"\",IF(ISBLANK($A70),\"\",VLOOKUP($A70,Data!$A$4:$V$155,3,FALSE)))","v":6},{"$f":"IF($A70=\"\",\"\",IF(ISBLANK($A70),\"\",VLOOKUP($A70,Data!$A$4:$AQ$155,43,FALSE)))","v":5.53},{"$f":"IF($A70=\"\",\"\",IF(ISBLANK($A70),\"\",VLOOKUP($A70,Data!$A$4:$V$155,4,FALSE)))","v":4.6500000000000004},{"$f":"IF($A70=\"\",\"\",IF(ISBLANK($A70),\"\",VLOOKUP($A70,Data!$A$4:$V$155,5,FALSE)))","v":0.69},{"$f":"IF($A70=\"\",\"\",IF(ISBLANK($A70),\"\",VLOOKUP($A70,Data!$A$4:$AP$155,42,FALSE)))","v":0.4},{"$f":"IF($A70=\"\",\"\",IF(ISBLANK($A70),\"\",VLOOKUP($A70,Data!$A$4:$AS$155,45,FALSE)))","v":0.47},{"$f":"IF($A70=\"\",\"\",IF(ISBLANK($A70),\"\",VLOOKUP($A70,Data!$A$4:$AI$155,35,FALSE)))","v":0.98},{"$f":"IF($A70=\"\",\"\",IF(ISBLANK($A70),\"\",VLOOKUP($A70,Data!$A$4:$AM$155,37,FALSE)))","v":0.41},{"$f":"IF($A70=\"\",\"\",IF(ISBLANK($A70),\"\",VLOOKUP($A70,Data!$A$4:$AM$155,38,FALSE)))","v":0.16},{"$f":"IF($A70=\"\",\"\",IF(ISBLANK($A70),\"\",VLOOKUP($A70,Data!$A$4:$AM$155,39,FALSE)))","v":0.36599999999999999},{"$f":"IF($A70=\"\",\"\",IF(ISBLANK($A70),\"\",VLOOKUP($A70,Data!$A$4:$AI$155,6,FALSE)))","v":21000},{"$f":"IF($A70=\"\",\"\",IF(ISBLANK($A70),\"\",VLOOKUP($A70,Data!$A$4:$AI$155,7,FALSE)))","v":92},{"$f":"IF($A70=\"\",\"\",IF(ISBLANK($A70),\"\",VLOOKUP($A70,Data!$A$4:$AR$155,44,FALSE)))","v":0.75},{"$f":"IF($A70=\"\",\"\",IF(ISBLANK($A70),\"\",VLOOKUP($A70,Data!$A$4:$AI$155,8,FALSE)))","v":0.23}]
[313,{"$f":"IF($A71=\"\",\"\",IF(ISBLANK($A71),\"\",INDEX('LEA Nos codes'!$A$3:$A$154,MATCH($A71,'LEA Nos codes'!$B$3:$B$154,0))))","v":"Hounslow"},{"$f":"IF($A71=\"\",\"\",IF(ISBLANK($A71),\"\",VLOOKUP($A71,Data!$A$4:$V$155,3,FALSE)))","v":"."},{"$f":"IF($A71=\"\",\"\",IF(ISBLANK($A71),\"\",VLOOKUP($A71,Data!$A$4:$AQ$155,43,FALSE)))","v":5.53},{"$f":"IF($A71=\"\",\"\",IF(ISBLANK($A71),\"\",VLOOKUP($A71,Data!$A$4:$V$155,4,FALSE)))","v":4.58},{"$f":"IF($A71=\"\",\"\",IF(ISBLANK($A71),\"\",VLOOKUP($A71,Data!$A$4:$V$155,5,FALSE)))","v":0.72},{"$f":"IF($A71=\"\",\"\",IF(ISBLANK($A71),\"\",VLOOKUP($A71,Data!$A$4:$AP$155,42,FALSE)))","v":0.45},{"$f":"IF($A71=\"\",\"\",IF(ISBLANK($A71),\"\",VLOOKUP($A71,Data!$A$4:$AS$155,45,FALSE)))","v":0.51},{"$f":"IF($A71=\"\",\"\",IF(ISBLANK($A71),\"\",VLOOKUP($A71,Data!$A$4:$AI$155,35,FALSE)))","v":0.87},{"$f":"IF($A71=\"\",\"\",IF(ISBLANK($A71),\"\",VLOOKUP($A71,Data!$A$4:$AM$155,37,FALSE)))","v":0.4},{"$f":"IF($A71=\"\",\"\",IF(ISBLANK($A71),\"\",VLOOKUP($A71,Data!$A$4:$AM$155,38,FALSE)))","v":0.14000000000000001},{"$f":"IF($A71=\"\",\"\",IF(ISBLANK($A71),\"\",VLOOKUP($A71,Data!$A$4:$AM$155,39,FALSE)))","v":0.37200000000000005},{"$f":"IF($A71=\"\",\"\",IF(ISBLANK($A71),\"\",VLOOKUP($A71,Data!$A$4:$AI$155,6,FALSE)))","v":20800},{"$f":"IF($A71=\"\",\"\",IF(ISBLANK($A71),\"\",VLOOKUP($A71,Data!$A$4:$AI$155,7,FALSE)))","v":82},{"$f":"IF($A71=\"\",\"\",IF(ISBLANK($A71),\"\",VLOOKUP($A71,Data!$A$4:$AR$155,44,FALSE)))","v":0.71},{"$f":"IF($A71=\"\",\"\",IF(ISBLANK($A71),\"\",VLOOKUP($A71,Data!$A$4:$AI$155,8,FALSE)))","v":0.27}]
[921,{"$f":"IF($A72=\"\",\"\",IF(ISBLANK($A72),\"\",INDEX('LEA Nos codes'!$A$3:$A$154,MATCH($A72,'LEA Nos codes'!$B$3:$B$154,0))))","v":"Isle of Wight"},{"$f":"IF($A72=\"\",\"\",IF(ISBLANK($A72),\"\",VLOOKUP($A72,Data!$A$4:$V$155,3,FALSE)))","v":4.8899999999999997},{"$f":"IF($A72=\"\",\"\",IF(ISBLANK($A72),\"\",VLOOKUP($A72,Data!$A$4:$AQ$155,43,FALSE)))","v":5.07},{"$f":"IF($A72=\"\",\"\",IF(ISBLANK($A72),\"\",VLOOKUP($A72,Data!$A$4:$V$155,4,FALSE)))","v":3.87},{"$f":"IF($A72=\"\",\"\",IF(ISBLANK($A72),\"\",VLOOKUP($A72,Data!$A$4:$V$155,5,FALSE)))","v":0.82},{"$f":"IF($A72=\"\",\"\",IF(ISBLANK($A72),\"\",VLOOKUP($A72,Data!$A$4:$AP$155,42,FALSE)))","v":0.24},{"$f":"IF($A72=\"\",\"\",IF(ISBLANK($A72),\"\",VLOOKUP($A72,Data!$A$4:$AS$155,45,FALSE)))","v":0.31},{"$f":"IF($A72=\"\",\"\",IF(ISBLANK($A72),\"\",VLOOKUP($A72,Data!$A$4:$AI$155,35,FALSE)))","v":0.97},{"$f":"IF($A72=\"\",\"\",IF(ISBLANK($A72),\"\",VLOOKUP($A72,Data!$A$4:$AM$155,37,FALSE)))","v":0.45},{"$f":"IF($A72=\"\",\"\",IF(ISBLANK($A72),\"\",VLOOKUP($A72,Data!$A$4:$AM$155,38,FALSE)))","v":0.14000000000000001},{"$f":"IF($A72=\"\",\"\",IF(ISBLANK($A72),\"\",VLOOKUP($A72,Data!$A$4:$AM$155,39,FALSE)))","v":0.39200000000000002},{"$f":"IF($A72=\"\",\"\",IF(ISBLANK($A72),\"\",VLOOKUP($A72,Data!$A$4:$AI$155,6,FALSE)))","v":6600},{"$f":"IF($A72=\"\",\"\",IF(ISBLANK($A72),\"\",VLOOKUP($A72,Data!$A$4:$AI$155,7,FALSE)))","v":86},{"$f":"IF($A72=\"\",\"\",IF(ISBLANK($A72),\"\",VLOOKUP($A72,Data!$A$4:$AR$155,44,FALSE)))","v":0.36},{"$f":"IF($A72=\"\",\"\",IF(ISBLANK($A72),\"\",VLOOKUP($A72,Data!$A$4:$AI$155,8,FALSE)))","v":0.63}]
[420,{"$f":"IF($A73=\"\",\"\",IF(ISBLANK($A73),\"\",INDEX('LEA Nos codes'!$A$3:$A$154,MATCH($A73,'LEA Nos codes'!$B$3:$B$154,0))))","v":"Isles of Scilly"},{"$f":"IF($A73=\"\",\"\",IF(ISBLANK($A73),\"\",VLOOKUP($A73,Data!$A$4:$V$155,3,FALSE)))","v":5.09},{"$f":"IF($A73=\"\",\"\",IF(ISBLANK($A73),\"\",VLOOKUP($A73,Data!$A$4:$AQ$155,43,FALSE)))","v":4.8499999999999996},{"$f":"IF($A73=\"\",\"\",IF(ISBLANK($A73),\"\",VLOOKUP($A73,Data!$A$4:$V$155,4,FALSE)))","v":4.7},{"$f":"IF($A73=\"\",\"\",IF(ISBLANK($A73),\"\",VLOOKUP($A73,Data!$A$4:$V$155,5,FALSE)))","v":1},{"$f":"IF($A73=\"\",\"\",IF(ISBLANK($A73),\"\",VLOOKUP($A73,Data!$A$4:$AP$155,42,FALSE)))","v":0},{"$f":"IF($A73=\"\",\"\",IF(ISBLANK($A73),\"\",VLOOKUP($A73,Data!$A$4:$AS$155,45,FALSE)))","v":0},{"$f":"IF($A73=\"\",\"\",IF(ISBLANK($A73),\"\",VLOOKUP($A73,Data!$A$4:$AI$155,35,FALSE)))","v":1},{"$f":"IF($A73=\"\",\"\",IF(ISBLANK($A73),\"\",VLOOKUP($A73,Data!$A$4:$AM$155,37,FALSE)))","v":1},{"$f":"IF($A73=\"\",\"\",IF(ISBLANK($A73),\"\",VLOOKUP($A73,Data!$A$4:$AM$155,38,FALSE)))","v":"**"},{"$f":"IF($A73=\"\",\"\",IF(ISBLANK($A73),\"\",VLOOKUP($A73,Data!$A$4:$AM$155,39,FALSE)))","v":0.105},{"$f":"IF($A73=\"\",\"\",IF(ISBLANK($A73),\"\",VLOOKUP($A73,Data!$A$4:$AI$155,6,FALSE)))","v":100},{"$f":"IF($A73=\"\",\"\",IF(ISBLANK($A73),\"\",VLOOKUP($A73,Data!$A$4:$AI$155,7,FALSE)))","v":78},{"$f":"IF($A73=\"\",\"\",IF(ISBLANK($A73),\"\",VLOOKUP($A73,Data!$A$4:$AR$155,44,FALSE)))","v":0.78},{"$f":"IF($A73=\"\",\"\",IF(ISBLANK($A73),\"\",VLOOKUP($A73,Data!$A$4:$AI$155,8,FALSE)))","v":0.2}]
[206,{"$f":"IF($A74=\"\",\"\",IF(ISBLANK($A74),\"\",INDEX('LEA Nos codes'!$A$3:$A$154,MATCH($A74,'LEA Nos codes'!$B$3:$B$154,0))))","v":"Islington"},{"$f":"IF($A74=\"\",\"\",IF(ISBLANK($A74),\"\",VLOOKUP($A74,Data!$A$4:$V$155,3,FALSE)))","v":9.99},{"$f":"IF($A74=\"\",\"\",IF(ISBLANK($A74),\"\",VLOOKUP($A74,Data!$A$4:$AQ$155,43,FALSE)))","v":6.07},{"$f":"IF($A74=\"\",\"\",IF(ISBLANK($A74),\"\",VLOOKUP($A74,Data!$A$4:$V$155,4,FALSE)))","v":4.62},{"$f":"IF($A74=\"\",\"\",IF(ISBLANK($A74),\"\",VLOOKUP($A74,Data!$A$4:$V$155,5,FALSE)))","v":0.76},{"$f":"IF($A74=\"\",\"\",IF(ISBLANK($A74),\"\",VLOOKUP($A74,Data!$A$4:$AP$155,42,FALSE)))","v":0.65},{"$f":"IF($A74=\"\",\"\",IF(ISBLANK($A74),\"\",VLOOKUP($A74,Data!$A$4:$AS$155,45,FALSE)))","v":0.81},{"$f":"IF($A74=\"\",\"\",IF(ISBLANK($A74),\"\",VLOOKUP($A74,Data!$A$4:$AI$155,35,FALSE)))","v":0.98},{"$f":"IF($A74=\"\",\"\",IF(ISBLANK($A74),\"\",VLOOKUP($A74,Data!$A$4:$AM$155,37,FALSE)))","v":0.44},{"$f":"IF($A74=\"\",\"\",IF(ISBLANK($A74),\"\",VLOOKUP($A74,Data!$A$4:$AM$155,38,FALSE)))","v":0.14000000000000001},{"$f":"IF($A74=\"\",\"\",IF(ISBLANK($A74),\"\",VLOOKUP($A74,Data!$A$4:$AM$155,39,FALSE)))","v":0.34200000000000003},{"$f":"IF($A74=\"\",\"\",IF(ISBLANK($A74),\"\",VLOOKUP($A74,Data!$A$4:$AI$155,6,FALSE)))","v":12700},{"$f":"IF($A74=\"\",\"\",IF(ISBLANK($A74),\"\",VLOOKUP($A74,Data!$A$4:$AI$155,7,FALSE)))","v":13},{"$f":"IF($A74=\"\",\"\",IF(ISBLANK($A74),\"\",VLOOKUP($A74,Data!$A$4:$AR$155,44,FALSE)))","v":0.71},{"$f":"IF($A74=\"\",\"\",IF(ISBLANK($A74),\"\",VLOOKUP($A74,Data!$A$4:$AI$155,8,FALSE)))","v":0.28000000000000003}]
[207,{"$f":"IF($A75=\"\",\"\",IF(ISBLANK($A75),\"\",INDEX('LEA Nos codes'!$A$3:$A$154,MATCH($A75,'LEA Nos codes'!$B$3:$B$154,0))))","v":"Kensington and Chelsea"},{"$f":"IF($A75=\"\",\"\",IF(ISBLANK($A75),\"\",VLOOKUP($A75,Data!$A$4:$V$155,3,FALSE)))","v":"."},{"$f":"IF($A75=\"\",\"\",IF(ISBLANK($A75),\"\",VLOOKUP($A75,Data!$A$4:$AQ$155,43,FALSE)))","v":6.07},{"$f":"IF($A75=\"\",\"\",IF(ISBLANK($A75),\"\",VLOOKUP($A75,Data!$A$4:$V$155,4,FALSE)))","v":5.89},{"$f":"IF($A75=\"\",\"\",IF(ISBLANK($A75),\"\",VLOOKUP($A75,Data!$A$4:$V$155,5,FALSE)))","v":0.77},{"$f":"IF($A75=\"\",\"\",IF(ISBLANK($A75),\"\",VLOOKUP($A75,Data!$A$4:$AP$155,42,FALSE)))","v":0.65},{"$f":"IF($A75=\"\",\"\",IF(ISBLANK($A75),\"\",VLOOKUP($A75,Data!$A$4:$AS$155,45,FALSE)))","v":0.81},{"$f":"IF($A75=\"\",\"\",IF(ISBLANK($A75),\"\",VLOOKUP($A75,Data!$A$4:$AI$155,35,FALSE)))","v":0.79},{"$f":"IF($A75=\"\",\"\",IF(ISBLANK($A75),\"\",VLOOKUP($A75,Data!$A$4:$AM$155,37,FALSE)))","v":0.48},{"$f":"IF($A75=\"\",\"\",IF(ISBLANK($A75),\"\",VLOOKUP($A75,Data!$A$4:$AM$155,38,FALSE)))","v":0.12},{"$f":"IF($A75=\"\",\"\",IF(ISBLANK($A75),\"\",VLOOKUP($A75,Data!$A$4:$AM$155,39,FALSE)))","v":0.36899999999999999},{"$f":"IF($A75=\"\",\"\",IF(ISBLANK($A75),\"\",VLOOKUP($A75,Data!$A$4:$AI$155,6,FALSE)))","v":9100},{"$f":"IF($A75=\"\",\"\",IF(ISBLANK($A75),\"\",VLOOKUP($A75,Data!$A$4:$AI$155,7,FALSE)))","v":73},{"$f":"IF($A75=\"\",\"\",IF(ISBLANK($A75),\"\",VLOOKUP($A75,Data!$A$4:$AR$155,44,FALSE)))","v":0.56999999999999995},{"$f":"IF($A75=\"\",\"\",IF(ISBLANK($A75),\"\",VLOOKUP($A75,Data!$A$4:$AI$155,8,FALSE)))","v":0.43}]
[886,{"$f":"IF($A76=\"\",\"\",IF(ISBLANK($A76),\"\",INDEX('LEA Nos codes'!$A$3:$A$154,MATCH($A76,'LEA Nos codes'!$B$3:$B$154,0))))","v":"Kent"},{"$f":"IF($A76=\"\",\"\",IF(ISBLANK($A76),\"\",VLOOKUP($A76,Data!$A$4:$V$155,3,FALSE)))","v":4.8499999999999996},{"$f":"IF($A76=\"\",\"\",IF(ISBLANK($A76),\"\",VLOOKUP($A76,Data!$A$4:$AQ$155,43,FALSE)))","v":4.93},{"$f":"IF($A76=\"\",\"\",IF(ISBLANK($A76),\"\",VLOOKUP($A76,Data!$A$4:$V$155,4,FALSE)))","v":4.25},{"$f":"IF($A76=\"\",\"\",IF(ISBLANK($A76),\"\",VLOOKUP($A76,Data!$A$4:$V$155,5,FALSE)))","v":0.83},{"$f":"IF($A76=\"\",\"\",IF(ISBLANK($A76),\"\",VLOOKUP($A76,Data!$A$4:$AP$155,42,FALSE)))","v":0.39},{"$f":"IF($A76=\"\",\"\",IF(ISBLANK($A76),\"\",VLOOKUP($A76,Data!$A$4:$AS$155,45,FALSE)))","v":0.43},{"$f":"IF($A76=\"\",\"\",IF(ISBLANK($A76),\"\",VLOOKUP($A76,Data!$A$4:$AI$155,35,FALSE)))","v":0.96},{"$f":"IF($A76=\"\",\"\",IF(ISBLANK($A76),\"\",VLOOKUP($A76,Data!$A$4:$AM$155,37,FALSE)))","v":0.63},{"$f":"IF($A76=\"\",\"\",IF(ISBLANK($A76),\"\",VLOOKUP($A76,Data!$A$4:$AM$155,38,FALSE)))","v":0.19},{"$f":"IF($A76=\"\",\"\",IF(ISBLANK($A76),\"\",VLOOKUP($A76,Data!$A$4:$AM$155,39,FALSE)))","v":0.252},{"$f":"IF($A76=\"\",\"\",IF(ISBLANK($A76),\"\",VLOOKUP($A76,Data!$A$4:$AI$155,6,FALSE)))","v":90800},{"$f":"IF($A76=\"\",\"\",IF(ISBLANK($A76),\"\",VLOOKUP($A76,Data!$A$4:$AI$155,7,FALSE)))","v":101},{"$f":"IF($A76=\"\",\"\",IF(ISBLANK($A76),\"\",VLOOKUP($A76,Data!$A$4:$AR$155,44,FALSE)))","v":0.41},{"$f":"IF($A76=\"\",\"\",IF(ISBLANK($A76),\"\",VLOOKUP($A76,Data!$A$4:$AI$155,8,FALSE)))","v":0.57999999999999996}]
[314,{"$f":"IF($A77=\"\",\"\",IF(ISBLANK($A77),\"\",INDEX('LEA Nos codes'!$A$3:$A$154,MATCH($A77,'LEA Nos codes'!$B$3:$B$154,0))))","v":"Kingston upon Thames"},{"$f":"IF($A77=\"\",\"\",IF(ISBLANK($A77),\"\",VLOOKUP($A77,Data!$A$4:$V$155,3,FALSE)))","v":6.2},{"$f":"IF($A77=\"\",\"\",IF(ISBLANK($A77),\"\",VLOOKUP($A77,Data!$A$4:$AQ$155,43,FALSE)))","v":5.53},{"$f":"IF($A77=\"\",\"\",IF(ISBLANK($A77),\"\",VLOOKUP($A77,Data!$A$4:$V$155,4,FALSE)))","v":3.87},{"$f":"IF($A77=\"\",\"\",IF(ISBLANK($A77),\"\",VLOOKUP($A77,Data!$A$4:$V$155,5,FALSE)))","v":0.84},{"$f":"IF($A77=\"\",\"\",IF(ISBLANK($A77),\"\",VLOOKUP($A77,Data!$A$4:$AP$155,42,FALSE)))","v":0.51},{"$f":"IF($A77=\"\",\"\",IF(ISBLANK($A77),\"\",VLOOKUP($A77,Data!$A$4:$AS$155,45,FALSE)))","v":0.57999999999999996},{"$f":"IF($A77=\"\",\"\",IF(ISBLANK($A77),\"\",VLOOKUP($A77,Data!$A$4:$AI$155,35,FALSE)))","v":0.94},{"$f":"IF($A77=\"\",\"\",IF(ISBLANK($A77),\"\",VLOOKUP($A77,Data!$A$4:$AM$155,37,FALSE)))","v":0.56999999999999995},{"$f":"IF($A77=\"\",\"\",IF(ISBLANK($A77),\"\",VLOOKUP($A77,Data!$A$4:$AM$155,38,FALSE)))","v":0.22},{"$f":"IF($A77=\"\",\"\",IF(ISBLANK($A77),\"\",VLOOKUP($A77,Data!$A$4:$AM$155,39,FALSE)))","v":0.28300000000000003},{"$f":"IF($A77=\"\",\"\",IF(ISBLANK($A77),\"\",VLOOKUP($A77,Data!$A$4:$AI$155,6,FALSE)))","v":11500},{"$f":"IF($A77=\"\",\"\",IF(ISBLANK($A77),\"\",VLOOKUP($A77,Data!$A$4:$AI$155,7,FALSE)))","v":137},{"$f":"IF($A77=\"\",\"\",IF(ISBLANK($A77),\"\",VLOOKUP($A77,Data!$A$4:$AR$155,44,FALSE)))","v":0.66},{"$f":"IF($A77=\"\",\"\",IF(ISBLANK($A77),\"\",VLOOKUP($A77,Data!$A$4:$AI$155,8,FALSE)))","v":0.34}]
[382,{"$f":"IF($A78=\"\",\"\",IF(ISBLANK($A78),\"\",INDEX('LEA Nos codes'!$A$3:$A$154,MATCH($A78,'LEA Nos codes'!$B$3:$B$154,0))))","v":"Kirklees"},{"$f":"IF($A78=\"\",\"\",IF(ISBLANK($A78),\"\",VLOOKUP($A78,Data!$A$4:$V$155,3,FALSE)))","v":4.8499999999999996},{"$f":"IF($A78=\"\",\"\",IF(ISBLANK($A78),\"\",VLOOKUP($A78,Data!$A$4:$AQ$155,43,FALSE)))","v":4.8499999999999996},{"$f":"IF($A78=\"\",\"\",IF(ISBLANK($A78),\"\",VLOOKUP($A78,Data!$A$4:$V$155,4,FALSE)))","v":4.37},{"$f":"IF($A78=\"\",\"\",IF(ISBLANK($A78),\"\",VLOOKUP($A78,Data!$A$4:$V$155,5,FALSE)))","v":0.73},{"$f":"IF($A78=\"\",\"\",IF(ISBLANK($A78),\"\",VLOOKUP($A78,Data!$A$4:$AP$155,42,FALSE)))","v":0.32},{"$f":"IF($A78=\"\",\"\",IF(ISBLANK($A78),\"\",VLOOKUP($A78,Data!$A$4:$AS$155,45,FALSE)))","v":0.38},{"$f":"IF($A78=\"\",\"\",IF(ISBLANK($A78),\"\",VLOOKUP($A78,Data!$A$4:$AI$155,35,FALSE)))","v":0.97},{"$f":"IF($A78=\"\",\"\",IF(ISBLANK($A78),\"\",VLOOKUP($A78,Data!$A$4:$AM$155,37,FALSE)))","v":0.53},{"$f":"IF($A78=\"\",\"\",IF(ISBLANK($A78),\"\",VLOOKUP($A78,Data!$A$4:$AM$155,38,FALSE)))","v":0.23},{"$f":"IF($A78=\"\",\"\",IF(ISBLANK($A78),\"\",VLOOKUP($A78,Data!$A$4:$AM$155,39,FALSE)))","v":0.35},{"$f":"IF($A78=\"\",\"\",IF(ISBLANK($A78),\"\",VLOOKUP($A78,Data!$A$4:$AI$155,6,FALSE)))","v":28700},{"$f":"IF($A78=\"\",\"\",IF(ISBLANK($A78),\"\",VLOOKUP($A78,Data!$A$4:$AI$155,7,FALSE)))","v":62},{"$f":"IF($A78=\"\",\"\",IF(ISBLANK($A78),\"\",VLOOKUP($A78,Data!$A$4:$AR$155,44,FALSE)))","v":0.66},{"$f":"IF($A78=\"\",\"\",IF(ISBLANK($A78),\"\",VLOOKUP($A78,Data!$A$4:$AI$155,8,FALSE)))","v":0.34}]
[340,{"$f":"IF($A79=\"\",\"\",IF(ISBLANK($A79),\"\",INDEX('LEA Nos codes'!$A$3:$A$154,MATCH($A79,'LEA Nos codes'!$B$3:$B$154,0))))","v":"Knowsley"},{"$f":"IF($A79=\"\",\"\",IF(ISBLANK($A79),\"\",VLOOKUP($A79,Data!$A$4:$V$155,3,FALSE)))","v":4.7},{"$f":"IF($A79=\"\",\"\",IF(ISBLANK($A79),\"\",VLOOKUP($A79,Data!$A$4:$AQ$155,43,FALSE)))","v":4.87},{"$f":"IF($A79=\"\",\"\",IF(ISBLANK($A79),\"\",VLOOKUP($A79,Data!$A$4:$V$155,4,FALSE)))","v":4.3099999999999996},{"$f":"IF($A79=\"\",\"\",IF(ISBLANK($A79),\"\",VLOOKUP($A79,Data!$A$4:$V$155,5,FALSE)))","v":0.77},{"$f":"IF($A79=\"\",\"\",IF(ISBLANK($A79),\"\",VLOOKUP($A79,Data!$A$4:$AP$155,42,FALSE)))","v":0.59},{"$f":"IF($A79=\"\",\"\",IF(ISBLANK($A79),\"\",VLOOKUP($A79,Data!$A$4:$AS$155,45,FALSE)))","v":0.72},{"$f":"IF($A79=\"\",\"\",IF(ISBLANK($A79),\"\",VLOOKUP($A79,Data!$A$4:$AI$155,35,FALSE)))","v":0.99},{"$f":"IF($A79=\"\",\"\",IF(ISBLANK($A79),\"\",VLOOKUP($A79,Data!$A$4:$AM$155,37,FALSE)))","v":0.55000000000000004},{"$f":"IF($A79=\"\",\"\",IF(ISBLANK($A79),\"\",VLOOKUP($A79,Data!$A$4:$AM$155,38,FALSE)))","v":0.17},{"$f":"IF($A79=\"\",\"\",IF(ISBLANK($A79),\"\",VLOOKUP($A79,Data!$A$4:$AM$155,39,FALSE)))","v":0.31900000000000001},{"$f":"IF($A79=\"\",\"\",IF(ISBLANK($A79),\"\",VLOOKUP($A79,Data!$A$4:$AI$155,6,FALSE)))","v":9300},{"$f":"IF($A79=\"\",\"\",IF(ISBLANK($A79),\"\",VLOOKUP($A79,Data!$A$4:$AI$155,7,FALSE)))","v":5},{"$f":"IF($A79=\"\",\"\",IF(ISBLANK($A79),\"\",VLOOKUP($A79,Data!$A$4:$AR$155,44,FALSE)))","v":0.88},{"$f":"IF($A79=\"\",\"\",IF(ISBLANK($A79),\"\",VLOOKUP($A79,Data!$A$4:$AI$155,8,FALSE)))","v":0.11}]
[208,{"$f":"IF($A80=\"\",\"\",IF(ISBLANK($A80),\"\",INDEX('LEA Nos codes'!$A$3:$A$154,MATCH($A80,'LEA Nos codes'!$B$3:$B$154,0))))","v":"Lambeth"},{"$f":"IF($A80=\"\",\"\",IF(ISBLANK($A80),\"\",VLOOKUP($A80,Data!$A$4:$V$155,3,FALSE)))","v":"."},{"$f":"IF($A80=\"\",\"\",IF(ISBLANK($A80),\"\",VLOOKUP($A80,Data!$A$4:$AQ$155,43,FALSE)))","v":6.07},{"$f":"IF($A80=\"\",\"\",IF(ISBLANK($A80),\"\",VLOOKUP($A80,Data!$A$4:$V$155,4,FALSE)))","v":5.88},{"$f":"IF($A80=\"\",\"\",IF(ISBLANK($A80),\"\",VLOOKUP($A80,Data!$A$4:$V$155,5,FALSE)))","v":0.7},{"$f":"IF($A80=\"\",\"\",IF(ISBLANK($A80),\"\",VLOOKUP($A80,Data!$A$4:$AP$155,42,FALSE)))","v":0.52},{"$f":"IF($A80=\"\",\"\",IF(ISBLANK($A80),\"\",VLOOKUP($A80,Data!$A$4:$AS$155,45,FALSE)))","v":0.54},{"$f":"IF($A80=\"\",\"\",IF(ISBLANK($A80),\"\",VLOOKUP($A80,Data!$A$4:$AI$155,35,FALSE)))","v":0.91},{"$f":"IF($A80=\"\",\"\",IF(ISBLANK($A80),\"\",VLOOKUP($A80,Data!$A$4:$AM$155,37,FALSE)))","v":0.46},{"$f":"IF($A80=\"\",\"\",IF(ISBLANK($A80),\"\",VLOOKUP($A80,Data!$A$4:$AM$155,38,FALSE)))","v":0.14000000000000001},{"$f":"IF($A80=\"\",\"\",IF(ISBLANK($A80),\"\",VLOOKUP($A80,Data!$A$4:$AM$155,39,FALSE)))","v":0.39600000000000002},{"$f":"IF($A80=\"\",\"\",IF(ISBLANK($A80),\"\",VLOOKUP($A80,Data!$A$4:$AI$155,6,FALSE)))","v":21100},{"$f":"IF($A80=\"\",\"\",IF(ISBLANK($A80),\"\",VLOOKUP($A80,Data!$A$4:$AI$155,7,FALSE)))","v":27},{"$f":"IF($A80=\"\",\"\",IF(ISBLANK($A80),\"\",VLOOKUP($A80,Data!$A$4:$AR$155,44,FALSE)))","v":0.69},{"$f":"IF($A80=\"\",\"\",IF(ISBLANK($A80),\"\",VLOOKUP($A80,Data!$A$4:$AI$155,8,FALSE)))","v":0.31}]
[888,{"$f":"IF($A81=\"\",\"\",IF(ISBLANK($A81),\"\",INDEX('LEA Nos codes'!$A$3:$A$154,MATCH($A81,'LEA Nos codes'!$B$3:$B$154,0))))","v":"Lancashire"},{"$f":"IF($A81=\"\",\"\",IF(ISBLANK($A81),\"\",VLOOKUP($A81,Data!$A$4:$V$155,3,FALSE)))","v":4.78},{"$f":"IF($A81=\"\",\"\",IF(ISBLANK($A81),\"\",VLOOKUP($A81,Data!$A$4:$AQ$155,43,FALSE)))","v":4.8499999999999996},{"$f":"IF($A81=\"\",\"\",IF(ISBLANK($A81),\"\",VLOOKUP($A81,Data!$A$4:$V$155,4,FALSE)))","v":4.47},{"$f":"IF($A81=\"\",\"\",IF(ISBLANK($A81),\"\",VLOOKUP($A81,Data!$A$4:$V$155,5,FALSE)))","v":0.76},{"$f":"IF($A81=\"\",\"\",IF(ISBLANK($A81),\"\",VLOOKUP($A81,Data!$A$4:$AP$155,42,FALSE)))","v":0.53},{"$f":"IF($A81=\"\",\"\",IF(ISBLANK($A81),\"\",VLOOKUP($A81,Data!$A$4:$AS$155,45,FALSE)))","v":0.56000000000000005},{"$f":"IF($A81=\"\",\"\",IF(ISBLANK($A81),\"\",VLOOKUP($A81,Data!$A$4:$AI$155,35,FALSE)))","v":0.98},{"$f":"IF($A81=\"\",\"\",IF(ISBLANK($A81),\"\",VLOOKUP($A81,Data!$A$4:$AM$155,37,FALSE)))","v":0.59},{"$f":"IF($A81=\"\",\"\",IF(ISBLANK($A81),\"\",VLOOKUP($A81,Data!$A$4:$AM$155,38,FALSE)))","v":0.24},{"$f":"IF($A81=\"\",\"\",IF(ISBLANK($A81),\"\",VLOOKUP($A81,Data!$A$4:$AM$155,39,FALSE)))","v":0.33600000000000002},{"$f":"IF($A81=\"\",\"\",IF(ISBLANK($A81),\"\",VLOOKUP($A81,Data!$A$4:$AI$155,6,FALSE)))","v":69200},{"$f":"IF($A81=\"\",\"\",IF(ISBLANK($A81),\"\",VLOOKUP($A81,Data!$A$4:$AI$155,7,FALSE)))","v":79},{"$f":"IF($A81=\"\",\"\",IF(ISBLANK($A81),\"\",VLOOKUP($A81,Data!$A$4:$AR$155,44,FALSE)))","v":0.53},{"$f":"IF($A81=\"\",\"\",IF(ISBLANK($A81),\"\",VLOOKUP($A81,Data!$A$4:$AI$155,8,FALSE)))","v":0.46}]
[383,{"$f":"IF($A82=\"\",\"\",IF(ISBLANK($A82),\"\",INDEX('LEA Nos codes'!$A$3:$A$154,MATCH($A82,'LEA Nos codes'!$B$3:$B$154,0))))","v":"Leeds"},{"$f":"IF($A82=\"\",\"\",IF(ISBLANK($A82),\"\",VLOOKUP($A82,Data!$A$4:$V$155,3,FALSE)))","v":4.8499999999999996},{"$f":"IF($A82=\"\",\"\",IF(ISBLANK($A82),\"\",VLOOKUP($A82,Data!$A$4:$AQ$155,43,FALSE)))","v":4.8499999999999996},{"$f":"IF($A82=\"\",\"\",IF(ISBLANK($A82),\"\",VLOOKUP($A82,Data!$A$4:$V$155,4,FALSE)))","v":4.1500000000000004},{"$f":"IF($A82=\"\",\"\",IF(ISBLANK($A82),\"\",VLOOKUP($A82,Data!$A$4:$V$155,5,FALSE)))","v":0.73},{"$f":"IF($A82=\"\",\"\",IF(ISBLANK($A82),\"\",VLOOKUP($A82,Data!$A$4:$AP$155,42,FALSE)))","v":0.5},{"$f":"IF($A82=\"\",\"\",IF(ISBLANK($A82),\"\",VLOOKUP($A82,Data!$A$4:$AS$155,45,FALSE)))","v":0.57999999999999996},{"$f":"IF($A82=\"\",\"\",IF(ISBLANK($A82),\"\",VLOOKUP($A82,Data!$A$4:$AI$155,35,FALSE)))","v":0.99},{"$f":"IF($A82=\"\",\"\",IF(ISBLANK($A82),\"\",VLOOKUP($A82,Data!$A$4:$AM$155,37,FALSE)))","v":0.51},{"$f":"IF($A82=\"\",\"\",IF(ISBLANK($A82),\"\",VLOOKUP($A82,Data!$A$4:$AM$155,38,FALSE)))","v":0.23},{"$f":"IF($A82=\"\",\"\",IF(ISBLANK($A82),\"\",VLOOKUP($A82,Data!$A$4:$AM$155,39,FALSE)))","v":0.44600000000000001},{"$f":"IF($A82=\"\",\"\",IF(ISBLANK($A82),\"\",VLOOKUP($A82,Data!$A$4:$AI$155,6,FALSE)))","v":49500},{"$f":"IF($A82=\"\",\"\",IF(ISBLANK($A82),\"\",VLOOKUP($A82,Data!$A$4:$AI$155,7,FALSE)))","v":55},{"$f":"IF($A82=\"\",\"\",IF(ISBLANK($A82),\"\",VLOOKUP($A82,Data!$A$4:$AR$155,44,FALSE)))","v":0.7},{"$f":"IF($A82=\"\",\"\",IF(ISBLANK($A82),\"\",VLOOKUP($A82,Data!$A$4:$AI$155,8,FALSE)))","v":0.28999999999999998}]
[856,{"$f":"IF($A83=\"\",\"\",IF(ISBLANK($A83),\"\",INDEX('LEA Nos codes'!$A$3:$A$154,MATCH($A83,'LEA Nos codes'!$B$3:$B$154,0))))","v":"Leicester"},{"$f":"IF($A83=\"\",\"\",IF(ISBLANK($A83),\"\",VLOOKUP($A83,Data!$A$4:$V$155,3,FALSE)))","v":4.9000000000000004},{"$f":"IF($A83=\"\",\"\",IF(ISBLANK($A83),\"\",VLOOKUP($A83,Data!$A$4:$AQ$155,43,FALSE)))","v":4.8499999999999996},{"$f":"IF($A83=\"\",\"\",IF(ISBLANK($A83),\"\",VLOOKUP($A83,Data!$A$4:$V$155,4,FALSE)))","v":3.56},{"$f":"IF($A83=\"\",\"\",IF(ISBLANK($A83),\"\",VLOOKUP($A83,Data!$A$4:$V$155,5,FALSE)))","v":0.63},{"$f":"IF($A83=\"\",\"\",IF(ISBLANK($A83),\"\",VLOOKUP($A83,Data!$A$4:$AP$155,42,FALSE)))","v":0.32},{"$f":"IF($A83=\"\",\"\",IF(ISBLANK($A83),\"\",VLOOKUP($A83,Data!$A$4:$AS$155,45,FALSE)))","v":0.4},{"$f":"IF($A83=\"\",\"\",IF(ISBLANK($A83),\"\",VLOOKUP($A83,Data!$A$4:$AI$155,35,FALSE)))","v":0.93},{"$f":"IF($A83=\"\",\"\",IF(ISBLANK($A83),\"\",VLOOKUP($A83,Data!$A$4:$AM$155,37,FALSE)))","v":0.28000000000000003},{"$f":"IF($A83=\"\",\"\",IF(ISBLANK($A83),\"\",VLOOKUP($A83,Data!$A$4:$AM$155,38,FALSE)))","v":0.09},{"$f":"IF($A83=\"\",\"\",IF(ISBLANK($A83),\"\",VLOOKUP($A83,Data!$A$4:$AM$155,39,FALSE)))","v":0.37},{"$f":"IF($A83=\"\",\"\",IF(ISBLANK($A83),\"\",VLOOKUP($A83,Data!$A$4:$AI$155,6,FALSE)))","v":25000},{"$f":"IF($A83=\"\",\"\",IF(ISBLANK($A83),\"\",VLOOKUP($A83,Data!$A$4:$AI$155,7,FALSE)))","v":23},{"$f":"IF($A83=\"\",\"\",IF(ISBLANK($A83),\"\",VLOOKUP($A83,Data!$A$4:$AR$155,44,FALSE)))","v":0.65},{"$f":"IF($A83=\"\",\"\",IF(ISBLANK($A83),\"\",VLOOKUP($A83,Data!$A$4:$AI$155,8,FALSE)))","v":0.34}]
[855,{"$f":"IF($A84=\"\",\"\",IF(ISBLANK($A84),\"\",INDEX('LEA Nos codes'!$A$3:$A$154,MATCH($A84,'LEA Nos codes'!$B$3:$B$154,0))))","v":"Leicestershire"},{"$f":"IF($A84=\"\",\"\",IF(ISBLANK($A84),\"\",VLOOKUP($A84,Data!$A$4:$V$155,3,FALSE)))","v":4.8499999999999996},{"$f":"IF($A84=\"\",\"\",IF(ISBLANK($A84),\"\",VLOOKUP($A84,Data!$A$4:$AQ$155,43,FALSE)))","v":4.8499999999999996},{"$f":"IF($A84=\"\",\"\",IF(ISBLANK($A84),\"\",VLOOKUP($A84,Data!$A$4:$V$155,4,FALSE)))","v":3.56},{"$f":"IF($A84=\"\",\"\",IF(ISBLANK($A84),\"\",VLOOKUP($A84,Data!$A$4:$V$155,5,FALSE)))","v":0.73},{"$f":"IF($A84=\"\",\"\",IF(ISBLANK($A84),\"\",VLOOKUP($A84,Data!$A$4:$AP$155,42,FALSE)))","v":0.34},{"$f":"IF($A84=\"\",\"\",IF(ISBLANK($A84),\"\",VLOOKUP($A84,Data!$A$4:$AS$155,45,FALSE)))","v":0.37},{"$f":"IF($A84=\"\",\"\",IF(ISBLANK($A84),\"\",VLOOKUP($A84,Data!$A$4:$AI$155,35,FALSE)))","v":0.98},{"$f":"IF($A84=\"\",\"\",IF(ISBLANK($A84),\"\",VLOOKUP($A84,Data!$A$4:$AM$155,37,FALSE)))","v":0.46},{"$f":"IF($A84=\"\",\"\",IF(ISBLANK($A84),\"\",VLOOKUP($A84,Data!$A$4:$AM$155,38,FALSE)))","v":0.24},{"$f":"IF($A84=\"\",\"\",IF(ISBLANK($A84),\"\",VLOOKUP($A84,Data!$A$4:$AM$155,39,FALSE)))","v":0.33500000000000002},{"$f":"IF($A84=\"\",\"\",IF(ISBLANK($A84),\"\",VLOOKUP($A84,Data!$A$4:$AI$155,6,FALSE)))","v":36500},{"$f":"IF($A84=\"\",\"\",IF(ISBLANK($A84),\"\",VLOOKUP($A84,Data!$A$4:$AI$155,7,FALSE)))","v":136},{"$f":"IF($A84=\"\",\"\",IF(ISBLANK($A84),\"\",VLOOKUP($A84,Data!$A$4:$AR$155,44,FALSE)))","v":0.35},{"$f":"IF($A84=\"\",\"\",IF(ISBLANK($A84),\"\",VLOOKUP($A84,Data!$A$4:$AI$155,8,FALSE)))","v":0.65}]
[209,{"$f":"IF($A85=\"\",\"\",IF(ISBLANK($A85),\"\",INDEX('LEA Nos codes'!$A$3:$A$154,MATCH($A85,'LEA Nos codes'!$B$3:$B$154,0))))","v":"Lewisham"},{"$f":"IF($A85=\"\",\"\",IF(ISBLANK($A85),\"\",VLOOKUP($A85,Data!$A$4:$V$155,3,FALSE)))","v":6},{"$f":"IF($A85=\"\",\"\",IF(ISBLANK($A85),\"\",VLOOKUP($A85,Data!$A$4:$AQ$155,43,FALSE)))","v":6.07},{"$f":"IF($A85=\"\",\"\",IF(ISBLANK($A85),\"\",VLOOKUP($A85,Data!$A$4:$V$155,4,FALSE)))","v":5.41},{"$f":"IF($A85=\"\",\"\",IF(ISBLANK($A85),\"\",VLOOKUP($A85,Data!$A$4:$V$155,5,FALSE)))","v":0.71},{"$f":"IF($A85=\"\",\"\",IF(ISBLANK($A85),\"\",VLOOKUP($A85,Data!$A$4:$AP$155,42,FALSE)))","v":0.42},{"$f":"IF($A85=\"\",\"\",IF(ISBLANK($A85),\"\",VLOOKUP($A85,Data!$A$4:$AS$155,45,FALSE)))","v":0.43},{"$f":"IF($A85=\"\",\"\",IF(ISBLANK($A85),\"\",VLOOKUP($A85,Data!$A$4:$AI$155,35,FALSE)))","v":0.86},{"$f":"IF($A85=\"\",\"\",IF(ISBLANK($A85),\"\",VLOOKUP($A85,Data!$A$4:$AM$155,37,FALSE)))","v":0.68},{"$f":"IF($A85=\"\",\"\",IF(ISBLANK($A85),\"\",VLOOKUP($A85,Data!$A$4:$AM$155,38,FALSE)))","v":0.11},{"$f":"IF($A85=\"\",\"\",IF(ISBLANK($A85),\"\",VLOOKUP($A85,Data!$A$4:$AM$155,39,FALSE)))","v":0.25},{"$f":"IF($A85=\"\",\"\",IF(ISBLANK($A85),\"\",VLOOKUP($A85,Data!$A$4:$AI$155,6,FALSE)))","v":22500},{"$f":"IF($A85=\"\",\"\",IF(ISBLANK($A85),\"\",VLOOKUP($A85,Data!$A$4:$AI$155,7,FALSE)))","v":29},{"$f":"IF($A85=\"\",\"\",IF(ISBLANK($A85),\"\",VLOOKUP($A85,Data!$A$4:$AR$155,44,FALSE)))","v":0.71},{"$f":"IF($A85=\"\",\"\",IF(ISBLANK($A85),\"\",VLOOKUP($A85,Data!$A$4:$AI$155,8,FALSE)))","v":0.26}]
[925,{"$f":"IF($A86=\"\",\"\",IF(ISBLANK($A86),\"\",INDEX('LEA Nos codes'!$A$3:$A$154,MATCH($A86,'LEA Nos codes'!$B$3:$B$154,0))))","v":"Lincolnshire"},{"$f":"IF($A86=\"\",\"\",IF(ISBLANK($A86),\"\",VLOOKUP($A86,Data!$A$4:$V$155,3,FALSE)))","v":6.61},{"$f":"IF($A86=\"\",\"\",IF(ISBLANK($A86),\"\",VLOOKUP($A86,Data!$A$4:$AQ$155,43,FALSE)))","v":4.8499999999999996},{"$f":"IF($A86=\"\",\"\",IF(ISBLANK($A86),\"\",VLOOKUP($A86,Data!$A$4:$V$155,4,FALSE)))","v":3.81},{"$f":"IF($A86=\"\",\"\",IF(ISBLANK($A86),\"\",VLOOKUP($A86,Data!$A$4:$V$155,5,FALSE)))","v":0.76},{"$f":"IF($A86=\"\",\"\",IF(ISBLANK($A86),\"\",VLOOKUP($A86,Data!$A$4:$AP$155,42,FALSE)))","v":0.37},{"$f":"IF($A86=\"\",\"\",IF(ISBLANK($A86),\"\",VLOOKUP($A86,Data!$A$4:$AS$155,45,FALSE)))","v":0.41},{"$f":"IF($A86=\"\",\"\",IF(ISBLANK($A86),\"\",VLOOKUP($A86,Data!$A$4:$AI$155,35,FALSE)))","v":1.01},{"$f":"IF($A86=\"\",\"\",IF(ISBLANK($A86),\"\",VLOOKUP($A86,Data!$A$4:$AM$155,37,FALSE)))","v":0.65},{"$f":"IF($A86=\"\",\"\",IF(ISBLANK($A86),\"\",VLOOKUP($A86,Data!$A$4:$AM$155,38,FALSE)))","v":0.21},{"$f":"IF($A86=\"\",\"\",IF(ISBLANK($A86),\"\",VLOOKUP($A86,Data!$A$4:$AM$155,39,FALSE)))","v":0.29600000000000004},{"$f":"IF($A86=\"\",\"\",IF(ISBLANK($A86),\"\",VLOOKUP($A86,Data!$A$4:$AI$155,6,FALSE)))","v":38800},{"$f":"IF($A86=\"\",\"\",IF(ISBLANK($A86),\"\",VLOOKUP($A86,Data!$A$4:$AI$155,7,FALSE)))","v":95},{"$f":"IF($A86=\"\",\"\",IF(ISBLANK($A86),\"\",VLOOKUP($A86,Data!$A$4:$AR$155,44,FALSE)))","v":0.47},{"$f":"IF($A86=\"\",\"\",IF(ISBLANK($A86),\"\",VLOOKUP($A86,Data!$A$4:$AI$155,8,FALSE)))","v":0.51}]
[341,{"$f":"IF($A87=\"\",\"\",IF(ISBLANK($A87),\"\",INDEX('LEA Nos codes'!$A$3:$A$154,MATCH($A87,'LEA Nos codes'!$B$3:$B$154,0))))","v":"Liverpool"},{"$f":"IF($A87=\"\",\"\",IF(ISBLANK($A87),\"\",VLOOKUP($A87,Data!$A$4:$V$155,3,FALSE)))","v":4.9000000000000004},{"$f":"IF($A87=\"\",\"\",IF(ISBLANK($A87),\"\",VLOOKUP($A87,Data!$A$4:$AQ$155,43,FALSE)))","v":4.87},{"$f":"IF($A87=\"\",\"\",IF(ISBLANK($A87),\"\",VLOOKUP($A87,Data!$A$4:$V$155,4,FALSE)))","v":5.03},{"$f":"IF($A87=\"\",\"\",IF(ISBLANK($A87),\"\",VLOOKUP($A87,Data!$A$4:$V$155,5,FALSE)))","v":0.74},{"$f":"IF($A87=\"\",\"\",IF(ISBLANK($A87),\"\",VLOOKUP($A87,Data!$A$4:$AP$155,42,FALSE)))","v":0.44},{"$f":"IF($A87=\"\",\"\",IF(ISBLANK($A87),\"\",VLOOKUP($A87,Data!$A$4:$AS$155,45,FALSE)))","v":0.53},{"$f":"IF($A87=\"\",\"\",IF(ISBLANK($A87),\"\",VLOOKUP($A87,Data!$A$4:$AI$155,35,FALSE)))","v":0.98},{"$f":"IF($A87=\"\",\"\",IF(ISBLANK($A87),\"\",VLOOKUP($A87,Data!$A$4:$AM$155,37,FALSE)))","v":0.51},{"$f":"IF($A87=\"\",\"\",IF(ISBLANK($A87),\"\",VLOOKUP($A87,Data!$A$4:$AM$155,38,FALSE)))","v":0.2},{"$f":"IF($A87=\"\",\"\",IF(ISBLANK($A87),\"\",VLOOKUP($A87,Data!$A$4:$AM$155,39,FALSE)))","v":0.34899999999999998},{"$f":"IF($A87=\"\",\"\",IF(ISBLANK($A87),\"\",VLOOKUP($A87,Data!$A$4:$AI$155,6,FALSE)))","v":27200},{"$f":"IF($A87=\"\",\"\",IF(ISBLANK($A87),\"\",VLOOKUP($A87,Data!$A$4:$AI$155,7,FALSE)))","v":1},{"$f":"IF($A87=\"\",\"\",IF(ISBLANK($A87),\"\",VLOOKUP($A87,Data!$A$4:$AR$155,44,FALSE)))","v":0.75},{"$f":"IF($A87=\"\",\"\",IF(ISBLANK($A87),\"\",VLOOKUP($A87,Data!$A$4:$AI$155,8,FALSE)))","v":0.25}]
[821,{"$f":"IF($A88=\"\",\"\",IF(ISBLANK($A88),\"\",INDEX('LEA Nos codes'!$A$3:$A$154,MATCH($A88,'LEA Nos codes'!$B$3:$B$154,0))))","v":"Luton"},{"$f":"IF($A88=\"\",\"\",IF(ISBLANK($A88),\"\",VLOOKUP($A88,Data!$A$4:$V$155,3,FALSE)))","v":5.09},{"$f":"IF($A88=\"\",\"\",IF(ISBLANK($A88),\"\",VLOOKUP($A88,Data!$A$4:$AQ$155,43,FALSE)))","v":5.03},{"$f":"IF($A88=\"\",\"\",IF(ISBLANK($A88),\"\",VLOOKUP($A88,Data!$A$4:$V$155,4,FALSE)))","v":4.76},{"$f":"IF($A88=\"\",\"\",IF(ISBLANK($A88),\"\",VLOOKUP($A88,Data!$A$4:$V$155,5,FALSE)))","v":0.79},{"$f":"IF($A88=\"\",\"\",IF(ISBLANK($A88),\"\",VLOOKUP($A88,Data!$A$4:$AP$155,42,FALSE)))","v":0.3},{"$f":"IF($A88=\"\",\"\",IF(ISBLANK($A88),\"\",VLOOKUP($A88,Data!$A$4:$AS$155,45,FALSE)))","v":0.35},{"$f":"IF($A88=\"\",\"\",IF(ISBLANK($A88),\"\",VLOOKUP($A88,Data!$A$4:$AI$155,35,FALSE)))","v":0.96},{"$f":"IF($A88=\"\",\"\",IF(ISBLANK($A88),\"\",VLOOKUP($A88,Data!$A$4:$AM$155,37,FALSE)))","v":0.47},{"$f":"IF($A88=\"\",\"\",IF(ISBLANK($A88),\"\",VLOOKUP($A88,Data!$A$4:$AM$155,38,FALSE)))","v":0.09},{"$f":"IF($A88=\"\",\"\",IF(ISBLANK($A88),\"\",VLOOKUP($A88,Data!$A$4:$AM$155,39,FALSE)))","v":0.38900000000000001},{"$f":"IF($A88=\"\",\"\",IF(ISBLANK($A88),\"\",VLOOKUP($A88,Data!$A$4:$AI$155,6,FALSE)))","v":17000},{"$f":"IF($A88=\"\",\"\",IF(ISBLANK($A88),\"\",VLOOKUP($A88,Data!$A$4:$AI$155,7,FALSE)))","v":56},{"$f":"IF($A88=\"\",\"\",IF(ISBLANK($A88),\"\",VLOOKUP($A88,Data!$A$4:$AR$155,44,FALSE)))","v":0.53},{"$f":"IF($A88=\"\",\"\",IF(ISBLANK($A88),\"\",VLOOKUP($A88,Data!$A$4:$AI$155,8,FALSE)))","v":0.46}]
[352,{"$f":"IF($A89=\"\",\"\",IF(ISBLANK($A89),\"\",INDEX('LEA Nos codes'!$A$3:$A$154,MATCH($A89,'LEA Nos codes'!$B$3:$B$154,0))))","v":"Manchester"},{"$f":"IF($A89=\"\",\"\",IF(ISBLANK($A89),\"\",VLOOKUP($A89,Data!$A$4:$V$155,3,FALSE)))","v":4.8499999999999996},{"$f":"IF($A89=\"\",\"\",IF(ISBLANK($A89),\"\",VLOOKUP($A89,Data!$A$4:$AQ$155,43,FALSE)))","v":4.95},{"$f":"IF($A89=\"\",\"\",IF(ISBLANK($A89),\"\",VLOOKUP($A89,Data!$A$4:$V$155,4,FALSE)))","v":5.68},{"$f":"IF($A89=\"\",\"\",IF(ISBLANK($A89),\"\",VLOOKUP($A89,Data!$A$4:$V$155,5,FALSE)))","v":0.59},{"$f":"IF($A89=\"\",\"\",IF(ISBLANK($A89),\"\",VLOOKUP($A89,Data!$A$4:$AP$155,42,FALSE)))","v":0.34},{"$f":"IF($A89=\"\",\"\",IF(ISBLANK($A89),\"\",VLOOKUP($A89,Data!$A$4:$AS$155,45,FALSE)))","v":0.39},{"$f":"IF($A89=\"\",\"\",IF(ISBLANK($A89),\"\",VLOOKUP($A89,Data!$A$4:$AI$155,35,FALSE)))","v":0.92},{"$f":"IF($A89=\"\",\"\",IF(ISBLANK($A89),\"\",VLOOKUP($A89,Data!$A$4:$AM$155,37,FALSE)))","v":0.47},{"$f":"IF($A89=\"\",\"\",IF(ISBLANK($A89),\"\",VLOOKUP($A89,Data!$A$4:$AM$155,38,FALSE)))","v":0.11},{"$f":"IF($A89=\"\",\"\",IF(ISBLANK($A89),\"\",VLOOKUP($A89,Data!$A$4:$AM$155,39,FALSE)))","v":0.41100000000000003},{"$f":"IF($A89=\"\",\"\",IF(ISBLANK($A89),\"\",VLOOKUP($A89,Data!$A$4:$AI$155,6,FALSE)))","v":37500},{"$f":"IF($A89=\"\",\"\",IF(ISBLANK($A89),\"\",VLOOKUP($A89,Data!$A$4:$AI$155,7,FALSE)))","v":4},{"$f":"IF($A89=\"\",\"\",IF(ISBLANK($A89),\"\",VLOOKUP($A89,Data!$A$4:$AR$155,44,FALSE)))","v":0.8},{"$f":"IF($A89=\"\",\"\",IF(ISBLANK($A89),\"\",VLOOKUP($A89,Data!$A$4:$AI$155,8,FALSE)))","v":0.19}]
[887,{"$f":"IF($A90=\"\",\"\",IF(ISBLANK($A90),\"\",INDEX('LEA Nos codes'!$A$3:$A$154,MATCH($A90,'LEA Nos codes'!$B$3:$B$154,0))))","v":"Medway"},{"$f":"IF($A90=\"\",\"\",IF(ISBLANK($A90),\"\",VLOOKUP($A90,Data!$A$4:$V$155,3,FALSE)))","v":4.8},{"$f":"IF($A90=\"\",\"\",IF(ISBLANK($A90),\"\",VLOOKUP($A90,Data!$A$4:$AQ$155,43,FALSE)))","v":4.88},{"$f":"IF($A90=\"\",\"\",IF(ISBLANK($A90),\"\",VLOOKUP($A90,Data!$A$4:$V$155,4,FALSE)))","v":3.91},{"$f":"IF($A90=\"\",\"\",IF(ISBLANK($A90),\"\",VLOOKUP($A90,Data!$A$4:$V$155,5,FALSE)))","v":0.69},{"$f":"IF($A90=\"\",\"\",IF(ISBLANK($A90),\"\",VLOOKUP($A90,Data!$A$4:$AP$155,42,FALSE)))","v":0.28999999999999998},{"$f":"IF($A90=\"\",\"\",IF(ISBLANK($A90),\"\",VLOOKUP($A90,Data!$A$4:$AS$155,45,FALSE)))","v":0.37},{"$f":"IF($A90=\"\",\"\",IF(ISBLANK($A90),\"\",VLOOKUP($A90,Data!$A$4:$AI$155,35,FALSE)))","v":0.97},{"$f":"IF($A90=\"\",\"\",IF(ISBLANK($A90),\"\",VLOOKUP($A90,Data!$A$4:$AM$155,37,FALSE)))","v":0.56999999999999995},{"$f":"IF($A90=\"\",\"\",IF(ISBLANK($A90),\"\",VLOOKUP($A90,Data!$A$4:$AM$155,38,FALSE)))","v":0.19},{"$f":"IF($A90=\"\",\"\",IF(ISBLANK($A90),\"\",VLOOKUP($A90,Data!$A$4:$AM$155,39,FALSE)))","v":0.33700000000000002},{"$f":"IF($A90=\"\",\"\",IF(ISBLANK($A90),\"\",VLOOKUP($A90,Data!$A$4:$AI$155,6,FALSE)))","v":17800},{"$f":"IF($A90=\"\",\"\",IF(ISBLANK($A90),\"\",VLOOKUP($A90,Data!$A$4:$AI$155,7,FALSE)))","v":88},{"$f":"IF($A90=\"\",\"\",IF(ISBLANK($A90),\"\",VLOOKUP($A90,Data!$A$4:$AR$155,44,FALSE)))","v":0.54},{"$f":"IF($A90=\"\",\"\",IF(ISBLANK($A90),\"\",VLOOKUP($A90,Data!$A$4:$AI$155,8,FALSE)))","v":0.45}]
[315,{"$f":"IF($A91=\"\",\"\",IF(ISBLANK($A91),\"\",INDEX('LEA Nos codes'!$A$3:$A$154,MATCH($A91,'LEA Nos codes'!$B$3:$B$154,0))))","v":"Merton"},{"$f":"IF($A91=\"\",\"\",IF(ISBLANK($A91),\"\",VLOOKUP($A91,Data!$A$4:$V$155,3,FALSE)))","v":5.71},{"$f":"IF($A91=\"\",\"\",IF(ISBLANK($A91),\"\",VLOOKUP($A91,Data!$A$4:$AQ$155,43,FALSE)))","v":5.53},{"$f":"IF($A91=\"\",\"\",IF(ISBLANK($A91),\"\",VLOOKUP($A91,Data!$A$4:$V$155,4,FALSE)))","v":4.5999999999999996},{"$f":"IF($A91=\"\",\"\",IF(ISBLANK($A91),\"\",VLOOKUP($A91,Data!$A$4:$V$155,5,FALSE)))","v":0.77},{"$f":"IF($A91=\"\",\"\",IF(ISBLANK($A91),\"\",VLOOKUP($A91,Data!$A$4:$AP$155,42,FALSE)))","v":0.45},{"$f":"IF($A91=\"\",\"\",IF(ISBLANK($A91),\"\",VLOOKUP($A91,Data!$A$4:$AS$155,45,FALSE)))","v":0.56000000000000005},{"$f":"IF($A91=\"\",\"\",IF(ISBLANK($A91),\"\",VLOOKUP($A91,Data!$A$4:$AI$155,35,FALSE)))","v":0.99},{"$f":"IF($A91=\"\",\"\",IF(ISBLANK($A91),\"\",VLOOKUP($A91,Data!$A$4:$AM$155,37,FALSE)))","v":0.46},{"$f":"IF($A91=\"\",\"\",IF(ISBLANK($A91),\"\",VLOOKUP($A91,Data!$A$4:$AM$155,38,FALSE)))","v":0.15},{"$f":"IF($A91=\"\",\"\",IF(ISBLANK($A91),\"\",VLOOKUP($A91,Data!$A$4:$AM$155,39,FALSE)))","v":0.38900000000000001},{"$f":"IF($A91=\"\",\"\",IF(ISBLANK($A91),\"\",VLOOKUP($A91,Data!$A$4:$AI$155,6,FALSE)))","v":15500},{"$f":"IF($A91=\"\",\"\",IF(ISBLANK($A91),\"\",VLOOKUP($A91,Data!$A$4:$AI$155,7,FALSE)))","v":127},{"$f":"IF($A91=\"\",\"\",IF(ISBLANK($A91),\"\",VLOOKUP($A91,Data!$A$4:$AR$155,44,FALSE)))","v":0.8},{"$f":"IF($A91=\"\",\"\",IF(ISBLANK($A91),\"\",VLOOKUP($A91,Data!$A$4:$AI$155,8,FALSE)))","v":0.19}]
[806,{"$f":"IF($A92=\"\",\"\",IF(ISBLANK($A92),\"\",INDEX('LEA Nos codes'!$A$3:$A$154,MATCH($A92,'LEA Nos codes'!$B$3:$B$154,0))))","v":"Middlesbrough"},{"$f":"IF($A92=\"\",\"\",IF(ISBLANK($A92),\"\",VLOOKUP($A92,Data!$A$4:$V$155,3,FALSE)))","v":"."},{"$f":"IF($A92=\"\",\"\",IF(ISBLANK($A92),\"\",VLOOKUP($A92,Data!$A$4:$AQ$155,43,FALSE)))","v":4.8499999999999996},{"$f":"IF($A92=\"\",\"\",IF(ISBLANK($A92),\"\",VLOOKUP($A92,Data!$A$4:$V$155,4,FALSE)))","v":3.63},{"$f":"IF($A92=\"\",\"\",IF(ISBLANK($A92),\"\",VLOOKUP($A92,Data!$A$4:$V$155,5,FALSE)))","v":0.76},{"$f":"IF($A92=\"\",\"\",IF(ISBLANK($A92),\"\",VLOOKUP($A92,Data!$A$4:$AP$155,42,FALSE)))","v":0.5},{"$f":"IF($A92=\"\",\"\",IF(ISBLANK($A92),\"\",VLOOKUP($A92,Data!$A$4:$AS$155,45,FALSE)))","v":0.63},{"$f":"IF($A92=\"\",\"\",IF(ISBLANK($A92),\"\",VLOOKUP($A92,Data!$A$4:$AI$155,35,FALSE)))","v":1.01},{"$f":"IF($A92=\"\",\"\",IF(ISBLANK($A92),\"\",VLOOKUP($A92,Data!$A$4:$AM$155,37,FALSE)))","v":0.38},{"$f":"IF($A92=\"\",\"\",IF(ISBLANK($A92),\"\",VLOOKUP($A92,Data!$A$4:$AM$155,38,FALSE)))","v":0.16},{"$f":"IF($A92=\"\",\"\",IF(ISBLANK($A92),\"\",VLOOKUP($A92,Data!$A$4:$AM$155,39,FALSE)))","v":0.43700000000000006},{"$f":"IF($A92=\"\",\"\",IF(ISBLANK($A92),\"\",VLOOKUP($A92,Data!$A$4:$AI$155,6,FALSE)))","v":9700},{"$f":"IF($A92=\"\",\"\",IF(ISBLANK($A92),\"\",VLOOKUP($A92,Data!$A$4:$AI$155,7,FALSE)))","v":8},{"$f":"IF($A92=\"\",\"\",IF(ISBLANK($A92),\"\",VLOOKUP($A92,Data!$A$4:$AR$155,44,FALSE)))","v":0.92},{"$f":"IF($A92=\"\",\"\",IF(ISBLANK($A92),\"\",VLOOKUP($A92,Data!$A$4:$AI$155,8,FALSE)))","v":7.0000000000000007E-2}]
[826,{"$f":"IF($A93=\"\",\"\",IF(ISBLANK($A93),\"\",INDEX('LEA Nos codes'!$A$3:$A$154,MATCH($A93,'LEA Nos codes'!$B$3:$B$154,0))))","v":"Milton Keynes"},{"$f":"IF($A93=\"\",\"\",IF(ISBLANK($A93),\"\",VLOOKUP($A93,Data!$A$4:$V$155,3,FALSE)))","v":5.09},{"$f":"IF($A93=\"\",\"\",IF(ISBLANK($A93),\"\",VLOOKUP($A93,Data!$A$4:$AQ$155,43,FALSE)))","v":5.34},{"$f":"IF($A93=\"\",\"\",IF(ISBLANK($A93),\"\",VLOOKUP($A93,Data!$A$4:$V$155,4,FALSE)))","v":4.0999999999999996},{"$f":"IF($A93=\"\",\"\",IF(ISBLANK($A93),\"\",VLOOKUP($A93,Data!$A$4:$V$155,5,FALSE)))","v":0.77},{"$f":"IF($A93=\"\",\"\",IF(ISBLANK($A93),\"\",VLOOKUP($A93,Data!$A$4:$AP$155,42,FALSE)))","v":0.22},{"$f":"IF($A93=\"\",\"\",IF(ISBLANK($A93),\"\",VLOOKUP($A93,Data!$A$4:$AS$155,45,FALSE)))","v":0.25},{"$f":"IF($A93=\"\",\"\",IF(ISBLANK($A93),\"\",VLOOKUP($A93,Data!$A$4:$AI$155,35,FALSE)))","v":0.92},{"$f":"IF($A93=\"\",\"\",IF(ISBLANK($A93),\"\",VLOOKUP($A93,Data!$A$4:$AM$155,37,FALSE)))","v":0.49},{"$f":"IF($A93=\"\",\"\",IF(ISBLANK($A93),\"\",VLOOKUP($A93,Data!$A$4:$AM$155,38,FALSE)))","v":0.2},{"$f":"IF($A93=\"\",\"\",IF(ISBLANK($A93),\"\",VLOOKUP($A93,Data!$A$4:$AM$155,39,FALSE)))","v":0.36200000000000004},{"$f":"IF($A93=\"\",\"\",IF(ISBLANK($A93),\"\",VLOOKUP($A93,Data!$A$4:$AI$155,6,FALSE)))","v":20300},{"$f":"IF($A93=\"\",\"\",IF(ISBLANK($A93),\"\",VLOOKUP($A93,Data!$A$4:$AI$155,7,FALSE)))","v":116},{"$f":"IF($A93=\"\",\"\",IF(ISBLANK($A93),\"\",VLOOKUP($A93,Data!$A$4:$AR$155,44,FALSE)))","v":0.5},{"$f":"IF($A93=\"\",\"\",IF(ISBLANK($A93),\"\",VLOOKUP($A93,Data!$A$4:$AI$155,8,FALSE)))","v":0.5}]
[391,{"$f":"IF($A94=\"\",\"\",IF(ISBLANK($A94),\"\",INDEX('LEA Nos codes'!$A$3:$A$154,MATCH($A94,'LEA Nos codes'!$B$3:$B$154,0))))","v":"Newcastle upon Tyne"},{"$f":"IF($A94=\"\",\"\",IF(ISBLANK($A94),\"\",VLOOKUP($A94,Data!$A$4:$V$155,3,FALSE)))","v":4.8499999999999996},{"$f":"IF($A94=\"\",\"\",IF(ISBLANK($A94),\"\",VLOOKUP($A94,Data!$A$4:$AQ$155,43,FALSE)))","v":4.8499999999999996},{"$f":"IF($A94=\"\",\"\",IF(ISBLANK($A94),\"\",VLOOKUP($A94,Data!$A$4:$V$155,4,FALSE)))","v":4.57},{"$f":"IF($A94=\"\",\"\",IF(ISBLANK($A94),\"\",VLOOKUP($A94,Data!$A$4:$V$155,5,FALSE)))","v":0.82},{"$f":"IF($A94=\"\",\"\",IF(ISBLANK($A94),\"\",VLOOKUP($A94,Data!$A$4:$AP$155,42,FALSE)))","v":0.38},{"$f":"IF($A94=\"\",\"\",IF(ISBLANK($A94),\"\",VLOOKUP($A94,Data!$A$4:$AS$155,45,FALSE)))","v":0.49},{"$f":"IF($A94=\"\",\"\",IF(ISBLANK($A94),\"\",VLOOKUP($A94,Data!$A$4:$AI$155,35,FALSE)))","v":0.95},{"$f":"IF($A94=\"\",\"\",IF(ISBLANK($A94),\"\",VLOOKUP($A94,Data!$A$4:$AM$155,37,FALSE)))","v":0.44},{"$f":"IF($A94=\"\",\"\",IF(ISBLANK($A94),\"\",VLOOKUP($A94,Data!$A$4:$AM$155,38,FALSE)))","v":0.21},{"$f":"IF($A94=\"\",\"\",IF(ISBLANK($A94),\"\",VLOOKUP($A94,Data!$A$4:$AM$155,39,FALSE)))","v":0.371},{"$f":"IF($A94=\"\",\"\",IF(ISBLANK($A94),\"\",VLOOKUP($A94,Data!$A$4:$AI$155,6,FALSE)))","v":16900},{"$f":"IF($A94=\"\",\"\",IF(ISBLANK($A94),\"\",VLOOKUP($A94,Data!$A$4:$AI$155,7,FALSE)))","v":34},{"$f":"IF($A94=\"\",\"\",IF(ISBLANK($A94),\"\",VLOOKUP($A94,Data!$A$4:$AR$155,44,FALSE)))","v":0.7},{"$f":"IF($A94=\"\",\"\",IF(ISBLANK($A94),\"\",VLOOKUP($A94,Data!$A$4:$AI$155,8,FALSE)))","v":0.28000000000000003}]
[316,{"$f":"IF($A95=\"\",\"\",IF(ISBLANK($A95),\"\",INDEX('LEA Nos codes'!$A$3:$A$154,MATCH($A95,'LEA Nos codes'!$B$3:$B$154,0))))","v":"Newham"},{"$f":"IF($A95=\"\",\"\",IF(ISBLANK($A95),\"\",VLOOKUP($A95,Data!$A$4:$V$155,3,FALSE)))","v":5.28},{"$f":"IF($A95=\"\",\"\",IF(ISBLANK($A95),\"\",VLOOKUP($A95,Data!$A$4:$AQ$155,43,FALSE)))","v":5.28},{"$f":"IF($A95=\"\",\"\",IF(ISBLANK($A95),\"\",VLOOKUP($A95,Data!$A$4:$V$155,4,FALSE)))","v":4.51},{"$f":"IF($A95=\"\",\"\",IF(ISBLANK($A95),\"\",VLOOKUP($A95,Data!$A$4:$V$155,5,FALSE)))","v":0.6},{"$f":"IF($A95=\"\",\"\",IF(ISBLANK($A95),\"\",VLOOKUP($A95,Data!$A$4:$AP$155,42,FALSE)))","v":0.28999999999999998},{"$f":"IF($A95=\"\",\"\",IF(ISBLANK($A95),\"\",VLOOKUP($A95,Data!$A$4:$AS$155,45,FALSE)))","v":0.23},{"$f":"IF($A95=\"\",\"\",IF(ISBLANK($A95),\"\",VLOOKUP($A95,Data!$A$4:$AI$155,35,FALSE)))","v":1},{"$f":"IF($A95=\"\",\"\",IF(ISBLANK($A95),\"\",VLOOKUP($A95,Data!$A$4:$AM$155,37,FALSE)))","v":0.55000000000000004},{"$f":"IF($A95=\"\",\"\",IF(ISBLANK($A95),\"\",VLOOKUP($A95,Data!$A$4:$AM$155,38,FALSE)))","v":0.02},{"$f":"IF($A95=\"\",\"\",IF(ISBLANK($A95),\"\",VLOOKUP($A95,Data!$A$4:$AM$155,39,FALSE)))","v":0.371},{"$f":"IF($A95=\"\",\"\",IF(ISBLANK($A95),\"\",VLOOKUP($A95,Data!$A$4:$AI$155,6,FALSE)))","v":26700},{"$f":"IF($A95=\"\",\"\",IF(ISBLANK($A95),\"\",VLOOKUP($A95,Data!$A$4:$AI$155,7,FALSE)))","v":3},{"$f":"IF($A95=\"\",\"\",IF(ISBLANK($A95),\"\",VLOOKUP($A95,Data!$A$4:$AR$155,44,FALSE)))","v":0.83},{"$f":"IF($A95=\"\",\"\",IF(ISBLANK($A95),\"\",VLOOKUP($A95,Data!$A$4:$AI$155,8,FALSE)))","v":0.16}]
[926,{"$f":"IF($A96=\"\",\"\",IF(ISBLANK($A96),\"\",INDEX('LEA Nos codes'!$A$3:$A$154,MATCH($A96,'LEA Nos codes'!$B$3:$B$154,0))))","v":"Norfolk"},{"$f":"IF($A96=\"\",\"\",IF(ISBLANK($A96),\"\",VLOOKUP($A96,Data!$A$4:$V$155,3,FALSE)))","v":"."},{"$f":"IF($A96=\"\",\"\",IF(ISBLANK($A96),\"\",VLOOKUP($A96,Data!$A$4:$AQ$155,43,FALSE)))","v":4.8499999999999996},{"$f":"IF($A96=\"\",\"\",IF(ISBLANK($A96),\"\",VLOOKUP($A96,Data!$A$4:$V$155,4,FALSE)))","v":3.63},{"$f":"IF($A96=\"\",\"\",IF(ISBLANK($A96),\"\",VLOOKUP($A96,Data!$A$4:$V$155,5,FALSE)))","v":0.78},{"$f":"IF($A96=\"\",\"\",IF(ISBLANK($A96),\"\",VLOOKUP($A96,Data!$A$4:$AP$155,42,FALSE)))","v":0.31},{"$f":"IF($A96=\"\",\"\",IF(ISBLANK($A96),\"\",VLOOKUP($A96,Data!$A$4:$AS$155,45,FALSE)))","v":0.35},{"$f":"IF($A96=\"\",\"\",IF(ISBLANK($A96),\"\",VLOOKUP($A96,Data!$A$4:$AI$155,35,FALSE)))","v":0.97},{"$f":"IF($A96=\"\",\"\",IF(ISBLANK($A96),\"\",VLOOKUP($A96,Data!$A$4:$AM$155,37,FALSE)))","v":0.46},{"$f":"IF($A96=\"\",\"\",IF(ISBLANK($A96),\"\",VLOOKUP($A96,Data!$A$4:$AM$155,38,FALSE)))","v":0.17},{"$f":"IF($A96=\"\",\"\",IF(ISBLANK($A96),\"\",VLOOKUP($A96,Data!$A$4:$AM$155,39,FALSE)))","v":0.36399999999999999},{"$f":"IF($A96=\"\",\"\",IF(ISBLANK($A96),\"\",VLOOKUP($A96,Data!$A$4:$AI$155,6,FALSE)))","v":47600},{"$f":"IF($A96=\"\",\"\",IF(ISBLANK($A96),\"\",VLOOKUP($A96,Data!$A$4:$AI$155,7,FALSE)))","v":97},{"$f":"IF($A96=\"\",\"\",IF(ISBLANK($A96),\"\",VLOOKUP($A96,Data!$A$4:$AR$155,44,FALSE)))","v":0.51},{"$f":"IF($A96=\"\",\"\",IF(ISBLANK($A96),\"\",VLOOKUP($A96,Data!$A$4:$AI$155,8,FALSE)))","v":0.48}]
[812,{"$f":"IF($A97=\"\",\"\",IF(ISBLANK($A97),\"\",INDEX('LEA Nos codes'!$A$3:$A$154,MATCH($A97,'LEA Nos codes'!$B$3:$B$154,0))))","v":"North East Lincolnshire"},{"$f":"IF($A97=\"\",\"\",IF(ISBLANK($A97),\"\",VLOOKUP($A97,Data!$A$4:$V$155,3,FALSE)))","v":4.8899999999999997},{"$f":"IF($A97=\"\",\"\",IF(ISBLANK($A97),\"\",VLOOKUP($A97,Data!$A$4:$AQ$155,43,FALSE)))","v":4.8499999999999996},{"$f":"IF($A97=\"\",\"\",IF(ISBLANK($A97),\"\",VLOOKUP($A97,Data!$A$4:$V$155,4,FALSE)))","v":3.21},{"$f":"IF($A97=\"\",\"\",IF(ISBLANK($A97),\"\",VLOOKUP($A97,Data!$A$4:$V$155,5,FALSE)))","v":0.7},{"$f":"IF($A97=\"\",\"\",IF(ISBLANK($A97),\"\",VLOOKUP($A97,Data!$A$4:$AP$155,42,FALSE)))","v":0.44},{"$f":"IF($A97=\"\",\"\",IF(ISBLANK($A97),\"\",VLOOKUP($A97,Data!$A$4:$AS$155,45,FALSE)))","v":0.43},{"$f":"IF($A97=\"\",\"\",IF(ISBLANK($A97),\"\",VLOOKUP($A97,Data!$A$4:$AI$155,35,FALSE)))","v":0.97},{"$f":"IF($A97=\"\",\"\",IF(ISBLANK($A97),\"\",VLOOKUP($A97,Data!$A$4:$AM$155,37,FALSE)))","v":0.51},{"$f":"IF($A97=\"\",\"\",IF(ISBLANK($A97),\"\",VLOOKUP($A97,Data!$A$4:$AM$155,38,FALSE)))","v":0.12},{"$f":"IF($A97=\"\",\"\",IF(ISBLANK($A97),\"\",VLOOKUP($A97,Data!$A$4:$AM$155,39,FALSE)))","v":0.34899999999999998},{"$f":"IF($A97=\"\",\"\",IF(ISBLANK($A97),\"\",VLOOKUP($A97,Data!$A$4:$AI$155,6,FALSE)))","v":10100},{"$f":"IF($A97=\"\",\"\",IF(ISBLANK($A97),\"\",VLOOKUP($A97,Data!$A$4:$AI$155,7,FALSE)))","v":39},{"$f":"IF($A97=\"\",\"\",IF(ISBLANK($A97),\"\",VLOOKUP($A97,Data!$A$4:$AR$155,44,FALSE)))","v":0.69},{"$f":"IF($A97=\"\",\"\",IF(ISBLANK($A97),\"\",VLOOKUP($A97,Data!$A$4:$AI$155,8,FALSE)))","v":0.31}]
[813,{"$f":"IF($A98=\"\",\"\",IF(ISBLANK($A98),\"\",INDEX('LEA Nos codes'!$A$3:$A$154,MATCH($A98,'LEA Nos codes'!$B$3:$B$154,0))))","v":"North Lincolnshire"},{"$f":"IF($A98=\"\",\"\",IF(ISBLANK($A98),\"\",VLOOKUP($A98,Data!$A$4:$V$155,3,FALSE)))","v":4.8499999999999996},{"$f":"IF($A98=\"\",\"\",IF(ISBLANK($A98),\"\",VLOOKUP($A98,Data!$A$4:$AQ$155,43,FALSE)))","v":4.8499999999999996},{"$f":"IF($A98=\"\",\"\",IF(ISBLANK($A98),\"\",VLOOKUP($A98,Data!$A$4:$V$155,4,FALSE)))","v":4.53},{"$f":"IF($A98=\"\",\"\",IF(ISBLANK($A98),\"\",VLOOKUP($A98,Data!$A$4:$V$155,5,FALSE)))","v":0.66},{"$f":"IF($A98=\"\",\"\",IF(ISBLANK($A98),\"\",VLOOKUP($A98,Data!$A$4:$AP$155,42,FALSE)))","v":0.26},{"$f":"IF($A98=\"\",\"\",IF(ISBLANK($A98),\"\",VLOOKUP($A98,Data!$A$4:$AS$155,45,FALSE)))","v":0.3},{"$f":"IF($A98=\"\",\"\",IF(ISBLANK($A98),\"\",VLOOKUP($A98,Data!$A$4:$AI$155,35,FALSE)))","v":0.9},{"$f":"IF($A98=\"\",\"\",IF(ISBLANK($A98),\"\",VLOOKUP($A98,Data!$A$4:$AM$155,37,FALSE)))","v":0.53},{"$f":"IF($A98=\"\",\"\",IF(ISBLANK($A98),\"\",VLOOKUP($A98,Data!$A$4:$AM$155,38,FALSE)))","v":0.22},{"$f":"IF($A98=\"\",\"\",IF(ISBLANK($A98),\"\",VLOOKUP($A98,Data!$A$4:$AM$155,39,FALSE)))","v":0.35499999999999998},{"$f":"IF($A98=\"\",\"\",IF(ISBLANK($A98),\"\",VLOOKUP($A98,Data!$A$4:$AI$155,6,FALSE)))","v":10200},{"$f":"IF($A98=\"\",\"\",IF(ISBLANK($A98),\"\",VLOOKUP($A98,Data!$A$4:$AI$155,7,FALSE)))","v":83},{"$f":"IF($A98=\"\",\"\",IF(ISBLANK($A98),\"\",VLOOKUP($A98,Data!$A$4:$AR$155,44,FALSE)))","v":0.65},{"$f":"IF($A98=\"\",\"\",IF(ISBLANK($A98),\"\",VLOOKUP($A98,Data!$A$4:$AI$155,8,FALSE)))","v":0.34}]
[802,{"$f":"IF($A99=\"\",\"\",IF(ISBLANK($A99),\"\",INDEX('LEA Nos codes'!$A$3:$A$154,MATCH($A99,'LEA Nos codes'!$B$3:$B$154,0))))","v":"North Somerset"},{"$f":"IF($A99=\"\",\"\",IF(ISBLANK($A99),\"\",VLOOKUP($A99,Data!$A$4:$V$155,3,FALSE)))","v":5.56},{"$f":"IF($A99=\"\",\"\",IF(ISBLANK($A99),\"\",VLOOKUP($A99,Data!$A$4:$AQ$155,43,FALSE)))","v":5.07},{"$f":"IF($A99=\"\",\"\",IF(ISBLANK($A99),\"\",VLOOKUP($A99,Data!$A$4:$V$155,4,FALSE)))","v":3.99},{"$f":"IF($A99=\"\",\"\",IF(ISBLANK($A99),\"\",VLOOKUP($A99,Data!$A$4:$V$155,5,FALSE)))","v":0.77},{"$f":"IF($A99=\"\",\"\",IF(ISBLANK($A99),\"\",VLOOKUP($A99,Data!$A$4:$AP$155,42,FALSE)))","v":0.5},{"$f":"IF($A99=\"\",\"\",IF(ISBLANK($A99),\"\",VLOOKUP($A99,Data!$A$4:$AS$155,45,FALSE)))","v":0.5},{"$f":"IF($A99=\"\",\"\",IF(ISBLANK($A99),\"\",VLOOKUP($A99,Data!$A$4:$AI$155,35,FALSE)))","v":0.98},{"$f":"IF($A99=\"\",\"\",IF(ISBLANK($A99),\"\",VLOOKUP($A99,Data!$A$4:$AM$155,37,FALSE)))","v":0.64},{"$f":"IF($A99=\"\",\"\",IF(ISBLANK($A99),\"\",VLOOKUP($A99,Data!$A$4:$AM$155,38,FALSE)))","v":0.28000000000000003},{"$f":"IF($A99=\"\",\"\",IF(ISBLANK($A99),\"\",VLOOKUP($A99,Data!$A$4:$AM$155,39,FALSE)))","v":0.23},{"$f":"IF($A99=\"\",\"\",IF(ISBLANK($A99),\"\",VLOOKUP($A99,Data!$A$4:$AI$155,6,FALSE)))","v":12000},{"$f":"IF($A99=\"\",\"\",IF(ISBLANK($A99),\"\",VLOOKUP($A99,Data!$A$4:$AI$155,7,FALSE)))","v":120},{"$f":"IF($A99=\"\",\"\",IF(ISBLANK($A99),\"\",VLOOKUP($A99,Data!$A$4:$AR$155,44,FALSE)))","v":0.42},{"$f":"IF($A99=\"\",\"\",IF(ISBLANK($A99),\"\",VLOOKUP($A99,Data!$A$4:$AI$155,8,FALSE)))","v":0.57999999999999996}]
[392,{"$f":"IF($A100=\"\",\"\",IF(ISBLANK($A100),\"\",INDEX('LEA Nos codes'!$A$3:$A$154,MATCH($A100,'LEA Nos codes'!$B$3:$B$154,0))))","v":"North Tyneside"},{"$f":"IF($A100=\"\",\"\",IF(ISBLANK($A100),\"\",VLOOKUP($A100,Data!$A$4:$V$155,3,FALSE)))","v":"."},{"$f":"IF($A100=\"\",\"\",IF(ISBLANK($A100),\"\",VLOOKUP($A100,Data!$A$4:$AQ$155,43,FALSE)))","v":4.8499999999999996},{"$f":"IF($A100=\"\",\"\",IF(ISBLANK($A100),\"\",VLOOKUP($A100,Data!$A$4:$V$155,4,FALSE)))","v":3.55},{"$f":"IF($A100=\"\",\"\",IF(ISBLANK($A100),\"\",VLOOKUP($A100,Data!$A$4:$V$155,5,FALSE)))","v":0.86},{"$f":"IF($A100=\"\",\"\",IF(ISBLANK($A100),\"\",VLOOKUP($A100,Data!$A$4:$AP$155,42,FALSE)))","v":0.46},{"$f":"IF($A100=\"\",\"\",IF(ISBLANK($A100),\"\",VLOOKUP($A100,Data!$A$4:$AS$155,45,FALSE)))","v":0.5},{"$f":"IF($A100=\"\",\"\",IF(ISBLANK($A100),\"\",VLOOKUP($A100,Data!$A$4:$AI$155,35,FALSE)))","v":1},{"$f":"IF($A100=\"\",\"\",IF(ISBLANK($A100),\"\",VLOOKUP($A100,Data!$A$4:$AM$155,37,FALSE)))","v":0.48},{"$f":"IF($A100=\"\",\"\",IF(ISBLANK($A100),\"\",VLOOKUP($A100,Data!$A$4:$AM$155,38,FALSE)))","v":0.22},{"$f":"IF($A100=\"\",\"\",IF(ISBLANK($A100),\"\",VLOOKUP($A100,Data!$A$4:$AM$155,39,FALSE)))","v":0.36499999999999999},{"$f":"IF($A100=\"\",\"\",IF(ISBLANK($A100),\"\",VLOOKUP($A100,Data!$A$4:$AI$155,6,FALSE)))","v":11800},{"$f":"IF($A100=\"\",\"\",IF(ISBLANK($A100),\"\",VLOOKUP($A100,Data!$A$4:$AI$155,7,FALSE)))","v":80},{"$f":"IF($A100=\"\",\"\",IF(ISBLANK($A100),\"\",VLOOKUP($A100,Data!$A$4:$AR$155,44,FALSE)))","v":0.84},{"$f":"IF($A100=\"\",\"\",IF(ISBLANK($A100),\"\",VLOOKUP($A100,Data!$A$4:$AI$155,8,FALSE)))","v":0.14000000000000001}]
[815,{"$f":"IF($A101=\"\",\"\",IF(ISBLANK($A101),\"\",INDEX('LEA Nos codes'!$A$3:$A$154,MATCH($A101,'LEA Nos codes'!$B$3:$B$154,0))))","v":"North Yorkshire"},{"$f":"IF($A101=\"\",\"\",IF(ISBLANK($A101),\"\",VLOOKUP($A101,Data!$A$4:$V$155,3,FALSE)))","v":5.14},{"$f":"IF($A101=\"\",\"\",IF(ISBLANK($A101),\"\",VLOOKUP($A101,Data!$A$4:$AQ$155,43,FALSE)))","v":4.8499999999999996},{"$f":"IF($A101=\"\",\"\",IF(ISBLANK($A101),\"\",VLOOKUP($A101,Data!$A$4:$V$155,4,FALSE)))","v":4.16},{"$f":"IF($A101=\"\",\"\",IF(ISBLANK($A101),\"\",VLOOKUP($A101,Data!$A$4:$V$155,5,FALSE)))","v":0.85},{"$f":"IF($A101=\"\",\"\",IF(ISBLANK($A101),\"\",VLOOKUP($A101,Data!$A$4:$AP$155,42,FALSE)))","v":0.42},{"$f":"IF($A101=\"\",\"\",IF(ISBLANK($A101),\"\",VLOOKUP($A101,Data!$A$4:$AS$155,45,FALSE)))","v":0.44},{"$f":"IF($A101=\"\",\"\",IF(ISBLANK($A101),\"\",VLOOKUP($A101,Data!$A$4:$AI$155,35,FALSE)))","v":1},{"$f":"IF($A101=\"\",\"\",IF(ISBLANK($A101),\"\",VLOOKUP($A101,Data!$A$4:$AM$155,37,FALSE)))","v":0.44},{"$f":"IF($A101=\"\",\"\",IF(ISBLANK($A101),\"\",VLOOKUP($A101,Data!$A$4:$AM$155,38,FALSE)))","v":0.22},{"$f":"IF($A101=\"\",\"\",IF(ISBLANK($A101),\"\",VLOOKUP($A101,Data!$A$4:$AM$155,39,FALSE)))","v":0.33299999999999996},{"$f":"IF($A101=\"\",\"\",IF(ISBLANK($A101),\"\",VLOOKUP($A101,Data!$A$4:$AI$155,6,FALSE)))","v":31200},{"$f":"IF($A101=\"\",\"\",IF(ISBLANK($A101),\"\",VLOOKUP($A101,Data!$A$4:$AI$155,7,FALSE)))","v":129},{"$f":"IF($A101=\"\",\"\",IF(ISBLANK($A101),\"\",VLOOKUP($A101,Data!$A$4:$AR$155,44,FALSE)))","v":0.54},{"$f":"IF($A101=\"\",\"\",IF(ISBLANK($A101),\"\",VLOOKUP($A101,Data!$A$4:$AI$155,8,FALSE)))","v":0.45}]
[928,{"$f":"IF($A102=\"\",\"\",IF(ISBLANK($A102),\"\",INDEX('LEA Nos codes'!$A$3:$A$154,MATCH($A102,'LEA Nos codes'!$B$3:$B$154,0))))","v":"Northamptonshire"},{"$f":"IF($A102=\"\",\"\",IF(ISBLANK($A102),\"\",VLOOKUP($A102,Data!$A$4:$V$155,3,FALSE)))","v":4.74},{"$f":"IF($A102=\"\",\"\",IF(ISBLANK($A102),\"\",VLOOKUP($A102,Data!$A$4:$AQ$155,43,FALSE)))","v":4.9000000000000004},{"$f":"IF($A102=\"\",\"\",IF(ISBLANK($A102),\"\",VLOOKUP($A102,Data!$A$4:$V$155,4,FALSE)))","v":4.0999999999999996},{"$f":"IF($A102=\"\",\"\",IF(ISBLANK($A102),\"\",VLOOKUP($A102,Data!$A$4:$V$155,5,FALSE)))","v":0.76},{"$f":"IF($A102=\"\",\"\",IF(ISBLANK($A102),\"\",VLOOKUP($A102,Data!$A$4:$AP$155,42,FALSE)))","v":0.38},{"$f":"IF($A102=\"\",\"\",IF(ISBLANK($A102),\"\",VLOOKUP($A102,Data!$A$4:$AS$155,45,FALSE)))","v":0.42},{"$f":"IF($A102=\"\",\"\",IF(ISBLANK($A102),\"\",VLOOKUP($A102,Data!$A$4:$AI$155,35,FALSE)))","v":0.97},{"$f":"IF($A102=\"\",\"\",IF(ISBLANK($A102),\"\",VLOOKUP($A102,Data!$A$4:$AM$155,37,FALSE)))","v":0.5},{"$f":"IF($A102=\"\",\"\",IF(ISBLANK($A102),\"\",VLOOKUP($A102,Data!$A$4:$AM$155,38,FALSE)))","v":0.19},{"$f":"IF($A102=\"\",\"\",IF(ISBLANK($A102),\"\",VLOOKUP($A102,Data!$A$4:$AM$155,39,FALSE)))","v":0.35100000000000003},{"$f":"IF($A102=\"\",\"\",IF(ISBLANK($A102),\"\",VLOOKUP($A102,Data!$A$4:$AI$155,6,FALSE)))","v":47100},{"$f":"IF($A102=\"\",\"\",IF(ISBLANK($A102),\"\",VLOOKUP($A102,Data!$A$4:$AI$155,7,FALSE)))","v":102},{"$f":"IF($A102=\"\",\"\",IF(ISBLANK($A102),\"\",VLOOKUP($A102,Data!$A$4:$AR$155,44,FALSE)))","v":0.51},{"$f":"IF($A102=\"\",\"\",IF(ISBLANK($A102),\"\",VLOOKUP($A102,Data!$A$4:$AI$155,8,FALSE)))","v":0.48}]
[929,{"$f":"IF($A103=\"\",\"\",IF(ISBLANK($A103),\"\",INDEX('LEA Nos codes'!$A$3:$A$154,MATCH($A103,'LEA Nos codes'!$B$3:$B$154,0))))","v":"Northumberland"},{"$f":"IF($A103=\"\",\"\",IF(ISBLANK($A103),\"\",VLOOKUP($A103,Data!$A$4:$V$155,3,FALSE)))","v":5.2},{"$f":"IF($A103=\"\",\"\",IF(ISBLANK($A103),\"\",VLOOKUP($A103,Data!$A$4:$AQ$155,43,FALSE)))","v":4.8499999999999996},{"$f":"IF($A103=\"\",\"\",IF(ISBLANK($A103),\"\",VLOOKUP($A103,Data!$A$4:$V$155,4,FALSE)))","v":3.83},{"$f":"IF($A103=\"\",\"\",IF(ISBLANK($A103),\"\",VLOOKUP($A103,Data!$A$4:$V$155,5,FALSE)))","v":0.75},{"$f":"IF($A103=\"\",\"\",IF(ISBLANK($A103),\"\",VLOOKUP($A103,Data!$A$4:$AP$155,42,FALSE)))","v":0.48},{"$f":"IF($A103=\"\",\"\",IF(ISBLANK($A103),\"\",VLOOKUP($A103,Data!$A$4:$AS$155,45,FALSE)))","v":0.55000000000000004},{"$f":"IF($A103=\"\",\"\",IF(ISBLANK($A103),\"\",VLOOKUP($A103,Data!$A$4:$AI$155,35,FALSE)))","v":1},{"$f":"IF($A103=\"\",\"\",IF(ISBLANK($A103),\"\",VLOOKUP($A103,Data!$A$4:$AM$155,37,FALSE)))","v":0.49},{"$f":"IF($A103=\"\",\"\",IF(ISBLANK($A103),\"\",VLOOKUP($A103,Data!$A$4:$AM$155,38,FALSE)))","v":0.24},{"$f":"IF($A103=\"\",\"\",IF(ISBLANK($A103),\"\",VLOOKUP($A103,Data!$A$4:$AM$155,39,FALSE)))","v":0.35499999999999998},{"$f":"IF($A103=\"\",\"\",IF(ISBLANK($A103),\"\",VLOOKUP($A103,Data!$A$4:$AI$155,6,FALSE)))","v":16200},{"$f":"IF($A103=\"\",\"\",IF(ISBLANK($A103),\"\",VLOOKUP($A103,Data!$A$4:$AI$155,7,FALSE)))","v":91},{"$f":"IF($A103=\"\",\"\",IF(ISBLANK($A103),\"\",VLOOKUP($A103,Data!$A$4:$AR$155,44,FALSE)))","v":0.67},{"$f":"IF($A103=\"\",\"\",IF(ISBLANK($A103),\"\",VLOOKUP($A103,Data!$A$4:$AI$155,8,FALSE)))","v":0.24}]
[892,{"$f":"IF($A104=\"\",\"\",IF(ISBLANK($A104),\"\",INDEX('LEA Nos codes'!$A$3:$A$154,MATCH($A104,'LEA Nos codes'!$B$3:$B$154,0))))","v":"Nottingham"},{"$f":"IF($A104=\"\",\"\",IF(ISBLANK($A104),\"\",VLOOKUP($A104,Data!$A$4:$V$155,3,FALSE)))","v":5},{"$f":"IF($A104=\"\",\"\",IF(ISBLANK($A104),\"\",VLOOKUP($A104,Data!$A$4:$AQ$155,43,FALSE)))","v":4.88},{"$f":"IF($A104=\"\",\"\",IF(ISBLANK($A104),\"\",VLOOKUP($A104,Data!$A$4:$V$155,4,FALSE)))","v":4.13},{"$f":"IF($A104=\"\",\"\",IF(ISBLANK($A104),\"\",VLOOKUP($A104,Data!$A$4:$V$155,5,FALSE)))","v":0.63},{"$f":"IF($A104=\"\",\"\",IF(ISBLANK($A104),\"\",VLOOKUP($A104,Data!$A$4:$AP$155,42,FALSE)))","v":0.38},{"$f":"IF($A104=\"\",\"\",IF(ISBLANK($A104),\"\",VLOOKUP($A104,Data!$A$4:$AS$155,45,FALSE)))","v":0.4},{"$f":"IF($A104=\"\",\"\",IF(ISBLANK($A104),\"\",VLOOKUP($A104,Data!$A$4:$AI$155,35,FALSE)))","v":0.96},{"$f":"IF($A104=\"\",\"\",IF(ISBLANK($A104),\"\",VLOOKUP($A104,Data!$A$4:$AM$155,37,FALSE)))","v":0.4},{"$f":"IF($A104=\"\",\"\",IF(ISBLANK($A104),\"\",VLOOKUP($A104,Data!$A$4:$AM$155,38,FALSE)))","v":0.18},{"$f":"IF($A104=\"\",\"\",IF(ISBLANK($A104),\"\",VLOOKUP($A104,Data!$A$4:$AM$155,39,FALSE)))","v":0.38700000000000001},{"$f":"IF($A104=\"\",\"\",IF(ISBLANK($A104),\"\",VLOOKUP($A104,Data!$A$4:$AI$155,6,FALSE)))","v":20400},{"$f":"IF($A104=\"\",\"\",IF(ISBLANK($A104),\"\",VLOOKUP($A104,Data!$A$4:$AI$155,7,FALSE)))","v":18},{"$f":"IF($A104=\"\",\"\",IF(ISBLANK($A104),\"\",VLOOKUP($A104,Data!$A$4:$AR$155,44,FALSE)))","v":0.77},{"$f":"IF($A104=\"\",\"\",IF(ISBLANK($A104),\"\",VLOOKUP($A104,Data!$A$4:$AI$155,8,FALSE)))","v":0.2}]
[891,{"$f":"IF($A105=\"\",\"\",IF(ISBLANK($A105),\"\",INDEX('LEA Nos codes'!$A$3:$A$154,MATCH($A105,'LEA Nos codes'!$B$3:$B$154,0))))","v":"Nottinghamshire"},{"$f":"IF($A105=\"\",\"\",IF(ISBLANK($A105),\"\",VLOOKUP($A105,Data!$A$4:$V$155,3,FALSE)))","v":"."},{"$f":"IF($A105=\"\",\"\",IF(ISBLANK($A105),\"\",VLOOKUP($A105,Data!$A$4:$AQ$155,43,FALSE)))","v":4.88},{"$f":"IF($A105=\"\",\"\",IF(ISBLANK($A105),\"\",VLOOKUP($A105,Data!$A$4:$V$155,4,FALSE)))","v":3.77},{"$f":"IF($A105=\"\",\"\",IF(ISBLANK($A105),\"\",VLOOKUP($A105,Data!$A$4:$V$155,5,FALSE)))","v":0.72},{"$f":"IF($A105=\"\",\"\",IF(ISBLANK($A105),\"\",VLOOKUP($A105,Data!$A$4:$AP$155,42,FALSE)))","v":0.36},{"$f":"IF($A105=\"\",\"\",IF(ISBLANK($A105),\"\",VLOOKUP($A105,Data!$A$4:$AS$155,45,FALSE)))","v":0.4},{"$f":"IF($A105=\"\",\"\",IF(ISBLANK($A105),\"\",VLOOKUP($A105,Data!$A$4:$AI$155,35,FALSE)))","v":0.98},{"$f":"IF($A105=\"\",\"\",IF(ISBLANK($A105),\"\",VLOOKUP($A105,Data!$A$4:$AM$155,37,FALSE)))","v":0.56999999999999995},{"$f":"IF($A105=\"\",\"\",IF(ISBLANK($A105),\"\",VLOOKUP($A105,Data!$A$4:$AM$155,38,FALSE)))","v":0.23},{"$f":"IF($A105=\"\",\"\",IF(ISBLANK($A105),\"\",VLOOKUP($A105,Data!$A$4:$AM$155,39,FALSE)))","v":0.35100000000000003},{"$f":"IF($A105=\"\",\"\",IF(ISBLANK($A105),\"\",VLOOKUP($A105,Data!$A$4:$AI$155,6,FALSE)))","v":46100},{"$f":"IF($A105=\"\",\"\",IF(ISBLANK($A105),\"\",VLOOKUP($A105,Data!$A$4:$AI$155,7,FALSE)))","v":93},{"$f":"IF($A105=\"\",\"\",IF(ISBLANK($A105),\"\",VLOOKUP($A105,Data!$A$4:$AR$155,44,FALSE)))","v":0.69},{"$f":"IF($A105=\"\",\"\",IF(ISBLANK($A105),\"\",VLOOKUP($A105,Data!$A$4:$AI$155,8,FALSE)))","v":0.3}]
[353,{"$f":"IF($A106=\"\",\"\",IF(ISBLANK($A106),\"\",INDEX('LEA Nos codes'!$A$3:$A$154,MATCH($A106,'LEA Nos codes'!$B$3:$B$154,0))))","v":"Oldham"},{"$f":"IF($A106=\"\",\"\",IF(ISBLANK($A106),\"\",VLOOKUP($A106,Data!$A$4:$V$155,3,FALSE)))","v":4.8499999999999996},{"$f":"IF($A106=\"\",\"\",IF(ISBLANK($A106),\"\",VLOOKUP($A106,Data!$A$4:$AQ$155,43,FALSE)))","v":4.95},{"$f":"IF($A106=\"\",\"\",IF(ISBLANK($A106),\"\",VLOOKUP($A106,Data!$A$4:$V$155,4,FALSE)))","v":4.0199999999999996},{"$f":"IF($A106=\"\",\"\",IF(ISBLANK($A106),\"\",VLOOKUP($A106,Data!$A$4:$V$155,5,FALSE)))","v":0.68},{"$f":"IF($A106=\"\",\"\",IF(ISBLANK($A106),\"\",VLOOKUP($A106,Data!$A$4:$AP$155,42,FALSE)))","v":0.27},{"$f":"IF($A106=\"\",\"\",IF(ISBLANK($A106),\"\",VLOOKUP($A106,Data!$A$4:$AS$155,45,FALSE)))","v":0.31},{"$f":"IF($A106=\"\",\"\",IF(ISBLANK($A106),\"\",VLOOKUP($A106,Data!$A$4:$AI$155,35,FALSE)))","v":0.97},{"$f":"IF($A106=\"\",\"\",IF(ISBLANK($A106),\"\",VLOOKUP($A106,Data!$A$4:$AM$155,37,FALSE)))","v":0.41},{"$f":"IF($A106=\"\",\"\",IF(ISBLANK($A106),\"\",VLOOKUP($A106,Data!$A$4:$AM$155,38,FALSE)))","v":0.18},{"$f":"IF($A106=\"\",\"\",IF(ISBLANK($A106),\"\",VLOOKUP($A106,Data!$A$4:$AM$155,39,FALSE)))","v":0.42899999999999999},{"$f":"IF($A106=\"\",\"\",IF(ISBLANK($A106),\"\",VLOOKUP($A106,Data!$A$4:$AI$155,6,FALSE)))","v":16500},{"$f":"IF($A106=\"\",\"\",IF(ISBLANK($A106),\"\",VLOOKUP($A106,Data!$A$4:$AI$155,7,FALSE)))","v":32},{"$f":"IF($A106=\"\",\"\",IF(ISBLANK($A106),\"\",VLOOKUP($A106,Data!$A$4:$AR$155,44,FALSE)))","v":0.73},{"$f":"IF($A106=\"\",\"\",IF(ISBLANK($A106),\"\",VLOOKUP($A106,Data!$A$4:$AI$155,8,FALSE)))","v":0.27}]
[931,{"$f":"IF($A107=\"\",\"\",IF(ISBLANK($A107),\"\",INDEX('LEA Nos codes'!$A$3:$A$154,MATCH($A107,'LEA Nos codes'!$B$3:$B$154,0))))","v":"Oxfordshire"},{"$f":"IF($A107=\"\",\"\",IF(ISBLANK($A107),\"\",VLOOKUP($A107,Data!$A$4:$V$155,3,FALSE)))","v":5.1100000000000003},{"$f":"IF($A107=\"\",\"\",IF(ISBLANK($A107),\"\",VLOOKUP($A107,Data!$A$4:$AQ$155,43,FALSE)))","v":5.15},{"$f":"IF($A107=\"\",\"\",IF(ISBLANK($A107),\"\",VLOOKUP($A107,Data!$A$4:$V$155,4,FALSE)))","v":4.03},{"$f":"IF($A107=\"\",\"\",IF(ISBLANK($A107),\"\",VLOOKUP($A107,Data!$A$4:$V$155,5,FALSE)))","v":0.76},{"$f":"IF($A107=\"\",\"\",IF(ISBLANK($A107),\"\",VLOOKUP($A107,Data!$A$4:$AP$155,42,FALSE)))","v":0.41},{"$f":"IF($A107=\"\",\"\",IF(ISBLANK($A107),\"\",VLOOKUP($A107,Data!$A$4:$AS$155,45,FALSE)))","v":0.45},{"$f":"IF($A107=\"\",\"\",IF(ISBLANK($A107),\"\",VLOOKUP($A107,Data!$A$4:$AI$155,35,FALSE)))","v":0.96},{"$f":"IF($A107=\"\",\"\",IF(ISBLANK($A107),\"\",VLOOKUP($A107,Data!$A$4:$AM$155,37,FALSE)))","v":0.48},{"$f":"IF($A107=\"\",\"\",IF(ISBLANK($A107),\"\",VLOOKUP($A107,Data!$A$4:$AM$155,38,FALSE)))","v":0.24},{"$f":"IF($A107=\"\",\"\",IF(ISBLANK($A107),\"\",VLOOKUP($A107,Data!$A$4:$AM$155,39,FALSE)))","v":0.33},{"$f":"IF($A107=\"\",\"\",IF(ISBLANK($A107),\"\",VLOOKUP($A107,Data!$A$4:$AI$155,6,FALSE)))","v":41700},{"$f":"IF($A107=\"\",\"\",IF(ISBLANK($A107),\"\",VLOOKUP($A107,Data!$A$4:$AI$155,7,FALSE)))","v":133},{"$f":"IF($A107=\"\",\"\",IF(ISBLANK($A107),\"\",VLOOKUP($A107,Data!$A$4:$AR$155,44,FALSE)))","v":0.53},{"$f":"IF($A107=\"\",\"\",IF(ISBLANK($A107),\"\",VLOOKUP($A107,Data!$A$4:$AI$155,8,FALSE)))","v":0.46}]
[874,{"$f":"IF($A108=\"\",\"\",IF(ISBLANK($A108),\"\",INDEX('LEA Nos codes'!$A$3:$A$154,MATCH($A108,'LEA Nos codes'!$B$3:$B$154,0))))","v":"Peterborough"},{"$f":"IF($A108=\"\",\"\",IF(ISBLANK($A108),\"\",VLOOKUP($A108,Data!$A$4:$V$155,3,FALSE)))","v":5.05},{"$f":"IF($A108=\"\",\"\",IF(ISBLANK($A108),\"\",VLOOKUP($A108,Data!$A$4:$AQ$155,43,FALSE)))","v":5.05},{"$f":"IF($A108=\"\",\"\",IF(ISBLANK($A108),\"\",VLOOKUP($A108,Data!$A$4:$V$155,4,FALSE)))","v":4.33},{"$f":"IF($A108=\"\",\"\",IF(ISBLANK($A108),\"\",VLOOKUP($A108,Data!$A$4:$V$155,5,FALSE)))","v":0.73},{"$f":"IF($A108=\"\",\"\",IF(ISBLANK($A108),\"\",VLOOKUP($A108,Data!$A$4:$AP$155,42,FALSE)))","v":0.24},{"$f":"IF($A108=\"\",\"\",IF(ISBLANK($A108),\"\",VLOOKUP($A108,Data!$A$4:$AS$155,45,FALSE)))","v":0.24},{"$f":"IF($A108=\"\",\"\",IF(ISBLANK($A108),\"\",VLOOKUP($A108,Data!$A$4:$AI$155,35,FALSE)))","v":1},{"$f":"IF($A108=\"\",\"\",IF(ISBLANK($A108),\"\",VLOOKUP($A108,Data!$A$4:$AM$155,37,FALSE)))","v":0.47},{"$f":"IF($A108=\"\",\"\",IF(ISBLANK($A108),\"\",VLOOKUP($A108,Data!$A$4:$AM$155,38,FALSE)))","v":0.16},{"$f":"IF($A108=\"\",\"\",IF(ISBLANK($A108),\"\",VLOOKUP($A108,Data!$A$4:$AM$155,39,FALSE)))","v":0.42700000000000005},{"$f":"IF($A108=\"\",\"\",IF(ISBLANK($A108),\"\",VLOOKUP($A108,Data!$A$4:$AI$155,6,FALSE)))","v":14700},{"$f":"IF($A108=\"\",\"\",IF(ISBLANK($A108),\"\",VLOOKUP($A108,Data!$A$4:$AI$155,7,FALSE)))","v":57},{"$f":"IF($A108=\"\",\"\",IF(ISBLANK($A108),\"\",VLOOKUP($A108,Data!$A$4:$AR$155,44,FALSE)))","v":0.4},{"$f":"IF($A108=\"\",\"\",IF(ISBLANK($A108),\"\",VLOOKUP($A108,Data!$A$4:$AI$155,8,FALSE)))","v":0.59}]
[879,{"$f":"IF($A109=\"\",\"\",IF(ISBLANK($A109),\"\",INDEX('LEA Nos codes'!$A$3:$A$154,MATCH($A109,'LEA Nos codes'!$B$3:$B$154,0))))","v":"Plymouth"},{"$f":"IF($A109=\"\",\"\",IF(ISBLANK($A109),\"\",VLOOKUP($A109,Data!$A$4:$V$155,3,FALSE)))","v":5.09},{"$f":"IF($A109=\"\",\"\",IF(ISBLANK($A109),\"\",VLOOKUP($A109,Data!$A$4:$AQ$155,43,FALSE)))","v":4.8499999999999996},{"$f":"IF($A109=\"\",\"\",IF(ISBLANK($A109),\"\",VLOOKUP($A109,Data!$A$4:$V$155,4,FALSE)))","v":4.33},{"$f":"IF($A109=\"\",\"\",IF(ISBLANK($A109),\"\",VLOOKUP($A109,Data!$A$4:$V$155,5,FALSE)))","v":0.82},{"$f":"IF($A109=\"\",\"\",IF(ISBLANK($A109),\"\",VLOOKUP($A109,Data!$A$4:$AP$155,42,FALSE)))","v":0.61},{"$f":"IF($A109=\"\",\"\",IF(ISBLANK($A109),\"\",VLOOKUP($A109,Data!$A$4:$AS$155,45,FALSE)))","v":0.72},{"$f":"IF($A109=\"\",\"\",IF(ISBLANK($A109),\"\",VLOOKUP($A109,Data!$A$4:$AI$155,35,FALSE)))","v":0.99},{"$f":"IF($A109=\"\",\"\",IF(ISBLANK($A109),\"\",VLOOKUP($A109,Data!$A$4:$AM$155,37,FALSE)))","v":0.56999999999999995},{"$f":"IF($A109=\"\",\"\",IF(ISBLANK($A109),\"\",VLOOKUP($A109,Data!$A$4:$AM$155,38,FALSE)))","v":0.19},{"$f":"IF($A109=\"\",\"\",IF(ISBLANK($A109),\"\",VLOOKUP($A109,Data!$A$4:$AM$155,39,FALSE)))","v":0.33100000000000002},{"$f":"IF($A109=\"\",\"\",IF(ISBLANK($A109),\"\",VLOOKUP($A109,Data!$A$4:$AI$155,6,FALSE)))","v":15700},{"$f":"IF($A109=\"\",\"\",IF(ISBLANK($A109),\"\",VLOOKUP($A109,Data!$A$4:$AI$155,7,FALSE)))","v":58},{"$f":"IF($A109=\"\",\"\",IF(ISBLANK($A109),\"\",VLOOKUP($A109,Data!$A$4:$AR$155,44,FALSE)))","v":0.48},{"$f":"IF($A109=\"\",\"\",IF(ISBLANK($A109),\"\",VLOOKUP($A109,Data!$A$4:$AI$155,8,FALSE)))","v":0.51}]
[836,{"$f":"IF($A110=\"\",\"\",IF(ISBLANK($A110),\"\",INDEX('LEA Nos codes'!$A$3:$A$154,MATCH($A110,'LEA Nos codes'!$B$3:$B$154,0))))","v":"Poole"},{"$f":"IF($A110=\"\",\"\",IF(ISBLANK($A110),\"\",VLOOKUP($A110,Data!$A$4:$V$155,3,FALSE)))","v":4.88},{"$f":"IF($A110=\"\",\"\",IF(ISBLANK($A110),\"\",VLOOKUP($A110,Data!$A$4:$AQ$155,43,FALSE)))","v":4.88},{"$f":"IF($A110=\"\",\"\",IF(ISBLANK($A110),\"\",VLOOKUP($A110,Data!$A$4:$V$155,4,FALSE)))","v":3.8},{"$f":"IF($A110=\"\",\"\",IF(ISBLANK($A110),\"\",VLOOKUP($A110,Data!$A$4:$V$155,5,FALSE)))","v":0.81},{"$f":"IF($A110=\"\",\"\",IF(ISBLANK($A110),\"\",VLOOKUP($A110,Data!$A$4:$AP$155,42,FALSE)))","v":0.48},{"$f":"IF($A110=\"\",\"\",IF(ISBLANK($A110),\"\",VLOOKUP($A110,Data!$A$4:$AS$155,45,FALSE)))","v":0.52},{"$f":"IF($A110=\"\",\"\",IF(ISBLANK($A110),\"\",VLOOKUP($A110,Data!$A$4:$AI$155,35,FALSE)))","v":0.9},{"$f":"IF($A110=\"\",\"\",IF(ISBLANK($A110),\"\",VLOOKUP($A110,Data!$A$4:$AM$155,37,FALSE)))","v":0.48},{"$f":"IF($A110=\"\",\"\",IF(ISBLANK($A110),\"\",VLOOKUP($A110,Data!$A$4:$AM$155,38,FALSE)))","v":0.21},{"$f":"IF($A110=\"\",\"\",IF(ISBLANK($A110),\"\",VLOOKUP($A110,Data!$A$4:$AM$155,39,FALSE)))","v":0.307},{"$f":"IF($A110=\"\",\"\",IF(ISBLANK($A110),\"\",VLOOKUP($A110,Data!$A$4:$AI$155,6,FALSE)))","v":8700},{"$f":"IF($A110=\"\",\"\",IF(ISBLANK($A110),\"\",VLOOKUP($A110,Data!$A$4:$AI$155,7,FALSE)))","v":114},{"$f":"IF($A110=\"\",\"\",IF(ISBLANK($A110),\"\",VLOOKUP($A110,Data!$A$4:$AR$155,44,FALSE)))","v":0.4},{"$f":"IF($A110=\"\",\"\",IF(ISBLANK($A110),\"\",VLOOKUP($A110,Data!$A$4:$AI$155,8,FALSE)))","v":0.6}]
[851,{"$f":"IF($A111=\"\",\"\",IF(ISBLANK($A111),\"\",INDEX('LEA Nos codes'!$A$3:$A$154,MATCH($A111,'LEA Nos codes'!$B$3:$B$154,0))))","v":"Portsmouth"},{"$f":"IF($A111=\"\",\"\",IF(ISBLANK($A111),\"\",VLOOKUP($A111,Data!$A$4:$V$155,3,FALSE)))","v":4.8499999999999996},{"$f":"IF($A111=\"\",\"\",IF(ISBLANK($A111),\"\",VLOOKUP($A111,Data!$A$4:$AQ$155,43,FALSE)))","v":5.07},{"$f":"IF($A111=\"\",\"\",IF(ISBLANK($A111),\"\",VLOOKUP($A111,Data!$A$4:$V$155,4,FALSE)))","v":4.21},{"$f":"IF($A111=\"\",\"\",IF(ISBLANK($A111),\"\",VLOOKUP($A111,Data!$A$4:$V$155,5,FALSE)))","v":0.75},{"$f":"IF($A111=\"\",\"\",IF(ISBLANK($A111),\"\",VLOOKUP($A111,Data!$A$4:$AP$155,42,FALSE)))","v":0.28000000000000003},{"$f":"IF($A111=\"\",\"\",IF(ISBLANK($A111),\"\",VLOOKUP($A111,Data!$A$4:$AS$155,45,FALSE)))","v":0.31},{"$f":"IF($A111=\"\",\"\",IF(ISBLANK($A111),\"\",VLOOKUP($A111,Data!$A$4:$AI$155,35,FALSE)))","v":0.94},{"$f":"IF($A111=\"\",\"\",IF(ISBLANK($A111),\"\",VLOOKUP($A111,Data!$A$4:$AM$155,37,FALSE)))","v":0.55000000000000004},{"$f":"IF($A111=\"\",\"\",IF(ISBLANK($A111),\"\",VLOOKUP($A111,Data!$A$4:$AM$155,38,FALSE)))","v":0.11},{"$f":"IF($A111=\"\",\"\",IF(ISBLANK($A111),\"\",VLOOKUP($A111,Data!$A$4:$AM$155,39,FALSE)))","v":0.30099999999999999},{"$f":"IF($A111=\"\",\"\",IF(ISBLANK($A111),\"\",VLOOKUP($A111,Data!$A$4:$AI$155,6,FALSE)))","v":13600},{"$f":"IF($A111=\"\",\"\",IF(ISBLANK($A111),\"\",VLOOKUP($A111,Data!$A$4:$AI$155,7,FALSE)))","v":61},{"$f":"IF($A111=\"\",\"\",IF(ISBLANK($A111),\"\",VLOOKUP($A111,Data!$A$4:$AR$155,44,FALSE)))","v":0.44},{"$f":"IF($A111=\"\",\"\",IF(ISBLANK($A111),\"\",VLOOKUP($A111,Data!$A$4:$AI$155,8,FALSE)))","v":0.54}]
[870,{"$f":"IF($A112=\"\",\"\",IF(ISBLANK($A112),\"\",INDEX('LEA Nos codes'!$A$3:$A$154,MATCH($A112,'LEA Nos codes'!$B$3:$B$154,0))))","v":"Reading"},{"$f":"IF($A112=\"\",\"\",IF(ISBLANK($A112),\"\",VLOOKUP($A112,Data!$A$4:$V$155,3,FALSE)))","v":5},{"$f":"IF($A112=\"\",\"\",IF(ISBLANK($A112),\"\",VLOOKUP($A112,Data!$A$4:$AQ$155,43,FALSE)))","v":5.36},{"$f":"IF($A112=\"\",\"\",IF(ISBLANK($A112),\"\",VLOOKUP($A112,Data!$A$4:$V$155,4,FALSE)))","v":4.3600000000000003},{"$f":"IF($A112=\"\",\"\",IF(ISBLANK($A112),\"\",VLOOKUP($A112,Data!$A$4:$V$155,5,FALSE)))","v":0.86},{"$f":"IF($A112=\"\",\"\",IF(ISBLANK($A112),\"\",VLOOKUP($A112,Data!$A$4:$AP$155,42,FALSE)))","v":0.51},{"$f":"IF($A112=\"\",\"\",IF(ISBLANK($A112),\"\",VLOOKUP($A112,Data!$A$4:$AS$155,45,FALSE)))","v":0.47},{"$f":"IF($A112=\"\",\"\",IF(ISBLANK($A112),\"\",VLOOKUP($A112,Data!$A$4:$AI$155,35,FALSE)))","v":0.92},{"$f":"IF($A112=\"\",\"\",IF(ISBLANK($A112),\"\",VLOOKUP($A112,Data!$A$4:$AM$155,37,FALSE)))","v":0.51},{"$f":"IF($A112=\"\",\"\",IF(ISBLANK($A112),\"\",VLOOKUP($A112,Data!$A$4:$AM$155,38,FALSE)))","v":0.13},{"$f":"IF($A112=\"\",\"\",IF(ISBLANK($A112),\"\",VLOOKUP($A112,Data!$A$4:$AM$155,39,FALSE)))","v":0.33299999999999996},{"$f":"IF($A112=\"\",\"\",IF(ISBLANK($A112),\"\",VLOOKUP($A112,Data!$A$4:$AI$155,6,FALSE)))","v":12300},{"$f":"IF($A112=\"\",\"\",IF(ISBLANK($A112),\"\",VLOOKUP($A112,Data!$A$4:$AI$155,7,FALSE)))","v":87},{"$f":"IF($A112=\"\",\"\",IF(ISBLANK($A112),\"\",VLOOKUP($A112,Data!$A$4:$AR$155,44,FALSE)))","v":0.66},{"$f":"IF($A112=\"\",\"\",IF(ISBLANK($A112),\"\",VLOOKUP($A112,Data!$A$4:$AI$155,8,FALSE)))","v":0.34}]
[317,{"$f":"IF($A113=\"\",\"\",IF(ISBLANK($A113),\"\",INDEX('LEA Nos codes'!$A$3:$A$154,MATCH($A113,'LEA Nos codes'!$B$3:$B$154,0))))","v":"Redbridge"},{"$f":"IF($A113=\"\",\"\",IF(ISBLANK($A113),\"\",VLOOKUP($A113,Data!$A$4:$V$155,3,FALSE)))","v":6},{"$f":"IF($A113=\"\",\"\",IF(ISBLANK($A113),\"\",VLOOKUP($A113,Data!$A$4:$AQ$155,43,FALSE)))","v":5.28},{"$f":"IF($A113=\"\",\"\",IF(ISBLANK($A113),\"\",VLOOKUP($A113,Data!$A$4:$V$155,4,FALSE)))","v":3.76},{"$f":"IF($A113=\"\",\"\",IF(ISBLANK($A113),\"\",VLOOKUP($A113,Data!$A$4:$V$155,5,FALSE)))","v":0.8},{"$f":"IF($A113=\"\",\"\",IF(ISBLANK($A113),\"\",VLOOKUP($A113,Data!$A$4:$AP$155,42,FALSE)))","v":0.35},{"$f":"IF($A113=\"\",\"\",IF(ISBLANK($A113),\"\",VLOOKUP($A113,Data!$A$4:$AS$155,45,FALSE)))","v":0.39},{"$f":"IF($A113=\"\",\"\",IF(ISBLANK($A113),\"\",VLOOKUP($A113,Data!$A$4:$AI$155,35,FALSE)))","v":0.94},{"$f":"IF($A113=\"\",\"\",IF(ISBLANK($A113),\"\",VLOOKUP($A113,Data!$A$4:$AM$155,37,FALSE)))","v":0.6},{"$f":"IF($A113=\"\",\"\",IF(ISBLANK($A113),\"\",VLOOKUP($A113,Data!$A$4:$AM$155,38,FALSE)))","v":0.14000000000000001},{"$f":"IF($A113=\"\",\"\",IF(ISBLANK($A113),\"\",VLOOKUP($A113,Data!$A$4:$AM$155,39,FALSE)))","v":0.32},{"$f":"IF($A113=\"\",\"\",IF(ISBLANK($A113),\"\",VLOOKUP($A113,Data!$A$4:$AI$155,6,FALSE)))","v":22200},{"$f":"IF($A113=\"\",\"\",IF(ISBLANK($A113),\"\",VLOOKUP($A113,Data!$A$4:$AI$155,7,FALSE)))","v":89},{"$f":"IF($A113=\"\",\"\",IF(ISBLANK($A113),\"\",VLOOKUP($A113,Data!$A$4:$AR$155,44,FALSE)))","v":0.63},{"$f":"IF($A113=\"\",\"\",IF(ISBLANK($A113),\"\",VLOOKUP($A113,Data!$A$4:$AI$155,8,FALSE)))","v":0.35}]
[807,{"$f":"IF($A114=\"\",\"\",IF(ISBLANK($A114),\"\",INDEX('LEA Nos codes'!$A$3:$A$154,MATCH($A114,'LEA Nos codes'!$B$3:$B$154,0))))","v":"Redcar and Cleveland"},{"$f":"IF($A114=\"\",\"\",IF(ISBLANK($A114),\"\",VLOOKUP($A114,Data!$A$4:$V$155,3,FALSE)))","v":9.68},{"$f":"IF($A114=\"\",\"\",IF(ISBLANK($A114),\"\",VLOOKUP($A114,Data!$A$4:$AQ$155,43,FALSE)))","v":4.8499999999999996},{"$f":"IF($A114=\"\",\"\",IF(ISBLANK($A114),\"\",VLOOKUP($A114,Data!$A$4:$V$155,4,FALSE)))","v":3.71},{"$f":"IF($A114=\"\",\"\",IF(ISBLANK($A114),\"\",VLOOKUP($A114,Data!$A$4:$V$155,5,FALSE)))","v":0.64},{"$f":"IF($A114=\"\",\"\",IF(ISBLANK($A114),\"\",VLOOKUP($A114,Data!$A$4:$AP$155,42,FALSE)))","v":0.33},{"$f":"IF($A114=\"\",\"\",IF(ISBLANK($A114),\"\",VLOOKUP($A114,Data!$A$4:$AS$155,45,FALSE)))","v":0.31},{"$f":"IF($A114=\"\",\"\",IF(ISBLANK($A114),\"\",VLOOKUP($A114,Data!$A$4:$AI$155,35,FALSE)))","v":1.04},{"$f":"IF($A114=\"\",\"\",IF(ISBLANK($A114),\"\",VLOOKUP($A114,Data!$A$4:$AM$155,37,FALSE)))","v":0.51},{"$f":"IF($A114=\"\",\"\",IF(ISBLANK($A114),\"\",VLOOKUP($A114,Data!$A$4:$AM$155,38,FALSE)))","v":0.24},{"$f":"IF($A114=\"\",\"\",IF(ISBLANK($A114),\"\",VLOOKUP($A114,Data!$A$4:$AM$155,39,FALSE)))","v":0.39899999999999997},{"$f":"IF($A114=\"\",\"\",IF(ISBLANK($A114),\"\",VLOOKUP($A114,Data!$A$4:$AI$155,6,FALSE)))","v":7700},{"$f":"IF($A114=\"\",\"\",IF(ISBLANK($A114),\"\",VLOOKUP($A114,Data!$A$4:$AI$155,7,FALSE)))","v":41},{"$f":"IF($A114=\"\",\"\",IF(ISBLANK($A114),\"\",VLOOKUP($A114,Data!$A$4:$AR$155,44,FALSE)))","v":0.97},{"$f":"IF($A114=\"\",\"\",IF(ISBLANK($A114),\"\",VLOOKUP($A114,Data!$A$4:$AI$155,8,FALSE)))","v":0.03}]
[318,{"$f":"IF($A115=\"\",\"\",IF(ISBLANK($A115),\"\",INDEX('LEA Nos codes'!$A$3:$A$154,MATCH($A115,'LEA Nos codes'!$B$3:$B$154,0))))","v":"Richmond upon Thames"},{"$f":"IF($A115=\"\",\"\",IF(ISBLANK($A115),\"\",VLOOKUP($A115,Data!$A$4:$V$155,3,FALSE)))","v":6.1},{"$f":"IF($A115=\"\",\"\",IF(ISBLANK($A115),\"\",VLOOKUP($A115,Data!$A$4:$AQ$155,43,FALSE)))","v":5.53},{"$f":"IF($A115=\"\",\"\",IF(ISBLANK($A115),\"\",VLOOKUP($A115,Data!$A$4:$V$155,4,FALSE)))","v":3.68},{"$f":"IF($A115=\"\",\"\",IF(ISBLANK($A115),\"\",VLOOKUP($A115,Data!$A$4:$V$155,5,FALSE)))","v":0.84},{"$f":"IF($A115=\"\",\"\",IF(ISBLANK($A115),\"\",VLOOKUP($A115,Data!$A$4:$AP$155,42,FALSE)))","v":0.67},{"$f":"IF($A115=\"\",\"\",IF(ISBLANK($A115),\"\",VLOOKUP($A115,Data!$A$4:$AS$155,45,FALSE)))","v":0.72},{"$f":"IF($A115=\"\",\"\",IF(ISBLANK($A115),\"\",VLOOKUP($A115,Data!$A$4:$AI$155,35,FALSE)))","v":0.97},{"$f":"IF($A115=\"\",\"\",IF(ISBLANK($A115),\"\",VLOOKUP($A115,Data!$A$4:$AM$155,37,FALSE)))","v":0.43},{"$f":"IF($A115=\"\",\"\",IF(ISBLANK($A115),\"\",VLOOKUP($A115,Data!$A$4:$AM$155,38,FALSE)))","v":0.24},{"$f":"IF($A115=\"\",\"\",IF(ISBLANK($A115),\"\",VLOOKUP($A115,Data!$A$4:$AM$155,39,FALSE)))","v":0.29600000000000004},{"$f":"IF($A115=\"\",\"\",IF(ISBLANK($A115),\"\",VLOOKUP($A115,Data!$A$4:$AI$155,6,FALSE)))","v":14500},{"$f":"IF($A115=\"\",\"\",IF(ISBLANK($A115),\"\",VLOOKUP($A115,Data!$A$4:$AI$155,7,FALSE)))","v":143},{"$f":"IF($A115=\"\",\"\",IF(ISBLANK($A115),\"\",VLOOKUP($A115,Data!$A$4:$AR$155,44,FALSE)))","v":0.48},{"$f":"IF($A115=\"\",\"\",IF(ISBLANK($A115),\"\",VLOOKUP($A115,Data!$A$4:$AI$155,8,FALSE)))","v":0.52}]
[354,{"$f":"IF($A116=\"\",\"\",IF(ISBLANK($A116),\"\",INDEX('LEA Nos codes'!$A$3:$A$154,MATCH($A116,'LEA Nos codes'!$B$3:$B$154,0))))","v":"Rochdale"},{"$f":"IF($A116=\"\",\"\",IF(ISBLANK($A116),\"\",VLOOKUP($A116,Data!$A$4:$V$155,3,FALSE)))","v":4.95},{"$f":"IF($A116=\"\",\"\",IF(ISBLANK($A116),\"\",VLOOKUP($A116,Data!$A$4:$AQ$155,43,FALSE)))","v":4.95},{"$f":"IF($A116=\"\",\"\",IF(ISBLANK($A116),\"\",VLOOKUP($A116,Data!$A$4:$V$155,4,FALSE)))","v":4.1900000000000004},{"$f":"IF($A116=\"\",\"\",IF(ISBLANK($A116),\"\",VLOOKUP($A116,Data!$A$4:$V$155,5,FALSE)))","v":0.72},{"$f":"IF($A116=\"\",\"\",IF(ISBLANK($A116),\"\",VLOOKUP($A116,Data!$A$4:$AP$155,42,FALSE)))","v":0.27},{"$f":"IF($A116=\"\",\"\",IF(ISBLANK($A116),\"\",VLOOKUP($A116,Data!$A$4:$AS$155,45,FALSE)))","v":0.28000000000000003},{"$f":"IF($A116=\"\",\"\",IF(ISBLANK($A116),\"\",VLOOKUP($A116,Data!$A$4:$AI$155,35,FALSE)))","v":0.96},{"$f":"IF($A116=\"\",\"\",IF(ISBLANK($A116),\"\",VLOOKUP($A116,Data!$A$4:$AM$155,37,FALSE)))","v":0.42},{"$f":"IF($A116=\"\",\"\",IF(ISBLANK($A116),\"\",VLOOKUP($A116,Data!$A$4:$AM$155,38,FALSE)))","v":0.18},{"$f":"IF($A116=\"\",\"\",IF(ISBLANK($A116),\"\",VLOOKUP($A116,Data!$A$4:$AM$155,39,FALSE)))","v":0.41},{"$f":"IF($A116=\"\",\"\",IF(ISBLANK($A116),\"\",VLOOKUP($A116,Data!$A$4:$AI$155,6,FALSE)))","v":15000},{"$f":"IF($A116=\"\",\"\",IF(ISBLANK($A116),\"\",VLOOKUP($A116,Data!$A$4:$AI$155,7,FALSE)))","v":21},{"$f":"IF($A116=\"\",\"\",IF(ISBLANK($A116),\"\",VLOOKUP($A116,Data!$A$4:$AR$155,44,FALSE)))","v":0.66},{"$f":"IF($A116=\"\",\"\",IF(ISBLANK($A116),\"\",VLOOKUP($A116,Data!$A$4:$AI$155,8,FALSE)))","v":0.34}]
[372,{"$f":"IF($A117=\"\",\"\",IF(ISBLANK($A117),\"\",INDEX('LEA Nos codes'!$A$3:$A$154,MATCH($A117,'LEA Nos codes'!$B$3:$B$154,0))))","v":"Rotherham"},{"$f":"IF($A117=\"\",\"\",IF(ISBLANK($A117),\"\",VLOOKUP($A117,Data!$A$4:$V$155,3,FALSE)))","v":4.8499999999999996},{"$f":"IF($A117=\"\",\"\",IF(ISBLANK($A117),\"\",VLOOKUP($A117,Data!$A$4:$AQ$155,43,FALSE)))","v":4.8499999999999996},{"$f":"IF($A117=\"\",\"\",IF(ISBLANK($A117),\"\",VLOOKUP($A117,Data!$A$4:$V$155,4,FALSE)))","v":4.16},{"$f":"IF($A117=\"\",\"\",IF(ISBLANK($A117),\"\",VLOOKUP($A117,Data!$A$4:$V$155,5,FALSE)))","v":0.73},{"$f":"IF($A117=\"\",\"\",IF(ISBLANK($A117),\"\",VLOOKUP($A117,Data!$A$4:$AP$155,42,FALSE)))","v":0.38},{"$f":"IF($A117=\"\",\"\",IF(ISBLANK($A117),\"\",VLOOKUP($A117,Data!$A$4:$AS$155,45,FALSE)))","v":0.41},{"$f":"IF($A117=\"\",\"\",IF(ISBLANK($A117),\"\",VLOOKUP($A117,Data!$A$4:$AI$155,35,FALSE)))","v":0.97},{"$f":"IF($A117=\"\",\"\",IF(ISBLANK($A117),\"\",VLOOKUP($A117,Data!$A$4:$AM$155,37,FALSE)))","v":0.56000000000000005},{"$f":"IF($A117=\"\",\"\",IF(ISBLANK($A117),\"\",VLOOKUP($A117,Data!$A$4:$AM$155,38,FALSE)))","v":0.2},{"$f":"IF($A117=\"\",\"\",IF(ISBLANK($A117),\"\",VLOOKUP($A117,Data!$A$4:$AM$155,39,FALSE)))","v":0.35700000000000004},{"$f":"IF($A117=\"\",\"\",IF(ISBLANK($A117),\"\",VLOOKUP($A117,Data!$A$4:$AI$155,6,FALSE)))","v":16000},{"$f":"IF($A117=\"\",\"\",IF(ISBLANK($A117),\"\",VLOOKUP($A117,Data!$A$4:$AI$155,7,FALSE)))","v":45},{"$f":"IF($A117=\"\",\"\",IF(ISBLANK($A117),\"\",VLOOKUP($A117,Data!$A$4:$AR$155,44,FALSE)))","v":0.74},{"$f":"IF($A117=\"\",\"\",IF(ISBLANK($A117),\"\",VLOOKUP($A117,Data!$A$4:$AI$155,8,FALSE)))","v":0.25}]
[857,{"$f":"IF($A118=\"\",\"\",IF(ISBLANK($A118),\"\",INDEX('LEA Nos codes'!$A$3:$A$154,MATCH($A118,'LEA Nos codes'!$B$3:$B$154,0))))","v":"Rutland"},{"$f":"IF($A118=\"\",\"\",IF(ISBLANK($A118),\"\",VLOOKUP($A118,Data!$A$4:$V$155,3,FALSE)))","v":4.8499999999999996},{"$f":"IF($A118=\"\",\"\",IF(ISBLANK($A118),\"\",VLOOKUP($A118,Data!$A$4:$AQ$155,43,FALSE)))","v":4.8499999999999996},{"$f":"IF($A118=\"\",\"\",IF(ISBLANK($A118),\"\",VLOOKUP($A118,Data!$A$4:$V$155,4,FALSE)))","v":4.01},{"$f":"IF($A118=\"\",\"\",IF(ISBLANK($A118),\"\",VLOOKUP($A118,Data!$A$4:$V$155,5,FALSE)))","v":0.78},{"$f":"IF($A118=\"\",\"\",IF(ISBLANK($A118),\"\",VLOOKUP($A118,Data!$A$4:$AP$155,42,FALSE)))","v":0.17},{"$f":"IF($A118=\"\",\"\",IF(ISBLANK($A118),\"\",VLOOKUP($A118,Data!$A$4:$AS$155,45,FALSE)))","v":0.17},{"$f":"IF($A118=\"\",\"\",IF(ISBLANK($A118),\"\",VLOOKUP($A118,Data!$A$4:$AI$155,35,FALSE)))","v":1.07},{"$f":"IF($A118=\"\",\"\",IF(ISBLANK($A118),\"\",VLOOKUP($A118,Data!$A$4:$AM$155,37,FALSE)))","v":0.56999999999999995},{"$f":"IF($A118=\"\",\"\",IF(ISBLANK($A118),\"\",VLOOKUP($A118,Data!$A$4:$AM$155,38,FALSE)))","v":0.34},{"$f":"IF($A118=\"\",\"\",IF(ISBLANK($A118),\"\",VLOOKUP($A118,Data!$A$4:$AM$155,39,FALSE)))","v":0.24100000000000002},{"$f":"IF($A118=\"\",\"\",IF(ISBLANK($A118),\"\",VLOOKUP($A118,Data!$A$4:$AI$155,6,FALSE)))","v":1700},{"$f":"IF($A118=\"\",\"\",IF(ISBLANK($A118),\"\",VLOOKUP($A118,Data!$A$4:$AI$155,7,FALSE)))","v":148},{"$f":"IF($A118=\"\",\"\",IF(ISBLANK($A118),\"\",VLOOKUP($A118,Data!$A$4:$AR$155,44,FALSE)))","v":0.41},{"$f":"IF($A118=\"\",\"\",IF(ISBLANK($A118),\"\",VLOOKUP($A118,Data!$A$4:$AI$155,8,FALSE)))","v":0.59}]
[355,{"$f":"IF($A119=\"\",\"\",IF(ISBLANK($A119),\"\",INDEX('LEA Nos codes'!$A$3:$A$154,MATCH($A119,'LEA Nos codes'!$B$3:$B$154,0))))","v":"Salford"},{"$f":"IF($A119=\"\",\"\",IF(ISBLANK($A119),\"\",VLOOKUP($A119,Data!$A$4:$V$155,3,FALSE)))","v":4.8499999999999996},{"$f":"IF($A119=\"\",\"\",IF(ISBLANK($A119),\"\",VLOOKUP($A119,Data!$A$4:$AQ$155,43,FALSE)))","v":4.95},{"$f":"IF($A119=\"\",\"\",IF(ISBLANK($A119),\"\",VLOOKUP($A119,Data!$A$4:$V$155,4,FALSE)))","v":4.88},{"$f":"IF($A119=\"\",\"\",IF(ISBLANK($A119),\"\",VLOOKUP($A119,Data!$A$4:$V$155,5,FALSE)))","v":0.65},{"$f":"IF($A119=\"\",\"\",IF(ISBLANK($A119),\"\",VLOOKUP($A119,Data!$A$4:$AP$155,42,FALSE)))","v":0.35},{"$f":"IF($A119=\"\",\"\",IF(ISBLANK($A119),\"\",VLOOKUP($A119,Data!$A$4:$AS$155,45,FALSE)))","v":0.53},{"$f":"IF($A119=\"\",\"\",IF(ISBLANK($A119),\"\",VLOOKUP($A119,Data!$A$4:$AI$155,35,FALSE)))","v":1},{"$f":"IF($A119=\"\",\"\",IF(ISBLANK($A119),\"\",VLOOKUP($A119,Data!$A$4:$AM$155,37,FALSE)))","v":0.53},{"$f":"IF($A119=\"\",\"\",IF(ISBLANK($A119),\"\",VLOOKUP($A119,Data!$A$4:$AM$155,38,FALSE)))","v":0.16},{"$f":"IF($A119=\"\",\"\",IF(ISBLANK($A119),\"\",VLOOKUP($A119,Data!$A$4:$AM$155,39,FALSE)))","v":0.35200000000000004},{"$f":"IF($A119=\"\",\"\",IF(ISBLANK($A119),\"\",VLOOKUP($A119,Data!$A$4:$AI$155,6,FALSE)))","v":16800},{"$f":"IF($A119=\"\",\"\",IF(ISBLANK($A119),\"\",VLOOKUP($A119,Data!$A$4:$AI$155,7,FALSE)))","v":17},{"$f":"IF($A119=\"\",\"\",IF(ISBLANK($A119),\"\",VLOOKUP($A119,Data!$A$4:$AR$155,44,FALSE)))","v":0.72},{"$f":"IF($A119=\"\",\"\",IF(ISBLANK($A119),\"\",VLOOKUP($A119,Data!$A$4:$AI$155,8,FALSE)))","v":0.27}]
[333,{"$f":"IF($A120=\"\",\"\",IF(ISBLANK($A120),\"\",INDEX('LEA Nos codes'!$A$3:$A$154,MATCH($A120,'LEA Nos codes'!$B$3:$B$154,0))))","v":"Sandwell"},{"$f":"IF($A120=\"\",\"\",IF(ISBLANK($A120),\"\",VLOOKUP($A120,Data!$A$4:$V$155,3,FALSE)))","v":4.8499999999999996},{"$f":"IF($A120=\"\",\"\",IF(ISBLANK($A120),\"\",VLOOKUP($A120,Data!$A$4:$AQ$155,43,FALSE)))","v":4.8899999999999997},{"$f":"IF($A120=\"\",\"\",IF(ISBLANK($A120),\"\",VLOOKUP($A120,Data!$A$4:$V$155,4,FALSE)))","v":3.57},{"$f":"IF($A120=\"\",\"\",IF(ISBLANK($A120),\"\",VLOOKUP($A120,Data!$A$4:$V$155,5,FALSE)))","v":0.68},{"$f":"IF($A120=\"\",\"\",IF(ISBLANK($A120),\"\",VLOOKUP($A120,Data!$A$4:$AP$155,42,FALSE)))","v":0.22},{"$f":"IF($A120=\"\",\"\",IF(ISBLANK($A120),\"\",VLOOKUP($A120,Data!$A$4:$AS$155,45,FALSE)))","v":0.25},{"$f":"IF($A120=\"\",\"\",IF(ISBLANK($A120),\"\",VLOOKUP($A120,Data!$A$4:$AI$155,35,FALSE)))","v":0.94},{"$f":"IF($A120=\"\",\"\",IF(ISBLANK($A120),\"\",VLOOKUP($A120,Data!$A$4:$AM$155,37,FALSE)))","v":0.46},{"$f":"IF($A120=\"\",\"\",IF(ISBLANK($A120),\"\",VLOOKUP($A120,Data!$A$4:$AM$155,38,FALSE)))","v":0.14000000000000001},{"$f":"IF($A120=\"\",\"\",IF(ISBLANK($A120),\"\",VLOOKUP($A120,Data!$A$4:$AM$155,39,FALSE)))","v":0.39700000000000002},{"$f":"IF($A120=\"\",\"\",IF(ISBLANK($A120),\"\",VLOOKUP($A120,Data!$A$4:$AI$155,6,FALSE)))","v":23600},{"$f":"IF($A120=\"\",\"\",IF(ISBLANK($A120),\"\",VLOOKUP($A120,Data!$A$4:$AI$155,7,FALSE)))","v":11},{"$f":"IF($A120=\"\",\"\",IF(ISBLANK($A120),\"\",VLOOKUP($A120,Data!$A$4:$AR$155,44,FALSE)))","v":0.82},{"$f":"IF($A120=\"\",\"\",IF(ISBLANK($A120),\"\",VLOOKUP($A120,Data!$A$4:$AI$155,8,FALSE)))","v":0.18}]
[343,{"$f":"IF($A121=\"\",\"\",IF(ISBLANK($A121),\"\",INDEX('LEA Nos codes'!$A$3:$A$154,MATCH($A121,'LEA Nos codes'!$B$3:$B$154,0))))","v":"Sefton"},{"$f":"IF($A121=\"\",\"\",IF(ISBLANK($A121),\"\",VLOOKUP($A121,Data!$A$4:$V$155,3,FALSE)))","v":4.55},{"$f":"IF($A121=\"\",\"\",IF(ISBLANK($A121),\"\",VLOOKUP($A121,Data!$A$4:$AQ$155,43,FALSE)))","v":4.87},{"$f":"IF($A121=\"\",\"\",IF(ISBLANK($A121),\"\",VLOOKUP($A121,Data!$A$4:$V$155,4,FALSE)))","v":4.0999999999999996},{"$f":"IF($A121=\"\",\"\",IF(ISBLANK($A121),\"\",VLOOKUP($A121,Data!$A$4:$V$155,5,FALSE)))","v":0.8},{"$f":"IF($A121=\"\",\"\",IF(ISBLANK($A121),\"\",VLOOKUP($A121,Data!$A$4:$AP$155,42,FALSE)))","v":0.42},{"$f":"IF($A121=\"\",\"\",IF(ISBLANK($A121),\"\",VLOOKUP($A121,Data!$A$4:$AS$155,45,FALSE)))","v":0.46},{"$f":"IF($A121=\"\",\"\",IF(ISBLANK($A121),\"\",VLOOKUP($A121,Data!$A$4:$AI$155,35,FALSE)))","v":1},{"$f":"IF($A121=\"\",\"\",IF(ISBLANK($A121),\"\",VLOOKUP($A121,Data!$A$4:$AM$155,37,FALSE)))","v":0.51},{"$f":"IF($A121=\"\",\"\",IF(ISBLANK($A121),\"\",VLOOKUP($A121,Data!$A$4:$AM$155,38,FALSE)))","v":0.24},{"$f":"IF($A121=\"\",\"\",IF(ISBLANK($A121),\"\",VLOOKUP($A121,Data!$A$4:$AM$155,39,FALSE)))","v":0.317},{"$f":"IF($A121=\"\",\"\",IF(ISBLANK($A121),\"\",VLOOKUP($A121,Data!$A$4:$AI$155,6,FALSE)))","v":14700},{"$f":"IF($A121=\"\",\"\",IF(ISBLANK($A121),\"\",VLOOKUP($A121,Data!$A$4:$AI$155,7,FALSE)))","v":68},{"$f":"IF($A121=\"\",\"\",IF(ISBLANK($A121),\"\",VLOOKUP($A121,Data!$A$4:$AR$155,44,FALSE)))","v":0.71},{"$f":"IF($A121=\"\",\"\",IF(ISBLANK($A121),\"\",VLOOKUP($A121,Data!$A$4:$AI$155,8,FALSE)))","v":0.28000000000000003}]
[373,{"$f":"IF($A122=\"\",\"\",IF(ISBLANK($A122),\"\",INDEX('LEA Nos codes'!$A$3:$A$154,MATCH($A122,'LEA Nos codes'!$B$3:$B$154,0))))","v":"Sheffield"},{"$f":"IF($A122=\"\",\"\",IF(ISBLANK($A122),\"\",VLOOKUP($A122,Data!$A$4:$V$155,3,FALSE)))","v":5.05},{"$f":"IF($A122=\"\",\"\",IF(ISBLANK($A122),\"\",VLOOKUP($A122,Data!$A$4:$AQ$155,43,FALSE)))","v":4.8499999999999996},{"$f":"IF($A122=\"\",\"\",IF(ISBLANK($A122),\"\",VLOOKUP($A122,Data!$A$4:$V$155,4,FALSE)))","v":3.95},{"$f":"IF($A122=\"\",\"\",IF(ISBLANK($A122),\"\",VLOOKUP($A122,Data!$A$4:$V$155,5,FALSE)))","v":0.7},{"$f":"IF($A122=\"\",\"\",IF(ISBLANK($A122),\"\",VLOOKUP($A122,Data!$A$4:$AP$155,42,FALSE)))","v":0.46},{"$f":"IF($A122=\"\",\"\",IF(ISBLANK($A122),\"\",VLOOKUP($A122,Data!$A$4:$AS$155,45,FALSE)))","v":0.52},{"$f":"IF($A122=\"\",\"\",IF(ISBLANK($A122),\"\",VLOOKUP($A122,Data!$A$4:$AI$155,35,FALSE)))","v":0.93},{"$f":"IF($A122=\"\",\"\",IF(ISBLANK($A122),\"\",VLOOKUP($A122,Data!$A$4:$AM$155,37,FALSE)))","v":0.51},{"$f":"IF($A122=\"\",\"\",IF(ISBLANK($A122),\"\",VLOOKUP($A122,Data!$A$4:$AM$155,38,FALSE)))","v":0.18},{"$f":"IF($A122=\"\",\"\",IF(ISBLANK($A122),\"\",VLOOKUP($A122,Data!$A$4:$AM$155,39,FALSE)))","v":0.41299999999999998},{"$f":"IF($A122=\"\",\"\",IF(ISBLANK($A122),\"\",VLOOKUP($A122,Data!$A$4:$AI$155,6,FALSE)))","v":34300},{"$f":"IF($A122=\"\",\"\",IF(ISBLANK($A122),\"\",VLOOKUP($A122,Data!$A$4:$AI$155,7,FALSE)))","v":47},{"$f":"IF($A122=\"\",\"\",IF(ISBLANK($A122),\"\",VLOOKUP($A122,Data!$A$4:$AR$155,44,FALSE)))","v":0.64},{"$f":"IF($A122=\"\",\"\",IF(ISBLANK($A122),\"\",VLOOKUP($A122,Data!$A$4:$AI$155,8,FALSE)))","v":0.35}]
[893,{"$f":"IF($A123=\"\",\"\",IF(ISBLANK($A123),\"\",INDEX('LEA Nos codes'!$A$3:$A$154,MATCH($A123,'LEA Nos codes'!$B$3:$B$154,0))))","v":"Shropshire"},{"$f":"IF($A123=\"\",\"\",IF(ISBLANK($A123),\"\",VLOOKUP($A123,Data!$A$4:$V$155,3,FALSE)))","v":4.96},{"$f":"IF($A123=\"\",\"\",IF(ISBLANK($A123),\"\",VLOOKUP($A123,Data!$A$4:$AQ$155,43,FALSE)))","v":4.8499999999999996},{"$f":"IF($A123=\"\",\"\",IF(ISBLANK($A123),\"\",VLOOKUP($A123,Data!$A$4:$V$155,4,FALSE)))","v":3.48},{"$f":"IF($A123=\"\",\"\",IF(ISBLANK($A123),\"\",VLOOKUP($A123,Data!$A$4:$V$155,5,FALSE)))","v":0.82},{"$f":"IF($A123=\"\",\"\",IF(ISBLANK($A123),\"\",VLOOKUP($A123,Data!$A$4:$AP$155,42,FALSE)))","v":0.21},{"$f":"IF($A123=\"\",\"\",IF(ISBLANK($A123),\"\",VLOOKUP($A123,Data!$A$4:$AS$155,45,FALSE)))","v":0.22},{"$f":"IF($A123=\"\",\"\",IF(ISBLANK($A123),\"\",VLOOKUP($A123,Data!$A$4:$AI$155,35,FALSE)))","v":0.98},{"$f":"IF($A123=\"\",\"\",IF(ISBLANK($A123),\"\",VLOOKUP($A123,Data!$A$4:$AM$155,37,FALSE)))","v":0.52},{"$f":"IF($A123=\"\",\"\",IF(ISBLANK($A123),\"\",VLOOKUP($A123,Data!$A$4:$AM$155,38,FALSE)))","v":0.19},{"$f":"IF($A123=\"\",\"\",IF(ISBLANK($A123),\"\",VLOOKUP($A123,Data!$A$4:$AM$155,39,FALSE)))","v":0.30299999999999999},{"$f":"IF($A123=\"\",\"\",IF(ISBLANK($A123),\"\",VLOOKUP($A123,Data!$A$4:$AI$155,6,FALSE)))","v":15700},{"$f":"IF($A123=\"\",\"\",IF(ISBLANK($A123),\"\",VLOOKUP($A123,Data!$A$4:$AI$155,7,FALSE)))","v":113},{"$f":"IF($A123=\"\",\"\",IF(ISBLANK($A123),\"\",VLOOKUP($A123,Data!$A$4:$AR$155,44,FALSE)))","v":0.51},{"$f":"IF($A123=\"\",\"\",IF(ISBLANK($A123),\"\",VLOOKUP($A123,Data!$A$4:$AI$155,8,FALSE)))","v":0.47}]
[871,{"$f":"IF($A124=\"\",\"\",IF(ISBLANK($A124),\"\",INDEX('LEA Nos codes'!$A$3:$A$154,MATCH($A124,'LEA Nos codes'!$B$3:$B$154,0))))","v":"Slough"},{"$f":"IF($A124=\"\",\"\",IF(ISBLANK($A124),\"\",VLOOKUP($A124,Data!$A$4:$V$155,3,FALSE)))","v":"."},{"$f":"IF($A124=\"\",\"\",IF(ISBLANK($A124),\"\",VLOOKUP($A124,Data!$A$4:$AQ$155,43,FALSE)))","v":5.49},{"$f":"IF($A124=\"\",\"\",IF(ISBLANK($A124),\"\",VLOOKUP($A124,Data!$A$4:$V$155,4,FALSE)))","v":5.12},{"$f":"IF($A124=\"\",\"\",IF(ISBLANK($A124),\"\",VLOOKUP($A124,Data!$A$4:$V$155,5,FALSE)))","v":0.7},{"$f":"IF($A124=\"\",\"\",IF(ISBLANK($A124),\"\",VLOOKUP($A124,Data!$A$4:$AP$155,42,FALSE)))","v":0.43},{"$f":"IF($A124=\"\",\"\",IF(ISBLANK($A124),\"\",VLOOKUP($A124,Data!$A$4:$AS$155,45,FALSE)))","v":0.54},{"$f":"IF($A124=\"\",\"\",IF(ISBLANK($A124),\"\",VLOOKUP($A124,Data!$A$4:$AI$155,35,FALSE)))","v":0.92},{"$f":"IF($A124=\"\",\"\",IF(ISBLANK($A124),\"\",VLOOKUP($A124,Data!$A$4:$AM$155,37,FALSE)))","v":0.5},{"$f":"IF($A124=\"\",\"\",IF(ISBLANK($A124),\"\",VLOOKUP($A124,Data!$A$4:$AM$155,38,FALSE)))","v":0.14000000000000001},{"$f":"IF($A124=\"\",\"\",IF(ISBLANK($A124),\"\",VLOOKUP($A124,Data!$A$4:$AM$155,39,FALSE)))","v":0.371},{"$f":"IF($A124=\"\",\"\",IF(ISBLANK($A124),\"\",VLOOKUP($A124,Data!$A$4:$AI$155,6,FALSE)))","v":13100},{"$f":"IF($A124=\"\",\"\",IF(ISBLANK($A124),\"\",VLOOKUP($A124,Data!$A$4:$AI$155,7,FALSE)))","v":69},{"$f":"IF($A124=\"\",\"\",IF(ISBLANK($A124),\"\",VLOOKUP($A124,Data!$A$4:$AR$155,44,FALSE)))","v":0.8},{"$f":"IF($A124=\"\",\"\",IF(ISBLANK($A124),\"\",VLOOKUP($A124,Data!$A$4:$AI$155,8,FALSE)))","v":0.2}]
[334,{"$f":"IF($A125=\"\",\"\",IF(ISBLANK($A125),\"\",INDEX('LEA Nos codes'!$A$3:$A$154,MATCH($A125,'LEA Nos codes'!$B$3:$B$154,0))))","v":"Solihull"},{"$f":"IF($A125=\"\",\"\",IF(ISBLANK($A125),\"\",VLOOKUP($A125,Data!$A$4:$V$155,3,FALSE)))","v":5},{"$f":"IF($A125=\"\",\"\",IF(ISBLANK($A125),\"\",VLOOKUP($A125,Data!$A$4:$AQ$155,43,FALSE)))","v":4.8899999999999997},{"$f":"IF($A125=\"\",\"\",IF(ISBLANK($A125),\"\",VLOOKUP($A125,Data!$A$4:$V$155,4,FALSE)))","v":2.99},{"$f":"IF($A125=\"\",\"\",IF(ISBLANK($A125),\"\",VLOOKUP($A125,Data!$A$4:$V$155,5,FALSE)))","v":0.76},{"$f":"IF($A125=\"\",\"\",IF(ISBLANK($A125),\"\",VLOOKUP($A125,Data!$A$4:$AP$155,42,FALSE)))","v":0.35},{"$f":"IF($A125=\"\",\"\",IF(ISBLANK($A125),\"\",VLOOKUP($A125,Data!$A$4:$AS$155,45,FALSE)))","v":0.44},{"$f":"IF($A125=\"\",\"\",IF(ISBLANK($A125),\"\",VLOOKUP($A125,Data!$A$4:$AI$155,35,FALSE)))","v":1.1000000000000001},{"$f":"IF($A125=\"\",\"\",IF(ISBLANK($A125),\"\",VLOOKUP($A125,Data!$A$4:$AM$155,37,FALSE)))","v":0.56000000000000005},{"$f":"IF($A125=\"\",\"\",IF(ISBLANK($A125),\"\",VLOOKUP($A125,Data!$A$4:$AM$155,38,FALSE)))","v":0.28999999999999998},{"$f":"IF($A125=\"\",\"\",IF(ISBLANK($A125),\"\",VLOOKUP($A125,Data!$A$4:$AM$155,39,FALSE)))","v":0.38900000000000001},{"$f":"IF($A125=\"\",\"\",IF(ISBLANK($A125),\"\",VLOOKUP($A125,Data!$A$4:$AI$155,6,FALSE)))","v":11900},{"$f":"IF($A125=\"\",\"\",IF(ISBLANK($A125),\"\",VLOOKUP($A125,Data!$A$4:$AI$155,7,FALSE)))","v":111},{"$f":"IF($A125=\"\",\"\",IF(ISBLANK($A125),\"\",VLOOKUP($A125,Data!$A$4:$AR$155,44,FALSE)))","v":0.76},{"$f":"IF($A125=\"\",\"\",IF(ISBLANK($A125),\"\",VLOOKUP($A125,Data!$A$4:$AI$155,8,FALSE)))","v":0.24}]
[933,{"$f":"IF($A126=\"\",\"\",IF(ISBLANK($A126),\"\",INDEX('LEA Nos codes'!$A$3:$A$154,MATCH($A126,'LEA Nos codes'!$B$3:$B$154,0))))","v":"Somerset"},{"$f":"IF($A126=\"\",\"\",IF(ISBLANK($A126),\"\",VLOOKUP($A126,Data!$A$4:$V$155,3,FALSE)))","v":4.8499999999999996},{"$f":"IF($A126=\"\",\"\",IF(ISBLANK($A126),\"\",VLOOKUP($A126,Data!$A$4:$AQ$155,43,FALSE)))","v":4.8499999999999996},{"$f":"IF($A126=\"\",\"\",IF(ISBLANK($A126),\"\",VLOOKUP($A126,Data!$A$4:$V$155,4,FALSE)))","v":4},{"$f":"IF($A126=\"\",\"\",IF(ISBLANK($A126),\"\",VLOOKUP($A126,Data!$A$4:$V$155,5,FALSE)))","v":0.79},{"$f":"IF($A126=\"\",\"\",IF(ISBLANK($A126),\"\",VLOOKUP($A126,Data!$A$4:$AP$155,42,FALSE)))","v":0.43},{"$f":"IF($A126=\"\",\"\",IF(ISBLANK($A126),\"\",VLOOKUP($A126,Data!$A$4:$AS$155,45,FALSE)))","v":0.5},{"$f":"IF($A126=\"\",\"\",IF(ISBLANK($A126),\"\",VLOOKUP($A126,Data!$A$4:$AI$155,35,FALSE)))","v":0.98},{"$f":"IF($A126=\"\",\"\",IF(ISBLANK($A126),\"\",VLOOKUP($A126,Data!$A$4:$AM$155,37,FALSE)))","v":0.53},{"$f":"IF($A126=\"\",\"\",IF(ISBLANK($A126),\"\",VLOOKUP($A126,Data!$A$4:$AM$155,38,FALSE)))","v":0.26},{"$f":"IF($A126=\"\",\"\",IF(ISBLANK($A126),\"\",VLOOKUP($A126,Data!$A$4:$AM$155,39,FALSE)))","v":0.33600000000000002},{"$f":"IF($A126=\"\",\"\",IF(ISBLANK($A126),\"\",VLOOKUP($A126,Data!$A$4:$AI$155,6,FALSE)))","v":29400},{"$f":"IF($A126=\"\",\"\",IF(ISBLANK($A126),\"\",VLOOKUP($A126,Data!$A$4:$AI$155,7,FALSE)))","v":108},{"$f":"IF($A126=\"\",\"\",IF(ISBLANK($A126),\"\",VLOOKUP($A126,Data!$A$4:$AR$155,44,FALSE)))","v":0.39},{"$f":"IF($A126=\"\",\"\",IF(ISBLANK($A126),\"\",VLOOKUP($A126,Data!$A$4:$AI$155,8,FALSE)))","v":0.6}]
[803,{"$f":"IF($A127=\"\",\"\",IF(ISBLANK($A127),\"\",INDEX('LEA Nos codes'!$A$3:$A$154,MATCH($A127,'LEA Nos codes'!$B$3:$B$154,0))))","v":"South Gloucestershire"},{"$f":"IF($A127=\"\",\"\",IF(ISBLANK($A127),\"\",VLOOKUP($A127,Data!$A$4:$V$155,3,FALSE)))","v":6.17},{"$f":"IF($A127=\"\",\"\",IF(ISBLANK($A127),\"\",VLOOKUP($A127,Data!$A$4:$AQ$155,43,FALSE)))","v":5.07},{"$f":"IF($A127=\"\",\"\",IF(ISBLANK($A127),\"\",VLOOKUP($A127,Data!$A$4:$V$155,4,FALSE)))","v":3.55},{"$f":"IF($A127=\"\",\"\",IF(ISBLANK($A127),\"\",VLOOKUP($A127,Data!$A$4:$V$155,5,FALSE)))","v":0.74},{"$f":"IF($A127=\"\",\"\",IF(ISBLANK($A127),\"\",VLOOKUP($A127,Data!$A$4:$AP$155,42,FALSE)))","v":0.48},{"$f":"IF($A127=\"\",\"\",IF(ISBLANK($A127),\"\",VLOOKUP($A127,Data!$A$4:$AS$155,45,FALSE)))","v":0.51},{"$f":"IF($A127=\"\",\"\",IF(ISBLANK($A127),\"\",VLOOKUP($A127,Data!$A$4:$AI$155,35,FALSE)))","v":0.99},{"$f":"IF($A127=\"\",\"\",IF(ISBLANK($A127),\"\",VLOOKUP($A127,Data!$A$4:$AM$155,37,FALSE)))","v":0.67},{"$f":"IF($A127=\"\",\"\",IF(ISBLANK($A127),\"\",VLOOKUP($A127,Data!$A$4:$AM$155,38,FALSE)))","v":0.22},{"$f":"IF($A127=\"\",\"\",IF(ISBLANK($A127),\"\",VLOOKUP($A127,Data!$A$4:$AM$155,39,FALSE)))","v":0.27500000000000002},{"$f":"IF($A127=\"\",\"\",IF(ISBLANK($A127),\"\",VLOOKUP($A127,Data!$A$4:$AI$155,6,FALSE)))","v":16200},{"$f":"IF($A127=\"\",\"\",IF(ISBLANK($A127),\"\",VLOOKUP($A127,Data!$A$4:$AI$155,7,FALSE)))","v":141},{"$f":"IF($A127=\"\",\"\",IF(ISBLANK($A127),\"\",VLOOKUP($A127,Data!$A$4:$AR$155,44,FALSE)))","v":0.35},{"$f":"IF($A127=\"\",\"\",IF(ISBLANK($A127),\"\",VLOOKUP($A127,Data!$A$4:$AI$155,8,FALSE)))","v":0.64}]
[393,{"$f":"IF($A128=\"\",\"\",IF(ISBLANK($A128),\"\",INDEX('LEA Nos codes'!$A$3:$A$154,MATCH($A128,'LEA Nos codes'!$B$3:$B$154,0))))","v":"South Tyneside"},{"$f":"IF($A128=\"\",\"\",IF(ISBLANK($A128),\"\",VLOOKUP($A128,Data!$A$4:$V$155,3,FALSE)))","v":5.51},{"$f":"IF($A128=\"\",\"\",IF(ISBLANK($A128),\"\",VLOOKUP($A128,Data!$A$4:$AQ$155,43,FALSE)))","v":4.8499999999999996},{"$f":"IF($A128=\"\",\"\",IF(ISBLANK($A128),\"\",VLOOKUP($A128,Data!$A$4:$V$155,4,FALSE)))","v":3.94},{"$f":"IF($A128=\"\",\"\",IF(ISBLANK($A128),\"\",VLOOKUP($A128,Data!$A$4:$V$155,5,FALSE)))","v":0.63},{"$f":"IF($A128=\"\",\"\",IF(ISBLANK($A128),\"\",VLOOKUP($A128,Data!$A$4:$AP$155,42,FALSE)))","v":0.5},{"$f":"IF($A128=\"\",\"\",IF(ISBLANK($A128),\"\",VLOOKUP($A128,Data!$A$4:$AS$155,45,FALSE)))","v":0.45},{"$f":"IF($A128=\"\",\"\",IF(ISBLANK($A128),\"\",VLOOKUP($A128,Data!$A$4:$AI$155,35,FALSE)))","v":0.93},{"$f":"IF($A128=\"\",\"\",IF(ISBLANK($A128),\"\",VLOOKUP($A128,Data!$A$4:$AM$155,37,FALSE)))","v":0.5},{"$f":"IF($A128=\"\",\"\",IF(ISBLANK($A128),\"\",VLOOKUP($A128,Data!$A$4:$AM$155,38,FALSE)))","v":0.23},{"$f":"IF($A128=\"\",\"\",IF(ISBLANK($A128),\"\",VLOOKUP($A128,Data!$A$4:$AM$155,39,FALSE)))","v":0.36399999999999999},{"$f":"IF($A128=\"\",\"\",IF(ISBLANK($A128),\"\",VLOOKUP($A128,Data!$A$4:$AI$155,6,FALSE)))","v":8300},{"$f":"IF($A128=\"\",\"\",IF(ISBLANK($A128),\"\",VLOOKUP($A128,Data!$A$4:$AI$155,7,FALSE)))","v":44},{"$f":"IF($A128=\"\",\"\",IF(ISBLANK($A128),\"\",VLOOKUP($A128,Data!$A$4:$AR$155,44,FALSE)))","v":0.89},{"$f":"IF($A128=\"\",\"\",IF(ISBLANK($A128),\"\",VLOOKUP($A128,Data!$A$4:$AI$155,8,FALSE)))","v":0.11}]
[852,{"$f":"IF($A129=\"\",\"\",IF(ISBLANK($A129),\"\",INDEX('LEA Nos codes'!$A$3:$A$154,MATCH($A129,'LEA Nos codes'!$B$3:$B$154,0))))","v":"Southampton"},{"$f":"IF($A129=\"\",\"\",IF(ISBLANK($A129),\"\",VLOOKUP($A129,Data!$A$4:$V$155,3,FALSE)))","v":4.8499999999999996},{"$f":"IF($A129=\"\",\"\",IF(ISBLANK($A129),\"\",VLOOKUP($A129,Data!$A$4:$AQ$155,43,FALSE)))","v":5.07},{"$f":"IF($A129=\"\",\"\",IF(ISBLANK($A129),\"\",VLOOKUP($A129,Data!$A$4:$V$155,4,FALSE)))","v":4.47},{"$f":"IF($A129=\"\",\"\",IF(ISBLANK($A129),\"\",VLOOKUP($A129,Data!$A$4:$V$155,5,FALSE)))","v":0.77},{"$f":"IF($A129=\"\",\"\",IF(ISBLANK($A129),\"\",VLOOKUP($A129,Data!$A$4:$AP$155,42,FALSE)))","v":0.4},{"$f":"IF($A129=\"\",\"\",IF(ISBLANK($A129),\"\",VLOOKUP($A129,Data!$A$4:$AS$155,45,FALSE)))","v":0.43},{"$f":"IF($A129=\"\",\"\",IF(ISBLANK($A129),\"\",VLOOKUP($A129,Data!$A$4:$AI$155,35,FALSE)))","v":0.96},{"$f":"IF($A129=\"\",\"\",IF(ISBLANK($A129),\"\",VLOOKUP($A129,Data!$A$4:$AM$155,37,FALSE)))","v":0.51},{"$f":"IF($A129=\"\",\"\",IF(ISBLANK($A129),\"\",VLOOKUP($A129,Data!$A$4:$AM$155,38,FALSE)))","v":0.17},{"$f":"IF($A129=\"\",\"\",IF(ISBLANK($A129),\"\",VLOOKUP($A129,Data!$A$4:$AM$155,39,FALSE)))","v":0.35899999999999999},{"$f":"IF($A129=\"\",\"\",IF(ISBLANK($A129),\"\",VLOOKUP($A129,Data!$A$4:$AI$155,6,FALSE)))","v":15900},{"$f":"IF($A129=\"\",\"\",IF(ISBLANK($A129),\"\",VLOOKUP($A129,Data!$A$4:$AI$155,7,FALSE)))","v":65},{"$f":"IF($A129=\"\",\"\",IF(ISBLANK($A129),\"\",VLOOKUP($A129,Data!$A$4:$AR$155,44,FALSE)))","v":0.45},{"$f":"IF($A129=\"\",\"\",IF(ISBLANK($A129),\"\",VLOOKUP($A129,Data!$A$4:$AI$155,8,FALSE)))","v":0.55000000000000004}]
[882,{"$f":"IF($A130=\"\",\"\",IF(ISBLANK($A130),\"\",INDEX('LEA Nos codes'!$A$3:$A$154,MATCH($A130,'LEA Nos codes'!$B$3:$B$154,0))))","v":"Southend-on-Sea"},{"$f":"IF($A130=\"\",\"\",IF(ISBLANK($A130),\"\",VLOOKUP($A130,Data!$A$4:$V$155,3,FALSE)))","v":5.0999999999999996},{"$f":"IF($A130=\"\",\"\",IF(ISBLANK($A130),\"\",VLOOKUP($A130,Data!$A$4:$AQ$155,43,FALSE)))","v":4.8899999999999997},{"$f":"IF($A130=\"\",\"\",IF(ISBLANK($A130),\"\",VLOOKUP($A130,Data!$A$4:$V$155,4,FALSE)))","v":4.3},{"$f":"IF($A130=\"\",\"\",IF(ISBLANK($A130),\"\",VLOOKUP($A130,Data!$A$4:$V$155,5,FALSE)))","v":0.85},{"$f":"IF($A130=\"\",\"\",IF(ISBLANK($A130),\"\",VLOOKUP($A130,Data!$A$4:$AP$155,42,FALSE)))","v":0.37},{"$f":"IF($A130=\"\",\"\",IF(ISBLANK($A130),\"\",VLOOKUP($A130,Data!$A$4:$AS$155,45,FALSE)))","v":0.3},{"$f":"IF($A130=\"\",\"\",IF(ISBLANK($A130),\"\",VLOOKUP($A130,Data!$A$4:$AI$155,35,FALSE)))","v":0.95},{"$f":"IF($A130=\"\",\"\",IF(ISBLANK($A130),\"\",VLOOKUP($A130,Data!$A$4:$AM$155,37,FALSE)))","v":0.45},{"$f":"IF($A130=\"\",\"\",IF(ISBLANK($A130),\"\",VLOOKUP($A130,Data!$A$4:$AM$155,38,FALSE)))","v":0.24},{"$f":"IF($A130=\"\",\"\",IF(ISBLANK($A130),\"\",VLOOKUP($A130,Data!$A$4:$AM$155,39,FALSE)))","v":0.373},{"$f":"IF($A130=\"\",\"\",IF(ISBLANK($A130),\"\",VLOOKUP($A130,Data!$A$4:$AI$155,6,FALSE)))","v":11400},{"$f":"IF($A130=\"\",\"\",IF(ISBLANK($A130),\"\",VLOOKUP($A130,Data!$A$4:$AI$155,7,FALSE)))","v":76},{"$f":"IF($A130=\"\",\"\",IF(ISBLANK($A130),\"\",VLOOKUP($A130,Data!$A$4:$AR$155,44,FALSE)))","v":0.51},{"$f":"IF($A130=\"\",\"\",IF(ISBLANK($A130),\"\",VLOOKUP($A130,Data!$A$4:$AI$155,8,FALSE)))","v":0.48}]
[210,{"$f":"IF($A131=\"\",\"\",IF(ISBLANK($A131),\"\",INDEX('LEA Nos codes'!$A$3:$A$154,MATCH($A131,'LEA Nos codes'!$B$3:$B$154,0))))","v":"Southwark"},{"$f":"IF($A131=\"\",\"\",IF(ISBLANK($A131),\"\",VLOOKUP($A131,Data!$A$4:$V$155,3,FALSE)))","v":8.36},{"$f":"IF($A131=\"\",\"\",IF(ISBLANK($A131),\"\",VLOOKUP($A131,Data!$A$4:$AQ$155,43,FALSE)))","v":6.07},{"$f":"IF($A131=\"\",\"\",IF(ISBLANK($A131),\"\",VLOOKUP($A131,Data!$A$4:$V$155,4,FALSE)))","v":5.8},{"$f":"IF($A131=\"\",\"\",IF(ISBLANK($A131),\"\",VLOOKUP($A131,Data!$A$4:$V$155,5,FALSE)))","v":0.72},{"$f":"IF($A131=\"\",\"\",IF(ISBLANK($A131),\"\",VLOOKUP($A131,Data!$A$4:$AP$155,42,FALSE)))","v":0.56000000000000005},{"$f":"IF($A131=\"\",\"\",IF(ISBLANK($A131),\"\",VLOOKUP($A131,Data!$A$4:$AS$155,45,FALSE)))","v":0.59},{"$f":"IF($A131=\"\",\"\",IF(ISBLANK($A131),\"\",VLOOKUP($A131,Data!$A$4:$AI$155,35,FALSE)))","v":0.88},{"$f":"IF($A131=\"\",\"\",IF(ISBLANK($A131),\"\",VLOOKUP($A131,Data!$A$4:$AM$155,37,FALSE)))","v":0.6},{"$f":"IF($A131=\"\",\"\",IF(ISBLANK($A131),\"\",VLOOKUP($A131,Data!$A$4:$AM$155,38,FALSE)))","v":0.1},{"$f":"IF($A131=\"\",\"\",IF(ISBLANK($A131),\"\",VLOOKUP($A131,Data!$A$4:$AM$155,39,FALSE)))","v":0.33200000000000002},{"$f":"IF($A131=\"\",\"\",IF(ISBLANK($A131),\"\",VLOOKUP($A131,Data!$A$4:$AI$155,6,FALSE)))","v":21500},{"$f":"IF($A131=\"\",\"\",IF(ISBLANK($A131),\"\",VLOOKUP($A131,Data!$A$4:$AI$155,7,FALSE)))","v":35},{"$f":"IF($A131=\"\",\"\",IF(ISBLANK($A131),\"\",VLOOKUP($A131,Data!$A$4:$AR$155,44,FALSE)))","v":0.76},{"$f":"IF($A131=\"\",\"\",IF(ISBLANK($A131),\"\",VLOOKUP($A131,Data!$A$4:$AI$155,8,FALSE)))","v":0.22}]
[342,{"$f":"IF($A132=\"\",\"\",IF(ISBLANK($A132),\"\",INDEX('LEA Nos codes'!$A$3:$A$154,MATCH($A132,'LEA Nos codes'!$B$3:$B$154,0))))","v":"St. Helens"},{"$f":"IF($A132=\"\",\"\",IF(ISBLANK($A132),\"\",VLOOKUP($A132,Data!$A$4:$V$155,3,FALSE)))","v":4.8499999999999996},{"$f":"IF($A132=\"\",\"\",IF(ISBLANK($A132),\"\",VLOOKUP($A132,Data!$A$4:$AQ$155,43,FALSE)))","v":4.87},{"$f":"IF($A132=\"\",\"\",IF(ISBLANK($A132),\"\",VLOOKUP($A132,Data!$A$4:$V$155,4,FALSE)))","v":3.24},{"$f":"IF($A132=\"\",\"\",IF(ISBLANK($A132),\"\",VLOOKUP($A132,Data!$A$4:$V$155,5,FALSE)))","v":0.8},{"$f":"IF($A132=\"\",\"\",IF(ISBLANK($A132),\"\",VLOOKUP($A132,Data!$A$4:$AP$155,42,FALSE)))","v":0.37},{"$f":"IF($A132=\"\",\"\",IF(ISBLANK($A132),\"\",VLOOKUP($A132,Data!$A$4:$AS$155,45,FALSE)))","v":0.43},{"$f":"IF($A132=\"\",\"\",IF(ISBLANK($A132),\"\",VLOOKUP($A132,Data!$A$4:$AI$155,35,FALSE)))","v":0.96},{"$f":"IF($A132=\"\",\"\",IF(ISBLANK($A132),\"\",VLOOKUP($A132,Data!$A$4:$AM$155,37,FALSE)))","v":0.56999999999999995},{"$f":"IF($A132=\"\",\"\",IF(ISBLANK($A132),\"\",VLOOKUP($A132,Data!$A$4:$AM$155,38,FALSE)))","v":0.19},{"$f":"IF($A132=\"\",\"\",IF(ISBLANK($A132),\"\",VLOOKUP($A132,Data!$A$4:$AM$155,39,FALSE)))","v":0.38600000000000001},{"$f":"IF($A132=\"\",\"\",IF(ISBLANK($A132),\"\",VLOOKUP($A132,Data!$A$4:$AI$155,6,FALSE)))","v":10600},{"$f":"IF($A132=\"\",\"\",IF(ISBLANK($A132),\"\",VLOOKUP($A132,Data!$A$4:$AI$155,7,FALSE)))","v":43},{"$f":"IF($A132=\"\",\"\",IF(ISBLANK($A132),\"\",VLOOKUP($A132,Data!$A$4:$AR$155,44,FALSE)))","v":0.68},{"$f":"IF($A132=\"\",\"\",IF(ISBLANK($A132),\"\",VLOOKUP($A132,Data!$A$4:$AI$155,8,FALSE)))","v":0.32}]
[860,{"$f":"IF($A133=\"\",\"\",IF(ISBLANK($A133),\"\",INDEX('LEA Nos codes'!$A$3:$A$154,MATCH($A133,'LEA Nos codes'!$B$3:$B$154,0))))","v":"Staffordshire"},{"$f":"IF($A133=\"\",\"\",IF(ISBLANK($A133),\"\",VLOOKUP($A133,Data!$A$4:$V$155,3,FALSE)))","v":4.8499999999999996},{"$f":"IF($A133=\"\",\"\",IF(ISBLANK($A133),\"\",VLOOKUP($A133,Data!$A$4:$AQ$155,43,FALSE)))","v":4.8499999999999996},{"$f":"IF($A133=\"\",\"\",IF(ISBLANK($A133),\"\",VLOOKUP($A133,Data!$A$4:$V$155,4,FALSE)))","v":3.34},{"$f":"IF($A133=\"\",\"\",IF(ISBLANK($A133),\"\",VLOOKUP($A133,Data!$A$4:$V$155,5,FALSE)))","v":0.84},{"$f":"IF($A133=\"\",\"\",IF(ISBLANK($A133),\"\",VLOOKUP($A133,Data!$A$4:$AP$155,42,FALSE)))","v":0.38},{"$f":"IF($A133=\"\",\"\",IF(ISBLANK($A133),\"\",VLOOKUP($A133,Data!$A$4:$AS$155,45,FALSE)))","v":0.37},{"$f":"IF($A133=\"\",\"\",IF(ISBLANK($A133),\"\",VLOOKUP($A133,Data!$A$4:$AI$155,35,FALSE)))","v":0.97},{"$f":"IF($A133=\"\",\"\",IF(ISBLANK($A133),\"\",VLOOKUP($A133,Data!$A$4:$AM$155,37,FALSE)))","v":0.54},{"$f":"IF($A133=\"\",\"\",IF(ISBLANK($A133),\"\",VLOOKUP($A133,Data!$A$4:$AM$155,38,FALSE)))","v":0.21},{"$f":"IF($A133=\"\",\"\",IF(ISBLANK($A133),\"\",VLOOKUP($A133,Data!$A$4:$AM$155,39,FALSE)))","v":0.35700000000000004},{"$f":"IF($A133=\"\",\"\",IF(ISBLANK($A133),\"\",VLOOKUP($A133,Data!$A$4:$AI$155,6,FALSE)))","v":46200},{"$f":"IF($A133=\"\",\"\",IF(ISBLANK($A133),\"\",VLOOKUP($A133,Data!$A$4:$AI$155,7,FALSE)))","v":112},{"$f":"IF($A133=\"\",\"\",IF(ISBLANK($A133),\"\",VLOOKUP($A133,Data!$A$4:$AR$155,44,FALSE)))","v":0.56000000000000005},{"$f":"IF($A133=\"\",\"\",IF(ISBLANK($A133),\"\",VLOOKUP($A133,Data!$A$4:$AI$155,8,FALSE)))","v":0.44}]
[356,{"$f":"IF($A134=\"\",\"\",IF(ISBLANK($A134),\"\",INDEX('LEA Nos codes'!$A$3:$A$154,MATCH($A134,'LEA Nos codes'!$B$3:$B$154,0))))","v":"Stockport"},{"$f":"IF($A134=\"\",\"\",IF(ISBLANK($A134),\"\",VLOOKUP($A134,Data!$A$4:$V$155,3,FALSE)))","v":"."},{"$f":"IF($A134=\"\",\"\",IF(ISBLANK($A134),\"\",VLOOKUP($A134,Data!$A$4:$AQ$155,43,FALSE)))","v":4.95},{"$f":"IF($A134=\"\",\"\",IF(ISBLANK($A134),\"\",VLOOKUP($A134,Data!$A$4:$V$155,4,FALSE)))","v":4.6100000000000003},{"$f":"IF($A134=\"\",\"\",IF(ISBLANK($A134),\"\",VLOOKUP($A134,Data!$A$4:$V$155,5,FALSE)))","v":0.75},{"$f":"IF($A134=\"\",\"\",IF(ISBLANK($A134),\"\",VLOOKUP($A134,Data!$A$4:$AP$155,42,FALSE)))","v":0.48},{"$f":"IF($A134=\"\",\"\",IF(ISBLANK($A134),\"\",VLOOKUP($A134,Data!$A$4:$AS$155,45,FALSE)))","v":0.56000000000000005},{"$f":"IF($A134=\"\",\"\",IF(ISBLANK($A134),\"\",VLOOKUP($A134,Data!$A$4:$AI$155,35,FALSE)))","v":0.99},{"$f":"IF($A134=\"\",\"\",IF(ISBLANK($A134),\"\",VLOOKUP($A134,Data!$A$4:$AM$155,37,FALSE)))","v":0.54},{"$f":"IF($A134=\"\",\"\",IF(ISBLANK($A134),\"\",VLOOKUP($A134,Data!$A$4:$AM$155,38,FALSE)))","v":0.24},{"$f":"IF($A134=\"\",\"\",IF(ISBLANK($A134),\"\",VLOOKUP($A134,Data!$A$4:$AM$155,39,FALSE)))","v":0.34299999999999997},{"$f":"IF($A134=\"\",\"\",IF(ISBLANK($A134),\"\",VLOOKUP($A134,Data!$A$4:$AI$155,6,FALSE)))","v":17500},{"$f":"IF($A134=\"\",\"\",IF(ISBLANK($A134),\"\",VLOOKUP($A134,Data!$A$4:$AI$155,7,FALSE)))","v":96},{"$f":"IF($A134=\"\",\"\",IF(ISBLANK($A134),\"\",VLOOKUP($A134,Data!$A$4:$AR$155,44,FALSE)))","v":0.68},{"$f":"IF($A134=\"\",\"\",IF(ISBLANK($A134),\"\",VLOOKUP($A134,Data!$A$4:$AI$155,8,FALSE)))","v":0.32}]
[808,{"$f":"IF($A135=\"\",\"\",IF(ISBLANK($A135),\"\",INDEX('LEA Nos codes'!$A$3:$A$154,MATCH($A135,'LEA Nos codes'!$B$3:$B$154,0))))","v":"Stockton-on-Tees"},{"$f":"IF($A135=\"\",\"\",IF(ISBLANK($A135),\"\",VLOOKUP($A135,Data!$A$4:$V$155,3,FALSE)))","v":"."},{"$f":"IF($A135=\"\",\"\",IF(ISBLANK($A135),\"\",VLOOKUP($A135,Data!$A$4:$AQ$155,43,FALSE)))","v":4.8499999999999996},{"$f":"IF($A135=\"\",\"\",IF(ISBLANK($A135),\"\",VLOOKUP($A135,Data!$A$4:$V$155,4,FALSE)))","v":3.88},{"$f":"IF($A135=\"\",\"\",IF(ISBLANK($A135),\"\",VLOOKUP($A135,Data!$A$4:$V$155,5,FALSE)))","v":0.73},{"$f":"IF($A135=\"\",\"\",IF(ISBLANK($A135),\"\",VLOOKUP($A135,Data!$A$4:$AP$155,42,FALSE)))","v":0.32},{"$f":"IF($A135=\"\",\"\",IF(ISBLANK($A135),\"\",VLOOKUP($A135,Data!$A$4:$AS$155,45,FALSE)))","v":0.49},{"$f":"IF($A135=\"\",\"\",IF(ISBLANK($A135),\"\",VLOOKUP($A135,Data!$A$4:$AI$155,35,FALSE)))","v":0.98},{"$f":"IF($A135=\"\",\"\",IF(ISBLANK($A135),\"\",VLOOKUP($A135,Data!$A$4:$AM$155,37,FALSE)))","v":0.41},{"$f":"IF($A135=\"\",\"\",IF(ISBLANK($A135),\"\",VLOOKUP($A135,Data!$A$4:$AM$155,38,FALSE)))","v":0.24},{"$f":"IF($A135=\"\",\"\",IF(ISBLANK($A135),\"\",VLOOKUP($A135,Data!$A$4:$AM$155,39,FALSE)))","v":0.41299999999999998},{"$f":"IF($A135=\"\",\"\",IF(ISBLANK($A135),\"\",VLOOKUP($A135,Data!$A$4:$AI$155,6,FALSE)))","v":12500},{"$f":"IF($A135=\"\",\"\",IF(ISBLANK($A135),\"\",VLOOKUP($A135,Data!$A$4:$AI$155,7,FALSE)))","v":71},{"$f":"IF($A135=\"\",\"\",IF(ISBLANK($A135),\"\",VLOOKUP($A135,Data!$A$4:$AR$155,44,FALSE)))","v":0.9},{"$f":"IF($A135=\"\",\"\",IF(ISBLANK($A135),\"\",VLOOKUP($A135,Data!$A$4:$AI$155,8,FALSE)))","v":0.09}]
[861,{"$f":"IF($A136=\"\",\"\",IF(ISBLANK($A136),\"\",INDEX('LEA Nos codes'!$A$3:$A$154,MATCH($A136,'LEA Nos codes'!$B$3:$B$154,0))))","v":"Stoke-on-Trent"},{"$f":"IF($A136=\"\",\"\",IF(ISBLANK($A136),\"\",VLOOKUP($A136,Data!$A$4:$V$155,3,FALSE)))","v":"."},{"$f":"IF($A136=\"\",\"\",IF(ISBLANK($A136),\"\",VLOOKUP($A136,Data!$A$4:$AQ$155,43,FALSE)))","v":4.8499999999999996},{"$f":"IF($A136=\"\",\"\",IF(ISBLANK($A136),\"\",VLOOKUP($A136,Data!$A$4:$V$155,4,FALSE)))","v":4.68},{"$f":"IF($A136=\"\",\"\",IF(ISBLANK($A136),\"\",VLOOKUP($A136,Data!$A$4:$V$155,5,FALSE)))","v":0.83},{"$f":"IF($A136=\"\",\"\",IF(ISBLANK($A136),\"\",VLOOKUP($A136,Data!$A$4:$AP$155,42,FALSE)))","v":0.18},{"$f":"IF($A136=\"\",\"\",IF(ISBLANK($A136),\"\",VLOOKUP($A136,Data!$A$4:$AS$155,45,FALSE)))","v":0.2},{"$f":"IF($A136=\"\",\"\",IF(ISBLANK($A136),\"\",VLOOKUP($A136,Data!$A$4:$AI$155,35,FALSE)))","v":0.94},{"$f":"IF($A136=\"\",\"\",IF(ISBLANK($A136),\"\",VLOOKUP($A136,Data!$A$4:$AM$155,37,FALSE)))","v":0.52},{"$f":"IF($A136=\"\",\"\",IF(ISBLANK($A136),\"\",VLOOKUP($A136,Data!$A$4:$AM$155,38,FALSE)))","v":0.15},{"$f":"IF($A136=\"\",\"\",IF(ISBLANK($A136),\"\",VLOOKUP($A136,Data!$A$4:$AM$155,39,FALSE)))","v":0.41499999999999998},{"$f":"IF($A136=\"\",\"\",IF(ISBLANK($A136),\"\",VLOOKUP($A136,Data!$A$4:$AI$155,6,FALSE)))","v":17500},{"$f":"IF($A136=\"\",\"\",IF(ISBLANK($A136),\"\",VLOOKUP($A136,Data!$A$4:$AI$155,7,FALSE)))","v":15},{"$f":"IF($A136=\"\",\"\",IF(ISBLANK($A136),\"\",VLOOKUP($A136,Data!$A$4:$AR$155,44,FALSE)))","v":0.81},{"$f":"IF($A136=\"\",\"\",IF(ISBLANK($A136),\"\",VLOOKUP($A136,Data!$A$4:$AI$155,8,FALSE)))","v":0.18}]
[935,{"$f":"IF($A137=\"\",\"\",IF(ISBLANK($A137),\"\",INDEX('LEA Nos codes'!$A$3:$A$154,MATCH($A137,'LEA Nos codes'!$B$3:$B$154,0))))","v":"Suffolk"},{"$f":"IF($A137=\"\",\"\",IF(ISBLANK($A137),\"\",VLOOKUP($A137,Data!$A$4:$V$155,3,FALSE)))","v":"."},{"$f":"IF($A137=\"\",\"\",IF(ISBLANK($A137),\"\",VLOOKUP($A137,Data!$A$4:$AQ$155,43,FALSE)))","v":4.8499999999999996},{"$f":"IF($A137=\"\",\"\",IF(ISBLANK($A137),\"\",VLOOKUP($A137,Data!$A$4:$V$155,4,FALSE)))","v":3.74},{"$f":"IF($A137=\"\",\"\",IF(ISBLANK($A137),\"\",VLOOKUP($A137,Data!$A$4:$V$155,5,FALSE)))","v":0.84},{"$f":"IF($A137=\"\",\"\",IF(ISBLANK($A137),\"\",VLOOKUP($A137,Data!$A$4:$AP$155,42,FALSE)))","v":0.38},{"$f":"IF($A137=\"\",\"\",IF(ISBLANK($A137),\"\",VLOOKUP($A137,Data!$A$4:$AS$155,45,FALSE)))","v":0.43},{"$f":"IF($A137=\"\",\"\",IF(ISBLANK($A137),\"\",VLOOKUP($A137,Data!$A$4:$AI$155,35,FALSE)))","v":0.94},{"$f":"IF($A137=\"\",\"\",IF(ISBLANK($A137),\"\",VLOOKUP($A137,Data!$A$4:$AM$155,37,FALSE)))","v":0.49},{"$f":"IF($A137=\"\",\"\",IF(ISBLANK($A137),\"\",VLOOKUP($A137,Data!$A$4:$AM$155,38,FALSE)))","v":0.19},{"$f":"IF($A137=\"\",\"\",IF(ISBLANK($A137),\"\",VLOOKUP($A137,Data!$A$4:$AM$155,39,FALSE)))","v":0.35600000000000004},{"$f":"IF($A137=\"\",\"\",IF(ISBLANK($A137),\"\",VLOOKUP($A137,Data!$A$4:$AI$155,6,FALSE)))","v":42700},{"$f":"IF($A137=\"\",\"\",IF(ISBLANK($A137),\"\",VLOOKUP($A137,Data!$A$4:$AI$155,7,FALSE)))","v":115},{"$f":"IF($A137=\"\",\"\",IF(ISBLANK($A137),\"\",VLOOKUP($A137,Data!$A$4:$AR$155,44,FALSE)))","v":0.53},{"$f":"IF($A137=\"\",\"\",IF(ISBLANK($A137),\"\",VLOOKUP($A137,Data!$A$4:$AI$155,8,FALSE)))","v":0.46}]
[394,{"$f":"IF($A138=\"\",\"\",IF(ISBLANK($A138),\"\",INDEX('LEA Nos codes'!$A$3:$A$154,MATCH($A138,'LEA Nos codes'!$B$3:$B$154,0))))","v":"Sunderland"},{"$f":"IF($A138=\"\",\"\",IF(ISBLANK($A138),\"\",VLOOKUP($A138,Data!$A$4:$V$155,3,FALSE)))","v":4.84},{"$f":"IF($A138=\"\",\"\",IF(ISBLANK($A138),\"\",VLOOKUP($A138,Data!$A$4:$AQ$155,43,FALSE)))","v":4.8499999999999996},{"$f":"IF($A138=\"\",\"\",IF(ISBLANK($A138),\"\",VLOOKUP($A138,Data!$A$4:$V$155,4,FALSE)))","v":4.67},{"$f":"IF($A138=\"\",\"\",IF(ISBLANK($A138),\"\",VLOOKUP($A138,Data!$A$4:$V$155,5,FALSE)))","v":0.78},{"$f":"IF($A138=\"\",\"\",IF(ISBLANK($A138),\"\",VLOOKUP($A138,Data!$A$4:$AP$155,42,FALSE)))","v":0.71},{"$f":"IF($A138=\"\",\"\",IF(ISBLANK($A138),\"\",VLOOKUP($A138,Data!$A$4:$AS$155,45,FALSE)))","v":0.81},{"$f":"IF($A138=\"\",\"\",IF(ISBLANK($A138),\"\",VLOOKUP($A138,Data!$A$4:$AI$155,35,FALSE)))","v":1.02},{"$f":"IF($A138=\"\",\"\",IF(ISBLANK($A138),\"\",VLOOKUP($A138,Data!$A$4:$AM$155,37,FALSE)))","v":0.53},{"$f":"IF($A138=\"\",\"\",IF(ISBLANK($A138),\"\",VLOOKUP($A138,Data!$A$4:$AM$155,38,FALSE)))","v":0.26},{"$f":"IF($A138=\"\",\"\",IF(ISBLANK($A138),\"\",VLOOKUP($A138,Data!$A$4:$AM$155,39,FALSE)))","v":0.39399999999999996},{"$f":"IF($A138=\"\",\"\",IF(ISBLANK($A138),\"\",VLOOKUP($A138,Data!$A$4:$AI$155,6,FALSE)))","v":15700},{"$f":"IF($A138=\"\",\"\",IF(ISBLANK($A138),\"\",VLOOKUP($A138,Data!$A$4:$AI$155,7,FALSE)))","v":38},{"$f":"IF($A138=\"\",\"\",IF(ISBLANK($A138),\"\",VLOOKUP($A138,Data!$A$4:$AR$155,44,FALSE)))","v":0.87},{"$f":"IF($A138=\"\",\"\",IF(ISBLANK($A138),\"\",VLOOKUP($A138,Data!$A$4:$AI$155,8,FALSE)))","v":0.11}]
[936,{"$f":"IF($A139=\"\",\"\",IF(ISBLANK($A139),\"\",INDEX('LEA Nos codes'!$A$3:$A$154,MATCH($A139,'LEA Nos codes'!$B$3:$B$154,0))))","v":"Surrey"},{"$f":"IF($A139=\"\",\"\",IF(ISBLANK($A139),\"\",VLOOKUP($A139,Data!$A$4:$V$155,3,FALSE)))","v":6},{"$f":"IF($A139=\"\",\"\",IF(ISBLANK($A139),\"\",VLOOKUP($A139,Data!$A$4:$AQ$155,43,FALSE)))","v":5.49},{"$f":"IF($A139=\"\",\"\",IF(ISBLANK($A139),\"\",VLOOKUP($A139,Data!$A$4:$V$155,4,FALSE)))","v":4.26},{"$f":"IF($A139=\"\",\"\",IF(ISBLANK($A139),\"\",VLOOKUP($A139,Data!$A$4:$V$155,5,FALSE)))","v":0.84},{"$f":"IF($A139=\"\",\"\",IF(ISBLANK($A139),\"\",VLOOKUP($A139,Data!$A$4:$AP$155,42,FALSE)))","v":0.44},{"$f":"IF($A139=\"\",\"\",IF(ISBLANK($A139),\"\",VLOOKUP($A139,Data!$A$4:$AS$155,45,FALSE)))","v":0.5},{"$f":"IF($A139=\"\",\"\",IF(ISBLANK($A139),\"\",VLOOKUP($A139,Data!$A$4:$AI$155,35,FALSE)))","v":0.95},{"$f":"IF($A139=\"\",\"\",IF(ISBLANK($A139),\"\",VLOOKUP($A139,Data!$A$4:$AM$155,37,FALSE)))","v":0.52},{"$f":"IF($A139=\"\",\"\",IF(ISBLANK($A139),\"\",VLOOKUP($A139,Data!$A$4:$AM$155,38,FALSE)))","v":0.26},{"$f":"IF($A139=\"\",\"\",IF(ISBLANK($A139),\"\",VLOOKUP($A139,Data!$A$4:$AM$155,39,FALSE)))","v":0.312},{"$f":"IF($A139=\"\",\"\",IF(ISBLANK($A139),\"\",VLOOKUP($A139,Data!$A$4:$AI$155,6,FALSE)))","v":73200},{"$f":"IF($A139=\"\",\"\",IF(ISBLANK($A139),\"\",VLOOKUP($A139,Data!$A$4:$AI$155,7,FALSE)))","v":147},{"$f":"IF($A139=\"\",\"\",IF(ISBLANK($A139),\"\",VLOOKUP($A139,Data!$A$4:$AR$155,44,FALSE)))","v":0.43},{"$f":"IF($A139=\"\",\"\",IF(ISBLANK($A139),\"\",VLOOKUP($A139,Data!$A$4:$AI$155,8,FALSE)))","v":0.56999999999999995}]
[319,{"$f":"IF($A140=\"\",\"\",IF(ISBLANK($A140),\"\",INDEX('LEA Nos codes'!$A$3:$A$154,MATCH($A140,'LEA Nos codes'!$B$3:$B$154,0))))","v":"Sutton"},{"$f":"IF($A140=\"\",\"\",IF(ISBLANK($A140),\"\",VLOOKUP($A140,Data!$A$4:$V$155,3,FALSE)))","v":5.34},{"$f":"IF($A140=\"\",\"\",IF(ISBLANK($A140),\"\",VLOOKUP($A140,Data!$A$4:$AQ$155,43,FALSE)))","v":5.53},{"$f":"IF($A140=\"\",\"\",IF(ISBLANK($A140),\"\",VLOOKUP($A140,Data!$A$4:$V$155,4,FALSE)))","v":4.34},{"$f":"IF($A140=\"\",\"\",IF(ISBLANK($A140),\"\",VLOOKUP($A140,Data!$A$4:$V$155,5,FALSE)))","v":0.83},{"$f":"IF($A140=\"\",\"\",IF(ISBLANK($A140),\"\",VLOOKUP($A140,Data!$A$4:$AP$155,42,FALSE)))","v":0.27},{"$f":"IF($A140=\"\",\"\",IF(ISBLANK($A140),\"\",VLOOKUP($A140,Data!$A$4:$AS$155,45,FALSE)))","v":0.28999999999999998},{"$f":"IF($A140=\"\",\"\",IF(ISBLANK($A140),\"\",VLOOKUP($A140,Data!$A$4:$AI$155,35,FALSE)))","v":0.92},{"$f":"IF($A140=\"\",\"\",IF(ISBLANK($A140),\"\",VLOOKUP($A140,Data!$A$4:$AM$155,37,FALSE)))","v":0.41},{"$f":"IF($A140=\"\",\"\",IF(ISBLANK($A140),\"\",VLOOKUP($A140,Data!$A$4:$AM$155,38,FALSE)))","v":0.17},{"$f":"IF($A140=\"\",\"\",IF(ISBLANK($A140),\"\",VLOOKUP($A140,Data!$A$4:$AM$155,39,FALSE)))","v":0.34600000000000003},{"$f":"IF($A140=\"\",\"\",IF(ISBLANK($A140),\"\",VLOOKUP($A140,Data!$A$4:$AI$155,6,FALSE)))","v":13400},{"$f":"IF($A140=\"\",\"\",IF(ISBLANK($A140),\"\",VLOOKUP($A140,Data!$A$4:$AI$155,7,FALSE)))","v":118},{"$f":"IF($A140=\"\",\"\",IF(ISBLANK($A140),\"\",VLOOKUP($A140,Data!$A$4:$AR$155,44,FALSE)))","v":0.68},{"$f":"IF($A140=\"\",\"\",IF(ISBLANK($A140),\"\",VLOOKUP($A140,Data!$A$4:$AI$155,8,FALSE)))","v":0.32}]
[866,{"$f":"IF($A141=\"\",\"\",IF(ISBLANK($A141),\"\",INDEX('LEA Nos codes'!$A$3:$A$154,MATCH($A141,'LEA Nos codes'!$B$3:$B$154,0))))","v":"Swindon"},{"$f":"IF($A141=\"\",\"\",IF(ISBLANK($A141),\"\",VLOOKUP($A141,Data!$A$4:$V$155,3,FALSE)))","v":4.95},{"$f":"IF($A141=\"\",\"\",IF(ISBLANK($A141),\"\",VLOOKUP($A141,Data!$A$4:$AQ$155,43,FALSE)))","v":4.97},{"$f":"IF($A141=\"\",\"\",IF(ISBLANK($A141),\"\",VLOOKUP($A141,Data!$A$4:$V$155,4,FALSE)))","v":3.85},{"$f":"IF($A141=\"\",\"\",IF(ISBLANK($A141),\"\",VLOOKUP($A141,Data!$A$4:$V$155,5,FALSE)))","v":0.72},{"$f":"IF($A141=\"\",\"\",IF(ISBLANK($A141),\"\",VLOOKUP($A141,Data!$A$4:$AP$155,42,FALSE)))","v":0.28000000000000003},{"$f":"IF($A141=\"\",\"\",IF(ISBLANK($A141),\"\",VLOOKUP($A141,Data!$A$4:$AS$155,45,FALSE)))","v":0.28999999999999998},{"$f":"IF($A141=\"\",\"\",IF(ISBLANK($A141),\"\",VLOOKUP($A141,Data!$A$4:$AI$155,35,FALSE)))","v":0.96},{"$f":"IF($A141=\"\",\"\",IF(ISBLANK($A141),\"\",VLOOKUP($A141,Data!$A$4:$AM$155,37,FALSE)))","v":0.55000000000000004},{"$f":"IF($A141=\"\",\"\",IF(ISBLANK($A141),\"\",VLOOKUP($A141,Data!$A$4:$AM$155,38,FALSE)))","v":0.21},{"$f":"IF($A141=\"\",\"\",IF(ISBLANK($A141),\"\",VLOOKUP($A141,Data!$A$4:$AM$155,39,FALSE)))","v":0.30399999999999999},{"$f":"IF($A141=\"\",\"\",IF(ISBLANK($A141),\"\",VLOOKUP($A141,Data!$A$4:$AI$155,6,FALSE)))","v":14700},{"$f":"IF($A141=\"\",\"\",IF(ISBLANK($A141),\"\",VLOOKUP($A141,Data!$A$4:$AI$155,7,FALSE)))","v":109},{"$f":"IF($A141=\"\",\"\",IF(ISBLANK($A141),\"\",VLOOKUP($A141,Data!$A$4:$AR$155,44,FALSE)))","v":0.46},{"$f":"IF($A141=\"\",\"\",IF(ISBLANK($A141),\"\",VLOOKUP($A141,Data!$A$4:$AI$155,8,FALSE)))","v":0.51}]
[357,{"$f":"IF($A142=\"\",\"\",IF(ISBLANK($A142),\"\",INDEX('LEA Nos codes'!$A$3:$A$154,MATCH($A142,'LEA Nos codes'!$B$3:$B$154,0))))","v":"Tameside"},{"$f":"IF($A142=\"\",\"\",IF(ISBLANK($A142),\"\",VLOOKUP($A142,Data!$A$4:$V$155,3,FALSE)))","v":4.8499999999999996},{"$f":"IF($A142=\"\",\"\",IF(ISBLANK($A142),\"\",VLOOKUP($A142,Data!$A$4:$AQ$155,43,FALSE)))","v":4.95},{"$f":"IF($A142=\"\",\"\",IF(ISBLANK($A142),\"\",VLOOKUP($A142,Data!$A$4:$V$155,4,FALSE)))","v":3.31},{"$f":"IF($A142=\"\",\"\",IF(ISBLANK($A142),\"\",VLOOKUP($A142,Data!$A$4:$V$155,5,FALSE)))","v":0.65},{"$f":"IF($A142=\"\",\"\",IF(ISBLANK($A142),\"\",VLOOKUP($A142,Data!$A$4:$AP$155,42,FALSE)))","v":0.39},{"$f":"IF($A142=\"\",\"\",IF(ISBLANK($A142),\"\",VLOOKUP($A142,Data!$A$4:$AS$155,45,FALSE)))","v":0.43},{"$f":"IF($A142=\"\",\"\",IF(ISBLANK($A142),\"\",VLOOKUP($A142,Data!$A$4:$AI$155,35,FALSE)))","v":0.97},{"$f":"IF($A142=\"\",\"\",IF(ISBLANK($A142),\"\",VLOOKUP($A142,Data!$A$4:$AM$155,37,FALSE)))","v":0.42},{"$f":"IF($A142=\"\",\"\",IF(ISBLANK($A142),\"\",VLOOKUP($A142,Data!$A$4:$AM$155,38,FALSE)))","v":0.18},{"$f":"IF($A142=\"\",\"\",IF(ISBLANK($A142),\"\",VLOOKUP($A142,Data!$A$4:$AM$155,39,FALSE)))","v":0.35700000000000004},{"$f":"IF($A142=\"\",\"\",IF(ISBLANK($A142),\"\",VLOOKUP($A142,Data!$A$4:$AI$155,6,FALSE)))","v":14800},{"$f":"IF($A142=\"\",\"\",IF(ISBLANK($A142),\"\",VLOOKUP($A142,Data!$A$4:$AI$155,7,FALSE)))","v":36},{"$f":"IF($A142=\"\",\"\",IF(ISBLANK($A142),\"\",VLOOKUP($A142,Data!$A$4:$AR$155,44,FALSE)))","v":0.72},{"$f":"IF($A142=\"\",\"\",IF(ISBLANK($A142),\"\",VLOOKUP($A142,Data!$A$4:$AI$155,8,FALSE)))","v":0.27}]
[894,{"$f":"IF($A143=\"\",\"\",IF(ISBLANK($A143),\"\",INDEX('LEA Nos codes'!$A$3:$A$154,MATCH($A143,'LEA Nos codes'!$B$3:$B$154,0))))","v":"Telford & Wrekin"},{"$f":"IF($A143=\"\",\"\",IF(ISBLANK($A143),\"\",VLOOKUP($A143,Data!$A$4:$V$155,3,FALSE)))","v":4.8499999999999996},{"$f":"IF($A143=\"\",\"\",IF(ISBLANK($A143),\"\",VLOOKUP($A143,Data!$A$4:$AQ$155,43,FALSE)))","v":4.8499999999999996},{"$f":"IF($A143=\"\",\"\",IF(ISBLANK($A143),\"\",VLOOKUP($A143,Data!$A$4:$V$155,4,FALSE)))","v":4.0599999999999996},{"$f":"IF($A143=\"\",\"\",IF(ISBLANK($A143),\"\",VLOOKUP($A143,Data!$A$4:$V$155,5,FALSE)))","v":0.79},{"$f":"IF($A143=\"\",\"\",IF(ISBLANK($A143),\"\",VLOOKUP($A143,Data!$A$4:$AP$155,42,FALSE)))","v":0.38},{"$f":"IF($A143=\"\",\"\",IF(ISBLANK($A143),\"\",VLOOKUP($A143,Data!$A$4:$AS$155,45,FALSE)))","v":0.41},{"$f":"IF($A143=\"\",\"\",IF(ISBLANK($A143),\"\",VLOOKUP($A143,Data!$A$4:$AI$155,35,FALSE)))","v":0.96},{"$f":"IF($A143=\"\",\"\",IF(ISBLANK($A143),\"\",VLOOKUP($A143,Data!$A$4:$AM$155,37,FALSE)))","v":0.45},{"$f":"IF($A143=\"\",\"\",IF(ISBLANK($A143),\"\",VLOOKUP($A143,Data!$A$4:$AM$155,38,FALSE)))","v":0.18},{"$f":"IF($A143=\"\",\"\",IF(ISBLANK($A143),\"\",VLOOKUP($A143,Data!$A$4:$AM$155,39,FALSE)))","v":0.373},{"$f":"IF($A143=\"\",\"\",IF(ISBLANK($A143),\"\",VLOOKUP($A143,Data!$A$4:$AI$155,6,FALSE)))","v":11500},{"$f":"IF($A143=\"\",\"\",IF(ISBLANK($A143),\"\",VLOOKUP($A143,Data!$A$4:$AI$155,7,FALSE)))","v":70},{"$f":"IF($A143=\"\",\"\",IF(ISBLANK($A143),\"\",VLOOKUP($A143,Data!$A$4:$AR$155,44,FALSE)))","v":0.6},{"$f":"IF($A143=\"\",\"\",IF(ISBLANK($A143),\"\",VLOOKUP($A143,Data!$A$4:$AI$155,8,FALSE)))","v":0.38}]
[883,{"$f":"IF($A144=\"\",\"\",IF(ISBLANK($A144),\"\",INDEX('LEA Nos codes'!$A$3:$A$154,MATCH($A144,'LEA Nos codes'!$B$3:$B$154,0))))","v":"Thurrock"},{"$f":"IF($A144=\"\",\"\",IF(ISBLANK($A144),\"\",VLOOKUP($A144,Data!$A$4:$V$155,3,FALSE)))","v":4.8499999999999996},{"$f":"IF($A144=\"\",\"\",IF(ISBLANK($A144),\"\",VLOOKUP($A144,Data!$A$4:$AQ$155,43,FALSE)))","v":5.28},{"$f":"IF($A144=\"\",\"\",IF(ISBLANK($A144),\"\",VLOOKUP($A144,Data!$A$4:$V$155,4,FALSE)))","v":3.86},{"$f":"IF($A144=\"\",\"\",IF(ISBLANK($A144),\"\",VLOOKUP($A144,Data!$A$4:$V$155,5,FALSE)))","v":0.7},{"$f":"IF($A144=\"\",\"\",IF(ISBLANK($A144),\"\",VLOOKUP($A144,Data!$A$4:$AP$155,42,FALSE)))","v":0.17},{"$f":"IF($A144=\"\",\"\",IF(ISBLANK($A144),\"\",VLOOKUP($A144,Data!$A$4:$AS$155,45,FALSE)))","v":0.18},{"$f":"IF($A144=\"\",\"\",IF(ISBLANK($A144),\"\",VLOOKUP($A144,Data!$A$4:$AI$155,35,FALSE)))","v":0.92},{"$f":"IF($A144=\"\",\"\",IF(ISBLANK($A144),\"\",VLOOKUP($A144,Data!$A$4:$AM$155,37,FALSE)))","v":0.53},{"$f":"IF($A144=\"\",\"\",IF(ISBLANK($A144),\"\",VLOOKUP($A144,Data!$A$4:$AM$155,38,FALSE)))","v":0.14000000000000001},{"$f":"IF($A144=\"\",\"\",IF(ISBLANK($A144),\"\",VLOOKUP($A144,Data!$A$4:$AM$155,39,FALSE)))","v":0.32},{"$f":"IF($A144=\"\",\"\",IF(ISBLANK($A144),\"\",VLOOKUP($A144,Data!$A$4:$AI$155,6,FALSE)))","v":12200},{"$f":"IF($A144=\"\",\"\",IF(ISBLANK($A144),\"\",VLOOKUP($A144,Data!$A$4:$AI$155,7,FALSE)))","v":94},{"$f":"IF($A144=\"\",\"\",IF(ISBLANK($A144),\"\",VLOOKUP($A144,Data!$A$4:$AR$155,44,FALSE)))","v":0.61},{"$f":"IF($A144=\"\",\"\",IF(ISBLANK($A144),\"\",VLOOKUP($A144,Data!$A$4:$AI$155,8,FALSE)))","v":0.39}]
[880,{"$f":"IF($A145=\"\",\"\",IF(ISBLANK($A145),\"\",INDEX('LEA Nos codes'!$A$3:$A$154,MATCH($A145,'LEA Nos codes'!$B$3:$B$154,0))))","v":"Torbay"},{"$f":"IF($A145=\"\",\"\",IF(ISBLANK($A145),\"\",VLOOKUP($A145,Data!$A$4:$V$155,3,FALSE)))","v":"."},{"$f":"IF($A145=\"\",\"\",IF(ISBLANK($A145),\"\",VLOOKUP($A145,Data!$A$4:$AQ$155,43,FALSE)))","v":4.8499999999999996},{"$f":"IF($A145=\"\",\"\",IF(ISBLANK($A145),\"\",VLOOKUP($A145,Data!$A$4:$V$155,4,FALSE)))","v":3.99},{"$f":"IF($A145=\"\",\"\",IF(ISBLANK($A145),\"\",VLOOKUP($A145,Data!$A$4:$V$155,5,FALSE)))","v":0.92},{"$f":"IF($A145=\"\",\"\",IF(ISBLANK($A145),\"\",VLOOKUP($A145,Data!$A$4:$AP$155,42,FALSE)))","v":0.41},{"$f":"IF($A145=\"\",\"\",IF(ISBLANK($A145),\"\",VLOOKUP($A145,Data!$A$4:$AS$155,45,FALSE)))","v":0.47},{"$f":"IF($A145=\"\",\"\",IF(ISBLANK($A145),\"\",VLOOKUP($A145,Data!$A$4:$AI$155,35,FALSE)))","v":1.05},{"$f":"IF($A145=\"\",\"\",IF(ISBLANK($A145),\"\",VLOOKUP($A145,Data!$A$4:$AM$155,37,FALSE)))","v":0.51},{"$f":"IF($A145=\"\",\"\",IF(ISBLANK($A145),\"\",VLOOKUP($A145,Data!$A$4:$AM$155,38,FALSE)))","v":"X"},{"$f":"IF($A145=\"\",\"\",IF(ISBLANK($A145),\"\",VLOOKUP($A145,Data!$A$4:$AM$155,39,FALSE)))","v":0.376},{"$f":"IF($A145=\"\",\"\",IF(ISBLANK($A145),\"\",VLOOKUP($A145,Data!$A$4:$AI$155,6,FALSE)))","v":6900},{"$f":"IF($A145=\"\",\"\",IF(ISBLANK($A145),\"\",VLOOKUP($A145,Data!$A$4:$AI$155,7,FALSE)))","v":49},{"$f":"IF($A145=\"\",\"\",IF(ISBLANK($A145),\"\",VLOOKUP($A145,Data!$A$4:$AR$155,44,FALSE)))","v":0.61},{"$f":"IF($A145=\"\",\"\",IF(ISBLANK($A145),\"\",VLOOKUP($A145,Data!$A$4:$AI$155,8,FALSE)))","v":0.38}]
[211,{"$f":"IF($A146=\"\",\"\",IF(ISBLANK($A146),\"\",INDEX('LEA Nos codes'!$A$3:$A$154,MATCH($A146,'LEA Nos codes'!$B$3:$B$154,0))))","v":"Tower Hamlets"},{"$f":"IF($A146=\"\",\"\",IF(ISBLANK($A146),\"\",VLOOKUP($A146,Data!$A$4:$V$155,3,FALSE)))","v":6},{"$f":"IF($A146=\"\",\"\",IF(ISBLANK($A146),\"\",VLOOKUP($A146,Data!$A$4:$AQ$155,43,FALSE)))","v":6.07},{"$f":"IF($A146=\"\",\"\",IF(ISBLANK($A146),\"\",VLOOKUP($A146,Data!$A$4:$V$155,4,FALSE)))","v":5.47},{"$f":"IF($A146=\"\",\"\",IF(ISBLANK($A146),\"\",VLOOKUP($A146,Data!$A$4:$V$155,5,FALSE)))","v":0.72},{"$f":"IF($A146=\"\",\"\",IF(ISBLANK($A146),\"\",VLOOKUP($A146,Data!$A$4:$AP$155,42,FALSE)))","v":0.28000000000000003},{"$f":"IF($A146=\"\",\"\",IF(ISBLANK($A146),\"\",VLOOKUP($A146,Data!$A$4:$AS$155,45,FALSE)))","v":0.43},{"$f":"IF($A146=\"\",\"\",IF(ISBLANK($A146),\"\",VLOOKUP($A146,Data!$A$4:$AI$155,35,FALSE)))","v":0.93},{"$f":"IF($A146=\"\",\"\",IF(ISBLANK($A146),\"\",VLOOKUP($A146,Data!$A$4:$AM$155,37,FALSE)))","v":0.46},{"$f":"IF($A146=\"\",\"\",IF(ISBLANK($A146),\"\",VLOOKUP($A146,Data!$A$4:$AM$155,38,FALSE)))","v":0.05},{"$f":"IF($A146=\"\",\"\",IF(ISBLANK($A146),\"\",VLOOKUP($A146,Data!$A$4:$AM$155,39,FALSE)))","v":0.377},{"$f":"IF($A146=\"\",\"\",IF(ISBLANK($A146),\"\",VLOOKUP($A146,Data!$A$4:$AI$155,6,FALSE)))","v":19900},{"$f":"IF($A146=\"\",\"\",IF(ISBLANK($A146),\"\",VLOOKUP($A146,Data!$A$4:$AI$155,7,FALSE)))","v":7},{"$f":"IF($A146=\"\",\"\",IF(ISBLANK($A146),\"\",VLOOKUP($A146,Data!$A$4:$AR$155,44,FALSE)))","v":0.82},{"$f":"IF($A146=\"\",\"\",IF(ISBLANK($A146),\"\",VLOOKUP($A146,Data!$A$4:$AI$155,8,FALSE)))","v":0.18}]
[358,{"$f":"IF($A147=\"\",\"\",IF(ISBLANK($A147),\"\",INDEX('LEA Nos codes'!$A$3:$A$154,MATCH($A147,'LEA Nos codes'!$B$3:$B$154,0))))","v":"Trafford"},{"$f":"IF($A147=\"\",\"\",IF(ISBLANK($A147),\"\",VLOOKUP($A147,Data!$A$4:$V$155,3,FALSE)))","v":"."},{"$f":"IF($A147=\"\",\"\",IF(ISBLANK($A147),\"\",VLOOKUP($A147,Data!$A$4:$AQ$155,43,FALSE)))","v":4.95},{"$f":"IF($A147=\"\",\"\",IF(ISBLANK($A147),\"\",VLOOKUP($A147,Data!$A$4:$V$155,4,FALSE)))","v":3.55},{"$f":"IF($A147=\"\",\"\",IF(ISBLANK($A147),\"\",VLOOKUP($A147,Data!$A$4:$V$155,5,FALSE)))","v":0.79},{"$f":"IF($A147=\"\",\"\",IF(ISBLANK($A147),\"\",VLOOKUP($A147,Data!$A$4:$AP$155,42,FALSE)))","v":0.49},{"$f":"IF($A147=\"\",\"\",IF(ISBLANK($A147),\"\",VLOOKUP($A147,Data!$A$4:$AS$155,45,FALSE)))","v":0.59},{"$f":"IF($A147=\"\",\"\",IF(ISBLANK($A147),\"\",VLOOKUP($A147,Data!$A$4:$AI$155,35,FALSE)))","v":0.97},{"$f":"IF($A147=\"\",\"\",IF(ISBLANK($A147),\"\",VLOOKUP($A147,Data!$A$4:$AM$155,37,FALSE)))","v":0.61},{"$f":"IF($A147=\"\",\"\",IF(ISBLANK($A147),\"\",VLOOKUP($A147,Data!$A$4:$AM$155,38,FALSE)))","v":0.25},{"$f":"IF($A147=\"\",\"\",IF(ISBLANK($A147),\"\",VLOOKUP($A147,Data!$A$4:$AM$155,39,FALSE)))","v":0.30199999999999999},{"$f":"IF($A147=\"\",\"\",IF(ISBLANK($A147),\"\",VLOOKUP($A147,Data!$A$4:$AI$155,6,FALSE)))","v":15100},{"$f":"IF($A147=\"\",\"\",IF(ISBLANK($A147),\"\",VLOOKUP($A147,Data!$A$4:$AI$155,7,FALSE)))","v":103},{"$f":"IF($A147=\"\",\"\",IF(ISBLANK($A147),\"\",VLOOKUP($A147,Data!$A$4:$AR$155,44,FALSE)))","v":0.7},{"$f":"IF($A147=\"\",\"\",IF(ISBLANK($A147),\"\",VLOOKUP($A147,Data!$A$4:$AI$155,8,FALSE)))","v":0.28999999999999998}]
[384,{"$f":"IF($A148=\"\",\"\",IF(ISBLANK($A148),\"\",INDEX('LEA Nos codes'!$A$3:$A$154,MATCH($A148,'LEA Nos codes'!$B$3:$B$154,0))))","v":"Wakefield"},{"$f":"IF($A148=\"\",\"\",IF(ISBLANK($A148),\"\",VLOOKUP($A148,Data!$A$4:$V$155,3,FALSE)))","v":4.8499999999999996},{"$f":"IF($A148=\"\",\"\",IF(ISBLANK($A148),\"\",VLOOKUP($A148,Data!$A$4:$AQ$155,43,FALSE)))","v":4.8499999999999996},{"$f":"IF($A148=\"\",\"\",IF(ISBLANK($A148),\"\",VLOOKUP($A148,Data!$A$4:$V$155,4,FALSE)))","v":4.08},{"$f":"IF($A148=\"\",\"\",IF(ISBLANK($A148),\"\",VLOOKUP($A148,Data!$A$4:$V$155,5,FALSE)))","v":0.68},{"$f":"IF($A148=\"\",\"\",IF(ISBLANK($A148),\"\",VLOOKUP($A148,Data!$A$4:$AP$155,42,FALSE)))","v":0.44},{"$f":"IF($A148=\"\",\"\",IF(ISBLANK($A148),\"\",VLOOKUP($A148,Data!$A$4:$AS$155,45,FALSE)))","v":0.51},{"$f":"IF($A148=\"\",\"\",IF(ISBLANK($A148),\"\",VLOOKUP($A148,Data!$A$4:$AI$155,35,FALSE)))","v":1.01},{"$f":"IF($A148=\"\",\"\",IF(ISBLANK($A148),\"\",VLOOKUP($A148,Data!$A$4:$AM$155,37,FALSE)))","v":0.56999999999999995},{"$f":"IF($A148=\"\",\"\",IF(ISBLANK($A148),\"\",VLOOKUP($A148,Data!$A$4:$AM$155,38,FALSE)))","v":0.22},{"$f":"IF($A148=\"\",\"\",IF(ISBLANK($A148),\"\",VLOOKUP($A148,Data!$A$4:$AM$155,39,FALSE)))","v":0.38299999999999995},{"$f":"IF($A148=\"\",\"\",IF(ISBLANK($A148),\"\",VLOOKUP($A148,Data!$A$4:$AI$155,6,FALSE)))","v":20000},{"$f":"IF($A148=\"\",\"\",IF(ISBLANK($A148),\"\",VLOOKUP($A148,Data!$A$4:$AI$155,7,FALSE)))","v":54},{"$f":"IF($A148=\"\",\"\",IF(ISBLANK($A148),\"\",VLOOKUP($A148,Data!$A$4:$AR$155,44,FALSE)))","v":0.85},{"$f":"IF($A148=\"\",\"\",IF(ISBLANK($A148),\"\",VLOOKUP($A148,Data!$A$4:$AI$155,8,FALSE)))","v":0.15}]
[335,{"$f":"IF($A149=\"\",\"\",IF(ISBLANK($A149),\"\",INDEX('LEA Nos codes'!$A$3:$A$154,MATCH($A149,'LEA Nos codes'!$B$3:$B$154,0))))","v":"Walsall"},{"$f":"IF($A149=\"\",\"\",IF(ISBLANK($A149),\"\",VLOOKUP($A149,Data!$A$4:$V$155,3,FALSE)))","v":"."},{"$f":"IF($A149=\"\",\"\",IF(ISBLANK($A149),\"\",VLOOKUP($A149,Data!$A$4:$AQ$155,43,FALSE)))","v":4.8899999999999997},{"$f":"IF($A149=\"\",\"\",IF(ISBLANK($A149),\"\",VLOOKUP($A149,Data!$A$4:$V$155,4,FALSE)))","v":4.0599999999999996},{"$f":"IF($A149=\"\",\"\",IF(ISBLANK($A149),\"\",VLOOKUP($A149,Data!$A$4:$V$155,5,FALSE)))","v":0.81},{"$f":"IF($A149=\"\",\"\",IF(ISBLANK($A149),\"\",VLOOKUP($A149,Data!$A$4:$AP$155,42,FALSE)))","v":0.42},{"$f":"IF($A149=\"\",\"\",IF(ISBLANK($A149),\"\",VLOOKUP($A149,Data!$A$4:$AS$155,45,FALSE)))","v":0.56000000000000005},{"$f":"IF($A149=\"\",\"\",IF(ISBLANK($A149),\"\",VLOOKUP($A149,Data!$A$4:$AI$155,35,FALSE)))","v":0.96},{"$f":"IF($A149=\"\",\"\",IF(ISBLANK($A149),\"\",VLOOKUP($A149,Data!$A$4:$AM$155,37,FALSE)))","v":0.46},{"$f":"IF($A149=\"\",\"\",IF(ISBLANK($A149),\"\",VLOOKUP($A149,Data!$A$4:$AM$155,38,FALSE)))","v":0.19},{"$f":"IF($A149=\"\",\"\",IF(ISBLANK($A149),\"\",VLOOKUP($A149,Data!$A$4:$AM$155,39,FALSE)))","v":0.40799999999999997},{"$f":"IF($A149=\"\",\"\",IF(ISBLANK($A149),\"\",VLOOKUP($A149,Data!$A$4:$AI$155,6,FALSE)))","v":18600},{"$f":"IF($A149=\"\",\"\",IF(ISBLANK($A149),\"\",VLOOKUP($A149,Data!$A$4:$AI$155,7,FALSE)))","v":28},{"$f":"IF($A149=\"\",\"\",IF(ISBLANK($A149),\"\",VLOOKUP($A149,Data!$A$4:$AR$155,44,FALSE)))","v":0.85},{"$f":"IF($A149=\"\",\"\",IF(ISBLANK($A149),\"\",VLOOKUP($A149,Data!$A$4:$AI$155,8,FALSE)))","v":0.14000000000000001}]
[320,{"$f":"IF($A150=\"\",\"\",IF(ISBLANK($A150),\"\",INDEX('LEA Nos codes'!$A$3:$A$154,MATCH($A150,'LEA Nos codes'!$B$3:$B$154,0))))","v":"Waltham Forest"},{"$f":"IF($A150=\"\",\"\",IF(ISBLANK($A150),\"\",VLOOKUP($A150,Data!$A$4:$V$155,3,FALSE)))","v":6},{"$f":"IF($A150=\"\",\"\",IF(ISBLANK($A150),\"\",VLOOKUP($A150,Data!$A$4:$AQ$155,43,FALSE)))","v":5.28},{"$f":"IF($A150=\"\",\"\",IF(ISBLANK($A150),\"\",VLOOKUP($A150,Data!$A$4:$V$155,4,FALSE)))","v":4.45},{"$f":"IF($A150=\"\",\"\",IF(ISBLANK($A150),\"\",VLOOKUP($A150,Data!$A$4:$V$155,5,FALSE)))","v":0.69},{"$f":"IF($A150=\"\",\"\",IF(ISBLANK($A150),\"\",VLOOKUP($A150,Data!$A$4:$AP$155,42,FALSE)))","v":0.45},{"$f":"IF($A150=\"\",\"\",IF(ISBLANK($A150),\"\",VLOOKUP($A150,Data!$A$4:$AS$155,45,FALSE)))","v":0.48},{"$f":"IF($A150=\"\",\"\",IF(ISBLANK($A150),\"\",VLOOKUP($A150,Data!$A$4:$AI$155,35,FALSE)))","v":0.91},{"$f":"IF($A150=\"\",\"\",IF(ISBLANK($A150),\"\",VLOOKUP($A150,Data!$A$4:$AM$155,37,FALSE)))","v":0.56000000000000005},{"$f":"IF($A150=\"\",\"\",IF(ISBLANK($A150),\"\",VLOOKUP($A150,Data!$A$4:$AM$155,38,FALSE)))","v":0.05},{"$f":"IF($A150=\"\",\"\",IF(ISBLANK($A150),\"\",VLOOKUP($A150,Data!$A$4:$AM$155,39,FALSE)))","v":0.36299999999999999},{"$f":"IF($A150=\"\",\"\",IF(ISBLANK($A150),\"\",VLOOKUP($A150,Data!$A$4:$AI$155,6,FALSE)))","v":21500},{"$f":"IF($A150=\"\",\"\",IF(ISBLANK($A150),\"\",VLOOKUP($A150,Data!$A$4:$AI$155,7,FALSE)))","v":14},{"$f":"IF($A150=\"\",\"\",IF(ISBLANK($A150),\"\",VLOOKUP($A150,Data!$A$4:$AR$155,44,FALSE)))","v":0.72},{"$f":"IF($A150=\"\",\"\",IF(ISBLANK($A150),\"\",VLOOKUP($A150,Data!$A$4:$AI$155,8,FALSE)))","v":0.24}]
[212,{"$f":"IF($A151=\"\",\"\",IF(ISBLANK($A151),\"\",INDEX('LEA Nos codes'!$A$3:$A$154,MATCH($A151,'LEA Nos codes'!$B$3:$B$154,0))))","v":"Wandsworth"},{"$f":"IF($A151=\"\",\"\",IF(ISBLANK($A151),\"\",VLOOKUP($A151,Data!$A$4:$V$155,3,FALSE)))","v":"."},{"$f":"IF($A151=\"\",\"\",IF(ISBLANK($A151),\"\",VLOOKUP($A151,Data!$A$4:$AQ$155,43,FALSE)))","v":6.07},{"$f":"IF($A151=\"\",\"\",IF(ISBLANK($A151),\"\",VLOOKUP($A151,Data!$A$4:$V$155,4,FALSE)))","v":5.52},{"$f":"IF($A151=\"\",\"\",IF(ISBLANK($A151),\"\",VLOOKUP($A151,Data!$A$4:$V$155,5,FALSE)))","v":0.75},{"$f":"IF($A151=\"\",\"\",IF(ISBLANK($A151),\"\",VLOOKUP($A151,Data!$A$4:$AP$155,42,FALSE)))","v":0.62},{"$f":"IF($A151=\"\",\"\",IF(ISBLANK($A151),\"\",VLOOKUP($A151,Data!$A$4:$AS$155,45,FALSE)))","v":0.78},{"$f":"IF($A151=\"\",\"\",IF(ISBLANK($A151),\"\",VLOOKUP($A151,Data!$A$4:$AI$155,35,FALSE)))","v":0.93},{"$f":"IF($A151=\"\",\"\",IF(ISBLANK($A151),\"\",VLOOKUP($A151,Data!$A$4:$AM$155,37,FALSE)))","v":0.54},{"$f":"IF($A151=\"\",\"\",IF(ISBLANK($A151),\"\",VLOOKUP($A151,Data!$A$4:$AM$155,38,FALSE)))","v":0.18},{"$f":"IF($A151=\"\",\"\",IF(ISBLANK($A151),\"\",VLOOKUP($A151,Data!$A$4:$AM$155,39,FALSE)))","v":0.33600000000000002},{"$f":"IF($A151=\"\",\"\",IF(ISBLANK($A151),\"\",VLOOKUP($A151,Data!$A$4:$AI$155,6,FALSE)))","v":22200},{"$f":"IF($A151=\"\",\"\",IF(ISBLANK($A151),\"\",VLOOKUP($A151,Data!$A$4:$AI$155,7,FALSE)))","v":84},{"$f":"IF($A151=\"\",\"\",IF(ISBLANK($A151),\"\",VLOOKUP($A151,Data!$A$4:$AR$155,44,FALSE)))","v":0.57999999999999996},{"$f":"IF($A151=\"\",\"\",IF(ISBLANK($A151),\"\",VLOOKUP($A151,Data!$A$4:$AI$155,8,FALSE)))","v":0.41}]
[877,{"$f":"IF($A152=\"\",\"\",IF(ISBLANK($A152),\"\",INDEX('LEA Nos codes'!$A$3:$A$154,MATCH($A152,'LEA Nos codes'!$B$3:$B$154,0))))","v":"Warrington"},{"$f":"IF($A152=\"\",\"\",IF(ISBLANK($A152),\"\",VLOOKUP($A152,Data!$A$4:$V$155,3,FALSE)))","v":"."},{"$f":"IF($A152=\"\",\"\",IF(ISBLANK($A152),\"\",VLOOKUP($A152,Data!$A$4:$AQ$155,43,FALSE)))","v":4.93},{"$f":"IF($A152=\"\",\"\",IF(ISBLANK($A152),\"\",VLOOKUP($A152,Data!$A$4:$V$155,4,FALSE)))","v":3.85},{"$f":"IF($A152=\"\",\"\",IF(ISBLANK($A152),\"\",VLOOKUP($A152,Data!$A$4:$V$155,5,FALSE)))","v":0.73},{"$f":"IF($A152=\"\",\"\",IF(ISBLANK($A152),\"\",VLOOKUP($A152,Data!$A$4:$AP$155,42,FALSE)))","v":0.38},{"$f":"IF($A152=\"\",\"\",IF(ISBLANK($A152),\"\",VLOOKUP($A152,Data!$A$4:$AS$155,45,FALSE)))","v":0.41},{"$f":"IF($A152=\"\",\"\",IF(ISBLANK($A152),\"\",VLOOKUP($A152,Data!$A$4:$AI$155,35,FALSE)))","v":1},{"$f":"IF($A152=\"\",\"\",IF(ISBLANK($A152),\"\",VLOOKUP($A152,Data!$A$4:$AM$155,37,FALSE)))","v":0.45},{"$f":"IF($A152=\"\",\"\",IF(ISBLANK($A152),\"\",VLOOKUP($A152,Data!$A$4:$AM$155,38,FALSE)))","v":0.32},{"$f":"IF($A152=\"\",\"\",IF(ISBLANK($A152),\"\",VLOOKUP($A152,Data!$A$4:$AM$155,39,FALSE)))","v":0.375},{"$f":"IF($A152=\"\",\"\",IF(ISBLANK($A152),\"\",VLOOKUP($A152,Data!$A$4:$AI$155,6,FALSE)))","v":12500},{"$f":"IF($A152=\"\",\"\",IF(ISBLANK($A152),\"\",VLOOKUP($A152,Data!$A$4:$AI$155,7,FALSE)))","v":98},{"$f":"IF($A152=\"\",\"\",IF(ISBLANK($A152),\"\",VLOOKUP($A152,Data!$A$4:$AR$155,44,FALSE)))","v":0.56999999999999995},{"$f":"IF($A152=\"\",\"\",IF(ISBLANK($A152),\"\",VLOOKUP($A152,Data!$A$4:$AI$155,8,FALSE)))","v":0.43}]
[937,{"$f":"IF($A153=\"\",\"\",IF(ISBLANK($A153),\"\",INDEX('LEA Nos codes'!$A$3:$A$154,MATCH($A153,'LEA Nos codes'!$B$3:$B$154,0))))","v":"Warwickshire"},{"$f":"IF($A153=\"\",\"\",IF(ISBLANK($A153),\"\",VLOOKUP($A153,Data!$A$4:$V$155,3,FALSE)))","v":4.95},{"$f":"IF($A153=\"\",\"\",IF(ISBLANK($A153),\"\",VLOOKUP($A153,Data!$A$4:$AQ$155,43,FALSE)))","v":4.9400000000000004},{"$f":"IF($A153=\"\",\"\",IF(ISBLANK($A153),\"\",VLOOKUP($A153,Data!$A$4:$V$155,4,FALSE)))","v":3.99},{"$f":"IF($A153=\"\",\"\",IF(ISBLANK($A153),\"\",VLOOKUP($A153,Data!$A$4:$V$155,5,FALSE)))","v":0.79},{"$f":"IF($A153=\"\",\"\",IF(ISBLANK($A153),\"\",VLOOKUP($A153,Data!$A$4:$AP$155,42,FALSE)))","v":0.39},{"$f":"IF($A153=\"\",\"\",IF(ISBLANK($A153),\"\",VLOOKUP($A153,Data!$A$4:$AS$155,45,FALSE)))","v":0.42},{"$f":"IF($A153=\"\",\"\",IF(ISBLANK($A153),\"\",VLOOKUP($A153,Data!$A$4:$AI$155,35,FALSE)))","v":0.98},{"$f":"IF($A153=\"\",\"\",IF(ISBLANK($A153),\"\",VLOOKUP($A153,Data!$A$4:$AM$155,37,FALSE)))","v":0.45},{"$f":"IF($A153=\"\",\"\",IF(ISBLANK($A153),\"\",VLOOKUP($A153,Data!$A$4:$AM$155,38,FALSE)))","v":0.21},{"$f":"IF($A153=\"\",\"\",IF(ISBLANK($A153),\"\",VLOOKUP($A153,Data!$A$4:$AM$155,39,FALSE)))","v":0.38100000000000001},{"$f":"IF($A153=\"\",\"\",IF(ISBLANK($A153),\"\",VLOOKUP($A153,Data!$A$4:$AI$155,6,FALSE)))","v":31500},{"$f":"IF($A153=\"\",\"\",IF(ISBLANK($A153),\"\",VLOOKUP($A153,Data!$A$4:$AI$155,7,FALSE)))","v":124},{"$f":"IF($A153=\"\",\"\",IF(ISBLANK($A153),\"\",VLOOKUP($A153,Data!$A$4:$AR$155,44,FALSE)))","v":0.49},{"$f":"IF($A153=\"\",\"\",IF(ISBLANK($A153),\"\",VLOOKUP($A153,Data!$A$4:$AI$155,8,FALSE)))","v":0.5}]
[869,{"$f":"IF($A154=\"\",\"\",IF(ISBLANK($A154),\"\",INDEX('LEA Nos codes'!$A$3:$A$154,MATCH($A154,'LEA Nos codes'!$B$3:$B$154,0))))","v":"West Berkshire"},{"$f":"IF($A154=\"\",\"\",IF(ISBLANK($A154),\"\",VLOOKUP($A154,Data!$A$4:$V$155,3,FALSE)))","v":5.26},{"$f":"IF($A154=\"\",\"\",IF(ISBLANK($A154),\"\",VLOOKUP($A154,Data!$A$4:$AQ$155,43,FALSE)))","v":5.36},{"$f":"IF($A154=\"\",\"\",IF(ISBLANK($A154),\"\",VLOOKUP($A154,Data!$A$4:$V$155,4,FALSE)))","v":4.5},{"$f":"IF($A154=\"\",\"\",IF(ISBLANK($A154),\"\",VLOOKUP($A154,Data!$A$4:$V$155,5,FALSE)))","v":0.85},{"$f":"IF($A154=\"\",\"\",IF(ISBLANK($A154),\"\",VLOOKUP($A154,Data!$A$4:$AP$155,42,FALSE)))","v":0.36},{"$f":"IF($A154=\"\",\"\",IF(ISBLANK($A154),\"\",VLOOKUP($A154,Data!$A$4:$AS$155,45,FALSE)))","v":0.38},{"$f":"IF($A154=\"\",\"\",IF(ISBLANK($A154),\"\",VLOOKUP($A154,Data!$A$4:$AI$155,35,FALSE)))","v":0.96},{"$f":"IF($A154=\"\",\"\",IF(ISBLANK($A154),\"\",VLOOKUP($A154,Data!$A$4:$AM$155,37,FALSE)))","v":0.61},{"$f":"IF($A154=\"\",\"\",IF(ISBLANK($A154),\"\",VLOOKUP($A154,Data!$A$4:$AM$155,38,FALSE)))","v":0.22},{"$f":"IF($A154=\"\",\"\",IF(ISBLANK($A154),\"\",VLOOKUP($A154,Data!$A$4:$AM$155,39,FALSE)))","v":0.26500000000000001},{"$f":"IF($A154=\"\",\"\",IF(ISBLANK($A154),\"\",VLOOKUP($A154,Data!$A$4:$AI$155,6,FALSE)))","v":10100},{"$f":"IF($A154=\"\",\"\",IF(ISBLANK($A154),\"\",VLOOKUP($A154,Data!$A$4:$AI$155,7,FALSE)))","v":144},{"$f":"IF($A154=\"\",\"\",IF(ISBLANK($A154),\"\",VLOOKUP($A154,Data!$A$4:$AR$155,44,FALSE)))","v":0.52},{"$f":"IF($A154=\"\",\"\",IF(ISBLANK($A154),\"\",VLOOKUP($A154,Data!$A$4:$AI$155,8,FALSE)))","v":0.48}]
[938,{"$f":"IF($A155=\"\",\"\",IF(ISBLANK($A155),\"\",INDEX('LEA Nos codes'!$A$3:$A$154,MATCH($A155,'LEA Nos codes'!$B$3:$B$154,0))))","v":"West Sussex"},{"$f":"IF($A155=\"\",\"\",IF(ISBLANK($A155),\"\",VLOOKUP($A155,Data!$A$4:$V$155,3,FALSE)))","v":4.8499999999999996},{"$f":"IF($A155=\"\",\"\",IF(ISBLANK($A155),\"\",VLOOKUP($A155,Data!$A$4:$AQ$155,43,FALSE)))","v":4.95},{"$f":"IF($A155=\"\",\"\",IF(ISBLANK($A155),\"\",VLOOKUP($A155,Data!$A$4:$V$155,4,FALSE)))","v":4.05},{"$f":"IF($A155=\"\",\"\",IF(ISBLANK($A155),\"\",VLOOKUP($A155,Data!$A$4:$V$155,5,FALSE)))","v":0.82},{"$f":"IF($A155=\"\",\"\",IF(ISBLANK($A155),\"\",VLOOKUP($A155,Data!$A$4:$AP$155,42,FALSE)))","v":0.42},{"$f":"IF($A155=\"\",\"\",IF(ISBLANK($A155),\"\",VLOOKUP($A155,Data!$A$4:$AS$155,45,FALSE)))","v":0.46},{"$f":"IF($A155=\"\",\"\",IF(ISBLANK($A155),\"\",VLOOKUP($A155,Data!$A$4:$AI$155,35,FALSE)))","v":0.97},{"$f":"IF($A155=\"\",\"\",IF(ISBLANK($A155),\"\",VLOOKUP($A155,Data!$A$4:$AM$155,37,FALSE)))","v":0.52},{"$f":"IF($A155=\"\",\"\",IF(ISBLANK($A155),\"\",VLOOKUP($A155,Data!$A$4:$AM$155,38,FALSE)))","v":0.21},{"$f":"IF($A155=\"\",\"\",IF(ISBLANK($A155),\"\",VLOOKUP($A155,Data!$A$4:$AM$155,39,FALSE)))","v":0.30399999999999999},{"$f":"IF($A155=\"\",\"\",IF(ISBLANK($A155),\"\",VLOOKUP($A155,Data!$A$4:$AI$155,6,FALSE)))","v":47700},{"$f":"IF($A155=\"\",\"\",IF(ISBLANK($A155),\"\",VLOOKUP($A155,Data!$A$4:$AI$155,7,FALSE)))","v":128},{"$f":"IF($A155=\"\",\"\",IF(ISBLANK($A155),\"\",VLOOKUP($A155,Data!$A$4:$AR$155,44,FALSE)))","v":0.39},{"$f":"IF($A155=\"\",\"\",IF(ISBLANK($A155),\"\",VLOOKUP($A155,Data!$A$4:$AI$155,8,FALSE)))","v":0.61}]
[213,{"$f":"IF($A156=\"\",\"\",IF(ISBLANK($A156),\"\",INDEX('LEA Nos codes'!$A$3:$A$154,MATCH($A156,'LEA Nos codes'!$B$3:$B$154,0))))","v":"Westminster"},{"$f":"IF($A156=\"\",\"\",IF(ISBLANK($A156),\"\",VLOOKUP($A156,Data!$A$4:$V$155,3,FALSE)))","v":"."},{"$f":"IF($A156=\"\",\"\",IF(ISBLANK($A156),\"\",VLOOKUP($A156,Data!$A$4:$AQ$155,43,FALSE)))","v":6.07},{"$f":"IF($A156=\"\",\"\",IF(ISBLANK($A156),\"\",VLOOKUP($A156,Data!$A$4:$V$155,4,FALSE)))","v":6.81},{"$f":"IF($A156=\"\",\"\",IF(ISBLANK($A156),\"\",VLOOKUP($A156,Data!$A$4:$V$155,5,FALSE)))","v":0.74},{"$f":"IF($A156=\"\",\"\",IF(ISBLANK($A156),\"\",VLOOKUP($A156,Data!$A$4:$AP$155,42,FALSE)))","v":0.35},{"$f":"IF($A156=\"\",\"\",IF(ISBLANK($A156),\"\",VLOOKUP($A156,Data!$A$4:$AS$155,45,FALSE)))","v":0.39},{"$f":"IF($A156=\"\",\"\",IF(ISBLANK($A156),\"\",VLOOKUP($A156,Data!$A$4:$AI$155,35,FALSE)))","v":0.79},{"$f":"IF($A156=\"\",\"\",IF(ISBLANK($A156),\"\",VLOOKUP($A156,Data!$A$4:$AM$155,37,FALSE)))","v":0.5},{"$f":"IF($A156=\"\",\"\",IF(ISBLANK($A156),\"\",VLOOKUP($A156,Data!$A$4:$AM$155,38,FALSE)))","v":0.12},{"$f":"IF($A156=\"\",\"\",IF(ISBLANK($A156),\"\",VLOOKUP($A156,Data!$A$4:$AM$155,39,FALSE)))","v":0.38700000000000001},{"$f":"IF($A156=\"\",\"\",IF(ISBLANK($A156),\"\",VLOOKUP($A156,Data!$A$4:$AI$155,6,FALSE)))","v":13400},{"$f":"IF($A156=\"\",\"\",IF(ISBLANK($A156),\"\",VLOOKUP($A156,Data!$A$4:$AI$155,7,FALSE)))","v":66},{"$f":"IF($A156=\"\",\"\",IF(ISBLANK($A156),\"\",VLOOKUP($A156,Data!$A$4:$AR$155,44,FALSE)))","v":0.62},{"$f":"IF($A156=\"\",\"\",IF(ISBLANK($A156),\"\",VLOOKUP($A156,Data!$A$4:$AI$155,8,FALSE)))","v":0.35}]
[359,{"$f":"IF($A157=\"\",\"\",IF(ISBLANK($A157),\"\",INDEX('LEA Nos codes'!$A$3:$A$154,MATCH($A157,'LEA Nos codes'!$B$3:$B$154,0))))","v":"Wigan"},{"$f":"IF($A157=\"\",\"\",IF(ISBLANK($A157),\"\",VLOOKUP($A157,Data!$A$4:$V$155,3,FALSE)))","v":4.9000000000000004},{"$f":"IF($A157=\"\",\"\",IF(ISBLANK($A157),\"\",VLOOKUP($A157,Data!$A$4:$AQ$155,43,FALSE)))","v":4.95},{"$f":"IF($A157=\"\",\"\",IF(ISBLANK($A157),\"\",VLOOKUP($A157,Data!$A$4:$V$155,4,FALSE)))","v":3.69},{"$f":"IF($A157=\"\",\"\",IF(ISBLANK($A157),\"\",VLOOKUP($A157,Data!$A$4:$V$155,5,FALSE)))","v":0.75},{"$f":"IF($A157=\"\",\"\",IF(ISBLANK($A157),\"\",VLOOKUP($A157,Data!$A$4:$AP$155,42,FALSE)))","v":0.05},{"$f":"IF($A157=\"\",\"\",IF(ISBLANK($A157),\"\",VLOOKUP($A157,Data!$A$4:$AS$155,45,FALSE)))","v":0.04},{"$f":"IF($A157=\"\",\"\",IF(ISBLANK($A157),\"\",VLOOKUP($A157,Data!$A$4:$AI$155,35,FALSE)))","v":0.92},{"$f":"IF($A157=\"\",\"\",IF(ISBLANK($A157),\"\",VLOOKUP($A157,Data!$A$4:$AM$155,37,FALSE)))","v":0.38},{"$f":"IF($A157=\"\",\"\",IF(ISBLANK($A157),\"\",VLOOKUP($A157,Data!$A$4:$AM$155,38,FALSE)))","v":0.23},{"$f":"IF($A157=\"\",\"\",IF(ISBLANK($A157),\"\",VLOOKUP($A157,Data!$A$4:$AM$155,39,FALSE)))","v":0.41299999999999998},{"$f":"IF($A157=\"\",\"\",IF(ISBLANK($A157),\"\",VLOOKUP($A157,Data!$A$4:$AI$155,6,FALSE)))","v":19600},{"$f":"IF($A157=\"\",\"\",IF(ISBLANK($A157),\"\",VLOOKUP($A157,Data!$A$4:$AI$155,7,FALSE)))","v":52},{"$f":"IF($A157=\"\",\"\",IF(ISBLANK($A157),\"\",VLOOKUP($A157,Data!$A$4:$AR$155,44,FALSE)))","v":0.6},{"$f":"IF($A157=\"\",\"\",IF(ISBLANK($A157),\"\",VLOOKUP($A157,Data!$A$4:$AI$155,8,FALSE)))","v":0.39}]
[865,{"$f":"IF($A158=\"\",\"\",IF(ISBLANK($A158),\"\",INDEX('LEA Nos codes'!$A$3:$A$154,MATCH($A158,'LEA Nos codes'!$B$3:$B$154,0))))","v":"Wiltshire"},{"$f":"IF($A158=\"\",\"\",IF(ISBLANK($A158),\"\",VLOOKUP($A158,Data!$A$4:$V$155,3,FALSE)))","v":5.67},{"$f":"IF($A158=\"\",\"\",IF(ISBLANK($A158),\"\",VLOOKUP($A158,Data!$A$4:$AQ$155,43,FALSE)))","v":4.97},{"$f":"IF($A158=\"\",\"\",IF(ISBLANK($A158),\"\",VLOOKUP($A158,Data!$A$4:$V$155,4,FALSE)))","v":3.88},{"$f":"IF($A158=\"\",\"\",IF(ISBLANK($A158),\"\",VLOOKUP($A158,Data!$A$4:$V$155,5,FALSE)))","v":0.75},{"$f":"IF($A158=\"\",\"\",IF(ISBLANK($A158),\"\",VLOOKUP($A158,Data!$A$4:$AP$155,42,FALSE)))","v":0.48},{"$f":"IF($A158=\"\",\"\",IF(ISBLANK($A158),\"\",VLOOKUP($A158,Data!$A$4:$AS$155,45,FALSE)))","v":0.49},{"$f":"IF($A158=\"\",\"\",IF(ISBLANK($A158),\"\",VLOOKUP($A158,Data!$A$4:$AI$155,35,FALSE)))","v":0.93},{"$f":"IF($A158=\"\",\"\",IF(ISBLANK($A158),\"\",VLOOKUP($A158,Data!$A$4:$AM$155,37,FALSE)))","v":0.52},{"$f":"IF($A158=\"\",\"\",IF(ISBLANK($A158),\"\",VLOOKUP($A158,Data!$A$4:$AM$155,38,FALSE)))","v":0.25},{"$f":"IF($A158=\"\",\"\",IF(ISBLANK($A158),\"\",VLOOKUP($A158,Data!$A$4:$AM$155,39,FALSE)))","v":0.317},{"$f":"IF($A158=\"\",\"\",IF(ISBLANK($A158),\"\",VLOOKUP($A158,Data!$A$4:$AI$155,6,FALSE)))","v":28800},{"$f":"IF($A158=\"\",\"\",IF(ISBLANK($A158),\"\",VLOOKUP($A158,Data!$A$4:$AI$155,7,FALSE)))","v":134},{"$f":"IF($A158=\"\",\"\",IF(ISBLANK($A158),\"\",VLOOKUP($A158,Data!$A$4:$AR$155,44,FALSE)))","v":0.36},{"$f":"IF($A158=\"\",\"\",IF(ISBLANK($A158),\"\",VLOOKUP($A158,Data!$A$4:$AI$155,8,FALSE)))","v":0.64}]
[868,{"$f":"IF($A159=\"\",\"\",IF(ISBLANK($A159),\"\",INDEX('LEA Nos codes'!$A$3:$A$154,MATCH($A159,'LEA Nos codes'!$B$3:$B$154,0))))","v":"Windsor and Maidenhead"},{"$f":"IF($A159=\"\",\"\",IF(ISBLANK($A159),\"\",VLOOKUP($A159,Data!$A$4:$V$155,3,FALSE)))","v":5},{"$f":"IF($A159=\"\",\"\",IF(ISBLANK($A159),\"\",VLOOKUP($A159,Data!$A$4:$AQ$155,43,FALSE)))","v":5.49},{"$f":"IF($A159=\"\",\"\",IF(ISBLANK($A159),\"\",VLOOKUP($A159,Data!$A$4:$V$155,4,FALSE)))","v":4.3600000000000003},{"$f":"IF($A159=\"\",\"\",IF(ISBLANK($A159),\"\",VLOOKUP($A159,Data!$A$4:$V$155,5,FALSE)))","v":0.82},{"$f":"IF($A159=\"\",\"\",IF(ISBLANK($A159),\"\",VLOOKUP($A159,Data!$A$4:$AP$155,42,FALSE)))","v":0.45},{"$f":"IF($A159=\"\",\"\",IF(ISBLANK($A159),\"\",VLOOKUP($A159,Data!$A$4:$AS$155,45,FALSE)))","v":0.5},{"$f":"IF($A159=\"\",\"\",IF(ISBLANK($A159),\"\",VLOOKUP($A159,Data!$A$4:$AI$155,35,FALSE)))","v":1},{"$f":"IF($A159=\"\",\"\",IF(ISBLANK($A159),\"\",VLOOKUP($A159,Data!$A$4:$AM$155,37,FALSE)))","v":0.55000000000000004},{"$f":"IF($A159=\"\",\"\",IF(ISBLANK($A159),\"\",VLOOKUP($A159,Data!$A$4:$AM$155,38,FALSE)))","v":0.22},{"$f":"IF($A159=\"\",\"\",IF(ISBLANK($A159),\"\",VLOOKUP($A159,Data!$A$4:$AM$155,39,FALSE)))","v":0.26899999999999996},{"$f":"IF($A159=\"\",\"\",IF(ISBLANK($A159),\"\",VLOOKUP($A159,Data!$A$4:$AI$155,6,FALSE)))","v":9400},{"$f":"IF($A159=\"\",\"\",IF(ISBLANK($A159),\"\",VLOOKUP($A159,Data!$A$4:$AI$155,7,FALSE)))","v":146},{"$f":"IF($A159=\"\",\"\",IF(ISBLANK($A159),\"\",VLOOKUP($A159,Data!$A$4:$AR$155,44,FALSE)))","v":0.48},{"$f":"IF($A159=\"\",\"\",IF(ISBLANK($A159),\"\",VLOOKUP($A159,Data!$A$4:$AI$155,8,FALSE)))","v":0.51}]
[344,{"$f":"IF($A160=\"\",\"\",IF(ISBLANK($A160),\"\",INDEX('LEA Nos codes'!$A$3:$A$154,MATCH($A160,'LEA Nos codes'!$B$3:$B$154,0))))","v":"Wirral"},{"$f":"IF($A160=\"\",\"\",IF(ISBLANK($A160),\"\",VLOOKUP($A160,Data!$A$4:$V$155,3,FALSE)))","v":4.8499999999999996},{"$f":"IF($A160=\"\",\"\",IF(ISBLANK($A160),\"\",VLOOKUP($A160,Data!$A$4:$AQ$155,43,FALSE)))","v":4.87},{"$f":"IF($A160=\"\",\"\",IF(ISBLANK($A160),\"\",VLOOKUP($A160,Data!$A$4:$V$155,4,FALSE)))","v":3.79},{"$f":"IF($A160=\"\",\"\",IF(ISBLANK($A160),\"\",VLOOKUP($A160,Data!$A$4:$V$155,5,FALSE)))","v":0.72},{"$f":"IF($A160=\"\",\"\",IF(ISBLANK($A160),\"\",VLOOKUP($A160,Data!$A$4:$AP$155,42,FALSE)))","v":0.53},{"$f":"IF($A160=\"\",\"\",IF(ISBLANK($A160),\"\",VLOOKUP($A160,Data!$A$4:$AS$155,45,FALSE)))","v":0.56000000000000005},{"$f":"IF($A160=\"\",\"\",IF(ISBLANK($A160),\"\",VLOOKUP($A160,Data!$A$4:$AI$155,35,FALSE)))","v":1},{"$f":"IF($A160=\"\",\"\",IF(ISBLANK($A160),\"\",VLOOKUP($A160,Data!$A$4:$AM$155,37,FALSE)))","v":0.47},{"$f":"IF($A160=\"\",\"\",IF(ISBLANK($A160),\"\",VLOOKUP($A160,Data!$A$4:$AM$155,38,FALSE)))","v":0.25},{"$f":"IF($A160=\"\",\"\",IF(ISBLANK($A160),\"\",VLOOKUP($A160,Data!$A$4:$AM$155,39,FALSE)))","v":0.39500000000000002},{"$f":"IF($A160=\"\",\"\",IF(ISBLANK($A160),\"\",VLOOKUP($A160,Data!$A$4:$AI$155,6,FALSE)))","v":18900},{"$f":"IF($A160=\"\",\"\",IF(ISBLANK($A160),\"\",VLOOKUP($A160,Data!$A$4:$AI$155,7,FALSE)))","v":48},{"$f":"IF($A160=\"\",\"\",IF(ISBLANK($A160),\"\",VLOOKUP($A160,Data!$A$4:$AR$155,44,FALSE)))","v":0.56000000000000005},{"$f":"IF($A160=\"\",\"\",IF(ISBLANK($A160),\"\",VLOOKUP($A160,Data!$A$4:$AI$155,8,FALSE)))","v":0.43}]
[872,{"$f":"IF($A161=\"\",\"\",IF(ISBLANK($A161),\"\",INDEX('LEA Nos codes'!$A$3:$A$154,MATCH($A161,'LEA Nos codes'!$B$3:$B$154,0))))","v":"Wokingham"},{"$f":"IF($A161=\"\",\"\",IF(ISBLANK($A161),\"\",VLOOKUP($A161,Data!$A$4:$V$155,3,FALSE)))","v":5},{"$f":"IF($A161=\"\",\"\",IF(ISBLANK($A161),\"\",VLOOKUP($A161,Data!$A$4:$AQ$155,43,FALSE)))","v":5.36},{"$f":"IF($A161=\"\",\"\",IF(ISBLANK($A161),\"\",VLOOKUP($A161,Data!$A$4:$V$155,4,FALSE)))","v":3.74},{"$f":"IF($A161=\"\",\"\",IF(ISBLANK($A161),\"\",VLOOKUP($A161,Data!$A$4:$V$155,5,FALSE)))","v":0.88},{"$f":"IF($A161=\"\",\"\",IF(ISBLANK($A161),\"\",VLOOKUP($A161,Data!$A$4:$AP$155,42,FALSE)))","v":0.56999999999999995},{"$f":"IF($A161=\"\",\"\",IF(ISBLANK($A161),\"\",VLOOKUP($A161,Data!$A$4:$AS$155,45,FALSE)))","v":0.68},{"$f":"IF($A161=\"\",\"\",IF(ISBLANK($A161),\"\",VLOOKUP($A161,Data!$A$4:$AI$155,35,FALSE)))","v":1},{"$f":"IF($A161=\"\",\"\",IF(ISBLANK($A161),\"\",VLOOKUP($A161,Data!$A$4:$AM$155,37,FALSE)))","v":0.47},{"$f":"IF($A161=\"\",\"\",IF(ISBLANK($A161),\"\",VLOOKUP($A161,Data!$A$4:$AM$155,38,FALSE)))","v":0.23},{"$f":"IF($A161=\"\",\"\",IF(ISBLANK($A161),\"\",VLOOKUP($A161,Data!$A$4:$AM$155,39,FALSE)))","v":0.27200000000000002},{"$f":"IF($A161=\"\",\"\",IF(ISBLANK($A161),\"\",VLOOKUP($A161,Data!$A$4:$AI$155,6,FALSE)))","v":10300},{"$f":"IF($A161=\"\",\"\",IF(ISBLANK($A161),\"\",VLOOKUP($A161,Data!$A$4:$AI$155,7,FALSE)))","v":149},{"$f":"IF($A161=\"\",\"\",IF(ISBLANK($A161),\"\",VLOOKUP($A161,Data!$A$4:$AR$155,44,FALSE)))","v":0.5},{"$f":"IF($A161=\"\",\"\",IF(ISBLANK($A161),\"\",VLOOKUP($A161,Data!$A$4:$AI$155,8,FALSE)))","v":0.5}]
[336,{"$f":"IF($A162=\"\",\"\",IF(ISBLANK($A162),\"\",INDEX('LEA Nos codes'!$A$3:$A$154,MATCH($A162,'LEA Nos codes'!$B$3:$B$154,0))))","v":"Wolverhampton"},{"$f":"IF($A162=\"\",\"\",IF(ISBLANK($A162),\"\",VLOOKUP($A162,Data!$A$4:$V$155,3,FALSE)))","v":"."},{"$f":"IF($A162=\"\",\"\",IF(ISBLANK($A162),\"\",VLOOKUP($A162,Data!$A$4:$AQ$155,43,FALSE)))","v":4.8899999999999997},{"$f":"IF($A162=\"\",\"\",IF(ISBLANK($A162),\"\",VLOOKUP($A162,Data!$A$4:$V$155,4,FALSE)))","v":4.95},{"$f":"IF($A162=\"\",\"\",IF(ISBLANK($A162),\"\",VLOOKUP($A162,Data!$A$4:$V$155,5,FALSE)))","v":0.69},{"$f":"IF($A162=\"\",\"\",IF(ISBLANK($A162),\"\",VLOOKUP($A162,Data!$A$4:$AP$155,42,FALSE)))","v":0.44},{"$f":"IF($A162=\"\",\"\",IF(ISBLANK($A162),\"\",VLOOKUP($A162,Data!$A$4:$AS$155,45,FALSE)))","v":0.45},{"$f":"IF($A162=\"\",\"\",IF(ISBLANK($A162),\"\",VLOOKUP($A162,Data!$A$4:$AI$155,35,FALSE)))","v":0.9},{"$f":"IF($A162=\"\",\"\",IF(ISBLANK($A162),\"\",VLOOKUP($A162,Data!$A$4:$AM$155,37,FALSE)))","v":0.44},{"$f":"IF($A162=\"\",\"\",IF(ISBLANK($A162),\"\",VLOOKUP($A162,Data!$A$4:$AM$155,38,FALSE)))","v":0.13},{"$f":"IF($A162=\"\",\"\",IF(ISBLANK($A162),\"\",VLOOKUP($A162,Data!$A$4:$AM$155,39,FALSE)))","v":0.40799999999999997},{"$f":"IF($A162=\"\",\"\",IF(ISBLANK($A162),\"\",VLOOKUP($A162,Data!$A$4:$AI$155,6,FALSE)))","v":17400},{"$f":"IF($A162=\"\",\"\",IF(ISBLANK($A162),\"\",VLOOKUP($A162,Data!$A$4:$AI$155,7,FALSE)))","v":19},{"$f":"IF($A162=\"\",\"\",IF(ISBLANK($A162),\"\",VLOOKUP($A162,Data!$A$4:$AR$155,44,FALSE)))","v":0.89},{"$f":"IF($A162=\"\",\"\",IF(ISBLANK($A162),\"\",VLOOKUP($A162,Data!$A$4:$AI$155,8,FALSE)))","v":0.1}]
[885,{"$f":"IF($A163=\"\",\"\",IF(ISBLANK($A163),\"\",INDEX('LEA Nos codes'!$A$3:$A$154,MATCH($A163,'LEA Nos codes'!$B$3:$B$154,0))))","v":"Worcestershire"},{"$f":"IF($A163=\"\",\"\",IF(ISBLANK($A163),\"\",VLOOKUP($A163,Data!$A$4:$V$155,3,FALSE)))","v":"."},{"$f":"IF($A163=\"\",\"\",IF(ISBLANK($A163),\"\",VLOOKUP($A163,Data!$A$4:$AQ$155,43,FALSE)))","v":4.8499999999999996},{"$f":"IF($A163=\"\",\"\",IF(ISBLANK($A163),\"\",VLOOKUP($A163,Data!$A$4:$V$155,4,FALSE)))","v":3.43},{"$f":"IF($A163=\"\",\"\",IF(ISBLANK($A163),\"\",VLOOKUP($A163,Data!$A$4:$V$155,5,FALSE)))","v":0.85},{"$f":"IF($A163=\"\",\"\",IF(ISBLANK($A163),\"\",VLOOKUP($A163,Data!$A$4:$AP$155,42,FALSE)))","v":0.46},{"$f":"IF($A163=\"\",\"\",IF(ISBLANK($A163),\"\",VLOOKUP($A163,Data!$A$4:$AS$155,45,FALSE)))","v":0.54},{"$f":"IF($A163=\"\",\"\",IF(ISBLANK($A163),\"\",VLOOKUP($A163,Data!$A$4:$AI$155,35,FALSE)))","v":1.02},{"$f":"IF($A163=\"\",\"\",IF(ISBLANK($A163),\"\",VLOOKUP($A163,Data!$A$4:$AM$155,37,FALSE)))","v":0.49},{"$f":"IF($A163=\"\",\"\",IF(ISBLANK($A163),\"\",VLOOKUP($A163,Data!$A$4:$AM$155,38,FALSE)))","v":0.26},{"$f":"IF($A163=\"\",\"\",IF(ISBLANK($A163),\"\",VLOOKUP($A163,Data!$A$4:$AM$155,39,FALSE)))","v":0.34899999999999998},{"$f":"IF($A163=\"\",\"\",IF(ISBLANK($A163),\"\",VLOOKUP($A163,Data!$A$4:$AI$155,6,FALSE)))","v":31500},{"$f":"IF($A163=\"\",\"\",IF(ISBLANK($A163),\"\",VLOOKUP($A163,Data!$A$4:$AI$155,7,FALSE)))","v":110},{"$f":"IF($A163=\"\",\"\",IF(ISBLANK($A163),\"\",VLOOKUP($A163,Data!$A$4:$AR$155,44,FALSE)))","v":0.46},{"$f":"IF($A163=\"\",\"\",IF(ISBLANK($A163),\"\",VLOOKUP($A163,Data!$A$4:$AI$155,8,FALSE)))","v":0.53}]
[816,{"$f":"IF($A164=\"\",\"\",IF(ISBLANK($A164),\"\",INDEX('LEA Nos codes'!$A$3:$A$154,MATCH($A164,'LEA Nos codes'!$B$3:$B$154,0))))","v":"York"},{"$f":"IF($A164=\"\",\"\",IF(ISBLANK($A164),\"\",VLOOKUP($A164,Data!$A$4:$V$155,3,FALSE)))","v":"."},{"$f":"IF($A164=\"\",\"\",IF(ISBLANK($A164),\"\",VLOOKUP($A164,Data!$A$4:$AQ$155,43,FALSE)))","v":4.8499999999999996},{"$f":"IF($A164=\"\",\"\",IF(ISBLANK($A164),\"\",VLOOKUP($A164,Data!$A$4:$V$155,4,FALSE)))","v":3.6},{"$f":"IF($A164=\"\",\"\",IF(ISBLANK($A164),\"\",VLOOKUP($A164,Data!$A$4:$V$155,5,FALSE)))","v":0.83},{"$f":"IF($A164=\"\",\"\",IF(ISBLANK($A164),\"\",VLOOKUP($A164,Data!$A$4:$AP$155,42,FALSE)))","v":0.4},{"$f":"IF($A164=\"\",\"\",IF(ISBLANK($A164),\"\",VLOOKUP($A164,Data!$A$4:$AS$155,45,FALSE)))","v":0.44},{"$f":"IF($A164=\"\",\"\",IF(ISBLANK($A164),\"\",VLOOKUP($A164,Data!$A$4:$AI$155,35,FALSE)))","v":1.03},{"$f":"IF($A164=\"\",\"\",IF(ISBLANK($A164),\"\",VLOOKUP($A164,Data!$A$4:$AM$155,37,FALSE)))","v":0.56000000000000005},{"$f":"IF($A164=\"\",\"\",IF(ISBLANK($A164),\"\",VLOOKUP($A164,Data!$A$4:$AM$155,38,FALSE)))","v":0.28999999999999998},{"$f":"IF($A164=\"\",\"\",IF(ISBLANK($A164),\"\",VLOOKUP($A164,Data!$A$4:$AM$155,39,FALSE)))","v":0.313},{"$f":"IF($A164=\"\",\"\",IF(ISBLANK($A164),\"\",VLOOKUP($A164,Data!$A$4:$AI$155,6,FALSE)))","v":10700},{"$f":"IF($A164=\"\",\"\",IF(ISBLANK($A164),\"\",VLOOKUP($A164,Data!$A$4:$AI$155,7,FALSE)))","v":131},{"$f":"IF($A164=\"\",\"\",IF(ISBLANK($A164),\"\",VLOOKUP($A164,Data!$A$4:$AR$155,44,FALSE)))","v":0.53},{"$f":"IF($A164=\"\",\"\",IF(ISBLANK($A164),\"\",VLOOKUP($A164,Data!$A$4:$AI$155,8,FALSE)))","v":0.46}]
[]
[]
["A. Note:  Some caution should be exercised when comparing take-up rates at local authority level."]
["    Please see technical notes for further information on population estimates and rates which exceed 100%"]
[]
["1. Funding information is as reported by local authorities in the section 251 budget statements 2013-14"]
["2. Some local authorities have included planned spend on two year olds within central spending and therefore specific figures for two year olds are not available"]
["3. The average hourly two-year-old rates for Wigan and Shropshire are different to those in their original s251 returns. They have confirmed since the return was submitted that the correct rates are £4.90 per hour and £4.96 per hour respectively. The England average rate has been recalculated accordingly"]
["4. The Department for Education provides LAs with an average funding rate of £5.09 per hour for statutory two-year-old entitlement places. This is adjusted for local area cost, within a range of £4.85-£7.08 per hour. In addition, trajectory building and capital funding has been provided to support roll-out of the new two-year-old programme."]
["      Further information about two year old allocations for 2013-14 is here: "]
["          http://webarchive.nationalarchives.gov.uk/20130903192841/http://www.education.gov.uk/childrenandyoungpeople/earlylearningandchildcare/delivery/free entitlement to early education/b0070114/eefortwoyearolds/la-funding-allocations"]
["     and for 2014-15 is here: "]
["          https://www.gov.uk/government/publications/la-allocations-for-early-learning-for-2-year-olds-2014-to-2015"]
["          https://www.gov.uk/government/publications/funding-for-learning-for-2-year-olds-letter-from-elizabeth-truss"]
["5. Hammersmith and Fulham's return shows an average rate of £604.77. This has been removed as an extreme outlier."]
["6. A small proportion of early years registered providers are inspected as part of a school inspection and are not included in these figures."]
["7. Based on inspections carried out since the introduction of the Early Years Foundation Stage in September 2008."]
["8. Private, Voluntary and Independent."]
["9. Qualified teacher status (QTS) is the accreditation that enables you to teach in state-maintained and special schools in England and Wales."]
["10. Early Years Professional Status (EYPS) is a professional accreditation endorsed by the government for graduate practitioners who have demonstrated a set of professional standards."]
["11. Count of children aged three or four at 31st December in the previous calendar year."]
["12. All children are eligible for a funded part-time place from 1 September, 1 January or 1 April following their third birthday for up to two years before they reach compulsory school age."]
["       A funded place currently consists of a minimum of 15 hours of early education per week for 38 weeks of the year."]
["13. Any child attending more than one provider will have only been counted once."]
["14. Early Years Foundation Stage Profile - outcomes at age five."]
["15. Percentage of children achieving a good level of development – those children achieving at least the expected level within the three prime areas of learning: communication and language, physical development and personal, social and emotional development"]
["       and the early learning goals within the literacy and mathematics areas of learning."]
["16. Only includes pupils with a valid result for every achievement scale."]
["17. The percentage gap between those eligible for Free School Meals and the rest (including unclassified) in achieving a good level of development."]
["18. The percentage gap in achieving a good level of development between the lowest 20 per cent of achieving children in a local authority (mean score), and the score of the median"]
["       child in the same authority expressed as a percentage of the same median score."]
["19. Population estimates for UK, England, Wales, Scotland and Northern Ireland, Mid-2012."]
["20. English Indices of Deprivation 2010 (where 1 is the most deprived)."]
["21. Figures for Isles of Scilly and Cornwall, Cheshire East and Cheshire West and Chester, Bedford Borough and Central Bedfordshire have been set to the rank of the old counties from which they were formed: Cornwall and Isles of Scilly, Cheshire and Bedfordshire."]
["22. Maintained settings refers to maintained nursery and state-funded primary schools. It does not include secondary schools or special schools."]
[". Not applicable"]
[".. Not available"]
["x Value suppressed to protect confidentiality"]
["Figures are rounded to the level of the source data on which they are based"]
[]
["Sources"]
[]
["Funding:"]
["Planned expenditure on schools, education, children and young people’s services by local authorities: financial year 2013 to 2014"]
["https://www.gov.uk/government/publications/planned-expenditure-on-schools-education-children-and-young-peoples-services-by-local-authorities-financial-year-2013-to-2014"]
[]
["Quality:"]
["Ofsted Early years and childcare registered providers inspections and outcomes - Sept 2012 to October 2013 - Provisional"]
["http://www.ofsted.gov.uk/resources/official-statistics-early-years-and-childcare-registered-providers-inspections-and-outcomes"]
[]
["Take Up and Qualifications:"]
["DfE: Provision for Children Under Five Years of Age in England - January 2013"]
["https://www.gov.uk/government/publications/provision-for-children-under-5-years-of-age-in-england-january-2013"]
[]
["Child Development (EYFSP):"]
["DfE: Early Years Foundation Stage Profile Results in England 2012/13"]
["https://www.gov.uk/government/publications/early-years-foundation-stage-profile-results-2012-to-2013"]
["DfE: Early Years Foundation Stage Profile Attainment by Pupil Characteristics in England, 2012/13"]
["https://www.gov.uk/government/publications/eyfsp-attainment-by-pupil-characteristics-2013"]
[]
["Context:"]
["Population Estimates for UK, England and Wales, Scotland and Northern Ireland, Mid-2012"]
["http://www.ons.gov.uk/ons/rel/pop-estimate/population-estimates-for-uk--england-and-wales--scotland-and-northern-ireland/mid-2011-and-mid-2012/index.html"]
["The English Indices of Deprivation 2010"]
["https://www.gov.uk/government/publications/english-indices-of-deprivation-2010"]
["DfE: Provision for Children Under Five Years of Age in England - January 2013"]
["https://www.gov.uk/government/publications/provision-for-children-under-5-years-of-age-in-england-january-2013"]

{"sheet":"Early Years Table ","index":5,"n_rows":231,"n_cols":16,"rows_kept":231,"cut":false,"hidden":true,"merged":[[0,14,0,15],[1,14,1,15],[3,12,3,15],[174,0,174,10],[176,0,176,5],[228,0,228,4],[230,0,230,5],[3,2,3,4],[3,9,3,11],[3,6,3,7],[177,0,177,5],[208,0,208,7],[226,0,226,7],[212,0,212,5],[216,0,216,5],[220,0,220,5],[222,0,222,4]]}
[null,null,"Early Years Benchmarking - Main Spreadsheet",null,null,null,null,null,null,null,null,null,null,null,"Return to contents"]
["All LAs",null,null,null,null,null,null,null,null,null,null,null,null,null,"Return to instructions"]
[]
["To print use the buttons below.",null,"Funding",null,null,"Quality","Qualifications",null,"Take UpA","Child Development (EYFSP)14",null,null,"Context"]
[null,null,"Planned spend1 on 2 year olds - average rate per hour2,3\n(2013-14)","Allocated hourly rate for 2 year olds4\n(2013-14)","Planned spend1 on 3 and 4 year olds - average rate per hour5\n(2013-14)","% of childcare and early years settings6 rated good or outstanding by Ofsted7\n(As at 31st October 2013)","% of PVI8 providers with QTS9/EYPS10 graduates working directly with 3 and 4 year olds11 (2013)","% of 3 and 4 year olds11 receiving funded early education at PVI8 providers with QTS9/EYPS10 graduates working directly with children\n(2013)","% of 3 and 4 year olds11 receiving funded early education12,13\n(2013)","% of children achieving a good level of development15,16\n(2013)","% gap between pupils eligible for free school meals and the rest16,17\n(2013)","% gap between the lowest achieving 20% and the rest16,18\n(2013)","Number of 0-4 year olds19\n(Mid-2012)","Deprivation rank20,21\n(2010)","% of 3 and 4 year olds11 receiving funded early education12,13 in maintained22 settings\n(2013)","% of 3 and 4 year olds11 receiving funded early education12,13 in PVI8 providers\n(2013)"]
["England - Average (mean) or Total",null,5.27,5.09,4.21,0.77,0.39,0.44,0.96,0.52,0.19,0.36599999999999999,3328750,null,0.59,0.4]
["England - Average (median)",null,5,4.93,4.04,0.76,0.39500000000000002,0.44,0.97,0.51,0.19500000000000001,0.35499999999999998,17500,76.5,0.625,0.36]
["England - Minimum",null,4.5,4.8499999999999996,2.99,0.59,0,0,0.79,0.28000000000000003,0.02,0.105,100,1,0.33,0.03]
["England - Maximum",null,9.99,7.08,6.81,1,0.73,0.81,1.1499999999999999,1,0.34,0.44600000000000001,90800,149,0.97,0.66]
["Selection - Average (median)",null,5,4.93,4.04,0.76,0.39500000000000002,0.44,0.97,0.51,0.19500000000000001,0.35499999999999998,17500,76.5,0.625,0.36]
["Selection - Minimum",null,4.5,4.8499999999999996,2.99,0.59,0,0,0.79,0.28000000000000003,0.02,0.105,100,1,0.33,0.03]
["Selection - Maximum",null,9.99,7.08,6.81,1,0.73,0.81,1.1499999999999999,1,0.34,0.44600000000000001,90800,149,0.97,0.66]
[301,"Barking and Dagenham",5.2,5.28,3.87,0.74,0.34,0.39,0.89,0.46,0.12,0.38299999999999995,19200,20,0.77,0.22]
[302,"Barnet",6,5.53,4.57,0.75,0.49,0.49,0.84,0.6,0.16,0.32,27300,106,0.7,0.3]
[370,"Barnsley",4.95,4.8499999999999996,4.03,0.79,0.47,0.46,0.97,0.5,0.23,0.37799999999999995,14400,40,0.76,0.24]
[800,"Bath & North East Somerset",5,5.07,3.72,0.82,0.62,0.69,1.03,0.51,0.25,0.32,9300,135,0.42,0.57999999999999996]
[822,"Bedford Borough",5.03,5.03,4,0.9,0.28999999999999998,0.36,1.06,0.48,0.19,0.33799999999999997,10500,130,0.55000000000000004,0.45]
[303,"Bexley",5.28,5.28,3.85,0.78,0.4,0.4,0.98,0.64,0.2,0.27600000000000002,15700,105,0.63,0.35]
[330,"Birmingham",".",4.8899999999999997,5.31,0.72,0.3,0.39,0.92,0.5,0.15,0.40600000000000003,83900,9,0.68,0.31]
[889,"Blackburn with Darwen",".",4.8499999999999996,4.03,0.75,0.61,0.73,0.94,0.4,0.1,0.41899999999999998,11300,16,0.57999999999999996,0.42]
[890,"Blackpool",4.8499999999999996,4.8499999999999996,3.63,0.78,0.36,0.49,0.95,0.52,0.17,0.33,8500,6,0.56999999999999995,0.42]
[350,"Bolton",4.8499999999999996,4.95,4.25,0.77,0.37,0.47,1,0.48,0.19,0.41100000000000003,19300,31,0.7,0.28999999999999998]
[837,"Bournemouth",4.8499999999999996,4.88,4.05,0.75,0.43,0.48,0.99,0.56999999999999995,0.18,0.29199999999999998,10900,72,0.36,0.64]
[867,"Bracknell Forest",5.46,5.49,3.85,0.87,0.27,0.28999999999999998,0.91,0.57999999999999996,0.26,0.27300000000000002,8200,145,0.56000000000000005,0.43]
[380,"Bradford",".",4.8499999999999996,5.18,0.71,0.46,0.54,0.95,0.49,0.16,0.42599999999999999,41400,24,0.77,0.22]
[304,"Brent",6,5.53,4.51,0.64,0.54,0.53,0.89,0.56000000000000005,0.04,0.33500000000000002,23200,30,0.66,0.32]
[846,"Brighton and Hove",6.23,4.8499999999999996,4.1500000000000004,0.87,0.59,0.65,1.03,0.45,0.22,0.32600000000000001,15300,53,0.46,0.54]
[305,"Bromley",6.38,5.28,4.03,0.89,0.42,0.49,0.99,0.61,0.25,0.313,20800,123,0.39,0.61]
[825,"Buckinghamshire",5.31,5.33,4.21,0.81,0.4,0.41,0.96,0.55000000000000004,0.25,0.32600000000000001,32700,142,0.48,0.51]
[351,"Bury",6.79,4.95,3.61,0.61,0.46,0.52,0.96,0.51,0.24,0.38700000000000001,12600,81,0.66,0.33]
[381,"Calderdale",5.19,4.8499999999999996,4.0199999999999996,0.69,0.01,0.01,1.03,0.45,0.2,0.36799999999999999,13100,75,0.6,0.4]
[873,"Cambridgeshire",5.36,5.05,4.25,0.79,0.31,0.31,0.95,0.51,0.22,0.33899999999999997,37800,132,0.45,0.55000000000000004]
[202,"Camden",9.1,6.07,6.27,0.73,0.64,0.74,0.82,0.47,0.19,0.36799999999999999,13800,59,0.55000000000000004,0.44]
[823,"Central Bedfordshire",".",5.03,4.04,0.85,0.38,0.4,1.01,0.49,0.23,0.29499999999999998,16600,130,0.57999999999999996,0.42]
[895,"Cheshire East",4.8499999999999996,4.93,3.66,0.76,0.54,0.56000000000000005,1.04,0.56000000000000005,0.23,0.35,20400,121,0.43,0.56999999999999995]
[896,"Cheshire West and Chester",4.8499999999999996,4.93,3.83,0.74,0.5,0.6,1.05,0.52,0.25,0.32,18300,121,0.48,0.51]
[801,"City of Bristol",5.03,5.07,4.62,0.68,0.73,0.78,0.92,0.5,0.21,0.38600000000000001,30700,63,0.64,0.35]
[810,"City of Kingston Upon Hull",".",4.8499999999999996,3.66,0.79,0.11,0.15,0.96,0.42,0.1,0.40799999999999997,17800,10,0.75,0.25]
[201,"City of London",".",7.08,5.78,1,0,0,1.1499999999999999,0.64,0.25,0.36099999999999999,300,140,0.51,0.44]
[908,"Cornwall",4.8499999999999996,4.8499999999999996,3.95,0.86,0.49,0.53,1.01,0.49,0.19,0.34600000000000003,28300,78,0.47,0.53]
[331,"Coventry",".",4.8899999999999997,3.55,0.74,0.21,0.24,0.94,0.55000000000000004,0.17,0.36399999999999999,23200,42,0.66,0.33]
[306,"Croydon",6,5.28,3.97,0.79,0.33,0.36,0.88,0.46,0.15,0.39100000000000001,28600,77,0.6,0.39]
[909,"Cumbria",4.8499999999999996,4.8499999999999996,3.69,0.86,0.41,0.47,1.03,0.5,0.23,0.35600000000000004,25300,85,0.66,0.34]
[841,"Darlington",".",4.8499999999999996,3.82,0.7,0.44,0.49,1,0.49,0.18,0.42499999999999999,6600,60,0.68,0.32]
[831,"Derby",4.8499999999999996,4.8499999999999996,4.4800000000000004,0.68,0.35,0.36,0.94,0.41,0.17,0.41100000000000003,18100,67,0.71,0.28000000000000003]
[830,"Derbyshire",4.8499999999999996,4.8499999999999996,4.32,0.78,0.32,0.36,0.99,0.5,0.21,0.374,42100,99,0.64,0.36]
[878,"Devon",5.48,4.8499999999999996,3.92,0.84,0.39,0.46,1.02,0.64,0.19,0.26,38300,104,0.48,0.52]
[371,"Doncaster",4.8499999999999996,4.8499999999999996,3.91,0.69,0.36,0.46,0.93,0.43,0.19,0.374,19300,33,0.79,0.21]
[835,"Dorset",6.79,4.88,3.7,0.79,0.43,0.42,0.99,0.61,0.23,0.26200000000000001,19500,125,0.36,0.63]
[332,"Dudley",4.5,4.8899999999999997,3.63,0.85,0.32,0.3,0.96,0.51,0.22,0.39899999999999997,19100,74,0.66,0.34]
[840,"Durham",4.8499999999999996,4.8499999999999996,4.04,0.73,0.39,0.35,0.95,0.42,0.21,0.42799999999999999,28900,50,0.77,0.22]
[307,"Ealing",".",5.53,4.3099999999999996,0.71,0.52,0.6,0.95,0.56000000000000005,0.09,0.33399999999999996,26200,64,0.74,0.24]
[811,"East Riding of Yorkshire",5.21,4.8499999999999996,3.91,0.87,0.39,0.45,1.03,0.55000000000000004,0.25,0.29799999999999999,16600,122,0.59,0.41]
[845,"East Sussex",5.21,4.8499999999999996,3.66,0.77,0.37,0.38,0.97,0.44,0.2,0.37200000000000005,28100,90,0.39,0.61]
[308,"Enfield",6,5.28,3.99,0.71,0.49,0.47,0.87,0.49,0.11,0.39799999999999996,25000,51,0.63,0.36]
[881,"Essex",5,5.0199999999999996,4.08,0.8,0.28999999999999998,0.36,0.98,0.53,0.21,0.33200000000000002,83600,119,0.42,0.57999999999999996]
[390,"Gateshead",4.8499999999999996,4.8499999999999996,4.1399999999999997,0.79,0.52,0.56000000000000005,0.96,0.34,0.19,0.34,11900,37,0.71,0.28000000000000003]
[916,"Gloucestershire",5.22,4.93,3.39,0.78,0,0,0.99,0.52,0.21,0.33700000000000002,34100,126,0.33,0.66]
[203,"Greenwich",6,6.07,4.6100000000000003,0.77,0.41,0.43,0.89,0.69,0.12,0.29299999999999998,21500,26,0.79,0.21]
[204,"Hackney",6.08,6.07,5.43,0.79,0.3,0.28999999999999998,0.96,0.56999999999999995,0.03,0.32600000000000001,19600,2,0.61,0.39]
[876,"Halton",4.95,4.93,3.69,0.69,0.14000000000000001,0.17,0.9,0.37,0.18,0.36200000000000004,8300,25,0.53,0.43]
[205,"Hammersmith and Fulham",".",6.07,".",0.66,0.48,0.59,0.93,0.53,0.18,0.32500000000000001,11900,46,0.6,0.39]
[850,"Hampshire",5.56,5.07,4.4400000000000004,0.81,0.39,0.42,0.96,0.59,0.24,0.28899999999999998,78700,139,0.35,0.64]
[309,"Haringey",5.39,5.28,4.68,0.62,0.48,0.43,0.9,0.5,0.13,0.36599999999999999,18300,12,0.78,0.21]
[310,"Harrow",5.53,5.53,4.1399999999999997,0.69,0.38,0.39,0.87,0.45,0.16,0.379,16600,117,0.56000000000000005,0.43]
[805,"Hartlepool",4.8499999999999996,4.8499999999999996,3.49,0.77,0.17,0.1,1,0.48,0.26,0.39899999999999997,5800,22,0.94,0.05]
[311,"Havering",".",5.28,4.1399999999999997,0.72,0.38,0.36,1.01,0.59,0.23,0.27300000000000002,14300,107,0.49,0.5]
[884,"Herefordshire",4.8499999999999996,4.8499999999999996,3.48,0.78,0.56000000000000005,0.63,0.96,0.55000000000000004,0.23,0.35100000000000003,9800,100,0.44,0.55000000000000004]
[919,"Hertfordshire",".",5.24,4.72,0.84,0.46,0.54,0.96,0.61,0.23,0.28800000000000003,76600,138,0.69,0.31]
[312,"Hillingdon",6,5.53,4.6500000000000004,0.69,0.4,0.47,0.98,0.41,0.16,0.36599999999999999,21000,92,0.75,0.23]
[313,"Hounslow",".",5.53,4.58,0.72,0.45,0.51,0.87,0.4,0.14000000000000001,0.37200000000000005,20800,82,0.71,0.27]
[921,"Isle of Wight",4.8899999999999997,5.07,3.87,0.82,0.24,0.31,0.97,0.45,0.14000000000000001,0.39200000000000002,6600,86,0.36,0.63]
[420,"Isles of Scilly",5.09,4.8499999999999996,4.7,1,0,0,1,1,"**",0.105,100,78,0.78,0.2]
[206,"Islington",9.99,6.07,4.62,0.76,0.65,0.81,0.98,0.44,0.14000000000000001,0.34200000000000003,12700,13,0.71,0.28000000000000003]
[207,"Kensington and Chelsea",".",6.07,5.89,0.77,0.65,0.81,0.79,0.48,0.12,0.36899999999999999,9100,73,0.56999999999999995,0.43]
[886,"Kent",4.8499999999999996,4.93,4.25,0.83,0.39,0.43,0.96,0.63,0.19,0.252,90800,101,0.41,0.57999999999999996]
[314,"Kingston upon Thames",6.2,5.53,3.87,0.84,0.51,0.57999999999999996,0.94,0.56999999999999995,0.22,0.28300000000000003,11500,137,0.66,0.34]
[382,"Kirklees",4.8499999999999996,4.8499999999999996,4.37,0.73,0.32,0.38,0.97,0.53,0.23,0.35,28700,62,0.66,0.34]
[340,"Knowsley",4.7,4.87,4.3099999999999996,0.77,0.59,0.72,0.99,0.55000000000000004,0.17,0.31900000000000001,9300,5,0.88,0.11]
[208,"Lambeth",".",6.07,5.88,0.7,0.52,0.54,0.91,0.46,0.14000000000000001,0.39600000000000002,21100,27,0.69,0.31]
[888,"Lancashire",4.78,4.8499999999999996,4.47,0.76,0.53,0.56000000000000005,0.98,0.59,0.24,0.33600000000000002,69200,79,0.53,0.46]
[383,"Leeds",4.8499999999999996,4.8499999999999996,4.1500000000000004,0.73,0.5,0.57999999999999996,0.99,0.51,0.23,0.44600000000000001,49500,55,0.7,0.28999999999999998]
[856,"Leicester",4.9000000000000004,4.8499999999999996,3.56,0.63,0.32,0.4,0.93,0.28000000000000003,0.09,0.37,25000,23,0.65,0.34]
[855,"Leicestershire",4.8499999999999996,4.8499999999999996,3.56,0.73,0.34,0.37,0.98,0.46,0.24,0.33500000000000002,36500,136,0.35,0.65]
[209,"Lewisham",6,6.07,5.41,0.71,0.42,0.43,0.86,0.68,0.11,0.25,22500,29,0.71,0.26]
[925,"Lincolnshire",6.61,4.8499999999999996,3.81,0.76,0.37,0.41,1.01,0.65,0.21,0.29600000000000004,38800,95,0.47,0.51]
[341,"Liverpool",4.9000000000000004,4.87,5.03,0.74,0.44,0.53,0.98,0.51,0.2,0.34899999999999998,27200,1,0.75,0.25]
[821,"Luton",5.09,5.03,4.76,0.79,0.3,0.35,0.96,0.47,0.09,0.38900000000000001,17000,56,0.53,0.46]
[352,"Manchester",4.8499999999999996,4.95,5.68,0.59,0.34,0.39,0.92,0.47,0.11,0.41100000000000003,37500,4,0.8,0.19]
[887,"Medway",4.8,4.88,3.91,0.69,0.28999999999999998,0.37,0.97,0.56999999999999995,0.19,0.33700000000000002,17800,88,0.54,0.45]
[315,"Merton",5.71,5.53,4.5999999999999996,0.77,0.45,0.56000000000000005,0.99,0.46,0.15,0.38900000000000001,15500,127,0.8,0.19]
[806,"Middlesbrough",".",4.8499999999999996,3.63,0.76,0.5,0.63,1.01,0.38,0.16,0.43700000000000006,9700,8,0.92,7.0000000000000007E-2]
[826,"Milton Keynes",5.09,5.34,4.0999999999999996,0.77,0.22,0.25,0.92,0.49,0.2,0.36200000000000004,20300,116,0.5,0.5]
[391,"Newcastle upon Tyne",4.8499999999999996,4.8499999999999996,4.57,0.82,0.38,0.49,0.95,0.44,0.21,0.371,16900,34,0.7,0.28000000000000003]
[316,"Newham",5.28,5.28,4.51,0.6,0.28999999999999998,0.23,1,0.55000000000000004,0.02,0.371,26700,3,0.83,0.16]
[926,"Norfolk",".",4.8499999999999996,3.63,0.78,0.31,0.35,0.97,0.46,0.17,0.36399999999999999,47600,97,0.51,0.48]
[812,"North East Lincolnshire",4.8899999999999997,4.8499999999999996,3.21,0.7,0.44,0.43,0.97,0.51,0.12,0.34899999999999998,10100,39,0.69,0.31]
[813,"North Lincolnshire",4.8499999999999996,4.8499999999999996,4.53,0.66,0.26,0.3,0.9,0.53,0.22,0.35499999999999998,10200,83,0.65,0.34]
[802,"North Somerset",5.56,5.07,3.99,0.77,0.5,0.5,0.98,0.64,0.28000000000000003,0.23,12000,120,0.42,0.57999999999999996]
[392,"North Tyneside",".",4.8499999999999996,3.55,0.86,0.46,0.5,1,0.48,0.22,0.36499999999999999,11800,80,0.84,0.14000000000000001]
[815,"North Yorkshire",5.14,4.8499999999999996,4.16,0.85,0.42,0.44,1,0.44,0.22,0.33299999999999996,31200,129,0.54,0.45]
[928,"Northamptonshire",4.74,4.9000000000000004,4.0999999999999996,0.76,0.38,0.42,0.97,0.5,0.19,0.35100000000000003,47100,102,0.51,0.48]
[929,"Northumberland",5.2,4.8499999999999996,3.83,0.75,0.48,0.55000000000000004,1,0.49,0.24,0.35499999999999998,16200,91,0.67,0.24]
[892,"Nottingham",5,4.88,4.13,0.63,0.38,0.4,0.96,0.4,0.18,0.38700000000000001,20400,18,0.77,0.2]
[891,"Nottinghamshire",".",4.88,3.77,0.72,0.36,0.4,0.98,0.56999999999999995,0.23,0.35100000000000003,46100,93,0.69,0.3]
[353,"Oldham",4.8499999999999996,4.95,4.0199999999999996,0.68,0.27,0.31,0.97,0.41,0.18,0.42899999999999999,16500,32,0.73,0.27]
[931,"Oxfordshire",5.1100000000000003,5.15,4.03,0.76,0.41,0.45,0.96,0.48,0.24,0.33,41700,133,0.53,0.46]
[874,"Peterborough",5.05,5.05,4.33,0.73,0.24,0.24,1,0.47,0.16,0.42700000000000005,14700,57,0.4,0.59]
[879,"Plymouth",5.09,4.8499999999999996,4.33,0.82,0.61,0.72,0.99,0.56999999999999995,0.19,0.33100000000000002,15700,58,0.48,0.51]
[836,"Poole",4.88,4.88,3.8,0.81,0.48,0.52,0.9,0.48,0.21,0.307,8700,114,0.4,0.6]
[851,"Portsmouth",4.8499999999999996,5.07,4.21,0.75,0.28000000000000003,0.31,0.94,0.55000000000000004,0.11,0.30099999999999999,13600,61,0.44,0.54]
[870,"Reading",5,5.36,4.3600000000000003,0.86,0.51,0.47,0.92,0.51,0.13,0.33299999999999996,12300,87,0.66,0.34]
[317,"Redbridge",6,5.28,3.76,0.8,0.35,0.39,0.94,0.6,0.14000000000000001,0.32,22200,89,0.63,0.35]
[807,"Redcar and Cleveland",9.68,4.8499999999999996,3.71,0.64,0.33,0.31,1.04,0.51,0.24,0.39899999999999997,7700,41,0.97,0.03]
[318,"Richmond upon Thames",6.1,5.53,3.68,0.84,0.67,0.72,0.97,0.43,0.24,0.29600000000000004,14500,143,0.48,0.52]
[354,"Rochdale",4.95,4.95,4.1900000000000004,0.72,0.27,0.28000000000000003,0.96,0.42,0.18,0.41,15000,21,0.66,0.34]
[372,"Rotherham",4.8499999999999996,4.8499999999999996,4.16,0.73,0.38,0.41,0.97,0.56000000000000005,0.2,0.35700000000000004,16000,45,0.74,0.25]
[857,"Rutland",4.8499999999999996,4.8499999999999996,4.01,0.78,0.17,0.17,1.07,0.56999999999999995,0.34,0.24100000000000002,1700,148,0.41,0.59]
[355,"Salford",4.8499999999999996,4.95,4.88,0.65,0.35,0.53,1,0.53,0.16,0.35200000000000004,16800,17,0.72,0.27]
[333,"Sandwell",4.8499999999999996,4.8899999999999997,3.57,0.68,0.22,0.25,0.94,0.46,0.14000000000000001,0.39700000000000002,23600,11,0.82,0.18]
[343,"Sefton",4.55,4.87,4.0999999999999996,0.8,0.42,0.46,1,0.51,0.24,0.317,14700,68,0.71,0.28000000000000003]
[373,"Sheffield",5.05,4.8499999999999996,3.95,0.7,0.46,0.52,0.93,0.51,0.18,0.41299999999999998,34300,47,0.64,0.35]
[893,"Shropshire",4.96,4.8499999999999996,3.48,0.82,0.21,0.22,0.98,0.52,0.19,0.30299999999999999,15700,113,0.51,0.47]
[871,"Slough",".",5.49,5.12,0.7,0.43,0.54,0.92,0.5,0.14000000000000001,0.371,13100,69,0.8,0.2]
[334,"Solihull",5,4.8899999999999997,2.99,0.76,0.35,0.44,1.1000000000000001,0.56000000000000005,0.28999999999999998,0.38900000000000001,11900,111,0.76,0.24]
[933,"Somerset",4.8499999999999996,4.8499999999999996,4,0.79,0.43,0.5,0.98,0.53,0.26,0.33600000000000002,29400,108,0.39,0.6]
[803,"South Gloucestershire",6.17,5.07,3.55,0.74,0.48,0.51,0.99,0.67,0.22,0.27500000000000002,16200,141,0.35,0.64]
[393,"South Tyneside",5.51,4.8499999999999996,3.94,0.63,0.5,0.45,0.93,0.5,0.23,0.36399999999999999,8300,44,0.89,0.11]
[852,"Southampton",4.8499999999999996,5.07,4.47,0.77,0.4,0.43,0.96,0.51,0.17,0.35899999999999999,15900,65,0.45,0.55000000000000004]
[882,"Southend-on-Sea",5.0999999999999996,4.8899999999999997,4.3,0.85,0.37,0.3,0.95,0.45,0.24,0.373,11400,76,0.51,0.48]
[210,"Southwark",8.36,6.07,5.8,0.72,0.56000000000000005,0.59,0.88,0.6,0.1,0.33200000000000002,21500,35,0.76,0.22]
[342,"St. Helens",4.8499999999999996,4.87,3.24,0.8,0.37,0.43,0.96,0.56999999999999995,0.19,0.38600000000000001,10600,43,0.68,0.32]
[860,"Staffordshire",4.8499999999999996,4.8499999999999996,3.34,0.84,0.38,0.37,0.97,0.54,0.21,0.35700000000000004,46200,112,0.56000000000000005,0.44]
[356,"Stockport",".",4.95,4.6100000000000003,0.75,0.48,0.56000000000000005,0.99,0.54,0.24,0.34299999999999997,17500,96,0.68,0.32]
[808,"Stockton-on-Tees",".",4.8499999999999996,3.88,0.73,0.32,0.49,0.98,0.41,0.24,0.41299999999999998,12500,71,0.9,0.09]
[861,"Stoke-on-Trent",".",4.8499999999999996,4.68,0.83,0.18,0.2,0.94,0.52,0.15,0.41499999999999998,17500,15,0.81,0.18]
[935,"Suffolk",".",4.8499999999999996,3.74,0.84,0.38,0.43,0.94,0.49,0.19,0.35600000000000004,42700,115,0.53,0.46]
[394,"Sunderland",4.84,4.8499999999999996,4.67,0.78,0.71,0.81,1.02,0.53,0.26,0.39399999999999996,15700,38,0.87,0.11]
[936,"Surrey",6,5.49,4.26,0.84,0.44,0.5,0.95,0.52,0.26,0.312,73200,147,0.43,0.56999999999999995]
[319,"Sutton",5.34,5.53,4.34,0.83,0.27,0.28999999999999998,0.92,0.41,0.17,0.34600000000000003,13400,118,0.68,0.32]
[866,"Swindon",4.95,4.97,3.85,0.72,0.28000000000000003,0.28999999999999998,0.96,0.55000000000000004,0.21,0.30399999999999999,14700,109,0.46,0.51]
[357,"Tameside",4.8499999999999996,4.95,3.31,0.65,0.39,0.43,0.97,0.42,0.18,0.35700000000000004,14800,36,0.72,0.27]
[894,"Telford & Wrekin",4.8499999999999996,4.8499999999999996,4.0599999999999996,0.79,0.38,0.41,0.96,0.45,0.18,0.373,11500,70,0.6,0.38]
[883,"Thurrock",4.8499999999999996,5.28,3.86,0.7,0.17,0.18,0.92,0.53,0.14000000000000001,0.32,12200,94,0.61,0.39]
[880,"Torbay",".",4.8499999999999996,3.99,0.92,0.41,0.47,1.05,0.51,"X",0.376,6900,49,0.61,0.38]
[211,"Tower Hamlets",6,6.07,5.47,0.72,0.28000000000000003,0.43,0.93,0.46,0.05,0.377,19900,7,0.82,0.18]
[358,"Trafford",".",4.95,3.55,0.79,0.49,0.59,0.97,0.61,0.25,0.30199999999999999,15100,103,0.7,0.28999999999999998]
[384,"Wakefield",4.8499999999999996,4.8499999999999996,4.08,0.68,0.44,0.51,1.01,0.56999999999999995,0.22,0.38299999999999995,20000,54,0.85,0.15]
[335,"Walsall",".",4.8899999999999997,4.0599999999999996,0.81,0.42,0.56000000000000005,0.96,0.46,0.19,0.40799999999999997,18600,28,0.85,0.14000000000000001]
[320,"Waltham Forest",6,5.28,4.45,0.69,0.45,0.48,0.91,0.56000000000000005,0.05,0.36299999999999999,21500,14,0.72,0.24]
[212,"Wandsworth",".",6.07,5.52,0.75,0.62,0.78,0.93,0.54,0.18,0.33600000000000002,22200,84,0.57999999999999996,0.41]
[877,"Warrington",".",4.93,3.85,0.73,0.38,0.41,1,0.45,0.32,0.375,12500,98,0.56999999999999995,0.43]
[937,"Warwickshire",4.95,4.9400000000000004,3.99,0.79,0.39,0.42,0.98,0.45,0.21,0.38100000000000001,31500,124,0.49,0.5]
[869,"West Berkshire",5.26,5.36,4.5,0.85,0.36,0.38,0.96,0.61,0.22,0.26500000000000001,10100,144,0.52,0.48]
[938,"West Sussex",4.8499999999999996,4.95,4.05,0.82,0.42,0.46,0.97,0.52,0.21,0.30399999999999999,47700,128,0.39,0.61]
[213,"Westminster",".",6.07,6.81,0.74,0.35,0.39,0.79,0.5,0.12,0.38700000000000001,13400,66,0.62,0.35]
[359,"Wigan",4.9000000000000004,4.95,3.69,0.75,0.05,0.04,0.92,0.38,0.23,0.41299999999999998,19600,52,0.6,0.39]
[865,"Wiltshire",5.67,4.97,3.88,0.75,0.48,0.49,0.93,0.52,0.25,0.317,28800,134,0.36,0.64]
[868,"Windsor and Maidenhead",5,5.49,4.3600000000000003,0.82,0.45,0.5,1,0.55000000000000004,0.22,0.26899999999999996,9400,146,0.48,0.51]
[344,"Wirral",4.8499999999999996,4.87,3.79,0.72,0.53,0.56000000000000005,1,0.47,0.25,0.39500000000000002,18900,48,0.56000000000000005,0.43]
[872,"Wokingham",5,5.36,3.74,0.88,0.56999999999999995,0.68,1,0.47,0.23,0.27200000000000002,10300,149,0.5,0.5]
[336,"Wolverhampton",".",4.8899999999999997,4.95,0.69,0.44,0.45,0.9,0.44,0.13,0.40799999999999997,17400,19,0.89,0.1]
[885,"Worcestershire",".",4.8499999999999996,3.43,0.85,0.46,0.54,1.02,0.49,0.26,0.34899999999999998,31500,110,0.46,0.53]
[816,"York",".",4.8499999999999996,3.6,0.83,0.4,0.44,1.03,0.56000000000000005,0.28999999999999998,0.313,10700,131,0.53,0.46]
[]
[]
["A. Note:  Some caution should be exercised when comparing take-up rates at local authority level."]
["    Please see technical notes for further information on population estimates and rates which exceed 100%"]
[]
["1. Funding information is as reported by local authorities in the section 251 budget statements 2013-14"]
["2. Some local authorities have included planned spend on two year olds within central spending and therefore specific figures for two year olds are not available"]
["3. The average hourly two-year-old rates for Wigan and Shropshire are different to those in their original s251 returns. They have confirmed since the return was submitted that the correct rates are £4.90 per hour and £4.96 per hour respectively. The England average rate has been recalculated accordingly"]
["4. The Department for Education provides LAs with an average funding rate of £5.09 per hour for statutory two-year-old entitlement places. This is adjusted for local area cost, within a range of £4.85-£7.08 per hour. In addition, trajectory building and capital funding has been provided to support roll-out of the new two-year-old programme."]
["      Further information about two year old allocations for 2013-14 is here: "]
["          http://webarchive.nationalarchives.gov.uk/20130903192841/http://www.education.gov.uk/childrenandyoungpeople/earlylearningandchildcare/delivery/free entitlement to early education/b0070114/eefortwoyearolds/la-funding-allocations"]
["     and for 2014-15 is here: "]
["          https://www.gov.uk/government/publications/la-allocations-for-early-learning-for-2-year-olds-2014-to-2015"]
["          https://www.gov.uk/government/publications/funding-for-learning-for-2-year-olds-letter-from-elizabeth-truss"]
["5. Hammersmith and Fulham's return shows an average rate of £604.77. This has been removed as an extreme outlier."]
["6. A small proportion of early years registered providers are inspected as part of a school inspection and are not included in these figures."]
["7. Based on inspections carried out since the introduction of the Early Years Foundation Stage in September 2008."]
["8. Private, Voluntary and Independent."]
["9. Qualified teacher status (QTS) is the accreditation that enables you to teach in state-maintained and special schools in England and Wales."]
["10. Early Years Professional Status (EYPS) is a professional accreditation endorsed by the government for graduate practitioners who have demonstrated a set of professional standards."]
["11. Count of children aged three or four at 31st December in the previous calendar year."]
["12. All children are eligible for a funded part-time place from 1 September, 1 January or 1 April following their third birthday for up to two years before they reach compulsory school age."]
["       A funded place currently consists of a minimum of 15 hours of early education per week for 38 weeks of the year."]
["13. Any child attending more than one provider will have only been counted once."]
["14. Early Years Foundation Stage Profile - outcomes at age five."]
["15. Percentage of children achieving a good level of development – those children achieving at least the expected level within the three prime areas of learning: communication and language, physical development and personal, social and emotional development"]
["       and the early learning goals within the literacy and mathematics areas of learning."]
["16. Only includes pupils with a valid result for every achievement scale."]
["17. The percentage gap between those eligible for Free School Meals and the rest (including unclassified) in achieving a good level of development."]
["18. The percentage gap in achieving a good level of development between the lowest 20 per cent of achieving children in a local authority (mean score), and the score of the median"]
["       child in the same authority expressed as a percentage of the same median score."]
["19. Population estimates for UK, England, Wales, Scotland and Northern Ireland, Mid-2012."]
["20. English Indices of Deprivation 2010 (where 1 is the most deprived)."]
["21. Figures for Isles of Scilly and Cornwall, Cheshire East and Cheshire West and Chester, Bedford Borough and Central Bedfordshire have been set to the rank of the old counties from which they were formed: Cornwall and Isles of Scilly, Cheshire and Bedfordshire."]
["22. Maintained settings refers to maintained nursery and state-funded primary schools. It does not include secondary schools or special schools."]
[". Not applicable"]
[".. Not available"]
["x Value suppressed to protect confidentiality"]
["Figures are rounded to the level of the source data on which they are based"]
[]
["Sources"]
[]
["Funding:"]
["Planned expenditure on schools, education, children and young people’s services by local authorities: financial year 2013 to 2014"]
["https://www.gov.uk/government/publications/planned-expenditure-on-schools-education-children-and-young-peoples-services-by-local-authorities-financial-year-2013-to-2014"]
[]
["Quality:"]
["Ofsted Early years and childcare registered providers inspections and outcomes - Sept 2012 to October 2013 - Provisional"]
["http://www.ofsted.gov.uk/resources/official-statistics-early-years-and-childcare-registered-providers-inspections-and-outcomes"]
[]
["Take Up and Qualifications:"]
["DfE: Provision for Children Under Five Years of Age in England - January 2013"]
["https://www.gov.uk/government/publications/provision-for-children-under-5-years-of-age-in-england-january-2013"]
[]
["Child Development (EYFSP):"]
["DfE: Early Years Foundation Stage Profile Results in England 2012/13"]
["https://www.gov.uk/government/publications/early-years-foundation-stage-profile-results-2012-to-2013"]
["DfE: Early Years Foundation Stage Profile Attainment by Pupil Characteristics in England, 2012/13"]
["https://www.gov.uk/government/publications/eyfsp-attainment-by-pupil-characteristics-2013"]
[]
["Context:"]
["Population Estimates for UK, England and Wales, Scotland and Northern Ireland, Mid-2012"]
["http://www.ons.gov.uk/ons/rel/pop-estimate/population-estimates-for-uk--england-and-wales--scotland-and-northern-ireland/mid-2011-and-mid-2012/index.html"]
["The English Indices of Deprivation 2010"]
["https://www.gov.uk/government/publications/english-indices-of-deprivation-2010"]
["DfE: Provision for Children Under Five Years of Age in England - January 2013"]
["https://www.gov.uk/government/publications/provision-for-children-under-5-years-of-age-in-england-january-2013"]

{"sheet":"3YO Take up","index":6,"n_rows":180,"n_cols":15,"rows_kept":180,"cut":false,"hidden":true,"merged":[[3,2,3,4],[3,5,3,7],[167,0,167,8]]}
["Early Years Benchmarking - Take Up1",null,null,null,null,null,null,null,null,null,null,null,null,null,"Return to contents"]
["Three year olds2,3 benefiting from funded early education",null,null,null,null,null,null,null,null,null,null,null,null,null,"Return to instructions"]
[{"$f":"'Early Years Table'!A2","v":"All LAs"}]
[null,null,"Number",null,null,"Percentage"]
[null,null,{"$f":"Data!R3","v":2011},{"$f":"Data!S3","v":2012},{"$f":"Data!T3","v":2013},{"$f":"Data!U3","v":2011},{"$f":"Data!V3","v":2012},{"$f":"Data!W3","v":2013}]
["England - Average (mean) or Total",null,{"$f":"Data!R157","v":604320},{"$f":"Data!S157","v":625440},{"$f":"Data!T157","v":625310},{"$f":"Data!U157","v":0.92},{"$f":"Data!V157","v":0.93},{"$f":"Data!W157","v":0.94}]
["England - Average (median)",null,{"$f":"Data!R158","v":3080},{"$f":"Data!S158","v":3165},{"$f":"Data!T158","v":3185},{"$f":"Data!U158","v":0.93},{"$f":"Data!V158","v":0.94},{"$f":"Data!W158","v":0.95}]
["England - Minimum",null,{"$f":"Data!R159","v":30},{"$f":"Data!S159","v":20},{"$f":"Data!T159","v":20},{"$f":"Data!U159","v":0.69},{"$f":"Data!V159","v":0.74},{"$f":"Data!W159","v":0.76}]
["England - Maximum",null,{"$f":"Data!R160","v":16250},{"$f":"Data!S160","v":16860},{"$f":"Data!T160","v":17090},{"$f":"Data!U160","v":1.65},{"$f":"Data!V160","v":1.3},{"$f":"Data!W160","v":1.4}]
["Selection - Average (median)",null,{"$f":"MEDIAN(C13:C164)","v":3080},3165,3185,0.93,0.94,0.95]
["Selection - Minimum",null,{"$f":"MIN(C13:C164)","v":30},20,20,0.69,0.74,0.76]
["Selection - Maximum",null,{"$f":"MAX(C13:C164)","v":16250},16860,17090,1.65,1.3,1.4]
[{"$f":"IF('Early Years Table'!A13=\"\",\"\",IF(ISBLANK('Early Years Table'!A13),\"\",'Early Years Table'!A13))","v":301},{"$f":"IF($A13=\"\",\"\",IF(ISBLANK($A13),\"\",INDEX('LEA Nos codes'!$A$3:$A$154,MATCH($A13,'LEA Nos codes'!$B$3:$B$154,0))))","v":"Barking and Dagenham"},{"$f":"IF($A13=\"\",\"\",IF(ISBLANK($A13),\"\",VLOOKUP($A13,Data!$A$4:$AI$155,18,FALSE)))","v":2580},{"$f":"IF($A13=\"\",\"\",IF(ISBLANK($A13),\"\",VLOOKUP($A13,Data!$A$4:$AI$155,19,FALSE)))","v":2980},{"$f":"IF($A13=\"\",\"\",IF(ISBLANK($A13),\"\",VLOOKUP($A13,Data!$A$4:$AI$155,20,FALSE)))","v":3100},{"$f":"IF($A13=\"\",\"\",IF(ISBLANK($A13),\"\",VLOOKUP($A13,Data!$A$4:$AI$155,21,FALSE)))","v":0.69},{"$f":"IF($A13=\"\",\"\",IF(ISBLANK($A13),\"\",VLOOKUP($A13,Data!$A$4:$AI$155,22,FALSE)))","v":0.78},{"$f":"IF($A13=\"\",\"\",IF(ISBLANK($A13),\"\",VLOOKUP($A13,Data!$A$4:$AI$155,23,FALSE)))","v":0.82}]
[{"$f":"IF('Early Years Table'!A14=\"\",\"\",IF(ISBLANK('Early Years Table'!A14),\"\",'Early Years Table'!A14))","v":302},{"$f":"IF($A14=\"\",\"\",IF(ISBLANK($A14),\"\",INDEX('LEA Nos codes'!$A$3:$A$154,MATCH($A14,'LEA Nos codes'!$B$3:$B$154,0))))","v":"Barnet"},{"$f":"IF($A14=\"\",\"\",IF(ISBLANK($A14),\"\",VLOOKUP($A14,Data!$A$4:$AI$155,18,FALSE)))","v":4100},{"$f":"IF($A14=\"\",\"\",IF(ISBLANK($A14),\"\",VLOOKUP($A14,Data!$A$4:$AI$155,19,FALSE)))","v":4340},{"$f":"IF($A14=\"\",\"\",IF(ISBLANK($A14),\"\",VLOOKUP($A14,Data!$A$4:$AI$155,20,FALSE)))","v":4320},{"$f":"IF($A14=\"\",\"\",IF(ISBLANK($A14),\"\",VLOOKUP($A14,Data!$A$4:$AI$155,21,FALSE)))","v":0.8},{"$f":"IF($A14=\"\",\"\",IF(ISBLANK($A14),\"\",VLOOKUP($A14,Data!$A$4:$AI$155,22,FALSE)))","v":0.82},{"$f":"IF($A14=\"\",\"\",IF(ISBLANK($A14),\"\",VLOOKUP($A14,Data!$A$4:$AI$155,23,FALSE)))","v":0.82}]
[{"$f":"IF('Early Years Table'!A15=\"\",\"\",IF(ISBLANK('Early Years Table'!A15),\"\",'Early Years Table'!A15))","v":370},{"$f":"IF($A15=\"\",\"\",IF(ISBLANK($A15),\"\",INDEX('LEA Nos codes'!$A$3:$A$154,MATCH($A15,'LEA Nos codes'!$B$3:$B$154,0))))","v":"Barnsley"},{"$f":"IF($A15=\"\",\"\",IF(ISBLANK($A15),\"\",VLOOKUP($A15,Data!$A$4:$AI$155,18,FALSE)))","v":2650},{"$f":"IF($A15=\"\",\"\",IF(ISBLANK($A15),\"\",VLOOKUP($A15,Data!$A$4:$AI$155,19,FALSE)))","v":2710},{"$f":"IF($A15=\"\",\"\",IF(ISBLANK($A15),\"\",VLOOKUP($A15,Data!$A$4:$AI$155,20,FALSE)))","v":2720},{"$f":"IF($A15=\"\",\"\",IF(ISBLANK($A15),\"\",VLOOKUP($A15,Data!$A$4:$AI$155,21,FALSE)))","v":0.96},{"$f":"IF($A15=\"\",\"\",IF(ISBLANK($A15),\"\",VLOOKUP($A15,Data!$A$4:$AI$155,22,FALSE)))","v":0.97},{"$f":"IF($A15=\"\",\"\",IF(ISBLANK($A15),\"\",VLOOKUP($A15,Data!$A$4:$AI$155,23,FALSE)))","v":0.97}]
[{"$f":"IF('Early Years Table'!A16=\"\",\"\",IF(ISBLANK('Early Years Table'!A16),\"\",'Early Years Table'!A16))","v":800},{"$f":"IF($A16=\"\",\"\",IF(ISBLANK($A16),\"\",INDEX('LEA Nos codes'!$A$3:$A$154,MATCH($A16,'LEA Nos codes'!$B$3:$B$154,0))))","v":"Bath & North East Somerset"},{"$f":"IF($A16=\"\",\"\",IF(ISBLANK($A16),\"\",VLOOKUP($A16,Data!$A$4:$AI$155,18,FALSE)))","v":1920},{"$f":"IF($A16=\"\",\"\",IF(ISBLANK($A16),\"\",VLOOKUP($A16,Data!$A$4:$AI$155,19,FALSE)))","v":1910},{"$f":"IF($A16=\"\",\"\",IF(ISBLANK($A16),\"\",VLOOKUP($A16,Data!$A$4:$AI$155,20,FALSE)))","v":1850},{"$f":"IF($A16=\"\",\"\",IF(ISBLANK($A16),\"\",VLOOKUP($A16,Data!$A$4:$AI$155,21,FALSE)))","v":1.03},{"$f":"IF($A16=\"\",\"\",IF(ISBLANK($A16),\"\",VLOOKUP($A16,Data!$A$4:$AI$155,22,FALSE)))","v":1.04},{"$f":"IF($A16=\"\",\"\",IF(ISBLANK($A16),\"\",VLOOKUP($A16,Data!$A$4:$AI$155,23,FALSE)))","v":1.02}]
[{"$f":"IF('Early Years Table'!A17=\"\",\"\",IF(ISBLANK('Early Years Table'!A17),\"\",'Early Years Table'!A17))","v":822},{"$f":"IF($A17=\"\",\"\",IF(ISBLANK($A17),\"\",INDEX('LEA Nos codes'!$A$3:$A$154,MATCH($A17,'LEA Nos codes'!$B$3:$B$154,0))))","v":"Bedford Borough"},{"$f":"IF($A17=\"\",\"\",IF(ISBLANK($A17),\"\",VLOOKUP($A17,Data!$A$4:$AI$155,18,FALSE)))","v":1880},{"$f":"IF($A17=\"\",\"\",IF(ISBLANK($A17),\"\",VLOOKUP($A17,Data!$A$4:$AI$155,19,FALSE)))","v":2090},{"$f":"IF($A17=\"\",\"\",IF(ISBLANK($A17),\"\",VLOOKUP($A17,Data!$A$4:$AI$155,20,FALSE)))","v":2210},{"$f":"IF($A17=\"\",\"\",IF(ISBLANK($A17),\"\",VLOOKUP($A17,Data!$A$4:$AI$155,21,FALSE)))","v":0.97},{"$f":"IF($A17=\"\",\"\",IF(ISBLANK($A17),\"\",VLOOKUP($A17,Data!$A$4:$AI$155,22,FALSE)))","v":1.01},{"$f":"IF($A17=\"\",\"\",IF(ISBLANK($A17),\"\",VLOOKUP($A17,Data!$A$4:$AI$155,23,FALSE)))","v":1.05}]
[{"$f":"IF('Early Years Table'!A18=\"\",\"\",IF(ISBLANK('Early Years Table'!A18),\"\",'Early Years Table'!A18))","v":303},{"$f":"IF($A18=\"\",\"\",IF(ISBLANK($A18),\"\",INDEX('LEA Nos codes'!$A$3:$A$154,MATCH($A18,'LEA Nos codes'!$B$3:$B$154,0))))","v":"Bexley"},{"$f":"IF($A18=\"\",\"\",IF(ISBLANK($A18),\"\",VLOOKUP($A18,Data!$A$4:$AI$155,18,FALSE)))","v":2770},{"$f":"IF($A18=\"\",\"\",IF(ISBLANK($A18),\"\",VLOOKUP($A18,Data!$A$4:$AI$155,19,FALSE)))","v":2810},{"$f":"IF($A18=\"\",\"\",IF(ISBLANK($A18),\"\",VLOOKUP($A18,Data!$A$4:$AI$155,20,FALSE)))","v":2870},{"$f":"IF($A18=\"\",\"\",IF(ISBLANK($A18),\"\",VLOOKUP($A18,Data!$A$4:$AI$155,21,FALSE)))","v":0.9},{"$f":"IF($A18=\"\",\"\",IF(ISBLANK($A18),\"\",VLOOKUP($A18,Data!$A$4:$AI$155,22,FALSE)))","v":0.9},{"$f":"IF($A18=\"\",\"\",IF(ISBLANK($A18),\"\",VLOOKUP($A18,Data!$A$4:$AI$155,23,FALSE)))","v":0.94}]
[{"$f":"IF('Early Years Table'!A19=\"\",\"\",IF(ISBLANK('Early Years Table'!A19),\"\",'Early Years Table'!A19))","v":330},{"$f":"IF($A19=\"\",\"\",IF(ISBLANK($A19),\"\",INDEX('LEA Nos codes'!$A$3:$A$154,MATCH($A19,'LEA Nos codes'!$B$3:$B$154,0))))","v":"Birmingham"},{"$f":"IF($A19=\"\",\"\",IF(ISBLANK($A19),\"\",VLOOKUP($A19,Data!$A$4:$AI$155,18,FALSE)))","v":13350},{"$f":"IF($A19=\"\",\"\",IF(ISBLANK($A19),\"\",VLOOKUP($A19,Data!$A$4:$AI$155,19,FALSE)))","v":14060},{"$f":"IF($A19=\"\",\"\",IF(ISBLANK($A19),\"\",VLOOKUP($A19,Data!$A$4:$AI$155,20,FALSE)))","v":14280},{"$f":"IF($A19=\"\",\"\",IF(ISBLANK($A19),\"\",VLOOKUP($A19,Data!$A$4:$AI$155,21,FALSE)))","v":0.82},{"$f":"IF($A19=\"\",\"\",IF(ISBLANK($A19),\"\",VLOOKUP($A19,Data!$A$4:$AI$155,22,FALSE)))","v":0.84},{"$f":"IF($A19=\"\",\"\",IF(ISBLANK($A19),\"\",VLOOKUP($A19,Data!$A$4:$AI$155,23,FALSE)))","v":0.87}]
[{"$f":"IF('Early Years Table'!A20=\"\",\"\",IF(ISBLANK('Early Years Table'!A20),\"\",'Early Years Table'!A20))","v":889},{"$f":"IF($A20=\"\",\"\",IF(ISBLANK($A20),\"\",INDEX('LEA Nos codes'!$A$3:$A$154,MATCH($A20,'LEA Nos codes'!$B$3:$B$154,0))))","v":"Blackburn with Darwen"},{"$f":"IF($A20=\"\",\"\",IF(ISBLANK($A20),\"\",VLOOKUP($A20,Data!$A$4:$AI$155,18,FALSE)))","v":2020},{"$f":"IF($A20=\"\",\"\",IF(ISBLANK($A20),\"\",VLOOKUP($A20,Data!$A$4:$AI$155,19,FALSE)))","v":2020},{"$f":"IF($A20=\"\",\"\",IF(ISBLANK($A20),\"\",VLOOKUP($A20,Data!$A$4:$AI$155,20,FALSE)))","v":2090},{"$f":"IF($A20=\"\",\"\",IF(ISBLANK($A20),\"\",VLOOKUP($A20,Data!$A$4:$AI$155,21,FALSE)))","v":0.89},{"$f":"IF($A20=\"\",\"\",IF(ISBLANK($A20),\"\",VLOOKUP($A20,Data!$A$4:$AI$155,22,FALSE)))","v":0.88},{"$f":"IF($A20=\"\",\"\",IF(ISBLANK($A20),\"\",VLOOKUP($A20,Data!$A$4:$AI$155,23,FALSE)))","v":0.93}]
[{"$f":"IF('Early Years Table'!A21=\"\",\"\",IF(ISBLANK('Early Years Table'!A21),\"\",'Early Years Table'!A21))","v":890},{"$f":"IF($A21=\"\",\"\",IF(ISBLANK($A21),\"\",INDEX('LEA Nos codes'!$A$3:$A$154,MATCH($A21,'LEA Nos codes'!$B$3:$B$154,0))))","v":"Blackpool"},{"$f":"IF($A21=\"\",\"\",IF(ISBLANK($A21),\"\",VLOOKUP($A21,Data!$A$4:$AI$155,18,FALSE)))","v":1570},{"$f":"IF($A21=\"\",\"\",IF(ISBLANK($A21),\"\",VLOOKUP($A21,Data!$A$4:$AI$155,19,FALSE)))","v":1660},{"$f":"IF($A21=\"\",\"\",IF(ISBLANK($A21),\"\",VLOOKUP($A21,Data!$A$4:$AI$155,20,FALSE)))","v":1490},{"$f":"IF($A21=\"\",\"\",IF(ISBLANK($A21),\"\",VLOOKUP($A21,Data!$A$4:$AI$155,21,FALSE)))","v":0.96},{"$f":"IF($A21=\"\",\"\",IF(ISBLANK($A21),\"\",VLOOKUP($A21,Data!$A$4:$AI$155,22,FALSE)))","v":0.99},{"$f":"IF($A21=\"\",\"\",IF(ISBLANK($A21),\"\",VLOOKUP($A21,Data!$A$4:$AI$155,23,FALSE)))","v":0.89}]
[{"$f":"IF('Early Years Table'!A22=\"\",\"\",IF(ISBLANK('Early Years Table'!A22),\"\",'Early Years Table'!A22))","v":350},{"$f":"IF($A22=\"\",\"\",IF(ISBLANK($A22),\"\",INDEX('LEA Nos codes'!$A$3:$A$154,MATCH($A22,'LEA Nos codes'!$B$3:$B$154,0))))","v":"Bolton"},{"$f":"IF($A22=\"\",\"\",IF(ISBLANK($A22),\"\",VLOOKUP($A22,Data!$A$4:$AI$155,18,FALSE)))","v":3470},{"$f":"IF($A22=\"\",\"\",IF(ISBLANK($A22),\"\",VLOOKUP($A22,Data!$A$4:$AI$155,19,FALSE)))","v":3710},{"$f":"IF($A22=\"\",\"\",IF(ISBLANK($A22),\"\",VLOOKUP($A22,Data!$A$4:$AI$155,20,FALSE)))","v":3670},{"$f":"IF($A22=\"\",\"\",IF(ISBLANK($A22),\"\",VLOOKUP($A22,Data!$A$4:$AI$155,21,FALSE)))","v":0.93},{"$f":"IF($A22=\"\",\"\",IF(ISBLANK($A22),\"\",VLOOKUP($A22,Data!$A$4:$AI$155,22,FALSE)))","v":0.99},{"$f":"IF($A22=\"\",\"\",IF(ISBLANK($A22),\"\",VLOOKUP($A22,Data!$A$4:$AI$155,23,FALSE)))","v":0.96}]
[{"$f":"IF('Early Years Table'!A23=\"\",\"\",IF(ISBLANK('Early Years Table'!A23),\"\",'Early Years Table'!A23))","v":837},{"$f":"IF($A23=\"\",\"\",IF(ISBLANK($A23),\"\",INDEX('LEA Nos codes'!$A$3:$A$154,MATCH($A23,'LEA Nos codes'!$B$3:$B$154,0))))","v":"Bournemouth"},{"$f":"IF($A23=\"\",\"\",IF(ISBLANK($A23),\"\",VLOOKUP($A23,Data!$A$4:$AI$155,18,FALSE)))","v":1870},{"$f":"IF($A23=\"\",\"\",IF(ISBLANK($A23),\"\",VLOOKUP($A23,Data!$A$4:$AI$155,19,FALSE)))","v":1990},{"$f":"IF($A23=\"\",\"\",IF(ISBLANK($A23),\"\",VLOOKUP($A23,Data!$A$4:$AI$155,20,FALSE)))","v":2020},{"$f":"IF($A23=\"\",\"\",IF(ISBLANK($A23),\"\",VLOOKUP($A23,Data!$A$4:$AI$155,21,FALSE)))","v":0.97},{"$f":"IF($A23=\"\",\"\",IF(ISBLANK($A23),\"\",VLOOKUP($A23,Data!$A$4:$AI$155,22,FALSE)))","v":0.96},{"$f":"IF($A23=\"\",\"\",IF(ISBLANK($A23),\"\",VLOOKUP($A23,Data!$A$4:$AI$155,23,FALSE)))","v":0.99}]
[{"$f":"IF('Early Years Table'!A24=\"\",\"\",IF(ISBLANK('Early Years Table'!A24),\"\",'Early Years Table'!A24))","v":867},{"$f":"IF($A24=\"\",\"\",IF(ISBLANK($A24),\"\",INDEX('LEA Nos codes'!$A$3:$A$154,MATCH($A24,'LEA Nos codes'!$B$3:$B$154,0))))","v":"Bracknell Forest"},{"$f":"IF($A24=\"\",\"\",IF(ISBLANK($A24),\"\",VLOOKUP($A24,Data!$A$4:$AI$155,18,FALSE)))","v":1420},{"$f":"IF($A24=\"\",\"\",IF(ISBLANK($A24),\"\",VLOOKUP($A24,Data!$A$4:$AI$155,19,FALSE)))","v":1510},{"$f":"IF($A24=\"\",\"\",IF(ISBLANK($A24),\"\",VLOOKUP($A24,Data!$A$4:$AI$155,20,FALSE)))","v":1440},{"$f":"IF($A24=\"\",\"\",IF(ISBLANK($A24),\"\",VLOOKUP($A24,Data!$A$4:$AI$155,21,FALSE)))","v":0.91},{"$f":"IF($A24=\"\",\"\",IF(ISBLANK($A24),\"\",VLOOKUP($A24,Data!$A$4:$AI$155,22,FALSE)))","v":0.92},{"$f":"IF($A24=\"\",\"\",IF(ISBLANK($A24),\"\",VLOOKUP($A24,Data!$A$4:$AI$155,23,FALSE)))","v":0.87}]
[{"$f":"IF('Early Years Table'!A25=\"\",\"\",IF(ISBLANK('Early Years Table'!A25),\"\",'Early Years Table'!A25))","v":380},{"$f":"IF($A25=\"\",\"\",IF(ISBLANK($A25),\"\",INDEX('LEA Nos codes'!$A$3:$A$154,MATCH($A25,'LEA Nos codes'!$B$3:$B$154,0))))","v":"Bradford"},{"$f":"IF($A25=\"\",\"\",IF(ISBLANK($A25),\"\",VLOOKUP($A25,Data!$A$4:$AI$155,18,FALSE)))","v":7330},{"$f":"IF($A25=\"\",\"\",IF(ISBLANK($A25),\"\",VLOOKUP($A25,Data!$A$4:$AI$155,19,FALSE)))","v":7770},{"$f":"IF($A25=\"\",\"\",IF(ISBLANK($A25),\"\",VLOOKUP($A25,Data!$A$4:$AI$155,20,FALSE)))","v":7700},{"$f":"IF($A25=\"\",\"\",IF(ISBLANK($A25),\"\",VLOOKUP($A25,Data!$A$4:$AI$155,21,FALSE)))","v":0.89},{"$f":"IF($A25=\"\",\"\",IF(ISBLANK($A25),\"\",VLOOKUP($A25,Data!$A$4:$AI$155,22,FALSE)))","v":0.93},{"$f":"IF($A25=\"\",\"\",IF(ISBLANK($A25),\"\",VLOOKUP($A25,Data!$A$4:$AI$155,23,FALSE)))","v":0.93}]
[{"$f":"IF('Early Years Table'!A26=\"\",\"\",IF(ISBLANK('Early Years Table'!A26),\"\",'Early Years Table'!A26))","v":304},{"$f":"IF($A26=\"\",\"\",IF(ISBLANK($A26),\"\",INDEX('LEA Nos codes'!$A$3:$A$154,MATCH($A26,'LEA Nos codes'!$B$3:$B$154,0))))","v":"Brent"},{"$f":"IF($A26=\"\",\"\",IF(ISBLANK($A26),\"\",VLOOKUP($A26,Data!$A$4:$AI$155,18,FALSE)))","v":3310},{"$f":"IF($A26=\"\",\"\",IF(ISBLANK($A26),\"\",VLOOKUP($A26,Data!$A$4:$AI$155,19,FALSE)))","v":3510},{"$f":"IF($A26=\"\",\"\",IF(ISBLANK($A26),\"\",VLOOKUP($A26,Data!$A$4:$AI$155,20,FALSE)))","v":3690},{"$f":"IF($A26=\"\",\"\",IF(ISBLANK($A26),\"\",VLOOKUP($A26,Data!$A$4:$AI$155,21,FALSE)))","v":0.76},{"$f":"IF($A26=\"\",\"\",IF(ISBLANK($A26),\"\",VLOOKUP($A26,Data!$A$4:$AI$155,22,FALSE)))","v":0.79},{"$f":"IF($A26=\"\",\"\",IF(ISBLANK($A26),\"\",VLOOKUP($A26,Data!$A$4:$AI$155,23,FALSE)))","v":0.84}]
[{"$f":"IF('Early Years Table'!A27=\"\",\"\",IF(ISBLANK('Early Years Table'!A27),\"\",'Early Years Table'!A27))","v":846},{"$f":"IF($A27=\"\",\"\",IF(ISBLANK($A27),\"\",INDEX('LEA Nos codes'!$A$3:$A$154,MATCH($A27,'LEA Nos codes'!$B$3:$B$154,0))))","v":"Brighton and Hove"},{"$f":"IF($A27=\"\",\"\",IF(ISBLANK($A27),\"\",VLOOKUP($A27,Data!$A$4:$AI$155,18,FALSE)))","v":2990},{"$f":"IF($A27=\"\",\"\",IF(ISBLANK($A27),\"\",VLOOKUP($A27,Data!$A$4:$AI$155,19,FALSE)))","v":3040},{"$f":"IF($A27=\"\",\"\",IF(ISBLANK($A27),\"\",VLOOKUP($A27,Data!$A$4:$AI$155,20,FALSE)))","v":3050},{"$f":"IF($A27=\"\",\"\",IF(ISBLANK($A27),\"\",VLOOKUP($A27,Data!$A$4:$AI$155,21,FALSE)))","v":1},{"$f":"IF($A27=\"\",\"\",IF(ISBLANK($A27),\"\",VLOOKUP($A27,Data!$A$4:$AI$155,22,FALSE)))","v":1.01},{"$f":"IF($A27=\"\",\"\",IF(ISBLANK($A27),\"\",VLOOKUP($A27,Data!$A$4:$AI$155,23,FALSE)))","v":1.04}]
[{"$f":"IF('Early Years Table'!A28=\"\",\"\",IF(ISBLANK('Early Years Table'!A28),\"\",'Early Years Table'!A28))","v":305},{"$f":"IF($A28=\"\",\"\",IF(ISBLANK($A28),\"\",INDEX('LEA Nos codes'!$A$3:$A$154,MATCH($A28,'LEA Nos codes'!$B$3:$B$154,0))))","v":"Bromley"},{"$f":"IF($A28=\"\",\"\",IF(ISBLANK($A28),\"\",VLOOKUP($A28,Data!$A$4:$AI$155,18,FALSE)))","v":3760},{"$f":"IF($A28=\"\",\"\",IF(ISBLANK($A28),\"\",VLOOKUP($A28,Data!$A$4:$AI$155,19,FALSE)))","v":3920},{"$f":"IF($A28=\"\",\"\",IF(ISBLANK($A28),\"\",VLOOKUP($A28,Data!$A$4:$AI$155,20,FALSE)))","v":4010},{"$f":"IF($A28=\"\",\"\",IF(ISBLANK($A28),\"\",VLOOKUP($A28,Data!$A$4:$AI$155,21,FALSE)))","v":0.94},{"$f":"IF($A28=\"\",\"\",IF(ISBLANK($A28),\"\",VLOOKUP($A28,Data!$A$4:$AI$155,22,FALSE)))","v":0.97},{"$f":"IF($A28=\"\",\"\",IF(ISBLANK($A28),\"\",VLOOKUP($A28,Data!$A$4:$AI$155,23,FALSE)))","v":0.97}]
[{"$f":"IF('Early Years Table'!A29=\"\",\"\",IF(ISBLANK('Early Years Table'!A29),\"\",'Early Years Table'!A29))","v":825},{"$f":"IF($A29=\"\",\"\",IF(ISBLANK($A29),\"\",INDEX('LEA Nos codes'!$A$3:$A$154,MATCH($A29,'LEA Nos codes'!$B$3:$B$154,0))))","v":"Buckinghamshire"},{"$f":"IF($A29=\"\",\"\",IF(ISBLANK($A29),\"\",VLOOKUP($A29,Data!$A$4:$AI$155,18,FALSE)))","v":5890},{"$f":"IF($A29=\"\",\"\",IF(ISBLANK($A29),\"\",VLOOKUP($A29,Data!$A$4:$AI$155,19,FALSE)))","v":6160},{"$f":"IF($A29=\"\",\"\",IF(ISBLANK($A29),\"\",VLOOKUP($A29,Data!$A$4:$AI$155,20,FALSE)))","v":6160},{"$f":"IF($A29=\"\",\"\",IF(ISBLANK($A29),\"\",VLOOKUP($A29,Data!$A$4:$AI$155,21,FALSE)))","v":0.92},{"$f":"IF($A29=\"\",\"\",IF(ISBLANK($A29),\"\",VLOOKUP($A29,Data!$A$4:$AI$155,22,FALSE)))","v":0.94},{"$f":"IF($A29=\"\",\"\",IF(ISBLANK($A29),\"\",VLOOKUP($A29,Data!$A$4:$AI$155,23,FALSE)))","v":0.96}]
[{"$f":"IF('Early Years Table'!A30=\"\",\"\",IF(ISBLANK('Early Years Table'!A30),\"\",'Early Years Table'!A30))","v":351},{"$f":"IF($A30=\"\",\"\",IF(ISBLANK($A30),\"\",INDEX('LEA Nos codes'!$A$3:$A$154,MATCH($A30,'LEA Nos codes'!$B$3:$B$154,0))))","v":"Bury"},{"$f":"IF($A30=\"\",\"\",IF(ISBLANK($A30),\"\",VLOOKUP($A30,Data!$A$4:$AI$155,18,FALSE)))","v":2220},{"$f":"IF($A30=\"\",\"\",IF(ISBLANK($A30),\"\",VLOOKUP($A30,Data!$A$4:$AI$155,19,FALSE)))","v":2300},{"$f":"IF($A30=\"\",\"\",IF(ISBLANK($A30),\"\",VLOOKUP($A30,Data!$A$4:$AI$155,20,FALSE)))","v":2310},{"$f":"IF($A30=\"\",\"\",IF(ISBLANK($A30),\"\",VLOOKUP($A30,Data!$A$4:$AI$155,21,FALSE)))","v":0.92},{"$f":"IF($A30=\"\",\"\",IF(ISBLANK($A30),\"\",VLOOKUP($A30,Data!$A$4:$AI$155,22,FALSE)))","v":0.93},{"$f":"IF($A30=\"\",\"\",IF(ISBLANK($A30),\"\",VLOOKUP($A30,Data!$A$4:$AI$155,23,FALSE)))","v":0.95}]
[{"$f":"IF('Early Years Table'!A31=\"\",\"\",IF(ISBLANK('Early Years Table'!A31),\"\",'Early Years Table'!A31))","v":381},{"$f":"IF($A31=\"\",\"\",IF(ISBLANK($A31),\"\",INDEX('LEA Nos codes'!$A$3:$A$154,MATCH($A31,'LEA Nos codes'!$B$3:$B$154,0))))","v":"Calderdale"},{"$f":"IF($A31=\"\",\"\",IF(ISBLANK($A31),\"\",VLOOKUP($A31,Data!$A$4:$AI$155,18,FALSE)))","v":2500},{"$f":"IF($A31=\"\",\"\",IF(ISBLANK($A31),\"\",VLOOKUP($A31,Data!$A$4:$AI$155,19,FALSE)))","v":2720},{"$f":"IF($A31=\"\",\"\",IF(ISBLANK($A31),\"\",VLOOKUP($A31,Data!$A$4:$AI$155,20,FALSE)))","v":2640},{"$f":"IF($A31=\"\",\"\",IF(ISBLANK($A31),\"\",VLOOKUP($A31,Data!$A$4:$AI$155,21,FALSE)))","v":0.97},{"$f":"IF($A31=\"\",\"\",IF(ISBLANK($A31),\"\",VLOOKUP($A31,Data!$A$4:$AI$155,22,FALSE)))","v":1.04},{"$f":"IF($A31=\"\",\"\",IF(ISBLANK($A31),\"\",VLOOKUP($A31,Data!$A$4:$AI$155,23,FALSE)))","v":1.01}]
[{"$f":"IF('Early Years Table'!A32=\"\",\"\",IF(ISBLANK('Early Years Table'!A32),\"\",'Early Years Table'!A32))","v":873},{"$f":"IF($A32=\"\",\"\",IF(ISBLANK($A32),\"\",INDEX('LEA Nos codes'!$A$3:$A$154,MATCH($A32,'LEA Nos codes'!$B$3:$B$154,0))))","v":"Cambridgeshire"},{"$f":"IF($A32=\"\",\"\",IF(ISBLANK($A32),\"\",VLOOKUP($A32,Data!$A$4:$AI$155,18,FALSE)))","v":6880},{"$f":"IF($A32=\"\",\"\",IF(ISBLANK($A32),\"\",VLOOKUP($A32,Data!$A$4:$AI$155,19,FALSE)))","v":7200},{"$f":"IF($A32=\"\",\"\",IF(ISBLANK($A32),\"\",VLOOKUP($A32,Data!$A$4:$AI$155,20,FALSE)))","v":7090},{"$f":"IF($A32=\"\",\"\",IF(ISBLANK($A32),\"\",VLOOKUP($A32,Data!$A$4:$AI$155,21,FALSE)))","v":0.95},{"$f":"IF($A32=\"\",\"\",IF(ISBLANK($A32),\"\",VLOOKUP($A32,Data!$A$4:$AI$155,22,FALSE)))","v":0.96},{"$f":"IF($A32=\"\",\"\",IF(ISBLANK($A32),\"\",VLOOKUP($A32,Data!$A$4:$AI$155,23,FALSE)))","v":0.95}]
[{"$f":"IF('Early Years Table'!A33=\"\",\"\",IF(ISBLANK('Early Years Table'!A33),\"\",'Early Years Table'!A33))","v":202},{"$f":"IF($A33=\"\",\"\",IF(ISBLANK($A33),\"\",INDEX('LEA Nos codes'!$A$3:$A$154,MATCH($A33,'LEA Nos codes'!$B$3:$B$154,0))))","v":"Camden"},{"$f":"IF($A33=\"\",\"\",IF(ISBLANK($A33),\"\",VLOOKUP($A33,Data!$A$4:$AI$155,18,FALSE)))","v":2110},{"$f":"IF($A33=\"\",\"\",IF(ISBLANK($A33),\"\",VLOOKUP($A33,Data!$A$4:$AI$155,19,FALSE)))","v":1910},{"$f":"IF($A33=\"\",\"\",IF(ISBLANK($A33),\"\",VLOOKUP($A33,Data!$A$4:$AI$155,20,FALSE)))","v":2060},{"$f":"IF($A33=\"\",\"\",IF(ISBLANK($A33),\"\",VLOOKUP($A33,Data!$A$4:$AI$155,21,FALSE)))","v":0.83},{"$f":"IF($A33=\"\",\"\",IF(ISBLANK($A33),\"\",VLOOKUP($A33,Data!$A$4:$AI$155,22,FALSE)))","v":0.74},{"$f":"IF($A33=\"\",\"\",IF(ISBLANK($A33),\"\",VLOOKUP($A33,Data!$A$4:$AI$155,23,FALSE)))","v":0.82}]
[{"$f":"IF('Early Years Table'!A34=\"\",\"\",IF(ISBLANK('Early Years Table'!A34),\"\",'Early Years Table'!A34))","v":823},{"$f":"IF($A34=\"\",\"\",IF(ISBLANK($A34),\"\",INDEX('LEA Nos codes'!$A$3:$A$154,MATCH($A34,'LEA Nos codes'!$B$3:$B$154,0))))","v":"Central Bedfordshire"},{"$f":"IF($A34=\"\",\"\",IF(ISBLANK($A34),\"\",VLOOKUP($A34,Data!$A$4:$AI$155,18,FALSE)))","v":3050},{"$f":"IF($A34=\"\",\"\",IF(ISBLANK($A34),\"\",VLOOKUP($A34,Data!$A$4:$AI$155,19,FALSE)))","v":3300},{"$f":"IF($A34=\"\",\"\",IF(ISBLANK($A34),\"\",VLOOKUP($A34,Data!$A$4:$AI$155,20,FALSE)))","v":3140},{"$f":"IF($A34=\"\",\"\",IF(ISBLANK($A34),\"\",VLOOKUP($A34,Data!$A$4:$AI$155,21,FALSE)))","v":0.95},{"$f":"IF($A34=\"\",\"\",IF(ISBLANK($A34),\"\",VLOOKUP($A34,Data!$A$4:$AI$155,22,FALSE)))","v":1.01},{"$f":"IF($A34=\"\",\"\",IF(ISBLANK($A34),\"\",VLOOKUP($A34,Data!$A$4:$AI$155,23,FALSE)))","v":0.98}]
[{"$f":"IF('Early Years Table'!A35=\"\",\"\",IF(ISBLANK('Early Years Table'!A35),\"\",'Early Years Table'!A35))","v":895},{"$f":"IF($A35=\"\",\"\",IF(ISBLANK($A35),\"\",INDEX('LEA Nos codes'!$A$3:$A$154,MATCH($A35,'LEA Nos codes'!$B$3:$B$154,0))))","v":"Cheshire East"},{"$f":"IF($A35=\"\",\"\",IF(ISBLANK($A35),\"\",VLOOKUP($A35,Data!$A$4:$AI$155,18,FALSE)))","v":3970},{"$f":"IF($A35=\"\",\"\",IF(ISBLANK($A35),\"\",VLOOKUP($A35,Data!$A$4:$AI$155,19,FALSE)))","v":4230},{"$f":"IF($A35=\"\",\"\",IF(ISBLANK($A35),\"\",VLOOKUP($A35,Data!$A$4:$AI$155,20,FALSE)))","v":4180},{"$f":"IF($A35=\"\",\"\",IF(ISBLANK($A35),\"\",VLOOKUP($A35,Data!$A$4:$AI$155,21,FALSE)))","v":0.97},{"$f":"IF($A35=\"\",\"\",IF(ISBLANK($A35),\"\",VLOOKUP($A35,Data!$A$4:$AI$155,22,FALSE)))","v":1.02},{"$f":"IF($A35=\"\",\"\",IF(ISBLANK($A35),\"\",VLOOKUP($A35,Data!$A$4:$AI$155,23,FALSE)))","v":1.06}]
[{"$f":"IF('Early Years Table'!A36=\"\",\"\",IF(ISBLANK('Early Years Table'!A36),\"\",'Early Years Table'!A36))","v":896},{"$f":"IF($A36=\"\",\"\",IF(ISBLANK($A36),\"\",INDEX('LEA Nos codes'!$A$3:$A$154,MATCH($A36,'LEA Nos codes'!$B$3:$B$154,0))))","v":"Cheshire West and Chester"},{"$f":"IF($A36=\"\",\"\",IF(ISBLANK($A36),\"\",VLOOKUP($A36,Data!$A$4:$AI$155,18,FALSE)))","v":3780},{"$f":"IF($A36=\"\",\"\",IF(ISBLANK($A36),\"\",VLOOKUP($A36,Data!$A$4:$AI$155,19,FALSE)))","v":3780},{"$f":"IF($A36=\"\",\"\",IF(ISBLANK($A36),\"\",VLOOKUP($A36,Data!$A$4:$AI$155,20,FALSE)))","v":3710},{"$f":"IF($A36=\"\",\"\",IF(ISBLANK($A36),\"\",VLOOKUP($A36,Data!$A$4:$AI$155,21,FALSE)))","v":1.01},{"$f":"IF($A36=\"\",\"\",IF(ISBLANK($A36),\"\",VLOOKUP($A36,Data!$A$4:$AI$155,22,FALSE)))","v":1.03},{"$f":"IF($A36=\"\",\"\",IF(ISBLANK($A36),\"\",VLOOKUP($A36,Data!$A$4:$AI$155,23,FALSE)))","v":1.04}]
[{"$f":"IF('Early Years Table'!A37=\"\",\"\",IF(ISBLANK('Early Years Table'!A37),\"\",'Early Years Table'!A37))","v":801},{"$f":"IF($A37=\"\",\"\",IF(ISBLANK($A37),\"\",INDEX('LEA Nos codes'!$A$3:$A$154,MATCH($A37,'LEA Nos codes'!$B$3:$B$154,0))))","v":"City of Bristol"},{"$f":"IF($A37=\"\",\"\",IF(ISBLANK($A37),\"\",VLOOKUP($A37,Data!$A$4:$AI$155,18,FALSE)))","v":4890},{"$f":"IF($A37=\"\",\"\",IF(ISBLANK($A37),\"\",VLOOKUP($A37,Data!$A$4:$AI$155,19,FALSE)))","v":5270},{"$f":"IF($A37=\"\",\"\",IF(ISBLANK($A37),\"\",VLOOKUP($A37,Data!$A$4:$AI$155,20,FALSE)))","v":5210},{"$f":"IF($A37=\"\",\"\",IF(ISBLANK($A37),\"\",VLOOKUP($A37,Data!$A$4:$AI$155,21,FALSE)))","v":0.87},{"$f":"IF($A37=\"\",\"\",IF(ISBLANK($A37),\"\",VLOOKUP($A37,Data!$A$4:$AI$155,22,FALSE)))","v":0.9},{"$f":"IF($A37=\"\",\"\",IF(ISBLANK($A37),\"\",VLOOKUP($A37,Data!$A$4:$AI$155,23,FALSE)))","v":0.89}]
[{"$f":"IF('Early Years Table'!A38=\"\",\"\",IF(ISBLANK('Early Years Table'!A38),\"\",'Early Years Table'!A38))","v":810},{"$f":"IF($A38=\"\",\"\",IF(ISBLANK($A38),\"\",INDEX('LEA Nos codes'!$A$3:$A$154,MATCH($A38,'LEA Nos codes'!$B$3:$B$154,0))))","v":"City of Kingston Upon Hull"},{"$f":"IF($A38=\"\",\"\",IF(ISBLANK($A38),\"\",VLOOKUP($A38,Data!$A$4:$AI$155,18,FALSE)))","v":3170},{"$f":"IF($A38=\"\",\"\",IF(ISBLANK($A38),\"\",VLOOKUP($A38,Data!$A$4:$AI$155,19,FALSE)))","v":3270},{"$f":"IF($A38=\"\",\"\",IF(ISBLANK($A38),\"\",VLOOKUP($A38,Data!$A$4:$AI$155,20,FALSE)))","v":3270},{"$f":"IF($A38=\"\",\"\",IF(ISBLANK($A38),\"\",VLOOKUP($A38,Data!$A$4:$AI$155,21,FALSE)))","v":0.95},{"$f":"IF($A38=\"\",\"\",IF(ISBLANK($A38),\"\",VLOOKUP($A38,Data!$A$4:$AI$155,22,FALSE)))","v":0.94},{"$f":"IF($A38=\"\",\"\",IF(ISBLANK($A38),\"\",VLOOKUP($A38,Data!$A$4:$AI$155,23,FALSE)))","v":0.95}]
[{"$f":"IF('Early Years Table'!A39=\"\",\"\",IF(ISBLANK('Early Years Table'!A39),\"\",'Early Years Table'!A39))","v":201},{"$f":"IF($A39=\"\",\"\",IF(ISBLANK($A39),\"\",INDEX('LEA Nos codes'!$A$3:$A$154,MATCH($A39,'LEA Nos codes'!$B$3:$B$154,0))))","v":"City of London"},{"$f":"IF($A39=\"\",\"\",IF(ISBLANK($A39),\"\",VLOOKUP($A39,Data!$A$4:$AI$155,18,FALSE)))","v":30},{"$f":"IF($A39=\"\",\"\",IF(ISBLANK($A39),\"\",VLOOKUP($A39,Data!$A$4:$AI$155,19,FALSE)))","v":50},{"$f":"IF($A39=\"\",\"\",IF(ISBLANK($A39),\"\",VLOOKUP($A39,Data!$A$4:$AI$155,20,FALSE)))","v":50},{"$f":"IF($A39=\"\",\"\",IF(ISBLANK($A39),\"\",VLOOKUP($A39,Data!$A$4:$AI$155,21,FALSE)))","v":0.73},{"$f":"IF($A39=\"\",\"\",IF(ISBLANK($A39),\"\",VLOOKUP($A39,Data!$A$4:$AI$155,22,FALSE)))","v":1.3},{"$f":"IF($A39=\"\",\"\",IF(ISBLANK($A39),\"\",VLOOKUP($A39,Data!$A$4:$AI$155,23,FALSE)))","v":1.1399999999999999}]
[{"$f":"IF('Early Years Table'!A40=\"\",\"\",IF(ISBLANK('Early Years Table'!A40),\"\",'Early Years Table'!A40))","v":908},{"$f":"IF($A40=\"\",\"\",IF(ISBLANK($A40),\"\",INDEX('LEA Nos codes'!$A$3:$A$154,MATCH($A40,'LEA Nos codes'!$B$3:$B$154,0))))","v":"Cornwall"},{"$f":"IF($A40=\"\",\"\",IF(ISBLANK($A40),\"\",VLOOKUP($A40,Data!$A$4:$AI$155,18,FALSE)))","v":5180},{"$f":"IF($A40=\"\",\"\",IF(ISBLANK($A40),\"\",VLOOKUP($A40,Data!$A$4:$AI$155,19,FALSE)))","v":5510},{"$f":"IF($A40=\"\",\"\",IF(ISBLANK($A40),\"\",VLOOKUP($A40,Data!$A$4:$AI$155,20,FALSE)))","v":5510},{"$f":"IF($A40=\"\",\"\",IF(ISBLANK($A40),\"\",VLOOKUP($A40,Data!$A$4:$AI$155,21,FALSE)))","v":0.96},{"$f":"IF($A40=\"\",\"\",IF(ISBLANK($A40),\"\",VLOOKUP($A40,Data!$A$4:$AI$155,22,FALSE)))","v":1},{"$f":"IF($A40=\"\",\"\",IF(ISBLANK($A40),\"\",VLOOKUP($A40,Data!$A$4:$AI$155,23,FALSE)))","v":0.99}]
[{"$f":"IF('Early Years Table'!A41=\"\",\"\",IF(ISBLANK('Early Years Table'!A41),\"\",'Early Years Table'!A41))","v":331},{"$f":"IF($A41=\"\",\"\",IF(ISBLANK($A41),\"\",INDEX('LEA Nos codes'!$A$3:$A$154,MATCH($A41,'LEA Nos codes'!$B$3:$B$154,0))))","v":"Coventry"},{"$f":"IF($A41=\"\",\"\",IF(ISBLANK($A41),\"\",VLOOKUP($A41,Data!$A$4:$AI$155,18,FALSE)))","v":3800},{"$f":"IF($A41=\"\",\"\",IF(ISBLANK($A41),\"\",VLOOKUP($A41,Data!$A$4:$AI$155,19,FALSE)))","v":3990},{"$f":"IF($A41=\"\",\"\",IF(ISBLANK($A41),\"\",VLOOKUP($A41,Data!$A$4:$AI$155,20,FALSE)))","v":3970},{"$f":"IF($A41=\"\",\"\",IF(ISBLANK($A41),\"\",VLOOKUP($A41,Data!$A$4:$AI$155,21,FALSE)))","v":0.87},{"$f":"IF($A41=\"\",\"\",IF(ISBLANK($A41),\"\",VLOOKUP($A41,Data!$A$4:$AI$155,22,FALSE)))","v":0.89},{"$f":"IF($A41=\"\",\"\",IF(ISBLANK($A41),\"\",VLOOKUP($A41,Data!$A$4:$AI$155,23,FALSE)))","v":0.88}]
[{"$f":"IF('Early Years Table'!A42=\"\",\"\",IF(ISBLANK('Early Years Table'!A42),\"\",'Early Years Table'!A42))","v":306},{"$f":"IF($A42=\"\",\"\",IF(ISBLANK($A42),\"\",INDEX('LEA Nos codes'!$A$3:$A$154,MATCH($A42,'LEA Nos codes'!$B$3:$B$154,0))))","v":"Croydon"},{"$f":"IF($A42=\"\",\"\",IF(ISBLANK($A42),\"\",VLOOKUP($A42,Data!$A$4:$AI$155,18,FALSE)))","v":4500},{"$f":"IF($A42=\"\",\"\",IF(ISBLANK($A42),\"\",VLOOKUP($A42,Data!$A$4:$AI$155,19,FALSE)))","v":4600},{"$f":"IF($A42=\"\",\"\",IF(ISBLANK($A42),\"\",VLOOKUP($A42,Data!$A$4:$AI$155,20,FALSE)))","v":4630},{"$f":"IF($A42=\"\",\"\",IF(ISBLANK($A42),\"\",VLOOKUP($A42,Data!$A$4:$AI$155,21,FALSE)))","v":0.83},{"$f":"IF($A42=\"\",\"\",IF(ISBLANK($A42),\"\",VLOOKUP($A42,Data!$A$4:$AI$155,22,FALSE)))","v":0.82},{"$f":"IF($A42=\"\",\"\",IF(ISBLANK($A42),\"\",VLOOKUP($A42,Data!$A$4:$AI$155,23,FALSE)))","v":0.84}]
[{"$f":"IF('Early Years Table'!A43=\"\",\"\",IF(ISBLANK('Early Years Table'!A43),\"\",'Early Years Table'!A43))","v":909},{"$f":"IF($A43=\"\",\"\",IF(ISBLANK($A43),\"\",INDEX('LEA Nos codes'!$A$3:$A$154,MATCH($A43,'LEA Nos codes'!$B$3:$B$154,0))))","v":"Cumbria"},{"$f":"IF($A43=\"\",\"\",IF(ISBLANK($A43),\"\",VLOOKUP($A43,Data!$A$4:$AI$155,18,FALSE)))","v":5120},{"$f":"IF($A43=\"\",\"\",IF(ISBLANK($A43),\"\",VLOOKUP($A43,Data!$A$4:$AI$155,19,FALSE)))","v":5270},{"$f":"IF($A43=\"\",\"\",IF(ISBLANK($A43),\"\",VLOOKUP($A43,Data!$A$4:$AI$155,20,FALSE)))","v":5170},{"$f":"IF($A43=\"\",\"\",IF(ISBLANK($A43),\"\",VLOOKUP($A43,Data!$A$4:$AI$155,21,FALSE)))","v":1},{"$f":"IF($A43=\"\",\"\",IF(ISBLANK($A43),\"\",VLOOKUP($A43,Data!$A$4:$AI$155,22,FALSE)))","v":1.03},{"$f":"IF($A43=\"\",\"\",IF(ISBLANK($A43),\"\",VLOOKUP($A43,Data!$A$4:$AI$155,23,FALSE)))","v":1.02}]
[{"$f":"IF('Early Years Table'!A44=\"\",\"\",IF(ISBLANK('Early Years Table'!A44),\"\",'Early Years Table'!A44))","v":841},{"$f":"IF($A44=\"\",\"\",IF(ISBLANK($A44),\"\",INDEX('LEA Nos codes'!$A$3:$A$154,MATCH($A44,'LEA Nos codes'!$B$3:$B$154,0))))","v":"Darlington"},{"$f":"IF($A44=\"\",\"\",IF(ISBLANK($A44),\"\",VLOOKUP($A44,Data!$A$4:$AI$155,18,FALSE)))","v":1280},{"$f":"IF($A44=\"\",\"\",IF(ISBLANK($A44),\"\",VLOOKUP($A44,Data!$A$4:$AI$155,19,FALSE)))","v":1350},{"$f":"IF($A44=\"\",\"\",IF(ISBLANK($A44),\"\",VLOOKUP($A44,Data!$A$4:$AI$155,20,FALSE)))","v":1340},{"$f":"IF($A44=\"\",\"\",IF(ISBLANK($A44),\"\",VLOOKUP($A44,Data!$A$4:$AI$155,21,FALSE)))","v":1},{"$f":"IF($A44=\"\",\"\",IF(ISBLANK($A44),\"\",VLOOKUP($A44,Data!$A$4:$AI$155,22,FALSE)))","v":1.02},{"$f":"IF($A44=\"\",\"\",IF(ISBLANK($A44),\"\",VLOOKUP($A44,Data!$A$4:$AI$155,23,FALSE)))","v":1.01}]
[{"$f":"IF('Early Years Table'!A45=\"\",\"\",IF(ISBLANK('Early Years Table'!A45),\"\",'Early Years Table'!A45))","v":831},{"$f":"IF($A45=\"\",\"\",IF(ISBLANK($A45),\"\",INDEX('LEA Nos codes'!$A$3:$A$154,MATCH($A45,'LEA Nos codes'!$B$3:$B$154,0))))","v":"Derby"},{"$f":"IF($A45=\"\",\"\",IF(ISBLANK($A45),\"\",VLOOKUP($A45,Data!$A$4:$AI$155,18,FALSE)))","v":3090},{"$f":"IF($A45=\"\",\"\",IF(ISBLANK($A45),\"\",VLOOKUP($A45,Data!$A$4:$AI$155,19,FALSE)))","v":3300},{"$f":"IF($A45=\"\",\"\",IF(ISBLANK($A45),\"\",VLOOKUP($A45,Data!$A$4:$AI$155,20,FALSE)))","v":3370},{"$f":"IF($A45=\"\",\"\",IF(ISBLANK($A45),\"\",VLOOKUP($A45,Data!$A$4:$AI$155,21,FALSE)))","v":0.88},{"$f":"IF($A45=\"\",\"\",IF(ISBLANK($A45),\"\",VLOOKUP($A45,Data!$A$4:$AI$155,22,FALSE)))","v":0.91},{"$f":"IF($A45=\"\",\"\",IF(ISBLANK($A45),\"\",VLOOKUP($A45,Data!$A$4:$AI$155,23,FALSE)))","v":0.94}]
[{"$f":"IF('Early Years Table'!A46=\"\",\"\",IF(ISBLANK('Early Years Table'!A46),\"\",'Early Years Table'!A46))","v":830},{"$f":"IF($A46=\"\",\"\",IF(ISBLANK($A46),\"\",INDEX('LEA Nos codes'!$A$3:$A$154,MATCH($A46,'LEA Nos codes'!$B$3:$B$154,0))))","v":"Derbyshire"},{"$f":"IF($A46=\"\",\"\",IF(ISBLANK($A46),\"\",VLOOKUP($A46,Data!$A$4:$AI$155,18,FALSE)))","v":8300},{"$f":"IF($A46=\"\",\"\",IF(ISBLANK($A46),\"\",VLOOKUP($A46,Data!$A$4:$AI$155,19,FALSE)))","v":8520},{"$f":"IF($A46=\"\",\"\",IF(ISBLANK($A46),\"\",VLOOKUP($A46,Data!$A$4:$AI$155,20,FALSE)))","v":8060},{"$f":"IF($A46=\"\",\"\",IF(ISBLANK($A46),\"\",VLOOKUP($A46,Data!$A$4:$AI$155,21,FALSE)))","v":0.99},{"$f":"IF($A46=\"\",\"\",IF(ISBLANK($A46),\"\",VLOOKUP($A46,Data!$A$4:$AI$155,22,FALSE)))","v":1.01},{"$f":"IF($A46=\"\",\"\",IF(ISBLANK($A46),\"\",VLOOKUP($A46,Data!$A$4:$AI$155,23,FALSE)))","v":0.96}]
[{"$f":"IF('Early Years Table'!A47=\"\",\"\",IF(ISBLANK('Early Years Table'!A47),\"\",'Early Years Table'!A47))","v":878},{"$f":"IF($A47=\"\",\"\",IF(ISBLANK($A47),\"\",INDEX('LEA Nos codes'!$A$3:$A$154,MATCH($A47,'LEA Nos codes'!$B$3:$B$154,0))))","v":"Devon"},{"$f":"IF($A47=\"\",\"\",IF(ISBLANK($A47),\"\",VLOOKUP($A47,Data!$A$4:$AI$155,18,FALSE)))","v":7440},{"$f":"IF($A47=\"\",\"\",IF(ISBLANK($A47),\"\",VLOOKUP($A47,Data!$A$4:$AI$155,19,FALSE)))","v":7550},{"$f":"IF($A47=\"\",\"\",IF(ISBLANK($A47),\"\",VLOOKUP($A47,Data!$A$4:$AI$155,20,FALSE)))","v":7790},{"$f":"IF($A47=\"\",\"\",IF(ISBLANK($A47),\"\",VLOOKUP($A47,Data!$A$4:$AI$155,21,FALSE)))","v":1},{"$f":"IF($A47=\"\",\"\",IF(ISBLANK($A47),\"\",VLOOKUP($A47,Data!$A$4:$AI$155,22,FALSE)))","v":1.01},{"$f":"IF($A47=\"\",\"\",IF(ISBLANK($A47),\"\",VLOOKUP($A47,Data!$A$4:$AI$155,23,FALSE)))","v":1.04}]
[{"$f":"IF('Early Years Table'!A48=\"\",\"\",IF(ISBLANK('Early Years Table'!A48),\"\",'Early Years Table'!A48))","v":371},{"$f":"IF($A48=\"\",\"\",IF(ISBLANK($A48),\"\",INDEX('LEA Nos codes'!$A$3:$A$154,MATCH($A48,'LEA Nos codes'!$B$3:$B$154,0))))","v":"Doncaster"},{"$f":"IF($A48=\"\",\"\",IF(ISBLANK($A48),\"\",VLOOKUP($A48,Data!$A$4:$AI$155,18,FALSE)))","v":3280},{"$f":"IF($A48=\"\",\"\",IF(ISBLANK($A48),\"\",VLOOKUP($A48,Data!$A$4:$AI$155,19,FALSE)))","v":3430},{"$f":"IF($A48=\"\",\"\",IF(ISBLANK($A48),\"\",VLOOKUP($A48,Data!$A$4:$AI$155,20,FALSE)))","v":3540},{"$f":"IF($A48=\"\",\"\",IF(ISBLANK($A48),\"\",VLOOKUP($A48,Data!$A$4:$AI$155,21,FALSE)))","v":0.87},{"$f":"IF($A48=\"\",\"\",IF(ISBLANK($A48),\"\",VLOOKUP($A48,Data!$A$4:$AI$155,22,FALSE)))","v":0.87},{"$f":"IF($A48=\"\",\"\",IF(ISBLANK($A48),\"\",VLOOKUP($A48,Data!$A$4:$AI$155,23,FALSE)))","v":0.91}]
[{"$f":"IF('Early Years Table'!A49=\"\",\"\",IF(ISBLANK('Early Years Table'!A49),\"\",'Early Years Table'!A49))","v":835},{"$f":"IF($A49=\"\",\"\",IF(ISBLANK($A49),\"\",INDEX('LEA Nos codes'!$A$3:$A$154,MATCH($A49,'LEA Nos codes'!$B$3:$B$154,0))))","v":"Dorset"},{"$f":"IF($A49=\"\",\"\",IF(ISBLANK($A49),\"\",VLOOKUP($A49,Data!$A$4:$AI$155,18,FALSE)))","v":3840},{"$f":"IF($A49=\"\",\"\",IF(ISBLANK($A49),\"\",VLOOKUP($A49,Data!$A$4:$AI$155,19,FALSE)))","v":4060},{"$f":"IF($A49=\"\",\"\",IF(ISBLANK($A49),\"\",VLOOKUP($A49,Data!$A$4:$AI$155,20,FALSE)))","v":3810},{"$f":"IF($A49=\"\",\"\",IF(ISBLANK($A49),\"\",VLOOKUP($A49,Data!$A$4:$AI$155,21,FALSE)))","v":0.98},{"$f":"IF($A49=\"\",\"\",IF(ISBLANK($A49),\"\",VLOOKUP($A49,Data!$A$4:$AI$155,22,FALSE)))","v":1.02},{"$f":"IF($A49=\"\",\"\",IF(ISBLANK($A49),\"\",VLOOKUP($A49,Data!$A$4:$AI$155,23,FALSE)))","v":0.96}]
[{"$f":"IF('Early Years Table'!A50=\"\",\"\",IF(ISBLANK('Early Years Table'!A50),\"\",'Early Years Table'!A50))","v":332},{"$f":"IF($A50=\"\",\"\",IF(ISBLANK($A50),\"\",INDEX('LEA Nos codes'!$A$3:$A$154,MATCH($A50,'LEA Nos codes'!$B$3:$B$154,0))))","v":"Dudley"},{"$f":"IF($A50=\"\",\"\",IF(ISBLANK($A50),\"\",VLOOKUP($A50,Data!$A$4:$AI$155,18,FALSE)))","v":3410},{"$f":"IF($A50=\"\",\"\",IF(ISBLANK($A50),\"\",VLOOKUP($A50,Data!$A$4:$AI$155,19,FALSE)))","v":3600},{"$f":"IF($A50=\"\",\"\",IF(ISBLANK($A50),\"\",VLOOKUP($A50,Data!$A$4:$AI$155,20,FALSE)))","v":3590},{"$f":"IF($A50=\"\",\"\",IF(ISBLANK($A50),\"\",VLOOKUP($A50,Data!$A$4:$AI$155,21,FALSE)))","v":0.92},{"$f":"IF($A50=\"\",\"\",IF(ISBLANK($A50),\"\",VLOOKUP($A50,Data!$A$4:$AI$155,22,FALSE)))","v":0.94},{"$f":"IF($A50=\"\",\"\",IF(ISBLANK($A50),\"\",VLOOKUP($A50,Data!$A$4:$AI$155,23,FALSE)))","v":0.94}]
[{"$f":"IF('Early Years Table'!A51=\"\",\"\",IF(ISBLANK('Early Years Table'!A51),\"\",'Early Years Table'!A51))","v":840},{"$f":"IF($A51=\"\",\"\",IF(ISBLANK($A51),\"\",INDEX('LEA Nos codes'!$A$3:$A$154,MATCH($A51,'LEA Nos codes'!$B$3:$B$154,0))))","v":"Durham"},{"$f":"IF($A51=\"\",\"\",IF(ISBLANK($A51),\"\",VLOOKUP($A51,Data!$A$4:$AI$155,18,FALSE)))","v":5280},{"$f":"IF($A51=\"\",\"\",IF(ISBLANK($A51),\"\",VLOOKUP($A51,Data!$A$4:$AI$155,19,FALSE)))","v":5370},{"$f":"IF($A51=\"\",\"\",IF(ISBLANK($A51),\"\",VLOOKUP($A51,Data!$A$4:$AI$155,20,FALSE)))","v":5250},{"$f":"IF($A51=\"\",\"\",IF(ISBLANK($A51),\"\",VLOOKUP($A51,Data!$A$4:$AI$155,21,FALSE)))","v":0.93},{"$f":"IF($A51=\"\",\"\",IF(ISBLANK($A51),\"\",VLOOKUP($A51,Data!$A$4:$AI$155,22,FALSE)))","v":0.94},{"$f":"IF($A51=\"\",\"\",IF(ISBLANK($A51),\"\",VLOOKUP($A51,Data!$A$4:$AI$155,23,FALSE)))","v":0.92}]
[{"$f":"IF('Early Years Table'!A52=\"\",\"\",IF(ISBLANK('Early Years Table'!A52),\"\",'Early Years Table'!A52))","v":307},{"$f":"IF($A52=\"\",\"\",IF(ISBLANK($A52),\"\",INDEX('LEA Nos codes'!$A$3:$A$154,MATCH($A52,'LEA Nos codes'!$B$3:$B$154,0))))","v":"Ealing"},{"$f":"IF($A52=\"\",\"\",IF(ISBLANK($A52),\"\",VLOOKUP($A52,Data!$A$4:$AI$155,18,FALSE)))","v":4270},{"$f":"IF($A52=\"\",\"\",IF(ISBLANK($A52),\"\",VLOOKUP($A52,Data!$A$4:$AI$155,19,FALSE)))","v":4390},{"$f":"IF($A52=\"\",\"\",IF(ISBLANK($A52),\"\",VLOOKUP($A52,Data!$A$4:$AI$155,20,FALSE)))","v":4540},{"$f":"IF($A52=\"\",\"\",IF(ISBLANK($A52),\"\",VLOOKUP($A52,Data!$A$4:$AI$155,21,FALSE)))","v":0.86},{"$f":"IF($A52=\"\",\"\",IF(ISBLANK($A52),\"\",VLOOKUP($A52,Data!$A$4:$AI$155,22,FALSE)))","v":0.87},{"$f":"IF($A52=\"\",\"\",IF(ISBLANK($A52),\"\",VLOOKUP($A52,Data!$A$4:$AI$155,23,FALSE)))","v":0.91}]
[{"$f":"IF('Early Years Table'!A53=\"\",\"\",IF(ISBLANK('Early Years Table'!A53),\"\",'Early Years Table'!A53))","v":811},{"$f":"IF($A53=\"\",\"\",IF(ISBLANK($A53),\"\",INDEX('LEA Nos codes'!$A$3:$A$154,MATCH($A53,'LEA Nos codes'!$B$3:$B$154,0))))","v":"East Riding of Yorkshire"},{"$f":"IF($A53=\"\",\"\",IF(ISBLANK($A53),\"\",VLOOKUP($A53,Data!$A$4:$AI$155,18,FALSE)))","v":3440},{"$f":"IF($A53=\"\",\"\",IF(ISBLANK($A53),\"\",VLOOKUP($A53,Data!$A$4:$AI$155,19,FALSE)))","v":3430},{"$f":"IF($A53=\"\",\"\",IF(ISBLANK($A53),\"\",VLOOKUP($A53,Data!$A$4:$AI$155,20,FALSE)))","v":3420},{"$f":"IF($A53=\"\",\"\",IF(ISBLANK($A53),\"\",VLOOKUP($A53,Data!$A$4:$AI$155,21,FALSE)))","v":1.03},{"$f":"IF($A53=\"\",\"\",IF(ISBLANK($A53),\"\",VLOOKUP($A53,Data!$A$4:$AI$155,22,FALSE)))","v":1.03},{"$f":"IF($A53=\"\",\"\",IF(ISBLANK($A53),\"\",VLOOKUP($A53,Data!$A$4:$AI$155,23,FALSE)))","v":1.03}]
[{"$f":"IF('Early Years Table'!A54=\"\",\"\",IF(ISBLANK('Early Years Table'!A54),\"\",'Early Years Table'!A54))","v":845},{"$f":"IF($A54=\"\",\"\",IF(ISBLANK($A54),\"\",INDEX('LEA Nos codes'!$A$3:$A$154,MATCH($A54,'LEA Nos codes'!$B$3:$B$154,0))))","v":"East Sussex"},{"$f":"IF($A54=\"\",\"\",IF(ISBLANK($A54),\"\",VLOOKUP($A54,Data!$A$4:$AI$155,18,FALSE)))","v":5150},{"$f":"IF($A54=\"\",\"\",IF(ISBLANK($A54),\"\",VLOOKUP($A54,Data!$A$4:$AI$155,19,FALSE)))","v":5200},{"$f":"IF($A54=\"\",\"\",IF(ISBLANK($A54),\"\",VLOOKUP($A54,Data!$A$4:$AI$155,20,FALSE)))","v":5360},{"$f":"IF($A54=\"\",\"\",IF(ISBLANK($A54),\"\",VLOOKUP($A54,Data!$A$4:$AI$155,21,FALSE)))","v":0.94},{"$f":"IF($A54=\"\",\"\",IF(ISBLANK($A54),\"\",VLOOKUP($A54,Data!$A$4:$AI$155,22,FALSE)))","v":0.94},{"$f":"IF($A54=\"\",\"\",IF(ISBLANK($A54),\"\",VLOOKUP($A54,Data!$A$4:$AI$155,23,FALSE)))","v":0.96}]
[{"$f":"IF('Early Years Table'!A55=\"\",\"\",IF(ISBLANK('Early Years Table'!A55),\"\",'Early Years Table'!A55))","v":308},{"$f":"IF($A55=\"\",\"\",IF(ISBLANK($A55),\"\",INDEX('LEA Nos codes'!$A$3:$A$154,MATCH($A55,'LEA Nos codes'!$B$3:$B$154,0))))","v":"Enfield"},{"$f":"IF($A55=\"\",\"\",IF(ISBLANK($A55),\"\",VLOOKUP($A55,Data!$A$4:$AI$155,18,FALSE)))","v":3650},{"$f":"IF($A55=\"\",\"\",IF(ISBLANK($A55),\"\",VLOOKUP($A55,Data!$A$4:$AI$155,19,FALSE)))","v":3800},{"$f":"IF($A55=\"\",\"\",IF(ISBLANK($A55),\"\",VLOOKUP($A55,Data!$A$4:$AI$155,20,FALSE)))","v":3880},{"$f":"IF($A55=\"\",\"\",IF(ISBLANK($A55),\"\",VLOOKUP($A55,Data!$A$4:$AI$155,21,FALSE)))","v":0.76},{"$f":"IF($A55=\"\",\"\",IF(ISBLANK($A55),\"\",VLOOKUP($A55,Data!$A$4:$AI$155,22,FALSE)))","v":0.76},{"$f":"IF($A55=\"\",\"\",IF(ISBLANK($A55),\"\",VLOOKUP($A55,Data!$A$4:$AI$155,23,FALSE)))","v":0.79}]
[{"$f":"IF('Early Years Table'!A56=\"\",\"\",IF(ISBLANK('Early Years Table'!A56),\"\",'Early Years Table'!A56))","v":881},{"$f":"IF($A56=\"\",\"\",IF(ISBLANK($A56),\"\",INDEX('LEA Nos codes'!$A$3:$A$154,MATCH($A56,'LEA Nos codes'!$B$3:$B$154,0))))","v":"Essex"},{"$f":"IF($A56=\"\",\"\",IF(ISBLANK($A56),\"\",VLOOKUP($A56,Data!$A$4:$AI$155,18,FALSE)))","v":16050},{"$f":"IF($A56=\"\",\"\",IF(ISBLANK($A56),\"\",VLOOKUP($A56,Data!$A$4:$AI$155,19,FALSE)))","v":16180},{"$f":"IF($A56=\"\",\"\",IF(ISBLANK($A56),\"\",VLOOKUP($A56,Data!$A$4:$AI$155,20,FALSE)))","v":16350},{"$f":"IF($A56=\"\",\"\",IF(ISBLANK($A56),\"\",VLOOKUP($A56,Data!$A$4:$AI$155,21,FALSE)))","v":0.98},{"$f":"IF($A56=\"\",\"\",IF(ISBLANK($A56),\"\",VLOOKUP($A56,Data!$A$4:$AI$155,22,FALSE)))","v":0.97},{"$f":"IF($A56=\"\",\"\",IF(ISBLANK($A56),\"\",VLOOKUP($A56,Data!$A$4:$AI$155,23,FALSE)))","v":0.98}]
[{"$f":"IF('Early Years Table'!A57=\"\",\"\",IF(ISBLANK('Early Years Table'!A57),\"\",'Early Years Table'!A57))","v":390},{"$f":"IF($A57=\"\",\"\",IF(ISBLANK($A57),\"\",INDEX('LEA Nos codes'!$A$3:$A$154,MATCH($A57,'LEA Nos codes'!$B$3:$B$154,0))))","v":"Gateshead"},{"$f":"IF($A57=\"\",\"\",IF(ISBLANK($A57),\"\",VLOOKUP($A57,Data!$A$4:$AI$155,18,FALSE)))","v":2140},{"$f":"IF($A57=\"\",\"\",IF(ISBLANK($A57),\"\",VLOOKUP($A57,Data!$A$4:$AI$155,19,FALSE)))","v":2280},{"$f":"IF($A57=\"\",\"\",IF(ISBLANK($A57),\"\",VLOOKUP($A57,Data!$A$4:$AI$155,20,FALSE)))","v":2260},{"$f":"IF($A57=\"\",\"\",IF(ISBLANK($A57),\"\",VLOOKUP($A57,Data!$A$4:$AI$155,21,FALSE)))","v":0.95},{"$f":"IF($A57=\"\",\"\",IF(ISBLANK($A57),\"\",VLOOKUP($A57,Data!$A$4:$AI$155,22,FALSE)))","v":0.97},{"$f":"IF($A57=\"\",\"\",IF(ISBLANK($A57),\"\",VLOOKUP($A57,Data!$A$4:$AI$155,23,FALSE)))","v":0.94}]
[{"$f":"IF('Early Years Table'!A58=\"\",\"\",IF(ISBLANK('Early Years Table'!A58),\"\",'Early Years Table'!A58))","v":916},{"$f":"IF($A58=\"\",\"\",IF(ISBLANK($A58),\"\",INDEX('LEA Nos codes'!$A$3:$A$154,MATCH($A58,'LEA Nos codes'!$B$3:$B$154,0))))","v":"Gloucestershire"},{"$f":"IF($A58=\"\",\"\",IF(ISBLANK($A58),\"\",VLOOKUP($A58,Data!$A$4:$AI$155,18,FALSE)))","v":6350},{"$f":"IF($A58=\"\",\"\",IF(ISBLANK($A58),\"\",VLOOKUP($A58,Data!$A$4:$AI$155,19,FALSE)))","v":6630},{"$f":"IF($A58=\"\",\"\",IF(ISBLANK($A58),\"\",VLOOKUP($A58,Data!$A$4:$AI$155,20,FALSE)))","v":6520},{"$f":"IF($A58=\"\",\"\",IF(ISBLANK($A58),\"\",VLOOKUP($A58,Data!$A$4:$AI$155,21,FALSE)))","v":0.95},{"$f":"IF($A58=\"\",\"\",IF(ISBLANK($A58),\"\",VLOOKUP($A58,Data!$A$4:$AI$155,22,FALSE)))","v":0.98},{"$f":"IF($A58=\"\",\"\",IF(ISBLANK($A58),\"\",VLOOKUP($A58,Data!$A$4:$AI$155,23,FALSE)))","v":0.97}]
[{"$f":"IF('Early Years Table'!A59=\"\",\"\",IF(ISBLANK('Early Years Table'!A59),\"\",'Early Years Table'!A59))","v":203},{"$f":"IF($A59=\"\",\"\",IF(ISBLANK($A59),\"\",INDEX('LEA Nos codes'!$A$3:$A$154,MATCH($A59,'LEA Nos codes'!$B$3:$B$154,0))))","v":"Greenwich"},{"$f":"IF($A59=\"\",\"\",IF(ISBLANK($A59),\"\",VLOOKUP($A59,Data!$A$4:$AI$155,18,FALSE)))","v":3780},{"$f":"IF($A59=\"\",\"\",IF(ISBLANK($A59),\"\",VLOOKUP($A59,Data!$A$4:$AI$155,19,FALSE)))","v":3670},{"$f":"IF($A59=\"\",\"\",IF(ISBLANK($A59),\"\",VLOOKUP($A59,Data!$A$4:$AI$155,20,FALSE)))","v":3610},{"$f":"IF($A59=\"\",\"\",IF(ISBLANK($A59),\"\",VLOOKUP($A59,Data!$A$4:$AI$155,21,FALSE)))","v":0.92},{"$f":"IF($A59=\"\",\"\",IF(ISBLANK($A59),\"\",VLOOKUP($A59,Data!$A$4:$AI$155,22,FALSE)))","v":0.86},{"$f":"IF($A59=\"\",\"\",IF(ISBLANK($A59),\"\",VLOOKUP($A59,Data!$A$4:$AI$155,23,FALSE)))","v":0.88}]
[{"$f":"IF('Early Years Table'!A60=\"\",\"\",IF(ISBLANK('Early Years Table'!A60),\"\",'Early Years Table'!A60))","v":204},{"$f":"IF($A60=\"\",\"\",IF(ISBLANK($A60),\"\",INDEX('LEA Nos codes'!$A$3:$A$154,MATCH($A60,'LEA Nos codes'!$B$3:$B$154,0))))","v":"Hackney"},{"$f":"IF($A60=\"\",\"\",IF(ISBLANK($A60),\"\",VLOOKUP($A60,Data!$A$4:$AI$155,18,FALSE)))","v":3320},{"$f":"IF($A60=\"\",\"\",IF(ISBLANK($A60),\"\",VLOOKUP($A60,Data!$A$4:$AI$155,19,FALSE)))","v":3360},{"$f":"IF($A60=\"\",\"\",IF(ISBLANK($A60),\"\",VLOOKUP($A60,Data!$A$4:$AI$155,20,FALSE)))","v":3450},{"$f":"IF($A60=\"\",\"\",IF(ISBLANK($A60),\"\",VLOOKUP($A60,Data!$A$4:$AI$155,21,FALSE)))","v":0.89},{"$f":"IF($A60=\"\",\"\",IF(ISBLANK($A60),\"\",VLOOKUP($A60,Data!$A$4:$AI$155,22,FALSE)))","v":0.91},{"$f":"IF($A60=\"\",\"\",IF(ISBLANK($A60),\"\",VLOOKUP($A60,Data!$A$4:$AI$155,23,FALSE)))","v":0.93}]
[{"$f":"IF('Early Years Table'!A61=\"\",\"\",IF(ISBLANK('Early Years Table'!A61),\"\",'Early Years Table'!A61))","v":876},{"$f":"IF($A61=\"\",\"\",IF(ISBLANK($A61),\"\",INDEX('LEA Nos codes'!$A$3:$A$154,MATCH($A61,'LEA Nos codes'!$B$3:$B$154,0))))","v":"Halton"},{"$f":"IF($A61=\"\",\"\",IF(ISBLANK($A61),\"\",VLOOKUP($A61,Data!$A$4:$AI$155,18,FALSE)))","v":1460},{"$f":"IF($A61=\"\",\"\",IF(ISBLANK($A61),\"\",VLOOKUP($A61,Data!$A$4:$AI$155,19,FALSE)))","v":1490},{"$f":"IF($A61=\"\",\"\",IF(ISBLANK($A61),\"\",VLOOKUP($A61,Data!$A$4:$AI$155,20,FALSE)))","v":1450},{"$f":"IF($A61=\"\",\"\",IF(ISBLANK($A61),\"\",VLOOKUP($A61,Data!$A$4:$AI$155,21,FALSE)))","v":0.89},{"$f":"IF($A61=\"\",\"\",IF(ISBLANK($A61),\"\",VLOOKUP($A61,Data!$A$4:$AI$155,22,FALSE)))","v":0.9},{"$f":"IF($A61=\"\",\"\",IF(ISBLANK($A61),\"\",VLOOKUP($A61,Data!$A$4:$AI$155,23,FALSE)))","v":0.87}]
[{"$f":"IF('Early Years Table'!A62=\"\",\"\",IF(ISBLANK('Early Years Table'!A62),\"\",'Early Years Table'!A62))","v":205},{"$f":"IF($A62=\"\",\"\",IF(ISBLANK($A62),\"\",INDEX('LEA Nos codes'!$A$3:$A$154,MATCH($A62,'LEA Nos codes'!$B$3:$B$154,0))))","v":"Hammersmith and Fulham"},{"$f":"IF($A62=\"\",\"\",IF(ISBLANK($A62),\"\",VLOOKUP($A62,Data!$A$4:$AI$155,18,FALSE)))","v":2110},{"$f":"IF($A62=\"\",\"\",IF(ISBLANK($A62),\"\",VLOOKUP($A62,Data!$A$4:$AI$155,19,FALSE)))","v":2200},{"$f":"IF($A62=\"\",\"\",IF(ISBLANK($A62),\"\",VLOOKUP($A62,Data!$A$4:$AI$155,20,FALSE)))","v":2190},{"$f":"IF($A62=\"\",\"\",IF(ISBLANK($A62),\"\",VLOOKUP($A62,Data!$A$4:$AI$155,21,FALSE)))","v":0.95},{"$f":"IF($A62=\"\",\"\",IF(ISBLANK($A62),\"\",VLOOKUP($A62,Data!$A$4:$AI$155,22,FALSE)))","v":0.98},{"$f":"IF($A62=\"\",\"\",IF(ISBLANK($A62),\"\",VLOOKUP($A62,Data!$A$4:$AI$155,23,FALSE)))","v":0.96}]
[{"$f":"IF('Early Years Table'!A63=\"\",\"\",IF(ISBLANK('Early Years Table'!A63),\"\",'Early Years Table'!A63))","v":850},{"$f":"IF($A63=\"\",\"\",IF(ISBLANK($A63),\"\",INDEX('LEA Nos codes'!$A$3:$A$154,MATCH($A63,'LEA Nos codes'!$B$3:$B$154,0))))","v":"Hampshire"},{"$f":"IF($A63=\"\",\"\",IF(ISBLANK($A63),\"\",VLOOKUP($A63,Data!$A$4:$AI$155,18,FALSE)))","v":14430},{"$f":"IF($A63=\"\",\"\",IF(ISBLANK($A63),\"\",VLOOKUP($A63,Data!$A$4:$AI$155,19,FALSE)))","v":14790},{"$f":"IF($A63=\"\",\"\",IF(ISBLANK($A63),\"\",VLOOKUP($A63,Data!$A$4:$AI$155,20,FALSE)))","v":14850},{"$f":"IF($A63=\"\",\"\",IF(ISBLANK($A63),\"\",VLOOKUP($A63,Data!$A$4:$AI$155,21,FALSE)))","v":0.94},{"$f":"IF($A63=\"\",\"\",IF(ISBLANK($A63),\"\",VLOOKUP($A63,Data!$A$4:$AI$155,22,FALSE)))","v":0.94},{"$f":"IF($A63=\"\",\"\",IF(ISBLANK($A63),\"\",VLOOKUP($A63,Data!$A$4:$AI$155,23,FALSE)))","v":0.95}]
[{"$f":"IF('Early Years Table'!A64=\"\",\"\",IF(ISBLANK('Early Years Table'!A64),\"\",'Early Years Table'!A64))","v":309},{"$f":"IF($A64=\"\",\"\",IF(ISBLANK($A64),\"\",INDEX('LEA Nos codes'!$A$3:$A$154,MATCH($A64,'LEA Nos codes'!$B$3:$B$154,0))))","v":"Haringey"},{"$f":"IF($A64=\"\",\"\",IF(ISBLANK($A64),\"\",VLOOKUP($A64,Data!$A$4:$AI$155,18,FALSE)))","v":2890},{"$f":"IF($A64=\"\",\"\",IF(ISBLANK($A64),\"\",VLOOKUP($A64,Data!$A$4:$AI$155,19,FALSE)))","v":2930},{"$f":"IF($A64=\"\",\"\",IF(ISBLANK($A64),\"\",VLOOKUP($A64,Data!$A$4:$AI$155,20,FALSE)))","v":2950},{"$f":"IF($A64=\"\",\"\",IF(ISBLANK($A64),\"\",VLOOKUP($A64,Data!$A$4:$AI$155,21,FALSE)))","v":0.8},{"$f":"IF($A64=\"\",\"\",IF(ISBLANK($A64),\"\",VLOOKUP($A64,Data!$A$4:$AI$155,22,FALSE)))","v":0.82},{"$f":"IF($A64=\"\",\"\",IF(ISBLANK($A64),\"\",VLOOKUP($A64,Data!$A$4:$AI$155,23,FALSE)))","v":0.84}]
[{"$f":"IF('Early Years Table'!A65=\"\",\"\",IF(ISBLANK('Early Years Table'!A65),\"\",'Early Years Table'!A65))","v":310},{"$f":"IF($A65=\"\",\"\",IF(ISBLANK($A65),\"\",INDEX('LEA Nos codes'!$A$3:$A$154,MATCH($A65,'LEA Nos codes'!$B$3:$B$154,0))))","v":"Harrow"},{"$f":"IF($A65=\"\",\"\",IF(ISBLANK($A65),\"\",VLOOKUP($A65,Data!$A$4:$AI$155,18,FALSE)))","v":2400},{"$f":"IF($A65=\"\",\"\",IF(ISBLANK($A65),\"\",VLOOKUP($A65,Data!$A$4:$AI$155,19,FALSE)))","v":2530},{"$f":"IF($A65=\"\",\"\",IF(ISBLANK($A65),\"\",VLOOKUP($A65,Data!$A$4:$AI$155,20,FALSE)))","v":2680},{"$f":"IF($A65=\"\",\"\",IF(ISBLANK($A65),\"\",VLOOKUP($A65,Data!$A$4:$AI$155,21,FALSE)))","v":0.76},{"$f":"IF($A65=\"\",\"\",IF(ISBLANK($A65),\"\",VLOOKUP($A65,Data!$A$4:$AI$155,22,FALSE)))","v":0.78},{"$f":"IF($A65=\"\",\"\",IF(ISBLANK($A65),\"\",VLOOKUP($A65,Data!$A$4:$AI$155,23,FALSE)))","v":0.83}]
[{"$f":"IF('Early Years Table'!A66=\"\",\"\",IF(ISBLANK('Early Years Table'!A66),\"\",'Early Years Table'!A66))","v":805},{"$f":"IF($A66=\"\",\"\",IF(ISBLANK($A66),\"\",INDEX('LEA Nos codes'!$A$3:$A$154,MATCH($A66,'LEA Nos codes'!$B$3:$B$154,0))))","v":"Hartlepool"},{"$f":"IF($A66=\"\",\"\",IF(ISBLANK($A66),\"\",VLOOKUP($A66,Data!$A$4:$AI$155,18,FALSE)))","v":1110},{"$f":"IF($A66=\"\",\"\",IF(ISBLANK($A66),\"\",VLOOKUP($A66,Data!$A$4:$AI$155,19,FALSE)))","v":1120},{"$f":"IF($A66=\"\",\"\",IF(ISBLANK($A66),\"\",VLOOKUP($A66,Data!$A$4:$AI$155,20,FALSE)))","v":1140},{"$f":"IF($A66=\"\",\"\",IF(ISBLANK($A66),\"\",VLOOKUP($A66,Data!$A$4:$AI$155,21,FALSE)))","v":0.97},{"$f":"IF($A66=\"\",\"\",IF(ISBLANK($A66),\"\",VLOOKUP($A66,Data!$A$4:$AI$155,22,FALSE)))","v":0.97},{"$f":"IF($A66=\"\",\"\",IF(ISBLANK($A66),\"\",VLOOKUP($A66,Data!$A$4:$AI$155,23,FALSE)))","v":0.99}]
[{"$f":"IF('Early Years Table'!A67=\"\",\"\",IF(ISBLANK('Early Years Table'!A67),\"\",'Early Years Table'!A67))","v":311},{"$f":"IF($A67=\"\",\"\",IF(ISBLANK($A67),\"\",INDEX('LEA Nos codes'!$A$3:$A$154,MATCH($A67,'LEA Nos codes'!$B$3:$B$154,0))))","v":"Havering"},{"$f":"IF($A67=\"\",\"\",IF(ISBLANK($A67),\"\",VLOOKUP($A67,Data!$A$4:$AI$155,18,FALSE)))","v":2620},{"$f":"IF($A67=\"\",\"\",IF(ISBLANK($A67),\"\",VLOOKUP($A67,Data!$A$4:$AI$155,19,FALSE)))","v":2720},{"$f":"IF($A67=\"\",\"\",IF(ISBLANK($A67),\"\",VLOOKUP($A67,Data!$A$4:$AI$155,20,FALSE)))","v":2700},{"$f":"IF($A67=\"\",\"\",IF(ISBLANK($A67),\"\",VLOOKUP($A67,Data!$A$4:$AI$155,21,FALSE)))","v":0.95},{"$f":"IF($A67=\"\",\"\",IF(ISBLANK($A67),\"\",VLOOKUP($A67,Data!$A$4:$AI$155,22,FALSE)))","v":0.96},{"$f":"IF($A67=\"\",\"\",IF(ISBLANK($A67),\"\",VLOOKUP($A67,Data!$A$4:$AI$155,23,FALSE)))","v":0.96}]
[{"$f":"IF('Early Years Table'!A68=\"\",\"\",IF(ISBLANK('Early Years Table'!A68),\"\",'Early Years Table'!A68))","v":884},{"$f":"IF($A68=\"\",\"\",IF(ISBLANK($A68),\"\",INDEX('LEA Nos codes'!$A$3:$A$154,MATCH($A68,'LEA Nos codes'!$B$3:$B$154,0))))","v":"Herefordshire"},{"$f":"IF($A68=\"\",\"\",IF(ISBLANK($A68),\"\",VLOOKUP($A68,Data!$A$4:$AI$155,18,FALSE)))","v":1780},{"$f":"IF($A68=\"\",\"\",IF(ISBLANK($A68),\"\",VLOOKUP($A68,Data!$A$4:$AI$155,19,FALSE)))","v":1780},{"$f":"IF($A68=\"\",\"\",IF(ISBLANK($A68),\"\",VLOOKUP($A68,Data!$A$4:$AI$155,20,FALSE)))","v":1830},{"$f":"IF($A68=\"\",\"\",IF(ISBLANK($A68),\"\",VLOOKUP($A68,Data!$A$4:$AI$155,21,FALSE)))","v":0.95},{"$f":"IF($A68=\"\",\"\",IF(ISBLANK($A68),\"\",VLOOKUP($A68,Data!$A$4:$AI$155,22,FALSE)))","v":0.92},{"$f":"IF($A68=\"\",\"\",IF(ISBLANK($A68),\"\",VLOOKUP($A68,Data!$A$4:$AI$155,23,FALSE)))","v":0.95}]
[{"$f":"IF('Early Years Table'!A69=\"\",\"\",IF(ISBLANK('Early Years Table'!A69),\"\",'Early Years Table'!A69))","v":919},{"$f":"IF($A69=\"\",\"\",IF(ISBLANK($A69),\"\",INDEX('LEA Nos codes'!$A$3:$A$154,MATCH($A69,'LEA Nos codes'!$B$3:$B$154,0))))","v":"Hertfordshire"},{"$f":"IF($A69=\"\",\"\",IF(ISBLANK($A69),\"\",VLOOKUP($A69,Data!$A$4:$AI$155,18,FALSE)))","v":14010},{"$f":"IF($A69=\"\",\"\",IF(ISBLANK($A69),\"\",VLOOKUP($A69,Data!$A$4:$AI$155,19,FALSE)))","v":14330},{"$f":"IF($A69=\"\",\"\",IF(ISBLANK($A69),\"\",VLOOKUP($A69,Data!$A$4:$AI$155,20,FALSE)))","v":14250},{"$f":"IF($A69=\"\",\"\",IF(ISBLANK($A69),\"\",VLOOKUP($A69,Data!$A$4:$AI$155,21,FALSE)))","v":0.96},{"$f":"IF($A69=\"\",\"\",IF(ISBLANK($A69),\"\",VLOOKUP($A69,Data!$A$4:$AI$155,22,FALSE)))","v":0.96},{"$f":"IF($A69=\"\",\"\",IF(ISBLANK($A69),\"\",VLOOKUP($A69,Data!$A$4:$AI$155,23,FALSE)))","v":0.94}]
[{"$f":"IF('Early Years Table'!A70=\"\",\"\",IF(ISBLANK('Early Years Table'!A70),\"\",'Early Years Table'!A70))","v":312},{"$f":"IF($A70=\"\",\"\",IF(ISBLANK($A70),\"\",INDEX('LEA Nos codes'!$A$3:$A$154,MATCH($A70,'LEA Nos codes'!$B$3:$B$154,0))))","v":"Hillingdon"},{"$f":"IF($A70=\"\",\"\",IF(ISBLANK($A70),\"\",VLOOKUP($A70,Data!$A$4:$AI$155,18,FALSE)))","v":3470},{"$f":"IF($A70=\"\",\"\",IF(ISBLANK($A70),\"\",VLOOKUP($A70,Data!$A$4:$AI$155,19,FALSE)))","v":3670},{"$f":"IF($A70=\"\",\"\",IF(ISBLANK($A70),\"\",VLOOKUP($A70,Data!$A$4:$AI$155,20,FALSE)))","v":3840},{"$f":"IF($A70=\"\",\"\",IF(ISBLANK($A70),\"\",VLOOKUP($A70,Data!$A$4:$AI$155,21,FALSE)))","v":0.9},{"$f":"IF($A70=\"\",\"\",IF(ISBLANK($A70),\"\",VLOOKUP($A70,Data!$A$4:$AI$155,22,FALSE)))","v":0.91},{"$f":"IF($A70=\"\",\"\",IF(ISBLANK($A70),\"\",VLOOKUP($A70,Data!$A$4:$AI$155,23,FALSE)))","v":0.95}]
[{"$f":"IF('Early Years Table'!A71=\"\",\"\",IF(ISBLANK('Early Years Table'!A71),\"\",'Early Years Table'!A71))","v":313},{"$f":"IF($A71=\"\",\"\",IF(ISBLANK($A71),\"\",INDEX('LEA Nos codes'!$A$3:$A$154,MATCH($A71,'LEA Nos codes'!$B$3:$B$154,0))))","v":"Hounslow"},{"$f":"IF($A71=\"\",\"\",IF(ISBLANK($A71),\"\",VLOOKUP($A71,Data!$A$4:$AI$155,18,FALSE)))","v":2720},{"$f":"IF($A71=\"\",\"\",IF(ISBLANK($A71),\"\",VLOOKUP($A71,Data!$A$4:$AI$155,19,FALSE)))","v":3020},{"$f":"IF($A71=\"\",\"\",IF(ISBLANK($A71),\"\",VLOOKUP($A71,Data!$A$4:$AI$155,20,FALSE)))","v":3170},{"$f":"IF($A71=\"\",\"\",IF(ISBLANK($A71),\"\",VLOOKUP($A71,Data!$A$4:$AI$155,21,FALSE)))","v":0.71},{"$f":"IF($A71=\"\",\"\",IF(ISBLANK($A71),\"\",VLOOKUP($A71,Data!$A$4:$AI$155,22,FALSE)))","v":0.76},{"$f":"IF($A71=\"\",\"\",IF(ISBLANK($A71),\"\",VLOOKUP($A71,Data!$A$4:$AI$155,23,FALSE)))","v":0.81}]
[{"$f":"IF('Early Years Table'!A72=\"\",\"\",IF(ISBLANK('Early Years Table'!A72),\"\",'Early Years Table'!A72))","v":921},{"$f":"IF($A72=\"\",\"\",IF(ISBLANK($A72),\"\",INDEX('LEA Nos codes'!$A$3:$A$154,MATCH($A72,'LEA Nos codes'!$B$3:$B$154,0))))","v":"Isle of Wight"},{"$f":"IF($A72=\"\",\"\",IF(ISBLANK($A72),\"\",VLOOKUP($A72,Data!$A$4:$AI$155,18,FALSE)))","v":1210},{"$f":"IF($A72=\"\",\"\",IF(ISBLANK($A72),\"\",VLOOKUP($A72,Data!$A$4:$AI$155,19,FALSE)))","v":1250},{"$f":"IF($A72=\"\",\"\",IF(ISBLANK($A72),\"\",VLOOKUP($A72,Data!$A$4:$AI$155,20,FALSE)))","v":1220},{"$f":"IF($A72=\"\",\"\",IF(ISBLANK($A72),\"\",VLOOKUP($A72,Data!$A$4:$AI$155,21,FALSE)))","v":0.93},{"$f":"IF($A72=\"\",\"\",IF(ISBLANK($A72),\"\",VLOOKUP($A72,Data!$A$4:$AI$155,22,FALSE)))","v":0.97},{"$f":"IF($A72=\"\",\"\",IF(ISBLANK($A72),\"\",VLOOKUP($A72,Data!$A$4:$AI$155,23,FALSE)))","v":0.94}]
[{"$f":"IF('Early Years Table'!A73=\"\",\"\",IF(ISBLANK('Early Years Table'!A73),\"\",'Early Years Table'!A73))","v":420},{"$f":"IF($A73=\"\",\"\",IF(ISBLANK($A73),\"\",INDEX('LEA Nos codes'!$A$3:$A$154,MATCH($A73,'LEA Nos codes'!$B$3:$B$154,0))))","v":"Isles of Scilly"},{"$f":"IF($A73=\"\",\"\",IF(ISBLANK($A73),\"\",VLOOKUP($A73,Data!$A$4:$AI$155,18,FALSE)))","v":50},{"$f":"IF($A73=\"\",\"\",IF(ISBLANK($A73),\"\",VLOOKUP($A73,Data!$A$4:$AI$155,19,FALSE)))","v":20},{"$f":"IF($A73=\"\",\"\",IF(ISBLANK($A73),\"\",VLOOKUP($A73,Data!$A$4:$AI$155,20,FALSE)))","v":20},{"$f":"IF($A73=\"\",\"\",IF(ISBLANK($A73),\"\",VLOOKUP($A73,Data!$A$4:$AI$155,21,FALSE)))","v":1.65},{"$f":"IF($A73=\"\",\"\",IF(ISBLANK($A73),\"\",VLOOKUP($A73,Data!$A$4:$AI$155,22,FALSE)))","v":0.99},{"$f":"IF($A73=\"\",\"\",IF(ISBLANK($A73),\"\",VLOOKUP($A73,Data!$A$4:$AI$155,23,FALSE)))","v":1.4}]
[{"$f":"IF('Early Years Table'!A74=\"\",\"\",IF(ISBLANK('Early Years Table'!A74),\"\",'Early Years Table'!A74))","v":206},{"$f":"IF($A74=\"\",\"\",IF(ISBLANK($A74),\"\",INDEX('LEA Nos codes'!$A$3:$A$154,MATCH($A74,'LEA Nos codes'!$B$3:$B$154,0))))","v":"Islington"},{"$f":"IF($A74=\"\",\"\",IF(ISBLANK($A74),\"\",VLOOKUP($A74,Data!$A$4:$AI$155,18,FALSE)))","v":2290},{"$f":"IF($A74=\"\",\"\",IF(ISBLANK($A74),\"\",VLOOKUP($A74,Data!$A$4:$AI$155,19,FALSE)))","v":2320},{"$f":"IF($A74=\"\",\"\",IF(ISBLANK($A74),\"\",VLOOKUP($A74,Data!$A$4:$AI$155,20,FALSE)))","v":2290},{"$f":"IF($A74=\"\",\"\",IF(ISBLANK($A74),\"\",VLOOKUP($A74,Data!$A$4:$AI$155,21,FALSE)))","v":0.96},{"$f":"IF($A74=\"\",\"\",IF(ISBLANK($A74),\"\",VLOOKUP($A74,Data!$A$4:$AI$155,22,FALSE)))","v":0.97},{"$f":"IF($A74=\"\",\"\",IF(ISBLANK($A74),\"\",VLOOKUP($A74,Data!$A$4:$AI$155,23,FALSE)))","v":0.98}]
[{"$f":"IF('Early Years Table'!A75=\"\",\"\",IF(ISBLANK('Early Years Table'!A75),\"\",'Early Years Table'!A75))","v":207},{"$f":"IF($A75=\"\",\"\",IF(ISBLANK($A75),\"\",INDEX('LEA Nos codes'!$A$3:$A$154,MATCH($A75,'LEA Nos codes'!$B$3:$B$154,0))))","v":"Kensington and Chelsea"},{"$f":"IF($A75=\"\",\"\",IF(ISBLANK($A75),\"\",VLOOKUP($A75,Data!$A$4:$AI$155,18,FALSE)))","v":1350},{"$f":"IF($A75=\"\",\"\",IF(ISBLANK($A75),\"\",VLOOKUP($A75,Data!$A$4:$AI$155,19,FALSE)))","v":1340},{"$f":"IF($A75=\"\",\"\",IF(ISBLANK($A75),\"\",VLOOKUP($A75,Data!$A$4:$AI$155,20,FALSE)))","v":1380},{"$f":"IF($A75=\"\",\"\",IF(ISBLANK($A75),\"\",VLOOKUP($A75,Data!$A$4:$AI$155,21,FALSE)))","v":0.73},{"$f":"IF($A75=\"\",\"\",IF(ISBLANK($A75),\"\",VLOOKUP($A75,Data!$A$4:$AI$155,22,FALSE)))","v":0.75},{"$f":"IF($A75=\"\",\"\",IF(ISBLANK($A75),\"\",VLOOKUP($A75,Data!$A$4:$AI$155,23,FALSE)))","v":0.79}]
[{"$f":"IF('Early Years Table'!A76=\"\",\"\",IF(ISBLANK('Early Years Table'!A76),\"\",'Early Years Table'!A76))","v":886},{"$f":"IF($A76=\"\",\"\",IF(ISBLANK($A76),\"\",INDEX('LEA Nos codes'!$A$3:$A$154,MATCH($A76,'LEA Nos codes'!$B$3:$B$154,0))))","v":"Kent"},{"$f":"IF($A76=\"\",\"\",IF(ISBLANK($A76),\"\",VLOOKUP($A76,Data!$A$4:$AI$155,18,FALSE)))","v":16250},{"$f":"IF($A76=\"\",\"\",IF(ISBLANK($A76),\"\",VLOOKUP($A76,Data!$A$4:$AI$155,19,FALSE)))","v":16860},{"$f":"IF($A76=\"\",\"\",IF(ISBLANK($A76),\"\",VLOOKUP($A76,Data!$A$4:$AI$155,20,FALSE)))","v":17090},{"$f":"IF($A76=\"\",\"\",IF(ISBLANK($A76),\"\",VLOOKUP($A76,Data!$A$4:$AI$155,21,FALSE)))","v":0.92},{"$f":"IF($A76=\"\",\"\",IF(ISBLANK($A76),\"\",VLOOKUP($A76,Data!$A$4:$AI$155,22,FALSE)))","v":0.94},{"$f":"IF($A76=\"\",\"\",IF(ISBLANK($A76),\"\",VLOOKUP($A76,Data!$A$4:$AI$155,23,FALSE)))","v":0.95}]
[{"$f":"IF('Early Years Table'!A77=\"\",\"\",IF(ISBLANK('Early Years Table'!A77),\"\",'Early Years Table'!A77))","v":314},{"$f":"IF($A77=\"\",\"\",IF(ISBLANK($A77),\"\",INDEX('LEA Nos codes'!$A$3:$A$154,MATCH($A77,'LEA Nos codes'!$B$3:$B$154,0))))","v":"Kingston upon Thames"},{"$f":"IF($A77=\"\",\"\",IF(ISBLANK($A77),\"\",VLOOKUP($A77,Data!$A$4:$AI$155,18,FALSE)))","v":2000},{"$f":"IF($A77=\"\",\"\",IF(ISBLANK($A77),\"\",VLOOKUP($A77,Data!$A$4:$AI$155,19,FALSE)))","v":2020},{"$f":"IF($A77=\"\",\"\",IF(ISBLANK($A77),\"\",VLOOKUP($A77,Data!$A$4:$AI$155,20,FALSE)))","v":2070},{"$f":"IF($A77=\"\",\"\",IF(ISBLANK($A77),\"\",VLOOKUP($A77,Data!$A$4:$AI$155,21,FALSE)))","v":0.93},{"$f":"IF($A77=\"\",\"\",IF(ISBLANK($A77),\"\",VLOOKUP($A77,Data!$A$4:$AI$155,22,FALSE)))","v":0.9},{"$f":"IF($A77=\"\",\"\",IF(ISBLANK($A77),\"\",VLOOKUP($A77,Data!$A$4:$AI$155,23,FALSE)))","v":0.92}]
[{"$f":"IF('Early Years Table'!A78=\"\",\"\",IF(ISBLANK('Early Years Table'!A78),\"\",'Early Years Table'!A78))","v":382},{"$f":"IF($A78=\"\",\"\",IF(ISBLANK($A78),\"\",INDEX('LEA Nos codes'!$A$3:$A$154,MATCH($A78,'LEA Nos codes'!$B$3:$B$154,0))))","v":"Kirklees"},{"$f":"IF($A78=\"\",\"\",IF(ISBLANK($A78),\"\",VLOOKUP($A78,Data!$A$4:$AI$155,18,FALSE)))","v":5260},{"$f":"IF($A78=\"\",\"\",IF(ISBLANK($A78),\"\",VLOOKUP($A78,Data!$A$4:$AI$155,19,FALSE)))","v":5340},{"$f":"IF($A78=\"\",\"\",IF(ISBLANK($A78),\"\",VLOOKUP($A78,Data!$A$4:$AI$155,20,FALSE)))","v":5400},{"$f":"IF($A78=\"\",\"\",IF(ISBLANK($A78),\"\",VLOOKUP($A78,Data!$A$4:$AI$155,21,FALSE)))","v":0.94},{"$f":"IF($A78=\"\",\"\",IF(ISBLANK($A78),\"\",VLOOKUP($A78,Data!$A$4:$AI$155,22,FALSE)))","v":0.93},{"$f":"IF($A78=\"\",\"\",IF(ISBLANK($A78),\"\",VLOOKUP($A78,Data!$A$4:$AI$155,23,FALSE)))","v":0.96}]
[{"$f":"IF('Early Years Table'!A79=\"\",\"\",IF(ISBLANK('Early Years Table'!A79),\"\",'Early Years Table'!A79))","v":340},{"$f":"IF($A79=\"\",\"\",IF(ISBLANK($A79),\"\",INDEX('LEA Nos codes'!$A$3:$A$154,MATCH($A79,'LEA Nos codes'!$B$3:$B$154,0))))","v":"Knowsley"},{"$f":"IF($A79=\"\",\"\",IF(ISBLANK($A79),\"\",VLOOKUP($A79,Data!$A$4:$AI$155,18,FALSE)))","v":1830},{"$f":"IF($A79=\"\",\"\",IF(ISBLANK($A79),\"\",VLOOKUP($A79,Data!$A$4:$AI$155,19,FALSE)))","v":1840},{"$f":"IF($A79=\"\",\"\",IF(ISBLANK($A79),\"\",VLOOKUP($A79,Data!$A$4:$AI$155,20,FALSE)))","v":1760},{"$f":"IF($A79=\"\",\"\",IF(ISBLANK($A79),\"\",VLOOKUP($A79,Data!$A$4:$AI$155,21,FALSE)))","v":0.99},{"$f":"IF($A79=\"\",\"\",IF(ISBLANK($A79),\"\",VLOOKUP($A79,Data!$A$4:$AI$155,22,FALSE)))","v":1},{"$f":"IF($A79=\"\",\"\",IF(ISBLANK($A79),\"\",VLOOKUP($A79,Data!$A$4:$AI$155,23,FALSE)))","v":0.98}]
[{"$f":"IF('Early Years Table'!A80=\"\",\"\",IF(ISBLANK('Early Years Table'!A80),\"\",'Early Years Table'!A80))","v":208},{"$f":"IF($A80=\"\",\"\",IF(ISBLANK($A80),\"\",INDEX('LEA Nos codes'!$A$3:$A$154,MATCH($A80,'LEA Nos codes'!$B$3:$B$154,0))))","v":"Lambeth"},{"$f":"IF($A80=\"\",\"\",IF(ISBLANK($A80),\"\",VLOOKUP($A80,Data!$A$4:$AI$155,18,FALSE)))","v":3540},{"$f":"IF($A80=\"\",\"\",IF(ISBLANK($A80),\"\",VLOOKUP($A80,Data!$A$4:$AI$155,19,FALSE)))","v":3620},{"$f":"IF($A80=\"\",\"\",IF(ISBLANK($A80),\"\",VLOOKUP($A80,Data!$A$4:$AI$155,20,FALSE)))","v":3630},{"$f":"IF($A80=\"\",\"\",IF(ISBLANK($A80),\"\",VLOOKUP($A80,Data!$A$4:$AI$155,21,FALSE)))","v":0.88},{"$f":"IF($A80=\"\",\"\",IF(ISBLANK($A80),\"\",VLOOKUP($A80,Data!$A$4:$AI$155,22,FALSE)))","v":0.89},{"$f":"IF($A80=\"\",\"\",IF(ISBLANK($A80),\"\",VLOOKUP($A80,Data!$A$4:$AI$155,23,FALSE)))","v":0.91}]
[{"$f":"IF('Early Years Table'!A81=\"\",\"\",IF(ISBLANK('Early Years Table'!A81),\"\",'Early Years Table'!A81))","v":888},{"$f":"IF($A81=\"\",\"\",IF(ISBLANK($A81),\"\",INDEX('LEA Nos codes'!$A$3:$A$154,MATCH($A81,'LEA Nos codes'!$B$3:$B$154,0))))","v":"Lancashire"},{"$f":"IF($A81=\"\",\"\",IF(ISBLANK($A81),\"\",VLOOKUP($A81,Data!$A$4:$AI$155,18,FALSE)))","v":12680},{"$f":"IF($A81=\"\",\"\",IF(ISBLANK($A81),\"\",VLOOKUP($A81,Data!$A$4:$AI$155,19,FALSE)))","v":13250},{"$f":"IF($A81=\"\",\"\",IF(ISBLANK($A81),\"\",VLOOKUP($A81,Data!$A$4:$AI$155,20,FALSE)))","v":13240},{"$f":"IF($A81=\"\",\"\",IF(ISBLANK($A81),\"\",VLOOKUP($A81,Data!$A$4:$AI$155,21,FALSE)))","v":0.93},{"$f":"IF($A81=\"\",\"\",IF(ISBLANK($A81),\"\",VLOOKUP($A81,Data!$A$4:$AI$155,22,FALSE)))","v":0.95},{"$f":"IF($A81=\"\",\"\",IF(ISBLANK($A81),\"\",VLOOKUP($A81,Data!$A$4:$AI$155,23,FALSE)))","v":0.96}]
[{"$f":"IF('Early Years Table'!A82=\"\",\"\",IF(ISBLANK('Early Years Table'!A82),\"\",'Early Years Table'!A82))","v":383},{"$f":"IF($A82=\"\",\"\",IF(ISBLANK($A82),\"\",INDEX('LEA Nos codes'!$A$3:$A$154,MATCH($A82,'LEA Nos codes'!$B$3:$B$154,0))))","v":"Leeds"},{"$f":"IF($A82=\"\",\"\",IF(ISBLANK($A82),\"\",VLOOKUP($A82,Data!$A$4:$AI$155,18,FALSE)))","v":8760},{"$f":"IF($A82=\"\",\"\",IF(ISBLANK($A82),\"\",VLOOKUP($A82,Data!$A$4:$AI$155,19,FALSE)))","v":9260},{"$f":"IF($A82=\"\",\"\",IF(ISBLANK($A82),\"\",VLOOKUP($A82,Data!$A$4:$AI$155,20,FALSE)))","v":9430},{"$f":"IF($A82=\"\",\"\",IF(ISBLANK($A82),\"\",VLOOKUP($A82,Data!$A$4:$AI$155,21,FALSE)))","v":0.95},{"$f":"IF($A82=\"\",\"\",IF(ISBLANK($A82),\"\",VLOOKUP($A82,Data!$A$4:$AI$155,22,FALSE)))","v":0.97},{"$f":"IF($A82=\"\",\"\",IF(ISBLANK($A82),\"\",VLOOKUP($A82,Data!$A$4:$AI$155,23,FALSE)))","v":0.96}]
[{"$f":"IF('Early Years Table'!A83=\"\",\"\",IF(ISBLANK('Early Years Table'!A83),\"\",'Early Years Table'!A83))","v":856},{"$f":"IF($A83=\"\",\"\",IF(ISBLANK($A83),\"\",INDEX('LEA Nos codes'!$A$3:$A$154,MATCH($A83,'LEA Nos codes'!$B$3:$B$154,0))))","v":"Leicester"},{"$f":"IF($A83=\"\",\"\",IF(ISBLANK($A83),\"\",VLOOKUP($A83,Data!$A$4:$AI$155,18,FALSE)))","v":4230},{"$f":"IF($A83=\"\",\"\",IF(ISBLANK($A83),\"\",VLOOKUP($A83,Data!$A$4:$AI$155,19,FALSE)))","v":4440},{"$f":"IF($A83=\"\",\"\",IF(ISBLANK($A83),\"\",VLOOKUP($A83,Data!$A$4:$AI$155,20,FALSE)))","v":4350},{"$f":"IF($A83=\"\",\"\",IF(ISBLANK($A83),\"\",VLOOKUP($A83,Data!$A$4:$AI$155,21,FALSE)))","v":0.89},{"$f":"IF($A83=\"\",\"\",IF(ISBLANK($A83),\"\",VLOOKUP($A83,Data!$A$4:$AI$155,22,FALSE)))","v":0.9},{"$f":"IF($A83=\"\",\"\",IF(ISBLANK($A83),\"\",VLOOKUP($A83,Data!$A$4:$AI$155,23,FALSE)))","v":0.91}]
[{"$f":"IF('Early Years Table'!A84=\"\",\"\",IF(ISBLANK('Early Years Table'!A84),\"\",'Early Years Table'!A84))","v":855},{"$f":"IF($A84=\"\",\"\",IF(ISBLANK($A84),\"\",INDEX('LEA Nos codes'!$A$3:$A$154,MATCH($A84,'LEA Nos codes'!$B$3:$B$154,0))))","v":"Leicestershire"},{"$f":"IF($A84=\"\",\"\",IF(ISBLANK($A84),\"\",VLOOKUP($A84,Data!$A$4:$AI$155,18,FALSE)))","v":6720},{"$f":"IF($A84=\"\",\"\",IF(ISBLANK($A84),\"\",VLOOKUP($A84,Data!$A$4:$AI$155,19,FALSE)))","v":6850},{"$f":"IF($A84=\"\",\"\",IF(ISBLANK($A84),\"\",VLOOKUP($A84,Data!$A$4:$AI$155,20,FALSE)))","v":6870},{"$f":"IF($A84=\"\",\"\",IF(ISBLANK($A84),\"\",VLOOKUP($A84,Data!$A$4:$AI$155,21,FALSE)))","v":0.92},{"$f":"IF($A84=\"\",\"\",IF(ISBLANK($A84),\"\",VLOOKUP($A84,Data!$A$4:$AI$155,22,FALSE)))","v":0.94},{"$f":"IF($A84=\"\",\"\",IF(ISBLANK($A84),\"\",VLOOKUP($A84,Data!$A$4:$AI$155,23,FALSE)))","v":0.96}]
[{"$f":"IF('Early Years Table'!A85=\"\",\"\",IF(ISBLANK('Early Years Table'!A85),\"\",'Early Years Table'!A85))","v":209},{"$f":"IF($A85=\"\",\"\",IF(ISBLANK($A85),\"\",INDEX('LEA Nos codes'!$A$3:$A$154,MATCH($A85,'LEA Nos codes'!$B$3:$B$154,0))))","v":"Lewisham"},{"$f":"IF($A85=\"\",\"\",IF(ISBLANK($A85),\"\",VLOOKUP($A85,Data!$A$4:$AI$155,18,FALSE)))","v":3350},{"$f":"IF($A85=\"\",\"\",IF(ISBLANK($A85),\"\",VLOOKUP($A85,Data!$A$4:$AI$155,19,FALSE)))","v":3510},{"$f":"IF($A85=\"\",\"\",IF(ISBLANK($A85),\"\",VLOOKUP($A85,Data!$A$4:$AI$155,20,FALSE)))","v":3630},{"$f":"IF($A85=\"\",\"\",IF(ISBLANK($A85),\"\",VLOOKUP($A85,Data!$A$4:$AI$155,21,FALSE)))","v":0.78},{"$f":"IF($A85=\"\",\"\",IF(ISBLANK($A85),\"\",VLOOKUP($A85,Data!$A$4:$AI$155,22,FALSE)))","v":0.8},{"$f":"IF($A85=\"\",\"\",IF(ISBLANK($A85),\"\",VLOOKUP($A85,Data!$A$4:$AI$155,23,FALSE)))","v":0.84}]
[{"$f":"IF('Early Years Table'!A86=\"\",\"\",IF(ISBLANK('Early Years Table'!A86),\"\",'Early Years Table'!A86))","v":925},{"$f":"IF($A86=\"\",\"\",IF(ISBLANK($A86),\"\",INDEX('LEA Nos codes'!$A$3:$A$154,MATCH($A86,'LEA Nos codes'!$B$3:$B$154,0))))","v":"Lincolnshire"},{"$f":"IF($A86=\"\",\"\",IF(ISBLANK($A86),\"\",VLOOKUP($A86,Data!$A$4:$AI$155,18,FALSE)))","v":6990},{"$f":"IF($A86=\"\",\"\",IF(ISBLANK($A86),\"\",VLOOKUP($A86,Data!$A$4:$AI$155,19,FALSE)))","v":7520},{"$f":"IF($A86=\"\",\"\",IF(ISBLANK($A86),\"\",VLOOKUP($A86,Data!$A$4:$AI$155,20,FALSE)))","v":7420},{"$f":"IF($A86=\"\",\"\",IF(ISBLANK($A86),\"\",VLOOKUP($A86,Data!$A$4:$AI$155,21,FALSE)))","v":0.94},{"$f":"IF($A86=\"\",\"\",IF(ISBLANK($A86),\"\",VLOOKUP($A86,Data!$A$4:$AI$155,22,FALSE)))","v":0.99},{"$f":"IF($A86=\"\",\"\",IF(ISBLANK($A86),\"\",VLOOKUP($A86,Data!$A$4:$AI$155,23,FALSE)))","v":0.97}]
[{"$f":"IF('Early Years Table'!A87=\"\",\"\",IF(ISBLANK('Early Years Table'!A87),\"\",'Early Years Table'!A87))","v":341},{"$f":"IF($A87=\"\",\"\",IF(ISBLANK($A87),\"\",INDEX('LEA Nos codes'!$A$3:$A$154,MATCH($A87,'LEA Nos codes'!$B$3:$B$154,0))))","v":"Liverpool"},{"$f":"IF($A87=\"\",\"\",IF(ISBLANK($A87),\"\",VLOOKUP($A87,Data!$A$4:$AI$155,18,FALSE)))","v":4710},{"$f":"IF($A87=\"\",\"\",IF(ISBLANK($A87),\"\",VLOOKUP($A87,Data!$A$4:$AI$155,19,FALSE)))","v":5040},{"$f":"IF($A87=\"\",\"\",IF(ISBLANK($A87),\"\",VLOOKUP($A87,Data!$A$4:$AI$155,20,FALSE)))","v":4930},{"$f":"IF($A87=\"\",\"\",IF(ISBLANK($A87),\"\",VLOOKUP($A87,Data!$A$4:$AI$155,21,FALSE)))","v":0.91},{"$f":"IF($A87=\"\",\"\",IF(ISBLANK($A87),\"\",VLOOKUP($A87,Data!$A$4:$AI$155,22,FALSE)))","v":0.96},{"$f":"IF($A87=\"\",\"\",IF(ISBLANK($A87),\"\",VLOOKUP($A87,Data!$A$4:$AI$155,23,FALSE)))","v":0.95}]
[{"$f":"IF('Early Years Table'!A88=\"\",\"\",IF(ISBLANK('Early Years Table'!A88),\"\",'Early Years Table'!A88))","v":821},{"$f":"IF($A88=\"\",\"\",IF(ISBLANK($A88),\"\",INDEX('LEA Nos codes'!$A$3:$A$154,MATCH($A88,'LEA Nos codes'!$B$3:$B$154,0))))","v":"Luton"},{"$f":"IF($A88=\"\",\"\",IF(ISBLANK($A88),\"\",VLOOKUP($A88,Data!$A$4:$AI$155,18,FALSE)))","v":3000},{"$f":"IF($A88=\"\",\"\",IF(ISBLANK($A88),\"\",VLOOKUP($A88,Data!$A$4:$AI$155,19,FALSE)))","v":3160},{"$f":"IF($A88=\"\",\"\",IF(ISBLANK($A88),\"\",VLOOKUP($A88,Data!$A$4:$AI$155,20,FALSE)))","v":3070},{"$f":"IF($A88=\"\",\"\",IF(ISBLANK($A88),\"\",VLOOKUP($A88,Data!$A$4:$AI$155,21,FALSE)))","v":0.9},{"$f":"IF($A88=\"\",\"\",IF(ISBLANK($A88),\"\",VLOOKUP($A88,Data!$A$4:$AI$155,22,FALSE)))","v":0.93},{"$f":"IF($A88=\"\",\"\",IF(ISBLANK($A88),\"\",VLOOKUP($A88,Data!$A$4:$AI$155,23,FALSE)))","v":0.94}]
[{"$f":"IF('Early Years Table'!A89=\"\",\"\",IF(ISBLANK('Early Years Table'!A89),\"\",'Early Years Table'!A89))","v":352},{"$f":"IF($A89=\"\",\"\",IF(ISBLANK($A89),\"\",INDEX('LEA Nos codes'!$A$3:$A$154,MATCH($A89,'LEA Nos codes'!$B$3:$B$154,0))))","v":"Manchester"},{"$f":"IF($A89=\"\",\"\",IF(ISBLANK($A89),\"\",VLOOKUP($A89,Data!$A$4:$AI$155,18,FALSE)))","v":5950},{"$f":"IF($A89=\"\",\"\",IF(ISBLANK($A89),\"\",VLOOKUP($A89,Data!$A$4:$AI$155,19,FALSE)))","v":6120},{"$f":"IF($A89=\"\",\"\",IF(ISBLANK($A89),\"\",VLOOKUP($A89,Data!$A$4:$AI$155,20,FALSE)))","v":6280},{"$f":"IF($A89=\"\",\"\",IF(ISBLANK($A89),\"\",VLOOKUP($A89,Data!$A$4:$AI$155,21,FALSE)))","v":0.85},{"$f":"IF($A89=\"\",\"\",IF(ISBLANK($A89),\"\",VLOOKUP($A89,Data!$A$4:$AI$155,22,FALSE)))","v":0.85},{"$f":"IF($A89=\"\",\"\",IF(ISBLANK($A89),\"\",VLOOKUP($A89,Data!$A$4:$AI$155,23,FALSE)))","v":0.88}]
[{"$f":"IF('Early Years Table'!A90=\"\",\"\",IF(ISBLANK('Early Years Table'!A90),\"\",'Early Years Table'!A90))","v":887},{"$f":"IF($A90=\"\",\"\",IF(ISBLANK($A90),\"\",INDEX('LEA Nos codes'!$A$3:$A$154,MATCH($A90,'LEA Nos codes'!$B$3:$B$154,0))))","v":"Medway"},{"$f":"IF($A90=\"\",\"\",IF(ISBLANK($A90),\"\",VLOOKUP($A90,Data!$A$4:$AI$155,18,FALSE)))","v":3260},{"$f":"IF($A90=\"\",\"\",IF(ISBLANK($A90),\"\",VLOOKUP($A90,Data!$A$4:$AI$155,19,FALSE)))","v":3320},{"$f":"IF($A90=\"\",\"\",IF(ISBLANK($A90),\"\",VLOOKUP($A90,Data!$A$4:$AI$155,20,FALSE)))","v":3380},{"$f":"IF($A90=\"\",\"\",IF(ISBLANK($A90),\"\",VLOOKUP($A90,Data!$A$4:$AI$155,21,FALSE)))","v":0.97},{"$f":"IF($A90=\"\",\"\",IF(ISBLANK($A90),\"\",VLOOKUP($A90,Data!$A$4:$AI$155,22,FALSE)))","v":0.95},{"$f":"IF($A90=\"\",\"\",IF(ISBLANK($A90),\"\",VLOOKUP($A90,Data!$A$4:$AI$155,23,FALSE)))","v":0.96}]
[{"$f":"IF('Early Years Table'!A91=\"\",\"\",IF(ISBLANK('Early Years Table'!A91),\"\",'Early Years Table'!A91))","v":315},{"$f":"IF($A91=\"\",\"\",IF(ISBLANK($A91),\"\",INDEX('LEA Nos codes'!$A$3:$A$154,MATCH($A91,'LEA Nos codes'!$B$3:$B$154,0))))","v":"Merton"},{"$f":"IF($A91=\"\",\"\",IF(ISBLANK($A91),\"\",VLOOKUP($A91,Data!$A$4:$AI$155,18,FALSE)))","v":2780},{"$f":"IF($A91=\"\",\"\",IF(ISBLANK($A91),\"\",VLOOKUP($A91,Data!$A$4:$AI$155,19,FALSE)))","v":2910},{"$f":"IF($A91=\"\",\"\",IF(ISBLANK($A91),\"\",VLOOKUP($A91,Data!$A$4:$AI$155,20,FALSE)))","v":2890},{"$f":"IF($A91=\"\",\"\",IF(ISBLANK($A91),\"\",VLOOKUP($A91,Data!$A$4:$AI$155,21,FALSE)))","v":0.95},{"$f":"IF($A91=\"\",\"\",IF(ISBLANK($A91),\"\",VLOOKUP($A91,Data!$A$4:$AI$155,22,FALSE)))","v":1.01},{"$f":"IF($A91=\"\",\"\",IF(ISBLANK($A91),\"\",VLOOKUP($A91,Data!$A$4:$AI$155,23,FALSE)))","v":0.97}]
[{"$f":"IF('Early Years Table'!A92=\"\",\"\",IF(ISBLANK('Early Years Table'!A92),\"\",'Early Years Table'!A92))","v":806},{"$f":"IF($A92=\"\",\"\",IF(ISBLANK($A92),\"\",INDEX('LEA Nos codes'!$A$3:$A$154,MATCH($A92,'LEA Nos codes'!$B$3:$B$154,0))))","v":"Middlesbrough"},{"$f":"IF($A92=\"\",\"\",IF(ISBLANK($A92),\"\",VLOOKUP($A92,Data!$A$4:$AI$155,18,FALSE)))","v":1930},{"$f":"IF($A92=\"\",\"\",IF(ISBLANK($A92),\"\",VLOOKUP($A92,Data!$A$4:$AI$155,19,FALSE)))","v":1860},{"$f":"IF($A92=\"\",\"\",IF(ISBLANK($A92),\"\",VLOOKUP($A92,Data!$A$4:$AI$155,20,FALSE)))","v":1910},{"$f":"IF($A92=\"\",\"\",IF(ISBLANK($A92),\"\",VLOOKUP($A92,Data!$A$4:$AI$155,21,FALSE)))","v":1.03},{"$f":"IF($A92=\"\",\"\",IF(ISBLANK($A92),\"\",VLOOKUP($A92,Data!$A$4:$AI$155,22,FALSE)))","v":1.01},{"$f":"IF($A92=\"\",\"\",IF(ISBLANK($A92),\"\",VLOOKUP($A92,Data!$A$4:$AI$155,23,FALSE)))","v":1.02}]
[{"$f":"IF('Early Years Table'!A93=\"\",\"\",IF(ISBLANK('Early Years Table'!A93),\"\",'Early Years Table'!A93))","v":826},{"$f":"IF($A93=\"\",\"\",IF(ISBLANK($A93),\"\",INDEX('LEA Nos codes'!$A$3:$A$154,MATCH($A93,'LEA Nos codes'!$B$3:$B$154,0))))","v":"Milton Keynes"},{"$f":"IF($A93=\"\",\"\",IF(ISBLANK($A93),\"\",VLOOKUP($A93,Data!$A$4:$AI$155,18,FALSE)))","v":3440},{"$f":"IF($A93=\"\",\"\",IF(ISBLANK($A93),\"\",VLOOKUP($A93,Data!$A$4:$AI$155,19,FALSE)))","v":3560},{"$f":"IF($A93=\"\",\"\",IF(ISBLANK($A93),\"\",VLOOKUP($A93,Data!$A$4:$AI$155,20,FALSE)))","v":3680},{"$f":"IF($A93=\"\",\"\",IF(ISBLANK($A93),\"\",VLOOKUP($A93,Data!$A$4:$AI$155,21,FALSE)))","v":0.9},{"$f":"IF($A93=\"\",\"\",IF(ISBLANK($A93),\"\",VLOOKUP($A93,Data!$A$4:$AI$155,22,FALSE)))","v":0.89},{"$f":"IF($A93=\"\",\"\",IF(ISBLANK($A93),\"\",VLOOKUP($A93,Data!$A$4:$AI$155,23,FALSE)))","v":0.91}]
[{"$f":"IF('Early Years Table'!A94=\"\",\"\",IF(ISBLANK('Early Years Table'!A94),\"\",'Early Years Table'!A94))","v":391},{"$f":"IF($A94=\"\",\"\",IF(ISBLANK($A94),\"\",INDEX('LEA Nos codes'!$A$3:$A$154,MATCH($A94,'LEA Nos codes'!$B$3:$B$154,0))))","v":"Newcastle upon Tyne"},{"$f":"IF($A94=\"\",\"\",IF(ISBLANK($A94),\"\",VLOOKUP($A94,Data!$A$4:$AI$155,18,FALSE)))","v":2900},{"$f":"IF($A94=\"\",\"\",IF(ISBLANK($A94),\"\",VLOOKUP($A94,Data!$A$4:$AI$155,19,FALSE)))","v":2930},{"$f":"IF($A94=\"\",\"\",IF(ISBLANK($A94),\"\",VLOOKUP($A94,Data!$A$4:$AI$155,20,FALSE)))","v":3100},{"$f":"IF($A94=\"\",\"\",IF(ISBLANK($A94),\"\",VLOOKUP($A94,Data!$A$4:$AI$155,21,FALSE)))","v":0.91},{"$f":"IF($A94=\"\",\"\",IF(ISBLANK($A94),\"\",VLOOKUP($A94,Data!$A$4:$AI$155,22,FALSE)))","v":0.89},{"$f":"IF($A94=\"\",\"\",IF(ISBLANK($A94),\"\",VLOOKUP($A94,Data!$A$4:$AI$155,23,FALSE)))","v":0.94}]
[{"$f":"IF('Early Years Table'!A95=\"\",\"\",IF(ISBLANK('Early Years Table'!A95),\"\",'Early Years Table'!A95))","v":316},{"$f":"IF($A95=\"\",\"\",IF(ISBLANK($A95),\"\",INDEX('LEA Nos codes'!$A$3:$A$154,MATCH($A95,'LEA Nos codes'!$B$3:$B$154,0))))","v":"Newham"},{"$f":"IF($A95=\"\",\"\",IF(ISBLANK($A95),\"\",VLOOKUP($A95,Data!$A$4:$AI$155,18,FALSE)))","v":4670},{"$f":"IF($A95=\"\",\"\",IF(ISBLANK($A95),\"\",VLOOKUP($A95,Data!$A$4:$AI$155,19,FALSE)))","v":4720},{"$f":"IF($A95=\"\",\"\",IF(ISBLANK($A95),\"\",VLOOKUP($A95,Data!$A$4:$AI$155,20,FALSE)))","v":4770},{"$f":"IF($A95=\"\",\"\",IF(ISBLANK($A95),\"\",VLOOKUP($A95,Data!$A$4:$AI$155,21,FALSE)))","v":0.92},{"$f":"IF($A95=\"\",\"\",IF(ISBLANK($A95),\"\",VLOOKUP($A95,Data!$A$4:$AI$155,22,FALSE)))","v":0.93},{"$f":"IF($A95=\"\",\"\",IF(ISBLANK($A95),\"\",VLOOKUP($A95,Data!$A$4:$AI$155,23,FALSE)))","v":0.98}]
[{"$f":"IF('Early Years Table'!A96=\"\",\"\",IF(ISBLANK('Early Years Table'!A96),\"\",'Early Years Table'!A96))","v":926},{"$f":"IF($A96=\"\",\"\",IF(ISBLANK($A96),\"\",INDEX('LEA Nos codes'!$A$3:$A$154,MATCH($A96,'LEA Nos codes'!$B$3:$B$154,0))))","v":"Norfolk"},{"$f":"IF($A96=\"\",\"\",IF(ISBLANK($A96),\"\",VLOOKUP($A96,Data!$A$4:$AI$155,18,FALSE)))","v":8490},{"$f":"IF($A96=\"\",\"\",IF(ISBLANK($A96),\"\",VLOOKUP($A96,Data!$A$4:$AI$155,19,FALSE)))","v":8980},{"$f":"IF($A96=\"\",\"\",IF(ISBLANK($A96),\"\",VLOOKUP($A96,Data!$A$4:$AI$155,20,FALSE)))","v":8840},{"$f":"IF($A96=\"\",\"\",IF(ISBLANK($A96),\"\",VLOOKUP($A96,Data!$A$4:$AI$155,21,FALSE)))","v":0.93},{"$f":"IF($A96=\"\",\"\",IF(ISBLANK($A96),\"\",VLOOKUP($A96,Data!$A$4:$AI$155,22,FALSE)))","v":0.95},{"$f":"IF($A96=\"\",\"\",IF(ISBLANK($A96),\"\",VLOOKUP($A96,Data!$A$4:$AI$155,23,FALSE)))","v":0.94}]
[{"$f":"IF('Early Years Table'!A97=\"\",\"\",IF(ISBLANK('Early Years Table'!A97),\"\",'Early Years Table'!A97))","v":812},{"$f":"IF($A97=\"\",\"\",IF(ISBLANK($A97),\"\",INDEX('LEA Nos codes'!$A$3:$A$154,MATCH($A97,'LEA Nos codes'!$B$3:$B$154,0))))","v":"North East Lincolnshire"},{"$f":"IF($A97=\"\",\"\",IF(ISBLANK($A97),\"\",VLOOKUP($A97,Data!$A$4:$AI$155,18,FALSE)))","v":1850},{"$f":"IF($A97=\"\",\"\",IF(ISBLANK($A97),\"\",VLOOKUP($A97,Data!$A$4:$AI$155,19,FALSE)))","v":1900},{"$f":"IF($A97=\"\",\"\",IF(ISBLANK($A97),\"\",VLOOKUP($A97,Data!$A$4:$AI$155,20,FALSE)))","v":1960},{"$f":"IF($A97=\"\",\"\",IF(ISBLANK($A97),\"\",VLOOKUP($A97,Data!$A$4:$AI$155,21,FALSE)))","v":0.94},{"$f":"IF($A97=\"\",\"\",IF(ISBLANK($A97),\"\",VLOOKUP($A97,Data!$A$4:$AI$155,22,FALSE)))","v":0.95},{"$f":"IF($A97=\"\",\"\",IF(ISBLANK($A97),\"\",VLOOKUP($A97,Data!$A$4:$AI$155,23,FALSE)))","v":0.97}]
[{"$f":"IF('Early Years Table'!A98=\"\",\"\",IF(ISBLANK('Early Years Table'!A98),\"\",'Early Years Table'!A98))","v":813},{"$f":"IF($A98=\"\",\"\",IF(ISBLANK($A98),\"\",INDEX('LEA Nos codes'!$A$3:$A$154,MATCH($A98,'LEA Nos codes'!$B$3:$B$154,0))))","v":"North Lincolnshire"},{"$f":"IF($A98=\"\",\"\",IF(ISBLANK($A98),\"\",VLOOKUP($A98,Data!$A$4:$AI$155,18,FALSE)))","v":1810},{"$f":"IF($A98=\"\",\"\",IF(ISBLANK($A98),\"\",VLOOKUP($A98,Data!$A$4:$AI$155,19,FALSE)))","v":1890},{"$f":"IF($A98=\"\",\"\",IF(ISBLANK($A98),\"\",VLOOKUP($A98,Data!$A$4:$AI$155,20,FALSE)))","v":1850},{"$f":"IF($A98=\"\",\"\",IF(ISBLANK($A98),\"\",VLOOKUP($A98,Data!$A$4:$AI$155,21,FALSE)))","v":0.89},{"$f":"IF($A98=\"\",\"\",IF(ISBLANK($A98),\"\",VLOOKUP($A98,Data!$A$4:$AI$155,22,FALSE)))","v":0.9},{"$f":"IF($A98=\"\",\"\",IF(ISBLANK($A98),\"\",VLOOKUP($A98,Data!$A$4:$AI$155,23,FALSE)))","v":0.89}]
[{"$f":"IF('Early Years Table'!A99=\"\",\"\",IF(ISBLANK('Early Years Table'!A99),\"\",'Early Years Table'!A99))","v":802},{"$f":"IF($A99=\"\",\"\",IF(ISBLANK($A99),\"\",INDEX('LEA Nos codes'!$A$3:$A$154,MATCH($A99,'LEA Nos codes'!$B$3:$B$154,0))))","v":"North Somerset"},{"$f":"IF($A99=\"\",\"\",IF(ISBLANK($A99),\"\",VLOOKUP($A99,Data!$A$4:$AI$155,18,FALSE)))","v":2280},{"$f":"IF($A99=\"\",\"\",IF(ISBLANK($A99),\"\",VLOOKUP($A99,Data!$A$4:$AI$155,19,FALSE)))","v":2360},{"$f":"IF($A99=\"\",\"\",IF(ISBLANK($A99),\"\",VLOOKUP($A99,Data!$A$4:$AI$155,20,FALSE)))","v":2320},{"$f":"IF($A99=\"\",\"\",IF(ISBLANK($A99),\"\",VLOOKUP($A99,Data!$A$4:$AI$155,21,FALSE)))","v":0.97},{"$f":"IF($A99=\"\",\"\",IF(ISBLANK($A99),\"\",VLOOKUP($A99,Data!$A$4:$AI$155,22,FALSE)))","v":0.99},{"$f":"IF($A99=\"\",\"\",IF(ISBLANK($A99),\"\",VLOOKUP($A99,Data!$A$4:$AI$155,23,FALSE)))","v":0.97}]
[{"$f":"IF('Early Years Table'!A100=\"\",\"\",IF(ISBLANK('Early Years Table'!A100),\"\",'Early Years Table'!A100))","v":392},{"$f":"IF($A100=\"\",\"\",IF(ISBLANK($A100),\"\",INDEX('LEA Nos codes'!$A$3:$A$154,MATCH($A100,'LEA Nos codes'!$B$3:$B$154,0))))","v":"North Tyneside"},{"$f":"IF($A100=\"\",\"\",IF(ISBLANK($A100),\"\",VLOOKUP($A100,Data!$A$4:$AI$155,18,FALSE)))","v":2190},{"$f":"IF($A100=\"\",\"\",IF(ISBLANK($A100),\"\",VLOOKUP($A100,Data!$A$4:$AI$155,19,FALSE)))","v":2360},{"$f":"IF($A100=\"\",\"\",IF(ISBLANK($A100),\"\",VLOOKUP($A100,Data!$A$4:$AI$155,20,FALSE)))","v":2270},{"$f":"IF($A100=\"\",\"\",IF(ISBLANK($A100),\"\",VLOOKUP($A100,Data!$A$4:$AI$155,21,FALSE)))","v":0.95},{"$f":"IF($A100=\"\",\"\",IF(ISBLANK($A100),\"\",VLOOKUP($A100,Data!$A$4:$AI$155,22,FALSE)))","v":0.99},{"$f":"IF($A100=\"\",\"\",IF(ISBLANK($A100),\"\",VLOOKUP($A100,Data!$A$4:$AI$155,23,FALSE)))","v":0.96}]
[{"$f":"IF('Early Years Table'!A101=\"\",\"\",IF(ISBLANK('Early Years Table'!A101),\"\",'Early Years Table'!A101))","v":815},{"$f":"IF($A101=\"\",\"\",IF(ISBLANK($A101),\"\",INDEX('LEA Nos codes'!$A$3:$A$154,MATCH($A101,'LEA Nos codes'!$B$3:$B$154,0))))","v":"North Yorkshire"},{"$f":"IF($A101=\"\",\"\",IF(ISBLANK($A101),\"\",VLOOKUP($A101,Data!$A$4:$AI$155,18,FALSE)))","v":6000},{"$f":"IF($A101=\"\",\"\",IF(ISBLANK($A101),\"\",VLOOKUP($A101,Data!$A$4:$AI$155,19,FALSE)))","v":6340},{"$f":"IF($A101=\"\",\"\",IF(ISBLANK($A101),\"\",VLOOKUP($A101,Data!$A$4:$AI$155,20,FALSE)))","v":6130},{"$f":"IF($A101=\"\",\"\",IF(ISBLANK($A101),\"\",VLOOKUP($A101,Data!$A$4:$AI$155,21,FALSE)))","v":0.96},{"$f":"IF($A101=\"\",\"\",IF(ISBLANK($A101),\"\",VLOOKUP($A101,Data!$A$4:$AI$155,22,FALSE)))","v":1.01},{"$f":"IF($A101=\"\",\"\",IF(ISBLANK($A101),\"\",VLOOKUP($A101,Data!$A$4:$AI$155,23,FALSE)))","v":0.98}]
[{"$f":"IF('Early Years Table'!A102=\"\",\"\",IF(ISBLANK('Early Years Table'!A102),\"\",'Early Years Table'!A102))","v":928},{"$f":"IF($A102=\"\",\"\",IF(ISBLANK($A102),\"\",INDEX('LEA Nos codes'!$A$3:$A$154,MATCH($A102,'LEA Nos codes'!$B$3:$B$154,0))))","v":"Northamptonshire"},{"$f":"IF($A102=\"\",\"\",IF(ISBLANK($A102),\"\",VLOOKUP($A102,Data!$A$4:$AI$155,18,FALSE)))","v":8470},{"$f":"IF($A102=\"\",\"\",IF(ISBLANK($A102),\"\",VLOOKUP($A102,Data!$A$4:$AI$155,19,FALSE)))","v":8870},{"$f":"IF($A102=\"\",\"\",IF(ISBLANK($A102),\"\",VLOOKUP($A102,Data!$A$4:$AI$155,20,FALSE)))","v":8900},{"$f":"IF($A102=\"\",\"\",IF(ISBLANK($A102),\"\",VLOOKUP($A102,Data!$A$4:$AI$155,21,FALSE)))","v":0.93},{"$f":"IF($A102=\"\",\"\",IF(ISBLANK($A102),\"\",VLOOKUP($A102,Data!$A$4:$AI$155,22,FALSE)))","v":0.94},{"$f":"IF($A102=\"\",\"\",IF(ISBLANK($A102),\"\",VLOOKUP($A102,Data!$A$4:$AI$155,23,FALSE)))","v":0.95}]
[{"$f":"IF('Early Years Table'!A103=\"\",\"\",IF(ISBLANK('Early Years Table'!A103),\"\",'Early Years Table'!A103))","v":929},{"$f":"IF($A103=\"\",\"\",IF(ISBLANK($A103),\"\",INDEX('LEA Nos codes'!$A$3:$A$154,MATCH($A103,'LEA Nos codes'!$B$3:$B$154,0))))","v":"Northumberland"},{"$f":"IF($A103=\"\",\"\",IF(ISBLANK($A103),\"\",VLOOKUP($A103,Data!$A$4:$AI$155,18,FALSE)))","v":3140},{"$f":"IF($A103=\"\",\"\",IF(ISBLANK($A103),\"\",VLOOKUP($A103,Data!$A$4:$AI$155,19,FALSE)))","v":3290},{"$f":"IF($A103=\"\",\"\",IF(ISBLANK($A103),\"\",VLOOKUP($A103,Data!$A$4:$AI$155,20,FALSE)))","v":3150},{"$f":"IF($A103=\"\",\"\",IF(ISBLANK($A103),\"\",VLOOKUP($A103,Data!$A$4:$AI$155,21,FALSE)))","v":0.98},{"$f":"IF($A103=\"\",\"\",IF(ISBLANK($A103),\"\",VLOOKUP($A103,Data!$A$4:$AI$155,22,FALSE)))","v":1},{"$f":"IF($A103=\"\",\"\",IF(ISBLANK($A103),\"\",VLOOKUP($A103,Data!$A$4:$AI$155,23,FALSE)))","v":0.98}]
[{"$f":"IF('Early Years Table'!A104=\"\",\"\",IF(ISBLANK('Early Years Table'!A104),\"\",'Early Years Table'!A104))","v":892},{"$f":"IF($A104=\"\",\"\",IF(ISBLANK($A104),\"\",INDEX('LEA Nos codes'!$A$3:$A$154,MATCH($A104,'LEA Nos codes'!$B$3:$B$154,0))))","v":"Nottingham"},{"$f":"IF($A104=\"\",\"\",IF(ISBLANK($A104),\"\",VLOOKUP($A104,Data!$A$4:$AI$155,18,FALSE)))","v":3780},{"$f":"IF($A104=\"\",\"\",IF(ISBLANK($A104),\"\",VLOOKUP($A104,Data!$A$4:$AI$155,19,FALSE)))","v":3850},{"$f":"IF($A104=\"\",\"\",IF(ISBLANK($A104),\"\",VLOOKUP($A104,Data!$A$4:$AI$155,20,FALSE)))","v":3880},{"$f":"IF($A104=\"\",\"\",IF(ISBLANK($A104),\"\",VLOOKUP($A104,Data!$A$4:$AI$155,21,FALSE)))","v":0.98},{"$f":"IF($A104=\"\",\"\",IF(ISBLANK($A104),\"\",VLOOKUP($A104,Data!$A$4:$AI$155,22,FALSE)))","v":0.96},{"$f":"IF($A104=\"\",\"\",IF(ISBLANK($A104),\"\",VLOOKUP($A104,Data!$A$4:$AI$155,23,FALSE)))","v":0.98}]
[{"$f":"IF('Early Years Table'!A105=\"\",\"\",IF(ISBLANK('Early Years Table'!A105),\"\",'Early Years Table'!A105))","v":891},{"$f":"IF($A105=\"\",\"\",IF(ISBLANK($A105),\"\",INDEX('LEA Nos codes'!$A$3:$A$154,MATCH($A105,'LEA Nos codes'!$B$3:$B$154,0))))","v":"Nottinghamshire"},{"$f":"IF($A105=\"\",\"\",IF(ISBLANK($A105),\"\",VLOOKUP($A105,Data!$A$4:$AI$155,18,FALSE)))","v":8770},{"$f":"IF($A105=\"\",\"\",IF(ISBLANK($A105),\"\",VLOOKUP($A105,Data!$A$4:$AI$155,19,FALSE)))","v":8960},{"$f":"IF($A105=\"\",\"\",IF(ISBLANK($A105),\"\",VLOOKUP($A105,Data!$A$4:$AI$155,20,FALSE)))","v":8680},{"$f":"IF($A105=\"\",\"\",IF(ISBLANK($A105),\"\",VLOOKUP($A105,Data!$A$4:$AI$155,21,FALSE)))","v":0.98},{"$f":"IF($A105=\"\",\"\",IF(ISBLANK($A105),\"\",VLOOKUP($A105,Data!$A$4:$AI$155,22,FALSE)))","v":0.98},{"$f":"IF($A105=\"\",\"\",IF(ISBLANK($A105),\"\",VLOOKUP($A105,Data!$A$4:$AI$155,23,FALSE)))","v":0.96}]
[{"$f":"IF('Early Years Table'!A106=\"\",\"\",IF(ISBLANK('Early Years Table'!A106),\"\",'Early Years Table'!A106))","v":353},{"$f":"IF($A106=\"\",\"\",IF(ISBLANK($A106),\"\",INDEX('LEA Nos codes'!$A$3:$A$154,MATCH($A106,'LEA Nos codes'!$B$3:$B$154,0))))","v":"Oldham"},{"$f":"IF($A106=\"\",\"\",IF(ISBLANK($A106),\"\",VLOOKUP($A106,Data!$A$4:$AI$155,18,FALSE)))","v":2890},{"$f":"IF($A106=\"\",\"\",IF(ISBLANK($A106),\"\",VLOOKUP($A106,Data!$A$4:$AI$155,19,FALSE)))","v":2970},{"$f":"IF($A106=\"\",\"\",IF(ISBLANK($A106),\"\",VLOOKUP($A106,Data!$A$4:$AI$155,20,FALSE)))","v":3070},{"$f":"IF($A106=\"\",\"\",IF(ISBLANK($A106),\"\",VLOOKUP($A106,Data!$A$4:$AI$155,21,FALSE)))","v":0.87},{"$f":"IF($A106=\"\",\"\",IF(ISBLANK($A106),\"\",VLOOKUP($A106,Data!$A$4:$AI$155,22,FALSE)))","v":0.89},{"$f":"IF($A106=\"\",\"\",IF(ISBLANK($A106),\"\",VLOOKUP($A106,Data!$A$4:$AI$155,23,FALSE)))","v":0.94}]
[{"$f":"IF('Early Years Table'!A107=\"\",\"\",IF(ISBLANK('Early Years Table'!A107),\"\",'Early Years Table'!A107))","v":931},{"$f":"IF($A107=\"\",\"\",IF(ISBLANK($A107),\"\",INDEX('LEA Nos codes'!$A$3:$A$154,MATCH($A107,'LEA Nos codes'!$B$3:$B$154,0))))","v":"Oxfordshire"},{"$f":"IF($A107=\"\",\"\",IF(ISBLANK($A107),\"\",VLOOKUP($A107,Data!$A$4:$AI$155,18,FALSE)))","v":7700},{"$f":"IF($A107=\"\",\"\",IF(ISBLANK($A107),\"\",VLOOKUP($A107,Data!$A$4:$AI$155,19,FALSE)))","v":7870},{"$f":"IF($A107=\"\",\"\",IF(ISBLANK($A107),\"\",VLOOKUP($A107,Data!$A$4:$AI$155,20,FALSE)))","v":7630},{"$f":"IF($A107=\"\",\"\",IF(ISBLANK($A107),\"\",VLOOKUP($A107,Data!$A$4:$AI$155,21,FALSE)))","v":0.95},{"$f":"IF($A107=\"\",\"\",IF(ISBLANK($A107),\"\",VLOOKUP($A107,Data!$A$4:$AI$155,22,FALSE)))","v":0.97},{"$f":"IF($A107=\"\",\"\",IF(ISBLANK($A107),\"\",VLOOKUP($A107,Data!$A$4:$AI$155,23,FALSE)))","v":0.94}]
[{"$f":"IF('Early Years Table'!A108=\"\",\"\",IF(ISBLANK('Early Years Table'!A108),\"\",'Early Years Table'!A108))","v":874},{"$f":"IF($A108=\"\",\"\",IF(ISBLANK($A108),\"\",INDEX('LEA Nos codes'!$A$3:$A$154,MATCH($A108,'LEA Nos codes'!$B$3:$B$154,0))))","v":"Peterborough"},{"$f":"IF($A108=\"\",\"\",IF(ISBLANK($A108),\"\",VLOOKUP($A108,Data!$A$4:$AI$155,18,FALSE)))","v":2460},{"$f":"IF($A108=\"\",\"\",IF(ISBLANK($A108),\"\",VLOOKUP($A108,Data!$A$4:$AI$155,19,FALSE)))","v":2690},{"$f":"IF($A108=\"\",\"\",IF(ISBLANK($A108),\"\",VLOOKUP($A108,Data!$A$4:$AI$155,20,FALSE)))","v":2720},{"$f":"IF($A108=\"\",\"\",IF(ISBLANK($A108),\"\",VLOOKUP($A108,Data!$A$4:$AI$155,21,FALSE)))","v":0.91},{"$f":"IF($A108=\"\",\"\",IF(ISBLANK($A108),\"\",VLOOKUP($A108,Data!$A$4:$AI$155,22,FALSE)))","v":0.95},{"$f":"IF($A108=\"\",\"\",IF(ISBLANK($A108),\"\",VLOOKUP($A108,Data!$A$4:$AI$155,23,FALSE)))","v":0.96}]
[{"$f":"IF('Early Years Table'!A109=\"\",\"\",IF(ISBLANK('Early Years Table'!A109),\"\",'Early Years Table'!A109))","v":879},{"$f":"IF($A109=\"\",\"\",IF(ISBLANK($A109),\"\",INDEX('LEA Nos codes'!$A$3:$A$154,MATCH($A109,'LEA Nos codes'!$B$3:$B$154,0))))","v":"Plymouth"},{"$f":"IF($A109=\"\",\"\",IF(ISBLANK($A109),\"\",VLOOKUP($A109,Data!$A$4:$AI$155,18,FALSE)))","v":2910},{"$f":"IF($A109=\"\",\"\",IF(ISBLANK($A109),\"\",VLOOKUP($A109,Data!$A$4:$AI$155,19,FALSE)))","v":3000},{"$f":"IF($A109=\"\",\"\",IF(ISBLANK($A109),\"\",VLOOKUP($A109,Data!$A$4:$AI$155,20,FALSE)))","v":3010},{"$f":"IF($A109=\"\",\"\",IF(ISBLANK($A109),\"\",VLOOKUP($A109,Data!$A$4:$AI$155,21,FALSE)))","v":0.97},{"$f":"IF($A109=\"\",\"\",IF(ISBLANK($A109),\"\",VLOOKUP($A109,Data!$A$4:$AI$155,22,FALSE)))","v":0.98},{"$f":"IF($A109=\"\",\"\",IF(ISBLANK($A109),\"\",VLOOKUP($A109,Data!$A$4:$AI$155,23,FALSE)))","v":0.99}]
[{"$f":"IF('Early Years Table'!A110=\"\",\"\",IF(ISBLANK('Early Years Table'!A110),\"\",'Early Years Table'!A110))","v":836},{"$f":"IF($A110=\"\",\"\",IF(ISBLANK($A110),\"\",INDEX('LEA Nos codes'!$A$3:$A$154,MATCH($A110,'LEA Nos codes'!$B$3:$B$154,0))))","v":"Poole"},{"$f":"IF($A110=\"\",\"\",IF(ISBLANK($A110),\"\",VLOOKUP($A110,Data!$A$4:$AI$155,18,FALSE)))","v":1410},{"$f":"IF($A110=\"\",\"\",IF(ISBLANK($A110),\"\",VLOOKUP($A110,Data!$A$4:$AI$155,19,FALSE)))","v":1530},{"$f":"IF($A110=\"\",\"\",IF(ISBLANK($A110),\"\",VLOOKUP($A110,Data!$A$4:$AI$155,20,FALSE)))","v":1470},{"$f":"IF($A110=\"\",\"\",IF(ISBLANK($A110),\"\",VLOOKUP($A110,Data!$A$4:$AI$155,21,FALSE)))","v":0.82},{"$f":"IF($A110=\"\",\"\",IF(ISBLANK($A110),\"\",VLOOKUP($A110,Data!$A$4:$AI$155,22,FALSE)))","v":0.89},{"$f":"IF($A110=\"\",\"\",IF(ISBLANK($A110),\"\",VLOOKUP($A110,Data!$A$4:$AI$155,23,FALSE)))","v":0.87}]
[{"$f":"IF('Early Years Table'!A111=\"\",\"\",IF(ISBLANK('Early Years Table'!A111),\"\",'Early Years Table'!A111))","v":851},{"$f":"IF($A111=\"\",\"\",IF(ISBLANK($A111),\"\",INDEX('LEA Nos codes'!$A$3:$A$154,MATCH($A111,'LEA Nos codes'!$B$3:$B$154,0))))","v":"Portsmouth"},{"$f":"IF($A111=\"\",\"\",IF(ISBLANK($A111),\"\",VLOOKUP($A111,Data!$A$4:$AI$155,18,FALSE)))","v":2420},{"$f":"IF($A111=\"\",\"\",IF(ISBLANK($A111),\"\",VLOOKUP($A111,Data!$A$4:$AI$155,19,FALSE)))","v":2550},{"$f":"IF($A111=\"\",\"\",IF(ISBLANK($A111),\"\",VLOOKUP($A111,Data!$A$4:$AI$155,20,FALSE)))","v":2550},{"$f":"IF($A111=\"\",\"\",IF(ISBLANK($A111),\"\",VLOOKUP($A111,Data!$A$4:$AI$155,21,FALSE)))","v":0.94},{"$f":"IF($A111=\"\",\"\",IF(ISBLANK($A111),\"\",VLOOKUP($A111,Data!$A$4:$AI$155,22,FALSE)))","v":0.95},{"$f":"IF($A111=\"\",\"\",IF(ISBLANK($A111),\"\",VLOOKUP($A111,Data!$A$4:$AI$155,23,FALSE)))","v":0.94}]
[{"$f":"IF('Early Years Table'!A112=\"\",\"\",IF(ISBLANK('Early Years Table'!A112),\"\",'Early Years Table'!A112))","v":870},{"$f":"IF($A112=\"\",\"\",IF(ISBLANK($A112),\"\",INDEX('LEA Nos codes'!$A$3:$A$154,MATCH($A112,'LEA Nos codes'!$B$3:$B$154,0))))","v":"Reading"},{"$f":"IF($A112=\"\",\"\",IF(ISBLANK($A112),\"\",VLOOKUP($A112,Data!$A$4:$AI$155,18,FALSE)))","v":2070},{"$f":"IF($A112=\"\",\"\",IF(ISBLANK($A112),\"\",VLOOKUP($A112,Data!$A$4:$AI$155,19,FALSE)))","v":2130},{"$f":"IF($A112=\"\",\"\",IF(ISBLANK($A112),\"\",VLOOKUP($A112,Data!$A$4:$AI$155,20,FALSE)))","v":2160},{"$f":"IF($A112=\"\",\"\",IF(ISBLANK($A112),\"\",VLOOKUP($A112,Data!$A$4:$AI$155,21,FALSE)))","v":0.89},{"$f":"IF($A112=\"\",\"\",IF(ISBLANK($A112),\"\",VLOOKUP($A112,Data!$A$4:$AI$155,22,FALSE)))","v":0.88},{"$f":"IF($A112=\"\",\"\",IF(ISBLANK($A112),\"\",VLOOKUP($A112,Data!$A$4:$AI$155,23,FALSE)))","v":0.93}]
[{"$f":"IF('Early Years Table'!A113=\"\",\"\",IF(ISBLANK('Early Years Table'!A113),\"\",'Early Years Table'!A113))","v":317},{"$f":"IF($A113=\"\",\"\",IF(ISBLANK($A113),\"\",INDEX('LEA Nos codes'!$A$3:$A$154,MATCH($A113,'LEA Nos codes'!$B$3:$B$154,0))))","v":"Redbridge"},{"$f":"IF($A113=\"\",\"\",IF(ISBLANK($A113),\"\",VLOOKUP($A113,Data!$A$4:$AI$155,18,FALSE)))","v":3850},{"$f":"IF($A113=\"\",\"\",IF(ISBLANK($A113),\"\",VLOOKUP($A113,Data!$A$4:$AI$155,19,FALSE)))","v":3920},{"$f":"IF($A113=\"\",\"\",IF(ISBLANK($A113),\"\",VLOOKUP($A113,Data!$A$4:$AI$155,20,FALSE)))","v":4070},{"$f":"IF($A113=\"\",\"\",IF(ISBLANK($A113),\"\",VLOOKUP($A113,Data!$A$4:$AI$155,21,FALSE)))","v":0.91},{"$f":"IF($A113=\"\",\"\",IF(ISBLANK($A113),\"\",VLOOKUP($A113,Data!$A$4:$AI$155,22,FALSE)))","v":0.89},{"$f":"IF($A113=\"\",\"\",IF(ISBLANK($A113),\"\",VLOOKUP($A113,Data!$A$4:$AI$155,23,FALSE)))","v":0.93}]
[{"$f":"IF('Early Years Table'!A114=\"\",\"\",IF(ISBLANK('Early Years Table'!A114),\"\",'Early Years Table'!A114))","v":807},{"$f":"IF($A114=\"\",\"\",IF(ISBLANK($A114),\"\",INDEX('LEA Nos codes'!$A$3:$A$154,MATCH($A114,'LEA Nos codes'!$B$3:$B$154,0))))","v":"Redcar and Cleveland"},{"$f":"IF($A114=\"\",\"\",IF(ISBLANK($A114),\"\",VLOOKUP($A114,Data!$A$4:$AI$155,18,FALSE)))","v":1590},{"$f":"IF($A114=\"\",\"\",IF(ISBLANK($A114),\"\",VLOOKUP($A114,Data!$A$4:$AI$155,19,FALSE)))","v":1560},{"$f":"IF($A114=\"\",\"\",IF(ISBLANK($A114),\"\",VLOOKUP($A114,Data!$A$4:$AI$155,20,FALSE)))","v":1520},{"$f":"IF($A114=\"\",\"\",IF(ISBLANK($A114),\"\",VLOOKUP($A114,Data!$A$4:$AI$155,21,FALSE)))","v":1.06},{"$f":"IF($A114=\"\",\"\",IF(ISBLANK($A114),\"\",VLOOKUP($A114,Data!$A$4:$AI$155,22,FALSE)))","v":1.05},{"$f":"IF($A114=\"\",\"\",IF(ISBLANK($A114),\"\",VLOOKUP($A114,Data!$A$4:$AI$155,23,FALSE)))","v":1.02}]
[{"$f":"IF('Early Years Table'!A115=\"\",\"\",IF(ISBLANK('Early Years Table'!A115),\"\",'Early Years Table'!A115))","v":318},{"$f":"IF($A115=\"\",\"\",IF(ISBLANK($A115),\"\",INDEX('LEA Nos codes'!$A$3:$A$154,MATCH($A115,'LEA Nos codes'!$B$3:$B$154,0))))","v":"Richmond upon Thames"},{"$f":"IF($A115=\"\",\"\",IF(ISBLANK($A115),\"\",VLOOKUP($A115,Data!$A$4:$AI$155,18,FALSE)))","v":2550},{"$f":"IF($A115=\"\",\"\",IF(ISBLANK($A115),\"\",VLOOKUP($A115,Data!$A$4:$AI$155,19,FALSE)))","v":2650},{"$f":"IF($A115=\"\",\"\",IF(ISBLANK($A115),\"\",VLOOKUP($A115,Data!$A$4:$AI$155,20,FALSE)))","v":2610},{"$f":"IF($A115=\"\",\"\",IF(ISBLANK($A115),\"\",VLOOKUP($A115,Data!$A$4:$AI$155,21,FALSE)))","v":0.94},{"$f":"IF($A115=\"\",\"\",IF(ISBLANK($A115),\"\",VLOOKUP($A115,Data!$A$4:$AI$155,22,FALSE)))","v":0.95},{"$f":"IF($A115=\"\",\"\",IF(ISBLANK($A115),\"\",VLOOKUP($A115,Data!$A$4:$AI$155,23,FALSE)))","v":0.92}]
[{"$f":"IF('Early Years Table'!A116=\"\",\"\",IF(ISBLANK('Early Years Table'!A116),\"\",'Early Years Table'!A116))","v":354},{"$f":"IF($A116=\"\",\"\",IF(ISBLANK($A116),\"\",INDEX('LEA Nos codes'!$A$3:$A$154,MATCH($A116,'LEA Nos codes'!$B$3:$B$154,0))))","v":"Rochdale"},{"$f":"IF($A116=\"\",\"\",IF(ISBLANK($A116),\"\",VLOOKUP($A116,Data!$A$4:$AI$155,18,FALSE)))","v":2760},{"$f":"IF($A116=\"\",\"\",IF(ISBLANK($A116),\"\",VLOOKUP($A116,Data!$A$4:$AI$155,19,FALSE)))","v":2750},{"$f":"IF($A116=\"\",\"\",IF(ISBLANK($A116),\"\",VLOOKUP($A116,Data!$A$4:$AI$155,20,FALSE)))","v":2730},{"$f":"IF($A116=\"\",\"\",IF(ISBLANK($A116),\"\",VLOOKUP($A116,Data!$A$4:$AI$155,21,FALSE)))","v":0.92},{"$f":"IF($A116=\"\",\"\",IF(ISBLANK($A116),\"\",VLOOKUP($A116,Data!$A$4:$AI$155,22,FALSE)))","v":0.92},{"$f":"IF($A116=\"\",\"\",IF(ISBLANK($A116),\"\",VLOOKUP($A116,Data!$A$4:$AI$155,23,FALSE)))","v":0.93}]
[{"$f":"IF('Early Years Table'!A117=\"\",\"\",IF(ISBLANK('Early Years Table'!A117),\"\",'Early Years Table'!A117))","v":372},{"$f":"IF($A117=\"\",\"\",IF(ISBLANK($A117),\"\",INDEX('LEA Nos codes'!$A$3:$A$154,MATCH($A117,'LEA Nos codes'!$B$3:$B$154,0))))","v":"Rotherham"},{"$f":"IF($A117=\"\",\"\",IF(ISBLANK($A117),\"\",VLOOKUP($A117,Data!$A$4:$AI$155,18,FALSE)))","v":2900},{"$f":"IF($A117=\"\",\"\",IF(ISBLANK($A117),\"\",VLOOKUP($A117,Data!$A$4:$AI$155,19,FALSE)))","v":3010},{"$f":"IF($A117=\"\",\"\",IF(ISBLANK($A117),\"\",VLOOKUP($A117,Data!$A$4:$AI$155,20,FALSE)))","v":2950},{"$f":"IF($A117=\"\",\"\",IF(ISBLANK($A117),\"\",VLOOKUP($A117,Data!$A$4:$AI$155,21,FALSE)))","v":0.92},{"$f":"IF($A117=\"\",\"\",IF(ISBLANK($A117),\"\",VLOOKUP($A117,Data!$A$4:$AI$155,22,FALSE)))","v":0.92},{"$f":"IF($A117=\"\",\"\",IF(ISBLANK($A117),\"\",VLOOKUP($A117,Data!$A$4:$AI$155,23,FALSE)))","v":0.93}]
[{"$f":"IF('Early Years Table'!A118=\"\",\"\",IF(ISBLANK('Early Years Table'!A118),\"\",'Early Years Table'!A118))","v":857},{"$f":"IF($A118=\"\",\"\",IF(ISBLANK($A118),\"\",INDEX('LEA Nos codes'!$A$3:$A$154,MATCH($A118,'LEA Nos codes'!$B$3:$B$154,0))))","v":"Rutland"},{"$f":"IF($A118=\"\",\"\",IF(ISBLANK($A118),\"\",VLOOKUP($A118,Data!$A$4:$AI$155,18,FALSE)))","v":410},{"$f":"IF($A118=\"\",\"\",IF(ISBLANK($A118),\"\",VLOOKUP($A118,Data!$A$4:$AI$155,19,FALSE)))","v":340},{"$f":"IF($A118=\"\",\"\",IF(ISBLANK($A118),\"\",VLOOKUP($A118,Data!$A$4:$AI$155,20,FALSE)))","v":400},{"$f":"IF($A118=\"\",\"\",IF(ISBLANK($A118),\"\",VLOOKUP($A118,Data!$A$4:$AI$155,21,FALSE)))","v":1.06},{"$f":"IF($A118=\"\",\"\",IF(ISBLANK($A118),\"\",VLOOKUP($A118,Data!$A$4:$AI$155,22,FALSE)))","v":0.97},{"$f":"IF($A118=\"\",\"\",IF(ISBLANK($A118),\"\",VLOOKUP($A118,Data!$A$4:$AI$155,23,FALSE)))","v":1.1000000000000001}]
[{"$f":"IF('Early Years Table'!A119=\"\",\"\",IF(ISBLANK('Early Years Table'!A119),\"\",'Early Years Table'!A119))","v":355},{"$f":"IF($A119=\"\",\"\",IF(ISBLANK($A119),\"\",INDEX('LEA Nos codes'!$A$3:$A$154,MATCH($A119,'LEA Nos codes'!$B$3:$B$154,0))))","v":"Salford"},{"$f":"IF($A119=\"\",\"\",IF(ISBLANK($A119),\"\",VLOOKUP($A119,Data!$A$4:$AI$155,18,FALSE)))","v":2760},{"$f":"IF($A119=\"\",\"\",IF(ISBLANK($A119),\"\",VLOOKUP($A119,Data!$A$4:$AI$155,19,FALSE)))","v":2950},{"$f":"IF($A119=\"\",\"\",IF(ISBLANK($A119),\"\",VLOOKUP($A119,Data!$A$4:$AI$155,20,FALSE)))","v":2970},{"$f":"IF($A119=\"\",\"\",IF(ISBLANK($A119),\"\",VLOOKUP($A119,Data!$A$4:$AI$155,21,FALSE)))","v":0.87},{"$f":"IF($A119=\"\",\"\",IF(ISBLANK($A119),\"\",VLOOKUP($A119,Data!$A$4:$AI$155,22,FALSE)))","v":0.93},{"$f":"IF($A119=\"\",\"\",IF(ISBLANK($A119),\"\",VLOOKUP($A119,Data!$A$4:$AI$155,23,FALSE)))","v":0.93}]
[{"$f":"IF('Early Years Table'!A120=\"\",\"\",IF(ISBLANK('Early Years Table'!A120),\"\",'Early Years Table'!A120))","v":333},{"$f":"IF($A120=\"\",\"\",IF(ISBLANK($A120),\"\",INDEX('LEA Nos codes'!$A$3:$A$154,MATCH($A120,'LEA Nos codes'!$B$3:$B$154,0))))","v":"Sandwell"},{"$f":"IF($A120=\"\",\"\",IF(ISBLANK($A120),\"\",VLOOKUP($A120,Data!$A$4:$AI$155,18,FALSE)))","v":3850},{"$f":"IF($A120=\"\",\"\",IF(ISBLANK($A120),\"\",VLOOKUP($A120,Data!$A$4:$AI$155,19,FALSE)))","v":4150},{"$f":"IF($A120=\"\",\"\",IF(ISBLANK($A120),\"\",VLOOKUP($A120,Data!$A$4:$AI$155,20,FALSE)))","v":4130},{"$f":"IF($A120=\"\",\"\",IF(ISBLANK($A120),\"\",VLOOKUP($A120,Data!$A$4:$AI$155,21,FALSE)))","v":0.85},{"$f":"IF($A120=\"\",\"\",IF(ISBLANK($A120),\"\",VLOOKUP($A120,Data!$A$4:$AI$155,22,FALSE)))","v":0.88},{"$f":"IF($A120=\"\",\"\",IF(ISBLANK($A120),\"\",VLOOKUP($A120,Data!$A$4:$AI$155,23,FALSE)))","v":0.9}]
[{"$f":"IF('Early Years Table'!A121=\"\",\"\",IF(ISBLANK('Early Years Table'!A121),\"\",'Early Years Table'!A121))","v":343},{"$f":"IF($A121=\"\",\"\",IF(ISBLANK($A121),\"\",INDEX('LEA Nos codes'!$A$3:$A$154,MATCH($A121,'LEA Nos codes'!$B$3:$B$154,0))))","v":"Sefton"},{"$f":"IF($A121=\"\",\"\",IF(ISBLANK($A121),\"\",VLOOKUP($A121,Data!$A$4:$AI$155,18,FALSE)))","v":2830},{"$f":"IF($A121=\"\",\"\",IF(ISBLANK($A121),\"\",VLOOKUP($A121,Data!$A$4:$AI$155,19,FALSE)))","v":2870},{"$f":"IF($A121=\"\",\"\",IF(ISBLANK($A121),\"\",VLOOKUP($A121,Data!$A$4:$AI$155,20,FALSE)))","v":2950},{"$f":"IF($A121=\"\",\"\",IF(ISBLANK($A121),\"\",VLOOKUP($A121,Data!$A$4:$AI$155,21,FALSE)))","v":0.99},{"$f":"IF($A121=\"\",\"\",IF(ISBLANK($A121),\"\",VLOOKUP($A121,Data!$A$4:$AI$155,22,FALSE)))","v":0.99},{"$f":"IF($A121=\"\",\"\",IF(ISBLANK($A121),\"\",VLOOKUP($A121,Data!$A$4:$AI$155,23,FALSE)))","v":1}]
[{"$f":"IF('Early Years Table'!A122=\"\",\"\",IF(ISBLANK('Early Years Table'!A122),\"\",'Early Years Table'!A122))","v":373},{"$f":"IF($A122=\"\",\"\",IF(ISBLANK($A122),\"\",INDEX('LEA Nos codes'!$A$3:$A$154,MATCH($A122,'LEA Nos codes'!$B$3:$B$154,0))))","v":"Sheffield"},{"$f":"IF($A122=\"\",\"\",IF(ISBLANK($A122),\"\",VLOOKUP($A122,Data!$A$4:$AI$155,18,FALSE)))","v":6320},{"$f":"IF($A122=\"\",\"\",IF(ISBLANK($A122),\"\",VLOOKUP($A122,Data!$A$4:$AI$155,19,FALSE)))","v":6400},{"$f":"IF($A122=\"\",\"\",IF(ISBLANK($A122),\"\",VLOOKUP($A122,Data!$A$4:$AI$155,20,FALSE)))","v":6270},{"$f":"IF($A122=\"\",\"\",IF(ISBLANK($A122),\"\",VLOOKUP($A122,Data!$A$4:$AI$155,21,FALSE)))","v":0.95},{"$f":"IF($A122=\"\",\"\",IF(ISBLANK($A122),\"\",VLOOKUP($A122,Data!$A$4:$AI$155,22,FALSE)))","v":0.93},{"$f":"IF($A122=\"\",\"\",IF(ISBLANK($A122),\"\",VLOOKUP($A122,Data!$A$4:$AI$155,23,FALSE)))","v":0.92}]
[{"$f":"IF('Early Years Table'!A123=\"\",\"\",IF(ISBLANK('Early Years Table'!A123),\"\",'Early Years Table'!A123))","v":893},{"$f":"IF($A123=\"\",\"\",IF(ISBLANK($A123),\"\",INDEX('LEA Nos codes'!$A$3:$A$154,MATCH($A123,'LEA Nos codes'!$B$3:$B$154,0))))","v":"Shropshire"},{"$f":"IF($A123=\"\",\"\",IF(ISBLANK($A123),\"\",VLOOKUP($A123,Data!$A$4:$AI$155,18,FALSE)))","v":3130},{"$f":"IF($A123=\"\",\"\",IF(ISBLANK($A123),\"\",VLOOKUP($A123,Data!$A$4:$AI$155,19,FALSE)))","v":3170},{"$f":"IF($A123=\"\",\"\",IF(ISBLANK($A123),\"\",VLOOKUP($A123,Data!$A$4:$AI$155,20,FALSE)))","v":3240},{"$f":"IF($A123=\"\",\"\",IF(ISBLANK($A123),\"\",VLOOKUP($A123,Data!$A$4:$AI$155,21,FALSE)))","v":0.99},{"$f":"IF($A123=\"\",\"\",IF(ISBLANK($A123),\"\",VLOOKUP($A123,Data!$A$4:$AI$155,22,FALSE)))","v":1},{"$f":"IF($A123=\"\",\"\",IF(ISBLANK($A123),\"\",VLOOKUP($A123,Data!$A$4:$AI$155,23,FALSE)))","v":1.02}]
[{"$f":"IF('Early Years Table'!A124=\"\",\"\",IF(ISBLANK('Early Years Table'!A124),\"\",'Early Years Table'!A124))","v":871},{"$f":"IF($A124=\"\",\"\",IF(ISBLANK($A124),\"\",INDEX('LEA Nos codes'!$A$3:$A$154,MATCH($A124,'LEA Nos codes'!$B$3:$B$154,0))))","v":"Slough"},{"$f":"IF($A124=\"\",\"\",IF(ISBLANK($A124),\"\",VLOOKUP($A124,Data!$A$4:$AI$155,18,FALSE)))","v":1960},{"$f":"IF($A124=\"\",\"\",IF(ISBLANK($A124),\"\",VLOOKUP($A124,Data!$A$4:$AI$155,19,FALSE)))","v":2130},{"$f":"IF($A124=\"\",\"\",IF(ISBLANK($A124),\"\",VLOOKUP($A124,Data!$A$4:$AI$155,20,FALSE)))","v":2270},{"$f":"IF($A124=\"\",\"\",IF(ISBLANK($A124),\"\",VLOOKUP($A124,Data!$A$4:$AI$155,21,FALSE)))","v":0.79},{"$f":"IF($A124=\"\",\"\",IF(ISBLANK($A124),\"\",VLOOKUP($A124,Data!$A$4:$AI$155,22,FALSE)))","v":0.84},{"$f":"IF($A124=\"\",\"\",IF(ISBLANK($A124),\"\",VLOOKUP($A124,Data!$A$4:$AI$155,23,FALSE)))","v":0.89}]
[{"$f":"IF('Early Years Table'!A125=\"\",\"\",IF(ISBLANK('Early Years Table'!A125),\"\",'Early Years Table'!A125))","v":334},{"$f":"IF($A125=\"\",\"\",IF(ISBLANK($A125),\"\",INDEX('LEA Nos codes'!$A$3:$A$154,MATCH($A125,'LEA Nos codes'!$B$3:$B$154,0))))","v":"Solihull"},{"$f":"IF($A125=\"\",\"\",IF(ISBLANK($A125),\"\",VLOOKUP($A125,Data!$A$4:$AI$155,18,FALSE)))","v":2450},{"$f":"IF($A125=\"\",\"\",IF(ISBLANK($A125),\"\",VLOOKUP($A125,Data!$A$4:$AI$155,19,FALSE)))","v":2560},{"$f":"IF($A125=\"\",\"\",IF(ISBLANK($A125),\"\",VLOOKUP($A125,Data!$A$4:$AI$155,20,FALSE)))","v":2440},{"$f":"IF($A125=\"\",\"\",IF(ISBLANK($A125),\"\",VLOOKUP($A125,Data!$A$4:$AI$155,21,FALSE)))","v":1.05},{"$f":"IF($A125=\"\",\"\",IF(ISBLANK($A125),\"\",VLOOKUP($A125,Data!$A$4:$AI$155,22,FALSE)))","v":1.1000000000000001},{"$f":"IF($A125=\"\",\"\",IF(ISBLANK($A125),\"\",VLOOKUP($A125,Data!$A$4:$AI$155,23,FALSE)))","v":1.04}]
[{"$f":"IF('Early Years Table'!A126=\"\",\"\",IF(ISBLANK('Early Years Table'!A126),\"\",'Early Years Table'!A126))","v":933},{"$f":"IF($A126=\"\",\"\",IF(ISBLANK($A126),\"\",INDEX('LEA Nos codes'!$A$3:$A$154,MATCH($A126,'LEA Nos codes'!$B$3:$B$154,0))))","v":"Somerset"},{"$f":"IF($A126=\"\",\"\",IF(ISBLANK($A126),\"\",VLOOKUP($A126,Data!$A$4:$AI$155,18,FALSE)))","v":5430},{"$f":"IF($A126=\"\",\"\",IF(ISBLANK($A126),\"\",VLOOKUP($A126,Data!$A$4:$AI$155,19,FALSE)))","v":5560},{"$f":"IF($A126=\"\",\"\",IF(ISBLANK($A126),\"\",VLOOKUP($A126,Data!$A$4:$AI$155,20,FALSE)))","v":5660},{"$f":"IF($A126=\"\",\"\",IF(ISBLANK($A126),\"\",VLOOKUP($A126,Data!$A$4:$AI$155,21,FALSE)))","v":0.96},{"$f":"IF($A126=\"\",\"\",IF(ISBLANK($A126),\"\",VLOOKUP($A126,Data!$A$4:$AI$155,22,FALSE)))","v":0.95},{"$f":"IF($A126=\"\",\"\",IF(ISBLANK($A126),\"\",VLOOKUP($A126,Data!$A$4:$AI$155,23,FALSE)))","v":0.97}]
[{"$f":"IF('Early Years Table'!A127=\"\",\"\",IF(ISBLANK('Early Years Table'!A127),\"\",'Early Years Table'!A127))","v":803},{"$f":"IF($A127=\"\",\"\",IF(ISBLANK($A127),\"\",INDEX('LEA Nos codes'!$A$3:$A$154,MATCH($A127,'LEA Nos codes'!$B$3:$B$154,0))))","v":"South Gloucestershire"},{"$f":"IF($A127=\"\",\"\",IF(ISBLANK($A127),\"\",VLOOKUP($A127,Data!$A$4:$AI$155,18,FALSE)))","v":3070},{"$f":"IF($A127=\"\",\"\",IF(ISBLANK($A127),\"\",VLOOKUP($A127,Data!$A$4:$AI$155,19,FALSE)))","v":3200},{"$f":"IF($A127=\"\",\"\",IF(ISBLANK($A127),\"\",VLOOKUP($A127,Data!$A$4:$AI$155,20,FALSE)))","v":3200},{"$f":"IF($A127=\"\",\"\",IF(ISBLANK($A127),\"\",VLOOKUP($A127,Data!$A$4:$AI$155,21,FALSE)))","v":0.97},{"$f":"IF($A127=\"\",\"\",IF(ISBLANK($A127),\"\",VLOOKUP($A127,Data!$A$4:$AI$155,22,FALSE)))","v":0.97},{"$f":"IF($A127=\"\",\"\",IF(ISBLANK($A127),\"\",VLOOKUP($A127,Data!$A$4:$AI$155,23,FALSE)))","v":0.98}]
[{"$f":"IF('Early Years Table'!A128=\"\",\"\",IF(ISBLANK('Early Years Table'!A128),\"\",'Early Years Table'!A128))","v":393},{"$f":"IF($A128=\"\",\"\",IF(ISBLANK($A128),\"\",INDEX('LEA Nos codes'!$A$3:$A$154,MATCH($A128,'LEA Nos codes'!$B$3:$B$154,0))))","v":"South Tyneside"},{"$f":"IF($A128=\"\",\"\",IF(ISBLANK($A128),\"\",VLOOKUP($A128,Data!$A$4:$AI$155,18,FALSE)))","v":1510},{"$f":"IF($A128=\"\",\"\",IF(ISBLANK($A128),\"\",VLOOKUP($A128,Data!$A$4:$AI$155,19,FALSE)))","v":1500},{"$f":"IF($A128=\"\",\"\",IF(ISBLANK($A128),\"\",VLOOKUP($A128,Data!$A$4:$AI$155,20,FALSE)))","v":1460},{"$f":"IF($A128=\"\",\"\",IF(ISBLANK($A128),\"\",VLOOKUP($A128,Data!$A$4:$AI$155,21,FALSE)))","v":0.93},{"$f":"IF($A128=\"\",\"\",IF(ISBLANK($A128),\"\",VLOOKUP($A128,Data!$A$4:$AI$155,22,FALSE)))","v":0.91},{"$f":"IF($A128=\"\",\"\",IF(ISBLANK($A128),\"\",VLOOKUP($A128,Data!$A$4:$AI$155,23,FALSE)))","v":0.88}]
[{"$f":"IF('Early Years Table'!A129=\"\",\"\",IF(ISBLANK('Early Years Table'!A129),\"\",'Early Years Table'!A129))","v":852},{"$f":"IF($A129=\"\",\"\",IF(ISBLANK($A129),\"\",INDEX('LEA Nos codes'!$A$3:$A$154,MATCH($A129,'LEA Nos codes'!$B$3:$B$154,0))))","v":"Southampton"},{"$f":"IF($A129=\"\",\"\",IF(ISBLANK($A129),\"\",VLOOKUP($A129,Data!$A$4:$AI$155,18,FALSE)))","v":2710},{"$f":"IF($A129=\"\",\"\",IF(ISBLANK($A129),\"\",VLOOKUP($A129,Data!$A$4:$AI$155,19,FALSE)))","v":2850},{"$f":"IF($A129=\"\",\"\",IF(ISBLANK($A129),\"\",VLOOKUP($A129,Data!$A$4:$AI$155,20,FALSE)))","v":2810},{"$f":"IF($A129=\"\",\"\",IF(ISBLANK($A129),\"\",VLOOKUP($A129,Data!$A$4:$AI$155,21,FALSE)))","v":0.93},{"$f":"IF($A129=\"\",\"\",IF(ISBLANK($A129),\"\",VLOOKUP($A129,Data!$A$4:$AI$155,22,FALSE)))","v":0.93},{"$f":"IF($A129=\"\",\"\",IF(ISBLANK($A129),\"\",VLOOKUP($A129,Data!$A$4:$AI$155,23,FALSE)))","v":0.93}]
[{"$f":"IF('Early Years Table'!A130=\"\",\"\",IF(ISBLANK('Early Years Table'!A130),\"\",'Early Years Table'!A130))","v":882},{"$f":"IF($A130=\"\",\"\",IF(ISBLANK($A130),\"\",INDEX('LEA Nos codes'!$A$3:$A$154,MATCH($A130,'LEA Nos codes'!$B$3:$B$154,0))))","v":"Southend-on-Sea"},{"$f":"IF($A130=\"\",\"\",IF(ISBLANK($A130),\"\",VLOOKUP($A130,Data!$A$4:$AI$155,18,FALSE)))","v":1980},{"$f":"IF($A130=\"\",\"\",IF(ISBLANK($A130),\"\",VLOOKUP($A130,Data!$A$4:$AI$155,19,FALSE)))","v":2130},{"$f":"IF($A130=\"\",\"\",IF(ISBLANK($A130),\"\",VLOOKUP($A130,Data!$A$4:$AI$155,20,FALSE)))","v":2160},{"$f":"IF($A130=\"\",\"\",IF(ISBLANK($A130),\"\",VLOOKUP($A130,Data!$A$4:$AI$155,21,FALSE)))","v":0.9},{"$f":"IF($A130=\"\",\"\",IF(ISBLANK($A130),\"\",VLOOKUP($A130,Data!$A$4:$AI$155,22,FALSE)))","v":0.93},{"$f":"IF($A130=\"\",\"\",IF(ISBLANK($A130),\"\",VLOOKUP($A130,Data!$A$4:$AI$155,23,FALSE)))","v":0.94}]
[{"$f":"IF('Early Years Table'!A131=\"\",\"\",IF(ISBLANK('Early Years Table'!A131),\"\",'Early Years Table'!A131))","v":210},{"$f":"IF($A131=\"\",\"\",IF(ISBLANK($A131),\"\",INDEX('LEA Nos codes'!$A$3:$A$154,MATCH($A131,'LEA Nos codes'!$B$3:$B$154,0))))","v":"Southwark"},{"$f":"IF($A131=\"\",\"\",IF(ISBLANK($A131),\"\",VLOOKUP($A131,Data!$A$4:$AI$155,18,FALSE)))","v":3120},{"$f":"IF($A131=\"\",\"\",IF(ISBLANK($A131),\"\",VLOOKUP($A131,Data!$A$4:$AI$155,19,FALSE)))","v":3120},{"$f":"IF($A131=\"\",\"\",IF(ISBLANK($A131),\"\",VLOOKUP($A131,Data!$A$4:$AI$155,20,FALSE)))","v":3300},{"$f":"IF($A131=\"\",\"\",IF(ISBLANK($A131),\"\",VLOOKUP($A131,Data!$A$4:$AI$155,21,FALSE)))","v":0.77},{"$f":"IF($A131=\"\",\"\",IF(ISBLANK($A131),\"\",VLOOKUP($A131,Data!$A$4:$AI$155,22,FALSE)))","v":0.77},{"$f":"IF($A131=\"\",\"\",IF(ISBLANK($A131),\"\",VLOOKUP($A131,Data!$A$4:$AI$155,23,FALSE)))","v":0.82}]
[{"$f":"IF('Early Years Table'!A132=\"\",\"\",IF(ISBLANK('Early Years Table'!A132),\"\",'Early Years Table'!A132))","v":342},{"$f":"IF($A132=\"\",\"\",IF(ISBLANK($A132),\"\",INDEX('LEA Nos codes'!$A$3:$A$154,MATCH($A132,'LEA Nos codes'!$B$3:$B$154,0))))","v":"St. Helens"},{"$f":"IF($A132=\"\",\"\",IF(ISBLANK($A132),\"\",VLOOKUP($A132,Data!$A$4:$AI$155,18,FALSE)))","v":1840},{"$f":"IF($A132=\"\",\"\",IF(ISBLANK($A132),\"\",VLOOKUP($A132,Data!$A$4:$AI$155,19,FALSE)))","v":2000},{"$f":"IF($A132=\"\",\"\",IF(ISBLANK($A132),\"\",VLOOKUP($A132,Data!$A$4:$AI$155,20,FALSE)))","v":1870},{"$f":"IF($A132=\"\",\"\",IF(ISBLANK($A132),\"\",VLOOKUP($A132,Data!$A$4:$AI$155,21,FALSE)))","v":0.91},{"$f":"IF($A132=\"\",\"\",IF(ISBLANK($A132),\"\",VLOOKUP($A132,Data!$A$4:$AI$155,22,FALSE)))","v":0.96},{"$f":"IF($A132=\"\",\"\",IF(ISBLANK($A132),\"\",VLOOKUP($A132,Data!$A$4:$AI$155,23,FALSE)))","v":0.89}]
[{"$f":"IF('Early Years Table'!A133=\"\",\"\",IF(ISBLANK('Early Years Table'!A133),\"\",'Early Years Table'!A133))","v":860},{"$f":"IF($A133=\"\",\"\",IF(ISBLANK($A133),\"\",INDEX('LEA Nos codes'!$A$3:$A$154,MATCH($A133,'LEA Nos codes'!$B$3:$B$154,0))))","v":"Staffordshire"},{"$f":"IF($A133=\"\",\"\",IF(ISBLANK($A133),\"\",VLOOKUP($A133,Data!$A$4:$AI$155,18,FALSE)))","v":8700},{"$f":"IF($A133=\"\",\"\",IF(ISBLANK($A133),\"\",VLOOKUP($A133,Data!$A$4:$AI$155,19,FALSE)))","v":8910},{"$f":"IF($A133=\"\",\"\",IF(ISBLANK($A133),\"\",VLOOKUP($A133,Data!$A$4:$AI$155,20,FALSE)))","v":8720},{"$f":"IF($A133=\"\",\"\",IF(ISBLANK($A133),\"\",VLOOKUP($A133,Data!$A$4:$AI$155,21,FALSE)))","v":0.94},{"$f":"IF($A133=\"\",\"\",IF(ISBLANK($A133),\"\",VLOOKUP($A133,Data!$A$4:$AI$155,22,FALSE)))","v":0.95},{"$f":"IF($A133=\"\",\"\",IF(ISBLANK($A133),\"\",VLOOKUP($A133,Data!$A$4:$AI$155,23,FALSE)))","v":0.94}]
[{"$f":"IF('Early Years Table'!A134=\"\",\"\",IF(ISBLANK('Early Years Table'!A134),\"\",'Early Years Table'!A134))","v":356},{"$f":"IF($A134=\"\",\"\",IF(ISBLANK($A134),\"\",INDEX('LEA Nos codes'!$A$3:$A$154,MATCH($A134,'LEA Nos codes'!$B$3:$B$154,0))))","v":"Stockport"},{"$f":"IF($A134=\"\",\"\",IF(ISBLANK($A134),\"\",VLOOKUP($A134,Data!$A$4:$AI$155,18,FALSE)))","v":3160},{"$f":"IF($A134=\"\",\"\",IF(ISBLANK($A134),\"\",VLOOKUP($A134,Data!$A$4:$AI$155,19,FALSE)))","v":3310},{"$f":"IF($A134=\"\",\"\",IF(ISBLANK($A134),\"\",VLOOKUP($A134,Data!$A$4:$AI$155,20,FALSE)))","v":3270},{"$f":"IF($A134=\"\",\"\",IF(ISBLANK($A134),\"\",VLOOKUP($A134,Data!$A$4:$AI$155,21,FALSE)))","v":0.91},{"$f":"IF($A134=\"\",\"\",IF(ISBLANK($A134),\"\",VLOOKUP($A134,Data!$A$4:$AI$155,22,FALSE)))","v":0.94},{"$f":"IF($A134=\"\",\"\",IF(ISBLANK($A134),\"\",VLOOKUP($A134,Data!$A$4:$AI$155,23,FALSE)))","v":0.95}]
[{"$f":"IF('Early Years Table'!A135=\"\",\"\",IF(ISBLANK('Early Years Table'!A135),\"\",'Early Years Table'!A135))","v":808},{"$f":"IF($A135=\"\",\"\",IF(ISBLANK($A135),\"\",INDEX('LEA Nos codes'!$A$3:$A$154,MATCH($A135,'LEA Nos codes'!$B$3:$B$154,0))))","v":"Stockton-on-Tees"},{"$f":"IF($A135=\"\",\"\",IF(ISBLANK($A135),\"\",VLOOKUP($A135,Data!$A$4:$AI$155,18,FALSE)))","v":2330},{"$f":"IF($A135=\"\",\"\",IF(ISBLANK($A135),\"\",VLOOKUP($A135,Data!$A$4:$AI$155,19,FALSE)))","v":2510},{"$f":"IF($A135=\"\",\"\",IF(ISBLANK($A135),\"\",VLOOKUP($A135,Data!$A$4:$AI$155,20,FALSE)))","v":2400},{"$f":"IF($A135=\"\",\"\",IF(ISBLANK($A135),\"\",VLOOKUP($A135,Data!$A$4:$AI$155,21,FALSE)))","v":0.96},{"$f":"IF($A135=\"\",\"\",IF(ISBLANK($A135),\"\",VLOOKUP($A135,Data!$A$4:$AI$155,22,FALSE)))","v":1.01},{"$f":"IF($A135=\"\",\"\",IF(ISBLANK($A135),\"\",VLOOKUP($A135,Data!$A$4:$AI$155,23,FALSE)))","v":0.96}]
[{"$f":"IF('Early Years Table'!A136=\"\",\"\",IF(ISBLANK('Early Years Table'!A136),\"\",'Early Years Table'!A136))","v":861},{"$f":"IF($A136=\"\",\"\",IF(ISBLANK($A136),\"\",INDEX('LEA Nos codes'!$A$3:$A$154,MATCH($A136,'LEA Nos codes'!$B$3:$B$154,0))))","v":"Stoke-on-Trent"},{"$f":"IF($A136=\"\",\"\",IF(ISBLANK($A136),\"\",VLOOKUP($A136,Data!$A$4:$AI$155,18,FALSE)))","v":2950},{"$f":"IF($A136=\"\",\"\",IF(ISBLANK($A136),\"\",VLOOKUP($A136,Data!$A$4:$AI$155,19,FALSE)))","v":3130},{"$f":"IF($A136=\"\",\"\",IF(ISBLANK($A136),\"\",VLOOKUP($A136,Data!$A$4:$AI$155,20,FALSE)))","v":2970},{"$f":"IF($A136=\"\",\"\",IF(ISBLANK($A136),\"\",VLOOKUP($A136,Data!$A$4:$AI$155,21,FALSE)))","v":0.86},{"$f":"IF($A136=\"\",\"\",IF(ISBLANK($A136),\"\",VLOOKUP($A136,Data!$A$4:$AI$155,22,FALSE)))","v":0.89},{"$f":"IF($A136=\"\",\"\",IF(ISBLANK($A136),\"\",VLOOKUP($A136,Data!$A$4:$AI$155,23,FALSE)))","v":0.89}]
[{"$f":"IF('Early Years Table'!A137=\"\",\"\",IF(ISBLANK('Early Years Table'!A137),\"\",'Early Years Table'!A137))","v":935},{"$f":"IF($A137=\"\",\"\",IF(ISBLANK($A137),\"\",INDEX('LEA Nos codes'!$A$3:$A$154,MATCH($A137,'LEA Nos codes'!$B$3:$B$154,0))))","v":"Suffolk"},{"$f":"IF($A137=\"\",\"\",IF(ISBLANK($A137),\"\",VLOOKUP($A137,Data!$A$4:$AI$155,18,FALSE)))","v":7610},{"$f":"IF($A137=\"\",\"\",IF(ISBLANK($A137),\"\",VLOOKUP($A137,Data!$A$4:$AI$155,19,FALSE)))","v":8070},{"$f":"IF($A137=\"\",\"\",IF(ISBLANK($A137),\"\",VLOOKUP($A137,Data!$A$4:$AI$155,20,FALSE)))","v":7880},{"$f":"IF($A137=\"\",\"\",IF(ISBLANK($A137),\"\",VLOOKUP($A137,Data!$A$4:$AI$155,21,FALSE)))","v":0.91},{"$f":"IF($A137=\"\",\"\",IF(ISBLANK($A137),\"\",VLOOKUP($A137,Data!$A$4:$AI$155,22,FALSE)))","v":0.94},{"$f":"IF($A137=\"\",\"\",IF(ISBLANK($A137),\"\",VLOOKUP($A137,Data!$A$4:$AI$155,23,FALSE)))","v":0.92}]
[{"$f":"IF('Early Years Table'!A138=\"\",\"\",IF(ISBLANK('Early Years Table'!A138),\"\",'Early Years Table'!A138))","v":394},{"$f":"IF($A138=\"\",\"\",IF(ISBLANK($A138),\"\",INDEX('LEA Nos codes'!$A$3:$A$154,MATCH($A138,'LEA Nos codes'!$B$3:$B$154,0))))","v":"Sunderland"},{"$f":"IF($A138=\"\",\"\",IF(ISBLANK($A138),\"\",VLOOKUP($A138,Data!$A$4:$AI$155,18,FALSE)))","v":3020},{"$f":"IF($A138=\"\",\"\",IF(ISBLANK($A138),\"\",VLOOKUP($A138,Data!$A$4:$AI$155,19,FALSE)))","v":3130},{"$f":"IF($A138=\"\",\"\",IF(ISBLANK($A138),\"\",VLOOKUP($A138,Data!$A$4:$AI$155,20,FALSE)))","v":3000},{"$f":"IF($A138=\"\",\"\",IF(ISBLANK($A138),\"\",VLOOKUP($A138,Data!$A$4:$AI$155,21,FALSE)))","v":0.95},{"$f":"IF($A138=\"\",\"\",IF(ISBLANK($A138),\"\",VLOOKUP($A138,Data!$A$4:$AI$155,22,FALSE)))","v":1.01},{"$f":"IF($A138=\"\",\"\",IF(ISBLANK($A138),\"\",VLOOKUP($A138,Data!$A$4:$AI$155,23,FALSE)))","v":0.99}]
[{"$f":"IF('Early Years Table'!A139=\"\",\"\",IF(ISBLANK('Early Years Table'!A139),\"\",'Early Years Table'!A139))","v":936},{"$f":"IF($A139=\"\",\"\",IF(ISBLANK($A139),\"\",INDEX('LEA Nos codes'!$A$3:$A$154,MATCH($A139,'LEA Nos codes'!$B$3:$B$154,0))))","v":"Surrey"},{"$f":"IF($A139=\"\",\"\",IF(ISBLANK($A139),\"\",VLOOKUP($A139,Data!$A$4:$AI$155,18,FALSE)))","v":13340},{"$f":"IF($A139=\"\",\"\",IF(ISBLANK($A139),\"\",VLOOKUP($A139,Data!$A$4:$AI$155,19,FALSE)))","v":13580},{"$f":"IF($A139=\"\",\"\",IF(ISBLANK($A139),\"\",VLOOKUP($A139,Data!$A$4:$AI$155,20,FALSE)))","v":13560},{"$f":"IF($A139=\"\",\"\",IF(ISBLANK($A139),\"\",VLOOKUP($A139,Data!$A$4:$AI$155,21,FALSE)))","v":0.94},{"$f":"IF($A139=\"\",\"\",IF(ISBLANK($A139),\"\",VLOOKUP($A139,Data!$A$4:$AI$155,22,FALSE)))","v":0.93},{"$f":"IF($A139=\"\",\"\",IF(ISBLANK($A139),\"\",VLOOKUP($A139,Data!$A$4:$AI$155,23,FALSE)))","v":0.93}]
[{"$f":"IF('Early Years Table'!A140=\"\",\"\",IF(ISBLANK('Early Years Table'!A140),\"\",'Early Years Table'!A140))","v":319},{"$f":"IF($A140=\"\",\"\",IF(ISBLANK($A140),\"\",INDEX('LEA Nos codes'!$A$3:$A$154,MATCH($A140,'LEA Nos codes'!$B$3:$B$154,0))))","v":"Sutton"},{"$f":"IF($A140=\"\",\"\",IF(ISBLANK($A140),\"\",VLOOKUP($A140,Data!$A$4:$AI$155,18,FALSE)))","v":2230},{"$f":"IF($A140=\"\",\"\",IF(ISBLANK($A140),\"\",VLOOKUP($A140,Data!$A$4:$AI$155,19,FALSE)))","v":2240},{"$f":"IF($A140=\"\",\"\",IF(ISBLANK($A140),\"\",VLOOKUP($A140,Data!$A$4:$AI$155,20,FALSE)))","v":2370},{"$f":"IF($A140=\"\",\"\",IF(ISBLANK($A140),\"\",VLOOKUP($A140,Data!$A$4:$AI$155,21,FALSE)))","v":0.89},{"$f":"IF($A140=\"\",\"\",IF(ISBLANK($A140),\"\",VLOOKUP($A140,Data!$A$4:$AI$155,22,FALSE)))","v":0.87},{"$f":"IF($A140=\"\",\"\",IF(ISBLANK($A140),\"\",VLOOKUP($A140,Data!$A$4:$AI$155,23,FALSE)))","v":0.9}]
[{"$f":"IF('Early Years Table'!A141=\"\",\"\",IF(ISBLANK('Early Years Table'!A141),\"\",'Early Years Table'!A141))","v":866},{"$f":"IF($A141=\"\",\"\",IF(ISBLANK($A141),\"\",INDEX('LEA Nos codes'!$A$3:$A$154,MATCH($A141,'LEA Nos codes'!$B$3:$B$154,0))))","v":"Swindon"},{"$f":"IF($A141=\"\",\"\",IF(ISBLANK($A141),\"\",VLOOKUP($A141,Data!$A$4:$AI$155,18,FALSE)))","v":2620},{"$f":"IF($A141=\"\",\"\",IF(ISBLANK($A141),\"\",VLOOKUP($A141,Data!$A$4:$AI$155,19,FALSE)))","v":2640},{"$f":"IF($A141=\"\",\"\",IF(ISBLANK($A141),\"\",VLOOKUP($A141,Data!$A$4:$AI$155,20,FALSE)))","v":2670},{"$f":"IF($A141=\"\",\"\",IF(ISBLANK($A141),\"\",VLOOKUP($A141,Data!$A$4:$AI$155,21,FALSE)))","v":0.94},{"$f":"IF($A141=\"\",\"\",IF(ISBLANK($A141),\"\",VLOOKUP($A141,Data!$A$4:$AI$155,22,FALSE)))","v":0.93},{"$f":"IF($A141=\"\",\"\",IF(ISBLANK($A141),\"\",VLOOKUP($A141,Data!$A$4:$AI$155,23,FALSE)))","v":0.95}]
[{"$f":"IF('Early Years Table'!A142=\"\",\"\",IF(ISBLANK('Early Years Table'!A142),\"\",'Early Years Table'!A142))","v":357},{"$f":"IF($A142=\"\",\"\",IF(ISBLANK($A142),\"\",INDEX('LEA Nos codes'!$A$3:$A$154,MATCH($A142,'LEA Nos codes'!$B$3:$B$154,0))))","v":"Tameside"},{"$f":"IF($A142=\"\",\"\",IF(ISBLANK($A142),\"\",VLOOKUP($A142,Data!$A$4:$AI$155,18,FALSE)))","v":2610},{"$f":"IF($A142=\"\",\"\",IF(ISBLANK($A142),\"\",VLOOKUP($A142,Data!$A$4:$AI$155,19,FALSE)))","v":2590},{"$f":"IF($A142=\"\",\"\",IF(ISBLANK($A142),\"\",VLOOKUP($A142,Data!$A$4:$AI$155,20,FALSE)))","v":2790},{"$f":"IF($A142=\"\",\"\",IF(ISBLANK($A142),\"\",VLOOKUP($A142,Data!$A$4:$AI$155,21,FALSE)))","v":0.93},{"$f":"IF($A142=\"\",\"\",IF(ISBLANK($A142),\"\",VLOOKUP($A142,Data!$A$4:$AI$155,22,FALSE)))","v":0.89},{"$f":"IF($A142=\"\",\"\",IF(ISBLANK($A142),\"\",VLOOKUP($A142,Data!$A$4:$AI$155,23,FALSE)))","v":0.94}]
[{"$f":"IF('Early Years Table'!A143=\"\",\"\",IF(ISBLANK('Early Years Table'!A143),\"\",'Early Years Table'!A143))","v":894},{"$f":"IF($A143=\"\",\"\",IF(ISBLANK($A143),\"\",INDEX('LEA Nos codes'!$A$3:$A$154,MATCH($A143,'LEA Nos codes'!$B$3:$B$154,0))))","v":"Telford & Wrekin"},{"$f":"IF($A143=\"\",\"\",IF(ISBLANK($A143),\"\",VLOOKUP($A143,Data!$A$4:$AI$155,18,FALSE)))","v":2180},{"$f":"IF($A143=\"\",\"\",IF(ISBLANK($A143),\"\",VLOOKUP($A143,Data!$A$4:$AI$155,19,FALSE)))","v":2120},{"$f":"IF($A143=\"\",\"\",IF(ISBLANK($A143),\"\",VLOOKUP($A143,Data!$A$4:$AI$155,20,FALSE)))","v":2200},{"$f":"IF($A143=\"\",\"\",IF(ISBLANK($A143),\"\",VLOOKUP($A143,Data!$A$4:$AI$155,21,FALSE)))","v":0.99},{"$f":"IF($A143=\"\",\"\",IF(ISBLANK($A143),\"\",VLOOKUP($A143,Data!$A$4:$AI$155,22,FALSE)))","v":0.94},{"$f":"IF($A143=\"\",\"\",IF(ISBLANK($A143),\"\",VLOOKUP($A143,Data!$A$4:$AI$155,23,FALSE)))","v":0.96}]
[{"$f":"IF('Early Years Table'!A144=\"\",\"\",IF(ISBLANK('Early Years Table'!A144),\"\",'Early Years Table'!A144))","v":883},{"$f":"IF($A144=\"\",\"\",IF(ISBLANK($A144),\"\",INDEX('LEA Nos codes'!$A$3:$A$154,MATCH($A144,'LEA Nos codes'!$B$3:$B$154,0))))","v":"Thurrock"},{"$f":"IF($A144=\"\",\"\",IF(ISBLANK($A144),\"\",VLOOKUP($A144,Data!$A$4:$AI$155,18,FALSE)))","v":2120},{"$f":"IF($A144=\"\",\"\",IF(ISBLANK($A144),\"\",VLOOKUP($A144,Data!$A$4:$AI$155,19,FALSE)))","v":2150},{"$f":"IF($A144=\"\",\"\",IF(ISBLANK($A144),\"\",VLOOKUP($A144,Data!$A$4:$AI$155,20,FALSE)))","v":2140},{"$f":"IF($A144=\"\",\"\",IF(ISBLANK($A144),\"\",VLOOKUP($A144,Data!$A$4:$AI$155,21,FALSE)))","v":0.88},{"$f":"IF($A144=\"\",\"\",IF(ISBLANK($A144),\"\",VLOOKUP($A144,Data!$A$4:$AI$155,22,FALSE)))","v":0.87},{"$f":"IF($A144=\"\",\"\",IF(ISBLANK($A144),\"\",VLOOKUP($A144,Data!$A$4:$AI$155,23,FALSE)))","v":0.9}]
[{"$f":"IF('Early Years Table'!A145=\"\",\"\",IF(ISBLANK('Early Years Table'!A145),\"\",'Early Years Table'!A145))","v":880},{"$f":"IF($A145=\"\",\"\",IF(ISBLANK($A145),\"\",INDEX('LEA Nos codes'!$A$3:$A$154,MATCH($A145,'LEA Nos codes'!$B$3:$B$154,0))))","v":"Torbay"},{"$f":"IF($A145=\"\",\"\",IF(ISBLANK($A145),\"\",VLOOKUP($A145,Data!$A$4:$AI$155,18,FALSE)))","v":1380},{"$f":"IF($A145=\"\",\"\",IF(ISBLANK($A145),\"\",VLOOKUP($A145,Data!$A$4:$AI$155,19,FALSE)))","v":1410},{"$f":"IF($A145=\"\",\"\",IF(ISBLANK($A145),\"\",VLOOKUP($A145,Data!$A$4:$AI$155,20,FALSE)))","v":1400},{"$f":"IF($A145=\"\",\"\",IF(ISBLANK($A145),\"\",VLOOKUP($A145,Data!$A$4:$AI$155,21,FALSE)))","v":1},{"$f":"IF($A145=\"\",\"\",IF(ISBLANK($A145),\"\",VLOOKUP($A145,Data!$A$4:$AI$155,22,FALSE)))","v":1.06},{"$f":"IF($A145=\"\",\"\",IF(ISBLANK($A145),\"\",VLOOKUP($A145,Data!$A$4:$AI$155,23,FALSE)))","v":1.04}]
[{"$f":"IF('Early Years Table'!A146=\"\",\"\",IF(ISBLANK('Early Years Table'!A146),\"\",'Early Years Table'!A146))","v":211},{"$f":"IF($A146=\"\",\"\",IF(ISBLANK($A146),\"\",INDEX('LEA Nos codes'!$A$3:$A$154,MATCH($A146,'LEA Nos codes'!$B$3:$B$154,0))))","v":"Tower Hamlets"},{"$f":"IF($A146=\"\",\"\",IF(ISBLANK($A146),\"\",VLOOKUP($A146,Data!$A$4:$AI$155,18,FALSE)))","v":3110},{"$f":"IF($A146=\"\",\"\",IF(ISBLANK($A146),\"\",VLOOKUP($A146,Data!$A$4:$AI$155,19,FALSE)))","v":3100},{"$f":"IF($A146=\"\",\"\",IF(ISBLANK($A146),\"\",VLOOKUP($A146,Data!$A$4:$AI$155,20,FALSE)))","v":3260},{"$f":"IF($A146=\"\",\"\",IF(ISBLANK($A146),\"\",VLOOKUP($A146,Data!$A$4:$AI$155,21,FALSE)))","v":0.85},{"$f":"IF($A146=\"\",\"\",IF(ISBLANK($A146),\"\",VLOOKUP($A146,Data!$A$4:$AI$155,22,FALSE)))","v":0.84},{"$f":"IF($A146=\"\",\"\",IF(ISBLANK($A146),\"\",VLOOKUP($A146,Data!$A$4:$AI$155,23,FALSE)))","v":0.88}]
[{"$f":"IF('Early Years Table'!A147=\"\",\"\",IF(ISBLANK('Early Years Table'!A147),\"\",'Early Years Table'!A147))","v":358},{"$f":"IF($A147=\"\",\"\",IF(ISBLANK($A147),\"\",INDEX('LEA Nos codes'!$A$3:$A$154,MATCH($A147,'LEA Nos codes'!$B$3:$B$154,0))))","v":"Trafford"},{"$f":"IF($A147=\"\",\"\",IF(ISBLANK($A147),\"\",VLOOKUP($A147,Data!$A$4:$AI$155,18,FALSE)))","v":2840},{"$f":"IF($A147=\"\",\"\",IF(ISBLANK($A147),\"\",VLOOKUP($A147,Data!$A$4:$AI$155,19,FALSE)))","v":2820},{"$f":"IF($A147=\"\",\"\",IF(ISBLANK($A147),\"\",VLOOKUP($A147,Data!$A$4:$AI$155,20,FALSE)))","v":2920},{"$f":"IF($A147=\"\",\"\",IF(ISBLANK($A147),\"\",VLOOKUP($A147,Data!$A$4:$AI$155,21,FALSE)))","v":0.97},{"$f":"IF($A147=\"\",\"\",IF(ISBLANK($A147),\"\",VLOOKUP($A147,Data!$A$4:$AI$155,22,FALSE)))","v":0.93},{"$f":"IF($A147=\"\",\"\",IF(ISBLANK($A147),\"\",VLOOKUP($A147,Data!$A$4:$AI$155,23,FALSE)))","v":0.98}]
[{"$f":"IF('Early Years Table'!A148=\"\",\"\",IF(ISBLANK('Early Years Table'!A148),\"\",'Early Years Table'!A148))","v":384},{"$f":"IF($A148=\"\",\"\",IF(ISBLANK($A148),\"\",INDEX('LEA Nos codes'!$A$3:$A$154,MATCH($A148,'LEA Nos codes'!$B$3:$B$154,0))))","v":"Wakefield"},{"$f":"IF($A148=\"\",\"\",IF(ISBLANK($A148),\"\",VLOOKUP($A148,Data!$A$4:$AI$155,18,FALSE)))","v":3890},{"$f":"IF($A148=\"\",\"\",IF(ISBLANK($A148),\"\",VLOOKUP($A148,Data!$A$4:$AI$155,19,FALSE)))","v":3980},{"$f":"IF($A148=\"\",\"\",IF(ISBLANK($A148),\"\",VLOOKUP($A148,Data!$A$4:$AI$155,20,FALSE)))","v":3960},{"$f":"IF($A148=\"\",\"\",IF(ISBLANK($A148),\"\",VLOOKUP($A148,Data!$A$4:$AI$155,21,FALSE)))","v":1.01},{"$f":"IF($A148=\"\",\"\",IF(ISBLANK($A148),\"\",VLOOKUP($A148,Data!$A$4:$AI$155,22,FALSE)))","v":1.01},{"$f":"IF($A148=\"\",\"\",IF(ISBLANK($A148),\"\",VLOOKUP($A148,Data!$A$4:$AI$155,23,FALSE)))","v":0.99}]
[{"$f":"IF('Early Years Table'!A149=\"\",\"\",IF(ISBLANK('Early Years Table'!A149),\"\",'Early Years Table'!A149))","v":335},{"$f":"IF($A149=\"\",\"\",IF(ISBLANK($A149),\"\",INDEX('LEA Nos codes'!$A$3:$A$154,MATCH($A149,'LEA Nos codes'!$B$3:$B$154,0))))","v":"Walsall"},{"$f":"IF($A149=\"\",\"\",IF(ISBLANK($A149),\"\",VLOOKUP($A149,Data!$A$4:$AI$155,18,FALSE)))","v":3250},{"$f":"IF($A149=\"\",\"\",IF(ISBLANK($A149),\"\",VLOOKUP($A149,Data!$A$4:$AI$155,19,FALSE)))","v":3450},{"$f":"IF($A149=\"\",\"\",IF(ISBLANK($A149),\"\",VLOOKUP($A149,Data!$A$4:$AI$155,20,FALSE)))","v":3390},{"$f":"IF($A149=\"\",\"\",IF(ISBLANK($A149),\"\",VLOOKUP($A149,Data!$A$4:$AI$155,21,FALSE)))","v":0.9},{"$f":"IF($A149=\"\",\"\",IF(ISBLANK($A149),\"\",VLOOKUP($A149,Data!$A$4:$AI$155,22,FALSE)))","v":0.92},{"$f":"IF($A149=\"\",\"\",IF(ISBLANK($A149),\"\",VLOOKUP($A149,Data!$A$4:$AI$155,23,FALSE)))","v":0.93}]
[{"$f":"IF('Early Years Table'!A150=\"\",\"\",IF(ISBLANK('Early Years Table'!A150),\"\",'Early Years Table'!A150))","v":320},{"$f":"IF($A150=\"\",\"\",IF(ISBLANK($A150),\"\",INDEX('LEA Nos codes'!$A$3:$A$154,MATCH($A150,'LEA Nos codes'!$B$3:$B$154,0))))","v":"Waltham Forest"},{"$f":"IF($A150=\"\",\"\",IF(ISBLANK($A150),\"\",VLOOKUP($A150,Data!$A$4:$AI$155,18,FALSE)))","v":3490},{"$f":"IF($A150=\"\",\"\",IF(ISBLANK($A150),\"\",VLOOKUP($A150,Data!$A$4:$AI$155,19,FALSE)))","v":3590},{"$f":"IF($A150=\"\",\"\",IF(ISBLANK($A150),\"\",VLOOKUP($A150,Data!$A$4:$AI$155,20,FALSE)))","v":3550},{"$f":"IF($A150=\"\",\"\",IF(ISBLANK($A150),\"\",VLOOKUP($A150,Data!$A$4:$AI$155,21,FALSE)))","v":0.84},{"$f":"IF($A150=\"\",\"\",IF(ISBLANK($A150),\"\",VLOOKUP($A150,Data!$A$4:$AI$155,22,FALSE)))","v":0.86},{"$f":"IF($A150=\"\",\"\",IF(ISBLANK($A150),\"\",VLOOKUP($A150,Data!$A$4:$AI$155,23,FALSE)))","v":0.87}]
[{"$f":"IF('Early Years Table'!A151=\"\",\"\",IF(ISBLANK('Early Years Table'!A151),\"\",'Early Years Table'!A151))","v":212},{"$f":"IF($A151=\"\",\"\",IF(ISBLANK($A151),\"\",INDEX('LEA Nos codes'!$A$3:$A$154,MATCH($A151,'LEA Nos codes'!$B$3:$B$154,0))))","v":"Wandsworth"},{"$f":"IF($A151=\"\",\"\",IF(ISBLANK($A151),\"\",VLOOKUP($A151,Data!$A$4:$AI$155,18,FALSE)))","v":3570},{"$f":"IF($A151=\"\",\"\",IF(ISBLANK($A151),\"\",VLOOKUP($A151,Data!$A$4:$AI$155,19,FALSE)))","v":3680},{"$f":"IF($A151=\"\",\"\",IF(ISBLANK($A151),\"\",VLOOKUP($A151,Data!$A$4:$AI$155,20,FALSE)))","v":3710},{"$f":"IF($A151=\"\",\"\",IF(ISBLANK($A151),\"\",VLOOKUP($A151,Data!$A$4:$AI$155,21,FALSE)))","v":0.88},{"$f":"IF($A151=\"\",\"\",IF(ISBLANK($A151),\"\",VLOOKUP($A151,Data!$A$4:$AI$155,22,FALSE)))","v":0.9},{"$f":"IF($A151=\"\",\"\",IF(ISBLANK($A151),\"\",VLOOKUP($A151,Data!$A$4:$AI$155,23,FALSE)))","v":0.89}]
[{"$f":"IF('Early Years Table'!A152=\"\",\"\",IF(ISBLANK('Early Years Table'!A152),\"\",'Early Years Table'!A152))","v":877},{"$f":"IF($A152=\"\",\"\",IF(ISBLANK($A152),\"\",INDEX('LEA Nos codes'!$A$3:$A$154,MATCH($A152,'LEA Nos codes'!$B$3:$B$154,0))))","v":"Warrington"},{"$f":"IF($A152=\"\",\"\",IF(ISBLANK($A152),\"\",VLOOKUP($A152,Data!$A$4:$AI$155,18,FALSE)))","v":2490},{"$f":"IF($A152=\"\",\"\",IF(ISBLANK($A152),\"\",VLOOKUP($A152,Data!$A$4:$AI$155,19,FALSE)))","v":2520},{"$f":"IF($A152=\"\",\"\",IF(ISBLANK($A152),\"\",VLOOKUP($A152,Data!$A$4:$AI$155,20,FALSE)))","v":2490},{"$f":"IF($A152=\"\",\"\",IF(ISBLANK($A152),\"\",VLOOKUP($A152,Data!$A$4:$AI$155,21,FALSE)))","v":1.02},{"$f":"IF($A152=\"\",\"\",IF(ISBLANK($A152),\"\",VLOOKUP($A152,Data!$A$4:$AI$155,22,FALSE)))","v":1},{"$f":"IF($A152=\"\",\"\",IF(ISBLANK($A152),\"\",VLOOKUP($A152,Data!$A$4:$AI$155,23,FALSE)))","v":0.98}]
[{"$f":"IF('Early Years Table'!A153=\"\",\"\",IF(ISBLANK('Early Years Table'!A153),\"\",'Early Years Table'!A153))","v":937},{"$f":"IF($A153=\"\",\"\",IF(ISBLANK($A153),\"\",INDEX('LEA Nos codes'!$A$3:$A$154,MATCH($A153,'LEA Nos codes'!$B$3:$B$154,0))))","v":"Warwickshire"},{"$f":"IF($A153=\"\",\"\",IF(ISBLANK($A153),\"\",VLOOKUP($A153,Data!$A$4:$AI$155,18,FALSE)))","v":5890},{"$f":"IF($A153=\"\",\"\",IF(ISBLANK($A153),\"\",VLOOKUP($A153,Data!$A$4:$AI$155,19,FALSE)))","v":6180},{"$f":"IF($A153=\"\",\"\",IF(ISBLANK($A153),\"\",VLOOKUP($A153,Data!$A$4:$AI$155,20,FALSE)))","v":6030},{"$f":"IF($A153=\"\",\"\",IF(ISBLANK($A153),\"\",VLOOKUP($A153,Data!$A$4:$AI$155,21,FALSE)))","v":0.95},{"$f":"IF($A153=\"\",\"\",IF(ISBLANK($A153),\"\",VLOOKUP($A153,Data!$A$4:$AI$155,22,FALSE)))","v":0.97},{"$f":"IF($A153=\"\",\"\",IF(ISBLANK($A153),\"\",VLOOKUP($A153,Data!$A$4:$AI$155,23,FALSE)))","v":0.96}]
[{"$f":"IF('Early Years Table'!A154=\"\",\"\",IF(ISBLANK('Early Years Table'!A154),\"\",'Early Years Table'!A154))","v":869},{"$f":"IF($A154=\"\",\"\",IF(ISBLANK($A154),\"\",INDEX('LEA Nos codes'!$A$3:$A$154,MATCH($A154,'LEA Nos codes'!$B$3:$B$154,0))))","v":"West Berkshire"},{"$f":"IF($A154=\"\",\"\",IF(ISBLANK($A154),\"\",VLOOKUP($A154,Data!$A$4:$AI$155,18,FALSE)))","v":1870},{"$f":"IF($A154=\"\",\"\",IF(ISBLANK($A154),\"\",VLOOKUP($A154,Data!$A$4:$AI$155,19,FALSE)))","v":1880},{"$f":"IF($A154=\"\",\"\",IF(ISBLANK($A154),\"\",VLOOKUP($A154,Data!$A$4:$AI$155,20,FALSE)))","v":1920},{"$f":"IF($A154=\"\",\"\",IF(ISBLANK($A154),\"\",VLOOKUP($A154,Data!$A$4:$AI$155,21,FALSE)))","v":0.92},{"$f":"IF($A154=\"\",\"\",IF(ISBLANK($A154),\"\",VLOOKUP($A154,Data!$A$4:$AI$155,22,FALSE)))","v":0.92},{"$f":"IF($A154=\"\",\"\",IF(ISBLANK($A154),\"\",VLOOKUP($A154,Data!$A$4:$AI$155,23,FALSE)))","v":0.95}]
[{"$f":"IF('Early Years Table'!A155=\"\",\"\",IF(ISBLANK('Early Years Table'!A155),\"\",'Early Years Table'!A155))","v":938},{"$f":"IF($A155=\"\",\"\",IF(ISBLANK($A155),\"\",INDEX('LEA Nos codes'!$A$3:$A$154,MATCH($A155,'LEA Nos codes'!$B$3:$B$154,0))))","v":"West Sussex"},{"$f":"IF($A155=\"\",\"\",IF(ISBLANK($A155),\"\",VLOOKUP($A155,Data!$A$4:$AI$155,18,FALSE)))","v":8590},{"$f":"IF($A155=\"\",\"\",IF(ISBLANK($A155),\"\",VLOOKUP($A155,Data!$A$4:$AI$155,19,FALSE)))","v":8950},{"$f":"IF($A155=\"\",\"\",IF(ISBLANK($A155),\"\",VLOOKUP($A155,Data!$A$4:$AI$155,20,FALSE)))","v":9060},{"$f":"IF($A155=\"\",\"\",IF(ISBLANK($A155),\"\",VLOOKUP($A155,Data!$A$4:$AI$155,21,FALSE)))","v":0.93},{"$f":"IF($A155=\"\",\"\",IF(ISBLANK($A155),\"\",VLOOKUP($A155,Data!$A$4:$AI$155,22,FALSE)))","v":0.94},{"$f":"IF($A155=\"\",\"\",IF(ISBLANK($A155),\"\",VLOOKUP($A155,Data!$A$4:$AI$155,23,FALSE)))","v":0.95}]
[{"$f":"IF('Early Years Table'!A156=\"\",\"\",IF(ISBLANK('Early Years Table'!A156),\"\",'Early Years Table'!A156))","v":213},{"$f":"IF($A156=\"\",\"\",IF(ISBLANK($A156),\"\",INDEX('LEA Nos codes'!$A$3:$A$154,MATCH($A156,'LEA Nos codes'!$B$3:$B$154,0))))","v":"Westminster"},{"$f":"IF($A156=\"\",\"\",IF(ISBLANK($A156),\"\",VLOOKUP($A156,Data!$A$4:$AI$155,18,FALSE)))","v":1910},{"$f":"IF($A156=\"\",\"\",IF(ISBLANK($A156),\"\",VLOOKUP($A156,Data!$A$4:$AI$155,19,FALSE)))","v":1970},{"$f":"IF($A156=\"\",\"\",IF(ISBLANK($A156),\"\",VLOOKUP($A156,Data!$A$4:$AI$155,20,FALSE)))","v":1890},{"$f":"IF($A156=\"\",\"\",IF(ISBLANK($A156),\"\",VLOOKUP($A156,Data!$A$4:$AI$155,21,FALSE)))","v":0.81},{"$f":"IF($A156=\"\",\"\",IF(ISBLANK($A156),\"\",VLOOKUP($A156,Data!$A$4:$AI$155,22,FALSE)))","v":0.8},{"$f":"IF($A156=\"\",\"\",IF(ISBLANK($A156),\"\",VLOOKUP($A156,Data!$A$4:$AI$155,23,FALSE)))","v":0.76}]
[{"$f":"IF('Early Years Table'!A157=\"\",\"\",IF(ISBLANK('Early Years Table'!A157),\"\",'Early Years Table'!A157))","v":359},{"$f":"IF($A157=\"\",\"\",IF(ISBLANK($A157),\"\",INDEX('LEA Nos codes'!$A$3:$A$154,MATCH($A157,'LEA Nos codes'!$B$3:$B$154,0))))","v":"Wigan"},{"$f":"IF($A157=\"\",\"\",IF(ISBLANK($A157),\"\",VLOOKUP($A157,Data!$A$4:$AI$155,18,FALSE)))","v":3400},{"$f":"IF($A157=\"\",\"\",IF(ISBLANK($A157),\"\",VLOOKUP($A157,Data!$A$4:$AI$155,19,FALSE)))","v":3610},{"$f":"IF($A157=\"\",\"\",IF(ISBLANK($A157),\"\",VLOOKUP($A157,Data!$A$4:$AI$155,20,FALSE)))","v":3540},{"$f":"IF($A157=\"\",\"\",IF(ISBLANK($A157),\"\",VLOOKUP($A157,Data!$A$4:$AI$155,21,FALSE)))","v":0.88},{"$f":"IF($A157=\"\",\"\",IF(ISBLANK($A157),\"\",VLOOKUP($A157,Data!$A$4:$AI$155,22,FALSE)))","v":0.9},{"$f":"IF($A157=\"\",\"\",IF(ISBLANK($A157),\"\",VLOOKUP($A157,Data!$A$4:$AI$155,23,FALSE)))","v":0.89}]
[{"$f":"IF('Early Years Table'!A158=\"\",\"\",IF(ISBLANK('Early Years Table'!A158),\"\",'Early Years Table'!A158))","v":865},{"$f":"IF($A158=\"\",\"\",IF(ISBLANK($A158),\"\",INDEX('LEA Nos codes'!$A$3:$A$154,MATCH($A158,'LEA Nos codes'!$B$3:$B$154,0))))","v":"Wiltshire"},{"$f":"IF($A158=\"\",\"\",IF(ISBLANK($A158),\"\",VLOOKUP($A158,Data!$A$4:$AI$155,18,FALSE)))","v":5180},{"$f":"IF($A158=\"\",\"\",IF(ISBLANK($A158),\"\",VLOOKUP($A158,Data!$A$4:$AI$155,19,FALSE)))","v":5420},{"$f":"IF($A158=\"\",\"\",IF(ISBLANK($A158),\"\",VLOOKUP($A158,Data!$A$4:$AI$155,20,FALSE)))","v":5200},{"$f":"IF($A158=\"\",\"\",IF(ISBLANK($A158),\"\",VLOOKUP($A158,Data!$A$4:$AI$155,21,FALSE)))","v":0.92},{"$f":"IF($A158=\"\",\"\",IF(ISBLANK($A158),\"\",VLOOKUP($A158,Data!$A$4:$AI$155,22,FALSE)))","v":0.94},{"$f":"IF($A158=\"\",\"\",IF(ISBLANK($A158),\"\",VLOOKUP($A158,Data!$A$4:$AI$155,23,FALSE)))","v":0.9}]
[{"$f":"IF('Early Years Table'!A159=\"\",\"\",IF(ISBLANK('Early Years Table'!A159),\"\",'Early Years Table'!A159))","v":868},{"$f":"IF($A159=\"\",\"\",IF(ISBLANK($A159),\"\",INDEX('LEA Nos codes'!$A$3:$A$154,MATCH($A159,'LEA Nos codes'!$B$3:$B$154,0))))","v":"Windsor and Maidenhead"},{"$f":"IF($A159=\"\",\"\",IF(ISBLANK($A159),\"\",VLOOKUP($A159,Data!$A$4:$AI$155,18,FALSE)))","v":1850},{"$f":"IF($A159=\"\",\"\",IF(ISBLANK($A159),\"\",VLOOKUP($A159,Data!$A$4:$AI$155,19,FALSE)))","v":1940},{"$f":"IF($A159=\"\",\"\",IF(ISBLANK($A159),\"\",VLOOKUP($A159,Data!$A$4:$AI$155,20,FALSE)))","v":1910},{"$f":"IF($A159=\"\",\"\",IF(ISBLANK($A159),\"\",VLOOKUP($A159,Data!$A$4:$AI$155,21,FALSE)))","v":1.02},{"$f":"IF($A159=\"\",\"\",IF(ISBLANK($A159),\"\",VLOOKUP($A159,Data!$A$4:$AI$155,22,FALSE)))","v":1.03},{"$f":"IF($A159=\"\",\"\",IF(ISBLANK($A159),\"\",VLOOKUP($A159,Data!$A$4:$AI$155,23,FALSE)))","v":0.98}]
[{"$f":"IF('Early Years Table'!A160=\"\",\"\",IF(ISBLANK('Early Years Table'!A160),\"\",'Early Years Table'!A160))","v":344},{"$f":"IF($A160=\"\",\"\",IF(ISBLANK($A160),\"\",INDEX('LEA Nos codes'!$A$3:$A$154,MATCH($A160,'LEA Nos codes'!$B$3:$B$154,0))))","v":"Wirral"},{"$f":"IF($A160=\"\",\"\",IF(ISBLANK($A160),\"\",VLOOKUP($A160,Data!$A$4:$AI$155,18,FALSE)))","v":3630},{"$f":"IF($A160=\"\",\"\",IF(ISBLANK($A160),\"\",VLOOKUP($A160,Data!$A$4:$AI$155,19,FALSE)))","v":3390},{"$f":"IF($A160=\"\",\"\",IF(ISBLANK($A160),\"\",VLOOKUP($A160,Data!$A$4:$AI$155,20,FALSE)))","v":3640},{"$f":"IF($A160=\"\",\"\",IF(ISBLANK($A160),\"\",VLOOKUP($A160,Data!$A$4:$AI$155,21,FALSE)))","v":0.97},{"$f":"IF($A160=\"\",\"\",IF(ISBLANK($A160),\"\",VLOOKUP($A160,Data!$A$4:$AI$155,22,FALSE)))","v":0.91},{"$f":"IF($A160=\"\",\"\",IF(ISBLANK($A160),\"\",VLOOKUP($A160,Data!$A$4:$AI$155,23,FALSE)))","v":0.99}]
[{"$f":"IF('Early Years Table'!A161=\"\",\"\",IF(ISBLANK('Early Years Table'!A161),\"\",'Early Years Table'!A161))","v":872},{"$f":"IF($A161=\"\",\"\",IF(ISBLANK($A161),\"\",INDEX('LEA Nos codes'!$A$3:$A$154,MATCH($A161,'LEA Nos codes'!$B$3:$B$154,0))))","v":"Wokingham"},{"$f":"IF($A161=\"\",\"\",IF(ISBLANK($A161),\"\",VLOOKUP($A161,Data!$A$4:$AI$155,18,FALSE)))","v":1980},{"$f":"IF($A161=\"\",\"\",IF(ISBLANK($A161),\"\",VLOOKUP($A161,Data!$A$4:$AI$155,19,FALSE)))","v":2070},{"$f":"IF($A161=\"\",\"\",IF(ISBLANK($A161),\"\",VLOOKUP($A161,Data!$A$4:$AI$155,20,FALSE)))","v":2020},{"$f":"IF($A161=\"\",\"\",IF(ISBLANK($A161),\"\",VLOOKUP($A161,Data!$A$4:$AI$155,21,FALSE)))","v":1},{"$f":"IF($A161=\"\",\"\",IF(ISBLANK($A161),\"\",VLOOKUP($A161,Data!$A$4:$AI$155,22,FALSE)))","v":1.01},{"$f":"IF($A161=\"\",\"\",IF(ISBLANK($A161),\"\",VLOOKUP($A161,Data!$A$4:$AI$155,23,FALSE)))","v":0.97}]
[{"$f":"IF('Early Years Table'!A162=\"\",\"\",IF(ISBLANK('Early Years Table'!A162),\"\",'Early Years Table'!A162))","v":336},{"$f":"IF($A162=\"\",\"\",IF(ISBLANK($A162),\"\",INDEX('LEA Nos codes'!$A$3:$A$154,MATCH($A162,'LEA Nos codes'!$B$3:$B$154,0))))","v":"Wolverhampton"},{"$f":"IF($A162=\"\",\"\",IF(ISBLANK($A162),\"\",VLOOKUP($A162,Data!$A$4:$AI$155,18,FALSE)))","v":2950},{"$f":"IF($A162=\"\",\"\",IF(ISBLANK($A162),\"\",VLOOKUP($A162,Data!$A$4:$AI$155,19,FALSE)))","v":2880},{"$f":"IF($A162=\"\",\"\",IF(ISBLANK($A162),\"\",VLOOKUP($A162,Data!$A$4:$AI$155,20,FALSE)))","v":2890},{"$f":"IF($A162=\"\",\"\",IF(ISBLANK($A162),\"\",VLOOKUP($A162,Data!$A$4:$AI$155,21,FALSE)))","v":0.9},{"$f":"IF($A162=\"\",\"\",IF(ISBLANK($A162),\"\",VLOOKUP($A162,Data!$A$4:$AI$155,22,FALSE)))","v":0.86},{"$f":"IF($A162=\"\",\"\",IF(ISBLANK($A162),\"\",VLOOKUP($A162,Data!$A$4:$AI$155,23,FALSE)))","v":0.87}]
[{"$f":"IF('Early Years Table'!A163=\"\",\"\",IF(ISBLANK('Early Years Table'!A163),\"\",'Early Years Table'!A163))","v":885},{"$f":"IF($A163=\"\",\"\",IF(ISBLANK($A163),\"\",INDEX('LEA Nos codes'!$A$3:$A$154,MATCH($A163,'LEA Nos codes'!$B$3:$B$154,0))))","v":"Worcestershire"},{"$f":"IF($A163=\"\",\"\",IF(ISBLANK($A163),\"\",VLOOKUP($A163,Data!$A$4:$AI$155,18,FALSE)))","v":6190},{"$f":"IF($A163=\"\",\"\",IF(ISBLANK($A163),\"\",VLOOKUP($A163,Data!$A$4:$AI$155,19,FALSE)))","v":6290},{"$f":"IF($A163=\"\",\"\",IF(ISBLANK($A163),\"\",VLOOKUP($A163,Data!$A$4:$AI$155,20,FALSE)))","v":6250},{"$f":"IF($A163=\"\",\"\",IF(ISBLANK($A163),\"\",VLOOKUP($A163,Data!$A$4:$AI$155,21,FALSE)))","v":0.99},{"$f":"IF($A163=\"\",\"\",IF(ISBLANK($A163),\"\",VLOOKUP($A163,Data!$A$4:$AI$155,22,FALSE)))","v":1},{"$f":"IF($A163=\"\",\"\",IF(ISBLANK($A163),\"\",VLOOKUP($A163,Data!$A$4:$AI$155,23,FALSE)))","v":1.01}]
[{"$f":"IF('Early Years Table'!A164=\"\",\"\",IF(ISBLANK('Early Years Table'!A164),\"\",'Early Years Table'!A164))","v":816},{"$f":"IF($A164=\"\",\"\",IF(ISBLANK($A164),\"\",INDEX('LEA Nos codes'!$A$3:$A$154,MATCH($A164,'LEA Nos codes'!$B$3:$B$154,0))))","v":"York"},{"$f":"IF($A164=\"\",\"\",IF(ISBLANK($A164),\"\",VLOOKUP($A164,Data!$A$4:$AI$155,18,FALSE)))","v":2080},{"$f":"IF($A164=\"\",\"\",IF(ISBLANK($A164),\"\",VLOOKUP($A164,Data!$A$4:$AI$155,19,FALSE)))","v":2230},{"$f":"IF($A164=\"\",\"\",IF(ISBLANK($A164),\"\",VLOOKUP($A164,Data!$A$4:$AI$155,20,FALSE)))","v":2210},{"$f":"IF($A164=\"\",\"\",IF(ISBLANK($A164),\"\",VLOOKUP($A164,Data!$A$4:$AI$155,21,FALSE)))","v":1},{"$f":"IF($A164=\"\",\"\",IF(ISBLANK($A164),\"\",VLOOKUP($A164,Data!$A$4:$AI$155,22,FALSE)))","v":1.05},{"$f":"IF($A164=\"\",\"\",IF(ISBLANK($A164),\"\",VLOOKUP($A164,Data!$A$4:$AI$155,23,FALSE)))","v":1.05}]
[]
[]
["Source: DfE: Provision for Children Under Five Years of Age in England - January 2013"]
["https://www.gov.uk/government/publications/provision-for-children-under-5-years-of-age-in-england-january-2013"]
[]
["1. All children are eligible for a free part-time funded place from 1 September, 1 January or 1 April following their third birthday for up to two years before they reach compulsory school age"]
["   - A funded place currently consists of a minimum of 15 hours of free early education per week for 38 weeks of the year. "]
["   - Free places can be accessed in a variety of settings in the maintained and private, voluntary and independent sectors."]
["   - Local Authorities make funding available to all providers to enable them to provide free places."]
["2. Count of children aged three at 31st December in the previous calendar year."]
["3. Any child attending more than one provider will have only been counted once."]
[".. Not available"]
["x Value suppressed to protect confidentiality"]
[]
["Note:  Some caution should be exercised when comparing take-up rates at local authority level."]
["Please see technical notes for further information on population estimates and rates which exceed 100%"]

{"sheet":"3YO Take up ","index":7,"n_rows":180,"n_cols":15,"rows_kept":180,"cut":false,"hidden":true,"merged":[[3,2,3,4],[3,5,3,7],[167,0,167,8]]}
["Early Years Benchmarking - Take Up1",null,null,null,null,null,null,null,null,null,null,null,null,null,"Return to contents"]
["Three year olds2,3 benefiting from funded early education",null,null,null,null,null,null,null,null,null,null,null,null,null,"Return to instructions"]
["All LAs"]
[null,null,"Number",null,null,"Percentage"]
[null,null,2011,2012,2013,2011,2012,2013]
["England - Average (mean) or Total",null,604320,625440,625310,0.92,0.93,0.94]
["England - Average (median)",null,3080,3165,3185,0.93,0.94,0.95]
["England - Minimum",null,30,20,20,0.69,0.74,0.76]
["England - Maximum",null,16250,16860,17090,1.65,1.3,1.4]
["Selection - Average (median)",null,3080,3165,3185,0.93,0.94,0.95]
["Selection - Minimum",null,30,20,20,0.69,0.74,0.76]
["Selection - Maximum",null,16250,16860,17090,1.65,1.3,1.4]
[301,"Barking and Dagenham",2580,2980,3100,0.69,0.78,0.82]
[302,"Barnet",4100,4340,4320,0.8,0.82,0.82]
[370,"Barnsley",2650,2710,2720,0.96,0.97,0.97]
[800,"Bath & North East Somerset",1920,1910,1850,1.03,1.04,1.02]
[822,"Bedford Borough",1880,2090,2210,0.97,1.01,1.05]
[303,"Bexley",2770,2810,2870,0.9,0.9,0.94]
[330,"Birmingham",13350,14060,14280,0.82,0.84,0.87]
[889,"Blackburn with Darwen",2020,2020,2090,0.89,0.88,0.93]
[890,"Blackpool",1570,1660,1490,0.96,0.99,0.89]
[350,"Bolton",3470,3710,3670,0.93,0.99,0.96]
[837,"Bournemouth",1870,1990,2020,0.97,0.96,0.99]
[867,"Bracknell Forest",1420,1510,1440,0.91,0.92,0.87]
[380,"Bradford",7330,7770,7700,0.89,0.93,0.93]
[304,"Brent",3310,3510,3690,0.76,0.79,0.84]
[846,"Brighton and Hove",2990,3040,3050,1,1.01,1.04]
[305,"Bromley",3760,3920,4010,0.94,0.97,0.97]
[825,"Buckinghamshire",5890,6160,6160,0.92,0.94,0.96]
[351,"Bury",2220,2300,2310,0.92,0.93,0.95]
[381,"Calderdale",2500,2720,2640,0.97,1.04,1.01]
[873,"Cambridgeshire",6880,7200,7090,0.95,0.96,0.95]
[202,"Camden",2110,1910,2060,0.83,0.74,0.82]
[823,"Central Bedfordshire",3050,3300,3140,0.95,1.01,0.98]
[895,"Cheshire East",3970,4230,4180,0.97,1.02,1.06]
[896,"Cheshire West and Chester",3780,3780,3710,1.01,1.03,1.04]
[801,"City of Bristol",4890,5270,5210,0.87,0.9,0.89]
[810,"City of Kingston Upon Hull",3170,3270,3270,0.95,0.94,0.95]
[201,"City of London",30,50,50,0.73,1.3,1.1399999999999999]
[908,"Cornwall",5180,5510,5510,0.96,1,0.99]
[331,"Coventry",3800,3990,3970,0.87,0.89,0.88]
[306,"Croydon",4500,4600,4630,0.83,0.82,0.84]
[909,"Cumbria",5120,5270,5170,1,1.03,1.02]
[841,"Darlington",1280,1350,1340,1,1.02,1.01]
[831,"Derby",3090,3300,3370,0.88,0.91,0.94]
[830,"Derbyshire",8300,8520,8060,0.99,1.01,0.96]
[878,"Devon",7440,7550,7790,1,1.01,1.04]
[371,"Doncaster",3280,3430,3540,0.87,0.87,0.91]
[835,"Dorset",3840,4060,3810,0.98,1.02,0.96]
[332,"Dudley",3410,3600,3590,0.92,0.94,0.94]
[840,"Durham",5280,5370,5250,0.93,0.94,0.92]
[307,"Ealing",4270,4390,4540,0.86,0.87,0.91]
[811,"East Riding of Yorkshire",3440,3430,3420,1.03,1.03,1.03]
[845,"East Sussex",5150,5200,5360,0.94,0.94,0.96]
[308,"Enfield",3650,3800,3880,0.76,0.76,0.79]
[881,"Essex",16050,16180,16350,0.98,0.97,0.98]
[390,"Gateshead",2140,2280,2260,0.95,0.97,0.94]
[916,"Gloucestershire",6350,6630,6520,0.95,0.98,0.97]
[203,"Greenwich",3780,3670,3610,0.92,0.86,0.88]
[204,"Hackney",3320,3360,3450,0.89,0.91,0.93]
[876,"Halton",1460,1490,1450,0.89,0.9,0.87]
[205,"Hammersmith and Fulham",2110,2200,2190,0.95,0.98,0.96]
[850,"Hampshire",14430,14790,14850,0.94,0.94,0.95]
[309,"Haringey",2890,2930,2950,0.8,0.82,0.84]
[310,"Harrow",2400,2530,2680,0.76,0.78,0.83]
[805,"Hartlepool",1110,1120,1140,0.97,0.97,0.99]
[311,"Havering",2620,2720,2700,0.95,0.96,0.96]
[884,"Herefordshire",1780,1780,1830,0.95,0.92,0.95]
[919,"Hertfordshire",14010,14330,14250,0.96,0.96,0.94]
[312,"Hillingdon",3470,3670,3840,0.9,0.91,0.95]
[313,"Hounslow",2720,3020,3170,0.71,0.76,0.81]
[921,"Isle of Wight",1210,1250,1220,0.93,0.97,0.94]
[420,"Isles of Scilly",50,20,20,1.65,0.99,1.4]
[206,"Islington",2290,2320,2290,0.96,0.97,0.98]
[207,"Kensington and Chelsea",1350,1340,1380,0.73,0.75,0.79]
[886,"Kent",16250,16860,17090,0.92,0.94,0.95]
[314,"Kingston upon Thames",2000,2020,2070,0.93,0.9,0.92]
[382,"Kirklees",5260,5340,5400,0.94,0.93,0.96]
[340,"Knowsley",1830,1840,1760,0.99,1,0.98]
[208,"Lambeth",3540,3620,3630,0.88,0.89,0.91]
[888,"Lancashire",12680,13250,13240,0.93,0.95,0.96]
[383,"Leeds",8760,9260,9430,0.95,0.97,0.96]
[856,"Leicester",4230,4440,4350,0.89,0.9,0.91]
[855,"Leicestershire",6720,6850,6870,0.92,0.94,0.96]
[209,"Lewisham",3350,3510,3630,0.78,0.8,0.84]
[925,"Lincolnshire",6990,7520,7420,0.94,0.99,0.97]
[341,"Liverpool",4710,5040,4930,0.91,0.96,0.95]
[821,"Luton",3000,3160,3070,0.9,0.93,0.94]
[352,"Manchester",5950,6120,6280,0.85,0.85,0.88]
[887,"Medway",3260,3320,3380,0.97,0.95,0.96]
[315,"Merton",2780,2910,2890,0.95,1.01,0.97]
[806,"Middlesbrough",1930,1860,1910,1.03,1.01,1.02]
[826,"Milton Keynes",3440,3560,3680,0.9,0.89,0.91]
[391,"Newcastle upon Tyne",2900,2930,3100,0.91,0.89,0.94]
[316,"Newham",4670,4720,4770,0.92,0.93,0.98]
[926,"Norfolk",8490,8980,8840,0.93,0.95,0.94]
[812,"North East Lincolnshire",1850,1900,1960,0.94,0.95,0.97]
[813,"North Lincolnshire",1810,1890,1850,0.89,0.9,0.89]
[802,"North Somerset",2280,2360,2320,0.97,0.99,0.97]
[392,"North Tyneside",2190,2360,2270,0.95,0.99,0.96]
[815,"North Yorkshire",6000,6340,6130,0.96,1.01,0.98]
[928,"Northamptonshire",8470,8870,8900,0.93,0.94,0.95]
[929,"Northumberland",3140,3290,3150,0.98,1,0.98]
[892,"Nottingham",3780,3850,3880,0.98,0.96,0.98]
[891,"Nottinghamshire",8770,8960,8680,0.98,0.98,0.96]
[353,"Oldham",2890,2970,3070,0.87,0.89,0.94]
[931,"Oxfordshire",7700,7870,7630,0.95,0.97,0.94]
[874,"Peterborough",2460,2690,2720,0.91,0.95,0.96]
[879,"Plymouth",2910,3000,3010,0.97,0.98,0.99]
[836,"Poole",1410,1530,1470,0.82,0.89,0.87]
[851,"Portsmouth",2420,2550,2550,0.94,0.95,0.94]
[870,"Reading",2070,2130,2160,0.89,0.88,0.93]
[317,"Redbridge",3850,3920,4070,0.91,0.89,0.93]
[807,"Redcar and Cleveland",1590,1560,1520,1.06,1.05,1.02]
[318,"Richmond upon Thames",2550,2650,2610,0.94,0.95,0.92]
[354,"Rochdale",2760,2750,2730,0.92,0.92,0.93]
[372,"Rotherham",2900,3010,2950,0.92,0.92,0.93]
[857,"Rutland",410,340,400,1.06,0.97,1.1000000000000001]
[355,"Salford",2760,2950,2970,0.87,0.93,0.93]
[333,"Sandwell",3850,4150,4130,0.85,0.88,0.9]
[343,"Sefton",2830,2870,2950,0.99,0.99,1]
[373,"Sheffield",6320,6400,6270,0.95,0.93,0.92]
[893,"Shropshire",3130,3170,3240,0.99,1,1.02]
[871,"Slough",1960,2130,2270,0.79,0.84,0.89]
[334,"Solihull",2450,2560,2440,1.05,1.1000000000000001,1.04]
[933,"Somerset",5430,5560,5660,0.96,0.95,0.97]
[803,"South Gloucestershire",3070,3200,3200,0.97,0.97,0.98]
[393,"South Tyneside",1510,1500,1460,0.93,0.91,0.88]
[852,"Southampton",2710,2850,2810,0.93,0.93,0.93]
[882,"Southend-on-Sea",1980,2130,2160,0.9,0.93,0.94]
[210,"Southwark",3120,3120,3300,0.77,0.77,0.82]
[342,"St. Helens",1840,2000,1870,0.91,0.96,0.89]
[860,"Staffordshire",8700,8910,8720,0.94,0.95,0.94]
[356,"Stockport",3160,3310,3270,0.91,0.94,0.95]
[808,"Stockton-on-Tees",2330,2510,2400,0.96,1.01,0.96]
[861,"Stoke-on-Trent",2950,3130,2970,0.86,0.89,0.89]
[935,"Suffolk",7610,8070,7880,0.91,0.94,0.92]
[394,"Sunderland",3020,3130,3000,0.95,1.01,0.99]
[936,"Surrey",13340,13580,13560,0.94,0.93,0.93]
[319,"Sutton",2230,2240,2370,0.89,0.87,0.9]
[866,"Swindon",2620,2640,2670,0.94,0.93,0.95]
[357,"Tameside",2610,2590,2790,0.93,0.89,0.94]
[894,"Telford & Wrekin",2180,2120,2200,0.99,0.94,0.96]
[883,"Thurrock",2120,2150,2140,0.88,0.87,0.9]
[880,"Torbay",1380,1410,1400,1,1.06,1.04]
[211,"Tower Hamlets",3110,3100,3260,0.85,0.84,0.88]
[358,"Trafford",2840,2820,2920,0.97,0.93,0.98]
[384,"Wakefield",3890,3980,3960,1.01,1.01,0.99]
[335,"Walsall",3250,3450,3390,0.9,0.92,0.93]
[320,"Waltham Forest",3490,3590,3550,0.84,0.86,0.87]
[212,"Wandsworth",3570,3680,3710,0.88,0.9,0.89]
[877,"Warrington",2490,2520,2490,1.02,1,0.98]
[937,"Warwickshire",5890,6180,6030,0.95,0.97,0.96]
[869,"West Berkshire",1870,1880,1920,0.92,0.92,0.95]
[938,"West Sussex",8590,8950,9060,0.93,0.94,0.95]
[213,"Westminster",1910,1970,1890,0.81,0.8,0.76]
[359,"Wigan",3400,3610,3540,0.88,0.9,0.89]
[865,"Wiltshire",5180,5420,5200,0.92,0.94,0.9]
[868,"Windsor and Maidenhead",1850,1940,1910,1.02,1.03,0.98]
[344,"Wirral",3630,3390,3640,0.97,0.91,0.99]
[872,"Wokingham",1980,2070,2020,1,1.01,0.97]
[336,"Wolverhampton",2950,2880,2890,0.9,0.86,0.87]
[885,"Worcestershire",6190,6290,6250,0.99,1,1.01]
[816,"York",2080,2230,2210,1,1.05,1.05]
[]
[]
["Source: DfE: Provision for Children Under Five Years of Age in England - January 2013"]
["https://www.gov.uk/government/publications/provision-for-children-under-5-years-of-age-in-england-january-2013"]
[]
["1. All children are eligible for a free part-time funded place from 1 September, 1 January or 1 April following their third birthday for up to two years before they reach compulsory school age"]
["   - A funded place currently consists of a minimum of 15 hours of free early education per week for 38 weeks of the year. "]
["   - Free places can be accessed in a variety of settings in the maintained and private, voluntary and independent sectors."]
["   - Local Authorities make funding available to all providers to enable them to provide free places."]
["2. Count of children aged three at 31st December in the previous calendar year."]
["3. Any child attending more than one provider will have only been counted once."]
[".. Not available"]
["x Value suppressed to protect confidentiality"]
[]
["Note:  Some caution should be exercised when comparing take-up rates at local authority level."]
["Please see technical notes for further information on population estimates and rates which exceed 100%"]

{"sheet":"4YO Take up","index":8,"n_rows":180,"n_cols":15,"rows_kept":180,"cut":false,"hidden":true,"merged":[[3,2,3,4],[3,5,3,7],[167,0,167,8]]}
["Early Years Benchmarking - Take Up1",null,null,null,null,null,null,null,null,null,null,null,null,null,"Return to contents"]
["Four year olds2,3 benefiting from funded early education",null,null,null,null,null,null,null,null,null,null,null,null,null,"Return to instructions"]
[{"$f":"'Early Years Table'!A2","v":"All LAs"}]
[null,null,"Number",null,null,"Percentage"]
[null,null,{"$f":"Data!X3","v":2011},{"$f":"Data!Y3","v":2012},{"$f":"Data!Z3","v":2013},{"$f":"Data!AA3","v":2011},{"$f":"Data!AB3","v":2012},{"$f":"Data!AC3","v":2013}]
["England - Average (mean) or Total",null,{"$f":"Data!X157","v":620150},{"$f":"Data!Y157","v":638970},{"$f":"Data!Z157","v":658190},{"$f":"Data!AA157","v":0.96},{"$f":"Data!AB157","v":0.97},{"$f":"Data!AC157","v":0.98}]
["England - Average (median)",null,{"$f":"Data!X158","v":3170},{"$f":"Data!Y158","v":3295},{"$f":"Data!Z158","v":3390},{"$f":"Data!AA158","v":0.97},{"$f":"Data!AB158","v":0.98},{"$f":"Data!AC158","v":0.99}]
["England - Minimum",null,{"$f":"Data!X159","v":20},{"$f":"Data!Y159","v":30},{"$f":"Data!Z159","v":20},{"$f":"Data!AA159","v":0.77},{"$f":"Data!AB159","v":0.72},{"$f":"Data!AC159","v":0.71}]
["England - Maximum",null,{"$f":"Data!X160","v":16890},{"$f":"Data!Y160","v":17230},{"$f":"Data!Z160","v":17900},{"$f":"Data!AA160","v":1.1100000000000001},{"$f":"Data!AB160","v":1.21},{"$f":"Data!AC160","v":1.1599999999999999}]
["Selection - Average (median)",null,{"$f":"MEDIAN(C13:C164)","v":3170},3295,3390,0.97,0.98,0.99]
["Selection - Minimum",null,{"$f":"MIN(C13:C164)","v":20},30,20,0.77,0.72,0.71]
["Selection - Maximum",null,{"$f":"MAX(C13:C164)","v":16890},17230,17900,1.1100000000000001,1.21,1.1599999999999999]
[{"$f":"IF('Early Years Table'!A13=\"\",\"\",IF(ISBLANK('Early Years Table'!A13),\"\",'Early Years Table'!A13))","v":301},{"$f":"IF($A13=\"\",\"\",IF(ISBLANK($A13),\"\",INDEX('LEA Nos codes'!$A$3:$A$154,MATCH($A13,'LEA Nos codes'!$B$3:$B$154,0))))","v":"Barking and Dagenham"},{"$f":"IF($A13=\"\",\"\",IF(ISBLANK($A13),\"\",VLOOKUP($A13,Data!$A$4:$AI$155,24,FALSE)))","v":3270},{"$f":"IF($A13=\"\",\"\",IF(ISBLANK($A13),\"\",VLOOKUP($A13,Data!$A$4:$AI$155,25,FALSE)))","v":3380},{"$f":"IF($A13=\"\",\"\",IF(ISBLANK($A13),\"\",VLOOKUP($A13,Data!$A$4:$AI$155,26,FALSE)))","v":3590},{"$f":"IF($A13=\"\",\"\",IF(ISBLANK($A13),\"\",VLOOKUP($A13,Data!$A$4:$AI$155,27,FALSE)))","v":0.92},{"$f":"IF($A13=\"\",\"\",IF(ISBLANK($A13),\"\",VLOOKUP($A13,Data!$A$4:$AI$155,28,FALSE)))","v":0.9},{"$f":"IF($A13=\"\",\"\",IF(ISBLANK($A13),\"\",VLOOKUP($A13,Data!$A$4:$AI$155,29,FALSE)))","v":0.95}]
[{"$f":"IF('Early Years Table'!A14=\"\",\"\",IF(ISBLANK('Early Years Table'!A14),\"\",'Early Years Table'!A14))","v":302},{"$f":"IF($A14=\"\",\"\",IF(ISBLANK($A14),\"\",INDEX('LEA Nos codes'!$A$3:$A$154,MATCH($A14,'LEA Nos codes'!$B$3:$B$154,0))))","v":"Barnet"},{"$f":"IF($A14=\"\",\"\",IF(ISBLANK($A14),\"\",VLOOKUP($A14,Data!$A$4:$AI$155,24,FALSE)))","v":4120},{"$f":"IF($A14=\"\",\"\",IF(ISBLANK($A14),\"\",VLOOKUP($A14,Data!$A$4:$AI$155,25,FALSE)))","v":4390},{"$f":"IF($A14=\"\",\"\",IF(ISBLANK($A14),\"\",VLOOKUP($A14,Data!$A$4:$AI$155,26,FALSE)))","v":4570},{"$f":"IF($A14=\"\",\"\",IF(ISBLANK($A14),\"\",VLOOKUP($A14,Data!$A$4:$AI$155,27,FALSE)))","v":0.83},{"$f":"IF($A14=\"\",\"\",IF(ISBLANK($A14),\"\",VLOOKUP($A14,Data!$A$4:$AI$155,28,FALSE)))","v":0.86},{"$f":"IF($A14=\"\",\"\",IF(ISBLANK($A14),\"\",VLOOKUP($A14,Data!$A$4:$AI$155,29,FALSE)))","v":0.87}]
[{"$f":"IF('Early Years Table'!A15=\"\",\"\",IF(ISBLANK('Early Years Table'!A15),\"\",'Early Years Table'!A15))","v":370},{"$f":"IF($A15=\"\",\"\",IF(ISBLANK($A15),\"\",INDEX('LEA Nos codes'!$A$3:$A$154,MATCH($A15,'LEA Nos codes'!$B$3:$B$154,0))))","v":"Barnsley"},{"$f":"IF($A15=\"\",\"\",IF(ISBLANK($A15),\"\",VLOOKUP($A15,Data!$A$4:$AI$155,24,FALSE)))","v":2720},{"$f":"IF($A15=\"\",\"\",IF(ISBLANK($A15),\"\",VLOOKUP($A15,Data!$A$4:$AI$155,25,FALSE)))","v":2710},{"$f":"IF($A15=\"\",\"\",IF(ISBLANK($A15),\"\",VLOOKUP($A15,Data!$A$4:$AI$155,26,FALSE)))","v":2740},{"$f":"IF($A15=\"\",\"\",IF(ISBLANK($A15),\"\",VLOOKUP($A15,Data!$A$4:$AI$155,27,FALSE)))","v":0.99},{"$f":"IF($A15=\"\",\"\",IF(ISBLANK($A15),\"\",VLOOKUP($A15,Data!$A$4:$AI$155,28,FALSE)))","v":0.98},{"$f":"IF($A15=\"\",\"\",IF(ISBLANK($A15),\"\",VLOOKUP($A15,Data!$A$4:$AI$155,29,FALSE)))","v":0.98}]
[{"$f":"IF('Early Years Table'!A16=\"\",\"\",IF(ISBLANK('Early Years Table'!A16),\"\",'Early Years Table'!A16))","v":800},{"$f":"IF($A16=\"\",\"\",IF(ISBLANK($A16),\"\",INDEX('LEA Nos codes'!$A$3:$A$154,MATCH($A16,'LEA Nos codes'!$B$3:$B$154,0))))","v":"Bath & North East Somerset"},{"$f":"IF($A16=\"\",\"\",IF(ISBLANK($A16),\"\",VLOOKUP($A16,Data!$A$4:$AI$155,24,FALSE)))","v":1890},{"$f":"IF($A16=\"\",\"\",IF(ISBLANK($A16),\"\",VLOOKUP($A16,Data!$A$4:$AI$155,25,FALSE)))","v":1900},{"$f":"IF($A16=\"\",\"\",IF(ISBLANK($A16),\"\",VLOOKUP($A16,Data!$A$4:$AI$155,26,FALSE)))","v":1910},{"$f":"IF($A16=\"\",\"\",IF(ISBLANK($A16),\"\",VLOOKUP($A16,Data!$A$4:$AI$155,27,FALSE)))","v":1},{"$f":"IF($A16=\"\",\"\",IF(ISBLANK($A16),\"\",VLOOKUP($A16,Data!$A$4:$AI$155,28,FALSE)))","v":1.01},{"$f":"IF($A16=\"\",\"\",IF(ISBLANK($A16),\"\",VLOOKUP($A16,Data!$A$4:$AI$155,29,FALSE)))","v":1.03}]
[{"$f":"IF('Early Years Table'!A17=\"\",\"\",IF(ISBLANK('Early Years Table'!A17),\"\",'Early Years Table'!A17))","v":822},{"$f":"IF($A17=\"\",\"\",IF(ISBLANK($A17),\"\",INDEX('LEA Nos codes'!$A$3:$A$154,MATCH($A17,'LEA Nos codes'!$B$3:$B$154,0))))","v":"Bedford Borough"},{"$f":"IF($A17=\"\",\"\",IF(ISBLANK($A17),\"\",VLOOKUP($A17,Data!$A$4:$AI$155,24,FALSE)))","v":2040},{"$f":"IF($A17=\"\",\"\",IF(ISBLANK($A17),\"\",VLOOKUP($A17,Data!$A$4:$AI$155,25,FALSE)))","v":2070},{"$f":"IF($A17=\"\",\"\",IF(ISBLANK($A17),\"\",VLOOKUP($A17,Data!$A$4:$AI$155,26,FALSE)))","v":2220},{"$f":"IF($A17=\"\",\"\",IF(ISBLANK($A17),\"\",VLOOKUP($A17,Data!$A$4:$AI$155,27,FALSE)))","v":1.05},{"$f":"IF($A17=\"\",\"\",IF(ISBLANK($A17),\"\",VLOOKUP($A17,Data!$A$4:$AI$155,28,FALSE)))","v":1.05},{"$f":"IF($A17=\"\",\"\",IF(ISBLANK($A17),\"\",VLOOKUP($A17,Data!$A$4:$AI$155,29,FALSE)))","v":1.07}]
[{"$f":"IF('Early Years Table'!A18=\"\",\"\",IF(ISBLANK('Early Years Table'!A18),\"\",'Early Years Table'!A18))","v":303},{"$f":"IF($A18=\"\",\"\",IF(ISBLANK($A18),\"\",INDEX('LEA Nos codes'!$A$3:$A$154,MATCH($A18,'LEA Nos codes'!$B$3:$B$154,0))))","v":"Bexley"},{"$f":"IF($A18=\"\",\"\",IF(ISBLANK($A18),\"\",VLOOKUP($A18,Data!$A$4:$AI$155,24,FALSE)))","v":2940},{"$f":"IF($A18=\"\",\"\",IF(ISBLANK($A18),\"\",VLOOKUP($A18,Data!$A$4:$AI$155,25,FALSE)))","v":3190},{"$f":"IF($A18=\"\",\"\",IF(ISBLANK($A18),\"\",VLOOKUP($A18,Data!$A$4:$AI$155,26,FALSE)))","v":3200},{"$f":"IF($A18=\"\",\"\",IF(ISBLANK($A18),\"\",VLOOKUP($A18,Data!$A$4:$AI$155,27,FALSE)))","v":0.99},{"$f":"IF($A18=\"\",\"\",IF(ISBLANK($A18),\"\",VLOOKUP($A18,Data!$A$4:$AI$155,28,FALSE)))","v":1.03},{"$f":"IF($A18=\"\",\"\",IF(ISBLANK($A18),\"\",VLOOKUP($A18,Data!$A$4:$AI$155,29,FALSE)))","v":1.02}]
[{"$f":"IF('Early Years Table'!A19=\"\",\"\",IF(ISBLANK('Early Years Table'!A19),\"\",'Early Years Table'!A19))","v":330},{"$f":"IF($A19=\"\",\"\",IF(ISBLANK($A19),\"\",INDEX('LEA Nos codes'!$A$3:$A$154,MATCH($A19,'LEA Nos codes'!$B$3:$B$154,0))))","v":"Birmingham"},{"$f":"IF($A19=\"\",\"\",IF(ISBLANK($A19),\"\",VLOOKUP($A19,Data!$A$4:$AI$155,24,FALSE)))","v":14970},{"$f":"IF($A19=\"\",\"\",IF(ISBLANK($A19),\"\",VLOOKUP($A19,Data!$A$4:$AI$155,25,FALSE)))","v":15750},{"$f":"IF($A19=\"\",\"\",IF(ISBLANK($A19),\"\",VLOOKUP($A19,Data!$A$4:$AI$155,26,FALSE)))","v":15950},{"$f":"IF($A19=\"\",\"\",IF(ISBLANK($A19),\"\",VLOOKUP($A19,Data!$A$4:$AI$155,27,FALSE)))","v":0.94},{"$f":"IF($A19=\"\",\"\",IF(ISBLANK($A19),\"\",VLOOKUP($A19,Data!$A$4:$AI$155,28,FALSE)))","v":0.97},{"$f":"IF($A19=\"\",\"\",IF(ISBLANK($A19),\"\",VLOOKUP($A19,Data!$A$4:$AI$155,29,FALSE)))","v":0.96}]
[{"$f":"IF('Early Years Table'!A20=\"\",\"\",IF(ISBLANK('Early Years Table'!A20),\"\",'Early Years Table'!A20))","v":889},{"$f":"IF($A20=\"\",\"\",IF(ISBLANK($A20),\"\",INDEX('LEA Nos codes'!$A$3:$A$154,MATCH($A20,'LEA Nos codes'!$B$3:$B$154,0))))","v":"Blackburn with Darwen"},{"$f":"IF($A20=\"\",\"\",IF(ISBLANK($A20),\"\",VLOOKUP($A20,Data!$A$4:$AI$155,24,FALSE)))","v":2170},{"$f":"IF($A20=\"\",\"\",IF(ISBLANK($A20),\"\",VLOOKUP($A20,Data!$A$4:$AI$155,25,FALSE)))","v":2190},{"$f":"IF($A20=\"\",\"\",IF(ISBLANK($A20),\"\",VLOOKUP($A20,Data!$A$4:$AI$155,26,FALSE)))","v":2190},{"$f":"IF($A20=\"\",\"\",IF(ISBLANK($A20),\"\",VLOOKUP($A20,Data!$A$4:$AI$155,27,FALSE)))","v":0.98},{"$f":"IF($A20=\"\",\"\",IF(ISBLANK($A20),\"\",VLOOKUP($A20,Data!$A$4:$AI$155,28,FALSE)))","v":0.97},{"$f":"IF($A20=\"\",\"\",IF(ISBLANK($A20),\"\",VLOOKUP($A20,Data!$A$4:$AI$155,29,FALSE)))","v":0.95}]
[{"$f":"IF('Early Years Table'!A21=\"\",\"\",IF(ISBLANK('Early Years Table'!A21),\"\",'Early Years Table'!A21))","v":890},{"$f":"IF($A21=\"\",\"\",IF(ISBLANK($A21),\"\",INDEX('LEA Nos codes'!$A$3:$A$154,MATCH($A21,'LEA Nos codes'!$B$3:$B$154,0))))","v":"Blackpool"},{"$f":"IF($A21=\"\",\"\",IF(ISBLANK($A21),\"\",VLOOKUP($A21,Data!$A$4:$AI$155,24,FALSE)))","v":1610},{"$f":"IF($A21=\"\",\"\",IF(ISBLANK($A21),\"\",VLOOKUP($A21,Data!$A$4:$AI$155,25,FALSE)))","v":1660},{"$f":"IF($A21=\"\",\"\",IF(ISBLANK($A21),\"\",VLOOKUP($A21,Data!$A$4:$AI$155,26,FALSE)))","v":1700},{"$f":"IF($A21=\"\",\"\",IF(ISBLANK($A21),\"\",VLOOKUP($A21,Data!$A$4:$AI$155,27,FALSE)))","v":1},{"$f":"IF($A21=\"\",\"\",IF(ISBLANK($A21),\"\",VLOOKUP($A21,Data!$A$4:$AI$155,28,FALSE)))","v":1.03},{"$f":"IF($A21=\"\",\"\",IF(ISBLANK($A21),\"\",VLOOKUP($A21,Data!$A$4:$AI$155,29,FALSE)))","v":1.02}]
[{"$f":"IF('Early Years Table'!A22=\"\",\"\",IF(ISBLANK('Early Years Table'!A22),\"\",'Early Years Table'!A22))","v":350},{"$f":"IF($A22=\"\",\"\",IF(ISBLANK($A22),\"\",INDEX('LEA Nos codes'!$A$3:$A$154,MATCH($A22,'LEA Nos codes'!$B$3:$B$154,0))))","v":"Bolton"},{"$f":"IF($A22=\"\",\"\",IF(ISBLANK($A22),\"\",VLOOKUP($A22,Data!$A$4:$AI$155,24,FALSE)))","v":3650},{"$f":"IF($A22=\"\",\"\",IF(ISBLANK($A22),\"\",VLOOKUP($A22,Data!$A$4:$AI$155,25,FALSE)))","v":3740},{"$f":"IF($A22=\"\",\"\",IF(ISBLANK($A22),\"\",VLOOKUP($A22,Data!$A$4:$AI$155,26,FALSE)))","v":3890},{"$f":"IF($A22=\"\",\"\",IF(ISBLANK($A22),\"\",VLOOKUP($A22,Data!$A$4:$AI$155,27,FALSE)))","v":0.99},{"$f":"IF($A22=\"\",\"\",IF(ISBLANK($A22),\"\",VLOOKUP($A22,Data!$A$4:$AI$155,28,FALSE)))","v":1.01},{"$f":"IF($A22=\"\",\"\",IF(ISBLANK($A22),\"\",VLOOKUP($A22,Data!$A$4:$AI$155,29,FALSE)))","v":1.03}]
[{"$f":"IF('Early Years Table'!A23=\"\",\"\",IF(ISBLANK('Early Years Table'!A23),\"\",'Early Years Table'!A23))","v":837},{"$f":"IF($A23=\"\",\"\",IF(ISBLANK($A23),\"\",INDEX('LEA Nos codes'!$A$3:$A$154,MATCH($A23,'LEA Nos codes'!$B$3:$B$154,0))))","v":"Bournemouth"},{"$f":"IF($A23=\"\",\"\",IF(ISBLANK($A23),\"\",VLOOKUP($A23,Data!$A$4:$AI$155,24,FALSE)))","v":1810},{"$f":"IF($A23=\"\",\"\",IF(ISBLANK($A23),\"\",VLOOKUP($A23,Data!$A$4:$AI$155,25,FALSE)))","v":1900},{"$f":"IF($A23=\"\",\"\",IF(ISBLANK($A23),\"\",VLOOKUP($A23,Data!$A$4:$AI$155,26,FALSE)))","v":2000},{"$f":"IF($A23=\"\",\"\",IF(ISBLANK($A23),\"\",VLOOKUP($A23,Data!$A$4:$AI$155,27,FALSE)))","v":1.03},{"$f":"IF($A23=\"\",\"\",IF(ISBLANK($A23),\"\",VLOOKUP($A23,Data!$A$4:$AI$155,28,FALSE)))","v":0.97},{"$f":"IF($A23=\"\",\"\",IF(ISBLANK($A23),\"\",VLOOKUP($A23,Data!$A$4:$AI$155,29,FALSE)))","v":0.98}]
[{"$f":"IF('Early Years Table'!A24=\"\",\"\",IF(ISBLANK('Early Years Table'!A24),\"\",'Early Years Table'!A24))","v":867},{"$f":"IF($A24=\"\",\"\",IF(ISBLANK($A24),\"\",INDEX('LEA Nos codes'!$A$3:$A$154,MATCH($A24,'LEA Nos codes'!$B$3:$B$154,0))))","v":"Bracknell Forest"},{"$f":"IF($A24=\"\",\"\",IF(ISBLANK($A24),\"\",VLOOKUP($A24,Data!$A$4:$AI$155,24,FALSE)))","v":1430},{"$f":"IF($A24=\"\",\"\",IF(ISBLANK($A24),\"\",VLOOKUP($A24,Data!$A$4:$AI$155,25,FALSE)))","v":1460},{"$f":"IF($A24=\"\",\"\",IF(ISBLANK($A24),\"\",VLOOKUP($A24,Data!$A$4:$AI$155,26,FALSE)))","v":1550},{"$f":"IF($A24=\"\",\"\",IF(ISBLANK($A24),\"\",VLOOKUP($A24,Data!$A$4:$AI$155,27,FALSE)))","v":0.95},{"$f":"IF($A24=\"\",\"\",IF(ISBLANK($A24),\"\",VLOOKUP($A24,Data!$A$4:$AI$155,28,FALSE)))","v":0.92},{"$f":"IF($A24=\"\",\"\",IF(ISBLANK($A24),\"\",VLOOKUP($A24,Data!$A$4:$AI$155,29,FALSE)))","v":0.95}]
[{"$f":"IF('Early Years Table'!A25=\"\",\"\",IF(ISBLANK('Early Years Table'!A25),\"\",'Early Years Table'!A25))","v":380},{"$f":"IF($A25=\"\",\"\",IF(ISBLANK($A25),\"\",INDEX('LEA Nos codes'!$A$3:$A$154,MATCH($A25,'LEA Nos codes'!$B$3:$B$154,0))))","v":"Bradford"},{"$f":"IF($A25=\"\",\"\",IF(ISBLANK($A25),\"\",VLOOKUP($A25,Data!$A$4:$AI$155,24,FALSE)))","v":7600},{"$f":"IF($A25=\"\",\"\",IF(ISBLANK($A25),\"\",VLOOKUP($A25,Data!$A$4:$AI$155,25,FALSE)))","v":7740},{"$f":"IF($A25=\"\",\"\",IF(ISBLANK($A25),\"\",VLOOKUP($A25,Data!$A$4:$AI$155,26,FALSE)))","v":8100},{"$f":"IF($A25=\"\",\"\",IF(ISBLANK($A25),\"\",VLOOKUP($A25,Data!$A$4:$AI$155,27,FALSE)))","v":0.94},{"$f":"IF($A25=\"\",\"\",IF(ISBLANK($A25),\"\",VLOOKUP($A25,Data!$A$4:$AI$155,28,FALSE)))","v":0.95},{"$f":"IF($A25=\"\",\"\",IF(ISBLANK($A25),\"\",VLOOKUP($A25,Data!$A$4:$AI$155,29,FALSE)))","v":0.98}]
[{"$f":"IF('Early Years Table'!A26=\"\",\"\",IF(ISBLANK('Early Years Table'!A26),\"\",'Early Years Table'!A26))","v":304},{"$f":"IF($A26=\"\",\"\",IF(ISBLANK($A26),\"\",INDEX('LEA Nos codes'!$A$3:$A$154,MATCH($A26,'LEA Nos codes'!$B$3:$B$154,0))))","v":"Brent"},{"$f":"IF($A26=\"\",\"\",IF(ISBLANK($A26),\"\",VLOOKUP($A26,Data!$A$4:$AI$155,24,FALSE)))","v":3750},{"$f":"IF($A26=\"\",\"\",IF(ISBLANK($A26),\"\",VLOOKUP($A26,Data!$A$4:$AI$155,25,FALSE)))","v":3880},{"$f":"IF($A26=\"\",\"\",IF(ISBLANK($A26),\"\",VLOOKUP($A26,Data!$A$4:$AI$155,26,FALSE)))","v":4040},{"$f":"IF($A26=\"\",\"\",IF(ISBLANK($A26),\"\",VLOOKUP($A26,Data!$A$4:$AI$155,27,FALSE)))","v":0.89},{"$f":"IF($A26=\"\",\"\",IF(ISBLANK($A26),\"\",VLOOKUP($A26,Data!$A$4:$AI$155,28,FALSE)))","v":0.9},{"$f":"IF($A26=\"\",\"\",IF(ISBLANK($A26),\"\",VLOOKUP($A26,Data!$A$4:$AI$155,29,FALSE)))","v":0.93}]
[{"$f":"IF('Early Years Table'!A27=\"\",\"\",IF(ISBLANK('Early Years Table'!A27),\"\",'Early Years Table'!A27))","v":846},{"$f":"IF($A27=\"\",\"\",IF(ISBLANK($A27),\"\",INDEX('LEA Nos codes'!$A$3:$A$154,MATCH($A27,'LEA Nos codes'!$B$3:$B$154,0))))","v":"Brighton and Hove"},{"$f":"IF($A27=\"\",\"\",IF(ISBLANK($A27),\"\",VLOOKUP($A27,Data!$A$4:$AI$155,24,FALSE)))","v":2850},{"$f":"IF($A27=\"\",\"\",IF(ISBLANK($A27),\"\",VLOOKUP($A27,Data!$A$4:$AI$155,25,FALSE)))","v":3010},{"$f":"IF($A27=\"\",\"\",IF(ISBLANK($A27),\"\",VLOOKUP($A27,Data!$A$4:$AI$155,26,FALSE)))","v":3030},{"$f":"IF($A27=\"\",\"\",IF(ISBLANK($A27),\"\",VLOOKUP($A27,Data!$A$4:$AI$155,27,FALSE)))","v":0.99},{"$f":"IF($A27=\"\",\"\",IF(ISBLANK($A27),\"\",VLOOKUP($A27,Data!$A$4:$AI$155,28,FALSE)))","v":1.02},{"$f":"IF($A27=\"\",\"\",IF(ISBLANK($A27),\"\",VLOOKUP($A27,Data!$A$4:$AI$155,29,FALSE)))","v":1.02}]
[{"$f":"IF('Early Years Table'!A28=\"\",\"\",IF(ISBLANK('Early Years Table'!A28),\"\",'Early Years Table'!A28))","v":305},{"$f":"IF($A28=\"\",\"\",IF(ISBLANK($A28),\"\",INDEX('LEA Nos codes'!$A$3:$A$154,MATCH($A28,'LEA Nos codes'!$B$3:$B$154,0))))","v":"Bromley"},{"$f":"IF($A28=\"\",\"\",IF(ISBLANK($A28),\"\",VLOOKUP($A28,Data!$A$4:$AI$155,24,FALSE)))","v":3790},{"$f":"IF($A28=\"\",\"\",IF(ISBLANK($A28),\"\",VLOOKUP($A28,Data!$A$4:$AI$155,25,FALSE)))","v":3920},{"$f":"IF($A28=\"\",\"\",IF(ISBLANK($A28),\"\",VLOOKUP($A28,Data!$A$4:$AI$155,26,FALSE)))","v":4100},{"$f":"IF($A28=\"\",\"\",IF(ISBLANK($A28),\"\",VLOOKUP($A28,Data!$A$4:$AI$155,27,FALSE)))","v":0.96},{"$f":"IF($A28=\"\",\"\",IF(ISBLANK($A28),\"\",VLOOKUP($A28,Data!$A$4:$AI$155,28,FALSE)))","v":0.98},{"$f":"IF($A28=\"\",\"\",IF(ISBLANK($A28),\"\",VLOOKUP($A28,Data!$A$4:$AI$155,29,FALSE)))","v":1}]
[{"$f":"IF('Early Years Table'!A29=\"\",\"\",IF(ISBLANK('Early Years Table'!A29),\"\",'Early Years Table'!A29))","v":825},{"$f":"IF($A29=\"\",\"\",IF(ISBLANK($A29),\"\",INDEX('LEA Nos codes'!$A$3:$A$154,MATCH($A29,'LEA Nos codes'!$B$3:$B$154,0))))","v":"Buckinghamshire"},{"$f":"IF($A29=\"\",\"\",IF(ISBLANK($A29),\"\",VLOOKUP($A29,Data!$A$4:$AI$155,24,FALSE)))","v":6010},{"$f":"IF($A29=\"\",\"\",IF(ISBLANK($A29),\"\",VLOOKUP($A29,Data!$A$4:$AI$155,25,FALSE)))","v":6160},{"$f":"IF($A29=\"\",\"\",IF(ISBLANK($A29),\"\",VLOOKUP($A29,Data!$A$4:$AI$155,26,FALSE)))","v":6410},{"$f":"IF($A29=\"\",\"\",IF(ISBLANK($A29),\"\",VLOOKUP($A29,Data!$A$4:$AI$155,27,FALSE)))","v":0.95},{"$f":"IF($A29=\"\",\"\",IF(ISBLANK($A29),\"\",VLOOKUP($A29,Data!$A$4:$AI$155,28,FALSE)))","v":0.95},{"$f":"IF($A29=\"\",\"\",IF(ISBLANK($A29),\"\",VLOOKUP($A29,Data!$A$4:$AI$155,29,FALSE)))","v":0.96}]
[{"$f":"IF('Early Years Table'!A30=\"\",\"\",IF(ISBLANK('Early Years Table'!A30),\"\",'Early Years Table'!A30))","v":351},{"$f":"IF($A30=\"\",\"\",IF(ISBLANK($A30),\"\",INDEX('LEA Nos codes'!$A$3:$A$154,MATCH($A30,'LEA Nos codes'!$B$3:$B$154,0))))","v":"Bury"},{"$f":"IF($A30=\"\",\"\",IF(ISBLANK($A30),\"\",VLOOKUP($A30,Data!$A$4:$AI$155,24,FALSE)))","v":2320},{"$f":"IF($A30=\"\",\"\",IF(ISBLANK($A30),\"\",VLOOKUP($A30,Data!$A$4:$AI$155,25,FALSE)))","v":2390},{"$f":"IF($A30=\"\",\"\",IF(ISBLANK($A30),\"\",VLOOKUP($A30,Data!$A$4:$AI$155,26,FALSE)))","v":2420},{"$f":"IF($A30=\"\",\"\",IF(ISBLANK($A30),\"\",VLOOKUP($A30,Data!$A$4:$AI$155,27,FALSE)))","v":0.98},{"$f":"IF($A30=\"\",\"\",IF(ISBLANK($A30),\"\",VLOOKUP($A30,Data!$A$4:$AI$155,28,FALSE)))","v":0.99},{"$f":"IF($A30=\"\",\"\",IF(ISBLANK($A30),\"\",VLOOKUP($A30,Data!$A$4:$AI$155,29,FALSE)))","v":0.97}]
[{"$f":"IF('Early Years Table'!A31=\"\",\"\",IF(ISBLANK('Early Years Table'!A31),\"\",'Early Years Table'!A31))","v":381},{"$f":"IF($A31=\"\",\"\",IF(ISBLANK($A31),\"\",INDEX('LEA Nos codes'!$A$3:$A$154,MATCH($A31,'LEA Nos codes'!$B$3:$B$154,0))))","v":"Calderdale"},{"$f":"IF($A31=\"\",\"\",IF(ISBLANK($A31),\"\",VLOOKUP($A31,Data!$A$4:$AI$155,24,FALSE)))","v":2660},{"$f":"IF($A31=\"\",\"\",IF(ISBLANK($A31),\"\",VLOOKUP($A31,Data!$A$4:$AI$155,25,FALSE)))","v":2700},{"$f":"IF($A31=\"\",\"\",IF(ISBLANK($A31),\"\",VLOOKUP($A31,Data!$A$4:$AI$155,26,FALSE)))","v":2780},{"$f":"IF($A31=\"\",\"\",IF(ISBLANK($A31),\"\",VLOOKUP($A31,Data!$A$4:$AI$155,27,FALSE)))","v":1.04},{"$f":"IF($A31=\"\",\"\",IF(ISBLANK($A31),\"\",VLOOKUP($A31,Data!$A$4:$AI$155,28,FALSE)))","v":1.05},{"$f":"IF($A31=\"\",\"\",IF(ISBLANK($A31),\"\",VLOOKUP($A31,Data!$A$4:$AI$155,29,FALSE)))","v":1.06}]
[{"$f":"IF('Early Years Table'!A32=\"\",\"\",IF(ISBLANK('Early Years Table'!A32),\"\",'Early Years Table'!A32))","v":873},{"$f":"IF($A32=\"\",\"\",IF(ISBLANK($A32),\"\",INDEX('LEA Nos codes'!$A$3:$A$154,MATCH($A32,'LEA Nos codes'!$B$3:$B$154,0))))","v":"Cambridgeshire"},{"$f":"IF($A32=\"\",\"\",IF(ISBLANK($A32),\"\",VLOOKUP($A32,Data!$A$4:$AI$155,24,FALSE)))","v":6750},{"$f":"IF($A32=\"\",\"\",IF(ISBLANK($A32),\"\",VLOOKUP($A32,Data!$A$4:$AI$155,25,FALSE)))","v":7170},{"$f":"IF($A32=\"\",\"\",IF(ISBLANK($A32),\"\",VLOOKUP($A32,Data!$A$4:$AI$155,26,FALSE)))","v":7260},{"$f":"IF($A32=\"\",\"\",IF(ISBLANK($A32),\"\",VLOOKUP($A32,Data!$A$4:$AI$155,27,FALSE)))","v":0.95},{"$f":"IF($A32=\"\",\"\",IF(ISBLANK($A32),\"\",VLOOKUP($A32,Data!$A$4:$AI$155,28,FALSE)))","v":0.98},{"$f":"IF($A32=\"\",\"\",IF(ISBLANK($A32),\"\",VLOOKUP($A32,Data!$A$4:$AI$155,29,FALSE)))","v":0.96}]
[{"$f":"IF('Early Years Table'!A33=\"\",\"\",IF(ISBLANK('Early Years Table'!A33),\"\",'Early Years Table'!A33))","v":202},{"$f":"IF($A33=\"\",\"\",IF(ISBLANK($A33),\"\",INDEX('LEA Nos codes'!$A$3:$A$154,MATCH($A33,'LEA Nos codes'!$B$3:$B$154,0))))","v":"Camden"},{"$f":"IF($A33=\"\",\"\",IF(ISBLANK($A33),\"\",VLOOKUP($A33,Data!$A$4:$AI$155,24,FALSE)))","v":1950},{"$f":"IF($A33=\"\",\"\",IF(ISBLANK($A33),\"\",VLOOKUP($A33,Data!$A$4:$AI$155,25,FALSE)))","v":1990},{"$f":"IF($A33=\"\",\"\",IF(ISBLANK($A33),\"\",VLOOKUP($A33,Data!$A$4:$AI$155,26,FALSE)))","v":2040},{"$f":"IF($A33=\"\",\"\",IF(ISBLANK($A33),\"\",VLOOKUP($A33,Data!$A$4:$AI$155,27,FALSE)))","v":0.82},{"$f":"IF($A33=\"\",\"\",IF(ISBLANK($A33),\"\",VLOOKUP($A33,Data!$A$4:$AI$155,28,FALSE)))","v":0.81},{"$f":"IF($A33=\"\",\"\",IF(ISBLANK($A33),\"\",VLOOKUP($A33,Data!$A$4:$AI$155,29,FALSE)))","v":0.82}]
[{"$f":"IF('Early Years Table'!A34=\"\",\"\",IF(ISBLANK('Early Years Table'!A34),\"\",'Early Years Table'!A34))","v":823},{"$f":"IF($A34=\"\",\"\",IF(ISBLANK($A34),\"\",INDEX('LEA Nos codes'!$A$3:$A$154,MATCH($A34,'LEA Nos codes'!$B$3:$B$154,0))))","v":"Central Bedfordshire"},{"$f":"IF($A34=\"\",\"\",IF(ISBLANK($A34),\"\",VLOOKUP($A34,Data!$A$4:$AI$155,24,FALSE)))","v":3170},{"$f":"IF($A34=\"\",\"\",IF(ISBLANK($A34),\"\",VLOOKUP($A34,Data!$A$4:$AI$155,25,FALSE)))","v":3260},{"$f":"IF($A34=\"\",\"\",IF(ISBLANK($A34),\"\",VLOOKUP($A34,Data!$A$4:$AI$155,26,FALSE)))","v":3470},{"$f":"IF($A34=\"\",\"\",IF(ISBLANK($A34),\"\",VLOOKUP($A34,Data!$A$4:$AI$155,27,FALSE)))","v":0.99},{"$f":"IF($A34=\"\",\"\",IF(ISBLANK($A34),\"\",VLOOKUP($A34,Data!$A$4:$AI$155,28,FALSE)))","v":1},{"$f":"IF($A34=\"\",\"\",IF(ISBLANK($A34),\"\",VLOOKUP($A34,Data!$A$4:$AI$155,29,FALSE)))","v":1.04}]
[{"$f":"IF('Early Years Table'!A35=\"\",\"\",IF(ISBLANK('Early Years Table'!A35),\"\",'Early Years Table'!A35))","v":895},{"$f":"IF($A35=\"\",\"\",IF(ISBLANK($A35),\"\",INDEX('LEA Nos codes'!$A$3:$A$154,MATCH($A35,'LEA Nos codes'!$B$3:$B$154,0))))","v":"Cheshire East"},{"$f":"IF($A35=\"\",\"\",IF(ISBLANK($A35),\"\",VLOOKUP($A35,Data!$A$4:$AI$155,24,FALSE)))","v":4110},{"$f":"IF($A35=\"\",\"\",IF(ISBLANK($A35),\"\",VLOOKUP($A35,Data!$A$4:$AI$155,25,FALSE)))","v":4060},{"$f":"IF($A35=\"\",\"\",IF(ISBLANK($A35),\"\",VLOOKUP($A35,Data!$A$4:$AI$155,26,FALSE)))","v":4320},{"$f":"IF($A35=\"\",\"\",IF(ISBLANK($A35),\"\",VLOOKUP($A35,Data!$A$4:$AI$155,27,FALSE)))","v":1},{"$f":"IF($A35=\"\",\"\",IF(ISBLANK($A35),\"\",VLOOKUP($A35,Data!$A$4:$AI$155,28,FALSE)))","v":0.98},{"$f":"IF($A35=\"\",\"\",IF(ISBLANK($A35),\"\",VLOOKUP($A35,Data!$A$4:$AI$155,29,FALSE)))","v":1.03}]
[{"$f":"IF('Early Years Table'!A36=\"\",\"\",IF(ISBLANK('Early Years Table'!A36),\"\",'Early Years Table'!A36))","v":896},{"$f":"IF($A36=\"\",\"\",IF(ISBLANK($A36),\"\",INDEX('LEA Nos codes'!$A$3:$A$154,MATCH($A36,'LEA Nos codes'!$B$3:$B$154,0))))","v":"Cheshire West and Chester"},{"$f":"IF($A36=\"\",\"\",IF(ISBLANK($A36),\"\",VLOOKUP($A36,Data!$A$4:$AI$155,24,FALSE)))","v":3710},{"$f":"IF($A36=\"\",\"\",IF(ISBLANK($A36),\"\",VLOOKUP($A36,Data!$A$4:$AI$155,25,FALSE)))","v":3920},{"$f":"IF($A36=\"\",\"\",IF(ISBLANK($A36),\"\",VLOOKUP($A36,Data!$A$4:$AI$155,26,FALSE)))","v":3880},{"$f":"IF($A36=\"\",\"\",IF(ISBLANK($A36),\"\",VLOOKUP($A36,Data!$A$4:$AI$155,27,FALSE)))","v":1.01},{"$f":"IF($A36=\"\",\"\",IF(ISBLANK($A36),\"\",VLOOKUP($A36,Data!$A$4:$AI$155,28,FALSE)))","v":1.06},{"$f":"IF($A36=\"\",\"\",IF(ISBLANK($A36),\"\",VLOOKUP($A36,Data!$A$4:$AI$155,29,FALSE)))","v":1.06}]
[{"$f":"IF('Early Years Table'!A37=\"\",\"\",IF(ISBLANK('Early Years Table'!A37),\"\",'Early Years Table'!A37))","v":801},{"$f":"IF($A37=\"\",\"\",IF(ISBLANK($A37),\"\",INDEX('LEA Nos codes'!$A$3:$A$154,MATCH($A37,'LEA Nos codes'!$B$3:$B$154,0))))","v":"City of Bristol"},{"$f":"IF($A37=\"\",\"\",IF(ISBLANK($A37),\"\",VLOOKUP($A37,Data!$A$4:$AI$155,24,FALSE)))","v":4930},{"$f":"IF($A37=\"\",\"\",IF(ISBLANK($A37),\"\",VLOOKUP($A37,Data!$A$4:$AI$155,25,FALSE)))","v":5160},{"$f":"IF($A37=\"\",\"\",IF(ISBLANK($A37),\"\",VLOOKUP($A37,Data!$A$4:$AI$155,26,FALSE)))","v":5460},{"$f":"IF($A37=\"\",\"\",IF(ISBLANK($A37),\"\",VLOOKUP($A37,Data!$A$4:$AI$155,27,FALSE)))","v":0.93},{"$f":"IF($A37=\"\",\"\",IF(ISBLANK($A37),\"\",VLOOKUP($A37,Data!$A$4:$AI$155,28,FALSE)))","v":0.93},{"$f":"IF($A37=\"\",\"\",IF(ISBLANK($A37),\"\",VLOOKUP($A37,Data!$A$4:$AI$155,29,FALSE)))","v":0.96}]
[{"$f":"IF('Early Years Table'!A38=\"\",\"\",IF(ISBLANK('Early Years Table'!A38),\"\",'Early Years Table'!A38))","v":810},{"$f":"IF($A38=\"\",\"\",IF(ISBLANK($A38),\"\",INDEX('LEA Nos codes'!$A$3:$A$154,MATCH($A38,'LEA Nos codes'!$B$3:$B$154,0))))","v":"City of Kingston Upon Hull"},{"$f":"IF($A38=\"\",\"\",IF(ISBLANK($A38),\"\",VLOOKUP($A38,Data!$A$4:$AI$155,24,FALSE)))","v":3130},{"$f":"IF($A38=\"\",\"\",IF(ISBLANK($A38),\"\",VLOOKUP($A38,Data!$A$4:$AI$155,25,FALSE)))","v":3210},{"$f":"IF($A38=\"\",\"\",IF(ISBLANK($A38),\"\",VLOOKUP($A38,Data!$A$4:$AI$155,26,FALSE)))","v":3340},{"$f":"IF($A38=\"\",\"\",IF(ISBLANK($A38),\"\",VLOOKUP($A38,Data!$A$4:$AI$155,27,FALSE)))","v":0.98},{"$f":"IF($A38=\"\",\"\",IF(ISBLANK($A38),\"\",VLOOKUP($A38,Data!$A$4:$AI$155,28,FALSE)))","v":0.96},{"$f":"IF($A38=\"\",\"\",IF(ISBLANK($A38),\"\",VLOOKUP($A38,Data!$A$4:$AI$155,29,FALSE)))","v":0.97}]
[{"$f":"IF('Early Years Table'!A39=\"\",\"\",IF(ISBLANK('Early Years Table'!A39),\"\",'Early Years Table'!A39))","v":201},{"$f":"IF($A39=\"\",\"\",IF(ISBLANK($A39),\"\",INDEX('LEA Nos codes'!$A$3:$A$154,MATCH($A39,'LEA Nos codes'!$B$3:$B$154,0))))","v":"City of London"},{"$f":"IF($A39=\"\",\"\",IF(ISBLANK($A39),\"\",VLOOKUP($A39,Data!$A$4:$AI$155,24,FALSE)))","v":30},{"$f":"IF($A39=\"\",\"\",IF(ISBLANK($A39),\"\",VLOOKUP($A39,Data!$A$4:$AI$155,25,FALSE)))","v":30},{"$f":"IF($A39=\"\",\"\",IF(ISBLANK($A39),\"\",VLOOKUP($A39,Data!$A$4:$AI$155,26,FALSE)))","v":50},{"$f":"IF($A39=\"\",\"\",IF(ISBLANK($A39),\"\",VLOOKUP($A39,Data!$A$4:$AI$155,27,FALSE)))","v":0.81},{"$f":"IF($A39=\"\",\"\",IF(ISBLANK($A39),\"\",VLOOKUP($A39,Data!$A$4:$AI$155,28,FALSE)))","v":0.72},{"$f":"IF($A39=\"\",\"\",IF(ISBLANK($A39),\"\",VLOOKUP($A39,Data!$A$4:$AI$155,29,FALSE)))","v":1.1499999999999999}]
[{"$f":"IF('Early Years Table'!A40=\"\",\"\",IF(ISBLANK('Early Years Table'!A40),\"\",'Early Years Table'!A40))","v":908},{"$f":"IF($A40=\"\",\"\",IF(ISBLANK($A40),\"\",INDEX('LEA Nos codes'!$A$3:$A$154,MATCH($A40,'LEA Nos codes'!$B$3:$B$154,0))))","v":"Cornwall"},{"$f":"IF($A40=\"\",\"\",IF(ISBLANK($A40),\"\",VLOOKUP($A40,Data!$A$4:$AI$155,24,FALSE)))","v":5480},{"$f":"IF($A40=\"\",\"\",IF(ISBLANK($A40),\"\",VLOOKUP($A40,Data!$A$4:$AI$155,25,FALSE)))","v":5440},{"$f":"IF($A40=\"\",\"\",IF(ISBLANK($A40),\"\",VLOOKUP($A40,Data!$A$4:$AI$155,26,FALSE)))","v":5710},{"$f":"IF($A40=\"\",\"\",IF(ISBLANK($A40),\"\",VLOOKUP($A40,Data!$A$4:$AI$155,27,FALSE)))","v":1.01},{"$f":"IF($A40=\"\",\"\",IF(ISBLANK($A40),\"\",VLOOKUP($A40,Data!$A$4:$AI$155,28,FALSE)))","v":1},{"$f":"IF($A40=\"\",\"\",IF(ISBLANK($A40),\"\",VLOOKUP($A40,Data!$A$4:$AI$155,29,FALSE)))","v":1.02}]
[{"$f":"IF('Early Years Table'!A41=\"\",\"\",IF(ISBLANK('Early Years Table'!A41),\"\",'Early Years Table'!A41))","v":331},{"$f":"IF($A41=\"\",\"\",IF(ISBLANK($A41),\"\",INDEX('LEA Nos codes'!$A$3:$A$154,MATCH($A41,'LEA Nos codes'!$B$3:$B$154,0))))","v":"Coventry"},{"$f":"IF($A41=\"\",\"\",IF(ISBLANK($A41),\"\",VLOOKUP($A41,Data!$A$4:$AI$155,24,FALSE)))","v":4120},{"$f":"IF($A41=\"\",\"\",IF(ISBLANK($A41),\"\",VLOOKUP($A41,Data!$A$4:$AI$155,25,FALSE)))","v":4240},{"$f":"IF($A41=\"\",\"\",IF(ISBLANK($A41),\"\",VLOOKUP($A41,Data!$A$4:$AI$155,26,FALSE)))","v":4450},{"$f":"IF($A41=\"\",\"\",IF(ISBLANK($A41),\"\",VLOOKUP($A41,Data!$A$4:$AI$155,27,FALSE)))","v":0.99},{"$f":"IF($A41=\"\",\"\",IF(ISBLANK($A41),\"\",VLOOKUP($A41,Data!$A$4:$AI$155,28,FALSE)))","v":0.98},{"$f":"IF($A41=\"\",\"\",IF(ISBLANK($A41),\"\",VLOOKUP($A41,Data!$A$4:$AI$155,29,FALSE)))","v":1}]
[{"$f":"IF('Early Years Table'!A42=\"\",\"\",IF(ISBLANK('Early Years Table'!A42),\"\",'Early Years Table'!A42))","v":306},{"$f":"IF($A42=\"\",\"\",IF(ISBLANK($A42),\"\",INDEX('LEA Nos codes'!$A$3:$A$154,MATCH($A42,'LEA Nos codes'!$B$3:$B$154,0))))","v":"Croydon"},{"$f":"IF($A42=\"\",\"\",IF(ISBLANK($A42),\"\",VLOOKUP($A42,Data!$A$4:$AI$155,24,FALSE)))","v":4820},{"$f":"IF($A42=\"\",\"\",IF(ISBLANK($A42),\"\",VLOOKUP($A42,Data!$A$4:$AI$155,25,FALSE)))","v":5110},{"$f":"IF($A42=\"\",\"\",IF(ISBLANK($A42),\"\",VLOOKUP($A42,Data!$A$4:$AI$155,26,FALSE)))","v":5150},{"$f":"IF($A42=\"\",\"\",IF(ISBLANK($A42),\"\",VLOOKUP($A42,Data!$A$4:$AI$155,27,FALSE)))","v":0.93},{"$f":"IF($A42=\"\",\"\",IF(ISBLANK($A42),\"\",VLOOKUP($A42,Data!$A$4:$AI$155,28,FALSE)))","v":0.92},{"$f":"IF($A42=\"\",\"\",IF(ISBLANK($A42),\"\",VLOOKUP($A42,Data!$A$4:$AI$155,29,FALSE)))","v":0.92}]
[{"$f":"IF('Early Years Table'!A43=\"\",\"\",IF(ISBLANK('Early Years Table'!A43),\"\",'Early Years Table'!A43))","v":909},{"$f":"IF($A43=\"\",\"\",IF(ISBLANK($A43),\"\",INDEX('LEA Nos codes'!$A$3:$A$154,MATCH($A43,'LEA Nos codes'!$B$3:$B$154,0))))","v":"Cumbria"},{"$f":"IF($A43=\"\",\"\",IF(ISBLANK($A43),\"\",VLOOKUP($A43,Data!$A$4:$AI$155,24,FALSE)))","v":5110},{"$f":"IF($A43=\"\",\"\",IF(ISBLANK($A43),\"\",VLOOKUP($A43,Data!$A$4:$AI$155,25,FALSE)))","v":5170},{"$f":"IF($A43=\"\",\"\",IF(ISBLANK($A43),\"\",VLOOKUP($A43,Data!$A$4:$AI$155,26,FALSE)))","v":5270},{"$f":"IF($A43=\"\",\"\",IF(ISBLANK($A43),\"\",VLOOKUP($A43,Data!$A$4:$AI$155,27,FALSE)))","v":1},{"$f":"IF($A43=\"\",\"\",IF(ISBLANK($A43),\"\",VLOOKUP($A43,Data!$A$4:$AI$155,28,FALSE)))","v":1.01},{"$f":"IF($A43=\"\",\"\",IF(ISBLANK($A43),\"\",VLOOKUP($A43,Data!$A$4:$AI$155,29,FALSE)))","v":1.03}]
[{"$f":"IF('Early Years Table'!A44=\"\",\"\",IF(ISBLANK('Early Years Table'!A44),\"\",'Early Years Table'!A44))","v":841},{"$f":"IF($A44=\"\",\"\",IF(ISBLANK($A44),\"\",INDEX('LEA Nos codes'!$A$3:$A$154,MATCH($A44,'LEA Nos codes'!$B$3:$B$154,0))))","v":"Darlington"},{"$f":"IF($A44=\"\",\"\",IF(ISBLANK($A44),\"\",VLOOKUP($A44,Data!$A$4:$AI$155,24,FALSE)))","v":1290},{"$f":"IF($A44=\"\",\"\",IF(ISBLANK($A44),\"\",VLOOKUP($A44,Data!$A$4:$AI$155,25,FALSE)))","v":1260},{"$f":"IF($A44=\"\",\"\",IF(ISBLANK($A44),\"\",VLOOKUP($A44,Data!$A$4:$AI$155,26,FALSE)))","v":1320},{"$f":"IF($A44=\"\",\"\",IF(ISBLANK($A44),\"\",VLOOKUP($A44,Data!$A$4:$AI$155,27,FALSE)))","v":1},{"$f":"IF($A44=\"\",\"\",IF(ISBLANK($A44),\"\",VLOOKUP($A44,Data!$A$4:$AI$155,28,FALSE)))","v":0.99},{"$f":"IF($A44=\"\",\"\",IF(ISBLANK($A44),\"\",VLOOKUP($A44,Data!$A$4:$AI$155,29,FALSE)))","v":1}]
[{"$f":"IF('Early Years Table'!A45=\"\",\"\",IF(ISBLANK('Early Years Table'!A45),\"\",'Early Years Table'!A45))","v":831},{"$f":"IF($A45=\"\",\"\",IF(ISBLANK($A45),\"\",INDEX('LEA Nos codes'!$A$3:$A$154,MATCH($A45,'LEA Nos codes'!$B$3:$B$154,0))))","v":"Derby"},{"$f":"IF($A45=\"\",\"\",IF(ISBLANK($A45),\"\",VLOOKUP($A45,Data!$A$4:$AI$155,24,FALSE)))","v":3180},{"$f":"IF($A45=\"\",\"\",IF(ISBLANK($A45),\"\",VLOOKUP($A45,Data!$A$4:$AI$155,25,FALSE)))","v":3170},{"$f":"IF($A45=\"\",\"\",IF(ISBLANK($A45),\"\",VLOOKUP($A45,Data!$A$4:$AI$155,26,FALSE)))","v":3390},{"$f":"IF($A45=\"\",\"\",IF(ISBLANK($A45),\"\",VLOOKUP($A45,Data!$A$4:$AI$155,27,FALSE)))","v":0.96},{"$f":"IF($A45=\"\",\"\",IF(ISBLANK($A45),\"\",VLOOKUP($A45,Data!$A$4:$AI$155,28,FALSE)))","v":0.9},{"$f":"IF($A45=\"\",\"\",IF(ISBLANK($A45),\"\",VLOOKUP($A45,Data!$A$4:$AI$155,29,FALSE)))","v":0.95}]
[{"$f":"IF('Early Years Table'!A46=\"\",\"\",IF(ISBLANK('Early Years Table'!A46),\"\",'Early Years Table'!A46))","v":830},{"$f":"IF($A46=\"\",\"\",IF(ISBLANK($A46),\"\",INDEX('LEA Nos codes'!$A$3:$A$154,MATCH($A46,'LEA Nos codes'!$B$3:$B$154,0))))","v":"Derbyshire"},{"$f":"IF($A46=\"\",\"\",IF(ISBLANK($A46),\"\",VLOOKUP($A46,Data!$A$4:$AI$155,24,FALSE)))","v":8220},{"$f":"IF($A46=\"\",\"\",IF(ISBLANK($A46),\"\",VLOOKUP($A46,Data!$A$4:$AI$155,25,FALSE)))","v":8380},{"$f":"IF($A46=\"\",\"\",IF(ISBLANK($A46),\"\",VLOOKUP($A46,Data!$A$4:$AI$155,26,FALSE)))","v":8690},{"$f":"IF($A46=\"\",\"\",IF(ISBLANK($A46),\"\",VLOOKUP($A46,Data!$A$4:$AI$155,27,FALSE)))","v":0.98},{"$f":"IF($A46=\"\",\"\",IF(ISBLANK($A46),\"\",VLOOKUP($A46,Data!$A$4:$AI$155,28,FALSE)))","v":1},{"$f":"IF($A46=\"\",\"\",IF(ISBLANK($A46),\"\",VLOOKUP($A46,Data!$A$4:$AI$155,29,FALSE)))","v":1.02}]
[{"$f":"IF('Early Years Table'!A47=\"\",\"\",IF(ISBLANK('Early Years Table'!A47),\"\",'Early Years Table'!A47))","v":878},{"$f":"IF($A47=\"\",\"\",IF(ISBLANK($A47),\"\",INDEX('LEA Nos codes'!$A$3:$A$154,MATCH($A47,'LEA Nos codes'!$B$3:$B$154,0))))","v":"Devon"},{"$f":"IF($A47=\"\",\"\",IF(ISBLANK($A47),\"\",VLOOKUP($A47,Data!$A$4:$AI$155,24,FALSE)))","v":7380},{"$f":"IF($A47=\"\",\"\",IF(ISBLANK($A47),\"\",VLOOKUP($A47,Data!$A$4:$AI$155,25,FALSE)))","v":7570},{"$f":"IF($A47=\"\",\"\",IF(ISBLANK($A47),\"\",VLOOKUP($A47,Data!$A$4:$AI$155,26,FALSE)))","v":7710},{"$f":"IF($A47=\"\",\"\",IF(ISBLANK($A47),\"\",VLOOKUP($A47,Data!$A$4:$AI$155,27,FALSE)))","v":0.98},{"$f":"IF($A47=\"\",\"\",IF(ISBLANK($A47),\"\",VLOOKUP($A47,Data!$A$4:$AI$155,28,FALSE)))","v":1},{"$f":"IF($A47=\"\",\"\",IF(ISBLANK($A47),\"\",VLOOKUP($A47,Data!$A$4:$AI$155,29,FALSE)))","v":1.01}]
[{"$f":"IF('Early Years Table'!A48=\"\",\"\",IF(ISBLANK('Early Years Table'!A48),\"\",'Early Years Table'!A48))","v":371},{"$f":"IF($A48=\"\",\"\",IF(ISBLANK($A48),\"\",INDEX('LEA Nos codes'!$A$3:$A$154,MATCH($A48,'LEA Nos codes'!$B$3:$B$154,0))))","v":"Doncaster"},{"$f":"IF($A48=\"\",\"\",IF(ISBLANK($A48),\"\",VLOOKUP($A48,Data!$A$4:$AI$155,24,FALSE)))","v":3550},{"$f":"IF($A48=\"\",\"\",IF(ISBLANK($A48),\"\",VLOOKUP($A48,Data!$A$4:$AI$155,25,FALSE)))","v":3650},{"$f":"IF($A48=\"\",\"\",IF(ISBLANK($A48),\"\",VLOOKUP($A48,Data!$A$4:$AI$155,26,FALSE)))","v":3730},{"$f":"IF($A48=\"\",\"\",IF(ISBLANK($A48),\"\",VLOOKUP($A48,Data!$A$4:$AI$155,27,FALSE)))","v":0.96},{"$f":"IF($A48=\"\",\"\",IF(ISBLANK($A48),\"\",VLOOKUP($A48,Data!$A$4:$AI$155,28,FALSE)))","v":0.96},{"$f":"IF($A48=\"\",\"\",IF(ISBLANK($A48),\"\",VLOOKUP($A48,Data!$A$4:$AI$155,29,FALSE)))","v":0.95}]
[{"$f":"IF('Early Years Table'!A49=\"\",\"\",IF(ISBLANK('Early Years Table'!A49),\"\",'Early Years Table'!A49))","v":835},{"$f":"IF($A49=\"\",\"\",IF(ISBLANK($A49),\"\",INDEX('LEA Nos codes'!$A$3:$A$154,MATCH($A49,'LEA Nos codes'!$B$3:$B$154,0))))","v":"Dorset"},{"$f":"IF($A49=\"\",\"\",IF(ISBLANK($A49),\"\",VLOOKUP($A49,Data!$A$4:$AI$155,24,FALSE)))","v":3890},{"$f":"IF($A49=\"\",\"\",IF(ISBLANK($A49),\"\",VLOOKUP($A49,Data!$A$4:$AI$155,25,FALSE)))","v":4070},{"$f":"IF($A49=\"\",\"\",IF(ISBLANK($A49),\"\",VLOOKUP($A49,Data!$A$4:$AI$155,26,FALSE)))","v":4180},{"$f":"IF($A49=\"\",\"\",IF(ISBLANK($A49),\"\",VLOOKUP($A49,Data!$A$4:$AI$155,27,FALSE)))","v":0.99},{"$f":"IF($A49=\"\",\"\",IF(ISBLANK($A49),\"\",VLOOKUP($A49,Data!$A$4:$AI$155,28,FALSE)))","v":1.01},{"$f":"IF($A49=\"\",\"\",IF(ISBLANK($A49),\"\",VLOOKUP($A49,Data!$A$4:$AI$155,29,FALSE)))","v":1.03}]
[{"$f":"IF('Early Years Table'!A50=\"\",\"\",IF(ISBLANK('Early Years Table'!A50),\"\",'Early Years Table'!A50))","v":332},{"$f":"IF($A50=\"\",\"\",IF(ISBLANK($A50),\"\",INDEX('LEA Nos codes'!$A$3:$A$154,MATCH($A50,'LEA Nos codes'!$B$3:$B$154,0))))","v":"Dudley"},{"$f":"IF($A50=\"\",\"\",IF(ISBLANK($A50),\"\",VLOOKUP($A50,Data!$A$4:$AI$155,24,FALSE)))","v":3580},{"$f":"IF($A50=\"\",\"\",IF(ISBLANK($A50),\"\",VLOOKUP($A50,Data!$A$4:$AI$155,25,FALSE)))","v":3620},{"$f":"IF($A50=\"\",\"\",IF(ISBLANK($A50),\"\",VLOOKUP($A50,Data!$A$4:$AI$155,26,FALSE)))","v":3800},{"$f":"IF($A50=\"\",\"\",IF(ISBLANK($A50),\"\",VLOOKUP($A50,Data!$A$4:$AI$155,27,FALSE)))","v":0.96},{"$f":"IF($A50=\"\",\"\",IF(ISBLANK($A50),\"\",VLOOKUP($A50,Data!$A$4:$AI$155,28,FALSE)))","v":0.97},{"$f":"IF($A50=\"\",\"\",IF(ISBLANK($A50),\"\",VLOOKUP($A50,Data!$A$4:$AI$155,29,FALSE)))","v":0.99}]
[{"$f":"IF('Early Years Table'!A51=\"\",\"\",IF(ISBLANK('Early Years Table'!A51),\"\",'Early Years Table'!A51))","v":840},{"$f":"IF($A51=\"\",\"\",IF(ISBLANK($A51),\"\",INDEX('LEA Nos codes'!$A$3:$A$154,MATCH($A51,'LEA Nos codes'!$B$3:$B$154,0))))","v":"Durham"},{"$f":"IF($A51=\"\",\"\",IF(ISBLANK($A51),\"\",VLOOKUP($A51,Data!$A$4:$AI$155,24,FALSE)))","v":5430},{"$f":"IF($A51=\"\",\"\",IF(ISBLANK($A51),\"\",VLOOKUP($A51,Data!$A$4:$AI$155,25,FALSE)))","v":5580},{"$f":"IF($A51=\"\",\"\",IF(ISBLANK($A51),\"\",VLOOKUP($A51,Data!$A$4:$AI$155,26,FALSE)))","v":5640},{"$f":"IF($A51=\"\",\"\",IF(ISBLANK($A51),\"\",VLOOKUP($A51,Data!$A$4:$AI$155,27,FALSE)))","v":0.98},{"$f":"IF($A51=\"\",\"\",IF(ISBLANK($A51),\"\",VLOOKUP($A51,Data!$A$4:$AI$155,28,FALSE)))","v":0.98},{"$f":"IF($A51=\"\",\"\",IF(ISBLANK($A51),\"\",VLOOKUP($A51,Data!$A$4:$AI$155,29,FALSE)))","v":0.98}]
[{"$f":"IF('Early Years Table'!A52=\"\",\"\",IF(ISBLANK('Early Years Table'!A52),\"\",'Early Years Table'!A52))","v":307},{"$f":"IF($A52=\"\",\"\",IF(ISBLANK($A52),\"\",INDEX('LEA Nos codes'!$A$3:$A$154,MATCH($A52,'LEA Nos codes'!$B$3:$B$154,0))))","v":"Ealing"},{"$f":"IF($A52=\"\",\"\",IF(ISBLANK($A52),\"\",VLOOKUP($A52,Data!$A$4:$AI$155,24,FALSE)))","v":4460},{"$f":"IF($A52=\"\",\"\",IF(ISBLANK($A52),\"\",VLOOKUP($A52,Data!$A$4:$AI$155,25,FALSE)))","v":4720},{"$f":"IF($A52=\"\",\"\",IF(ISBLANK($A52),\"\",VLOOKUP($A52,Data!$A$4:$AI$155,26,FALSE)))","v":4860},{"$f":"IF($A52=\"\",\"\",IF(ISBLANK($A52),\"\",VLOOKUP($A52,Data!$A$4:$AI$155,27,FALSE)))","v":0.95},{"$f":"IF($A52=\"\",\"\",IF(ISBLANK($A52),\"\",VLOOKUP($A52,Data!$A$4:$AI$155,28,FALSE)))","v":0.96},{"$f":"IF($A52=\"\",\"\",IF(ISBLANK($A52),\"\",VLOOKUP($A52,Data!$A$4:$AI$155,29,FALSE)))","v":0.99}]
[{"$f":"IF('Early Years Table'!A53=\"\",\"\",IF(ISBLANK('Early Years Table'!A53),\"\",'Early Years Table'!A53))","v":811},{"$f":"IF($A53=\"\",\"\",IF(ISBLANK($A53),\"\",INDEX('LEA Nos codes'!$A$3:$A$154,MATCH($A53,'LEA Nos codes'!$B$3:$B$154,0))))","v":"East Riding of Yorkshire"},{"$f":"IF($A53=\"\",\"\",IF(ISBLANK($A53),\"\",VLOOKUP($A53,Data!$A$4:$AI$155,24,FALSE)))","v":3480},{"$f":"IF($A53=\"\",\"\",IF(ISBLANK($A53),\"\",VLOOKUP($A53,Data!$A$4:$AI$155,25,FALSE)))","v":3570},{"$f":"IF($A53=\"\",\"\",IF(ISBLANK($A53),\"\",VLOOKUP($A53,Data!$A$4:$AI$155,26,FALSE)))","v":3540},{"$f":"IF($A53=\"\",\"\",IF(ISBLANK($A53),\"\",VLOOKUP($A53,Data!$A$4:$AI$155,27,FALSE)))","v":1.05},{"$f":"IF($A53=\"\",\"\",IF(ISBLANK($A53),\"\",VLOOKUP($A53,Data!$A$4:$AI$155,28,FALSE)))","v":1.05},{"$f":"IF($A53=\"\",\"\",IF(ISBLANK($A53),\"\",VLOOKUP($A53,Data!$A$4:$AI$155,29,FALSE)))","v":1.04}]
[{"$f":"IF('Early Years Table'!A54=\"\",\"\",IF(ISBLANK('Early Years Table'!A54),\"\",'Early Years Table'!A54))","v":845},{"$f":"IF($A54=\"\",\"\",IF(ISBLANK($A54),\"\",INDEX('LEA Nos codes'!$A$3:$A$154,MATCH($A54,'LEA Nos codes'!$B$3:$B$154,0))))","v":"East Sussex"},{"$f":"IF($A54=\"\",\"\",IF(ISBLANK($A54),\"\",VLOOKUP($A54,Data!$A$4:$AI$155,24,FALSE)))","v":5320},{"$f":"IF($A54=\"\",\"\",IF(ISBLANK($A54),\"\",VLOOKUP($A54,Data!$A$4:$AI$155,25,FALSE)))","v":5460},{"$f":"IF($A54=\"\",\"\",IF(ISBLANK($A54),\"\",VLOOKUP($A54,Data!$A$4:$AI$155,26,FALSE)))","v":5520},{"$f":"IF($A54=\"\",\"\",IF(ISBLANK($A54),\"\",VLOOKUP($A54,Data!$A$4:$AI$155,27,FALSE)))","v":0.96},{"$f":"IF($A54=\"\",\"\",IF(ISBLANK($A54),\"\",VLOOKUP($A54,Data!$A$4:$AI$155,28,FALSE)))","v":0.98},{"$f":"IF($A54=\"\",\"\",IF(ISBLANK($A54),\"\",VLOOKUP($A54,Data!$A$4:$AI$155,29,FALSE)))","v":0.98}]
[{"$f":"IF('Early Years Table'!A55=\"\",\"\",IF(ISBLANK('Early Years Table'!A55),\"\",'Early Years Table'!A55))","v":308},{"$f":"IF($A55=\"\",\"\",IF(ISBLANK($A55),\"\",INDEX('LEA Nos codes'!$A$3:$A$154,MATCH($A55,'LEA Nos codes'!$B$3:$B$154,0))))","v":"Enfield"},{"$f":"IF($A55=\"\",\"\",IF(ISBLANK($A55),\"\",VLOOKUP($A55,Data!$A$4:$AI$155,24,FALSE)))","v":4280},{"$f":"IF($A55=\"\",\"\",IF(ISBLANK($A55),\"\",VLOOKUP($A55,Data!$A$4:$AI$155,25,FALSE)))","v":4660},{"$f":"IF($A55=\"\",\"\",IF(ISBLANK($A55),\"\",VLOOKUP($A55,Data!$A$4:$AI$155,26,FALSE)))","v":4730},{"$f":"IF($A55=\"\",\"\",IF(ISBLANK($A55),\"\",VLOOKUP($A55,Data!$A$4:$AI$155,27,FALSE)))","v":0.91},{"$f":"IF($A55=\"\",\"\",IF(ISBLANK($A55),\"\",VLOOKUP($A55,Data!$A$4:$AI$155,28,FALSE)))","v":0.95},{"$f":"IF($A55=\"\",\"\",IF(ISBLANK($A55),\"\",VLOOKUP($A55,Data!$A$4:$AI$155,29,FALSE)))","v":0.95}]
[{"$f":"IF('Early Years Table'!A56=\"\",\"\",IF(ISBLANK('Early Years Table'!A56),\"\",'Early Years Table'!A56))","v":881},{"$f":"IF($A56=\"\",\"\",IF(ISBLANK($A56),\"\",INDEX('LEA Nos codes'!$A$3:$A$154,MATCH($A56,'LEA Nos codes'!$B$3:$B$154,0))))","v":"Essex"},{"$f":"IF($A56=\"\",\"\",IF(ISBLANK($A56),\"\",VLOOKUP($A56,Data!$A$4:$AI$155,24,FALSE)))","v":15970},{"$f":"IF($A56=\"\",\"\",IF(ISBLANK($A56),\"\",VLOOKUP($A56,Data!$A$4:$AI$155,25,FALSE)))","v":16460},{"$f":"IF($A56=\"\",\"\",IF(ISBLANK($A56),\"\",VLOOKUP($A56,Data!$A$4:$AI$155,26,FALSE)))","v":16750},{"$f":"IF($A56=\"\",\"\",IF(ISBLANK($A56),\"\",VLOOKUP($A56,Data!$A$4:$AI$155,27,FALSE)))","v":0.98},{"$f":"IF($A56=\"\",\"\",IF(ISBLANK($A56),\"\",VLOOKUP($A56,Data!$A$4:$AI$155,28,FALSE)))","v":1},{"$f":"IF($A56=\"\",\"\",IF(ISBLANK($A56),\"\",VLOOKUP($A56,Data!$A$4:$AI$155,29,FALSE)))","v":0.99}]
[{"$f":"IF('Early Years Table'!A57=\"\",\"\",IF(ISBLANK('Early Years Table'!A57),\"\",'Early Years Table'!A57))","v":390},{"$f":"IF($A57=\"\",\"\",IF(ISBLANK($A57),\"\",INDEX('LEA Nos codes'!$A$3:$A$154,MATCH($A57,'LEA Nos codes'!$B$3:$B$154,0))))","v":"Gateshead"},{"$f":"IF($A57=\"\",\"\",IF(ISBLANK($A57),\"\",VLOOKUP($A57,Data!$A$4:$AI$155,24,FALSE)))","v":2210},{"$f":"IF($A57=\"\",\"\",IF(ISBLANK($A57),\"\",VLOOKUP($A57,Data!$A$4:$AI$155,25,FALSE)))","v":2150},{"$f":"IF($A57=\"\",\"\",IF(ISBLANK($A57),\"\",VLOOKUP($A57,Data!$A$4:$AI$155,26,FALSE)))","v":2280},{"$f":"IF($A57=\"\",\"\",IF(ISBLANK($A57),\"\",VLOOKUP($A57,Data!$A$4:$AI$155,27,FALSE)))","v":0.97},{"$f":"IF($A57=\"\",\"\",IF(ISBLANK($A57),\"\",VLOOKUP($A57,Data!$A$4:$AI$155,28,FALSE)))","v":0.95},{"$f":"IF($A57=\"\",\"\",IF(ISBLANK($A57),\"\",VLOOKUP($A57,Data!$A$4:$AI$155,29,FALSE)))","v":0.98}]
[{"$f":"IF('Early Years Table'!A58=\"\",\"\",IF(ISBLANK('Early Years Table'!A58),\"\",'Early Years Table'!A58))","v":916},{"$f":"IF($A58=\"\",\"\",IF(ISBLANK($A58),\"\",INDEX('LEA Nos codes'!$A$3:$A$154,MATCH($A58,'LEA Nos codes'!$B$3:$B$154,0))))","v":"Gloucestershire"},{"$f":"IF($A58=\"\",\"\",IF(ISBLANK($A58),\"\",VLOOKUP($A58,Data!$A$4:$AI$155,24,FALSE)))","v":6590},{"$f":"IF($A58=\"\",\"\",IF(ISBLANK($A58),\"\",VLOOKUP($A58,Data!$A$4:$AI$155,25,FALSE)))","v":6610},{"$f":"IF($A58=\"\",\"\",IF(ISBLANK($A58),\"\",VLOOKUP($A58,Data!$A$4:$AI$155,26,FALSE)))","v":6930},{"$f":"IF($A58=\"\",\"\",IF(ISBLANK($A58),\"\",VLOOKUP($A58,Data!$A$4:$AI$155,27,FALSE)))","v":1.01},{"$f":"IF($A58=\"\",\"\",IF(ISBLANK($A58),\"\",VLOOKUP($A58,Data!$A$4:$AI$155,28,FALSE)))","v":0.98},{"$f":"IF($A58=\"\",\"\",IF(ISBLANK($A58),\"\",VLOOKUP($A58,Data!$A$4:$AI$155,29,FALSE)))","v":1.01}]
[{"$f":"IF('Early Years Table'!A59=\"\",\"\",IF(ISBLANK('Early Years Table'!A59),\"\",'Early Years Table'!A59))","v":203},{"$f":"IF($A59=\"\",\"\",IF(ISBLANK($A59),\"\",INDEX('LEA Nos codes'!$A$3:$A$154,MATCH($A59,'LEA Nos codes'!$B$3:$B$154,0))))","v":"Greenwich"},{"$f":"IF($A59=\"\",\"\",IF(ISBLANK($A59),\"\",VLOOKUP($A59,Data!$A$4:$AI$155,24,FALSE)))","v":3540},{"$f":"IF($A59=\"\",\"\",IF(ISBLANK($A59),\"\",VLOOKUP($A59,Data!$A$4:$AI$155,25,FALSE)))","v":3720},{"$f":"IF($A59=\"\",\"\",IF(ISBLANK($A59),\"\",VLOOKUP($A59,Data!$A$4:$AI$155,26,FALSE)))","v":3710},{"$f":"IF($A59=\"\",\"\",IF(ISBLANK($A59),\"\",VLOOKUP($A59,Data!$A$4:$AI$155,27,FALSE)))","v":0.9},{"$f":"IF($A59=\"\",\"\",IF(ISBLANK($A59),\"\",VLOOKUP($A59,Data!$A$4:$AI$155,28,FALSE)))","v":0.92},{"$f":"IF($A59=\"\",\"\",IF(ISBLANK($A59),\"\",VLOOKUP($A59,Data!$A$4:$AI$155,29,FALSE)))","v":0.9}]
[{"$f":"IF('Early Years Table'!A60=\"\",\"\",IF(ISBLANK('Early Years Table'!A60),\"\",'Early Years Table'!A60))","v":204},{"$f":"IF($A60=\"\",\"\",IF(ISBLANK($A60),\"\",INDEX('LEA Nos codes'!$A$3:$A$154,MATCH($A60,'LEA Nos codes'!$B$3:$B$154,0))))","v":"Hackney"},{"$f":"IF($A60=\"\",\"\",IF(ISBLANK($A60),\"\",VLOOKUP($A60,Data!$A$4:$AI$155,24,FALSE)))","v":3310},{"$f":"IF($A60=\"\",\"\",IF(ISBLANK($A60),\"\",VLOOKUP($A60,Data!$A$4:$AI$155,25,FALSE)))","v":3330},{"$f":"IF($A60=\"\",\"\",IF(ISBLANK($A60),\"\",VLOOKUP($A60,Data!$A$4:$AI$155,26,FALSE)))","v":3520},{"$f":"IF($A60=\"\",\"\",IF(ISBLANK($A60),\"\",VLOOKUP($A60,Data!$A$4:$AI$155,27,FALSE)))","v":0.9},{"$f":"IF($A60=\"\",\"\",IF(ISBLANK($A60),\"\",VLOOKUP($A60,Data!$A$4:$AI$155,28,FALSE)))","v":0.94},{"$f":"IF($A60=\"\",\"\",IF(ISBLANK($A60),\"\",VLOOKUP($A60,Data!$A$4:$AI$155,29,FALSE)))","v":0.99}]
[{"$f":"IF('Early Years Table'!A61=\"\",\"\",IF(ISBLANK('Early Years Table'!A61),\"\",'Early Years Table'!A61))","v":876},{"$f":"IF($A61=\"\",\"\",IF(ISBLANK($A61),\"\",INDEX('LEA Nos codes'!$A$3:$A$154,MATCH($A61,'LEA Nos codes'!$B$3:$B$154,0))))","v":"Halton"},{"$f":"IF($A61=\"\",\"\",IF(ISBLANK($A61),\"\",VLOOKUP($A61,Data!$A$4:$AI$155,24,FALSE)))","v":1530},{"$f":"IF($A61=\"\",\"\",IF(ISBLANK($A61),\"\",VLOOKUP($A61,Data!$A$4:$AI$155,25,FALSE)))","v":1510},{"$f":"IF($A61=\"\",\"\",IF(ISBLANK($A61),\"\",VLOOKUP($A61,Data!$A$4:$AI$155,26,FALSE)))","v":1540},{"$f":"IF($A61=\"\",\"\",IF(ISBLANK($A61),\"\",VLOOKUP($A61,Data!$A$4:$AI$155,27,FALSE)))","v":0.91},{"$f":"IF($A61=\"\",\"\",IF(ISBLANK($A61),\"\",VLOOKUP($A61,Data!$A$4:$AI$155,28,FALSE)))","v":0.92},{"$f":"IF($A61=\"\",\"\",IF(ISBLANK($A61),\"\",VLOOKUP($A61,Data!$A$4:$AI$155,29,FALSE)))","v":0.93}]
[{"$f":"IF('Early Years Table'!A62=\"\",\"\",IF(ISBLANK('Early Years Table'!A62),\"\",'Early Years Table'!A62))","v":205},{"$f":"IF($A62=\"\",\"\",IF(ISBLANK($A62),\"\",INDEX('LEA Nos codes'!$A$3:$A$154,MATCH($A62,'LEA Nos codes'!$B$3:$B$154,0))))","v":"Hammersmith and Fulham"},{"$f":"IF($A62=\"\",\"\",IF(ISBLANK($A62),\"\",VLOOKUP($A62,Data!$A$4:$AI$155,24,FALSE)))","v":1970},{"$f":"IF($A62=\"\",\"\",IF(ISBLANK($A62),\"\",VLOOKUP($A62,Data!$A$4:$AI$155,25,FALSE)))","v":1920},{"$f":"IF($A62=\"\",\"\",IF(ISBLANK($A62),\"\",VLOOKUP($A62,Data!$A$4:$AI$155,26,FALSE)))","v":1940},{"$f":"IF($A62=\"\",\"\",IF(ISBLANK($A62),\"\",VLOOKUP($A62,Data!$A$4:$AI$155,27,FALSE)))","v":0.9},{"$f":"IF($A62=\"\",\"\",IF(ISBLANK($A62),\"\",VLOOKUP($A62,Data!$A$4:$AI$155,28,FALSE)))","v":0.89},{"$f":"IF($A62=\"\",\"\",IF(ISBLANK($A62),\"\",VLOOKUP($A62,Data!$A$4:$AI$155,29,FALSE)))","v":0.9}]
[{"$f":"IF('Early Years Table'!A63=\"\",\"\",IF(ISBLANK('Early Years Table'!A63),\"\",'Early Years Table'!A63))","v":850},{"$f":"IF($A63=\"\",\"\",IF(ISBLANK($A63),\"\",INDEX('LEA Nos codes'!$A$3:$A$154,MATCH($A63,'LEA Nos codes'!$B$3:$B$154,0))))","v":"Hampshire"},{"$f":"IF($A63=\"\",\"\",IF(ISBLANK($A63),\"\",VLOOKUP($A63,Data!$A$4:$AI$155,24,FALSE)))","v":14680},{"$f":"IF($A63=\"\",\"\",IF(ISBLANK($A63),\"\",VLOOKUP($A63,Data!$A$4:$AI$155,25,FALSE)))","v":14900},{"$f":"IF($A63=\"\",\"\",IF(ISBLANK($A63),\"\",VLOOKUP($A63,Data!$A$4:$AI$155,26,FALSE)))","v":15350},{"$f":"IF($A63=\"\",\"\",IF(ISBLANK($A63),\"\",VLOOKUP($A63,Data!$A$4:$AI$155,27,FALSE)))","v":0.96},{"$f":"IF($A63=\"\",\"\",IF(ISBLANK($A63),\"\",VLOOKUP($A63,Data!$A$4:$AI$155,28,FALSE)))","v":0.96},{"$f":"IF($A63=\"\",\"\",IF(ISBLANK($A63),\"\",VLOOKUP($A63,Data!$A$4:$AI$155,29,FALSE)))","v":0.97}]
[{"$f":"IF('Early Years Table'!A64=\"\",\"\",IF(ISBLANK('Early Years Table'!A64),\"\",'Early Years Table'!A64))","v":309},{"$f":"IF($A64=\"\",\"\",IF(ISBLANK($A64),\"\",INDEX('LEA Nos codes'!$A$3:$A$154,MATCH($A64,'LEA Nos codes'!$B$3:$B$154,0))))","v":"Haringey"},{"$f":"IF($A64=\"\",\"\",IF(ISBLANK($A64),\"\",VLOOKUP($A64,Data!$A$4:$AI$155,24,FALSE)))","v":3120},{"$f":"IF($A64=\"\",\"\",IF(ISBLANK($A64),\"\",VLOOKUP($A64,Data!$A$4:$AI$155,25,FALSE)))","v":3280},{"$f":"IF($A64=\"\",\"\",IF(ISBLANK($A64),\"\",VLOOKUP($A64,Data!$A$4:$AI$155,26,FALSE)))","v":3300},{"$f":"IF($A64=\"\",\"\",IF(ISBLANK($A64),\"\",VLOOKUP($A64,Data!$A$4:$AI$155,27,FALSE)))","v":0.89},{"$f":"IF($A64=\"\",\"\",IF(ISBLANK($A64),\"\",VLOOKUP($A64,Data!$A$4:$AI$155,28,FALSE)))","v":0.95},{"$f":"IF($A64=\"\",\"\",IF(ISBLANK($A64),\"\",VLOOKUP($A64,Data!$A$4:$AI$155,29,FALSE)))","v":0.95}]
[{"$f":"IF('Early Years Table'!A65=\"\",\"\",IF(ISBLANK('Early Years Table'!A65),\"\",'Early Years Table'!A65))","v":310},{"$f":"IF($A65=\"\",\"\",IF(ISBLANK($A65),\"\",INDEX('LEA Nos codes'!$A$3:$A$154,MATCH($A65,'LEA Nos codes'!$B$3:$B$154,0))))","v":"Harrow"},{"$f":"IF($A65=\"\",\"\",IF(ISBLANK($A65),\"\",VLOOKUP($A65,Data!$A$4:$AI$155,24,FALSE)))","v":2730},{"$f":"IF($A65=\"\",\"\",IF(ISBLANK($A65),\"\",VLOOKUP($A65,Data!$A$4:$AI$155,25,FALSE)))","v":2870},{"$f":"IF($A65=\"\",\"\",IF(ISBLANK($A65),\"\",VLOOKUP($A65,Data!$A$4:$AI$155,26,FALSE)))","v":3010},{"$f":"IF($A65=\"\",\"\",IF(ISBLANK($A65),\"\",VLOOKUP($A65,Data!$A$4:$AI$155,27,FALSE)))","v":0.88},{"$f":"IF($A65=\"\",\"\",IF(ISBLANK($A65),\"\",VLOOKUP($A65,Data!$A$4:$AI$155,28,FALSE)))","v":0.9},{"$f":"IF($A65=\"\",\"\",IF(ISBLANK($A65),\"\",VLOOKUP($A65,Data!$A$4:$AI$155,29,FALSE)))","v":0.92}]
[{"$f":"IF('Early Years Table'!A66=\"\",\"\",IF(ISBLANK('Early Years Table'!A66),\"\",'Early Years Table'!A66))","v":805},{"$f":"IF($A66=\"\",\"\",IF(ISBLANK($A66),\"\",INDEX('LEA Nos codes'!$A$3:$A$154,MATCH($A66,'LEA Nos codes'!$B$3:$B$154,0))))","v":"Hartlepool"},{"$f":"IF($A66=\"\",\"\",IF(ISBLANK($A66),\"\",VLOOKUP($A66,Data!$A$4:$AI$155,24,FALSE)))","v":1160},{"$f":"IF($A66=\"\",\"\",IF(ISBLANK($A66),\"\",VLOOKUP($A66,Data!$A$4:$AI$155,25,FALSE)))","v":1140},{"$f":"IF($A66=\"\",\"\",IF(ISBLANK($A66),\"\",VLOOKUP($A66,Data!$A$4:$AI$155,26,FALSE)))","v":1170},{"$f":"IF($A66=\"\",\"\",IF(ISBLANK($A66),\"\",VLOOKUP($A66,Data!$A$4:$AI$155,27,FALSE)))","v":1.02},{"$f":"IF($A66=\"\",\"\",IF(ISBLANK($A66),\"\",VLOOKUP($A66,Data!$A$4:$AI$155,28,FALSE)))","v":0.99},{"$f":"IF($A66=\"\",\"\",IF(ISBLANK($A66),\"\",VLOOKUP($A66,Data!$A$4:$AI$155,29,FALSE)))","v":1.01}]
[{"$f":"IF('Early Years Table'!A67=\"\",\"\",IF(ISBLANK('Early Years Table'!A67),\"\",'Early Years Table'!A67))","v":311},{"$f":"IF($A67=\"\",\"\",IF(ISBLANK($A67),\"\",INDEX('LEA Nos codes'!$A$3:$A$154,MATCH($A67,'LEA Nos codes'!$B$3:$B$154,0))))","v":"Havering"},{"$f":"IF($A67=\"\",\"\",IF(ISBLANK($A67),\"\",VLOOKUP($A67,Data!$A$4:$AI$155,24,FALSE)))","v":2720},{"$f":"IF($A67=\"\",\"\",IF(ISBLANK($A67),\"\",VLOOKUP($A67,Data!$A$4:$AI$155,25,FALSE)))","v":2890},{"$f":"IF($A67=\"\",\"\",IF(ISBLANK($A67),\"\",VLOOKUP($A67,Data!$A$4:$AI$155,26,FALSE)))","v":3050},{"$f":"IF($A67=\"\",\"\",IF(ISBLANK($A67),\"\",VLOOKUP($A67,Data!$A$4:$AI$155,27,FALSE)))","v":1},{"$f":"IF($A67=\"\",\"\",IF(ISBLANK($A67),\"\",VLOOKUP($A67,Data!$A$4:$AI$155,28,FALSE)))","v":1.04},{"$f":"IF($A67=\"\",\"\",IF(ISBLANK($A67),\"\",VLOOKUP($A67,Data!$A$4:$AI$155,29,FALSE)))","v":1.05}]
[{"$f":"IF('Early Years Table'!A68=\"\",\"\",IF(ISBLANK('Early Years Table'!A68),\"\",'Early Years Table'!A68))","v":884},{"$f":"IF($A68=\"\",\"\",IF(ISBLANK($A68),\"\",INDEX('LEA Nos codes'!$A$3:$A$154,MATCH($A68,'LEA Nos codes'!$B$3:$B$154,0))))","v":"Herefordshire"},{"$f":"IF($A68=\"\",\"\",IF(ISBLANK($A68),\"\",VLOOKUP($A68,Data!$A$4:$AI$155,24,FALSE)))","v":1780},{"$f":"IF($A68=\"\",\"\",IF(ISBLANK($A68),\"\",VLOOKUP($A68,Data!$A$4:$AI$155,25,FALSE)))","v":1900},{"$f":"IF($A68=\"\",\"\",IF(ISBLANK($A68),\"\",VLOOKUP($A68,Data!$A$4:$AI$155,26,FALSE)))","v":1890},{"$f":"IF($A68=\"\",\"\",IF(ISBLANK($A68),\"\",VLOOKUP($A68,Data!$A$4:$AI$155,27,FALSE)))","v":0.97},{"$f":"IF($A68=\"\",\"\",IF(ISBLANK($A68),\"\",VLOOKUP($A68,Data!$A$4:$AI$155,28,FALSE)))","v":1},{"$f":"IF($A68=\"\",\"\",IF(ISBLANK($A68),\"\",VLOOKUP($A68,Data!$A$4:$AI$155,29,FALSE)))","v":0.96}]
[{"$f":"IF('Early Years Table'!A69=\"\",\"\",IF(ISBLANK('Early Years Table'!A69),\"\",'Early Years Table'!A69))","v":919},{"$f":"IF($A69=\"\",\"\",IF(ISBLANK($A69),\"\",INDEX('LEA Nos codes'!$A$3:$A$154,MATCH($A69,'LEA Nos codes'!$B$3:$B$154,0))))","v":"Hertfordshire"},{"$f":"IF($A69=\"\",\"\",IF(ISBLANK($A69),\"\",VLOOKUP($A69,Data!$A$4:$AI$155,24,FALSE)))","v":13820},{"$f":"IF($A69=\"\",\"\",IF(ISBLANK($A69),\"\",VLOOKUP($A69,Data!$A$4:$AI$155,25,FALSE)))","v":14080},{"$f":"IF($A69=\"\",\"\",IF(ISBLANK($A69),\"\",VLOOKUP($A69,Data!$A$4:$AI$155,26,FALSE)))","v":14670},{"$f":"IF($A69=\"\",\"\",IF(ISBLANK($A69),\"\",VLOOKUP($A69,Data!$A$4:$AI$155,27,FALSE)))","v":0.97},{"$f":"IF($A69=\"\",\"\",IF(ISBLANK($A69),\"\",VLOOKUP($A69,Data!$A$4:$AI$155,28,FALSE)))","v":0.96},{"$f":"IF($A69=\"\",\"\",IF(ISBLANK($A69),\"\",VLOOKUP($A69,Data!$A$4:$AI$155,29,FALSE)))","v":0.97}]
[{"$f":"IF('Early Years Table'!A70=\"\",\"\",IF(ISBLANK('Early Years Table'!A70),\"\",'Early Years Table'!A70))","v":312},{"$f":"IF($A70=\"\",\"\",IF(ISBLANK($A70),\"\",INDEX('LEA Nos codes'!$A$3:$A$154,MATCH($A70,'LEA Nos codes'!$B$3:$B$154,0))))","v":"Hillingdon"},{"$f":"IF($A70=\"\",\"\",IF(ISBLANK($A70),\"\",VLOOKUP($A70,Data!$A$4:$AI$155,24,FALSE)))","v":3850},{"$f":"IF($A70=\"\",\"\",IF(ISBLANK($A70),\"\",VLOOKUP($A70,Data!$A$4:$AI$155,25,FALSE)))","v":4000},{"$f":"IF($A70=\"\",\"\",IF(ISBLANK($A70),\"\",VLOOKUP($A70,Data!$A$4:$AI$155,26,FALSE)))","v":4150},{"$f":"IF($A70=\"\",\"\",IF(ISBLANK($A70),\"\",VLOOKUP($A70,Data!$A$4:$AI$155,27,FALSE)))","v":1.02},{"$f":"IF($A70=\"\",\"\",IF(ISBLANK($A70),\"\",VLOOKUP($A70,Data!$A$4:$AI$155,28,FALSE)))","v":1.02},{"$f":"IF($A70=\"\",\"\",IF(ISBLANK($A70),\"\",VLOOKUP($A70,Data!$A$4:$AI$155,29,FALSE)))","v":1.02}]
[{"$f":"IF('Early Years Table'!A71=\"\",\"\",IF(ISBLANK('Early Years Table'!A71),\"\",'Early Years Table'!A71))","v":313},{"$f":"IF($A71=\"\",\"\",IF(ISBLANK($A71),\"\",INDEX('LEA Nos codes'!$A$3:$A$154,MATCH($A71,'LEA Nos codes'!$B$3:$B$154,0))))","v":"Hounslow"},{"$f":"IF($A71=\"\",\"\",IF(ISBLANK($A71),\"\",VLOOKUP($A71,Data!$A$4:$AI$155,24,FALSE)))","v":3150},{"$f":"IF($A71=\"\",\"\",IF(ISBLANK($A71),\"\",VLOOKUP($A71,Data!$A$4:$AI$155,25,FALSE)))","v":3360},{"$f":"IF($A71=\"\",\"\",IF(ISBLANK($A71),\"\",VLOOKUP($A71,Data!$A$4:$AI$155,26,FALSE)))","v":3580},{"$f":"IF($A71=\"\",\"\",IF(ISBLANK($A71),\"\",VLOOKUP($A71,Data!$A$4:$AI$155,27,FALSE)))","v":0.88},{"$f":"IF($A71=\"\",\"\",IF(ISBLANK($A71),\"\",VLOOKUP($A71,Data!$A$4:$AI$155,28,FALSE)))","v":0.89},{"$f":"IF($A71=\"\",\"\",IF(ISBLANK($A71),\"\",VLOOKUP($A71,Data!$A$4:$AI$155,29,FALSE)))","v":0.92}]
[{"$f":"IF('Early Years Table'!A72=\"\",\"\",IF(ISBLANK('Early Years Table'!A72),\"\",'Early Years Table'!A72))","v":921},{"$f":"IF($A72=\"\",\"\",IF(ISBLANK($A72),\"\",INDEX('LEA Nos codes'!$A$3:$A$154,MATCH($A72,'LEA Nos codes'!$B$3:$B$154,0))))","v":"Isle of Wight"},{"$f":"IF($A72=\"\",\"\",IF(ISBLANK($A72),\"\",VLOOKUP($A72,Data!$A$4:$AI$155,24,FALSE)))","v":1370},{"$f":"IF($A72=\"\",\"\",IF(ISBLANK($A72),\"\",VLOOKUP($A72,Data!$A$4:$AI$155,25,FALSE)))","v":1280},{"$f":"IF($A72=\"\",\"\",IF(ISBLANK($A72),\"\",VLOOKUP($A72,Data!$A$4:$AI$155,26,FALSE)))","v":1290},{"$f":"IF($A72=\"\",\"\",IF(ISBLANK($A72),\"\",VLOOKUP($A72,Data!$A$4:$AI$155,27,FALSE)))","v":1.01},{"$f":"IF($A72=\"\",\"\",IF(ISBLANK($A72),\"\",VLOOKUP($A72,Data!$A$4:$AI$155,28,FALSE)))","v":0.99},{"$f":"IF($A72=\"\",\"\",IF(ISBLANK($A72),\"\",VLOOKUP($A72,Data!$A$4:$AI$155,29,FALSE)))","v":0.99}]
[{"$f":"IF('Early Years Table'!A73=\"\",\"\",IF(ISBLANK('Early Years Table'!A73),\"\",'Early Years Table'!A73))","v":420},{"$f":"IF($A73=\"\",\"\",IF(ISBLANK($A73),\"\",INDEX('LEA Nos codes'!$A$3:$A$154,MATCH($A73,'LEA Nos codes'!$B$3:$B$154,0))))","v":"Isles of Scilly"},{"$f":"IF($A73=\"\",\"\",IF(ISBLANK($A73),\"\",VLOOKUP($A73,Data!$A$4:$AI$155,24,FALSE)))","v":20},{"$f":"IF($A73=\"\",\"\",IF(ISBLANK($A73),\"\",VLOOKUP($A73,Data!$A$4:$AI$155,25,FALSE)))","v":40},{"$f":"IF($A73=\"\",\"\",IF(ISBLANK($A73),\"\",VLOOKUP($A73,Data!$A$4:$AI$155,26,FALSE)))","v":20},{"$f":"IF($A73=\"\",\"\",IF(ISBLANK($A73),\"\",VLOOKUP($A73,Data!$A$4:$AI$155,27,FALSE)))","v":0.77},{"$f":"IF($A73=\"\",\"\",IF(ISBLANK($A73),\"\",VLOOKUP($A73,Data!$A$4:$AI$155,28,FALSE)))","v":1.21},{"$f":"IF($A73=\"\",\"\",IF(ISBLANK($A73),\"\",VLOOKUP($A73,Data!$A$4:$AI$155,29,FALSE)))","v":0.71}]
[{"$f":"IF('Early Years Table'!A74=\"\",\"\",IF(ISBLANK('Early Years Table'!A74),\"\",'Early Years Table'!A74))","v":206},{"$f":"IF($A74=\"\",\"\",IF(ISBLANK($A74),\"\",INDEX('LEA Nos codes'!$A$3:$A$154,MATCH($A74,'LEA Nos codes'!$B$3:$B$154,0))))","v":"Islington"},{"$f":"IF($A74=\"\",\"\",IF(ISBLANK($A74),\"\",VLOOKUP($A74,Data!$A$4:$AI$155,24,FALSE)))","v":2190},{"$f":"IF($A74=\"\",\"\",IF(ISBLANK($A74),\"\",VLOOKUP($A74,Data!$A$4:$AI$155,25,FALSE)))","v":2230},{"$f":"IF($A74=\"\",\"\",IF(ISBLANK($A74),\"\",VLOOKUP($A74,Data!$A$4:$AI$155,26,FALSE)))","v":2250},{"$f":"IF($A74=\"\",\"\",IF(ISBLANK($A74),\"\",VLOOKUP($A74,Data!$A$4:$AI$155,27,FALSE)))","v":0.98},{"$f":"IF($A74=\"\",\"\",IF(ISBLANK($A74),\"\",VLOOKUP($A74,Data!$A$4:$AI$155,28,FALSE)))","v":0.96},{"$f":"IF($A74=\"\",\"\",IF(ISBLANK($A74),\"\",VLOOKUP($A74,Data!$A$4:$AI$155,29,FALSE)))","v":0.98}]
[{"$f":"IF('Early Years Table'!A75=\"\",\"\",IF(ISBLANK('Early Years Table'!A75),\"\",'Early Years Table'!A75))","v":207},{"$f":"IF($A75=\"\",\"\",IF(ISBLANK($A75),\"\",INDEX('LEA Nos codes'!$A$3:$A$154,MATCH($A75,'LEA Nos codes'!$B$3:$B$154,0))))","v":"Kensington and Chelsea"},{"$f":"IF($A75=\"\",\"\",IF(ISBLANK($A75),\"\",VLOOKUP($A75,Data!$A$4:$AI$155,24,FALSE)))","v":1400},{"$f":"IF($A75=\"\",\"\",IF(ISBLANK($A75),\"\",VLOOKUP($A75,Data!$A$4:$AI$155,25,FALSE)))","v":1370},{"$f":"IF($A75=\"\",\"\",IF(ISBLANK($A75),\"\",VLOOKUP($A75,Data!$A$4:$AI$155,26,FALSE)))","v":1350},{"$f":"IF($A75=\"\",\"\",IF(ISBLANK($A75),\"\",VLOOKUP($A75,Data!$A$4:$AI$155,27,FALSE)))","v":0.78},{"$f":"IF($A75=\"\",\"\",IF(ISBLANK($A75),\"\",VLOOKUP($A75,Data!$A$4:$AI$155,28,FALSE)))","v":0.79},{"$f":"IF($A75=\"\",\"\",IF(ISBLANK($A75),\"\",VLOOKUP($A75,Data!$A$4:$AI$155,29,FALSE)))","v":0.78}]
[{"$f":"IF('Early Years Table'!A76=\"\",\"\",IF(ISBLANK('Early Years Table'!A76),\"\",'Early Years Table'!A76))","v":886},{"$f":"IF($A76=\"\",\"\",IF(ISBLANK($A76),\"\",INDEX('LEA Nos codes'!$A$3:$A$154,MATCH($A76,'LEA Nos codes'!$B$3:$B$154,0))))","v":"Kent"},{"$f":"IF($A76=\"\",\"\",IF(ISBLANK($A76),\"\",VLOOKUP($A76,Data!$A$4:$AI$155,24,FALSE)))","v":16890},{"$f":"IF($A76=\"\",\"\",IF(ISBLANK($A76),\"\",VLOOKUP($A76,Data!$A$4:$AI$155,25,FALSE)))","v":17230},{"$f":"IF($A76=\"\",\"\",IF(ISBLANK($A76),\"\",VLOOKUP($A76,Data!$A$4:$AI$155,26,FALSE)))","v":17900},{"$f":"IF($A76=\"\",\"\",IF(ISBLANK($A76),\"\",VLOOKUP($A76,Data!$A$4:$AI$155,27,FALSE)))","v":0.96},{"$f":"IF($A76=\"\",\"\",IF(ISBLANK($A76),\"\",VLOOKUP($A76,Data!$A$4:$AI$155,28,FALSE)))","v":0.96},{"$f":"IF($A76=\"\",\"\",IF(ISBLANK($A76),\"\",VLOOKUP($A76,Data!$A$4:$AI$155,29,FALSE)))","v":0.98}]
[{"$f":"IF('Early Years Table'!A77=\"\",\"\",IF(ISBLANK('Early Years Table'!A77),\"\",'Early Years Table'!A77))","v":314},{"$f":"IF($A77=\"\",\"\",IF(ISBLANK($A77),\"\",INDEX('LEA Nos codes'!$A$3:$A$154,MATCH($A77,'LEA Nos codes'!$B$3:$B$154,0))))","v":"Kingston upon Thames"},{"$f":"IF($A77=\"\",\"\",IF(ISBLANK($A77),\"\",VLOOKUP($A77,Data!$A$4:$AI$155,24,FALSE)))","v":1850},{"$f":"IF($A77=\"\",\"\",IF(ISBLANK($A77),\"\",VLOOKUP($A77,Data!$A$4:$AI$155,25,FALSE)))","v":2100},{"$f":"IF($A77=\"\",\"\",IF(ISBLANK($A77),\"\",VLOOKUP($A77,Data!$A$4:$AI$155,26,FALSE)))","v":2150},{"$f":"IF($A77=\"\",\"\",IF(ISBLANK($A77),\"\",VLOOKUP($A77,Data!$A$4:$AI$155,27,FALSE)))","v":0.91},{"$f":"IF($A77=\"\",\"\",IF(ISBLANK($A77),\"\",VLOOKUP($A77,Data!$A$4:$AI$155,28,FALSE)))","v":0.99},{"$f":"IF($A77=\"\",\"\",IF(ISBLANK($A77),\"\",VLOOKUP($A77,Data!$A$4:$AI$155,29,FALSE)))","v":0.95}]
[{"$f":"IF('Early Years Table'!A78=\"\",\"\",IF(ISBLANK('Early Years Table'!A78),\"\",'Early Years Table'!A78))","v":382},{"$f":"IF($A78=\"\",\"\",IF(ISBLANK($A78),\"\",INDEX('LEA Nos codes'!$A$3:$A$154,MATCH($A78,'LEA Nos codes'!$B$3:$B$154,0))))","v":"Kirklees"},{"$f":"IF($A78=\"\",\"\",IF(ISBLANK($A78),\"\",VLOOKUP($A78,Data!$A$4:$AI$155,24,FALSE)))","v":5380},{"$f":"IF($A78=\"\",\"\",IF(ISBLANK($A78),\"\",VLOOKUP($A78,Data!$A$4:$AI$155,25,FALSE)))","v":5520},{"$f":"IF($A78=\"\",\"\",IF(ISBLANK($A78),\"\",VLOOKUP($A78,Data!$A$4:$AI$155,26,FALSE)))","v":5600},{"$f":"IF($A78=\"\",\"\",IF(ISBLANK($A78),\"\",VLOOKUP($A78,Data!$A$4:$AI$155,27,FALSE)))","v":0.97},{"$f":"IF($A78=\"\",\"\",IF(ISBLANK($A78),\"\",VLOOKUP($A78,Data!$A$4:$AI$155,28,FALSE)))","v":0.98},{"$f":"IF($A78=\"\",\"\",IF(ISBLANK($A78),\"\",VLOOKUP($A78,Data!$A$4:$AI$155,29,FALSE)))","v":0.98}]
[{"$f":"IF('Early Years Table'!A79=\"\",\"\",IF(ISBLANK('Early Years Table'!A79),\"\",'Early Years Table'!A79))","v":340},{"$f":"IF($A79=\"\",\"\",IF(ISBLANK($A79),\"\",INDEX('LEA Nos codes'!$A$3:$A$154,MATCH($A79,'LEA Nos codes'!$B$3:$B$154,0))))","v":"Knowsley"},{"$f":"IF($A79=\"\",\"\",IF(ISBLANK($A79),\"\",VLOOKUP($A79,Data!$A$4:$AI$155,24,FALSE)))","v":1820},{"$f":"IF($A79=\"\",\"\",IF(ISBLANK($A79),\"\",VLOOKUP($A79,Data!$A$4:$AI$155,25,FALSE)))","v":1810},{"$f":"IF($A79=\"\",\"\",IF(ISBLANK($A79),\"\",VLOOKUP($A79,Data!$A$4:$AI$155,26,FALSE)))","v":1850},{"$f":"IF($A79=\"\",\"\",IF(ISBLANK($A79),\"\",VLOOKUP($A79,Data!$A$4:$AI$155,27,FALSE)))","v":0.99},{"$f":"IF($A79=\"\",\"\",IF(ISBLANK($A79),\"\",VLOOKUP($A79,Data!$A$4:$AI$155,28,FALSE)))","v":1},{"$f":"IF($A79=\"\",\"\",IF(ISBLANK($A79),\"\",VLOOKUP($A79,Data!$A$4:$AI$155,29,FALSE)))","v":1.01}]
[{"$f":"IF('Early Years Table'!A80=\"\",\"\",IF(ISBLANK('Early Years Table'!A80),\"\",'Early Years Table'!A80))","v":208},{"$f":"IF($A80=\"\",\"\",IF(ISBLANK($A80),\"\",INDEX('LEA Nos codes'!$A$3:$A$154,MATCH($A80,'LEA Nos codes'!$B$3:$B$154,0))))","v":"Lambeth"},{"$f":"IF($A80=\"\",\"\",IF(ISBLANK($A80),\"\",VLOOKUP($A80,Data!$A$4:$AI$155,24,FALSE)))","v":3390},{"$f":"IF($A80=\"\",\"\",IF(ISBLANK($A80),\"\",VLOOKUP($A80,Data!$A$4:$AI$155,25,FALSE)))","v":3410},{"$f":"IF($A80=\"\",\"\",IF(ISBLANK($A80),\"\",VLOOKUP($A80,Data!$A$4:$AI$155,26,FALSE)))","v":3520},{"$f":"IF($A80=\"\",\"\",IF(ISBLANK($A80),\"\",VLOOKUP($A80,Data!$A$4:$AI$155,27,FALSE)))","v":0.88},{"$f":"IF($A80=\"\",\"\",IF(ISBLANK($A80),\"\",VLOOKUP($A80,Data!$A$4:$AI$155,28,FALSE)))","v":0.89},{"$f":"IF($A80=\"\",\"\",IF(ISBLANK($A80),\"\",VLOOKUP($A80,Data!$A$4:$AI$155,29,FALSE)))","v":0.9}]
[{"$f":"IF('Early Years Table'!A81=\"\",\"\",IF(ISBLANK('Early Years Table'!A81),\"\",'Early Years Table'!A81))","v":888},{"$f":"IF($A81=\"\",\"\",IF(ISBLANK($A81),\"\",INDEX('LEA Nos codes'!$A$3:$A$154,MATCH($A81,'LEA Nos codes'!$B$3:$B$154,0))))","v":"Lancashire"},{"$f":"IF($A81=\"\",\"\",IF(ISBLANK($A81),\"\",VLOOKUP($A81,Data!$A$4:$AI$155,24,FALSE)))","v":13230},{"$f":"IF($A81=\"\",\"\",IF(ISBLANK($A81),\"\",VLOOKUP($A81,Data!$A$4:$AI$155,25,FALSE)))","v":13490},{"$f":"IF($A81=\"\",\"\",IF(ISBLANK($A81),\"\",VLOOKUP($A81,Data!$A$4:$AI$155,26,FALSE)))","v":13890},{"$f":"IF($A81=\"\",\"\",IF(ISBLANK($A81),\"\",VLOOKUP($A81,Data!$A$4:$AI$155,27,FALSE)))","v":0.98},{"$f":"IF($A81=\"\",\"\",IF(ISBLANK($A81),\"\",VLOOKUP($A81,Data!$A$4:$AI$155,28,FALSE)))","v":0.99},{"$f":"IF($A81=\"\",\"\",IF(ISBLANK($A81),\"\",VLOOKUP($A81,Data!$A$4:$AI$155,29,FALSE)))","v":0.99}]
[{"$f":"IF('Early Years Table'!A82=\"\",\"\",IF(ISBLANK('Early Years Table'!A82),\"\",'Early Years Table'!A82))","v":383},{"$f":"IF($A82=\"\",\"\",IF(ISBLANK($A82),\"\",INDEX('LEA Nos codes'!$A$3:$A$154,MATCH($A82,'LEA Nos codes'!$B$3:$B$154,0))))","v":"Leeds"},{"$f":"IF($A82=\"\",\"\",IF(ISBLANK($A82),\"\",VLOOKUP($A82,Data!$A$4:$AI$155,24,FALSE)))","v":9060},{"$f":"IF($A82=\"\",\"\",IF(ISBLANK($A82),\"\",VLOOKUP($A82,Data!$A$4:$AI$155,25,FALSE)))","v":9140},{"$f":"IF($A82=\"\",\"\",IF(ISBLANK($A82),\"\",VLOOKUP($A82,Data!$A$4:$AI$155,26,FALSE)))","v":9620},{"$f":"IF($A82=\"\",\"\",IF(ISBLANK($A82),\"\",VLOOKUP($A82,Data!$A$4:$AI$155,27,FALSE)))","v":1},{"$f":"IF($A82=\"\",\"\",IF(ISBLANK($A82),\"\",VLOOKUP($A82,Data!$A$4:$AI$155,28,FALSE)))","v":1},{"$f":"IF($A82=\"\",\"\",IF(ISBLANK($A82),\"\",VLOOKUP($A82,Data!$A$4:$AI$155,29,FALSE)))","v":1.01}]
[{"$f":"IF('Early Years Table'!A83=\"\",\"\",IF(ISBLANK('Early Years Table'!A83),\"\",'Early Years Table'!A83))","v":856},{"$f":"IF($A83=\"\",\"\",IF(ISBLANK($A83),\"\",INDEX('LEA Nos codes'!$A$3:$A$154,MATCH($A83,'LEA Nos codes'!$B$3:$B$154,0))))","v":"Leicester"},{"$f":"IF($A83=\"\",\"\",IF(ISBLANK($A83),\"\",VLOOKUP($A83,Data!$A$4:$AI$155,24,FALSE)))","v":4310},{"$f":"IF($A83=\"\",\"\",IF(ISBLANK($A83),\"\",VLOOKUP($A83,Data!$A$4:$AI$155,25,FALSE)))","v":4520},{"$f":"IF($A83=\"\",\"\",IF(ISBLANK($A83),\"\",VLOOKUP($A83,Data!$A$4:$AI$155,26,FALSE)))","v":4660},{"$f":"IF($A83=\"\",\"\",IF(ISBLANK($A83),\"\",VLOOKUP($A83,Data!$A$4:$AI$155,27,FALSE)))","v":0.93},{"$f":"IF($A83=\"\",\"\",IF(ISBLANK($A83),\"\",VLOOKUP($A83,Data!$A$4:$AI$155,28,FALSE)))","v":0.96},{"$f":"IF($A83=\"\",\"\",IF(ISBLANK($A83),\"\",VLOOKUP($A83,Data!$A$4:$AI$155,29,FALSE)))","v":0.96}]
[{"$f":"IF('Early Years Table'!A84=\"\",\"\",IF(ISBLANK('Early Years Table'!A84),\"\",'Early Years Table'!A84))","v":855},{"$f":"IF($A84=\"\",\"\",IF(ISBLANK($A84),\"\",INDEX('LEA Nos codes'!$A$3:$A$154,MATCH($A84,'LEA Nos codes'!$B$3:$B$154,0))))","v":"Leicestershire"},{"$f":"IF($A84=\"\",\"\",IF(ISBLANK($A84),\"\",VLOOKUP($A84,Data!$A$4:$AI$155,24,FALSE)))","v":7130},{"$f":"IF($A84=\"\",\"\",IF(ISBLANK($A84),\"\",VLOOKUP($A84,Data!$A$4:$AI$155,25,FALSE)))","v":7310},{"$f":"IF($A84=\"\",\"\",IF(ISBLANK($A84),\"\",VLOOKUP($A84,Data!$A$4:$AI$155,26,FALSE)))","v":7390},{"$f":"IF($A84=\"\",\"\",IF(ISBLANK($A84),\"\",VLOOKUP($A84,Data!$A$4:$AI$155,27,FALSE)))","v":0.98},{"$f":"IF($A84=\"\",\"\",IF(ISBLANK($A84),\"\",VLOOKUP($A84,Data!$A$4:$AI$155,28,FALSE)))","v":0.99},{"$f":"IF($A84=\"\",\"\",IF(ISBLANK($A84),\"\",VLOOKUP($A84,Data!$A$4:$AI$155,29,FALSE)))","v":1}]
[{"$f":"IF('Early Years Table'!A85=\"\",\"\",IF(ISBLANK('Early Years Table'!A85),\"\",'Early Years Table'!A85))","v":209},{"$f":"IF($A85=\"\",\"\",IF(ISBLANK($A85),\"\",INDEX('LEA Nos codes'!$A$3:$A$154,MATCH($A85,'LEA Nos codes'!$B$3:$B$154,0))))","v":"Lewisham"},{"$f":"IF($A85=\"\",\"\",IF(ISBLANK($A85),\"\",VLOOKUP($A85,Data!$A$4:$AI$155,24,FALSE)))","v":3530},{"$f":"IF($A85=\"\",\"\",IF(ISBLANK($A85),\"\",VLOOKUP($A85,Data!$A$4:$AI$155,25,FALSE)))","v":3650},{"$f":"IF($A85=\"\",\"\",IF(ISBLANK($A85),\"\",VLOOKUP($A85,Data!$A$4:$AI$155,26,FALSE)))","v":3810},{"$f":"IF($A85=\"\",\"\",IF(ISBLANK($A85),\"\",VLOOKUP($A85,Data!$A$4:$AI$155,27,FALSE)))","v":0.87},{"$f":"IF($A85=\"\",\"\",IF(ISBLANK($A85),\"\",VLOOKUP($A85,Data!$A$4:$AI$155,28,FALSE)))","v":0.87},{"$f":"IF($A85=\"\",\"\",IF(ISBLANK($A85),\"\",VLOOKUP($A85,Data!$A$4:$AI$155,29,FALSE)))","v":0.89}]
[{"$f":"IF('Early Years Table'!A86=\"\",\"\",IF(ISBLANK('Early Years Table'!A86),\"\",'Early Years Table'!A86))","v":925},{"$f":"IF($A86=\"\",\"\",IF(ISBLANK($A86),\"\",INDEX('LEA Nos codes'!$A$3:$A$154,MATCH($A86,'LEA Nos codes'!$B$3:$B$154,0))))","v":"Lincolnshire"},{"$f":"IF($A86=\"\",\"\",IF(ISBLANK($A86),\"\",VLOOKUP($A86,Data!$A$4:$AI$155,24,FALSE)))","v":7300},{"$f":"IF($A86=\"\",\"\",IF(ISBLANK($A86),\"\",VLOOKUP($A86,Data!$A$4:$AI$155,25,FALSE)))","v":7500},{"$f":"IF($A86=\"\",\"\",IF(ISBLANK($A86),\"\",VLOOKUP($A86,Data!$A$4:$AI$155,26,FALSE)))","v":8070},{"$f":"IF($A86=\"\",\"\",IF(ISBLANK($A86),\"\",VLOOKUP($A86,Data!$A$4:$AI$155,27,FALSE)))","v":1},{"$f":"IF($A86=\"\",\"\",IF(ISBLANK($A86),\"\",VLOOKUP($A86,Data!$A$4:$AI$155,28,FALSE)))","v":1.01},{"$f":"IF($A86=\"\",\"\",IF(ISBLANK($A86),\"\",VLOOKUP($A86,Data!$A$4:$AI$155,29,FALSE)))","v":1.05}]
[{"$f":"IF('Early Years Table'!A87=\"\",\"\",IF(ISBLANK('Early Years Table'!A87),\"\",'Early Years Table'!A87))","v":341},{"$f":"IF($A87=\"\",\"\",IF(ISBLANK($A87),\"\",INDEX('LEA Nos codes'!$A$3:$A$154,MATCH($A87,'LEA Nos codes'!$B$3:$B$154,0))))","v":"Liverpool"},{"$f":"IF($A87=\"\",\"\",IF(ISBLANK($A87),\"\",VLOOKUP($A87,Data!$A$4:$AI$155,24,FALSE)))","v":5030},{"$f":"IF($A87=\"\",\"\",IF(ISBLANK($A87),\"\",VLOOKUP($A87,Data!$A$4:$AI$155,25,FALSE)))","v":4960},{"$f":"IF($A87=\"\",\"\",IF(ISBLANK($A87),\"\",VLOOKUP($A87,Data!$A$4:$AI$155,26,FALSE)))","v":5220},{"$f":"IF($A87=\"\",\"\",IF(ISBLANK($A87),\"\",VLOOKUP($A87,Data!$A$4:$AI$155,27,FALSE)))","v":1.02},{"$f":"IF($A87=\"\",\"\",IF(ISBLANK($A87),\"\",VLOOKUP($A87,Data!$A$4:$AI$155,28,FALSE)))","v":0.98},{"$f":"IF($A87=\"\",\"\",IF(ISBLANK($A87),\"\",VLOOKUP($A87,Data!$A$4:$AI$155,29,FALSE)))","v":1.01}]
[{"$f":"IF('Early Years Table'!A88=\"\",\"\",IF(ISBLANK('Early Years Table'!A88),\"\",'Early Years Table'!A88))","v":821},{"$f":"IF($A88=\"\",\"\",IF(ISBLANK($A88),\"\",INDEX('LEA Nos codes'!$A$3:$A$154,MATCH($A88,'LEA Nos codes'!$B$3:$B$154,0))))","v":"Luton"},{"$f":"IF($A88=\"\",\"\",IF(ISBLANK($A88),\"\",VLOOKUP($A88,Data!$A$4:$AI$155,24,FALSE)))","v":3090},{"$f":"IF($A88=\"\",\"\",IF(ISBLANK($A88),\"\",VLOOKUP($A88,Data!$A$4:$AI$155,25,FALSE)))","v":3270},{"$f":"IF($A88=\"\",\"\",IF(ISBLANK($A88),\"\",VLOOKUP($A88,Data!$A$4:$AI$155,26,FALSE)))","v":3320},{"$f":"IF($A88=\"\",\"\",IF(ISBLANK($A88),\"\",VLOOKUP($A88,Data!$A$4:$AI$155,27,FALSE)))","v":0.98},{"$f":"IF($A88=\"\",\"\",IF(ISBLANK($A88),\"\",VLOOKUP($A88,Data!$A$4:$AI$155,28,FALSE)))","v":1},{"$f":"IF($A88=\"\",\"\",IF(ISBLANK($A88),\"\",VLOOKUP($A88,Data!$A$4:$AI$155,29,FALSE)))","v":0.99}]
[{"$f":"IF('Early Years Table'!A89=\"\",\"\",IF(ISBLANK('Early Years Table'!A89),\"\",'Early Years Table'!A89))","v":352},{"$f":"IF($A89=\"\",\"\",IF(ISBLANK($A89),\"\",INDEX('LEA Nos codes'!$A$3:$A$154,MATCH($A89,'LEA Nos codes'!$B$3:$B$154,0))))","v":"Manchester"},{"$f":"IF($A89=\"\",\"\",IF(ISBLANK($A89),\"\",VLOOKUP($A89,Data!$A$4:$AI$155,24,FALSE)))","v":6390},{"$f":"IF($A89=\"\",\"\",IF(ISBLANK($A89),\"\",VLOOKUP($A89,Data!$A$4:$AI$155,25,FALSE)))","v":6580},{"$f":"IF($A89=\"\",\"\",IF(ISBLANK($A89),\"\",VLOOKUP($A89,Data!$A$4:$AI$155,26,FALSE)))","v":6750},{"$f":"IF($A89=\"\",\"\",IF(ISBLANK($A89),\"\",VLOOKUP($A89,Data!$A$4:$AI$155,27,FALSE)))","v":0.94},{"$f":"IF($A89=\"\",\"\",IF(ISBLANK($A89),\"\",VLOOKUP($A89,Data!$A$4:$AI$155,28,FALSE)))","v":0.94},{"$f":"IF($A89=\"\",\"\",IF(ISBLANK($A89),\"\",VLOOKUP($A89,Data!$A$4:$AI$155,29,FALSE)))","v":0.96}]
[{"$f":"IF('Early Years Table'!A90=\"\",\"\",IF(ISBLANK('Early Years Table'!A90),\"\",'Early Years Table'!A90))","v":887},{"$f":"IF($A90=\"\",\"\",IF(ISBLANK($A90),\"\",INDEX('LEA Nos codes'!$A$3:$A$154,MATCH($A90,'LEA Nos codes'!$B$3:$B$154,0))))","v":"Medway"},{"$f":"IF($A90=\"\",\"\",IF(ISBLANK($A90),\"\",VLOOKUP($A90,Data!$A$4:$AI$155,24,FALSE)))","v":3150},{"$f":"IF($A90=\"\",\"\",IF(ISBLANK($A90),\"\",VLOOKUP($A90,Data!$A$4:$AI$155,25,FALSE)))","v":3340},{"$f":"IF($A90=\"\",\"\",IF(ISBLANK($A90),\"\",VLOOKUP($A90,Data!$A$4:$AI$155,26,FALSE)))","v":3380},{"$f":"IF($A90=\"\",\"\",IF(ISBLANK($A90),\"\",VLOOKUP($A90,Data!$A$4:$AI$155,27,FALSE)))","v":0.93},{"$f":"IF($A90=\"\",\"\",IF(ISBLANK($A90),\"\",VLOOKUP($A90,Data!$A$4:$AI$155,28,FALSE)))","v":0.99},{"$f":"IF($A90=\"\",\"\",IF(ISBLANK($A90),\"\",VLOOKUP($A90,Data!$A$4:$AI$155,29,FALSE)))","v":0.97}]
[{"$f":"IF('Early Years Table'!A91=\"\",\"\",IF(ISBLANK('Early Years Table'!A91),\"\",'Early Years Table'!A91))","v":315},{"$f":"IF($A91=\"\",\"\",IF(ISBLANK($A91),\"\",INDEX('LEA Nos codes'!$A$3:$A$154,MATCH($A91,'LEA Nos codes'!$B$3:$B$154,0))))","v":"Merton"},{"$f":"IF($A91=\"\",\"\",IF(ISBLANK($A91),\"\",VLOOKUP($A91,Data!$A$4:$AI$155,24,FALSE)))","v":2600},{"$f":"IF($A91=\"\",\"\",IF(ISBLANK($A91),\"\",VLOOKUP($A91,Data!$A$4:$AI$155,25,FALSE)))","v":2880},{"$f":"IF($A91=\"\",\"\",IF(ISBLANK($A91),\"\",VLOOKUP($A91,Data!$A$4:$AI$155,26,FALSE)))","v":2860},{"$f":"IF($A91=\"\",\"\",IF(ISBLANK($A91),\"\",VLOOKUP($A91,Data!$A$4:$AI$155,27,FALSE)))","v":0.94},{"$f":"IF($A91=\"\",\"\",IF(ISBLANK($A91),\"\",VLOOKUP($A91,Data!$A$4:$AI$155,28,FALSE)))","v":1.02},{"$f":"IF($A91=\"\",\"\",IF(ISBLANK($A91),\"\",VLOOKUP($A91,Data!$A$4:$AI$155,29,FALSE)))","v":1.01}]
[{"$f":"IF('Early Years Table'!A92=\"\",\"\",IF(ISBLANK('Early Years Table'!A92),\"\",'Early Years Table'!A92))","v":806},{"$f":"IF($A92=\"\",\"\",IF(ISBLANK($A92),\"\",INDEX('LEA Nos codes'!$A$3:$A$154,MATCH($A92,'LEA Nos codes'!$B$3:$B$154,0))))","v":"Middlesbrough"},{"$f":"IF($A92=\"\",\"\",IF(ISBLANK($A92),\"\",VLOOKUP($A92,Data!$A$4:$AI$155,24,FALSE)))","v":1810},{"$f":"IF($A92=\"\",\"\",IF(ISBLANK($A92),\"\",VLOOKUP($A92,Data!$A$4:$AI$155,25,FALSE)))","v":1880},{"$f":"IF($A92=\"\",\"\",IF(ISBLANK($A92),\"\",VLOOKUP($A92,Data!$A$4:$AI$155,26,FALSE)))","v":1850},{"$f":"IF($A92=\"\",\"\",IF(ISBLANK($A92),\"\",VLOOKUP($A92,Data!$A$4:$AI$155,27,FALSE)))","v":0.97},{"$f":"IF($A92=\"\",\"\",IF(ISBLANK($A92),\"\",VLOOKUP($A92,Data!$A$4:$AI$155,28,FALSE)))","v":1.01},{"$f":"IF($A92=\"\",\"\",IF(ISBLANK($A92),\"\",VLOOKUP($A92,Data!$A$4:$AI$155,29,FALSE)))","v":1}]
[{"$f":"IF('Early Years Table'!A93=\"\",\"\",IF(ISBLANK('Early Years Table'!A93),\"\",'Early Years Table'!A93))","v":826},{"$f":"IF($A93=\"\",\"\",IF(ISBLANK($A93),\"\",INDEX('LEA Nos codes'!$A$3:$A$154,MATCH($A93,'LEA Nos codes'!$B$3:$B$154,0))))","v":"Milton Keynes"},{"$f":"IF($A93=\"\",\"\",IF(ISBLANK($A93),\"\",VLOOKUP($A93,Data!$A$4:$AI$155,24,FALSE)))","v":3460},{"$f":"IF($A93=\"\",\"\",IF(ISBLANK($A93),\"\",VLOOKUP($A93,Data!$A$4:$AI$155,25,FALSE)))","v":3610},{"$f":"IF($A93=\"\",\"\",IF(ISBLANK($A93),\"\",VLOOKUP($A93,Data!$A$4:$AI$155,26,FALSE)))","v":3780},{"$f":"IF($A93=\"\",\"\",IF(ISBLANK($A93),\"\",VLOOKUP($A93,Data!$A$4:$AI$155,27,FALSE)))","v":0.93},{"$f":"IF($A93=\"\",\"\",IF(ISBLANK($A93),\"\",VLOOKUP($A93,Data!$A$4:$AI$155,28,FALSE)))","v":0.92},{"$f":"IF($A93=\"\",\"\",IF(ISBLANK($A93),\"\",VLOOKUP($A93,Data!$A$4:$AI$155,29,FALSE)))","v":0.93}]
[{"$f":"IF('Early Years Table'!A94=\"\",\"\",IF(ISBLANK('Early Years Table'!A94),\"\",'Early Years Table'!A94))","v":391},{"$f":"IF($A94=\"\",\"\",IF(ISBLANK($A94),\"\",INDEX('LEA Nos codes'!$A$3:$A$154,MATCH($A94,'LEA Nos codes'!$B$3:$B$154,0))))","v":"Newcastle upon Tyne"},{"$f":"IF($A94=\"\",\"\",IF(ISBLANK($A94),\"\",VLOOKUP($A94,Data!$A$4:$AI$155,24,FALSE)))","v":2960},{"$f":"IF($A94=\"\",\"\",IF(ISBLANK($A94),\"\",VLOOKUP($A94,Data!$A$4:$AI$155,25,FALSE)))","v":3120},{"$f":"IF($A94=\"\",\"\",IF(ISBLANK($A94),\"\",VLOOKUP($A94,Data!$A$4:$AI$155,26,FALSE)))","v":3160},{"$f":"IF($A94=\"\",\"\",IF(ISBLANK($A94),\"\",VLOOKUP($A94,Data!$A$4:$AI$155,27,FALSE)))","v":0.97},{"$f":"IF($A94=\"\",\"\",IF(ISBLANK($A94),\"\",VLOOKUP($A94,Data!$A$4:$AI$155,28,FALSE)))","v":0.98},{"$f":"IF($A94=\"\",\"\",IF(ISBLANK($A94),\"\",VLOOKUP($A94,Data!$A$4:$AI$155,29,FALSE)))","v":0.97}]
[{"$f":"IF('Early Years Table'!A95=\"\",\"\",IF(ISBLANK('Early Years Table'!A95),\"\",'Early Years Table'!A95))","v":316},{"$f":"IF($A95=\"\",\"\",IF(ISBLANK($A95),\"\",INDEX('LEA Nos codes'!$A$3:$A$154,MATCH($A95,'LEA Nos codes'!$B$3:$B$154,0))))","v":"Newham"},{"$f":"IF($A95=\"\",\"\",IF(ISBLANK($A95),\"\",VLOOKUP($A95,Data!$A$4:$AI$155,24,FALSE)))","v":4600},{"$f":"IF($A95=\"\",\"\",IF(ISBLANK($A95),\"\",VLOOKUP($A95,Data!$A$4:$AI$155,25,FALSE)))","v":4940},{"$f":"IF($A95=\"\",\"\",IF(ISBLANK($A95),\"\",VLOOKUP($A95,Data!$A$4:$AI$155,26,FALSE)))","v":4980},{"$f":"IF($A95=\"\",\"\",IF(ISBLANK($A95),\"\",VLOOKUP($A95,Data!$A$4:$AI$155,27,FALSE)))","v":0.95},{"$f":"IF($A95=\"\",\"\",IF(ISBLANK($A95),\"\",VLOOKUP($A95,Data!$A$4:$AI$155,28,FALSE)))","v":1.01},{"$f":"IF($A95=\"\",\"\",IF(ISBLANK($A95),\"\",VLOOKUP($A95,Data!$A$4:$AI$155,29,FALSE)))","v":1.02}]
[{"$f":"IF('Early Years Table'!A96=\"\",\"\",IF(ISBLANK('Early Years Table'!A96),\"\",'Early Years Table'!A96))","v":926},{"$f":"IF($A96=\"\",\"\",IF(ISBLANK($A96),\"\",INDEX('LEA Nos codes'!$A$3:$A$154,MATCH($A96,'LEA Nos codes'!$B$3:$B$154,0))))","v":"Norfolk"},{"$f":"IF($A96=\"\",\"\",IF(ISBLANK($A96),\"\",VLOOKUP($A96,Data!$A$4:$AI$155,24,FALSE)))","v":8660},{"$f":"IF($A96=\"\",\"\",IF(ISBLANK($A96),\"\",VLOOKUP($A96,Data!$A$4:$AI$155,25,FALSE)))","v":8880},{"$f":"IF($A96=\"\",\"\",IF(ISBLANK($A96),\"\",VLOOKUP($A96,Data!$A$4:$AI$155,26,FALSE)))","v":9390},{"$f":"IF($A96=\"\",\"\",IF(ISBLANK($A96),\"\",VLOOKUP($A96,Data!$A$4:$AI$155,27,FALSE)))","v":0.98},{"$f":"IF($A96=\"\",\"\",IF(ISBLANK($A96),\"\",VLOOKUP($A96,Data!$A$4:$AI$155,28,FALSE)))","v":0.96},{"$f":"IF($A96=\"\",\"\",IF(ISBLANK($A96),\"\",VLOOKUP($A96,Data!$A$4:$AI$155,29,FALSE)))","v":0.99}]
[{"$f":"IF('Early Years Table'!A97=\"\",\"\",IF(ISBLANK('Early Years Table'!A97),\"\",'Early Years Table'!A97))","v":812},{"$f":"IF($A97=\"\",\"\",IF(ISBLANK($A97),\"\",INDEX('LEA Nos codes'!$A$3:$A$154,MATCH($A97,'LEA Nos codes'!$B$3:$B$154,0))))","v":"North East Lincolnshire"},{"$f":"IF($A97=\"\",\"\",IF(ISBLANK($A97),\"\",VLOOKUP($A97,Data!$A$4:$AI$155,24,FALSE)))","v":1900},{"$f":"IF($A97=\"\",\"\",IF(ISBLANK($A97),\"\",VLOOKUP($A97,Data!$A$4:$AI$155,25,FALSE)))","v":1920},{"$f":"IF($A97=\"\",\"\",IF(ISBLANK($A97),\"\",VLOOKUP($A97,Data!$A$4:$AI$155,26,FALSE)))","v":1940},{"$f":"IF($A97=\"\",\"\",IF(ISBLANK($A97),\"\",VLOOKUP($A97,Data!$A$4:$AI$155,27,FALSE)))","v":0.97},{"$f":"IF($A97=\"\",\"\",IF(ISBLANK($A97),\"\",VLOOKUP($A97,Data!$A$4:$AI$155,28,FALSE)))","v":0.98},{"$f":"IF($A97=\"\",\"\",IF(ISBLANK($A97),\"\",VLOOKUP($A97,Data!$A$4:$AI$155,29,FALSE)))","v":0.98}]
[{"$f":"IF('Early Years Table'!A98=\"\",\"\",IF(ISBLANK('Early Years Table'!A98),\"\",'Early Years Table'!A98))","v":813},{"$f":"IF($A98=\"\",\"\",IF(ISBLANK($A98),\"\",INDEX('LEA Nos codes'!$A$3:$A$154,MATCH($A98,'LEA Nos codes'!$B$3:$B$154,0))))","v":"North Lincolnshire"},{"$f":"IF($A98=\"\",\"\",IF(ISBLANK($A98),\"\",VLOOKUP($A98,Data!$A$4:$AI$155,24,FALSE)))","v":1920},{"$f":"IF($A98=\"\",\"\",IF(ISBLANK($A98),\"\",VLOOKUP($A98,Data!$A$4:$AI$155,25,FALSE)))","v":1900},{"$f":"IF($A98=\"\",\"\",IF(ISBLANK($A98),\"\",VLOOKUP($A98,Data!$A$4:$AI$155,26,FALSE)))","v":1950},{"$f":"IF($A98=\"\",\"\",IF(ISBLANK($A98),\"\",VLOOKUP($A98,Data!$A$4:$AI$155,27,FALSE)))","v":0.94},{"$f":"IF($A98=\"\",\"\",IF(ISBLANK($A98),\"\",VLOOKUP($A98,Data!$A$4:$AI$155,28,FALSE)))","v":0.92},{"$f":"IF($A98=\"\",\"\",IF(ISBLANK($A98),\"\",VLOOKUP($A98,Data!$A$4:$AI$155,29,FALSE)))","v":0.92}]
[{"$f":"IF('Early Years Table'!A99=\"\",\"\",IF(ISBLANK('Early Years Table'!A99),\"\",'Early Years Table'!A99))","v":802},{"$f":"IF($A99=\"\",\"\",IF(ISBLANK($A99),\"\",INDEX('LEA Nos codes'!$A$3:$A$154,MATCH($A99,'LEA Nos codes'!$B$3:$B$154,0))))","v":"North Somerset"},{"$f":"IF($A99=\"\",\"\",IF(ISBLANK($A99),\"\",VLOOKUP($A99,Data!$A$4:$AI$155,24,FALSE)))","v":2290},{"$f":"IF($A99=\"\",\"\",IF(ISBLANK($A99),\"\",VLOOKUP($A99,Data!$A$4:$AI$155,25,FALSE)))","v":2410},{"$f":"IF($A99=\"\",\"\",IF(ISBLANK($A99),\"\",VLOOKUP($A99,Data!$A$4:$AI$155,26,FALSE)))","v":2420},{"$f":"IF($A99=\"\",\"\",IF(ISBLANK($A99),\"\",VLOOKUP($A99,Data!$A$4:$AI$155,27,FALSE)))","v":0.98},{"$f":"IF($A99=\"\",\"\",IF(ISBLANK($A99),\"\",VLOOKUP($A99,Data!$A$4:$AI$155,28,FALSE)))","v":1.03},{"$f":"IF($A99=\"\",\"\",IF(ISBLANK($A99),\"\",VLOOKUP($A99,Data!$A$4:$AI$155,29,FALSE)))","v":0.99}]
[{"$f":"IF('Early Years Table'!A100=\"\",\"\",IF(ISBLANK('Early Years Table'!A100),\"\",'Early Years Table'!A100))","v":392},{"$f":"IF($A100=\"\",\"\",IF(ISBLANK($A100),\"\",INDEX('LEA Nos codes'!$A$3:$A$154,MATCH($A100,'LEA Nos codes'!$B$3:$B$154,0))))","v":"North Tyneside"},{"$f":"IF($A100=\"\",\"\",IF(ISBLANK($A100),\"\",VLOOKUP($A100,Data!$A$4:$AI$155,24,FALSE)))","v":2370},{"$f":"IF($A100=\"\",\"\",IF(ISBLANK($A100),\"\",VLOOKUP($A100,Data!$A$4:$AI$155,25,FALSE)))","v":2250},{"$f":"IF($A100=\"\",\"\",IF(ISBLANK($A100),\"\",VLOOKUP($A100,Data!$A$4:$AI$155,26,FALSE)))","v":2460},{"$f":"IF($A100=\"\",\"\",IF(ISBLANK($A100),\"\",VLOOKUP($A100,Data!$A$4:$AI$155,27,FALSE)))","v":1.02},{"$f":"IF($A100=\"\",\"\",IF(ISBLANK($A100),\"\",VLOOKUP($A100,Data!$A$4:$AI$155,28,FALSE)))","v":0.97},{"$f":"IF($A100=\"\",\"\",IF(ISBLANK($A100),\"\",VLOOKUP($A100,Data!$A$4:$AI$155,29,FALSE)))","v":1.03}]
[{"$f":"IF('Early Years Table'!A101=\"\",\"\",IF(ISBLANK('Early Years Table'!A101),\"\",'Early Years Table'!A101))","v":815},{"$f":"IF($A101=\"\",\"\",IF(ISBLANK($A101),\"\",INDEX('LEA Nos codes'!$A$3:$A$154,MATCH($A101,'LEA Nos codes'!$B$3:$B$154,0))))","v":"North Yorkshire"},{"$f":"IF($A101=\"\",\"\",IF(ISBLANK($A101),\"\",VLOOKUP($A101,Data!$A$4:$AI$155,24,FALSE)))","v":6080},{"$f":"IF($A101=\"\",\"\",IF(ISBLANK($A101),\"\",VLOOKUP($A101,Data!$A$4:$AI$155,25,FALSE)))","v":6090},{"$f":"IF($A101=\"\",\"\",IF(ISBLANK($A101),\"\",VLOOKUP($A101,Data!$A$4:$AI$155,26,FALSE)))","v":6500},{"$f":"IF($A101=\"\",\"\",IF(ISBLANK($A101),\"\",VLOOKUP($A101,Data!$A$4:$AI$155,27,FALSE)))","v":0.97},{"$f":"IF($A101=\"\",\"\",IF(ISBLANK($A101),\"\",VLOOKUP($A101,Data!$A$4:$AI$155,28,FALSE)))","v":0.96},{"$f":"IF($A101=\"\",\"\",IF(ISBLANK($A101),\"\",VLOOKUP($A101,Data!$A$4:$AI$155,29,FALSE)))","v":1.02}]
[{"$f":"IF('Early Years Table'!A102=\"\",\"\",IF(ISBLANK('Early Years Table'!A102),\"\",'Early Years Table'!A102))","v":928},{"$f":"IF($A102=\"\",\"\",IF(ISBLANK($A102),\"\",INDEX('LEA Nos codes'!$A$3:$A$154,MATCH($A102,'LEA Nos codes'!$B$3:$B$154,0))))","v":"Northamptonshire"},{"$f":"IF($A102=\"\",\"\",IF(ISBLANK($A102),\"\",VLOOKUP($A102,Data!$A$4:$AI$155,24,FALSE)))","v":8700},{"$f":"IF($A102=\"\",\"\",IF(ISBLANK($A102),\"\",VLOOKUP($A102,Data!$A$4:$AI$155,25,FALSE)))","v":9070},{"$f":"IF($A102=\"\",\"\",IF(ISBLANK($A102),\"\",VLOOKUP($A102,Data!$A$4:$AI$155,26,FALSE)))","v":9350},{"$f":"IF($A102=\"\",\"\",IF(ISBLANK($A102),\"\",VLOOKUP($A102,Data!$A$4:$AI$155,27,FALSE)))","v":0.97},{"$f":"IF($A102=\"\",\"\",IF(ISBLANK($A102),\"\",VLOOKUP($A102,Data!$A$4:$AI$155,28,FALSE)))","v":0.98},{"$f":"IF($A102=\"\",\"\",IF(ISBLANK($A102),\"\",VLOOKUP($A102,Data!$A$4:$AI$155,29,FALSE)))","v":0.99}]
[{"$f":"IF('Early Years Table'!A103=\"\",\"\",IF(ISBLANK('Early Years Table'!A103),\"\",'Early Years Table'!A103))","v":929},{"$f":"IF($A103=\"\",\"\",IF(ISBLANK($A103),\"\",INDEX('LEA Nos codes'!$A$3:$A$154,MATCH($A103,'LEA Nos codes'!$B$3:$B$154,0))))","v":"Northumberland"},{"$f":"IF($A103=\"\",\"\",IF(ISBLANK($A103),\"\",VLOOKUP($A103,Data!$A$4:$AI$155,24,FALSE)))","v":3300},{"$f":"IF($A103=\"\",\"\",IF(ISBLANK($A103),\"\",VLOOKUP($A103,Data!$A$4:$AI$155,25,FALSE)))","v":3310},{"$f":"IF($A103=\"\",\"\",IF(ISBLANK($A103),\"\",VLOOKUP($A103,Data!$A$4:$AI$155,26,FALSE)))","v":3420},{"$f":"IF($A103=\"\",\"\",IF(ISBLANK($A103),\"\",VLOOKUP($A103,Data!$A$4:$AI$155,27,FALSE)))","v":1.03},{"$f":"IF($A103=\"\",\"\",IF(ISBLANK($A103),\"\",VLOOKUP($A103,Data!$A$4:$AI$155,28,FALSE)))","v":1.02},{"$f":"IF($A103=\"\",\"\",IF(ISBLANK($A103),\"\",VLOOKUP($A103,Data!$A$4:$AI$155,29,FALSE)))","v":1.02}]
[{"$f":"IF('Early Years Table'!A104=\"\",\"\",IF(ISBLANK('Early Years Table'!A104),\"\",'Early Years Table'!A104))","v":892},{"$f":"IF($A104=\"\",\"\",IF(ISBLANK($A104),\"\",INDEX('LEA Nos codes'!$A$3:$A$154,MATCH($A104,'LEA Nos codes'!$B$3:$B$154,0))))","v":"Nottingham"},{"$f":"IF($A104=\"\",\"\",IF(ISBLANK($A104),\"\",VLOOKUP($A104,Data!$A$4:$AI$155,24,FALSE)))","v":3480},{"$f":"IF($A104=\"\",\"\",IF(ISBLANK($A104),\"\",VLOOKUP($A104,Data!$A$4:$AI$155,25,FALSE)))","v":3630},{"$f":"IF($A104=\"\",\"\",IF(ISBLANK($A104),\"\",VLOOKUP($A104,Data!$A$4:$AI$155,26,FALSE)))","v":3660},{"$f":"IF($A104=\"\",\"\",IF(ISBLANK($A104),\"\",VLOOKUP($A104,Data!$A$4:$AI$155,27,FALSE)))","v":0.93},{"$f":"IF($A104=\"\",\"\",IF(ISBLANK($A104),\"\",VLOOKUP($A104,Data!$A$4:$AI$155,28,FALSE)))","v":0.94},{"$f":"IF($A104=\"\",\"\",IF(ISBLANK($A104),\"\",VLOOKUP($A104,Data!$A$4:$AI$155,29,FALSE)))","v":0.93}]
[{"$f":"IF('Early Years Table'!A105=\"\",\"\",IF(ISBLANK('Early Years Table'!A105),\"\",'Early Years Table'!A105))","v":891},{"$f":"IF($A105=\"\",\"\",IF(ISBLANK($A105),\"\",INDEX('LEA Nos codes'!$A$3:$A$154,MATCH($A105,'LEA Nos codes'!$B$3:$B$154,0))))","v":"Nottinghamshire"},{"$f":"IF($A105=\"\",\"\",IF(ISBLANK($A105),\"\",VLOOKUP($A105,Data!$A$4:$AI$155,24,FALSE)))","v":8800},{"$f":"IF($A105=\"\",\"\",IF(ISBLANK($A105),\"\",VLOOKUP($A105,Data!$A$4:$AI$155,25,FALSE)))","v":9030},{"$f":"IF($A105=\"\",\"\",IF(ISBLANK($A105),\"\",VLOOKUP($A105,Data!$A$4:$AI$155,26,FALSE)))","v":9220},{"$f":"IF($A105=\"\",\"\",IF(ISBLANK($A105),\"\",VLOOKUP($A105,Data!$A$4:$AI$155,27,FALSE)))","v":0.99},{"$f":"IF($A105=\"\",\"\",IF(ISBLANK($A105),\"\",VLOOKUP($A105,Data!$A$4:$AI$155,28,FALSE)))","v":1},{"$f":"IF($A105=\"\",\"\",IF(ISBLANK($A105),\"\",VLOOKUP($A105,Data!$A$4:$AI$155,29,FALSE)))","v":1}]
[{"$f":"IF('Early Years Table'!A106=\"\",\"\",IF(ISBLANK('Early Years Table'!A106),\"\",'Early Years Table'!A106))","v":353},{"$f":"IF($A106=\"\",\"\",IF(ISBLANK($A106),\"\",INDEX('LEA Nos codes'!$A$3:$A$154,MATCH($A106,'LEA Nos codes'!$B$3:$B$154,0))))","v":"Oldham"},{"$f":"IF($A106=\"\",\"\",IF(ISBLANK($A106),\"\",VLOOKUP($A106,Data!$A$4:$AI$155,24,FALSE)))","v":3280},{"$f":"IF($A106=\"\",\"\",IF(ISBLANK($A106),\"\",VLOOKUP($A106,Data!$A$4:$AI$155,25,FALSE)))","v":3390},{"$f":"IF($A106=\"\",\"\",IF(ISBLANK($A106),\"\",VLOOKUP($A106,Data!$A$4:$AI$155,26,FALSE)))","v":3330},{"$f":"IF($A106=\"\",\"\",IF(ISBLANK($A106),\"\",VLOOKUP($A106,Data!$A$4:$AI$155,27,FALSE)))","v":1.01},{"$f":"IF($A106=\"\",\"\",IF(ISBLANK($A106),\"\",VLOOKUP($A106,Data!$A$4:$AI$155,28,FALSE)))","v":1.02},{"$f":"IF($A106=\"\",\"\",IF(ISBLANK($A106),\"\",VLOOKUP($A106,Data!$A$4:$AI$155,29,FALSE)))","v":1}]
[{"$f":"IF('Early Years Table'!A107=\"\",\"\",IF(ISBLANK('Early Years Table'!A107),\"\",'Early Years Table'!A107))","v":931},{"$f":"IF($A107=\"\",\"\",IF(ISBLANK($A107),\"\",INDEX('LEA Nos codes'!$A$3:$A$154,MATCH($A107,'LEA Nos codes'!$B$3:$B$154,0))))","v":"Oxfordshire"},{"$f":"IF($A107=\"\",\"\",IF(ISBLANK($A107),\"\",VLOOKUP($A107,Data!$A$4:$AI$155,24,FALSE)))","v":7740},{"$f":"IF($A107=\"\",\"\",IF(ISBLANK($A107),\"\",VLOOKUP($A107,Data!$A$4:$AI$155,25,FALSE)))","v":7960},{"$f":"IF($A107=\"\",\"\",IF(ISBLANK($A107),\"\",VLOOKUP($A107,Data!$A$4:$AI$155,26,FALSE)))","v":8030},{"$f":"IF($A107=\"\",\"\",IF(ISBLANK($A107),\"\",VLOOKUP($A107,Data!$A$4:$AI$155,27,FALSE)))","v":0.98},{"$f":"IF($A107=\"\",\"\",IF(ISBLANK($A107),\"\",VLOOKUP($A107,Data!$A$4:$AI$155,28,FALSE)))","v":0.98},{"$f":"IF($A107=\"\",\"\",IF(ISBLANK($A107),\"\",VLOOKUP($A107,Data!$A$4:$AI$155,29,FALSE)))","v":0.98}]
[{"$f":"IF('Early Years Table'!A108=\"\",\"\",IF(ISBLANK('Early Years Table'!A108),\"\",'Early Years Table'!A108))","v":874},{"$f":"IF($A108=\"\",\"\",IF(ISBLANK($A108),\"\",INDEX('LEA Nos codes'!$A$3:$A$154,MATCH($A108,'LEA Nos codes'!$B$3:$B$154,0))))","v":"Peterborough"},{"$f":"IF($A108=\"\",\"\",IF(ISBLANK($A108),\"\",VLOOKUP($A108,Data!$A$4:$AI$155,24,FALSE)))","v":2540},{"$f":"IF($A108=\"\",\"\",IF(ISBLANK($A108),\"\",VLOOKUP($A108,Data!$A$4:$AI$155,25,FALSE)))","v":2680},{"$f":"IF($A108=\"\",\"\",IF(ISBLANK($A108),\"\",VLOOKUP($A108,Data!$A$4:$AI$155,26,FALSE)))","v":2920},{"$f":"IF($A108=\"\",\"\",IF(ISBLANK($A108),\"\",VLOOKUP($A108,Data!$A$4:$AI$155,27,FALSE)))","v":1},{"$f":"IF($A108=\"\",\"\",IF(ISBLANK($A108),\"\",VLOOKUP($A108,Data!$A$4:$AI$155,28,FALSE)))","v":0.99},{"$f":"IF($A108=\"\",\"\",IF(ISBLANK($A108),\"\",VLOOKUP($A108,Data!$A$4:$AI$155,29,FALSE)))","v":1.05}]
[{"$f":"IF('Early Years Table'!A109=\"\",\"\",IF(ISBLANK('Early Years Table'!A109),\"\",'Early Years Table'!A109))","v":879},{"$f":"IF($A109=\"\",\"\",IF(ISBLANK($A109),\"\",INDEX('LEA Nos codes'!$A$3:$A$154,MATCH($A109,'LEA Nos codes'!$B$3:$B$154,0))))","v":"Plymouth"},{"$f":"IF($A109=\"\",\"\",IF(ISBLANK($A109),\"\",VLOOKUP($A109,Data!$A$4:$AI$155,24,FALSE)))","v":2930},{"$f":"IF($A109=\"\",\"\",IF(ISBLANK($A109),\"\",VLOOKUP($A109,Data!$A$4:$AI$155,25,FALSE)))","v":3040},{"$f":"IF($A109=\"\",\"\",IF(ISBLANK($A109),\"\",VLOOKUP($A109,Data!$A$4:$AI$155,26,FALSE)))","v":3020},{"$f":"IF($A109=\"\",\"\",IF(ISBLANK($A109),\"\",VLOOKUP($A109,Data!$A$4:$AI$155,27,FALSE)))","v":1.02},{"$f":"IF($A109=\"\",\"\",IF(ISBLANK($A109),\"\",VLOOKUP($A109,Data!$A$4:$AI$155,28,FALSE)))","v":1.02},{"$f":"IF($A109=\"\",\"\",IF(ISBLANK($A109),\"\",VLOOKUP($A109,Data!$A$4:$AI$155,29,FALSE)))","v":0.99}]
[{"$f":"IF('Early Years Table'!A110=\"\",\"\",IF(ISBLANK('Early Years Table'!A110),\"\",'Early Years Table'!A110))","v":836},{"$f":"IF($A110=\"\",\"\",IF(ISBLANK($A110),\"\",INDEX('LEA Nos codes'!$A$3:$A$154,MATCH($A110,'LEA Nos codes'!$B$3:$B$154,0))))","v":"Poole"},{"$f":"IF($A110=\"\",\"\",IF(ISBLANK($A110),\"\",VLOOKUP($A110,Data!$A$4:$AI$155,24,FALSE)))","v":1460},{"$f":"IF($A110=\"\",\"\",IF(ISBLANK($A110),\"\",VLOOKUP($A110,Data!$A$4:$AI$155,25,FALSE)))","v":1550},{"$f":"IF($A110=\"\",\"\",IF(ISBLANK($A110),\"\",VLOOKUP($A110,Data!$A$4:$AI$155,26,FALSE)))","v":1590},{"$f":"IF($A110=\"\",\"\",IF(ISBLANK($A110),\"\",VLOOKUP($A110,Data!$A$4:$AI$155,27,FALSE)))","v":0.9},{"$f":"IF($A110=\"\",\"\",IF(ISBLANK($A110),\"\",VLOOKUP($A110,Data!$A$4:$AI$155,28,FALSE)))","v":0.91},{"$f":"IF($A110=\"\",\"\",IF(ISBLANK($A110),\"\",VLOOKUP($A110,Data!$A$4:$AI$155,29,FALSE)))","v":0.92}]
[{"$f":"IF('Early Years Table'!A111=\"\",\"\",IF(ISBLANK('Early Years Table'!A111),\"\",'Early Years Table'!A111))","v":851},{"$f":"IF($A111=\"\",\"\",IF(ISBLANK($A111),\"\",INDEX('LEA Nos codes'!$A$3:$A$154,MATCH($A111,'LEA Nos codes'!$B$3:$B$154,0))))","v":"Portsmouth"},{"$f":"IF($A111=\"\",\"\",IF(ISBLANK($A111),\"\",VLOOKUP($A111,Data!$A$4:$AI$155,24,FALSE)))","v":2360},{"$f":"IF($A111=\"\",\"\",IF(ISBLANK($A111),\"\",VLOOKUP($A111,Data!$A$4:$AI$155,25,FALSE)))","v":2380},{"$f":"IF($A111=\"\",\"\",IF(ISBLANK($A111),\"\",VLOOKUP($A111,Data!$A$4:$AI$155,26,FALSE)))","v":2500},{"$f":"IF($A111=\"\",\"\",IF(ISBLANK($A111),\"\",VLOOKUP($A111,Data!$A$4:$AI$155,27,FALSE)))","v":0.95},{"$f":"IF($A111=\"\",\"\",IF(ISBLANK($A111),\"\",VLOOKUP($A111,Data!$A$4:$AI$155,28,FALSE)))","v":0.92},{"$f":"IF($A111=\"\",\"\",IF(ISBLANK($A111),\"\",VLOOKUP($A111,Data!$A$4:$AI$155,29,FALSE)))","v":0.95}]
[{"$f":"IF('Early Years Table'!A112=\"\",\"\",IF(ISBLANK('Early Years Table'!A112),\"\",'Early Years Table'!A112))","v":870},{"$f":"IF($A112=\"\",\"\",IF(ISBLANK($A112),\"\",INDEX('LEA Nos codes'!$A$3:$A$154,MATCH($A112,'LEA Nos codes'!$B$3:$B$154,0))))","v":"Reading"},{"$f":"IF($A112=\"\",\"\",IF(ISBLANK($A112),\"\",VLOOKUP($A112,Data!$A$4:$AI$155,24,FALSE)))","v":1820},{"$f":"IF($A112=\"\",\"\",IF(ISBLANK($A112),\"\",VLOOKUP($A112,Data!$A$4:$AI$155,25,FALSE)))","v":1990},{"$f":"IF($A112=\"\",\"\",IF(ISBLANK($A112),\"\",VLOOKUP($A112,Data!$A$4:$AI$155,26,FALSE)))","v":2110},{"$f":"IF($A112=\"\",\"\",IF(ISBLANK($A112),\"\",VLOOKUP($A112,Data!$A$4:$AI$155,27,FALSE)))","v":0.87},{"$f":"IF($A112=\"\",\"\",IF(ISBLANK($A112),\"\",VLOOKUP($A112,Data!$A$4:$AI$155,28,FALSE)))","v":0.88},{"$f":"IF($A112=\"\",\"\",IF(ISBLANK($A112),\"\",VLOOKUP($A112,Data!$A$4:$AI$155,29,FALSE)))","v":0.9}]
[{"$f":"IF('Early Years Table'!A113=\"\",\"\",IF(ISBLANK('Early Years Table'!A113),\"\",'Early Years Table'!A113))","v":317},{"$f":"IF($A113=\"\",\"\",IF(ISBLANK($A113),\"\",INDEX('LEA Nos codes'!$A$3:$A$154,MATCH($A113,'LEA Nos codes'!$B$3:$B$154,0))))","v":"Redbridge"},{"$f":"IF($A113=\"\",\"\",IF(ISBLANK($A113),\"\",VLOOKUP($A113,Data!$A$4:$AI$155,24,FALSE)))","v":4070},{"$f":"IF($A113=\"\",\"\",IF(ISBLANK($A113),\"\",VLOOKUP($A113,Data!$A$4:$AI$155,25,FALSE)))","v":4280},{"$f":"IF($A113=\"\",\"\",IF(ISBLANK($A113),\"\",VLOOKUP($A113,Data!$A$4:$AI$155,26,FALSE)))","v":4270},{"$f":"IF($A113=\"\",\"\",IF(ISBLANK($A113),\"\",VLOOKUP($A113,Data!$A$4:$AI$155,27,FALSE)))","v":0.99},{"$f":"IF($A113=\"\",\"\",IF(ISBLANK($A113),\"\",VLOOKUP($A113,Data!$A$4:$AI$155,28,FALSE)))","v":0.99},{"$f":"IF($A113=\"\",\"\",IF(ISBLANK($A113),\"\",VLOOKUP($A113,Data!$A$4:$AI$155,29,FALSE)))","v":0.96}]
[{"$f":"IF('Early Years Table'!A114=\"\",\"\",IF(ISBLANK('Early Years Table'!A114),\"\",'Early Years Table'!A114))","v":807},{"$f":"IF($A114=\"\",\"\",IF(ISBLANK($A114),\"\",INDEX('LEA Nos codes'!$A$3:$A$154,MATCH($A114,'LEA Nos codes'!$B$3:$B$154,0))))","v":"Redcar and Cleveland"},{"$f":"IF($A114=\"\",\"\",IF(ISBLANK($A114),\"\",VLOOKUP($A114,Data!$A$4:$AI$155,24,FALSE)))","v":1540},{"$f":"IF($A114=\"\",\"\",IF(ISBLANK($A114),\"\",VLOOKUP($A114,Data!$A$4:$AI$155,25,FALSE)))","v":1560},{"$f":"IF($A114=\"\",\"\",IF(ISBLANK($A114),\"\",VLOOKUP($A114,Data!$A$4:$AI$155,26,FALSE)))","v":1590},{"$f":"IF($A114=\"\",\"\",IF(ISBLANK($A114),\"\",VLOOKUP($A114,Data!$A$4:$AI$155,27,FALSE)))","v":0.99},{"$f":"IF($A114=\"\",\"\",IF(ISBLANK($A114),\"\",VLOOKUP($A114,Data!$A$4:$AI$155,28,FALSE)))","v":1.05},{"$f":"IF($A114=\"\",\"\",IF(ISBLANK($A114),\"\",VLOOKUP($A114,Data!$A$4:$AI$155,29,FALSE)))","v":1.07}]
[{"$f":"IF('Early Years Table'!A115=\"\",\"\",IF(ISBLANK('Early Years Table'!A115),\"\",'Early Years Table'!A115))","v":318},{"$f":"IF($A115=\"\",\"\",IF(ISBLANK($A115),\"\",INDEX('LEA Nos codes'!$A$3:$A$154,MATCH($A115,'LEA Nos codes'!$B$3:$B$154,0))))","v":"Richmond upon Thames"},{"$f":"IF($A115=\"\",\"\",IF(ISBLANK($A115),\"\",VLOOKUP($A115,Data!$A$4:$AI$155,24,FALSE)))","v":2650},{"$f":"IF($A115=\"\",\"\",IF(ISBLANK($A115),\"\",VLOOKUP($A115,Data!$A$4:$AI$155,25,FALSE)))","v":2740},{"$f":"IF($A115=\"\",\"\",IF(ISBLANK($A115),\"\",VLOOKUP($A115,Data!$A$4:$AI$155,26,FALSE)))","v":2850},{"$f":"IF($A115=\"\",\"\",IF(ISBLANK($A115),\"\",VLOOKUP($A115,Data!$A$4:$AI$155,27,FALSE)))","v":1.03},{"$f":"IF($A115=\"\",\"\",IF(ISBLANK($A115),\"\",VLOOKUP($A115,Data!$A$4:$AI$155,28,FALSE)))","v":1.02},{"$f":"IF($A115=\"\",\"\",IF(ISBLANK($A115),\"\",VLOOKUP($A115,Data!$A$4:$AI$155,29,FALSE)))","v":1.02}]
[{"$f":"IF('Early Years Table'!A116=\"\",\"\",IF(ISBLANK('Early Years Table'!A116),\"\",'Early Years Table'!A116))","v":354},{"$f":"IF($A116=\"\",\"\",IF(ISBLANK($A116),\"\",INDEX('LEA Nos codes'!$A$3:$A$154,MATCH($A116,'LEA Nos codes'!$B$3:$B$154,0))))","v":"Rochdale"},{"$f":"IF($A116=\"\",\"\",IF(ISBLANK($A116),\"\",VLOOKUP($A116,Data!$A$4:$AI$155,24,FALSE)))","v":2770},{"$f":"IF($A116=\"\",\"\",IF(ISBLANK($A116),\"\",VLOOKUP($A116,Data!$A$4:$AI$155,25,FALSE)))","v":2930},{"$f":"IF($A116=\"\",\"\",IF(ISBLANK($A116),\"\",VLOOKUP($A116,Data!$A$4:$AI$155,26,FALSE)))","v":2930},{"$f":"IF($A116=\"\",\"\",IF(ISBLANK($A116),\"\",VLOOKUP($A116,Data!$A$4:$AI$155,27,FALSE)))","v":0.94},{"$f":"IF($A116=\"\",\"\",IF(ISBLANK($A116),\"\",VLOOKUP($A116,Data!$A$4:$AI$155,28,FALSE)))","v":0.99},{"$f":"IF($A116=\"\",\"\",IF(ISBLANK($A116),\"\",VLOOKUP($A116,Data!$A$4:$AI$155,29,FALSE)))","v":0.99}]
[{"$f":"IF('Early Years Table'!A117=\"\",\"\",IF(ISBLANK('Early Years Table'!A117),\"\",'Early Years Table'!A117))","v":372},{"$f":"IF($A117=\"\",\"\",IF(ISBLANK($A117),\"\",INDEX('LEA Nos codes'!$A$3:$A$154,MATCH($A117,'LEA Nos codes'!$B$3:$B$154,0))))","v":"Rotherham"},{"$f":"IF($A117=\"\",\"\",IF(ISBLANK($A117),\"\",VLOOKUP($A117,Data!$A$4:$AI$155,24,FALSE)))","v":3020},{"$f":"IF($A117=\"\",\"\",IF(ISBLANK($A117),\"\",VLOOKUP($A117,Data!$A$4:$AI$155,25,FALSE)))","v":3260},{"$f":"IF($A117=\"\",\"\",IF(ISBLANK($A117),\"\",VLOOKUP($A117,Data!$A$4:$AI$155,26,FALSE)))","v":3310},{"$f":"IF($A117=\"\",\"\",IF(ISBLANK($A117),\"\",VLOOKUP($A117,Data!$A$4:$AI$155,27,FALSE)))","v":0.98},{"$f":"IF($A117=\"\",\"\",IF(ISBLANK($A117),\"\",VLOOKUP($A117,Data!$A$4:$AI$155,28,FALSE)))","v":1.03},{"$f":"IF($A117=\"\",\"\",IF(ISBLANK($A117),\"\",VLOOKUP($A117,Data!$A$4:$AI$155,29,FALSE)))","v":1.01}]
[{"$f":"IF('Early Years Table'!A118=\"\",\"\",IF(ISBLANK('Early Years Table'!A118),\"\",'Early Years Table'!A118))","v":857},{"$f":"IF($A118=\"\",\"\",IF(ISBLANK($A118),\"\",INDEX('LEA Nos codes'!$A$3:$A$154,MATCH($A118,'LEA Nos codes'!$B$3:$B$154,0))))","v":"Rutland"},{"$f":"IF($A118=\"\",\"\",IF(ISBLANK($A118),\"\",VLOOKUP($A118,Data!$A$4:$AI$155,24,FALSE)))","v":400},{"$f":"IF($A118=\"\",\"\",IF(ISBLANK($A118),\"\",VLOOKUP($A118,Data!$A$4:$AI$155,25,FALSE)))","v":390},{"$f":"IF($A118=\"\",\"\",IF(ISBLANK($A118),\"\",VLOOKUP($A118,Data!$A$4:$AI$155,26,FALSE)))","v":380},{"$f":"IF($A118=\"\",\"\",IF(ISBLANK($A118),\"\",VLOOKUP($A118,Data!$A$4:$AI$155,27,FALSE)))","v":1.02},{"$f":"IF($A118=\"\",\"\",IF(ISBLANK($A118),\"\",VLOOKUP($A118,Data!$A$4:$AI$155,28,FALSE)))","v":1.03},{"$f":"IF($A118=\"\",\"\",IF(ISBLANK($A118),\"\",VLOOKUP($A118,Data!$A$4:$AI$155,29,FALSE)))","v":1.05}]
[{"$f":"IF('Early Years Table'!A119=\"\",\"\",IF(ISBLANK('Early Years Table'!A119),\"\",'Early Years Table'!A119))","v":355},{"$f":"IF($A119=\"\",\"\",IF(ISBLANK($A119),\"\",INDEX('LEA Nos codes'!$A$3:$A$154,MATCH($A119,'LEA Nos codes'!$B$3:$B$154,0))))","v":"Salford"},{"$f":"IF($A119=\"\",\"\",IF(ISBLANK($A119),\"\",VLOOKUP($A119,Data!$A$4:$AI$155,24,FALSE)))","v":3050},{"$f":"IF($A119=\"\",\"\",IF(ISBLANK($A119),\"\",VLOOKUP($A119,Data!$A$4:$AI$155,25,FALSE)))","v":3090},{"$f":"IF($A119=\"\",\"\",IF(ISBLANK($A119),\"\",VLOOKUP($A119,Data!$A$4:$AI$155,26,FALSE)))","v":3390},{"$f":"IF($A119=\"\",\"\",IF(ISBLANK($A119),\"\",VLOOKUP($A119,Data!$A$4:$AI$155,27,FALSE)))","v":1.01},{"$f":"IF($A119=\"\",\"\",IF(ISBLANK($A119),\"\",VLOOKUP($A119,Data!$A$4:$AI$155,28,FALSE)))","v":0.98},{"$f":"IF($A119=\"\",\"\",IF(ISBLANK($A119),\"\",VLOOKUP($A119,Data!$A$4:$AI$155,29,FALSE)))","v":1.07}]
[{"$f":"IF('Early Years Table'!A120=\"\",\"\",IF(ISBLANK('Early Years Table'!A120),\"\",'Early Years Table'!A120))","v":333},{"$f":"IF($A120=\"\",\"\",IF(ISBLANK($A120),\"\",INDEX('LEA Nos codes'!$A$3:$A$154,MATCH($A120,'LEA Nos codes'!$B$3:$B$154,0))))","v":"Sandwell"},{"$f":"IF($A120=\"\",\"\",IF(ISBLANK($A120),\"\",VLOOKUP($A120,Data!$A$4:$AI$155,24,FALSE)))","v":3980},{"$f":"IF($A120=\"\",\"\",IF(ISBLANK($A120),\"\",VLOOKUP($A120,Data!$A$4:$AI$155,25,FALSE)))","v":4220},{"$f":"IF($A120=\"\",\"\",IF(ISBLANK($A120),\"\",VLOOKUP($A120,Data!$A$4:$AI$155,26,FALSE)))","v":4560},{"$f":"IF($A120=\"\",\"\",IF(ISBLANK($A120),\"\",VLOOKUP($A120,Data!$A$4:$AI$155,27,FALSE)))","v":0.91},{"$f":"IF($A120=\"\",\"\",IF(ISBLANK($A120),\"\",VLOOKUP($A120,Data!$A$4:$AI$155,28,FALSE)))","v":0.94},{"$f":"IF($A120=\"\",\"\",IF(ISBLANK($A120),\"\",VLOOKUP($A120,Data!$A$4:$AI$155,29,FALSE)))","v":0.97}]
[{"$f":"IF('Early Years Table'!A121=\"\",\"\",IF(ISBLANK('Early Years Table'!A121),\"\",'Early Years Table'!A121))","v":343},{"$f":"IF($A121=\"\",\"\",IF(ISBLANK($A121),\"\",INDEX('LEA Nos codes'!$A$3:$A$154,MATCH($A121,'LEA Nos codes'!$B$3:$B$154,0))))","v":"Sefton"},{"$f":"IF($A121=\"\",\"\",IF(ISBLANK($A121),\"\",VLOOKUP($A121,Data!$A$4:$AI$155,24,FALSE)))","v":2860},{"$f":"IF($A121=\"\",\"\",IF(ISBLANK($A121),\"\",VLOOKUP($A121,Data!$A$4:$AI$155,25,FALSE)))","v":2930},{"$f":"IF($A121=\"\",\"\",IF(ISBLANK($A121),\"\",VLOOKUP($A121,Data!$A$4:$AI$155,26,FALSE)))","v":2910},{"$f":"IF($A121=\"\",\"\",IF(ISBLANK($A121),\"\",VLOOKUP($A121,Data!$A$4:$AI$155,27,FALSE)))","v":1},{"$f":"IF($A121=\"\",\"\",IF(ISBLANK($A121),\"\",VLOOKUP($A121,Data!$A$4:$AI$155,28,FALSE)))","v":1.01},{"$f":"IF($A121=\"\",\"\",IF(ISBLANK($A121),\"\",VLOOKUP($A121,Data!$A$4:$AI$155,29,FALSE)))","v":1}]
[{"$f":"IF('Early Years Table'!A122=\"\",\"\",IF(ISBLANK('Early Years Table'!A122),\"\",'Early Years Table'!A122))","v":373},{"$f":"IF($A122=\"\",\"\",IF(ISBLANK($A122),\"\",INDEX('LEA Nos codes'!$A$3:$A$154,MATCH($A122,'LEA Nos codes'!$B$3:$B$154,0))))","v":"Sheffield"},{"$f":"IF($A122=\"\",\"\",IF(ISBLANK($A122),\"\",VLOOKUP($A122,Data!$A$4:$AI$155,24,FALSE)))","v":6100},{"$f":"IF($A122=\"\",\"\",IF(ISBLANK($A122),\"\",VLOOKUP($A122,Data!$A$4:$AI$155,25,FALSE)))","v":6290},{"$f":"IF($A122=\"\",\"\",IF(ISBLANK($A122),\"\",VLOOKUP($A122,Data!$A$4:$AI$155,26,FALSE)))","v":6390},{"$f":"IF($A122=\"\",\"\",IF(ISBLANK($A122),\"\",VLOOKUP($A122,Data!$A$4:$AI$155,27,FALSE)))","v":0.93},{"$f":"IF($A122=\"\",\"\",IF(ISBLANK($A122),\"\",VLOOKUP($A122,Data!$A$4:$AI$155,28,FALSE)))","v":0.94},{"$f":"IF($A122=\"\",\"\",IF(ISBLANK($A122),\"\",VLOOKUP($A122,Data!$A$4:$AI$155,29,FALSE)))","v":0.94}]
[{"$f":"IF('Early Years Table'!A123=\"\",\"\",IF(ISBLANK('Early Years Table'!A123),\"\",'Early Years Table'!A123))","v":893},{"$f":"IF($A123=\"\",\"\",IF(ISBLANK($A123),\"\",INDEX('LEA Nos codes'!$A$3:$A$154,MATCH($A123,'LEA Nos codes'!$B$3:$B$154,0))))","v":"Shropshire"},{"$f":"IF($A123=\"\",\"\",IF(ISBLANK($A123),\"\",VLOOKUP($A123,Data!$A$4:$AI$155,24,FALSE)))","v":2970},{"$f":"IF($A123=\"\",\"\",IF(ISBLANK($A123),\"\",VLOOKUP($A123,Data!$A$4:$AI$155,25,FALSE)))","v":3030},{"$f":"IF($A123=\"\",\"\",IF(ISBLANK($A123),\"\",VLOOKUP($A123,Data!$A$4:$AI$155,26,FALSE)))","v":3050},{"$f":"IF($A123=\"\",\"\",IF(ISBLANK($A123),\"\",VLOOKUP($A123,Data!$A$4:$AI$155,27,FALSE)))","v":0.96},{"$f":"IF($A123=\"\",\"\",IF(ISBLANK($A123),\"\",VLOOKUP($A123,Data!$A$4:$AI$155,28,FALSE)))","v":0.94},{"$f":"IF($A123=\"\",\"\",IF(ISBLANK($A123),\"\",VLOOKUP($A123,Data!$A$4:$AI$155,29,FALSE)))","v":0.95}]
[{"$f":"IF('Early Years Table'!A124=\"\",\"\",IF(ISBLANK('Early Years Table'!A124),\"\",'Early Years Table'!A124))","v":871},{"$f":"IF($A124=\"\",\"\",IF(ISBLANK($A124),\"\",INDEX('LEA Nos codes'!$A$3:$A$154,MATCH($A124,'LEA Nos codes'!$B$3:$B$154,0))))","v":"Slough"},{"$f":"IF($A124=\"\",\"\",IF(ISBLANK($A124),\"\",VLOOKUP($A124,Data!$A$4:$AI$155,24,FALSE)))","v":2070},{"$f":"IF($A124=\"\",\"\",IF(ISBLANK($A124),\"\",VLOOKUP($A124,Data!$A$4:$AI$155,25,FALSE)))","v":2250},{"$f":"IF($A124=\"\",\"\",IF(ISBLANK($A124),\"\",VLOOKUP($A124,Data!$A$4:$AI$155,26,FALSE)))","v":2350},{"$f":"IF($A124=\"\",\"\",IF(ISBLANK($A124),\"\",VLOOKUP($A124,Data!$A$4:$AI$155,27,FALSE)))","v":0.88},{"$f":"IF($A124=\"\",\"\",IF(ISBLANK($A124),\"\",VLOOKUP($A124,Data!$A$4:$AI$155,28,FALSE)))","v":0.9},{"$f":"IF($A124=\"\",\"\",IF(ISBLANK($A124),\"\",VLOOKUP($A124,Data!$A$4:$AI$155,29,FALSE)))","v":0.95}]
[{"$f":"IF('Early Years Table'!A125=\"\",\"\",IF(ISBLANK('Early Years Table'!A125),\"\",'Early Years Table'!A125))","v":334},{"$f":"IF($A125=\"\",\"\",IF(ISBLANK($A125),\"\",INDEX('LEA Nos codes'!$A$3:$A$154,MATCH($A125,'LEA Nos codes'!$B$3:$B$154,0))))","v":"Solihull"},{"$f":"IF($A125=\"\",\"\",IF(ISBLANK($A125),\"\",VLOOKUP($A125,Data!$A$4:$AI$155,24,FALSE)))","v":2630},{"$f":"IF($A125=\"\",\"\",IF(ISBLANK($A125),\"\",VLOOKUP($A125,Data!$A$4:$AI$155,25,FALSE)))","v":2710},{"$f":"IF($A125=\"\",\"\",IF(ISBLANK($A125),\"\",VLOOKUP($A125,Data!$A$4:$AI$155,26,FALSE)))","v":2780},{"$f":"IF($A125=\"\",\"\",IF(ISBLANK($A125),\"\",VLOOKUP($A125,Data!$A$4:$AI$155,27,FALSE)))","v":1.1100000000000001},{"$f":"IF($A125=\"\",\"\",IF(ISBLANK($A125),\"\",VLOOKUP($A125,Data!$A$4:$AI$155,28,FALSE)))","v":1.1299999999999999},{"$f":"IF($A125=\"\",\"\",IF(ISBLANK($A125),\"\",VLOOKUP($A125,Data!$A$4:$AI$155,29,FALSE)))","v":1.1599999999999999}]
[{"$f":"IF('Early Years Table'!A126=\"\",\"\",IF(ISBLANK('Early Years Table'!A126),\"\",'Early Years Table'!A126))","v":933},{"$f":"IF($A126=\"\",\"\",IF(ISBLANK($A126),\"\",INDEX('LEA Nos codes'!$A$3:$A$154,MATCH($A126,'LEA Nos codes'!$B$3:$B$154,0))))","v":"Somerset"},{"$f":"IF($A126=\"\",\"\",IF(ISBLANK($A126),\"\",VLOOKUP($A126,Data!$A$4:$AI$155,24,FALSE)))","v":5570},{"$f":"IF($A126=\"\",\"\",IF(ISBLANK($A126),\"\",VLOOKUP($A126,Data!$A$4:$AI$155,25,FALSE)))","v":5720},{"$f":"IF($A126=\"\",\"\",IF(ISBLANK($A126),\"\",VLOOKUP($A126,Data!$A$4:$AI$155,26,FALSE)))","v":5870},{"$f":"IF($A126=\"\",\"\",IF(ISBLANK($A126),\"\",VLOOKUP($A126,Data!$A$4:$AI$155,27,FALSE)))","v":0.99},{"$f":"IF($A126=\"\",\"\",IF(ISBLANK($A126),\"\",VLOOKUP($A126,Data!$A$4:$AI$155,28,FALSE)))","v":0.99},{"$f":"IF($A126=\"\",\"\",IF(ISBLANK($A126),\"\",VLOOKUP($A126,Data!$A$4:$AI$155,29,FALSE)))","v":0.99}]
[{"$f":"IF('Early Years Table'!A127=\"\",\"\",IF(ISBLANK('Early Years Table'!A127),\"\",'Early Years Table'!A127))","v":803},{"$f":"IF($A127=\"\",\"\",IF(ISBLANK($A127),\"\",INDEX('LEA Nos codes'!$A$3:$A$154,MATCH($A127,'LEA Nos codes'!$B$3:$B$154,0))))","v":"South Gloucestershire"},{"$f":"IF($A127=\"\",\"\",IF(ISBLANK($A127),\"\",VLOOKUP($A127,Data!$A$4:$AI$155,24,FALSE)))","v":3090},{"$f":"IF($A127=\"\",\"\",IF(ISBLANK($A127),\"\",VLOOKUP($A127,Data!$A$4:$AI$155,25,FALSE)))","v":3250},{"$f":"IF($A127=\"\",\"\",IF(ISBLANK($A127),\"\",VLOOKUP($A127,Data!$A$4:$AI$155,26,FALSE)))","v":3350},{"$f":"IF($A127=\"\",\"\",IF(ISBLANK($A127),\"\",VLOOKUP($A127,Data!$A$4:$AI$155,27,FALSE)))","v":1},{"$f":"IF($A127=\"\",\"\",IF(ISBLANK($A127),\"\",VLOOKUP($A127,Data!$A$4:$AI$155,28,FALSE)))","v":1.01},{"$f":"IF($A127=\"\",\"\",IF(ISBLANK($A127),\"\",VLOOKUP($A127,Data!$A$4:$AI$155,29,FALSE)))","v":1}]
[{"$f":"IF('Early Years Table'!A128=\"\",\"\",IF(ISBLANK('Early Years Table'!A128),\"\",'Early Years Table'!A128))","v":393},{"$f":"IF($A128=\"\",\"\",IF(ISBLANK($A128),\"\",INDEX('LEA Nos codes'!$A$3:$A$154,MATCH($A128,'LEA Nos codes'!$B$3:$B$154,0))))","v":"South Tyneside"},{"$f":"IF($A128=\"\",\"\",IF(ISBLANK($A128),\"\",VLOOKUP($A128,Data!$A$4:$AI$155,24,FALSE)))","v":1550},{"$f":"IF($A128=\"\",\"\",IF(ISBLANK($A128),\"\",VLOOKUP($A128,Data!$A$4:$AI$155,25,FALSE)))","v":1640},{"$f":"IF($A128=\"\",\"\",IF(ISBLANK($A128),\"\",VLOOKUP($A128,Data!$A$4:$AI$155,26,FALSE)))","v":1640},{"$f":"IF($A128=\"\",\"\",IF(ISBLANK($A128),\"\",VLOOKUP($A128,Data!$A$4:$AI$155,27,FALSE)))","v":0.97},{"$f":"IF($A128=\"\",\"\",IF(ISBLANK($A128),\"\",VLOOKUP($A128,Data!$A$4:$AI$155,28,FALSE)))","v":1.02},{"$f":"IF($A128=\"\",\"\",IF(ISBLANK($A128),\"\",VLOOKUP($A128,Data!$A$4:$AI$155,29,FALSE)))","v":0.99}]
[{"$f":"IF('Early Years Table'!A129=\"\",\"\",IF(ISBLANK('Early Years Table'!A129),\"\",'Early Years Table'!A129))","v":852},{"$f":"IF($A129=\"\",\"\",IF(ISBLANK($A129),\"\",INDEX('LEA Nos codes'!$A$3:$A$154,MATCH($A129,'LEA Nos codes'!$B$3:$B$154,0))))","v":"Southampton"},{"$f":"IF($A129=\"\",\"\",IF(ISBLANK($A129),\"\",VLOOKUP($A129,Data!$A$4:$AI$155,24,FALSE)))","v":2710},{"$f":"IF($A129=\"\",\"\",IF(ISBLANK($A129),\"\",VLOOKUP($A129,Data!$A$4:$AI$155,25,FALSE)))","v":2870},{"$f":"IF($A129=\"\",\"\",IF(ISBLANK($A129),\"\",VLOOKUP($A129,Data!$A$4:$AI$155,26,FALSE)))","v":2990},{"$f":"IF($A129=\"\",\"\",IF(ISBLANK($A129),\"\",VLOOKUP($A129,Data!$A$4:$AI$155,27,FALSE)))","v":0.98},{"$f":"IF($A129=\"\",\"\",IF(ISBLANK($A129),\"\",VLOOKUP($A129,Data!$A$4:$AI$155,28,FALSE)))","v":0.99},{"$f":"IF($A129=\"\",\"\",IF(ISBLANK($A129),\"\",VLOOKUP($A129,Data!$A$4:$AI$155,29,FALSE)))","v":1}]
[{"$f":"IF('Early Years Table'!A130=\"\",\"\",IF(ISBLANK('Early Years Table'!A130),\"\",'Early Years Table'!A130))","v":882},{"$f":"IF($A130=\"\",\"\",IF(ISBLANK($A130),\"\",INDEX('LEA Nos codes'!$A$3:$A$154,MATCH($A130,'LEA Nos codes'!$B$3:$B$154,0))))","v":"Southend-on-Sea"},{"$f":"IF($A130=\"\",\"\",IF(ISBLANK($A130),\"\",VLOOKUP($A130,Data!$A$4:$AI$155,24,FALSE)))","v":2060},{"$f":"IF($A130=\"\",\"\",IF(ISBLANK($A130),\"\",VLOOKUP($A130,Data!$A$4:$AI$155,25,FALSE)))","v":2110},{"$f":"IF($A130=\"\",\"\",IF(ISBLANK($A130),\"\",VLOOKUP($A130,Data!$A$4:$AI$155,26,FALSE)))","v":2170},{"$f":"IF($A130=\"\",\"\",IF(ISBLANK($A130),\"\",VLOOKUP($A130,Data!$A$4:$AI$155,27,FALSE)))","v":0.97},{"$f":"IF($A130=\"\",\"\",IF(ISBLANK($A130),\"\",VLOOKUP($A130,Data!$A$4:$AI$155,28,FALSE)))","v":0.95},{"$f":"IF($A130=\"\",\"\",IF(ISBLANK($A130),\"\",VLOOKUP($A130,Data!$A$4:$AI$155,29,FALSE)))","v":0.95}]
[{"$f":"IF('Early Years Table'!A131=\"\",\"\",IF(ISBLANK('Early Years Table'!A131),\"\",'Early Years Table'!A131))","v":210},{"$f":"IF($A131=\"\",\"\",IF(ISBLANK($A131),\"\",INDEX('LEA Nos codes'!$A$3:$A$154,MATCH($A131,'LEA Nos codes'!$B$3:$B$154,0))))","v":"Southwark"},{"$f":"IF($A131=\"\",\"\",IF(ISBLANK($A131),\"\",VLOOKUP($A131,Data!$A$4:$AI$155,24,FALSE)))","v":3510},{"$f":"IF($A131=\"\",\"\",IF(ISBLANK($A131),\"\",VLOOKUP($A131,Data!$A$4:$AI$155,25,FALSE)))","v":3450},{"$f":"IF($A131=\"\",\"\",IF(ISBLANK($A131),\"\",VLOOKUP($A131,Data!$A$4:$AI$155,26,FALSE)))","v":3670},{"$f":"IF($A131=\"\",\"\",IF(ISBLANK($A131),\"\",VLOOKUP($A131,Data!$A$4:$AI$155,27,FALSE)))","v":0.93},{"$f":"IF($A131=\"\",\"\",IF(ISBLANK($A131),\"\",VLOOKUP($A131,Data!$A$4:$AI$155,28,FALSE)))","v":0.89},{"$f":"IF($A131=\"\",\"\",IF(ISBLANK($A131),\"\",VLOOKUP($A131,Data!$A$4:$AI$155,29,FALSE)))","v":0.94}]
[{"$f":"IF('Early Years Table'!A132=\"\",\"\",IF(ISBLANK('Early Years Table'!A132),\"\",'Early Years Table'!A132))","v":342},{"$f":"IF($A132=\"\",\"\",IF(ISBLANK($A132),\"\",INDEX('LEA Nos codes'!$A$3:$A$154,MATCH($A132,'LEA Nos codes'!$B$3:$B$154,0))))","v":"St. Helens"},{"$f":"IF($A132=\"\",\"\",IF(ISBLANK($A132),\"\",VLOOKUP($A132,Data!$A$4:$AI$155,24,FALSE)))","v":2070},{"$f":"IF($A132=\"\",\"\",IF(ISBLANK($A132),\"\",VLOOKUP($A132,Data!$A$4:$AI$155,25,FALSE)))","v":2020},{"$f":"IF($A132=\"\",\"\",IF(ISBLANK($A132),\"\",VLOOKUP($A132,Data!$A$4:$AI$155,26,FALSE)))","v":2170},{"$f":"IF($A132=\"\",\"\",IF(ISBLANK($A132),\"\",VLOOKUP($A132,Data!$A$4:$AI$155,27,FALSE)))","v":1.04},{"$f":"IF($A132=\"\",\"\",IF(ISBLANK($A132),\"\",VLOOKUP($A132,Data!$A$4:$AI$155,28,FALSE)))","v":1},{"$f":"IF($A132=\"\",\"\",IF(ISBLANK($A132),\"\",VLOOKUP($A132,Data!$A$4:$AI$155,29,FALSE)))","v":1.04}]
[{"$f":"IF('Early Years Table'!A133=\"\",\"\",IF(ISBLANK('Early Years Table'!A133),\"\",'Early Years Table'!A133))","v":860},{"$f":"IF($A133=\"\",\"\",IF(ISBLANK($A133),\"\",INDEX('LEA Nos codes'!$A$3:$A$154,MATCH($A133,'LEA Nos codes'!$B$3:$B$154,0))))","v":"Staffordshire"},{"$f":"IF($A133=\"\",\"\",IF(ISBLANK($A133),\"\",VLOOKUP($A133,Data!$A$4:$AI$155,24,FALSE)))","v":8930},{"$f":"IF($A133=\"\",\"\",IF(ISBLANK($A133),\"\",VLOOKUP($A133,Data!$A$4:$AI$155,25,FALSE)))","v":9410},{"$f":"IF($A133=\"\",\"\",IF(ISBLANK($A133),\"\",VLOOKUP($A133,Data!$A$4:$AI$155,26,FALSE)))","v":9570},{"$f":"IF($A133=\"\",\"\",IF(ISBLANK($A133),\"\",VLOOKUP($A133,Data!$A$4:$AI$155,27,FALSE)))","v":0.97},{"$f":"IF($A133=\"\",\"\",IF(ISBLANK($A133),\"\",VLOOKUP($A133,Data!$A$4:$AI$155,28,FALSE)))","v":1.01},{"$f":"IF($A133=\"\",\"\",IF(ISBLANK($A133),\"\",VLOOKUP($A133,Data!$A$4:$AI$155,29,FALSE)))","v":1.01}]
[{"$f":"IF('Early Years Table'!A134=\"\",\"\",IF(ISBLANK('Early Years Table'!A134),\"\",'Early Years Table'!A134))","v":356},{"$f":"IF($A134=\"\",\"\",IF(ISBLANK($A134),\"\",INDEX('LEA Nos codes'!$A$3:$A$154,MATCH($A134,'LEA Nos codes'!$B$3:$B$154,0))))","v":"Stockport"},{"$f":"IF($A134=\"\",\"\",IF(ISBLANK($A134),\"\",VLOOKUP($A134,Data!$A$4:$AI$155,24,FALSE)))","v":3520},{"$f":"IF($A134=\"\",\"\",IF(ISBLANK($A134),\"\",VLOOKUP($A134,Data!$A$4:$AI$155,25,FALSE)))","v":3480},{"$f":"IF($A134=\"\",\"\",IF(ISBLANK($A134),\"\",VLOOKUP($A134,Data!$A$4:$AI$155,26,FALSE)))","v":3640},{"$f":"IF($A134=\"\",\"\",IF(ISBLANK($A134),\"\",VLOOKUP($A134,Data!$A$4:$AI$155,27,FALSE)))","v":1.02},{"$f":"IF($A134=\"\",\"\",IF(ISBLANK($A134),\"\",VLOOKUP($A134,Data!$A$4:$AI$155,28,FALSE)))","v":0.99},{"$f":"IF($A134=\"\",\"\",IF(ISBLANK($A134),\"\",VLOOKUP($A134,Data!$A$4:$AI$155,29,FALSE)))","v":1.03}]
[{"$f":"IF('Early Years Table'!A135=\"\",\"\",IF(ISBLANK('Early Years Table'!A135),\"\",'Early Years Table'!A135))","v":808},{"$f":"IF($A135=\"\",\"\",IF(ISBLANK($A135),\"\",INDEX('LEA Nos codes'!$A$3:$A$154,MATCH($A135,'LEA Nos codes'!$B$3:$B$154,0))))","v":"Stockton-on-Tees"},{"$f":"IF($A135=\"\",\"\",IF(ISBLANK($A135),\"\",VLOOKUP($A135,Data!$A$4:$AI$155,24,FALSE)))","v":2460},{"$f":"IF($A135=\"\",\"\",IF(ISBLANK($A135),\"\",VLOOKUP($A135,Data!$A$4:$AI$155,25,FALSE)))","v":2390},{"$f":"IF($A135=\"\",\"\",IF(ISBLANK($A135),\"\",VLOOKUP($A135,Data!$A$4:$AI$155,26,FALSE)))","v":2520},{"$f":"IF($A135=\"\",\"\",IF(ISBLANK($A135),\"\",VLOOKUP($A135,Data!$A$4:$AI$155,27,FALSE)))","v":1.02},{"$f":"IF($A135=\"\",\"\",IF(ISBLANK($A135),\"\",VLOOKUP($A135,Data!$A$4:$AI$155,28,FALSE)))","v":0.98},{"$f":"IF($A135=\"\",\"\",IF(ISBLANK($A135),\"\",VLOOKUP($A135,Data!$A$4:$AI$155,29,FALSE)))","v":1.01}]
[{"$f":"IF('Early Years Table'!A136=\"\",\"\",IF(ISBLANK('Early Years Table'!A136),\"\",'Early Years Table'!A136))","v":861},{"$f":"IF($A136=\"\",\"\",IF(ISBLANK($A136),\"\",INDEX('LEA Nos codes'!$A$3:$A$154,MATCH($A136,'LEA Nos codes'!$B$3:$B$154,0))))","v":"Stoke-on-Trent"},{"$f":"IF($A136=\"\",\"\",IF(ISBLANK($A136),\"\",VLOOKUP($A136,Data!$A$4:$AI$155,24,FALSE)))","v":3030},{"$f":"IF($A136=\"\",\"\",IF(ISBLANK($A136),\"\",VLOOKUP($A136,Data!$A$4:$AI$155,25,FALSE)))","v":3200},{"$f":"IF($A136=\"\",\"\",IF(ISBLANK($A136),\"\",VLOOKUP($A136,Data!$A$4:$AI$155,26,FALSE)))","v":3390},{"$f":"IF($A136=\"\",\"\",IF(ISBLANK($A136),\"\",VLOOKUP($A136,Data!$A$4:$AI$155,27,FALSE)))","v":0.95},{"$f":"IF($A136=\"\",\"\",IF(ISBLANK($A136),\"\",VLOOKUP($A136,Data!$A$4:$AI$155,28,FALSE)))","v":0.95},{"$f":"IF($A136=\"\",\"\",IF(ISBLANK($A136),\"\",VLOOKUP($A136,Data!$A$4:$AI$155,29,FALSE)))","v":0.98}]
[{"$f":"IF('Early Years Table'!A137=\"\",\"\",IF(ISBLANK('Early Years Table'!A137),\"\",'Early Years Table'!A137))","v":935},{"$f":"IF($A137=\"\",\"\",IF(ISBLANK($A137),\"\",INDEX('LEA Nos codes'!$A$3:$A$154,MATCH($A137,'LEA Nos codes'!$B$3:$B$154,0))))","v":"Suffolk"},{"$f":"IF($A137=\"\",\"\",IF(ISBLANK($A137),\"\",VLOOKUP($A137,Data!$A$4:$AI$155,24,FALSE)))","v":7840},{"$f":"IF($A137=\"\",\"\",IF(ISBLANK($A137),\"\",VLOOKUP($A137,Data!$A$4:$AI$155,25,FALSE)))","v":8030},{"$f":"IF($A137=\"\",\"\",IF(ISBLANK($A137),\"\",VLOOKUP($A137,Data!$A$4:$AI$155,26,FALSE)))","v":8330},{"$f":"IF($A137=\"\",\"\",IF(ISBLANK($A137),\"\",VLOOKUP($A137,Data!$A$4:$AI$155,27,FALSE)))","v":0.95},{"$f":"IF($A137=\"\",\"\",IF(ISBLANK($A137),\"\",VLOOKUP($A137,Data!$A$4:$AI$155,28,FALSE)))","v":0.95},{"$f":"IF($A137=\"\",\"\",IF(ISBLANK($A137),\"\",VLOOKUP($A137,Data!$A$4:$AI$155,29,FALSE)))","v":0.96}]
[{"$f":"IF('Early Years Table'!A138=\"\",\"\",IF(ISBLANK('Early Years Table'!A138),\"\",'Early Years Table'!A138))","v":394},{"$f":"IF($A138=\"\",\"\",IF(ISBLANK($A138),\"\",INDEX('LEA Nos codes'!$A$3:$A$154,MATCH($A138,'LEA Nos codes'!$B$3:$B$154,0))))","v":"Sunderland"},{"$f":"IF($A138=\"\",\"\",IF(ISBLANK($A138),\"\",VLOOKUP($A138,Data!$A$4:$AI$155,24,FALSE)))","v":3170},{"$f":"IF($A138=\"\",\"\",IF(ISBLANK($A138),\"\",VLOOKUP($A138,Data!$A$4:$AI$155,25,FALSE)))","v":3190},{"$f":"IF($A138=\"\",\"\",IF(ISBLANK($A138),\"\",VLOOKUP($A138,Data!$A$4:$AI$155,26,FALSE)))","v":3280},{"$f":"IF($A138=\"\",\"\",IF(ISBLANK($A138),\"\",VLOOKUP($A138,Data!$A$4:$AI$155,27,FALSE)))","v":1.02},{"$f":"IF($A138=\"\",\"\",IF(ISBLANK($A138),\"\",VLOOKUP($A138,Data!$A$4:$AI$155,28,FALSE)))","v":1.02},{"$f":"IF($A138=\"\",\"\",IF(ISBLANK($A138),\"\",VLOOKUP($A138,Data!$A$4:$AI$155,29,FALSE)))","v":1.06}]
[{"$f":"IF('Early Years Table'!A139=\"\",\"\",IF(ISBLANK('Early Years Table'!A139),\"\",'Early Years Table'!A139))","v":936},{"$f":"IF($A139=\"\",\"\",IF(ISBLANK($A139),\"\",INDEX('LEA Nos codes'!$A$3:$A$154,MATCH($A139,'LEA Nos codes'!$B$3:$B$154,0))))","v":"Surrey"},{"$f":"IF($A139=\"\",\"\",IF(ISBLANK($A139),\"\",VLOOKUP($A139,Data!$A$4:$AI$155,24,FALSE)))","v":13540},{"$f":"IF($A139=\"\",\"\",IF(ISBLANK($A139),\"\",VLOOKUP($A139,Data!$A$4:$AI$155,25,FALSE)))","v":14270},{"$f":"IF($A139=\"\",\"\",IF(ISBLANK($A139),\"\",VLOOKUP($A139,Data!$A$4:$AI$155,26,FALSE)))","v":14440},{"$f":"IF($A139=\"\",\"\",IF(ISBLANK($A139),\"\",VLOOKUP($A139,Data!$A$4:$AI$155,27,FALSE)))","v":0.96},{"$f":"IF($A139=\"\",\"\",IF(ISBLANK($A139),\"\",VLOOKUP($A139,Data!$A$4:$AI$155,28,FALSE)))","v":0.99},{"$f":"IF($A139=\"\",\"\",IF(ISBLANK($A139),\"\",VLOOKUP($A139,Data!$A$4:$AI$155,29,FALSE)))","v":0.98}]
[{"$f":"IF('Early Years Table'!A140=\"\",\"\",IF(ISBLANK('Early Years Table'!A140),\"\",'Early Years Table'!A140))","v":319},{"$f":"IF($A140=\"\",\"\",IF(ISBLANK($A140),\"\",INDEX('LEA Nos codes'!$A$3:$A$154,MATCH($A140,'LEA Nos codes'!$B$3:$B$154,0))))","v":"Sutton"},{"$f":"IF($A140=\"\",\"\",IF(ISBLANK($A140),\"\",VLOOKUP($A140,Data!$A$4:$AI$155,24,FALSE)))","v":2210},{"$f":"IF($A140=\"\",\"\",IF(ISBLANK($A140),\"\",VLOOKUP($A140,Data!$A$4:$AI$155,25,FALSE)))","v":2370},{"$f":"IF($A140=\"\",\"\",IF(ISBLANK($A140),\"\",VLOOKUP($A140,Data!$A$4:$AI$155,26,FALSE)))","v":2440},{"$f":"IF($A140=\"\",\"\",IF(ISBLANK($A140),\"\",VLOOKUP($A140,Data!$A$4:$AI$155,27,FALSE)))","v":0.9},{"$f":"IF($A140=\"\",\"\",IF(ISBLANK($A140),\"\",VLOOKUP($A140,Data!$A$4:$AI$155,28,FALSE)))","v":0.94},{"$f":"IF($A140=\"\",\"\",IF(ISBLANK($A140),\"\",VLOOKUP($A140,Data!$A$4:$AI$155,29,FALSE)))","v":0.94}]
[{"$f":"IF('Early Years Table'!A141=\"\",\"\",IF(ISBLANK('Early Years Table'!A141),\"\",'Early Years Table'!A141))","v":866},{"$f":"IF($A141=\"\",\"\",IF(ISBLANK($A141),\"\",INDEX('LEA Nos codes'!$A$3:$A$154,MATCH($A141,'LEA Nos codes'!$B$3:$B$154,0))))","v":"Swindon"},{"$f":"IF($A141=\"\",\"\",IF(ISBLANK($A141),\"\",VLOOKUP($A141,Data!$A$4:$AI$155,24,FALSE)))","v":2560},{"$f":"IF($A141=\"\",\"\",IF(ISBLANK($A141),\"\",VLOOKUP($A141,Data!$A$4:$AI$155,25,FALSE)))","v":2830},{"$f":"IF($A141=\"\",\"\",IF(ISBLANK($A141),\"\",VLOOKUP($A141,Data!$A$4:$AI$155,26,FALSE)))","v":2800},{"$f":"IF($A141=\"\",\"\",IF(ISBLANK($A141),\"\",VLOOKUP($A141,Data!$A$4:$AI$155,27,FALSE)))","v":0.95},{"$f":"IF($A141=\"\",\"\",IF(ISBLANK($A141),\"\",VLOOKUP($A141,Data!$A$4:$AI$155,28,FALSE)))","v":1.01},{"$f":"IF($A141=\"\",\"\",IF(ISBLANK($A141),\"\",VLOOKUP($A141,Data!$A$4:$AI$155,29,FALSE)))","v":0.98}]
[{"$f":"IF('Early Years Table'!A142=\"\",\"\",IF(ISBLANK('Early Years Table'!A142),\"\",'Early Years Table'!A142))","v":357},{"$f":"IF($A142=\"\",\"\",IF(ISBLANK($A142),\"\",INDEX('LEA Nos codes'!$A$3:$A$154,MATCH($A142,'LEA Nos codes'!$B$3:$B$154,0))))","v":"Tameside"},{"$f":"IF($A142=\"\",\"\",IF(ISBLANK($A142),\"\",VLOOKUP($A142,Data!$A$4:$AI$155,24,FALSE)))","v":2760},{"$f":"IF($A142=\"\",\"\",IF(ISBLANK($A142),\"\",VLOOKUP($A142,Data!$A$4:$AI$155,25,FALSE)))","v":2880},{"$f":"IF($A142=\"\",\"\",IF(ISBLANK($A142),\"\",VLOOKUP($A142,Data!$A$4:$AI$155,26,FALSE)))","v":2890},{"$f":"IF($A142=\"\",\"\",IF(ISBLANK($A142),\"\",VLOOKUP($A142,Data!$A$4:$AI$155,27,FALSE)))","v":1.02},{"$f":"IF($A142=\"\",\"\",IF(ISBLANK($A142),\"\",VLOOKUP($A142,Data!$A$4:$AI$155,28,FALSE)))","v":1.03},{"$f":"IF($A142=\"\",\"\",IF(ISBLANK($A142),\"\",VLOOKUP($A142,Data!$A$4:$AI$155,29,FALSE)))","v":0.99}]
[{"$f":"IF('Early Years Table'!A143=\"\",\"\",IF(ISBLANK('Early Years Table'!A143),\"\",'Early Years Table'!A143))","v":894},{"$f":"IF($A143=\"\",\"\",IF(ISBLANK($A143),\"\",INDEX('LEA Nos codes'!$A$3:$A$154,MATCH($A143,'LEA Nos codes'!$B$3:$B$154,0))))","v":"Telford & Wrekin"},{"$f":"IF($A143=\"\",\"\",IF(ISBLANK($A143),\"\",VLOOKUP($A143,Data!$A$4:$AI$155,24,FALSE)))","v":2120},{"$f":"IF($A143=\"\",\"\",IF(ISBLANK($A143),\"\",VLOOKUP($A143,Data!$A$4:$AI$155,25,FALSE)))","v":2240},{"$f":"IF($A143=\"\",\"\",IF(ISBLANK($A143),\"\",VLOOKUP($A143,Data!$A$4:$AI$155,26,FALSE)))","v":2160},{"$f":"IF($A143=\"\",\"\",IF(ISBLANK($A143),\"\",VLOOKUP($A143,Data!$A$4:$AI$155,27,FALSE)))","v":0.96},{"$f":"IF($A143=\"\",\"\",IF(ISBLANK($A143),\"\",VLOOKUP($A143,Data!$A$4:$AI$155,28,FALSE)))","v":1},{"$f":"IF($A143=\"\",\"\",IF(ISBLANK($A143),\"\",VLOOKUP($A143,Data!$A$4:$AI$155,29,FALSE)))","v":0.96}]
[{"$f":"IF('Early Years Table'!A144=\"\",\"\",IF(ISBLANK('Early Years Table'!A144),\"\",'Early Years Table'!A144))","v":883},{"$f":"IF($A144=\"\",\"\",IF(ISBLANK($A144),\"\",INDEX('LEA Nos codes'!$A$3:$A$154,MATCH($A144,'LEA Nos codes'!$B$3:$B$154,0))))","v":"Thurrock"},{"$f":"IF($A144=\"\",\"\",IF(ISBLANK($A144),\"\",VLOOKUP($A144,Data!$A$4:$AI$155,24,FALSE)))","v":2000},{"$f":"IF($A144=\"\",\"\",IF(ISBLANK($A144),\"\",VLOOKUP($A144,Data!$A$4:$AI$155,25,FALSE)))","v":2260},{"$f":"IF($A144=\"\",\"\",IF(ISBLANK($A144),\"\",VLOOKUP($A144,Data!$A$4:$AI$155,26,FALSE)))","v":2290},{"$f":"IF($A144=\"\",\"\",IF(ISBLANK($A144),\"\",VLOOKUP($A144,Data!$A$4:$AI$155,27,FALSE)))","v":0.88},{"$f":"IF($A144=\"\",\"\",IF(ISBLANK($A144),\"\",VLOOKUP($A144,Data!$A$4:$AI$155,28,FALSE)))","v":0.94},{"$f":"IF($A144=\"\",\"\",IF(ISBLANK($A144),\"\",VLOOKUP($A144,Data!$A$4:$AI$155,29,FALSE)))","v":0.93}]
[{"$f":"IF('Early Years Table'!A145=\"\",\"\",IF(ISBLANK('Early Years Table'!A145),\"\",'Early Years Table'!A145))","v":880},{"$f":"IF($A145=\"\",\"\",IF(ISBLANK($A145),\"\",INDEX('LEA Nos codes'!$A$3:$A$154,MATCH($A145,'LEA Nos codes'!$B$3:$B$154,0))))","v":"Torbay"},{"$f":"IF($A145=\"\",\"\",IF(ISBLANK($A145),\"\",VLOOKUP($A145,Data!$A$4:$AI$155,24,FALSE)))","v":1330},{"$f":"IF($A145=\"\",\"\",IF(ISBLANK($A145),\"\",VLOOKUP($A145,Data!$A$4:$AI$155,25,FALSE)))","v":1420},{"$f":"IF($A145=\"\",\"\",IF(ISBLANK($A145),\"\",VLOOKUP($A145,Data!$A$4:$AI$155,26,FALSE)))","v":1420},{"$f":"IF($A145=\"\",\"\",IF(ISBLANK($A145),\"\",VLOOKUP($A145,Data!$A$4:$AI$155,27,FALSE)))","v":0.99},{"$f":"IF($A145=\"\",\"\",IF(ISBLANK($A145),\"\",VLOOKUP($A145,Data!$A$4:$AI$155,28,FALSE)))","v":1.05},{"$f":"IF($A145=\"\",\"\",IF(ISBLANK($A145),\"\",VLOOKUP($A145,Data!$A$4:$AI$155,29,FALSE)))","v":1.06}]
[{"$f":"IF('Early Years Table'!A146=\"\",\"\",IF(ISBLANK('Early Years Table'!A146),\"\",'Early Years Table'!A146))","v":211},{"$f":"IF($A146=\"\",\"\",IF(ISBLANK($A146),\"\",INDEX('LEA Nos codes'!$A$3:$A$154,MATCH($A146,'LEA Nos codes'!$B$3:$B$154,0))))","v":"Tower Hamlets"},{"$f":"IF($A146=\"\",\"\",IF(ISBLANK($A146),\"\",VLOOKUP($A146,Data!$A$4:$AI$155,24,FALSE)))","v":3420},{"$f":"IF($A146=\"\",\"\",IF(ISBLANK($A146),\"\",VLOOKUP($A146,Data!$A$4:$AI$155,25,FALSE)))","v":3480},{"$f":"IF($A146=\"\",\"\",IF(ISBLANK($A146),\"\",VLOOKUP($A146,Data!$A$4:$AI$155,26,FALSE)))","v":3530},{"$f":"IF($A146=\"\",\"\",IF(ISBLANK($A146),\"\",VLOOKUP($A146,Data!$A$4:$AI$155,27,FALSE)))","v":0.97},{"$f":"IF($A146=\"\",\"\",IF(ISBLANK($A146),\"\",VLOOKUP($A146,Data!$A$4:$AI$155,28,FALSE)))","v":0.99},{"$f":"IF($A146=\"\",\"\",IF(ISBLANK($A146),\"\",VLOOKUP($A146,Data!$A$4:$AI$155,29,FALSE)))","v":0.98}]
[{"$f":"IF('Early Years Table'!A147=\"\",\"\",IF(ISBLANK('Early Years Table'!A147),\"\",'Early Years Table'!A147))","v":358},{"$f":"IF($A147=\"\",\"\",IF(ISBLANK($A147),\"\",INDEX('LEA Nos codes'!$A$3:$A$154,MATCH($A147,'LEA Nos codes'!$B$3:$B$154,0))))","v":"Trafford"},{"$f":"IF($A147=\"\",\"\",IF(ISBLANK($A147),\"\",VLOOKUP($A147,Data!$A$4:$AI$155,24,FALSE)))","v":2870},{"$f":"IF($A147=\"\",\"\",IF(ISBLANK($A147),\"\",VLOOKUP($A147,Data!$A$4:$AI$155,25,FALSE)))","v":3010},{"$f":"IF($A147=\"\",\"\",IF(ISBLANK($A147),\"\",VLOOKUP($A147,Data!$A$4:$AI$155,26,FALSE)))","v":2980},{"$f":"IF($A147=\"\",\"\",IF(ISBLANK($A147),\"\",VLOOKUP($A147,Data!$A$4:$AI$155,27,FALSE)))","v":0.98},{"$f":"IF($A147=\"\",\"\",IF(ISBLANK($A147),\"\",VLOOKUP($A147,Data!$A$4:$AI$155,28,FALSE)))","v":1},{"$f":"IF($A147=\"\",\"\",IF(ISBLANK($A147),\"\",VLOOKUP($A147,Data!$A$4:$AI$155,29,FALSE)))","v":0.97}]
[{"$f":"IF('Early Years Table'!A148=\"\",\"\",IF(ISBLANK('Early Years Table'!A148),\"\",'Early Years Table'!A148))","v":384},{"$f":"IF($A148=\"\",\"\",IF(ISBLANK($A148),\"\",INDEX('LEA Nos codes'!$A$3:$A$154,MATCH($A148,'LEA Nos codes'!$B$3:$B$154,0))))","v":"Wakefield"},{"$f":"IF($A148=\"\",\"\",IF(ISBLANK($A148),\"\",VLOOKUP($A148,Data!$A$4:$AI$155,24,FALSE)))","v":3810},{"$f":"IF($A148=\"\",\"\",IF(ISBLANK($A148),\"\",VLOOKUP($A148,Data!$A$4:$AI$155,25,FALSE)))","v":3960},{"$f":"IF($A148=\"\",\"\",IF(ISBLANK($A148),\"\",VLOOKUP($A148,Data!$A$4:$AI$155,26,FALSE)))","v":4050},{"$f":"IF($A148=\"\",\"\",IF(ISBLANK($A148),\"\",VLOOKUP($A148,Data!$A$4:$AI$155,27,FALSE)))","v":1},{"$f":"IF($A148=\"\",\"\",IF(ISBLANK($A148),\"\",VLOOKUP($A148,Data!$A$4:$AI$155,28,FALSE)))","v":1.03},{"$f":"IF($A148=\"\",\"\",IF(ISBLANK($A148),\"\",VLOOKUP($A148,Data!$A$4:$AI$155,29,FALSE)))","v":1.02}]
[{"$f":"IF('Early Years Table'!A149=\"\",\"\",IF(ISBLANK('Early Years Table'!A149),\"\",'Early Years Table'!A149))","v":335},{"$f":"IF($A149=\"\",\"\",IF(ISBLANK($A149),\"\",INDEX('LEA Nos codes'!$A$3:$A$154,MATCH($A149,'LEA Nos codes'!$B$3:$B$154,0))))","v":"Walsall"},{"$f":"IF($A149=\"\",\"\",IF(ISBLANK($A149),\"\",VLOOKUP($A149,Data!$A$4:$AI$155,24,FALSE)))","v":3570},{"$f":"IF($A149=\"\",\"\",IF(ISBLANK($A149),\"\",VLOOKUP($A149,Data!$A$4:$AI$155,25,FALSE)))","v":3520},{"$f":"IF($A149=\"\",\"\",IF(ISBLANK($A149),\"\",VLOOKUP($A149,Data!$A$4:$AI$155,26,FALSE)))","v":3700},{"$f":"IF($A149=\"\",\"\",IF(ISBLANK($A149),\"\",VLOOKUP($A149,Data!$A$4:$AI$155,27,FALSE)))","v":0.99},{"$f":"IF($A149=\"\",\"\",IF(ISBLANK($A149),\"\",VLOOKUP($A149,Data!$A$4:$AI$155,28,FALSE)))","v":0.97},{"$f":"IF($A149=\"\",\"\",IF(ISBLANK($A149),\"\",VLOOKUP($A149,Data!$A$4:$AI$155,29,FALSE)))","v":0.99}]
[{"$f":"IF('Early Years Table'!A150=\"\",\"\",IF(ISBLANK('Early Years Table'!A150),\"\",'Early Years Table'!A150))","v":320},{"$f":"IF($A150=\"\",\"\",IF(ISBLANK($A150),\"\",INDEX('LEA Nos codes'!$A$3:$A$154,MATCH($A150,'LEA Nos codes'!$B$3:$B$154,0))))","v":"Waltham Forest"},{"$f":"IF($A150=\"\",\"\",IF(ISBLANK($A150),\"\",VLOOKUP($A150,Data!$A$4:$AI$155,24,FALSE)))","v":3520},{"$f":"IF($A150=\"\",\"\",IF(ISBLANK($A150),\"\",VLOOKUP($A150,Data!$A$4:$AI$155,25,FALSE)))","v":3750},{"$f":"IF($A150=\"\",\"\",IF(ISBLANK($A150),\"\",VLOOKUP($A150,Data!$A$4:$AI$155,26,FALSE)))","v":3860},{"$f":"IF($A150=\"\",\"\",IF(ISBLANK($A150),\"\",VLOOKUP($A150,Data!$A$4:$AI$155,27,FALSE)))","v":0.91},{"$f":"IF($A150=\"\",\"\",IF(ISBLANK($A150),\"\",VLOOKUP($A150,Data!$A$4:$AI$155,28,FALSE)))","v":0.93},{"$f":"IF($A150=\"\",\"\",IF(ISBLANK($A150),\"\",VLOOKUP($A150,Data!$A$4:$AI$155,29,FALSE)))","v":0.96}]
[{"$f":"IF('Early Years Table'!A151=\"\",\"\",IF(ISBLANK('Early Years Table'!A151),\"\",'Early Years Table'!A151))","v":212},{"$f":"IF($A151=\"\",\"\",IF(ISBLANK($A151),\"\",INDEX('LEA Nos codes'!$A$3:$A$154,MATCH($A151,'LEA Nos codes'!$B$3:$B$154,0))))","v":"Wandsworth"},{"$f":"IF($A151=\"\",\"\",IF(ISBLANK($A151),\"\",VLOOKUP($A151,Data!$A$4:$AI$155,24,FALSE)))","v":3520},{"$f":"IF($A151=\"\",\"\",IF(ISBLANK($A151),\"\",VLOOKUP($A151,Data!$A$4:$AI$155,25,FALSE)))","v":3600},{"$f":"IF($A151=\"\",\"\",IF(ISBLANK($A151),\"\",VLOOKUP($A151,Data!$A$4:$AI$155,26,FALSE)))","v":3760},{"$f":"IF($A151=\"\",\"\",IF(ISBLANK($A151),\"\",VLOOKUP($A151,Data!$A$4:$AI$155,27,FALSE)))","v":0.94},{"$f":"IF($A151=\"\",\"\",IF(ISBLANK($A151),\"\",VLOOKUP($A151,Data!$A$4:$AI$155,28,FALSE)))","v":0.94},{"$f":"IF($A151=\"\",\"\",IF(ISBLANK($A151),\"\",VLOOKUP($A151,Data!$A$4:$AI$155,29,FALSE)))","v":0.97}]
[{"$f":"IF('Early Years Table'!A152=\"\",\"\",IF(ISBLANK('Early Years Table'!A152),\"\",'Early Years Table'!A152))","v":877},{"$f":"IF($A152=\"\",\"\",IF(ISBLANK($A152),\"\",INDEX('LEA Nos codes'!$A$3:$A$154,MATCH($A152,'LEA Nos codes'!$B$3:$B$154,0))))","v":"Warrington"},{"$f":"IF($A152=\"\",\"\",IF(ISBLANK($A152),\"\",VLOOKUP($A152,Data!$A$4:$AI$155,24,FALSE)))","v":2390},{"$f":"IF($A152=\"\",\"\",IF(ISBLANK($A152),\"\",VLOOKUP($A152,Data!$A$4:$AI$155,25,FALSE)))","v":2560},{"$f":"IF($A152=\"\",\"\",IF(ISBLANK($A152),\"\",VLOOKUP($A152,Data!$A$4:$AI$155,26,FALSE)))","v":2560},{"$f":"IF($A152=\"\",\"\",IF(ISBLANK($A152),\"\",VLOOKUP($A152,Data!$A$4:$AI$155,27,FALSE)))","v":1},{"$f":"IF($A152=\"\",\"\",IF(ISBLANK($A152),\"\",VLOOKUP($A152,Data!$A$4:$AI$155,28,FALSE)))","v":1.04},{"$f":"IF($A152=\"\",\"\",IF(ISBLANK($A152),\"\",VLOOKUP($A152,Data!$A$4:$AI$155,29,FALSE)))","v":1.01}]
[{"$f":"IF('Early Years Table'!A153=\"\",\"\",IF(ISBLANK('Early Years Table'!A153),\"\",'Early Years Table'!A153))","v":937},{"$f":"IF($A153=\"\",\"\",IF(ISBLANK($A153),\"\",INDEX('LEA Nos codes'!$A$3:$A$154,MATCH($A153,'LEA Nos codes'!$B$3:$B$154,0))))","v":"Warwickshire"},{"$f":"IF($A153=\"\",\"\",IF(ISBLANK($A153),\"\",VLOOKUP($A153,Data!$A$4:$AI$155,24,FALSE)))","v":6190},{"$f":"IF($A153=\"\",\"\",IF(ISBLANK($A153),\"\",VLOOKUP($A153,Data!$A$4:$AI$155,25,FALSE)))","v":6190},{"$f":"IF($A153=\"\",\"\",IF(ISBLANK($A153),\"\",VLOOKUP($A153,Data!$A$4:$AI$155,26,FALSE)))","v":6430},{"$f":"IF($A153=\"\",\"\",IF(ISBLANK($A153),\"\",VLOOKUP($A153,Data!$A$4:$AI$155,27,FALSE)))","v":1.01},{"$f":"IF($A153=\"\",\"\",IF(ISBLANK($A153),\"\",VLOOKUP($A153,Data!$A$4:$AI$155,28,FALSE)))","v":0.98},{"$f":"IF($A153=\"\",\"\",IF(ISBLANK($A153),\"\",VLOOKUP($A153,Data!$A$4:$AI$155,29,FALSE)))","v":1}]
[{"$f":"IF('Early Years Table'!A154=\"\",\"\",IF(ISBLANK('Early Years Table'!A154),\"\",'Early Years Table'!A154))","v":869},{"$f":"IF($A154=\"\",\"\",IF(ISBLANK($A154),\"\",INDEX('LEA Nos codes'!$A$3:$A$154,MATCH($A154,'LEA Nos codes'!$B$3:$B$154,0))))","v":"West Berkshire"},{"$f":"IF($A154=\"\",\"\",IF(ISBLANK($A154),\"\",VLOOKUP($A154,Data!$A$4:$AI$155,24,FALSE)))","v":1890},{"$f":"IF($A154=\"\",\"\",IF(ISBLANK($A154),\"\",VLOOKUP($A154,Data!$A$4:$AI$155,25,FALSE)))","v":1990},{"$f":"IF($A154=\"\",\"\",IF(ISBLANK($A154),\"\",VLOOKUP($A154,Data!$A$4:$AI$155,26,FALSE)))","v":2020},{"$f":"IF($A154=\"\",\"\",IF(ISBLANK($A154),\"\",VLOOKUP($A154,Data!$A$4:$AI$155,27,FALSE)))","v":0.97},{"$f":"IF($A154=\"\",\"\",IF(ISBLANK($A154),\"\",VLOOKUP($A154,Data!$A$4:$AI$155,28,FALSE)))","v":0.98},{"$f":"IF($A154=\"\",\"\",IF(ISBLANK($A154),\"\",VLOOKUP($A154,Data!$A$4:$AI$155,29,FALSE)))","v":0.97}]
[{"$f":"IF('Early Years Table'!A155=\"\",\"\",IF(ISBLANK('Early Years Table'!A155),\"\",'Early Years Table'!A155))","v":938},{"$f":"IF($A155=\"\",\"\",IF(ISBLANK($A155),\"\",INDEX('LEA Nos codes'!$A$3:$A$154,MATCH($A155,'LEA Nos codes'!$B$3:$B$154,0))))","v":"West Sussex"},{"$f":"IF($A155=\"\",\"\",IF(ISBLANK($A155),\"\",VLOOKUP($A155,Data!$A$4:$AI$155,24,FALSE)))","v":8880},{"$f":"IF($A155=\"\",\"\",IF(ISBLANK($A155),\"\",VLOOKUP($A155,Data!$A$4:$AI$155,25,FALSE)))","v":9070},{"$f":"IF($A155=\"\",\"\",IF(ISBLANK($A155),\"\",VLOOKUP($A155,Data!$A$4:$AI$155,26,FALSE)))","v":9400},{"$f":"IF($A155=\"\",\"\",IF(ISBLANK($A155),\"\",VLOOKUP($A155,Data!$A$4:$AI$155,27,FALSE)))","v":0.98},{"$f":"IF($A155=\"\",\"\",IF(ISBLANK($A155),\"\",VLOOKUP($A155,Data!$A$4:$AI$155,28,FALSE)))","v":0.97},{"$f":"IF($A155=\"\",\"\",IF(ISBLANK($A155),\"\",VLOOKUP($A155,Data!$A$4:$AI$155,29,FALSE)))","v":0.98}]
[{"$f":"IF('Early Years Table'!A156=\"\",\"\",IF(ISBLANK('Early Years Table'!A156),\"\",'Early Years Table'!A156))","v":213},{"$f":"IF($A156=\"\",\"\",IF(ISBLANK($A156),\"\",INDEX('LEA Nos codes'!$A$3:$A$154,MATCH($A156,'LEA Nos codes'!$B$3:$B$154,0))))","v":"Westminster"},{"$f":"IF($A156=\"\",\"\",IF(ISBLANK($A156),\"\",VLOOKUP($A156,Data!$A$4:$AI$155,24,FALSE)))","v":1860},{"$f":"IF($A156=\"\",\"\",IF(ISBLANK($A156),\"\",VLOOKUP($A156,Data!$A$4:$AI$155,25,FALSE)))","v":1920},{"$f":"IF($A156=\"\",\"\",IF(ISBLANK($A156),\"\",VLOOKUP($A156,Data!$A$4:$AI$155,26,FALSE)))","v":1920},{"$f":"IF($A156=\"\",\"\",IF(ISBLANK($A156),\"\",VLOOKUP($A156,Data!$A$4:$AI$155,27,FALSE)))","v":0.82},{"$f":"IF($A156=\"\",\"\",IF(ISBLANK($A156),\"\",VLOOKUP($A156,Data!$A$4:$AI$155,28,FALSE)))","v":0.83},{"$f":"IF($A156=\"\",\"\",IF(ISBLANK($A156),\"\",VLOOKUP($A156,Data!$A$4:$AI$155,29,FALSE)))","v":0.81}]
[{"$f":"IF('Early Years Table'!A157=\"\",\"\",IF(ISBLANK('Early Years Table'!A157),\"\",'Early Years Table'!A157))","v":359},{"$f":"IF($A157=\"\",\"\",IF(ISBLANK($A157),\"\",INDEX('LEA Nos codes'!$A$3:$A$154,MATCH($A157,'LEA Nos codes'!$B$3:$B$154,0))))","v":"Wigan"},{"$f":"IF($A157=\"\",\"\",IF(ISBLANK($A157),\"\",VLOOKUP($A157,Data!$A$4:$AI$155,24,FALSE)))","v":3550},{"$f":"IF($A157=\"\",\"\",IF(ISBLANK($A157),\"\",VLOOKUP($A157,Data!$A$4:$AI$155,25,FALSE)))","v":3620},{"$f":"IF($A157=\"\",\"\",IF(ISBLANK($A157),\"\",VLOOKUP($A157,Data!$A$4:$AI$155,26,FALSE)))","v":3800},{"$f":"IF($A157=\"\",\"\",IF(ISBLANK($A157),\"\",VLOOKUP($A157,Data!$A$4:$AI$155,27,FALSE)))","v":0.92},{"$f":"IF($A157=\"\",\"\",IF(ISBLANK($A157),\"\",VLOOKUP($A157,Data!$A$4:$AI$155,28,FALSE)))","v":0.93},{"$f":"IF($A157=\"\",\"\",IF(ISBLANK($A157),\"\",VLOOKUP($A157,Data!$A$4:$AI$155,29,FALSE)))","v":0.95}]
[{"$f":"IF('Early Years Table'!A158=\"\",\"\",IF(ISBLANK('Early Years Table'!A158),\"\",'Early Years Table'!A158))","v":865},{"$f":"IF($A158=\"\",\"\",IF(ISBLANK($A158),\"\",INDEX('LEA Nos codes'!$A$3:$A$154,MATCH($A158,'LEA Nos codes'!$B$3:$B$154,0))))","v":"Wiltshire"},{"$f":"IF($A158=\"\",\"\",IF(ISBLANK($A158),\"\",VLOOKUP($A158,Data!$A$4:$AI$155,24,FALSE)))","v":5360},{"$f":"IF($A158=\"\",\"\",IF(ISBLANK($A158),\"\",VLOOKUP($A158,Data!$A$4:$AI$155,25,FALSE)))","v":5300},{"$f":"IF($A158=\"\",\"\",IF(ISBLANK($A158),\"\",VLOOKUP($A158,Data!$A$4:$AI$155,26,FALSE)))","v":5560},{"$f":"IF($A158=\"\",\"\",IF(ISBLANK($A158),\"\",VLOOKUP($A158,Data!$A$4:$AI$155,27,FALSE)))","v":0.96},{"$f":"IF($A158=\"\",\"\",IF(ISBLANK($A158),\"\",VLOOKUP($A158,Data!$A$4:$AI$155,28,FALSE)))","v":0.92},{"$f":"IF($A158=\"\",\"\",IF(ISBLANK($A158),\"\",VLOOKUP($A158,Data!$A$4:$AI$155,29,FALSE)))","v":0.95}]
[{"$f":"IF('Early Years Table'!A159=\"\",\"\",IF(ISBLANK('Early Years Table'!A159),\"\",'Early Years Table'!A159))","v":868},{"$f":"IF($A159=\"\",\"\",IF(ISBLANK($A159),\"\",INDEX('LEA Nos codes'!$A$3:$A$154,MATCH($A159,'LEA Nos codes'!$B$3:$B$154,0))))","v":"Windsor and Maidenhead"},{"$f":"IF($A159=\"\",\"\",IF(ISBLANK($A159),\"\",VLOOKUP($A159,Data!$A$4:$AI$155,24,FALSE)))","v":1720},{"$f":"IF($A159=\"\",\"\",IF(ISBLANK($A159),\"\",VLOOKUP($A159,Data!$A$4:$AI$155,25,FALSE)))","v":1880},{"$f":"IF($A159=\"\",\"\",IF(ISBLANK($A159),\"\",VLOOKUP($A159,Data!$A$4:$AI$155,26,FALSE)))","v":1930},{"$f":"IF($A159=\"\",\"\",IF(ISBLANK($A159),\"\",VLOOKUP($A159,Data!$A$4:$AI$155,27,FALSE)))","v":0.93},{"$f":"IF($A159=\"\",\"\",IF(ISBLANK($A159),\"\",VLOOKUP($A159,Data!$A$4:$AI$155,28,FALSE)))","v":1.02},{"$f":"IF($A159=\"\",\"\",IF(ISBLANK($A159),\"\",VLOOKUP($A159,Data!$A$4:$AI$155,29,FALSE)))","v":1.01}]
[{"$f":"IF('Early Years Table'!A160=\"\",\"\",IF(ISBLANK('Early Years Table'!A160),\"\",'Early Years Table'!A160))","v":344},{"$f":"IF($A160=\"\",\"\",IF(ISBLANK($A160),\"\",INDEX('LEA Nos codes'!$A$3:$A$154,MATCH($A160,'LEA Nos codes'!$B$3:$B$154,0))))","v":"Wirral"},{"$f":"IF($A160=\"\",\"\",IF(ISBLANK($A160),\"\",VLOOKUP($A160,Data!$A$4:$AI$155,24,FALSE)))","v":3690},{"$f":"IF($A160=\"\",\"\",IF(ISBLANK($A160),\"\",VLOOKUP($A160,Data!$A$4:$AI$155,25,FALSE)))","v":3310},{"$f":"IF($A160=\"\",\"\",IF(ISBLANK($A160),\"\",VLOOKUP($A160,Data!$A$4:$AI$155,26,FALSE)))","v":3840},{"$f":"IF($A160=\"\",\"\",IF(ISBLANK($A160),\"\",VLOOKUP($A160,Data!$A$4:$AI$155,27,FALSE)))","v":0.99},{"$f":"IF($A160=\"\",\"\",IF(ISBLANK($A160),\"\",VLOOKUP($A160,Data!$A$4:$AI$155,28,FALSE)))","v":0.88},{"$f":"IF($A160=\"\",\"\",IF(ISBLANK($A160),\"\",VLOOKUP($A160,Data!$A$4:$AI$155,29,FALSE)))","v":1.02}]
[{"$f":"IF('Early Years Table'!A161=\"\",\"\",IF(ISBLANK('Early Years Table'!A161),\"\",'Early Years Table'!A161))","v":872},{"$f":"IF($A161=\"\",\"\",IF(ISBLANK($A161),\"\",INDEX('LEA Nos codes'!$A$3:$A$154,MATCH($A161,'LEA Nos codes'!$B$3:$B$154,0))))","v":"Wokingham"},{"$f":"IF($A161=\"\",\"\",IF(ISBLANK($A161),\"\",VLOOKUP($A161,Data!$A$4:$AI$155,24,FALSE)))","v":1980},{"$f":"IF($A161=\"\",\"\",IF(ISBLANK($A161),\"\",VLOOKUP($A161,Data!$A$4:$AI$155,25,FALSE)))","v":2110},{"$f":"IF($A161=\"\",\"\",IF(ISBLANK($A161),\"\",VLOOKUP($A161,Data!$A$4:$AI$155,26,FALSE)))","v":2190},{"$f":"IF($A161=\"\",\"\",IF(ISBLANK($A161),\"\",VLOOKUP($A161,Data!$A$4:$AI$155,27,FALSE)))","v":1},{"$f":"IF($A161=\"\",\"\",IF(ISBLANK($A161),\"\",VLOOKUP($A161,Data!$A$4:$AI$155,28,FALSE)))","v":1.04},{"$f":"IF($A161=\"\",\"\",IF(ISBLANK($A161),\"\",VLOOKUP($A161,Data!$A$4:$AI$155,29,FALSE)))","v":1.04}]
[{"$f":"IF('Early Years Table'!A162=\"\",\"\",IF(ISBLANK('Early Years Table'!A162),\"\",'Early Years Table'!A162))","v":336},{"$f":"IF($A162=\"\",\"\",IF(ISBLANK($A162),\"\",INDEX('LEA Nos codes'!$A$3:$A$154,MATCH($A162,'LEA Nos codes'!$B$3:$B$154,0))))","v":"Wolverhampton"},{"$f":"IF($A162=\"\",\"\",IF(ISBLANK($A162),\"\",VLOOKUP($A162,Data!$A$4:$AI$155,24,FALSE)))","v":2980},{"$f":"IF($A162=\"\",\"\",IF(ISBLANK($A162),\"\",VLOOKUP($A162,Data!$A$4:$AI$155,25,FALSE)))","v":3180},{"$f":"IF($A162=\"\",\"\",IF(ISBLANK($A162),\"\",VLOOKUP($A162,Data!$A$4:$AI$155,26,FALSE)))","v":3100},{"$f":"IF($A162=\"\",\"\",IF(ISBLANK($A162),\"\",VLOOKUP($A162,Data!$A$4:$AI$155,27,FALSE)))","v":0.95},{"$f":"IF($A162=\"\",\"\",IF(ISBLANK($A162),\"\",VLOOKUP($A162,Data!$A$4:$AI$155,28,FALSE)))","v":0.98},{"$f":"IF($A162=\"\",\"\",IF(ISBLANK($A162),\"\",VLOOKUP($A162,Data!$A$4:$AI$155,29,FALSE)))","v":0.93}]
[{"$f":"IF('Early Years Table'!A163=\"\",\"\",IF(ISBLANK('Early Years Table'!A163),\"\",'Early Years Table'!A163))","v":885},{"$f":"IF($A163=\"\",\"\",IF(ISBLANK($A163),\"\",INDEX('LEA Nos codes'!$A$3:$A$154,MATCH($A163,'LEA Nos codes'!$B$3:$B$154,0))))","v":"Worcestershire"},{"$f":"IF($A163=\"\",\"\",IF(ISBLANK($A163),\"\",VLOOKUP($A163,Data!$A$4:$AI$155,24,FALSE)))","v":6110},{"$f":"IF($A163=\"\",\"\",IF(ISBLANK($A163),\"\",VLOOKUP($A163,Data!$A$4:$AI$155,25,FALSE)))","v":6410},{"$f":"IF($A163=\"\",\"\",IF(ISBLANK($A163),\"\",VLOOKUP($A163,Data!$A$4:$AI$155,26,FALSE)))","v":6480},{"$f":"IF($A163=\"\",\"\",IF(ISBLANK($A163),\"\",VLOOKUP($A163,Data!$A$4:$AI$155,27,FALSE)))","v":0.98},{"$f":"IF($A163=\"\",\"\",IF(ISBLANK($A163),\"\",VLOOKUP($A163,Data!$A$4:$AI$155,28,FALSE)))","v":1.02},{"$f":"IF($A163=\"\",\"\",IF(ISBLANK($A163),\"\",VLOOKUP($A163,Data!$A$4:$AI$155,29,FALSE)))","v":1.02}]
[{"$f":"IF('Early Years Table'!A164=\"\",\"\",IF(ISBLANK('Early Years Table'!A164),\"\",'Early Years Table'!A164))","v":816},{"$f":"IF($A164=\"\",\"\",IF(ISBLANK($A164),\"\",INDEX('LEA Nos codes'!$A$3:$A$154,MATCH($A164,'LEA Nos codes'!$B$3:$B$154,0))))","v":"York"},{"$f":"IF($A164=\"\",\"\",IF(ISBLANK($A164),\"\",VLOOKUP($A164,Data!$A$4:$AI$155,24,FALSE)))","v":2040},{"$f":"IF($A164=\"\",\"\",IF(ISBLANK($A164),\"\",VLOOKUP($A164,Data!$A$4:$AI$155,25,FALSE)))","v":2100},{"$f":"IF($A164=\"\",\"\",IF(ISBLANK($A164),\"\",VLOOKUP($A164,Data!$A$4:$AI$155,26,FALSE)))","v":2150},{"$f":"IF($A164=\"\",\"\",IF(ISBLANK($A164),\"\",VLOOKUP($A164,Data!$A$4:$AI$155,27,FALSE)))","v":0.99},{"$f":"IF($A164=\"\",\"\",IF(ISBLANK($A164),\"\",VLOOKUP($A164,Data!$A$4:$AI$155,28,FALSE)))","v":0.99},{"$f":"IF($A164=\"\",\"\",IF(ISBLANK($A164),\"\",VLOOKUP($A164,Data!$A$4:$AI$155,29,FALSE)))","v":1.01}]
[]
[]
["Source: DfE: Provision for Children Under Five Years of Age in England - January 2013"]
["https://www.gov.uk/government/publications/provision-for-children-under-5-years-of-age-in-england-january-2013"]
[]
["1. All children are eligible for a free part-time funded place from 1 September, 1 January or 1 April following their third birthday for up to two years before they reach compulsory school age"]
["   - A funded place currently consists of a minimum of 15 hours of free early education per week for 38 weeks of the year. "]
["   - Free places can be accessed in a variety of settings in the maintained and private, voluntary and independent sectors."]
["   - Local Authorities make funding available to all providers to enable them to provide free places."]
["2. Count of children aged four at 31st December in the previous calendar year."]
["3. Any child attending more than one provider will have only been counted once."]
[".. Not available"]
["x Value suppressed to protect confidentiality"]
[]
["Note:  Some caution should be exercised when comparing take-up rates at local authority level."]
["Please see technical notes for further information on population estimates and rates which exceed 100%"]

{"sheet":"4YO Take up ","index":9,"n_rows":180,"n_cols":15,"rows_kept":180,"cut":false,"hidden":true,"merged":[[3,2,3,4],[3,5,3,7],[167,0,167,8]]}
["Early Years Benchmarking - Take Up1",null,null,null,null,null,null,null,null,null,null,null,null,null,"Return to contents"]
["Four year olds2,3 benefiting from funded early education",null,null,null,null,null,null,null,null,null,null,null,null,null,"Return to instructions"]
["All LAs"]
[null,null,"Number",null,null,"Percentage"]
[null,null,2011,2012,2013,2011,2012,2013]
["England - Average (mean) or Total",null,620150,638970,658190,0.96,0.97,0.98]
["England - Average (median)",null,3170,3295,3390,0.97,0.98,0.99]
["England - Minimum",null,20,30,20,0.77,0.72,0.71]
["England - Maximum",null,16890,17230,17900,1.1100000000000001,1.21,1.1599999999999999]
["Selection - Average (median)",null,3170,3295,3390,0.97,0.98,0.99]
["Selection - Minimum",null,20,30,20,0.77,0.72,0.71]
["Selection - Maximum",null,16890,17230,17900,1.1100000000000001,1.21,1.1599999999999999]
[301,"Barking and Dagenham",3270,3380,3590,0.92,0.9,0.95]
[302,"Barnet",4120,4390,4570,0.83,0.86,0.87]
[370,"Barnsley",2720,2710,2740,0.99,0.98,0.98]
[800,"Bath & North East Somerset",1890,1900,1910,1,1.01,1.03]
[822,"Bedford Borough",2040,2070,2220,1.05,1.05,1.07]
[303,"Bexley",2940,3190,3200,0.99,1.03,1.02]
[330,"Birmingham",14970,15750,15950,0.94,0.97,0.96]
[889,"Blackburn with Darwen",2170,2190,2190,0.98,0.97,0.95]
[890,"Blackpool",1610,1660,1700,1,1.03,1.02]
[350,"Bolton",3650,3740,3890,0.99,1.01,1.03]
[837,"Bournemouth",1810,1900,2000,1.03,0.97,0.98]
[867,"Bracknell Forest",1430,1460,1550,0.95,0.92,0.95]
[380,"Bradford",7600,7740,8100,0.94,0.95,0.98]
[304,"Brent",3750,3880,4040,0.89,0.9,0.93]
[846,"Brighton and Hove",2850,3010,3030,0.99,1.02,1.02]
[305,"Bromley",3790,3920,4100,0.96,0.98,1]
[825,"Buckinghamshire",6010,6160,6410,0.95,0.95,0.96]
[351,"Bury",2320,2390,2420,0.98,0.99,0.97]
[381,"Calderdale",2660,2700,2780,1.04,1.05,1.06]
[873,"Cambridgeshire",6750,7170,7260,0.95,0.98,0.96]
[202,"Camden",1950,1990,2040,0.82,0.81,0.82]
[823,"Central Bedfordshire",3170,3260,3470,0.99,1,1.04]
[895,"Cheshire East",4110,4060,4320,1,0.98,1.03]
[896,"Cheshire West and Chester",3710,3920,3880,1.01,1.06,1.06]
[801,"City of Bristol",4930,5160,5460,0.93,0.93,0.96]
[810,"City of Kingston Upon Hull",3130,3210,3340,0.98,0.96,0.97]
[201,"City of London",30,30,50,0.81,0.72,1.1499999999999999]
[908,"Cornwall",5480,5440,5710,1.01,1,1.02]
[331,"Coventry",4120,4240,4450,0.99,0.98,1]
[306,"Croydon",4820,5110,5150,0.93,0.92,0.92]
[909,"Cumbria",5110,5170,5270,1,1.01,1.03]
[841,"Darlington",1290,1260,1320,1,0.99,1]
[831,"Derby",3180,3170,3390,0.96,0.9,0.95]
[830,"Derbyshire",8220,8380,8690,0.98,1,1.02]
[878,"Devon",7380,7570,7710,0.98,1,1.01]
[371,"Doncaster",3550,3650,3730,0.96,0.96,0.95]
[835,"Dorset",3890,4070,4180,0.99,1.01,1.03]
[332,"Dudley",3580,3620,3800,0.96,0.97,0.99]
[840,"Durham",5430,5580,5640,0.98,0.98,0.98]
[307,"Ealing",4460,4720,4860,0.95,0.96,0.99]
[811,"East Riding of Yorkshire",3480,3570,3540,1.05,1.05,1.04]
[845,"East Sussex",5320,5460,5520,0.96,0.98,0.98]
[308,"Enfield",4280,4660,4730,0.91,0.95,0.95]
[881,"Essex",15970,16460,16750,0.98,1,0.99]
[390,"Gateshead",2210,2150,2280,0.97,0.95,0.98]
[916,"Gloucestershire",6590,6610,6930,1.01,0.98,1.01]
[203,"Greenwich",3540,3720,3710,0.9,0.92,0.9]
[204,"Hackney",3310,3330,3520,0.9,0.94,0.99]
[876,"Halton",1530,1510,1540,0.91,0.92,0.93]
[205,"Hammersmith and Fulham",1970,1920,1940,0.9,0.89,0.9]
[850,"Hampshire",14680,14900,15350,0.96,0.96,0.97]
[309,"Haringey",3120,3280,3300,0.89,0.95,0.95]
[310,"Harrow",2730,2870,3010,0.88,0.9,0.92]
[805,"Hartlepool",1160,1140,1170,1.02,0.99,1.01]
[311,"Havering",2720,2890,3050,1,1.04,1.05]
[884,"Herefordshire",1780,1900,1890,0.97,1,0.96]
[919,"Hertfordshire",13820,14080,14670,0.97,0.96,0.97]
[312,"Hillingdon",3850,4000,4150,1.02,1.02,1.02]
[313,"Hounslow",3150,3360,3580,0.88,0.89,0.92]
[921,"Isle of Wight",1370,1280,1290,1.01,0.99,0.99]
[420,"Isles of Scilly",20,40,20,0.77,1.21,0.71]
[206,"Islington",2190,2230,2250,0.98,0.96,0.98]
[207,"Kensington and Chelsea",1400,1370,1350,0.78,0.79,0.78]
[886,"Kent",16890,17230,17900,0.96,0.96,0.98]
[314,"Kingston upon Thames",1850,2100,2150,0.91,0.99,0.95]
[382,"Kirklees",5380,5520,5600,0.97,0.98,0.98]
[340,"Knowsley",1820,1810,1850,0.99,1,1.01]
[208,"Lambeth",3390,3410,3520,0.88,0.89,0.9]
[888,"Lancashire",13230,13490,13890,0.98,0.99,0.99]
[383,"Leeds",9060,9140,9620,1,1,1.01]
[856,"Leicester",4310,4520,4660,0.93,0.96,0.96]
[855,"Leicestershire",7130,7310,7390,0.98,0.99,1]
[209,"Lewisham",3530,3650,3810,0.87,0.87,0.89]
[925,"Lincolnshire",7300,7500,8070,1,1.01,1.05]
[341,"Liverpool",5030,4960,5220,1.02,0.98,1.01]
[821,"Luton",3090,3270,3320,0.98,1,0.99]
[352,"Manchester",6390,6580,6750,0.94,0.94,0.96]
[887,"Medway",3150,3340,3380,0.93,0.99,0.97]
[315,"Merton",2600,2880,2860,0.94,1.02,1.01]
[806,"Middlesbrough",1810,1880,1850,0.97,1.01,1]
[826,"Milton Keynes",3460,3610,3780,0.93,0.92,0.93]
[391,"Newcastle upon Tyne",2960,3120,3160,0.97,0.98,0.97]
[316,"Newham",4600,4940,4980,0.95,1.01,1.02]
[926,"Norfolk",8660,8880,9390,0.98,0.96,0.99]
[812,"North East Lincolnshire",1900,1920,1940,0.97,0.98,0.98]
[813,"North Lincolnshire",1920,1900,1950,0.94,0.92,0.92]
[802,"North Somerset",2290,2410,2420,0.98,1.03,0.99]
[392,"North Tyneside",2370,2250,2460,1.02,0.97,1.03]
[815,"North Yorkshire",6080,6090,6500,0.97,0.96,1.02]
[928,"Northamptonshire",8700,9070,9350,0.97,0.98,0.99]
[929,"Northumberland",3300,3310,3420,1.03,1.02,1.02]
[892,"Nottingham",3480,3630,3660,0.93,0.94,0.93]
[891,"Nottinghamshire",8800,9030,9220,0.99,1,1]
[353,"Oldham",3280,3390,3330,1.01,1.02,1]
[931,"Oxfordshire",7740,7960,8030,0.98,0.98,0.98]
[874,"Peterborough",2540,2680,2920,1,0.99,1.05]
[879,"Plymouth",2930,3040,3020,1.02,1.02,0.99]
[836,"Poole",1460,1550,1590,0.9,0.91,0.92]
[851,"Portsmouth",2360,2380,2500,0.95,0.92,0.95]
[870,"Reading",1820,1990,2110,0.87,0.88,0.9]
[317,"Redbridge",4070,4280,4270,0.99,0.99,0.96]
[807,"Redcar and Cleveland",1540,1560,1590,0.99,1.05,1.07]
[318,"Richmond upon Thames",2650,2740,2850,1.03,1.02,1.02]
[354,"Rochdale",2770,2930,2930,0.94,0.99,0.99]
[372,"Rotherham",3020,3260,3310,0.98,1.03,1.01]
[857,"Rutland",400,390,380,1.02,1.03,1.05]
[355,"Salford",3050,3090,3390,1.01,0.98,1.07]
[333,"Sandwell",3980,4220,4560,0.91,0.94,0.97]
[343,"Sefton",2860,2930,2910,1,1.01,1]
[373,"Sheffield",6100,6290,6390,0.93,0.94,0.94]
[893,"Shropshire",2970,3030,3050,0.96,0.94,0.95]
[871,"Slough",2070,2250,2350,0.88,0.9,0.95]
[334,"Solihull",2630,2710,2780,1.1100000000000001,1.1299999999999999,1.1599999999999999]
[933,"Somerset",5570,5720,5870,0.99,0.99,0.99]
[803,"South Gloucestershire",3090,3250,3350,1,1.01,1]
[393,"South Tyneside",1550,1640,1640,0.97,1.02,0.99]
[852,"Southampton",2710,2870,2990,0.98,0.99,1]
[882,"Southend-on-Sea",2060,2110,2170,0.97,0.95,0.95]
[210,"Southwark",3510,3450,3670,0.93,0.89,0.94]
[342,"St. Helens",2070,2020,2170,1.04,1,1.04]
[860,"Staffordshire",8930,9410,9570,0.97,1.01,1.01]
[356,"Stockport",3520,3480,3640,1.02,0.99,1.03]
[808,"Stockton-on-Tees",2460,2390,2520,1.02,0.98,1.01]
[861,"Stoke-on-Trent",3030,3200,3390,0.95,0.95,0.98]
[935,"Suffolk",7840,8030,8330,0.95,0.95,0.96]
[394,"Sunderland",3170,3190,3280,1.02,1.02,1.06]
[936,"Surrey",13540,14270,14440,0.96,0.99,0.98]
[319,"Sutton",2210,2370,2440,0.9,0.94,0.94]
[866,"Swindon",2560,2830,2800,0.95,1.01,0.98]
[357,"Tameside",2760,2880,2890,1.02,1.03,0.99]
[894,"Telford & Wrekin",2120,2240,2160,0.96,1,0.96]
[883,"Thurrock",2000,2260,2290,0.88,0.94,0.93]
[880,"Torbay",1330,1420,1420,0.99,1.05,1.06]
[211,"Tower Hamlets",3420,3480,3530,0.97,0.99,0.98]
[358,"Trafford",2870,3010,2980,0.98,1,0.97]
[384,"Wakefield",3810,3960,4050,1,1.03,1.02]
[335,"Walsall",3570,3520,3700,0.99,0.97,0.99]
[320,"Waltham Forest",3520,3750,3860,0.91,0.93,0.96]
[212,"Wandsworth",3520,3600,3760,0.94,0.94,0.97]
[877,"Warrington",2390,2560,2560,1,1.04,1.01]
[937,"Warwickshire",6190,6190,6430,1.01,0.98,1]
[869,"West Berkshire",1890,1990,2020,0.97,0.98,0.97]
[938,"West Sussex",8880,9070,9400,0.98,0.97,0.98]
[213,"Westminster",1860,1920,1920,0.82,0.83,0.81]
[359,"Wigan",3550,3620,3800,0.92,0.93,0.95]
[865,"Wiltshire",5360,5300,5560,0.96,0.92,0.95]
[868,"Windsor and Maidenhead",1720,1880,1930,0.93,1.02,1.01]
[344,"Wirral",3690,3310,3840,0.99,0.88,1.02]
[872,"Wokingham",1980,2110,2190,1,1.04,1.04]
[336,"Wolverhampton",2980,3180,3100,0.95,0.98,0.93]
[885,"Worcestershire",6110,6410,6480,0.98,1.02,1.02]
[816,"York",2040,2100,2150,0.99,0.99,1.01]
[]
[]
["Source: DfE: Provision for Children Under Five Years of Age in England - January 2013"]
["https://www.gov.uk/government/publications/provision-for-children-under-5-years-of-age-in-england-january-2013"]
[]
["1. All children are eligible for a free part-time funded place from 1 September, 1 January or 1 April following their third birthday for up to two years before they reach compulsory school age"]
["   - A funded place currently consists of a minimum of 15 hours of free early education per week for 38 weeks of the year. "]
["   - Free places can be accessed in a variety of settings in the maintained and private, voluntary and independent sectors."]
["   - Local Authorities make funding available to all providers to enable them to provide free places."]
["2. Count of children aged four at 31st December in the previous calendar year."]
["3. Any child attending more than one provider will have only been counted once."]
[".. Not available"]
["x Value suppressed to protect confidentiality"]
[]
["Note:  Some caution should be exercised when comparing take-up rates at local authority level."]
["Please see technical notes for further information on population estimates and rates which exceed 100%"]

{"sheet":"3+4YO Take up","index":10,"n_rows":180,"n_cols":15,"rows_kept":180,"cut":false,"hidden":true,"merged":[[3,2,3,4],[3,5,3,7],[167,0,167,8]]}
["Early Years Benchmarking - Take Up1",null,null,null,null,null,null,null,null,null,null,null,null,null,"Return to contents"]
["Three and four year olds2,3 benefiting from funded early education",null,null,null,null,null,null,null,null,null,null,null,null,null,"Return to instructions"]
[{"$f":"'Early Years Table'!A2","v":"All LAs"}]
[null,null,"Number",null,null,"Percentage"]
[null,null,{"$f":"Data!AD3","v":2011},{"$f":"Data!AE3","v":2012},{"$f":"Data!AF3","v":2013},{"$f":"Data!AG3","v":2011},{"$f":"Data!AH3","v":2012},{"$f":"Data!AI3","v":2013}]
["England - Average (mean) or Total",null,{"$f":"Data!AD157","v":1224470},{"$f":"Data!AE157","v":1264420},{"$f":"Data!AF157","v":1283500},{"$f":"Data!AG157","v":0.94},{"$f":"Data!AH157","v":0.95},{"$f":"Data!AI157","v":0.96}]
["England - Average (median)",null,{"$f":"Data!AD158","v":6210},{"$f":"Data!AE158","v":6460},{"$f":"Data!AF158","v":6610},{"$f":"Data!AG158","v":0.95},{"$f":"Data!AH158","v":0.96},{"$f":"Data!AI158","v":0.97}]
["England - Minimum",null,{"$f":"Data!AD159","v":60},{"$f":"Data!AE159","v":60},{"$f":"Data!AF159","v":40},{"$f":"Data!AG159","v":0.75},{"$f":"Data!AH159","v":0.77},{"$f":"Data!AI159","v":0.79}]
["England - Maximum",null,{"$f":"Data!AD160","v":33140},{"$f":"Data!AE160","v":34090},{"$f":"Data!AF160","v":35000},{"$f":"Data!AG160","v":1.23},{"$f":"Data!AH160","v":1.1200000000000001},{"$f":"Data!AI160","v":1.1499999999999999}]
["Selection - Average (median)",null,{"$f":"MEDIAN(C13:C164)","v":6210},6460,6610,0.95,0.96,0.97]
["Selection - Minimum",null,{"$f":"MIN(C13:C164)","v":60},60,40,0.75,0.77,0.79]
["Selection - Maximum",null,{"$f":"MAX(C13:C164)","v":33140},34090,35000,1.23,1.1200000000000001,1.1499999999999999]
[{"$f":"IF('Early Years Table'!A13=\"\",\"\",IF(ISBLANK('Early Years Table'!A13),\"\",'Early Years Table'!A13))","v":301},{"$f":"IF($A13=\"\",\"\",IF(ISBLANK($A13),\"\",INDEX('LEA Nos codes'!$A$3:$A$154,MATCH($A13,'LEA Nos codes'!$B$3:$B$154,0))))","v":"Barking and Dagenham"},{"$f":"IF($A13=\"\",\"\",IF(ISBLANK($A13),\"\",VLOOKUP($A13,Data!$A$4:$AI$155,30,FALSE)))","v":5850},{"$f":"IF($A13=\"\",\"\",IF(ISBLANK($A13),\"\",VLOOKUP($A13,Data!$A$4:$AI$155,31,FALSE)))","v":6360},{"$f":"IF($A13=\"\",\"\",IF(ISBLANK($A13),\"\",VLOOKUP($A13,Data!$A$4:$AI$155,32,FALSE)))","v":6690},{"$f":"IF($A13=\"\",\"\",IF(ISBLANK($A13),\"\",VLOOKUP($A13,Data!$A$4:$AI$155,33,FALSE)))","v":0.8},{"$f":"IF($A13=\"\",\"\",IF(ISBLANK($A13),\"\",VLOOKUP($A13,Data!$A$4:$AI$155,34,FALSE)))","v":0.84},{"$f":"IF($A13=\"\",\"\",IF(ISBLANK($A13),\"\",VLOOKUP($A13,Data!$A$4:$AI$155,35,FALSE)))","v":0.89}]
[{"$f":"IF('Early Years Table'!A14=\"\",\"\",IF(ISBLANK('Early Years Table'!A14),\"\",'Early Years Table'!A14))","v":302},{"$f":"IF($A14=\"\",\"\",IF(ISBLANK($A14),\"\",INDEX('LEA Nos codes'!$A$3:$A$154,MATCH($A14,'LEA Nos codes'!$B$3:$B$154,0))))","v":"Barnet"},{"$f":"IF($A14=\"\",\"\",IF(ISBLANK($A14),\"\",VLOOKUP($A14,Data!$A$4:$AI$155,30,FALSE)))","v":8220},{"$f":"IF($A14=\"\",\"\",IF(ISBLANK($A14),\"\",VLOOKUP($A14,Data!$A$4:$AI$155,31,FALSE)))","v":8730},{"$f":"IF($A14=\"\",\"\",IF(ISBLANK($A14),\"\",VLOOKUP($A14,Data!$A$4:$AI$155,32,FALSE)))","v":8890},{"$f":"IF($A14=\"\",\"\",IF(ISBLANK($A14),\"\",VLOOKUP($A14,Data!$A$4:$AI$155,33,FALSE)))","v":0.82},{"$f":"IF($A14=\"\",\"\",IF(ISBLANK($A14),\"\",VLOOKUP($A14,Data!$A$4:$AI$155,34,FALSE)))","v":0.84},{"$f":"IF($A14=\"\",\"\",IF(ISBLANK($A14),\"\",VLOOKUP($A14,Data!$A$4:$AI$155,35,FALSE)))","v":0.84}]
[{"$f":"IF('Early Years Table'!A15=\"\",\"\",IF(ISBLANK('Early Years Table'!A15),\"\",'Early Years Table'!A15))","v":370},{"$f":"IF($A15=\"\",\"\",IF(ISBLANK($A15),\"\",INDEX('LEA Nos codes'!$A$3:$A$154,MATCH($A15,'LEA Nos codes'!$B$3:$B$154,0))))","v":"Barnsley"},{"$f":"IF($A15=\"\",\"\",IF(ISBLANK($A15),\"\",VLOOKUP($A15,Data!$A$4:$AI$155,30,FALSE)))","v":5370},{"$f":"IF($A15=\"\",\"\",IF(ISBLANK($A15),\"\",VLOOKUP($A15,Data!$A$4:$AI$155,31,FALSE)))","v":5420},{"$f":"IF($A15=\"\",\"\",IF(ISBLANK($A15),\"\",VLOOKUP($A15,Data!$A$4:$AI$155,32,FALSE)))","v":5460},{"$f":"IF($A15=\"\",\"\",IF(ISBLANK($A15),\"\",VLOOKUP($A15,Data!$A$4:$AI$155,33,FALSE)))","v":0.97},{"$f":"IF($A15=\"\",\"\",IF(ISBLANK($A15),\"\",VLOOKUP($A15,Data!$A$4:$AI$155,34,FALSE)))","v":0.98},{"$f":"IF($A15=\"\",\"\",IF(ISBLANK($A15),\"\",VLOOKUP($A15,Data!$A$4:$AI$155,35,FALSE)))","v":0.97}]
[{"$f":"IF('Early Years Table'!A16=\"\",\"\",IF(ISBLANK('Early Years Table'!A16),\"\",'Early Years Table'!A16))","v":800},{"$f":"IF($A16=\"\",\"\",IF(ISBLANK($A16),\"\",INDEX('LEA Nos codes'!$A$3:$A$154,MATCH($A16,'LEA Nos codes'!$B$3:$B$154,0))))","v":"Bath & North East Somerset"},{"$f":"IF($A16=\"\",\"\",IF(ISBLANK($A16),\"\",VLOOKUP($A16,Data!$A$4:$AI$155,30,FALSE)))","v":3800},{"$f":"IF($A16=\"\",\"\",IF(ISBLANK($A16),\"\",VLOOKUP($A16,Data!$A$4:$AI$155,31,FALSE)))","v":3810},{"$f":"IF($A16=\"\",\"\",IF(ISBLANK($A16),\"\",VLOOKUP($A16,Data!$A$4:$AI$155,32,FALSE)))","v":3760},{"$f":"IF($A16=\"\",\"\",IF(ISBLANK($A16),\"\",VLOOKUP($A16,Data!$A$4:$AI$155,33,FALSE)))","v":1.01},{"$f":"IF($A16=\"\",\"\",IF(ISBLANK($A16),\"\",VLOOKUP($A16,Data!$A$4:$AI$155,34,FALSE)))","v":1.03},{"$f":"IF($A16=\"\",\"\",IF(ISBLANK($A16),\"\",VLOOKUP($A16,Data!$A$4:$AI$155,35,FALSE)))","v":1.03}]
[{"$f":"IF('Early Years Table'!A17=\"\",\"\",IF(ISBLANK('Early Years Table'!A17),\"\",'Early Years Table'!A17))","v":822},{"$f":"IF($A17=\"\",\"\",IF(ISBLANK($A17),\"\",INDEX('LEA Nos codes'!$A$3:$A$154,MATCH($A17,'LEA Nos codes'!$B$3:$B$154,0))))","v":"Bedford Borough"},{"$f":"IF($A17=\"\",\"\",IF(ISBLANK($A17),\"\",VLOOKUP($A17,Data!$A$4:$AI$155,30,FALSE)))","v":3920},{"$f":"IF($A17=\"\",\"\",IF(ISBLANK($A17),\"\",VLOOKUP($A17,Data!$A$4:$AI$155,31,FALSE)))","v":4160},{"$f":"IF($A17=\"\",\"\",IF(ISBLANK($A17),\"\",VLOOKUP($A17,Data!$A$4:$AI$155,32,FALSE)))","v":4430},{"$f":"IF($A17=\"\",\"\",IF(ISBLANK($A17),\"\",VLOOKUP($A17,Data!$A$4:$AI$155,33,FALSE)))","v":1.01},{"$f":"IF($A17=\"\",\"\",IF(ISBLANK($A17),\"\",VLOOKUP($A17,Data!$A$4:$AI$155,34,FALSE)))","v":1.03},{"$f":"IF($A17=\"\",\"\",IF(ISBLANK($A17),\"\",VLOOKUP($A17,Data!$A$4:$AI$155,35,FALSE)))","v":1.06}]
[{"$f":"IF('Early Years Table'!A18=\"\",\"\",IF(ISBLANK('Early Years Table'!A18),\"\",'Early Years Table'!A18))","v":303},{"$f":"IF($A18=\"\",\"\",IF(ISBLANK($A18),\"\",INDEX('LEA Nos codes'!$A$3:$A$154,MATCH($A18,'LEA Nos codes'!$B$3:$B$154,0))))","v":"Bexley"},{"$f":"IF($A18=\"\",\"\",IF(ISBLANK($A18),\"\",VLOOKUP($A18,Data!$A$4:$AI$155,30,FALSE)))","v":5720},{"$f":"IF($A18=\"\",\"\",IF(ISBLANK($A18),\"\",VLOOKUP($A18,Data!$A$4:$AI$155,31,FALSE)))","v":6000},{"$f":"IF($A18=\"\",\"\",IF(ISBLANK($A18),\"\",VLOOKUP($A18,Data!$A$4:$AI$155,32,FALSE)))","v":6080},{"$f":"IF($A18=\"\",\"\",IF(ISBLANK($A18),\"\",VLOOKUP($A18,Data!$A$4:$AI$155,33,FALSE)))","v":0.95},{"$f":"IF($A18=\"\",\"\",IF(ISBLANK($A18),\"\",VLOOKUP($A18,Data!$A$4:$AI$155,34,FALSE)))","v":0.97},{"$f":"IF($A18=\"\",\"\",IF(ISBLANK($A18),\"\",VLOOKUP($A18,Data!$A$4:$AI$155,35,FALSE)))","v":0.98}]
[{"$f":"IF('Early Years Table'!A19=\"\",\"\",IF(ISBLANK('Early Years Table'!A19),\"\",'Early Years Table'!A19))","v":330},{"$f":"IF($A19=\"\",\"\",IF(ISBLANK($A19),\"\",INDEX('LEA Nos codes'!$A$3:$A$154,MATCH($A19,'LEA Nos codes'!$B$3:$B$154,0))))","v":"Birmingham"},{"$f":"IF($A19=\"\",\"\",IF(ISBLANK($A19),\"\",VLOOKUP($A19,Data!$A$4:$AI$155,30,FALSE)))","v":28330},{"$f":"IF($A19=\"\",\"\",IF(ISBLANK($A19),\"\",VLOOKUP($A19,Data!$A$4:$AI$155,31,FALSE)))","v":29800},{"$f":"IF($A19=\"\",\"\",IF(ISBLANK($A19),\"\",VLOOKUP($A19,Data!$A$4:$AI$155,32,FALSE)))","v":30220},{"$f":"IF($A19=\"\",\"\",IF(ISBLANK($A19),\"\",VLOOKUP($A19,Data!$A$4:$AI$155,33,FALSE)))","v":0.88},{"$f":"IF($A19=\"\",\"\",IF(ISBLANK($A19),\"\",VLOOKUP($A19,Data!$A$4:$AI$155,34,FALSE)))","v":0.91},{"$f":"IF($A19=\"\",\"\",IF(ISBLANK($A19),\"\",VLOOKUP($A19,Data!$A$4:$AI$155,35,FALSE)))","v":0.92}]
[{"$f":"IF('Early Years Table'!A20=\"\",\"\",IF(ISBLANK('Early Years Table'!A20),\"\",'Early Years Table'!A20))","v":889},{"$f":"IF($A20=\"\",\"\",IF(ISBLANK($A20),\"\",INDEX('LEA Nos codes'!$A$3:$A$154,MATCH($A20,'LEA Nos codes'!$B$3:$B$154,0))))","v":"Blackburn with Darwen"},{"$f":"IF($A20=\"\",\"\",IF(ISBLANK($A20),\"\",VLOOKUP($A20,Data!$A$4:$AI$155,30,FALSE)))","v":4200},{"$f":"IF($A20=\"\",\"\",IF(ISBLANK($A20),\"\",VLOOKUP($A20,Data!$A$4:$AI$155,31,FALSE)))","v":4220},{"$f":"IF($A20=\"\",\"\",IF(ISBLANK($A20),\"\",VLOOKUP($A20,Data!$A$4:$AI$155,32,FALSE)))","v":4280},{"$f":"IF($A20=\"\",\"\",IF(ISBLANK($A20),\"\",VLOOKUP($A20,Data!$A$4:$AI$155,33,FALSE)))","v":0.93},{"$f":"IF($A20=\"\",\"\",IF(ISBLANK($A20),\"\",VLOOKUP($A20,Data!$A$4:$AI$155,34,FALSE)))","v":0.92},{"$f":"IF($A20=\"\",\"\",IF(ISBLANK($A20),\"\",VLOOKUP($A20,Data!$A$4:$AI$155,35,FALSE)))","v":0.94}]
[{"$f":"IF('Early Years Table'!A21=\"\",\"\",IF(ISBLANK('Early Years Table'!A21),\"\",'Early Years Table'!A21))","v":890},{"$f":"IF($A21=\"\",\"\",IF(ISBLANK($A21),\"\",INDEX('LEA Nos codes'!$A$3:$A$154,MATCH($A21,'LEA Nos codes'!$B$3:$B$154,0))))","v":"Blackpool"},{"$f":"IF($A21=\"\",\"\",IF(ISBLANK($A21),\"\",VLOOKUP($A21,Data!$A$4:$AI$155,30,FALSE)))","v":3180},{"$f":"IF($A21=\"\",\"\",IF(ISBLANK($A21),\"\",VLOOKUP($A21,Data!$A$4:$AI$155,31,FALSE)))","v":3320},{"$f":"IF($A21=\"\",\"\",IF(ISBLANK($A21),\"\",VLOOKUP($A21,Data!$A$4:$AI$155,32,FALSE)))","v":3190},{"$f":"IF($A21=\"\",\"\",IF(ISBLANK($A21),\"\",VLOOKUP($A21,Data!$A$4:$AI$155,33,FALSE)))","v":0.98},{"$f":"IF($A21=\"\",\"\",IF(ISBLANK($A21),\"\",VLOOKUP($A21,Data!$A$4:$AI$155,34,FALSE)))","v":1.01},{"$f":"IF($A21=\"\",\"\",IF(ISBLANK($A21),\"\",VLOOKUP($A21,Data!$A$4:$AI$155,35,FALSE)))","v":0.95}]
[{"$f":"IF('Early Years Table'!A22=\"\",\"\",IF(ISBLANK('Early Years Table'!A22),\"\",'Early Years Table'!A22))","v":350},{"$f":"IF($A22=\"\",\"\",IF(ISBLANK($A22),\"\",INDEX('LEA Nos codes'!$A$3:$A$154,MATCH($A22,'LEA Nos codes'!$B$3:$B$154,0))))","v":"Bolton"},{"$f":"IF($A22=\"\",\"\",IF(ISBLANK($A22),\"\",VLOOKUP($A22,Data!$A$4:$AI$155,30,FALSE)))","v":7120},{"$f":"IF($A22=\"\",\"\",IF(ISBLANK($A22),\"\",VLOOKUP($A22,Data!$A$4:$AI$155,31,FALSE)))","v":7460},{"$f":"IF($A22=\"\",\"\",IF(ISBLANK($A22),\"\",VLOOKUP($A22,Data!$A$4:$AI$155,32,FALSE)))","v":7560},{"$f":"IF($A22=\"\",\"\",IF(ISBLANK($A22),\"\",VLOOKUP($A22,Data!$A$4:$AI$155,33,FALSE)))","v":0.96},{"$f":"IF($A22=\"\",\"\",IF(ISBLANK($A22),\"\",VLOOKUP($A22,Data!$A$4:$AI$155,34,FALSE)))","v":1},{"$f":"IF($A22=\"\",\"\",IF(ISBLANK($A22),\"\",VLOOKUP($A22,Data!$A$4:$AI$155,35,FALSE)))","v":1}]
[{"$f":"IF('Early Years Table'!A23=\"\",\"\",IF(ISBLANK('Early Years Table'!A23),\"\",'Early Years Table'!A23))","v":837},{"$f":"IF($A23=\"\",\"\",IF(ISBLANK($A23),\"\",INDEX('LEA Nos codes'!$A$3:$A$154,MATCH($A23,'LEA Nos codes'!$B$3:$B$154,0))))","v":"Bournemouth"},{"$f":"IF($A23=\"\",\"\",IF(ISBLANK($A23),\"\",VLOOKUP($A23,Data!$A$4:$AI$155,30,FALSE)))","v":3670},{"$f":"IF($A23=\"\",\"\",IF(ISBLANK($A23),\"\",VLOOKUP($A23,Data!$A$4:$AI$155,31,FALSE)))","v":3880},{"$f":"IF($A23=\"\",\"\",IF(ISBLANK($A23),\"\",VLOOKUP($A23,Data!$A$4:$AI$155,32,FALSE)))","v":4020},{"$f":"IF($A23=\"\",\"\",IF(ISBLANK($A23),\"\",VLOOKUP($A23,Data!$A$4:$AI$155,33,FALSE)))","v":1},{"$f":"IF($A23=\"\",\"\",IF(ISBLANK($A23),\"\",VLOOKUP($A23,Data!$A$4:$AI$155,34,FALSE)))","v":0.96},{"$f":"IF($A23=\"\",\"\",IF(ISBLANK($A23),\"\",VLOOKUP($A23,Data!$A$4:$AI$155,35,FALSE)))","v":0.99}]
[{"$f":"IF('Early Years Table'!A24=\"\",\"\",IF(ISBLANK('Early Years Table'!A24),\"\",'Early Years Table'!A24))","v":867},{"$f":"IF($A24=\"\",\"\",IF(ISBLANK($A24),\"\",INDEX('LEA Nos codes'!$A$3:$A$154,MATCH($A24,'LEA Nos codes'!$B$3:$B$154,0))))","v":"Bracknell Forest"},{"$f":"IF($A24=\"\",\"\",IF(ISBLANK($A24),\"\",VLOOKUP($A24,Data!$A$4:$AI$155,30,FALSE)))","v":2860},{"$f":"IF($A24=\"\",\"\",IF(ISBLANK($A24),\"\",VLOOKUP($A24,Data!$A$4:$AI$155,31,FALSE)))","v":2970},{"$f":"IF($A24=\"\",\"\",IF(ISBLANK($A24),\"\",VLOOKUP($A24,Data!$A$4:$AI$155,32,FALSE)))","v":2990},{"$f":"IF($A24=\"\",\"\",IF(ISBLANK($A24),\"\",VLOOKUP($A24,Data!$A$4:$AI$155,33,FALSE)))","v":0.93},{"$f":"IF($A24=\"\",\"\",IF(ISBLANK($A24),\"\",VLOOKUP($A24,Data!$A$4:$AI$155,34,FALSE)))","v":0.92},{"$f":"IF($A24=\"\",\"\",IF(ISBLANK($A24),\"\",VLOOKUP($A24,Data!$A$4:$AI$155,35,FALSE)))","v":0.91}]
[{"$f":"IF('Early Years Table'!A25=\"\",\"\",IF(ISBLANK('Early Years Table'!A25),\"\",'Early Years Table'!A25))","v":380},{"$f":"IF($A25=\"\",\"\",IF(ISBLANK($A25),\"\",INDEX('LEA Nos codes'!$A$3:$A$154,MATCH($A25,'LEA Nos codes'!$B$3:$B$154,0))))","v":"Bradford"},{"$f":"IF($A25=\"\",\"\",IF(ISBLANK($A25),\"\",VLOOKUP($A25,Data!$A$4:$AI$155,30,FALSE)))","v":14920},{"$f":"IF($A25=\"\",\"\",IF(ISBLANK($A25),\"\",VLOOKUP($A25,Data!$A$4:$AI$155,31,FALSE)))","v":15510},{"$f":"IF($A25=\"\",\"\",IF(ISBLANK($A25),\"\",VLOOKUP($A25,Data!$A$4:$AI$155,32,FALSE)))","v":15790},{"$f":"IF($A25=\"\",\"\",IF(ISBLANK($A25),\"\",VLOOKUP($A25,Data!$A$4:$AI$155,33,FALSE)))","v":0.91},{"$f":"IF($A25=\"\",\"\",IF(ISBLANK($A25),\"\",VLOOKUP($A25,Data!$A$4:$AI$155,34,FALSE)))","v":0.94},{"$f":"IF($A25=\"\",\"\",IF(ISBLANK($A25),\"\",VLOOKUP($A25,Data!$A$4:$AI$155,35,FALSE)))","v":0.95}]
[{"$f":"IF('Early Years Table'!A26=\"\",\"\",IF(ISBLANK('Early Years Table'!A26),\"\",'Early Years Table'!A26))","v":304},{"$f":"IF($A26=\"\",\"\",IF(ISBLANK($A26),\"\",INDEX('LEA Nos codes'!$A$3:$A$154,MATCH($A26,'LEA Nos codes'!$B$3:$B$154,0))))","v":"Brent"},{"$f":"IF($A26=\"\",\"\",IF(ISBLANK($A26),\"\",VLOOKUP($A26,Data!$A$4:$AI$155,30,FALSE)))","v":7050},{"$f":"IF($A26=\"\",\"\",IF(ISBLANK($A26),\"\",VLOOKUP($A26,Data!$A$4:$AI$155,31,FALSE)))","v":7390},{"$f":"IF($A26=\"\",\"\",IF(ISBLANK($A26),\"\",VLOOKUP($A26,Data!$A$4:$AI$155,32,FALSE)))","v":7730},{"$f":"IF($A26=\"\",\"\",IF(ISBLANK($A26),\"\",VLOOKUP($A26,Data!$A$4:$AI$155,33,FALSE)))","v":0.82},{"$f":"IF($A26=\"\",\"\",IF(ISBLANK($A26),\"\",VLOOKUP($A26,Data!$A$4:$AI$155,34,FALSE)))","v":0.84},{"$f":"IF($A26=\"\",\"\",IF(ISBLANK($A26),\"\",VLOOKUP($A26,Data!$A$4:$AI$155,35,FALSE)))","v":0.89}]
[{"$f":"IF('Early Years Table'!A27=\"\",\"\",IF(ISBLANK('Early Years Table'!A27),\"\",'Early Years Table'!A27))","v":846},{"$f":"IF($A27=\"\",\"\",IF(ISBLANK($A27),\"\",INDEX('LEA Nos codes'!$A$3:$A$154,MATCH($A27,'LEA Nos codes'!$B$3:$B$154,0))))","v":"Brighton and Hove"},{"$f":"IF($A27=\"\",\"\",IF(ISBLANK($A27),\"\",VLOOKUP($A27,Data!$A$4:$AI$155,30,FALSE)))","v":5840},{"$f":"IF($A27=\"\",\"\",IF(ISBLANK($A27),\"\",VLOOKUP($A27,Data!$A$4:$AI$155,31,FALSE)))","v":6060},{"$f":"IF($A27=\"\",\"\",IF(ISBLANK($A27),\"\",VLOOKUP($A27,Data!$A$4:$AI$155,32,FALSE)))","v":6090},{"$f":"IF($A27=\"\",\"\",IF(ISBLANK($A27),\"\",VLOOKUP($A27,Data!$A$4:$AI$155,33,FALSE)))","v":1},{"$f":"IF($A27=\"\",\"\",IF(ISBLANK($A27),\"\",VLOOKUP($A27,Data!$A$4:$AI$155,34,FALSE)))","v":1.01},{"$f":"IF($A27=\"\",\"\",IF(ISBLANK($A27),\"\",VLOOKUP($A27,Data!$A$4:$AI$155,35,FALSE)))","v":1.03}]
[{"$f":"IF('Early Years Table'!A28=\"\",\"\",IF(ISBLANK('Early Years Table'!A28),\"\",'Early Years Table'!A28))","v":305},{"$f":"IF($A28=\"\",\"\",IF(ISBLANK($A28),\"\",INDEX('LEA Nos codes'!$A$3:$A$154,MATCH($A28,'LEA Nos codes'!$B$3:$B$154,0))))","v":"Bromley"},{"$f":"IF($A28=\"\",\"\",IF(ISBLANK($A28),\"\",VLOOKUP($A28,Data!$A$4:$AI$155,30,FALSE)))","v":7540},{"$f":"IF($A28=\"\",\"\",IF(ISBLANK($A28),\"\",VLOOKUP($A28,Data!$A$4:$AI$155,31,FALSE)))","v":7840},{"$f":"IF($A28=\"\",\"\",IF(ISBLANK($A28),\"\",VLOOKUP($A28,Data!$A$4:$AI$155,32,FALSE)))","v":8110},{"$f":"IF($A28=\"\",\"\",IF(ISBLANK($A28),\"\",VLOOKUP($A28,Data!$A$4:$AI$155,33,FALSE)))","v":0.95},{"$f":"IF($A28=\"\",\"\",IF(ISBLANK($A28),\"\",VLOOKUP($A28,Data!$A$4:$AI$155,34,FALSE)))","v":0.97},{"$f":"IF($A28=\"\",\"\",IF(ISBLANK($A28),\"\",VLOOKUP($A28,Data!$A$4:$AI$155,35,FALSE)))","v":0.99}]
[{"$f":"IF('Early Years Table'!A29=\"\",\"\",IF(ISBLANK('Early Years Table'!A29),\"\",'Early Years Table'!A29))","v":825},{"$f":"IF($A29=\"\",\"\",IF(ISBLANK($A29),\"\",INDEX('LEA Nos codes'!$A$3:$A$154,MATCH($A29,'LEA Nos codes'!$B$3:$B$154,0))))","v":"Buckinghamshire"},{"$f":"IF($A29=\"\",\"\",IF(ISBLANK($A29),\"\",VLOOKUP($A29,Data!$A$4:$AI$155,30,FALSE)))","v":11890},{"$f":"IF($A29=\"\",\"\",IF(ISBLANK($A29),\"\",VLOOKUP($A29,Data!$A$4:$AI$155,31,FALSE)))","v":12320},{"$f":"IF($A29=\"\",\"\",IF(ISBLANK($A29),\"\",VLOOKUP($A29,Data!$A$4:$AI$155,32,FALSE)))","v":12560},{"$f":"IF($A29=\"\",\"\",IF(ISBLANK($A29),\"\",VLOOKUP($A29,Data!$A$4:$AI$155,33,FALSE)))","v":0.93},{"$f":"IF($A29=\"\",\"\",IF(ISBLANK($A29),\"\",VLOOKUP($A29,Data!$A$4:$AI$155,34,FALSE)))","v":0.95},{"$f":"IF($A29=\"\",\"\",IF(ISBLANK($A29),\"\",VLOOKUP($A29,Data!$A$4:$AI$155,35,FALSE)))","v":0.96}]
[{"$f":"IF('Early Years Table'!A30=\"\",\"\",IF(ISBLANK('Early Years Table'!A30),\"\",'Early Years Table'!A30))","v":351},{"$f":"IF($A30=\"\",\"\",IF(ISBLANK($A30),\"\",INDEX('LEA Nos codes'!$A$3:$A$154,MATCH($A30,'LEA Nos codes'!$B$3:$B$154,0))))","v":"Bury"},{"$f":"IF($A30=\"\",\"\",IF(ISBLANK($A30),\"\",VLOOKUP($A30,Data!$A$4:$AI$155,30,FALSE)))","v":4540},{"$f":"IF($A30=\"\",\"\",IF(ISBLANK($A30),\"\",VLOOKUP($A30,Data!$A$4:$AI$155,31,FALSE)))","v":4700},{"$f":"IF($A30=\"\",\"\",IF(ISBLANK($A30),\"\",VLOOKUP($A30,Data!$A$4:$AI$155,32,FALSE)))","v":4730},{"$f":"IF($A30=\"\",\"\",IF(ISBLANK($A30),\"\",VLOOKUP($A30,Data!$A$4:$AI$155,33,FALSE)))","v":0.95},{"$f":"IF($A30=\"\",\"\",IF(ISBLANK($A30),\"\",VLOOKUP($A30,Data!$A$4:$AI$155,34,FALSE)))","v":0.96},{"$f":"IF($A30=\"\",\"\",IF(ISBLANK($A30),\"\",VLOOKUP($A30,Data!$A$4:$AI$155,35,FALSE)))","v":0.96}]
[{"$f":"IF('Early Years Table'!A31=\"\",\"\",IF(ISBLANK('Early Years Table'!A31),\"\",'Early Years Table'!A31))","v":381},{"$f":"IF($A31=\"\",\"\",IF(ISBLANK($A31),\"\",INDEX('LEA Nos codes'!$A$3:$A$154,MATCH($A31,'LEA Nos codes'!$B$3:$B$154,0))))","v":"Calderdale"},{"$f":"IF($A31=\"\",\"\",IF(ISBLANK($A31),\"\",VLOOKUP($A31,Data!$A$4:$AI$155,30,FALSE)))","v":5160},{"$f":"IF($A31=\"\",\"\",IF(ISBLANK($A31),\"\",VLOOKUP($A31,Data!$A$4:$AI$155,31,FALSE)))","v":5420},{"$f":"IF($A31=\"\",\"\",IF(ISBLANK($A31),\"\",VLOOKUP($A31,Data!$A$4:$AI$155,32,FALSE)))","v":5420},{"$f":"IF($A31=\"\",\"\",IF(ISBLANK($A31),\"\",VLOOKUP($A31,Data!$A$4:$AI$155,33,FALSE)))","v":1},{"$f":"IF($A31=\"\",\"\",IF(ISBLANK($A31),\"\",VLOOKUP($A31,Data!$A$4:$AI$155,34,FALSE)))","v":1.05},{"$f":"IF($A31=\"\",\"\",IF(ISBLANK($A31),\"\",VLOOKUP($A31,Data!$A$4:$AI$155,35,FALSE)))","v":1.03}]
[{"$f":"IF('Early Years Table'!A32=\"\",\"\",IF(ISBLANK('Early Years Table'!A32),\"\",'Early Years Table'!A32))","v":873},{"$f":"IF($A32=\"\",\"\",IF(ISBLANK($A32),\"\",INDEX('LEA Nos codes'!$A$3:$A$154,MATCH($A32,'LEA Nos codes'!$B$3:$B$154,0))))","v":"Cambridgeshire"},{"$f":"IF($A32=\"\",\"\",IF(ISBLANK($A32),\"\",VLOOKUP($A32,Data!$A$4:$AI$155,30,FALSE)))","v":13630},{"$f":"IF($A32=\"\",\"\",IF(ISBLANK($A32),\"\",VLOOKUP($A32,Data!$A$4:$AI$155,31,FALSE)))","v":14370},{"$f":"IF($A32=\"\",\"\",IF(ISBLANK($A32),\"\",VLOOKUP($A32,Data!$A$4:$AI$155,32,FALSE)))","v":14350},{"$f":"IF($A32=\"\",\"\",IF(ISBLANK($A32),\"\",VLOOKUP($A32,Data!$A$4:$AI$155,33,FALSE)))","v":0.95},{"$f":"IF($A32=\"\",\"\",IF(ISBLANK($A32),\"\",VLOOKUP($A32,Data!$A$4:$AI$155,34,FALSE)))","v":0.97},{"$f":"IF($A32=\"\",\"\",IF(ISBLANK($A32),\"\",VLOOKUP($A32,Data!$A$4:$AI$155,35,FALSE)))","v":0.95}]
[{"$f":"IF('Early Years Table'!A33=\"\",\"\",IF(ISBLANK('Early Years Table'!A33),\"\",'Early Years Table'!A33))","v":202},{"$f":"IF($A33=\"\",\"\",IF(ISBLANK($A33),\"\",INDEX('LEA Nos codes'!$A$3:$A$154,MATCH($A33,'LEA Nos codes'!$B$3:$B$154,0))))","v":"Camden"},{"$f":"IF($A33=\"\",\"\",IF(ISBLANK($A33),\"\",VLOOKUP($A33,Data!$A$4:$AI$155,30,FALSE)))","v":4060},{"$f":"IF($A33=\"\",\"\",IF(ISBLANK($A33),\"\",VLOOKUP($A33,Data!$A$4:$AI$155,31,FALSE)))","v":3900},{"$f":"IF($A33=\"\",\"\",IF(ISBLANK($A33),\"\",VLOOKUP($A33,Data!$A$4:$AI$155,32,FALSE)))","v":4090},{"$f":"IF($A33=\"\",\"\",IF(ISBLANK($A33),\"\",VLOOKUP($A33,Data!$A$4:$AI$155,33,FALSE)))","v":0.83},{"$f":"IF($A33=\"\",\"\",IF(ISBLANK($A33),\"\",VLOOKUP($A33,Data!$A$4:$AI$155,34,FALSE)))","v":0.77},{"$f":"IF($A33=\"\",\"\",IF(ISBLANK($A33),\"\",VLOOKUP($A33,Data!$A$4:$AI$155,35,FALSE)))","v":0.82}]
[{"$f":"IF('Early Years Table'!A34=\"\",\"\",IF(ISBLANK('Early Years Table'!A34),\"\",'Early Years Table'!A34))","v":823},{"$f":"IF($A34=\"\",\"\",IF(ISBLANK($A34),\"\",INDEX('LEA Nos codes'!$A$3:$A$154,MATCH($A34,'LEA Nos codes'!$B$3:$B$154,0))))","v":"Central Bedfordshire"},{"$f":"IF($A34=\"\",\"\",IF(ISBLANK($A34),\"\",VLOOKUP($A34,Data!$A$4:$AI$155,30,FALSE)))","v":6230},{"$f":"IF($A34=\"\",\"\",IF(ISBLANK($A34),\"\",VLOOKUP($A34,Data!$A$4:$AI$155,31,FALSE)))","v":6550},{"$f":"IF($A34=\"\",\"\",IF(ISBLANK($A34),\"\",VLOOKUP($A34,Data!$A$4:$AI$155,32,FALSE)))","v":6610},{"$f":"IF($A34=\"\",\"\",IF(ISBLANK($A34),\"\",VLOOKUP($A34,Data!$A$4:$AI$155,33,FALSE)))","v":0.97},{"$f":"IF($A34=\"\",\"\",IF(ISBLANK($A34),\"\",VLOOKUP($A34,Data!$A$4:$AI$155,34,FALSE)))","v":1},{"$f":"IF($A34=\"\",\"\",IF(ISBLANK($A34),\"\",VLOOKUP($A34,Data!$A$4:$AI$155,35,FALSE)))","v":1.01}]
[{"$f":"IF('Early Years Table'!A35=\"\",\"\",IF(ISBLANK('Early Years Table'!A35),\"\",'Early Years Table'!A35))","v":895},{"$f":"IF($A35=\"\",\"\",IF(ISBLANK($A35),\"\",INDEX('LEA Nos codes'!$A$3:$A$154,MATCH($A35,'LEA Nos codes'!$B$3:$B$154,0))))","v":"Cheshire East"},{"$f":"IF($A35=\"\",\"\",IF(ISBLANK($A35),\"\",VLOOKUP($A35,Data!$A$4:$AI$155,30,FALSE)))","v":8080},{"$f":"IF($A35=\"\",\"\",IF(ISBLANK($A35),\"\",VLOOKUP($A35,Data!$A$4:$AI$155,31,FALSE)))","v":8290},{"$f":"IF($A35=\"\",\"\",IF(ISBLANK($A35),\"\",VLOOKUP($A35,Data!$A$4:$AI$155,32,FALSE)))","v":8500},{"$f":"IF($A35=\"\",\"\",IF(ISBLANK($A35),\"\",VLOOKUP($A35,Data!$A$4:$AI$155,33,FALSE)))","v":0.99},{"$f":"IF($A35=\"\",\"\",IF(ISBLANK($A35),\"\",VLOOKUP($A35,Data!$A$4:$AI$155,34,FALSE)))","v":1},{"$f":"IF($A35=\"\",\"\",IF(ISBLANK($A35),\"\",VLOOKUP($A35,Data!$A$4:$AI$155,35,FALSE)))","v":1.04}]
[{"$f":"IF('Early Years Table'!A36=\"\",\"\",IF(ISBLANK('Early Years Table'!A36),\"\",'Early Years Table'!A36))","v":896},{"$f":"IF($A36=\"\",\"\",IF(ISBLANK($A36),\"\",INDEX('LEA Nos codes'!$A$3:$A$154,MATCH($A36,'LEA Nos codes'!$B$3:$B$154,0))))","v":"Cheshire West and Chester"},{"$f":"IF($A36=\"\",\"\",IF(ISBLANK($A36),\"\",VLOOKUP($A36,Data!$A$4:$AI$155,30,FALSE)))","v":7490},{"$f":"IF($A36=\"\",\"\",IF(ISBLANK($A36),\"\",VLOOKUP($A36,Data!$A$4:$AI$155,31,FALSE)))","v":7700},{"$f":"IF($A36=\"\",\"\",IF(ISBLANK($A36),\"\",VLOOKUP($A36,Data!$A$4:$AI$155,32,FALSE)))","v":7580},{"$f":"IF($A36=\"\",\"\",IF(ISBLANK($A36),\"\",VLOOKUP($A36,Data!$A$4:$AI$155,33,FALSE)))","v":1.01},{"$f":"IF($A36=\"\",\"\",IF(ISBLANK($A36),\"\",VLOOKUP($A36,Data!$A$4:$AI$155,34,FALSE)))","v":1.05},{"$f":"IF($A36=\"\",\"\",IF(ISBLANK($A36),\"\",VLOOKUP($A36,Data!$A$4:$AI$155,35,FALSE)))","v":1.05}]
[{"$f":"IF('Early Years Table'!A37=\"\",\"\",IF(ISBLANK('Early Years Table'!A37),\"\",'Early Years Table'!A37))","v":801},{"$f":"IF($A37=\"\",\"\",IF(ISBLANK($A37),\"\",INDEX('LEA Nos codes'!$A$3:$A$154,MATCH($A37,'LEA Nos codes'!$B$3:$B$154,0))))","v":"City of Bristol"},{"$f":"IF($A37=\"\",\"\",IF(ISBLANK($A37),\"\",VLOOKUP($A37,Data!$A$4:$AI$155,30,FALSE)))","v":9820},{"$f":"IF($A37=\"\",\"\",IF(ISBLANK($A37),\"\",VLOOKUP($A37,Data!$A$4:$AI$155,31,FALSE)))","v":10430},{"$f":"IF($A37=\"\",\"\",IF(ISBLANK($A37),\"\",VLOOKUP($A37,Data!$A$4:$AI$155,32,FALSE)))","v":10670},{"$f":"IF($A37=\"\",\"\",IF(ISBLANK($A37),\"\",VLOOKUP($A37,Data!$A$4:$AI$155,33,FALSE)))","v":0.9},{"$f":"IF($A37=\"\",\"\",IF(ISBLANK($A37),\"\",VLOOKUP($A37,Data!$A$4:$AI$155,34,FALSE)))","v":0.91},{"$f":"IF($A37=\"\",\"\",IF(ISBLANK($A37),\"\",VLOOKUP($A37,Data!$A$4:$AI$155,35,FALSE)))","v":0.92}]
[{"$f":"IF('Early Years Table'!A38=\"\",\"\",IF(ISBLANK('Early Years Table'!A38),\"\",'Early Years Table'!A38))","v":810},{"$f":"IF($A38=\"\",\"\",IF(ISBLANK($A38),\"\",INDEX('LEA Nos codes'!$A$3:$A$154,MATCH($A38,'LEA Nos codes'!$B$3:$B$154,0))))","v":"City of Kingston Upon Hull"},{"$f":"IF($A38=\"\",\"\",IF(ISBLANK($A38),\"\",VLOOKUP($A38,Data!$A$4:$AI$155,30,FALSE)))","v":6300},{"$f":"IF($A38=\"\",\"\",IF(ISBLANK($A38),\"\",VLOOKUP($A38,Data!$A$4:$AI$155,31,FALSE)))","v":6480},{"$f":"IF($A38=\"\",\"\",IF(ISBLANK($A38),\"\",VLOOKUP($A38,Data!$A$4:$AI$155,32,FALSE)))","v":6610},{"$f":"IF($A38=\"\",\"\",IF(ISBLANK($A38),\"\",VLOOKUP($A38,Data!$A$4:$AI$155,33,FALSE)))","v":0.96},{"$f":"IF($A38=\"\",\"\",IF(ISBLANK($A38),\"\",VLOOKUP($A38,Data!$A$4:$AI$155,34,FALSE)))","v":0.95},{"$f":"IF($A38=\"\",\"\",IF(ISBLANK($A38),\"\",VLOOKUP($A38,Data!$A$4:$AI$155,35,FALSE)))","v":0.96}]
[{"$f":"IF('Early Years Table'!A39=\"\",\"\",IF(ISBLANK('Early Years Table'!A39),\"\",'Early Years Table'!A39))","v":201},{"$f":"IF($A39=\"\",\"\",IF(ISBLANK($A39),\"\",INDEX('LEA Nos codes'!$A$3:$A$154,MATCH($A39,'LEA Nos codes'!$B$3:$B$154,0))))","v":"City of London"},{"$f":"IF($A39=\"\",\"\",IF(ISBLANK($A39),\"\",VLOOKUP($A39,Data!$A$4:$AI$155,30,FALSE)))","v":60},{"$f":"IF($A39=\"\",\"\",IF(ISBLANK($A39),\"\",VLOOKUP($A39,Data!$A$4:$AI$155,31,FALSE)))","v":80},{"$f":"IF($A39=\"\",\"\",IF(ISBLANK($A39),\"\",VLOOKUP($A39,Data!$A$4:$AI$155,32,FALSE)))","v":100},{"$f":"IF($A39=\"\",\"\",IF(ISBLANK($A39),\"\",VLOOKUP($A39,Data!$A$4:$AI$155,33,FALSE)))","v":0.76},{"$f":"IF($A39=\"\",\"\",IF(ISBLANK($A39),\"\",VLOOKUP($A39,Data!$A$4:$AI$155,34,FALSE)))","v":1.02},{"$f":"IF($A39=\"\",\"\",IF(ISBLANK($A39),\"\",VLOOKUP($A39,Data!$A$4:$AI$155,35,FALSE)))","v":1.1499999999999999}]
[{"$f":"IF('Early Years Table'!A40=\"\",\"\",IF(ISBLANK('Early Years Table'!A40),\"\",'Early Years Table'!A40))","v":908},{"$f":"IF($A40=\"\",\"\",IF(ISBLANK($A40),\"\",INDEX('LEA Nos codes'!$A$3:$A$154,MATCH($A40,'LEA Nos codes'!$B$3:$B$154,0))))","v":"Cornwall"},{"$f":"IF($A40=\"\",\"\",IF(ISBLANK($A40),\"\",VLOOKUP($A40,Data!$A$4:$AI$155,30,FALSE)))","v":10660},{"$f":"IF($A40=\"\",\"\",IF(ISBLANK($A40),\"\",VLOOKUP($A40,Data!$A$4:$AI$155,31,FALSE)))","v":10950},{"$f":"IF($A40=\"\",\"\",IF(ISBLANK($A40),\"\",VLOOKUP($A40,Data!$A$4:$AI$155,32,FALSE)))","v":11220},{"$f":"IF($A40=\"\",\"\",IF(ISBLANK($A40),\"\",VLOOKUP($A40,Data!$A$4:$AI$155,33,FALSE)))","v":0.98},{"$f":"IF($A40=\"\",\"\",IF(ISBLANK($A40),\"\",VLOOKUP($A40,Data!$A$4:$AI$155,34,FALSE)))","v":1},{"$f":"IF($A40=\"\",\"\",IF(ISBLANK($A40),\"\",VLOOKUP($A40,Data!$A$4:$AI$155,35,FALSE)))","v":1.01}]
[{"$f":"IF('Early Years Table'!A41=\"\",\"\",IF(ISBLANK('Early Years Table'!A41),\"\",'Early Years Table'!A41))","v":331},{"$f":"IF($A41=\"\",\"\",IF(ISBLANK($A41),\"\",INDEX('LEA Nos codes'!$A$3:$A$154,MATCH($A41,'LEA Nos codes'!$B$3:$B$154,0))))","v":"Coventry"},{"$f":"IF($A41=\"\",\"\",IF(ISBLANK($A41),\"\",VLOOKUP($A41,Data!$A$4:$AI$155,30,FALSE)))","v":7920},{"$f":"IF($A41=\"\",\"\",IF(ISBLANK($A41),\"\",VLOOKUP($A41,Data!$A$4:$AI$155,31,FALSE)))","v":8230},{"$f":"IF($A41=\"\",\"\",IF(ISBLANK($A41),\"\",VLOOKUP($A41,Data!$A$4:$AI$155,32,FALSE)))","v":8420},{"$f":"IF($A41=\"\",\"\",IF(ISBLANK($A41),\"\",VLOOKUP($A41,Data!$A$4:$AI$155,33,FALSE)))","v":0.93},{"$f":"IF($A41=\"\",\"\",IF(ISBLANK($A41),\"\",VLOOKUP($A41,Data!$A$4:$AI$155,34,FALSE)))","v":0.94},{"$f":"IF($A41=\"\",\"\",IF(ISBLANK($A41),\"\",VLOOKUP($A41,Data!$A$4:$AI$155,35,FALSE)))","v":0.94}]
[{"$f":"IF('Early Years Table'!A42=\"\",\"\",IF(ISBLANK('Early Years Table'!A42),\"\",'Early Years Table'!A42))","v":306},{"$f":"IF($A42=\"\",\"\",IF(ISBLANK($A42),\"\",INDEX('LEA Nos codes'!$A$3:$A$154,MATCH($A42,'LEA Nos codes'!$B$3:$B$154,0))))","v":"Croydon"},{"$f":"IF($A42=\"\",\"\",IF(ISBLANK($A42),\"\",VLOOKUP($A42,Data!$A$4:$AI$155,30,FALSE)))","v":9320},{"$f":"IF($A42=\"\",\"\",IF(ISBLANK($A42),\"\",VLOOKUP($A42,Data!$A$4:$AI$155,31,FALSE)))","v":9710},{"$f":"IF($A42=\"\",\"\",IF(ISBLANK($A42),\"\",VLOOKUP($A42,Data!$A$4:$AI$155,32,FALSE)))","v":9780},{"$f":"IF($A42=\"\",\"\",IF(ISBLANK($A42),\"\",VLOOKUP($A42,Data!$A$4:$AI$155,33,FALSE)))","v":0.88},{"$f":"IF($A42=\"\",\"\",IF(ISBLANK($A42),\"\",VLOOKUP($A42,Data!$A$4:$AI$155,34,FALSE)))","v":0.87},{"$f":"IF($A42=\"\",\"\",IF(ISBLANK($A42),\"\",VLOOKUP($A42,Data!$A$4:$AI$155,35,FALSE)))","v":0.88}]
[{"$f":"IF('Early Years Table'!A43=\"\",\"\",IF(ISBLANK('Early Years Table'!A43),\"\",'Early Years Table'!A43))","v":909},{"$f":"IF($A43=\"\",\"\",IF(ISBLANK($A43),\"\",INDEX('LEA Nos codes'!$A$3:$A$154,MATCH($A43,'LEA Nos codes'!$B$3:$B$154,0))))","v":"Cumbria"},{"$f":"IF($A43=\"\",\"\",IF(ISBLANK($A43),\"\",VLOOKUP($A43,Data!$A$4:$AI$155,30,FALSE)))","v":10220},{"$f":"IF($A43=\"\",\"\",IF(ISBLANK($A43),\"\",VLOOKUP($A43,Data!$A$4:$AI$155,31,FALSE)))","v":10450},{"$f":"IF($A43=\"\",\"\",IF(ISBLANK($A43),\"\",VLOOKUP($A43,Data!$A$4:$AI$155,32,FALSE)))","v":10440},{"$f":"IF($A43=\"\",\"\",IF(ISBLANK($A43),\"\",VLOOKUP($A43,Data!$A$4:$AI$155,33,FALSE)))","v":1},{"$f":"IF($A43=\"\",\"\",IF(ISBLANK($A43),\"\",VLOOKUP($A43,Data!$A$4:$AI$155,34,FALSE)))","v":1.02},{"$f":"IF($A43=\"\",\"\",IF(ISBLANK($A43),\"\",VLOOKUP($A43,Data!$A$4:$AI$155,35,FALSE)))","v":1.03}]
[{"$f":"IF('Early Years Table'!A44=\"\",\"\",IF(ISBLANK('Early Years Table'!A44),\"\",'Early Years Table'!A44))","v":841},{"$f":"IF($A44=\"\",\"\",IF(ISBLANK($A44),\"\",INDEX('LEA Nos codes'!$A$3:$A$154,MATCH($A44,'LEA Nos codes'!$B$3:$B$154,0))))","v":"Darlington"},{"$f":"IF($A44=\"\",\"\",IF(ISBLANK($A44),\"\",VLOOKUP($A44,Data!$A$4:$AI$155,30,FALSE)))","v":2570},{"$f":"IF($A44=\"\",\"\",IF(ISBLANK($A44),\"\",VLOOKUP($A44,Data!$A$4:$AI$155,31,FALSE)))","v":2610},{"$f":"IF($A44=\"\",\"\",IF(ISBLANK($A44),\"\",VLOOKUP($A44,Data!$A$4:$AI$155,32,FALSE)))","v":2660},{"$f":"IF($A44=\"\",\"\",IF(ISBLANK($A44),\"\",VLOOKUP($A44,Data!$A$4:$AI$155,33,FALSE)))","v":1},{"$f":"IF($A44=\"\",\"\",IF(ISBLANK($A44),\"\",VLOOKUP($A44,Data!$A$4:$AI$155,34,FALSE)))","v":1},{"$f":"IF($A44=\"\",\"\",IF(ISBLANK($A44),\"\",VLOOKUP($A44,Data!$A$4:$AI$155,35,FALSE)))","v":1}]
[{"$f":"IF('Early Years Table'!A45=\"\",\"\",IF(ISBLANK('Early Years Table'!A45),\"\",'Early Years Table'!A45))","v":831},{"$f":"IF($A45=\"\",\"\",IF(ISBLANK($A45),\"\",INDEX('LEA Nos codes'!$A$3:$A$154,MATCH($A45,'LEA Nos codes'!$B$3:$B$154,0))))","v":"Derby"},{"$f":"IF($A45=\"\",\"\",IF(ISBLANK($A45),\"\",VLOOKUP($A45,Data!$A$4:$AI$155,30,FALSE)))","v":6270},{"$f":"IF($A45=\"\",\"\",IF(ISBLANK($A45),\"\",VLOOKUP($A45,Data!$A$4:$AI$155,31,FALSE)))","v":6470},{"$f":"IF($A45=\"\",\"\",IF(ISBLANK($A45),\"\",VLOOKUP($A45,Data!$A$4:$AI$155,32,FALSE)))","v":6760},{"$f":"IF($A45=\"\",\"\",IF(ISBLANK($A45),\"\",VLOOKUP($A45,Data!$A$4:$AI$155,33,FALSE)))","v":0.92},{"$f":"IF($A45=\"\",\"\",IF(ISBLANK($A45),\"\",VLOOKUP($A45,Data!$A$4:$AI$155,34,FALSE)))","v":0.9},{"$f":"IF($A45=\"\",\"\",IF(ISBLANK($A45),\"\",VLOOKUP($A45,Data!$A$4:$AI$155,35,FALSE)))","v":0.94}]
[{"$f":"IF('Early Years Table'!A46=\"\",\"\",IF(ISBLANK('Early Years Table'!A46),\"\",'Early Years Table'!A46))","v":830},{"$f":"IF($A46=\"\",\"\",IF(ISBLANK($A46),\"\",INDEX('LEA Nos codes'!$A$3:$A$154,MATCH($A46,'LEA Nos codes'!$B$3:$B$154,0))))","v":"Derbyshire"},{"$f":"IF($A46=\"\",\"\",IF(ISBLANK($A46),\"\",VLOOKUP($A46,Data!$A$4:$AI$155,30,FALSE)))","v":16520},{"$f":"IF($A46=\"\",\"\",IF(ISBLANK($A46),\"\",VLOOKUP($A46,Data!$A$4:$AI$155,31,FALSE)))","v":16900},{"$f":"IF($A46=\"\",\"\",IF(ISBLANK($A46),\"\",VLOOKUP($A46,Data!$A$4:$AI$155,32,FALSE)))","v":16750},{"$f":"IF($A46=\"\",\"\",IF(ISBLANK($A46),\"\",VLOOKUP($A46,Data!$A$4:$AI$155,33,FALSE)))","v":0.98},{"$f":"IF($A46=\"\",\"\",IF(ISBLANK($A46),\"\",VLOOKUP($A46,Data!$A$4:$AI$155,34,FALSE)))","v":1},{"$f":"IF($A46=\"\",\"\",IF(ISBLANK($A46),\"\",VLOOKUP($A46,Data!$A$4:$AI$155,35,FALSE)))","v":0.99}]
[{"$f":"IF('Early Years Table'!A47=\"\",\"\",IF(ISBLANK('Early Years Table'!A47),\"\",'Early Years Table'!A47))","v":878},{"$f":"IF($A47=\"\",\"\",IF(ISBLANK($A47),\"\",INDEX('LEA Nos codes'!$A$3:$A$154,MATCH($A47,'LEA Nos codes'!$B$3:$B$154,0))))","v":"Devon"},{"$f":"IF($A47=\"\",\"\",IF(ISBLANK($A47),\"\",VLOOKUP($A47,Data!$A$4:$AI$155,30,FALSE)))","v":14810},{"$f":"IF($A47=\"\",\"\",IF(ISBLANK($A47),\"\",VLOOKUP($A47,Data!$A$4:$AI$155,31,FALSE)))","v":15120},{"$f":"IF($A47=\"\",\"\",IF(ISBLANK($A47),\"\",VLOOKUP($A47,Data!$A$4:$AI$155,32,FALSE)))","v":15500},{"$f":"IF($A47=\"\",\"\",IF(ISBLANK($A47),\"\",VLOOKUP($A47,Data!$A$4:$AI$155,33,FALSE)))","v":0.99},{"$f":"IF($A47=\"\",\"\",IF(ISBLANK($A47),\"\",VLOOKUP($A47,Data!$A$4:$AI$155,34,FALSE)))","v":1.01},{"$f":"IF($A47=\"\",\"\",IF(ISBLANK($A47),\"\",VLOOKUP($A47,Data!$A$4:$AI$155,35,FALSE)))","v":1.02}]
[{"$f":"IF('Early Years Table'!A48=\"\",\"\",IF(ISBLANK('Early Years Table'!A48),\"\",'Early Years Table'!A48))","v":371},{"$f":"IF($A48=\"\",\"\",IF(ISBLANK($A48),\"\",INDEX('LEA Nos codes'!$A$3:$A$154,MATCH($A48,'LEA Nos codes'!$B$3:$B$154,0))))","v":"Doncaster"},{"$f":"IF($A48=\"\",\"\",IF(ISBLANK($A48),\"\",VLOOKUP($A48,Data!$A$4:$AI$155,30,FALSE)))","v":6830},{"$f":"IF($A48=\"\",\"\",IF(ISBLANK($A48),\"\",VLOOKUP($A48,Data!$A$4:$AI$155,31,FALSE)))","v":7080},{"$f":"IF($A48=\"\",\"\",IF(ISBLANK($A48),\"\",VLOOKUP($A48,Data!$A$4:$AI$155,32,FALSE)))","v":7270},{"$f":"IF($A48=\"\",\"\",IF(ISBLANK($A48),\"\",VLOOKUP($A48,Data!$A$4:$AI$155,33,FALSE)))","v":0.92},{"$f":"IF($A48=\"\",\"\",IF(ISBLANK($A48),\"\",VLOOKUP($A48,Data!$A$4:$AI$155,34,FALSE)))","v":0.91},{"$f":"IF($A48=\"\",\"\",IF(ISBLANK($A48),\"\",VLOOKUP($A48,Data!$A$4:$AI$155,35,FALSE)))","v":0.93}]
[{"$f":"IF('Early Years Table'!A49=\"\",\"\",IF(ISBLANK('Early Years Table'!A49),\"\",'Early Years Table'!A49))","v":835},{"$f":"IF($A49=\"\",\"\",IF(ISBLANK($A49),\"\",INDEX('LEA Nos codes'!$A$3:$A$154,MATCH($A49,'LEA Nos codes'!$B$3:$B$154,0))))","v":"Dorset"},{"$f":"IF($A49=\"\",\"\",IF(ISBLANK($A49),\"\",VLOOKUP($A49,Data!$A$4:$AI$155,30,FALSE)))","v":7730},{"$f":"IF($A49=\"\",\"\",IF(ISBLANK($A49),\"\",VLOOKUP($A49,Data!$A$4:$AI$155,31,FALSE)))","v":8130},{"$f":"IF($A49=\"\",\"\",IF(ISBLANK($A49),\"\",VLOOKUP($A49,Data!$A$4:$AI$155,32,FALSE)))","v":7990},{"$f":"IF($A49=\"\",\"\",IF(ISBLANK($A49),\"\",VLOOKUP($A49,Data!$A$4:$AI$155,33,FALSE)))","v":0.98},{"$f":"IF($A49=\"\",\"\",IF(ISBLANK($A49),\"\",VLOOKUP($A49,Data!$A$4:$AI$155,34,FALSE)))","v":1.02},{"$f":"IF($A49=\"\",\"\",IF(ISBLANK($A49),\"\",VLOOKUP($A49,Data!$A$4:$AI$155,35,FALSE)))","v":0.99}]
[{"$f":"IF('Early Years Table'!A50=\"\",\"\",IF(ISBLANK('Early Years Table'!A50),\"\",'Early Years Table'!A50))","v":332},{"$f":"IF($A50=\"\",\"\",IF(ISBLANK($A50),\"\",INDEX('LEA Nos codes'!$A$3:$A$154,MATCH($A50,'LEA Nos codes'!$B$3:$B$154,0))))","v":"Dudley"},{"$f":"IF($A50=\"\",\"\",IF(ISBLANK($A50),\"\",VLOOKUP($A50,Data!$A$4:$AI$155,30,FALSE)))","v":6990},{"$f":"IF($A50=\"\",\"\",IF(ISBLANK($A50),\"\",VLOOKUP($A50,Data!$A$4:$AI$155,31,FALSE)))","v":7220},{"$f":"IF($A50=\"\",\"\",IF(ISBLANK($A50),\"\",VLOOKUP($A50,Data!$A$4:$AI$155,32,FALSE)))","v":7390},{"$f":"IF($A50=\"\",\"\",IF(ISBLANK($A50),\"\",VLOOKUP($A50,Data!$A$4:$AI$155,33,FALSE)))","v":0.94},{"$f":"IF($A50=\"\",\"\",IF(ISBLANK($A50),\"\",VLOOKUP($A50,Data!$A$4:$AI$155,34,FALSE)))","v":0.96},{"$f":"IF($A50=\"\",\"\",IF(ISBLANK($A50),\"\",VLOOKUP($A50,Data!$A$4:$AI$155,35,FALSE)))","v":0.96}]
[{"$f":"IF('Early Years Table'!A51=\"\",\"\",IF(ISBLANK('Early Years Table'!A51),\"\",'Early Years Table'!A51))","v":840},{"$f":"IF($A51=\"\",\"\",IF(ISBLANK($A51),\"\",INDEX('LEA Nos codes'!$A$3:$A$154,MATCH($A51,'LEA Nos codes'!$B$3:$B$154,0))))","v":"Durham"},{"$f":"IF($A51=\"\",\"\",IF(ISBLANK($A51),\"\",VLOOKUP($A51,Data!$A$4:$AI$155,30,FALSE)))","v":10710},{"$f":"IF($A51=\"\",\"\",IF(ISBLANK($A51),\"\",VLOOKUP($A51,Data!$A$4:$AI$155,31,FALSE)))","v":10950},{"$f":"IF($A51=\"\",\"\",IF(ISBLANK($A51),\"\",VLOOKUP($A51,Data!$A$4:$AI$155,32,FALSE)))","v":10890},{"$f":"IF($A51=\"\",\"\",IF(ISBLANK($A51),\"\",VLOOKUP($A51,Data!$A$4:$AI$155,33,FALSE)))","v":0.95},{"$f":"IF($A51=\"\",\"\",IF(ISBLANK($A51),\"\",VLOOKUP($A51,Data!$A$4:$AI$155,34,FALSE)))","v":0.96},{"$f":"IF($A51=\"\",\"\",IF(ISBLANK($A51),\"\",VLOOKUP($A51,Data!$A$4:$AI$155,35,FALSE)))","v":0.95}]
[{"$f":"IF('Early Years Table'!A52=\"\",\"\",IF(ISBLANK('Early Years Table'!A52),\"\",'Early Years Table'!A52))","v":307},{"$f":"IF($A52=\"\",\"\",IF(ISBLANK($A52),\"\",INDEX('LEA Nos codes'!$A$3:$A$154,MATCH($A52,'LEA Nos codes'!$B$3:$B$154,0))))","v":"Ealing"},{"$f":"IF($A52=\"\",\"\",IF(ISBLANK($A52),\"\",VLOOKUP($A52,Data!$A$4:$AI$155,30,FALSE)))","v":8730},{"$f":"IF($A52=\"\",\"\",IF(ISBLANK($A52),\"\",VLOOKUP($A52,Data!$A$4:$AI$155,31,FALSE)))","v":9110},{"$f":"IF($A52=\"\",\"\",IF(ISBLANK($A52),\"\",VLOOKUP($A52,Data!$A$4:$AI$155,32,FALSE)))","v":9400},{"$f":"IF($A52=\"\",\"\",IF(ISBLANK($A52),\"\",VLOOKUP($A52,Data!$A$4:$AI$155,33,FALSE)))","v":0.9},{"$f":"IF($A52=\"\",\"\",IF(ISBLANK($A52),\"\",VLOOKUP($A52,Data!$A$4:$AI$155,34,FALSE)))","v":0.92},{"$f":"IF($A52=\"\",\"\",IF(ISBLANK($A52),\"\",VLOOKUP($A52,Data!$A$4:$AI$155,35,FALSE)))","v":0.95}]
[{"$f":"IF('Early Years Table'!A53=\"\",\"\",IF(ISBLANK('Early Years Table'!A53),\"\",'Early Years Table'!A53))","v":811},{"$f":"IF($A53=\"\",\"\",IF(ISBLANK($A53),\"\",INDEX('LEA Nos codes'!$A$3:$A$154,MATCH($A53,'LEA Nos codes'!$B$3:$B$154,0))))","v":"East Riding of Yorkshire"},{"$f":"IF($A53=\"\",\"\",IF(ISBLANK($A53),\"\",VLOOKUP($A53,Data!$A$4:$AI$155,30,FALSE)))","v":6920},{"$f":"IF($A53=\"\",\"\",IF(ISBLANK($A53),\"\",VLOOKUP($A53,Data!$A$4:$AI$155,31,FALSE)))","v":7000},{"$f":"IF($A53=\"\",\"\",IF(ISBLANK($A53),\"\",VLOOKUP($A53,Data!$A$4:$AI$155,32,FALSE)))","v":6950},{"$f":"IF($A53=\"\",\"\",IF(ISBLANK($A53),\"\",VLOOKUP($A53,Data!$A$4:$AI$155,33,FALSE)))","v":1.04},{"$f":"IF($A53=\"\",\"\",IF(ISBLANK($A53),\"\",VLOOKUP($A53,Data!$A$4:$AI$155,34,FALSE)))","v":1.04},{"$f":"IF($A53=\"\",\"\",IF(ISBLANK($A53),\"\",VLOOKUP($A53,Data!$A$4:$AI$155,35,FALSE)))","v":1.03}]
[{"$f":"IF('Early Years Table'!A54=\"\",\"\",IF(ISBLANK('Early Years Table'!A54),\"\",'Early Years Table'!A54))","v":845},{"$f":"IF($A54=\"\",\"\",IF(ISBLANK($A54),\"\",INDEX('LEA Nos codes'!$A$3:$A$154,MATCH($A54,'LEA Nos codes'!$B$3:$B$154,0))))","v":"East Sussex"},{"$f":"IF($A54=\"\",\"\",IF(ISBLANK($A54),\"\",VLOOKUP($A54,Data!$A$4:$AI$155,30,FALSE)))","v":10470},{"$f":"IF($A54=\"\",\"\",IF(ISBLANK($A54),\"\",VLOOKUP($A54,Data!$A$4:$AI$155,31,FALSE)))","v":10660},{"$f":"IF($A54=\"\",\"\",IF(ISBLANK($A54),\"\",VLOOKUP($A54,Data!$A$4:$AI$155,32,FALSE)))","v":10880},{"$f":"IF($A54=\"\",\"\",IF(ISBLANK($A54),\"\",VLOOKUP($A54,Data!$A$4:$AI$155,33,FALSE)))","v":0.95},{"$f":"IF($A54=\"\",\"\",IF(ISBLANK($A54),\"\",VLOOKUP($A54,Data!$A$4:$AI$155,34,FALSE)))","v":0.96},{"$f":"IF($A54=\"\",\"\",IF(ISBLANK($A54),\"\",VLOOKUP($A54,Data!$A$4:$AI$155,35,FALSE)))","v":0.97}]
[{"$f":"IF('Early Years Table'!A55=\"\",\"\",IF(ISBLANK('Early Years Table'!A55),\"\",'Early Years Table'!A55))","v":308},{"$f":"IF($A55=\"\",\"\",IF(ISBLANK($A55),\"\",INDEX('LEA Nos codes'!$A$3:$A$154,MATCH($A55,'LEA Nos codes'!$B$3:$B$154,0))))","v":"Enfield"},{"$f":"IF($A55=\"\",\"\",IF(ISBLANK($A55),\"\",VLOOKUP($A55,Data!$A$4:$AI$155,30,FALSE)))","v":7930},{"$f":"IF($A55=\"\",\"\",IF(ISBLANK($A55),\"\",VLOOKUP($A55,Data!$A$4:$AI$155,31,FALSE)))","v":8460},{"$f":"IF($A55=\"\",\"\",IF(ISBLANK($A55),\"\",VLOOKUP($A55,Data!$A$4:$AI$155,32,FALSE)))","v":8620},{"$f":"IF($A55=\"\",\"\",IF(ISBLANK($A55),\"\",VLOOKUP($A55,Data!$A$4:$AI$155,33,FALSE)))","v":0.83},{"$f":"IF($A55=\"\",\"\",IF(ISBLANK($A55),\"\",VLOOKUP($A55,Data!$A$4:$AI$155,34,FALSE)))","v":0.85},{"$f":"IF($A55=\"\",\"\",IF(ISBLANK($A55),\"\",VLOOKUP($A55,Data!$A$4:$AI$155,35,FALSE)))","v":0.87}]
[{"$f":"IF('Early Years Table'!A56=\"\",\"\",IF(ISBLANK('Early Years Table'!A56),\"\",'Early Years Table'!A56))","v":881},{"$f":"IF($A56=\"\",\"\",IF(ISBLANK($A56),\"\",INDEX('LEA Nos codes'!$A$3:$A$154,MATCH($A56,'LEA Nos codes'!$B$3:$B$154,0))))","v":"Essex"},{"$f":"IF($A56=\"\",\"\",IF(ISBLANK($A56),\"\",VLOOKUP($A56,Data!$A$4:$AI$155,30,FALSE)))","v":32020},{"$f":"IF($A56=\"\",\"\",IF(ISBLANK($A56),\"\",VLOOKUP($A56,Data!$A$4:$AI$155,31,FALSE)))","v":32650},{"$f":"IF($A56=\"\",\"\",IF(ISBLANK($A56),\"\",VLOOKUP($A56,Data!$A$4:$AI$155,32,FALSE)))","v":33100},{"$f":"IF($A56=\"\",\"\",IF(ISBLANK($A56),\"\",VLOOKUP($A56,Data!$A$4:$AI$155,33,FALSE)))","v":0.98},{"$f":"IF($A56=\"\",\"\",IF(ISBLANK($A56),\"\",VLOOKUP($A56,Data!$A$4:$AI$155,34,FALSE)))","v":0.99},{"$f":"IF($A56=\"\",\"\",IF(ISBLANK($A56),\"\",VLOOKUP($A56,Data!$A$4:$AI$155,35,FALSE)))","v":0.98}]
[{"$f":"IF('Early Years Table'!A57=\"\",\"\",IF(ISBLANK('Early Years Table'!A57),\"\",'Early Years Table'!A57))","v":390},{"$f":"IF($A57=\"\",\"\",IF(ISBLANK($A57),\"\",INDEX('LEA Nos codes'!$A$3:$A$154,MATCH($A57,'LEA Nos codes'!$B$3:$B$154,0))))","v":"Gateshead"},{"$f":"IF($A57=\"\",\"\",IF(ISBLANK($A57),\"\",VLOOKUP($A57,Data!$A$4:$AI$155,30,FALSE)))","v":4350},{"$f":"IF($A57=\"\",\"\",IF(ISBLANK($A57),\"\",VLOOKUP($A57,Data!$A$4:$AI$155,31,FALSE)))","v":4430},{"$f":"IF($A57=\"\",\"\",IF(ISBLANK($A57),\"\",VLOOKUP($A57,Data!$A$4:$AI$155,32,FALSE)))","v":4540},{"$f":"IF($A57=\"\",\"\",IF(ISBLANK($A57),\"\",VLOOKUP($A57,Data!$A$4:$AI$155,33,FALSE)))","v":0.96},{"$f":"IF($A57=\"\",\"\",IF(ISBLANK($A57),\"\",VLOOKUP($A57,Data!$A$4:$AI$155,34,FALSE)))","v":0.96},{"$f":"IF($A57=\"\",\"\",IF(ISBLANK($A57),\"\",VLOOKUP($A57,Data!$A$4:$AI$155,35,FALSE)))","v":0.96}]
[{"$f":"IF('Early Years Table'!A58=\"\",\"\",IF(ISBLANK('Early Years Table'!A58),\"\",'Early Years Table'!A58))","v":916},{"$f":"IF($A58=\"\",\"\",IF(ISBLANK($A58),\"\",INDEX('LEA Nos codes'!$A$3:$A$154,MATCH($A58,'LEA Nos codes'!$B$3:$B$154,0))))","v":"Gloucestershire"},{"$f":"IF($A58=\"\",\"\",IF(ISBLANK($A58),\"\",VLOOKUP($A58,Data!$A$4:$AI$155,30,FALSE)))","v":12930},{"$f":"IF($A58=\"\",\"\",IF(ISBLANK($A58),\"\",VLOOKUP($A58,Data!$A$4:$AI$155,31,FALSE)))","v":13240},{"$f":"IF($A58=\"\",\"\",IF(ISBLANK($A58),\"\",VLOOKUP($A58,Data!$A$4:$AI$155,32,FALSE)))","v":13450},{"$f":"IF($A58=\"\",\"\",IF(ISBLANK($A58),\"\",VLOOKUP($A58,Data!$A$4:$AI$155,33,FALSE)))","v":0.98},{"$f":"IF($A58=\"\",\"\",IF(ISBLANK($A58),\"\",VLOOKUP($A58,Data!$A$4:$AI$155,34,FALSE)))","v":0.98},{"$f":"IF($A58=\"\",\"\",IF(ISBLANK($A58),\"\",VLOOKUP($A58,Data!$A$4:$AI$155,35,FALSE)))","v":0.99}]
[{"$f":"IF('Early Years Table'!A59=\"\",\"\",IF(ISBLANK('Early Years Table'!A59),\"\",'Early Years Table'!A59))","v":203},{"$f":"IF($A59=\"\",\"\",IF(ISBLANK($A59),\"\",INDEX('LEA Nos codes'!$A$3:$A$154,MATCH($A59,'LEA Nos codes'!$B$3:$B$154,0))))","v":"Greenwich"},{"$f":"IF($A59=\"\",\"\",IF(ISBLANK($A59),\"\",VLOOKUP($A59,Data!$A$4:$AI$155,30,FALSE)))","v":7330},{"$f":"IF($A59=\"\",\"\",IF(ISBLANK($A59),\"\",VLOOKUP($A59,Data!$A$4:$AI$155,31,FALSE)))","v":7390},{"$f":"IF($A59=\"\",\"\",IF(ISBLANK($A59),\"\",VLOOKUP($A59,Data!$A$4:$AI$155,32,FALSE)))","v":7330},{"$f":"IF($A59=\"\",\"\",IF(ISBLANK($A59),\"\",VLOOKUP($A59,Data!$A$4:$AI$155,33,FALSE)))","v":0.91},{"$f":"IF($A59=\"\",\"\",IF(ISBLANK($A59),\"\",VLOOKUP($A59,Data!$A$4:$AI$155,34,FALSE)))","v":0.89},{"$f":"IF($A59=\"\",\"\",IF(ISBLANK($A59),\"\",VLOOKUP($A59,Data!$A$4:$AI$155,35,FALSE)))","v":0.89}]
[{"$f":"IF('Early Years Table'!A60=\"\",\"\",IF(ISBLANK('Early Years Table'!A60),\"\",'Early Years Table'!A60))","v":204},{"$f":"IF($A60=\"\",\"\",IF(ISBLANK($A60),\"\",INDEX('LEA Nos codes'!$A$3:$A$154,MATCH($A60,'LEA Nos codes'!$B$3:$B$154,0))))","v":"Hackney"},{"$f":"IF($A60=\"\",\"\",IF(ISBLANK($A60),\"\",VLOOKUP($A60,Data!$A$4:$AI$155,30,FALSE)))","v":6640},{"$f":"IF($A60=\"\",\"\",IF(ISBLANK($A60),\"\",VLOOKUP($A60,Data!$A$4:$AI$155,31,FALSE)))","v":6700},{"$f":"IF($A60=\"\",\"\",IF(ISBLANK($A60),\"\",VLOOKUP($A60,Data!$A$4:$AI$155,32,FALSE)))","v":6970},{"$f":"IF($A60=\"\",\"\",IF(ISBLANK($A60),\"\",VLOOKUP($A60,Data!$A$4:$AI$155,33,FALSE)))","v":0.9},{"$f":"IF($A60=\"\",\"\",IF(ISBLANK($A60),\"\",VLOOKUP($A60,Data!$A$4:$AI$155,34,FALSE)))","v":0.92},{"$f":"IF($A60=\"\",\"\",IF(ISBLANK($A60),\"\",VLOOKUP($A60,Data!$A$4:$AI$155,35,FALSE)))","v":0.96}]
[{"$f":"IF('Early Years Table'!A61=\"\",\"\",IF(ISBLANK('Early Years Table'!A61),\"\",'Early Years Table'!A61))","v":876},{"$f":"IF($A61=\"\",\"\",IF(ISBLANK($A61),\"\",INDEX('LEA Nos codes'!$A$3:$A$154,MATCH($A61,'LEA Nos codes'!$B$3:$B$154,0))))","v":"Halton"},{"$f":"IF($A61=\"\",\"\",IF(ISBLANK($A61),\"\",VLOOKUP($A61,Data!$A$4:$AI$155,30,FALSE)))","v":2990},{"$f":"IF($A61=\"\",\"\",IF(ISBLANK($A61),\"\",VLOOKUP($A61,Data!$A$4:$AI$155,31,FALSE)))","v":3000},{"$f":"IF($A61=\"\",\"\",IF(ISBLANK($A61),\"\",VLOOKUP($A61,Data!$A$4:$AI$155,32,FALSE)))","v":2980},{"$f":"IF($A61=\"\",\"\",IF(ISBLANK($A61),\"\",VLOOKUP($A61,Data!$A$4:$AI$155,33,FALSE)))","v":0.9},{"$f":"IF($A61=\"\",\"\",IF(ISBLANK($A61),\"\",VLOOKUP($A61,Data!$A$4:$AI$155,34,FALSE)))","v":0.91},{"$f":"IF($A61=\"\",\"\",IF(ISBLANK($A61),\"\",VLOOKUP($A61,Data!$A$4:$AI$155,35,FALSE)))","v":0.9}]
[{"$f":"IF('Early Years Table'!A62=\"\",\"\",IF(ISBLANK('Early Years Table'!A62),\"\",'Early Years Table'!A62))","v":205},{"$f":"IF($A62=\"\",\"\",IF(ISBLANK($A62),\"\",INDEX('LEA Nos codes'!$A$3:$A$154,MATCH($A62,'LEA Nos codes'!$B$3:$B$154,0))))","v":"Hammersmith and Fulham"},{"$f":"IF($A62=\"\",\"\",IF(ISBLANK($A62),\"\",VLOOKUP($A62,Data!$A$4:$AI$155,30,FALSE)))","v":4080},{"$f":"IF($A62=\"\",\"\",IF(ISBLANK($A62),\"\",VLOOKUP($A62,Data!$A$4:$AI$155,31,FALSE)))","v":4110},{"$f":"IF($A62=\"\",\"\",IF(ISBLANK($A62),\"\",VLOOKUP($A62,Data!$A$4:$AI$155,32,FALSE)))","v":4130},{"$f":"IF($A62=\"\",\"\",IF(ISBLANK($A62),\"\",VLOOKUP($A62,Data!$A$4:$AI$155,33,FALSE)))","v":0.92},{"$f":"IF($A62=\"\",\"\",IF(ISBLANK($A62),\"\",VLOOKUP($A62,Data!$A$4:$AI$155,34,FALSE)))","v":0.93},{"$f":"IF($A62=\"\",\"\",IF(ISBLANK($A62),\"\",VLOOKUP($A62,Data!$A$4:$AI$155,35,FALSE)))","v":0.93}]
[{"$f":"IF('Early Years Table'!A63=\"\",\"\",IF(ISBLANK('Early Years Table'!A63),\"\",'Early Years Table'!A63))","v":850},{"$f":"IF($A63=\"\",\"\",IF(ISBLANK($A63),\"\",INDEX('LEA Nos codes'!$A$3:$A$154,MATCH($A63,'LEA Nos codes'!$B$3:$B$154,0))))","v":"Hampshire"},{"$f":"IF($A63=\"\",\"\",IF(ISBLANK($A63),\"\",VLOOKUP($A63,Data!$A$4:$AI$155,30,FALSE)))","v":29110},{"$f":"IF($A63=\"\",\"\",IF(ISBLANK($A63),\"\",VLOOKUP($A63,Data!$A$4:$AI$155,31,FALSE)))","v":29690},{"$f":"IF($A63=\"\",\"\",IF(ISBLANK($A63),\"\",VLOOKUP($A63,Data!$A$4:$AI$155,32,FALSE)))","v":30200},{"$f":"IF($A63=\"\",\"\",IF(ISBLANK($A63),\"\",VLOOKUP($A63,Data!$A$4:$AI$155,33,FALSE)))","v":0.95},{"$f":"IF($A63=\"\",\"\",IF(ISBLANK($A63),\"\",VLOOKUP($A63,Data!$A$4:$AI$155,34,FALSE)))","v":0.95},{"$f":"IF($A63=\"\",\"\",IF(ISBLANK($A63),\"\",VLOOKUP($A63,Data!$A$4:$AI$155,35,FALSE)))","v":0.96}]
[{"$f":"IF('Early Years Table'!A64=\"\",\"\",IF(ISBLANK('Early Years Table'!A64),\"\",'Early Years Table'!A64))","v":309},{"$f":"IF($A64=\"\",\"\",IF(ISBLANK($A64),\"\",INDEX('LEA Nos codes'!$A$3:$A$154,MATCH($A64,'LEA Nos codes'!$B$3:$B$154,0))))","v":"Haringey"},{"$f":"IF($A64=\"\",\"\",IF(ISBLANK($A64),\"\",VLOOKUP($A64,Data!$A$4:$AI$155,30,FALSE)))","v":6000},{"$f":"IF($A64=\"\",\"\",IF(ISBLANK($A64),\"\",VLOOKUP($A64,Data!$A$4:$AI$155,31,FALSE)))","v":6210},{"$f":"IF($A64=\"\",\"\",IF(ISBLANK($A64),\"\",VLOOKUP($A64,Data!$A$4:$AI$155,32,FALSE)))","v":6240},{"$f":"IF($A64=\"\",\"\",IF(ISBLANK($A64),\"\",VLOOKUP($A64,Data!$A$4:$AI$155,33,FALSE)))","v":0.84},{"$f":"IF($A64=\"\",\"\",IF(ISBLANK($A64),\"\",VLOOKUP($A64,Data!$A$4:$AI$155,34,FALSE)))","v":0.88},{"$f":"IF($A64=\"\",\"\",IF(ISBLANK($A64),\"\",VLOOKUP($A64,Data!$A$4:$AI$155,35,FALSE)))","v":0.9}]
[{"$f":"IF('Early Years Table'!A65=\"\",\"\",IF(ISBLANK('Early Years Table'!A65),\"\",'Early Years Table'!A65))","v":310},{"$f":"IF($A65=\"\",\"\",IF(ISBLANK($A65),\"\",INDEX('LEA Nos codes'!$A$3:$A$154,MATCH($A65,'LEA Nos codes'!$B$3:$B$154,0))))","v":"Harrow"},{"$f":"IF($A65=\"\",\"\",IF(ISBLANK($A65),\"\",VLOOKUP($A65,Data!$A$4:$AI$155,30,FALSE)))","v":5140},{"$f":"IF($A65=\"\",\"\",IF(ISBLANK($A65),\"\",VLOOKUP($A65,Data!$A$4:$AI$155,31,FALSE)))","v":5400},{"$f":"IF($A65=\"\",\"\",IF(ISBLANK($A65),\"\",VLOOKUP($A65,Data!$A$4:$AI$155,32,FALSE)))","v":5680},{"$f":"IF($A65=\"\",\"\",IF(ISBLANK($A65),\"\",VLOOKUP($A65,Data!$A$4:$AI$155,33,FALSE)))","v":0.82},{"$f":"IF($A65=\"\",\"\",IF(ISBLANK($A65),\"\",VLOOKUP($A65,Data!$A$4:$AI$155,34,FALSE)))","v":0.84},{"$f":"IF($A65=\"\",\"\",IF(ISBLANK($A65),\"\",VLOOKUP($A65,Data!$A$4:$AI$155,35,FALSE)))","v":0.87}]
[{"$f":"IF('Early Years Table'!A66=\"\",\"\",IF(ISBLANK('Early Years Table'!A66),\"\",'Early Years Table'!A66))","v":805},{"$f":"IF($A66=\"\",\"\",IF(ISBLANK($A66),\"\",INDEX('LEA Nos codes'!$A$3:$A$154,MATCH($A66,'LEA Nos codes'!$B$3:$B$154,0))))","v":"Hartlepool"},{"$f":"IF($A66=\"\",\"\",IF(ISBLANK($A66),\"\",VLOOKUP($A66,Data!$A$4:$AI$155,30,FALSE)))","v":2270},{"$f":"IF($A66=\"\",\"\",IF(ISBLANK($A66),\"\",VLOOKUP($A66,Data!$A$4:$AI$155,31,FALSE)))","v":2260},{"$f":"IF($A66=\"\",\"\",IF(ISBLANK($A66),\"\",VLOOKUP($A66,Data!$A$4:$AI$155,32,FALSE)))","v":2310},{"$f":"IF($A66=\"\",\"\",IF(ISBLANK($A66),\"\",VLOOKUP($A66,Data!$A$4:$AI$155,33,FALSE)))","v":0.99},{"$f":"IF($A66=\"\",\"\",IF(ISBLANK($A66),\"\",VLOOKUP($A66,Data!$A$4:$AI$155,34,FALSE)))","v":0.98},{"$f":"IF($A66=\"\",\"\",IF(ISBLANK($A66),\"\",VLOOKUP($A66,Data!$A$4:$AI$155,35,FALSE)))","v":1}]
[{"$f":"IF('Early Years Table'!A67=\"\",\"\",IF(ISBLANK('Early Years Table'!A67),\"\",'Early Years Table'!A67))","v":311},{"$f":"IF($A67=\"\",\"\",IF(ISBLANK($A67),\"\",INDEX('LEA Nos codes'!$A$3:$A$154,MATCH($A67,'LEA Nos codes'!$B$3:$B$154,0))))","v":"Havering"},{"$f":"IF($A67=\"\",\"\",IF(ISBLANK($A67),\"\",VLOOKUP($A67,Data!$A$4:$AI$155,30,FALSE)))","v":5340},{"$f":"IF($A67=\"\",\"\",IF(ISBLANK($A67),\"\",VLOOKUP($A67,Data!$A$4:$AI$155,31,FALSE)))","v":5610},{"$f":"IF($A67=\"\",\"\",IF(ISBLANK($A67),\"\",VLOOKUP($A67,Data!$A$4:$AI$155,32,FALSE)))","v":5750},{"$f":"IF($A67=\"\",\"\",IF(ISBLANK($A67),\"\",VLOOKUP($A67,Data!$A$4:$AI$155,33,FALSE)))","v":0.97},{"$f":"IF($A67=\"\",\"\",IF(ISBLANK($A67),\"\",VLOOKUP($A67,Data!$A$4:$AI$155,34,FALSE)))","v":1},{"$f":"IF($A67=\"\",\"\",IF(ISBLANK($A67),\"\",VLOOKUP($A67,Data!$A$4:$AI$155,35,FALSE)))","v":1.01}]
[{"$f":"IF('Early Years Table'!A68=\"\",\"\",IF(ISBLANK('Early Years Table'!A68),\"\",'Early Years Table'!A68))","v":884},{"$f":"IF($A68=\"\",\"\",IF(ISBLANK($A68),\"\",INDEX('LEA Nos codes'!$A$3:$A$154,MATCH($A68,'LEA Nos codes'!$B$3:$B$154,0))))","v":"Herefordshire"},{"$f":"IF($A68=\"\",\"\",IF(ISBLANK($A68),\"\",VLOOKUP($A68,Data!$A$4:$AI$155,30,FALSE)))","v":3570},{"$f":"IF($A68=\"\",\"\",IF(ISBLANK($A68),\"\",VLOOKUP($A68,Data!$A$4:$AI$155,31,FALSE)))","v":3680},{"$f":"IF($A68=\"\",\"\",IF(ISBLANK($A68),\"\",VLOOKUP($A68,Data!$A$4:$AI$155,32,FALSE)))","v":3720},{"$f":"IF($A68=\"\",\"\",IF(ISBLANK($A68),\"\",VLOOKUP($A68,Data!$A$4:$AI$155,33,FALSE)))","v":0.96},{"$f":"IF($A68=\"\",\"\",IF(ISBLANK($A68),\"\",VLOOKUP($A68,Data!$A$4:$AI$155,34,FALSE)))","v":0.96},{"$f":"IF($A68=\"\",\"\",IF(ISBLANK($A68),\"\",VLOOKUP($A68,Data!$A$4:$AI$155,35,FALSE)))","v":0.96}]
[{"$f":"IF('Early Years Table'!A69=\"\",\"\",IF(ISBLANK('Early Years Table'!A69),\"\",'Early Years Table'!A69))","v":919},{"$f":"IF($A69=\"\",\"\",IF(ISBLANK($A69),\"\",INDEX('LEA Nos codes'!$A$3:$A$154,MATCH($A69,'LEA Nos codes'!$B$3:$B$154,0))))","v":"Hertfordshire"},{"$f":"IF($A69=\"\",\"\",IF(ISBLANK($A69),\"\",VLOOKUP($A69,Data!$A$4:$AI$155,30,FALSE)))","v":27830},{"$f":"IF($A69=\"\",\"\",IF(ISBLANK($A69),\"\",VLOOKUP($A69,Data!$A$4:$AI$155,31,FALSE)))","v":28410},{"$f":"IF($A69=\"\",\"\",IF(ISBLANK($A69),\"\",VLOOKUP($A69,Data!$A$4:$AI$155,32,FALSE)))","v":28920},{"$f":"IF($A69=\"\",\"\",IF(ISBLANK($A69),\"\",VLOOKUP($A69,Data!$A$4:$AI$155,33,FALSE)))","v":0.97},{"$f":"IF($A69=\"\",\"\",IF(ISBLANK($A69),\"\",VLOOKUP($A69,Data!$A$4:$AI$155,34,FALSE)))","v":0.96},{"$f":"IF($A69=\"\",\"\",IF(ISBLANK($A69),\"\",VLOOKUP($A69,Data!$A$4:$AI$155,35,FALSE)))","v":0.96}]
[{"$f":"IF('Early Years Table'!A70=\"\",\"\",IF(ISBLANK('Early Years Table'!A70),\"\",'Early Years Table'!A70))","v":312},{"$f":"IF($A70=\"\",\"\",IF(ISBLANK($A70),\"\",INDEX('LEA Nos codes'!$A$3:$A$154,MATCH($A70,'LEA Nos codes'!$B$3:$B$154,0))))","v":"Hillingdon"},{"$f":"IF($A70=\"\",\"\",IF(ISBLANK($A70),\"\",VLOOKUP($A70,Data!$A$4:$AI$155,30,FALSE)))","v":7320},{"$f":"IF($A70=\"\",\"\",IF(ISBLANK($A70),\"\",VLOOKUP($A70,Data!$A$4:$AI$155,31,FALSE)))","v":7670},{"$f":"IF($A70=\"\",\"\",IF(ISBLANK($A70),\"\",VLOOKUP($A70,Data!$A$4:$AI$155,32,FALSE)))","v":7990},{"$f":"IF($A70=\"\",\"\",IF(ISBLANK($A70),\"\",VLOOKUP($A70,Data!$A$4:$AI$155,33,FALSE)))","v":0.96},{"$f":"IF($A70=\"\",\"\",IF(ISBLANK($A70),\"\",VLOOKUP($A70,Data!$A$4:$AI$155,34,FALSE)))","v":0.96},{"$f":"IF($A70=\"\",\"\",IF(ISBLANK($A70),\"\",VLOOKUP($A70,Data!$A$4:$AI$155,35,FALSE)))","v":0.98}]
[{"$f":"IF('Early Years Table'!A71=\"\",\"\",IF(ISBLANK('Early Years Table'!A71),\"\",'Early Years Table'!A71))","v":313},{"$f":"IF($A71=\"\",\"\",IF(ISBLANK($A71),\"\",INDEX('LEA Nos codes'!$A$3:$A$154,MATCH($A71,'LEA Nos codes'!$B$3:$B$154,0))))","v":"Hounslow"},{"$f":"IF($A71=\"\",\"\",IF(ISBLANK($A71),\"\",VLOOKUP($A71,Data!$A$4:$AI$155,30,FALSE)))","v":5860},{"$f":"IF($A71=\"\",\"\",IF(ISBLANK($A71),\"\",VLOOKUP($A71,Data!$A$4:$AI$155,31,FALSE)))","v":6380},{"$f":"IF($A71=\"\",\"\",IF(ISBLANK($A71),\"\",VLOOKUP($A71,Data!$A$4:$AI$155,32,FALSE)))","v":6750},{"$f":"IF($A71=\"\",\"\",IF(ISBLANK($A71),\"\",VLOOKUP($A71,Data!$A$4:$AI$155,33,FALSE)))","v":0.79},{"$f":"IF($A71=\"\",\"\",IF(ISBLANK($A71),\"\",VLOOKUP($A71,Data!$A$4:$AI$155,34,FALSE)))","v":0.82},{"$f":"IF($A71=\"\",\"\",IF(ISBLANK($A71),\"\",VLOOKUP($A71,Data!$A$4:$AI$155,35,FALSE)))","v":0.87}]
[{"$f":"IF('Early Years Table'!A72=\"\",\"\",IF(ISBLANK('Early Years Table'!A72),\"\",'Early Years Table'!A72))","v":921},{"$f":"IF($A72=\"\",\"\",IF(ISBLANK($A72),\"\",INDEX('LEA Nos codes'!$A$3:$A$154,MATCH($A72,'LEA Nos codes'!$B$3:$B$154,0))))","v":"Isle of Wight"},{"$f":"IF($A72=\"\",\"\",IF(ISBLANK($A72),\"\",VLOOKUP($A72,Data!$A$4:$AI$155,30,FALSE)))","v":2590},{"$f":"IF($A72=\"\",\"\",IF(ISBLANK($A72),\"\",VLOOKUP($A72,Data!$A$4:$AI$155,31,FALSE)))","v":2530},{"$f":"IF($A72=\"\",\"\",IF(ISBLANK($A72),\"\",VLOOKUP($A72,Data!$A$4:$AI$155,32,FALSE)))","v":2510},{"$f":"IF($A72=\"\",\"\",IF(ISBLANK($A72),\"\",VLOOKUP($A72,Data!$A$4:$AI$155,33,FALSE)))","v":0.97},{"$f":"IF($A72=\"\",\"\",IF(ISBLANK($A72),\"\",VLOOKUP($A72,Data!$A$4:$AI$155,34,FALSE)))","v":0.98},{"$f":"IF($A72=\"\",\"\",IF(ISBLANK($A72),\"\",VLOOKUP($A72,Data!$A$4:$AI$155,35,FALSE)))","v":0.97}]
[{"$f":"IF('Early Years Table'!A73=\"\",\"\",IF(ISBLANK('Early Years Table'!A73),\"\",'Early Years Table'!A73))","v":420},{"$f":"IF($A73=\"\",\"\",IF(ISBLANK($A73),\"\",INDEX('LEA Nos codes'!$A$3:$A$154,MATCH($A73,'LEA Nos codes'!$B$3:$B$154,0))))","v":"Isles of Scilly"},{"$f":"IF($A73=\"\",\"\",IF(ISBLANK($A73),\"\",VLOOKUP($A73,Data!$A$4:$AI$155,30,FALSE)))","v":70},{"$f":"IF($A73=\"\",\"\",IF(ISBLANK($A73),\"\",VLOOKUP($A73,Data!$A$4:$AI$155,31,FALSE)))","v":60},{"$f":"IF($A73=\"\",\"\",IF(ISBLANK($A73),\"\",VLOOKUP($A73,Data!$A$4:$AI$155,32,FALSE)))","v":40},{"$f":"IF($A73=\"\",\"\",IF(ISBLANK($A73),\"\",VLOOKUP($A73,Data!$A$4:$AI$155,33,FALSE)))","v":1.23},{"$f":"IF($A73=\"\",\"\",IF(ISBLANK($A73),\"\",VLOOKUP($A73,Data!$A$4:$AI$155,34,FALSE)))","v":1.1200000000000001},{"$f":"IF($A73=\"\",\"\",IF(ISBLANK($A73),\"\",VLOOKUP($A73,Data!$A$4:$AI$155,35,FALSE)))","v":1}]
[{"$f":"IF('Early Years Table'!A74=\"\",\"\",IF(ISBLANK('Early Years Table'!A74),\"\",'Early Years Table'!A74))","v":206},{"$f":"IF($A74=\"\",\"\",IF(ISBLANK($A74),\"\",INDEX('LEA Nos codes'!$A$3:$A$154,MATCH($A74,'LEA Nos codes'!$B$3:$B$154,0))))","v":"Islington"},{"$f":"IF($A74=\"\",\"\",IF(ISBLANK($A74),\"\",VLOOKUP($A74,Data!$A$4:$AI$155,30,FALSE)))","v":4480},{"$f":"IF($A74=\"\",\"\",IF(ISBLANK($A74),\"\",VLOOKUP($A74,Data!$A$4:$AI$155,31,FALSE)))","v":4550},{"$f":"IF($A74=\"\",\"\",IF(ISBLANK($A74),\"\",VLOOKUP($A74,Data!$A$4:$AI$155,32,FALSE)))","v":4540},{"$f":"IF($A74=\"\",\"\",IF(ISBLANK($A74),\"\",VLOOKUP($A74,Data!$A$4:$AI$155,33,FALSE)))","v":0.97},{"$f":"IF($A74=\"\",\"\",IF(ISBLANK($A74),\"\",VLOOKUP($A74,Data!$A$4:$AI$155,34,FALSE)))","v":0.97},{"$f":"IF($A74=\"\",\"\",IF(ISBLANK($A74),\"\",VLOOKUP($A74,Data!$A$4:$AI$155,35,FALSE)))","v":0.98}]
[{"$f":"IF('Early Years Table'!A75=\"\",\"\",IF(ISBLANK('Early Years Table'!A75),\"\",'Early Years Table'!A75))","v":207},{"$f":"IF($A75=\"\",\"\",IF(ISBLANK($A75),\"\",INDEX('LEA Nos codes'!$A$3:$A$154,MATCH($A75,'LEA Nos codes'!$B$3:$B$154,0))))","v":"Kensington and Chelsea"},{"$f":"IF($A75=\"\",\"\",IF(ISBLANK($A75),\"\",VLOOKUP($A75,Data!$A$4:$AI$155,30,FALSE)))","v":2740},{"$f":"IF($A75=\"\",\"\",IF(ISBLANK($A75),\"\",VLOOKUP($A75,Data!$A$4:$AI$155,31,FALSE)))","v":2700},{"$f":"IF($A75=\"\",\"\",IF(ISBLANK($A75),\"\",VLOOKUP($A75,Data!$A$4:$AI$155,32,FALSE)))","v":2730},{"$f":"IF($A75=\"\",\"\",IF(ISBLANK($A75),\"\",VLOOKUP($A75,Data!$A$4:$AI$155,33,FALSE)))","v":0.75},{"$f":"IF($A75=\"\",\"\",IF(ISBLANK($A75),\"\",VLOOKUP($A75,Data!$A$4:$AI$155,34,FALSE)))","v":0.77},{"$f":"IF($A75=\"\",\"\",IF(ISBLANK($A75),\"\",VLOOKUP($A75,Data!$A$4:$AI$155,35,FALSE)))","v":0.79}]
[{"$f":"IF('Early Years Table'!A76=\"\",\"\",IF(ISBLANK('Early Years Table'!A76),\"\",'Early Years Table'!A76))","v":886},{"$f":"IF($A76=\"\",\"\",IF(ISBLANK($A76),\"\",INDEX('LEA Nos codes'!$A$3:$A$154,MATCH($A76,'LEA Nos codes'!$B$3:$B$154,0))))","v":"Kent"},{"$f":"IF($A76=\"\",\"\",IF(ISBLANK($A76),\"\",VLOOKUP($A76,Data!$A$4:$AI$155,30,FALSE)))","v":33140},{"$f":"IF($A76=\"\",\"\",IF(ISBLANK($A76),\"\",VLOOKUP($A76,Data!$A$4:$AI$155,31,FALSE)))","v":34090},{"$f":"IF($A76=\"\",\"\",IF(ISBLANK($A76),\"\",VLOOKUP($A76,Data!$A$4:$AI$155,32,FALSE)))","v":35000},{"$f":"IF($A76=\"\",\"\",IF(ISBLANK($A76),\"\",VLOOKUP($A76,Data!$A$4:$AI$155,33,FALSE)))","v":0.94},{"$f":"IF($A76=\"\",\"\",IF(ISBLANK($A76),\"\",VLOOKUP($A76,Data!$A$4:$AI$155,34,FALSE)))","v":0.95},{"$f":"IF($A76=\"\",\"\",IF(ISBLANK($A76),\"\",VLOOKUP($A76,Data!$A$4:$AI$155,35,FALSE)))","v":0.96}]
[{"$f":"IF('Early Years Table'!A77=\"\",\"\",IF(ISBLANK('Early Years Table'!A77),\"\",'Early Years Table'!A77))","v":314},{"$f":"IF($A77=\"\",\"\",IF(ISBLANK($A77),\"\",INDEX('LEA Nos codes'!$A$3:$A$154,MATCH($A77,'LEA Nos codes'!$B$3:$B$154,0))))","v":"Kingston upon Thames"},{"$f":"IF($A77=\"\",\"\",IF(ISBLANK($A77),\"\",VLOOKUP($A77,Data!$A$4:$AI$155,30,FALSE)))","v":3850},{"$f":"IF($A77=\"\",\"\",IF(ISBLANK($A77),\"\",VLOOKUP($A77,Data!$A$4:$AI$155,31,FALSE)))","v":4120},{"$f":"IF($A77=\"\",\"\",IF(ISBLANK($A77),\"\",VLOOKUP($A77,Data!$A$4:$AI$155,32,FALSE)))","v":4220},{"$f":"IF($A77=\"\",\"\",IF(ISBLANK($A77),\"\",VLOOKUP($A77,Data!$A$4:$AI$155,33,FALSE)))","v":0.92},{"$f":"IF($A77=\"\",\"\",IF(ISBLANK($A77),\"\",VLOOKUP($A77,Data!$A$4:$AI$155,34,FALSE)))","v":0.94},{"$f":"IF($A77=\"\",\"\",IF(ISBLANK($A77),\"\",VLOOKUP($A77,Data!$A$4:$AI$155,35,FALSE)))","v":0.94}]
[{"$f":"IF('Early Years Table'!A78=\"\",\"\",IF(ISBLANK('Early Years Table'!A78),\"\",'Early Years Table'!A78))","v":382},{"$f":"IF($A78=\"\",\"\",IF(ISBLANK($A78),\"\",INDEX('LEA Nos codes'!$A$3:$A$154,MATCH($A78,'LEA Nos codes'!$B$3:$B$154,0))))","v":"Kirklees"},{"$f":"IF($A78=\"\",\"\",IF(ISBLANK($A78),\"\",VLOOKUP($A78,Data!$A$4:$AI$155,30,FALSE)))","v":10640},{"$f":"IF($A78=\"\",\"\",IF(ISBLANK($A78),\"\",VLOOKUP($A78,Data!$A$4:$AI$155,31,FALSE)))","v":10860},{"$f":"IF($A78=\"\",\"\",IF(ISBLANK($A78),\"\",VLOOKUP($A78,Data!$A$4:$AI$155,32,FALSE)))","v":11000},{"$f":"IF($A78=\"\",\"\",IF(ISBLANK($A78),\"\",VLOOKUP($A78,Data!$A$4:$AI$155,33,FALSE)))","v":0.95},{"$f":"IF($A78=\"\",\"\",IF(ISBLANK($A78),\"\",VLOOKUP($A78,Data!$A$4:$AI$155,34,FALSE)))","v":0.96},{"$f":"IF($A78=\"\",\"\",IF(ISBLANK($A78),\"\",VLOOKUP($A78,Data!$A$4:$AI$155,35,FALSE)))","v":0.97}]
[{"$f":"IF('Early Years Table'!A79=\"\",\"\",IF(ISBLANK('Early Years Table'!A79),\"\",'Early Years Table'!A79))","v":340},{"$f":"IF($A79=\"\",\"\",IF(ISBLANK($A79),\"\",INDEX('LEA Nos codes'!$A$3:$A$154,MATCH($A79,'LEA Nos codes'!$B$3:$B$154,0))))","v":"Knowsley"},{"$f":"IF($A79=\"\",\"\",IF(ISBLANK($A79),\"\",VLOOKUP($A79,Data!$A$4:$AI$155,30,FALSE)))","v":3650},{"$f":"IF($A79=\"\",\"\",IF(ISBLANK($A79),\"\",VLOOKUP($A79,Data!$A$4:$AI$155,31,FALSE)))","v":3640},{"$f":"IF($A79=\"\",\"\",IF(ISBLANK($A79),\"\",VLOOKUP($A79,Data!$A$4:$AI$155,32,FALSE)))","v":3620},{"$f":"IF($A79=\"\",\"\",IF(ISBLANK($A79),\"\",VLOOKUP($A79,Data!$A$4:$AI$155,33,FALSE)))","v":0.99},{"$f":"IF($A79=\"\",\"\",IF(ISBLANK($A79),\"\",VLOOKUP($A79,Data!$A$4:$AI$155,34,FALSE)))","v":1},{"$f":"IF($A79=\"\",\"\",IF(ISBLANK($A79),\"\",VLOOKUP($A79,Data!$A$4:$AI$155,35,FALSE)))","v":0.99}]
[{"$f":"IF('Early Years Table'!A80=\"\",\"\",IF(ISBLANK('Early Years Table'!A80),\"\",'Early Years Table'!A80))","v":208},{"$f":"IF($A80=\"\",\"\",IF(ISBLANK($A80),\"\",INDEX('LEA Nos codes'!$A$3:$A$154,MATCH($A80,'LEA Nos codes'!$B$3:$B$154,0))))","v":"Lambeth"},{"$f":"IF($A80=\"\",\"\",IF(ISBLANK($A80),\"\",VLOOKUP($A80,Data!$A$4:$AI$155,30,FALSE)))","v":6930},{"$f":"IF($A80=\"\",\"\",IF(ISBLANK($A80),\"\",VLOOKUP($A80,Data!$A$4:$AI$155,31,FALSE)))","v":7030},{"$f":"IF($A80=\"\",\"\",IF(ISBLANK($A80),\"\",VLOOKUP($A80,Data!$A$4:$AI$155,32,FALSE)))","v":7150},{"$f":"IF($A80=\"\",\"\",IF(ISBLANK($A80),\"\",VLOOKUP($A80,Data!$A$4:$AI$155,33,FALSE)))","v":0.88},{"$f":"IF($A80=\"\",\"\",IF(ISBLANK($A80),\"\",VLOOKUP($A80,Data!$A$4:$AI$155,34,FALSE)))","v":0.89},{"$f":"IF($A80=\"\",\"\",IF(ISBLANK($A80),\"\",VLOOKUP($A80,Data!$A$4:$AI$155,35,FALSE)))","v":0.91}]
[{"$f":"IF('Early Years Table'!A81=\"\",\"\",IF(ISBLANK('Early Years Table'!A81),\"\",'Early Years Table'!A81))","v":888},{"$f":"IF($A81=\"\",\"\",IF(ISBLANK($A81),\"\",INDEX('LEA Nos codes'!$A$3:$A$154,MATCH($A81,'LEA Nos codes'!$B$3:$B$154,0))))","v":"Lancashire"},{"$f":"IF($A81=\"\",\"\",IF(ISBLANK($A81),\"\",VLOOKUP($A81,Data!$A$4:$AI$155,30,FALSE)))","v":25910},{"$f":"IF($A81=\"\",\"\",IF(ISBLANK($A81),\"\",VLOOKUP($A81,Data!$A$4:$AI$155,31,FALSE)))","v":26740},{"$f":"IF($A81=\"\",\"\",IF(ISBLANK($A81),\"\",VLOOKUP($A81,Data!$A$4:$AI$155,32,FALSE)))","v":27130},{"$f":"IF($A81=\"\",\"\",IF(ISBLANK($A81),\"\",VLOOKUP($A81,Data!$A$4:$AI$155,33,FALSE)))","v":0.96},{"$f":"IF($A81=\"\",\"\",IF(ISBLANK($A81),\"\",VLOOKUP($A81,Data!$A$4:$AI$155,34,FALSE)))","v":0.97},{"$f":"IF($A81=\"\",\"\",IF(ISBLANK($A81),\"\",VLOOKUP($A81,Data!$A$4:$AI$155,35,FALSE)))","v":0.98}]
[{"$f":"IF('Early Years Table'!A82=\"\",\"\",IF(ISBLANK('Early Years Table'!A82),\"\",'Early Years Table'!A82))","v":383},{"$f":"IF($A82=\"\",\"\",IF(ISBLANK($A82),\"\",INDEX('LEA Nos codes'!$A$3:$A$154,MATCH($A82,'LEA Nos codes'!$B$3:$B$154,0))))","v":"Leeds"},{"$f":"IF($A82=\"\",\"\",IF(ISBLANK($A82),\"\",VLOOKUP($A82,Data!$A$4:$AI$155,30,FALSE)))","v":17820},{"$f":"IF($A82=\"\",\"\",IF(ISBLANK($A82),\"\",VLOOKUP($A82,Data!$A$4:$AI$155,31,FALSE)))","v":18400},{"$f":"IF($A82=\"\",\"\",IF(ISBLANK($A82),\"\",VLOOKUP($A82,Data!$A$4:$AI$155,32,FALSE)))","v":19050},{"$f":"IF($A82=\"\",\"\",IF(ISBLANK($A82),\"\",VLOOKUP($A82,Data!$A$4:$AI$155,33,FALSE)))","v":0.98},{"$f":"IF($A82=\"\",\"\",IF(ISBLANK($A82),\"\",VLOOKUP($A82,Data!$A$4:$AI$155,34,FALSE)))","v":0.98},{"$f":"IF($A82=\"\",\"\",IF(ISBLANK($A82),\"\",VLOOKUP($A82,Data!$A$4:$AI$155,35,FALSE)))","v":0.99}]
[{"$f":"IF('Early Years Table'!A83=\"\",\"\",IF(ISBLANK('Early Years Table'!A83),\"\",'Early Years Table'!A83))","v":856},{"$f":"IF($A83=\"\",\"\",IF(ISBLANK($A83),\"\",INDEX('LEA Nos codes'!$A$3:$A$154,MATCH($A83,'LEA Nos codes'!$B$3:$B$154,0))))","v":"Leicester"},{"$f":"IF($A83=\"\",\"\",IF(ISBLANK($A83),\"\",VLOOKUP($A83,Data!$A$4:$AI$155,30,FALSE)))","v":8540},{"$f":"IF($A83=\"\",\"\",IF(ISBLANK($A83),\"\",VLOOKUP($A83,Data!$A$4:$AI$155,31,FALSE)))","v":8960},{"$f":"IF($A83=\"\",\"\",IF(ISBLANK($A83),\"\",VLOOKUP($A83,Data!$A$4:$AI$155,32,FALSE)))","v":9020},{"$f":"IF($A83=\"\",\"\",IF(ISBLANK($A83),\"\",VLOOKUP($A83,Data!$A$4:$AI$155,33,FALSE)))","v":0.91},{"$f":"IF($A83=\"\",\"\",IF(ISBLANK($A83),\"\",VLOOKUP($A83,Data!$A$4:$AI$155,34,FALSE)))","v":0.93},{"$f":"IF($A83=\"\",\"\",IF(ISBLANK($A83),\"\",VLOOKUP($A83,Data!$A$4:$AI$155,35,FALSE)))","v":0.93}]
[{"$f":"IF('Early Years Table'!A84=\"\",\"\",IF(ISBLANK('Early Years Table'!A84),\"\",'Early Years Table'!A84))","v":855},{"$f":"IF($A84=\"\",\"\",IF(ISBLANK($A84),\"\",INDEX('LEA Nos codes'!$A$3:$A$154,MATCH($A84,'LEA Nos codes'!$B$3:$B$154,0))))","v":"Leicestershire"},{"$f":"IF($A84=\"\",\"\",IF(ISBLANK($A84),\"\",VLOOKUP($A84,Data!$A$4:$AI$155,30,FALSE)))","v":13850},{"$f":"IF($A84=\"\",\"\",IF(ISBLANK($A84),\"\",VLOOKUP($A84,Data!$A$4:$AI$155,31,FALSE)))","v":14160},{"$f":"IF($A84=\"\",\"\",IF(ISBLANK($A84),\"\",VLOOKUP($A84,Data!$A$4:$AI$155,32,FALSE)))","v":14270},{"$f":"IF($A84=\"\",\"\",IF(ISBLANK($A84),\"\",VLOOKUP($A84,Data!$A$4:$AI$155,33,FALSE)))","v":0.95},{"$f":"IF($A84=\"\",\"\",IF(ISBLANK($A84),\"\",VLOOKUP($A84,Data!$A$4:$AI$155,34,FALSE)))","v":0.96},{"$f":"IF($A84=\"\",\"\",IF(ISBLANK($A84),\"\",VLOOKUP($A84,Data!$A$4:$AI$155,35,FALSE)))","v":0.98}]
[{"$f":"IF('Early Years Table'!A85=\"\",\"\",IF(ISBLANK('Early Years Table'!A85),\"\",'Early Years Table'!A85))","v":209},{"$f":"IF($A85=\"\",\"\",IF(ISBLANK($A85),\"\",INDEX('LEA Nos codes'!$A$3:$A$154,MATCH($A85,'LEA Nos codes'!$B$3:$B$154,0))))","v":"Lewisham"},{"$f":"IF($A85=\"\",\"\",IF(ISBLANK($A85),\"\",VLOOKUP($A85,Data!$A$4:$AI$155,30,FALSE)))","v":6870},{"$f":"IF($A85=\"\",\"\",IF(ISBLANK($A85),\"\",VLOOKUP($A85,Data!$A$4:$AI$155,31,FALSE)))","v":7160},{"$f":"IF($A85=\"\",\"\",IF(ISBLANK($A85),\"\",VLOOKUP($A85,Data!$A$4:$AI$155,32,FALSE)))","v":7450},{"$f":"IF($A85=\"\",\"\",IF(ISBLANK($A85),\"\",VLOOKUP($A85,Data!$A$4:$AI$155,33,FALSE)))","v":0.82},{"$f":"IF($A85=\"\",\"\",IF(ISBLANK($A85),\"\",VLOOKUP($A85,Data!$A$4:$AI$155,34,FALSE)))","v":0.84},{"$f":"IF($A85=\"\",\"\",IF(ISBLANK($A85),\"\",VLOOKUP($A85,Data!$A$4:$AI$155,35,FALSE)))","v":0.86}]
[{"$f":"IF('Early Years Table'!A86=\"\",\"\",IF(ISBLANK('Early Years Table'!A86),\"\",'Early Years Table'!A86))","v":925},{"$f":"IF($A86=\"\",\"\",IF(ISBLANK($A86),\"\",INDEX('LEA Nos codes'!$A$3:$A$154,MATCH($A86,'LEA Nos codes'!$B$3:$B$154,0))))","v":"Lincolnshire"},{"$f":"IF($A86=\"\",\"\",IF(ISBLANK($A86),\"\",VLOOKUP($A86,Data!$A$4:$AI$155,30,FALSE)))","v":14290},{"$f":"IF($A86=\"\",\"\",IF(ISBLANK($A86),\"\",VLOOKUP($A86,Data!$A$4:$AI$155,31,FALSE)))","v":15020},{"$f":"IF($A86=\"\",\"\",IF(ISBLANK($A86),\"\",VLOOKUP($A86,Data!$A$4:$AI$155,32,FALSE)))","v":15490},{"$f":"IF($A86=\"\",\"\",IF(ISBLANK($A86),\"\",VLOOKUP($A86,Data!$A$4:$AI$155,33,FALSE)))","v":0.97},{"$f":"IF($A86=\"\",\"\",IF(ISBLANK($A86),\"\",VLOOKUP($A86,Data!$A$4:$AI$155,34,FALSE)))","v":1},{"$f":"IF($A86=\"\",\"\",IF(ISBLANK($A86),\"\",VLOOKUP($A86,Data!$A$4:$AI$155,35,FALSE)))","v":1.01}]
[{"$f":"IF('Early Years Table'!A87=\"\",\"\",IF(ISBLANK('Early Years Table'!A87),\"\",'Early Years Table'!A87))","v":341},{"$f":"IF($A87=\"\",\"\",IF(ISBLANK($A87),\"\",INDEX('LEA Nos codes'!$A$3:$A$154,MATCH($A87,'LEA Nos codes'!$B$3:$B$154,0))))","v":"Liverpool"},{"$f":"IF($A87=\"\",\"\",IF(ISBLANK($A87),\"\",VLOOKUP($A87,Data!$A$4:$AI$155,30,FALSE)))","v":9740},{"$f":"IF($A87=\"\",\"\",IF(ISBLANK($A87),\"\",VLOOKUP($A87,Data!$A$4:$AI$155,31,FALSE)))","v":9990},{"$f":"IF($A87=\"\",\"\",IF(ISBLANK($A87),\"\",VLOOKUP($A87,Data!$A$4:$AI$155,32,FALSE)))","v":10150},{"$f":"IF($A87=\"\",\"\",IF(ISBLANK($A87),\"\",VLOOKUP($A87,Data!$A$4:$AI$155,33,FALSE)))","v":0.97},{"$f":"IF($A87=\"\",\"\",IF(ISBLANK($A87),\"\",VLOOKUP($A87,Data!$A$4:$AI$155,34,FALSE)))","v":0.97},{"$f":"IF($A87=\"\",\"\",IF(ISBLANK($A87),\"\",VLOOKUP($A87,Data!$A$4:$AI$155,35,FALSE)))","v":0.98}]
[{"$f":"IF('Early Years Table'!A88=\"\",\"\",IF(ISBLANK('Early Years Table'!A88),\"\",'Early Years Table'!A88))","v":821},{"$f":"IF($A88=\"\",\"\",IF(ISBLANK($A88),\"\",INDEX('LEA Nos codes'!$A$3:$A$154,MATCH($A88,'LEA Nos codes'!$B$3:$B$154,0))))","v":"Luton"},{"$f":"IF($A88=\"\",\"\",IF(ISBLANK($A88),\"\",VLOOKUP($A88,Data!$A$4:$AI$155,30,FALSE)))","v":6080},{"$f":"IF($A88=\"\",\"\",IF(ISBLANK($A88),\"\",VLOOKUP($A88,Data!$A$4:$AI$155,31,FALSE)))","v":6420},{"$f":"IF($A88=\"\",\"\",IF(ISBLANK($A88),\"\",VLOOKUP($A88,Data!$A$4:$AI$155,32,FALSE)))","v":6390},{"$f":"IF($A88=\"\",\"\",IF(ISBLANK($A88),\"\",VLOOKUP($A88,Data!$A$4:$AI$155,33,FALSE)))","v":0.94},{"$f":"IF($A88=\"\",\"\",IF(ISBLANK($A88),\"\",VLOOKUP($A88,Data!$A$4:$AI$155,34,FALSE)))","v":0.96},{"$f":"IF($A88=\"\",\"\",IF(ISBLANK($A88),\"\",VLOOKUP($A88,Data!$A$4:$AI$155,35,FALSE)))","v":0.96}]
[{"$f":"IF('Early Years Table'!A89=\"\",\"\",IF(ISBLANK('Early Years Table'!A89),\"\",'Early Years Table'!A89))","v":352},{"$f":"IF($A89=\"\",\"\",IF(ISBLANK($A89),\"\",INDEX('LEA Nos codes'!$A$3:$A$154,MATCH($A89,'LEA Nos codes'!$B$3:$B$154,0))))","v":"Manchester"},{"$f":"IF($A89=\"\",\"\",IF(ISBLANK($A89),\"\",VLOOKUP($A89,Data!$A$4:$AI$155,30,FALSE)))","v":12350},{"$f":"IF($A89=\"\",\"\",IF(ISBLANK($A89),\"\",VLOOKUP($A89,Data!$A$4:$AI$155,31,FALSE)))","v":12700},{"$f":"IF($A89=\"\",\"\",IF(ISBLANK($A89),\"\",VLOOKUP($A89,Data!$A$4:$AI$155,32,FALSE)))","v":13030},{"$f":"IF($A89=\"\",\"\",IF(ISBLANK($A89),\"\",VLOOKUP($A89,Data!$A$4:$AI$155,33,FALSE)))","v":0.89},{"$f":"IF($A89=\"\",\"\",IF(ISBLANK($A89),\"\",VLOOKUP($A89,Data!$A$4:$AI$155,34,FALSE)))","v":0.89},{"$f":"IF($A89=\"\",\"\",IF(ISBLANK($A89),\"\",VLOOKUP($A89,Data!$A$4:$AI$155,35,FALSE)))","v":0.92}]
[{"$f":"IF('Early Years Table'!A90=\"\",\"\",IF(ISBLANK('Early Years Table'!A90),\"\",'Early Years Table'!A90))","v":887},{"$f":"IF($A90=\"\",\"\",IF(ISBLANK($A90),\"\",INDEX('LEA Nos codes'!$A$3:$A$154,MATCH($A90,'LEA Nos codes'!$B$3:$B$154,0))))","v":"Medway"},{"$f":"IF($A90=\"\",\"\",IF(ISBLANK($A90),\"\",VLOOKUP($A90,Data!$A$4:$AI$155,30,FALSE)))","v":6410},{"$f":"IF($A90=\"\",\"\",IF(ISBLANK($A90),\"\",VLOOKUP($A90,Data!$A$4:$AI$155,31,FALSE)))","v":6670},{"$f":"IF($A90=\"\",\"\",IF(ISBLANK($A90),\"\",VLOOKUP($A90,Data!$A$4:$AI$155,32,FALSE)))","v":6760},{"$f":"IF($A90=\"\",\"\",IF(ISBLANK($A90),\"\",VLOOKUP($A90,Data!$A$4:$AI$155,33,FALSE)))","v":0.95},{"$f":"IF($A90=\"\",\"\",IF(ISBLANK($A90),\"\",VLOOKUP($A90,Data!$A$4:$AI$155,34,FALSE)))","v":0.97},{"$f":"IF($A90=\"\",\"\",IF(ISBLANK($A90),\"\",VLOOKUP($A90,Data!$A$4:$AI$155,35,FALSE)))","v":0.97}]
[{"$f":"IF('Early Years Table'!A91=\"\",\"\",IF(ISBLANK('Early Years Table'!A91),\"\",'Early Years Table'!A91))","v":315},{"$f":"IF($A91=\"\",\"\",IF(ISBLANK($A91),\"\",INDEX('LEA Nos codes'!$A$3:$A$154,MATCH($A91,'LEA Nos codes'!$B$3:$B$154,0))))","v":"Merton"},{"$f":"IF($A91=\"\",\"\",IF(ISBLANK($A91),\"\",VLOOKUP($A91,Data!$A$4:$AI$155,30,FALSE)))","v":5390},{"$f":"IF($A91=\"\",\"\",IF(ISBLANK($A91),\"\",VLOOKUP($A91,Data!$A$4:$AI$155,31,FALSE)))","v":5780},{"$f":"IF($A91=\"\",\"\",IF(ISBLANK($A91),\"\",VLOOKUP($A91,Data!$A$4:$AI$155,32,FALSE)))","v":5750},{"$f":"IF($A91=\"\",\"\",IF(ISBLANK($A91),\"\",VLOOKUP($A91,Data!$A$4:$AI$155,33,FALSE)))","v":0.95},{"$f":"IF($A91=\"\",\"\",IF(ISBLANK($A91),\"\",VLOOKUP($A91,Data!$A$4:$AI$155,34,FALSE)))","v":1.02},{"$f":"IF($A91=\"\",\"\",IF(ISBLANK($A91),\"\",VLOOKUP($A91,Data!$A$4:$AI$155,35,FALSE)))","v":0.99}]
[{"$f":"IF('Early Years Table'!A92=\"\",\"\",IF(ISBLANK('Early Years Table'!A92),\"\",'Early Years Table'!A92))","v":806},{"$f":"IF($A92=\"\",\"\",IF(ISBLANK($A92),\"\",INDEX('LEA Nos codes'!$A$3:$A$154,MATCH($A92,'LEA Nos codes'!$B$3:$B$154,0))))","v":"Middlesbrough"},{"$f":"IF($A92=\"\",\"\",IF(ISBLANK($A92),\"\",VLOOKUP($A92,Data!$A$4:$AI$155,30,FALSE)))","v":3750},{"$f":"IF($A92=\"\",\"\",IF(ISBLANK($A92),\"\",VLOOKUP($A92,Data!$A$4:$AI$155,31,FALSE)))","v":3740},{"$f":"IF($A92=\"\",\"\",IF(ISBLANK($A92),\"\",VLOOKUP($A92,Data!$A$4:$AI$155,32,FALSE)))","v":3750},{"$f":"IF($A92=\"\",\"\",IF(ISBLANK($A92),\"\",VLOOKUP($A92,Data!$A$4:$AI$155,33,FALSE)))","v":1},{"$f":"IF($A92=\"\",\"\",IF(ISBLANK($A92),\"\",VLOOKUP($A92,Data!$A$4:$AI$155,34,FALSE)))","v":1.01},{"$f":"IF($A92=\"\",\"\",IF(ISBLANK($A92),\"\",VLOOKUP($A92,Data!$A$4:$AI$155,35,FALSE)))","v":1.01}]
[{"$f":"IF('Early Years Table'!A93=\"\",\"\",IF(ISBLANK('Early Years Table'!A93),\"\",'Early Years Table'!A93))","v":826},{"$f":"IF($A93=\"\",\"\",IF(ISBLANK($A93),\"\",INDEX('LEA Nos codes'!$A$3:$A$154,MATCH($A93,'LEA Nos codes'!$B$3:$B$154,0))))","v":"Milton Keynes"},{"$f":"IF($A93=\"\",\"\",IF(ISBLANK($A93),\"\",VLOOKUP($A93,Data!$A$4:$AI$155,30,FALSE)))","v":6890},{"$f":"IF($A93=\"\",\"\",IF(ISBLANK($A93),\"\",VLOOKUP($A93,Data!$A$4:$AI$155,31,FALSE)))","v":7170},{"$f":"IF($A93=\"\",\"\",IF(ISBLANK($A93),\"\",VLOOKUP($A93,Data!$A$4:$AI$155,32,FALSE)))","v":7460},{"$f":"IF($A93=\"\",\"\",IF(ISBLANK($A93),\"\",VLOOKUP($A93,Data!$A$4:$AI$155,33,FALSE)))","v":0.91},{"$f":"IF($A93=\"\",\"\",IF(ISBLANK($A93),\"\",VLOOKUP($A93,Data!$A$4:$AI$155,34,FALSE)))","v":0.9},{"$f":"IF($A93=\"\",\"\",IF(ISBLANK($A93),\"\",VLOOKUP($A93,Data!$A$4:$AI$155,35,FALSE)))","v":0.92}]
[{"$f":"IF('Early Years Table'!A94=\"\",\"\",IF(ISBLANK('Early Years Table'!A94),\"\",'Early Years Table'!A94))","v":391},{"$f":"IF($A94=\"\",\"\",IF(ISBLANK($A94),\"\",INDEX('LEA Nos codes'!$A$3:$A$154,MATCH($A94,'LEA Nos codes'!$B$3:$B$154,0))))","v":"Newcastle upon Tyne"},{"$f":"IF($A94=\"\",\"\",IF(ISBLANK($A94),\"\",VLOOKUP($A94,Data!$A$4:$AI$155,30,FALSE)))","v":5860},{"$f":"IF($A94=\"\",\"\",IF(ISBLANK($A94),\"\",VLOOKUP($A94,Data!$A$4:$AI$155,31,FALSE)))","v":6050},{"$f":"IF($A94=\"\",\"\",IF(ISBLANK($A94),\"\",VLOOKUP($A94,Data!$A$4:$AI$155,32,FALSE)))","v":6250},{"$f":"IF($A94=\"\",\"\",IF(ISBLANK($A94),\"\",VLOOKUP($A94,Data!$A$4:$AI$155,33,FALSE)))","v":0.94},{"$f":"IF($A94=\"\",\"\",IF(ISBLANK($A94),\"\",VLOOKUP($A94,Data!$A$4:$AI$155,34,FALSE)))","v":0.93},{"$f":"IF($A94=\"\",\"\",IF(ISBLANK($A94),\"\",VLOOKUP($A94,Data!$A$4:$AI$155,35,FALSE)))","v":0.95}]
[{"$f":"IF('Early Years Table'!A95=\"\",\"\",IF(ISBLANK('Early Years Table'!A95),\"\",'Early Years Table'!A95))","v":316},{"$f":"IF($A95=\"\",\"\",IF(ISBLANK($A95),\"\",INDEX('LEA Nos codes'!$A$3:$A$154,MATCH($A95,'LEA Nos codes'!$B$3:$B$154,0))))","v":"Newham"},{"$f":"IF($A95=\"\",\"\",IF(ISBLANK($A95),\"\",VLOOKUP($A95,Data!$A$4:$AI$155,30,FALSE)))","v":9260},{"$f":"IF($A95=\"\",\"\",IF(ISBLANK($A95),\"\",VLOOKUP($A95,Data!$A$4:$AI$155,31,FALSE)))","v":9660},{"$f":"IF($A95=\"\",\"\",IF(ISBLANK($A95),\"\",VLOOKUP($A95,Data!$A$4:$AI$155,32,FALSE)))","v":9750},{"$f":"IF($A95=\"\",\"\",IF(ISBLANK($A95),\"\",VLOOKUP($A95,Data!$A$4:$AI$155,33,FALSE)))","v":0.93},{"$f":"IF($A95=\"\",\"\",IF(ISBLANK($A95),\"\",VLOOKUP($A95,Data!$A$4:$AI$155,34,FALSE)))","v":0.97},{"$f":"IF($A95=\"\",\"\",IF(ISBLANK($A95),\"\",VLOOKUP($A95,Data!$A$4:$AI$155,35,FALSE)))","v":1}]
[{"$f":"IF('Early Years Table'!A96=\"\",\"\",IF(ISBLANK('Early Years Table'!A96),\"\",'Early Years Table'!A96))","v":926},{"$f":"IF($A96=\"\",\"\",IF(ISBLANK($A96),\"\",INDEX('LEA Nos codes'!$A$3:$A$154,MATCH($A96,'LEA Nos codes'!$B$3:$B$154,0))))","v":"Norfolk"},{"$f":"IF($A96=\"\",\"\",IF(ISBLANK($A96),\"\",VLOOKUP($A96,Data!$A$4:$AI$155,30,FALSE)))","v":17150},{"$f":"IF($A96=\"\",\"\",IF(ISBLANK($A96),\"\",VLOOKUP($A96,Data!$A$4:$AI$155,31,FALSE)))","v":17860},{"$f":"IF($A96=\"\",\"\",IF(ISBLANK($A96),\"\",VLOOKUP($A96,Data!$A$4:$AI$155,32,FALSE)))","v":18230},{"$f":"IF($A96=\"\",\"\",IF(ISBLANK($A96),\"\",VLOOKUP($A96,Data!$A$4:$AI$155,33,FALSE)))","v":0.95},{"$f":"IF($A96=\"\",\"\",IF(ISBLANK($A96),\"\",VLOOKUP($A96,Data!$A$4:$AI$155,34,FALSE)))","v":0.96},{"$f":"IF($A96=\"\",\"\",IF(ISBLANK($A96),\"\",VLOOKUP($A96,Data!$A$4:$AI$155,35,FALSE)))","v":0.97}]
[{"$f":"IF('Early Years Table'!A97=\"\",\"\",IF(ISBLANK('Early Years Table'!A97),\"\",'Early Years Table'!A97))","v":812},{"$f":"IF($A97=\"\",\"\",IF(ISBLANK($A97),\"\",INDEX('LEA Nos codes'!$A$3:$A$154,MATCH($A97,'LEA Nos codes'!$B$3:$B$154,0))))","v":"North East Lincolnshire"},{"$f":"IF($A97=\"\",\"\",IF(ISBLANK($A97),\"\",VLOOKUP($A97,Data!$A$4:$AI$155,30,FALSE)))","v":3750},{"$f":"IF($A97=\"\",\"\",IF(ISBLANK($A97),\"\",VLOOKUP($A97,Data!$A$4:$AI$155,31,FALSE)))","v":3820},{"$f":"IF($A97=\"\",\"\",IF(ISBLANK($A97),\"\",VLOOKUP($A97,Data!$A$4:$AI$155,32,FALSE)))","v":3900},{"$f":"IF($A97=\"\",\"\",IF(ISBLANK($A97),\"\",VLOOKUP($A97,Data!$A$4:$AI$155,33,FALSE)))","v":0.96},{"$f":"IF($A97=\"\",\"\",IF(ISBLANK($A97),\"\",VLOOKUP($A97,Data!$A$4:$AI$155,34,FALSE)))","v":0.96},{"$f":"IF($A97=\"\",\"\",IF(ISBLANK($A97),\"\",VLOOKUP($A97,Data!$A$4:$AI$155,35,FALSE)))","v":0.97}]
[{"$f":"IF('Early Years Table'!A98=\"\",\"\",IF(ISBLANK('Early Years Table'!A98),\"\",'Early Years Table'!A98))","v":813},{"$f":"IF($A98=\"\",\"\",IF(ISBLANK($A98),\"\",INDEX('LEA Nos codes'!$A$3:$A$154,MATCH($A98,'LEA Nos codes'!$B$3:$B$154,0))))","v":"North Lincolnshire"},{"$f":"IF($A98=\"\",\"\",IF(ISBLANK($A98),\"\",VLOOKUP($A98,Data!$A$4:$AI$155,30,FALSE)))","v":3730},{"$f":"IF($A98=\"\",\"\",IF(ISBLANK($A98),\"\",VLOOKUP($A98,Data!$A$4:$AI$155,31,FALSE)))","v":3790},{"$f":"IF($A98=\"\",\"\",IF(ISBLANK($A98),\"\",VLOOKUP($A98,Data!$A$4:$AI$155,32,FALSE)))","v":3800},{"$f":"IF($A98=\"\",\"\",IF(ISBLANK($A98),\"\",VLOOKUP($A98,Data!$A$4:$AI$155,33,FALSE)))","v":0.92},{"$f":"IF($A98=\"\",\"\",IF(ISBLANK($A98),\"\",VLOOKUP($A98,Data!$A$4:$AI$155,34,FALSE)))","v":0.91},{"$f":"IF($A98=\"\",\"\",IF(ISBLANK($A98),\"\",VLOOKUP($A98,Data!$A$4:$AI$155,35,FALSE)))","v":0.9}]
[{"$f":"IF('Early Years Table'!A99=\"\",\"\",IF(ISBLANK('Early Years Table'!A99),\"\",'Early Years Table'!A99))","v":802},{"$f":"IF($A99=\"\",\"\",IF(ISBLANK($A99),\"\",INDEX('LEA Nos codes'!$A$3:$A$154,MATCH($A99,'LEA Nos codes'!$B$3:$B$154,0))))","v":"North Somerset"},{"$f":"IF($A99=\"\",\"\",IF(ISBLANK($A99),\"\",VLOOKUP($A99,Data!$A$4:$AI$155,30,FALSE)))","v":4580},{"$f":"IF($A99=\"\",\"\",IF(ISBLANK($A99),\"\",VLOOKUP($A99,Data!$A$4:$AI$155,31,FALSE)))","v":4760},{"$f":"IF($A99=\"\",\"\",IF(ISBLANK($A99),\"\",VLOOKUP($A99,Data!$A$4:$AI$155,32,FALSE)))","v":4740},{"$f":"IF($A99=\"\",\"\",IF(ISBLANK($A99),\"\",VLOOKUP($A99,Data!$A$4:$AI$155,33,FALSE)))","v":0.97},{"$f":"IF($A99=\"\",\"\",IF(ISBLANK($A99),\"\",VLOOKUP($A99,Data!$A$4:$AI$155,34,FALSE)))","v":1.01},{"$f":"IF($A99=\"\",\"\",IF(ISBLANK($A99),\"\",VLOOKUP($A99,Data!$A$4:$AI$155,35,FALSE)))","v":0.98}]
[{"$f":"IF('Early Years Table'!A100=\"\",\"\",IF(ISBLANK('Early Years Table'!A100),\"\",'Early Years Table'!A100))","v":392},{"$f":"IF($A100=\"\",\"\",IF(ISBLANK($A100),\"\",INDEX('LEA Nos codes'!$A$3:$A$154,MATCH($A100,'LEA Nos codes'!$B$3:$B$154,0))))","v":"North Tyneside"},{"$f":"IF($A100=\"\",\"\",IF(ISBLANK($A100),\"\",VLOOKUP($A100,Data!$A$4:$AI$155,30,FALSE)))","v":4560},{"$f":"IF($A100=\"\",\"\",IF(ISBLANK($A100),\"\",VLOOKUP($A100,Data!$A$4:$AI$155,31,FALSE)))","v":4600},{"$f":"IF($A100=\"\",\"\",IF(ISBLANK($A100),\"\",VLOOKUP($A100,Data!$A$4:$AI$155,32,FALSE)))","v":4730},{"$f":"IF($A100=\"\",\"\",IF(ISBLANK($A100),\"\",VLOOKUP($A100,Data!$A$4:$AI$155,33,FALSE)))","v":0.99},{"$f":"IF($A100=\"\",\"\",IF(ISBLANK($A100),\"\",VLOOKUP($A100,Data!$A$4:$AI$155,34,FALSE)))","v":0.98},{"$f":"IF($A100=\"\",\"\",IF(ISBLANK($A100),\"\",VLOOKUP($A100,Data!$A$4:$AI$155,35,FALSE)))","v":1}]
[{"$f":"IF('Early Years Table'!A101=\"\",\"\",IF(ISBLANK('Early Years Table'!A101),\"\",'Early Years Table'!A101))","v":815},{"$f":"IF($A101=\"\",\"\",IF(ISBLANK($A101),\"\",INDEX('LEA Nos codes'!$A$3:$A$154,MATCH($A101,'LEA Nos codes'!$B$3:$B$154,0))))","v":"North Yorkshire"},{"$f":"IF($A101=\"\",\"\",IF(ISBLANK($A101),\"\",VLOOKUP($A101,Data!$A$4:$AI$155,30,FALSE)))","v":12080},{"$f":"IF($A101=\"\",\"\",IF(ISBLANK($A101),\"\",VLOOKUP($A101,Data!$A$4:$AI$155,31,FALSE)))","v":12430},{"$f":"IF($A101=\"\",\"\",IF(ISBLANK($A101),\"\",VLOOKUP($A101,Data!$A$4:$AI$155,32,FALSE)))","v":12630},{"$f":"IF($A101=\"\",\"\",IF(ISBLANK($A101),\"\",VLOOKUP($A101,Data!$A$4:$AI$155,33,FALSE)))","v":0.96},{"$f":"IF($A101=\"\",\"\",IF(ISBLANK($A101),\"\",VLOOKUP($A101,Data!$A$4:$AI$155,34,FALSE)))","v":0.98},{"$f":"IF($A101=\"\",\"\",IF(ISBLANK($A101),\"\",VLOOKUP($A101,Data!$A$4:$AI$155,35,FALSE)))","v":1}]
[{"$f":"IF('Early Years Table'!A102=\"\",\"\",IF(ISBLANK('Early Years Table'!A102),\"\",'Early Years Table'!A102))","v":928},{"$f":"IF($A102=\"\",\"\",IF(ISBLANK($A102),\"\",INDEX('LEA Nos codes'!$A$3:$A$154,MATCH($A102,'LEA Nos codes'!$B$3:$B$154,0))))","v":"Northamptonshire"},{"$f":"IF($A102=\"\",\"\",IF(ISBLANK($A102),\"\",VLOOKUP($A102,Data!$A$4:$AI$155,30,FALSE)))","v":17170},{"$f":"IF($A102=\"\",\"\",IF(ISBLANK($A102),\"\",VLOOKUP($A102,Data!$A$4:$AI$155,31,FALSE)))","v":17940},{"$f":"IF($A102=\"\",\"\",IF(ISBLANK($A102),\"\",VLOOKUP($A102,Data!$A$4:$AI$155,32,FALSE)))","v":18250},{"$f":"IF($A102=\"\",\"\",IF(ISBLANK($A102),\"\",VLOOKUP($A102,Data!$A$4:$AI$155,33,FALSE)))","v":0.95},{"$f":"IF($A102=\"\",\"\",IF(ISBLANK($A102),\"\",VLOOKUP($A102,Data!$A$4:$AI$155,34,FALSE)))","v":0.96},{"$f":"IF($A102=\"\",\"\",IF(ISBLANK($A102),\"\",VLOOKUP($A102,Data!$A$4:$AI$155,35,FALSE)))","v":0.97}]
[{"$f":"IF('Early Years Table'!A103=\"\",\"\",IF(ISBLANK('Early Years Table'!A103),\"\",'Early Years Table'!A103))","v":929},{"$f":"IF($A103=\"\",\"\",IF(ISBLANK($A103),\"\",INDEX('LEA Nos codes'!$A$3:$A$154,MATCH($A103,'LEA Nos codes'!$B$3:$B$154,0))))","v":"Northumberland"},{"$f":"IF($A103=\"\",\"\",IF(ISBLANK($A103),\"\",VLOOKUP($A103,Data!$A$4:$AI$155,30,FALSE)))","v":6440},{"$f":"IF($A103=\"\",\"\",IF(ISBLANK($A103),\"\",VLOOKUP($A103,Data!$A$4:$AI$155,31,FALSE)))","v":6600},{"$f":"IF($A103=\"\",\"\",IF(ISBLANK($A103),\"\",VLOOKUP($A103,Data!$A$4:$AI$155,32,FALSE)))","v":6570},{"$f":"IF($A103=\"\",\"\",IF(ISBLANK($A103),\"\",VLOOKUP($A103,Data!$A$4:$AI$155,33,FALSE)))","v":1},{"$f":"IF($A103=\"\",\"\",IF(ISBLANK($A103),\"\",VLOOKUP($A103,Data!$A$4:$AI$155,34,FALSE)))","v":1.01},{"$f":"IF($A103=\"\",\"\",IF(ISBLANK($A103),\"\",VLOOKUP($A103,Data!$A$4:$AI$155,35,FALSE)))","v":1}]
[{"$f":"IF('Early Years Table'!A104=\"\",\"\",IF(ISBLANK('Early Years Table'!A104),\"\",'Early Years Table'!A104))","v":892},{"$f":"IF($A104=\"\",\"\",IF(ISBLANK($A104),\"\",INDEX('LEA Nos codes'!$A$3:$A$154,MATCH($A104,'LEA Nos codes'!$B$3:$B$154,0))))","v":"Nottingham"},{"$f":"IF($A104=\"\",\"\",IF(ISBLANK($A104),\"\",VLOOKUP($A104,Data!$A$4:$AI$155,30,FALSE)))","v":7260},{"$f":"IF($A104=\"\",\"\",IF(ISBLANK($A104),\"\",VLOOKUP($A104,Data!$A$4:$AI$155,31,FALSE)))","v":7480},{"$f":"IF($A104=\"\",\"\",IF(ISBLANK($A104),\"\",VLOOKUP($A104,Data!$A$4:$AI$155,32,FALSE)))","v":7540},{"$f":"IF($A104=\"\",\"\",IF(ISBLANK($A104),\"\",VLOOKUP($A104,Data!$A$4:$AI$155,33,FALSE)))","v":0.95},{"$f":"IF($A104=\"\",\"\",IF(ISBLANK($A104),\"\",VLOOKUP($A104,Data!$A$4:$AI$155,34,FALSE)))","v":0.95},{"$f":"IF($A104=\"\",\"\",IF(ISBLANK($A104),\"\",VLOOKUP($A104,Data!$A$4:$AI$155,35,FALSE)))","v":0.96}]
[{"$f":"IF('Early Years Table'!A105=\"\",\"\",IF(ISBLANK('Early Years Table'!A105),\"\",'Early Years Table'!A105))","v":891},{"$f":"IF($A105=\"\",\"\",IF(ISBLANK($A105),\"\",INDEX('LEA Nos codes'!$A$3:$A$154,MATCH($A105,'LEA Nos codes'!$B$3:$B$154,0))))","v":"Nottinghamshire"},{"$f":"IF($A105=\"\",\"\",IF(ISBLANK($A105),\"\",VLOOKUP($A105,Data!$A$4:$AI$155,30,FALSE)))","v":17570},{"$f":"IF($A105=\"\",\"\",IF(ISBLANK($A105),\"\",VLOOKUP($A105,Data!$A$4:$AI$155,31,FALSE)))","v":17990},{"$f":"IF($A105=\"\",\"\",IF(ISBLANK($A105),\"\",VLOOKUP($A105,Data!$A$4:$AI$155,32,FALSE)))","v":17890},{"$f":"IF($A105=\"\",\"\",IF(ISBLANK($A105),\"\",VLOOKUP($A105,Data!$A$4:$AI$155,33,FALSE)))","v":0.99},{"$f":"IF($A105=\"\",\"\",IF(ISBLANK($A105),\"\",VLOOKUP($A105,Data!$A$4:$AI$155,34,FALSE)))","v":0.99},{"$f":"IF($A105=\"\",\"\",IF(ISBLANK($A105),\"\",VLOOKUP($A105,Data!$A$4:$AI$155,35,FALSE)))","v":0.98}]
[{"$f":"IF('Early Years Table'!A106=\"\",\"\",IF(ISBLANK('Early Years Table'!A106),\"\",'Early Years Table'!A106))","v":353},{"$f":"IF($A106=\"\",\"\",IF(ISBLANK($A106),\"\",INDEX('LEA Nos codes'!$A$3:$A$154,MATCH($A106,'LEA Nos codes'!$B$3:$B$154,0))))","v":"Oldham"},{"$f":"IF($A106=\"\",\"\",IF(ISBLANK($A106),\"\",VLOOKUP($A106,Data!$A$4:$AI$155,30,FALSE)))","v":6170},{"$f":"IF($A106=\"\",\"\",IF(ISBLANK($A106),\"\",VLOOKUP($A106,Data!$A$4:$AI$155,31,FALSE)))","v":6350},{"$f":"IF($A106=\"\",\"\",IF(ISBLANK($A106),\"\",VLOOKUP($A106,Data!$A$4:$AI$155,32,FALSE)))","v":6400},{"$f":"IF($A106=\"\",\"\",IF(ISBLANK($A106),\"\",VLOOKUP($A106,Data!$A$4:$AI$155,33,FALSE)))","v":0.93},{"$f":"IF($A106=\"\",\"\",IF(ISBLANK($A106),\"\",VLOOKUP($A106,Data!$A$4:$AI$155,34,FALSE)))","v":0.95},{"$f":"IF($A106=\"\",\"\",IF(ISBLANK($A106),\"\",VLOOKUP($A106,Data!$A$4:$AI$155,35,FALSE)))","v":0.97}]
[{"$f":"IF('Early Years Table'!A107=\"\",\"\",IF(ISBLANK('Early Years Table'!A107),\"\",'Early Years Table'!A107))","v":931},{"$f":"IF($A107=\"\",\"\",IF(ISBLANK($A107),\"\",INDEX('LEA Nos codes'!$A$3:$A$154,MATCH($A107,'LEA Nos codes'!$B$3:$B$154,0))))","v":"Oxfordshire"},{"$f":"IF($A107=\"\",\"\",IF(ISBLANK($A107),\"\",VLOOKUP($A107,Data!$A$4:$AI$155,30,FALSE)))","v":15440},{"$f":"IF($A107=\"\",\"\",IF(ISBLANK($A107),\"\",VLOOKUP($A107,Data!$A$4:$AI$155,31,FALSE)))","v":15830},{"$f":"IF($A107=\"\",\"\",IF(ISBLANK($A107),\"\",VLOOKUP($A107,Data!$A$4:$AI$155,32,FALSE)))","v":15650},{"$f":"IF($A107=\"\",\"\",IF(ISBLANK($A107),\"\",VLOOKUP($A107,Data!$A$4:$AI$155,33,FALSE)))","v":0.96},{"$f":"IF($A107=\"\",\"\",IF(ISBLANK($A107),\"\",VLOOKUP($A107,Data!$A$4:$AI$155,34,FALSE)))","v":0.97},{"$f":"IF($A107=\"\",\"\",IF(ISBLANK($A107),\"\",VLOOKUP($A107,Data!$A$4:$AI$155,35,FALSE)))","v":0.96}]
[{"$f":"IF('Early Years Table'!A108=\"\",\"\",IF(ISBLANK('Early Years Table'!A108),\"\",'Early Years Table'!A108))","v":874},{"$f":"IF($A108=\"\",\"\",IF(ISBLANK($A108),\"\",INDEX('LEA Nos codes'!$A$3:$A$154,MATCH($A108,'LEA Nos codes'!$B$3:$B$154,0))))","v":"Peterborough"},{"$f":"IF($A108=\"\",\"\",IF(ISBLANK($A108),\"\",VLOOKUP($A108,Data!$A$4:$AI$155,30,FALSE)))","v":5000},{"$f":"IF($A108=\"\",\"\",IF(ISBLANK($A108),\"\",VLOOKUP($A108,Data!$A$4:$AI$155,31,FALSE)))","v":5370},{"$f":"IF($A108=\"\",\"\",IF(ISBLANK($A108),\"\",VLOOKUP($A108,Data!$A$4:$AI$155,32,FALSE)))","v":5640},{"$f":"IF($A108=\"\",\"\",IF(ISBLANK($A108),\"\",VLOOKUP($A108,Data!$A$4:$AI$155,33,FALSE)))","v":0.95},{"$f":"IF($A108=\"\",\"\",IF(ISBLANK($A108),\"\",VLOOKUP($A108,Data!$A$4:$AI$155,34,FALSE)))","v":0.97},{"$f":"IF($A108=\"\",\"\",IF(ISBLANK($A108),\"\",VLOOKUP($A108,Data!$A$4:$AI$155,35,FALSE)))","v":1}]
[{"$f":"IF('Early Years Table'!A109=\"\",\"\",IF(ISBLANK('Early Years Table'!A109),\"\",'Early Years Table'!A109))","v":879},{"$f":"IF($A109=\"\",\"\",IF(ISBLANK($A109),\"\",INDEX('LEA Nos codes'!$A$3:$A$154,MATCH($A109,'LEA Nos codes'!$B$3:$B$154,0))))","v":"Plymouth"},{"$f":"IF($A109=\"\",\"\",IF(ISBLANK($A109),\"\",VLOOKUP($A109,Data!$A$4:$AI$155,30,FALSE)))","v":5840},{"$f":"IF($A109=\"\",\"\",IF(ISBLANK($A109),\"\",VLOOKUP($A109,Data!$A$4:$AI$155,31,FALSE)))","v":6040},{"$f":"IF($A109=\"\",\"\",IF(ISBLANK($A109),\"\",VLOOKUP($A109,Data!$A$4:$AI$155,32,FALSE)))","v":6030},{"$f":"IF($A109=\"\",\"\",IF(ISBLANK($A109),\"\",VLOOKUP($A109,Data!$A$4:$AI$155,33,FALSE)))","v":0.99},{"$f":"IF($A109=\"\",\"\",IF(ISBLANK($A109),\"\",VLOOKUP($A109,Data!$A$4:$AI$155,34,FALSE)))","v":1},{"$f":"IF($A109=\"\",\"\",IF(ISBLANK($A109),\"\",VLOOKUP($A109,Data!$A$4:$AI$155,35,FALSE)))","v":0.99}]
[{"$f":"IF('Early Years Table'!A110=\"\",\"\",IF(ISBLANK('Early Years Table'!A110),\"\",'Early Years Table'!A110))","v":836},{"$f":"IF($A110=\"\",\"\",IF(ISBLANK($A110),\"\",INDEX('LEA Nos codes'!$A$3:$A$154,MATCH($A110,'LEA Nos codes'!$B$3:$B$154,0))))","v":"Poole"},{"$f":"IF($A110=\"\",\"\",IF(ISBLANK($A110),\"\",VLOOKUP($A110,Data!$A$4:$AI$155,30,FALSE)))","v":2870},{"$f":"IF($A110=\"\",\"\",IF(ISBLANK($A110),\"\",VLOOKUP($A110,Data!$A$4:$AI$155,31,FALSE)))","v":3090},{"$f":"IF($A110=\"\",\"\",IF(ISBLANK($A110),\"\",VLOOKUP($A110,Data!$A$4:$AI$155,32,FALSE)))","v":3060},{"$f":"IF($A110=\"\",\"\",IF(ISBLANK($A110),\"\",VLOOKUP($A110,Data!$A$4:$AI$155,33,FALSE)))","v":0.86},{"$f":"IF($A110=\"\",\"\",IF(ISBLANK($A110),\"\",VLOOKUP($A110,Data!$A$4:$AI$155,34,FALSE)))","v":0.9},{"$f":"IF($A110=\"\",\"\",IF(ISBLANK($A110),\"\",VLOOKUP($A110,Data!$A$4:$AI$155,35,FALSE)))","v":0.9}]
[{"$f":"IF('Early Years Table'!A111=\"\",\"\",IF(ISBLANK('Early Years Table'!A111),\"\",'Early Years Table'!A111))","v":851},{"$f":"IF($A111=\"\",\"\",IF(ISBLANK($A111),\"\",INDEX('LEA Nos codes'!$A$3:$A$154,MATCH($A111,'LEA Nos codes'!$B$3:$B$154,0))))","v":"Portsmouth"},{"$f":"IF($A111=\"\",\"\",IF(ISBLANK($A111),\"\",VLOOKUP($A111,Data!$A$4:$AI$155,30,FALSE)))","v":4780},{"$f":"IF($A111=\"\",\"\",IF(ISBLANK($A111),\"\",VLOOKUP($A111,Data!$A$4:$AI$155,31,FALSE)))","v":4940},{"$f":"IF($A111=\"\",\"\",IF(ISBLANK($A111),\"\",VLOOKUP($A111,Data!$A$4:$AI$155,32,FALSE)))","v":5040},{"$f":"IF($A111=\"\",\"\",IF(ISBLANK($A111),\"\",VLOOKUP($A111,Data!$A$4:$AI$155,33,FALSE)))","v":0.94},{"$f":"IF($A111=\"\",\"\",IF(ISBLANK($A111),\"\",VLOOKUP($A111,Data!$A$4:$AI$155,34,FALSE)))","v":0.93},{"$f":"IF($A111=\"\",\"\",IF(ISBLANK($A111),\"\",VLOOKUP($A111,Data!$A$4:$AI$155,35,FALSE)))","v":0.94}]
[{"$f":"IF('Early Years Table'!A112=\"\",\"\",IF(ISBLANK('Early Years Table'!A112),\"\",'Early Years Table'!A112))","v":870},{"$f":"IF($A112=\"\",\"\",IF(ISBLANK($A112),\"\",INDEX('LEA Nos codes'!$A$3:$A$154,MATCH($A112,'LEA Nos codes'!$B$3:$B$154,0))))","v":"Reading"},{"$f":"IF($A112=\"\",\"\",IF(ISBLANK($A112),\"\",VLOOKUP($A112,Data!$A$4:$AI$155,30,FALSE)))","v":3890},{"$f":"IF($A112=\"\",\"\",IF(ISBLANK($A112),\"\",VLOOKUP($A112,Data!$A$4:$AI$155,31,FALSE)))","v":4120},{"$f":"IF($A112=\"\",\"\",IF(ISBLANK($A112),\"\",VLOOKUP($A112,Data!$A$4:$AI$155,32,FALSE)))","v":4270},{"$f":"IF($A112=\"\",\"\",IF(ISBLANK($A112),\"\",VLOOKUP($A112,Data!$A$4:$AI$155,33,FALSE)))","v":0.88},{"$f":"IF($A112=\"\",\"\",IF(ISBLANK($A112),\"\",VLOOKUP($A112,Data!$A$4:$AI$155,34,FALSE)))","v":0.88},{"$f":"IF($A112=\"\",\"\",IF(ISBLANK($A112),\"\",VLOOKUP($A112,Data!$A$4:$AI$155,35,FALSE)))","v":0.92}]
[{"$f":"IF('Early Years Table'!A113=\"\",\"\",IF(ISBLANK('Early Years Table'!A113),\"\",'Early Years Table'!A113))","v":317},{"$f":"IF($A113=\"\",\"\",IF(ISBLANK($A113),\"\",INDEX('LEA Nos codes'!$A$3:$A$154,MATCH($A113,'LEA Nos codes'!$B$3:$B$154,0))))","v":"Redbridge"},{"$f":"IF($A113=\"\",\"\",IF(ISBLANK($A113),\"\",VLOOKUP($A113,Data!$A$4:$AI$155,30,FALSE)))","v":7920},{"$f":"IF($A113=\"\",\"\",IF(ISBLANK($A113),\"\",VLOOKUP($A113,Data!$A$4:$AI$155,31,FALSE)))","v":8200},{"$f":"IF($A113=\"\",\"\",IF(ISBLANK($A113),\"\",VLOOKUP($A113,Data!$A$4:$AI$155,32,FALSE)))","v":8340},{"$f":"IF($A113=\"\",\"\",IF(ISBLANK($A113),\"\",VLOOKUP($A113,Data!$A$4:$AI$155,33,FALSE)))","v":0.95},{"$f":"IF($A113=\"\",\"\",IF(ISBLANK($A113),\"\",VLOOKUP($A113,Data!$A$4:$AI$155,34,FALSE)))","v":0.94},{"$f":"IF($A113=\"\",\"\",IF(ISBLANK($A113),\"\",VLOOKUP($A113,Data!$A$4:$AI$155,35,FALSE)))","v":0.94}]
[{"$f":"IF('Early Years Table'!A114=\"\",\"\",IF(ISBLANK('Early Years Table'!A114),\"\",'Early Years Table'!A114))","v":807},{"$f":"IF($A114=\"\",\"\",IF(ISBLANK($A114),\"\",INDEX('LEA Nos codes'!$A$3:$A$154,MATCH($A114,'LEA Nos codes'!$B$3:$B$154,0))))","v":"Redcar and Cleveland"},{"$f":"IF($A114=\"\",\"\",IF(ISBLANK($A114),\"\",VLOOKUP($A114,Data!$A$4:$AI$155,30,FALSE)))","v":3130},{"$f":"IF($A114=\"\",\"\",IF(ISBLANK($A114),\"\",VLOOKUP($A114,Data!$A$4:$AI$155,31,FALSE)))","v":3120},{"$f":"IF($A114=\"\",\"\",IF(ISBLANK($A114),\"\",VLOOKUP($A114,Data!$A$4:$AI$155,32,FALSE)))","v":3110},{"$f":"IF($A114=\"\",\"\",IF(ISBLANK($A114),\"\",VLOOKUP($A114,Data!$A$4:$AI$155,33,FALSE)))","v":1.02},{"$f":"IF($A114=\"\",\"\",IF(ISBLANK($A114),\"\",VLOOKUP($A114,Data!$A$4:$AI$155,34,FALSE)))","v":1.05},{"$f":"IF($A114=\"\",\"\",IF(ISBLANK($A114),\"\",VLOOKUP($A114,Data!$A$4:$AI$155,35,FALSE)))","v":1.04}]
[{"$f":"IF('Early Years Table'!A115=\"\",\"\",IF(ISBLANK('Early Years Table'!A115),\"\",'Early Years Table'!A115))","v":318},{"$f":"IF($A115=\"\",\"\",IF(ISBLANK($A115),\"\",INDEX('LEA Nos codes'!$A$3:$A$154,MATCH($A115,'LEA Nos codes'!$B$3:$B$154,0))))","v":"Richmond upon Thames"},{"$f":"IF($A115=\"\",\"\",IF(ISBLANK($A115),\"\",VLOOKUP($A115,Data!$A$4:$AI$155,30,FALSE)))","v":5200},{"$f":"IF($A115=\"\",\"\",IF(ISBLANK($A115),\"\",VLOOKUP($A115,Data!$A$4:$AI$155,31,FALSE)))","v":5390},{"$f":"IF($A115=\"\",\"\",IF(ISBLANK($A115),\"\",VLOOKUP($A115,Data!$A$4:$AI$155,32,FALSE)))","v":5460},{"$f":"IF($A115=\"\",\"\",IF(ISBLANK($A115),\"\",VLOOKUP($A115,Data!$A$4:$AI$155,33,FALSE)))","v":0.99},{"$f":"IF($A115=\"\",\"\",IF(ISBLANK($A115),\"\",VLOOKUP($A115,Data!$A$4:$AI$155,34,FALSE)))","v":0.98},{"$f":"IF($A115=\"\",\"\",IF(ISBLANK($A115),\"\",VLOOKUP($A115,Data!$A$4:$AI$155,35,FALSE)))","v":0.97}]
[{"$f":"IF('Early Years Table'!A116=\"\",\"\",IF(ISBLANK('Early Years Table'!A116),\"\",'Early Years Table'!A116))","v":354},{"$f":"IF($A116=\"\",\"\",IF(ISBLANK($A116),\"\",INDEX('LEA Nos codes'!$A$3:$A$154,MATCH($A116,'LEA Nos codes'!$B$3:$B$154,0))))","v":"Rochdale"},{"$f":"IF($A116=\"\",\"\",IF(ISBLANK($A116),\"\",VLOOKUP($A116,Data!$A$4:$AI$155,30,FALSE)))","v":5530},{"$f":"IF($A116=\"\",\"\",IF(ISBLANK($A116),\"\",VLOOKUP($A116,Data!$A$4:$AI$155,31,FALSE)))","v":5680},{"$f":"IF($A116=\"\",\"\",IF(ISBLANK($A116),\"\",VLOOKUP($A116,Data!$A$4:$AI$155,32,FALSE)))","v":5650},{"$f":"IF($A116=\"\",\"\",IF(ISBLANK($A116),\"\",VLOOKUP($A116,Data!$A$4:$AI$155,33,FALSE)))","v":0.93},{"$f":"IF($A116=\"\",\"\",IF(ISBLANK($A116),\"\",VLOOKUP($A116,Data!$A$4:$AI$155,34,FALSE)))","v":0.96},{"$f":"IF($A116=\"\",\"\",IF(ISBLANK($A116),\"\",VLOOKUP($A116,Data!$A$4:$AI$155,35,FALSE)))","v":0.96}]
[{"$f":"IF('Early Years Table'!A117=\"\",\"\",IF(ISBLANK('Early Years Table'!A117),\"\",'Early Years Table'!A117))","v":372},{"$f":"IF($A117=\"\",\"\",IF(ISBLANK($A117),\"\",INDEX('LEA Nos codes'!$A$3:$A$154,MATCH($A117,'LEA Nos codes'!$B$3:$B$154,0))))","v":"Rotherham"},{"$f":"IF($A117=\"\",\"\",IF(ISBLANK($A117),\"\",VLOOKUP($A117,Data!$A$4:$AI$155,30,FALSE)))","v":5920},{"$f":"IF($A117=\"\",\"\",IF(ISBLANK($A117),\"\",VLOOKUP($A117,Data!$A$4:$AI$155,31,FALSE)))","v":6270},{"$f":"IF($A117=\"\",\"\",IF(ISBLANK($A117),\"\",VLOOKUP($A117,Data!$A$4:$AI$155,32,FALSE)))","v":6270},{"$f":"IF($A117=\"\",\"\",IF(ISBLANK($A117),\"\",VLOOKUP($A117,Data!$A$4:$AI$155,33,FALSE)))","v":0.95},{"$f":"IF($A117=\"\",\"\",IF(ISBLANK($A117),\"\",VLOOKUP($A117,Data!$A$4:$AI$155,34,FALSE)))","v":0.97},{"$f":"IF($A117=\"\",\"\",IF(ISBLANK($A117),\"\",VLOOKUP($A117,Data!$A$4:$AI$155,35,FALSE)))","v":0.97}]
[{"$f":"IF('Early Years Table'!A118=\"\",\"\",IF(ISBLANK('Early Years Table'!A118),\"\",'Early Years Table'!A118))","v":857},{"$f":"IF($A118=\"\",\"\",IF(ISBLANK($A118),\"\",INDEX('LEA Nos codes'!$A$3:$A$154,MATCH($A118,'LEA Nos codes'!$B$3:$B$154,0))))","v":"Rutland"},{"$f":"IF($A118=\"\",\"\",IF(ISBLANK($A118),\"\",VLOOKUP($A118,Data!$A$4:$AI$155,30,FALSE)))","v":810},{"$f":"IF($A118=\"\",\"\",IF(ISBLANK($A118),\"\",VLOOKUP($A118,Data!$A$4:$AI$155,31,FALSE)))","v":730},{"$f":"IF($A118=\"\",\"\",IF(ISBLANK($A118),\"\",VLOOKUP($A118,Data!$A$4:$AI$155,32,FALSE)))","v":770},{"$f":"IF($A118=\"\",\"\",IF(ISBLANK($A118),\"\",VLOOKUP($A118,Data!$A$4:$AI$155,33,FALSE)))","v":1.04},{"$f":"IF($A118=\"\",\"\",IF(ISBLANK($A118),\"\",VLOOKUP($A118,Data!$A$4:$AI$155,34,FALSE)))","v":1},{"$f":"IF($A118=\"\",\"\",IF(ISBLANK($A118),\"\",VLOOKUP($A118,Data!$A$4:$AI$155,35,FALSE)))","v":1.07}]
[{"$f":"IF('Early Years Table'!A119=\"\",\"\",IF(ISBLANK('Early Years Table'!A119),\"\",'Early Years Table'!A119))","v":355},{"$f":"IF($A119=\"\",\"\",IF(ISBLANK($A119),\"\",INDEX('LEA Nos codes'!$A$3:$A$154,MATCH($A119,'LEA Nos codes'!$B$3:$B$154,0))))","v":"Salford"},{"$f":"IF($A119=\"\",\"\",IF(ISBLANK($A119),\"\",VLOOKUP($A119,Data!$A$4:$AI$155,30,FALSE)))","v":5810},{"$f":"IF($A119=\"\",\"\",IF(ISBLANK($A119),\"\",VLOOKUP($A119,Data!$A$4:$AI$155,31,FALSE)))","v":6040},{"$f":"IF($A119=\"\",\"\",IF(ISBLANK($A119),\"\",VLOOKUP($A119,Data!$A$4:$AI$155,32,FALSE)))","v":6360},{"$f":"IF($A119=\"\",\"\",IF(ISBLANK($A119),\"\",VLOOKUP($A119,Data!$A$4:$AI$155,33,FALSE)))","v":0.94},{"$f":"IF($A119=\"\",\"\",IF(ISBLANK($A119),\"\",VLOOKUP($A119,Data!$A$4:$AI$155,34,FALSE)))","v":0.95},{"$f":"IF($A119=\"\",\"\",IF(ISBLANK($A119),\"\",VLOOKUP($A119,Data!$A$4:$AI$155,35,FALSE)))","v":1}]
[{"$f":"IF('Early Years Table'!A120=\"\",\"\",IF(ISBLANK('Early Years Table'!A120),\"\",'Early Years Table'!A120))","v":333},{"$f":"IF($A120=\"\",\"\",IF(ISBLANK($A120),\"\",INDEX('LEA Nos codes'!$A$3:$A$154,MATCH($A120,'LEA Nos codes'!$B$3:$B$154,0))))","v":"Sandwell"},{"$f":"IF($A120=\"\",\"\",IF(ISBLANK($A120),\"\",VLOOKUP($A120,Data!$A$4:$AI$155,30,FALSE)))","v":7840},{"$f":"IF($A120=\"\",\"\",IF(ISBLANK($A120),\"\",VLOOKUP($A120,Data!$A$4:$AI$155,31,FALSE)))","v":8370},{"$f":"IF($A120=\"\",\"\",IF(ISBLANK($A120),\"\",VLOOKUP($A120,Data!$A$4:$AI$155,32,FALSE)))","v":8690},{"$f":"IF($A120=\"\",\"\",IF(ISBLANK($A120),\"\",VLOOKUP($A120,Data!$A$4:$AI$155,33,FALSE)))","v":0.88},{"$f":"IF($A120=\"\",\"\",IF(ISBLANK($A120),\"\",VLOOKUP($A120,Data!$A$4:$AI$155,34,FALSE)))","v":0.91},{"$f":"IF($A120=\"\",\"\",IF(ISBLANK($A120),\"\",VLOOKUP($A120,Data!$A$4:$AI$155,35,FALSE)))","v":0.94}]
[{"$f":"IF('Early Years Table'!A121=\"\",\"\",IF(ISBLANK('Early Years Table'!A121),\"\",'Early Years Table'!A121))","v":343},{"$f":"IF($A121=\"\",\"\",IF(ISBLANK($A121),\"\",INDEX('LEA Nos codes'!$A$3:$A$154,MATCH($A121,'LEA Nos codes'!$B$3:$B$154,0))))","v":"Sefton"},{"$f":"IF($A121=\"\",\"\",IF(ISBLANK($A121),\"\",VLOOKUP($A121,Data!$A$4:$AI$155,30,FALSE)))","v":5690},{"$f":"IF($A121=\"\",\"\",IF(ISBLANK($A121),\"\",VLOOKUP($A121,Data!$A$4:$AI$155,31,FALSE)))","v":5800},{"$f":"IF($A121=\"\",\"\",IF(ISBLANK($A121),\"\",VLOOKUP($A121,Data!$A$4:$AI$155,32,FALSE)))","v":5860},{"$f":"IF($A121=\"\",\"\",IF(ISBLANK($A121),\"\",VLOOKUP($A121,Data!$A$4:$AI$155,33,FALSE)))","v":0.99},{"$f":"IF($A121=\"\",\"\",IF(ISBLANK($A121),\"\",VLOOKUP($A121,Data!$A$4:$AI$155,34,FALSE)))","v":1},{"$f":"IF($A121=\"\",\"\",IF(ISBLANK($A121),\"\",VLOOKUP($A121,Data!$A$4:$AI$155,35,FALSE)))","v":1}]
[{"$f":"IF('Early Years Table'!A122=\"\",\"\",IF(ISBLANK('Early Years Table'!A122),\"\",'Early Years Table'!A122))","v":373},{"$f":"IF($A122=\"\",\"\",IF(ISBLANK($A122),\"\",INDEX('LEA Nos codes'!$A$3:$A$154,MATCH($A122,'LEA Nos codes'!$B$3:$B$154,0))))","v":"Sheffield"},{"$f":"IF($A122=\"\",\"\",IF(ISBLANK($A122),\"\",VLOOKUP($A122,Data!$A$4:$AI$155,30,FALSE)))","v":12420},{"$f":"IF($A122=\"\",\"\",IF(ISBLANK($A122),\"\",VLOOKUP($A122,Data!$A$4:$AI$155,31,FALSE)))","v":12680},{"$f":"IF($A122=\"\",\"\",IF(ISBLANK($A122),\"\",VLOOKUP($A122,Data!$A$4:$AI$155,32,FALSE)))","v":12660},{"$f":"IF($A122=\"\",\"\",IF(ISBLANK($A122),\"\",VLOOKUP($A122,Data!$A$4:$AI$155,33,FALSE)))","v":0.94},{"$f":"IF($A122=\"\",\"\",IF(ISBLANK($A122),\"\",VLOOKUP($A122,Data!$A$4:$AI$155,34,FALSE)))","v":0.94},{"$f":"IF($A122=\"\",\"\",IF(ISBLANK($A122),\"\",VLOOKUP($A122,Data!$A$4:$AI$155,35,FALSE)))","v":0.93}]
[{"$f":"IF('Early Years Table'!A123=\"\",\"\",IF(ISBLANK('Early Years Table'!A123),\"\",'Early Years Table'!A123))","v":893},{"$f":"IF($A123=\"\",\"\",IF(ISBLANK($A123),\"\",INDEX('LEA Nos codes'!$A$3:$A$154,MATCH($A123,'LEA Nos codes'!$B$3:$B$154,0))))","v":"Shropshire"},{"$f":"IF($A123=\"\",\"\",IF(ISBLANK($A123),\"\",VLOOKUP($A123,Data!$A$4:$AI$155,30,FALSE)))","v":6100},{"$f":"IF($A123=\"\",\"\",IF(ISBLANK($A123),\"\",VLOOKUP($A123,Data!$A$4:$AI$155,31,FALSE)))","v":6210},{"$f":"IF($A123=\"\",\"\",IF(ISBLANK($A123),\"\",VLOOKUP($A123,Data!$A$4:$AI$155,32,FALSE)))","v":6290},{"$f":"IF($A123=\"\",\"\",IF(ISBLANK($A123),\"\",VLOOKUP($A123,Data!$A$4:$AI$155,33,FALSE)))","v":0.98},{"$f":"IF($A123=\"\",\"\",IF(ISBLANK($A123),\"\",VLOOKUP($A123,Data!$A$4:$AI$155,34,FALSE)))","v":0.97},{"$f":"IF($A123=\"\",\"\",IF(ISBLANK($A123),\"\",VLOOKUP($A123,Data!$A$4:$AI$155,35,FALSE)))","v":0.98}]
[{"$f":"IF('Early Years Table'!A124=\"\",\"\",IF(ISBLANK('Early Years Table'!A124),\"\",'Early Years Table'!A124))","v":871},{"$f":"IF($A124=\"\",\"\",IF(ISBLANK($A124),\"\",INDEX('LEA Nos codes'!$A$3:$A$154,MATCH($A124,'LEA Nos codes'!$B$3:$B$154,0))))","v":"Slough"},{"$f":"IF($A124=\"\",\"\",IF(ISBLANK($A124),\"\",VLOOKUP($A124,Data!$A$4:$AI$155,30,FALSE)))","v":4040},{"$f":"IF($A124=\"\",\"\",IF(ISBLANK($A124),\"\",VLOOKUP($A124,Data!$A$4:$AI$155,31,FALSE)))","v":4380},{"$f":"IF($A124=\"\",\"\",IF(ISBLANK($A124),\"\",VLOOKUP($A124,Data!$A$4:$AI$155,32,FALSE)))","v":4630},{"$f":"IF($A124=\"\",\"\",IF(ISBLANK($A124),\"\",VLOOKUP($A124,Data!$A$4:$AI$155,33,FALSE)))","v":0.83},{"$f":"IF($A124=\"\",\"\",IF(ISBLANK($A124),\"\",VLOOKUP($A124,Data!$A$4:$AI$155,34,FALSE)))","v":0.87},{"$f":"IF($A124=\"\",\"\",IF(ISBLANK($A124),\"\",VLOOKUP($A124,Data!$A$4:$AI$155,35,FALSE)))","v":0.92}]
[{"$f":"IF('Early Years Table'!A125=\"\",\"\",IF(ISBLANK('Early Years Table'!A125),\"\",'Early Years Table'!A125))","v":334},{"$f":"IF($A125=\"\",\"\",IF(ISBLANK($A125),\"\",INDEX('LEA Nos codes'!$A$3:$A$154,MATCH($A125,'LEA Nos codes'!$B$3:$B$154,0))))","v":"Solihull"},{"$f":"IF($A125=\"\",\"\",IF(ISBLANK($A125),\"\",VLOOKUP($A125,Data!$A$4:$AI$155,30,FALSE)))","v":5080},{"$f":"IF($A125=\"\",\"\",IF(ISBLANK($A125),\"\",VLOOKUP($A125,Data!$A$4:$AI$155,31,FALSE)))","v":5260},{"$f":"IF($A125=\"\",\"\",IF(ISBLANK($A125),\"\",VLOOKUP($A125,Data!$A$4:$AI$155,32,FALSE)))","v":5220},{"$f":"IF($A125=\"\",\"\",IF(ISBLANK($A125),\"\",VLOOKUP($A125,Data!$A$4:$AI$155,33,FALSE)))","v":1.08},{"$f":"IF($A125=\"\",\"\",IF(ISBLANK($A125),\"\",VLOOKUP($A125,Data!$A$4:$AI$155,34,FALSE)))","v":1.1200000000000001},{"$f":"IF($A125=\"\",\"\",IF(ISBLANK($A125),\"\",VLOOKUP($A125,Data!$A$4:$AI$155,35,FALSE)))","v":1.1000000000000001}]
[{"$f":"IF('Early Years Table'!A126=\"\",\"\",IF(ISBLANK('Early Years Table'!A126),\"\",'Early Years Table'!A126))","v":933},{"$f":"IF($A126=\"\",\"\",IF(ISBLANK($A126),\"\",INDEX('LEA Nos codes'!$A$3:$A$154,MATCH($A126,'LEA Nos codes'!$B$3:$B$154,0))))","v":"Somerset"},{"$f":"IF($A126=\"\",\"\",IF(ISBLANK($A126),\"\",VLOOKUP($A126,Data!$A$4:$AI$155,30,FALSE)))","v":11000},{"$f":"IF($A126=\"\",\"\",IF(ISBLANK($A126),\"\",VLOOKUP($A126,Data!$A$4:$AI$155,31,FALSE)))","v":11280},{"$f":"IF($A126=\"\",\"\",IF(ISBLANK($A126),\"\",VLOOKUP($A126,Data!$A$4:$AI$155,32,FALSE)))","v":11520},{"$f":"IF($A126=\"\",\"\",IF(ISBLANK($A126),\"\",VLOOKUP($A126,Data!$A$4:$AI$155,33,FALSE)))","v":0.97},{"$f":"IF($A126=\"\",\"\",IF(ISBLANK($A126),\"\",VLOOKUP($A126,Data!$A$4:$AI$155,34,FALSE)))","v":0.97},{"$f":"IF($A126=\"\",\"\",IF(ISBLANK($A126),\"\",VLOOKUP($A126,Data!$A$4:$AI$155,35,FALSE)))","v":0.98}]
[{"$f":"IF('Early Years Table'!A127=\"\",\"\",IF(ISBLANK('Early Years Table'!A127),\"\",'Early Years Table'!A127))","v":803},{"$f":"IF($A127=\"\",\"\",IF(ISBLANK($A127),\"\",INDEX('LEA Nos codes'!$A$3:$A$154,MATCH($A127,'LEA Nos codes'!$B$3:$B$154,0))))","v":"South Gloucestershire"},{"$f":"IF($A127=\"\",\"\",IF(ISBLANK($A127),\"\",VLOOKUP($A127,Data!$A$4:$AI$155,30,FALSE)))","v":6170},{"$f":"IF($A127=\"\",\"\",IF(ISBLANK($A127),\"\",VLOOKUP($A127,Data!$A$4:$AI$155,31,FALSE)))","v":6450},{"$f":"IF($A127=\"\",\"\",IF(ISBLANK($A127),\"\",VLOOKUP($A127,Data!$A$4:$AI$155,32,FALSE)))","v":6550},{"$f":"IF($A127=\"\",\"\",IF(ISBLANK($A127),\"\",VLOOKUP($A127,Data!$A$4:$AI$155,33,FALSE)))","v":0.99},{"$f":"IF($A127=\"\",\"\",IF(ISBLANK($A127),\"\",VLOOKUP($A127,Data!$A$4:$AI$155,34,FALSE)))","v":0.99},{"$f":"IF($A127=\"\",\"\",IF(ISBLANK($A127),\"\",VLOOKUP($A127,Data!$A$4:$AI$155,35,FALSE)))","v":0.99}]
[{"$f":"IF('Early Years Table'!A128=\"\",\"\",IF(ISBLANK('Early Years Table'!A128),\"\",'Early Years Table'!A128))","v":393},{"$f":"IF($A128=\"\",\"\",IF(ISBLANK($A128),\"\",INDEX('LEA Nos codes'!$A$3:$A$154,MATCH($A128,'LEA Nos codes'!$B$3:$B$154,0))))","v":"South Tyneside"},{"$f":"IF($A128=\"\",\"\",IF(ISBLANK($A128),\"\",VLOOKUP($A128,Data!$A$4:$AI$155,30,FALSE)))","v":3060},{"$f":"IF($A128=\"\",\"\",IF(ISBLANK($A128),\"\",VLOOKUP($A128,Data!$A$4:$AI$155,31,FALSE)))","v":3140},{"$f":"IF($A128=\"\",\"\",IF(ISBLANK($A128),\"\",VLOOKUP($A128,Data!$A$4:$AI$155,32,FALSE)))","v":3100},{"$f":"IF($A128=\"\",\"\",IF(ISBLANK($A128),\"\",VLOOKUP($A128,Data!$A$4:$AI$155,33,FALSE)))","v":0.95},{"$f":"IF($A128=\"\",\"\",IF(ISBLANK($A128),\"\",VLOOKUP($A128,Data!$A$4:$AI$155,34,FALSE)))","v":0.96},{"$f":"IF($A128=\"\",\"\",IF(ISBLANK($A128),\"\",VLOOKUP($A128,Data!$A$4:$AI$155,35,FALSE)))","v":0.93}]
[{"$f":"IF('Early Years Table'!A129=\"\",\"\",IF(ISBLANK('Early Years Table'!A129),\"\",'Early Years Table'!A129))","v":852},{"$f":"IF($A129=\"\",\"\",IF(ISBLANK($A129),\"\",INDEX('LEA Nos codes'!$A$3:$A$154,MATCH($A129,'LEA Nos codes'!$B$3:$B$154,0))))","v":"Southampton"},{"$f":"IF($A129=\"\",\"\",IF(ISBLANK($A129),\"\",VLOOKUP($A129,Data!$A$4:$AI$155,30,FALSE)))","v":5430},{"$f":"IF($A129=\"\",\"\",IF(ISBLANK($A129),\"\",VLOOKUP($A129,Data!$A$4:$AI$155,31,FALSE)))","v":5720},{"$f":"IF($A129=\"\",\"\",IF(ISBLANK($A129),\"\",VLOOKUP($A129,Data!$A$4:$AI$155,32,FALSE)))","v":5800},{"$f":"IF($A129=\"\",\"\",IF(ISBLANK($A129),\"\",VLOOKUP($A129,Data!$A$4:$AI$155,33,FALSE)))","v":0.95},{"$f":"IF($A129=\"\",\"\",IF(ISBLANK($A129),\"\",VLOOKUP($A129,Data!$A$4:$AI$155,34,FALSE)))","v":0.96},{"$f":"IF($A129=\"\",\"\",IF(ISBLANK($A129),\"\",VLOOKUP($A129,Data!$A$4:$AI$155,35,FALSE)))","v":0.96}]
[{"$f":"IF('Early Years Table'!A130=\"\",\"\",IF(ISBLANK('Early Years Table'!A130),\"\",'Early Years Table'!A130))","v":882},{"$f":"IF($A130=\"\",\"\",IF(ISBLANK($A130),\"\",INDEX('LEA Nos codes'!$A$3:$A$154,MATCH($A130,'LEA Nos codes'!$B$3:$B$154,0))))","v":"Southend-on-Sea"},{"$f":"IF($A130=\"\",\"\",IF(ISBLANK($A130),\"\",VLOOKUP($A130,Data!$A$4:$AI$155,30,FALSE)))","v":4040},{"$f":"IF($A130=\"\",\"\",IF(ISBLANK($A130),\"\",VLOOKUP($A130,Data!$A$4:$AI$155,31,FALSE)))","v":4240},{"$f":"IF($A130=\"\",\"\",IF(ISBLANK($A130),\"\",VLOOKUP($A130,Data!$A$4:$AI$155,32,FALSE)))","v":4330},{"$f":"IF($A130=\"\",\"\",IF(ISBLANK($A130),\"\",VLOOKUP($A130,Data!$A$4:$AI$155,33,FALSE)))","v":0.93},{"$f":"IF($A130=\"\",\"\",IF(ISBLANK($A130),\"\",VLOOKUP($A130,Data!$A$4:$AI$155,34,FALSE)))","v":0.94},{"$f":"IF($A130=\"\",\"\",IF(ISBLANK($A130),\"\",VLOOKUP($A130,Data!$A$4:$AI$155,35,FALSE)))","v":0.95}]
[{"$f":"IF('Early Years Table'!A131=\"\",\"\",IF(ISBLANK('Early Years Table'!A131),\"\",'Early Years Table'!A131))","v":210},{"$f":"IF($A131=\"\",\"\",IF(ISBLANK($A131),\"\",INDEX('LEA Nos codes'!$A$3:$A$154,MATCH($A131,'LEA Nos codes'!$B$3:$B$154,0))))","v":"Southwark"},{"$f":"IF($A131=\"\",\"\",IF(ISBLANK($A131),\"\",VLOOKUP($A131,Data!$A$4:$AI$155,30,FALSE)))","v":6620},{"$f":"IF($A131=\"\",\"\",IF(ISBLANK($A131),\"\",VLOOKUP($A131,Data!$A$4:$AI$155,31,FALSE)))","v":6570},{"$f":"IF($A131=\"\",\"\",IF(ISBLANK($A131),\"\",VLOOKUP($A131,Data!$A$4:$AI$155,32,FALSE)))","v":6970},{"$f":"IF($A131=\"\",\"\",IF(ISBLANK($A131),\"\",VLOOKUP($A131,Data!$A$4:$AI$155,33,FALSE)))","v":0.85},{"$f":"IF($A131=\"\",\"\",IF(ISBLANK($A131),\"\",VLOOKUP($A131,Data!$A$4:$AI$155,34,FALSE)))","v":0.83},{"$f":"IF($A131=\"\",\"\",IF(ISBLANK($A131),\"\",VLOOKUP($A131,Data!$A$4:$AI$155,35,FALSE)))","v":0.88}]
[{"$f":"IF('Early Years Table'!A132=\"\",\"\",IF(ISBLANK('Early Years Table'!A132),\"\",'Early Years Table'!A132))","v":342},{"$f":"IF($A132=\"\",\"\",IF(ISBLANK($A132),\"\",INDEX('LEA Nos codes'!$A$3:$A$154,MATCH($A132,'LEA Nos codes'!$B$3:$B$154,0))))","v":"St. Helens"},{"$f":"IF($A132=\"\",\"\",IF(ISBLANK($A132),\"\",VLOOKUP($A132,Data!$A$4:$AI$155,30,FALSE)))","v":3910},{"$f":"IF($A132=\"\",\"\",IF(ISBLANK($A132),\"\",VLOOKUP($A132,Data!$A$4:$AI$155,31,FALSE)))","v":4030},{"$f":"IF($A132=\"\",\"\",IF(ISBLANK($A132),\"\",VLOOKUP($A132,Data!$A$4:$AI$155,32,FALSE)))","v":4040},{"$f":"IF($A132=\"\",\"\",IF(ISBLANK($A132),\"\",VLOOKUP($A132,Data!$A$4:$AI$155,33,FALSE)))","v":0.97},{"$f":"IF($A132=\"\",\"\",IF(ISBLANK($A132),\"\",VLOOKUP($A132,Data!$A$4:$AI$155,34,FALSE)))","v":0.98},{"$f":"IF($A132=\"\",\"\",IF(ISBLANK($A132),\"\",VLOOKUP($A132,Data!$A$4:$AI$155,35,FALSE)))","v":0.96}]
[{"$f":"IF('Early Years Table'!A133=\"\",\"\",IF(ISBLANK('Early Years Table'!A133),\"\",'Early Years Table'!A133))","v":860},{"$f":"IF($A133=\"\",\"\",IF(ISBLANK($A133),\"\",INDEX('LEA Nos codes'!$A$3:$A$154,MATCH($A133,'LEA Nos codes'!$B$3:$B$154,0))))","v":"Staffordshire"},{"$f":"IF($A133=\"\",\"\",IF(ISBLANK($A133),\"\",VLOOKUP($A133,Data!$A$4:$AI$155,30,FALSE)))","v":17630},{"$f":"IF($A133=\"\",\"\",IF(ISBLANK($A133),\"\",VLOOKUP($A133,Data!$A$4:$AI$155,31,FALSE)))","v":18320},{"$f":"IF($A133=\"\",\"\",IF(ISBLANK($A133),\"\",VLOOKUP($A133,Data!$A$4:$AI$155,32,FALSE)))","v":18290},{"$f":"IF($A133=\"\",\"\",IF(ISBLANK($A133),\"\",VLOOKUP($A133,Data!$A$4:$AI$155,33,FALSE)))","v":0.96},{"$f":"IF($A133=\"\",\"\",IF(ISBLANK($A133),\"\",VLOOKUP($A133,Data!$A$4:$AI$155,34,FALSE)))","v":0.98},{"$f":"IF($A133=\"\",\"\",IF(ISBLANK($A133),\"\",VLOOKUP($A133,Data!$A$4:$AI$155,35,FALSE)))","v":0.97}]
[{"$f":"IF('Early Years Table'!A134=\"\",\"\",IF(ISBLANK('Early Years Table'!A134),\"\",'Early Years Table'!A134))","v":356},{"$f":"IF($A134=\"\",\"\",IF(ISBLANK($A134),\"\",INDEX('LEA Nos codes'!$A$3:$A$154,MATCH($A134,'LEA Nos codes'!$B$3:$B$154,0))))","v":"Stockport"},{"$f":"IF($A134=\"\",\"\",IF(ISBLANK($A134),\"\",VLOOKUP($A134,Data!$A$4:$AI$155,30,FALSE)))","v":6680},{"$f":"IF($A134=\"\",\"\",IF(ISBLANK($A134),\"\",VLOOKUP($A134,Data!$A$4:$AI$155,31,FALSE)))","v":6790},{"$f":"IF($A134=\"\",\"\",IF(ISBLANK($A134),\"\",VLOOKUP($A134,Data!$A$4:$AI$155,32,FALSE)))","v":6910},{"$f":"IF($A134=\"\",\"\",IF(ISBLANK($A134),\"\",VLOOKUP($A134,Data!$A$4:$AI$155,33,FALSE)))","v":0.97},{"$f":"IF($A134=\"\",\"\",IF(ISBLANK($A134),\"\",VLOOKUP($A134,Data!$A$4:$AI$155,34,FALSE)))","v":0.97},{"$f":"IF($A134=\"\",\"\",IF(ISBLANK($A134),\"\",VLOOKUP($A134,Data!$A$4:$AI$155,35,FALSE)))","v":0.99}]
[{"$f":"IF('Early Years Table'!A135=\"\",\"\",IF(ISBLANK('Early Years Table'!A135),\"\",'Early Years Table'!A135))","v":808},{"$f":"IF($A135=\"\",\"\",IF(ISBLANK($A135),\"\",INDEX('LEA Nos codes'!$A$3:$A$154,MATCH($A135,'LEA Nos codes'!$B$3:$B$154,0))))","v":"Stockton-on-Tees"},{"$f":"IF($A135=\"\",\"\",IF(ISBLANK($A135),\"\",VLOOKUP($A135,Data!$A$4:$AI$155,30,FALSE)))","v":4790},{"$f":"IF($A135=\"\",\"\",IF(ISBLANK($A135),\"\",VLOOKUP($A135,Data!$A$4:$AI$155,31,FALSE)))","v":4900},{"$f":"IF($A135=\"\",\"\",IF(ISBLANK($A135),\"\",VLOOKUP($A135,Data!$A$4:$AI$155,32,FALSE)))","v":4920},{"$f":"IF($A135=\"\",\"\",IF(ISBLANK($A135),\"\",VLOOKUP($A135,Data!$A$4:$AI$155,33,FALSE)))","v":0.99},{"$f":"IF($A135=\"\",\"\",IF(ISBLANK($A135),\"\",VLOOKUP($A135,Data!$A$4:$AI$155,34,FALSE)))","v":1},{"$f":"IF($A135=\"\",\"\",IF(ISBLANK($A135),\"\",VLOOKUP($A135,Data!$A$4:$AI$155,35,FALSE)))","v":0.98}]
[{"$f":"IF('Early Years Table'!A136=\"\",\"\",IF(ISBLANK('Early Years Table'!A136),\"\",'Early Years Table'!A136))","v":861},{"$f":"IF($A136=\"\",\"\",IF(ISBLANK($A136),\"\",INDEX('LEA Nos codes'!$A$3:$A$154,MATCH($A136,'LEA Nos codes'!$B$3:$B$154,0))))","v":"Stoke-on-Trent"},{"$f":"IF($A136=\"\",\"\",IF(ISBLANK($A136),\"\",VLOOKUP($A136,Data!$A$4:$AI$155,30,FALSE)))","v":5980},{"$f":"IF($A136=\"\",\"\",IF(ISBLANK($A136),\"\",VLOOKUP($A136,Data!$A$4:$AI$155,31,FALSE)))","v":6330},{"$f":"IF($A136=\"\",\"\",IF(ISBLANK($A136),\"\",VLOOKUP($A136,Data!$A$4:$AI$155,32,FALSE)))","v":6360},{"$f":"IF($A136=\"\",\"\",IF(ISBLANK($A136),\"\",VLOOKUP($A136,Data!$A$4:$AI$155,33,FALSE)))","v":0.9},{"$f":"IF($A136=\"\",\"\",IF(ISBLANK($A136),\"\",VLOOKUP($A136,Data!$A$4:$AI$155,34,FALSE)))","v":0.92},{"$f":"IF($A136=\"\",\"\",IF(ISBLANK($A136),\"\",VLOOKUP($A136,Data!$A$4:$AI$155,35,FALSE)))","v":0.94}]
[{"$f":"IF('Early Years Table'!A137=\"\",\"\",IF(ISBLANK('Early Years Table'!A137),\"\",'Early Years Table'!A137))","v":935},{"$f":"IF($A137=\"\",\"\",IF(ISBLANK($A137),\"\",INDEX('LEA Nos codes'!$A$3:$A$154,MATCH($A137,'LEA Nos codes'!$B$3:$B$154,0))))","v":"Suffolk"},{"$f":"IF($A137=\"\",\"\",IF(ISBLANK($A137),\"\",VLOOKUP($A137,Data!$A$4:$AI$155,30,FALSE)))","v":15450},{"$f":"IF($A137=\"\",\"\",IF(ISBLANK($A137),\"\",VLOOKUP($A137,Data!$A$4:$AI$155,31,FALSE)))","v":16100},{"$f":"IF($A137=\"\",\"\",IF(ISBLANK($A137),\"\",VLOOKUP($A137,Data!$A$4:$AI$155,32,FALSE)))","v":16200},{"$f":"IF($A137=\"\",\"\",IF(ISBLANK($A137),\"\",VLOOKUP($A137,Data!$A$4:$AI$155,33,FALSE)))","v":0.93},{"$f":"IF($A137=\"\",\"\",IF(ISBLANK($A137),\"\",VLOOKUP($A137,Data!$A$4:$AI$155,34,FALSE)))","v":0.95},{"$f":"IF($A137=\"\",\"\",IF(ISBLANK($A137),\"\",VLOOKUP($A137,Data!$A$4:$AI$155,35,FALSE)))","v":0.94}]
[{"$f":"IF('Early Years Table'!A138=\"\",\"\",IF(ISBLANK('Early Years Table'!A138),\"\",'Early Years Table'!A138))","v":394},{"$f":"IF($A138=\"\",\"\",IF(ISBLANK($A138),\"\",INDEX('LEA Nos codes'!$A$3:$A$154,MATCH($A138,'LEA Nos codes'!$B$3:$B$154,0))))","v":"Sunderland"},{"$f":"IF($A138=\"\",\"\",IF(ISBLANK($A138),\"\",VLOOKUP($A138,Data!$A$4:$AI$155,30,FALSE)))","v":6190},{"$f":"IF($A138=\"\",\"\",IF(ISBLANK($A138),\"\",VLOOKUP($A138,Data!$A$4:$AI$155,31,FALSE)))","v":6320},{"$f":"IF($A138=\"\",\"\",IF(ISBLANK($A138),\"\",VLOOKUP($A138,Data!$A$4:$AI$155,32,FALSE)))","v":6280},{"$f":"IF($A138=\"\",\"\",IF(ISBLANK($A138),\"\",VLOOKUP($A138,Data!$A$4:$AI$155,33,FALSE)))","v":0.98},{"$f":"IF($A138=\"\",\"\",IF(ISBLANK($A138),\"\",VLOOKUP($A138,Data!$A$4:$AI$155,34,FALSE)))","v":1.01},{"$f":"IF($A138=\"\",\"\",IF(ISBLANK($A138),\"\",VLOOKUP($A138,Data!$A$4:$AI$155,35,FALSE)))","v":1.02}]
[{"$f":"IF('Early Years Table'!A139=\"\",\"\",IF(ISBLANK('Early Years Table'!A139),\"\",'Early Years Table'!A139))","v":936},{"$f":"IF($A139=\"\",\"\",IF(ISBLANK($A139),\"\",INDEX('LEA Nos codes'!$A$3:$A$154,MATCH($A139,'LEA Nos codes'!$B$3:$B$154,0))))","v":"Surrey"},{"$f":"IF($A139=\"\",\"\",IF(ISBLANK($A139),\"\",VLOOKUP($A139,Data!$A$4:$AI$155,30,FALSE)))","v":26890},{"$f":"IF($A139=\"\",\"\",IF(ISBLANK($A139),\"\",VLOOKUP($A139,Data!$A$4:$AI$155,31,FALSE)))","v":27850},{"$f":"IF($A139=\"\",\"\",IF(ISBLANK($A139),\"\",VLOOKUP($A139,Data!$A$4:$AI$155,32,FALSE)))","v":28000},{"$f":"IF($A139=\"\",\"\",IF(ISBLANK($A139),\"\",VLOOKUP($A139,Data!$A$4:$AI$155,33,FALSE)))","v":0.95},{"$f":"IF($A139=\"\",\"\",IF(ISBLANK($A139),\"\",VLOOKUP($A139,Data!$A$4:$AI$155,34,FALSE)))","v":0.96},{"$f":"IF($A139=\"\",\"\",IF(ISBLANK($A139),\"\",VLOOKUP($A139,Data!$A$4:$AI$155,35,FALSE)))","v":0.95}]
[{"$f":"IF('Early Years Table'!A140=\"\",\"\",IF(ISBLANK('Early Years Table'!A140),\"\",'Early Years Table'!A140))","v":319},{"$f":"IF($A140=\"\",\"\",IF(ISBLANK($A140),\"\",INDEX('LEA Nos codes'!$A$3:$A$154,MATCH($A140,'LEA Nos codes'!$B$3:$B$154,0))))","v":"Sutton"},{"$f":"IF($A140=\"\",\"\",IF(ISBLANK($A140),\"\",VLOOKUP($A140,Data!$A$4:$AI$155,30,FALSE)))","v":4440},{"$f":"IF($A140=\"\",\"\",IF(ISBLANK($A140),\"\",VLOOKUP($A140,Data!$A$4:$AI$155,31,FALSE)))","v":4610},{"$f":"IF($A140=\"\",\"\",IF(ISBLANK($A140),\"\",VLOOKUP($A140,Data!$A$4:$AI$155,32,FALSE)))","v":4810},{"$f":"IF($A140=\"\",\"\",IF(ISBLANK($A140),\"\",VLOOKUP($A140,Data!$A$4:$AI$155,33,FALSE)))","v":0.89},{"$f":"IF($A140=\"\",\"\",IF(ISBLANK($A140),\"\",VLOOKUP($A140,Data!$A$4:$AI$155,34,FALSE)))","v":0.9},{"$f":"IF($A140=\"\",\"\",IF(ISBLANK($A140),\"\",VLOOKUP($A140,Data!$A$4:$AI$155,35,FALSE)))","v":0.92}]
[{"$f":"IF('Early Years Table'!A141=\"\",\"\",IF(ISBLANK('Early Years Table'!A141),\"\",'Early Years Table'!A141))","v":866},{"$f":"IF($A141=\"\",\"\",IF(ISBLANK($A141),\"\",INDEX('LEA Nos codes'!$A$3:$A$154,MATCH($A141,'LEA Nos codes'!$B$3:$B$154,0))))","v":"Swindon"},{"$f":"IF($A141=\"\",\"\",IF(ISBLANK($A141),\"\",VLOOKUP($A141,Data!$A$4:$AI$155,30,FALSE)))","v":5180},{"$f":"IF($A141=\"\",\"\",IF(ISBLANK($A141),\"\",VLOOKUP($A141,Data!$A$4:$AI$155,31,FALSE)))","v":5460},{"$f":"IF($A141=\"\",\"\",IF(ISBLANK($A141),\"\",VLOOKUP($A141,Data!$A$4:$AI$155,32,FALSE)))","v":5470},{"$f":"IF($A141=\"\",\"\",IF(ISBLANK($A141),\"\",VLOOKUP($A141,Data!$A$4:$AI$155,33,FALSE)))","v":0.94},{"$f":"IF($A141=\"\",\"\",IF(ISBLANK($A141),\"\",VLOOKUP($A141,Data!$A$4:$AI$155,34,FALSE)))","v":0.97},{"$f":"IF($A141=\"\",\"\",IF(ISBLANK($A141),\"\",VLOOKUP($A141,Data!$A$4:$AI$155,35,FALSE)))","v":0.96}]
[{"$f":"IF('Early Years Table'!A142=\"\",\"\",IF(ISBLANK('Early Years Table'!A142),\"\",'Early Years Table'!A142))","v":357},{"$f":"IF($A142=\"\",\"\",IF(ISBLANK($A142),\"\",INDEX('LEA Nos codes'!$A$3:$A$154,MATCH($A142,'LEA Nos codes'!$B$3:$B$154,0))))","v":"Tameside"},{"$f":"IF($A142=\"\",\"\",IF(ISBLANK($A142),\"\",VLOOKUP($A142,Data!$A$4:$AI$155,30,FALSE)))","v":5370},{"$f":"IF($A142=\"\",\"\",IF(ISBLANK($A142),\"\",VLOOKUP($A142,Data!$A$4:$AI$155,31,FALSE)))","v":5470},{"$f":"IF($A142=\"\",\"\",IF(ISBLANK($A142),\"\",VLOOKUP($A142,Data!$A$4:$AI$155,32,FALSE)))","v":5680},{"$f":"IF($A142=\"\",\"\",IF(ISBLANK($A142),\"\",VLOOKUP($A142,Data!$A$4:$AI$155,33,FALSE)))","v":0.97},{"$f":"IF($A142=\"\",\"\",IF(ISBLANK($A142),\"\",VLOOKUP($A142,Data!$A$4:$AI$155,34,FALSE)))","v":0.96},{"$f":"IF($A142=\"\",\"\",IF(ISBLANK($A142),\"\",VLOOKUP($A142,Data!$A$4:$AI$155,35,FALSE)))","v":0.97}]
[{"$f":"IF('Early Years Table'!A143=\"\",\"\",IF(ISBLANK('Early Years Table'!A143),\"\",'Early Years Table'!A143))","v":894},{"$f":"IF($A143=\"\",\"\",IF(ISBLANK($A143),\"\",INDEX('LEA Nos codes'!$A$3:$A$154,MATCH($A143,'LEA Nos codes'!$B$3:$B$154,0))))","v":"Telford & Wrekin"},{"$f":"IF($A143=\"\",\"\",IF(ISBLANK($A143),\"\",VLOOKUP($A143,Data!$A$4:$AI$155,30,FALSE)))","v":4300},{"$f":"IF($A143=\"\",\"\",IF(ISBLANK($A143),\"\",VLOOKUP($A143,Data!$A$4:$AI$155,31,FALSE)))","v":4360},{"$f":"IF($A143=\"\",\"\",IF(ISBLANK($A143),\"\",VLOOKUP($A143,Data!$A$4:$AI$155,32,FALSE)))","v":4360},{"$f":"IF($A143=\"\",\"\",IF(ISBLANK($A143),\"\",VLOOKUP($A143,Data!$A$4:$AI$155,33,FALSE)))","v":0.98},{"$f":"IF($A143=\"\",\"\",IF(ISBLANK($A143),\"\",VLOOKUP($A143,Data!$A$4:$AI$155,34,FALSE)))","v":0.97},{"$f":"IF($A143=\"\",\"\",IF(ISBLANK($A143),\"\",VLOOKUP($A143,Data!$A$4:$AI$155,35,FALSE)))","v":0.96}]
[{"$f":"IF('Early Years Table'!A144=\"\",\"\",IF(ISBLANK('Early Years Table'!A144),\"\",'Early Years Table'!A144))","v":883},{"$f":"IF($A144=\"\",\"\",IF(ISBLANK($A144),\"\",INDEX('LEA Nos codes'!$A$3:$A$154,MATCH($A144,'LEA Nos codes'!$B$3:$B$154,0))))","v":"Thurrock"},{"$f":"IF($A144=\"\",\"\",IF(ISBLANK($A144),\"\",VLOOKUP($A144,Data!$A$4:$AI$155,30,FALSE)))","v":4120},{"$f":"IF($A144=\"\",\"\",IF(ISBLANK($A144),\"\",VLOOKUP($A144,Data!$A$4:$AI$155,31,FALSE)))","v":4410},{"$f":"IF($A144=\"\",\"\",IF(ISBLANK($A144),\"\",VLOOKUP($A144,Data!$A$4:$AI$155,32,FALSE)))","v":4440},{"$f":"IF($A144=\"\",\"\",IF(ISBLANK($A144),\"\",VLOOKUP($A144,Data!$A$4:$AI$155,33,FALSE)))","v":0.88},{"$f":"IF($A144=\"\",\"\",IF(ISBLANK($A144),\"\",VLOOKUP($A144,Data!$A$4:$AI$155,34,FALSE)))","v":0.9},{"$f":"IF($A144=\"\",\"\",IF(ISBLANK($A144),\"\",VLOOKUP($A144,Data!$A$4:$AI$155,35,FALSE)))","v":0.92}]
[{"$f":"IF('Early Years Table'!A145=\"\",\"\",IF(ISBLANK('Early Years Table'!A145),\"\",'Early Years Table'!A145))","v":880},{"$f":"IF($A145=\"\",\"\",IF(ISBLANK($A145),\"\",INDEX('LEA Nos codes'!$A$3:$A$154,MATCH($A145,'LEA Nos codes'!$B$3:$B$154,0))))","v":"Torbay"},{"$f":"IF($A145=\"\",\"\",IF(ISBLANK($A145),\"\",VLOOKUP($A145,Data!$A$4:$AI$155,30,FALSE)))","v":2700},{"$f":"IF($A145=\"\",\"\",IF(ISBLANK($A145),\"\",VLOOKUP($A145,Data!$A$4:$AI$155,31,FALSE)))","v":2830},{"$f":"IF($A145=\"\",\"\",IF(ISBLANK($A145),\"\",VLOOKUP($A145,Data!$A$4:$AI$155,32,FALSE)))","v":2820},{"$f":"IF($A145=\"\",\"\",IF(ISBLANK($A145),\"\",VLOOKUP($A145,Data!$A$4:$AI$155,33,FALSE)))","v":0.99},{"$f":"IF($A145=\"\",\"\",IF(ISBLANK($A145),\"\",VLOOKUP($A145,Data!$A$4:$AI$155,34,FALSE)))","v":1.05},{"$f":"IF($A145=\"\",\"\",IF(ISBLANK($A145),\"\",VLOOKUP($A145,Data!$A$4:$AI$155,35,FALSE)))","v":1.05}]
[{"$f":"IF('Early Years Table'!A146=\"\",\"\",IF(ISBLANK('Early Years Table'!A146),\"\",'Early Years Table'!A146))","v":211},{"$f":"IF($A146=\"\",\"\",IF(ISBLANK($A146),\"\",INDEX('LEA Nos codes'!$A$3:$A$154,MATCH($A146,'LEA Nos codes'!$B$3:$B$154,0))))","v":"Tower Hamlets"},{"$f":"IF($A146=\"\",\"\",IF(ISBLANK($A146),\"\",VLOOKUP($A146,Data!$A$4:$AI$155,30,FALSE)))","v":6530},{"$f":"IF($A146=\"\",\"\",IF(ISBLANK($A146),\"\",VLOOKUP($A146,Data!$A$4:$AI$155,31,FALSE)))","v":6580},{"$f":"IF($A146=\"\",\"\",IF(ISBLANK($A146),\"\",VLOOKUP($A146,Data!$A$4:$AI$155,32,FALSE)))","v":6780},{"$f":"IF($A146=\"\",\"\",IF(ISBLANK($A146),\"\",VLOOKUP($A146,Data!$A$4:$AI$155,33,FALSE)))","v":0.91},{"$f":"IF($A146=\"\",\"\",IF(ISBLANK($A146),\"\",VLOOKUP($A146,Data!$A$4:$AI$155,34,FALSE)))","v":0.91},{"$f":"IF($A146=\"\",\"\",IF(ISBLANK($A146),\"\",VLOOKUP($A146,Data!$A$4:$AI$155,35,FALSE)))","v":0.93}]
[{"$f":"IF('Early Years Table'!A147=\"\",\"\",IF(ISBLANK('Early Years Table'!A147),\"\",'Early Years Table'!A147))","v":358},{"$f":"IF($A147=\"\",\"\",IF(ISBLANK($A147),\"\",INDEX('LEA Nos codes'!$A$3:$A$154,MATCH($A147,'LEA Nos codes'!$B$3:$B$154,0))))","v":"Trafford"},{"$f":"IF($A147=\"\",\"\",IF(ISBLANK($A147),\"\",VLOOKUP($A147,Data!$A$4:$AI$155,30,FALSE)))","v":5710},{"$f":"IF($A147=\"\",\"\",IF(ISBLANK($A147),\"\",VLOOKUP($A147,Data!$A$4:$AI$155,31,FALSE)))","v":5830},{"$f":"IF($A147=\"\",\"\",IF(ISBLANK($A147),\"\",VLOOKUP($A147,Data!$A$4:$AI$155,32,FALSE)))","v":5900},{"$f":"IF($A147=\"\",\"\",IF(ISBLANK($A147),\"\",VLOOKUP($A147,Data!$A$4:$AI$155,33,FALSE)))","v":0.97},{"$f":"IF($A147=\"\",\"\",IF(ISBLANK($A147),\"\",VLOOKUP($A147,Data!$A$4:$AI$155,34,FALSE)))","v":0.96},{"$f":"IF($A147=\"\",\"\",IF(ISBLANK($A147),\"\",VLOOKUP($A147,Data!$A$4:$AI$155,35,FALSE)))","v":0.97}]
[{"$f":"IF('Early Years Table'!A148=\"\",\"\",IF(ISBLANK('Early Years Table'!A148),\"\",'Early Years Table'!A148))","v":384},{"$f":"IF($A148=\"\",\"\",IF(ISBLANK($A148),\"\",INDEX('LEA Nos codes'!$A$3:$A$154,MATCH($A148,'LEA Nos codes'!$B$3:$B$154,0))))","v":"Wakefield"},{"$f":"IF($A148=\"\",\"\",IF(ISBLANK($A148),\"\",VLOOKUP($A148,Data!$A$4:$AI$155,30,FALSE)))","v":7700},{"$f":"IF($A148=\"\",\"\",IF(ISBLANK($A148),\"\",VLOOKUP($A148,Data!$A$4:$AI$155,31,FALSE)))","v":7950},{"$f":"IF($A148=\"\",\"\",IF(ISBLANK($A148),\"\",VLOOKUP($A148,Data!$A$4:$AI$155,32,FALSE)))","v":8010},{"$f":"IF($A148=\"\",\"\",IF(ISBLANK($A148),\"\",VLOOKUP($A148,Data!$A$4:$AI$155,33,FALSE)))","v":1},{"$f":"IF($A148=\"\",\"\",IF(ISBLANK($A148),\"\",VLOOKUP($A148,Data!$A$4:$AI$155,34,FALSE)))","v":1.02},{"$f":"IF($A148=\"\",\"\",IF(ISBLANK($A148),\"\",VLOOKUP($A148,Data!$A$4:$AI$155,35,FALSE)))","v":1.01}]
[{"$f":"IF('Early Years Table'!A149=\"\",\"\",IF(ISBLANK('Early Years Table'!A149),\"\",'Early Years Table'!A149))","v":335},{"$f":"IF($A149=\"\",\"\",IF(ISBLANK($A149),\"\",INDEX('LEA Nos codes'!$A$3:$A$154,MATCH($A149,'LEA Nos codes'!$B$3:$B$154,0))))","v":"Walsall"},{"$f":"IF($A149=\"\",\"\",IF(ISBLANK($A149),\"\",VLOOKUP($A149,Data!$A$4:$AI$155,30,FALSE)))","v":6820},{"$f":"IF($A149=\"\",\"\",IF(ISBLANK($A149),\"\",VLOOKUP($A149,Data!$A$4:$AI$155,31,FALSE)))","v":6970},{"$f":"IF($A149=\"\",\"\",IF(ISBLANK($A149),\"\",VLOOKUP($A149,Data!$A$4:$AI$155,32,FALSE)))","v":7090},{"$f":"IF($A149=\"\",\"\",IF(ISBLANK($A149),\"\",VLOOKUP($A149,Data!$A$4:$AI$155,33,FALSE)))","v":0.95},{"$f":"IF($A149=\"\",\"\",IF(ISBLANK($A149),\"\",VLOOKUP($A149,Data!$A$4:$AI$155,34,FALSE)))","v":0.95},{"$f":"IF($A149=\"\",\"\",IF(ISBLANK($A149),\"\",VLOOKUP($A149,Data!$A$4:$AI$155,35,FALSE)))","v":0.96}]
[{"$f":"IF('Early Years Table'!A150=\"\",\"\",IF(ISBLANK('Early Years Table'!A150),\"\",'Early Years Table'!A150))","v":320},{"$f":"IF($A150=\"\",\"\",IF(ISBLANK($A150),\"\",INDEX('LEA Nos codes'!$A$3:$A$154,MATCH($A150,'LEA Nos codes'!$B$3:$B$154,0))))","v":"Waltham Forest"},{"$f":"IF($A150=\"\",\"\",IF(ISBLANK($A150),\"\",VLOOKUP($A150,Data!$A$4:$AI$155,30,FALSE)))","v":7010},{"$f":"IF($A150=\"\",\"\",IF(ISBLANK($A150),\"\",VLOOKUP($A150,Data!$A$4:$AI$155,31,FALSE)))","v":7340},{"$f":"IF($A150=\"\",\"\",IF(ISBLANK($A150),\"\",VLOOKUP($A150,Data!$A$4:$AI$155,32,FALSE)))","v":7410},{"$f":"IF($A150=\"\",\"\",IF(ISBLANK($A150),\"\",VLOOKUP($A150,Data!$A$4:$AI$155,33,FALSE)))","v":0.88},{"$f":"IF($A150=\"\",\"\",IF(ISBLANK($A150),\"\",VLOOKUP($A150,Data!$A$4:$AI$155,34,FALSE)))","v":0.9},{"$f":"IF($A150=\"\",\"\",IF(ISBLANK($A150),\"\",VLOOKUP($A150,Data!$A$4:$AI$155,35,FALSE)))","v":0.91}]
[{"$f":"IF('Early Years Table'!A151=\"\",\"\",IF(ISBLANK('Early Years Table'!A151),\"\",'Early Years Table'!A151))","v":212},{"$f":"IF($A151=\"\",\"\",IF(ISBLANK($A151),\"\",INDEX('LEA Nos codes'!$A$3:$A$154,MATCH($A151,'LEA Nos codes'!$B$3:$B$154,0))))","v":"Wandsworth"},{"$f":"IF($A151=\"\",\"\",IF(ISBLANK($A151),\"\",VLOOKUP($A151,Data!$A$4:$AI$155,30,FALSE)))","v":7090},{"$f":"IF($A151=\"\",\"\",IF(ISBLANK($A151),\"\",VLOOKUP($A151,Data!$A$4:$AI$155,31,FALSE)))","v":7280},{"$f":"IF($A151=\"\",\"\",IF(ISBLANK($A151),\"\",VLOOKUP($A151,Data!$A$4:$AI$155,32,FALSE)))","v":7470},{"$f":"IF($A151=\"\",\"\",IF(ISBLANK($A151),\"\",VLOOKUP($A151,Data!$A$4:$AI$155,33,FALSE)))","v":0.91},{"$f":"IF($A151=\"\",\"\",IF(ISBLANK($A151),\"\",VLOOKUP($A151,Data!$A$4:$AI$155,34,FALSE)))","v":0.92},{"$f":"IF($A151=\"\",\"\",IF(ISBLANK($A151),\"\",VLOOKUP($A151,Data!$A$4:$AI$155,35,FALSE)))","v":0.93}]
[{"$f":"IF('Early Years Table'!A152=\"\",\"\",IF(ISBLANK('Early Years Table'!A152),\"\",'Early Years Table'!A152))","v":877},{"$f":"IF($A152=\"\",\"\",IF(ISBLANK($A152),\"\",INDEX('LEA Nos codes'!$A$3:$A$154,MATCH($A152,'LEA Nos codes'!$B$3:$B$154,0))))","v":"Warrington"},{"$f":"IF($A152=\"\",\"\",IF(ISBLANK($A152),\"\",VLOOKUP($A152,Data!$A$4:$AI$155,30,FALSE)))","v":4880},{"$f":"IF($A152=\"\",\"\",IF(ISBLANK($A152),\"\",VLOOKUP($A152,Data!$A$4:$AI$155,31,FALSE)))","v":5080},{"$f":"IF($A152=\"\",\"\",IF(ISBLANK($A152),\"\",VLOOKUP($A152,Data!$A$4:$AI$155,32,FALSE)))","v":5040},{"$f":"IF($A152=\"\",\"\",IF(ISBLANK($A152),\"\",VLOOKUP($A152,Data!$A$4:$AI$155,33,FALSE)))","v":1.01},{"$f":"IF($A152=\"\",\"\",IF(ISBLANK($A152),\"\",VLOOKUP($A152,Data!$A$4:$AI$155,34,FALSE)))","v":1.02},{"$f":"IF($A152=\"\",\"\",IF(ISBLANK($A152),\"\",VLOOKUP($A152,Data!$A$4:$AI$155,35,FALSE)))","v":1}]
[{"$f":"IF('Early Years Table'!A153=\"\",\"\",IF(ISBLANK('Early Years Table'!A153),\"\",'Early Years Table'!A153))","v":937},{"$f":"IF($A153=\"\",\"\",IF(ISBLANK($A153),\"\",INDEX('LEA Nos codes'!$A$3:$A$154,MATCH($A153,'LEA Nos codes'!$B$3:$B$154,0))))","v":"Warwickshire"},{"$f":"IF($A153=\"\",\"\",IF(ISBLANK($A153),\"\",VLOOKUP($A153,Data!$A$4:$AI$155,30,FALSE)))","v":12080},{"$f":"IF($A153=\"\",\"\",IF(ISBLANK($A153),\"\",VLOOKUP($A153,Data!$A$4:$AI$155,31,FALSE)))","v":12380},{"$f":"IF($A153=\"\",\"\",IF(ISBLANK($A153),\"\",VLOOKUP($A153,Data!$A$4:$AI$155,32,FALSE)))","v":12460},{"$f":"IF($A153=\"\",\"\",IF(ISBLANK($A153),\"\",VLOOKUP($A153,Data!$A$4:$AI$155,33,FALSE)))","v":0.98},{"$f":"IF($A153=\"\",\"\",IF(ISBLANK($A153),\"\",VLOOKUP($A153,Data!$A$4:$AI$155,34,FALSE)))","v":0.98},{"$f":"IF($A153=\"\",\"\",IF(ISBLANK($A153),\"\",VLOOKUP($A153,Data!$A$4:$AI$155,35,FALSE)))","v":0.98}]
[{"$f":"IF('Early Years Table'!A154=\"\",\"\",IF(ISBLANK('Early Years Table'!A154),\"\",'Early Years Table'!A154))","v":869},{"$f":"IF($A154=\"\",\"\",IF(ISBLANK($A154),\"\",INDEX('LEA Nos codes'!$A$3:$A$154,MATCH($A154,'LEA Nos codes'!$B$3:$B$154,0))))","v":"West Berkshire"},{"$f":"IF($A154=\"\",\"\",IF(ISBLANK($A154),\"\",VLOOKUP($A154,Data!$A$4:$AI$155,30,FALSE)))","v":3750},{"$f":"IF($A154=\"\",\"\",IF(ISBLANK($A154),\"\",VLOOKUP($A154,Data!$A$4:$AI$155,31,FALSE)))","v":3870},{"$f":"IF($A154=\"\",\"\",IF(ISBLANK($A154),\"\",VLOOKUP($A154,Data!$A$4:$AI$155,32,FALSE)))","v":3940},{"$f":"IF($A154=\"\",\"\",IF(ISBLANK($A154),\"\",VLOOKUP($A154,Data!$A$4:$AI$155,33,FALSE)))","v":0.94},{"$f":"IF($A154=\"\",\"\",IF(ISBLANK($A154),\"\",VLOOKUP($A154,Data!$A$4:$AI$155,34,FALSE)))","v":0.95},{"$f":"IF($A154=\"\",\"\",IF(ISBLANK($A154),\"\",VLOOKUP($A154,Data!$A$4:$AI$155,35,FALSE)))","v":0.96}]
[{"$f":"IF('Early Years Table'!A155=\"\",\"\",IF(ISBLANK('Early Years Table'!A155),\"\",'Early Years Table'!A155))","v":938},{"$f":"IF($A155=\"\",\"\",IF(ISBLANK($A155),\"\",INDEX('LEA Nos codes'!$A$3:$A$154,MATCH($A155,'LEA Nos codes'!$B$3:$B$154,0))))","v":"West Sussex"},{"$f":"IF($A155=\"\",\"\",IF(ISBLANK($A155),\"\",VLOOKUP($A155,Data!$A$4:$AI$155,30,FALSE)))","v":17470},{"$f":"IF($A155=\"\",\"\",IF(ISBLANK($A155),\"\",VLOOKUP($A155,Data!$A$4:$AI$155,31,FALSE)))","v":18020},{"$f":"IF($A155=\"\",\"\",IF(ISBLANK($A155),\"\",VLOOKUP($A155,Data!$A$4:$AI$155,32,FALSE)))","v":18460},{"$f":"IF($A155=\"\",\"\",IF(ISBLANK($A155),\"\",VLOOKUP($A155,Data!$A$4:$AI$155,33,FALSE)))","v":0.96},{"$f":"IF($A155=\"\",\"\",IF(ISBLANK($A155),\"\",VLOOKUP($A155,Data!$A$4:$AI$155,34,FALSE)))","v":0.96},{"$f":"IF($A155=\"\",\"\",IF(ISBLANK($A155),\"\",VLOOKUP($A155,Data!$A$4:$AI$155,35,FALSE)))","v":0.97}]
[{"$f":"IF('Early Years Table'!A156=\"\",\"\",IF(ISBLANK('Early Years Table'!A156),\"\",'Early Years Table'!A156))","v":213},{"$f":"IF($A156=\"\",\"\",IF(ISBLANK($A156),\"\",INDEX('LEA Nos codes'!$A$3:$A$154,MATCH($A156,'LEA Nos codes'!$B$3:$B$154,0))))","v":"Westminster"},{"$f":"IF($A156=\"\",\"\",IF(ISBLANK($A156),\"\",VLOOKUP($A156,Data!$A$4:$AI$155,30,FALSE)))","v":3780},{"$f":"IF($A156=\"\",\"\",IF(ISBLANK($A156),\"\",VLOOKUP($A156,Data!$A$4:$AI$155,31,FALSE)))","v":3890},{"$f":"IF($A156=\"\",\"\",IF(ISBLANK($A156),\"\",VLOOKUP($A156,Data!$A$4:$AI$155,32,FALSE)))","v":3810},{"$f":"IF($A156=\"\",\"\",IF(ISBLANK($A156),\"\",VLOOKUP($A156,Data!$A$4:$AI$155,33,FALSE)))","v":0.82},{"$f":"IF($A156=\"\",\"\",IF(ISBLANK($A156),\"\",VLOOKUP($A156,Data!$A$4:$AI$155,34,FALSE)))","v":0.82},{"$f":"IF($A156=\"\",\"\",IF(ISBLANK($A156),\"\",VLOOKUP($A156,Data!$A$4:$AI$155,35,FALSE)))","v":0.79}]
[{"$f":"IF('Early Years Table'!A157=\"\",\"\",IF(ISBLANK('Early Years Table'!A157),\"\",'Early Years Table'!A157))","v":359},{"$f":"IF($A157=\"\",\"\",IF(ISBLANK($A157),\"\",INDEX('LEA Nos codes'!$A$3:$A$154,MATCH($A157,'LEA Nos codes'!$B$3:$B$154,0))))","v":"Wigan"},{"$f":"IF($A157=\"\",\"\",IF(ISBLANK($A157),\"\",VLOOKUP($A157,Data!$A$4:$AI$155,30,FALSE)))","v":6960},{"$f":"IF($A157=\"\",\"\",IF(ISBLANK($A157),\"\",VLOOKUP($A157,Data!$A$4:$AI$155,31,FALSE)))","v":7230},{"$f":"IF($A157=\"\",\"\",IF(ISBLANK($A157),\"\",VLOOKUP($A157,Data!$A$4:$AI$155,32,FALSE)))","v":7340},{"$f":"IF($A157=\"\",\"\",IF(ISBLANK($A157),\"\",VLOOKUP($A157,Data!$A$4:$AI$155,33,FALSE)))","v":0.9},{"$f":"IF($A157=\"\",\"\",IF(ISBLANK($A157),\"\",VLOOKUP($A157,Data!$A$4:$AI$155,34,FALSE)))","v":0.92},{"$f":"IF($A157=\"\",\"\",IF(ISBLANK($A157),\"\",VLOOKUP($A157,Data!$A$4:$AI$155,35,FALSE)))","v":0.92}]
[{"$f":"IF('Early Years Table'!A158=\"\",\"\",IF(ISBLANK('Early Years Table'!A158),\"\",'Early Years Table'!A158))","v":865},{"$f":"IF($A158=\"\",\"\",IF(ISBLANK($A158),\"\",INDEX('LEA Nos codes'!$A$3:$A$154,MATCH($A158,'LEA Nos codes'!$B$3:$B$154,0))))","v":"Wiltshire"},{"$f":"IF($A158=\"\",\"\",IF(ISBLANK($A158),\"\",VLOOKUP($A158,Data!$A$4:$AI$155,30,FALSE)))","v":10530},{"$f":"IF($A158=\"\",\"\",IF(ISBLANK($A158),\"\",VLOOKUP($A158,Data!$A$4:$AI$155,31,FALSE)))","v":10710},{"$f":"IF($A158=\"\",\"\",IF(ISBLANK($A158),\"\",VLOOKUP($A158,Data!$A$4:$AI$155,32,FALSE)))","v":10750},{"$f":"IF($A158=\"\",\"\",IF(ISBLANK($A158),\"\",VLOOKUP($A158,Data!$A$4:$AI$155,33,FALSE)))","v":0.94},{"$f":"IF($A158=\"\",\"\",IF(ISBLANK($A158),\"\",VLOOKUP($A158,Data!$A$4:$AI$155,34,FALSE)))","v":0.93},{"$f":"IF($A158=\"\",\"\",IF(ISBLANK($A158),\"\",VLOOKUP($A158,Data!$A$4:$AI$155,35,FALSE)))","v":0.93}]
[{"$f":"IF('Early Years Table'!A159=\"\",\"\",IF(ISBLANK('Early Years Table'!A159),\"\",'Early Years Table'!A159))","v":868},{"$f":"IF($A159=\"\",\"\",IF(ISBLANK($A159),\"\",INDEX('LEA Nos codes'!$A$3:$A$154,MATCH($A159,'LEA Nos codes'!$B$3:$B$154,0))))","v":"Windsor and Maidenhead"},{"$f":"IF($A159=\"\",\"\",IF(ISBLANK($A159),\"\",VLOOKUP($A159,Data!$A$4:$AI$155,30,FALSE)))","v":3570},{"$f":"IF($A159=\"\",\"\",IF(ISBLANK($A159),\"\",VLOOKUP($A159,Data!$A$4:$AI$155,31,FALSE)))","v":3820},{"$f":"IF($A159=\"\",\"\",IF(ISBLANK($A159),\"\",VLOOKUP($A159,Data!$A$4:$AI$155,32,FALSE)))","v":3840},{"$f":"IF($A159=\"\",\"\",IF(ISBLANK($A159),\"\",VLOOKUP($A159,Data!$A$4:$AI$155,33,FALSE)))","v":0.97},{"$f":"IF($A159=\"\",\"\",IF(ISBLANK($A159),\"\",VLOOKUP($A159,Data!$A$4:$AI$155,34,FALSE)))","v":1.03},{"$f":"IF($A159=\"\",\"\",IF(ISBLANK($A159),\"\",VLOOKUP($A159,Data!$A$4:$AI$155,35,FALSE)))","v":1}]
[{"$f":"IF('Early Years Table'!A160=\"\",\"\",IF(ISBLANK('Early Years Table'!A160),\"\",'Early Years Table'!A160))","v":344},{"$f":"IF($A160=\"\",\"\",IF(ISBLANK($A160),\"\",INDEX('LEA Nos codes'!$A$3:$A$154,MATCH($A160,'LEA Nos codes'!$B$3:$B$154,0))))","v":"Wirral"},{"$f":"IF($A160=\"\",\"\",IF(ISBLANK($A160),\"\",VLOOKUP($A160,Data!$A$4:$AI$155,30,FALSE)))","v":7310},{"$f":"IF($A160=\"\",\"\",IF(ISBLANK($A160),\"\",VLOOKUP($A160,Data!$A$4:$AI$155,31,FALSE)))","v":6700},{"$f":"IF($A160=\"\",\"\",IF(ISBLANK($A160),\"\",VLOOKUP($A160,Data!$A$4:$AI$155,32,FALSE)))","v":7480},{"$f":"IF($A160=\"\",\"\",IF(ISBLANK($A160),\"\",VLOOKUP($A160,Data!$A$4:$AI$155,33,FALSE)))","v":0.98},{"$f":"IF($A160=\"\",\"\",IF(ISBLANK($A160),\"\",VLOOKUP($A160,Data!$A$4:$AI$155,34,FALSE)))","v":0.89},{"$f":"IF($A160=\"\",\"\",IF(ISBLANK($A160),\"\",VLOOKUP($A160,Data!$A$4:$AI$155,35,FALSE)))","v":1}]
[{"$f":"IF('Early Years Table'!A161=\"\",\"\",IF(ISBLANK('Early Years Table'!A161),\"\",'Early Years Table'!A161))","v":872},{"$f":"IF($A161=\"\",\"\",IF(ISBLANK($A161),\"\",INDEX('LEA Nos codes'!$A$3:$A$154,MATCH($A161,'LEA Nos codes'!$B$3:$B$154,0))))","v":"Wokingham"},{"$f":"IF($A161=\"\",\"\",IF(ISBLANK($A161),\"\",VLOOKUP($A161,Data!$A$4:$AI$155,30,FALSE)))","v":3960},{"$f":"IF($A161=\"\",\"\",IF(ISBLANK($A161),\"\",VLOOKUP($A161,Data!$A$4:$AI$155,31,FALSE)))","v":4180},{"$f":"IF($A161=\"\",\"\",IF(ISBLANK($A161),\"\",VLOOKUP($A161,Data!$A$4:$AI$155,32,FALSE)))","v":4200},{"$f":"IF($A161=\"\",\"\",IF(ISBLANK($A161),\"\",VLOOKUP($A161,Data!$A$4:$AI$155,33,FALSE)))","v":1},{"$f":"IF($A161=\"\",\"\",IF(ISBLANK($A161),\"\",VLOOKUP($A161,Data!$A$4:$AI$155,34,FALSE)))","v":1.02},{"$f":"IF($A161=\"\",\"\",IF(ISBLANK($A161),\"\",VLOOKUP($A161,Data!$A$4:$AI$155,35,FALSE)))","v":1}]
[{"$f":"IF('Early Years Table'!A162=\"\",\"\",IF(ISBLANK('Early Years Table'!A162),\"\",'Early Years Table'!A162))","v":336},{"$f":"IF($A162=\"\",\"\",IF(ISBLANK($A162),\"\",INDEX('LEA Nos codes'!$A$3:$A$154,MATCH($A162,'LEA Nos codes'!$B$3:$B$154,0))))","v":"Wolverhampton"},{"$f":"IF($A162=\"\",\"\",IF(ISBLANK($A162),\"\",VLOOKUP($A162,Data!$A$4:$AI$155,30,FALSE)))","v":5930},{"$f":"IF($A162=\"\",\"\",IF(ISBLANK($A162),\"\",VLOOKUP($A162,Data!$A$4:$AI$155,31,FALSE)))","v":6050},{"$f":"IF($A162=\"\",\"\",IF(ISBLANK($A162),\"\",VLOOKUP($A162,Data!$A$4:$AI$155,32,FALSE)))","v":5990},{"$f":"IF($A162=\"\",\"\",IF(ISBLANK($A162),\"\",VLOOKUP($A162,Data!$A$4:$AI$155,33,FALSE)))","v":0.92},{"$f":"IF($A162=\"\",\"\",IF(ISBLANK($A162),\"\",VLOOKUP($A162,Data!$A$4:$AI$155,34,FALSE)))","v":0.92},{"$f":"IF($A162=\"\",\"\",IF(ISBLANK($A162),\"\",VLOOKUP($A162,Data!$A$4:$AI$155,35,FALSE)))","v":0.9}]
[{"$f":"IF('Early Years Table'!A163=\"\",\"\",IF(ISBLANK('Early Years Table'!A163),\"\",'Early Years Table'!A163))","v":885},{"$f":"IF($A163=\"\",\"\",IF(ISBLANK($A163),\"\",INDEX('LEA Nos codes'!$A$3:$A$154,MATCH($A163,'LEA Nos codes'!$B$3:$B$154,0))))","v":"Worcestershire"},{"$f":"IF($A163=\"\",\"\",IF(ISBLANK($A163),\"\",VLOOKUP($A163,Data!$A$4:$AI$155,30,FALSE)))","v":12300},{"$f":"IF($A163=\"\",\"\",IF(ISBLANK($A163),\"\",VLOOKUP($A163,Data!$A$4:$AI$155,31,FALSE)))","v":12700},{"$f":"IF($A163=\"\",\"\",IF(ISBLANK($A163),\"\",VLOOKUP($A163,Data!$A$4:$AI$155,32,FALSE)))","v":12730},{"$f":"IF($A163=\"\",\"\",IF(ISBLANK($A163),\"\",VLOOKUP($A163,Data!$A$4:$AI$155,33,FALSE)))","v":0.98},{"$f":"IF($A163=\"\",\"\",IF(ISBLANK($A163),\"\",VLOOKUP($A163,Data!$A$4:$AI$155,34,FALSE)))","v":1.01},{"$f":"IF($A163=\"\",\"\",IF(ISBLANK($A163),\"\",VLOOKUP($A163,Data!$A$4:$AI$155,35,FALSE)))","v":1.02}]
[{"$f":"IF('Early Years Table'!A164=\"\",\"\",IF(ISBLANK('Early Years Table'!A164),\"\",'Early Years Table'!A164))","v":816},{"$f":"IF($A164=\"\",\"\",IF(ISBLANK($A164),\"\",INDEX('LEA Nos codes'!$A$3:$A$154,MATCH($A164,'LEA Nos codes'!$B$3:$B$154,0))))","v":"York"},{"$f":"IF($A164=\"\",\"\",IF(ISBLANK($A164),\"\",VLOOKUP($A164,Data!$A$4:$AI$155,30,FALSE)))","v":4120},{"$f":"IF($A164=\"\",\"\",IF(ISBLANK($A164),\"\",VLOOKUP($A164,Data!$A$4:$AI$155,31,FALSE)))","v":4330},{"$f":"IF($A164=\"\",\"\",IF(ISBLANK($A164),\"\",VLOOKUP($A164,Data!$A$4:$AI$155,32,FALSE)))","v":4360},{"$f":"IF($A164=\"\",\"\",IF(ISBLANK($A164),\"\",VLOOKUP($A164,Data!$A$4:$AI$155,33,FALSE)))","v":1},{"$f":"IF($A164=\"\",\"\",IF(ISBLANK($A164),\"\",VLOOKUP($A164,Data!$A$4:$AI$155,34,FALSE)))","v":1.02},{"$f":"IF($A164=\"\",\"\",IF(ISBLANK($A164),\"\",VLOOKUP($A164,Data!$A$4:$AI$155,35,FALSE)))","v":1.03}]
[]
[]
["Source: DfE: Provision for Children Under Five Years of Age in England - January 2013"]
["https://www.gov.uk/government/publications/provision-for-children-under-5-years-of-age-in-england-january-2013"]
[]
["1. All children are eligible for a free part-time funded place from 1 September, 1 January or 1 April following their third birthday for up to two years before they reach compulsory school age"]
["   - A funded place currently consists of a minimum of 15 hours of free early education per week for 38 weeks of the year. "]
["   - Free places can be accessed in a variety of settings in the maintained and private, voluntary and independent sectors."]
["   - Local Authorities make funding available to all providers to enable them to provide free places."]
["2. Count of children aged three and four at 31st December in the previous calendar year."]
["3. Any child attending more than one provider will have only been counted once."]
[".. Not available"]
["x Value suppressed to protect confidentiality"]
[]
["Note:  Some caution should be exercised when comparing take-up rates at local authority level."]
["Please see technical notes for further information on population estimates and rates which exceed 100%"]

{"sheet":"3+4YO Take up ","index":11,"n_rows":180,"n_cols":15,"rows_kept":180,"cut":false,"hidden":true,"merged":[[3,2,3,4],[3,5,3,7],[167,0,167,8]]}
["Early Years Benchmarking - Take Up1",null,null,null,null,null,null,null,null,null,null,null,null,null,"Return to contents"]
["Three and four year olds2,3 benefiting from funded early education",null,null,null,null,null,null,null,null,null,null,null,null,null,"Return to instructions"]
["All LAs"]
[null,null,"Number",null,null,"Percentage"]
[null,null,2011,2012,2013,2011,2012,2013]
["England - Average (mean) or Total",null,1224470,1264420,1283500,0.94,0.95,0.96]
["England - Average (median)",null,6210,6460,6610,0.95,0.96,0.97]
["England - Minimum",null,60,60,40,0.75,0.77,0.79]
["England - Maximum",null,33140,34090,35000,1.23,1.1200000000000001,1.1499999999999999]
["Selection - Average (median)",null,6210,6460,6610,0.95,0.96,0.97]
["Selection - Minimum",null,60,60,40,0.75,0.77,0.79]
["Selection - Maximum",null,33140,34090,35000,1.23,1.1200000000000001,1.1499999999999999]
[301,"Barking and Dagenham",5850,6360,6690,0.8,0.84,0.89]
[302,"Barnet",8220,8730,8890,0.82,0.84,0.84]
[370,"Barnsley",5370,5420,5460,0.97,0.98,0.97]
[800,"Bath & North East Somerset",3800,3810,3760,1.01,1.03,1.03]
[822,"Bedford Borough",3920,4160,4430,1.01,1.03,1.06]
[303,"Bexley",5720,6000,6080,0.95,0.97,0.98]
[330,"Birmingham",28330,29800,30220,0.88,0.91,0.92]
[889,"Blackburn with Darwen",4200,4220,4280,0.93,0.92,0.94]
[890,"Blackpool",3180,3320,3190,0.98,1.01,0.95]
[350,"Bolton",7120,7460,7560,0.96,1,1]
[837,"Bournemouth",3670,3880,4020,1,0.96,0.99]
[867,"Bracknell Forest",2860,2970,2990,0.93,0.92,0.91]
[380,"Bradford",14920,15510,15790,0.91,0.94,0.95]
[304,"Brent",7050,7390,7730,0.82,0.84,0.89]
[846,"Brighton and Hove",5840,6060,6090,1,1.01,1.03]
[305,"Bromley",7540,7840,8110,0.95,0.97,0.99]
[825,"Buckinghamshire",11890,12320,12560,0.93,0.95,0.96]
[351,"Bury",4540,4700,4730,0.95,0.96,0.96]
[381,"Calderdale",5160,5420,5420,1,1.05,1.03]
[873,"Cambridgeshire",13630,14370,14350,0.95,0.97,0.95]
[202,"Camden",4060,3900,4090,0.83,0.77,0.82]
[823,"Central Bedfordshire",6230,6550,6610,0.97,1,1.01]
[895,"Cheshire East",8080,8290,8500,0.99,1,1.04]
[896,"Cheshire West and Chester",7490,7700,7580,1.01,1.05,1.05]
[801,"City of Bristol",9820,10430,10670,0.9,0.91,0.92]
[810,"City of Kingston Upon Hull",6300,6480,6610,0.96,0.95,0.96]
[201,"City of London",60,80,100,0.76,1.02,1.1499999999999999]
[908,"Cornwall",10660,10950,11220,0.98,1,1.01]
[331,"Coventry",7920,8230,8420,0.93,0.94,0.94]
[306,"Croydon",9320,9710,9780,0.88,0.87,0.88]
[909,"Cumbria",10220,10450,10440,1,1.02,1.03]
[841,"Darlington",2570,2610,2660,1,1,1]
[831,"Derby",6270,6470,6760,0.92,0.9,0.94]
[830,"Derbyshire",16520,16900,16750,0.98,1,0.99]
[878,"Devon",14810,15120,15500,0.99,1.01,1.02]
[371,"Doncaster",6830,7080,7270,0.92,0.91,0.93]
[835,"Dorset",7730,8130,7990,0.98,1.02,0.99]
[332,"Dudley",6990,7220,7390,0.94,0.96,0.96]
[840,"Durham",10710,10950,10890,0.95,0.96,0.95]
[307,"Ealing",8730,9110,9400,0.9,0.92,0.95]
[811,"East Riding of Yorkshire",6920,7000,6950,1.04,1.04,1.03]
[845,"East Sussex",10470,10660,10880,0.95,0.96,0.97]
[308,"Enfield",7930,8460,8620,0.83,0.85,0.87]
[881,"Essex",32020,32650,33100,0.98,0.99,0.98]
[390,"Gateshead",4350,4430,4540,0.96,0.96,0.96]
[916,"Gloucestershire",12930,13240,13450,0.98,0.98,0.99]
[203,"Greenwich",7330,7390,7330,0.91,0.89,0.89]
[204,"Hackney",6640,6700,6970,0.9,0.92,0.96]
[876,"Halton",2990,3000,2980,0.9,0.91,0.9]
[205,"Hammersmith and Fulham",4080,4110,4130,0.92,0.93,0.93]
[850,"Hampshire",29110,29690,30200,0.95,0.95,0.96]
[309,"Haringey",6000,6210,6240,0.84,0.88,0.9]
[310,"Harrow",5140,5400,5680,0.82,0.84,0.87]
[805,"Hartlepool",2270,2260,2310,0.99,0.98,1]
[311,"Havering",5340,5610,5750,0.97,1,1.01]
[884,"Herefordshire",3570,3680,3720,0.96,0.96,0.96]
[919,"Hertfordshire",27830,28410,28920,0.97,0.96,0.96]
[312,"Hillingdon",7320,7670,7990,0.96,0.96,0.98]
[313,"Hounslow",5860,6380,6750,0.79,0.82,0.87]
[921,"Isle of Wight",2590,2530,2510,0.97,0.98,0.97]
[420,"Isles of Scilly",70,60,40,1.23,1.1200000000000001,1]
[206,"Islington",4480,4550,4540,0.97,0.97,0.98]
[207,"Kensington and Chelsea",2740,2700,2730,0.75,0.77,0.79]
[886,"Kent",33140,34090,35000,0.94,0.95,0.96]
[314,"Kingston upon Thames",3850,4120,4220,0.92,0.94,0.94]
[382,"Kirklees",10640,10860,11000,0.95,0.96,0.97]
[340,"Knowsley",3650,3640,3620,0.99,1,0.99]
[208,"Lambeth",6930,7030,7150,0.88,0.89,0.91]
[888,"Lancashire",25910,26740,27130,0.96,0.97,0.98]
[383,"Leeds",17820,18400,19050,0.98,0.98,0.99]
[856,"Leicester",8540,8960,9020,0.91,0.93,0.93]
[855,"Leicestershire",13850,14160,14270,0.95,0.96,0.98]
[209,"Lewisham",6870,7160,7450,0.82,0.84,0.86]
[925,"Lincolnshire",14290,15020,15490,0.97,1,1.01]
[341,"Liverpool",9740,9990,10150,0.97,0.97,0.98]
[821,"Luton",6080,6420,6390,0.94,0.96,0.96]
[352,"Manchester",12350,12700,13030,0.89,0.89,0.92]
[887,"Medway",6410,6670,6760,0.95,0.97,0.97]
[315,"Merton",5390,5780,5750,0.95,1.02,0.99]
[806,"Middlesbrough",3750,3740,3750,1,1.01,1.01]
[826,"Milton Keynes",6890,7170,7460,0.91,0.9,0.92]
[391,"Newcastle upon Tyne",5860,6050,6250,0.94,0.93,0.95]
[316,"Newham",9260,9660,9750,0.93,0.97,1]
[926,"Norfolk",17150,17860,18230,0.95,0.96,0.97]
[812,"North East Lincolnshire",3750,3820,3900,0.96,0.96,0.97]
[813,"North Lincolnshire",3730,3790,3800,0.92,0.91,0.9]
[802,"North Somerset",4580,4760,4740,0.97,1.01,0.98]
[392,"North Tyneside",4560,4600,4730,0.99,0.98,1]
[815,"North Yorkshire",12080,12430,12630,0.96,0.98,1]
[928,"Northamptonshire",17170,17940,18250,0.95,0.96,0.97]
[929,"Northumberland",6440,6600,6570,1,1.01,1]
[892,"Nottingham",7260,7480,7540,0.95,0.95,0.96]
[891,"Nottinghamshire",17570,17990,17890,0.99,0.99,0.98]
[353,"Oldham",6170,6350,6400,0.93,0.95,0.97]
[931,"Oxfordshire",15440,15830,15650,0.96,0.97,0.96]
[874,"Peterborough",5000,5370,5640,0.95,0.97,1]
[879,"Plymouth",5840,6040,6030,0.99,1,0.99]
[836,"Poole",2870,3090,3060,0.86,0.9,0.9]
[851,"Portsmouth",4780,4940,5040,0.94,0.93,0.94]
[870,"Reading",3890,4120,4270,0.88,0.88,0.92]
[317,"Redbridge",7920,8200,8340,0.95,0.94,0.94]
[807,"Redcar and Cleveland",3130,3120,3110,1.02,1.05,1.04]
[318,"Richmond upon Thames",5200,5390,5460,0.99,0.98,0.97]
[354,"Rochdale",5530,5680,5650,0.93,0.96,0.96]
[372,"Rotherham",5920,6270,6270,0.95,0.97,0.97]
[857,"Rutland",810,730,770,1.04,1,1.07]
[355,"Salford",5810,6040,6360,0.94,0.95,1]
[333,"Sandwell",7840,8370,8690,0.88,0.91,0.94]
[343,"Sefton",5690,5800,5860,0.99,1,1]
[373,"Sheffield",12420,12680,12660,0.94,0.94,0.93]
[893,"Shropshire",6100,6210,6290,0.98,0.97,0.98]
[871,"Slough",4040,4380,4630,0.83,0.87,0.92]
[334,"Solihull",5080,5260,5220,1.08,1.1200000000000001,1.1000000000000001]
[933,"Somerset",11000,11280,11520,0.97,0.97,0.98]
[803,"South Gloucestershire",6170,6450,6550,0.99,0.99,0.99]
[393,"South Tyneside",3060,3140,3100,0.95,0.96,0.93]
[852,"Southampton",5430,5720,5800,0.95,0.96,0.96]
[882,"Southend-on-Sea",4040,4240,4330,0.93,0.94,0.95]
[210,"Southwark",6620,6570,6970,0.85,0.83,0.88]
[342,"St. Helens",3910,4030,4040,0.97,0.98,0.96]
[860,"Staffordshire",17630,18320,18290,0.96,0.98,0.97]
[356,"Stockport",6680,6790,6910,0.97,0.97,0.99]
[808,"Stockton-on-Tees",4790,4900,4920,0.99,1,0.98]
[861,"Stoke-on-Trent",5980,6330,6360,0.9,0.92,0.94]
[935,"Suffolk",15450,16100,16200,0.93,0.95,0.94]
[394,"Sunderland",6190,6320,6280,0.98,1.01,1.02]
[936,"Surrey",26890,27850,28000,0.95,0.96,0.95]
[319,"Sutton",4440,4610,4810,0.89,0.9,0.92]
[866,"Swindon",5180,5460,5470,0.94,0.97,0.96]
[357,"Tameside",5370,5470,5680,0.97,0.96,0.97]
[894,"Telford & Wrekin",4300,4360,4360,0.98,0.97,0.96]
[883,"Thurrock",4120,4410,4440,0.88,0.9,0.92]
[880,"Torbay",2700,2830,2820,0.99,1.05,1.05]
[211,"Tower Hamlets",6530,6580,6780,0.91,0.91,0.93]
[358,"Trafford",5710,5830,5900,0.97,0.96,0.97]
[384,"Wakefield",7700,7950,8010,1,1.02,1.01]
[335,"Walsall",6820,6970,7090,0.95,0.95,0.96]
[320,"Waltham Forest",7010,7340,7410,0.88,0.9,0.91]
[212,"Wandsworth",7090,7280,7470,0.91,0.92,0.93]
[877,"Warrington",4880,5080,5040,1.01,1.02,1]
[937,"Warwickshire",12080,12380,12460,0.98,0.98,0.98]
[869,"West Berkshire",3750,3870,3940,0.94,0.95,0.96]
[938,"West Sussex",17470,18020,18460,0.96,0.96,0.97]
[213,"Westminster",3780,3890,3810,0.82,0.82,0.79]
[359,"Wigan",6960,7230,7340,0.9,0.92,0.92]
[865,"Wiltshire",10530,10710,10750,0.94,0.93,0.93]
[868,"Windsor and Maidenhead",3570,3820,3840,0.97,1.03,1]
[344,"Wirral",7310,6700,7480,0.98,0.89,1]
[872,"Wokingham",3960,4180,4200,1,1.02,1]
[336,"Wolverhampton",5930,6050,5990,0.92,0.92,0.9]
[885,"Worcestershire",12300,12700,12730,0.98,1.01,1.02]
[816,"York",4120,4330,4360,1,1.02,1.03]
[]
[]
["Source: DfE: Provision for Children Under Five Years of Age in England - January 2013"]
["https://www.gov.uk/government/publications/provision-for-children-under-5-years-of-age-in-england-january-2013"]
[]
["1. All children are eligible for a free part-time funded place from 1 September, 1 January or 1 April following their third birthday for up to two years before they reach compulsory school age"]
["   - A funded place currently consists of a minimum of 15 hours of free early education per week for 38 weeks of the year. "]
["   - Free places can be accessed in a variety of settings in the maintained and private, voluntary and independent sectors."]
["   - Local Authorities make funding available to all providers to enable them to provide free places."]
["2. Count of children aged three and four at 31st December in the previous calendar year."]
["3. Any child attending more than one provider will have only been counted once."]
[".. Not available"]
["x Value suppressed to protect confidentiality"]
[]
["Note:  Some caution should be exercised when comparing take-up rates at local authority level."]
["Please see technical notes for further information on population estimates and rates which exceed 100%"]

{"sheet":"Qualifications","index":12,"n_rows":173,"n_cols":15,"rows_kept":173,"cut":false,"hidden":true,"merged":[[167,0,167,8]]}
["Early Years Benchmarking - Qualifications",null,null,null,null,null,null,null,null,null,null,null,null,null,"Return to contents"]
["Percentage of private, voluntary and independent1 providers with staff with QTS2/EYPS3 who work directly with three and four year olds",null,null,null,null,null,null,null,null,null,null,null,null,null,"Return to instructions"]
[{"$f":"'Early Years Table'!A2","v":"All LAs"}]
[]
[null,null,{"$f":"Data!AN3","v":2011},{"$f":"Data!AO3","v":2012},{"$f":"Data!AP3","v":2013}]
["England - Average (mean) or Total",null,{"$f":"Data!AN157","v":0.34},{"$f":"Data!AO157","v":0.38},{"$f":"Data!AP157","v":0.39}]
["England - Average (median)",null,{"$f":"Data!AN158","v":0.35},{"$f":"Data!AO158","v":0.38},{"$f":"Data!AP158","v":0.39500000000000002}]
["England - Minimum",null,{"$f":"Data!AN159","v":0},{"$f":"Data!AO159","v":0},{"$f":"Data!AP159","v":0}]
["England - Maximum",null,{"$f":"Data!AN160","v":0.72},{"$f":"Data!AO160","v":0.74},{"$f":"Data!AP160","v":0.73}]
["Selection - Average (median)",null,{"$f":"MEDIAN(C13:C164)","v":0.35},0.38,0.39500000000000002]
["Selection - Minimum",null,{"$f":"MIN(C13:C164)","v":0},0,0]
["Selection - Maximum",null,{"$f":"MAX(C13:C164)","v":0.72},0.74,0.73]
[{"$f":"IF('Early Years Table'!A13=\"\",\"\",IF(ISBLANK('Early Years Table'!A13),\"\",'Early Years Table'!A13))","v":301},{"$f":"IF($A13=\"\",\"\",IF(ISBLANK($A13),\"\",INDEX('LEA Nos codes'!$A$3:$A$154,MATCH($A13,'LEA Nos codes'!$B$3:$B$154,0))))","v":"Barking and Dagenham"},{"$f":"IF($A13=\"\",\"\",IF(ISBLANK($A13),\"\",VLOOKUP($A13,Data!$A$4:$AP$155,40,FALSE)))","v":0.1},{"$f":"IF($A13=\"\",\"\",IF(ISBLANK($A13),\"\",VLOOKUP($A13,Data!$A$4:$AP$155,41,FALSE)))","v":0.31},{"$f":"IF($A13=\"\",\"\",IF(ISBLANK($A13),\"\",VLOOKUP($A13,Data!$A$4:$AP$155,42,FALSE)))","v":0.34}]
[{"$f":"IF('Early Years Table'!A14=\"\",\"\",IF(ISBLANK('Early Years Table'!A14),\"\",'Early Years Table'!A14))","v":302},{"$f":"IF($A14=\"\",\"\",IF(ISBLANK($A14),\"\",INDEX('LEA Nos codes'!$A$3:$A$154,MATCH($A14,'LEA Nos codes'!$B$3:$B$154,0))))","v":"Barnet"},{"$f":"IF($A14=\"\",\"\",IF(ISBLANK($A14),\"\",VLOOKUP($A14,Data!$A$4:$AP$155,40,FALSE)))","v":0.4},{"$f":"IF($A14=\"\",\"\",IF(ISBLANK($A14),\"\",VLOOKUP($A14,Data!$A$4:$AP$155,41,FALSE)))","v":0.43},{"$f":"IF($A14=\"\",\"\",IF(ISBLANK($A14),\"\",VLOOKUP($A14,Data!$A$4:$AP$155,42,FALSE)))","v":0.49}]
[{"$f":"IF('Early Years Table'!A15=\"\",\"\",IF(ISBLANK('Early Years Table'!A15),\"\",'Early Years Table'!A15))","v":370},{"$f":"IF($A15=\"\",\"\",IF(ISBLANK($A15),\"\",INDEX('LEA Nos codes'!$A$3:$A$154,MATCH($A15,'LEA Nos codes'!$B$3:$B$154,0))))","v":"Barnsley"},{"$f":"IF($A15=\"\",\"\",IF(ISBLANK($A15),\"\",VLOOKUP($A15,Data!$A$4:$AP$155,40,FALSE)))","v":0.47},{"$f":"IF($A15=\"\",\"\",IF(ISBLANK($A15),\"\",VLOOKUP($A15,Data!$A$4:$AP$155,41,FALSE)))","v":0.46},{"$f":"IF($A15=\"\",\"\",IF(ISBLANK($A15),\"\",VLOOKUP($A15,Data!$A$4:$AP$155,42,FALSE)))","v":0.47}]
[{"$f":"IF('Early Years Table'!A16=\"\",\"\",IF(ISBLANK('Early Years Table'!A16),\"\",'Early Years Table'!A16))","v":800},{"$f":"IF($A16=\"\",\"\",IF(ISBLANK($A16),\"\",INDEX('LEA Nos codes'!$A$3:$A$154,MATCH($A16,'LEA Nos codes'!$B$3:$B$154,0))))","v":"Bath & North East Somerset"},{"$f":"IF($A16=\"\",\"\",IF(ISBLANK($A16),\"\",VLOOKUP($A16,Data!$A$4:$AP$155,40,FALSE)))","v":0.49},{"$f":"IF($A16=\"\",\"\",IF(ISBLANK($A16),\"\",VLOOKUP($A16,Data!$A$4:$AP$155,41,FALSE)))","v":0.56999999999999995},{"$f":"IF($A16=\"\",\"\",IF(ISBLANK($A16),\"\",VLOOKUP($A16,Data!$A$4:$AP$155,42,FALSE)))","v":0.62}]
[{"$f":"IF('Early Years Table'!A17=\"\",\"\",IF(ISBLANK('Early Years Table'!A17),\"\",'Early Years Table'!A17))","v":822},{"$f":"IF($A17=\"\",\"\",IF(ISBLANK($A17),\"\",INDEX('LEA Nos codes'!$A$3:$A$154,MATCH($A17,'LEA Nos codes'!$B$3:$B$154,0))))","v":"Bedford Borough"},{"$f":"IF($A17=\"\",\"\",IF(ISBLANK($A17),\"\",VLOOKUP($A17,Data!$A$4:$AP$155,40,FALSE)))","v":0.28000000000000003},{"$f":"IF($A17=\"\",\"\",IF(ISBLANK($A17),\"\",VLOOKUP($A17,Data!$A$4:$AP$155,41,FALSE)))","v":0.28999999999999998},{"$f":"IF($A17=\"\",\"\",IF(ISBLANK($A17),\"\",VLOOKUP($A17,Data!$A$4:$AP$155,42,FALSE)))","v":0.28999999999999998}]
[{"$f":"IF('Early Years Table'!A18=\"\",\"\",IF(ISBLANK('Early Years Table'!A18),\"\",'Early Years Table'!A18))","v":303},{"$f":"IF($A18=\"\",\"\",IF(ISBLANK($A18),\"\",INDEX('LEA Nos codes'!$A$3:$A$154,MATCH($A18,'LEA Nos codes'!$B$3:$B$154,0))))","v":"Bexley"},{"$f":"IF($A18=\"\",\"\",IF(ISBLANK($A18),\"\",VLOOKUP($A18,Data!$A$4:$AP$155,40,FALSE)))","v":0.3},{"$f":"IF($A18=\"\",\"\",IF(ISBLANK($A18),\"\",VLOOKUP($A18,Data!$A$4:$AP$155,41,FALSE)))","v":0.34},{"$f":"IF($A18=\"\",\"\",IF(ISBLANK($A18),\"\",VLOOKUP($A18,Data!$A$4:$AP$155,42,FALSE)))","v":0.4}]
[{"$f":"IF('Early Years Table'!A19=\"\",\"\",IF(ISBLANK('Early Years Table'!A19),\"\",'Early Years Table'!A19))","v":330},{"$f":"IF($A19=\"\",\"\",IF(ISBLANK($A19),\"\",INDEX('LEA Nos codes'!$A$3:$A$154,MATCH($A19,'LEA Nos codes'!$B$3:$B$154,0))))","v":"Birmingham"},{"$f":"IF($A19=\"\",\"\",IF(ISBLANK($A19),\"\",VLOOKUP($A19,Data!$A$4:$AP$155,40,FALSE)))","v":0.31},{"$f":"IF($A19=\"\",\"\",IF(ISBLANK($A19),\"\",VLOOKUP($A19,Data!$A$4:$AP$155,41,FALSE)))","v":0.28000000000000003},{"$f":"IF($A19=\"\",\"\",IF(ISBLANK($A19),\"\",VLOOKUP($A19,Data!$A$4:$AP$155,42,FALSE)))","v":0.3}]
[{"$f":"IF('Early Years Table'!A20=\"\",\"\",IF(ISBLANK('Early Years Table'!A20),\"\",'Early Years Table'!A20))","v":889},{"$f":"IF($A20=\"\",\"\",IF(ISBLANK($A20),\"\",INDEX('LEA Nos codes'!$A$3:$A$154,MATCH($A20,'LEA Nos codes'!$B$3:$B$154,0))))","v":"Blackburn with Darwen"},{"$f":"IF($A20=\"\",\"\",IF(ISBLANK($A20),\"\",VLOOKUP($A20,Data!$A$4:$AP$155,40,FALSE)))","v":0.52},{"$f":"IF($A20=\"\",\"\",IF(ISBLANK($A20),\"\",VLOOKUP($A20,Data!$A$4:$AP$155,41,FALSE)))","v":0.59},{"$f":"IF($A20=\"\",\"\",IF(ISBLANK($A20),\"\",VLOOKUP($A20,Data!$A$4:$AP$155,42,FALSE)))","v":0.61}]
[{"$f":"IF('Early Years Table'!A21=\"\",\"\",IF(ISBLANK('Early Years Table'!A21),\"\",'Early Years Table'!A21))","v":890},{"$f":"IF($A21=\"\",\"\",IF(ISBLANK($A21),\"\",INDEX('LEA Nos codes'!$A$3:$A$154,MATCH($A21,'LEA Nos codes'!$B$3:$B$154,0))))","v":"Blackpool"},{"$f":"IF($A21=\"\",\"\",IF(ISBLANK($A21),\"\",VLOOKUP($A21,Data!$A$4:$AP$155,40,FALSE)))","v":0.36},{"$f":"IF($A21=\"\",\"\",IF(ISBLANK($A21),\"\",VLOOKUP($A21,Data!$A$4:$AP$155,41,FALSE)))","v":0.43},{"$f":"IF($A21=\"\",\"\",IF(ISBLANK($A21),\"\",VLOOKUP($A21,Data!$A$4:$AP$155,42,FALSE)))","v":0.36}]
[{"$f":"IF('Early Years Table'!A22=\"\",\"\",IF(ISBLANK('Early Years Table'!A22),\"\",'Early Years Table'!A22))","v":350},{"$f":"IF($A22=\"\",\"\",IF(ISBLANK($A22),\"\",INDEX('LEA Nos codes'!$A$3:$A$154,MATCH($A22,'LEA Nos codes'!$B$3:$B$154,0))))","v":"Bolton"},{"$f":"IF($A22=\"\",\"\",IF(ISBLANK($A22),\"\",VLOOKUP($A22,Data!$A$4:$AP$155,40,FALSE)))","v":0.31},{"$f":"IF($A22=\"\",\"\",IF(ISBLANK($A22),\"\",VLOOKUP($A22,Data!$A$4:$AP$155,41,FALSE)))","v":0.45},{"$f":"IF($A22=\"\",\"\",IF(ISBLANK($A22),\"\",VLOOKUP($A22,Data!$A$4:$AP$155,42,FALSE)))","v":0.37}]
[{"$f":"IF('Early Years Table'!A23=\"\",\"\",IF(ISBLANK('Early Years Table'!A23),\"\",'Early Years Table'!A23))","v":837},{"$f":"IF($A23=\"\",\"\",IF(ISBLANK($A23),\"\",INDEX('LEA Nos codes'!$A$3:$A$154,MATCH($A23,'LEA Nos codes'!$B$3:$B$154,0))))","v":"Bournemouth"},{"$f":"IF($A23=\"\",\"\",IF(ISBLANK($A23),\"\",VLOOKUP($A23,Data!$A$4:$AP$155,40,FALSE)))","v":0.33},{"$f":"IF($A23=\"\",\"\",IF(ISBLANK($A23),\"\",VLOOKUP($A23,Data!$A$4:$AP$155,41,FALSE)))","v":0.38},{"$f":"IF($A23=\"\",\"\",IF(ISBLANK($A23),\"\",VLOOKUP($A23,Data!$A$4:$AP$155,42,FALSE)))","v":0.43}]
[{"$f":"IF('Early Years Table'!A24=\"\",\"\",IF(ISBLANK('Early Years Table'!A24),\"\",'Early Years Table'!A24))","v":867},{"$f":"IF($A24=\"\",\"\",IF(ISBLANK($A24),\"\",INDEX('LEA Nos codes'!$A$3:$A$154,MATCH($A24,'LEA Nos codes'!$B$3:$B$154,0))))","v":"Bracknell Forest"},{"$f":"IF($A24=\"\",\"\",IF(ISBLANK($A24),\"\",VLOOKUP($A24,Data!$A$4:$AP$155,40,FALSE)))","v":0.28999999999999998},{"$f":"IF($A24=\"\",\"\",IF(ISBLANK($A24),\"\",VLOOKUP($A24,Data!$A$4:$AP$155,41,FALSE)))","v":0.28999999999999998},{"$f":"IF($A24=\"\",\"\",IF(ISBLANK($A24),\"\",VLOOKUP($A24,Data!$A$4:$AP$155,42,FALSE)))","v":0.27}]
[{"$f":"IF('Early Years Table'!A25=\"\",\"\",IF(ISBLANK('Early Years Table'!A25),\"\",'Early Years Table'!A25))","v":380},{"$f":"IF($A25=\"\",\"\",IF(ISBLANK($A25),\"\",INDEX('LEA Nos codes'!$A$3:$A$154,MATCH($A25,'LEA Nos codes'!$B$3:$B$154,0))))","v":"Bradford"},{"$f":"IF($A25=\"\",\"\",IF(ISBLANK($A25),\"\",VLOOKUP($A25,Data!$A$4:$AP$155,40,FALSE)))","v":0.39},{"$f":"IF($A25=\"\",\"\",IF(ISBLANK($A25),\"\",VLOOKUP($A25,Data!$A$4:$AP$155,41,FALSE)))","v":0.42},{"$f":"IF($A25=\"\",\"\",IF(ISBLANK($A25),\"\",VLOOKUP($A25,Data!$A$4:$AP$155,42,FALSE)))","v":0.46}]
[{"$f":"IF('Early Years Table'!A26=\"\",\"\",IF(ISBLANK('Early Years Table'!A26),\"\",'Early Years Table'!A26))","v":304},{"$f":"IF($A26=\"\",\"\",IF(ISBLANK($A26),\"\",INDEX('LEA Nos codes'!$A$3:$A$154,MATCH($A26,'LEA Nos codes'!$B$3:$B$154,0))))","v":"Brent"},{"$f":"IF($A26=\"\",\"\",IF(ISBLANK($A26),\"\",VLOOKUP($A26,Data!$A$4:$AP$155,40,FALSE)))","v":0.45},{"$f":"IF($A26=\"\",\"\",IF(ISBLANK($A26),\"\",VLOOKUP($A26,Data!$A$4:$AP$155,41,FALSE)))","v":0.53},{"$f":"IF($A26=\"\",\"\",IF(ISBLANK($A26),\"\",VLOOKUP($A26,Data!$A$4:$AP$155,42,FALSE)))","v":0.54}]
[{"$f":"IF('Early Years Table'!A27=\"\",\"\",IF(ISBLANK('Early Years Table'!A27),\"\",'Early Years Table'!A27))","v":846},{"$f":"IF($A27=\"\",\"\",IF(ISBLANK($A27),\"\",INDEX('LEA Nos codes'!$A$3:$A$154,MATCH($A27,'LEA Nos codes'!$B$3:$B$154,0))))","v":"Brighton and Hove"},{"$f":"IF($A27=\"\",\"\",IF(ISBLANK($A27),\"\",VLOOKUP($A27,Data!$A$4:$AP$155,40,FALSE)))","v":0.52},{"$f":"IF($A27=\"\",\"\",IF(ISBLANK($A27),\"\",VLOOKUP($A27,Data!$A$4:$AP$155,41,FALSE)))","v":0.52},{"$f":"IF($A27=\"\",\"\",IF(ISBLANK($A27),\"\",VLOOKUP($A27,Data!$A$4:$AP$155,42,FALSE)))","v":0.59}]
[{"$f":"IF('Early Years Table'!A28=\"\",\"\",IF(ISBLANK('Early Years Table'!A28),\"\",'Early Years Table'!A28))","v":305},{"$f":"IF($A28=\"\",\"\",IF(ISBLANK($A28),\"\",INDEX('LEA Nos codes'!$A$3:$A$154,MATCH($A28,'LEA Nos codes'!$B$3:$B$154,0))))","v":"Bromley"},{"$f":"IF($A28=\"\",\"\",IF(ISBLANK($A28),\"\",VLOOKUP($A28,Data!$A$4:$AP$155,40,FALSE)))","v":0.38},{"$f":"IF($A28=\"\",\"\",IF(ISBLANK($A28),\"\",VLOOKUP($A28,Data!$A$4:$AP$155,41,FALSE)))","v":0.41},{"$f":"IF($A28=\"\",\"\",IF(ISBLANK($A28),\"\",VLOOKUP($A28,Data!$A$4:$AP$155,42,FALSE)))","v":0.42}]
[{"$f":"IF('Early Years Table'!A29=\"\",\"\",IF(ISBLANK('Early Years Table'!A29),\"\",'Early Years Table'!A29))","v":825},{"$f":"IF($A29=\"\",\"\",IF(ISBLANK($A29),\"\",INDEX('LEA Nos codes'!$A$3:$A$154,MATCH($A29,'LEA Nos codes'!$B$3:$B$154,0))))","v":"Buckinghamshire"},{"$f":"IF($A29=\"\",\"\",IF(ISBLANK($A29),\"\",VLOOKUP($A29,Data!$A$4:$AP$155,40,FALSE)))","v":0.38},{"$f":"IF($A29=\"\",\"\",IF(ISBLANK($A29),\"\",VLOOKUP($A29,Data!$A$4:$AP$155,41,FALSE)))","v":0.4},{"$f":"IF($A29=\"\",\"\",IF(ISBLANK($A29),\"\",VLOOKUP($A29,Data!$A$4:$AP$155,42,FALSE)))","v":0.4}]
[{"$f":"IF('Early Years Table'!A30=\"\",\"\",IF(ISBLANK('Early Years Table'!A30),\"\",'Early Years Table'!A30))","v":351},{"$f":"IF($A30=\"\",\"\",IF(ISBLANK($A30),\"\",INDEX('LEA Nos codes'!$A$3:$A$154,MATCH($A30,'LEA Nos codes'!$B$3:$B$154,0))))","v":"Bury"},{"$f":"IF($A30=\"\",\"\",IF(ISBLANK($A30),\"\",VLOOKUP($A30,Data!$A$4:$AP$155,40,FALSE)))","v":0.37},{"$f":"IF($A30=\"\",\"\",IF(ISBLANK($A30),\"\",VLOOKUP($A30,Data!$A$4:$AP$155,41,FALSE)))","v":0.43},{"$f":"IF($A30=\"\",\"\",IF(ISBLANK($A30),\"\",VLOOKUP($A30,Data!$A$4:$AP$155,42,FALSE)))","v":0.46}]
[{"$f":"IF('Early Years Table'!A31=\"\",\"\",IF(ISBLANK('Early Years Table'!A31),\"\",'Early Years Table'!A31))","v":381},{"$f":"IF($A31=\"\",\"\",IF(ISBLANK($A31),\"\",INDEX('LEA Nos codes'!$A$3:$A$154,MATCH($A31,'LEA Nos codes'!$B$3:$B$154,0))))","v":"Calderdale"},{"$f":"IF($A31=\"\",\"\",IF(ISBLANK($A31),\"\",VLOOKUP($A31,Data!$A$4:$AP$155,40,FALSE)))","v":0.53},{"$f":"IF($A31=\"\",\"\",IF(ISBLANK($A31),\"\",VLOOKUP($A31,Data!$A$4:$AP$155,41,FALSE)))","v":0.01},{"$f":"IF($A31=\"\",\"\",IF(ISBLANK($A31),\"\",VLOOKUP($A31,Data!$A$4:$AP$155,42,FALSE)))","v":0.01}]
[{"$f":"IF('Early Years Table'!A32=\"\",\"\",IF(ISBLANK('Early Years Table'!A32),\"\",'Early Years Table'!A32))","v":873},{"$f":"IF($A32=\"\",\"\",IF(ISBLANK($A32),\"\",INDEX('LEA Nos codes'!$A$3:$A$154,MATCH($A32,'LEA Nos codes'!$B$3:$B$154,0))))","v":"Cambridgeshire"},{"$f":"IF($A32=\"\",\"\",IF(ISBLANK($A32),\"\",VLOOKUP($A32,Data!$A$4:$AP$155,40,FALSE)))","v":0.26},{"$f":"IF($A32=\"\",\"\",IF(ISBLANK($A32),\"\",VLOOKUP($A32,Data!$A$4:$AP$155,41,FALSE)))","v":0.33},{"$f":"IF($A32=\"\",\"\",IF(ISBLANK($A32),\"\",VLOOKUP($A32,Data!$A$4:$AP$155,42,FALSE)))","v":0.31}]
[{"$f":"IF('Early Years Table'!A33=\"\",\"\",IF(ISBLANK('Early Years Table'!A33),\"\",'Early Years Table'!A33))","v":202},{"$f":"IF($A33=\"\",\"\",IF(ISBLANK($A33),\"\",INDEX('LEA Nos codes'!$A$3:$A$154,MATCH($A33,'LEA Nos codes'!$B$3:$B$154,0))))","v":"Camden"},{"$f":"IF($A33=\"\",\"\",IF(ISBLANK($A33),\"\",VLOOKUP($A33,Data!$A$4:$AP$155,40,FALSE)))","v":0.59},{"$f":"IF($A33=\"\",\"\",IF(ISBLANK($A33),\"\",VLOOKUP($A33,Data!$A$4:$AP$155,41,FALSE)))","v":0.55000000000000004},{"$f":"IF($A33=\"\",\"\",IF(ISBLANK($A33),\"\",VLOOKUP($A33,Data!$A$4:$AP$155,42,FALSE)))","v":0.64}]
[{"$f":"IF('Early Years Table'!A34=\"\",\"\",IF(ISBLANK('Early Years Table'!A34),\"\",'Early Years Table'!A34))","v":823},{"$f":"IF($A34=\"\",\"\",IF(ISBLANK($A34),\"\",INDEX('LEA Nos codes'!$A$3:$A$154,MATCH($A34,'LEA Nos codes'!$B$3:$B$154,0))))","v":"Central Bedfordshire"},{"$f":"IF($A34=\"\",\"\",IF(ISBLANK($A34),\"\",VLOOKUP($A34,Data!$A$4:$AP$155,40,FALSE)))","v":0.25},{"$f":"IF($A34=\"\",\"\",IF(ISBLANK($A34),\"\",VLOOKUP($A34,Data!$A$4:$AP$155,41,FALSE)))","v":0.45},{"$f":"IF($A34=\"\",\"\",IF(ISBLANK($A34),\"\",VLOOKUP($A34,Data!$A$4:$AP$155,42,FALSE)))","v":0.38}]
[{"$f":"IF('Early Years Table'!A35=\"\",\"\",IF(ISBLANK('Early Years Table'!A35),\"\",'Early Years Table'!A35))","v":895},{"$f":"IF($A35=\"\",\"\",IF(ISBLANK($A35),\"\",INDEX('LEA Nos codes'!$A$3:$A$154,MATCH($A35,'LEA Nos codes'!$B$3:$B$154,0))))","v":"Cheshire East"},{"$f":"IF($A35=\"\",\"\",IF(ISBLANK($A35),\"\",VLOOKUP($A35,Data!$A$4:$AP$155,40,FALSE)))","v":0.43},{"$f":"IF($A35=\"\",\"\",IF(ISBLANK($A35),\"\",VLOOKUP($A35,Data!$A$4:$AP$155,41,FALSE)))","v":0.48},{"$f":"IF($A35=\"\",\"\",IF(ISBLANK($A35),\"\",VLOOKUP($A35,Data!$A$4:$AP$155,42,FALSE)))","v":0.54}]
[{"$f":"IF('Early Years Table'!A36=\"\",\"\",IF(ISBLANK('Early Years Table'!A36),\"\",'Early Years Table'!A36))","v":896},{"$f":"IF($A36=\"\",\"\",IF(ISBLANK($A36),\"\",INDEX('LEA Nos codes'!$A$3:$A$154,MATCH($A36,'LEA Nos codes'!$B$3:$B$154,0))))","v":"Cheshire West and Chester"},{"$f":"IF($A36=\"\",\"\",IF(ISBLANK($A36),\"\",VLOOKUP($A36,Data!$A$4:$AP$155,40,FALSE)))","v":0.46},{"$f":"IF($A36=\"\",\"\",IF(ISBLANK($A36),\"\",VLOOKUP($A36,Data!$A$4:$AP$155,41,FALSE)))","v":0.48},{"$f":"IF($A36=\"\",\"\",IF(ISBLANK($A36),\"\",VLOOKUP($A36,Data!$A$4:$AP$155,42,FALSE)))","v":0.5}]
[{"$f":"IF('Early Years Table'!A37=\"\",\"\",IF(ISBLANK('Early Years Table'!A37),\"\",'Early Years Table'!A37))","v":801},{"$f":"IF($A37=\"\",\"\",IF(ISBLANK($A37),\"\",INDEX('LEA Nos codes'!$A$3:$A$154,MATCH($A37,'LEA Nos codes'!$B$3:$B$154,0))))","v":"City of Bristol"},{"$f":"IF($A37=\"\",\"\",IF(ISBLANK($A37),\"\",VLOOKUP($A37,Data!$A$4:$AP$155,40,FALSE)))","v":0.72},{"$f":"IF($A37=\"\",\"\",IF(ISBLANK($A37),\"\",VLOOKUP($A37,Data!$A$4:$AP$155,41,FALSE)))","v":0.7},{"$f":"IF($A37=\"\",\"\",IF(ISBLANK($A37),\"\",VLOOKUP($A37,Data!$A$4:$AP$155,42,FALSE)))","v":0.73}]
[{"$f":"IF('Early Years Table'!A38=\"\",\"\",IF(ISBLANK('Early Years Table'!A38),\"\",'Early Years Table'!A38))","v":810},{"$f":"IF($A38=\"\",\"\",IF(ISBLANK($A38),\"\",INDEX('LEA Nos codes'!$A$3:$A$154,MATCH($A38,'LEA Nos codes'!$B$3:$B$154,0))))","v":"City of Kingston Upon Hull"},{"$f":"IF($A38=\"\",\"\",IF(ISBLANK($A38),\"\",VLOOKUP($A38,Data!$A$4:$AP$155,40,FALSE)))","v":0.24},{"$f":"IF($A38=\"\",\"\",IF(ISBLANK($A38),\"\",VLOOKUP($A38,Data!$A$4:$AP$155,41,FALSE)))","v":0.24},{"$f":"IF($A38=\"\",\"\",IF(ISBLANK($A38),\"\",VLOOKUP($A38,Data!$A$4:$AP$155,42,FALSE)))","v":0.11}]
[{"$f":"IF('Early Years Table'!A39=\"\",\"\",IF(ISBLANK('Early Years Table'!A39),\"\",'Early Years Table'!A39))","v":201},{"$f":"IF($A39=\"\",\"\",IF(ISBLANK($A39),\"\",INDEX('LEA Nos codes'!$A$3:$A$154,MATCH($A39,'LEA Nos codes'!$B$3:$B$154,0))))","v":"City of London"},{"$f":"IF($A39=\"\",\"\",IF(ISBLANK($A39),\"\",VLOOKUP($A39,Data!$A$4:$AP$155,40,FALSE)))","v":0},{"$f":"IF($A39=\"\",\"\",IF(ISBLANK($A39),\"\",VLOOKUP($A39,Data!$A$4:$AP$155,41,FALSE)))","v":0},{"$f":"IF($A39=\"\",\"\",IF(ISBLANK($A39),\"\",VLOOKUP($A39,Data!$A$4:$AP$155,42,FALSE)))","v":0}]
[{"$f":"IF('Early Years Table'!A40=\"\",\"\",IF(ISBLANK('Early Years Table'!A40),\"\",'Early Years Table'!A40))","v":908},{"$f":"IF($A40=\"\",\"\",IF(ISBLANK($A40),\"\",INDEX('LEA Nos codes'!$A$3:$A$154,MATCH($A40,'LEA Nos codes'!$B$3:$B$154,0))))","v":"Cornwall"},{"$f":"IF($A40=\"\",\"\",IF(ISBLANK($A40),\"\",VLOOKUP($A40,Data!$A$4:$AP$155,40,FALSE)))","v":0.39},{"$f":"IF($A40=\"\",\"\",IF(ISBLANK($A40),\"\",VLOOKUP($A40,Data!$A$4:$AP$155,41,FALSE)))","v":0.45},{"$f":"IF($A40=\"\",\"\",IF(ISBLANK($A40),\"\",VLOOKUP($A40,Data!$A$4:$AP$155,42,FALSE)))","v":0.49}]
[{"$f":"IF('Early Years Table'!A41=\"\",\"\",IF(ISBLANK('Early Years Table'!A41),\"\",'Early Years Table'!A41))","v":331},{"$f":"IF($A41=\"\",\"\",IF(ISBLANK($A41),\"\",INDEX('LEA Nos codes'!$A$3:$A$154,MATCH($A41,'LEA Nos codes'!$B$3:$B$154,0))))","v":"Coventry"},{"$f":"IF($A41=\"\",\"\",IF(ISBLANK($A41),\"\",VLOOKUP($A41,Data!$A$4:$AP$155,40,FALSE)))","v":0.25},{"$f":"IF($A41=\"\",\"\",IF(ISBLANK($A41),\"\",VLOOKUP($A41,Data!$A$4:$AP$155,41,FALSE)))","v":0.23},{"$f":"IF($A41=\"\",\"\",IF(ISBLANK($A41),\"\",VLOOKUP($A41,Data!$A$4:$AP$155,42,FALSE)))","v":0.21}]
[{"$f":"IF('Early Years Table'!A42=\"\",\"\",IF(ISBLANK('Early Years Table'!A42),\"\",'Early Years Table'!A42))","v":306},{"$f":"IF($A42=\"\",\"\",IF(ISBLANK($A42),\"\",INDEX('LEA Nos codes'!$A$3:$A$154,MATCH($A42,'LEA Nos codes'!$B$3:$B$154,0))))","v":"Croydon"},{"$f":"IF($A42=\"\",\"\",IF(ISBLANK($A42),\"\",VLOOKUP($A42,Data!$A$4:$AP$155,40,FALSE)))","v":0.21},{"$f":"IF($A42=\"\",\"\",IF(ISBLANK($A42),\"\",VLOOKUP($A42,Data!$A$4:$AP$155,41,FALSE)))","v":0.35},{"$f":"IF($A42=\"\",\"\",IF(ISBLANK($A42),\"\",VLOOKUP($A42,Data!$A$4:$AP$155,42,FALSE)))","v":0.33}]
[{"$f":"IF('Early Years Table'!A43=\"\",\"\",IF(ISBLANK('Early Years Table'!A43),\"\",'Early Years Table'!A43))","v":909},{"$f":"IF($A43=\"\",\"\",IF(ISBLANK($A43),\"\",INDEX('LEA Nos codes'!$A$3:$A$154,MATCH($A43,'LEA Nos codes'!$B$3:$B$154,0))))","v":"Cumbria"},{"$f":"IF($A43=\"\",\"\",IF(ISBLANK($A43),\"\",VLOOKUP($A43,Data!$A$4:$AP$155,40,FALSE)))","v":0.36},{"$f":"IF($A43=\"\",\"\",IF(ISBLANK($A43),\"\",VLOOKUP($A43,Data!$A$4:$AP$155,41,FALSE)))","v":0.44},{"$f":"IF($A43=\"\",\"\",IF(ISBLANK($A43),\"\",VLOOKUP($A43,Data!$A$4:$AP$155,42,FALSE)))","v":0.41}]
[{"$f":"IF('Early Years Table'!A44=\"\",\"\",IF(ISBLANK('Early Years Table'!A44),\"\",'Early Years Table'!A44))","v":841},{"$f":"IF($A44=\"\",\"\",IF(ISBLANK($A44),\"\",INDEX('LEA Nos codes'!$A$3:$A$154,MATCH($A44,'LEA Nos codes'!$B$3:$B$154,0))))","v":"Darlington"},{"$f":"IF($A44=\"\",\"\",IF(ISBLANK($A44),\"\",VLOOKUP($A44,Data!$A$4:$AP$155,40,FALSE)))","v":0.32},{"$f":"IF($A44=\"\",\"\",IF(ISBLANK($A44),\"\",VLOOKUP($A44,Data!$A$4:$AP$155,41,FALSE)))","v":0.41},{"$f":"IF($A44=\"\",\"\",IF(ISBLANK($A44),\"\",VLOOKUP($A44,Data!$A$4:$AP$155,42,FALSE)))","v":0.44}]
[{"$f":"IF('Early Years Table'!A45=\"\",\"\",IF(ISBLANK('Early Years Table'!A45),\"\",'Early Years Table'!A45))","v":831},{"$f":"IF($A45=\"\",\"\",IF(ISBLANK($A45),\"\",INDEX('LEA Nos codes'!$A$3:$A$154,MATCH($A45,'LEA Nos codes'!$B$3:$B$154,0))))","v":"Derby"},{"$f":"IF($A45=\"\",\"\",IF(ISBLANK($A45),\"\",VLOOKUP($A45,Data!$A$4:$AP$155,40,FALSE)))","v":0.32},{"$f":"IF($A45=\"\",\"\",IF(ISBLANK($A45),\"\",VLOOKUP($A45,Data!$A$4:$AP$155,41,FALSE)))","v":0.3},{"$f":"IF($A45=\"\",\"\",IF(ISBLANK($A45),\"\",VLOOKUP($A45,Data!$A$4:$AP$155,42,FALSE)))","v":0.35}]
[{"$f":"IF('Early Years Table'!A46=\"\",\"\",IF(ISBLANK('Early Years Table'!A46),\"\",'Early Years Table'!A46))","v":830},{"$f":"IF($A46=\"\",\"\",IF(ISBLANK($A46),\"\",INDEX('LEA Nos codes'!$A$3:$A$154,MATCH($A46,'LEA Nos codes'!$B$3:$B$154,0))))","v":"Derbyshire"},{"$f":"IF($A46=\"\",\"\",IF(ISBLANK($A46),\"\",VLOOKUP($A46,Data!$A$4:$AP$155,40,FALSE)))","v":0.31},{"$f":"IF($A46=\"\",\"\",IF(ISBLANK($A46),\"\",VLOOKUP($A46,Data!$A$4:$AP$155,41,FALSE)))","v":0.32},{"$f":"IF($A46=\"\",\"\",IF(ISBLANK($A46),\"\",VLOOKUP($A46,Data!$A$4:$AP$155,42,FALSE)))","v":0.32}]
[{"$f":"IF('Early Years Table'!A47=\"\",\"\",IF(ISBLANK('Early Years Table'!A47),\"\",'Early Years Table'!A47))","v":878},{"$f":"IF($A47=\"\",\"\",IF(ISBLANK($A47),\"\",INDEX('LEA Nos codes'!$A$3:$A$154,MATCH($A47,'LEA Nos codes'!$B$3:$B$154,0))))","v":"Devon"},{"$f":"IF($A47=\"\",\"\",IF(ISBLANK($A47),\"\",VLOOKUP($A47,Data!$A$4:$AP$155,40,FALSE)))","v":0.44},{"$f":"IF($A47=\"\",\"\",IF(ISBLANK($A47),\"\",VLOOKUP($A47,Data!$A$4:$AP$155,41,FALSE)))","v":0.44},{"$f":"IF($A47=\"\",\"\",IF(ISBLANK($A47),\"\",VLOOKUP($A47,Data!$A$4:$AP$155,42,FALSE)))","v":0.39}]
[{"$f":"IF('Early Years Table'!A48=\"\",\"\",IF(ISBLANK('Early Years Table'!A48),\"\",'Early Years Table'!A48))","v":371},{"$f":"IF($A48=\"\",\"\",IF(ISBLANK($A48),\"\",INDEX('LEA Nos codes'!$A$3:$A$154,MATCH($A48,'LEA Nos codes'!$B$3:$B$154,0))))","v":"Doncaster"},{"$f":"IF($A48=\"\",\"\",IF(ISBLANK($A48),\"\",VLOOKUP($A48,Data!$A$4:$AP$155,40,FALSE)))","v":0.32},{"$f":"IF($A48=\"\",\"\",IF(ISBLANK($A48),\"\",VLOOKUP($A48,Data!$A$4:$AP$155,41,FALSE)))","v":0.37},{"$f":"IF($A48=\"\",\"\",IF(ISBLANK($A48),\"\",VLOOKUP($A48,Data!$A$4:$AP$155,42,FALSE)))","v":0.36}]
[{"$f":"IF('Early Years Table'!A49=\"\",\"\",IF(ISBLANK('Early Years Table'!A49),\"\",'Early Years Table'!A49))","v":835},{"$f":"IF($A49=\"\",\"\",IF(ISBLANK($A49),\"\",INDEX('LEA Nos codes'!$A$3:$A$154,MATCH($A49,'LEA Nos codes'!$B$3:$B$154,0))))","v":"Dorset"},{"$f":"IF($A49=\"\",\"\",IF(ISBLANK($A49),\"\",VLOOKUP($A49,Data!$A$4:$AP$155,40,FALSE)))","v":0.35},{"$f":"IF($A49=\"\",\"\",IF(ISBLANK($A49),\"\",VLOOKUP($A49,Data!$A$4:$AP$155,41,FALSE)))","v":0.39},{"$f":"IF($A49=\"\",\"\",IF(ISBLANK($A49),\"\",VLOOKUP($A49,Data!$A$4:$AP$155,42,FALSE)))","v":0.43}]
[{"$f":"IF('Early Years Table'!A50=\"\",\"\",IF(ISBLANK('Early Years Table'!A50),\"\",'Early Years Table'!A50))","v":332},{"$f":"IF($A50=\"\",\"\",IF(ISBLANK($A50),\"\",INDEX('LEA Nos codes'!$A$3:$A$154,MATCH($A50,'LEA Nos codes'!$B$3:$B$154,0))))","v":"Dudley"},{"$f":"IF($A50=\"\",\"\",IF(ISBLANK($A50),\"\",VLOOKUP($A50,Data!$A$4:$AP$155,40,FALSE)))","v":0.33},{"$f":"IF($A50=\"\",\"\",IF(ISBLANK($A50),\"\",VLOOKUP($A50,Data!$A$4:$AP$155,41,FALSE)))","v":0.32},{"$f":"IF($A50=\"\",\"\",IF(ISBLANK($A50),\"\",VLOOKUP($A50,Data!$A$4:$AP$155,42,FALSE)))","v":0.32}]
[{"$f":"IF('Early Years Table'!A51=\"\",\"\",IF(ISBLANK('Early Years Table'!A51),\"\",'Early Years Table'!A51))","v":840},{"$f":"IF($A51=\"\",\"\",IF(ISBLANK($A51),\"\",INDEX('LEA Nos codes'!$A$3:$A$154,MATCH($A51,'LEA Nos codes'!$B$3:$B$154,0))))","v":"Durham"},{"$f":"IF($A51=\"\",\"\",IF(ISBLANK($A51),\"\",VLOOKUP($A51,Data!$A$4:$AP$155,40,FALSE)))","v":0.38},{"$f":"IF($A51=\"\",\"\",IF(ISBLANK($A51),\"\",VLOOKUP($A51,Data!$A$4:$AP$155,41,FALSE)))","v":0.4},{"$f":"IF($A51=\"\",\"\",IF(ISBLANK($A51),\"\",VLOOKUP($A51,Data!$A$4:$AP$155,42,FALSE)))","v":0.39}]
[{"$f":"IF('Early Years Table'!A52=\"\",\"\",IF(ISBLANK('Early Years Table'!A52),\"\",'Early Years Table'!A52))","v":307},{"$f":"IF($A52=\"\",\"\",IF(ISBLANK($A52),\"\",INDEX('LEA Nos codes'!$A$3:$A$154,MATCH($A52,'LEA Nos codes'!$B$3:$B$154,0))))","v":"Ealing"},{"$f":"IF($A52=\"\",\"\",IF(ISBLANK($A52),\"\",VLOOKUP($A52,Data!$A$4:$AP$155,40,FALSE)))","v":0.53},{"$f":"IF($A52=\"\",\"\",IF(ISBLANK($A52),\"\",VLOOKUP($A52,Data!$A$4:$AP$155,41,FALSE)))","v":0.53},{"$f":"IF($A52=\"\",\"\",IF(ISBLANK($A52),\"\",VLOOKUP($A52,Data!$A$4:$AP$155,42,FALSE)))","v":0.52}]
[{"$f":"IF('Early Years Table'!A53=\"\",\"\",IF(ISBLANK('Early Years Table'!A53),\"\",'Early Years Table'!A53))","v":811},{"$f":"IF($A53=\"\",\"\",IF(ISBLANK($A53),\"\",INDEX('LEA Nos codes'!$A$3:$A$154,MATCH($A53,'LEA Nos codes'!$B$3:$B$154,0))))","v":"East Riding of Yorkshire"},{"$f":"IF($A53=\"\",\"\",IF(ISBLANK($A53),\"\",VLOOKUP($A53,Data!$A$4:$AP$155,40,FALSE)))","v":0.37},{"$f":"IF($A53=\"\",\"\",IF(ISBLANK($A53),\"\",VLOOKUP($A53,Data!$A$4:$AP$155,41,FALSE)))","v":0.34},{"$f":"IF($A53=\"\",\"\",IF(ISBLANK($A53),\"\",VLOOKUP($A53,Data!$A$4:$AP$155,42,FALSE)))","v":0.39}]
[{"$f":"IF('Early Years Table'!A54=\"\",\"\",IF(ISBLANK('Early Years Table'!A54),\"\",'Early Years Table'!A54))","v":845},{"$f":"IF($A54=\"\",\"\",IF(ISBLANK($A54),\"\",INDEX('LEA Nos codes'!$A$3:$A$154,MATCH($A54,'LEA Nos codes'!$B$3:$B$154,0))))","v":"East Sussex"},{"$f":"IF($A54=\"\",\"\",IF(ISBLANK($A54),\"\",VLOOKUP($A54,Data!$A$4:$AP$155,40,FALSE)))","v":0.3},{"$f":"IF($A54=\"\",\"\",IF(ISBLANK($A54),\"\",VLOOKUP($A54,Data!$A$4:$AP$155,41,FALSE)))","v":0.36},{"$f":"IF($A54=\"\",\"\",IF(ISBLANK($A54),\"\",VLOOKUP($A54,Data!$A$4:$AP$155,42,FALSE)))","v":0.37}]
[{"$f":"IF('Early Years Table'!A55=\"\",\"\",IF(ISBLANK('Early Years Table'!A55),\"\",'Early Years Table'!A55))","v":308},{"$f":"IF($A55=\"\",\"\",IF(ISBLANK($A55),\"\",INDEX('LEA Nos codes'!$A$3:$A$154,MATCH($A55,'LEA Nos codes'!$B$3:$B$154,0))))","v":"Enfield"},{"$f":"IF($A55=\"\",\"\",IF(ISBLANK($A55),\"\",VLOOKUP($A55,Data!$A$4:$AP$155,40,FALSE)))","v":0.3},{"$f":"IF($A55=\"\",\"\",IF(ISBLANK($A55),\"\",VLOOKUP($A55,Data!$A$4:$AP$155,41,FALSE)))","v":0.43},{"$f":"IF($A55=\"\",\"\",IF(ISBLANK($A55),\"\",VLOOKUP($A55,Data!$A$4:$AP$155,42,FALSE)))","v":0.49}]
[{"$f":"IF('Early Years Table'!A56=\"\",\"\",IF(ISBLANK('Early Years Table'!A56),\"\",'Early Years Table'!A56))","v":881},{"$f":"IF($A56=\"\",\"\",IF(ISBLANK($A56),\"\",INDEX('LEA Nos codes'!$A$3:$A$154,MATCH($A56,'LEA Nos codes'!$B$3:$B$154,0))))","v":"Essex"},{"$f":"IF($A56=\"\",\"\",IF(ISBLANK($A56),\"\",VLOOKUP($A56,Data!$A$4:$AP$155,40,FALSE)))","v":0.32},{"$f":"IF($A56=\"\",\"\",IF(ISBLANK($A56),\"\",VLOOKUP($A56,Data!$A$4:$AP$155,41,FALSE)))","v":0.35},{"$f":"IF($A56=\"\",\"\",IF(ISBLANK($A56),\"\",VLOOKUP($A56,Data!$A$4:$AP$155,42,FALSE)))","v":0.28999999999999998}]
[{"$f":"IF('Early Years Table'!A57=\"\",\"\",IF(ISBLANK('Early Years Table'!A57),\"\",'Early Years Table'!A57))","v":390},{"$f":"IF($A57=\"\",\"\",IF(ISBLANK($A57),\"\",INDEX('LEA Nos codes'!$A$3:$A$154,MATCH($A57,'LEA Nos codes'!$B$3:$B$154,0))))","v":"Gateshead"},{"$f":"IF($A57=\"\",\"\",IF(ISBLANK($A57),\"\",VLOOKUP($A57,Data!$A$4:$AP$155,40,FALSE)))","v":0.36},{"$f":"IF($A57=\"\",\"\",IF(ISBLANK($A57),\"\",VLOOKUP($A57,Data!$A$4:$AP$155,41,FALSE)))","v":0.4},{"$f":"IF($A57=\"\",\"\",IF(ISBLANK($A57),\"\",VLOOKUP($A57,Data!$A$4:$AP$155,42,FALSE)))","v":0.52}]
[{"$f":"IF('Early Years Table'!A58=\"\",\"\",IF(ISBLANK('Early Years Table'!A58),\"\",'Early Years Table'!A58))","v":916},{"$f":"IF($A58=\"\",\"\",IF(ISBLANK($A58),\"\",INDEX('LEA Nos codes'!$A$3:$A$154,MATCH($A58,'LEA Nos codes'!$B$3:$B$154,0))))","v":"Gloucestershire"},{"$f":"IF($A58=\"\",\"\",IF(ISBLANK($A58),\"\",VLOOKUP($A58,Data!$A$4:$AP$155,40,FALSE)))","v":0},{"$f":"IF($A58=\"\",\"\",IF(ISBLANK($A58),\"\",VLOOKUP($A58,Data!$A$4:$AP$155,41,FALSE)))","v":0},{"$f":"IF($A58=\"\",\"\",IF(ISBLANK($A58),\"\",VLOOKUP($A58,Data!$A$4:$AP$155,42,FALSE)))","v":0}]
[{"$f":"IF('Early Years Table'!A59=\"\",\"\",IF(ISBLANK('Early Years Table'!A59),\"\",'Early Years Table'!A59))","v":203},{"$f":"IF($A59=\"\",\"\",IF(ISBLANK($A59),\"\",INDEX('LEA Nos codes'!$A$3:$A$154,MATCH($A59,'LEA Nos codes'!$B$3:$B$154,0))))","v":"Greenwich"},{"$f":"IF($A59=\"\",\"\",IF(ISBLANK($A59),\"\",VLOOKUP($A59,Data!$A$4:$AP$155,40,FALSE)))","v":0.31},{"$f":"IF($A59=\"\",\"\",IF(ISBLANK($A59),\"\",VLOOKUP($A59,Data!$A$4:$AP$155,41,FALSE)))","v":0.42},{"$f":"IF($A59=\"\",\"\",IF(ISBLANK($A59),\"\",VLOOKUP($A59,Data!$A$4:$AP$155,42,FALSE)))","v":0.41}]
[{"$f":"IF('Early Years Table'!A60=\"\",\"\",IF(ISBLANK('Early Years Table'!A60),\"\",'Early Years Table'!A60))","v":204},{"$f":"IF($A60=\"\",\"\",IF(ISBLANK($A60),\"\",INDEX('LEA Nos codes'!$A$3:$A$154,MATCH($A60,'LEA Nos codes'!$B$3:$B$154,0))))","v":"Hackney"},{"$f":"IF($A60=\"\",\"\",IF(ISBLANK($A60),\"\",VLOOKUP($A60,Data!$A$4:$AP$155,40,FALSE)))","v":0.43},{"$f":"IF($A60=\"\",\"\",IF(ISBLANK($A60),\"\",VLOOKUP($A60,Data!$A$4:$AP$155,41,FALSE)))","v":0.33},{"$f":"IF($A60=\"\",\"\",IF(ISBLANK($A60),\"\",VLOOKUP($A60,Data!$A$4:$AP$155,42,FALSE)))","v":0.3}]
[{"$f":"IF('Early Years Table'!A61=\"\",\"\",IF(ISBLANK('Early Years Table'!A61),\"\",'Early Years Table'!A61))","v":876},{"$f":"IF($A61=\"\",\"\",IF(ISBLANK($A61),\"\",INDEX('LEA Nos codes'!$A$3:$A$154,MATCH($A61,'LEA Nos codes'!$B$3:$B$154,0))))","v":"Halton"},{"$f":"IF($A61=\"\",\"\",IF(ISBLANK($A61),\"\",VLOOKUP($A61,Data!$A$4:$AP$155,40,FALSE)))","v":0.24},{"$f":"IF($A61=\"\",\"\",IF(ISBLANK($A61),\"\",VLOOKUP($A61,Data!$A$4:$AP$155,41,FALSE)))","v":0.22},{"$f":"IF($A61=\"\",\"\",IF(ISBLANK($A61),\"\",VLOOKUP($A61,Data!$A$4:$AP$155,42,FALSE)))","v":0.14000000000000001}]
[{"$f":"IF('Early Years Table'!A62=\"\",\"\",IF(ISBLANK('Early Years Table'!A62),\"\",'Early Years Table'!A62))","v":205},{"$f":"IF($A62=\"\",\"\",IF(ISBLANK($A62),\"\",INDEX('LEA Nos codes'!$A$3:$A$154,MATCH($A62,'LEA Nos codes'!$B$3:$B$154,0))))","v":"Hammersmith and Fulham"},{"$f":"IF($A62=\"\",\"\",IF(ISBLANK($A62),\"\",VLOOKUP($A62,Data!$A$4:$AP$155,40,FALSE)))","v":0.45},{"$f":"IF($A62=\"\",\"\",IF(ISBLANK($A62),\"\",VLOOKUP($A62,Data!$A$4:$AP$155,41,FALSE)))","v":0.55000000000000004},{"$f":"IF($A62=\"\",\"\",IF(ISBLANK($A62),\"\",VLOOKUP($A62,Data!$A$4:$AP$155,42,FALSE)))","v":0.48}]
[{"$f":"IF('Early Years Table'!A63=\"\",\"\",IF(ISBLANK('Early Years Table'!A63),\"\",'Early Years Table'!A63))","v":850},{"$f":"IF($A63=\"\",\"\",IF(ISBLANK($A63),\"\",INDEX('LEA Nos codes'!$A$3:$A$154,MATCH($A63,'LEA Nos codes'!$B$3:$B$154,0))))","v":"Hampshire"},{"$f":"IF($A63=\"\",\"\",IF(ISBLANK($A63),\"\",VLOOKUP($A63,Data!$A$4:$AP$155,40,FALSE)))","v":0.3},{"$f":"IF($A63=\"\",\"\",IF(ISBLANK($A63),\"\",VLOOKUP($A63,Data!$A$4:$AP$155,41,FALSE)))","v":0.34},{"$f":"IF($A63=\"\",\"\",IF(ISBLANK($A63),\"\",VLOOKUP($A63,Data!$A$4:$AP$155,42,FALSE)))","v":0.39}]
[{"$f":"IF('Early Years Table'!A64=\"\",\"\",IF(ISBLANK('Early Years Table'!A64),\"\",'Early Years Table'!A64))","v":309},{"$f":"IF($A64=\"\",\"\",IF(ISBLANK($A64),\"\",INDEX('LEA Nos codes'!$A$3:$A$154,MATCH($A64,'LEA Nos codes'!$B$3:$B$154,0))))","v":"Haringey"},{"$f":"IF($A64=\"\",\"\",IF(ISBLANK($A64),\"\",VLOOKUP($A64,Data!$A$4:$AP$155,40,FALSE)))","v":0.44},{"$f":"IF($A64=\"\",\"\",IF(ISBLANK($A64),\"\",VLOOKUP($A64,Data!$A$4:$AP$155,41,FALSE)))","v":0.52},{"$f":"IF($A64=\"\",\"\",IF(ISBLANK($A64),\"\",VLOOKUP($A64,Data!$A$4:$AP$155,42,FALSE)))","v":0.48}]
[{"$f":"IF('Early Years Table'!A65=\"\",\"\",IF(ISBLANK('Early Years Table'!A65),\"\",'Early Years Table'!A65))","v":310},{"$f":"IF($A65=\"\",\"\",IF(ISBLANK($A65),\"\",INDEX('LEA Nos codes'!$A$3:$A$154,MATCH($A65,'LEA Nos codes'!$B$3:$B$154,0))))","v":"Harrow"},{"$f":"IF($A65=\"\",\"\",IF(ISBLANK($A65),\"\",VLOOKUP($A65,Data!$A$4:$AP$155,40,FALSE)))","v":0.36},{"$f":"IF($A65=\"\",\"\",IF(ISBLANK($A65),\"\",VLOOKUP($A65,Data!$A$4:$AP$155,41,FALSE)))","v":0.36},{"$f":"IF($A65=\"\",\"\",IF(ISBLANK($A65),\"\",VLOOKUP($A65,Data!$A$4:$AP$155,42,FALSE)))","v":0.38}]
[{"$f":"IF('Early Years Table'!A66=\"\",\"\",IF(ISBLANK('Early Years Table'!A66),\"\",'Early Years Table'!A66))","v":805},{"$f":"IF($A66=\"\",\"\",IF(ISBLANK($A66),\"\",INDEX('LEA Nos codes'!$A$3:$A$154,MATCH($A66,'LEA Nos codes'!$B$3:$B$154,0))))","v":"Hartlepool"},{"$f":"IF($A66=\"\",\"\",IF(ISBLANK($A66),\"\",VLOOKUP($A66,Data!$A$4:$AP$155,40,FALSE)))","v":0.5},{"$f":"IF($A66=\"\",\"\",IF(ISBLANK($A66),\"\",VLOOKUP($A66,Data!$A$4:$AP$155,41,FALSE)))","v":0.7},{"$f":"IF($A66=\"\",\"\",IF(ISBLANK($A66),\"\",VLOOKUP($A66,Data!$A$4:$AP$155,42,FALSE)))","v":0.17}]
[{"$f":"IF('Early Years Table'!A67=\"\",\"\",IF(ISBLANK('Early Years Table'!A67),\"\",'Early Years Table'!A67))","v":311},{"$f":"IF($A67=\"\",\"\",IF(ISBLANK($A67),\"\",INDEX('LEA Nos codes'!$A$3:$A$154,MATCH($A67,'LEA Nos codes'!$B$3:$B$154,0))))","v":"Havering"},{"$f":"IF($A67=\"\",\"\",IF(ISBLANK($A67),\"\",VLOOKUP($A67,Data!$A$4:$AP$155,40,FALSE)))","v":0.16},{"$f":"IF($A67=\"\",\"\",IF(ISBLANK($A67),\"\",VLOOKUP($A67,Data!$A$4:$AP$155,41,FALSE)))","v":0.2},{"$f":"IF($A67=\"\",\"\",IF(ISBLANK($A67),\"\",VLOOKUP($A67,Data!$A$4:$AP$155,42,FALSE)))","v":0.38}]
[{"$f":"IF('Early Years Table'!A68=\"\",\"\",IF(ISBLANK('Early Years Table'!A68),\"\",'Early Years Table'!A68))","v":884},{"$f":"IF($A68=\"\",\"\",IF(ISBLANK($A68),\"\",INDEX('LEA Nos codes'!$A$3:$A$154,MATCH($A68,'LEA Nos codes'!$B$3:$B$154,0))))","v":"Herefordshire"},{"$f":"IF($A68=\"\",\"\",IF(ISBLANK($A68),\"\",VLOOKUP($A68,Data!$A$4:$AP$155,40,FALSE)))","v":0.52},{"$f":"IF($A68=\"\",\"\",IF(ISBLANK($A68),\"\",VLOOKUP($A68,Data!$A$4:$AP$155,41,FALSE)))","v":0.59},{"$f":"IF($A68=\"\",\"\",IF(ISBLANK($A68),\"\",VLOOKUP($A68,Data!$A$4:$AP$155,42,FALSE)))","v":0.56000000000000005}]
[{"$f":"IF('Early Years Table'!A69=\"\",\"\",IF(ISBLANK('Early Years Table'!A69),\"\",'Early Years Table'!A69))","v":919},{"$f":"IF($A69=\"\",\"\",IF(ISBLANK($A69),\"\",INDEX('LEA Nos codes'!$A$3:$A$154,MATCH($A69,'LEA Nos codes'!$B$3:$B$154,0))))","v":"Hertfordshire"},{"$f":"IF($A69=\"\",\"\",IF(ISBLANK($A69),\"\",VLOOKUP($A69,Data!$A$4:$AP$155,40,FALSE)))","v":0.46},{"$f":"IF($A69=\"\",\"\",IF(ISBLANK($A69),\"\",VLOOKUP($A69,Data!$A$4:$AP$155,41,FALSE)))","v":0.44},{"$f":"IF($A69=\"\",\"\",IF(ISBLANK($A69),\"\",VLOOKUP($A69,Data!$A$4:$AP$155,42,FALSE)))","v":0.46}]
[{"$f":"IF('Early Years Table'!A70=\"\",\"\",IF(ISBLANK('Early Years Table'!A70),\"\",'Early Years Table'!A70))","v":312},{"$f":"IF($A70=\"\",\"\",IF(ISBLANK($A70),\"\",INDEX('LEA Nos codes'!$A$3:$A$154,MATCH($A70,'LEA Nos codes'!$B$3:$B$154,0))))","v":"Hillingdon"},{"$f":"IF($A70=\"\",\"\",IF(ISBLANK($A70),\"\",VLOOKUP($A70,Data!$A$4:$AP$155,40,FALSE)))","v":0.37},{"$f":"IF($A70=\"\",\"\",IF(ISBLANK($A70),\"\",VLOOKUP($A70,Data!$A$4:$AP$155,41,FALSE)))","v":0.37},{"$f":"IF($A70=\"\",\"\",IF(ISBLANK($A70),\"\",VLOOKUP($A70,Data!$A$4:$AP$155,42,FALSE)))","v":0.4}]
[{"$f":"IF('Early Years Table'!A71=\"\",\"\",IF(ISBLANK('Early Years Table'!A71),\"\",'Early Years Table'!A71))","v":313},{"$f":"IF($A71=\"\",\"\",IF(ISBLANK($A71),\"\",INDEX('LEA Nos codes'!$A$3:$A$154,MATCH($A71,'LEA Nos codes'!$B$3:$B$154,0))))","v":"Hounslow"},{"$f":"IF($A71=\"\",\"\",IF(ISBLANK($A71),\"\",VLOOKUP($A71,Data!$A$4:$AP$155,40,FALSE)))","v":0.39},{"$f":"IF($A71=\"\",\"\",IF(ISBLANK($A71),\"\",VLOOKUP($A71,Data!$A$4:$AP$155,41,FALSE)))","v":0.42},{"$f":"IF($A71=\"\",\"\",IF(ISBLANK($A71),\"\",VLOOKUP($A71,Data!$A$4:$AP$155,42,FALSE)))","v":0.45}]
[{"$f":"IF('Early Years Table'!A72=\"\",\"\",IF(ISBLANK('Early Years Table'!A72),\"\",'Early Years Table'!A72))","v":921},{"$f":"IF($A72=\"\",\"\",IF(ISBLANK($A72),\"\",INDEX('LEA Nos codes'!$A$3:$A$154,MATCH($A72,'LEA Nos codes'!$B$3:$B$154,0))))","v":"Isle of Wight"},{"$f":"IF($A72=\"\",\"\",IF(ISBLANK($A72),\"\",VLOOKUP($A72,Data!$A$4:$AP$155,40,FALSE)))","v":0.28000000000000003},{"$f":"IF($A72=\"\",\"\",IF(ISBLANK($A72),\"\",VLOOKUP($A72,Data!$A$4:$AP$155,41,FALSE)))","v":0.36},{"$f":"IF($A72=\"\",\"\",IF(ISBLANK($A72),\"\",VLOOKUP($A72,Data!$A$4:$AP$155,42,FALSE)))","v":0.24}]
[{"$f":"IF('Early Years Table'!A73=\"\",\"\",IF(ISBLANK('Early Years Table'!A73),\"\",'Early Years Table'!A73))","v":420},{"$f":"IF($A73=\"\",\"\",IF(ISBLANK($A73),\"\",INDEX('LEA Nos codes'!$A$3:$A$154,MATCH($A73,'LEA Nos codes'!$B$3:$B$154,0))))","v":"Isles of Scilly"},{"$f":"IF($A73=\"\",\"\",IF(ISBLANK($A73),\"\",VLOOKUP($A73,Data!$A$4:$AP$155,40,FALSE)))","v":0.5},{"$f":"IF($A73=\"\",\"\",IF(ISBLANK($A73),\"\",VLOOKUP($A73,Data!$A$4:$AP$155,41,FALSE)))","v":0},{"$f":"IF($A73=\"\",\"\",IF(ISBLANK($A73),\"\",VLOOKUP($A73,Data!$A$4:$AP$155,42,FALSE)))","v":0}]
[{"$f":"IF('Early Years Table'!A74=\"\",\"\",IF(ISBLANK('Early Years Table'!A74),\"\",'Early Years Table'!A74))","v":206},{"$f":"IF($A74=\"\",\"\",IF(ISBLANK($A74),\"\",INDEX('LEA Nos codes'!$A$3:$A$154,MATCH($A74,'LEA Nos codes'!$B$3:$B$154,0))))","v":"Islington"},{"$f":"IF($A74=\"\",\"\",IF(ISBLANK($A74),\"\",VLOOKUP($A74,Data!$A$4:$AP$155,40,FALSE)))","v":0.56000000000000005},{"$f":"IF($A74=\"\",\"\",IF(ISBLANK($A74),\"\",VLOOKUP($A74,Data!$A$4:$AP$155,41,FALSE)))","v":0.63},{"$f":"IF($A74=\"\",\"\",IF(ISBLANK($A74),\"\",VLOOKUP($A74,Data!$A$4:$AP$155,42,FALSE)))","v":0.65}]
[{"$f":"IF('Early Years Table'!A75=\"\",\"\",IF(ISBLANK('Early Years Table'!A75),\"\",'Early Years Table'!A75))","v":207},{"$f":"IF($A75=\"\",\"\",IF(ISBLANK($A75),\"\",INDEX('LEA Nos codes'!$A$3:$A$154,MATCH($A75,'LEA Nos codes'!$B$3:$B$154,0))))","v":"Kensington and Chelsea"},{"$f":"IF($A75=\"\",\"\",IF(ISBLANK($A75),\"\",VLOOKUP($A75,Data!$A$4:$AP$155,40,FALSE)))","v":0.59},{"$f":"IF($A75=\"\",\"\",IF(ISBLANK($A75),\"\",VLOOKUP($A75,Data!$A$4:$AP$155,41,FALSE)))","v":0.68},{"$f":"IF($A75=\"\",\"\",IF(ISBLANK($A75),\"\",VLOOKUP($A75,Data!$A$4:$AP$155,42,FALSE)))","v":0.65}]
[{"$f":"IF('Early Years Table'!A76=\"\",\"\",IF(ISBLANK('Early Years Table'!A76),\"\",'Early Years Table'!A76))","v":886},{"$f":"IF($A76=\"\",\"\",IF(ISBLANK($A76),\"\",INDEX('LEA Nos codes'!$A$3:$A$154,MATCH($A76,'LEA Nos codes'!$B$3:$B$154,0))))","v":"Kent"},{"$f":"IF($A76=\"\",\"\",IF(ISBLANK($A76),\"\",VLOOKUP($A76,Data!$A$4:$AP$155,40,FALSE)))","v":0.27},{"$f":"IF($A76=\"\",\"\",IF(ISBLANK($A76),\"\",VLOOKUP($A76,Data!$A$4:$AP$155,41,FALSE)))","v":0.33},{"$f":"IF($A76=\"\",\"\",IF(ISBLANK($A76),\"\",VLOOKUP($A76,Data!$A$4:$AP$155,42,FALSE)))","v":0.39}]
[{"$f":"IF('Early Years Table'!A77=\"\",\"\",IF(ISBLANK('Early Years Table'!A77),\"\",'Early Years Table'!A77))","v":314},{"$f":"IF($A77=\"\",\"\",IF(ISBLANK($A77),\"\",INDEX('LEA Nos codes'!$A$3:$A$154,MATCH($A77,'LEA Nos codes'!$B$3:$B$154,0))))","v":"Kingston upon Thames"},{"$f":"IF($A77=\"\",\"\",IF(ISBLANK($A77),\"\",VLOOKUP($A77,Data!$A$4:$AP$155,40,FALSE)))","v":0.5},{"$f":"IF($A77=\"\",\"\",IF(ISBLANK($A77),\"\",VLOOKUP($A77,Data!$A$4:$AP$155,41,FALSE)))","v":0.49},{"$f":"IF($A77=\"\",\"\",IF(ISBLANK($A77),\"\",VLOOKUP($A77,Data!$A$4:$AP$155,42,FALSE)))","v":0.51}]
[{"$f":"IF('Early Years Table'!A78=\"\",\"\",IF(ISBLANK('Early Years Table'!A78),\"\",'Early Years Table'!A78))","v":382},{"$f":"IF($A78=\"\",\"\",IF(ISBLANK($A78),\"\",INDEX('LEA Nos codes'!$A$3:$A$154,MATCH($A78,'LEA Nos codes'!$B$3:$B$154,0))))","v":"Kirklees"},{"$f":"IF($A78=\"\",\"\",IF(ISBLANK($A78),\"\",VLOOKUP($A78,Data!$A$4:$AP$155,40,FALSE)))","v":0.27},{"$f":"IF($A78=\"\",\"\",IF(ISBLANK($A78),\"\",VLOOKUP($A78,Data!$A$4:$AP$155,41,FALSE)))","v":0.27},{"$f":"IF($A78=\"\",\"\",IF(ISBLANK($A78),\"\",VLOOKUP($A78,Data!$A$4:$AP$155,42,FALSE)))","v":0.32}]
[{"$f":"IF('Early Years Table'!A79=\"\",\"\",IF(ISBLANK('Early Years Table'!A79),\"\",'Early Years Table'!A79))","v":340},{"$f":"IF($A79=\"\",\"\",IF(ISBLANK($A79),\"\",INDEX('LEA Nos codes'!$A$3:$A$154,MATCH($A79,'LEA Nos codes'!$B$3:$B$154,0))))","v":"Knowsley"},{"$f":"IF($A79=\"\",\"\",IF(ISBLANK($A79),\"\",VLOOKUP($A79,Data!$A$4:$AP$155,40,FALSE)))","v":0.52},{"$f":"IF($A79=\"\",\"\",IF(ISBLANK($A79),\"\",VLOOKUP($A79,Data!$A$4:$AP$155,41,FALSE)))","v":0.56000000000000005},{"$f":"IF($A79=\"\",\"\",IF(ISBLANK($A79),\"\",VLOOKUP($A79,Data!$A$4:$AP$155,42,FALSE)))","v":0.59}]
[{"$f":"IF('Early Years Table'!A80=\"\",\"\",IF(ISBLANK('Early Years Table'!A80),\"\",'Early Years Table'!A80))","v":208},{"$f":"IF($A80=\"\",\"\",IF(ISBLANK($A80),\"\",INDEX('LEA Nos codes'!$A$3:$A$154,MATCH($A80,'LEA Nos codes'!$B$3:$B$154,0))))","v":"Lambeth"},{"$f":"IF($A80=\"\",\"\",IF(ISBLANK($A80),\"\",VLOOKUP($A80,Data!$A$4:$AP$155,40,FALSE)))","v":0.5},{"$f":"IF($A80=\"\",\"\",IF(ISBLANK($A80),\"\",VLOOKUP($A80,Data!$A$4:$AP$155,41,FALSE)))","v":0.52},{"$f":"IF($A80=\"\",\"\",IF(ISBLANK($A80),\"\",VLOOKUP($A80,Data!$A$4:$AP$155,42,FALSE)))","v":0.52}]
[{"$f":"IF('Early Years Table'!A81=\"\",\"\",IF(ISBLANK('Early Years Table'!A81),\"\",'Early Years Table'!A81))","v":888},{"$f":"IF($A81=\"\",\"\",IF(ISBLANK($A81),\"\",INDEX('LEA Nos codes'!$A$3:$A$154,MATCH($A81,'LEA Nos codes'!$B$3:$B$154,0))))","v":"Lancashire"},{"$f":"IF($A81=\"\",\"\",IF(ISBLANK($A81),\"\",VLOOKUP($A81,Data!$A$4:$AP$155,40,FALSE)))","v":0.41},{"$f":"IF($A81=\"\",\"\",IF(ISBLANK($A81),\"\",VLOOKUP($A81,Data!$A$4:$AP$155,41,FALSE)))","v":0.5},{"$f":"IF($A81=\"\",\"\",IF(ISBLANK($A81),\"\",VLOOKUP($A81,Data!$A$4:$AP$155,42,FALSE)))","v":0.53}]
[{"$f":"IF('Early Years Table'!A82=\"\",\"\",IF(ISBLANK('Early Years Table'!A82),\"\",'Early Years Table'!A82))","v":383},{"$f":"IF($A82=\"\",\"\",IF(ISBLANK($A82),\"\",INDEX('LEA Nos codes'!$A$3:$A$154,MATCH($A82,'LEA Nos codes'!$B$3:$B$154,0))))","v":"Leeds"},{"$f":"IF($A82=\"\",\"\",IF(ISBLANK($A82),\"\",VLOOKUP($A82,Data!$A$4:$AP$155,40,FALSE)))","v":0.57999999999999996},{"$f":"IF($A82=\"\",\"\",IF(ISBLANK($A82),\"\",VLOOKUP($A82,Data!$A$4:$AP$155,41,FALSE)))","v":0.49},{"$f":"IF($A82=\"\",\"\",IF(ISBLANK($A82),\"\",VLOOKUP($A82,Data!$A$4:$AP$155,42,FALSE)))","v":0.5}]
[{"$f":"IF('Early Years Table'!A83=\"\",\"\",IF(ISBLANK('Early Years Table'!A83),\"\",'Early Years Table'!A83))","v":856},{"$f":"IF($A83=\"\",\"\",IF(ISBLANK($A83),\"\",INDEX('LEA Nos codes'!$A$3:$A$154,MATCH($A83,'LEA Nos codes'!$B$3:$B$154,0))))","v":"Leicester"},{"$f":"IF($A83=\"\",\"\",IF(ISBLANK($A83),\"\",VLOOKUP($A83,Data!$A$4:$AP$155,40,FALSE)))","v":0.24},{"$f":"IF($A83=\"\",\"\",IF(ISBLANK($A83),\"\",VLOOKUP($A83,Data!$A$4:$AP$155,41,FALSE)))","v":0.3},{"$f":"IF($A83=\"\",\"\",IF(ISBLANK($A83),\"\",VLOOKUP($A83,Data!$A$4:$AP$155,42,FALSE)))","v":0.32}]
[{"$f":"IF('Early Years Table'!A84=\"\",\"\",IF(ISBLANK('Early Years Table'!A84),\"\",'Early Years Table'!A84))","v":855},{"$f":"IF($A84=\"\",\"\",IF(ISBLANK($A84),\"\",INDEX('LEA Nos codes'!$A$3:$A$154,MATCH($A84,'LEA Nos codes'!$B$3:$B$154,0))))","v":"Leicestershire"},{"$f":"IF($A84=\"\",\"\",IF(ISBLANK($A84),\"\",VLOOKUP($A84,Data!$A$4:$AP$155,40,FALSE)))","v":0.26},{"$f":"IF($A84=\"\",\"\",IF(ISBLANK($A84),\"\",VLOOKUP($A84,Data!$A$4:$AP$155,41,FALSE)))","v":0.28000000000000003},{"$f":"IF($A84=\"\",\"\",IF(ISBLANK($A84),\"\",VLOOKUP($A84,Data!$A$4:$AP$155,42,FALSE)))","v":0.34}]
[{"$f":"IF('Early Years Table'!A85=\"\",\"\",IF(ISBLANK('Early Years Table'!A85),\"\",'Early Years Table'!A85))","v":209},{"$f":"IF($A85=\"\",\"\",IF(ISBLANK($A85),\"\",INDEX('LEA Nos codes'!$A$3:$A$154,MATCH($A85,'LEA Nos codes'!$B$3:$B$154,0))))","v":"Lewisham"},{"$f":"IF($A85=\"\",\"\",IF(ISBLANK($A85),\"\",VLOOKUP($A85,Data!$A$4:$AP$155,40,FALSE)))","v":0.27},{"$f":"IF($A85=\"\",\"\",IF(ISBLANK($A85),\"\",VLOOKUP($A85,Data!$A$4:$AP$155,41,FALSE)))","v":0.33},{"$f":"IF($A85=\"\",\"\",IF(ISBLANK($A85),\"\",VLOOKUP($A85,Data!$A$4:$AP$155,42,FALSE)))","v":0.42}]
[{"$f":"IF('Early Years Table'!A86=\"\",\"\",IF(ISBLANK('Early Years Table'!A86),\"\",'Early Years Table'!A86))","v":925},{"$f":"IF($A86=\"\",\"\",IF(ISBLANK($A86),\"\",INDEX('LEA Nos codes'!$A$3:$A$154,MATCH($A86,'LEA Nos codes'!$B$3:$B$154,0))))","v":"Lincolnshire"},{"$f":"IF($A86=\"\",\"\",IF(ISBLANK($A86),\"\",VLOOKUP($A86,Data!$A$4:$AP$155,40,FALSE)))","v":0.28000000000000003},{"$f":"IF($A86=\"\",\"\",IF(ISBLANK($A86),\"\",VLOOKUP($A86,Data!$A$4:$AP$155,41,FALSE)))","v":0.38},{"$f":"IF($A86=\"\",\"\",IF(ISBLANK($A86),\"\",VLOOKUP($A86,Data!$A$4:$AP$155,42,FALSE)))","v":0.37}]
[{"$f":"IF('Early Years Table'!A87=\"\",\"\",IF(ISBLANK('Early Years Table'!A87),\"\",'Early Years Table'!A87))","v":341},{"$f":"IF($A87=\"\",\"\",IF(ISBLANK($A87),\"\",INDEX('LEA Nos codes'!$A$3:$A$154,MATCH($A87,'LEA Nos codes'!$B$3:$B$154,0))))","v":"Liverpool"},{"$f":"IF($A87=\"\",\"\",IF(ISBLANK($A87),\"\",VLOOKUP($A87,Data!$A$4:$AP$155,40,FALSE)))","v":0.38},{"$f":"IF($A87=\"\",\"\",IF(ISBLANK($A87),\"\",VLOOKUP($A87,Data!$A$4:$AP$155,41,FALSE)))","v":0.2},{"$f":"IF($A87=\"\",\"\",IF(ISBLANK($A87),\"\",VLOOKUP($A87,Data!$A$4:$AP$155,42,FALSE)))","v":0.44}]
[{"$f":"IF('Early Years Table'!A88=\"\",\"\",IF(ISBLANK('Early Years Table'!A88),\"\",'Early Years Table'!A88))","v":821},{"$f":"IF($A88=\"\",\"\",IF(ISBLANK($A88),\"\",INDEX('LEA Nos codes'!$A$3:$A$154,MATCH($A88,'LEA Nos codes'!$B$3:$B$154,0))))","v":"Luton"},{"$f":"IF($A88=\"\",\"\",IF(ISBLANK($A88),\"\",VLOOKUP($A88,Data!$A$4:$AP$155,40,FALSE)))","v":0.25},{"$f":"IF($A88=\"\",\"\",IF(ISBLANK($A88),\"\",VLOOKUP($A88,Data!$A$4:$AP$155,41,FALSE)))","v":0.27},{"$f":"IF($A88=\"\",\"\",IF(ISBLANK($A88),\"\",VLOOKUP($A88,Data!$A$4:$AP$155,42,FALSE)))","v":0.3}]
[{"$f":"IF('Early Years Table'!A89=\"\",\"\",IF(ISBLANK('Early Years Table'!A89),\"\",'Early Years Table'!A89))","v":352},{"$f":"IF($A89=\"\",\"\",IF(ISBLANK($A89),\"\",INDEX('LEA Nos codes'!$A$3:$A$154,MATCH($A89,'LEA Nos codes'!$B$3:$B$154,0))))","v":"Manchester"},{"$f":"IF($A89=\"\",\"\",IF(ISBLANK($A89),\"\",VLOOKUP($A89,Data!$A$4:$AP$155,40,FALSE)))","v":0.46},{"$f":"IF($A89=\"\",\"\",IF(ISBLANK($A89),\"\",VLOOKUP($A89,Data!$A$4:$AP$155,41,FALSE)))","v":0.33},{"$f":"IF($A89=\"\",\"\",IF(ISBLANK($A89),\"\",VLOOKUP($A89,Data!$A$4:$AP$155,42,FALSE)))","v":0.34}]
[{"$f":"IF('Early Years Table'!A90=\"\",\"\",IF(ISBLANK('Early Years Table'!A90),\"\",'Early Years Table'!A90))","v":887},{"$f":"IF($A90=\"\",\"\",IF(ISBLANK($A90),\"\",INDEX('LEA Nos codes'!$A$3:$A$154,MATCH($A90,'LEA Nos codes'!$B$3:$B$154,0))))","v":"Medway"},{"$f":"IF($A90=\"\",\"\",IF(ISBLANK($A90),\"\",VLOOKUP($A90,Data!$A$4:$AP$155,40,FALSE)))","v":0.19},{"$f":"IF($A90=\"\",\"\",IF(ISBLANK($A90),\"\",VLOOKUP($A90,Data!$A$4:$AP$155,41,FALSE)))","v":0.28000000000000003},{"$f":"IF($A90=\"\",\"\",IF(ISBLANK($A90),\"\",VLOOKUP($A90,Data!$A$4:$AP$155,42,FALSE)))","v":0.28999999999999998}]
[{"$f":"IF('Early Years Table'!A91=\"\",\"\",IF(ISBLANK('Early Years Table'!A91),\"\",'Early Years Table'!A91))","v":315},{"$f":"IF($A91=\"\",\"\",IF(ISBLANK($A91),\"\",INDEX('LEA Nos codes'!$A$3:$A$154,MATCH($A91,'LEA Nos codes'!$B$3:$B$154,0))))","v":"Merton"},{"$f":"IF($A91=\"\",\"\",IF(ISBLANK($A91),\"\",VLOOKUP($A91,Data!$A$4:$AP$155,40,FALSE)))","v":0.44},{"$f":"IF($A91=\"\",\"\",IF(ISBLANK($A91),\"\",VLOOKUP($A91,Data!$A$4:$AP$155,41,FALSE)))","v":0.42},{"$f":"IF($A91=\"\",\"\",IF(ISBLANK($A91),\"\",VLOOKUP($A91,Data!$A$4:$AP$155,42,FALSE)))","v":0.45}]
[{"$f":"IF('Early Years Table'!A92=\"\",\"\",IF(ISBLANK('Early Years Table'!A92),\"\",'Early Years Table'!A92))","v":806},{"$f":"IF($A92=\"\",\"\",IF(ISBLANK($A92),\"\",INDEX('LEA Nos codes'!$A$3:$A$154,MATCH($A92,'LEA Nos codes'!$B$3:$B$154,0))))","v":"Middlesbrough"},{"$f":"IF($A92=\"\",\"\",IF(ISBLANK($A92),\"\",VLOOKUP($A92,Data!$A$4:$AP$155,40,FALSE)))","v":0.25},{"$f":"IF($A92=\"\",\"\",IF(ISBLANK($A92),\"\",VLOOKUP($A92,Data!$A$4:$AP$155,41,FALSE)))","v":0.38},{"$f":"IF($A92=\"\",\"\",IF(ISBLANK($A92),\"\",VLOOKUP($A92,Data!$A$4:$AP$155,42,FALSE)))","v":0.5}]
[{"$f":"IF('Early Years Table'!A93=\"\",\"\",IF(ISBLANK('Early Years Table'!A93),\"\",'Early Years Table'!A93))","v":826},{"$f":"IF($A93=\"\",\"\",IF(ISBLANK($A93),\"\",INDEX('LEA Nos codes'!$A$3:$A$154,MATCH($A93,'LEA Nos codes'!$B$3:$B$154,0))))","v":"Milton Keynes"},{"$f":"IF($A93=\"\",\"\",IF(ISBLANK($A93),\"\",VLOOKUP($A93,Data!$A$4:$AP$155,40,FALSE)))","v":0.26},{"$f":"IF($A93=\"\",\"\",IF(ISBLANK($A93),\"\",VLOOKUP($A93,Data!$A$4:$AP$155,41,FALSE)))","v":0.27},{"$f":"IF($A93=\"\",\"\",IF(ISBLANK($A93),\"\",VLOOKUP($A93,Data!$A$4:$AP$155,42,FALSE)))","v":0.22}]
[{"$f":"IF('Early Years Table'!A94=\"\",\"\",IF(ISBLANK('Early Years Table'!A94),\"\",'Early Years Table'!A94))","v":391},{"$f":"IF($A94=\"\",\"\",IF(ISBLANK($A94),\"\",INDEX('LEA Nos codes'!$A$3:$A$154,MATCH($A94,'LEA Nos codes'!$B$3:$B$154,0))))","v":"Newcastle upon Tyne"},{"$f":"IF($A94=\"\",\"\",IF(ISBLANK($A94),\"\",VLOOKUP($A94,Data!$A$4:$AP$155,40,FALSE)))","v":0.32},{"$f":"IF($A94=\"\",\"\",IF(ISBLANK($A94),\"\",VLOOKUP($A94,Data!$A$4:$AP$155,41,FALSE)))","v":0.39},{"$f":"IF($A94=\"\",\"\",IF(ISBLANK($A94),\"\",VLOOKUP($A94,Data!$A$4:$AP$155,42,FALSE)))","v":0.38}]
[{"$f":"IF('Early Years Table'!A95=\"\",\"\",IF(ISBLANK('Early Years Table'!A95),\"\",'Early Years Table'!A95))","v":316},{"$f":"IF($A95=\"\",\"\",IF(ISBLANK($A95),\"\",INDEX('LEA Nos codes'!$A$3:$A$154,MATCH($A95,'LEA Nos codes'!$B$3:$B$154,0))))","v":"Newham"},{"$f":"IF($A95=\"\",\"\",IF(ISBLANK($A95),\"\",VLOOKUP($A95,Data!$A$4:$AP$155,40,FALSE)))","v":0.31},{"$f":"IF($A95=\"\",\"\",IF(ISBLANK($A95),\"\",VLOOKUP($A95,Data!$A$4:$AP$155,41,FALSE)))","v":0.33},{"$f":"IF($A95=\"\",\"\",IF(ISBLANK($A95),\"\",VLOOKUP($A95,Data!$A$4:$AP$155,42,FALSE)))","v":0.28999999999999998}]
[{"$f":"IF('Early Years Table'!A96=\"\",\"\",IF(ISBLANK('Early Years Table'!A96),\"\",'Early Years Table'!A96))","v":926},{"$f":"IF($A96=\"\",\"\",IF(ISBLANK($A96),\"\",INDEX('LEA Nos codes'!$A$3:$A$154,MATCH($A96,'LEA Nos codes'!$B$3:$B$154,0))))","v":"Norfolk"},{"$f":"IF($A96=\"\",\"\",IF(ISBLANK($A96),\"\",VLOOKUP($A96,Data!$A$4:$AP$155,40,FALSE)))","v":0.28000000000000003},{"$f":"IF($A96=\"\",\"\",IF(ISBLANK($A96),\"\",VLOOKUP($A96,Data!$A$4:$AP$155,41,FALSE)))","v":0.34},{"$f":"IF($A96=\"\",\"\",IF(ISBLANK($A96),\"\",VLOOKUP($A96,Data!$A$4:$AP$155,42,FALSE)))","v":0.31}]
[{"$f":"IF('Early Years Table'!A97=\"\",\"\",IF(ISBLANK('Early Years Table'!A97),\"\",'Early Years Table'!A97))","v":812},{"$f":"IF($A97=\"\",\"\",IF(ISBLANK($A97),\"\",INDEX('LEA Nos codes'!$A$3:$A$154,MATCH($A97,'LEA Nos codes'!$B$3:$B$154,0))))","v":"North East Lincolnshire"},{"$f":"IF($A97=\"\",\"\",IF(ISBLANK($A97),\"\",VLOOKUP($A97,Data!$A$4:$AP$155,40,FALSE)))","v":0.28999999999999998},{"$f":"IF($A97=\"\",\"\",IF(ISBLANK($A97),\"\",VLOOKUP($A97,Data!$A$4:$AP$155,41,FALSE)))","v":0.33},{"$f":"IF($A97=\"\",\"\",IF(ISBLANK($A97),\"\",VLOOKUP($A97,Data!$A$4:$AP$155,42,FALSE)))","v":0.44}]
[{"$f":"IF('Early Years Table'!A98=\"\",\"\",IF(ISBLANK('Early Years Table'!A98),\"\",'Early Years Table'!A98))","v":813},{"$f":"IF($A98=\"\",\"\",IF(ISBLANK($A98),\"\",INDEX('LEA Nos codes'!$A$3:$A$154,MATCH($A98,'LEA Nos codes'!$B$3:$B$154,0))))","v":"North Lincolnshire"},{"$f":"IF($A98=\"\",\"\",IF(ISBLANK($A98),\"\",VLOOKUP($A98,Data!$A$4:$AP$155,40,FALSE)))","v":0.21},{"$f":"IF($A98=\"\",\"\",IF(ISBLANK($A98),\"\",VLOOKUP($A98,Data!$A$4:$AP$155,41,FALSE)))","v":0.22},{"$f":"IF($A98=\"\",\"\",IF(ISBLANK($A98),\"\",VLOOKUP($A98,Data!$A$4:$AP$155,42,FALSE)))","v":0.26}]
[{"$f":"IF('Early Years Table'!A99=\"\",\"\",IF(ISBLANK('Early Years Table'!A99),\"\",'Early Years Table'!A99))","v":802},{"$f":"IF($A99=\"\",\"\",IF(ISBLANK($A99),\"\",INDEX('LEA Nos codes'!$A$3:$A$154,MATCH($A99,'LEA Nos codes'!$B$3:$B$154,0))))","v":"North Somerset"},{"$f":"IF($A99=\"\",\"\",IF(ISBLANK($A99),\"\",VLOOKUP($A99,Data!$A$4:$AP$155,40,FALSE)))","v":0.39},{"$f":"IF($A99=\"\",\"\",IF(ISBLANK($A99),\"\",VLOOKUP($A99,Data!$A$4:$AP$155,41,FALSE)))","v":0.45},{"$f":"IF($A99=\"\",\"\",IF(ISBLANK($A99),\"\",VLOOKUP($A99,Data!$A$4:$AP$155,42,FALSE)))","v":0.5}]
[{"$f":"IF('Early Years Table'!A100=\"\",\"\",IF(ISBLANK('Early Years Table'!A100),\"\",'Early Years Table'!A100))","v":392},{"$f":"IF($A100=\"\",\"\",IF(ISBLANK($A100),\"\",INDEX('LEA Nos codes'!$A$3:$A$154,MATCH($A100,'LEA Nos codes'!$B$3:$B$154,0))))","v":"North Tyneside"},{"$f":"IF($A100=\"\",\"\",IF(ISBLANK($A100),\"\",VLOOKUP($A100,Data!$A$4:$AP$155,40,FALSE)))","v":0.52},{"$f":"IF($A100=\"\",\"\",IF(ISBLANK($A100),\"\",VLOOKUP($A100,Data!$A$4:$AP$155,41,FALSE)))","v":0},{"$f":"IF($A100=\"\",\"\",IF(ISBLANK($A100),\"\",VLOOKUP($A100,Data!$A$4:$AP$155,42,FALSE)))","v":0.46}]
[{"$f":"IF('Early Years Table'!A101=\"\",\"\",IF(ISBLANK('Early Years Table'!A101),\"\",'Early Years Table'!A101))","v":815},{"$f":"IF($A101=\"\",\"\",IF(ISBLANK($A101),\"\",INDEX('LEA Nos codes'!$A$3:$A$154,MATCH($A101,'LEA Nos codes'!$B$3:$B$154,0))))","v":"North Yorkshire"},{"$f":"IF($A101=\"\",\"\",IF(ISBLANK($A101),\"\",VLOOKUP($A101,Data!$A$4:$AP$155,40,FALSE)))","v":0.37},{"$f":"IF($A101=\"\",\"\",IF(ISBLANK($A101),\"\",VLOOKUP($A101,Data!$A$4:$AP$155,41,FALSE)))","v":0.4},{"$f":"IF($A101=\"\",\"\",IF(ISBLANK($A101),\"\",VLOOKUP($A101,Data!$A$4:$AP$155,42,FALSE)))","v":0.42}]
[{"$f":"IF('Early Years Table'!A102=\"\",\"\",IF(ISBLANK('Early Years Table'!A102),\"\",'Early Years Table'!A102))","v":928},{"$f":"IF($A102=\"\",\"\",IF(ISBLANK($A102),\"\",INDEX('LEA Nos codes'!$A$3:$A$154,MATCH($A102,'LEA Nos codes'!$B$3:$B$154,0))))","v":"Northamptonshire"},{"$f":"IF($A102=\"\",\"\",IF(ISBLANK($A102),\"\",VLOOKUP($A102,Data!$A$4:$AP$155,40,FALSE)))","v":0.26},{"$f":"IF($A102=\"\",\"\",IF(ISBLANK($A102),\"\",VLOOKUP($A102,Data!$A$4:$AP$155,41,FALSE)))","v":0.3},{"$f":"IF($A102=\"\",\"\",IF(ISBLANK($A102),\"\",VLOOKUP($A102,Data!$A$4:$AP$155,42,FALSE)))","v":0.38}]
[{"$f":"IF('Early Years Table'!A103=\"\",\"\",IF(ISBLANK('Early Years Table'!A103),\"\",'Early Years Table'!A103))","v":929},{"$f":"IF($A103=\"\",\"\",IF(ISBLANK($A103),\"\",INDEX('LEA Nos codes'!$A$3:$A$154,MATCH($A103,'LEA Nos codes'!$B$3:$B$154,0))))","v":"Northumberland"},{"$f":"IF($A103=\"\",\"\",IF(ISBLANK($A103),\"\",VLOOKUP($A103,Data!$A$4:$AP$155,40,FALSE)))","v":0.42},{"$f":"IF($A103=\"\",\"\",IF(ISBLANK($A103),\"\",VLOOKUP($A103,Data!$A$4:$AP$155,41,FALSE)))","v":0.44},{"$f":"IF($A103=\"\",\"\",IF(ISBLANK($A103),\"\",VLOOKUP($A103,Data!$A$4:$AP$155,42,FALSE)))","v":0.48}]
[{"$f":"IF('Early Years Table'!A104=\"\",\"\",IF(ISBLANK('Early Years Table'!A104),\"\",'Early Years Table'!A104))","v":892},{"$f":"IF($A104=\"\",\"\",IF(ISBLANK($A104),\"\",INDEX('LEA Nos codes'!$A$3:$A$154,MATCH($A104,'LEA Nos codes'!$B$3:$B$154,0))))","v":"Nottingham"},{"$f":"IF($A104=\"\",\"\",IF(ISBLANK($A104),\"\",VLOOKUP($A104,Data!$A$4:$AP$155,40,FALSE)))","v":7.0000000000000007E-2},{"$f":"IF($A104=\"\",\"\",IF(ISBLANK($A104),\"\",VLOOKUP($A104,Data!$A$4:$AP$155,41,FALSE)))","v":0.35},{"$f":"IF($A104=\"\",\"\",IF(ISBLANK($A104),\"\",VLOOKUP($A104,Data!$A$4:$AP$155,42,FALSE)))","v":0.38}]
[{"$f":"IF('Early Years Table'!A105=\"\",\"\",IF(ISBLANK('Early Years Table'!A105),\"\",'Early Years Table'!A105))","v":891},{"$f":"IF($A105=\"\",\"\",IF(ISBLANK($A105),\"\",INDEX('LEA Nos codes'!$A$3:$A$154,MATCH($A105,'LEA Nos codes'!$B$3:$B$154,0))))","v":"Nottinghamshire"},{"$f":"IF($A105=\"\",\"\",IF(ISBLANK($A105),\"\",VLOOKUP($A105,Data!$A$4:$AP$155,40,FALSE)))","v":0.28999999999999998},{"$f":"IF($A105=\"\",\"\",IF(ISBLANK($A105),\"\",VLOOKUP($A105,Data!$A$4:$AP$155,41,FALSE)))","v":0.37},{"$f":"IF($A105=\"\",\"\",IF(ISBLANK($A105),\"\",VLOOKUP($A105,Data!$A$4:$AP$155,42,FALSE)))","v":0.36}]
[{"$f":"IF('Early Years Table'!A106=\"\",\"\",IF(ISBLANK('Early Years Table'!A106),\"\",'Early Years Table'!A106))","v":353},{"$f":"IF($A106=\"\",\"\",IF(ISBLANK($A106),\"\",INDEX('LEA Nos codes'!$A$3:$A$154,MATCH($A106,'LEA Nos codes'!$B$3:$B$154,0))))","v":"Oldham"},{"$f":"IF($A106=\"\",\"\",IF(ISBLANK($A106),\"\",VLOOKUP($A106,Data!$A$4:$AP$155,40,FALSE)))","v":0.28999999999999998},{"$f":"IF($A106=\"\",\"\",IF(ISBLANK($A106),\"\",VLOOKUP($A106,Data!$A$4:$AP$155,41,FALSE)))","v":0.28000000000000003},{"$f":"IF($A106=\"\",\"\",IF(ISBLANK($A106),\"\",VLOOKUP($A106,Data!$A$4:$AP$155,42,FALSE)))","v":0.27}]
[{"$f":"IF('Early Years Table'!A107=\"\",\"\",IF(ISBLANK('Early Years Table'!A107),\"\",'Early Years Table'!A107))","v":931},{"$f":"IF($A107=\"\",\"\",IF(ISBLANK($A107),\"\",INDEX('LEA Nos codes'!$A$3:$A$154,MATCH($A107,'LEA Nos codes'!$B$3:$B$154,0))))","v":"Oxfordshire"},{"$f":"IF($A107=\"\",\"\",IF(ISBLANK($A107),\"\",VLOOKUP($A107,Data!$A$4:$AP$155,40,FALSE)))","v":0.38},{"$f":"IF($A107=\"\",\"\",IF(ISBLANK($A107),\"\",VLOOKUP($A107,Data!$A$4:$AP$155,41,FALSE)))","v":0.45},{"$f":"IF($A107=\"\",\"\",IF(ISBLANK($A107),\"\",VLOOKUP($A107,Data!$A$4:$AP$155,42,FALSE)))","v":0.41}]
[{"$f":"IF('Early Years Table'!A108=\"\",\"\",IF(ISBLANK('Early Years Table'!A108),\"\",'Early Years Table'!A108))","v":874},{"$f":"IF($A108=\"\",\"\",IF(ISBLANK($A108),\"\",INDEX('LEA Nos codes'!$A$3:$A$154,MATCH($A108,'LEA Nos codes'!$B$3:$B$154,0))))","v":"Peterborough"},{"$f":"IF($A108=\"\",\"\",IF(ISBLANK($A108),\"\",VLOOKUP($A108,Data!$A$4:$AP$155,40,FALSE)))","v":0.3},{"$f":"IF($A108=\"\",\"\",IF(ISBLANK($A108),\"\",VLOOKUP($A108,Data!$A$4:$AP$155,41,FALSE)))","v":0.28999999999999998},{"$f":"IF($A108=\"\",\"\",IF(ISBLANK($A108),\"\",VLOOKUP($A108,Data!$A$4:$AP$155,42,FALSE)))","v":0.24}]
[{"$f":"IF('Early Years Table'!A109=\"\",\"\",IF(ISBLANK('Early Years Table'!A109),\"\",'Early Years Table'!A109))","v":879},{"$f":"IF($A109=\"\",\"\",IF(ISBLANK($A109),\"\",INDEX('LEA Nos codes'!$A$3:$A$154,MATCH($A109,'LEA Nos codes'!$B$3:$B$154,0))))","v":"Plymouth"},{"$f":"IF($A109=\"\",\"\",IF(ISBLANK($A109),\"\",VLOOKUP($A109,Data!$A$4:$AP$155,40,FALSE)))","v":0.46},{"$f":"IF($A109=\"\",\"\",IF(ISBLANK($A109),\"\",VLOOKUP($A109,Data!$A$4:$AP$155,41,FALSE)))","v":0.53},{"$f":"IF($A109=\"\",\"\",IF(ISBLANK($A109),\"\",VLOOKUP($A109,Data!$A$4:$AP$155,42,FALSE)))","v":0.61}]
[{"$f":"IF('Early Years Table'!A110=\"\",\"\",IF(ISBLANK('Early Years Table'!A110),\"\",'Early Years Table'!A110))","v":836},{"$f":"IF($A110=\"\",\"\",IF(ISBLANK($A110),\"\",INDEX('LEA Nos codes'!$A$3:$A$154,MATCH($A110,'LEA Nos codes'!$B$3:$B$154,0))))","v":"Poole"},{"$f":"IF($A110=\"\",\"\",IF(ISBLANK($A110),\"\",VLOOKUP($A110,Data!$A$4:$AP$155,40,FALSE)))","v":0.3},{"$f":"IF($A110=\"\",\"\",IF(ISBLANK($A110),\"\",VLOOKUP($A110,Data!$A$4:$AP$155,41,FALSE)))","v":0.43},{"$f":"IF($A110=\"\",\"\",IF(ISBLANK($A110),\"\",VLOOKUP($A110,Data!$A$4:$AP$155,42,FALSE)))","v":0.48}]
[{"$f":"IF('Early Years Table'!A111=\"\",\"\",IF(ISBLANK('Early Years Table'!A111),\"\",'Early Years Table'!A111))","v":851},{"$f":"IF($A111=\"\",\"\",IF(ISBLANK($A111),\"\",INDEX('LEA Nos codes'!$A$3:$A$154,MATCH($A111,'LEA Nos codes'!$B$3:$B$154,0))))","v":"Portsmouth"},{"$f":"IF($A111=\"\",\"\",IF(ISBLANK($A111),\"\",VLOOKUP($A111,Data!$A$4:$AP$155,40,FALSE)))","v":0.19},{"$f":"IF($A111=\"\",\"\",IF(ISBLANK($A111),\"\",VLOOKUP($A111,Data!$A$4:$AP$155,41,FALSE)))","v":0.24},{"$f":"IF($A111=\"\",\"\",IF(ISBLANK($A111),\"\",VLOOKUP($A111,Data!$A$4:$AP$155,42,FALSE)))","v":0.28000000000000003}]
[{"$f":"IF('Early Years Table'!A112=\"\",\"\",IF(ISBLANK('Early Years Table'!A112),\"\",'Early Years Table'!A112))","v":870},{"$f":"IF($A112=\"\",\"\",IF(ISBLANK($A112),\"\",INDEX('LEA Nos codes'!$A$3:$A$154,MATCH($A112,'LEA Nos codes'!$B$3:$B$154,0))))","v":"Reading"},{"$f":"IF($A112=\"\",\"\",IF(ISBLANK($A112),\"\",VLOOKUP($A112,Data!$A$4:$AP$155,40,FALSE)))","v":0.3},{"$f":"IF($A112=\"\",\"\",IF(ISBLANK($A112),\"\",VLOOKUP($A112,Data!$A$4:$AP$155,41,FALSE)))","v":0.37},{"$f":"IF($A112=\"\",\"\",IF(ISBLANK($A112),\"\",VLOOKUP($A112,Data!$A$4:$AP$155,42,FALSE)))","v":0.51}]
[{"$f":"IF('Early Years Table'!A113=\"\",\"\",IF(ISBLANK('Early Years Table'!A113),\"\",'Early Years Table'!A113))","v":317},{"$f":"IF($A113=\"\",\"\",IF(ISBLANK($A113),\"\",INDEX('LEA Nos codes'!$A$3:$A$154,MATCH($A113,'LEA Nos codes'!$B$3:$B$154,0))))","v":"Redbridge"},{"$f":"IF($A113=\"\",\"\",IF(ISBLANK($A113),\"\",VLOOKUP($A113,Data!$A$4:$AP$155,40,FALSE)))","v":0.37},{"$f":"IF($A113=\"\",\"\",IF(ISBLANK($A113),\"\",VLOOKUP($A113,Data!$A$4:$AP$155,41,FALSE)))","v":0.37},{"$f":"IF($A113=\"\",\"\",IF(ISBLANK($A113),\"\",VLOOKUP($A113,Data!$A$4:$AP$155,42,FALSE)))","v":0.35}]
[{"$f":"IF('Early Years Table'!A114=\"\",\"\",IF(ISBLANK('Early Years Table'!A114),\"\",'Early Years Table'!A114))","v":807},{"$f":"IF($A114=\"\",\"\",IF(ISBLANK($A114),\"\",INDEX('LEA Nos codes'!$A$3:$A$154,MATCH($A114,'LEA Nos codes'!$B$3:$B$154,0))))","v":"Redcar and Cleveland"},{"$f":"IF($A114=\"\",\"\",IF(ISBLANK($A114),\"\",VLOOKUP($A114,Data!$A$4:$AP$155,40,FALSE)))","v":0.25},{"$f":"IF($A114=\"\",\"\",IF(ISBLANK($A114),\"\",VLOOKUP($A114,Data!$A$4:$AP$155,41,FALSE)))","v":0.28999999999999998},{"$f":"IF($A114=\"\",\"\",IF(ISBLANK($A114),\"\",VLOOKUP($A114,Data!$A$4:$AP$155,42,FALSE)))","v":0.33}]
[{"$f":"IF('Early Years Table'!A115=\"\",\"\",IF(ISBLANK('Early Years Table'!A115),\"\",'Early Years Table'!A115))","v":318},{"$f":"IF($A115=\"\",\"\",IF(ISBLANK($A115),\"\",INDEX('LEA Nos codes'!$A$3:$A$154,MATCH($A115,'LEA Nos codes'!$B$3:$B$154,0))))","v":"Richmond upon Thames"},{"$f":"IF($A115=\"\",\"\",IF(ISBLANK($A115),\"\",VLOOKUP($A115,Data!$A$4:$AP$155,40,FALSE)))","v":0.55000000000000004},{"$f":"IF($A115=\"\",\"\",IF(ISBLANK($A115),\"\",VLOOKUP($A115,Data!$A$4:$AP$155,41,FALSE)))","v":0.63},{"$f":"IF($A115=\"\",\"\",IF(ISBLANK($A115),\"\",VLOOKUP($A115,Data!$A$4:$AP$155,42,FALSE)))","v":0.67}]
[{"$f":"IF('Early Years Table'!A116=\"\",\"\",IF(ISBLANK('Early Years Table'!A116),\"\",'Early Years Table'!A116))","v":354},{"$f":"IF($A116=\"\",\"\",IF(ISBLANK($A116),\"\",INDEX('LEA Nos codes'!$A$3:$A$154,MATCH($A116,'LEA Nos codes'!$B$3:$B$154,0))))","v":"Rochdale"},{"$f":"IF($A116=\"\",\"\",IF(ISBLANK($A116),\"\",VLOOKUP($A116,Data!$A$4:$AP$155,40,FALSE)))","v":0.25},{"$f":"IF($A116=\"\",\"\",IF(ISBLANK($A116),\"\",VLOOKUP($A116,Data!$A$4:$AP$155,41,FALSE)))","v":0.25},{"$f":"IF($A116=\"\",\"\",IF(ISBLANK($A116),\"\",VLOOKUP($A116,Data!$A$4:$AP$155,42,FALSE)))","v":0.27}]
[{"$f":"IF('Early Years Table'!A117=\"\",\"\",IF(ISBLANK('Early Years Table'!A117),\"\",'Early Years Table'!A117))","v":372},{"$f":"IF($A117=\"\",\"\",IF(ISBLANK($A117),\"\",INDEX('LEA Nos codes'!$A$3:$A$154,MATCH($A117,'LEA Nos codes'!$B$3:$B$154,0))))","v":"Rotherham"},{"$f":"IF($A117=\"\",\"\",IF(ISBLANK($A117),\"\",VLOOKUP($A117,Data!$A$4:$AP$155,40,FALSE)))","v":0.31},{"$f":"IF($A117=\"\",\"\",IF(ISBLANK($A117),\"\",VLOOKUP($A117,Data!$A$4:$AP$155,41,FALSE)))","v":0.33},{"$f":"IF($A117=\"\",\"\",IF(ISBLANK($A117),\"\",VLOOKUP($A117,Data!$A$4:$AP$155,42,FALSE)))","v":0.38}]
[{"$f":"IF('Early Years Table'!A118=\"\",\"\",IF(ISBLANK('Early Years Table'!A118),\"\",'Early Years Table'!A118))","v":857},{"$f":"IF($A118=\"\",\"\",IF(ISBLANK($A118),\"\",INDEX('LEA Nos codes'!$A$3:$A$154,MATCH($A118,'LEA Nos codes'!$B$3:$B$154,0))))","v":"Rutland"},{"$f":"IF($A118=\"\",\"\",IF(ISBLANK($A118),\"\",VLOOKUP($A118,Data!$A$4:$AP$155,40,FALSE)))","v":0.21},{"$f":"IF($A118=\"\",\"\",IF(ISBLANK($A118),\"\",VLOOKUP($A118,Data!$A$4:$AP$155,41,FALSE)))","v":0.17},{"$f":"IF($A118=\"\",\"\",IF(ISBLANK($A118),\"\",VLOOKUP($A118,Data!$A$4:$AP$155,42,FALSE)))","v":0.17}]
[{"$f":"IF('Early Years Table'!A119=\"\",\"\",IF(ISBLANK('Early Years Table'!A119),\"\",'Early Years Table'!A119))","v":355},{"$f":"IF($A119=\"\",\"\",IF(ISBLANK($A119),\"\",INDEX('LEA Nos codes'!$A$3:$A$154,MATCH($A119,'LEA Nos codes'!$B$3:$B$154,0))))","v":"Salford"},{"$f":"IF($A119=\"\",\"\",IF(ISBLANK($A119),\"\",VLOOKUP($A119,Data!$A$4:$AP$155,40,FALSE)))","v":0.43},{"$f":"IF($A119=\"\",\"\",IF(ISBLANK($A119),\"\",VLOOKUP($A119,Data!$A$4:$AP$155,41,FALSE)))","v":0.34},{"$f":"IF($A119=\"\",\"\",IF(ISBLANK($A119),\"\",VLOOKUP($A119,Data!$A$4:$AP$155,42,FALSE)))","v":0.35}]
[{"$f":"IF('Early Years Table'!A120=\"\",\"\",IF(ISBLANK('Early Years Table'!A120),\"\",'Early Years Table'!A120))","v":333},{"$f":"IF($A120=\"\",\"\",IF(ISBLANK($A120),\"\",INDEX('LEA Nos codes'!$A$3:$A$154,MATCH($A120,'LEA Nos codes'!$B$3:$B$154,0))))","v":"Sandwell"},{"$f":"IF($A120=\"\",\"\",IF(ISBLANK($A120),\"\",VLOOKUP($A120,Data!$A$4:$AP$155,40,FALSE)))","v":0.28999999999999998},{"$f":"IF($A120=\"\",\"\",IF(ISBLANK($A120),\"\",VLOOKUP($A120,Data!$A$4:$AP$155,41,FALSE)))","v":0.16},{"$f":"IF($A120=\"\",\"\",IF(ISBLANK($A120),\"\",VLOOKUP($A120,Data!$A$4:$AP$155,42,FALSE)))","v":0.22}]
[{"$f":"IF('Early Years Table'!A121=\"\",\"\",IF(ISBLANK('Early Years Table'!A121),\"\",'Early Years Table'!A121))","v":343},{"$f":"IF($A121=\"\",\"\",IF(ISBLANK($A121),\"\",INDEX('LEA Nos codes'!$A$3:$A$154,MATCH($A121,'LEA Nos codes'!$B$3:$B$154,0))))","v":"Sefton"},{"$f":"IF($A121=\"\",\"\",IF(ISBLANK($A121),\"\",VLOOKUP($A121,Data!$A$4:$AP$155,40,FALSE)))","v":0.39},{"$f":"IF($A121=\"\",\"\",IF(ISBLANK($A121),\"\",VLOOKUP($A121,Data!$A$4:$AP$155,41,FALSE)))","v":0.45},{"$f":"IF($A121=\"\",\"\",IF(ISBLANK($A121),\"\",VLOOKUP($A121,Data!$A$4:$AP$155,42,FALSE)))","v":0.42}]
[{"$f":"IF('Early Years Table'!A122=\"\",\"\",IF(ISBLANK('Early Years Table'!A122),\"\",'Early Years Table'!A122))","v":373},{"$f":"IF($A122=\"\",\"\",IF(ISBLANK($A122),\"\",INDEX('LEA Nos codes'!$A$3:$A$154,MATCH($A122,'LEA Nos codes'!$B$3:$B$154,0))))","v":"Sheffield"},{"$f":"IF($A122=\"\",\"\",IF(ISBLANK($A122),\"\",VLOOKUP($A122,Data!$A$4:$AP$155,40,FALSE)))","v":0.35},{"$f":"IF($A122=\"\",\"\",IF(ISBLANK($A122),\"\",VLOOKUP($A122,Data!$A$4:$AP$155,41,FALSE)))","v":0.41},{"$f":"IF($A122=\"\",\"\",IF(ISBLANK($A122),\"\",VLOOKUP($A122,Data!$A$4:$AP$155,42,FALSE)))","v":0.46}]
[{"$f":"IF('Early Years Table'!A123=\"\",\"\",IF(ISBLANK('Early Years Table'!A123),\"\",'Early Years Table'!A123))","v":893},{"$f":"IF($A123=\"\",\"\",IF(ISBLANK($A123),\"\",INDEX('LEA Nos codes'!$A$3:$A$154,MATCH($A123,'LEA Nos codes'!$B$3:$B$154,0))))","v":"Shropshire"},{"$f":"IF($A123=\"\",\"\",IF(ISBLANK($A123),\"\",VLOOKUP($A123,Data!$A$4:$AP$155,40,FALSE)))","v":0.21},{"$f":"IF($A123=\"\",\"\",IF(ISBLANK($A123),\"\",VLOOKUP($A123,Data!$A$4:$AP$155,41,FALSE)))","v":0.2},{"$f":"IF($A123=\"\",\"\",IF(ISBLANK($A123),\"\",VLOOKUP($A123,Data!$A$4:$AP$155,42,FALSE)))","v":0.21}]
[{"$f":"IF('Early Years Table'!A124=\"\",\"\",IF(ISBLANK('Early Years Table'!A124),\"\",'Early Years Table'!A124))","v":871},{"$f":"IF($A124=\"\",\"\",IF(ISBLANK($A124),\"\",INDEX('LEA Nos codes'!$A$3:$A$154,MATCH($A124,'LEA Nos codes'!$B$3:$B$154,0))))","v":"Slough"},{"$f":"IF($A124=\"\",\"\",IF(ISBLANK($A124),\"\",VLOOKUP($A124,Data!$A$4:$AP$155,40,FALSE)))","v":0.26},{"$f":"IF($A124=\"\",\"\",IF(ISBLANK($A124),\"\",VLOOKUP($A124,Data!$A$4:$AP$155,41,FALSE)))","v":0.34},{"$f":"IF($A124=\"\",\"\",IF(ISBLANK($A124),\"\",VLOOKUP($A124,Data!$A$4:$AP$155,42,FALSE)))","v":0.43}]
[{"$f":"IF('Early Years Table'!A125=\"\",\"\",IF(ISBLANK('Early Years Table'!A125),\"\",'Early Years Table'!A125))","v":334},{"$f":"IF($A125=\"\",\"\",IF(ISBLANK($A125),\"\",INDEX('LEA Nos codes'!$A$3:$A$154,MATCH($A125,'LEA Nos codes'!$B$3:$B$154,0))))","v":"Solihull"},{"$f":"IF($A125=\"\",\"\",IF(ISBLANK($A125),\"\",VLOOKUP($A125,Data!$A$4:$AP$155,40,FALSE)))","v":0.3},{"$f":"IF($A125=\"\",\"\",IF(ISBLANK($A125),\"\",VLOOKUP($A125,Data!$A$4:$AP$155,41,FALSE)))","v":0.39},{"$f":"IF($A125=\"\",\"\",IF(ISBLANK($A125),\"\",VLOOKUP($A125,Data!$A$4:$AP$155,42,FALSE)))","v":0.35}]
[{"$f":"IF('Early Years Table'!A126=\"\",\"\",IF(ISBLANK('Early Years Table'!A126),\"\",'Early Years Table'!A126))","v":933},{"$f":"IF($A126=\"\",\"\",IF(ISBLANK($A126),\"\",INDEX('LEA Nos codes'!$A$3:$A$154,MATCH($A126,'LEA Nos codes'!$B$3:$B$154,0))))","v":"Somerset"},{"$f":"IF($A126=\"\",\"\",IF(ISBLANK($A126),\"\",VLOOKUP($A126,Data!$A$4:$AP$155,40,FALSE)))","v":0.35},{"$f":"IF($A126=\"\",\"\",IF(ISBLANK($A126),\"\",VLOOKUP($A126,Data!$A$4:$AP$155,41,FALSE)))","v":0.37},{"$f":"IF($A126=\"\",\"\",IF(ISBLANK($A126),\"\",VLOOKUP($A126,Data!$A$4:$AP$155,42,FALSE)))","v":0.43}]
[{"$f":"IF('Early Years Table'!A127=\"\",\"\",IF(ISBLANK('Early Years Table'!A127),\"\",'Early Years Table'!A127))","v":803},{"$f":"IF($A127=\"\",\"\",IF(ISBLANK($A127),\"\",INDEX('LEA Nos codes'!$A$3:$A$154,MATCH($A127,'LEA Nos codes'!$B$3:$B$154,0))))","v":"South Gloucestershire"},{"$f":"IF($A127=\"\",\"\",IF(ISBLANK($A127),\"\",VLOOKUP($A127,Data!$A$4:$AP$155,40,FALSE)))","v":0.4},{"$f":"IF($A127=\"\",\"\",IF(ISBLANK($A127),\"\",VLOOKUP($A127,Data!$A$4:$AP$155,41,FALSE)))","v":0.47},{"$f":"IF($A127=\"\",\"\",IF(ISBLANK($A127),\"\",VLOOKUP($A127,Data!$A$4:$AP$155,42,FALSE)))","v":0.48}]
[{"$f":"IF('Early Years Table'!A128=\"\",\"\",IF(ISBLANK('Early Years Table'!A128),\"\",'Early Years Table'!A128))","v":393},{"$f":"IF($A128=\"\",\"\",IF(ISBLANK($A128),\"\",INDEX('LEA Nos codes'!$A$3:$A$154,MATCH($A128,'LEA Nos codes'!$B$3:$B$154,0))))","v":"South Tyneside"},{"$f":"IF($A128=\"\",\"\",IF(ISBLANK($A128),\"\",VLOOKUP($A128,Data!$A$4:$AP$155,40,FALSE)))","v":0.64},{"$f":"IF($A128=\"\",\"\",IF(ISBLANK($A128),\"\",VLOOKUP($A128,Data!$A$4:$AP$155,41,FALSE)))","v":0.56999999999999995},{"$f":"IF($A128=\"\",\"\",IF(ISBLANK($A128),\"\",VLOOKUP($A128,Data!$A$4:$AP$155,42,FALSE)))","v":0.5}]
[{"$f":"IF('Early Years Table'!A129=\"\",\"\",IF(ISBLANK('Early Years Table'!A129),\"\",'Early Years Table'!A129))","v":852},{"$f":"IF($A129=\"\",\"\",IF(ISBLANK($A129),\"\",INDEX('LEA Nos codes'!$A$3:$A$154,MATCH($A129,'LEA Nos codes'!$B$3:$B$154,0))))","v":"Southampton"},{"$f":"IF($A129=\"\",\"\",IF(ISBLANK($A129),\"\",VLOOKUP($A129,Data!$A$4:$AP$155,40,FALSE)))","v":0.25},{"$f":"IF($A129=\"\",\"\",IF(ISBLANK($A129),\"\",VLOOKUP($A129,Data!$A$4:$AP$155,41,FALSE)))","v":0.35},{"$f":"IF($A129=\"\",\"\",IF(ISBLANK($A129),\"\",VLOOKUP($A129,Data!$A$4:$AP$155,42,FALSE)))","v":0.4}]
[{"$f":"IF('Early Years Table'!A130=\"\",\"\",IF(ISBLANK('Early Years Table'!A130),\"\",'Early Years Table'!A130))","v":882},{"$f":"IF($A130=\"\",\"\",IF(ISBLANK($A130),\"\",INDEX('LEA Nos codes'!$A$3:$A$154,MATCH($A130,'LEA Nos codes'!$B$3:$B$154,0))))","v":"Southend-on-Sea"},{"$f":"IF($A130=\"\",\"\",IF(ISBLANK($A130),\"\",VLOOKUP($A130,Data!$A$4:$AP$155,40,FALSE)))","v":0.43},{"$f":"IF($A130=\"\",\"\",IF(ISBLANK($A130),\"\",VLOOKUP($A130,Data!$A$4:$AP$155,41,FALSE)))","v":0.41},{"$f":"IF($A130=\"\",\"\",IF(ISBLANK($A130),\"\",VLOOKUP($A130,Data!$A$4:$AP$155,42,FALSE)))","v":0.37}]
[{"$f":"IF('Early Years Table'!A131=\"\",\"\",IF(ISBLANK('Early Years Table'!A131),\"\",'Early Years Table'!A131))","v":210},{"$f":"IF($A131=\"\",\"\",IF(ISBLANK($A131),\"\",INDEX('LEA Nos codes'!$A$3:$A$154,MATCH($A131,'LEA Nos codes'!$B$3:$B$154,0))))","v":"Southwark"},{"$f":"IF($A131=\"\",\"\",IF(ISBLANK($A131),\"\",VLOOKUP($A131,Data!$A$4:$AP$155,40,FALSE)))","v":0.38},{"$f":"IF($A131=\"\",\"\",IF(ISBLANK($A131),\"\",VLOOKUP($A131,Data!$A$4:$AP$155,41,FALSE)))","v":0.52},{"$f":"IF($A131=\"\",\"\",IF(ISBLANK($A131),\"\",VLOOKUP($A131,Data!$A$4:$AP$155,42,FALSE)))","v":0.56000000000000005}]
[{"$f":"IF('Early Years Table'!A132=\"\",\"\",IF(ISBLANK('Early Years Table'!A132),\"\",'Early Years Table'!A132))","v":342},{"$f":"IF($A132=\"\",\"\",IF(ISBLANK($A132),\"\",INDEX('LEA Nos codes'!$A$3:$A$154,MATCH($A132,'LEA Nos codes'!$B$3:$B$154,0))))","v":"St. Helens"},{"$f":"IF($A132=\"\",\"\",IF(ISBLANK($A132),\"\",VLOOKUP($A132,Data!$A$4:$AP$155,40,FALSE)))","v":0.32},{"$f":"IF($A132=\"\",\"\",IF(ISBLANK($A132),\"\",VLOOKUP($A132,Data!$A$4:$AP$155,41,FALSE)))","v":0.37},{"$f":"IF($A132=\"\",\"\",IF(ISBLANK($A132),\"\",VLOOKUP($A132,Data!$A$4:$AP$155,42,FALSE)))","v":0.37}]
[{"$f":"IF('Early Years Table'!A133=\"\",\"\",IF(ISBLANK('Early Years Table'!A133),\"\",'Early Years Table'!A133))","v":860},{"$f":"IF($A133=\"\",\"\",IF(ISBLANK($A133),\"\",INDEX('LEA Nos codes'!$A$3:$A$154,MATCH($A133,'LEA Nos codes'!$B$3:$B$154,0))))","v":"Staffordshire"},{"$f":"IF($A133=\"\",\"\",IF(ISBLANK($A133),\"\",VLOOKUP($A133,Data!$A$4:$AP$155,40,FALSE)))","v":0.14000000000000001},{"$f":"IF($A133=\"\",\"\",IF(ISBLANK($A133),\"\",VLOOKUP($A133,Data!$A$4:$AP$155,41,FALSE)))","v":0.36},{"$f":"IF($A133=\"\",\"\",IF(ISBLANK($A133),\"\",VLOOKUP($A133,Data!$A$4:$AP$155,42,FALSE)))","v":0.38}]
[{"$f":"IF('Early Years Table'!A134=\"\",\"\",IF(ISBLANK('Early Years Table'!A134),\"\",'Early Years Table'!A134))","v":356},{"$f":"IF($A134=\"\",\"\",IF(ISBLANK($A134),\"\",INDEX('LEA Nos codes'!$A$3:$A$154,MATCH($A134,'LEA Nos codes'!$B$3:$B$154,0))))","v":"Stockport"},{"$f":"IF($A134=\"\",\"\",IF(ISBLANK($A134),\"\",VLOOKUP($A134,Data!$A$4:$AP$155,40,FALSE)))","v":0.45},{"$f":"IF($A134=\"\",\"\",IF(ISBLANK($A134),\"\",VLOOKUP($A134,Data!$A$4:$AP$155,41,FALSE)))","v":0.48},{"$f":"IF($A134=\"\",\"\",IF(ISBLANK($A134),\"\",VLOOKUP($A134,Data!$A$4:$AP$155,42,FALSE)))","v":0.48}]
[{"$f":"IF('Early Years Table'!A135=\"\",\"\",IF(ISBLANK('Early Years Table'!A135),\"\",'Early Years Table'!A135))","v":808},{"$f":"IF($A135=\"\",\"\",IF(ISBLANK($A135),\"\",INDEX('LEA Nos codes'!$A$3:$A$154,MATCH($A135,'LEA Nos codes'!$B$3:$B$154,0))))","v":"Stockton-on-Tees"},{"$f":"IF($A135=\"\",\"\",IF(ISBLANK($A135),\"\",VLOOKUP($A135,Data!$A$4:$AP$155,40,FALSE)))","v":0.21},{"$f":"IF($A135=\"\",\"\",IF(ISBLANK($A135),\"\",VLOOKUP($A135,Data!$A$4:$AP$155,41,FALSE)))","v":0.24},{"$f":"IF($A135=\"\",\"\",IF(ISBLANK($A135),\"\",VLOOKUP($A135,Data!$A$4:$AP$155,42,FALSE)))","v":0.32}]
[{"$f":"IF('Early Years Table'!A136=\"\",\"\",IF(ISBLANK('Early Years Table'!A136),\"\",'Early Years Table'!A136))","v":861},{"$f":"IF($A136=\"\",\"\",IF(ISBLANK($A136),\"\",INDEX('LEA Nos codes'!$A$3:$A$154,MATCH($A136,'LEA Nos codes'!$B$3:$B$154,0))))","v":"Stoke-on-Trent"},{"$f":"IF($A136=\"\",\"\",IF(ISBLANK($A136),\"\",VLOOKUP($A136,Data!$A$4:$AP$155,40,FALSE)))","v":0.19},{"$f":"IF($A136=\"\",\"\",IF(ISBLANK($A136),\"\",VLOOKUP($A136,Data!$A$4:$AP$155,41,FALSE)))","v":0.15},{"$f":"IF($A136=\"\",\"\",IF(ISBLANK($A136),\"\",VLOOKUP($A136,Data!$A$4:$AP$155,42,FALSE)))","v":0.18}]
[{"$f":"IF('Early Years Table'!A137=\"\",\"\",IF(ISBLANK('Early Years Table'!A137),\"\",'Early Years Table'!A137))","v":935},{"$f":"IF($A137=\"\",\"\",IF(ISBLANK($A137),\"\",INDEX('LEA Nos codes'!$A$3:$A$154,MATCH($A137,'LEA Nos codes'!$B$3:$B$154,0))))","v":"Suffolk"},{"$f":"IF($A137=\"\",\"\",IF(ISBLANK($A137),\"\",VLOOKUP($A137,Data!$A$4:$AP$155,40,FALSE)))","v":0.32},{"$f":"IF($A137=\"\",\"\",IF(ISBLANK($A137),\"\",VLOOKUP($A137,Data!$A$4:$AP$155,41,FALSE)))","v":0.33},{"$f":"IF($A137=\"\",\"\",IF(ISBLANK($A137),\"\",VLOOKUP($A137,Data!$A$4:$AP$155,42,FALSE)))","v":0.38}]
[{"$f":"IF('Early Years Table'!A138=\"\",\"\",IF(ISBLANK('Early Years Table'!A138),\"\",'Early Years Table'!A138))","v":394},{"$f":"IF($A138=\"\",\"\",IF(ISBLANK($A138),\"\",INDEX('LEA Nos codes'!$A$3:$A$154,MATCH($A138,'LEA Nos codes'!$B$3:$B$154,0))))","v":"Sunderland"},{"$f":"IF($A138=\"\",\"\",IF(ISBLANK($A138),\"\",VLOOKUP($A138,Data!$A$4:$AP$155,40,FALSE)))","v":0.52},{"$f":"IF($A138=\"\",\"\",IF(ISBLANK($A138),\"\",VLOOKUP($A138,Data!$A$4:$AP$155,41,FALSE)))","v":0.74},{"$f":"IF($A138=\"\",\"\",IF(ISBLANK($A138),\"\",VLOOKUP($A138,Data!$A$4:$AP$155,42,FALSE)))","v":0.71}]
[{"$f":"IF('Early Years Table'!A139=\"\",\"\",IF(ISBLANK('Early Years Table'!A139),\"\",'Early Years Table'!A139))","v":936},{"$f":"IF($A139=\"\",\"\",IF(ISBLANK($A139),\"\",INDEX('LEA Nos codes'!$A$3:$A$154,MATCH($A139,'LEA Nos codes'!$B$3:$B$154,0))))","v":"Surrey"},{"$f":"IF($A139=\"\",\"\",IF(ISBLANK($A139),\"\",VLOOKUP($A139,Data!$A$4:$AP$155,40,FALSE)))","v":0.4},{"$f":"IF($A139=\"\",\"\",IF(ISBLANK($A139),\"\",VLOOKUP($A139,Data!$A$4:$AP$155,41,FALSE)))","v":0.42},{"$f":"IF($A139=\"\",\"\",IF(ISBLANK($A139),\"\",VLOOKUP($A139,Data!$A$4:$AP$155,42,FALSE)))","v":0.44}]
[{"$f":"IF('Early Years Table'!A140=\"\",\"\",IF(ISBLANK('Early Years Table'!A140),\"\",'Early Years Table'!A140))","v":319},{"$f":"IF($A140=\"\",\"\",IF(ISBLANK($A140),\"\",INDEX('LEA Nos codes'!$A$3:$A$154,MATCH($A140,'LEA Nos codes'!$B$3:$B$154,0))))","v":"Sutton"},{"$f":"IF($A140=\"\",\"\",IF(ISBLANK($A140),\"\",VLOOKUP($A140,Data!$A$4:$AP$155,40,FALSE)))","v":0.24},{"$f":"IF($A140=\"\",\"\",IF(ISBLANK($A140),\"\",VLOOKUP($A140,Data!$A$4:$AP$155,41,FALSE)))","v":0.24},{"$f":"IF($A140=\"\",\"\",IF(ISBLANK($A140),\"\",VLOOKUP($A140,Data!$A$4:$AP$155,42,FALSE)))","v":0.27}]
[{"$f":"IF('Early Years Table'!A141=\"\",\"\",IF(ISBLANK('Early Years Table'!A141),\"\",'Early Years Table'!A141))","v":866},{"$f":"IF($A141=\"\",\"\",IF(ISBLANK($A141),\"\",INDEX('LEA Nos codes'!$A$3:$A$154,MATCH($A141,'LEA Nos codes'!$B$3:$B$154,0))))","v":"Swindon"},{"$f":"IF($A141=\"\",\"\",IF(ISBLANK($A141),\"\",VLOOKUP($A141,Data!$A$4:$AP$155,40,FALSE)))","v":0.18},{"$f":"IF($A141=\"\",\"\",IF(ISBLANK($A141),\"\",VLOOKUP($A141,Data!$A$4:$AP$155,41,FALSE)))","v":0.33},{"$f":"IF($A141=\"\",\"\",IF(ISBLANK($A141),\"\",VLOOKUP($A141,Data!$A$4:$AP$155,42,FALSE)))","v":0.28000000000000003}]
[{"$f":"IF('Early Years Table'!A142=\"\",\"\",IF(ISBLANK('Early Years Table'!A142),\"\",'Early Years Table'!A142))","v":357},{"$f":"IF($A142=\"\",\"\",IF(ISBLANK($A142),\"\",INDEX('LEA Nos codes'!$A$3:$A$154,MATCH($A142,'LEA Nos codes'!$B$3:$B$154,0))))","v":"Tameside"},{"$f":"IF($A142=\"\",\"\",IF(ISBLANK($A142),\"\",VLOOKUP($A142,Data!$A$4:$AP$155,40,FALSE)))","v":0.2},{"$f":"IF($A142=\"\",\"\",IF(ISBLANK($A142),\"\",VLOOKUP($A142,Data!$A$4:$AP$155,41,FALSE)))","v":0.15},{"$f":"IF($A142=\"\",\"\",IF(ISBLANK($A142),\"\",VLOOKUP($A142,Data!$A$4:$AP$155,42,FALSE)))","v":0.39}]
[{"$f":"IF('Early Years Table'!A143=\"\",\"\",IF(ISBLANK('Early Years Table'!A143),\"\",'Early Years Table'!A143))","v":894},{"$f":"IF($A143=\"\",\"\",IF(ISBLANK($A143),\"\",INDEX('LEA Nos codes'!$A$3:$A$154,MATCH($A143,'LEA Nos codes'!$B$3:$B$154,0))))","v":"Telford & Wrekin"},{"$f":"IF($A143=\"\",\"\",IF(ISBLANK($A143),\"\",VLOOKUP($A143,Data!$A$4:$AP$155,40,FALSE)))","v":0.31},{"$f":"IF($A143=\"\",\"\",IF(ISBLANK($A143),\"\",VLOOKUP($A143,Data!$A$4:$AP$155,41,FALSE)))","v":0.43},{"$f":"IF($A143=\"\",\"\",IF(ISBLANK($A143),\"\",VLOOKUP($A143,Data!$A$4:$AP$155,42,FALSE)))","v":0.38}]
[{"$f":"IF('Early Years Table'!A144=\"\",\"\",IF(ISBLANK('Early Years Table'!A144),\"\",'Early Years Table'!A144))","v":883},{"$f":"IF($A144=\"\",\"\",IF(ISBLANK($A144),\"\",INDEX('LEA Nos codes'!$A$3:$A$154,MATCH($A144,'LEA Nos codes'!$B$3:$B$154,0))))","v":"Thurrock"},{"$f":"IF($A144=\"\",\"\",IF(ISBLANK($A144),\"\",VLOOKUP($A144,Data!$A$4:$AP$155,40,FALSE)))","v":0.06},{"$f":"IF($A144=\"\",\"\",IF(ISBLANK($A144),\"\",VLOOKUP($A144,Data!$A$4:$AP$155,41,FALSE)))","v":0.13},{"$f":"IF($A144=\"\",\"\",IF(ISBLANK($A144),\"\",VLOOKUP($A144,Data!$A$4:$AP$155,42,FALSE)))","v":0.17}]
[{"$f":"IF('Early Years Table'!A145=\"\",\"\",IF(ISBLANK('Early Years Table'!A145),\"\",'Early Years Table'!A145))","v":880},{"$f":"IF($A145=\"\",\"\",IF(ISBLANK($A145),\"\",INDEX('LEA Nos codes'!$A$3:$A$154,MATCH($A145,'LEA Nos codes'!$B$3:$B$154,0))))","v":"Torbay"},{"$f":"IF($A145=\"\",\"\",IF(ISBLANK($A145),\"\",VLOOKUP($A145,Data!$A$4:$AP$155,40,FALSE)))","v":0.42},{"$f":"IF($A145=\"\",\"\",IF(ISBLANK($A145),\"\",VLOOKUP($A145,Data!$A$4:$AP$155,41,FALSE)))","v":0.38},{"$f":"IF($A145=\"\",\"\",IF(ISBLANK($A145),\"\",VLOOKUP($A145,Data!$A$4:$AP$155,42,FALSE)))","v":0.41}]
[{"$f":"IF('Early Years Table'!A146=\"\",\"\",IF(ISBLANK('Early Years Table'!A146),\"\",'Early Years Table'!A146))","v":211},{"$f":"IF($A146=\"\",\"\",IF(ISBLANK($A146),\"\",INDEX('LEA Nos codes'!$A$3:$A$154,MATCH($A146,'LEA Nos codes'!$B$3:$B$154,0))))","v":"Tower Hamlets"},{"$f":"IF($A146=\"\",\"\",IF(ISBLANK($A146),\"\",VLOOKUP($A146,Data!$A$4:$AP$155,40,FALSE)))","v":0.28999999999999998},{"$f":"IF($A146=\"\",\"\",IF(ISBLANK($A146),\"\",VLOOKUP($A146,Data!$A$4:$AP$155,41,FALSE)))","v":0.3},{"$f":"IF($A146=\"\",\"\",IF(ISBLANK($A146),\"\",VLOOKUP($A146,Data!$A$4:$AP$155,42,FALSE)))","v":0.28000000000000003}]
[{"$f":"IF('Early Years Table'!A147=\"\",\"\",IF(ISBLANK('Early Years Table'!A147),\"\",'Early Years Table'!A147))","v":358},{"$f":"IF($A147=\"\",\"\",IF(ISBLANK($A147),\"\",INDEX('LEA Nos codes'!$A$3:$A$154,MATCH($A147,'LEA Nos codes'!$B$3:$B$154,0))))","v":"Trafford"},{"$f":"IF($A147=\"\",\"\",IF(ISBLANK($A147),\"\",VLOOKUP($A147,Data!$A$4:$AP$155,40,FALSE)))","v":0.47},{"$f":"IF($A147=\"\",\"\",IF(ISBLANK($A147),\"\",VLOOKUP($A147,Data!$A$4:$AP$155,41,FALSE)))","v":0.5},{"$f":"IF($A147=\"\",\"\",IF(ISBLANK($A147),\"\",VLOOKUP($A147,Data!$A$4:$AP$155,42,FALSE)))","v":0.49}]
[{"$f":"IF('Early Years Table'!A148=\"\",\"\",IF(ISBLANK('Early Years Table'!A148),\"\",'Early Years Table'!A148))","v":384},{"$f":"IF($A148=\"\",\"\",IF(ISBLANK($A148),\"\",INDEX('LEA Nos codes'!$A$3:$A$154,MATCH($A148,'LEA Nos codes'!$B$3:$B$154,0))))","v":"Wakefield"},{"$f":"IF($A148=\"\",\"\",IF(ISBLANK($A148),\"\",VLOOKUP($A148,Data!$A$4:$AP$155,40,FALSE)))","v":0.28000000000000003},{"$f":"IF($A148=\"\",\"\",IF(ISBLANK($A148),\"\",VLOOKUP($A148,Data!$A$4:$AP$155,41,FALSE)))","v":0.33},{"$f":"IF($A148=\"\",\"\",IF(ISBLANK($A148),\"\",VLOOKUP($A148,Data!$A$4:$AP$155,42,FALSE)))","v":0.44}]
[{"$f":"IF('Early Years Table'!A149=\"\",\"\",IF(ISBLANK('Early Years Table'!A149),\"\",'Early Years Table'!A149))","v":335},{"$f":"IF($A149=\"\",\"\",IF(ISBLANK($A149),\"\",INDEX('LEA Nos codes'!$A$3:$A$154,MATCH($A149,'LEA Nos codes'!$B$3:$B$154,0))))","v":"Walsall"},{"$f":"IF($A149=\"\",\"\",IF(ISBLANK($A149),\"\",VLOOKUP($A149,Data!$A$4:$AP$155,40,FALSE)))","v":0.4},{"$f":"IF($A149=\"\",\"\",IF(ISBLANK($A149),\"\",VLOOKUP($A149,Data!$A$4:$AP$155,41,FALSE)))","v":0.54},{"$f":"IF($A149=\"\",\"\",IF(ISBLANK($A149),\"\",VLOOKUP($A149,Data!$A$4:$AP$155,42,FALSE)))","v":0.42}]
[{"$f":"IF('Early Years Table'!A150=\"\",\"\",IF(ISBLANK('Early Years Table'!A150),\"\",'Early Years Table'!A150))","v":320},{"$f":"IF($A150=\"\",\"\",IF(ISBLANK($A150),\"\",INDEX('LEA Nos codes'!$A$3:$A$154,MATCH($A150,'LEA Nos codes'!$B$3:$B$154,0))))","v":"Waltham Forest"},{"$f":"IF($A150=\"\",\"\",IF(ISBLANK($A150),\"\",VLOOKUP($A150,Data!$A$4:$AP$155,40,FALSE)))","v":0.32},{"$f":"IF($A150=\"\",\"\",IF(ISBLANK($A150),\"\",VLOOKUP($A150,Data!$A$4:$AP$155,41,FALSE)))","v":0.46},{"$f":"IF($A150=\"\",\"\",IF(ISBLANK($A150),\"\",VLOOKUP($A150,Data!$A$4:$AP$155,42,FALSE)))","v":0.45}]
[{"$f":"IF('Early Years Table'!A151=\"\",\"\",IF(ISBLANK('Early Years Table'!A151),\"\",'Early Years Table'!A151))","v":212},{"$f":"IF($A151=\"\",\"\",IF(ISBLANK($A151),\"\",INDEX('LEA Nos codes'!$A$3:$A$154,MATCH($A151,'LEA Nos codes'!$B$3:$B$154,0))))","v":"Wandsworth"},{"$f":"IF($A151=\"\",\"\",IF(ISBLANK($A151),\"\",VLOOKUP($A151,Data!$A$4:$AP$155,40,FALSE)))","v":0.56000000000000005},{"$f":"IF($A151=\"\",\"\",IF(ISBLANK($A151),\"\",VLOOKUP($A151,Data!$A$4:$AP$155,41,FALSE)))","v":0.54},{"$f":"IF($A151=\"\",\"\",IF(ISBLANK($A151),\"\",VLOOKUP($A151,Data!$A$4:$AP$155,42,FALSE)))","v":0.62}]
[{"$f":"IF('Early Years Table'!A152=\"\",\"\",IF(ISBLANK('Early Years Table'!A152),\"\",'Early Years Table'!A152))","v":877},{"$f":"IF($A152=\"\",\"\",IF(ISBLANK($A152),\"\",INDEX('LEA Nos codes'!$A$3:$A$154,MATCH($A152,'LEA Nos codes'!$B$3:$B$154,0))))","v":"Warrington"},{"$f":"IF($A152=\"\",\"\",IF(ISBLANK($A152),\"\",VLOOKUP($A152,Data!$A$4:$AP$155,40,FALSE)))","v":0.35},{"$f":"IF($A152=\"\",\"\",IF(ISBLANK($A152),\"\",VLOOKUP($A152,Data!$A$4:$AP$155,41,FALSE)))","v":0.41},{"$f":"IF($A152=\"\",\"\",IF(ISBLANK($A152),\"\",VLOOKUP($A152,Data!$A$4:$AP$155,42,FALSE)))","v":0.38}]
[{"$f":"IF('Early Years Table'!A153=\"\",\"\",IF(ISBLANK('Early Years Table'!A153),\"\",'Early Years Table'!A153))","v":937},{"$f":"IF($A153=\"\",\"\",IF(ISBLANK($A153),\"\",INDEX('LEA Nos codes'!$A$3:$A$154,MATCH($A153,'LEA Nos codes'!$B$3:$B$154,0))))","v":"Warwickshire"},{"$f":"IF($A153=\"\",\"\",IF(ISBLANK($A153),\"\",VLOOKUP($A153,Data!$A$4:$AP$155,40,FALSE)))","v":0.35},{"$f":"IF($A153=\"\",\"\",IF(ISBLANK($A153),\"\",VLOOKUP($A153,Data!$A$4:$AP$155,41,FALSE)))","v":0.39},{"$f":"IF($A153=\"\",\"\",IF(ISBLANK($A153),\"\",VLOOKUP($A153,Data!$A$4:$AP$155,42,FALSE)))","v":0.39}]
[{"$f":"IF('Early Years Table'!A154=\"\",\"\",IF(ISBLANK('Early Years Table'!A154),\"\",'Early Years Table'!A154))","v":869},{"$f":"IF($A154=\"\",\"\",IF(ISBLANK($A154),\"\",INDEX('LEA Nos codes'!$A$3:$A$154,MATCH($A154,'LEA Nos codes'!$B$3:$B$154,0))))","v":"West Berkshire"},{"$f":"IF($A154=\"\",\"\",IF(ISBLANK($A154),\"\",VLOOKUP($A154,Data!$A$4:$AP$155,40,FALSE)))","v":0.28999999999999998},{"$f":"IF($A154=\"\",\"\",IF(ISBLANK($A154),\"\",VLOOKUP($A154,Data!$A$4:$AP$155,41,FALSE)))","v":0.3},{"$f":"IF($A154=\"\",\"\",IF(ISBLANK($A154),\"\",VLOOKUP($A154,Data!$A$4:$AP$155,42,FALSE)))","v":0.36}]
[{"$f":"IF('Early Years Table'!A155=\"\",\"\",IF(ISBLANK('Early Years Table'!A155),\"\",'Early Years Table'!A155))","v":938},{"$f":"IF($A155=\"\",\"\",IF(ISBLANK($A155),\"\",INDEX('LEA Nos codes'!$A$3:$A$154,MATCH($A155,'LEA Nos codes'!$B$3:$B$154,0))))","v":"West Sussex"},{"$f":"IF($A155=\"\",\"\",IF(ISBLANK($A155),\"\",VLOOKUP($A155,Data!$A$4:$AP$155,40,FALSE)))","v":0.35},{"$f":"IF($A155=\"\",\"\",IF(ISBLANK($A155),\"\",VLOOKUP($A155,Data!$A$4:$AP$155,41,FALSE)))","v":0.4},{"$f":"IF($A155=\"\",\"\",IF(ISBLANK($A155),\"\",VLOOKUP($A155,Data!$A$4:$AP$155,42,FALSE)))","v":0.42}]
[{"$f":"IF('Early Years Table'!A156=\"\",\"\",IF(ISBLANK('Early Years Table'!A156),\"\",'Early Years Table'!A156))","v":213},{"$f":"IF($A156=\"\",\"\",IF(ISBLANK($A156),\"\",INDEX('LEA Nos codes'!$A$3:$A$154,MATCH($A156,'LEA Nos codes'!$B$3:$B$154,0))))","v":"Westminster"},{"$f":"IF($A156=\"\",\"\",IF(ISBLANK($A156),\"\",VLOOKUP($A156,Data!$A$4:$AP$155,40,FALSE)))","v":0.36},{"$f":"IF($A156=\"\",\"\",IF(ISBLANK($A156),\"\",VLOOKUP($A156,Data!$A$4:$AP$155,41,FALSE)))","v":0.41},{"$f":"IF($A156=\"\",\"\",IF(ISBLANK($A156),\"\",VLOOKUP($A156,Data!$A$4:$AP$155,42,FALSE)))","v":0.35}]
[{"$f":"IF('Early Years Table'!A157=\"\",\"\",IF(ISBLANK('Early Years Table'!A157),\"\",'Early Years Table'!A157))","v":359},{"$f":"IF($A157=\"\",\"\",IF(ISBLANK($A157),\"\",INDEX('LEA Nos codes'!$A$3:$A$154,MATCH($A157,'LEA Nos codes'!$B$3:$B$154,0))))","v":"Wigan"},{"$f":"IF($A157=\"\",\"\",IF(ISBLANK($A157),\"\",VLOOKUP($A157,Data!$A$4:$AP$155,40,FALSE)))","v":0.18},{"$f":"IF($A157=\"\",\"\",IF(ISBLANK($A157),\"\",VLOOKUP($A157,Data!$A$4:$AP$155,41,FALSE)))","v":0.18},{"$f":"IF($A157=\"\",\"\",IF(ISBLANK($A157),\"\",VLOOKUP($A157,Data!$A$4:$AP$155,42,FALSE)))","v":0.05}]
[{"$f":"IF('Early Years Table'!A158=\"\",\"\",IF(ISBLANK('Early Years Table'!A158),\"\",'Early Years Table'!A158))","v":865},{"$f":"IF($A158=\"\",\"\",IF(ISBLANK($A158),\"\",INDEX('LEA Nos codes'!$A$3:$A$154,MATCH($A158,'LEA Nos codes'!$B$3:$B$154,0))))","v":"Wiltshire"},{"$f":"IF($A158=\"\",\"\",IF(ISBLANK($A158),\"\",VLOOKUP($A158,Data!$A$4:$AP$155,40,FALSE)))","v":0.38},{"$f":"IF($A158=\"\",\"\",IF(ISBLANK($A158),\"\",VLOOKUP($A158,Data!$A$4:$AP$155,41,FALSE)))","v":0.45},{"$f":"IF($A158=\"\",\"\",IF(ISBLANK($A158),\"\",VLOOKUP($A158,Data!$A$4:$AP$155,42,FALSE)))","v":0.48}]
[{"$f":"IF('Early Years Table'!A159=\"\",\"\",IF(ISBLANK('Early Years Table'!A159),\"\",'Early Years Table'!A159))","v":868},{"$f":"IF($A159=\"\",\"\",IF(ISBLANK($A159),\"\",INDEX('LEA Nos codes'!$A$3:$A$154,MATCH($A159,'LEA Nos codes'!$B$3:$B$154,0))))","v":"Windsor and Maidenhead"},{"$f":"IF($A159=\"\",\"\",IF(ISBLANK($A159),\"\",VLOOKUP($A159,Data!$A$4:$AP$155,40,FALSE)))","v":0.49},{"$f":"IF($A159=\"\",\"\",IF(ISBLANK($A159),\"\",VLOOKUP($A159,Data!$A$4:$AP$155,41,FALSE)))","v":0.43},{"$f":"IF($A159=\"\",\"\",IF(ISBLANK($A159),\"\",VLOOKUP($A159,Data!$A$4:$AP$155,42,FALSE)))","v":0.45}]
[{"$f":"IF('Early Years Table'!A160=\"\",\"\",IF(ISBLANK('Early Years Table'!A160),\"\",'Early Years Table'!A160))","v":344},{"$f":"IF($A160=\"\",\"\",IF(ISBLANK($A160),\"\",INDEX('LEA Nos codes'!$A$3:$A$154,MATCH($A160,'LEA Nos codes'!$B$3:$B$154,0))))","v":"Wirral"},{"$f":"IF($A160=\"\",\"\",IF(ISBLANK($A160),\"\",VLOOKUP($A160,Data!$A$4:$AP$155,40,FALSE)))","v":0.48},{"$f":"IF($A160=\"\",\"\",IF(ISBLANK($A160),\"\",VLOOKUP($A160,Data!$A$4:$AP$155,41,FALSE)))","v":0.47},{"$f":"IF($A160=\"\",\"\",IF(ISBLANK($A160),\"\",VLOOKUP($A160,Data!$A$4:$AP$155,42,FALSE)))","v":0.53}]
[{"$f":"IF('Early Years Table'!A161=\"\",\"\",IF(ISBLANK('Early Years Table'!A161),\"\",'Early Years Table'!A161))","v":872},{"$f":"IF($A161=\"\",\"\",IF(ISBLANK($A161),\"\",INDEX('LEA Nos codes'!$A$3:$A$154,MATCH($A161,'LEA Nos codes'!$B$3:$B$154,0))))","v":"Wokingham"},{"$f":"IF($A161=\"\",\"\",IF(ISBLANK($A161),\"\",VLOOKUP($A161,Data!$A$4:$AP$155,40,FALSE)))","v":0.4},{"$f":"IF($A161=\"\",\"\",IF(ISBLANK($A161),\"\",VLOOKUP($A161,Data!$A$4:$AP$155,41,FALSE)))","v":0.5},{"$f":"IF($A161=\"\",\"\",IF(ISBLANK($A161),\"\",VLOOKUP($A161,Data!$A$4:$AP$155,42,FALSE)))","v":0.56999999999999995}]
[{"$f":"IF('Early Years Table'!A162=\"\",\"\",IF(ISBLANK('Early Years Table'!A162),\"\",'Early Years Table'!A162))","v":336},{"$f":"IF($A162=\"\",\"\",IF(ISBLANK($A162),\"\",INDEX('LEA Nos codes'!$A$3:$A$154,MATCH($A162,'LEA Nos codes'!$B$3:$B$154,0))))","v":"Wolverhampton"},{"$f":"IF($A162=\"\",\"\",IF(ISBLANK($A162),\"\",VLOOKUP($A162,Data!$A$4:$AP$155,40,FALSE)))","v":0.33},{"$f":"IF($A162=\"\",\"\",IF(ISBLANK($A162),\"\",VLOOKUP($A162,Data!$A$4:$AP$155,41,FALSE)))","v":0.42},{"$f":"IF($A162=\"\",\"\",IF(ISBLANK($A162),\"\",VLOOKUP($A162,Data!$A$4:$AP$155,42,FALSE)))","v":0.44}]
[{"$f":"IF('Early Years Table'!A163=\"\",\"\",IF(ISBLANK('Early Years Table'!A163),\"\",'Early Years Table'!A163))","v":885},{"$f":"IF($A163=\"\",\"\",IF(ISBLANK($A163),\"\",INDEX('LEA Nos codes'!$A$3:$A$154,MATCH($A163,'LEA Nos codes'!$B$3:$B$154,0))))","v":"Worcestershire"},{"$f":"IF($A163=\"\",\"\",IF(ISBLANK($A163),\"\",VLOOKUP($A163,Data!$A$4:$AP$155,40,FALSE)))","v":0.43},{"$f":"IF($A163=\"\",\"\",IF(ISBLANK($A163),\"\",VLOOKUP($A163,Data!$A$4:$AP$155,41,FALSE)))","v":0.39},{"$f":"IF($A163=\"\",\"\",IF(ISBLANK($A163),\"\",VLOOKUP($A163,Data!$A$4:$AP$155,42,FALSE)))","v":0.46}]
[{"$f":"IF('Early Years Table'!A164=\"\",\"\",IF(ISBLANK('Early Years Table'!A164),\"\",'Early Years Table'!A164))","v":816},{"$f":"IF($A164=\"\",\"\",IF(ISBLANK($A164),\"\",INDEX('LEA Nos codes'!$A$3:$A$154,MATCH($A164,'LEA Nos codes'!$B$3:$B$154,0))))","v":"York"},{"$f":"IF($A164=\"\",\"\",IF(ISBLANK($A164),\"\",VLOOKUP($A164,Data!$A$4:$AP$155,40,FALSE)))","v":0.36},{"$f":"IF($A164=\"\",\"\",IF(ISBLANK($A164),\"\",VLOOKUP($A164,Data!$A$4:$AP$155,41,FALSE)))","v":0.4},{"$f":"IF($A164=\"\",\"\",IF(ISBLANK($A164),\"\",VLOOKUP($A164,Data!$A$4:$AP$155,42,FALSE)))","v":0.4}]
[]
[]
["Source: DfE: Provision for Children Under Five Years of Age in England - January 2013"]
["https://www.gov.uk/government/publications/provision-for-children-under-5-years-of-age-in-england-january-2013"]
[]
["1.  Includes Day nurseries, Playgroups or pre-schools, Nurseries, Family/Combined/Integrated Centres, Sure Start Children's Centres, Local authority day nurseries, Childminder networks and Other providers."]
["2. Qualified teacher status (QTS) is the accreditation that enables you to teach in state-maintained and special schools in England and Wales."]
["3. Early Years Professional Status (EYPS) is a professional accreditation endorsed by the government for graduate practitioners who have demonstrated a set of professional standards."]
["4. Gloucestershire provided data showing no providers with staff with QTS/EYPS. This may be a reporting error."]

{"sheet":"Qualifications ","index":13,"n_rows":173,"n_cols":15,"rows_kept":173,"cut":false,"hidden":true,"merged":[[167,0,167,8]]}
["Early Years Benchmarking - Qualifications",null,null,null,null,null,null,null,null,null,null,null,null,null,"Return to contents"]
["Percentage of private, voluntary and independent1 providers with staff with QTS2/EYPS3 who work directly with three and four year olds",null,null,null,null,null,null,null,null,null,null,null,null,null,"Return to instructions"]
["All LAs"]
[]
[null,null,2011,2012,2013]
["England - Average (mean) or Total",null,0.34,0.38,0.39]
["England - Average (median)",null,0.35,0.38,0.39500000000000002]
["England - Minimum",null,0,0,0]
["England - Maximum",null,0.72,0.74,0.73]
["Selection - Average (median)",null,0.35,0.38,0.39500000000000002]
["Selection - Minimum",null,0,0,0]
["Selection - Maximum",null,0.72,0.74,0.73]
[301,"Barking and Dagenham",0.1,0.31,0.34]
[302,"Barnet",0.4,0.43,0.49]
[370,"Barnsley",0.47,0.46,0.47]
[800,"Bath & North East Somerset",0.49,0.56999999999999995,0.62]
[822,"Bedford Borough",0.28000000000000003,0.28999999999999998,0.28999999999999998]
[303,"Bexley",0.3,0.34,0.4]
[330,"Birmingham",0.31,0.28000000000000003,0.3]
[889,"Blackburn with Darwen",0.52,0.59,0.61]
[890,"Blackpool",0.36,0.43,0.36]
[350,"Bolton",0.31,0.45,0.37]
[837,"Bournemouth",0.33,0.38,0.43]
[867,"Bracknell Forest",0.28999999999999998,0.28999999999999998,0.27]
[380,"Bradford",0.39,0.42,0.46]
[304,"Brent",0.45,0.53,0.54]
[846,"Brighton and Hove",0.52,0.52,0.59]
[305,"Bromley",0.38,0.41,0.42]
[825,"Buckinghamshire",0.38,0.4,0.4]
[351,"Bury",0.37,0.43,0.46]
[381,"Calderdale",0.53,0.01,0.01]
[873,"Cambridgeshire",0.26,0.33,0.31]
[202,"Camden",0.59,0.55000000000000004,0.64]
[823,"Central Bedfordshire",0.25,0.45,0.38]
[895,"Cheshire East",0.43,0.48,0.54]
[896,"Cheshire West and Chester",0.46,0.48,0.5]
[801,"City of Bristol",0.72,0.7,0.73]
[810,"City of Kingston Upon Hull",0.24,0.24,0.11]
[201,"City of London",0,0,0]
[908,"Cornwall",0.39,0.45,0.49]
[331,"Coventry",0.25,0.23,0.21]
[306,"Croydon",0.21,0.35,0.33]
[909,"Cumbria",0.36,0.44,0.41]
[841,"Darlington",0.32,0.41,0.44]
[831,"Derby",0.32,0.3,0.35]
[830,"Derbyshire",0.31,0.32,0.32]
[878,"Devon",0.44,0.44,0.39]
[371,"Doncaster",0.32,0.37,0.36]
[835,"Dorset",0.35,0.39,0.43]
[332,"Dudley",0.33,0.32,0.32]
[840,"Durham",0.38,0.4,0.39]
[307,"Ealing",0.53,0.53,0.52]
[811,"East Riding of Yorkshire",0.37,0.34,0.39]
[845,"East Sussex",0.3,0.36,0.37]
[308,"Enfield",0.3,0.43,0.49]
[881,"Essex",0.32,0.35,0.28999999999999998]
[390,"Gateshead",0.36,0.4,0.52]
[916,"Gloucestershire",0,0,0]
[203,"Greenwich",0.31,0.42,0.41]
[204,"Hackney",0.43,0.33,0.3]
[876,"Halton",0.24,0.22,0.14000000000000001]
[205,"Hammersmith and Fulham",0.45,0.55000000000000004,0.48]
[850,"Hampshire",0.3,0.34,0.39]
[309,"Haringey",0.44,0.52,0.48]
[310,"Harrow",0.36,0.36,0.38]
[805,"Hartlepool",0.5,0.7,0.17]
[311,"Havering",0.16,0.2,0.38]
[884,"Herefordshire",0.52,0.59,0.56000000000000005]
[919,"Hertfordshire",0.46,0.44,0.46]
[312,"Hillingdon",0.37,0.37,0.4]
[313,"Hounslow",0.39,0.42,0.45]
[921,"Isle of Wight",0.28000000000000003,0.36,0.24]
[420,"Isles of Scilly",0.5,0,0]
[206,"Islington",0.56000000000000005,0.63,0.65]
[207,"Kensington and Chelsea",0.59,0.68,0.65]
[886,"Kent",0.27,0.33,0.39]
[314,"Kingston upon Thames",0.5,0.49,0.51]
[382,"Kirklees",0.27,0.27,0.32]
[340,"Knowsley",0.52,0.56000000000000005,0.59]
[208,"Lambeth",0.5,0.52,0.52]
[888,"Lancashire",0.41,0.5,0.53]
[383,"Leeds",0.57999999999999996,0.49,0.5]
[856,"Leicester",0.24,0.3,0.32]
[855,"Leicestershire",0.26,0.28000000000000003,0.34]
[209,"Lewisham",0.27,0.33,0.42]
[925,"Lincolnshire",0.28000000000000003,0.38,0.37]
[341,"Liverpool",0.38,0.2,0.44]
[821,"Luton",0.25,0.27,0.3]
[352,"Manchester",0.46,0.33,0.34]
[887,"Medway",0.19,0.28000000000000003,0.28999999999999998]
[315,"Merton",0.44,0.42,0.45]
[806,"Middlesbrough",0.25,0.38,0.5]
[826,"Milton Keynes",0.26,0.27,0.22]
[391,"Newcastle upon Tyne",0.32,0.39,0.38]
[316,"Newham",0.31,0.33,0.28999999999999998]
[926,"Norfolk",0.28000000000000003,0.34,0.31]
[812,"North East Lincolnshire",0.28999999999999998,0.33,0.44]
[813,"North Lincolnshire",0.21,0.22,0.26]
[802,"North Somerset",0.39,0.45,0.5]
[392,"North Tyneside",0.52,0,0.46]
[815,"North Yorkshire",0.37,0.4,0.42]
[928,"Northamptonshire",0.26,0.3,0.38]
[929,"Northumberland",0.42,0.44,0.48]
[892,"Nottingham",7.0000000000000007E-2,0.35,0.38]
[891,"Nottinghamshire",0.28999999999999998,0.37,0.36]
[353,"Oldham",0.28999999999999998,0.28000000000000003,0.27]
[931,"Oxfordshire",0.38,0.45,0.41]
[874,"Peterborough",0.3,0.28999999999999998,0.24]
[879,"Plymouth",0.46,0.53,0.61]
[836,"Poole",0.3,0.43,0.48]
[851,"Portsmouth",0.19,0.24,0.28000000000000003]
[870,"Reading",0.3,0.37,0.51]
[317,"Redbridge",0.37,0.37,0.35]
[807,"Redcar and Cleveland",0.25,0.28999999999999998,0.33]
[318,"Richmond upon Thames",0.55000000000000004,0.63,0.67]
[354,"Rochdale",0.25,0.25,0.27]
[372,"Rotherham",0.31,0.33,0.38]
[857,"Rutland",0.21,0.17,0.17]
[355,"Salford",0.43,0.34,0.35]
[333,"Sandwell",0.28999999999999998,0.16,0.22]
[343,"Sefton",0.39,0.45,0.42]
[373,"Sheffield",0.35,0.41,0.46]
[893,"Shropshire",0.21,0.2,0.21]
[871,"Slough",0.26,0.34,0.43]
[334,"Solihull",0.3,0.39,0.35]
[933,"Somerset",0.35,0.37,0.43]
[803,"South Gloucestershire",0.4,0.47,0.48]
[393,"South Tyneside",0.64,0.56999999999999995,0.5]
[852,"Southampton",0.25,0.35,0.4]
[882,"Southend-on-Sea",0.43,0.41,0.37]
[210,"Southwark",0.38,0.52,0.56000000000000005]
[342,"St. Helens",0.32,0.37,0.37]
[860,"Staffordshire",0.14000000000000001,0.36,0.38]
[356,"Stockport",0.45,0.48,0.48]
[808,"Stockton-on-Tees",0.21,0.24,0.32]
[861,"Stoke-on-Trent",0.19,0.15,0.18]
[935,"Suffolk",0.32,0.33,0.38]
[394,"Sunderland",0.52,0.74,0.71]
[936,"Surrey",0.4,0.42,0.44]
[319,"Sutton",0.24,0.24,0.27]
[866,"Swindon",0.18,0.33,0.28000000000000003]
[357,"Tameside",0.2,0.15,0.39]
[894,"Telford & Wrekin",0.31,0.43,0.38]
[883,"Thurrock",0.06,0.13,0.17]
[880,"Torbay",0.42,0.38,0.41]
[211,"Tower Hamlets",0.28999999999999998,0.3,0.28000000000000003]
[358,"Trafford",0.47,0.5,0.49]
[384,"Wakefield",0.28000000000000003,0.33,0.44]
[335,"Walsall",0.4,0.54,0.42]
[320,"Waltham Forest",0.32,0.46,0.45]
[212,"Wandsworth",0.56000000000000005,0.54,0.62]
[877,"Warrington",0.35,0.41,0.38]
[937,"Warwickshire",0.35,0.39,0.39]
[869,"West Berkshire",0.28999999999999998,0.3,0.36]
[938,"West Sussex",0.35,0.4,0.42]
[213,"Westminster",0.36,0.41,0.35]
[359,"Wigan",0.18,0.18,0.05]
[865,"Wiltshire",0.38,0.45,0.48]
[868,"Windsor and Maidenhead",0.49,0.43,0.45]
[344,"Wirral",0.48,0.47,0.53]
[872,"Wokingham",0.4,0.5,0.56999999999999995]
[336,"Wolverhampton",0.33,0.42,0.44]
[885,"Worcestershire",0.43,0.39,0.46]
[816,"York",0.36,0.4,0.4]
[]
[]
["Source: DfE: Provision for Children Under Five Years of Age in England - January 2013"]
["https://www.gov.uk/government/publications/provision-for-children-under-5-years-of-age-in-england-january-2013"]
[]
["1.  Includes Day nurseries, Playgroups or pre-schools, Nurseries, Family/Combined/Integrated Centres, Sure Start Children's Centres, Local authority day nurseries, Childminder networks and Other providers."]
["2. Qualified teacher status (QTS) is the accreditation that enables you to teach in state-maintained and special schools in England and Wales."]
["3. Early Years Professional Status (EYPS) is a professional accreditation endorsed by the government for graduate practitioners who have demonstrated a set of professional standards."]
["4. Gloucestershire provided data showing no providers with staff with QTS/EYPS. This may be a reporting error."]

{"sheet":"EYFSP - GLD","index":14,"n_rows":181,"n_cols":15,"rows_kept":181,"cut":false,"hidden":true,"merged":[[170,0,170,6]]}
["Early Years Benchmarking - Child Development: Early Years Foundation Stage Profile1",null,null,null,null,null,null,null,null,null,null,null,null,null,"Return to contents"]
["Percentage of children achieving a good level of development2,3 at age five",null,null,null,null,null,null,null,null,null,null,null,null,null,"Return to instructions"]
[{"$f":"'Early Years Table'!A2","v":"All LAs"},null," *Figures for 2013 not comparable with earlier years"]
[]
[null,null,{"$f":"Data!I3","v":2010},{"$f":"Data!J3","v":2011},{"$f":"Data!K3","v":2012},null,{"$f":"Data!AK3&\"*\"","v":"2013*"}]
["England - Average (mean) or Total",null,{"$f":"Data!I157","v":0.56000000000000005},{"$f":"Data!J157","v":0.59},{"$f":"Data!K157","v":0.64},null,{"$f":"Data!AK157","v":0.52}]
["England - Average (median)",null,{"$f":"Data!I158","v":0.56000000000000005},{"$f":"Data!J158","v":0.58499999999999996},{"$f":"Data!K158","v":0.63},null,{"$f":"Data!AK158","v":0.51}]
["England - Minimum",null,{"$f":"Data!I159","v":0.42},{"$f":"Data!J159","v":0.48},{"$f":"Data!K159","v":0.51},null,{"$f":"Data!AK159","v":0.28000000000000003}]
["England - Maximum",null,{"$f":"Data!I160","v":0.79},{"$f":"Data!J160","v":0.87},{"$f":"Data!K160","v":0.78},null,{"$f":"Data!AK160","v":1}]
["Selection - Average (median)",null,{"$f":"MEDIAN(C13:C164)","v":0.56000000000000005},{"$f":"MEDIAN(D13:D164)","v":0.58499999999999996},{"$f":"MEDIAN(E13:E164)","v":0.63},null,{"$f":"MEDIAN(G13:G164)","v":0.51}]
["Selection - Minimum",null,{"$f":"MIN(C13:C164)","v":0.42},{"$f":"MIN(D13:D164)","v":0.48},{"$f":"MIN(E13:E164)","v":0.51},null,{"$f":"MIN(G13:G164)","v":0.28000000000000003}]
["Selection - Maximum",null,{"$f":"MAX(C13:C164)","v":0.79},{"$f":"MAX(D13:D164)","v":0.87},{"$f":"MAX(E13:E164)","v":0.78},null,{"$f":"MAX(G13:G164)","v":1}]
[{"$f":"IF('Early Years Table'!A13=\"\",\"\",IF(ISBLANK('Early Years Table'!A13),\"\",'Early Years Table'!A13))","v":301},{"$f":"IF($A13=\"\",\"\",IF(ISBLANK($A13),\"\",INDEX('LEA Nos codes'!$A$3:$A$154,MATCH($A13,'LEA Nos codes'!$B$3:$B$154,0))))","v":"Barking and Dagenham"},{"$f":"IF($A13=\"\",\"\",IF(ISBLANK($A13),\"\",VLOOKUP($A13,Data!$A$4:$AI$155,9,FALSE)))","v":0.51},{"$f":"IF($A13=\"\",\"\",IF(ISBLANK($A13),\"\",VLOOKUP($A13,Data!$A$4:$AI$155,10,FALSE)))","v":0.55000000000000004},{"$f":"IF($A13=\"\",\"\",IF(ISBLANK($A13),\"\",VLOOKUP($A13,Data!$A$4:$AI$155,11,FALSE)))","v":0.61},null,{"$f":"IF($A13=\"\",\"\",IF(ISBLANK($A13),\"\",VLOOKUP($A13,Data!$A$4:$AM$155,37,FALSE)))","v":0.46}]
[{"$f":"IF('Early Years Table'!A14=\"\",\"\",IF(ISBLANK('Early Years Table'!A14),\"\",'Early Years Table'!A14))","v":302},{"$f":"IF($A14=\"\",\"\",IF(ISBLANK($A14),\"\",INDEX('LEA Nos codes'!$A$3:$A$154,MATCH($A14,'LEA Nos codes'!$B$3:$B$154,0))))","v":"Barnet"},{"$f":"IF($A14=\"\",\"\",IF(ISBLANK($A14),\"\",VLOOKUP($A14,Data!$A$4:$AI$155,9,FALSE)))","v":0.64},{"$f":"IF($A14=\"\",\"\",IF(ISBLANK($A14),\"\",VLOOKUP($A14,Data!$A$4:$AI$155,10,FALSE)))","v":0.69},{"$f":"IF($A14=\"\",\"\",IF(ISBLANK($A14),\"\",VLOOKUP($A14,Data!$A$4:$AI$155,11,FALSE)))","v":0.69},null,{"$f":"IF($A14=\"\",\"\",IF(ISBLANK($A14),\"\",VLOOKUP($A14,Data!$A$4:$AM$155,37,FALSE)))","v":0.6}]
[{"$f":"IF('Early Years Table'!A15=\"\",\"\",IF(ISBLANK('Early Years Table'!A15),\"\",'Early Years Table'!A15))","v":370},{"$f":"IF($A15=\"\",\"\",IF(ISBLANK($A15),\"\",INDEX('LEA Nos codes'!$A$3:$A$154,MATCH($A15,'LEA Nos codes'!$B$3:$B$154,0))))","v":"Barnsley"},{"$f":"IF($A15=\"\",\"\",IF(ISBLANK($A15),\"\",VLOOKUP($A15,Data!$A$4:$AI$155,9,FALSE)))","v":0.5},{"$f":"IF($A15=\"\",\"\",IF(ISBLANK($A15),\"\",VLOOKUP($A15,Data!$A$4:$AI$155,10,FALSE)))","v":0.54},{"$f":"IF($A15=\"\",\"\",IF(ISBLANK($A15),\"\",VLOOKUP($A15,Data!$A$4:$AI$155,11,FALSE)))","v":0.59},null,{"$f":"IF($A15=\"\",\"\",IF(ISBLANK($A15),\"\",VLOOKUP($A15,Data!$A$4:$AM$155,37,FALSE)))","v":0.5}]
[{"$f":"IF('Early Years Table'!A16=\"\",\"\",IF(ISBLANK('Early Years Table'!A16),\"\",'Early Years Table'!A16))","v":800},{"$f":"IF($A16=\"\",\"\",IF(ISBLANK($A16),\"\",INDEX('LEA Nos codes'!$A$3:$A$154,MATCH($A16,'LEA Nos codes'!$B$3:$B$154,0))))","v":"Bath & North East Somerset"},{"$f":"IF($A16=\"\",\"\",IF(ISBLANK($A16),\"\",VLOOKUP($A16,Data!$A$4:$AI$155,9,FALSE)))","v":0.56000000000000005},{"$f":"IF($A16=\"\",\"\",IF(ISBLANK($A16),\"\",VLOOKUP($A16,Data!$A$4:$AI$155,10,FALSE)))","v":0.57999999999999996},{"$f":"IF($A16=\"\",\"\",IF(ISBLANK($A16),\"\",VLOOKUP($A16,Data!$A$4:$AI$155,11,FALSE)))","v":0.62},null,{"$f":"IF($A16=\"\",\"\",IF(ISBLANK($A16),\"\",VLOOKUP($A16,Data!$A$4:$AM$155,37,FALSE)))","v":0.51}]
[{"$f":"IF('Early Years Table'!A17=\"\",\"\",IF(ISBLANK('Early Years Table'!A17),\"\",'Early Years Table'!A17))","v":822},{"$f":"IF($A17=\"\",\"\",IF(ISBLANK($A17),\"\",INDEX('LEA Nos codes'!$A$3:$A$154,MATCH($A17,'LEA Nos codes'!$B$3:$B$154,0))))","v":"Bedford Borough"},{"$f":"IF($A17=\"\",\"\",IF(ISBLANK($A17),\"\",VLOOKUP($A17,Data!$A$4:$AI$155,9,FALSE)))","v":0.54},{"$f":"IF($A17=\"\",\"\",IF(ISBLANK($A17),\"\",VLOOKUP($A17,Data!$A$4:$AI$155,10,FALSE)))","v":0.56000000000000005},{"$f":"IF($A17=\"\",\"\",IF(ISBLANK($A17),\"\",VLOOKUP($A17,Data!$A$4:$AI$155,11,FALSE)))","v":0.61},null,{"$f":"IF($A17=\"\",\"\",IF(ISBLANK($A17),\"\",VLOOKUP($A17,Data!$A$4:$AM$155,37,FALSE)))","v":0.48}]
[{"$f":"IF('Early Years Table'!A18=\"\",\"\",IF(ISBLANK('Early Years Table'!A18),\"\",'Early Years Table'!A18))","v":303},{"$f":"IF($A18=\"\",\"\",IF(ISBLANK($A18),\"\",INDEX('LEA Nos codes'!$A$3:$A$154,MATCH($A18,'LEA Nos codes'!$B$3:$B$154,0))))","v":"Bexley"},{"$f":"IF($A18=\"\",\"\",IF(ISBLANK($A18),\"\",VLOOKUP($A18,Data!$A$4:$AI$155,9,FALSE)))","v":0.6},{"$f":"IF($A18=\"\",\"\",IF(ISBLANK($A18),\"\",VLOOKUP($A18,Data!$A$4:$AI$155,10,FALSE)))","v":0.68},{"$f":"IF($A18=\"\",\"\",IF(ISBLANK($A18),\"\",VLOOKUP($A18,Data!$A$4:$AI$155,11,FALSE)))","v":0.71},null,{"$f":"IF($A18=\"\",\"\",IF(ISBLANK($A18),\"\",VLOOKUP($A18,Data!$A$4:$AM$155,37,FALSE)))","v":0.64}]
[{"$f":"IF('Early Years Table'!A19=\"\",\"\",IF(ISBLANK('Early Years Table'!A19),\"\",'Early Years Table'!A19))","v":330},{"$f":"IF($A19=\"\",\"\",IF(ISBLANK($A19),\"\",INDEX('LEA Nos codes'!$A$3:$A$154,MATCH($A19,'LEA Nos codes'!$B$3:$B$154,0))))","v":"Birmingham"},{"$f":"IF($A19=\"\",\"\",IF(ISBLANK($A19),\"\",VLOOKUP($A19,Data!$A$4:$AI$155,9,FALSE)))","v":0.55000000000000004},{"$f":"IF($A19=\"\",\"\",IF(ISBLANK($A19),\"\",VLOOKUP($A19,Data!$A$4:$AI$155,10,FALSE)))","v":0.6},{"$f":"IF($A19=\"\",\"\",IF(ISBLANK($A19),\"\",VLOOKUP($A19,Data!$A$4:$AI$155,11,FALSE)))","v":0.62},null,{"$f":"IF($A19=\"\",\"\",IF(ISBLANK($A19),\"\",VLOOKUP($A19,Data!$A$4:$AM$155,37,FALSE)))","v":0.5}]
[{"$f":"IF('Early Years Table'!A20=\"\",\"\",IF(ISBLANK('Early Years Table'!A20),\"\",'Early Years Table'!A20))","v":889},{"$f":"IF($A20=\"\",\"\",IF(ISBLANK($A20),\"\",INDEX('LEA Nos codes'!$A$3:$A$154,MATCH($A20,'LEA Nos codes'!$B$3:$B$154,0))))","v":"Blackburn with Darwen"},{"$f":"IF($A20=\"\",\"\",IF(ISBLANK($A20),\"\",VLOOKUP($A20,Data!$A$4:$AI$155,9,FALSE)))","v":0.57999999999999996},{"$f":"IF($A20=\"\",\"\",IF(ISBLANK($A20),\"\",VLOOKUP($A20,Data!$A$4:$AI$155,10,FALSE)))","v":0.56999999999999995},{"$f":"IF($A20=\"\",\"\",IF(ISBLANK($A20),\"\",VLOOKUP($A20,Data!$A$4:$AI$155,11,FALSE)))","v":0.56999999999999995},null,{"$f":"IF($A20=\"\",\"\",IF(ISBLANK($A20),\"\",VLOOKUP($A20,Data!$A$4:$AM$155,37,FALSE)))","v":0.4}]
[{"$f":"IF('Early Years Table'!A21=\"\",\"\",IF(ISBLANK('Early Years Table'!A21),\"\",'Early Years Table'!A21))","v":890},{"$f":"IF($A21=\"\",\"\",IF(ISBLANK($A21),\"\",INDEX('LEA Nos codes'!$A$3:$A$154,MATCH($A21,'LEA Nos codes'!$B$3:$B$154,0))))","v":"Blackpool"},{"$f":"IF($A21=\"\",\"\",IF(ISBLANK($A21),\"\",VLOOKUP($A21,Data!$A$4:$AI$155,9,FALSE)))","v":0.49},{"$f":"IF($A21=\"\",\"\",IF(ISBLANK($A21),\"\",VLOOKUP($A21,Data!$A$4:$AI$155,10,FALSE)))","v":0.5},{"$f":"IF($A21=\"\",\"\",IF(ISBLANK($A21),\"\",VLOOKUP($A21,Data!$A$4:$AI$155,11,FALSE)))","v":0.52},null,{"$f":"IF($A21=\"\",\"\",IF(ISBLANK($A21),\"\",VLOOKUP($A21,Data!$A$4:$AM$155,37,FALSE)))","v":0.52}]
[{"$f":"IF('Early Years Table'!A22=\"\",\"\",IF(ISBLANK('Early Years Table'!A22),\"\",'Early Years Table'!A22))","v":350},{"$f":"IF($A22=\"\",\"\",IF(ISBLANK($A22),\"\",INDEX('LEA Nos codes'!$A$3:$A$154,MATCH($A22,'LEA Nos codes'!$B$3:$B$154,0))))","v":"Bolton"},{"$f":"IF($A22=\"\",\"\",IF(ISBLANK($A22),\"\",VLOOKUP($A22,Data!$A$4:$AI$155,9,FALSE)))","v":0.59},{"$f":"IF($A22=\"\",\"\",IF(ISBLANK($A22),\"\",VLOOKUP($A22,Data!$A$4:$AI$155,10,FALSE)))","v":0.6},{"$f":"IF($A22=\"\",\"\",IF(ISBLANK($A22),\"\",VLOOKUP($A22,Data!$A$4:$AI$155,11,FALSE)))","v":0.62},null,{"$f":"IF($A22=\"\",\"\",IF(ISBLANK($A22),\"\",VLOOKUP($A22,Data!$A$4:$AM$155,37,FALSE)))","v":0.48}]
[{"$f":"IF('Early Years Table'!A23=\"\",\"\",IF(ISBLANK('Early Years Table'!A23),\"\",'Early Years Table'!A23))","v":837},{"$f":"IF($A23=\"\",\"\",IF(ISBLANK($A23),\"\",INDEX('LEA Nos codes'!$A$3:$A$154,MATCH($A23,'LEA Nos codes'!$B$3:$B$154,0))))","v":"Bournemouth"},{"$f":"IF($A23=\"\",\"\",IF(ISBLANK($A23),\"\",VLOOKUP($A23,Data!$A$4:$AI$155,9,FALSE)))","v":0.55000000000000004},{"$f":"IF($A23=\"\",\"\",IF(ISBLANK($A23),\"\",VLOOKUP($A23,Data!$A$4:$AI$155,10,FALSE)))","v":0.64},{"$f":"IF($A23=\"\",\"\",IF(ISBLANK($A23),\"\",VLOOKUP($A23,Data!$A$4:$AI$155,11,FALSE)))","v":0.66},null,{"$f":"IF($A23=\"\",\"\",IF(ISBLANK($A23),\"\",VLOOKUP($A23,Data!$A$4:$AM$155,37,FALSE)))","v":0.56999999999999995}]
[{"$f":"IF('Early Years Table'!A24=\"\",\"\",IF(ISBLANK('Early Years Table'!A24),\"\",'Early Years Table'!A24))","v":867},{"$f":"IF($A24=\"\",\"\",IF(ISBLANK($A24),\"\",INDEX('LEA Nos codes'!$A$3:$A$154,MATCH($A24,'LEA Nos codes'!$B$3:$B$154,0))))","v":"Bracknell Forest"},{"$f":"IF($A24=\"\",\"\",IF(ISBLANK($A24),\"\",VLOOKUP($A24,Data!$A$4:$AI$155,9,FALSE)))","v":0.52},{"$f":"IF($A24=\"\",\"\",IF(ISBLANK($A24),\"\",VLOOKUP($A24,Data!$A$4:$AI$155,10,FALSE)))","v":0.54},{"$f":"IF($A24=\"\",\"\",IF(ISBLANK($A24),\"\",VLOOKUP($A24,Data!$A$4:$AI$155,11,FALSE)))","v":0.69},null,{"$f":"IF($A24=\"\",\"\",IF(ISBLANK($A24),\"\",VLOOKUP($A24,Data!$A$4:$AM$155,37,FALSE)))","v":0.57999999999999996}]
[{"$f":"IF('Early Years Table'!A25=\"\",\"\",IF(ISBLANK('Early Years Table'!A25),\"\",'Early Years Table'!A25))","v":380},{"$f":"IF($A25=\"\",\"\",IF(ISBLANK($A25),\"\",INDEX('LEA Nos codes'!$A$3:$A$154,MATCH($A25,'LEA Nos codes'!$B$3:$B$154,0))))","v":"Bradford"},{"$f":"IF($A25=\"\",\"\",IF(ISBLANK($A25),\"\",VLOOKUP($A25,Data!$A$4:$AI$155,9,FALSE)))","v":0.51},{"$f":"IF($A25=\"\",\"\",IF(ISBLANK($A25),\"\",VLOOKUP($A25,Data!$A$4:$AI$155,10,FALSE)))","v":0.55000000000000004},{"$f":"IF($A25=\"\",\"\",IF(ISBLANK($A25),\"\",VLOOKUP($A25,Data!$A$4:$AI$155,11,FALSE)))","v":0.57999999999999996},null,{"$f":"IF($A25=\"\",\"\",IF(ISBLANK($A25),\"\",VLOOKUP($A25,Data!$A$4:$AM$155,37,FALSE)))","v":0.49}]
[{"$f":"IF('Early Years Table'!A26=\"\",\"\",IF(ISBLANK('Early Years Table'!A26),\"\",'Early Years Table'!A26))","v":304},{"$f":"IF($A26=\"\",\"\",IF(ISBLANK($A26),\"\",INDEX('LEA Nos codes'!$A$3:$A$154,MATCH($A26,'LEA Nos codes'!$B$3:$B$154,0))))","v":"Brent"},{"$f":"IF($A26=\"\",\"\",IF(ISBLANK($A26),\"\",VLOOKUP($A26,Data!$A$4:$AI$155,9,FALSE)))","v":0.43},{"$f":"IF($A26=\"\",\"\",IF(ISBLANK($A26),\"\",VLOOKUP($A26,Data!$A$4:$AI$155,10,FALSE)))","v":0.56999999999999995},{"$f":"IF($A26=\"\",\"\",IF(ISBLANK($A26),\"\",VLOOKUP($A26,Data!$A$4:$AI$155,11,FALSE)))","v":0.64},null,{"$f":"IF($A26=\"\",\"\",IF(ISBLANK($A26),\"\",VLOOKUP($A26,Data!$A$4:$AM$155,37,FALSE)))","v":0.56000000000000005}]
[{"$f":"IF('Early Years Table'!A27=\"\",\"\",IF(ISBLANK('Early Years Table'!A27),\"\",'Early Years Table'!A27))","v":846},{"$f":"IF($A27=\"\",\"\",IF(ISBLANK($A27),\"\",INDEX('LEA Nos codes'!$A$3:$A$154,MATCH($A27,'LEA Nos codes'!$B$3:$B$154,0))))","v":"Brighton and Hove"},{"$f":"IF($A27=\"\",\"\",IF(ISBLANK($A27),\"\",VLOOKUP($A27,Data!$A$4:$AI$155,9,FALSE)))","v":0.63},{"$f":"IF($A27=\"\",\"\",IF(ISBLANK($A27),\"\",VLOOKUP($A27,Data!$A$4:$AI$155,10,FALSE)))","v":0.64},{"$f":"IF($A27=\"\",\"\",IF(ISBLANK($A27),\"\",VLOOKUP($A27,Data!$A$4:$AI$155,11,FALSE)))","v":0.67},null,{"$f":"IF($A27=\"\",\"\",IF(ISBLANK($A27),\"\",VLOOKUP($A27,Data!$A$4:$AM$155,37,FALSE)))","v":0.45}]
[{"$f":"IF('Early Years Table'!A28=\"\",\"\",IF(ISBLANK('Early Years Table'!A28),\"\",'Early Years Table'!A28))","v":305},{"$f":"IF($A28=\"\",\"\",IF(ISBLANK($A28),\"\",INDEX('LEA Nos codes'!$A$3:$A$154,MATCH($A28,'LEA Nos codes'!$B$3:$B$154,0))))","v":"Bromley"},{"$f":"IF($A28=\"\",\"\",IF(ISBLANK($A28),\"\",VLOOKUP($A28,Data!$A$4:$AI$155,9,FALSE)))","v":0.54},{"$f":"IF($A28=\"\",\"\",IF(ISBLANK($A28),\"\",VLOOKUP($A28,Data!$A$4:$AI$155,10,FALSE)))","v":0.57999999999999996},{"$f":"IF($A28=\"\",\"\",IF(ISBLANK($A28),\"\",VLOOKUP($A28,Data!$A$4:$AI$155,11,FALSE)))","v":0.68},null,{"$f":"IF($A28=\"\",\"\",IF(ISBLANK($A28),\"\",VLOOKUP($A28,Data!$A$4:$AM$155,37,FALSE)))","v":0.61}]
[{"$f":"IF('Early Years Table'!A29=\"\",\"\",IF(ISBLANK('Early Years Table'!A29),\"\",'Early Years Table'!A29))","v":825},{"$f":"IF($A29=\"\",\"\",IF(ISBLANK($A29),\"\",INDEX('LEA Nos codes'!$A$3:$A$154,MATCH($A29,'LEA Nos codes'!$B$3:$B$154,0))))","v":"Buckinghamshire"},{"$f":"IF($A29=\"\",\"\",IF(ISBLANK($A29),\"\",VLOOKUP($A29,Data!$A$4:$AI$155,9,FALSE)))","v":0.56999999999999995},{"$f":"IF($A29=\"\",\"\",IF(ISBLANK($A29),\"\",VLOOKUP($A29,Data!$A$4:$AI$155,10,FALSE)))","v":0.59},{"$f":"IF($A29=\"\",\"\",IF(ISBLANK($A29),\"\",VLOOKUP($A29,Data!$A$4:$AI$155,11,FALSE)))","v":0.65},null,{"$f":"IF($A29=\"\",\"\",IF(ISBLANK($A29),\"\",VLOOKUP($A29,Data!$A$4:$AM$155,37,FALSE)))","v":0.55000000000000004}]
[{"$f":"IF('Early Years Table'!A30=\"\",\"\",IF(ISBLANK('Early Years Table'!A30),\"\",'Early Years Table'!A30))","v":351},{"$f":"IF($A30=\"\",\"\",IF(ISBLANK($A30),\"\",INDEX('LEA Nos codes'!$A$3:$A$154,MATCH($A30,'LEA Nos codes'!$B$3:$B$154,0))))","v":"Bury"},{"$f":"IF($A30=\"\",\"\",IF(ISBLANK($A30),\"\",VLOOKUP($A30,Data!$A$4:$AI$155,9,FALSE)))","v":0.48},{"$f":"IF($A30=\"\",\"\",IF(ISBLANK($A30),\"\",VLOOKUP($A30,Data!$A$4:$AI$155,10,FALSE)))","v":0.52},{"$f":"IF($A30=\"\",\"\",IF(ISBLANK($A30),\"\",VLOOKUP($A30,Data!$A$4:$AI$155,11,FALSE)))","v":0.57999999999999996},null,{"$f":"IF($A30=\"\",\"\",IF(ISBLANK($A30),\"\",VLOOKUP($A30,Data!$A$4:$AM$155,37,FALSE)))","v":0.51}]
[{"$f":"IF('Early Years Table'!A31=\"\",\"\",IF(ISBLANK('Early Years Table'!A31),\"\",'Early Years Table'!A31))","v":381},{"$f":"IF($A31=\"\",\"\",IF(ISBLANK($A31),\"\",INDEX('LEA Nos codes'!$A$3:$A$154,MATCH($A31,'LEA Nos codes'!$B$3:$B$154,0))))","v":"Calderdale"},{"$f":"IF($A31=\"\",\"\",IF(ISBLANK($A31),\"\",VLOOKUP($A31,Data!$A$4:$AI$155,9,FALSE)))","v":0.53},{"$f":"IF($A31=\"\",\"\",IF(ISBLANK($A31),\"\",VLOOKUP($A31,Data!$A$4:$AI$155,10,FALSE)))","v":0.56000000000000005},{"$f":"IF($A31=\"\",\"\",IF(ISBLANK($A31),\"\",VLOOKUP($A31,Data!$A$4:$AI$155,11,FALSE)))","v":0.6},null,{"$f":"IF($A31=\"\",\"\",IF(ISBLANK($A31),\"\",VLOOKUP($A31,Data!$A$4:$AM$155,37,FALSE)))","v":0.45}]
[{"$f":"IF('Early Years Table'!A32=\"\",\"\",IF(ISBLANK('Early Years Table'!A32),\"\",'Early Years Table'!A32))","v":873},{"$f":"IF($A32=\"\",\"\",IF(ISBLANK($A32),\"\",INDEX('LEA Nos codes'!$A$3:$A$154,MATCH($A32,'LEA Nos codes'!$B$3:$B$154,0))))","v":"Cambridgeshire"},{"$f":"IF($A32=\"\",\"\",IF(ISBLANK($A32),\"\",VLOOKUP($A32,Data!$A$4:$AI$155,9,FALSE)))","v":0.55000000000000004},{"$f":"IF($A32=\"\",\"\",IF(ISBLANK($A32),\"\",VLOOKUP($A32,Data!$A$4:$AI$155,10,FALSE)))","v":0.6},{"$f":"IF($A32=\"\",\"\",IF(ISBLANK($A32),\"\",VLOOKUP($A32,Data!$A$4:$AI$155,11,FALSE)))","v":0.64},null,{"$f":"IF($A32=\"\",\"\",IF(ISBLANK($A32),\"\",VLOOKUP($A32,Data!$A$4:$AM$155,37,FALSE)))","v":0.51}]
[{"$f":"IF('Early Years Table'!A33=\"\",\"\",IF(ISBLANK('Early Years Table'!A33),\"\",'Early Years Table'!A33))","v":202},{"$f":"IF($A33=\"\",\"\",IF(ISBLANK($A33),\"\",INDEX('LEA Nos codes'!$A$3:$A$154,MATCH($A33,'LEA Nos codes'!$B$3:$B$154,0))))","v":"Camden"},{"$f":"IF($A33=\"\",\"\",IF(ISBLANK($A33),\"\",VLOOKUP($A33,Data!$A$4:$AI$155,9,FALSE)))","v":0.57999999999999996},{"$f":"IF($A33=\"\",\"\",IF(ISBLANK($A33),\"\",VLOOKUP($A33,Data!$A$4:$AI$155,10,FALSE)))","v":0.57999999999999996},{"$f":"IF($A33=\"\",\"\",IF(ISBLANK($A33),\"\",VLOOKUP($A33,Data!$A$4:$AI$155,11,FALSE)))","v":0.62},null,{"$f":"IF($A33=\"\",\"\",IF(ISBLANK($A33),\"\",VLOOKUP($A33,Data!$A$4:$AM$155,37,FALSE)))","v":0.47}]
[{"$f":"IF('Early Years Table'!A34=\"\",\"\",IF(ISBLANK('Early Years Table'!A34),\"\",'Early Years Table'!A34))","v":823},{"$f":"IF($A34=\"\",\"\",IF(ISBLANK($A34),\"\",INDEX('LEA Nos codes'!$A$3:$A$154,MATCH($A34,'LEA Nos codes'!$B$3:$B$154,0))))","v":"Central Bedfordshire"},{"$f":"IF($A34=\"\",\"\",IF(ISBLANK($A34),\"\",VLOOKUP($A34,Data!$A$4:$AI$155,9,FALSE)))","v":0.53},{"$f":"IF($A34=\"\",\"\",IF(ISBLANK($A34),\"\",VLOOKUP($A34,Data!$A$4:$AI$155,10,FALSE)))","v":0.55000000000000004},{"$f":"IF($A34=\"\",\"\",IF(ISBLANK($A34),\"\",VLOOKUP($A34,Data!$A$4:$AI$155,11,FALSE)))","v":0.63},null,{"$f":"IF($A34=\"\",\"\",IF(ISBLANK($A34),\"\",VLOOKUP($A34,Data!$A$4:$AM$155,37,FALSE)))","v":0.49}]
[{"$f":"IF('Early Years Table'!A35=\"\",\"\",IF(ISBLANK('Early Years Table'!A35),\"\",'Early Years Table'!A35))","v":895},{"$f":"IF($A35=\"\",\"\",IF(ISBLANK($A35),\"\",INDEX('LEA Nos codes'!$A$3:$A$154,MATCH($A35,'LEA Nos codes'!$B$3:$B$154,0))))","v":"Cheshire East"},{"$f":"IF($A35=\"\",\"\",IF(ISBLANK($A35),\"\",VLOOKUP($A35,Data!$A$4:$AI$155,9,FALSE)))","v":0.59},{"$f":"IF($A35=\"\",\"\",IF(ISBLANK($A35),\"\",VLOOKUP($A35,Data!$A$4:$AI$155,10,FALSE)))","v":0.68},{"$f":"IF($A35=\"\",\"\",IF(ISBLANK($A35),\"\",VLOOKUP($A35,Data!$A$4:$AI$155,11,FALSE)))","v":0.74},null,{"$f":"IF($A35=\"\",\"\",IF(ISBLANK($A35),\"\",VLOOKUP($A35,Data!$A$4:$AM$155,37,FALSE)))","v":0.56000000000000005}]
[{"$f":"IF('Early Years Table'!A36=\"\",\"\",IF(ISBLANK('Early Years Table'!A36),\"\",'Early Years Table'!A36))","v":896},{"$f":"IF($A36=\"\",\"\",IF(ISBLANK($A36),\"\",INDEX('LEA Nos codes'!$A$3:$A$154,MATCH($A36,'LEA Nos codes'!$B$3:$B$154,0))))","v":"Cheshire West and Chester"},{"$f":"IF($A36=\"\",\"\",IF(ISBLANK($A36),\"\",VLOOKUP($A36,Data!$A$4:$AI$155,9,FALSE)))","v":0.57999999999999996},{"$f":"IF($A36=\"\",\"\",IF(ISBLANK($A36),\"\",VLOOKUP($A36,Data!$A$4:$AI$155,10,FALSE)))","v":0.56000000000000005},{"$f":"IF($A36=\"\",\"\",IF(ISBLANK($A36),\"\",VLOOKUP($A36,Data!$A$4:$AI$155,11,FALSE)))","v":0.64},null,{"$f":"IF($A36=\"\",\"\",IF(ISBLANK($A36),\"\",VLOOKUP($A36,Data!$A$4:$AM$155,37,FALSE)))","v":0.52}]
[{"$f":"IF('Early Years Table'!A37=\"\",\"\",IF(ISBLANK('Early Years Table'!A37),\"\",'Early Years Table'!A37))","v":801},{"$f":"IF($A37=\"\",\"\",IF(ISBLANK($A37),\"\",INDEX('LEA Nos codes'!$A$3:$A$154,MATCH($A37,'LEA Nos codes'!$B$3:$B$154,0))))","v":"City of Bristol"},{"$f":"IF($A37=\"\",\"\",IF(ISBLANK($A37),\"\",VLOOKUP($A37,Data!$A$4:$AI$155,9,FALSE)))","v":0.55000000000000004},{"$f":"IF($A37=\"\",\"\",IF(ISBLANK($A37),\"\",VLOOKUP($A37,Data!$A$4:$AI$155,10,FALSE)))","v":0.56999999999999995},{"$f":"IF($A37=\"\",\"\",IF(ISBLANK($A37),\"\",VLOOKUP($A37,Data!$A$4:$AI$155,11,FALSE)))","v":0.61},null,{"$f":"IF($A37=\"\",\"\",IF(ISBLANK($A37),\"\",VLOOKUP($A37,Data!$A$4:$AM$155,37,FALSE)))","v":0.5}]
[{"$f":"IF('Early Years Table'!A38=\"\",\"\",IF(ISBLANK('Early Years Table'!A38),\"\",'Early Years Table'!A38))","v":810},{"$f":"IF($A38=\"\",\"\",IF(ISBLANK($A38),\"\",INDEX('LEA Nos codes'!$A$3:$A$154,MATCH($A38,'LEA Nos codes'!$B$3:$B$154,0))))","v":"City of Kingston Upon Hull"},{"$f":"IF($A38=\"\",\"\",IF(ISBLANK($A38),\"\",VLOOKUP($A38,Data!$A$4:$AI$155,9,FALSE)))","v":0.51},{"$f":"IF($A38=\"\",\"\",IF(ISBLANK($A38),\"\",VLOOKUP($A38,Data!$A$4:$AI$155,10,FALSE)))","v":0.51},{"$f":"IF($A38=\"\",\"\",IF(ISBLANK($A38),\"\",VLOOKUP($A38,Data!$A$4:$AI$155,11,FALSE)))","v":0.55000000000000004},null,{"$f":"IF($A38=\"\",\"\",IF(ISBLANK($A38),\"\",VLOOKUP($A38,Data!$A$4:$AM$155,37,FALSE)))","v":0.42}]
[{"$f":"IF('Early Years Table'!A39=\"\",\"\",IF(ISBLANK('Early Years Table'!A39),\"\",'Early Years Table'!A39))","v":201},{"$f":"IF($A39=\"\",\"\",IF(ISBLANK($A39),\"\",INDEX('LEA Nos codes'!$A$3:$A$154,MATCH($A39,'LEA Nos codes'!$B$3:$B$154,0))))","v":"City of London"},{"$f":"IF($A39=\"\",\"\",IF(ISBLANK($A39),\"\",VLOOKUP($A39,Data!$A$4:$AI$155,9,FALSE)))","v":0.79},{"$f":"IF($A39=\"\",\"\",IF(ISBLANK($A39),\"\",VLOOKUP($A39,Data!$A$4:$AI$155,10,FALSE)))","v":0.87},{"$f":"IF($A39=\"\",\"\",IF(ISBLANK($A39),\"\",VLOOKUP($A39,Data!$A$4:$AI$155,11,FALSE)))","v":0.75},null,{"$f":"IF($A39=\"\",\"\",IF(ISBLANK($A39),\"\",VLOOKUP($A39,Data!$A$4:$AM$155,37,FALSE)))","v":0.64}]
[{"$f":"IF('Early Years Table'!A40=\"\",\"\",IF(ISBLANK('Early Years Table'!A40),\"\",'Early Years Table'!A40))","v":908},{"$f":"IF($A40=\"\",\"\",IF(ISBLANK($A40),\"\",INDEX('LEA Nos codes'!$A$3:$A$154,MATCH($A40,'LEA Nos codes'!$B$3:$B$154,0))))","v":"Cornwall"},{"$f":"IF($A40=\"\",\"\",IF(ISBLANK($A40),\"\",VLOOKUP($A40,Data!$A$4:$AI$155,9,FALSE)))","v":0.56000000000000005},{"$f":"IF($A40=\"\",\"\",IF(ISBLANK($A40),\"\",VLOOKUP($A40,Data!$A$4:$AI$155,10,FALSE)))","v":0.57999999999999996},{"$f":"IF($A40=\"\",\"\",IF(ISBLANK($A40),\"\",VLOOKUP($A40,Data!$A$4:$AI$155,11,FALSE)))","v":0.63},null,{"$f":"IF($A40=\"\",\"\",IF(ISBLANK($A40),\"\",VLOOKUP($A40,Data!$A$4:$AM$155,37,FALSE)))","v":0.49}]
[{"$f":"IF('Early Years Table'!A41=\"\",\"\",IF(ISBLANK('Early Years Table'!A41),\"\",'Early Years Table'!A41))","v":331},{"$f":"IF($A41=\"\",\"\",IF(ISBLANK($A41),\"\",INDEX('LEA Nos codes'!$A$3:$A$154,MATCH($A41,'LEA Nos codes'!$B$3:$B$154,0))))","v":"Coventry"},{"$f":"IF($A41=\"\",\"\",IF(ISBLANK($A41),\"\",VLOOKUP($A41,Data!$A$4:$AI$155,9,FALSE)))","v":0.53},{"$f":"IF($A41=\"\",\"\",IF(ISBLANK($A41),\"\",VLOOKUP($A41,Data!$A$4:$AI$155,10,FALSE)))","v":0.59},{"$f":"IF($A41=\"\",\"\",IF(ISBLANK($A41),\"\",VLOOKUP($A41,Data!$A$4:$AI$155,11,FALSE)))","v":0.62},null,{"$f":"IF($A41=\"\",\"\",IF(ISBLANK($A41),\"\",VLOOKUP($A41,Data!$A$4:$AM$155,37,FALSE)))","v":0.55000000000000004}]
[{"$f":"IF('Early Years Table'!A42=\"\",\"\",IF(ISBLANK('Early Years Table'!A42),\"\",'Early Years Table'!A42))","v":306},{"$f":"IF($A42=\"\",\"\",IF(ISBLANK($A42),\"\",INDEX('LEA Nos codes'!$A$3:$A$154,MATCH($A42,'LEA Nos codes'!$B$3:$B$154,0))))","v":"Croydon"},{"$f":"IF($A42=\"\",\"\",IF(ISBLANK($A42),\"\",VLOOKUP($A42,Data!$A$4:$AI$155,9,FALSE)))","v":0.57999999999999996},{"$f":"IF($A42=\"\",\"\",IF(ISBLANK($A42),\"\",VLOOKUP($A42,Data!$A$4:$AI$155,10,FALSE)))","v":0.63},{"$f":"IF($A42=\"\",\"\",IF(ISBLANK($A42),\"\",VLOOKUP($A42,Data!$A$4:$AI$155,11,FALSE)))","v":0.65},null,{"$f":"IF($A42=\"\",\"\",IF(ISBLANK($A42),\"\",VLOOKUP($A42,Data!$A$4:$AM$155,37,FALSE)))","v":0.46}]
[{"$f":"IF('Early Years Table'!A43=\"\",\"\",IF(ISBLANK('Early Years Table'!A43),\"\",'Early Years Table'!A43))","v":909},{"$f":"IF($A43=\"\",\"\",IF(ISBLANK($A43),\"\",INDEX('LEA Nos codes'!$A$3:$A$154,MATCH($A43,'LEA Nos codes'!$B$3:$B$154,0))))","v":"Cumbria"},{"$f":"IF($A43=\"\",\"\",IF(ISBLANK($A43),\"\",VLOOKUP($A43,Data!$A$4:$AI$155,9,FALSE)))","v":0.48},{"$f":"IF($A43=\"\",\"\",IF(ISBLANK($A43),\"\",VLOOKUP($A43,Data!$A$4:$AI$155,10,FALSE)))","v":0.5},{"$f":"IF($A43=\"\",\"\",IF(ISBLANK($A43),\"\",VLOOKUP($A43,Data!$A$4:$AI$155,11,FALSE)))","v":0.61},null,{"$f":"IF($A43=\"\",\"\",IF(ISBLANK($A43),\"\",VLOOKUP($A43,Data!$A$4:$AM$155,37,FALSE)))","v":0.5}]
[{"$f":"IF('Early Years Table'!A44=\"\",\"\",IF(ISBLANK('Early Years Table'!A44),\"\",'Early Years Table'!A44))","v":841},{"$f":"IF($A44=\"\",\"\",IF(ISBLANK($A44),\"\",INDEX('LEA Nos codes'!$A$3:$A$154,MATCH($A44,'LEA Nos codes'!$B$3:$B$154,0))))","v":"Darlington"},{"$f":"IF($A44=\"\",\"\",IF(ISBLANK($A44),\"\",VLOOKUP($A44,Data!$A$4:$AI$155,9,FALSE)))","v":0.56999999999999995},{"$f":"IF($A44=\"\",\"\",IF(ISBLANK($A44),\"\",VLOOKUP($A44,Data!$A$4:$AI$155,10,FALSE)))","v":0.65},{"$f":"IF($A44=\"\",\"\",IF(ISBLANK($A44),\"\",VLOOKUP($A44,Data!$A$4:$AI$155,11,FALSE)))","v":0.68},null,{"$f":"IF($A44=\"\",\"\",IF(ISBLANK($A44),\"\",VLOOKUP($A44,Data!$A$4:$AM$155,37,FALSE)))","v":0.49}]
[{"$f":"IF('Early Years Table'!A45=\"\",\"\",IF(ISBLANK('Early Years Table'!A45),\"\",'Early Years Table'!A45))","v":831},{"$f":"IF($A45=\"\",\"\",IF(ISBLANK($A45),\"\",INDEX('LEA Nos codes'!$A$3:$A$154,MATCH($A45,'LEA Nos codes'!$B$3:$B$154,0))))","v":"Derby"},{"$f":"IF($A45=\"\",\"\",IF(ISBLANK($A45),\"\",VLOOKUP($A45,Data!$A$4:$AI$155,9,FALSE)))","v":0.49},{"$f":"IF($A45=\"\",\"\",IF(ISBLANK($A45),\"\",VLOOKUP($A45,Data!$A$4:$AI$155,10,FALSE)))","v":0.52},{"$f":"IF($A45=\"\",\"\",IF(ISBLANK($A45),\"\",VLOOKUP($A45,Data!$A$4:$AI$155,11,FALSE)))","v":0.56000000000000005},null,{"$f":"IF($A45=\"\",\"\",IF(ISBLANK($A45),\"\",VLOOKUP($A45,Data!$A$4:$AM$155,37,FALSE)))","v":0.41}]
[{"$f":"IF('Early Years Table'!A46=\"\",\"\",IF(ISBLANK('Early Years Table'!A46),\"\",'Early Years Table'!A46))","v":830},{"$f":"IF($A46=\"\",\"\",IF(ISBLANK($A46),\"\",INDEX('LEA Nos codes'!$A$3:$A$154,MATCH($A46,'LEA Nos codes'!$B$3:$B$154,0))))","v":"Derbyshire"},{"$f":"IF($A46=\"\",\"\",IF(ISBLANK($A46),\"\",VLOOKUP($A46,Data!$A$4:$AI$155,9,FALSE)))","v":0.61},{"$f":"IF($A46=\"\",\"\",IF(ISBLANK($A46),\"\",VLOOKUP($A46,Data!$A$4:$AI$155,10,FALSE)))","v":0.61},{"$f":"IF($A46=\"\",\"\",IF(ISBLANK($A46),\"\",VLOOKUP($A46,Data!$A$4:$AI$155,11,FALSE)))","v":0.68},null,{"$f":"IF($A46=\"\",\"\",IF(ISBLANK($A46),\"\",VLOOKUP($A46,Data!$A$4:$AM$155,37,FALSE)))","v":0.5}]
[{"$f":"IF('Early Years Table'!A47=\"\",\"\",IF(ISBLANK('Early Years Table'!A47),\"\",'Early Years Table'!A47))","v":878},{"$f":"IF($A47=\"\",\"\",IF(ISBLANK($A47),\"\",INDEX('LEA Nos codes'!$A$3:$A$154,MATCH($A47,'LEA Nos codes'!$B$3:$B$154,0))))","v":"Devon"},{"$f":"IF($A47=\"\",\"\",IF(ISBLANK($A47),\"\",VLOOKUP($A47,Data!$A$4:$AI$155,9,FALSE)))","v":0.52},{"$f":"IF($A47=\"\",\"\",IF(ISBLANK($A47),\"\",VLOOKUP($A47,Data!$A$4:$AI$155,10,FALSE)))","v":0.53},{"$f":"IF($A47=\"\",\"\",IF(ISBLANK($A47),\"\",VLOOKUP($A47,Data!$A$4:$AI$155,11,FALSE)))","v":0.68},null,{"$f":"IF($A47=\"\",\"\",IF(ISBLANK($A47),\"\",VLOOKUP($A47,Data!$A$4:$AM$155,37,FALSE)))","v":0.64}]
[{"$f":"IF('Early Years Table'!A48=\"\",\"\",IF(ISBLANK('Early Years Table'!A48),\"\",'Early Years Table'!A48))","v":371},{"$f":"IF($A48=\"\",\"\",IF(ISBLANK($A48),\"\",INDEX('LEA Nos codes'!$A$3:$A$154,MATCH($A48,'LEA Nos codes'!$B$3:$B$154,0))))","v":"Doncaster"},{"$f":"IF($A48=\"\",\"\",IF(ISBLANK($A48),\"\",VLOOKUP($A48,Data!$A$4:$AI$155,9,FALSE)))","v":0.57999999999999996},{"$f":"IF($A48=\"\",\"\",IF(ISBLANK($A48),\"\",VLOOKUP($A48,Data!$A$4:$AI$155,10,FALSE)))","v":0.56999999999999995},{"$f":"IF($A48=\"\",\"\",IF(ISBLANK($A48),\"\",VLOOKUP($A48,Data!$A$4:$AI$155,11,FALSE)))","v":0.62},null,{"$f":"IF($A48=\"\",\"\",IF(ISBLANK($A48),\"\",VLOOKUP($A48,Data!$A$4:$AM$155,37,FALSE)))","v":0.43}]
[{"$f":"IF('Early Years Table'!A49=\"\",\"\",IF(ISBLANK('Early Years Table'!A49),\"\",'Early Years Table'!A49))","v":835},{"$f":"IF($A49=\"\",\"\",IF(ISBLANK($A49),\"\",INDEX('LEA Nos codes'!$A$3:$A$154,MATCH($A49,'LEA Nos codes'!$B$3:$B$154,0))))","v":"Dorset"},{"$f":"IF($A49=\"\",\"\",IF(ISBLANK($A49),\"\",VLOOKUP($A49,Data!$A$4:$AI$155,9,FALSE)))","v":0.67},{"$f":"IF($A49=\"\",\"\",IF(ISBLANK($A49),\"\",VLOOKUP($A49,Data!$A$4:$AI$155,10,FALSE)))","v":0.67},{"$f":"IF($A49=\"\",\"\",IF(ISBLANK($A49),\"\",VLOOKUP($A49,Data!$A$4:$AI$155,11,FALSE)))","v":0.75},null,{"$f":"IF($A49=\"\",\"\",IF(ISBLANK($A49),\"\",VLOOKUP($A49,Data!$A$4:$AM$155,37,FALSE)))","v":0.61}]
[{"$f":"IF('Early Years Table'!A50=\"\",\"\",IF(ISBLANK('Early Years Table'!A50),\"\",'Early Years Table'!A50))","v":332},{"$f":"IF($A50=\"\",\"\",IF(ISBLANK($A50),\"\",INDEX('LEA Nos codes'!$A$3:$A$154,MATCH($A50,'LEA Nos codes'!$B$3:$B$154,0))))","v":"Dudley"},{"$f":"IF($A50=\"\",\"\",IF(ISBLANK($A50),\"\",VLOOKUP($A50,Data!$A$4:$AI$155,9,FALSE)))","v":0.52},{"$f":"IF($A50=\"\",\"\",IF(ISBLANK($A50),\"\",VLOOKUP($A50,Data!$A$4:$AI$155,10,FALSE)))","v":0.54},{"$f":"IF($A50=\"\",\"\",IF(ISBLANK($A50),\"\",VLOOKUP($A50,Data!$A$4:$AI$155,11,FALSE)))","v":0.6},null,{"$f":"IF($A50=\"\",\"\",IF(ISBLANK($A50),\"\",VLOOKUP($A50,Data!$A$4:$AM$155,37,FALSE)))","v":0.51}]
[{"$f":"IF('Early Years Table'!A51=\"\",\"\",IF(ISBLANK('Early Years Table'!A51),\"\",'Early Years Table'!A51))","v":840},{"$f":"IF($A51=\"\",\"\",IF(ISBLANK($A51),\"\",INDEX('LEA Nos codes'!$A$3:$A$154,MATCH($A51,'LEA Nos codes'!$B$3:$B$154,0))))","v":"Durham"},{"$f":"IF($A51=\"\",\"\",IF(ISBLANK($A51),\"\",VLOOKUP($A51,Data!$A$4:$AI$155,9,FALSE)))","v":0.51},{"$f":"IF($A51=\"\",\"\",IF(ISBLANK($A51),\"\",VLOOKUP($A51,Data!$A$4:$AI$155,10,FALSE)))","v":0.54},{"$f":"IF($A51=\"\",\"\",IF(ISBLANK($A51),\"\",VLOOKUP($A51,Data!$A$4:$AI$155,11,FALSE)))","v":0.56999999999999995},null,{"$f":"IF($A51=\"\",\"\",IF(ISBLANK($A51),\"\",VLOOKUP($A51,Data!$A$4:$AM$155,37,FALSE)))","v":0.42}]
[{"$f":"IF('Early Years Table'!A52=\"\",\"\",IF(ISBLANK('Early Years Table'!A52),\"\",'Early Years Table'!A52))","v":307},{"$f":"IF($A52=\"\",\"\",IF(ISBLANK($A52),\"\",INDEX('LEA Nos codes'!$A$3:$A$154,MATCH($A52,'LEA Nos codes'!$B$3:$B$154,0))))","v":"Ealing"},{"$f":"IF($A52=\"\",\"\",IF(ISBLANK($A52),\"\",VLOOKUP($A52,Data!$A$4:$AI$155,9,FALSE)))","v":0.53},{"$f":"IF($A52=\"\",\"\",IF(ISBLANK($A52),\"\",VLOOKUP($A52,Data!$A$4:$AI$155,10,FALSE)))","v":0.6},{"$f":"IF($A52=\"\",\"\",IF(ISBLANK($A52),\"\",VLOOKUP($A52,Data!$A$4:$AI$155,11,FALSE)))","v":0.61},null,{"$f":"IF($A52=\"\",\"\",IF(ISBLANK($A52),\"\",VLOOKUP($A52,Data!$A$4:$AM$155,37,FALSE)))","v":0.56000000000000005}]
[{"$f":"IF('Early Years Table'!A53=\"\",\"\",IF(ISBLANK('Early Years Table'!A53),\"\",'Early Years Table'!A53))","v":811},{"$f":"IF($A53=\"\",\"\",IF(ISBLANK($A53),\"\",INDEX('LEA Nos codes'!$A$3:$A$154,MATCH($A53,'LEA Nos codes'!$B$3:$B$154,0))))","v":"East Riding of Yorkshire"},{"$f":"IF($A53=\"\",\"\",IF(ISBLANK($A53),\"\",VLOOKUP($A53,Data!$A$4:$AI$155,9,FALSE)))","v":0.55000000000000004},{"$f":"IF($A53=\"\",\"\",IF(ISBLANK($A53),\"\",VLOOKUP($A53,Data!$A$4:$AI$155,10,FALSE)))","v":0.55000000000000004},{"$f":"IF($A53=\"\",\"\",IF(ISBLANK($A53),\"\",VLOOKUP($A53,Data!$A$4:$AI$155,11,FALSE)))","v":0.57999999999999996},null,{"$f":"IF($A53=\"\",\"\",IF(ISBLANK($A53),\"\",VLOOKUP($A53,Data!$A$4:$AM$155,37,FALSE)))","v":0.55000000000000004}]
[{"$f":"IF('Early Years Table'!A54=\"\",\"\",IF(ISBLANK('Early Years Table'!A54),\"\",'Early Years Table'!A54))","v":845},{"$f":"IF($A54=\"\",\"\",IF(ISBLANK($A54),\"\",INDEX('LEA Nos codes'!$A$3:$A$154,MATCH($A54,'LEA Nos codes'!$B$3:$B$154,0))))","v":"East Sussex"},{"$f":"IF($A54=\"\",\"\",IF(ISBLANK($A54),\"\",VLOOKUP($A54,Data!$A$4:$AI$155,9,FALSE)))","v":0.56000000000000005},{"$f":"IF($A54=\"\",\"\",IF(ISBLANK($A54),\"\",VLOOKUP($A54,Data!$A$4:$AI$155,10,FALSE)))","v":0.52},{"$f":"IF($A54=\"\",\"\",IF(ISBLANK($A54),\"\",VLOOKUP($A54,Data!$A$4:$AI$155,11,FALSE)))","v":0.56999999999999995},null,{"$f":"IF($A54=\"\",\"\",IF(ISBLANK($A54),\"\",VLOOKUP($A54,Data!$A$4:$AM$155,37,FALSE)))","v":0.44}]
[{"$f":"IF('Early Years Table'!A55=\"\",\"\",IF(ISBLANK('Early Years Table'!A55),\"\",'Early Years Table'!A55))","v":308},{"$f":"IF($A55=\"\",\"\",IF(ISBLANK($A55),\"\",INDEX('LEA Nos codes'!$A$3:$A$154,MATCH($A55,'LEA Nos codes'!$B$3:$B$154,0))))","v":"Enfield"},{"$f":"IF($A55=\"\",\"\",IF(ISBLANK($A55),\"\",VLOOKUP($A55,Data!$A$4:$AI$155,9,FALSE)))","v":0.51},{"$f":"IF($A55=\"\",\"\",IF(ISBLANK($A55),\"\",VLOOKUP($A55,Data!$A$4:$AI$155,10,FALSE)))","v":0.56999999999999995},{"$f":"IF($A55=\"\",\"\",IF(ISBLANK($A55),\"\",VLOOKUP($A55,Data!$A$4:$AI$155,11,FALSE)))","v":0.59},null,{"$f":"IF($A55=\"\",\"\",IF(ISBLANK($A55),\"\",VLOOKUP($A55,Data!$A$4:$AM$155,37,FALSE)))","v":0.49}]
[{"$f":"IF('Early Years Table'!A56=\"\",\"\",IF(ISBLANK('Early Years Table'!A56),\"\",'Early Years Table'!A56))","v":881},{"$f":"IF($A56=\"\",\"\",IF(ISBLANK($A56),\"\",INDEX('LEA Nos codes'!$A$3:$A$154,MATCH($A56,'LEA Nos codes'!$B$3:$B$154,0))))","v":"Essex"},{"$f":"IF($A56=\"\",\"\",IF(ISBLANK($A56),\"\",VLOOKUP($A56,Data!$A$4:$AI$155,9,FALSE)))","v":0.5},{"$f":"IF($A56=\"\",\"\",IF(ISBLANK($A56),\"\",VLOOKUP($A56,Data!$A$4:$AI$155,10,FALSE)))","v":0.52},{"$f":"IF($A56=\"\",\"\",IF(ISBLANK($A56),\"\",VLOOKUP($A56,Data!$A$4:$AI$155,11,FALSE)))","v":0.6},null,{"$f":"IF($A56=\"\",\"\",IF(ISBLANK($A56),\"\",VLOOKUP($A56,Data!$A$4:$AM$155,37,FALSE)))","v":0.53}]
[{"$f":"IF('Early Years Table'!A57=\"\",\"\",IF(ISBLANK('Early Years Table'!A57),\"\",'Early Years Table'!A57))","v":390},{"$f":"IF($A57=\"\",\"\",IF(ISBLANK($A57),\"\",INDEX('LEA Nos codes'!$A$3:$A$154,MATCH($A57,'LEA Nos codes'!$B$3:$B$154,0))))","v":"Gateshead"},{"$f":"IF($A57=\"\",\"\",IF(ISBLANK($A57),\"\",VLOOKUP($A57,Data!$A$4:$AI$155,9,FALSE)))","v":0.51},{"$f":"IF($A57=\"\",\"\",IF(ISBLANK($A57),\"\",VLOOKUP($A57,Data!$A$4:$AI$155,10,FALSE)))","v":0.53},{"$f":"IF($A57=\"\",\"\",IF(ISBLANK($A57),\"\",VLOOKUP($A57,Data!$A$4:$AI$155,11,FALSE)))","v":0.56999999999999995},null,{"$f":"IF($A57=\"\",\"\",IF(ISBLANK($A57),\"\",VLOOKUP($A57,Data!$A$4:$AM$155,37,FALSE)))","v":0.34}]
[{"$f":"IF('Early Years Table'!A58=\"\",\"\",IF(ISBLANK('Early Years Table'!A58),\"\",'Early Years Table'!A58))","v":916},{"$f":"IF($A58=\"\",\"\",IF(ISBLANK($A58),\"\",INDEX('LEA Nos codes'!$A$3:$A$154,MATCH($A58,'LEA Nos codes'!$B$3:$B$154,0))))","v":"Gloucestershire"},{"$f":"IF($A58=\"\",\"\",IF(ISBLANK($A58),\"\",VLOOKUP($A58,Data!$A$4:$AI$155,9,FALSE)))","v":0.6},{"$f":"IF($A58=\"\",\"\",IF(ISBLANK($A58),\"\",VLOOKUP($A58,Data!$A$4:$AI$155,10,FALSE)))","v":0.59},{"$f":"IF($A58=\"\",\"\",IF(ISBLANK($A58),\"\",VLOOKUP($A58,Data!$A$4:$AI$155,11,FALSE)))","v":0.64},null,{"$f":"IF($A58=\"\",\"\",IF(ISBLANK($A58),\"\",VLOOKUP($A58,Data!$A$4:$AM$155,37,FALSE)))","v":0.52}]
[{"$f":"IF('Early Years Table'!A59=\"\",\"\",IF(ISBLANK('Early Years Table'!A59),\"\",'Early Years Table'!A59))","v":203},{"$f":"IF($A59=\"\",\"\",IF(ISBLANK($A59),\"\",INDEX('LEA Nos codes'!$A$3:$A$154,MATCH($A59,'LEA Nos codes'!$B$3:$B$154,0))))","v":"Greenwich"},{"$f":"IF($A59=\"\",\"\",IF(ISBLANK($A59),\"\",VLOOKUP($A59,Data!$A$4:$AI$155,9,FALSE)))","v":0.61},{"$f":"IF($A59=\"\",\"\",IF(ISBLANK($A59),\"\",VLOOKUP($A59,Data!$A$4:$AI$155,10,FALSE)))","v":0.63},{"$f":"IF($A59=\"\",\"\",IF(ISBLANK($A59),\"\",VLOOKUP($A59,Data!$A$4:$AI$155,11,FALSE)))","v":0.74},null,{"$f":"IF($A59=\"\",\"\",IF(ISBLANK($A59),\"\",VLOOKUP($A59,Data!$A$4:$AM$155,37,FALSE)))","v":0.69}]
[{"$f":"IF('Early Years Table'!A60=\"\",\"\",IF(ISBLANK('Early Years Table'!A60),\"\",'Early Years Table'!A60))","v":204},{"$f":"IF($A60=\"\",\"\",IF(ISBLANK($A60),\"\",INDEX('LEA Nos codes'!$A$3:$A$154,MATCH($A60,'LEA Nos codes'!$B$3:$B$154,0))))","v":"Hackney"},{"$f":"IF($A60=\"\",\"\",IF(ISBLANK($A60),\"\",VLOOKUP($A60,Data!$A$4:$AI$155,9,FALSE)))","v":0.48},{"$f":"IF($A60=\"\",\"\",IF(ISBLANK($A60),\"\",VLOOKUP($A60,Data!$A$4:$AI$155,10,FALSE)))","v":0.54},{"$f":"IF($A60=\"\",\"\",IF(ISBLANK($A60),\"\",VLOOKUP($A60,Data!$A$4:$AI$155,11,FALSE)))","v":0.63},null,{"$f":"IF($A60=\"\",\"\",IF(ISBLANK($A60),\"\",VLOOKUP($A60,Data!$A$4:$AM$155,37,FALSE)))","v":0.56999999999999995}]
[{"$f":"IF('Early Years Table'!A61=\"\",\"\",IF(ISBLANK('Early Years Table'!A61),\"\",'Early Years Table'!A61))","v":876},{"$f":"IF($A61=\"\",\"\",IF(ISBLANK($A61),\"\",INDEX('LEA Nos codes'!$A$3:$A$154,MATCH($A61,'LEA Nos codes'!$B$3:$B$154,0))))","v":"Halton"},{"$f":"IF($A61=\"\",\"\",IF(ISBLANK($A61),\"\",VLOOKUP($A61,Data!$A$4:$AI$155,9,FALSE)))","v":0.5},{"$f":"IF($A61=\"\",\"\",IF(ISBLANK($A61),\"\",VLOOKUP($A61,Data!$A$4:$AI$155,10,FALSE)))","v":0.48},{"$f":"IF($A61=\"\",\"\",IF(ISBLANK($A61),\"\",VLOOKUP($A61,Data!$A$4:$AI$155,11,FALSE)))","v":0.54},null,{"$f":"IF($A61=\"\",\"\",IF(ISBLANK($A61),\"\",VLOOKUP($A61,Data!$A$4:$AM$155,37,FALSE)))","v":0.37}]
[{"$f":"IF('Early Years Table'!A62=\"\",\"\",IF(ISBLANK('Early Years Table'!A62),\"\",'Early Years Table'!A62))","v":205},{"$f":"IF($A62=\"\",\"\",IF(ISBLANK($A62),\"\",INDEX('LEA Nos codes'!$A$3:$A$154,MATCH($A62,'LEA Nos codes'!$B$3:$B$154,0))))","v":"Hammersmith and Fulham"},{"$f":"IF($A62=\"\",\"\",IF(ISBLANK($A62),\"\",VLOOKUP($A62,Data!$A$4:$AI$155,9,FALSE)))","v":0.62},{"$f":"IF($A62=\"\",\"\",IF(ISBLANK($A62),\"\",VLOOKUP($A62,Data!$A$4:$AI$155,10,FALSE)))","v":0.68},{"$f":"IF($A62=\"\",\"\",IF(ISBLANK($A62),\"\",VLOOKUP($A62,Data!$A$4:$AI$155,11,FALSE)))","v":0.7},null,{"$f":"IF($A62=\"\",\"\",IF(ISBLANK($A62),\"\",VLOOKUP($A62,Data!$A$4:$AM$155,37,FALSE)))","v":0.53}]
[{"$f":"IF('Early Years Table'!A63=\"\",\"\",IF(ISBLANK('Early Years Table'!A63),\"\",'Early Years Table'!A63))","v":850},{"$f":"IF($A63=\"\",\"\",IF(ISBLANK($A63),\"\",INDEX('LEA Nos codes'!$A$3:$A$154,MATCH($A63,'LEA Nos codes'!$B$3:$B$154,0))))","v":"Hampshire"},{"$f":"IF($A63=\"\",\"\",IF(ISBLANK($A63),\"\",VLOOKUP($A63,Data!$A$4:$AI$155,9,FALSE)))","v":0.54},{"$f":"IF($A63=\"\",\"\",IF(ISBLANK($A63),\"\",VLOOKUP($A63,Data!$A$4:$AI$155,10,FALSE)))","v":0.57999999999999996},{"$f":"IF($A63=\"\",\"\",IF(ISBLANK($A63),\"\",VLOOKUP($A63,Data!$A$4:$AI$155,11,FALSE)))","v":0.64},null,{"$f":"IF($A63=\"\",\"\",IF(ISBLANK($A63),\"\",VLOOKUP($A63,Data!$A$4:$AM$155,37,FALSE)))","v":0.59}]
[{"$f":"IF('Early Years Table'!A64=\"\",\"\",IF(ISBLANK('Early Years Table'!A64),\"\",'Early Years Table'!A64))","v":309},{"$f":"IF($A64=\"\",\"\",IF(ISBLANK($A64),\"\",INDEX('LEA Nos codes'!$A$3:$A$154,MATCH($A64,'LEA Nos codes'!$B$3:$B$154,0))))","v":"Haringey"},{"$f":"IF($A64=\"\",\"\",IF(ISBLANK($A64),\"\",VLOOKUP($A64,Data!$A$4:$AI$155,9,FALSE)))","v":0.42},{"$f":"IF($A64=\"\",\"\",IF(ISBLANK($A64),\"\",VLOOKUP($A64,Data!$A$4:$AI$155,10,FALSE)))","v":0.54},{"$f":"IF($A64=\"\",\"\",IF(ISBLANK($A64),\"\",VLOOKUP($A64,Data!$A$4:$AI$155,11,FALSE)))","v":0.56000000000000005},null,{"$f":"IF($A64=\"\",\"\",IF(ISBLANK($A64),\"\",VLOOKUP($A64,Data!$A$4:$AM$155,37,FALSE)))","v":0.5}]
[{"$f":"IF('Early Years Table'!A65=\"\",\"\",IF(ISBLANK('Early Years Table'!A65),\"\",'Early Years Table'!A65))","v":310},{"$f":"IF($A65=\"\",\"\",IF(ISBLANK($A65),\"\",INDEX('LEA Nos codes'!$A$3:$A$154,MATCH($A65,'LEA Nos codes'!$B$3:$B$154,0))))","v":"Harrow"},{"$f":"IF($A65=\"\",\"\",IF(ISBLANK($A65),\"\",VLOOKUP($A65,Data!$A$4:$AI$155,9,FALSE)))","v":0.53},{"$f":"IF($A65=\"\",\"\",IF(ISBLANK($A65),\"\",VLOOKUP($A65,Data!$A$4:$AI$155,10,FALSE)))","v":0.56000000000000005},{"$f":"IF($A65=\"\",\"\",IF(ISBLANK($A65),\"\",VLOOKUP($A65,Data!$A$4:$AI$155,11,FALSE)))","v":0.6},null,{"$f":"IF($A65=\"\",\"\",IF(ISBLANK($A65),\"\",VLOOKUP($A65,Data!$A$4:$AM$155,37,FALSE)))","v":0.45}]
[{"$f":"IF('Early Years Table'!A66=\"\",\"\",IF(ISBLANK('Early Years Table'!A66),\"\",'Early Years Table'!A66))","v":805},{"$f":"IF($A66=\"\",\"\",IF(ISBLANK($A66),\"\",INDEX('LEA Nos codes'!$A$3:$A$154,MATCH($A66,'LEA Nos codes'!$B$3:$B$154,0))))","v":"Hartlepool"},{"$f":"IF($A66=\"\",\"\",IF(ISBLANK($A66),\"\",VLOOKUP($A66,Data!$A$4:$AI$155,9,FALSE)))","v":0.6},{"$f":"IF($A66=\"\",\"\",IF(ISBLANK($A66),\"\",VLOOKUP($A66,Data!$A$4:$AI$155,10,FALSE)))","v":0.63},{"$f":"IF($A66=\"\",\"\",IF(ISBLANK($A66),\"\",VLOOKUP($A66,Data!$A$4:$AI$155,11,FALSE)))","v":0.69},null,{"$f":"IF($A66=\"\",\"\",IF(ISBLANK($A66),\"\",VLOOKUP($A66,Data!$A$4:$AM$155,37,FALSE)))","v":0.48}]
[{"$f":"IF('Early Years Table'!A67=\"\",\"\",IF(ISBLANK('Early Years Table'!A67),\"\",'Early Years Table'!A67))","v":311},{"$f":"IF($A67=\"\",\"\",IF(ISBLANK($A67),\"\",INDEX('LEA Nos codes'!$A$3:$A$154,MATCH($A67,'LEA Nos codes'!$B$3:$B$154,0))))","v":"Havering"},{"$f":"IF($A67=\"\",\"\",IF(ISBLANK($A67),\"\",VLOOKUP($A67,Data!$A$4:$AI$155,9,FALSE)))","v":0.6},{"$f":"IF($A67=\"\",\"\",IF(ISBLANK($A67),\"\",VLOOKUP($A67,Data!$A$4:$AI$155,10,FALSE)))","v":0.59},{"$f":"IF($A67=\"\",\"\",IF(ISBLANK($A67),\"\",VLOOKUP($A67,Data!$A$4:$AI$155,11,FALSE)))","v":0.6},null,{"$f":"IF($A67=\"\",\"\",IF(ISBLANK($A67),\"\",VLOOKUP($A67,Data!$A$4:$AM$155,37,FALSE)))","v":0.59}]
[{"$f":"IF('Early Years Table'!A68=\"\",\"\",IF(ISBLANK('Early Years Table'!A68),\"\",'Early Years Table'!A68))","v":884},{"$f":"IF($A68=\"\",\"\",IF(ISBLANK($A68),\"\",INDEX('LEA Nos codes'!$A$3:$A$154,MATCH($A68,'LEA Nos codes'!$B$3:$B$154,0))))","v":"Herefordshire"},{"$f":"IF($A68=\"\",\"\",IF(ISBLANK($A68),\"\",VLOOKUP($A68,Data!$A$4:$AI$155,9,FALSE)))","v":0.45},{"$f":"IF($A68=\"\",\"\",IF(ISBLANK($A68),\"\",VLOOKUP($A68,Data!$A$4:$AI$155,10,FALSE)))","v":0.56000000000000005},{"$f":"IF($A68=\"\",\"\",IF(ISBLANK($A68),\"\",VLOOKUP($A68,Data!$A$4:$AI$155,11,FALSE)))","v":0.61},null,{"$f":"IF($A68=\"\",\"\",IF(ISBLANK($A68),\"\",VLOOKUP($A68,Data!$A$4:$AM$155,37,FALSE)))","v":0.55000000000000004}]
[{"$f":"IF('Early Years Table'!A69=\"\",\"\",IF(ISBLANK('Early Years Table'!A69),\"\",'Early Years Table'!A69))","v":919},{"$f":"IF($A69=\"\",\"\",IF(ISBLANK($A69),\"\",INDEX('LEA Nos codes'!$A$3:$A$154,MATCH($A69,'LEA Nos codes'!$B$3:$B$154,0))))","v":"Hertfordshire"},{"$f":"IF($A69=\"\",\"\",IF(ISBLANK($A69),\"\",VLOOKUP($A69,Data!$A$4:$AI$155,9,FALSE)))","v":0.61},{"$f":"IF($A69=\"\",\"\",IF(ISBLANK($A69),\"\",VLOOKUP($A69,Data!$A$4:$AI$155,10,FALSE)))","v":0.61},{"$f":"IF($A69=\"\",\"\",IF(ISBLANK($A69),\"\",VLOOKUP($A69,Data!$A$4:$AI$155,11,FALSE)))","v":0.68},null,{"$f":"IF($A69=\"\",\"\",IF(ISBLANK($A69),\"\",VLOOKUP($A69,Data!$A$4:$AM$155,37,FALSE)))","v":0.61}]
[{"$f":"IF('Early Years Table'!A70=\"\",\"\",IF(ISBLANK('Early Years Table'!A70),\"\",'Early Years Table'!A70))","v":312},{"$f":"IF($A70=\"\",\"\",IF(ISBLANK($A70),\"\",INDEX('LEA Nos codes'!$A$3:$A$154,MATCH($A70,'LEA Nos codes'!$B$3:$B$154,0))))","v":"Hillingdon"},{"$f":"IF($A70=\"\",\"\",IF(ISBLANK($A70),\"\",VLOOKUP($A70,Data!$A$4:$AI$155,9,FALSE)))","v":0.6},{"$f":"IF($A70=\"\",\"\",IF(ISBLANK($A70),\"\",VLOOKUP($A70,Data!$A$4:$AI$155,10,FALSE)))","v":0.59},{"$f":"IF($A70=\"\",\"\",IF(ISBLANK($A70),\"\",VLOOKUP($A70,Data!$A$4:$AI$155,11,FALSE)))","v":0.63},null,{"$f":"IF($A70=\"\",\"\",IF(ISBLANK($A70),\"\",VLOOKUP($A70,Data!$A$4:$AM$155,37,FALSE)))","v":0.41}]
[{"$f":"IF('Early Years Table'!A71=\"\",\"\",IF(ISBLANK('Early Years Table'!A71),\"\",'Early Years Table'!A71))","v":313},{"$f":"IF($A71=\"\",\"\",IF(ISBLANK($A71),\"\",INDEX('LEA Nos codes'!$A$3:$A$154,MATCH($A71,'LEA Nos codes'!$B$3:$B$154,0))))","v":"Hounslow"},{"$f":"IF($A71=\"\",\"\",IF(ISBLANK($A71),\"\",VLOOKUP($A71,Data!$A$4:$AI$155,9,FALSE)))","v":0.54},{"$f":"IF($A71=\"\",\"\",IF(ISBLANK($A71),\"\",VLOOKUP($A71,Data!$A$4:$AI$155,10,FALSE)))","v":0.52},{"$f":"IF($A71=\"\",\"\",IF(ISBLANK($A71),\"\",VLOOKUP($A71,Data!$A$4:$AI$155,11,FALSE)))","v":0.59},null,{"$f":"IF($A71=\"\",\"\",IF(ISBLANK($A71),\"\",VLOOKUP($A71,Data!$A$4:$AM$155,37,FALSE)))","v":0.4}]
[{"$f":"IF('Early Years Table'!A72=\"\",\"\",IF(ISBLANK('Early Years Table'!A72),\"\",'Early Years Table'!A72))","v":921},{"$f":"IF($A72=\"\",\"\",IF(ISBLANK($A72),\"\",INDEX('LEA Nos codes'!$A$3:$A$154,MATCH($A72,'LEA Nos codes'!$B$3:$B$154,0))))","v":"Isle of Wight"},{"$f":"IF($A72=\"\",\"\",IF(ISBLANK($A72),\"\",VLOOKUP($A72,Data!$A$4:$AI$155,9,FALSE)))","v":0.56000000000000005},{"$f":"IF($A72=\"\",\"\",IF(ISBLANK($A72),\"\",VLOOKUP($A72,Data!$A$4:$AI$155,10,FALSE)))","v":0.6},{"$f":"IF($A72=\"\",\"\",IF(ISBLANK($A72),\"\",VLOOKUP($A72,Data!$A$4:$AI$155,11,FALSE)))","v":0.59},null,{"$f":"IF($A72=\"\",\"\",IF(ISBLANK($A72),\"\",VLOOKUP($A72,Data!$A$4:$AM$155,37,FALSE)))","v":0.45}]
[{"$f":"IF('Early Years Table'!A73=\"\",\"\",IF(ISBLANK('Early Years Table'!A73),\"\",'Early Years Table'!A73))","v":420},{"$f":"IF($A73=\"\",\"\",IF(ISBLANK($A73),\"\",INDEX('LEA Nos codes'!$A$3:$A$154,MATCH($A73,'LEA Nos codes'!$B$3:$B$154,0))))","v":"Isles of Scilly"},{"$f":"IF($A73=\"\",\"\",IF(ISBLANK($A73),\"\",VLOOKUP($A73,Data!$A$4:$AI$155,9,FALSE)))","v":0.67},{"$f":"IF($A73=\"\",\"\",IF(ISBLANK($A73),\"\",VLOOKUP($A73,Data!$A$4:$AI$155,10,FALSE)))","v":0.62},{"$f":"IF($A73=\"\",\"\",IF(ISBLANK($A73),\"\",VLOOKUP($A73,Data!$A$4:$AI$155,11,FALSE)))","v":0.69},null,{"$f":"IF($A73=\"\",\"\",IF(ISBLANK($A73),\"\",VLOOKUP($A73,Data!$A$4:$AM$155,37,FALSE)))","v":1}]
[{"$f":"IF('Early Years Table'!A74=\"\",\"\",IF(ISBLANK('Early Years Table'!A74),\"\",'Early Years Table'!A74))","v":206},{"$f":"IF($A74=\"\",\"\",IF(ISBLANK($A74),\"\",INDEX('LEA Nos codes'!$A$3:$A$154,MATCH($A74,'LEA Nos codes'!$B$3:$B$154,0))))","v":"Islington"},{"$f":"IF($A74=\"\",\"\",IF(ISBLANK($A74),\"\",VLOOKUP($A74,Data!$A$4:$AI$155,9,FALSE)))","v":0.47},{"$f":"IF($A74=\"\",\"\",IF(ISBLANK($A74),\"\",VLOOKUP($A74,Data!$A$4:$AI$155,10,FALSE)))","v":0.55000000000000004},{"$f":"IF($A74=\"\",\"\",IF(ISBLANK($A74),\"\",VLOOKUP($A74,Data!$A$4:$AI$155,11,FALSE)))","v":0.6},null,{"$f":"IF($A74=\"\",\"\",IF(ISBLANK($A74),\"\",VLOOKUP($A74,Data!$A$4:$AM$155,37,FALSE)))","v":0.44}]
[{"$f":"IF('Early Years Table'!A75=\"\",\"\",IF(ISBLANK('Early Years Table'!A75),\"\",'Early Years Table'!A75))","v":207},{"$f":"IF($A75=\"\",\"\",IF(ISBLANK($A75),\"\",INDEX('LEA Nos codes'!$A$3:$A$154,MATCH($A75,'LEA Nos codes'!$B$3:$B$154,0))))","v":"Kensington and Chelsea"},{"$f":"IF($A75=\"\",\"\",IF(ISBLANK($A75),\"\",VLOOKUP($A75,Data!$A$4:$AI$155,9,FALSE)))","v":0.59},{"$f":"IF($A75=\"\",\"\",IF(ISBLANK($A75),\"\",VLOOKUP($A75,Data!$A$4:$AI$155,10,FALSE)))","v":0.63},{"$f":"IF($A75=\"\",\"\",IF(ISBLANK($A75),\"\",VLOOKUP($A75,Data!$A$4:$AI$155,11,FALSE)))","v":0.69},null,{"$f":"IF($A75=\"\",\"\",IF(ISBLANK($A75),\"\",VLOOKUP($A75,Data!$A$4:$AM$155,37,FALSE)))","v":0.48}]
[{"$f":"IF('Early Years Table'!A76=\"\",\"\",IF(ISBLANK('Early Years Table'!A76),\"\",'Early Years Table'!A76))","v":886},{"$f":"IF($A76=\"\",\"\",IF(ISBLANK($A76),\"\",INDEX('LEA Nos codes'!$A$3:$A$154,MATCH($A76,'LEA Nos codes'!$B$3:$B$154,0))))","v":"Kent"},{"$f":"IF($A76=\"\",\"\",IF(ISBLANK($A76),\"\",VLOOKUP($A76,Data!$A$4:$AI$155,9,FALSE)))","v":0.61},{"$f":"IF($A76=\"\",\"\",IF(ISBLANK($A76),\"\",VLOOKUP($A76,Data!$A$4:$AI$155,10,FALSE)))","v":0.65},{"$f":"IF($A76=\"\",\"\",IF(ISBLANK($A76),\"\",VLOOKUP($A76,Data!$A$4:$AI$155,11,FALSE)))","v":0.72},null,{"$f":"IF($A76=\"\",\"\",IF(ISBLANK($A76),\"\",VLOOKUP($A76,Data!$A$4:$AM$155,37,FALSE)))","v":0.63}]
[{"$f":"IF('Early Years Table'!A77=\"\",\"\",IF(ISBLANK('Early Years Table'!A77),\"\",'Early Years Table'!A77))","v":314},{"$f":"IF($A77=\"\",\"\",IF(ISBLANK($A77),\"\",INDEX('LEA Nos codes'!$A$3:$A$154,MATCH($A77,'LEA Nos codes'!$B$3:$B$154,0))))","v":"Kingston upon Thames"},{"$f":"IF($A77=\"\",\"\",IF(ISBLANK($A77),\"\",VLOOKUP($A77,Data!$A$4:$AI$155,9,FALSE)))","v":0.66},{"$f":"IF($A77=\"\",\"\",IF(ISBLANK($A77),\"\",VLOOKUP($A77,Data!$A$4:$AI$155,10,FALSE)))","v":0.66},{"$f":"IF($A77=\"\",\"\",IF(ISBLANK($A77),\"\",VLOOKUP($A77,Data!$A$4:$AI$155,11,FALSE)))","v":0.71},null,{"$f":"IF($A77=\"\",\"\",IF(ISBLANK($A77),\"\",VLOOKUP($A77,Data!$A$4:$AM$155,37,FALSE)))","v":0.56999999999999995}]
[{"$f":"IF('Early Years Table'!A78=\"\",\"\",IF(ISBLANK('Early Years Table'!A78),\"\",'Early Years Table'!A78))","v":382},{"$f":"IF($A78=\"\",\"\",IF(ISBLANK($A78),\"\",INDEX('LEA Nos codes'!$A$3:$A$154,MATCH($A78,'LEA Nos codes'!$B$3:$B$154,0))))","v":"Kirklees"},{"$f":"IF($A78=\"\",\"\",IF(ISBLANK($A78),\"\",VLOOKUP($A78,Data!$A$4:$AI$155,9,FALSE)))","v":0.62},{"$f":"IF($A78=\"\",\"\",IF(ISBLANK($A78),\"\",VLOOKUP($A78,Data!$A$4:$AI$155,10,FALSE)))","v":0.63},{"$f":"IF($A78=\"\",\"\",IF(ISBLANK($A78),\"\",VLOOKUP($A78,Data!$A$4:$AI$155,11,FALSE)))","v":0.68},null,{"$f":"IF($A78=\"\",\"\",IF(ISBLANK($A78),\"\",VLOOKUP($A78,Data!$A$4:$AM$155,37,FALSE)))","v":0.53}]
[{"$f":"IF('Early Years Table'!A79=\"\",\"\",IF(ISBLANK('Early Years Table'!A79),\"\",'Early Years Table'!A79))","v":340},{"$f":"IF($A79=\"\",\"\",IF(ISBLANK($A79),\"\",INDEX('LEA Nos codes'!$A$3:$A$154,MATCH($A79,'LEA Nos codes'!$B$3:$B$154,0))))","v":"Knowsley"},{"$f":"IF($A79=\"\",\"\",IF(ISBLANK($A79),\"\",VLOOKUP($A79,Data!$A$4:$AI$155,9,FALSE)))","v":0.56999999999999995},{"$f":"IF($A79=\"\",\"\",IF(ISBLANK($A79),\"\",VLOOKUP($A79,Data!$A$4:$AI$155,10,FALSE)))","v":0.61},{"$f":"IF($A79=\"\",\"\",IF(ISBLANK($A79),\"\",VLOOKUP($A79,Data!$A$4:$AI$155,11,FALSE)))","v":0.66},null,{"$f":"IF($A79=\"\",\"\",IF(ISBLANK($A79),\"\",VLOOKUP($A79,Data!$A$4:$AM$155,37,FALSE)))","v":0.55000000000000004}]
[{"$f":"IF('Early Years Table'!A80=\"\",\"\",IF(ISBLANK('Early Years Table'!A80),\"\",'Early Years Table'!A80))","v":208},{"$f":"IF($A80=\"\",\"\",IF(ISBLANK($A80),\"\",INDEX('LEA Nos codes'!$A$3:$A$154,MATCH($A80,'LEA Nos codes'!$B$3:$B$154,0))))","v":"Lambeth"},{"$f":"IF($A80=\"\",\"\",IF(ISBLANK($A80),\"\",VLOOKUP($A80,Data!$A$4:$AI$155,9,FALSE)))","v":0.55000000000000004},{"$f":"IF($A80=\"\",\"\",IF(ISBLANK($A80),\"\",VLOOKUP($A80,Data!$A$4:$AI$155,10,FALSE)))","v":0.59},{"$f":"IF($A80=\"\",\"\",IF(ISBLANK($A80),\"\",VLOOKUP($A80,Data!$A$4:$AI$155,11,FALSE)))","v":0.63},null,{"$f":"IF($A80=\"\",\"\",IF(ISBLANK($A80),\"\",VLOOKUP($A80,Data!$A$4:$AM$155,37,FALSE)))","v":0.46}]
[{"$f":"IF('Early Years Table'!A81=\"\",\"\",IF(ISBLANK('Early Years Table'!A81),\"\",'Early Years Table'!A81))","v":888},{"$f":"IF($A81=\"\",\"\",IF(ISBLANK($A81),\"\",INDEX('LEA Nos codes'!$A$3:$A$154,MATCH($A81,'LEA Nos codes'!$B$3:$B$154,0))))","v":"Lancashire"},{"$f":"IF($A81=\"\",\"\",IF(ISBLANK($A81),\"\",VLOOKUP($A81,Data!$A$4:$AI$155,9,FALSE)))","v":0.56000000000000005},{"$f":"IF($A81=\"\",\"\",IF(ISBLANK($A81),\"\",VLOOKUP($A81,Data!$A$4:$AI$155,10,FALSE)))","v":0.59},{"$f":"IF($A81=\"\",\"\",IF(ISBLANK($A81),\"\",VLOOKUP($A81,Data!$A$4:$AI$155,11,FALSE)))","v":0.64},null,{"$f":"IF($A81=\"\",\"\",IF(ISBLANK($A81),\"\",VLOOKUP($A81,Data!$A$4:$AM$155,37,FALSE)))","v":0.59}]
[{"$f":"IF('Early Years Table'!A82=\"\",\"\",IF(ISBLANK('Early Years Table'!A82),\"\",'Early Years Table'!A82))","v":383},{"$f":"IF($A82=\"\",\"\",IF(ISBLANK($A82),\"\",INDEX('LEA Nos codes'!$A$3:$A$154,MATCH($A82,'LEA Nos codes'!$B$3:$B$154,0))))","v":"Leeds"},{"$f":"IF($A82=\"\",\"\",IF(ISBLANK($A82),\"\",VLOOKUP($A82,Data!$A$4:$AI$155,9,FALSE)))","v":0.53},{"$f":"IF($A82=\"\",\"\",IF(ISBLANK($A82),\"\",VLOOKUP($A82,Data!$A$4:$AI$155,10,FALSE)))","v":0.57999999999999996},{"$f":"IF($A82=\"\",\"\",IF(ISBLANK($A82),\"\",VLOOKUP($A82,Data!$A$4:$AI$155,11,FALSE)))","v":0.63},null,{"$f":"IF($A82=\"\",\"\",IF(ISBLANK($A82),\"\",VLOOKUP($A82,Data!$A$4:$AM$155,37,FALSE)))","v":0.51}]
[{"$f":"IF('Early Years Table'!A83=\"\",\"\",IF(ISBLANK('Early Years Table'!A83),\"\",'Early Years Table'!A83))","v":856},{"$f":"IF($A83=\"\",\"\",IF(ISBLANK($A83),\"\",INDEX('LEA Nos codes'!$A$3:$A$154,MATCH($A83,'LEA Nos codes'!$B$3:$B$154,0))))","v":"Leicester"},{"$f":"IF($A83=\"\",\"\",IF(ISBLANK($A83),\"\",VLOOKUP($A83,Data!$A$4:$AI$155,9,FALSE)))","v":0.46},{"$f":"IF($A83=\"\",\"\",IF(ISBLANK($A83),\"\",VLOOKUP($A83,Data!$A$4:$AI$155,10,FALSE)))","v":0.56000000000000005},{"$f":"IF($A83=\"\",\"\",IF(ISBLANK($A83),\"\",VLOOKUP($A83,Data!$A$4:$AI$155,11,FALSE)))","v":0.64},null,{"$f":"IF($A83=\"\",\"\",IF(ISBLANK($A83),\"\",VLOOKUP($A83,Data!$A$4:$AM$155,37,FALSE)))","v":0.28000000000000003}]
[{"$f":"IF('Early Years Table'!A84=\"\",\"\",IF(ISBLANK('Early Years Table'!A84),\"\",'Early Years Table'!A84))","v":855},{"$f":"IF($A84=\"\",\"\",IF(ISBLANK($A84),\"\",INDEX('LEA Nos codes'!$A$3:$A$154,MATCH($A84,'LEA Nos codes'!$B$3:$B$154,0))))","v":"Leicestershire"},{"$f":"IF($A84=\"\",\"\",IF(ISBLANK($A84),\"\",VLOOKUP($A84,Data!$A$4:$AI$155,9,FALSE)))","v":0.56000000000000005},{"$f":"IF($A84=\"\",\"\",IF(ISBLANK($A84),\"\",VLOOKUP($A84,Data!$A$4:$AI$155,10,FALSE)))","v":0.59},{"$f":"IF($A84=\"\",\"\",IF(ISBLANK($A84),\"\",VLOOKUP($A84,Data!$A$4:$AI$155,11,FALSE)))","v":0.63},null,{"$f":"IF($A84=\"\",\"\",IF(ISBLANK($A84),\"\",VLOOKUP($A84,Data!$A$4:$AM$155,37,FALSE)))","v":0.46}]
[{"$f":"IF('Early Years Table'!A85=\"\",\"\",IF(ISBLANK('Early Years Table'!A85),\"\",'Early Years Table'!A85))","v":209},{"$f":"IF($A85=\"\",\"\",IF(ISBLANK($A85),\"\",INDEX('LEA Nos codes'!$A$3:$A$154,MATCH($A85,'LEA Nos codes'!$B$3:$B$154,0))))","v":"Lewisham"},{"$f":"IF($A85=\"\",\"\",IF(ISBLANK($A85),\"\",VLOOKUP($A85,Data!$A$4:$AI$155,9,FALSE)))","v":0.56000000000000005},{"$f":"IF($A85=\"\",\"\",IF(ISBLANK($A85),\"\",VLOOKUP($A85,Data!$A$4:$AI$155,10,FALSE)))","v":0.61},{"$f":"IF($A85=\"\",\"\",IF(ISBLANK($A85),\"\",VLOOKUP($A85,Data!$A$4:$AI$155,11,FALSE)))","v":0.68},null,{"$f":"IF($A85=\"\",\"\",IF(ISBLANK($A85),\"\",VLOOKUP($A85,Data!$A$4:$AM$155,37,FALSE)))","v":0.68}]
[{"$f":"IF('Early Years Table'!A86=\"\",\"\",IF(ISBLANK('Early Years Table'!A86),\"\",'Early Years Table'!A86))","v":925},{"$f":"IF($A86=\"\",\"\",IF(ISBLANK($A86),\"\",INDEX('LEA Nos codes'!$A$3:$A$154,MATCH($A86,'LEA Nos codes'!$B$3:$B$154,0))))","v":"Lincolnshire"},{"$f":"IF($A86=\"\",\"\",IF(ISBLANK($A86),\"\",VLOOKUP($A86,Data!$A$4:$AI$155,9,FALSE)))","v":0.57999999999999996},{"$f":"IF($A86=\"\",\"\",IF(ISBLANK($A86),\"\",VLOOKUP($A86,Data!$A$4:$AI$155,10,FALSE)))","v":0.65},{"$f":"IF($A86=\"\",\"\",IF(ISBLANK($A86),\"\",VLOOKUP($A86,Data!$A$4:$AI$155,11,FALSE)))","v":0.7},null,{"$f":"IF($A86=\"\",\"\",IF(ISBLANK($A86),\"\",VLOOKUP($A86,Data!$A$4:$AM$155,37,FALSE)))","v":0.65}]
[{"$f":"IF('Early Years Table'!A87=\"\",\"\",IF(ISBLANK('Early Years Table'!A87),\"\",'Early Years Table'!A87))","v":341},{"$f":"IF($A87=\"\",\"\",IF(ISBLANK($A87),\"\",INDEX('LEA Nos codes'!$A$3:$A$154,MATCH($A87,'LEA Nos codes'!$B$3:$B$154,0))))","v":"Liverpool"},{"$f":"IF($A87=\"\",\"\",IF(ISBLANK($A87),\"\",VLOOKUP($A87,Data!$A$4:$AI$155,9,FALSE)))","v":0.46},{"$f":"IF($A87=\"\",\"\",IF(ISBLANK($A87),\"\",VLOOKUP($A87,Data!$A$4:$AI$155,10,FALSE)))","v":0.51},{"$f":"IF($A87=\"\",\"\",IF(ISBLANK($A87),\"\",VLOOKUP($A87,Data!$A$4:$AI$155,11,FALSE)))","v":0.55000000000000004},null,{"$f":"IF($A87=\"\",\"\",IF(ISBLANK($A87),\"\",VLOOKUP($A87,Data!$A$4:$AM$155,37,FALSE)))","v":0.51}]
[{"$f":"IF('Early Years Table'!A88=\"\",\"\",IF(ISBLANK('Early Years Table'!A88),\"\",'Early Years Table'!A88))","v":821},{"$f":"IF($A88=\"\",\"\",IF(ISBLANK($A88),\"\",INDEX('LEA Nos codes'!$A$3:$A$154,MATCH($A88,'LEA Nos codes'!$B$3:$B$154,0))))","v":"Luton"},{"$f":"IF($A88=\"\",\"\",IF(ISBLANK($A88),\"\",VLOOKUP($A88,Data!$A$4:$AI$155,9,FALSE)))","v":0.49},{"$f":"IF($A88=\"\",\"\",IF(ISBLANK($A88),\"\",VLOOKUP($A88,Data!$A$4:$AI$155,10,FALSE)))","v":0.53},{"$f":"IF($A88=\"\",\"\",IF(ISBLANK($A88),\"\",VLOOKUP($A88,Data!$A$4:$AI$155,11,FALSE)))","v":0.55000000000000004},null,{"$f":"IF($A88=\"\",\"\",IF(ISBLANK($A88),\"\",VLOOKUP($A88,Data!$A$4:$AM$155,37,FALSE)))","v":0.47}]
[{"$f":"IF('Early Years Table'!A89=\"\",\"\",IF(ISBLANK('Early Years Table'!A89),\"\",'Early Years Table'!A89))","v":352},{"$f":"IF($A89=\"\",\"\",IF(ISBLANK($A89),\"\",INDEX('LEA Nos codes'!$A$3:$A$154,MATCH($A89,'LEA Nos codes'!$B$3:$B$154,0))))","v":"Manchester"},{"$f":"IF($A89=\"\",\"\",IF(ISBLANK($A89),\"\",VLOOKUP($A89,Data!$A$4:$AI$155,9,FALSE)))","v":0.53},{"$f":"IF($A89=\"\",\"\",IF(ISBLANK($A89),\"\",VLOOKUP($A89,Data!$A$4:$AI$155,10,FALSE)))","v":0.54},{"$f":"IF($A89=\"\",\"\",IF(ISBLANK($A89),\"\",VLOOKUP($A89,Data!$A$4:$AI$155,11,FALSE)))","v":0.57999999999999996},null,{"$f":"IF($A89=\"\",\"\",IF(ISBLANK($A89),\"\",VLOOKUP($A89,Data!$A$4:$AM$155,37,FALSE)))","v":0.47}]
[{"$f":"IF('Early Years Table'!A90=\"\",\"\",IF(ISBLANK('Early Years Table'!A90),\"\",'Early Years Table'!A90))","v":887},{"$f":"IF($A90=\"\",\"\",IF(ISBLANK($A90),\"\",INDEX('LEA Nos codes'!$A$3:$A$154,MATCH($A90,'LEA Nos codes'!$B$3:$B$154,0))))","v":"Medway"},{"$f":"IF($A90=\"\",\"\",IF(ISBLANK($A90),\"\",VLOOKUP($A90,Data!$A$4:$AI$155,9,FALSE)))","v":0.55000000000000004},{"$f":"IF($A90=\"\",\"\",IF(ISBLANK($A90),\"\",VLOOKUP($A90,Data!$A$4:$AI$155,10,FALSE)))","v":0.56999999999999995},{"$f":"IF($A90=\"\",\"\",IF(ISBLANK($A90),\"\",VLOOKUP($A90,Data!$A$4:$AI$155,11,FALSE)))","v":0.6},null,{"$f":"IF($A90=\"\",\"\",IF(ISBLANK($A90),\"\",VLOOKUP($A90,Data!$A$4:$AM$155,37,FALSE)))","v":0.56999999999999995}]
[{"$f":"IF('Early Years Table'!A91=\"\",\"\",IF(ISBLANK('Early Years Table'!A91),\"\",'Early Years Table'!A91))","v":315},{"$f":"IF($A91=\"\",\"\",IF(ISBLANK($A91),\"\",INDEX('LEA Nos codes'!$A$3:$A$154,MATCH($A91,'LEA Nos codes'!$B$3:$B$154,0))))","v":"Merton"},{"$f":"IF($A91=\"\",\"\",IF(ISBLANK($A91),\"\",VLOOKUP($A91,Data!$A$4:$AI$155,9,FALSE)))","v":0.62},{"$f":"IF($A91=\"\",\"\",IF(ISBLANK($A91),\"\",VLOOKUP($A91,Data!$A$4:$AI$155,10,FALSE)))","v":0.61},{"$f":"IF($A91=\"\",\"\",IF(ISBLANK($A91),\"\",VLOOKUP($A91,Data!$A$4:$AI$155,11,FALSE)))","v":0.66},null,{"$f":"IF($A91=\"\",\"\",IF(ISBLANK($A91),\"\",VLOOKUP($A91,Data!$A$4:$AM$155,37,FALSE)))","v":0.46}]
[{"$f":"IF('Early Years Table'!A92=\"\",\"\",IF(ISBLANK('Early Years Table'!A92),\"\",'Early Years Table'!A92))","v":806},{"$f":"IF($A92=\"\",\"\",IF(ISBLANK($A92),\"\",INDEX('LEA Nos codes'!$A$3:$A$154,MATCH($A92,'LEA Nos codes'!$B$3:$B$154,0))))","v":"Middlesbrough"},{"$f":"IF($A92=\"\",\"\",IF(ISBLANK($A92),\"\",VLOOKUP($A92,Data!$A$4:$AI$155,9,FALSE)))","v":0.48},{"$f":"IF($A92=\"\",\"\",IF(ISBLANK($A92),\"\",VLOOKUP($A92,Data!$A$4:$AI$155,10,FALSE)))","v":0.53},{"$f":"IF($A92=\"\",\"\",IF(ISBLANK($A92),\"\",VLOOKUP($A92,Data!$A$4:$AI$155,11,FALSE)))","v":0.51},null,{"$f":"IF($A92=\"\",\"\",IF(ISBLANK($A92),\"\",VLOOKUP($A92,Data!$A$4:$AM$155,37,FALSE)))","v":0.38}]
[{"$f":"IF('Early Years Table'!A93=\"\",\"\",IF(ISBLANK('Early Years Table'!A93),\"\",'Early Years Table'!A93))","v":826},{"$f":"IF($A93=\"\",\"\",IF(ISBLANK($A93),\"\",INDEX('LEA Nos codes'!$A$3:$A$154,MATCH($A93,'LEA Nos codes'!$B$3:$B$154,0))))","v":"Milton Keynes"},{"$f":"IF($A93=\"\",\"\",IF(ISBLANK($A93),\"\",VLOOKUP($A93,Data!$A$4:$AI$155,9,FALSE)))","v":0.62},{"$f":"IF($A93=\"\",\"\",IF(ISBLANK($A93),\"\",VLOOKUP($A93,Data!$A$4:$AI$155,10,FALSE)))","v":0.61},{"$f":"IF($A93=\"\",\"\",IF(ISBLANK($A93),\"\",VLOOKUP($A93,Data!$A$4:$AI$155,11,FALSE)))","v":0.67},null,{"$f":"IF($A93=\"\",\"\",IF(ISBLANK($A93),\"\",VLOOKUP($A93,Data!$A$4:$AM$155,37,FALSE)))","v":0.49}]
[{"$f":"IF('Early Years Table'!A94=\"\",\"\",IF(ISBLANK('Early Years Table'!A94),\"\",'Early Years Table'!A94))","v":391},{"$f":"IF($A94=\"\",\"\",IF(ISBLANK($A94),\"\",INDEX('LEA Nos codes'!$A$3:$A$154,MATCH($A94,'LEA Nos codes'!$B$3:$B$154,0))))","v":"Newcastle upon Tyne"},{"$f":"IF($A94=\"\",\"\",IF(ISBLANK($A94),\"\",VLOOKUP($A94,Data!$A$4:$AI$155,9,FALSE)))","v":0.5},{"$f":"IF($A94=\"\",\"\",IF(ISBLANK($A94),\"\",VLOOKUP($A94,Data!$A$4:$AI$155,10,FALSE)))","v":0.56999999999999995},{"$f":"IF($A94=\"\",\"\",IF(ISBLANK($A94),\"\",VLOOKUP($A94,Data!$A$4:$AI$155,11,FALSE)))","v":0.61},null,{"$f":"IF($A94=\"\",\"\",IF(ISBLANK($A94),\"\",VLOOKUP($A94,Data!$A$4:$AM$155,37,FALSE)))","v":0.44}]
[{"$f":"IF('Early Years Table'!A95=\"\",\"\",IF(ISBLANK('Early Years Table'!A95),\"\",'Early Years Table'!A95))","v":316},{"$f":"IF($A95=\"\",\"\",IF(ISBLANK($A95),\"\",INDEX('LEA Nos codes'!$A$3:$A$154,MATCH($A95,'LEA Nos codes'!$B$3:$B$154,0))))","v":"Newham"},{"$f":"IF($A95=\"\",\"\",IF(ISBLANK($A95),\"\",VLOOKUP($A95,Data!$A$4:$AI$155,9,FALSE)))","v":0.44},{"$f":"IF($A95=\"\",\"\",IF(ISBLANK($A95),\"\",VLOOKUP($A95,Data!$A$4:$AI$155,10,FALSE)))","v":0.56999999999999995},{"$f":"IF($A95=\"\",\"\",IF(ISBLANK($A95),\"\",VLOOKUP($A95,Data!$A$4:$AI$155,11,FALSE)))","v":0.64},null,{"$f":"IF($A95=\"\",\"\",IF(ISBLANK($A95),\"\",VLOOKUP($A95,Data!$A$4:$AM$155,37,FALSE)))","v":0.55000000000000004}]
[{"$f":"IF('Early Years Table'!A96=\"\",\"\",IF(ISBLANK('Early Years Table'!A96),\"\",'Early Years Table'!A96))","v":926},{"$f":"IF($A96=\"\",\"\",IF(ISBLANK($A96),\"\",INDEX('LEA Nos codes'!$A$3:$A$154,MATCH($A96,'LEA Nos codes'!$B$3:$B$154,0))))","v":"Norfolk"},{"$f":"IF($A96=\"\",\"\",IF(ISBLANK($A96),\"\",VLOOKUP($A96,Data!$A$4:$AI$155,9,FALSE)))","v":0.5},{"$f":"IF($A96=\"\",\"\",IF(ISBLANK($A96),\"\",VLOOKUP($A96,Data!$A$4:$AI$155,10,FALSE)))","v":0.53},{"$f":"IF($A96=\"\",\"\",IF(ISBLANK($A96),\"\",VLOOKUP($A96,Data!$A$4:$AI$155,11,FALSE)))","v":0.56999999999999995},null,{"$f":"IF($A96=\"\",\"\",IF(ISBLANK($A96),\"\",VLOOKUP($A96,Data!$A$4:$AM$155,37,FALSE)))","v":0.46}]
[{"$f":"IF('Early Years Table'!A97=\"\",\"\",IF(ISBLANK('Early Years Table'!A97),\"\",'Early Years Table'!A97))","v":812},{"$f":"IF($A97=\"\",\"\",IF(ISBLANK($A97),\"\",INDEX('LEA Nos codes'!$A$3:$A$154,MATCH($A97,'LEA Nos codes'!$B$3:$B$154,0))))","v":"North East Lincolnshire"},{"$f":"IF($A97=\"\",\"\",IF(ISBLANK($A97),\"\",VLOOKUP($A97,Data!$A$4:$AI$155,9,FALSE)))","v":0.56999999999999995},{"$f":"IF($A97=\"\",\"\",IF(ISBLANK($A97),\"\",VLOOKUP($A97,Data!$A$4:$AI$155,10,FALSE)))","v":0.59},{"$f":"IF($A97=\"\",\"\",IF(ISBLANK($A97),\"\",VLOOKUP($A97,Data!$A$4:$AI$155,11,FALSE)))","v":0.57999999999999996},null,{"$f":"IF($A97=\"\",\"\",IF(ISBLANK($A97),\"\",VLOOKUP($A97,Data!$A$4:$AM$155,37,FALSE)))","v":0.51}]
[{"$f":"IF('Early Years Table'!A98=\"\",\"\",IF(ISBLANK('Early Years Table'!A98),\"\",'Early Years Table'!A98))","v":813},{"$f":"IF($A98=\"\",\"\",IF(ISBLANK($A98),\"\",INDEX('LEA Nos codes'!$A$3:$A$154,MATCH($A98,'LEA Nos codes'!$B$3:$B$154,0))))","v":"North Lincolnshire"},{"$f":"IF($A98=\"\",\"\",IF(ISBLANK($A98),\"\",VLOOKUP($A98,Data!$A$4:$AI$155,9,FALSE)))","v":0.56999999999999995},{"$f":"IF($A98=\"\",\"\",IF(ISBLANK($A98),\"\",VLOOKUP($A98,Data!$A$4:$AI$155,10,FALSE)))","v":0.61},{"$f":"IF($A98=\"\",\"\",IF(ISBLANK($A98),\"\",VLOOKUP($A98,Data!$A$4:$AI$155,11,FALSE)))","v":0.63},null,{"$f":"IF($A98=\"\",\"\",IF(ISBLANK($A98),\"\",VLOOKUP($A98,Data!$A$4:$AM$155,37,FALSE)))","v":0.53}]
[{"$f":"IF('Early Years Table'!A99=\"\",\"\",IF(ISBLANK('Early Years Table'!A99),\"\",'Early Years Table'!A99))","v":802},{"$f":"IF($A99=\"\",\"\",IF(ISBLANK($A99),\"\",INDEX('LEA Nos codes'!$A$3:$A$154,MATCH($A99,'LEA Nos codes'!$B$3:$B$154,0))))","v":"North Somerset"},{"$f":"IF($A99=\"\",\"\",IF(ISBLANK($A99),\"\",VLOOKUP($A99,Data!$A$4:$AI$155,9,FALSE)))","v":0.62},{"$f":"IF($A99=\"\",\"\",IF(ISBLANK($A99),\"\",VLOOKUP($A99,Data!$A$4:$AI$155,10,FALSE)))","v":0.64},{"$f":"IF($A99=\"\",\"\",IF(ISBLANK($A99),\"\",VLOOKUP($A99,Data!$A$4:$AI$155,11,FALSE)))","v":0.71},null,{"$f":"IF($A99=\"\",\"\",IF(ISBLANK($A99),\"\",VLOOKUP($A99,Data!$A$4:$AM$155,37,FALSE)))","v":0.64}]
[{"$f":"IF('Early Years Table'!A100=\"\",\"\",IF(ISBLANK('Early Years Table'!A100),\"\",'Early Years Table'!A100))","v":392},{"$f":"IF($A100=\"\",\"\",IF(ISBLANK($A100),\"\",INDEX('LEA Nos codes'!$A$3:$A$154,MATCH($A100,'LEA Nos codes'!$B$3:$B$154,0))))","v":"North Tyneside"},{"$f":"IF($A100=\"\",\"\",IF(ISBLANK($A100),\"\",VLOOKUP($A100,Data!$A$4:$AI$155,9,FALSE)))","v":0.59},{"$f":"IF($A100=\"\",\"\",IF(ISBLANK($A100),\"\",VLOOKUP($A100,Data!$A$4:$AI$155,10,FALSE)))","v":0.61},{"$f":"IF($A100=\"\",\"\",IF(ISBLANK($A100),\"\",VLOOKUP($A100,Data!$A$4:$AI$155,11,FALSE)))","v":0.61},null,{"$f":"IF($A100=\"\",\"\",IF(ISBLANK($A100),\"\",VLOOKUP($A100,Data!$A$4:$AM$155,37,FALSE)))","v":0.48}]
[{"$f":"IF('Early Years Table'!A101=\"\",\"\",IF(ISBLANK('Early Years Table'!A101),\"\",'Early Years Table'!A101))","v":815},{"$f":"IF($A101=\"\",\"\",IF(ISBLANK($A101),\"\",INDEX('LEA Nos codes'!$A$3:$A$154,MATCH($A101,'LEA Nos codes'!$B$3:$B$154,0))))","v":"North Yorkshire"},{"$f":"IF($A101=\"\",\"\",IF(ISBLANK($A101),\"\",VLOOKUP($A101,Data!$A$4:$AI$155,9,FALSE)))","v":0.56999999999999995},{"$f":"IF($A101=\"\",\"\",IF(ISBLANK($A101),\"\",VLOOKUP($A101,Data!$A$4:$AI$155,10,FALSE)))","v":0.56000000000000005},{"$f":"IF($A101=\"\",\"\",IF(ISBLANK($A101),\"\",VLOOKUP($A101,Data!$A$4:$AI$155,11,FALSE)))","v":0.62},null,{"$f":"IF($A101=\"\",\"\",IF(ISBLANK($A101),\"\",VLOOKUP($A101,Data!$A$4:$AM$155,37,FALSE)))","v":0.44}]
[{"$f":"IF('Early Years Table'!A102=\"\",\"\",IF(ISBLANK('Early Years Table'!A102),\"\",'Early Years Table'!A102))","v":928},{"$f":"IF($A102=\"\",\"\",IF(ISBLANK($A102),\"\",INDEX('LEA Nos codes'!$A$3:$A$154,MATCH($A102,'LEA Nos codes'!$B$3:$B$154,0))))","v":"Northamptonshire"},{"$f":"IF($A102=\"\",\"\",IF(ISBLANK($A102),\"\",VLOOKUP($A102,Data!$A$4:$AI$155,9,FALSE)))","v":0.57999999999999996},{"$f":"IF($A102=\"\",\"\",IF(ISBLANK($A102),\"\",VLOOKUP($A102,Data!$A$4:$AI$155,10,FALSE)))","v":0.61},{"$f":"IF($A102=\"\",\"\",IF(ISBLANK($A102),\"\",VLOOKUP($A102,Data!$A$4:$AI$155,11,FALSE)))","v":0.64},null,{"$f":"IF($A102=\"\",\"\",IF(ISBLANK($A102),\"\",VLOOKUP($A102,Data!$A$4:$AM$155,37,FALSE)))","v":0.5}]
[{"$f":"IF('Early Years Table'!A103=\"\",\"\",IF(ISBLANK('Early Years Table'!A103),\"\",'Early Years Table'!A103))","v":929},{"$f":"IF($A103=\"\",\"\",IF(ISBLANK($A103),\"\",INDEX('LEA Nos codes'!$A$3:$A$154,MATCH($A103,'LEA Nos codes'!$B$3:$B$154,0))))","v":"Northumberland"},{"$f":"IF($A103=\"\",\"\",IF(ISBLANK($A103),\"\",VLOOKUP($A103,Data!$A$4:$AI$155,9,FALSE)))","v":0.63},{"$f":"IF($A103=\"\",\"\",IF(ISBLANK($A103),\"\",VLOOKUP($A103,Data!$A$4:$AI$155,10,FALSE)))","v":0.66},{"$f":"IF($A103=\"\",\"\",IF(ISBLANK($A103),\"\",VLOOKUP($A103,Data!$A$4:$AI$155,11,FALSE)))","v":0.68},null,{"$f":"IF($A103=\"\",\"\",IF(ISBLANK($A103),\"\",VLOOKUP($A103,Data!$A$4:$AM$155,37,FALSE)))","v":0.49}]
[{"$f":"IF('Early Years Table'!A104=\"\",\"\",IF(ISBLANK('Early Years Table'!A104),\"\",'Early Years Table'!A104))","v":892},{"$f":"IF($A104=\"\",\"\",IF(ISBLANK($A104),\"\",INDEX('LEA Nos codes'!$A$3:$A$154,MATCH($A104,'LEA Nos codes'!$B$3:$B$154,0))))","v":"Nottingham"},{"$f":"IF($A104=\"\",\"\",IF(ISBLANK($A104),\"\",VLOOKUP($A104,Data!$A$4:$AI$155,9,FALSE)))","v":0.54},{"$f":"IF($A104=\"\",\"\",IF(ISBLANK($A104),\"\",VLOOKUP($A104,Data!$A$4:$AI$155,10,FALSE)))","v":0.56999999999999995},{"$f":"IF($A104=\"\",\"\",IF(ISBLANK($A104),\"\",VLOOKUP($A104,Data!$A$4:$AI$155,11,FALSE)))","v":0.57999999999999996},null,{"$f":"IF($A104=\"\",\"\",IF(ISBLANK($A104),\"\",VLOOKUP($A104,Data!$A$4:$AM$155,37,FALSE)))","v":0.4}]
[{"$f":"IF('Early Years Table'!A105=\"\",\"\",IF(ISBLANK('Early Years Table'!A105),\"\",'Early Years Table'!A105))","v":891},{"$f":"IF($A105=\"\",\"\",IF(ISBLANK($A105),\"\",INDEX('LEA Nos codes'!$A$3:$A$154,MATCH($A105,'LEA Nos codes'!$B$3:$B$154,0))))","v":"Nottinghamshire"},{"$f":"IF($A105=\"\",\"\",IF(ISBLANK($A105),\"\",VLOOKUP($A105,Data!$A$4:$AI$155,9,FALSE)))","v":0.53},{"$f":"IF($A105=\"\",\"\",IF(ISBLANK($A105),\"\",VLOOKUP($A105,Data!$A$4:$AI$155,10,FALSE)))","v":0.56000000000000005},{"$f":"IF($A105=\"\",\"\",IF(ISBLANK($A105),\"\",VLOOKUP($A105,Data!$A$4:$AI$155,11,FALSE)))","v":0.64},null,{"$f":"IF($A105=\"\",\"\",IF(ISBLANK($A105),\"\",VLOOKUP($A105,Data!$A$4:$AM$155,37,FALSE)))","v":0.56999999999999995}]
[{"$f":"IF('Early Years Table'!A106=\"\",\"\",IF(ISBLANK('Early Years Table'!A106),\"\",'Early Years Table'!A106))","v":353},{"$f":"IF($A106=\"\",\"\",IF(ISBLANK($A106),\"\",INDEX('LEA Nos codes'!$A$3:$A$154,MATCH($A106,'LEA Nos codes'!$B$3:$B$154,0))))","v":"Oldham"},{"$f":"IF($A106=\"\",\"\",IF(ISBLANK($A106),\"\",VLOOKUP($A106,Data!$A$4:$AI$155,9,FALSE)))","v":0.46},{"$f":"IF($A106=\"\",\"\",IF(ISBLANK($A106),\"\",VLOOKUP($A106,Data!$A$4:$AI$155,10,FALSE)))","v":0.52},{"$f":"IF($A106=\"\",\"\",IF(ISBLANK($A106),\"\",VLOOKUP($A106,Data!$A$4:$AI$155,11,FALSE)))","v":0.55000000000000004},null,{"$f":"IF($A106=\"\",\"\",IF(ISBLANK($A106),\"\",VLOOKUP($A106,Data!$A$4:$AM$155,37,FALSE)))","v":0.41}]
[{"$f":"IF('Early Years Table'!A107=\"\",\"\",IF(ISBLANK('Early Years Table'!A107),\"\",'Early Years Table'!A107))","v":931},{"$f":"IF($A107=\"\",\"\",IF(ISBLANK($A107),\"\",INDEX('LEA Nos codes'!$A$3:$A$154,MATCH($A107,'LEA Nos codes'!$B$3:$B$154,0))))","v":"Oxfordshire"},{"$f":"IF($A107=\"\",\"\",IF(ISBLANK($A107),\"\",VLOOKUP($A107,Data!$A$4:$AI$155,9,FALSE)))","v":0.59},{"$f":"IF($A107=\"\",\"\",IF(ISBLANK($A107),\"\",VLOOKUP($A107,Data!$A$4:$AI$155,10,FALSE)))","v":0.63},{"$f":"IF($A107=\"\",\"\",IF(ISBLANK($A107),\"\",VLOOKUP($A107,Data!$A$4:$AI$155,11,FALSE)))","v":0.68},null,{"$f":"IF($A107=\"\",\"\",IF(ISBLANK($A107),\"\",VLOOKUP($A107,Data!$A$4:$AM$155,37,FALSE)))","v":0.48}]
[{"$f":"IF('Early Years Table'!A108=\"\",\"\",IF(ISBLANK('Early Years Table'!A108),\"\",'Early Years Table'!A108))","v":874},{"$f":"IF($A108=\"\",\"\",IF(ISBLANK($A108),\"\",INDEX('LEA Nos codes'!$A$3:$A$154,MATCH($A108,'LEA Nos codes'!$B$3:$B$154,0))))","v":"Peterborough"},{"$f":"IF($A108=\"\",\"\",IF(ISBLANK($A108),\"\",VLOOKUP($A108,Data!$A$4:$AI$155,9,FALSE)))","v":0.5},{"$f":"IF($A108=\"\",\"\",IF(ISBLANK($A108),\"\",VLOOKUP($A108,Data!$A$4:$AI$155,10,FALSE)))","v":0.55000000000000004},{"$f":"IF($A108=\"\",\"\",IF(ISBLANK($A108),\"\",VLOOKUP($A108,Data!$A$4:$AI$155,11,FALSE)))","v":0.56999999999999995},null,{"$f":"IF($A108=\"\",\"\",IF(ISBLANK($A108),\"\",VLOOKUP($A108,Data!$A$4:$AM$155,37,FALSE)))","v":0.47}]
[{"$f":"IF('Early Years Table'!A109=\"\",\"\",IF(ISBLANK('Early Years Table'!A109),\"\",'Early Years Table'!A109))","v":879},{"$f":"IF($A109=\"\",\"\",IF(ISBLANK($A109),\"\",INDEX('LEA Nos codes'!$A$3:$A$154,MATCH($A109,'LEA Nos codes'!$B$3:$B$154,0))))","v":"Plymouth"},{"$f":"IF($A109=\"\",\"\",IF(ISBLANK($A109),\"\",VLOOKUP($A109,Data!$A$4:$AI$155,9,FALSE)))","v":0.56000000000000005},{"$f":"IF($A109=\"\",\"\",IF(ISBLANK($A109),\"\",VLOOKUP($A109,Data!$A$4:$AI$155,10,FALSE)))","v":0.56000000000000005},{"$f":"IF($A109=\"\",\"\",IF(ISBLANK($A109),\"\",VLOOKUP($A109,Data!$A$4:$AI$155,11,FALSE)))","v":0.61},null,{"$f":"IF($A109=\"\",\"\",IF(ISBLANK($A109),\"\",VLOOKUP($A109,Data!$A$4:$AM$155,37,FALSE)))","v":0.56999999999999995}]
[{"$f":"IF('Early Years Table'!A110=\"\",\"\",IF(ISBLANK('Early Years Table'!A110),\"\",'Early Years Table'!A110))","v":836},{"$f":"IF($A110=\"\",\"\",IF(ISBLANK($A110),\"\",INDEX('LEA Nos codes'!$A$3:$A$154,MATCH($A110,'LEA Nos codes'!$B$3:$B$154,0))))","v":"Poole"},{"$f":"IF($A110=\"\",\"\",IF(ISBLANK($A110),\"\",VLOOKUP($A110,Data!$A$4:$AI$155,9,FALSE)))","v":0.56000000000000005},{"$f":"IF($A110=\"\",\"\",IF(ISBLANK($A110),\"\",VLOOKUP($A110,Data!$A$4:$AI$155,10,FALSE)))","v":0.63},{"$f":"IF($A110=\"\",\"\",IF(ISBLANK($A110),\"\",VLOOKUP($A110,Data!$A$4:$AI$155,11,FALSE)))","v":0.68},null,{"$f":"IF($A110=\"\",\"\",IF(ISBLANK($A110),\"\",VLOOKUP($A110,Data!$A$4:$AM$155,37,FALSE)))","v":0.48}]
[{"$f":"IF('Early Years Table'!A111=\"\",\"\",IF(ISBLANK('Early Years Table'!A111),\"\",'Early Years Table'!A111))","v":851},{"$f":"IF($A111=\"\",\"\",IF(ISBLANK($A111),\"\",INDEX('LEA Nos codes'!$A$3:$A$154,MATCH($A111,'LEA Nos codes'!$B$3:$B$154,0))))","v":"Portsmouth"},{"$f":"IF($A111=\"\",\"\",IF(ISBLANK($A111),\"\",VLOOKUP($A111,Data!$A$4:$AI$155,9,FALSE)))","v":0.61},{"$f":"IF($A111=\"\",\"\",IF(ISBLANK($A111),\"\",VLOOKUP($A111,Data!$A$4:$AI$155,10,FALSE)))","v":0.64},{"$f":"IF($A111=\"\",\"\",IF(ISBLANK($A111),\"\",VLOOKUP($A111,Data!$A$4:$AI$155,11,FALSE)))","v":0.64},null,{"$f":"IF($A111=\"\",\"\",IF(ISBLANK($A111),\"\",VLOOKUP($A111,Data!$A$4:$AM$155,37,FALSE)))","v":0.55000000000000004}]
[{"$f":"IF('Early Years Table'!A112=\"\",\"\",IF(ISBLANK('Early Years Table'!A112),\"\",'Early Years Table'!A112))","v":870},{"$f":"IF($A112=\"\",\"\",IF(ISBLANK($A112),\"\",INDEX('LEA Nos codes'!$A$3:$A$154,MATCH($A112,'LEA Nos codes'!$B$3:$B$154,0))))","v":"Reading"},{"$f":"IF($A112=\"\",\"\",IF(ISBLANK($A112),\"\",VLOOKUP($A112,Data!$A$4:$AI$155,9,FALSE)))","v":0.59},{"$f":"IF($A112=\"\",\"\",IF(ISBLANK($A112),\"\",VLOOKUP($A112,Data!$A$4:$AI$155,10,FALSE)))","v":0.64},{"$f":"IF($A112=\"\",\"\",IF(ISBLANK($A112),\"\",VLOOKUP($A112,Data!$A$4:$AI$155,11,FALSE)))","v":0.7},null,{"$f":"IF($A112=\"\",\"\",IF(ISBLANK($A112),\"\",VLOOKUP($A112,Data!$A$4:$AM$155,37,FALSE)))","v":0.51}]
[{"$f":"IF('Early Years Table'!A113=\"\",\"\",IF(ISBLANK('Early Years Table'!A113),\"\",'Early Years Table'!A113))","v":317},{"$f":"IF($A113=\"\",\"\",IF(ISBLANK($A113),\"\",INDEX('LEA Nos codes'!$A$3:$A$154,MATCH($A113,'LEA Nos codes'!$B$3:$B$154,0))))","v":"Redbridge"},{"$f":"IF($A113=\"\",\"\",IF(ISBLANK($A113),\"\",VLOOKUP($A113,Data!$A$4:$AI$155,9,FALSE)))","v":0.56999999999999995},{"$f":"IF($A113=\"\",\"\",IF(ISBLANK($A113),\"\",VLOOKUP($A113,Data!$A$4:$AI$155,10,FALSE)))","v":0.6},{"$f":"IF($A113=\"\",\"\",IF(ISBLANK($A113),\"\",VLOOKUP($A113,Data!$A$4:$AI$155,11,FALSE)))","v":0.63},null,{"$f":"IF($A113=\"\",\"\",IF(ISBLANK($A113),\"\",VLOOKUP($A113,Data!$A$4:$AM$155,37,FALSE)))","v":0.6}]
[{"$f":"IF('Early Years Table'!A114=\"\",\"\",IF(ISBLANK('Early Years Table'!A114),\"\",'Early Years Table'!A114))","v":807},{"$f":"IF($A114=\"\",\"\",IF(ISBLANK($A114),\"\",INDEX('LEA Nos codes'!$A$3:$A$154,MATCH($A114,'LEA Nos codes'!$B$3:$B$154,0))))","v":"Redcar and Cleveland"},{"$f":"IF($A114=\"\",\"\",IF(ISBLANK($A114),\"\",VLOOKUP($A114,Data!$A$4:$AI$155,9,FALSE)))","v":0.51},{"$f":"IF($A114=\"\",\"\",IF(ISBLANK($A114),\"\",VLOOKUP($A114,Data!$A$4:$AI$155,10,FALSE)))","v":0.62},{"$f":"IF($A114=\"\",\"\",IF(ISBLANK($A114),\"\",VLOOKUP($A114,Data!$A$4:$AI$155,11,FALSE)))","v":0.63},null,{"$f":"IF($A114=\"\",\"\",IF(ISBLANK($A114),\"\",VLOOKUP($A114,Data!$A$4:$AM$155,37,FALSE)))","v":0.51}]
[{"$f":"IF('Early Years Table'!A115=\"\",\"\",IF(ISBLANK('Early Years Table'!A115),\"\",'Early Years Table'!A115))","v":318},{"$f":"IF($A115=\"\",\"\",IF(ISBLANK($A115),\"\",INDEX('LEA Nos codes'!$A$3:$A$154,MATCH($A115,'LEA Nos codes'!$B$3:$B$154,0))))","v":"Richmond upon Thames"},{"$f":"IF($A115=\"\",\"\",IF(ISBLANK($A115),\"\",VLOOKUP($A115,Data!$A$4:$AI$155,9,FALSE)))","v":0.68},{"$f":"IF($A115=\"\",\"\",IF(ISBLANK($A115),\"\",VLOOKUP($A115,Data!$A$4:$AI$155,10,FALSE)))","v":0.69},{"$f":"IF($A115=\"\",\"\",IF(ISBLANK($A115),\"\",VLOOKUP($A115,Data!$A$4:$AI$155,11,FALSE)))","v":0.72},null,{"$f":"IF($A115=\"\",\"\",IF(ISBLANK($A115),\"\",VLOOKUP($A115,Data!$A$4:$AM$155,37,FALSE)))","v":0.43}]
[{"$f":"IF('Early Years Table'!A116=\"\",\"\",IF(ISBLANK('Early Years Table'!A116),\"\",'Early Years Table'!A116))","v":354},{"$f":"IF($A116=\"\",\"\",IF(ISBLANK($A116),\"\",INDEX('LEA Nos codes'!$A$3:$A$154,MATCH($A116,'LEA Nos codes'!$B$3:$B$154,0))))","v":"Rochdale"},{"$f":"IF($A116=\"\",\"\",IF(ISBLANK($A116),\"\",VLOOKUP($A116,Data!$A$4:$AI$155,9,FALSE)))","v":0.53},{"$f":"IF($A116=\"\",\"\",IF(ISBLANK($A116),\"\",VLOOKUP($A116,Data!$A$4:$AI$155,10,FALSE)))","v":0.54},{"$f":"IF($A116=\"\",\"\",IF(ISBLANK($A116),\"\",VLOOKUP($A116,Data!$A$4:$AI$155,11,FALSE)))","v":0.56000000000000005},null,{"$f":"IF($A116=\"\",\"\",IF(ISBLANK($A116),\"\",VLOOKUP($A116,Data!$A$4:$AM$155,37,FALSE)))","v":0.42}]
[{"$f":"IF('Early Years Table'!A117=\"\",\"\",IF(ISBLANK('Early Years Table'!A117),\"\",'Early Years Table'!A117))","v":372},{"$f":"IF($A117=\"\",\"\",IF(ISBLANK($A117),\"\",INDEX('LEA Nos codes'!$A$3:$A$154,MATCH($A117,'LEA Nos codes'!$B$3:$B$154,0))))","v":"Rotherham"},{"$f":"IF($A117=\"\",\"\",IF(ISBLANK($A117),\"\",VLOOKUP($A117,Data!$A$4:$AI$155,9,FALSE)))","v":0.56999999999999995},{"$f":"IF($A117=\"\",\"\",IF(ISBLANK($A117),\"\",VLOOKUP($A117,Data!$A$4:$AI$155,10,FALSE)))","v":0.57999999999999996},{"$f":"IF($A117=\"\",\"\",IF(ISBLANK($A117),\"\",VLOOKUP($A117,Data!$A$4:$AI$155,11,FALSE)))","v":0.6},null,{"$f":"IF($A117=\"\",\"\",IF(ISBLANK($A117),\"\",VLOOKUP($A117,Data!$A$4:$AM$155,37,FALSE)))","v":0.56000000000000005}]
[{"$f":"IF('Early Years Table'!A118=\"\",\"\",IF(ISBLANK('Early Years Table'!A118),\"\",'Early Years Table'!A118))","v":857},{"$f":"IF($A118=\"\",\"\",IF(ISBLANK($A118),\"\",INDEX('LEA Nos codes'!$A$3:$A$154,MATCH($A118,'LEA Nos codes'!$B$3:$B$154,0))))","v":"Rutland"},{"$f":"IF($A118=\"\",\"\",IF(ISBLANK($A118),\"\",VLOOKUP($A118,Data!$A$4:$AI$155,9,FALSE)))","v":0.68},{"$f":"IF($A118=\"\",\"\",IF(ISBLANK($A118),\"\",VLOOKUP($A118,Data!$A$4:$AI$155,10,FALSE)))","v":0.74},{"$f":"IF($A118=\"\",\"\",IF(ISBLANK($A118),\"\",VLOOKUP($A118,Data!$A$4:$AI$155,11,FALSE)))","v":0.78},null,{"$f":"IF($A118=\"\",\"\",IF(ISBLANK($A118),\"\",VLOOKUP($A118,Data!$A$4:$AM$155,37,FALSE)))","v":0.56999999999999995}]
[{"$f":"IF('Early Years Table'!A119=\"\",\"\",IF(ISBLANK('Early Years Table'!A119),\"\",'Early Years Table'!A119))","v":355},{"$f":"IF($A119=\"\",\"\",IF(ISBLANK($A119),\"\",INDEX('LEA Nos codes'!$A$3:$A$154,MATCH($A119,'LEA Nos codes'!$B$3:$B$154,0))))","v":"Salford"},{"$f":"IF($A119=\"\",\"\",IF(ISBLANK($A119),\"\",VLOOKUP($A119,Data!$A$4:$AI$155,9,FALSE)))","v":0.56999999999999995},{"$f":"IF($A119=\"\",\"\",IF(ISBLANK($A119),\"\",VLOOKUP($A119,Data!$A$4:$AI$155,10,FALSE)))","v":0.56999999999999995},{"$f":"IF($A119=\"\",\"\",IF(ISBLANK($A119),\"\",VLOOKUP($A119,Data!$A$4:$AI$155,11,FALSE)))","v":0.6},null,{"$f":"IF($A119=\"\",\"\",IF(ISBLANK($A119),\"\",VLOOKUP($A119,Data!$A$4:$AM$155,37,FALSE)))","v":0.53}]
[{"$f":"IF('Early Years Table'!A120=\"\",\"\",IF(ISBLANK('Early Years Table'!A120),\"\",'Early Years Table'!A120))","v":333},{"$f":"IF($A120=\"\",\"\",IF(ISBLANK($A120),\"\",INDEX('LEA Nos codes'!$A$3:$A$154,MATCH($A120,'LEA Nos codes'!$B$3:$B$154,0))))","v":"Sandwell"},{"$f":"IF($A120=\"\",\"\",IF(ISBLANK($A120),\"\",VLOOKUP($A120,Data!$A$4:$AI$155,9,FALSE)))","v":0.49},{"$f":"IF($A120=\"\",\"\",IF(ISBLANK($A120),\"\",VLOOKUP($A120,Data!$A$4:$AI$155,10,FALSE)))","v":0.55000000000000004},{"$f":"IF($A120=\"\",\"\",IF(ISBLANK($A120),\"\",VLOOKUP($A120,Data!$A$4:$AI$155,11,FALSE)))","v":0.59},null,{"$f":"IF($A120=\"\",\"\",IF(ISBLANK($A120),\"\",VLOOKUP($A120,Data!$A$4:$AM$155,37,FALSE)))","v":0.46}]
[{"$f":"IF('Early Years Table'!A121=\"\",\"\",IF(ISBLANK('Early Years Table'!A121),\"\",'Early Years Table'!A121))","v":343},{"$f":"IF($A121=\"\",\"\",IF(ISBLANK($A121),\"\",INDEX('LEA Nos codes'!$A$3:$A$154,MATCH($A121,'LEA Nos codes'!$B$3:$B$154,0))))","v":"Sefton"},{"$f":"IF($A121=\"\",\"\",IF(ISBLANK($A121),\"\",VLOOKUP($A121,Data!$A$4:$AI$155,9,FALSE)))","v":0.55000000000000004},{"$f":"IF($A121=\"\",\"\",IF(ISBLANK($A121),\"\",VLOOKUP($A121,Data!$A$4:$AI$155,10,FALSE)))","v":0.59},{"$f":"IF($A121=\"\",\"\",IF(ISBLANK($A121),\"\",VLOOKUP($A121,Data!$A$4:$AI$155,11,FALSE)))","v":0.63},null,{"$f":"IF($A121=\"\",\"\",IF(ISBLANK($A121),\"\",VLOOKUP($A121,Data!$A$4:$AM$155,37,FALSE)))","v":0.51}]
[{"$f":"IF('Early Years Table'!A122=\"\",\"\",IF(ISBLANK('Early Years Table'!A122),\"\",'Early Years Table'!A122))","v":373},{"$f":"IF($A122=\"\",\"\",IF(ISBLANK($A122),\"\",INDEX('LEA Nos codes'!$A$3:$A$154,MATCH($A122,'LEA Nos codes'!$B$3:$B$154,0))))","v":"Sheffield"},{"$f":"IF($A122=\"\",\"\",IF(ISBLANK($A122),\"\",VLOOKUP($A122,Data!$A$4:$AI$155,9,FALSE)))","v":0.52},{"$f":"IF($A122=\"\",\"\",IF(ISBLANK($A122),\"\",VLOOKUP($A122,Data!$A$4:$AI$155,10,FALSE)))","v":0.59},{"$f":"IF($A122=\"\",\"\",IF(ISBLANK($A122),\"\",VLOOKUP($A122,Data!$A$4:$AI$155,11,FALSE)))","v":0.63},null,{"$f":"IF($A122=\"\",\"\",IF(ISBLANK($A122),\"\",VLOOKUP($A122,Data!$A$4:$AM$155,37,FALSE)))","v":0.51}]
[{"$f":"IF('Early Years Table'!A123=\"\",\"\",IF(ISBLANK('Early Years Table'!A123),\"\",'Early Years Table'!A123))","v":893},{"$f":"IF($A123=\"\",\"\",IF(ISBLANK($A123),\"\",INDEX('LEA Nos codes'!$A$3:$A$154,MATCH($A123,'LEA Nos codes'!$B$3:$B$154,0))))","v":"Shropshire"},{"$f":"IF($A123=\"\",\"\",IF(ISBLANK($A123),\"\",VLOOKUP($A123,Data!$A$4:$AI$155,9,FALSE)))","v":0.62},{"$f":"IF($A123=\"\",\"\",IF(ISBLANK($A123),\"\",VLOOKUP($A123,Data!$A$4:$AI$155,10,FALSE)))","v":0.65},{"$f":"IF($A123=\"\",\"\",IF(ISBLANK($A123),\"\",VLOOKUP($A123,Data!$A$4:$AI$155,11,FALSE)))","v":0.68},null,{"$f":"IF($A123=\"\",\"\",IF(ISBLANK($A123),\"\",VLOOKUP($A123,Data!$A$4:$AM$155,37,FALSE)))","v":0.52}]
[{"$f":"IF('Early Years Table'!A124=\"\",\"\",IF(ISBLANK('Early Years Table'!A124),\"\",'Early Years Table'!A124))","v":871},{"$f":"IF($A124=\"\",\"\",IF(ISBLANK($A124),\"\",INDEX('LEA Nos codes'!$A$3:$A$154,MATCH($A124,'LEA Nos codes'!$B$3:$B$154,0))))","v":"Slough"},{"$f":"IF($A124=\"\",\"\",IF(ISBLANK($A124),\"\",VLOOKUP($A124,Data!$A$4:$AI$155,9,FALSE)))","v":0.48},{"$f":"IF($A124=\"\",\"\",IF(ISBLANK($A124),\"\",VLOOKUP($A124,Data!$A$4:$AI$155,10,FALSE)))","v":0.62},{"$f":"IF($A124=\"\",\"\",IF(ISBLANK($A124),\"\",VLOOKUP($A124,Data!$A$4:$AI$155,11,FALSE)))","v":0.64},null,{"$f":"IF($A124=\"\",\"\",IF(ISBLANK($A124),\"\",VLOOKUP($A124,Data!$A$4:$AM$155,37,FALSE)))","v":0.5}]
[{"$f":"IF('Early Years Table'!A125=\"\",\"\",IF(ISBLANK('Early Years Table'!A125),\"\",'Early Years Table'!A125))","v":334},{"$f":"IF($A125=\"\",\"\",IF(ISBLANK($A125),\"\",INDEX('LEA Nos codes'!$A$3:$A$154,MATCH($A125,'LEA Nos codes'!$B$3:$B$154,0))))","v":"Solihull"},{"$f":"IF($A125=\"\",\"\",IF(ISBLANK($A125),\"\",VLOOKUP($A125,Data!$A$4:$AI$155,9,FALSE)))","v":0.69},{"$f":"IF($A125=\"\",\"\",IF(ISBLANK($A125),\"\",VLOOKUP($A125,Data!$A$4:$AI$155,10,FALSE)))","v":0.69},{"$f":"IF($A125=\"\",\"\",IF(ISBLANK($A125),\"\",VLOOKUP($A125,Data!$A$4:$AI$155,11,FALSE)))","v":0.72},null,{"$f":"IF($A125=\"\",\"\",IF(ISBLANK($A125),\"\",VLOOKUP($A125,Data!$A$4:$AM$155,37,FALSE)))","v":0.56000000000000005}]
[{"$f":"IF('Early Years Table'!A126=\"\",\"\",IF(ISBLANK('Early Years Table'!A126),\"\",'Early Years Table'!A126))","v":933},{"$f":"IF($A126=\"\",\"\",IF(ISBLANK($A126),\"\",INDEX('LEA Nos codes'!$A$3:$A$154,MATCH($A126,'LEA Nos codes'!$B$3:$B$154,0))))","v":"Somerset"},{"$f":"IF($A126=\"\",\"\",IF(ISBLANK($A126),\"\",VLOOKUP($A126,Data!$A$4:$AI$155,9,FALSE)))","v":0.55000000000000004},{"$f":"IF($A126=\"\",\"\",IF(ISBLANK($A126),\"\",VLOOKUP($A126,Data!$A$4:$AI$155,10,FALSE)))","v":0.56999999999999995},{"$f":"IF($A126=\"\",\"\",IF(ISBLANK($A126),\"\",VLOOKUP($A126,Data!$A$4:$AI$155,11,FALSE)))","v":0.63},null,{"$f":"IF($A126=\"\",\"\",IF(ISBLANK($A126),\"\",VLOOKUP($A126,Data!$A$4:$AM$155,37,FALSE)))","v":0.53}]
[{"$f":"IF('Early Years Table'!A127=\"\",\"\",IF(ISBLANK('Early Years Table'!A127),\"\",'Early Years Table'!A127))","v":803},{"$f":"IF($A127=\"\",\"\",IF(ISBLANK($A127),\"\",INDEX('LEA Nos codes'!$A$3:$A$154,MATCH($A127,'LEA Nos codes'!$B$3:$B$154,0))))","v":"South Gloucestershire"},{"$f":"IF($A127=\"\",\"\",IF(ISBLANK($A127),\"\",VLOOKUP($A127,Data!$A$4:$AI$155,9,FALSE)))","v":0.55000000000000004},{"$f":"IF($A127=\"\",\"\",IF(ISBLANK($A127),\"\",VLOOKUP($A127,Data!$A$4:$AI$155,10,FALSE)))","v":0.64},{"$f":"IF($A127=\"\",\"\",IF(ISBLANK($A127),\"\",VLOOKUP($A127,Data!$A$4:$AI$155,11,FALSE)))","v":0.7},null,{"$f":"IF($A127=\"\",\"\",IF(ISBLANK($A127),\"\",VLOOKUP($A127,Data!$A$4:$AM$155,37,FALSE)))","v":0.67}]
[{"$f":"IF('Early Years Table'!A128=\"\",\"\",IF(ISBLANK('Early Years Table'!A128),\"\",'Early Years Table'!A128))","v":393},{"$f":"IF($A128=\"\",\"\",IF(ISBLANK($A128),\"\",INDEX('LEA Nos codes'!$A$3:$A$154,MATCH($A128,'LEA Nos codes'!$B$3:$B$154,0))))","v":"South Tyneside"},{"$f":"IF($A128=\"\",\"\",IF(ISBLANK($A128),\"\",VLOOKUP($A128,Data!$A$4:$AI$155,9,FALSE)))","v":0.49},{"$f":"IF($A128=\"\",\"\",IF(ISBLANK($A128),\"\",VLOOKUP($A128,Data!$A$4:$AI$155,10,FALSE)))","v":0.51},{"$f":"IF($A128=\"\",\"\",IF(ISBLANK($A128),\"\",VLOOKUP($A128,Data!$A$4:$AI$155,11,FALSE)))","v":0.52},null,{"$f":"IF($A128=\"\",\"\",IF(ISBLANK($A128),\"\",VLOOKUP($A128,Data!$A$4:$AM$155,37,FALSE)))","v":0.5}]
[{"$f":"IF('Early Years Table'!A129=\"\",\"\",IF(ISBLANK('Early Years Table'!A129),\"\",'Early Years Table'!A129))","v":852},{"$f":"IF($A129=\"\",\"\",IF(ISBLANK($A129),\"\",INDEX('LEA Nos codes'!$A$3:$A$154,MATCH($A129,'LEA Nos codes'!$B$3:$B$154,0))))","v":"Southampton"},{"$f":"IF($A129=\"\",\"\",IF(ISBLANK($A129),\"\",VLOOKUP($A129,Data!$A$4:$AI$155,9,FALSE)))","v":0.53},{"$f":"IF($A129=\"\",\"\",IF(ISBLANK($A129),\"\",VLOOKUP($A129,Data!$A$4:$AI$155,10,FALSE)))","v":0.56000000000000005},{"$f":"IF($A129=\"\",\"\",IF(ISBLANK($A129),\"\",VLOOKUP($A129,Data!$A$4:$AI$155,11,FALSE)))","v":0.56000000000000005},null,{"$f":"IF($A129=\"\",\"\",IF(ISBLANK($A129),\"\",VLOOKUP($A129,Data!$A$4:$AM$155,37,FALSE)))","v":0.51}]
[{"$f":"IF('Early Years Table'!A130=\"\",\"\",IF(ISBLANK('Early Years Table'!A130),\"\",'Early Years Table'!A130))","v":882},{"$f":"IF($A130=\"\",\"\",IF(ISBLANK($A130),\"\",INDEX('LEA Nos codes'!$A$3:$A$154,MATCH($A130,'LEA Nos codes'!$B$3:$B$154,0))))","v":"Southend-on-Sea"},{"$f":"IF($A130=\"\",\"\",IF(ISBLANK($A130),\"\",VLOOKUP($A130,Data!$A$4:$AI$155,9,FALSE)))","v":0.54},{"$f":"IF($A130=\"\",\"\",IF(ISBLANK($A130),\"\",VLOOKUP($A130,Data!$A$4:$AI$155,10,FALSE)))","v":0.57999999999999996},{"$f":"IF($A130=\"\",\"\",IF(ISBLANK($A130),\"\",VLOOKUP($A130,Data!$A$4:$AI$155,11,FALSE)))","v":0.59},null,{"$f":"IF($A130=\"\",\"\",IF(ISBLANK($A130),\"\",VLOOKUP($A130,Data!$A$4:$AM$155,37,FALSE)))","v":0.45}]
[{"$f":"IF('Early Years Table'!A131=\"\",\"\",IF(ISBLANK('Early Years Table'!A131),\"\",'Early Years Table'!A131))","v":210},{"$f":"IF($A131=\"\",\"\",IF(ISBLANK($A131),\"\",INDEX('LEA Nos codes'!$A$3:$A$154,MATCH($A131,'LEA Nos codes'!$B$3:$B$154,0))))","v":"Southwark"},{"$f":"IF($A131=\"\",\"\",IF(ISBLANK($A131),\"\",VLOOKUP($A131,Data!$A$4:$AI$155,9,FALSE)))","v":0.56000000000000005},{"$f":"IF($A131=\"\",\"\",IF(ISBLANK($A131),\"\",VLOOKUP($A131,Data!$A$4:$AI$155,10,FALSE)))","v":0.64},{"$f":"IF($A131=\"\",\"\",IF(ISBLANK($A131),\"\",VLOOKUP($A131,Data!$A$4:$AI$155,11,FALSE)))","v":0.69},null,{"$f":"IF($A131=\"\",\"\",IF(ISBLANK($A131),\"\",VLOOKUP($A131,Data!$A$4:$AM$155,37,FALSE)))","v":0.6}]
[{"$f":"IF('Early Years Table'!A132=\"\",\"\",IF(ISBLANK('Early Years Table'!A132),\"\",'Early Years Table'!A132))","v":342},{"$f":"IF($A132=\"\",\"\",IF(ISBLANK($A132),\"\",INDEX('LEA Nos codes'!$A$3:$A$154,MATCH($A132,'LEA Nos codes'!$B$3:$B$154,0))))","v":"St. Helens"},{"$f":"IF($A132=\"\",\"\",IF(ISBLANK($A132),\"\",VLOOKUP($A132,Data!$A$4:$AI$155,9,FALSE)))","v":0.55000000000000004},{"$f":"IF($A132=\"\",\"\",IF(ISBLANK($A132),\"\",VLOOKUP($A132,Data!$A$4:$AI$155,10,FALSE)))","v":0.6},{"$f":"IF($A132=\"\",\"\",IF(ISBLANK($A132),\"\",VLOOKUP($A132,Data!$A$4:$AI$155,11,FALSE)))","v":0.66},null,{"$f":"IF($A132=\"\",\"\",IF(ISBLANK($A132),\"\",VLOOKUP($A132,Data!$A$4:$AM$155,37,FALSE)))","v":0.56999999999999995}]
[{"$f":"IF('Early Years Table'!A133=\"\",\"\",IF(ISBLANK('Early Years Table'!A133),\"\",'Early Years Table'!A133))","v":860},{"$f":"IF($A133=\"\",\"\",IF(ISBLANK($A133),\"\",INDEX('LEA Nos codes'!$A$3:$A$154,MATCH($A133,'LEA Nos codes'!$B$3:$B$154,0))))","v":"Staffordshire"},{"$f":"IF($A133=\"\",\"\",IF(ISBLANK($A133),\"\",VLOOKUP($A133,Data!$A$4:$AI$155,9,FALSE)))","v":0.64},{"$f":"IF($A133=\"\",\"\",IF(ISBLANK($A133),\"\",VLOOKUP($A133,Data!$A$4:$AI$155,10,FALSE)))","v":0.65},{"$f":"IF($A133=\"\",\"\",IF(ISBLANK($A133),\"\",VLOOKUP($A133,Data!$A$4:$AI$155,11,FALSE)))","v":0.68},null,{"$f":"IF($A133=\"\",\"\",IF(ISBLANK($A133),\"\",VLOOKUP($A133,Data!$A$4:$AM$155,37,FALSE)))","v":0.54}]
[{"$f":"IF('Early Years Table'!A134=\"\",\"\",IF(ISBLANK('Early Years Table'!A134),\"\",'Early Years Table'!A134))","v":356},{"$f":"IF($A134=\"\",\"\",IF(ISBLANK($A134),\"\",INDEX('LEA Nos codes'!$A$3:$A$154,MATCH($A134,'LEA Nos codes'!$B$3:$B$154,0))))","v":"Stockport"},{"$f":"IF($A134=\"\",\"\",IF(ISBLANK($A134),\"\",VLOOKUP($A134,Data!$A$4:$AI$155,9,FALSE)))","v":0.63},{"$f":"IF($A134=\"\",\"\",IF(ISBLANK($A134),\"\",VLOOKUP($A134,Data!$A$4:$AI$155,10,FALSE)))","v":0.66},{"$f":"IF($A134=\"\",\"\",IF(ISBLANK($A134),\"\",VLOOKUP($A134,Data!$A$4:$AI$155,11,FALSE)))","v":0.69},null,{"$f":"IF($A134=\"\",\"\",IF(ISBLANK($A134),\"\",VLOOKUP($A134,Data!$A$4:$AM$155,37,FALSE)))","v":0.54}]
[{"$f":"IF('Early Years Table'!A135=\"\",\"\",IF(ISBLANK('Early Years Table'!A135),\"\",'Early Years Table'!A135))","v":808},{"$f":"IF($A135=\"\",\"\",IF(ISBLANK($A135),\"\",INDEX('LEA Nos codes'!$A$3:$A$154,MATCH($A135,'LEA Nos codes'!$B$3:$B$154,0))))","v":"Stockton-on-Tees"},{"$f":"IF($A135=\"\",\"\",IF(ISBLANK($A135),\"\",VLOOKUP($A135,Data!$A$4:$AI$155,9,FALSE)))","v":0.61},{"$f":"IF($A135=\"\",\"\",IF(ISBLANK($A135),\"\",VLOOKUP($A135,Data!$A$4:$AI$155,10,FALSE)))","v":0.6},{"$f":"IF($A135=\"\",\"\",IF(ISBLANK($A135),\"\",VLOOKUP($A135,Data!$A$4:$AI$155,11,FALSE)))","v":0.62},null,{"$f":"IF($A135=\"\",\"\",IF(ISBLANK($A135),\"\",VLOOKUP($A135,Data!$A$4:$AM$155,37,FALSE)))","v":0.41}]
[{"$f":"IF('Early Years Table'!A136=\"\",\"\",IF(ISBLANK('Early Years Table'!A136),\"\",'Early Years Table'!A136))","v":861},{"$f":"IF($A136=\"\",\"\",IF(ISBLANK($A136),\"\",INDEX('LEA Nos codes'!$A$3:$A$154,MATCH($A136,'LEA Nos codes'!$B$3:$B$154,0))))","v":"Stoke-on-Trent"},{"$f":"IF($A136=\"\",\"\",IF(ISBLANK($A136),\"\",VLOOKUP($A136,Data!$A$4:$AI$155,9,FALSE)))","v":0.51},{"$f":"IF($A136=\"\",\"\",IF(ISBLANK($A136),\"\",VLOOKUP($A136,Data!$A$4:$AI$155,10,FALSE)))","v":0.56000000000000005},{"$f":"IF($A136=\"\",\"\",IF(ISBLANK($A136),\"\",VLOOKUP($A136,Data!$A$4:$AI$155,11,FALSE)))","v":0.6},null,{"$f":"IF($A136=\"\",\"\",IF(ISBLANK($A136),\"\",VLOOKUP($A136,Data!$A$4:$AM$155,37,FALSE)))","v":0.52}]
[{"$f":"IF('Early Years Table'!A137=\"\",\"\",IF(ISBLANK('Early Years Table'!A137),\"\",'Early Years Table'!A137))","v":935},{"$f":"IF($A137=\"\",\"\",IF(ISBLANK($A137),\"\",INDEX('LEA Nos codes'!$A$3:$A$154,MATCH($A137,'LEA Nos codes'!$B$3:$B$154,0))))","v":"Suffolk"},{"$f":"IF($A137=\"\",\"\",IF(ISBLANK($A137),\"\",VLOOKUP($A137,Data!$A$4:$AI$155,9,FALSE)))","v":0.5},{"$f":"IF($A137=\"\",\"\",IF(ISBLANK($A137),\"\",VLOOKUP($A137,Data!$A$4:$AI$155,10,FALSE)))","v":0.52},{"$f":"IF($A137=\"\",\"\",IF(ISBLANK($A137),\"\",VLOOKUP($A137,Data!$A$4:$AI$155,11,FALSE)))","v":0.61},null,{"$f":"IF($A137=\"\",\"\",IF(ISBLANK($A137),\"\",VLOOKUP($A137,Data!$A$4:$AM$155,37,FALSE)))","v":0.49}]
[{"$f":"IF('Early Years Table'!A138=\"\",\"\",IF(ISBLANK('Early Years Table'!A138),\"\",'Early Years Table'!A138))","v":394},{"$f":"IF($A138=\"\",\"\",IF(ISBLANK($A138),\"\",INDEX('LEA Nos codes'!$A$3:$A$154,MATCH($A138,'LEA Nos codes'!$B$3:$B$154,0))))","v":"Sunderland"},{"$f":"IF($A138=\"\",\"\",IF(ISBLANK($A138),\"\",VLOOKUP($A138,Data!$A$4:$AI$155,9,FALSE)))","v":0.57999999999999996},{"$f":"IF($A138=\"\",\"\",IF(ISBLANK($A138),\"\",VLOOKUP($A138,Data!$A$4:$AI$155,10,FALSE)))","v":0.61},{"$f":"IF($A138=\"\",\"\",IF(ISBLANK($A138),\"\",VLOOKUP($A138,Data!$A$4:$AI$155,11,FALSE)))","v":0.64},null,{"$f":"IF($A138=\"\",\"\",IF(ISBLANK($A138),\"\",VLOOKUP($A138,Data!$A$4:$AM$155,37,FALSE)))","v":0.53}]
[{"$f":"IF('Early Years Table'!A139=\"\",\"\",IF(ISBLANK('Early Years Table'!A139),\"\",'Early Years Table'!A139))","v":936},{"$f":"IF($A139=\"\",\"\",IF(ISBLANK($A139),\"\",INDEX('LEA Nos codes'!$A$3:$A$154,MATCH($A139,'LEA Nos codes'!$B$3:$B$154,0))))","v":"Surrey"},{"$f":"IF($A139=\"\",\"\",IF(ISBLANK($A139),\"\",VLOOKUP($A139,Data!$A$4:$AI$155,9,FALSE)))","v":0.64},{"$f":"IF($A139=\"\",\"\",IF(ISBLANK($A139),\"\",VLOOKUP($A139,Data!$A$4:$AI$155,10,FALSE)))","v":0.66},{"$f":"IF($A139=\"\",\"\",IF(ISBLANK($A139),\"\",VLOOKUP($A139,Data!$A$4:$AI$155,11,FALSE)))","v":0.7},null,{"$f":"IF($A139=\"\",\"\",IF(ISBLANK($A139),\"\",VLOOKUP($A139,Data!$A$4:$AM$155,37,FALSE)))","v":0.52}]
[{"$f":"IF('Early Years Table'!A140=\"\",\"\",IF(ISBLANK('Early Years Table'!A140),\"\",'Early Years Table'!A140))","v":319},{"$f":"IF($A140=\"\",\"\",IF(ISBLANK($A140),\"\",INDEX('LEA Nos codes'!$A$3:$A$154,MATCH($A140,'LEA Nos codes'!$B$3:$B$154,0))))","v":"Sutton"},{"$f":"IF($A140=\"\",\"\",IF(ISBLANK($A140),\"\",VLOOKUP($A140,Data!$A$4:$AI$155,9,FALSE)))","v":0.63},{"$f":"IF($A140=\"\",\"\",IF(ISBLANK($A140),\"\",VLOOKUP($A140,Data!$A$4:$AI$155,10,FALSE)))","v":0.65},{"$f":"IF($A140=\"\",\"\",IF(ISBLANK($A140),\"\",VLOOKUP($A140,Data!$A$4:$AI$155,11,FALSE)))","v":0.68},null,{"$f":"IF($A140=\"\",\"\",IF(ISBLANK($A140),\"\",VLOOKUP($A140,Data!$A$4:$AM$155,37,FALSE)))","v":0.41}]
[{"$f":"IF('Early Years Table'!A141=\"\",\"\",IF(ISBLANK('Early Years Table'!A141),\"\",'Early Years Table'!A141))","v":866},{"$f":"IF($A141=\"\",\"\",IF(ISBLANK($A141),\"\",INDEX('LEA Nos codes'!$A$3:$A$154,MATCH($A141,'LEA Nos codes'!$B$3:$B$154,0))))","v":"Swindon"},{"$f":"IF($A141=\"\",\"\",IF(ISBLANK($A141),\"\",VLOOKUP($A141,Data!$A$4:$AI$155,9,FALSE)))","v":0.54},{"$f":"IF($A141=\"\",\"\",IF(ISBLANK($A141),\"\",VLOOKUP($A141,Data!$A$4:$AI$155,10,FALSE)))","v":0.6},{"$f":"IF($A141=\"\",\"\",IF(ISBLANK($A141),\"\",VLOOKUP($A141,Data!$A$4:$AI$155,11,FALSE)))","v":0.63},null,{"$f":"IF($A141=\"\",\"\",IF(ISBLANK($A141),\"\",VLOOKUP($A141,Data!$A$4:$AM$155,37,FALSE)))","v":0.55000000000000004}]
[{"$f":"IF('Early Years Table'!A142=\"\",\"\",IF(ISBLANK('Early Years Table'!A142),\"\",'Early Years Table'!A142))","v":357},{"$f":"IF($A142=\"\",\"\",IF(ISBLANK($A142),\"\",INDEX('LEA Nos codes'!$A$3:$A$154,MATCH($A142,'LEA Nos codes'!$B$3:$B$154,0))))","v":"Tameside"},{"$f":"IF($A142=\"\",\"\",IF(ISBLANK($A142),\"\",VLOOKUP($A142,Data!$A$4:$AI$155,9,FALSE)))","v":0.54},{"$f":"IF($A142=\"\",\"\",IF(ISBLANK($A142),\"\",VLOOKUP($A142,Data!$A$4:$AI$155,10,FALSE)))","v":0.56999999999999995},{"$f":"IF($A142=\"\",\"\",IF(ISBLANK($A142),\"\",VLOOKUP($A142,Data!$A$4:$AI$155,11,FALSE)))","v":0.59},null,{"$f":"IF($A142=\"\",\"\",IF(ISBLANK($A142),\"\",VLOOKUP($A142,Data!$A$4:$AM$155,37,FALSE)))","v":0.42}]
[{"$f":"IF('Early Years Table'!A143=\"\",\"\",IF(ISBLANK('Early Years Table'!A143),\"\",'Early Years Table'!A143))","v":894},{"$f":"IF($A143=\"\",\"\",IF(ISBLANK($A143),\"\",INDEX('LEA Nos codes'!$A$3:$A$154,MATCH($A143,'LEA Nos codes'!$B$3:$B$154,0))))","v":"Telford & Wrekin"},{"$f":"IF($A143=\"\",\"\",IF(ISBLANK($A143),\"\",VLOOKUP($A143,Data!$A$4:$AI$155,9,FALSE)))","v":0.52},{"$f":"IF($A143=\"\",\"\",IF(ISBLANK($A143),\"\",VLOOKUP($A143,Data!$A$4:$AI$155,10,FALSE)))","v":0.52},{"$f":"IF($A143=\"\",\"\",IF(ISBLANK($A143),\"\",VLOOKUP($A143,Data!$A$4:$AI$155,11,FALSE)))","v":0.55000000000000004},null,{"$f":"IF($A143=\"\",\"\",IF(ISBLANK($A143),\"\",VLOOKUP($A143,Data!$A$4:$AM$155,37,FALSE)))","v":0.45}]
[{"$f":"IF('Early Years Table'!A144=\"\",\"\",IF(ISBLANK('Early Years Table'!A144),\"\",'Early Years Table'!A144))","v":883},{"$f":"IF($A144=\"\",\"\",IF(ISBLANK($A144),\"\",INDEX('LEA Nos codes'!$A$3:$A$154,MATCH($A144,'LEA Nos codes'!$B$3:$B$154,0))))","v":"Thurrock"},{"$f":"IF($A144=\"\",\"\",IF(ISBLANK($A144),\"\",VLOOKUP($A144,Data!$A$4:$AI$155,9,FALSE)))","v":0.5},{"$f":"IF($A144=\"\",\"\",IF(ISBLANK($A144),\"\",VLOOKUP($A144,Data!$A$4:$AI$155,10,FALSE)))","v":0.56999999999999995},{"$f":"IF($A144=\"\",\"\",IF(ISBLANK($A144),\"\",VLOOKUP($A144,Data!$A$4:$AI$155,11,FALSE)))","v":0.64},null,{"$f":"IF($A144=\"\",\"\",IF(ISBLANK($A144),\"\",VLOOKUP($A144,Data!$A$4:$AM$155,37,FALSE)))","v":0.53}]
[{"$f":"IF('Early Years Table'!A145=\"\",\"\",IF(ISBLANK('Early Years Table'!A145),\"\",'Early Years Table'!A145))","v":880},{"$f":"IF($A145=\"\",\"\",IF(ISBLANK($A145),\"\",INDEX('LEA Nos codes'!$A$3:$A$154,MATCH($A145,'LEA Nos codes'!$B$3:$B$154,0))))","v":"Torbay"},{"$f":"IF($A145=\"\",\"\",IF(ISBLANK($A145),\"\",VLOOKUP($A145,Data!$A$4:$AI$155,9,FALSE)))","v":0.54},{"$f":"IF($A145=\"\",\"\",IF(ISBLANK($A145),\"\",VLOOKUP($A145,Data!$A$4:$AI$155,10,FALSE)))","v":0.56999999999999995},{"$f":"IF($A145=\"\",\"\",IF(ISBLANK($A145),\"\",VLOOKUP($A145,Data!$A$4:$AI$155,11,FALSE)))","v":0.56000000000000005},null,{"$f":"IF($A145=\"\",\"\",IF(ISBLANK($A145),\"\",VLOOKUP($A145,Data!$A$4:$AM$155,37,FALSE)))","v":0.51}]
[{"$f":"IF('Early Years Table'!A146=\"\",\"\",IF(ISBLANK('Early Years Table'!A146),\"\",'Early Years Table'!A146))","v":211},{"$f":"IF($A146=\"\",\"\",IF(ISBLANK($A146),\"\",INDEX('LEA Nos codes'!$A$3:$A$154,MATCH($A146,'LEA Nos codes'!$B$3:$B$154,0))))","v":"Tower Hamlets"},{"$f":"IF($A146=\"\",\"\",IF(ISBLANK($A146),\"\",VLOOKUP($A146,Data!$A$4:$AI$155,9,FALSE)))","v":0.46},{"$f":"IF($A146=\"\",\"\",IF(ISBLANK($A146),\"\",VLOOKUP($A146,Data!$A$4:$AI$155,10,FALSE)))","v":0.5},{"$f":"IF($A146=\"\",\"\",IF(ISBLANK($A146),\"\",VLOOKUP($A146,Data!$A$4:$AI$155,11,FALSE)))","v":0.55000000000000004},null,{"$f":"IF($A146=\"\",\"\",IF(ISBLANK($A146),\"\",VLOOKUP($A146,Data!$A$4:$AM$155,37,FALSE)))","v":0.46}]
[{"$f":"IF('Early Years Table'!A147=\"\",\"\",IF(ISBLANK('Early Years Table'!A147),\"\",'Early Years Table'!A147))","v":358},{"$f":"IF($A147=\"\",\"\",IF(ISBLANK($A147),\"\",INDEX('LEA Nos codes'!$A$3:$A$154,MATCH($A147,'LEA Nos codes'!$B$3:$B$154,0))))","v":"Trafford"},{"$f":"IF($A147=\"\",\"\",IF(ISBLANK($A147),\"\",VLOOKUP($A147,Data!$A$4:$AI$155,9,FALSE)))","v":0.66},{"$f":"IF($A147=\"\",\"\",IF(ISBLANK($A147),\"\",VLOOKUP($A147,Data!$A$4:$AI$155,10,FALSE)))","v":0.69},{"$f":"IF($A147=\"\",\"\",IF(ISBLANK($A147),\"\",VLOOKUP($A147,Data!$A$4:$AI$155,11,FALSE)))","v":0.75},null,{"$f":"IF($A147=\"\",\"\",IF(ISBLANK($A147),\"\",VLOOKUP($A147,Data!$A$4:$AM$155,37,FALSE)))","v":0.61}]
[{"$f":"IF('Early Years Table'!A148=\"\",\"\",IF(ISBLANK('Early Years Table'!A148),\"\",'Early Years Table'!A148))","v":384},{"$f":"IF($A148=\"\",\"\",IF(ISBLANK($A148),\"\",INDEX('LEA Nos codes'!$A$3:$A$154,MATCH($A148,'LEA Nos codes'!$B$3:$B$154,0))))","v":"Wakefield"},{"$f":"IF($A148=\"\",\"\",IF(ISBLANK($A148),\"\",VLOOKUP($A148,Data!$A$4:$AI$155,9,FALSE)))","v":0.59},{"$f":"IF($A148=\"\",\"\",IF(ISBLANK($A148),\"\",VLOOKUP($A148,Data!$A$4:$AI$155,10,FALSE)))","v":0.59},{"$f":"IF($A148=\"\",\"\",IF(ISBLANK($A148),\"\",VLOOKUP($A148,Data!$A$4:$AI$155,11,FALSE)))","v":0.63},null,{"$f":"IF($A148=\"\",\"\",IF(ISBLANK($A148),\"\",VLOOKUP($A148,Data!$A$4:$AM$155,37,FALSE)))","v":0.56999999999999995}]
[{"$f":"IF('Early Years Table'!A149=\"\",\"\",IF(ISBLANK('Early Years Table'!A149),\"\",'Early Years Table'!A149))","v":335},{"$f":"IF($A149=\"\",\"\",IF(ISBLANK($A149),\"\",INDEX('LEA Nos codes'!$A$3:$A$154,MATCH($A149,'LEA Nos codes'!$B$3:$B$154,0))))","v":"Walsall"},{"$f":"IF($A149=\"\",\"\",IF(ISBLANK($A149),\"\",VLOOKUP($A149,Data!$A$4:$AI$155,9,FALSE)))","v":0.51},{"$f":"IF($A149=\"\",\"\",IF(ISBLANK($A149),\"\",VLOOKUP($A149,Data!$A$4:$AI$155,10,FALSE)))","v":0.51},{"$f":"IF($A149=\"\",\"\",IF(ISBLANK($A149),\"\",VLOOKUP($A149,Data!$A$4:$AI$155,11,FALSE)))","v":0.57999999999999996},null,{"$f":"IF($A149=\"\",\"\",IF(ISBLANK($A149),\"\",VLOOKUP($A149,Data!$A$4:$AM$155,37,FALSE)))","v":0.46}]
[{"$f":"IF('Early Years Table'!A150=\"\",\"\",IF(ISBLANK('Early Years Table'!A150),\"\",'Early Years Table'!A150))","v":320},{"$f":"IF($A150=\"\",\"\",IF(ISBLANK($A150),\"\",INDEX('LEA Nos codes'!$A$3:$A$154,MATCH($A150,'LEA Nos codes'!$B$3:$B$154,0))))","v":"Waltham Forest"},{"$f":"IF($A150=\"\",\"\",IF(ISBLANK($A150),\"\",VLOOKUP($A150,Data!$A$4:$AI$155,9,FALSE)))","v":0.45},{"$f":"IF($A150=\"\",\"\",IF(ISBLANK($A150),\"\",VLOOKUP($A150,Data!$A$4:$AI$155,10,FALSE)))","v":0.51},{"$f":"IF($A150=\"\",\"\",IF(ISBLANK($A150),\"\",VLOOKUP($A150,Data!$A$4:$AI$155,11,FALSE)))","v":0.63},null,{"$f":"IF($A150=\"\",\"\",IF(ISBLANK($A150),\"\",VLOOKUP($A150,Data!$A$4:$AM$155,37,FALSE)))","v":0.56000000000000005}]
[{"$f":"IF('Early Years Table'!A151=\"\",\"\",IF(ISBLANK('Early Years Table'!A151),\"\",'Early Years Table'!A151))","v":212},{"$f":"IF($A151=\"\",\"\",IF(ISBLANK($A151),\"\",INDEX('LEA Nos codes'!$A$3:$A$154,MATCH($A151,'LEA Nos codes'!$B$3:$B$154,0))))","v":"Wandsworth"},{"$f":"IF($A151=\"\",\"\",IF(ISBLANK($A151),\"\",VLOOKUP($A151,Data!$A$4:$AI$155,9,FALSE)))","v":0.63},{"$f":"IF($A151=\"\",\"\",IF(ISBLANK($A151),\"\",VLOOKUP($A151,Data!$A$4:$AI$155,10,FALSE)))","v":0.65},{"$f":"IF($A151=\"\",\"\",IF(ISBLANK($A151),\"\",VLOOKUP($A151,Data!$A$4:$AI$155,11,FALSE)))","v":0.67},null,{"$f":"IF($A151=\"\",\"\",IF(ISBLANK($A151),\"\",VLOOKUP($A151,Data!$A$4:$AM$155,37,FALSE)))","v":0.54}]
[{"$f":"IF('Early Years Table'!A152=\"\",\"\",IF(ISBLANK('Early Years Table'!A152),\"\",'Early Years Table'!A152))","v":877},{"$f":"IF($A152=\"\",\"\",IF(ISBLANK($A152),\"\",INDEX('LEA Nos codes'!$A$3:$A$154,MATCH($A152,'LEA Nos codes'!$B$3:$B$154,0))))","v":"Warrington"},{"$f":"IF($A152=\"\",\"\",IF(ISBLANK($A152),\"\",VLOOKUP($A152,Data!$A$4:$AI$155,9,FALSE)))","v":0.62},{"$f":"IF($A152=\"\",\"\",IF(ISBLANK($A152),\"\",VLOOKUP($A152,Data!$A$4:$AI$155,10,FALSE)))","v":0.63},{"$f":"IF($A152=\"\",\"\",IF(ISBLANK($A152),\"\",VLOOKUP($A152,Data!$A$4:$AI$155,11,FALSE)))","v":0.62},null,{"$f":"IF($A152=\"\",\"\",IF(ISBLANK($A152),\"\",VLOOKUP($A152,Data!$A$4:$AM$155,37,FALSE)))","v":0.45}]
[{"$f":"IF('Early Years Table'!A153=\"\",\"\",IF(ISBLANK('Early Years Table'!A153),\"\",'Early Years Table'!A153))","v":937},{"$f":"IF($A153=\"\",\"\",IF(ISBLANK($A153),\"\",INDEX('LEA Nos codes'!$A$3:$A$154,MATCH($A153,'LEA Nos codes'!$B$3:$B$154,0))))","v":"Warwickshire"},{"$f":"IF($A153=\"\",\"\",IF(ISBLANK($A153),\"\",VLOOKUP($A153,Data!$A$4:$AI$155,9,FALSE)))","v":0.62},{"$f":"IF($A153=\"\",\"\",IF(ISBLANK($A153),\"\",VLOOKUP($A153,Data!$A$4:$AI$155,10,FALSE)))","v":0.66},{"$f":"IF($A153=\"\",\"\",IF(ISBLANK($A153),\"\",VLOOKUP($A153,Data!$A$4:$AI$155,11,FALSE)))","v":0.67},null,{"$f":"IF($A153=\"\",\"\",IF(ISBLANK($A153),\"\",VLOOKUP($A153,Data!$A$4:$AM$155,37,FALSE)))","v":0.45}]
[{"$f":"IF('Early Years Table'!A154=\"\",\"\",IF(ISBLANK('Early Years Table'!A154),\"\",'Early Years Table'!A154))","v":869},{"$f":"IF($A154=\"\",\"\",IF(ISBLANK($A154),\"\",INDEX('LEA Nos codes'!$A$3:$A$154,MATCH($A154,'LEA Nos codes'!$B$3:$B$154,0))))","v":"West Berkshire"},{"$f":"IF($A154=\"\",\"\",IF(ISBLANK($A154),\"\",VLOOKUP($A154,Data!$A$4:$AI$155,9,FALSE)))","v":0.61},{"$f":"IF($A154=\"\",\"\",IF(ISBLANK($A154),\"\",VLOOKUP($A154,Data!$A$4:$AI$155,10,FALSE)))","v":0.63},{"$f":"IF($A154=\"\",\"\",IF(ISBLANK($A154),\"\",VLOOKUP($A154,Data!$A$4:$AI$155,11,FALSE)))","v":0.68},null,{"$f":"IF($A154=\"\",\"\",IF(ISBLANK($A154),\"\",VLOOKUP($A154,Data!$A$4:$AM$155,37,FALSE)))","v":0.61}]
[{"$f":"IF('Early Years Table'!A155=\"\",\"\",IF(ISBLANK('Early Years Table'!A155),\"\",'Early Years Table'!A155))","v":938},{"$f":"IF($A155=\"\",\"\",IF(ISBLANK($A155),\"\",INDEX('LEA Nos codes'!$A$3:$A$154,MATCH($A155,'LEA Nos codes'!$B$3:$B$154,0))))","v":"West Sussex"},{"$f":"IF($A155=\"\",\"\",IF(ISBLANK($A155),\"\",VLOOKUP($A155,Data!$A$4:$AI$155,9,FALSE)))","v":0.56000000000000005},{"$f":"IF($A155=\"\",\"\",IF(ISBLANK($A155),\"\",VLOOKUP($A155,Data!$A$4:$AI$155,10,FALSE)))","v":0.57999999999999996},{"$f":"IF($A155=\"\",\"\",IF(ISBLANK($A155),\"\",VLOOKUP($A155,Data!$A$4:$AI$155,11,FALSE)))","v":0.62},null,{"$f":"IF($A155=\"\",\"\",IF(ISBLANK($A155),\"\",VLOOKUP($A155,Data!$A$4:$AM$155,37,FALSE)))","v":0.52}]
[{"$f":"IF('Early Years Table'!A156=\"\",\"\",IF(ISBLANK('Early Years Table'!A156),\"\",'Early Years Table'!A156))","v":213},{"$f":"IF($A156=\"\",\"\",IF(ISBLANK($A156),\"\",INDEX('LEA Nos codes'!$A$3:$A$154,MATCH($A156,'LEA Nos codes'!$B$3:$B$154,0))))","v":"Westminster"},{"$f":"IF($A156=\"\",\"\",IF(ISBLANK($A156),\"\",VLOOKUP($A156,Data!$A$4:$AI$155,9,FALSE)))","v":0.46},{"$f":"IF($A156=\"\",\"\",IF(ISBLANK($A156),\"\",VLOOKUP($A156,Data!$A$4:$AI$155,10,FALSE)))","v":0.55000000000000004},{"$f":"IF($A156=\"\",\"\",IF(ISBLANK($A156),\"\",VLOOKUP($A156,Data!$A$4:$AI$155,11,FALSE)))","v":0.64},null,{"$f":"IF($A156=\"\",\"\",IF(ISBLANK($A156),\"\",VLOOKUP($A156,Data!$A$4:$AM$155,37,FALSE)))","v":0.5}]
[{"$f":"IF('Early Years Table'!A157=\"\",\"\",IF(ISBLANK('Early Years Table'!A157),\"\",'Early Years Table'!A157))","v":359},{"$f":"IF($A157=\"\",\"\",IF(ISBLANK($A157),\"\",INDEX('LEA Nos codes'!$A$3:$A$154,MATCH($A157,'LEA Nos codes'!$B$3:$B$154,0))))","v":"Wigan"},{"$f":"IF($A157=\"\",\"\",IF(ISBLANK($A157),\"\",VLOOKUP($A157,Data!$A$4:$AI$155,9,FALSE)))","v":0.59},{"$f":"IF($A157=\"\",\"\",IF(ISBLANK($A157),\"\",VLOOKUP($A157,Data!$A$4:$AI$155,10,FALSE)))","v":0.57999999999999996},{"$f":"IF($A157=\"\",\"\",IF(ISBLANK($A157),\"\",VLOOKUP($A157,Data!$A$4:$AI$155,11,FALSE)))","v":0.61},null,{"$f":"IF($A157=\"\",\"\",IF(ISBLANK($A157),\"\",VLOOKUP($A157,Data!$A$4:$AM$155,37,FALSE)))","v":0.38}]
[{"$f":"IF('Early Years Table'!A158=\"\",\"\",IF(ISBLANK('Early Years Table'!A158),\"\",'Early Years Table'!A158))","v":865},{"$f":"IF($A158=\"\",\"\",IF(ISBLANK($A158),\"\",INDEX('LEA Nos codes'!$A$3:$A$154,MATCH($A158,'LEA Nos codes'!$B$3:$B$154,0))))","v":"Wiltshire"},{"$f":"IF($A158=\"\",\"\",IF(ISBLANK($A158),\"\",VLOOKUP($A158,Data!$A$4:$AI$155,9,FALSE)))","v":0.6},{"$f":"IF($A158=\"\",\"\",IF(ISBLANK($A158),\"\",VLOOKUP($A158,Data!$A$4:$AI$155,10,FALSE)))","v":0.57999999999999996},{"$f":"IF($A158=\"\",\"\",IF(ISBLANK($A158),\"\",VLOOKUP($A158,Data!$A$4:$AI$155,11,FALSE)))","v":0.64},null,{"$f":"IF($A158=\"\",\"\",IF(ISBLANK($A158),\"\",VLOOKUP($A158,Data!$A$4:$AM$155,37,FALSE)))","v":0.52}]
[{"$f":"IF('Early Years Table'!A159=\"\",\"\",IF(ISBLANK('Early Years Table'!A159),\"\",'Early Years Table'!A159))","v":868},{"$f":"IF($A159=\"\",\"\",IF(ISBLANK($A159),\"\",INDEX('LEA Nos codes'!$A$3:$A$154,MATCH($A159,'LEA Nos codes'!$B$3:$B$154,0))))","v":"Windsor and Maidenhead"},{"$f":"IF($A159=\"\",\"\",IF(ISBLANK($A159),\"\",VLOOKUP($A159,Data!$A$4:$AI$155,9,FALSE)))","v":0.56000000000000005},{"$f":"IF($A159=\"\",\"\",IF(ISBLANK($A159),\"\",VLOOKUP($A159,Data!$A$4:$AI$155,10,FALSE)))","v":0.65},{"$f":"IF($A159=\"\",\"\",IF(ISBLANK($A159),\"\",VLOOKUP($A159,Data!$A$4:$AI$155,11,FALSE)))","v":0.72},null,{"$f":"IF($A159=\"\",\"\",IF(ISBLANK($A159),\"\",VLOOKUP($A159,Data!$A$4:$AM$155,37,FALSE)))","v":0.55000000000000004}]
[{"$f":"IF('Early Years Table'!A160=\"\",\"\",IF(ISBLANK('Early Years Table'!A160),\"\",'Early Years Table'!A160))","v":344},{"$f":"IF($A160=\"\",\"\",IF(ISBLANK($A160),\"\",INDEX('LEA Nos codes'!$A$3:$A$154,MATCH($A160,'LEA Nos codes'!$B$3:$B$154,0))))","v":"Wirral"},{"$f":"IF($A160=\"\",\"\",IF(ISBLANK($A160),\"\",VLOOKUP($A160,Data!$A$4:$AI$155,9,FALSE)))","v":0.57999999999999996},{"$f":"IF($A160=\"\",\"\",IF(ISBLANK($A160),\"\",VLOOKUP($A160,Data!$A$4:$AI$155,10,FALSE)))","v":0.56999999999999995},{"$f":"IF($A160=\"\",\"\",IF(ISBLANK($A160),\"\",VLOOKUP($A160,Data!$A$4:$AI$155,11,FALSE)))","v":0.61},null,{"$f":"IF($A160=\"\",\"\",IF(ISBLANK($A160),\"\",VLOOKUP($A160,Data!$A$4:$AM$155,37,FALSE)))","v":0.47}]
[{"$f":"IF('Early Years Table'!A161=\"\",\"\",IF(ISBLANK('Early Years Table'!A161),\"\",'Early Years Table'!A161))","v":872},{"$f":"IF($A161=\"\",\"\",IF(ISBLANK($A161),\"\",INDEX('LEA Nos codes'!$A$3:$A$154,MATCH($A161,'LEA Nos codes'!$B$3:$B$154,0))))","v":"Wokingham"},{"$f":"IF($A161=\"\",\"\",IF(ISBLANK($A161),\"\",VLOOKUP($A161,Data!$A$4:$AI$155,9,FALSE)))","v":0.55000000000000004},{"$f":"IF($A161=\"\",\"\",IF(ISBLANK($A161),\"\",VLOOKUP($A161,Data!$A$4:$AI$155,10,FALSE)))","v":0.62},{"$f":"IF($A161=\"\",\"\",IF(ISBLANK($A161),\"\",VLOOKUP($A161,Data!$A$4:$AI$155,11,FALSE)))","v":0.68},null,{"$f":"IF($A161=\"\",\"\",IF(ISBLANK($A161),\"\",VLOOKUP($A161,Data!$A$4:$AM$155,37,FALSE)))","v":0.47}]
[{"$f":"IF('Early Years Table'!A162=\"\",\"\",IF(ISBLANK('Early Years Table'!A162),\"\",'Early Years Table'!A162))","v":336},{"$f":"IF($A162=\"\",\"\",IF(ISBLANK($A162),\"\",INDEX('LEA Nos codes'!$A$3:$A$154,MATCH($A162,'LEA Nos codes'!$B$3:$B$154,0))))","v":"Wolverhampton"},{"$f":"IF($A162=\"\",\"\",IF(ISBLANK($A162),\"\",VLOOKUP($A162,Data!$A$4:$AI$155,9,FALSE)))","v":0.52},{"$f":"IF($A162=\"\",\"\",IF(ISBLANK($A162),\"\",VLOOKUP($A162,Data!$A$4:$AI$155,10,FALSE)))","v":0.52},{"$f":"IF($A162=\"\",\"\",IF(ISBLANK($A162),\"\",VLOOKUP($A162,Data!$A$4:$AI$155,11,FALSE)))","v":0.57999999999999996},null,{"$f":"IF($A162=\"\",\"\",IF(ISBLANK($A162),\"\",VLOOKUP($A162,Data!$A$4:$AM$155,37,FALSE)))","v":0.44}]
[{"$f":"IF('Early Years Table'!A163=\"\",\"\",IF(ISBLANK('Early Years Table'!A163),\"\",'Early Years Table'!A163))","v":885},{"$f":"IF($A163=\"\",\"\",IF(ISBLANK($A163),\"\",INDEX('LEA Nos codes'!$A$3:$A$154,MATCH($A163,'LEA Nos codes'!$B$3:$B$154,0))))","v":"Worcestershire"},{"$f":"IF($A163=\"\",\"\",IF(ISBLANK($A163),\"\",VLOOKUP($A163,Data!$A$4:$AI$155,9,FALSE)))","v":0.56000000000000005},{"$f":"IF($A163=\"\",\"\",IF(ISBLANK($A163),\"\",VLOOKUP($A163,Data!$A$4:$AI$155,10,FALSE)))","v":0.61},{"$f":"IF($A163=\"\",\"\",IF(ISBLANK($A163),\"\",VLOOKUP($A163,Data!$A$4:$AI$155,11,FALSE)))","v":0.64},null,{"$f":"IF($A163=\"\",\"\",IF(ISBLANK($A163),\"\",VLOOKUP($A163,Data!$A$4:$AM$155,37,FALSE)))","v":0.49}]
[{"$f":"IF('Early Years Table'!A164=\"\",\"\",IF(ISBLANK('Early Years Table'!A164),\"\",'Early Years Table'!A164))","v":816},{"$f":"IF($A164=\"\",\"\",IF(ISBLANK($A164),\"\",INDEX('LEA Nos codes'!$A$3:$A$154,MATCH($A164,'LEA Nos codes'!$B$3:$B$154,0))))","v":"York"},{"$f":"IF($A164=\"\",\"\",IF(ISBLANK($A164),\"\",VLOOKUP($A164,Data!$A$4:$AI$155,9,FALSE)))","v":0.61},{"$f":"IF($A164=\"\",\"\",IF(ISBLANK($A164),\"\",VLOOKUP($A164,Data!$A$4:$AI$155,10,FALSE)))","v":0.61},{"$f":"IF($A164=\"\",\"\",IF(ISBLANK($A164),\"\",VLOOKUP($A164,Data!$A$4:$AI$155,11,FALSE)))","v":0.61},null,{"$f":"IF($A164=\"\",\"\",IF(ISBLANK($A164),\"\",VLOOKUP($A164,Data!$A$4:$AM$155,37,FALSE)))","v":0.56000000000000005}]
[]
[]
[]
["* A new profile was introduced in September 2012 which is substantially different from the old profile. Figures for 2013 are therefore not comparable with earlier years."]
[]
["Source: DfE: Early Years Foundation Stage Profile Results in England 2012/13"]
["https://www.gov.uk/government/publications/early-years-foundation-stage-profile-results-2012-to-2013"]
[]
["1. For more information on the Early Years Foundation Stage Profile please see technical notes."]
["2. Percentage of children achieving a good level of development:"]
["    a. 2010 to 2012 - children achieving 6 or more points across the 7 scales of personal, social and emotional development"]
["    and communication, language and literacy and who also achieve 78 points or more across all 13 scales."]
["    b. 2013 -  children achieving at least the expected level within the three prime areas of learning: communication and language, physical development and personal, social and emotional development"]
["    and the early learning goals within the literacy and mathematics areas of learning."]
["3. Only includes pupils with a valid result for every achievement scale."]
[".. Not available"]
["x Value suppressed to protect confidentiality"]

{"sheet":"EYFSP - GLD ","index":15,"n_rows":181,"n_cols":15,"rows_kept":181,"cut":false,"hidden":true,"merged":[[170,0,170,6]]}
["Early Years Benchmarking - Child Development: Early Years Foundation Stage Profile1",null,null,null,null,null,null,null,null,null,null,null,null,null,"Return to contents"]
["Percentage of children achieving a good level of development2,3 at age five",null,null,null,null,null,null,null,null,null,null,null,null,null,"Return to instructions"]
["All LAs",null," *Figures for 2013 not comparable with earlier years"]
[]
[null,null,2010,2011,2012,null,"2013*"]
["England - Average (mean) or Total",null,0.56000000000000005,0.59,0.64,null,0.52]
["England - Average (median)",null,0.56000000000000005,0.58499999999999996,0.63,null,0.51]
["England - Minimum",null,0.42,0.48,0.51,null,0.28000000000000003]
["England - Maximum",null,0.79,0.87,0.78,null,1]
["Selection - Average (median)",null,0.56000000000000005,0.58499999999999996,0.63,null,0.51]
["Selection - Minimum",null,0.42,0.48,0.51,null,0.28000000000000003]
["Selection - Maximum",null,0.79,0.87,0.78,null,1]
[301,"Barking and Dagenham",0.51,0.55000000000000004,0.61,null,0.46]
[302,"Barnet",0.64,0.69,0.69,null,0.6]
[370,"Barnsley",0.5,0.54,0.59,null,0.5]
[800,"Bath & North East Somerset",0.56000000000000005,0.57999999999999996,0.62,null,0.51]
[822,"Bedford Borough",0.54,0.56000000000000005,0.61,null,0.48]
[303,"Bexley",0.6,0.68,0.71,null,0.64]
[330,"Birmingham",0.55000000000000004,0.6,0.62,null,0.5]
[889,"Blackburn with Darwen",0.57999999999999996,0.56999999999999995,0.56999999999999995,null,0.4]
[890,"Blackpool",0.49,0.5,0.52,null,0.52]
[350,"Bolton",0.59,0.6,0.62,null,0.48]
[837,"Bournemouth",0.55000000000000004,0.64,0.66,null,0.56999999999999995]
[867,"Bracknell Forest",0.52,0.54,0.69,null,0.57999999999999996]
[380,"Bradford",0.51,0.55000000000000004,0.57999999999999996,null,0.49]
[304,"Brent",0.43,0.56999999999999995,0.64,null,0.56000000000000005]
[846,"Brighton and Hove",0.63,0.64,0.67,null,0.45]
[305,"Bromley",0.54,0.57999999999999996,0.68,null,0.61]
[825,"Buckinghamshire",0.56999999999999995,0.59,0.65,null,0.55000000000000004]
[351,"Bury",0.48,0.52,0.57999999999999996,null,0.51]
[381,"Calderdale",0.53,0.56000000000000005,0.6,null,0.45]
[873,"Cambridgeshire",0.55000000000000004,0.6,0.64,null,0.51]
[202,"Camden",0.57999999999999996,0.57999999999999996,0.62,null,0.47]
[823,"Central Bedfordshire",0.53,0.55000000000000004,0.63,null,0.49]
[895,"Cheshire East",0.59,0.68,0.74,null,0.56000000000000005]
[896,"Cheshire West and Chester",0.57999999999999996,0.56000000000000005,0.64,null,0.52]
[801,"City of Bristol",0.55000000000000004,0.56999999999999995,0.61,null,0.5]
[810,"City of Kingston Upon Hull",0.51,0.51,0.55000000000000004,null,0.42]
[201,"City of London",0.79,0.87,0.75,null,0.64]
[908,"Cornwall",0.56000000000000005,0.57999999999999996,0.63,null,0.49]
[331,"Coventry",0.53,0.59,0.62,null,0.55000000000000004]
[306,"Croydon",0.57999999999999996,0.63,0.65,null,0.46]
[909,"Cumbria",0.48,0.5,0.61,null,0.5]
[841,"Darlington",0.56999999999999995,0.65,0.68,null,0.49]
[831,"Derby",0.49,0.52,0.56000000000000005,null,0.41]
[830,"Derbyshire",0.61,0.61,0.68,null,0.5]
[878,"Devon",0.52,0.53,0.68,null,0.64]
[371,"Doncaster",0.57999999999999996,0.56999999999999995,0.62,null,0.43]
[835,"Dorset",0.67,0.67,0.75,null,0.61]
[332,"Dudley",0.52,0.54,0.6,null,0.51]
[840,"Durham",0.51,0.54,0.56999999999999995,null,0.42]
[307,"Ealing",0.53,0.6,0.61,null,0.56000000000000005]
[811,"East Riding of Yorkshire",0.55000000000000004,0.55000000000000004,0.57999999999999996,null,0.55000000000000004]
[845,"East Sussex",0.56000000000000005,0.52,0.56999999999999995,null,0.44]
[308,"Enfield",0.51,0.56999999999999995,0.59,null,0.49]
[881,"Essex",0.5,0.52,0.6,null,0.53]
[390,"Gateshead",0.51,0.53,0.56999999999999995,null,0.34]
[916,"Gloucestershire",0.6,0.59,0.64,null,0.52]
[203,"Greenwich",0.61,0.63,0.74,null,0.69]
[204,"Hackney",0.48,0.54,0.63,null,0.56999999999999995]
[876,"Halton",0.5,0.48,0.54,null,0.37]
[205,"Hammersmith and Fulham",0.62,0.68,0.7,null,0.53]
[850,"Hampshire",0.54,0.57999999999999996,0.64,null,0.59]
[309,"Haringey",0.42,0.54,0.56000000000000005,null,0.5]
[310,"Harrow",0.53,0.56000000000000005,0.6,null,0.45]
[805,"Hartlepool",0.6,0.63,0.69,null,0.48]
[311,"Havering",0.6,0.59,0.6,null,0.59]
[884,"Herefordshire",0.45,0.56000000000000005,0.61,null,0.55000000000000004]
[919,"Hertfordshire",0.61,0.61,0.68,null,0.61]
[312,"Hillingdon",0.6,0.59,0.63,null,0.41]
[313,"Hounslow",0.54,0.52,0.59,null,0.4]
[921,"Isle of Wight",0.56000000000000005,0.6,0.59,null,0.45]
[420,"Isles of Scilly",0.67,0.62,0.69,null,1]
[206,"Islington",0.47,0.55000000000000004,0.6,null,0.44]
[207,"Kensington and Chelsea",0.59,0.63,0.69,null,0.48]
[886,"Kent",0.61,0.65,0.72,null,0.63]
[314,"Kingston upon Thames",0.66,0.66,0.71,null,0.56999999999999995]
[382,"Kirklees",0.62,0.63,0.68,null,0.53]
[340,"Knowsley",0.56999999999999995,0.61,0.66,null,0.55000000000000004]
[208,"Lambeth",0.55000000000000004,0.59,0.63,null,0.46]
[888,"Lancashire",0.56000000000000005,0.59,0.64,null,0.59]
[383,"Leeds",0.53,0.57999999999999996,0.63,null,0.51]
[856,"Leicester",0.46,0.56000000000000005,0.64,null,0.28000000000000003]
[855,"Leicestershire",0.56000000000000005,0.59,0.63,null,0.46]
[209,"Lewisham",0.56000000000000005,0.61,0.68,null,0.68]
[925,"Lincolnshire",0.57999999999999996,0.65,0.7,null,0.65]
[341,"Liverpool",0.46,0.51,0.55000000000000004,null,0.51]
[821,"Luton",0.49,0.53,0.55000000000000004,null,0.47]
[352,"Manchester",0.53,0.54,0.57999999999999996,null,0.47]
[887,"Medway",0.55000000000000004,0.56999999999999995,0.6,null,0.56999999999999995]
[315,"Merton",0.62,0.61,0.66,null,0.46]
[806,"Middlesbrough",0.48,0.53,0.51,null,0.38]
[826,"Milton Keynes",0.62,0.61,0.67,null,0.49]
[391,"Newcastle upon Tyne",0.5,0.56999999999999995,0.61,null,0.44]
[316,"Newham",0.44,0.56999999999999995,0.64,null,0.55000000000000004]
[926,"Norfolk",0.5,0.53,0.56999999999999995,null,0.46]
[812,"North East Lincolnshire",0.56999999999999995,0.59,0.57999999999999996,null,0.51]
[813,"North Lincolnshire",0.56999999999999995,0.61,0.63,null,0.53]
[802,"North Somerset",0.62,0.64,0.71,null,0.64]
[392,"North Tyneside",0.59,0.61,0.61,null,0.48]
[815,"North Yorkshire",0.56999999999999995,0.56000000000000005,0.62,null,0.44]
[928,"Northamptonshire",0.57999999999999996,0.61,0.64,null,0.5]
[929,"Northumberland",0.63,0.66,0.68,null,0.49]
[892,"Nottingham",0.54,0.56999999999999995,0.57999999999999996,null,0.4]
[891,"Nottinghamshire",0.53,0.56000000000000005,0.64,null,0.56999999999999995]
[353,"Oldham",0.46,0.52,0.55000000000000004,null,0.41]
[931,"Oxfordshire",0.59,0.63,0.68,null,0.48]
[874,"Peterborough",0.5,0.55000000000000004,0.56999999999999995,null,0.47]
[879,"Plymouth",0.56000000000000005,0.56000000000000005,0.61,null,0.56999999999999995]
[836,"Poole",0.56000000000000005,0.63,0.68,null,0.48]
[851,"Portsmouth",0.61,0.64,0.64,null,0.55000000000000004]
[870,"Reading",0.59,0.64,0.7,null,0.51]
[317,"Redbridge",0.56999999999999995,0.6,0.63,null,0.6]
[807,"Redcar and Cleveland",0.51,0.62,0.63,null,0.51]
[318,"Richmond upon Thames",0.68,0.69,0.72,null,0.43]
[354,"Rochdale",0.53,0.54,0.56000000000000005,null,0.42]
[372,"Rotherham",0.56999999999999995,0.57999999999999996,0.6,null,0.56000000000000005]
[857,"Rutland",0.68,0.74,0.78,null,0.56999999999999995]
[355,"Salford",0.56999999999999995,0.56999999999999995,0.6,null,0.53]
[333,"Sandwell",0.49,0.55000000000000004,0.59,null,0.46]
[343,"Sefton",0.55000000000000004,0.59,0.63,null,0.51]
[373,"Sheffield",0.52,0.59,0.63,null,0.51]
[893,"Shropshire",0.62,0.65,0.68,null,0.52]
[871,"Slough",0.48,0.62,0.64,null,0.5]
[334,"Solihull",0.69,0.69,0.72,null,0.56000000000000005]
[933,"Somerset",0.55000000000000004,0.56999999999999995,0.63,null,0.53]
[803,"South Gloucestershire",0.55000000000000004,0.64,0.7,null,0.67]
[393,"South Tyneside",0.49,0.51,0.52,null,0.5]
[852,"Southampton",0.53,0.56000000000000005,0.56000000000000005,null,0.51]
[882,"Southend-on-Sea",0.54,0.57999999999999996,0.59,null,0.45]
[210,"Southwark",0.56000000000000005,0.64,0.69,null,0.6]
[342,"St. Helens",0.55000000000000004,0.6,0.66,null,0.56999999999999995]
[860,"Staffordshire",0.64,0.65,0.68,null,0.54]
[356,"Stockport",0.63,0.66,0.69,null,0.54]
[808,"Stockton-on-Tees",0.61,0.6,0.62,null,0.41]
[861,"Stoke-on-Trent",0.51,0.56000000000000005,0.6,null,0.52]
[935,"Suffolk",0.5,0.52,0.61,null,0.49]
[394,"Sunderland",0.57999999999999996,0.61,0.64,null,0.53]
[936,"Surrey",0.64,0.66,0.7,null,0.52]
[319,"Sutton",0.63,0.65,0.68,null,0.41]
[866,"Swindon",0.54,0.6,0.63,null,0.55000000000000004]
[357,"Tameside",0.54,0.56999999999999995,0.59,null,0.42]
[894,"Telford & Wrekin",0.52,0.52,0.55000000000000004,null,0.45]
[883,"Thurrock",0.5,0.56999999999999995,0.64,null,0.53]
[880,"Torbay",0.54,0.56999999999999995,0.56000000000000005,null,0.51]
[211,"Tower Hamlets",0.46,0.5,0.55000000000000004,null,0.46]
[358,"Trafford",0.66,0.69,0.75,null,0.61]
[384,"Wakefield",0.59,0.59,0.63,null,0.56999999999999995]
[335,"Walsall",0.51,0.51,0.57999999999999996,null,0.46]
[320,"Waltham Forest",0.45,0.51,0.63,null,0.56000000000000005]
[212,"Wandsworth",0.63,0.65,0.67,null,0.54]
[877,"Warrington",0.62,0.63,0.62,null,0.45]
[937,"Warwickshire",0.62,0.66,0.67,null,0.45]
[869,"West Berkshire",0.61,0.63,0.68,null,0.61]
[938,"West Sussex",0.56000000000000005,0.57999999999999996,0.62,null,0.52]
[213,"Westminster",0.46,0.55000000000000004,0.64,null,0.5]
[359,"Wigan",0.59,0.57999999999999996,0.61,null,0.38]
[865,"Wiltshire",0.6,0.57999999999999996,0.64,null,0.52]
[868,"Windsor and Maidenhead",0.56000000000000005,0.65,0.72,null,0.55000000000000004]
[344,"Wirral",0.57999999999999996,0.56999999999999995,0.61,null,0.47]
[872,"Wokingham",0.55000000000000004,0.62,0.68,null,0.47]
[336,"Wolverhampton",0.52,0.52,0.57999999999999996,null,0.44]
[885,"Worcestershire",0.56000000000000005,0.61,0.64,null,0.49]
[816,"York",0.61,0.61,0.61,null,0.56000000000000005]
[]
[]
[]
["* A new profile was introduced in September 2012 which is substantially different from the old profile. Figures for 2013 are therefore not comparable with earlier years."]
[]
["Source: DfE: Early Years Foundation Stage Profile Results in England 2012/13"]
["https://www.gov.uk/government/publications/early-years-foundation-stage-profile-results-2012-to-2013"]
[]
["1. For more information on the Early Years Foundation Stage Profile please see technical notes."]
["2. Percentage of children achieving a good level of development:"]
["    a. 2010 to 2012 - children achieving 6 or more points across the 7 scales of personal, social and emotional development"]
["    and communication, language and literacy and who also achieve 78 points or more across all 13 scales."]
["    b. 2013 -  children achieving at least the expected level within the three prime areas of learning: communication and language, physical development and personal, social and emotional development"]
["    and the early learning goals within the literacy and mathematics areas of learning."]
["3. Only includes pupils with a valid result for every achievement scale."]
[".. Not available"]
["x Value suppressed to protect confidentiality"]

{"sheet":"EYFSP - FSM","index":16,"n_rows":182,"n_cols":15,"rows_kept":182,"cut":false,"hidden":true,"merged":[[170,0,170,5]]}
["Early Years Benchmarking - Child Development: Early Years Foundation Stage Profile1",null,null,null,null,null,null,null,null,null,null,null,null,null,"Return to contents"]
["Percentage gap4 between pupils eligible for free school meals and the rest in achieving a good level of development2,3 at age five",null,null,null,null,null,null,null,null,null,null,null,null,null,"Return to instructions"]
[{"$f":"'Early Years Table'!A2","v":"All LAs"},null," *Figures for 2013 not comparable with earlier years"]
[]
[null,null,{"$f":"Data!L3","v":2010},{"$f":"Data!M3","v":2011},{"$f":"Data!N3","v":2012},null,{"$f":"Data!AK3&\"*\"","v":"2013*"}]
["England - Average (mean) or Total",null,{"$f":"Data!L157","v":0.19},{"$f":"Data!M157","v":0.18},{"$f":"Data!N157","v":0.19},null,{"$f":"Data!AL157","v":0.19}]
["England - Average (median)",null,{"$f":"Data!L158","v":0.21},{"$f":"Data!M158","v":0.19},{"$f":"Data!N158","v":0.19500000000000001},null,{"$f":"Data!AL158","v":0.19500000000000001}]
["England - Minimum",null,{"$f":"Data!L159","v":0.04},{"$f":"Data!M159","v":0.02},{"$f":"Data!N159","v":-0.27},null,{"$f":"Data!AL159","v":0.02}]
["England - Maximum",null,{"$f":"Data!L160","v":0.33},{"$f":"Data!M160","v":0.36},{"$f":"Data!N160","v":0.33},null,{"$f":"Data!AL160","v":0.34}]
["Selection - Average (median)",null,{"$f":"MEDIAN(C13:C164)","v":0.21},{"$f":"MEDIAN(D13:D164)","v":0.19},{"$f":"MEDIAN(E13:E164)","v":0.19500000000000001},null,{"$f":"MEDIAN(G13:G164)","v":0.19500000000000001}]
["Selection - Minimum",null,{"$f":"MIN(C13:C164)","v":0.04},{"$f":"MIN(D13:D164)","v":0.02},{"$f":"MIN(E13:E164)","v":-0.27},null,{"$f":"MIN(G13:G164)","v":0.02}]
["Selection - Maximum",null,{"$f":"MAX(C13:C164)","v":0.33},{"$f":"MAX(D13:D164)","v":0.36},{"$f":"MAX(E13:E164)","v":0.33},null,{"$f":"MAX(G13:G164)","v":0.34}]
[{"$f":"IF('Early Years Table'!A13=\"\",\"\",IF(ISBLANK('Early Years Table'!A13),\"\",'Early Years Table'!A13))","v":301},{"$f":"IF($A13=\"\",\"\",IF(ISBLANK($A13),\"\",INDEX('LEA Nos codes'!$A$3:$A$154,MATCH($A13,'LEA Nos codes'!$B$3:$B$154,0))))","v":"Barking and Dagenham"},{"$f":"IF($A13=\"\",\"\",IF(ISBLANK($A13),\"\",VLOOKUP($A13,Data!$A$4:$AI$155,12,FALSE)))","v":0.1},{"$f":"IF($A13=\"\",\"\",IF(ISBLANK($A13),\"\",VLOOKUP($A13,Data!$A$4:$AI$155,13,FALSE)))","v":0.13},{"$f":"IF($A13=\"\",\"\",IF(ISBLANK($A13),\"\",VLOOKUP($A13,Data!$A$4:$AI$155,14,FALSE)))","v":0.11},null,{"$f":"IF($A13=\"\",\"\",IF(ISBLANK($A13),\"\",VLOOKUP($A13,Data!$A$4:$AM$155,38,FALSE)))","v":0.12}]
[{"$f":"IF('Early Years Table'!A14=\"\",\"\",IF(ISBLANK('Early Years Table'!A14),\"\",'Early Years Table'!A14))","v":302},{"$f":"IF($A14=\"\",\"\",IF(ISBLANK($A14),\"\",INDEX('LEA Nos codes'!$A$3:$A$154,MATCH($A14,'LEA Nos codes'!$B$3:$B$154,0))))","v":"Barnet"},{"$f":"IF($A14=\"\",\"\",IF(ISBLANK($A14),\"\",VLOOKUP($A14,Data!$A$4:$AI$155,12,FALSE)))","v":0.13},{"$f":"IF($A14=\"\",\"\",IF(ISBLANK($A14),\"\",VLOOKUP($A14,Data!$A$4:$AI$155,13,FALSE)))","v":0.19},{"$f":"IF($A14=\"\",\"\",IF(ISBLANK($A14),\"\",VLOOKUP($A14,Data!$A$4:$AI$155,14,FALSE)))","v":0.14000000000000001},null,{"$f":"IF($A14=\"\",\"\",IF(ISBLANK($A14),\"\",VLOOKUP($A14,Data!$A$4:$AM$155,38,FALSE)))","v":0.16}]
[{"$f":"IF('Early Years Table'!A15=\"\",\"\",IF(ISBLANK('Early Years Table'!A15),\"\",'Early Years Table'!A15))","v":370},{"$f":"IF($A15=\"\",\"\",IF(ISBLANK($A15),\"\",INDEX('LEA Nos codes'!$A$3:$A$154,MATCH($A15,'LEA Nos codes'!$B$3:$B$154,0))))","v":"Barnsley"},{"$f":"IF($A15=\"\",\"\",IF(ISBLANK($A15),\"\",VLOOKUP($A15,Data!$A$4:$AI$155,12,FALSE)))","v":0.16},{"$f":"IF($A15=\"\",\"\",IF(ISBLANK($A15),\"\",VLOOKUP($A15,Data!$A$4:$AI$155,13,FALSE)))","v":0.16},{"$f":"IF($A15=\"\",\"\",IF(ISBLANK($A15),\"\",VLOOKUP($A15,Data!$A$4:$AI$155,14,FALSE)))","v":0.26},null,{"$f":"IF($A15=\"\",\"\",IF(ISBLANK($A15),\"\",VLOOKUP($A15,Data!$A$4:$AM$155,38,FALSE)))","v":0.23}]
[{"$f":"IF('Early Years Table'!A16=\"\",\"\",IF(ISBLANK('Early Years Table'!A16),\"\",'Early Years Table'!A16))","v":800},{"$f":"IF($A16=\"\",\"\",IF(ISBLANK($A16),\"\",INDEX('LEA Nos codes'!$A$3:$A$154,MATCH($A16,'LEA Nos codes'!$B$3:$B$154,0))))","v":"Bath & North East Somerset"},{"$f":"IF($A16=\"\",\"\",IF(ISBLANK($A16),\"\",VLOOKUP($A16,Data!$A$4:$AI$155,12,FALSE)))","v":0.26},{"$f":"IF($A16=\"\",\"\",IF(ISBLANK($A16),\"\",VLOOKUP($A16,Data!$A$4:$AI$155,13,FALSE)))","v":0.28999999999999998},{"$f":"IF($A16=\"\",\"\",IF(ISBLANK($A16),\"\",VLOOKUP($A16,Data!$A$4:$AI$155,14,FALSE)))","v":0.23},null,{"$f":"IF($A16=\"\",\"\",IF(ISBLANK($A16),\"\",VLOOKUP($A16,Data!$A$4:$AM$155,38,FALSE)))","v":0.25}]
[{"$f":"IF('Early Years Table'!A17=\"\",\"\",IF(ISBLANK('Early Years Table'!A17),\"\",'Early Years Table'!A17))","v":822},{"$f":"IF($A17=\"\",\"\",IF(ISBLANK($A17),\"\",INDEX('LEA Nos codes'!$A$3:$A$154,MATCH($A17,'LEA Nos codes'!$B$3:$B$154,0))))","v":"Bedford Borough"},{"$f":"IF($A17=\"\",\"\",IF(ISBLANK($A17),\"\",VLOOKUP($A17,Data!$A$4:$AI$155,12,FALSE)))","v":0.22},{"$f":"IF($A17=\"\",\"\",IF(ISBLANK($A17),\"\",VLOOKUP($A17,Data!$A$4:$AI$155,13,FALSE)))","v":0.21},{"$f":"IF($A17=\"\",\"\",IF(ISBLANK($A17),\"\",VLOOKUP($A17,Data!$A$4:$AI$155,14,FALSE)))","v":0.24},null,{"$f":"IF($A17=\"\",\"\",IF(ISBLANK($A17),\"\",VLOOKUP($A17,Data!$A$4:$AM$155,38,FALSE)))","v":0.19}]
[{"$f":"IF('Early Years Table'!A18=\"\",\"\",IF(ISBLANK('Early Years Table'!A18),\"\",'Early Years Table'!A18))","v":303},{"$f":"IF($A18=\"\",\"\",IF(ISBLANK($A18),\"\",INDEX('LEA Nos codes'!$A$3:$A$154,MATCH($A18,'LEA Nos codes'!$B$3:$B$154,0))))","v":"Bexley"},{"$f":"IF($A18=\"\",\"\",IF(ISBLANK($A18),\"\",VLOOKUP($A18,Data!$A$4:$AI$155,12,FALSE)))","v":0.27},{"$f":"IF($A18=\"\",\"\",IF(ISBLANK($A18),\"\",VLOOKUP($A18,Data!$A$4:$AI$155,13,FALSE)))","v":0.16},{"$f":"IF($A18=\"\",\"\",IF(ISBLANK($A18),\"\",VLOOKUP($A18,Data!$A$4:$AI$155,14,FALSE)))","v":0.18},null,{"$f":"IF($A18=\"\",\"\",IF(ISBLANK($A18),\"\",VLOOKUP($A18,Data!$A$4:$AM$155,38,FALSE)))","v":0.2}]
[{"$f":"IF('Early Years Table'!A19=\"\",\"\",IF(ISBLANK('Early Years Table'!A19),\"\",'Early Years Table'!A19))","v":330},{"$f":"IF($A19=\"\",\"\",IF(ISBLANK($A19),\"\",INDEX('LEA Nos codes'!$A$3:$A$154,MATCH($A19,'LEA Nos codes'!$B$3:$B$154,0))))","v":"Birmingham"},{"$f":"IF($A19=\"\",\"\",IF(ISBLANK($A19),\"\",VLOOKUP($A19,Data!$A$4:$AI$155,12,FALSE)))","v":0.14000000000000001},{"$f":"IF($A19=\"\",\"\",IF(ISBLANK($A19),\"\",VLOOKUP($A19,Data!$A$4:$AI$155,13,FALSE)))","v":0.15},{"$f":"IF($A19=\"\",\"\",IF(ISBLANK($A19),\"\",VLOOKUP($A19,Data!$A$4:$AI$155,14,FALSE)))","v":0.12},null,{"$f":"IF($A19=\"\",\"\",IF(ISBLANK($A19),\"\",VLOOKUP($A19,Data!$A$4:$AM$155,38,FALSE)))","v":0.15}]
[{"$f":"IF('Early Years Table'!A20=\"\",\"\",IF(ISBLANK('Early Years Table'!A20),\"\",'Early Years Table'!A20))","v":889},{"$f":"IF($A20=\"\",\"\",IF(ISBLANK($A20),\"\",INDEX('LEA Nos codes'!$A$3:$A$154,MATCH($A20,'LEA Nos codes'!$B$3:$B$154,0))))","v":"Blackburn with Darwen"},{"$f":"IF($A20=\"\",\"\",IF(ISBLANK($A20),\"\",VLOOKUP($A20,Data!$A$4:$AI$155,12,FALSE)))","v":0.18},{"$f":"IF($A20=\"\",\"\",IF(ISBLANK($A20),\"\",VLOOKUP($A20,Data!$A$4:$AI$155,13,FALSE)))","v":0.13},{"$f":"IF($A20=\"\",\"\",IF(ISBLANK($A20),\"\",VLOOKUP($A20,Data!$A$4:$AI$155,14,FALSE)))","v":0.17},null,{"$f":"IF($A20=\"\",\"\",IF(ISBLANK($A20),\"\",VLOOKUP($A20,Data!$A$4:$AM$155,38,FALSE)))","v":0.1}]
[{"$f":"IF('Early Years Table'!A21=\"\",\"\",IF(ISBLANK('Early Years Table'!A21),\"\",'Early Years Table'!A21))","v":890},{"$f":"IF($A21=\"\",\"\",IF(ISBLANK($A21),\"\",INDEX('LEA Nos codes'!$A$3:$A$154,MATCH($A21,'LEA Nos codes'!$B$3:$B$154,0))))","v":"Blackpool"},{"$f":"IF($A21=\"\",\"\",IF(ISBLANK($A21),\"\",VLOOKUP($A21,Data!$A$4:$AI$155,12,FALSE)))","v":0.15},{"$f":"IF($A21=\"\",\"\",IF(ISBLANK($A21),\"\",VLOOKUP($A21,Data!$A$4:$AI$155,13,FALSE)))","v":0.22},{"$f":"IF($A21=\"\",\"\",IF(ISBLANK($A21),\"\",VLOOKUP($A21,Data!$A$4:$AI$155,14,FALSE)))","v":0.23},null,{"$f":"IF($A21=\"\",\"\",IF(ISBLANK($A21),\"\",VLOOKUP($A21,Data!$A$4:$AM$155,38,FALSE)))","v":0.17}]
[{"$f":"IF('Early Years Table'!A22=\"\",\"\",IF(ISBLANK('Early Years Table'!A22),\"\",'Early Years Table'!A22))","v":350},{"$f":"IF($A22=\"\",\"\",IF(ISBLANK($A22),\"\",INDEX('LEA Nos codes'!$A$3:$A$154,MATCH($A22,'LEA Nos codes'!$B$3:$B$154,0))))","v":"Bolton"},{"$f":"IF($A22=\"\",\"\",IF(ISBLANK($A22),\"\",VLOOKUP($A22,Data!$A$4:$AI$155,12,FALSE)))","v":0.22},{"$f":"IF($A22=\"\",\"\",IF(ISBLANK($A22),\"\",VLOOKUP($A22,Data!$A$4:$AI$155,13,FALSE)))","v":0.15},{"$f":"IF($A22=\"\",\"\",IF(ISBLANK($A22),\"\",VLOOKUP($A22,Data!$A$4:$AI$155,14,FALSE)))","v":0.22},null,{"$f":"IF($A22=\"\",\"\",IF(ISBLANK($A22),\"\",VLOOKUP($A22,Data!$A$4:$AM$155,38,FALSE)))","v":0.19}]
[{"$f":"IF('Early Years Table'!A23=\"\",\"\",IF(ISBLANK('Early Years Table'!A23),\"\",'Early Years Table'!A23))","v":837},{"$f":"IF($A23=\"\",\"\",IF(ISBLANK($A23),\"\",INDEX('LEA Nos codes'!$A$3:$A$154,MATCH($A23,'LEA Nos codes'!$B$3:$B$154,0))))","v":"Bournemouth"},{"$f":"IF($A23=\"\",\"\",IF(ISBLANK($A23),\"\",VLOOKUP($A23,Data!$A$4:$AI$155,12,FALSE)))","v":0.21},{"$f":"IF($A23=\"\",\"\",IF(ISBLANK($A23),\"\",VLOOKUP($A23,Data!$A$4:$AI$155,13,FALSE)))","v":0.22},{"$f":"IF($A23=\"\",\"\",IF(ISBLANK($A23),\"\",VLOOKUP($A23,Data!$A$4:$AI$155,14,FALSE)))","v":0.26},null,{"$f":"IF($A23=\"\",\"\",IF(ISBLANK($A23),\"\",VLOOKUP($A23,Data!$A$4:$AM$155,38,FALSE)))","v":0.18}]
[{"$f":"IF('Early Years Table'!A24=\"\",\"\",IF(ISBLANK('Early Years Table'!A24),\"\",'Early Years Table'!A24))","v":867},{"$f":"IF($A24=\"\",\"\",IF(ISBLANK($A24),\"\",INDEX('LEA Nos codes'!$A$3:$A$154,MATCH($A24,'LEA Nos codes'!$B$3:$B$154,0))))","v":"Bracknell Forest"},{"$f":"IF($A24=\"\",\"\",IF(ISBLANK($A24),\"\",VLOOKUP($A24,Data!$A$4:$AI$155,12,FALSE)))","v":0.23},{"$f":"IF($A24=\"\",\"\",IF(ISBLANK($A24),\"\",VLOOKUP($A24,Data!$A$4:$AI$155,13,FALSE)))","v":0.12},{"$f":"IF($A24=\"\",\"\",IF(ISBLANK($A24),\"\",VLOOKUP($A24,Data!$A$4:$AI$155,14,FALSE)))","v":0.22},null,{"$f":"IF($A24=\"\",\"\",IF(ISBLANK($A24),\"\",VLOOKUP($A24,Data!$A$4:$AM$155,38,FALSE)))","v":0.26}]
[{"$f":"IF('Early Years Table'!A25=\"\",\"\",IF(ISBLANK('Early Years Table'!A25),\"\",'Early Years Table'!A25))","v":380},{"$f":"IF($A25=\"\",\"\",IF(ISBLANK($A25),\"\",INDEX('LEA Nos codes'!$A$3:$A$154,MATCH($A25,'LEA Nos codes'!$B$3:$B$154,0))))","v":"Bradford"},{"$f":"IF($A25=\"\",\"\",IF(ISBLANK($A25),\"\",VLOOKUP($A25,Data!$A$4:$AI$155,12,FALSE)))","v":0.15},{"$f":"IF($A25=\"\",\"\",IF(ISBLANK($A25),\"\",VLOOKUP($A25,Data!$A$4:$AI$155,13,FALSE)))","v":0.13},{"$f":"IF($A25=\"\",\"\",IF(ISBLANK($A25),\"\",VLOOKUP($A25,Data!$A$4:$AI$155,14,FALSE)))","v":0.14000000000000001},null,{"$f":"IF($A25=\"\",\"\",IF(ISBLANK($A25),\"\",VLOOKUP($A25,Data!$A$4:$AM$155,38,FALSE)))","v":0.16}]
[{"$f":"IF('Early Years Table'!A26=\"\",\"\",IF(ISBLANK('Early Years Table'!A26),\"\",'Early Years Table'!A26))","v":304},{"$f":"IF($A26=\"\",\"\",IF(ISBLANK($A26),\"\",INDEX('LEA Nos codes'!$A$3:$A$154,MATCH($A26,'LEA Nos codes'!$B$3:$B$154,0))))","v":"Brent"},{"$f":"IF($A26=\"\",\"\",IF(ISBLANK($A26),\"\",VLOOKUP($A26,Data!$A$4:$AI$155,12,FALSE)))","v":0.11},{"$f":"IF($A26=\"\",\"\",IF(ISBLANK($A26),\"\",VLOOKUP($A26,Data!$A$4:$AI$155,13,FALSE)))","v":0.11},{"$f":"IF($A26=\"\",\"\",IF(ISBLANK($A26),\"\",VLOOKUP($A26,Data!$A$4:$AI$155,14,FALSE)))","v":0.09},null,{"$f":"IF($A26=\"\",\"\",IF(ISBLANK($A26),\"\",VLOOKUP($A26,Data!$A$4:$AM$155,38,FALSE)))","v":0.04}]
[{"$f":"IF('Early Years Table'!A27=\"\",\"\",IF(ISBLANK('Early Years Table'!A27),\"\",'Early Years Table'!A27))","v":846},{"$f":"IF($A27=\"\",\"\",IF(ISBLANK($A27),\"\",INDEX('LEA Nos codes'!$A$3:$A$154,MATCH($A27,'LEA Nos codes'!$B$3:$B$154,0))))","v":"Brighton and Hove"},{"$f":"IF($A27=\"\",\"\",IF(ISBLANK($A27),\"\",VLOOKUP($A27,Data!$A$4:$AI$155,12,FALSE)))","v":0.28999999999999998},{"$f":"IF($A27=\"\",\"\",IF(ISBLANK($A27),\"\",VLOOKUP($A27,Data!$A$4:$AI$155,13,FALSE)))","v":0.16},{"$f":"IF($A27=\"\",\"\",IF(ISBLANK($A27),\"\",VLOOKUP($A27,Data!$A$4:$AI$155,14,FALSE)))","v":0.26},null,{"$f":"IF($A27=\"\",\"\",IF(ISBLANK($A27),\"\",VLOOKUP($A27,Data!$A$4:$AM$155,38,FALSE)))","v":0.22}]
[{"$f":"IF('Early Years Table'!A28=\"\",\"\",IF(ISBLANK('Early Years Table'!A28),\"\",'Early Years Table'!A28))","v":305},{"$f":"IF($A28=\"\",\"\",IF(ISBLANK($A28),\"\",INDEX('LEA Nos codes'!$A$3:$A$154,MATCH($A28,'LEA Nos codes'!$B$3:$B$154,0))))","v":"Bromley"},{"$f":"IF($A28=\"\",\"\",IF(ISBLANK($A28),\"\",VLOOKUP($A28,Data!$A$4:$AI$155,12,FALSE)))","v":0.22},{"$f":"IF($A28=\"\",\"\",IF(ISBLANK($A28),\"\",VLOOKUP($A28,Data!$A$4:$AI$155,13,FALSE)))","v":0.23},{"$f":"IF($A28=\"\",\"\",IF(ISBLANK($A28),\"\",VLOOKUP($A28,Data!$A$4:$AI$155,14,FALSE)))","v":0.19},null,{"$f":"IF($A28=\"\",\"\",IF(ISBLANK($A28),\"\",VLOOKUP($A28,Data!$A$4:$AM$155,38,FALSE)))","v":0.25}]
[{"$f":"IF('Early Years Table'!A29=\"\",\"\",IF(ISBLANK('Early Years Table'!A29),\"\",'Early Years Table'!A29))","v":825},{"$f":"IF($A29=\"\",\"\",IF(ISBLANK($A29),\"\",INDEX('LEA Nos codes'!$A$3:$A$154,MATCH($A29,'LEA Nos codes'!$B$3:$B$154,0))))","v":"Buckinghamshire"},{"$f":"IF($A29=\"\",\"\",IF(ISBLANK($A29),\"\",VLOOKUP($A29,Data!$A$4:$AI$155,12,FALSE)))","v":0.28000000000000003},{"$f":"IF($A29=\"\",\"\",IF(ISBLANK($A29),\"\",VLOOKUP($A29,Data!$A$4:$AI$155,13,FALSE)))","v":0.25},{"$f":"IF($A29=\"\",\"\",IF(ISBLANK($A29),\"\",VLOOKUP($A29,Data!$A$4:$AI$155,14,FALSE)))","v":0.27},null,{"$f":"IF($A29=\"\",\"\",IF(ISBLANK($A29),\"\",VLOOKUP($A29,Data!$A$4:$AM$155,38,FALSE)))","v":0.25}]
[{"$f":"IF('Early Years Table'!A30=\"\",\"\",IF(ISBLANK('Early Years Table'!A30),\"\",'Early Years Table'!A30))","v":351},{"$f":"IF($A30=\"\",\"\",IF(ISBLANK($A30),\"\",INDEX('LEA Nos codes'!$A$3:$A$154,MATCH($A30,'LEA Nos codes'!$B$3:$B$154,0))))","v":"Bury"},{"$f":"IF($A30=\"\",\"\",IF(ISBLANK($A30),\"\",VLOOKUP($A30,Data!$A$4:$AI$155,12,FALSE)))","v":0.22},{"$f":"IF($A30=\"\",\"\",IF(ISBLANK($A30),\"\",VLOOKUP($A30,Data!$A$4:$AI$155,13,FALSE)))","v":0.2},{"$f":"IF($A30=\"\",\"\",IF(ISBLANK($A30),\"\",VLOOKUP($A30,Data!$A$4:$AI$155,14,FALSE)))","v":0.18},null,{"$f":"IF($A30=\"\",\"\",IF(ISBLANK($A30),\"\",VLOOKUP($A30,Data!$A$4:$AM$155,38,FALSE)))","v":0.24}]
[{"$f":"IF('Early Years Table'!A31=\"\",\"\",IF(ISBLANK('Early Years Table'!A31),\"\",'Early Years Table'!A31))","v":381},{"$f":"IF($A31=\"\",\"\",IF(ISBLANK($A31),\"\",INDEX('LEA Nos codes'!$A$3:$A$154,MATCH($A31,'LEA Nos codes'!$B$3:$B$154,0))))","v":"Calderdale"},{"$f":"IF($A31=\"\",\"\",IF(ISBLANK($A31),\"\",VLOOKUP($A31,Data!$A$4:$AI$155,12,FALSE)))","v":0.25},{"$f":"IF($A31=\"\",\"\",IF(ISBLANK($A31),\"\",VLOOKUP($A31,Data!$A$4:$AI$155,13,FALSE)))","v":0.25},{"$f":"IF($A31=\"\",\"\",IF(ISBLANK($A31),\"\",VLOOKUP($A31,Data!$A$4:$AI$155,14,FALSE)))","v":0.22},null,{"$f":"IF($A31=\"\",\"\",IF(ISBLANK($A31),\"\",VLOOKUP($A31,Data!$A$4:$AM$155,38,FALSE)))","v":0.2}]
[{"$f":"IF('Early Years Table'!A32=\"\",\"\",IF(ISBLANK('Early Years Table'!A32),\"\",'Early Years Table'!A32))","v":873},{"$f":"IF($A32=\"\",\"\",IF(ISBLANK($A32),\"\",INDEX('LEA Nos codes'!$A$3:$A$154,MATCH($A32,'LEA Nos codes'!$B$3:$B$154,0))))","v":"Cambridgeshire"},{"$f":"IF($A32=\"\",\"\",IF(ISBLANK($A32),\"\",VLOOKUP($A32,Data!$A$4:$AI$155,12,FALSE)))","v":0.23},{"$f":"IF($A32=\"\",\"\",IF(ISBLANK($A32),\"\",VLOOKUP($A32,Data!$A$4:$AI$155,13,FALSE)))","v":0.25},{"$f":"IF($A32=\"\",\"\",IF(ISBLANK($A32),\"\",VLOOKUP($A32,Data!$A$4:$AI$155,14,FALSE)))","v":0.23},null,{"$f":"IF($A32=\"\",\"\",IF(ISBLANK($A32),\"\",VLOOKUP($A32,Data!$A$4:$AM$155,38,FALSE)))","v":0.22}]
[{"$f":"IF('Early Years Table'!A33=\"\",\"\",IF(ISBLANK('Early Years Table'!A33),\"\",'Early Years Table'!A33))","v":202},{"$f":"IF($A33=\"\",\"\",IF(ISBLANK($A33),\"\",INDEX('LEA Nos codes'!$A$3:$A$154,MATCH($A33,'LEA Nos codes'!$B$3:$B$154,0))))","v":"Camden"},{"$f":"IF($A33=\"\",\"\",IF(ISBLANK($A33),\"\",VLOOKUP($A33,Data!$A$4:$AI$155,12,FALSE)))","v":0.21},{"$f":"IF($A33=\"\",\"\",IF(ISBLANK($A33),\"\",VLOOKUP($A33,Data!$A$4:$AI$155,13,FALSE)))","v":0.14000000000000001},{"$f":"IF($A33=\"\",\"\",IF(ISBLANK($A33),\"\",VLOOKUP($A33,Data!$A$4:$AI$155,14,FALSE)))","v":0.16},null,{"$f":"IF($A33=\"\",\"\",IF(ISBLANK($A33),\"\",VLOOKUP($A33,Data!$A$4:$AM$155,38,FALSE)))","v":0.19}]
[{"$f":"IF('Early Years Table'!A34=\"\",\"\",IF(ISBLANK('Early Years Table'!A34),\"\",'Early Years Table'!A34))","v":823},{"$f":"IF($A34=\"\",\"\",IF(ISBLANK($A34),\"\",INDEX('LEA Nos codes'!$A$3:$A$154,MATCH($A34,'LEA Nos codes'!$B$3:$B$154,0))))","v":"Central Bedfordshire"},{"$f":"IF($A34=\"\",\"\",IF(ISBLANK($A34),\"\",VLOOKUP($A34,Data!$A$4:$AI$155,12,FALSE)))","v":0.26},{"$f":"IF($A34=\"\",\"\",IF(ISBLANK($A34),\"\",VLOOKUP($A34,Data!$A$4:$AI$155,13,FALSE)))","v":0.19},{"$f":"IF($A34=\"\",\"\",IF(ISBLANK($A34),\"\",VLOOKUP($A34,Data!$A$4:$AI$155,14,FALSE)))","v":0.17},null,{"$f":"IF($A34=\"\",\"\",IF(ISBLANK($A34),\"\",VLOOKUP($A34,Data!$A$4:$AM$155,38,FALSE)))","v":0.23}]
[{"$f":"IF('Early Years Table'!A35=\"\",\"\",IF(ISBLANK('Early Years Table'!A35),\"\",'Early Years Table'!A35))","v":895},{"$f":"IF($A35=\"\",\"\",IF(ISBLANK($A35),\"\",INDEX('LEA Nos codes'!$A$3:$A$154,MATCH($A35,'LEA Nos codes'!$B$3:$B$154,0))))","v":"Cheshire East"},{"$f":"IF($A35=\"\",\"\",IF(ISBLANK($A35),\"\",VLOOKUP($A35,Data!$A$4:$AI$155,12,FALSE)))","v":0.33},{"$f":"IF($A35=\"\",\"\",IF(ISBLANK($A35),\"\",VLOOKUP($A35,Data!$A$4:$AI$155,13,FALSE)))","v":0.23},{"$f":"IF($A35=\"\",\"\",IF(ISBLANK($A35),\"\",VLOOKUP($A35,Data!$A$4:$AI$155,14,FALSE)))","v":0.25},null,{"$f":"IF($A35=\"\",\"\",IF(ISBLANK($A35),\"\",VLOOKUP($A35,Data!$A$4:$AM$155,38,FALSE)))","v":0.23}]
[{"$f":"IF('Early Years Table'!A36=\"\",\"\",IF(ISBLANK('Early Years Table'!A36),\"\",'Early Years Table'!A36))","v":896},{"$f":"IF($A36=\"\",\"\",IF(ISBLANK($A36),\"\",INDEX('LEA Nos codes'!$A$3:$A$154,MATCH($A36,'LEA Nos codes'!$B$3:$B$154,0))))","v":"Cheshire West and Chester"},{"$f":"IF($A36=\"\",\"\",IF(ISBLANK($A36),\"\",VLOOKUP($A36,Data!$A$4:$AI$155,12,FALSE)))","v":0.24},{"$f":"IF($A36=\"\",\"\",IF(ISBLANK($A36),\"\",VLOOKUP($A36,Data!$A$4:$AI$155,13,FALSE)))","v":0.27},{"$f":"IF($A36=\"\",\"\",IF(ISBLANK($A36),\"\",VLOOKUP($A36,Data!$A$4:$AI$155,14,FALSE)))","v":0.28000000000000003},null,{"$f":"IF($A36=\"\",\"\",IF(ISBLANK($A36),\"\",VLOOKUP($A36,Data!$A$4:$AM$155,38,FALSE)))","v":0.25}]
[{"$f":"IF('Early Years Table'!A37=\"\",\"\",IF(ISBLANK('Early Years Table'!A37),\"\",'Early Years Table'!A37))","v":801},{"$f":"IF($A37=\"\",\"\",IF(ISBLANK($A37),\"\",INDEX('LEA Nos codes'!$A$3:$A$154,MATCH($A37,'LEA Nos codes'!$B$3:$B$154,0))))","v":"City of Bristol"},{"$f":"IF($A37=\"\",\"\",IF(ISBLANK($A37),\"\",VLOOKUP($A37,Data!$A$4:$AI$155,12,FALSE)))","v":0.17},{"$f":"IF($A37=\"\",\"\",IF(ISBLANK($A37),\"\",VLOOKUP($A37,Data!$A$4:$AI$155,13,FALSE)))","v":0.22},{"$f":"IF($A37=\"\",\"\",IF(ISBLANK($A37),\"\",VLOOKUP($A37,Data!$A$4:$AI$155,14,FALSE)))","v":0.2},null,{"$f":"IF($A37=\"\",\"\",IF(ISBLANK($A37),\"\",VLOOKUP($A37,Data!$A$4:$AM$155,38,FALSE)))","v":0.21}]
[{"$f":"IF('Early Years Table'!A38=\"\",\"\",IF(ISBLANK('Early Years Table'!A38),\"\",'Early Years Table'!A38))","v":810},{"$f":"IF($A38=\"\",\"\",IF(ISBLANK($A38),\"\",INDEX('LEA Nos codes'!$A$3:$A$154,MATCH($A38,'LEA Nos codes'!$B$3:$B$154,0))))","v":"City of Kingston Upon Hull"},{"$f":"IF($A38=\"\",\"\",IF(ISBLANK($A38),\"\",VLOOKUP($A38,Data!$A$4:$AI$155,12,FALSE)))","v":0.11},{"$f":"IF($A38=\"\",\"\",IF(ISBLANK($A38),\"\",VLOOKUP($A38,Data!$A$4:$AI$155,13,FALSE)))","v":0.15},{"$f":"IF($A38=\"\",\"\",IF(ISBLANK($A38),\"\",VLOOKUP($A38,Data!$A$4:$AI$155,14,FALSE)))","v":0.16},null,{"$f":"IF($A38=\"\",\"\",IF(ISBLANK($A38),\"\",VLOOKUP($A38,Data!$A$4:$AM$155,38,FALSE)))","v":0.1}]
[{"$f":"IF('Early Years Table'!A39=\"\",\"\",IF(ISBLANK('Early Years Table'!A39),\"\",'Early Years Table'!A39))","v":201},{"$f":"IF($A39=\"\",\"\",IF(ISBLANK($A39),\"\",INDEX('LEA Nos codes'!$A$3:$A$154,MATCH($A39,'LEA Nos codes'!$B$3:$B$154,0))))","v":"City of London"},{"$f":"IF($A39=\"\",\"\",IF(ISBLANK($A39),\"\",VLOOKUP($A39,Data!$A$4:$AI$155,12,FALSE)))","v":"x"},{"$f":"IF($A39=\"\",\"\",IF(ISBLANK($A39),\"\",VLOOKUP($A39,Data!$A$4:$AI$155,13,FALSE)))","v":7.0000000000000007E-2},{"$f":"IF($A39=\"\",\"\",IF(ISBLANK($A39),\"\",VLOOKUP($A39,Data!$A$4:$AI$155,14,FALSE)))","v":-0.27},null,{"$f":"IF($A39=\"\",\"\",IF(ISBLANK($A39),\"\",VLOOKUP($A39,Data!$A$4:$AM$155,38,FALSE)))","v":0.25}]
[{"$f":"IF('Early Years Table'!A40=\"\",\"\",IF(ISBLANK('Early Years Table'!A40),\"\",'Early Years Table'!A40))","v":908},{"$f":"IF($A40=\"\",\"\",IF(ISBLANK($A40),\"\",INDEX('LEA Nos codes'!$A$3:$A$154,MATCH($A40,'LEA Nos codes'!$B$3:$B$154,0))))","v":"Cornwall"},{"$f":"IF($A40=\"\",\"\",IF(ISBLANK($A40),\"\",VLOOKUP($A40,Data!$A$4:$AI$155,12,FALSE)))","v":0.18},{"$f":"IF($A40=\"\",\"\",IF(ISBLANK($A40),\"\",VLOOKUP($A40,Data!$A$4:$AI$155,13,FALSE)))","v":0.14000000000000001},{"$f":"IF($A40=\"\",\"\",IF(ISBLANK($A40),\"\",VLOOKUP($A40,Data!$A$4:$AI$155,14,FALSE)))","v":0.18},null,{"$f":"IF($A40=\"\",\"\",IF(ISBLANK($A40),\"\",VLOOKUP($A40,Data!$A$4:$AM$155,38,FALSE)))","v":0.19}]
[{"$f":"IF('Early Years Table'!A41=\"\",\"\",IF(ISBLANK('Early Years Table'!A41),\"\",'Early Years Table'!A41))","v":331},{"$f":"IF($A41=\"\",\"\",IF(ISBLANK($A41),\"\",INDEX('LEA Nos codes'!$A$3:$A$154,MATCH($A41,'LEA Nos codes'!$B$3:$B$154,0))))","v":"Coventry"},{"$f":"IF($A41=\"\",\"\",IF(ISBLANK($A41),\"\",VLOOKUP($A41,Data!$A$4:$AI$155,12,FALSE)))","v":0.17},{"$f":"IF($A41=\"\",\"\",IF(ISBLANK($A41),\"\",VLOOKUP($A41,Data!$A$4:$AI$155,13,FALSE)))","v":0.12},{"$f":"IF($A41=\"\",\"\",IF(ISBLANK($A41),\"\",VLOOKUP($A41,Data!$A$4:$AI$155,14,FALSE)))","v":0.12},null,{"$f":"IF($A41=\"\",\"\",IF(ISBLANK($A41),\"\",VLOOKUP($A41,Data!$A$4:$AM$155,38,FALSE)))","v":0.17}]
[{"$f":"IF('Early Years Table'!A42=\"\",\"\",IF(ISBLANK('Early Years Table'!A42),\"\",'Early Years Table'!A42))","v":306},{"$f":"IF($A42=\"\",\"\",IF(ISBLANK($A42),\"\",INDEX('LEA Nos codes'!$A$3:$A$154,MATCH($A42,'LEA Nos codes'!$B$3:$B$154,0))))","v":"Croydon"},{"$f":"IF($A42=\"\",\"\",IF(ISBLANK($A42),\"\",VLOOKUP($A42,Data!$A$4:$AI$155,12,FALSE)))","v":0.15},{"$f":"IF($A42=\"\",\"\",IF(ISBLANK($A42),\"\",VLOOKUP($A42,Data!$A$4:$AI$155,13,FALSE)))","v":0.12},{"$f":"IF($A42=\"\",\"\",IF(ISBLANK($A42),\"\",VLOOKUP($A42,Data!$A$4:$AI$155,14,FALSE)))","v":0.14000000000000001},null,{"$f":"IF($A42=\"\",\"\",IF(ISBLANK($A42),\"\",VLOOKUP($A42,Data!$A$4:$AM$155,38,FALSE)))","v":0.15}]
[{"$f":"IF('Early Years Table'!A43=\"\",\"\",IF(ISBLANK('Early Years Table'!A43),\"\",'Early Years Table'!A43))","v":909},{"$f":"IF($A43=\"\",\"\",IF(ISBLANK($A43),\"\",INDEX('LEA Nos codes'!$A$3:$A$154,MATCH($A43,'LEA Nos codes'!$B$3:$B$154,0))))","v":"Cumbria"},{"$f":"IF($A43=\"\",\"\",IF(ISBLANK($A43),\"\",VLOOKUP($A43,Data!$A$4:$AI$155,12,FALSE)))","v":0.21},{"$f":"IF($A43=\"\",\"\",IF(ISBLANK($A43),\"\",VLOOKUP($A43,Data!$A$4:$AI$155,13,FALSE)))","v":0.22},{"$f":"IF($A43=\"\",\"\",IF(ISBLANK($A43),\"\",VLOOKUP($A43,Data!$A$4:$AI$155,14,FALSE)))","v":0.22},null,{"$f":"IF($A43=\"\",\"\",IF(ISBLANK($A43),\"\",VLOOKUP($A43,Data!$A$4:$AM$155,38,FALSE)))","v":0.23}]
[{"$f":"IF('Early Years Table'!A44=\"\",\"\",IF(ISBLANK('Early Years Table'!A44),\"\",'Early Years Table'!A44))","v":841},{"$f":"IF($A44=\"\",\"\",IF(ISBLANK($A44),\"\",INDEX('LEA Nos codes'!$A$3:$A$154,MATCH($A44,'LEA Nos codes'!$B$3:$B$154,0))))","v":"Darlington"},{"$f":"IF($A44=\"\",\"\",IF(ISBLANK($A44),\"\",VLOOKUP($A44,Data!$A$4:$AI$155,12,FALSE)))","v":0.28999999999999998},{"$f":"IF($A44=\"\",\"\",IF(ISBLANK($A44),\"\",VLOOKUP($A44,Data!$A$4:$AI$155,13,FALSE)))","v":0.18},{"$f":"IF($A44=\"\",\"\",IF(ISBLANK($A44),\"\",VLOOKUP($A44,Data!$A$4:$AI$155,14,FALSE)))","v":0.23},null,{"$f":"IF($A44=\"\",\"\",IF(ISBLANK($A44),\"\",VLOOKUP($A44,Data!$A$4:$AM$155,38,FALSE)))","v":0.18}]
[{"$f":"IF('Early Years Table'!A45=\"\",\"\",IF(ISBLANK('Early Years Table'!A45),\"\",'Early Years Table'!A45))","v":831},{"$f":"IF($A45=\"\",\"\",IF(ISBLANK($A45),\"\",INDEX('LEA Nos codes'!$A$3:$A$154,MATCH($A45,'LEA Nos codes'!$B$3:$B$154,0))))","v":"Derby"},{"$f":"IF($A45=\"\",\"\",IF(ISBLANK($A45),\"\",VLOOKUP($A45,Data!$A$4:$AI$155,12,FALSE)))","v":0.23},{"$f":"IF($A45=\"\",\"\",IF(ISBLANK($A45),\"\",VLOOKUP($A45,Data!$A$4:$AI$155,13,FALSE)))","v":0.17},{"$f":"IF($A45=\"\",\"\",IF(ISBLANK($A45),\"\",VLOOKUP($A45,Data!$A$4:$AI$155,14,FALSE)))","v":0.19},null,{"$f":"IF($A45=\"\",\"\",IF(ISBLANK($A45),\"\",VLOOKUP($A45,Data!$A$4:$AM$155,38,FALSE)))","v":0.17}]
[{"$f":"IF('Early Years Table'!A46=\"\",\"\",IF(ISBLANK('Early Years Table'!A46),\"\",'Early Years Table'!A46))","v":830},{"$f":"IF($A46=\"\",\"\",IF(ISBLANK($A46),\"\",INDEX('LEA Nos codes'!$A$3:$A$154,MATCH($A46,'LEA Nos codes'!$B$3:$B$154,0))))","v":"Derbyshire"},{"$f":"IF($A46=\"\",\"\",IF(ISBLANK($A46),\"\",VLOOKUP($A46,Data!$A$4:$AI$155,12,FALSE)))","v":0.19},{"$f":"IF($A46=\"\",\"\",IF(ISBLANK($A46),\"\",VLOOKUP($A46,Data!$A$4:$AI$155,13,FALSE)))","v":0.2},{"$f":"IF($A46=\"\",\"\",IF(ISBLANK($A46),\"\",VLOOKUP($A46,Data!$A$4:$AI$155,14,FALSE)))","v":0.2},null,{"$f":"IF($A46=\"\",\"\",IF(ISBLANK($A46),\"\",VLOOKUP($A46,Data!$A$4:$AM$155,38,FALSE)))","v":0.21}]
[{"$f":"IF('Early Years Table'!A47=\"\",\"\",IF(ISBLANK('Early Years Table'!A47),\"\",'Early Years Table'!A47))","v":878},{"$f":"IF($A47=\"\",\"\",IF(ISBLANK($A47),\"\",INDEX('LEA Nos codes'!$A$3:$A$154,MATCH($A47,'LEA Nos codes'!$B$3:$B$154,0))))","v":"Devon"},{"$f":"IF($A47=\"\",\"\",IF(ISBLANK($A47),\"\",VLOOKUP($A47,Data!$A$4:$AI$155,12,FALSE)))","v":0.17},{"$f":"IF($A47=\"\",\"\",IF(ISBLANK($A47),\"\",VLOOKUP($A47,Data!$A$4:$AI$155,13,FALSE)))","v":0.17},{"$f":"IF($A47=\"\",\"\",IF(ISBLANK($A47),\"\",VLOOKUP($A47,Data!$A$4:$AI$155,14,FALSE)))","v":0.22},null,{"$f":"IF($A47=\"\",\"\",IF(ISBLANK($A47),\"\",VLOOKUP($A47,Data!$A$4:$AM$155,38,FALSE)))","v":0.19}]
[{"$f":"IF('Early Years Table'!A48=\"\",\"\",IF(ISBLANK('Early Years Table'!A48),\"\",'Early Years Table'!A48))","v":371},{"$f":"IF($A48=\"\",\"\",IF(ISBLANK($A48),\"\",INDEX('LEA Nos codes'!$A$3:$A$154,MATCH($A48,'LEA Nos codes'!$B$3:$B$154,0))))","v":"Doncaster"},{"$f":"IF($A48=\"\",\"\",IF(ISBLANK($A48),\"\",VLOOKUP($A48,Data!$A$4:$AI$155,12,FALSE)))","v":0.18},{"$f":"IF($A48=\"\",\"\",IF(ISBLANK($A48),\"\",VLOOKUP($A48,Data!$A$4:$AI$155,13,FALSE)))","v":0.17},{"$f":"IF($A48=\"\",\"\",IF(ISBLANK($A48),\"\",VLOOKUP($A48,Data!$A$4:$AI$155,14,FALSE)))","v":0.18},null,{"$f":"IF($A48=\"\",\"\",IF(ISBLANK($A48),\"\",VLOOKUP($A48,Data!$A$4:$AM$155,38,FALSE)))","v":0.19}]
[{"$f":"IF('Early Years Table'!A49=\"\",\"\",IF(ISBLANK('Early Years Table'!A49),\"\",'Early Years Table'!A49))","v":835},{"$f":"IF($A49=\"\",\"\",IF(ISBLANK($A49),\"\",INDEX('LEA Nos codes'!$A$3:$A$154,MATCH($A49,'LEA Nos codes'!$B$3:$B$154,0))))","v":"Dorset"},{"$f":"IF($A49=\"\",\"\",IF(ISBLANK($A49),\"\",VLOOKUP($A49,Data!$A$4:$AI$155,12,FALSE)))","v":0.21},{"$f":"IF($A49=\"\",\"\",IF(ISBLANK($A49),\"\",VLOOKUP($A49,Data!$A$4:$AI$155,13,FALSE)))","v":0.22},{"$f":"IF($A49=\"\",\"\",IF(ISBLANK($A49),\"\",VLOOKUP($A49,Data!$A$4:$AI$155,14,FALSE)))","v":0.2},null,{"$f":"IF($A49=\"\",\"\",IF(ISBLANK($A49),\"\",VLOOKUP($A49,Data!$A$4:$AM$155,38,FALSE)))","v":0.23}]
[{"$f":"IF('Early Years Table'!A50=\"\",\"\",IF(ISBLANK('Early Years Table'!A50),\"\",'Early Years Table'!A50))","v":332},{"$f":"IF($A50=\"\",\"\",IF(ISBLANK($A50),\"\",INDEX('LEA Nos codes'!$A$3:$A$154,MATCH($A50,'LEA Nos codes'!$B$3:$B$154,0))))","v":"Dudley"},{"$f":"IF($A50=\"\",\"\",IF(ISBLANK($A50),\"\",VLOOKUP($A50,Data!$A$4:$AI$155,12,FALSE)))","v":0.23},{"$f":"IF($A50=\"\",\"\",IF(ISBLANK($A50),\"\",VLOOKUP($A50,Data!$A$4:$AI$155,13,FALSE)))","v":0.23},{"$f":"IF($A50=\"\",\"\",IF(ISBLANK($A50),\"\",VLOOKUP($A50,Data!$A$4:$AI$155,14,FALSE)))","v":0.2},null,{"$f":"IF($A50=\"\",\"\",IF(ISBLANK($A50),\"\",VLOOKUP($A50,Data!$A$4:$AM$155,38,FALSE)))","v":0.22}]
[{"$f":"IF('Early Years Table'!A51=\"\",\"\",IF(ISBLANK('Early Years Table'!A51),\"\",'Early Years Table'!A51))","v":840},{"$f":"IF($A51=\"\",\"\",IF(ISBLANK($A51),\"\",INDEX('LEA Nos codes'!$A$3:$A$154,MATCH($A51,'LEA Nos codes'!$B$3:$B$154,0))))","v":"Durham"},{"$f":"IF($A51=\"\",\"\",IF(ISBLANK($A51),\"\",VLOOKUP($A51,Data!$A$4:$AI$155,12,FALSE)))","v":0.24},{"$f":"IF($A51=\"\",\"\",IF(ISBLANK($A51),\"\",VLOOKUP($A51,Data!$A$4:$AI$155,13,FALSE)))","v":0.28000000000000003},{"$f":"IF($A51=\"\",\"\",IF(ISBLANK($A51),\"\",VLOOKUP($A51,Data!$A$4:$AI$155,14,FALSE)))","v":0.27},null,{"$f":"IF($A51=\"\",\"\",IF(ISBLANK($A51),\"\",VLOOKUP($A51,Data!$A$4:$AM$155,38,FALSE)))","v":0.21}]
[{"$f":"IF('Early Years Table'!A52=\"\",\"\",IF(ISBLANK('Early Years Table'!A52),\"\",'Early Years Table'!A52))","v":307},{"$f":"IF($A52=\"\",\"\",IF(ISBLANK($A52),\"\",INDEX('LEA Nos codes'!$A$3:$A$154,MATCH($A52,'LEA Nos codes'!$B$3:$B$154,0))))","v":"Ealing"},{"$f":"IF($A52=\"\",\"\",IF(ISBLANK($A52),\"\",VLOOKUP($A52,Data!$A$4:$AI$155,12,FALSE)))","v":0.16},{"$f":"IF($A52=\"\",\"\",IF(ISBLANK($A52),\"\",VLOOKUP($A52,Data!$A$4:$AI$155,13,FALSE)))","v":0.13},{"$f":"IF($A52=\"\",\"\",IF(ISBLANK($A52),\"\",VLOOKUP($A52,Data!$A$4:$AI$155,14,FALSE)))","v":0.12},null,{"$f":"IF($A52=\"\",\"\",IF(ISBLANK($A52),\"\",VLOOKUP($A52,Data!$A$4:$AM$155,38,FALSE)))","v":0.09}]
[{"$f":"IF('Early Years Table'!A53=\"\",\"\",IF(ISBLANK('Early Years Table'!A53),\"\",'Early Years Table'!A53))","v":811},{"$f":"IF($A53=\"\",\"\",IF(ISBLANK($A53),\"\",INDEX('LEA Nos codes'!$A$3:$A$154,MATCH($A53,'LEA Nos codes'!$B$3:$B$154,0))))","v":"East Riding of Yorkshire"},{"$f":"IF($A53=\"\",\"\",IF(ISBLANK($A53),\"\",VLOOKUP($A53,Data!$A$4:$AI$155,12,FALSE)))","v":0.19},{"$f":"IF($A53=\"\",\"\",IF(ISBLANK($A53),\"\",VLOOKUP($A53,Data!$A$4:$AI$155,13,FALSE)))","v":0.22},{"$f":"IF($A53=\"\",\"\",IF(ISBLANK($A53),\"\",VLOOKUP($A53,Data!$A$4:$AI$155,14,FALSE)))","v":0.23},null,{"$f":"IF($A53=\"\",\"\",IF(ISBLANK($A53),\"\",VLOOKUP($A53,Data!$A$4:$AM$155,38,FALSE)))","v":0.25}]
[{"$f":"IF('Early Years Table'!A54=\"\",\"\",IF(ISBLANK('Early Years Table'!A54),\"\",'Early Years Table'!A54))","v":845},{"$f":"IF($A54=\"\",\"\",IF(ISBLANK($A54),\"\",INDEX('LEA Nos codes'!$A$3:$A$154,MATCH($A54,'LEA Nos codes'!$B$3:$B$154,0))))","v":"East Sussex"},{"$f":"IF($A54=\"\",\"\",IF(ISBLANK($A54),\"\",VLOOKUP($A54,Data!$A$4:$AI$155,12,FALSE)))","v":0.21},{"$f":"IF($A54=\"\",\"\",IF(ISBLANK($A54),\"\",VLOOKUP($A54,Data!$A$4:$AI$155,13,FALSE)))","v":0.22},{"$f":"IF($A54=\"\",\"\",IF(ISBLANK($A54),\"\",VLOOKUP($A54,Data!$A$4:$AI$155,14,FALSE)))","v":0.17},null,{"$f":"IF($A54=\"\",\"\",IF(ISBLANK($A54),\"\",VLOOKUP($A54,Data!$A$4:$AM$155,38,FALSE)))","v":0.2}]
[{"$f":"IF('Early Years Table'!A55=\"\",\"\",IF(ISBLANK('Early Years Table'!A55),\"\",'Early Years Table'!A55))","v":308},{"$f":"IF($A55=\"\",\"\",IF(ISBLANK($A55),\"\",INDEX('LEA Nos codes'!$A$3:$A$154,MATCH($A55,'LEA Nos codes'!$B$3:$B$154,0))))","v":"Enfield"},{"$f":"IF($A55=\"\",\"\",IF(ISBLANK($A55),\"\",VLOOKUP($A55,Data!$A$4:$AI$155,12,FALSE)))","v":0.14000000000000001},{"$f":"IF($A55=\"\",\"\",IF(ISBLANK($A55),\"\",VLOOKUP($A55,Data!$A$4:$AI$155,13,FALSE)))","v":0.13},{"$f":"IF($A55=\"\",\"\",IF(ISBLANK($A55),\"\",VLOOKUP($A55,Data!$A$4:$AI$155,14,FALSE)))","v":0.15},null,{"$f":"IF($A55=\"\",\"\",IF(ISBLANK($A55),\"\",VLOOKUP($A55,Data!$A$4:$AM$155,38,FALSE)))","v":0.11}]
[{"$f":"IF('Early Years Table'!A56=\"\",\"\",IF(ISBLANK('Early Years Table'!A56),\"\",'Early Years Table'!A56))","v":881},{"$f":"IF($A56=\"\",\"\",IF(ISBLANK($A56),\"\",INDEX('LEA Nos codes'!$A$3:$A$154,MATCH($A56,'LEA Nos codes'!$B$3:$B$154,0))))","v":"Essex"},{"$f":"IF($A56=\"\",\"\",IF(ISBLANK($A56),\"\",VLOOKUP($A56,Data!$A$4:$AI$155,12,FALSE)))","v":0.19},{"$f":"IF($A56=\"\",\"\",IF(ISBLANK($A56),\"\",VLOOKUP($A56,Data!$A$4:$AI$155,13,FALSE)))","v":0.22},{"$f":"IF($A56=\"\",\"\",IF(ISBLANK($A56),\"\",VLOOKUP($A56,Data!$A$4:$AI$155,14,FALSE)))","v":0.21},null,{"$f":"IF($A56=\"\",\"\",IF(ISBLANK($A56),\"\",VLOOKUP($A56,Data!$A$4:$AM$155,38,FALSE)))","v":0.21}]
[{"$f":"IF('Early Years Table'!A57=\"\",\"\",IF(ISBLANK('Early Years Table'!A57),\"\",'Early Years Table'!A57))","v":390},{"$f":"IF($A57=\"\",\"\",IF(ISBLANK($A57),\"\",INDEX('LEA Nos codes'!$A$3:$A$154,MATCH($A57,'LEA Nos codes'!$B$3:$B$154,0))))","v":"Gateshead"},{"$f":"IF($A57=\"\",\"\",IF(ISBLANK($A57),\"\",VLOOKUP($A57,Data!$A$4:$AI$155,12,FALSE)))","v":0.22},{"$f":"IF($A57=\"\",\"\",IF(ISBLANK($A57),\"\",VLOOKUP($A57,Data!$A$4:$AI$155,13,FALSE)))","v":0.22},{"$f":"IF($A57=\"\",\"\",IF(ISBLANK($A57),\"\",VLOOKUP($A57,Data!$A$4:$AI$155,14,FALSE)))","v":0.25},null,{"$f":"IF($A57=\"\",\"\",IF(ISBLANK($A57),\"\",VLOOKUP($A57,Data!$A$4:$AM$155,38,FALSE)))","v":0.19}]
[{"$f":"IF('Early Years Table'!A58=\"\",\"\",IF(ISBLANK('Early Years Table'!A58),\"\",'Early Years Table'!A58))","v":916},{"$f":"IF($A58=\"\",\"\",IF(ISBLANK($A58),\"\",INDEX('LEA Nos codes'!$A$3:$A$154,MATCH($A58,'LEA Nos codes'!$B$3:$B$154,0))))","v":"Gloucestershire"},{"$f":"IF($A58=\"\",\"\",IF(ISBLANK($A58),\"\",VLOOKUP($A58,Data!$A$4:$AI$155,12,FALSE)))","v":0.23},{"$f":"IF($A58=\"\",\"\",IF(ISBLANK($A58),\"\",VLOOKUP($A58,Data!$A$4:$AI$155,13,FALSE)))","v":0.25},{"$f":"IF($A58=\"\",\"\",IF(ISBLANK($A58),\"\",VLOOKUP($A58,Data!$A$4:$AI$155,14,FALSE)))","v":0.25},null,{"$f":"IF($A58=\"\",\"\",IF(ISBLANK($A58),\"\",VLOOKUP($A58,Data!$A$4:$AM$155,38,FALSE)))","v":0.21}]
[{"$f":"IF('Early Years Table'!A59=\"\",\"\",IF(ISBLANK('Early Years Table'!A59),\"\",'Early Years Table'!A59))","v":203},{"$f":"IF($A59=\"\",\"\",IF(ISBLANK($A59),\"\",INDEX('LEA Nos codes'!$A$3:$A$154,MATCH($A59,'LEA Nos codes'!$B$3:$B$154,0))))","v":"Greenwich"},{"$f":"IF($A59=\"\",\"\",IF(ISBLANK($A59),\"\",VLOOKUP($A59,Data!$A$4:$AI$155,12,FALSE)))","v":0.1},{"$f":"IF($A59=\"\",\"\",IF(ISBLANK($A59),\"\",VLOOKUP($A59,Data!$A$4:$AI$155,13,FALSE)))","v":0.14000000000000001},{"$f":"IF($A59=\"\",\"\",IF(ISBLANK($A59),\"\",VLOOKUP($A59,Data!$A$4:$AI$155,14,FALSE)))","v":0.1},null,{"$f":"IF($A59=\"\",\"\",IF(ISBLANK($A59),\"\",VLOOKUP($A59,Data!$A$4:$AM$155,38,FALSE)))","v":0.12}]
[{"$f":"IF('Early Years Table'!A60=\"\",\"\",IF(ISBLANK('Early Years Table'!A60),\"\",'Early Years Table'!A60))","v":204},{"$f":"IF($A60=\"\",\"\",IF(ISBLANK($A60),\"\",INDEX('LEA Nos codes'!$A$3:$A$154,MATCH($A60,'LEA Nos codes'!$B$3:$B$154,0))))","v":"Hackney"},{"$f":"IF($A60=\"\",\"\",IF(ISBLANK($A60),\"\",VLOOKUP($A60,Data!$A$4:$AI$155,12,FALSE)))","v":0.08},{"$f":"IF($A60=\"\",\"\",IF(ISBLANK($A60),\"\",VLOOKUP($A60,Data!$A$4:$AI$155,13,FALSE)))","v":0.06},{"$f":"IF($A60=\"\",\"\",IF(ISBLANK($A60),\"\",VLOOKUP($A60,Data!$A$4:$AI$155,14,FALSE)))","v":0.05},null,{"$f":"IF($A60=\"\",\"\",IF(ISBLANK($A60),\"\",VLOOKUP($A60,Data!$A$4:$AM$155,38,FALSE)))","v":0.03}]
[{"$f":"IF('Early Years Table'!A61=\"\",\"\",IF(ISBLANK('Early Years Table'!A61),\"\",'Early Years Table'!A61))","v":876},{"$f":"IF($A61=\"\",\"\",IF(ISBLANK($A61),\"\",INDEX('LEA Nos codes'!$A$3:$A$154,MATCH($A61,'LEA Nos codes'!$B$3:$B$154,0))))","v":"Halton"},{"$f":"IF($A61=\"\",\"\",IF(ISBLANK($A61),\"\",VLOOKUP($A61,Data!$A$4:$AI$155,12,FALSE)))","v":0.23},{"$f":"IF($A61=\"\",\"\",IF(ISBLANK($A61),\"\",VLOOKUP($A61,Data!$A$4:$AI$155,13,FALSE)))","v":0.2},{"$f":"IF($A61=\"\",\"\",IF(ISBLANK($A61),\"\",VLOOKUP($A61,Data!$A$4:$AI$155,14,FALSE)))","v":0.22},null,{"$f":"IF($A61=\"\",\"\",IF(ISBLANK($A61),\"\",VLOOKUP($A61,Data!$A$4:$AM$155,38,FALSE)))","v":0.18}]
[{"$f":"IF('Early Years Table'!A62=\"\",\"\",IF(ISBLANK('Early Years Table'!A62),\"\",'Early Years Table'!A62))","v":205},{"$f":"IF($A62=\"\",\"\",IF(ISBLANK($A62),\"\",INDEX('LEA Nos codes'!$A$3:$A$154,MATCH($A62,'LEA Nos codes'!$B$3:$B$154,0))))","v":"Hammersmith and Fulham"},{"$f":"IF($A62=\"\",\"\",IF(ISBLANK($A62),\"\",VLOOKUP($A62,Data!$A$4:$AI$155,12,FALSE)))","v":0.13},{"$f":"IF($A62=\"\",\"\",IF(ISBLANK($A62),\"\",VLOOKUP($A62,Data!$A$4:$AI$155,13,FALSE)))","v":0.06},{"$f":"IF($A62=\"\",\"\",IF(ISBLANK($A62),\"\",VLOOKUP($A62,Data!$A$4:$AI$155,14,FALSE)))","v":0.08},null,{"$f":"IF($A62=\"\",\"\",IF(ISBLANK($A62),\"\",VLOOKUP($A62,Data!$A$4:$AM$155,38,FALSE)))","v":0.18}]
[{"$f":"IF('Early Years Table'!A63=\"\",\"\",IF(ISBLANK('Early Years Table'!A63),\"\",'Early Years Table'!A63))","v":850},{"$f":"IF($A63=\"\",\"\",IF(ISBLANK($A63),\"\",INDEX('LEA Nos codes'!$A$3:$A$154,MATCH($A63,'LEA Nos codes'!$B$3:$B$154,0))))","v":"Hampshire"},{"$f":"IF($A63=\"\",\"\",IF(ISBLANK($A63),\"\",VLOOKUP($A63,Data!$A$4:$AI$155,12,FALSE)))","v":0.24},{"$f":"IF($A63=\"\",\"\",IF(ISBLANK($A63),\"\",VLOOKUP($A63,Data!$A$4:$AI$155,13,FALSE)))","v":0.23},{"$f":"IF($A63=\"\",\"\",IF(ISBLANK($A63),\"\",VLOOKUP($A63,Data!$A$4:$AI$155,14,FALSE)))","v":0.26},null,{"$f":"IF($A63=\"\",\"\",IF(ISBLANK($A63),\"\",VLOOKUP($A63,Data!$A$4:$AM$155,38,FALSE)))","v":0.24}]
[{"$f":"IF('Early Years Table'!A64=\"\",\"\",IF(ISBLANK('Early Years Table'!A64),\"\",'Early Years Table'!A64))","v":309},{"$f":"IF($A64=\"\",\"\",IF(ISBLANK($A64),\"\",INDEX('LEA Nos codes'!$A$3:$A$154,MATCH($A64,'LEA Nos codes'!$B$3:$B$154,0))))","v":"Haringey"},{"$f":"IF($A64=\"\",\"\",IF(ISBLANK($A64),\"\",VLOOKUP($A64,Data!$A$4:$AI$155,12,FALSE)))","v":0.15},{"$f":"IF($A64=\"\",\"\",IF(ISBLANK($A64),\"\",VLOOKUP($A64,Data!$A$4:$AI$155,13,FALSE)))","v":0.14000000000000001},{"$f":"IF($A64=\"\",\"\",IF(ISBLANK($A64),\"\",VLOOKUP($A64,Data!$A$4:$AI$155,14,FALSE)))","v":0.11},null,{"$f":"IF($A64=\"\",\"\",IF(ISBLANK($A64),\"\",VLOOKUP($A64,Data!$A$4:$AM$155,38,FALSE)))","v":0.13}]
[{"$f":"IF('Early Years Table'!A65=\"\",\"\",IF(ISBLANK('Early Years Table'!A65),\"\",'Early Years Table'!A65))","v":310},{"$f":"IF($A65=\"\",\"\",IF(ISBLANK($A65),\"\",INDEX('LEA Nos codes'!$A$3:$A$154,MATCH($A65,'LEA Nos codes'!$B$3:$B$154,0))))","v":"Harrow"},{"$f":"IF($A65=\"\",\"\",IF(ISBLANK($A65),\"\",VLOOKUP($A65,Data!$A$4:$AI$155,12,FALSE)))","v":0.21},{"$f":"IF($A65=\"\",\"\",IF(ISBLANK($A65),\"\",VLOOKUP($A65,Data!$A$4:$AI$155,13,FALSE)))","v":0.21},{"$f":"IF($A65=\"\",\"\",IF(ISBLANK($A65),\"\",VLOOKUP($A65,Data!$A$4:$AI$155,14,FALSE)))","v":0.14000000000000001},null,{"$f":"IF($A65=\"\",\"\",IF(ISBLANK($A65),\"\",VLOOKUP($A65,Data!$A$4:$AM$155,38,FALSE)))","v":0.16}]
[{"$f":"IF('Early Years Table'!A66=\"\",\"\",IF(ISBLANK('Early Years Table'!A66),\"\",'Early Years Table'!A66))","v":805},{"$f":"IF($A66=\"\",\"\",IF(ISBLANK($A66),\"\",INDEX('LEA Nos codes'!$A$3:$A$154,MATCH($A66,'LEA Nos codes'!$B$3:$B$154,0))))","v":"Hartlepool"},{"$f":"IF($A66=\"\",\"\",IF(ISBLANK($A66),\"\",VLOOKUP($A66,Data!$A$4:$AI$155,12,FALSE)))","v":0.25},{"$f":"IF($A66=\"\",\"\",IF(ISBLANK($A66),\"\",VLOOKUP($A66,Data!$A$4:$AI$155,13,FALSE)))","v":0.22},{"$f":"IF($A66=\"\",\"\",IF(ISBLANK($A66),\"\",VLOOKUP($A66,Data!$A$4:$AI$155,14,FALSE)))","v":0.12},null,{"$f":"IF($A66=\"\",\"\",IF(ISBLANK($A66),\"\",VLOOKUP($A66,Data!$A$4:$AM$155,38,FALSE)))","v":0.26}]
[{"$f":"IF('Early Years Table'!A67=\"\",\"\",IF(ISBLANK('Early Years Table'!A67),\"\",'Early Years Table'!A67))","v":311},{"$f":"IF($A67=\"\",\"\",IF(ISBLANK($A67),\"\",INDEX('LEA Nos codes'!$A$3:$A$154,MATCH($A67,'LEA Nos codes'!$B$3:$B$154,0))))","v":"Havering"},{"$f":"IF($A67=\"\",\"\",IF(ISBLANK($A67),\"\",VLOOKUP($A67,Data!$A$4:$AI$155,12,FALSE)))","v":0.16},{"$f":"IF($A67=\"\",\"\",IF(ISBLANK($A67),\"\",VLOOKUP($A67,Data!$A$4:$AI$155,13,FALSE)))","v":0.19},{"$f":"IF($A67=\"\",\"\",IF(ISBLANK($A67),\"\",VLOOKUP($A67,Data!$A$4:$AI$155,14,FALSE)))","v":0.15},null,{"$f":"IF($A67=\"\",\"\",IF(ISBLANK($A67),\"\",VLOOKUP($A67,Data!$A$4:$AM$155,38,FALSE)))","v":0.23}]
[{"$f":"IF('Early Years Table'!A68=\"\",\"\",IF(ISBLANK('Early Years Table'!A68),\"\",'Early Years Table'!A68))","v":884},{"$f":"IF($A68=\"\",\"\",IF(ISBLANK($A68),\"\",INDEX('LEA Nos codes'!$A$3:$A$154,MATCH($A68,'LEA Nos codes'!$B$3:$B$154,0))))","v":"Herefordshire"},{"$f":"IF($A68=\"\",\"\",IF(ISBLANK($A68),\"\",VLOOKUP($A68,Data!$A$4:$AI$155,12,FALSE)))","v":0.23},{"$f":"IF($A68=\"\",\"\",IF(ISBLANK($A68),\"\",VLOOKUP($A68,Data!$A$4:$AI$155,13,FALSE)))","v":0.17},{"$f":"IF($A68=\"\",\"\",IF(ISBLANK($A68),\"\",VLOOKUP($A68,Data!$A$4:$AI$155,14,FALSE)))","v":0.28000000000000003},null,{"$f":"IF($A68=\"\",\"\",IF(ISBLANK($A68),\"\",VLOOKUP($A68,Data!$A$4:$AM$155,38,FALSE)))","v":0.23}]
[{"$f":"IF('Early Years Table'!A69=\"\",\"\",IF(ISBLANK('Early Years Table'!A69),\"\",'Early Years Table'!A69))","v":919},{"$f":"IF($A69=\"\",\"\",IF(ISBLANK($A69),\"\",INDEX('LEA Nos codes'!$A$3:$A$154,MATCH($A69,'LEA Nos codes'!$B$3:$B$154,0))))","v":"Hertfordshire"},{"$f":"IF($A69=\"\",\"\",IF(ISBLANK($A69),\"\",VLOOKUP($A69,Data!$A$4:$AI$155,12,FALSE)))","v":0.23},{"$f":"IF($A69=\"\",\"\",IF(ISBLANK($A69),\"\",VLOOKUP($A69,Data!$A$4:$AI$155,13,FALSE)))","v":0.24},{"$f":"IF($A69=\"\",\"\",IF(ISBLANK($A69),\"\",VLOOKUP($A69,Data!$A$4:$AI$155,14,FALSE)))","v":0.23},null,{"$f":"IF($A69=\"\",\"\",IF(ISBLANK($A69),\"\",VLOOKUP($A69,Data!$A$4:$AM$155,38,FALSE)))","v":0.23}]
[{"$f":"IF('Early Years Table'!A70=\"\",\"\",IF(ISBLANK('Early Years Table'!A70),\"\",'Early Years Table'!A70))","v":312},{"$f":"IF($A70=\"\",\"\",IF(ISBLANK($A70),\"\",INDEX('LEA Nos codes'!$A$3:$A$154,MATCH($A70,'LEA Nos codes'!$B$3:$B$154,0))))","v":"Hillingdon"},{"$f":"IF($A70=\"\",\"\",IF(ISBLANK($A70),\"\",VLOOKUP($A70,Data!$A$4:$AI$155,12,FALSE)))","v":0.18},{"$f":"IF($A70=\"\",\"\",IF(ISBLANK($A70),\"\",VLOOKUP($A70,Data!$A$4:$AI$155,13,FALSE)))","v":0.19},{"$f":"IF($A70=\"\",\"\",IF(ISBLANK($A70),\"\",VLOOKUP($A70,Data!$A$4:$AI$155,14,FALSE)))","v":0.14000000000000001},null,{"$f":"IF($A70=\"\",\"\",IF(ISBLANK($A70),\"\",VLOOKUP($A70,Data!$A$4:$AM$155,38,FALSE)))","v":0.16}]
[{"$f":"IF('Early Years Table'!A71=\"\",\"\",IF(ISBLANK('Early Years Table'!A71),\"\",'Early Years Table'!A71))","v":313},{"$f":"IF($A71=\"\",\"\",IF(ISBLANK($A71),\"\",INDEX('LEA Nos codes'!$A$3:$A$154,MATCH($A71,'LEA Nos codes'!$B$3:$B$154,0))))","v":"Hounslow"},{"$f":"IF($A71=\"\",\"\",IF(ISBLANK($A71),\"\",VLOOKUP($A71,Data!$A$4:$AI$155,12,FALSE)))","v":0.17},{"$f":"IF($A71=\"\",\"\",IF(ISBLANK($A71),\"\",VLOOKUP($A71,Data!$A$4:$AI$155,13,FALSE)))","v":0.13},{"$f":"IF($A71=\"\",\"\",IF(ISBLANK($A71),\"\",VLOOKUP($A71,Data!$A$4:$AI$155,14,FALSE)))","v":0.11},null,{"$f":"IF($A71=\"\",\"\",IF(ISBLANK($A71),\"\",VLOOKUP($A71,Data!$A$4:$AM$155,38,FALSE)))","v":0.14000000000000001}]
[{"$f":"IF('Early Years Table'!A72=\"\",\"\",IF(ISBLANK('Early Years Table'!A72),\"\",'Early Years Table'!A72))","v":921},{"$f":"IF($A72=\"\",\"\",IF(ISBLANK($A72),\"\",INDEX('LEA Nos codes'!$A$3:$A$154,MATCH($A72,'LEA Nos codes'!$B$3:$B$154,0))))","v":"Isle of Wight"},{"$f":"IF($A72=\"\",\"\",IF(ISBLANK($A72),\"\",VLOOKUP($A72,Data!$A$4:$AI$155,12,FALSE)))","v":0.17},{"$f":"IF($A72=\"\",\"\",IF(ISBLANK($A72),\"\",VLOOKUP($A72,Data!$A$4:$AI$155,13,FALSE)))","v":0.19},{"$f":"IF($A72=\"\",\"\",IF(ISBLANK($A72),\"\",VLOOKUP($A72,Data!$A$4:$AI$155,14,FALSE)))","v":0.25},null,{"$f":"IF($A72=\"\",\"\",IF(ISBLANK($A72),\"\",VLOOKUP($A72,Data!$A$4:$AM$155,38,FALSE)))","v":0.14000000000000001}]
[{"$f":"IF('Early Years Table'!A73=\"\",\"\",IF(ISBLANK('Early Years Table'!A73),\"\",'Early Years Table'!A73))","v":420},{"$f":"IF($A73=\"\",\"\",IF(ISBLANK($A73),\"\",INDEX('LEA Nos codes'!$A$3:$A$154,MATCH($A73,'LEA Nos codes'!$B$3:$B$154,0))))","v":"Isles of Scilly"},{"$f":"IF($A73=\"\",\"\",IF(ISBLANK($A73),\"\",VLOOKUP($A73,Data!$A$4:$AI$155,12,FALSE)))","v":"x"},{"$f":"IF($A73=\"\",\"\",IF(ISBLANK($A73),\"\",VLOOKUP($A73,Data!$A$4:$AI$155,13,FALSE)))","v":"x"},{"$f":"IF($A73=\"\",\"\",IF(ISBLANK($A73),\"\",VLOOKUP($A73,Data!$A$4:$AI$155,14,FALSE)))","v":"x"},null,{"$f":"IF($A73=\"\",\"\",IF(ISBLANK($A73),\"\",VLOOKUP($A73,Data!$A$4:$AM$155,38,FALSE)))","v":"**"}]
[{"$f":"IF('Early Years Table'!A74=\"\",\"\",IF(ISBLANK('Early Years Table'!A74),\"\",'Early Years Table'!A74))","v":206},{"$f":"IF($A74=\"\",\"\",IF(ISBLANK($A74),\"\",INDEX('LEA Nos codes'!$A$3:$A$154,MATCH($A74,'LEA Nos codes'!$B$3:$B$154,0))))","v":"Islington"},{"$f":"IF($A74=\"\",\"\",IF(ISBLANK($A74),\"\",VLOOKUP($A74,Data!$A$4:$AI$155,12,FALSE)))","v":0.15},{"$f":"IF($A74=\"\",\"\",IF(ISBLANK($A74),\"\",VLOOKUP($A74,Data!$A$4:$AI$155,13,FALSE)))","v":0.12},{"$f":"IF($A74=\"\",\"\",IF(ISBLANK($A74),\"\",VLOOKUP($A74,Data!$A$4:$AI$155,14,FALSE)))","v":0.11},null,{"$f":"IF($A74=\"\",\"\",IF(ISBLANK($A74),\"\",VLOOKUP($A74,Data!$A$4:$AM$155,38,FALSE)))","v":0.14000000000000001}]
[{"$f":"IF('Early Years Table'!A75=\"\",\"\",IF(ISBLANK('Early Years Table'!A75),\"\",'Early Years Table'!A75))","v":207},{"$f":"IF($A75=\"\",\"\",IF(ISBLANK($A75),\"\",INDEX('LEA Nos codes'!$A$3:$A$154,MATCH($A75,'LEA Nos codes'!$B$3:$B$154,0))))","v":"Kensington and Chelsea"},{"$f":"IF($A75=\"\",\"\",IF(ISBLANK($A75),\"\",VLOOKUP($A75,Data!$A$4:$AI$155,12,FALSE)))","v":"x"},{"$f":"IF($A75=\"\",\"\",IF(ISBLANK($A75),\"\",VLOOKUP($A75,Data!$A$4:$AI$155,13,FALSE)))","v":0.12},{"$f":"IF($A75=\"\",\"\",IF(ISBLANK($A75),\"\",VLOOKUP($A75,Data!$A$4:$AI$155,14,FALSE)))","v":0.09},null,{"$f":"IF($A75=\"\",\"\",IF(ISBLANK($A75),\"\",VLOOKUP($A75,Data!$A$4:$AM$155,38,FALSE)))","v":0.12}]
[{"$f":"IF('Early Years Table'!A76=\"\",\"\",IF(ISBLANK('Early Years Table'!A76),\"\",'Early Years Table'!A76))","v":886},{"$f":"IF($A76=\"\",\"\",IF(ISBLANK($A76),\"\",INDEX('LEA Nos codes'!$A$3:$A$154,MATCH($A76,'LEA Nos codes'!$B$3:$B$154,0))))","v":"Kent"},{"$f":"IF($A76=\"\",\"\",IF(ISBLANK($A76),\"\",VLOOKUP($A76,Data!$A$4:$AI$155,12,FALSE)))","v":0.21},{"$f":"IF($A76=\"\",\"\",IF(ISBLANK($A76),\"\",VLOOKUP($A76,Data!$A$4:$AI$155,13,FALSE)))","v":0.19},{"$f":"IF($A76=\"\",\"\",IF(ISBLANK($A76),\"\",VLOOKUP($A76,Data!$A$4:$AI$155,14,FALSE)))","v":0.2},null,{"$f":"IF($A76=\"\",\"\",IF(ISBLANK($A76),\"\",VLOOKUP($A76,Data!$A$4:$AM$155,38,FALSE)))","v":0.19}]
[{"$f":"IF('Early Years Table'!A77=\"\",\"\",IF(ISBLANK('Early Years Table'!A77),\"\",'Early Years Table'!A77))","v":314},{"$f":"IF($A77=\"\",\"\",IF(ISBLANK($A77),\"\",INDEX('LEA Nos codes'!$A$3:$A$154,MATCH($A77,'LEA Nos codes'!$B$3:$B$154,0))))","v":"Kingston upon Thames"},{"$f":"IF($A77=\"\",\"\",IF(ISBLANK($A77),\"\",VLOOKUP($A77,Data!$A$4:$AI$155,12,FALSE)))","v":0.22},{"$f":"IF($A77=\"\",\"\",IF(ISBLANK($A77),\"\",VLOOKUP($A77,Data!$A$4:$AI$155,13,FALSE)))","v":0.14000000000000001},{"$f":"IF($A77=\"\",\"\",IF(ISBLANK($A77),\"\",VLOOKUP($A77,Data!$A$4:$AI$155,14,FALSE)))","v":0.2},null,{"$f":"IF($A77=\"\",\"\",IF(ISBLANK($A77),\"\",VLOOKUP($A77,Data!$A$4:$AM$155,38,FALSE)))","v":0.22}]
[{"$f":"IF('Early Years Table'!A78=\"\",\"\",IF(ISBLANK('Early Years Table'!A78),\"\",'Early Years Table'!A78))","v":382},{"$f":"IF($A78=\"\",\"\",IF(ISBLANK($A78),\"\",INDEX('LEA Nos codes'!$A$3:$A$154,MATCH($A78,'LEA Nos codes'!$B$3:$B$154,0))))","v":"Kirklees"},{"$f":"IF($A78=\"\",\"\",IF(ISBLANK($A78),\"\",VLOOKUP($A78,Data!$A$4:$AI$155,12,FALSE)))","v":0.18},{"$f":"IF($A78=\"\",\"\",IF(ISBLANK($A78),\"\",VLOOKUP($A78,Data!$A$4:$AI$155,13,FALSE)))","v":0.19},{"$f":"IF($A78=\"\",\"\",IF(ISBLANK($A78),\"\",VLOOKUP($A78,Data!$A$4:$AI$155,14,FALSE)))","v":0.18},null,{"$f":"IF($A78=\"\",\"\",IF(ISBLANK($A78),\"\",VLOOKUP($A78,Data!$A$4:$AM$155,38,FALSE)))","v":0.23}]
[{"$f":"IF('Early Years Table'!A79=\"\",\"\",IF(ISBLANK('Early Years Table'!A79),\"\",'Early Years Table'!A79))","v":340},{"$f":"IF($A79=\"\",\"\",IF(ISBLANK($A79),\"\",INDEX('LEA Nos codes'!$A$3:$A$154,MATCH($A79,'LEA Nos codes'!$B$3:$B$154,0))))","v":"Knowsley"},{"$f":"IF($A79=\"\",\"\",IF(ISBLANK($A79),\"\",VLOOKUP($A79,Data!$A$4:$AI$155,12,FALSE)))","v":0.18},{"$f":"IF($A79=\"\",\"\",IF(ISBLANK($A79),\"\",VLOOKUP($A79,Data!$A$4:$AI$155,13,FALSE)))","v":0.14000000000000001},{"$f":"IF($A79=\"\",\"\",IF(ISBLANK($A79),\"\",VLOOKUP($A79,Data!$A$4:$AI$155,14,FALSE)))","v":0.15},null,{"$f":"IF($A79=\"\",\"\",IF(ISBLANK($A79),\"\",VLOOKUP($A79,Data!$A$4:$AM$155,38,FALSE)))","v":0.17}]
[{"$f":"IF('Early Years Table'!A80=\"\",\"\",IF(ISBLANK('Early Years Table'!A80),\"\",'Early Years Table'!A80))","v":208},{"$f":"IF($A80=\"\",\"\",IF(ISBLANK($A80),\"\",INDEX('LEA Nos codes'!$A$3:$A$154,MATCH($A80,'LEA Nos codes'!$B$3:$B$154,0))))","v":"Lambeth"},{"$f":"IF($A80=\"\",\"\",IF(ISBLANK($A80),\"\",VLOOKUP($A80,Data!$A$4:$AI$155,12,FALSE)))","v":0.06},{"$f":"IF($A80=\"\",\"\",IF(ISBLANK($A80),\"\",VLOOKUP($A80,Data!$A$4:$AI$155,13,FALSE)))","v":0.13},{"$f":"IF($A80=\"\",\"\",IF(ISBLANK($A80),\"\",VLOOKUP($A80,Data!$A$4:$AI$155,14,FALSE)))","v":0.15},null,{"$f":"IF($A80=\"\",\"\",IF(ISBLANK($A80),\"\",VLOOKUP($A80,Data!$A$4:$AM$155,38,FALSE)))","v":0.14000000000000001}]
[{"$f":"IF('Early Years Table'!A81=\"\",\"\",IF(ISBLANK('Early Years Table'!A81),\"\",'Early Years Table'!A81))","v":888},{"$f":"IF($A81=\"\",\"\",IF(ISBLANK($A81),\"\",INDEX('LEA Nos codes'!$A$3:$A$154,MATCH($A81,'LEA Nos codes'!$B$3:$B$154,0))))","v":"Lancashire"},{"$f":"IF($A81=\"\",\"\",IF(ISBLANK($A81),\"\",VLOOKUP($A81,Data!$A$4:$AI$155,12,FALSE)))","v":0.28000000000000003},{"$f":"IF($A81=\"\",\"\",IF(ISBLANK($A81),\"\",VLOOKUP($A81,Data!$A$4:$AI$155,13,FALSE)))","v":0.24},{"$f":"IF($A81=\"\",\"\",IF(ISBLANK($A81),\"\",VLOOKUP($A81,Data!$A$4:$AI$155,14,FALSE)))","v":0.22},null,{"$f":"IF($A81=\"\",\"\",IF(ISBLANK($A81),\"\",VLOOKUP($A81,Data!$A$4:$AM$155,38,FALSE)))","v":0.24}]
[{"$f":"IF('Early Years Table'!A82=\"\",\"\",IF(ISBLANK('Early Years Table'!A82),\"\",'Early Years Table'!A82))","v":383},{"$f":"IF($A82=\"\",\"\",IF(ISBLANK($A82),\"\",INDEX('LEA Nos codes'!$A$3:$A$154,MATCH($A82,'LEA Nos codes'!$B$3:$B$154,0))))","v":"Leeds"},{"$f":"IF($A82=\"\",\"\",IF(ISBLANK($A82),\"\",VLOOKUP($A82,Data!$A$4:$AI$155,12,FALSE)))","v":0.24},{"$f":"IF($A82=\"\",\"\",IF(ISBLANK($A82),\"\",VLOOKUP($A82,Data!$A$4:$AI$155,13,FALSE)))","v":0.24},{"$f":"IF($A82=\"\",\"\",IF(ISBLANK($A82),\"\",VLOOKUP($A82,Data!$A$4:$AI$155,14,FALSE)))","v":0.21},null,{"$f":"IF($A82=\"\",\"\",IF(ISBLANK($A82),\"\",VLOOKUP($A82,Data!$A$4:$AM$155,38,FALSE)))","v":0.23}]
[{"$f":"IF('Early Years Table'!A83=\"\",\"\",IF(ISBLANK('Early Years Table'!A83),\"\",'Early Years Table'!A83))","v":856},{"$f":"IF($A83=\"\",\"\",IF(ISBLANK($A83),\"\",INDEX('LEA Nos codes'!$A$3:$A$154,MATCH($A83,'LEA Nos codes'!$B$3:$B$154,0))))","v":"Leicester"},{"$f":"IF($A83=\"\",\"\",IF(ISBLANK($A83),\"\",VLOOKUP($A83,Data!$A$4:$AI$155,12,FALSE)))","v":0.13},{"$f":"IF($A83=\"\",\"\",IF(ISBLANK($A83),\"\",VLOOKUP($A83,Data!$A$4:$AI$155,13,FALSE)))","v":0.11},{"$f":"IF($A83=\"\",\"\",IF(ISBLANK($A83),\"\",VLOOKUP($A83,Data!$A$4:$AI$155,14,FALSE)))","v":0.09},null,{"$f":"IF($A83=\"\",\"\",IF(ISBLANK($A83),\"\",VLOOKUP($A83,Data!$A$4:$AM$155,38,FALSE)))","v":0.09}]
[{"$f":"IF('Early Years Table'!A84=\"\",\"\",IF(ISBLANK('Early Years Table'!A84),\"\",'Early Years Table'!A84))","v":855},{"$f":"IF($A84=\"\",\"\",IF(ISBLANK($A84),\"\",INDEX('LEA Nos codes'!$A$3:$A$154,MATCH($A84,'LEA Nos codes'!$B$3:$B$154,0))))","v":"Leicestershire"},{"$f":"IF($A84=\"\",\"\",IF(ISBLANK($A84),\"\",VLOOKUP($A84,Data!$A$4:$AI$155,12,FALSE)))","v":0.23},{"$f":"IF($A84=\"\",\"\",IF(ISBLANK($A84),\"\",VLOOKUP($A84,Data!$A$4:$AI$155,13,FALSE)))","v":0.25},{"$f":"IF($A84=\"\",\"\",IF(ISBLANK($A84),\"\",VLOOKUP($A84,Data!$A$4:$AI$155,14,FALSE)))","v":0.24},null,{"$f":"IF($A84=\"\",\"\",IF(ISBLANK($A84),\"\",VLOOKUP($A84,Data!$A$4:$AM$155,38,FALSE)))","v":0.24}]
[{"$f":"IF('Early Years Table'!A85=\"\",\"\",IF(ISBLANK('Early Years Table'!A85),\"\",'Early Years Table'!A85))","v":209},{"$f":"IF($A85=\"\",\"\",IF(ISBLANK($A85),\"\",INDEX('LEA Nos codes'!$A$3:$A$154,MATCH($A85,'LEA Nos codes'!$B$3:$B$154,0))))","v":"Lewisham"},{"$f":"IF($A85=\"\",\"\",IF(ISBLANK($A85),\"\",VLOOKUP($A85,Data!$A$4:$AI$155,12,FALSE)))","v":0.1},{"$f":"IF($A85=\"\",\"\",IF(ISBLANK($A85),\"\",VLOOKUP($A85,Data!$A$4:$AI$155,13,FALSE)))","v":0.12},{"$f":"IF($A85=\"\",\"\",IF(ISBLANK($A85),\"\",VLOOKUP($A85,Data!$A$4:$AI$155,14,FALSE)))","v":0.12},null,{"$f":"IF($A85=\"\",\"\",IF(ISBLANK($A85),\"\",VLOOKUP($A85,Data!$A$4:$AM$155,38,FALSE)))","v":0.11}]
[{"$f":"IF('Early Years Table'!A86=\"\",\"\",IF(ISBLANK('Early Years Table'!A86),\"\",'Early Years Table'!A86))","v":925},{"$f":"IF($A86=\"\",\"\",IF(ISBLANK($A86),\"\",INDEX('LEA Nos codes'!$A$3:$A$154,MATCH($A86,'LEA Nos codes'!$B$3:$B$154,0))))","v":"Lincolnshire"},{"$f":"IF($A86=\"\",\"\",IF(ISBLANK($A86),\"\",VLOOKUP($A86,Data!$A$4:$AI$155,12,FALSE)))","v":0.26},{"$f":"IF($A86=\"\",\"\",IF(ISBLANK($A86),\"\",VLOOKUP($A86,Data!$A$4:$AI$155,13,FALSE)))","v":0.21},{"$f":"IF($A86=\"\",\"\",IF(ISBLANK($A86),\"\",VLOOKUP($A86,Data!$A$4:$AI$155,14,FALSE)))","v":0.18},null,{"$f":"IF($A86=\"\",\"\",IF(ISBLANK($A86),\"\",VLOOKUP($A86,Data!$A$4:$AM$155,38,FALSE)))","v":0.21}]
[{"$f":"IF('Early Years Table'!A87=\"\",\"\",IF(ISBLANK('Early Years Table'!A87),\"\",'Early Years Table'!A87))","v":341},{"$f":"IF($A87=\"\",\"\",IF(ISBLANK($A87),\"\",INDEX('LEA Nos codes'!$A$3:$A$154,MATCH($A87,'LEA Nos codes'!$B$3:$B$154,0))))","v":"Liverpool"},{"$f":"IF($A87=\"\",\"\",IF(ISBLANK($A87),\"\",VLOOKUP($A87,Data!$A$4:$AI$155,12,FALSE)))","v":0.2},{"$f":"IF($A87=\"\",\"\",IF(ISBLANK($A87),\"\",VLOOKUP($A87,Data!$A$4:$AI$155,13,FALSE)))","v":0.16},{"$f":"IF($A87=\"\",\"\",IF(ISBLANK($A87),\"\",VLOOKUP($A87,Data!$A$4:$AI$155,14,FALSE)))","v":0.19},null,{"$f":"IF($A87=\"\",\"\",IF(ISBLANK($A87),\"\",VLOOKUP($A87,Data!$A$4:$AM$155,38,FALSE)))","v":0.2}]
[{"$f":"IF('Early Years Table'!A88=\"\",\"\",IF(ISBLANK('Early Years Table'!A88),\"\",'Early Years Table'!A88))","v":821},{"$f":"IF($A88=\"\",\"\",IF(ISBLANK($A88),\"\",INDEX('LEA Nos codes'!$A$3:$A$154,MATCH($A88,'LEA Nos codes'!$B$3:$B$154,0))))","v":"Luton"},{"$f":"IF($A88=\"\",\"\",IF(ISBLANK($A88),\"\",VLOOKUP($A88,Data!$A$4:$AI$155,12,FALSE)))","v":0.11},{"$f":"IF($A88=\"\",\"\",IF(ISBLANK($A88),\"\",VLOOKUP($A88,Data!$A$4:$AI$155,13,FALSE)))","v":0.1},{"$f":"IF($A88=\"\",\"\",IF(ISBLANK($A88),\"\",VLOOKUP($A88,Data!$A$4:$AI$155,14,FALSE)))","v":0.1},null,{"$f":"IF($A88=\"\",\"\",IF(ISBLANK($A88),\"\",VLOOKUP($A88,Data!$A$4:$AM$155,38,FALSE)))","v":0.09}]
[{"$f":"IF('Early Years Table'!A89=\"\",\"\",IF(ISBLANK('Early Years Table'!A89),\"\",'Early Years Table'!A89))","v":352},{"$f":"IF($A89=\"\",\"\",IF(ISBLANK($A89),\"\",INDEX('LEA Nos codes'!$A$3:$A$154,MATCH($A89,'LEA Nos codes'!$B$3:$B$154,0))))","v":"Manchester"},{"$f":"IF($A89=\"\",\"\",IF(ISBLANK($A89),\"\",VLOOKUP($A89,Data!$A$4:$AI$155,12,FALSE)))","v":0.13},{"$f":"IF($A89=\"\",\"\",IF(ISBLANK($A89),\"\",VLOOKUP($A89,Data!$A$4:$AI$155,13,FALSE)))","v":0.11},{"$f":"IF($A89=\"\",\"\",IF(ISBLANK($A89),\"\",VLOOKUP($A89,Data!$A$4:$AI$155,14,FALSE)))","v":0.09},null,{"$f":"IF($A89=\"\",\"\",IF(ISBLANK($A89),\"\",VLOOKUP($A89,Data!$A$4:$AM$155,38,FALSE)))","v":0.11}]
[{"$f":"IF('Early Years Table'!A90=\"\",\"\",IF(ISBLANK('Early Years Table'!A90),\"\",'Early Years Table'!A90))","v":887},{"$f":"IF($A90=\"\",\"\",IF(ISBLANK($A90),\"\",INDEX('LEA Nos codes'!$A$3:$A$154,MATCH($A90,'LEA Nos codes'!$B$3:$B$154,0))))","v":"Medway"},{"$f":"IF($A90=\"\",\"\",IF(ISBLANK($A90),\"\",VLOOKUP($A90,Data!$A$4:$AI$155,12,FALSE)))","v":0.19},{"$f":"IF($A90=\"\",\"\",IF(ISBLANK($A90),\"\",VLOOKUP($A90,Data!$A$4:$AI$155,13,FALSE)))","v":0.16},{"$f":"IF($A90=\"\",\"\",IF(ISBLANK($A90),\"\",VLOOKUP($A90,Data!$A$4:$AI$155,14,FALSE)))","v":0.19},null,{"$f":"IF($A90=\"\",\"\",IF(ISBLANK($A90),\"\",VLOOKUP($A90,Data!$A$4:$AM$155,38,FALSE)))","v":0.19}]
[{"$f":"IF('Early Years Table'!A91=\"\",\"\",IF(ISBLANK('Early Years Table'!A91),\"\",'Early Years Table'!A91))","v":315},{"$f":"IF($A91=\"\",\"\",IF(ISBLANK($A91),\"\",INDEX('LEA Nos codes'!$A$3:$A$154,MATCH($A91,'LEA Nos codes'!$B$3:$B$154,0))))","v":"Merton"},{"$f":"IF($A91=\"\",\"\",IF(ISBLANK($A91),\"\",VLOOKUP($A91,Data!$A$4:$AI$155,12,FALSE)))","v":0.2},{"$f":"IF($A91=\"\",\"\",IF(ISBLANK($A91),\"\",VLOOKUP($A91,Data!$A$4:$AI$155,13,FALSE)))","v":0.13},{"$f":"IF($A91=\"\",\"\",IF(ISBLANK($A91),\"\",VLOOKUP($A91,Data!$A$4:$AI$155,14,FALSE)))","v":0.16},null,{"$f":"IF($A91=\"\",\"\",IF(ISBLANK($A91),\"\",VLOOKUP($A91,Data!$A$4:$AM$155,38,FALSE)))","v":0.15}]
[{"$f":"IF('Early Years Table'!A92=\"\",\"\",IF(ISBLANK('Early Years Table'!A92),\"\",'Early Years Table'!A92))","v":806},{"$f":"IF($A92=\"\",\"\",IF(ISBLANK($A92),\"\",INDEX('LEA Nos codes'!$A$3:$A$154,MATCH($A92,'LEA Nos codes'!$B$3:$B$154,0))))","v":"Middlesbrough"},{"$f":"IF($A92=\"\",\"\",IF(ISBLANK($A92),\"\",VLOOKUP($A92,Data!$A$4:$AI$155,12,FALSE)))","v":0.18},{"$f":"IF($A92=\"\",\"\",IF(ISBLANK($A92),\"\",VLOOKUP($A92,Data!$A$4:$AI$155,13,FALSE)))","v":0.23},{"$f":"IF($A92=\"\",\"\",IF(ISBLANK($A92),\"\",VLOOKUP($A92,Data!$A$4:$AI$155,14,FALSE)))","v":0.22},null,{"$f":"IF($A92=\"\",\"\",IF(ISBLANK($A92),\"\",VLOOKUP($A92,Data!$A$4:$AM$155,38,FALSE)))","v":0.16}]
[{"$f":"IF('Early Years Table'!A93=\"\",\"\",IF(ISBLANK('Early Years Table'!A93),\"\",'Early Years Table'!A93))","v":826},{"$f":"IF($A93=\"\",\"\",IF(ISBLANK($A93),\"\",INDEX('LEA Nos codes'!$A$3:$A$154,MATCH($A93,'LEA Nos codes'!$B$3:$B$154,0))))","v":"Milton Keynes"},{"$f":"IF($A93=\"\",\"\",IF(ISBLANK($A93),\"\",VLOOKUP($A93,Data!$A$4:$AI$155,12,FALSE)))","v":0.18},{"$f":"IF($A93=\"\",\"\",IF(ISBLANK($A93),\"\",VLOOKUP($A93,Data!$A$4:$AI$155,13,FALSE)))","v":0.18},{"$f":"IF($A93=\"\",\"\",IF(ISBLANK($A93),\"\",VLOOKUP($A93,Data!$A$4:$AI$155,14,FALSE)))","v":0.13},null,{"$f":"IF($A93=\"\",\"\",IF(ISBLANK($A93),\"\",VLOOKUP($A93,Data!$A$4:$AM$155,38,FALSE)))","v":0.2}]
[{"$f":"IF('Early Years Table'!A94=\"\",\"\",IF(ISBLANK('Early Years Table'!A94),\"\",'Early Years Table'!A94))","v":391},{"$f":"IF($A94=\"\",\"\",IF(ISBLANK($A94),\"\",INDEX('LEA Nos codes'!$A$3:$A$154,MATCH($A94,'LEA Nos codes'!$B$3:$B$154,0))))","v":"Newcastle upon Tyne"},{"$f":"IF($A94=\"\",\"\",IF(ISBLANK($A94),\"\",VLOOKUP($A94,Data!$A$4:$AI$155,12,FALSE)))","v":0.2},{"$f":"IF($A94=\"\",\"\",IF(ISBLANK($A94),\"\",VLOOKUP($A94,Data!$A$4:$AI$155,13,FALSE)))","v":0.17},{"$f":"IF($A94=\"\",\"\",IF(ISBLANK($A94),\"\",VLOOKUP($A94,Data!$A$4:$AI$155,14,FALSE)))","v":0.21},null,{"$f":"IF($A94=\"\",\"\",IF(ISBLANK($A94),\"\",VLOOKUP($A94,Data!$A$4:$AM$155,38,FALSE)))","v":0.21}]
[{"$f":"IF('Early Years Table'!A95=\"\",\"\",IF(ISBLANK('Early Years Table'!A95),\"\",'Early Years Table'!A95))","v":316},{"$f":"IF($A95=\"\",\"\",IF(ISBLANK($A95),\"\",INDEX('LEA Nos codes'!$A$3:$A$154,MATCH($A95,'LEA Nos codes'!$B$3:$B$154,0))))","v":"Newham"},{"$f":"IF($A95=\"\",\"\",IF(ISBLANK($A95),\"\",VLOOKUP($A95,Data!$A$4:$AI$155,12,FALSE)))","v":0.05},{"$f":"IF($A95=\"\",\"\",IF(ISBLANK($A95),\"\",VLOOKUP($A95,Data!$A$4:$AI$155,13,FALSE)))","v":0.02},{"$f":"IF($A95=\"\",\"\",IF(ISBLANK($A95),\"\",VLOOKUP($A95,Data!$A$4:$AI$155,14,FALSE)))","v":7.0000000000000007E-2},null,{"$f":"IF($A95=\"\",\"\",IF(ISBLANK($A95),\"\",VLOOKUP($A95,Data!$A$4:$AM$155,38,FALSE)))","v":0.02}]
[{"$f":"IF('Early Years Table'!A96=\"\",\"\",IF(ISBLANK('Early Years Table'!A96),\"\",'Early Years Table'!A96))","v":926},{"$f":"IF($A96=\"\",\"\",IF(ISBLANK($A96),\"\",INDEX('LEA Nos codes'!$A$3:$A$154,MATCH($A96,'LEA Nos codes'!$B$3:$B$154,0))))","v":"Norfolk"},{"$f":"IF($A96=\"\",\"\",IF(ISBLANK($A96),\"\",VLOOKUP($A96,Data!$A$4:$AI$155,12,FALSE)))","v":0.22},{"$f":"IF($A96=\"\",\"\",IF(ISBLANK($A96),\"\",VLOOKUP($A96,Data!$A$4:$AI$155,13,FALSE)))","v":0.18},{"$f":"IF($A96=\"\",\"\",IF(ISBLANK($A96),\"\",VLOOKUP($A96,Data!$A$4:$AI$155,14,FALSE)))","v":0.19},null,{"$f":"IF($A96=\"\",\"\",IF(ISBLANK($A96),\"\",VLOOKUP($A96,Data!$A$4:$AM$155,38,FALSE)))","v":0.17}]
[{"$f":"IF('Early Years Table'!A97=\"\",\"\",IF(ISBLANK('Early Years Table'!A97),\"\",'Early Years Table'!A97))","v":812},{"$f":"IF($A97=\"\",\"\",IF(ISBLANK($A97),\"\",INDEX('LEA Nos codes'!$A$3:$A$154,MATCH($A97,'LEA Nos codes'!$B$3:$B$154,0))))","v":"North East Lincolnshire"},{"$f":"IF($A97=\"\",\"\",IF(ISBLANK($A97),\"\",VLOOKUP($A97,Data!$A$4:$AI$155,12,FALSE)))","v":0.14000000000000001},{"$f":"IF($A97=\"\",\"\",IF(ISBLANK($A97),\"\",VLOOKUP($A97,Data!$A$4:$AI$155,13,FALSE)))","v":0.16},{"$f":"IF($A97=\"\",\"\",IF(ISBLANK($A97),\"\",VLOOKUP($A97,Data!$A$4:$AI$155,14,FALSE)))","v":0.15},null,{"$f":"IF($A97=\"\",\"\",IF(ISBLANK($A97),\"\",VLOOKUP($A97,Data!$A$4:$AM$155,38,FALSE)))","v":0.12}]
[{"$f":"IF('Early Years Table'!A98=\"\",\"\",IF(ISBLANK('Early Years Table'!A98),\"\",'Early Years Table'!A98))","v":813},{"$f":"IF($A98=\"\",\"\",IF(ISBLANK($A98),\"\",INDEX('LEA Nos codes'!$A$3:$A$154,MATCH($A98,'LEA Nos codes'!$B$3:$B$154,0))))","v":"North Lincolnshire"},{"$f":"IF($A98=\"\",\"\",IF(ISBLANK($A98),\"\",VLOOKUP($A98,Data!$A$4:$AI$155,12,FALSE)))","v":0.22},{"$f":"IF($A98=\"\",\"\",IF(ISBLANK($A98),\"\",VLOOKUP($A98,Data!$A$4:$AI$155,13,FALSE)))","v":0.19},{"$f":"IF($A98=\"\",\"\",IF(ISBLANK($A98),\"\",VLOOKUP($A98,Data!$A$4:$AI$155,14,FALSE)))","v":0.25},null,{"$f":"IF($A98=\"\",\"\",IF(ISBLANK($A98),\"\",VLOOKUP($A98,Data!$A$4:$AM$155,38,FALSE)))","v":0.22}]
[{"$f":"IF('Early Years Table'!A99=\"\",\"\",IF(ISBLANK('Early Years Table'!A99),\"\",'Early Years Table'!A99))","v":802},{"$f":"IF($A99=\"\",\"\",IF(ISBLANK($A99),\"\",INDEX('LEA Nos codes'!$A$3:$A$154,MATCH($A99,'LEA Nos codes'!$B$3:$B$154,0))))","v":"North Somerset"},{"$f":"IF($A99=\"\",\"\",IF(ISBLANK($A99),\"\",VLOOKUP($A99,Data!$A$4:$AI$155,12,FALSE)))","v":0.3},{"$f":"IF($A99=\"\",\"\",IF(ISBLANK($A99),\"\",VLOOKUP($A99,Data!$A$4:$AI$155,13,FALSE)))","v":0.18},{"$f":"IF($A99=\"\",\"\",IF(ISBLANK($A99),\"\",VLOOKUP($A99,Data!$A$4:$AI$155,14,FALSE)))","v":0.28999999999999998},null,{"$f":"IF($A99=\"\",\"\",IF(ISBLANK($A99),\"\",VLOOKUP($A99,Data!$A$4:$AM$155,38,FALSE)))","v":0.28000000000000003}]
[{"$f":"IF('Early Years Table'!A100=\"\",\"\",IF(ISBLANK('Early Years Table'!A100),\"\",'Early Years Table'!A100))","v":392},{"$f":"IF($A100=\"\",\"\",IF(ISBLANK($A100),\"\",INDEX('LEA Nos codes'!$A$3:$A$154,MATCH($A100,'LEA Nos codes'!$B$3:$B$154,0))))","v":"North Tyneside"},{"$f":"IF($A100=\"\",\"\",IF(ISBLANK($A100),\"\",VLOOKUP($A100,Data!$A$4:$AI$155,12,FALSE)))","v":0.23},{"$f":"IF($A100=\"\",\"\",IF(ISBLANK($A100),\"\",VLOOKUP($A100,Data!$A$4:$AI$155,13,FALSE)))","v":0.19},{"$f":"IF($A100=\"\",\"\",IF(ISBLANK($A100),\"\",VLOOKUP($A100,Data!$A$4:$AI$155,14,FALSE)))","v":0.24},null,{"$f":"IF($A100=\"\",\"\",IF(ISBLANK($A100),\"\",VLOOKUP($A100,Data!$A$4:$AM$155,38,FALSE)))","v":0.22}]
[{"$f":"IF('Early Years Table'!A101=\"\",\"\",IF(ISBLANK('Early Years Table'!A101),\"\",'Early Years Table'!A101))","v":815},{"$f":"IF($A101=\"\",\"\",IF(ISBLANK($A101),\"\",INDEX('LEA Nos codes'!$A$3:$A$154,MATCH($A101,'LEA Nos codes'!$B$3:$B$154,0))))","v":"North Yorkshire"},{"$f":"IF($A101=\"\",\"\",IF(ISBLANK($A101),\"\",VLOOKUP($A101,Data!$A$4:$AI$155,12,FALSE)))","v":0.24},{"$f":"IF($A101=\"\",\"\",IF(ISBLANK($A101),\"\",VLOOKUP($A101,Data!$A$4:$AI$155,13,FALSE)))","v":0.2},{"$f":"IF($A101=\"\",\"\",IF(ISBLANK($A101),\"\",VLOOKUP($A101,Data!$A$4:$AI$155,14,FALSE)))","v":0.2},null,{"$f":"IF($A101=\"\",\"\",IF(ISBLANK($A101),\"\",VLOOKUP($A101,Data!$A$4:$AM$155,38,FALSE)))","v":0.22}]
[{"$f":"IF('Early Years Table'!A102=\"\",\"\",IF(ISBLANK('Early Years Table'!A102),\"\",'Early Years Table'!A102))","v":928},{"$f":"IF($A102=\"\",\"\",IF(ISBLANK($A102),\"\",INDEX('LEA Nos codes'!$A$3:$A$154,MATCH($A102,'LEA Nos codes'!$B$3:$B$154,0))))","v":"Northamptonshire"},{"$f":"IF($A102=\"\",\"\",IF(ISBLANK($A102),\"\",VLOOKUP($A102,Data!$A$4:$AI$155,12,FALSE)))","v":0.22},{"$f":"IF($A102=\"\",\"\",IF(ISBLANK($A102),\"\",VLOOKUP($A102,Data!$A$4:$AI$155,13,FALSE)))","v":0.19},{"$f":"IF($A102=\"\",\"\",IF(ISBLANK($A102),\"\",VLOOKUP($A102,Data!$A$4:$AI$155,14,FALSE)))","v":0.17},null,{"$f":"IF($A102=\"\",\"\",IF(ISBLANK($A102),\"\",VLOOKUP($A102,Data!$A$4:$AM$155,38,FALSE)))","v":0.19}]
[{"$f":"IF('Early Years Table'!A103=\"\",\"\",IF(ISBLANK('Early Years Table'!A103),\"\",'Early Years Table'!A103))","v":929},{"$f":"IF($A103=\"\",\"\",IF(ISBLANK($A103),\"\",INDEX('LEA Nos codes'!$A$3:$A$154,MATCH($A103,'LEA Nos codes'!$B$3:$B$154,0))))","v":"Northumberland"},{"$f":"IF($A103=\"\",\"\",IF(ISBLANK($A103),\"\",VLOOKUP($A103,Data!$A$4:$AI$155,12,FALSE)))","v":0.25},{"$f":"IF($A103=\"\",\"\",IF(ISBLANK($A103),\"\",VLOOKUP($A103,Data!$A$4:$AI$155,13,FALSE)))","v":0.28000000000000003},{"$f":"IF($A103=\"\",\"\",IF(ISBLANK($A103),\"\",VLOOKUP($A103,Data!$A$4:$AI$155,14,FALSE)))","v":0.27},null,{"$f":"IF($A103=\"\",\"\",IF(ISBLANK($A103),\"\",VLOOKUP($A103,Data!$A$4:$AM$155,38,FALSE)))","v":0.24}]
[{"$f":"IF('Early Years Table'!A104=\"\",\"\",IF(ISBLANK('Early Years Table'!A104),\"\",'Early Years Table'!A104))","v":892},{"$f":"IF($A104=\"\",\"\",IF(ISBLANK($A104),\"\",INDEX('LEA Nos codes'!$A$3:$A$154,MATCH($A104,'LEA Nos codes'!$B$3:$B$154,0))))","v":"Nottingham"},{"$f":"IF($A104=\"\",\"\",IF(ISBLANK($A104),\"\",VLOOKUP($A104,Data!$A$4:$AI$155,12,FALSE)))","v":0.17},{"$f":"IF($A104=\"\",\"\",IF(ISBLANK($A104),\"\",VLOOKUP($A104,Data!$A$4:$AI$155,13,FALSE)))","v":0.15},{"$f":"IF($A104=\"\",\"\",IF(ISBLANK($A104),\"\",VLOOKUP($A104,Data!$A$4:$AI$155,14,FALSE)))","v":0.14000000000000001},null,{"$f":"IF($A104=\"\",\"\",IF(ISBLANK($A104),\"\",VLOOKUP($A104,Data!$A$4:$AM$155,38,FALSE)))","v":0.18}]
[{"$f":"IF('Early Years Table'!A105=\"\",\"\",IF(ISBLANK('Early Years Table'!A105),\"\",'Early Years Table'!A105))","v":891},{"$f":"IF($A105=\"\",\"\",IF(ISBLANK($A105),\"\",INDEX('LEA Nos codes'!$A$3:$A$154,MATCH($A105,'LEA Nos codes'!$B$3:$B$154,0))))","v":"Nottinghamshire"},{"$f":"IF($A105=\"\",\"\",IF(ISBLANK($A105),\"\",VLOOKUP($A105,Data!$A$4:$AI$155,12,FALSE)))","v":0.21},{"$f":"IF($A105=\"\",\"\",IF(ISBLANK($A105),\"\",VLOOKUP($A105,Data!$A$4:$AI$155,13,FALSE)))","v":0.18},{"$f":"IF($A105=\"\",\"\",IF(ISBLANK($A105),\"\",VLOOKUP($A105,Data!$A$4:$AI$155,14,FALSE)))","v":0.23},null,{"$f":"IF($A105=\"\",\"\",IF(ISBLANK($A105),\"\",VLOOKUP($A105,Data!$A$4:$AM$155,38,FALSE)))","v":0.23}]
[{"$f":"IF('Early Years Table'!A106=\"\",\"\",IF(ISBLANK('Early Years Table'!A106),\"\",'Early Years Table'!A106))","v":353},{"$f":"IF($A106=\"\",\"\",IF(ISBLANK($A106),\"\",INDEX('LEA Nos codes'!$A$3:$A$154,MATCH($A106,'LEA Nos codes'!$B$3:$B$154,0))))","v":"Oldham"},{"$f":"IF($A106=\"\",\"\",IF(ISBLANK($A106),\"\",VLOOKUP($A106,Data!$A$4:$AI$155,12,FALSE)))","v":0.18},{"$f":"IF($A106=\"\",\"\",IF(ISBLANK($A106),\"\",VLOOKUP($A106,Data!$A$4:$AI$155,13,FALSE)))","v":0.19},{"$f":"IF($A106=\"\",\"\",IF(ISBLANK($A106),\"\",VLOOKUP($A106,Data!$A$4:$AI$155,14,FALSE)))","v":0.22},null,{"$f":"IF($A106=\"\",\"\",IF(ISBLANK($A106),\"\",VLOOKUP($A106,Data!$A$4:$AM$155,38,FALSE)))","v":0.18}]
[{"$f":"IF('Early Years Table'!A107=\"\",\"\",IF(ISBLANK('Early Years Table'!A107),\"\",'Early Years Table'!A107))","v":931},{"$f":"IF($A107=\"\",\"\",IF(ISBLANK($A107),\"\",INDEX('LEA Nos codes'!$A$3:$A$154,MATCH($A107,'LEA Nos codes'!$B$3:$B$154,0))))","v":"Oxfordshire"},{"$f":"IF($A107=\"\",\"\",IF(ISBLANK($A107),\"\",VLOOKUP($A107,Data!$A$4:$AI$155,12,FALSE)))","v":0.23},{"$f":"IF($A107=\"\",\"\",IF(ISBLANK($A107),\"\",VLOOKUP($A107,Data!$A$4:$AI$155,13,FALSE)))","v":0.26},{"$f":"IF($A107=\"\",\"\",IF(ISBLANK($A107),\"\",VLOOKUP($A107,Data!$A$4:$AI$155,14,FALSE)))","v":0.26},null,{"$f":"IF($A107=\"\",\"\",IF(ISBLANK($A107),\"\",VLOOKUP($A107,Data!$A$4:$AM$155,38,FALSE)))","v":0.24}]
[{"$f":"IF('Early Years Table'!A108=\"\",\"\",IF(ISBLANK('Early Years Table'!A108),\"\",'Early Years Table'!A108))","v":874},{"$f":"IF($A108=\"\",\"\",IF(ISBLANK($A108),\"\",INDEX('LEA Nos codes'!$A$3:$A$154,MATCH($A108,'LEA Nos codes'!$B$3:$B$154,0))))","v":"Peterborough"},{"$f":"IF($A108=\"\",\"\",IF(ISBLANK($A108),\"\",VLOOKUP($A108,Data!$A$4:$AI$155,12,FALSE)))","v":0.14000000000000001},{"$f":"IF($A108=\"\",\"\",IF(ISBLANK($A108),\"\",VLOOKUP($A108,Data!$A$4:$AI$155,13,FALSE)))","v":0.11},{"$f":"IF($A108=\"\",\"\",IF(ISBLANK($A108),\"\",VLOOKUP($A108,Data!$A$4:$AI$155,14,FALSE)))","v":0.11},null,{"$f":"IF($A108=\"\",\"\",IF(ISBLANK($A108),\"\",VLOOKUP($A108,Data!$A$4:$AM$155,38,FALSE)))","v":0.16}]
[{"$f":"IF('Early Years Table'!A109=\"\",\"\",IF(ISBLANK('Early Years Table'!A109),\"\",'Early Years Table'!A109))","v":879},{"$f":"IF($A109=\"\",\"\",IF(ISBLANK($A109),\"\",INDEX('LEA Nos codes'!$A$3:$A$154,MATCH($A109,'LEA Nos codes'!$B$3:$B$154,0))))","v":"Plymouth"},{"$f":"IF($A109=\"\",\"\",IF(ISBLANK($A109),\"\",VLOOKUP($A109,Data!$A$4:$AI$155,12,FALSE)))","v":0.18},{"$f":"IF($A109=\"\",\"\",IF(ISBLANK($A109),\"\",VLOOKUP($A109,Data!$A$4:$AI$155,13,FALSE)))","v":0.2},{"$f":"IF($A109=\"\",\"\",IF(ISBLANK($A109),\"\",VLOOKUP($A109,Data!$A$4:$AI$155,14,FALSE)))","v":0.16},null,{"$f":"IF($A109=\"\",\"\",IF(ISBLANK($A109),\"\",VLOOKUP($A109,Data!$A$4:$AM$155,38,FALSE)))","v":0.19}]
[{"$f":"IF('Early Years Table'!A110=\"\",\"\",IF(ISBLANK('Early Years Table'!A110),\"\",'Early Years Table'!A110))","v":836},{"$f":"IF($A110=\"\",\"\",IF(ISBLANK($A110),\"\",INDEX('LEA Nos codes'!$A$3:$A$154,MATCH($A110,'LEA Nos codes'!$B$3:$B$154,0))))","v":"Poole"},{"$f":"IF($A110=\"\",\"\",IF(ISBLANK($A110),\"\",VLOOKUP($A110,Data!$A$4:$AI$155,12,FALSE)))","v":0.32},{"$f":"IF($A110=\"\",\"\",IF(ISBLANK($A110),\"\",VLOOKUP($A110,Data!$A$4:$AI$155,13,FALSE)))","v":0.17},{"$f":"IF($A110=\"\",\"\",IF(ISBLANK($A110),\"\",VLOOKUP($A110,Data!$A$4:$AI$155,14,FALSE)))","v":0.26},null,{"$f":"IF($A110=\"\",\"\",IF(ISBLANK($A110),\"\",VLOOKUP($A110,Data!$A$4:$AM$155,38,FALSE)))","v":0.21}]
[{"$f":"IF('Early Years Table'!A111=\"\",\"\",IF(ISBLANK('Early Years Table'!A111),\"\",'Early Years Table'!A111))","v":851},{"$f":"IF($A111=\"\",\"\",IF(ISBLANK($A111),\"\",INDEX('LEA Nos codes'!$A$3:$A$154,MATCH($A111,'LEA Nos codes'!$B$3:$B$154,0))))","v":"Portsmouth"},{"$f":"IF($A111=\"\",\"\",IF(ISBLANK($A111),\"\",VLOOKUP($A111,Data!$A$4:$AI$155,12,FALSE)))","v":0.14000000000000001},{"$f":"IF($A111=\"\",\"\",IF(ISBLANK($A111),\"\",VLOOKUP($A111,Data!$A$4:$AI$155,13,FALSE)))","v":0.14000000000000001},{"$f":"IF($A111=\"\",\"\",IF(ISBLANK($A111),\"\",VLOOKUP($A111,Data!$A$4:$AI$155,14,FALSE)))","v":0.17},null,{"$f":"IF($A111=\"\",\"\",IF(ISBLANK($A111),\"\",VLOOKUP($A111,Data!$A$4:$AM$155,38,FALSE)))","v":0.11}]
[{"$f":"IF('Early Years Table'!A112=\"\",\"\",IF(ISBLANK('Early Years Table'!A112),\"\",'Early Years Table'!A112))","v":870},{"$f":"IF($A112=\"\",\"\",IF(ISBLANK($A112),\"\",INDEX('LEA Nos codes'!$A$3:$A$154,MATCH($A112,'LEA Nos codes'!$B$3:$B$154,0))))","v":"Reading"},{"$f":"IF($A112=\"\",\"\",IF(ISBLANK($A112),\"\",VLOOKUP($A112,Data!$A$4:$AI$155,12,FALSE)))","v":0.19},{"$f":"IF($A112=\"\",\"\",IF(ISBLANK($A112),\"\",VLOOKUP($A112,Data!$A$4:$AI$155,13,FALSE)))","v":0.15},{"$f":"IF($A112=\"\",\"\",IF(ISBLANK($A112),\"\",VLOOKUP($A112,Data!$A$4:$AI$155,14,FALSE)))","v":0.21},null,{"$f":"IF($A112=\"\",\"\",IF(ISBLANK($A112),\"\",VLOOKUP($A112,Data!$A$4:$AM$155,38,FALSE)))","v":0.13}]
[{"$f":"IF('Early Years Table'!A113=\"\",\"\",IF(ISBLANK('Early Years Table'!A113),\"\",'Early Years Table'!A113))","v":317},{"$f":"IF($A113=\"\",\"\",IF(ISBLANK($A113),\"\",INDEX('LEA Nos codes'!$A$3:$A$154,MATCH($A113,'LEA Nos codes'!$B$3:$B$154,0))))","v":"Redbridge"},{"$f":"IF($A113=\"\",\"\",IF(ISBLANK($A113),\"\",VLOOKUP($A113,Data!$A$4:$AI$155,12,FALSE)))","v":0.15},{"$f":"IF($A113=\"\",\"\",IF(ISBLANK($A113),\"\",VLOOKUP($A113,Data!$A$4:$AI$155,13,FALSE)))","v":0.16},{"$f":"IF($A113=\"\",\"\",IF(ISBLANK($A113),\"\",VLOOKUP($A113,Data!$A$4:$AI$155,14,FALSE)))","v":0.13},null,{"$f":"IF($A113=\"\",\"\",IF(ISBLANK($A113),\"\",VLOOKUP($A113,Data!$A$4:$AM$155,38,FALSE)))","v":0.14000000000000001}]
[{"$f":"IF('Early Years Table'!A114=\"\",\"\",IF(ISBLANK('Early Years Table'!A114),\"\",'Early Years Table'!A114))","v":807},{"$f":"IF($A114=\"\",\"\",IF(ISBLANK($A114),\"\",INDEX('LEA Nos codes'!$A$3:$A$154,MATCH($A114,'LEA Nos codes'!$B$3:$B$154,0))))","v":"Redcar and Cleveland"},{"$f":"IF($A114=\"\",\"\",IF(ISBLANK($A114),\"\",VLOOKUP($A114,Data!$A$4:$AI$155,12,FALSE)))","v":0.28000000000000003},{"$f":"IF($A114=\"\",\"\",IF(ISBLANK($A114),\"\",VLOOKUP($A114,Data!$A$4:$AI$155,13,FALSE)))","v":0.23},{"$f":"IF($A114=\"\",\"\",IF(ISBLANK($A114),\"\",VLOOKUP($A114,Data!$A$4:$AI$155,14,FALSE)))","v":0.2},null,{"$f":"IF($A114=\"\",\"\",IF(ISBLANK($A114),\"\",VLOOKUP($A114,Data!$A$4:$AM$155,38,FALSE)))","v":0.24}]
[{"$f":"IF('Early Years Table'!A115=\"\",\"\",IF(ISBLANK('Early Years Table'!A115),\"\",'Early Years Table'!A115))","v":318},{"$f":"IF($A115=\"\",\"\",IF(ISBLANK($A115),\"\",INDEX('LEA Nos codes'!$A$3:$A$154,MATCH($A115,'LEA Nos codes'!$B$3:$B$154,0))))","v":"Richmond upon Thames"},{"$f":"IF($A115=\"\",\"\",IF(ISBLANK($A115),\"\",VLOOKUP($A115,Data!$A$4:$AI$155,12,FALSE)))","v":0.33},{"$f":"IF($A115=\"\",\"\",IF(ISBLANK($A115),\"\",VLOOKUP($A115,Data!$A$4:$AI$155,13,FALSE)))","v":0.31},{"$f":"IF($A115=\"\",\"\",IF(ISBLANK($A115),\"\",VLOOKUP($A115,Data!$A$4:$AI$155,14,FALSE)))","v":0.33},null,{"$f":"IF($A115=\"\",\"\",IF(ISBLANK($A115),\"\",VLOOKUP($A115,Data!$A$4:$AM$155,38,FALSE)))","v":0.24}]
[{"$f":"IF('Early Years Table'!A116=\"\",\"\",IF(ISBLANK('Early Years Table'!A116),\"\",'Early Years Table'!A116))","v":354},{"$f":"IF($A116=\"\",\"\",IF(ISBLANK($A116),\"\",INDEX('LEA Nos codes'!$A$3:$A$154,MATCH($A116,'LEA Nos codes'!$B$3:$B$154,0))))","v":"Rochdale"},{"$f":"IF($A116=\"\",\"\",IF(ISBLANK($A116),\"\",VLOOKUP($A116,Data!$A$4:$AI$155,12,FALSE)))","v":0.18},{"$f":"IF($A116=\"\",\"\",IF(ISBLANK($A116),\"\",VLOOKUP($A116,Data!$A$4:$AI$155,13,FALSE)))","v":0.21},{"$f":"IF($A116=\"\",\"\",IF(ISBLANK($A116),\"\",VLOOKUP($A116,Data!$A$4:$AI$155,14,FALSE)))","v":0.19},null,{"$f":"IF($A116=\"\",\"\",IF(ISBLANK($A116),\"\",VLOOKUP($A116,Data!$A$4:$AM$155,38,FALSE)))","v":0.18}]
[{"$f":"IF('Early Years Table'!A117=\"\",\"\",IF(ISBLANK('Early Years Table'!A117),\"\",'Early Years Table'!A117))","v":372},{"$f":"IF($A117=\"\",\"\",IF(ISBLANK($A117),\"\",INDEX('LEA Nos codes'!$A$3:$A$154,MATCH($A117,'LEA Nos codes'!$B$3:$B$154,0))))","v":"Rotherham"},{"$f":"IF($A117=\"\",\"\",IF(ISBLANK($A117),\"\",VLOOKUP($A117,Data!$A$4:$AI$155,12,FALSE)))","v":0.25},{"$f":"IF($A117=\"\",\"\",IF(ISBLANK($A117),\"\",VLOOKUP($A117,Data!$A$4:$AI$155,13,FALSE)))","v":0.22},{"$f":"IF($A117=\"\",\"\",IF(ISBLANK($A117),\"\",VLOOKUP($A117,Data!$A$4:$AI$155,14,FALSE)))","v":0.23},null,{"$f":"IF($A117=\"\",\"\",IF(ISBLANK($A117),\"\",VLOOKUP($A117,Data!$A$4:$AM$155,38,FALSE)))","v":0.2}]
[{"$f":"IF('Early Years Table'!A118=\"\",\"\",IF(ISBLANK('Early Years Table'!A118),\"\",'Early Years Table'!A118))","v":857},{"$f":"IF($A118=\"\",\"\",IF(ISBLANK($A118),\"\",INDEX('LEA Nos codes'!$A$3:$A$154,MATCH($A118,'LEA Nos codes'!$B$3:$B$154,0))))","v":"Rutland"},{"$f":"IF($A118=\"\",\"\",IF(ISBLANK($A118),\"\",VLOOKUP($A118,Data!$A$4:$AI$155,12,FALSE)))","v":0.09},{"$f":"IF($A118=\"\",\"\",IF(ISBLANK($A118),\"\",VLOOKUP($A118,Data!$A$4:$AI$155,13,FALSE)))","v":0.36},{"$f":"IF($A118=\"\",\"\",IF(ISBLANK($A118),\"\",VLOOKUP($A118,Data!$A$4:$AI$155,14,FALSE)))","v":0.15},null,{"$f":"IF($A118=\"\",\"\",IF(ISBLANK($A118),\"\",VLOOKUP($A118,Data!$A$4:$AM$155,38,FALSE)))","v":0.34}]
[{"$f":"IF('Early Years Table'!A119=\"\",\"\",IF(ISBLANK('Early Years Table'!A119),\"\",'Early Years Table'!A119))","v":355},{"$f":"IF($A119=\"\",\"\",IF(ISBLANK($A119),\"\",INDEX('LEA Nos codes'!$A$3:$A$154,MATCH($A119,'LEA Nos codes'!$B$3:$B$154,0))))","v":"Salford"},{"$f":"IF($A119=\"\",\"\",IF(ISBLANK($A119),\"\",VLOOKUP($A119,Data!$A$4:$AI$155,12,FALSE)))","v":0.18},{"$f":"IF($A119=\"\",\"\",IF(ISBLANK($A119),\"\",VLOOKUP($A119,Data!$A$4:$AI$155,13,FALSE)))","v":0.15},{"$f":"IF($A119=\"\",\"\",IF(ISBLANK($A119),\"\",VLOOKUP($A119,Data!$A$4:$AI$155,14,FALSE)))","v":0.14000000000000001},null,{"$f":"IF($A119=\"\",\"\",IF(ISBLANK($A119),\"\",VLOOKUP($A119,Data!$A$4:$AM$155,38,FALSE)))","v":0.16}]
[{"$f":"IF('Early Years Table'!A120=\"\",\"\",IF(ISBLANK('Early Years Table'!A120),\"\",'Early Years Table'!A120))","v":333},{"$f":"IF($A120=\"\",\"\",IF(ISBLANK($A120),\"\",INDEX('LEA Nos codes'!$A$3:$A$154,MATCH($A120,'LEA Nos codes'!$B$3:$B$154,0))))","v":"Sandwell"},{"$f":"IF($A120=\"\",\"\",IF(ISBLANK($A120),\"\",VLOOKUP($A120,Data!$A$4:$AI$155,12,FALSE)))","v":0.15},{"$f":"IF($A120=\"\",\"\",IF(ISBLANK($A120),\"\",VLOOKUP($A120,Data!$A$4:$AI$155,13,FALSE)))","v":0.15},{"$f":"IF($A120=\"\",\"\",IF(ISBLANK($A120),\"\",VLOOKUP($A120,Data!$A$4:$AI$155,14,FALSE)))","v":0.17},null,{"$f":"IF($A120=\"\",\"\",IF(ISBLANK($A120),\"\",VLOOKUP($A120,Data!$A$4:$AM$155,38,FALSE)))","v":0.14000000000000001}]
[{"$f":"IF('Early Years Table'!A121=\"\",\"\",IF(ISBLANK('Early Years Table'!A121),\"\",'Early Years Table'!A121))","v":343},{"$f":"IF($A121=\"\",\"\",IF(ISBLANK($A121),\"\",INDEX('LEA Nos codes'!$A$3:$A$154,MATCH($A121,'LEA Nos codes'!$B$3:$B$154,0))))","v":"Sefton"},{"$f":"IF($A121=\"\",\"\",IF(ISBLANK($A121),\"\",VLOOKUP($A121,Data!$A$4:$AI$155,12,FALSE)))","v":0.24},{"$f":"IF($A121=\"\",\"\",IF(ISBLANK($A121),\"\",VLOOKUP($A121,Data!$A$4:$AI$155,13,FALSE)))","v":0.24},{"$f":"IF($A121=\"\",\"\",IF(ISBLANK($A121),\"\",VLOOKUP($A121,Data!$A$4:$AI$155,14,FALSE)))","v":0.21},null,{"$f":"IF($A121=\"\",\"\",IF(ISBLANK($A121),\"\",VLOOKUP($A121,Data!$A$4:$AM$155,38,FALSE)))","v":0.24}]
[{"$f":"IF('Early Years Table'!A122=\"\",\"\",IF(ISBLANK('Early Years Table'!A122),\"\",'Early Years Table'!A122))","v":373},{"$f":"IF($A122=\"\",\"\",IF(ISBLANK($A122),\"\",INDEX('LEA Nos codes'!$A$3:$A$154,MATCH($A122,'LEA Nos codes'!$B$3:$B$154,0))))","v":"Sheffield"},{"$f":"IF($A122=\"\",\"\",IF(ISBLANK($A122),\"\",VLOOKUP($A122,Data!$A$4:$AI$155,12,FALSE)))","v":0.17},{"$f":"IF($A122=\"\",\"\",IF(ISBLANK($A122),\"\",VLOOKUP($A122,Data!$A$4:$AI$155,13,FALSE)))","v":0.14000000000000001},{"$f":"IF($A122=\"\",\"\",IF(ISBLANK($A122),\"\",VLOOKUP($A122,Data!$A$4:$AI$155,14,FALSE)))","v":0.18},null,{"$f":"IF($A122=\"\",\"\",IF(ISBLANK($A122),\"\",VLOOKUP($A122,Data!$A$4:$AM$155,38,FALSE)))","v":0.18}]
[{"$f":"IF('Early Years Table'!A123=\"\",\"\",IF(ISBLANK('Early Years Table'!A123),\"\",'Early Years Table'!A123))","v":893},{"$f":"IF($A123=\"\",\"\",IF(ISBLANK($A123),\"\",INDEX('LEA Nos codes'!$A$3:$A$154,MATCH($A123,'LEA Nos codes'!$B$3:$B$154,0))))","v":"Shropshire"},{"$f":"IF($A123=\"\",\"\",IF(ISBLANK($A123),\"\",VLOOKUP($A123,Data!$A$4:$AI$155,12,FALSE)))","v":0.22},{"$f":"IF($A123=\"\",\"\",IF(ISBLANK($A123),\"\",VLOOKUP($A123,Data!$A$4:$AI$155,13,FALSE)))","v":0.19},{"$f":"IF($A123=\"\",\"\",IF(ISBLANK($A123),\"\",VLOOKUP($A123,Data!$A$4:$AI$155,14,FALSE)))","v":0.21},null,{"$f":"IF($A123=\"\",\"\",IF(ISBLANK($A123),\"\",VLOOKUP($A123,Data!$A$4:$AM$155,38,FALSE)))","v":0.19}]
[{"$f":"IF('Early Years Table'!A124=\"\",\"\",IF(ISBLANK('Early Years Table'!A124),\"\",'Early Years Table'!A124))","v":871},{"$f":"IF($A124=\"\",\"\",IF(ISBLANK($A124),\"\",INDEX('LEA Nos codes'!$A$3:$A$154,MATCH($A124,'LEA Nos codes'!$B$3:$B$154,0))))","v":"Slough"},{"$f":"IF($A124=\"\",\"\",IF(ISBLANK($A124),\"\",VLOOKUP($A124,Data!$A$4:$AI$155,12,FALSE)))","v":0.16},{"$f":"IF($A124=\"\",\"\",IF(ISBLANK($A124),\"\",VLOOKUP($A124,Data!$A$4:$AI$155,13,FALSE)))","v":0.16},{"$f":"IF($A124=\"\",\"\",IF(ISBLANK($A124),\"\",VLOOKUP($A124,Data!$A$4:$AI$155,14,FALSE)))","v":0.1},null,{"$f":"IF($A124=\"\",\"\",IF(ISBLANK($A124),\"\",VLOOKUP($A124,Data!$A$4:$AM$155,38,FALSE)))","v":0.14000000000000001}]
[{"$f":"IF('Early Years Table'!A125=\"\",\"\",IF(ISBLANK('Early Years Table'!A125),\"\",'Early Years Table'!A125))","v":334},{"$f":"IF($A125=\"\",\"\",IF(ISBLANK($A125),\"\",INDEX('LEA Nos codes'!$A$3:$A$154,MATCH($A125,'LEA Nos codes'!$B$3:$B$154,0))))","v":"Solihull"},{"$f":"IF($A125=\"\",\"\",IF(ISBLANK($A125),\"\",VLOOKUP($A125,Data!$A$4:$AI$155,12,FALSE)))","v":0.26},{"$f":"IF($A125=\"\",\"\",IF(ISBLANK($A125),\"\",VLOOKUP($A125,Data!$A$4:$AI$155,13,FALSE)))","v":0.23},{"$f":"IF($A125=\"\",\"\",IF(ISBLANK($A125),\"\",VLOOKUP($A125,Data!$A$4:$AI$155,14,FALSE)))","v":0.24},null,{"$f":"IF($A125=\"\",\"\",IF(ISBLANK($A125),\"\",VLOOKUP($A125,Data!$A$4:$AM$155,38,FALSE)))","v":0.28999999999999998}]
[{"$f":"IF('Early Years Table'!A126=\"\",\"\",IF(ISBLANK('Early Years Table'!A126),\"\",'Early Years Table'!A126))","v":933},{"$f":"IF($A126=\"\",\"\",IF(ISBLANK($A126),\"\",INDEX('LEA Nos codes'!$A$3:$A$154,MATCH($A126,'LEA Nos codes'!$B$3:$B$154,0))))","v":"Somerset"},{"$f":"IF($A126=\"\",\"\",IF(ISBLANK($A126),\"\",VLOOKUP($A126,Data!$A$4:$AI$155,12,FALSE)))","v":0.25},{"$f":"IF($A126=\"\",\"\",IF(ISBLANK($A126),\"\",VLOOKUP($A126,Data!$A$4:$AI$155,13,FALSE)))","v":0.24},{"$f":"IF($A126=\"\",\"\",IF(ISBLANK($A126),\"\",VLOOKUP($A126,Data!$A$4:$AI$155,14,FALSE)))","v":0.19},null,{"$f":"IF($A126=\"\",\"\",IF(ISBLANK($A126),\"\",VLOOKUP($A126,Data!$A$4:$AM$155,38,FALSE)))","v":0.26}]
[{"$f":"IF('Early Years Table'!A127=\"\",\"\",IF(ISBLANK('Early Years Table'!A127),\"\",'Early Years Table'!A127))","v":803},{"$f":"IF($A127=\"\",\"\",IF(ISBLANK($A127),\"\",INDEX('LEA Nos codes'!$A$3:$A$154,MATCH($A127,'LEA Nos codes'!$B$3:$B$154,0))))","v":"South Gloucestershire"},{"$f":"IF($A127=\"\",\"\",IF(ISBLANK($A127),\"\",VLOOKUP($A127,Data!$A$4:$AI$155,12,FALSE)))","v":0.26},{"$f":"IF($A127=\"\",\"\",IF(ISBLANK($A127),\"\",VLOOKUP($A127,Data!$A$4:$AI$155,13,FALSE)))","v":0.25},{"$f":"IF($A127=\"\",\"\",IF(ISBLANK($A127),\"\",VLOOKUP($A127,Data!$A$4:$AI$155,14,FALSE)))","v":0.23},null,{"$f":"IF($A127=\"\",\"\",IF(ISBLANK($A127),\"\",VLOOKUP($A127,Data!$A$4:$AM$155,38,FALSE)))","v":0.22}]
[{"$f":"IF('Early Years Table'!A128=\"\",\"\",IF(ISBLANK('Early Years Table'!A128),\"\",'Early Years Table'!A128))","v":393},{"$f":"IF($A128=\"\",\"\",IF(ISBLANK($A128),\"\",INDEX('LEA Nos codes'!$A$3:$A$154,MATCH($A128,'LEA Nos codes'!$B$3:$B$154,0))))","v":"South Tyneside"},{"$f":"IF($A128=\"\",\"\",IF(ISBLANK($A128),\"\",VLOOKUP($A128,Data!$A$4:$AI$155,12,FALSE)))","v":0.17},{"$f":"IF($A128=\"\",\"\",IF(ISBLANK($A128),\"\",VLOOKUP($A128,Data!$A$4:$AI$155,13,FALSE)))","v":0.22},{"$f":"IF($A128=\"\",\"\",IF(ISBLANK($A128),\"\",VLOOKUP($A128,Data!$A$4:$AI$155,14,FALSE)))","v":0.23},null,{"$f":"IF($A128=\"\",\"\",IF(ISBLANK($A128),\"\",VLOOKUP($A128,Data!$A$4:$AM$155,38,FALSE)))","v":0.23}]
[{"$f":"IF('Early Years Table'!A129=\"\",\"\",IF(ISBLANK('Early Years Table'!A129),\"\",'Early Years Table'!A129))","v":852},{"$f":"IF($A129=\"\",\"\",IF(ISBLANK($A129),\"\",INDEX('LEA Nos codes'!$A$3:$A$154,MATCH($A129,'LEA Nos codes'!$B$3:$B$154,0))))","v":"Southampton"},{"$f":"IF($A129=\"\",\"\",IF(ISBLANK($A129),\"\",VLOOKUP($A129,Data!$A$4:$AI$155,12,FALSE)))","v":0.15},{"$f":"IF($A129=\"\",\"\",IF(ISBLANK($A129),\"\",VLOOKUP($A129,Data!$A$4:$AI$155,13,FALSE)))","v":0.17},{"$f":"IF($A129=\"\",\"\",IF(ISBLANK($A129),\"\",VLOOKUP($A129,Data!$A$4:$AI$155,14,FALSE)))","v":0.16},null,{"$f":"IF($A129=\"\",\"\",IF(ISBLANK($A129),\"\",VLOOKUP($A129,Data!$A$4:$AM$155,38,FALSE)))","v":0.17}]
[{"$f":"IF('Early Years Table'!A130=\"\",\"\",IF(ISBLANK('Early Years Table'!A130),\"\",'Early Years Table'!A130))","v":882},{"$f":"IF($A130=\"\",\"\",IF(ISBLANK($A130),\"\",INDEX('LEA Nos codes'!$A$3:$A$154,MATCH($A130,'LEA Nos codes'!$B$3:$B$154,0))))","v":"Southend-on-Sea"},{"$f":"IF($A130=\"\",\"\",IF(ISBLANK($A130),\"\",VLOOKUP($A130,Data!$A$4:$AI$155,12,FALSE)))","v":0.24},{"$f":"IF($A130=\"\",\"\",IF(ISBLANK($A130),\"\",VLOOKUP($A130,Data!$A$4:$AI$155,13,FALSE)))","v":0.27},{"$f":"IF($A130=\"\",\"\",IF(ISBLANK($A130),\"\",VLOOKUP($A130,Data!$A$4:$AI$155,14,FALSE)))","v":0.28999999999999998},null,{"$f":"IF($A130=\"\",\"\",IF(ISBLANK($A130),\"\",VLOOKUP($A130,Data!$A$4:$AM$155,38,FALSE)))","v":0.24}]
[{"$f":"IF('Early Years Table'!A131=\"\",\"\",IF(ISBLANK('Early Years Table'!A131),\"\",'Early Years Table'!A131))","v":210},{"$f":"IF($A131=\"\",\"\",IF(ISBLANK($A131),\"\",INDEX('LEA Nos codes'!$A$3:$A$154,MATCH($A131,'LEA Nos codes'!$B$3:$B$154,0))))","v":"Southwark"},{"$f":"IF($A131=\"\",\"\",IF(ISBLANK($A131),\"\",VLOOKUP($A131,Data!$A$4:$AI$155,12,FALSE)))","v":0.14000000000000001},{"$f":"IF($A131=\"\",\"\",IF(ISBLANK($A131),\"\",VLOOKUP($A131,Data!$A$4:$AI$155,13,FALSE)))","v":0.11},{"$f":"IF($A131=\"\",\"\",IF(ISBLANK($A131),\"\",VLOOKUP($A131,Data!$A$4:$AI$155,14,FALSE)))","v":0.08},null,{"$f":"IF($A131=\"\",\"\",IF(ISBLANK($A131),\"\",VLOOKUP($A131,Data!$A$4:$AM$155,38,FALSE)))","v":0.1}]
[{"$f":"IF('Early Years Table'!A132=\"\",\"\",IF(ISBLANK('Early Years Table'!A132),\"\",'Early Years Table'!A132))","v":342},{"$f":"IF($A132=\"\",\"\",IF(ISBLANK($A132),\"\",INDEX('LEA Nos codes'!$A$3:$A$154,MATCH($A132,'LEA Nos codes'!$B$3:$B$154,0))))","v":"St. Helens"},{"$f":"IF($A132=\"\",\"\",IF(ISBLANK($A132),\"\",VLOOKUP($A132,Data!$A$4:$AI$155,12,FALSE)))","v":0.22},{"$f":"IF($A132=\"\",\"\",IF(ISBLANK($A132),\"\",VLOOKUP($A132,Data!$A$4:$AI$155,13,FALSE)))","v":0.25},{"$f":"IF($A132=\"\",\"\",IF(ISBLANK($A132),\"\",VLOOKUP($A132,Data!$A$4:$AI$155,14,FALSE)))","v":0.25},null,{"$f":"IF($A132=\"\",\"\",IF(ISBLANK($A132),\"\",VLOOKUP($A132,Data!$A$4:$AM$155,38,FALSE)))","v":0.19}]
[{"$f":"IF('Early Years Table'!A133=\"\",\"\",IF(ISBLANK('Early Years Table'!A133),\"\",'Early Years Table'!A133))","v":860},{"$f":"IF($A133=\"\",\"\",IF(ISBLANK($A133),\"\",INDEX('LEA Nos codes'!$A$3:$A$154,MATCH($A133,'LEA Nos codes'!$B$3:$B$154,0))))","v":"Staffordshire"},{"$f":"IF($A133=\"\",\"\",IF(ISBLANK($A133),\"\",VLOOKUP($A133,Data!$A$4:$AI$155,12,FALSE)))","v":0.24},{"$f":"IF($A133=\"\",\"\",IF(ISBLANK($A133),\"\",VLOOKUP($A133,Data!$A$4:$AI$155,13,FALSE)))","v":0.24},{"$f":"IF($A133=\"\",\"\",IF(ISBLANK($A133),\"\",VLOOKUP($A133,Data!$A$4:$AI$155,14,FALSE)))","v":0.24},null,{"$f":"IF($A133=\"\",\"\",IF(ISBLANK($A133),\"\",VLOOKUP($A133,Data!$A$4:$AM$155,38,FALSE)))","v":0.21}]
[{"$f":"IF('Early Years Table'!A134=\"\",\"\",IF(ISBLANK('Early Years Table'!A134),\"\",'Early Years Table'!A134))","v":356},{"$f":"IF($A134=\"\",\"\",IF(ISBLANK($A134),\"\",INDEX('LEA Nos codes'!$A$3:$A$154,MATCH($A134,'LEA Nos codes'!$B$3:$B$154,0))))","v":"Stockport"},{"$f":"IF($A134=\"\",\"\",IF(ISBLANK($A134),\"\",VLOOKUP($A134,Data!$A$4:$AI$155,12,FALSE)))","v":0.26},{"$f":"IF($A134=\"\",\"\",IF(ISBLANK($A134),\"\",VLOOKUP($A134,Data!$A$4:$AI$155,13,FALSE)))","v":0.28000000000000003},{"$f":"IF($A134=\"\",\"\",IF(ISBLANK($A134),\"\",VLOOKUP($A134,Data!$A$4:$AI$155,14,FALSE)))","v":0.3},null,{"$f":"IF($A134=\"\",\"\",IF(ISBLANK($A134),\"\",VLOOKUP($A134,Data!$A$4:$AM$155,38,FALSE)))","v":0.24}]
[{"$f":"IF('Early Years Table'!A135=\"\",\"\",IF(ISBLANK('Early Years Table'!A135),\"\",'Early Years Table'!A135))","v":808},{"$f":"IF($A135=\"\",\"\",IF(ISBLANK($A135),\"\",INDEX('LEA Nos codes'!$A$3:$A$154,MATCH($A135,'LEA Nos codes'!$B$3:$B$154,0))))","v":"Stockton-on-Tees"},{"$f":"IF($A135=\"\",\"\",IF(ISBLANK($A135),\"\",VLOOKUP($A135,Data!$A$4:$AI$155,12,FALSE)))","v":0.3},{"$f":"IF($A135=\"\",\"\",IF(ISBLANK($A135),\"\",VLOOKUP($A135,Data!$A$4:$AI$155,13,FALSE)))","v":0.26},{"$f":"IF($A135=\"\",\"\",IF(ISBLANK($A135),\"\",VLOOKUP($A135,Data!$A$4:$AI$155,14,FALSE)))","v":0.26},null,{"$f":"IF($A135=\"\",\"\",IF(ISBLANK($A135),\"\",VLOOKUP($A135,Data!$A$4:$AM$155,38,FALSE)))","v":0.24}]
[{"$f":"IF('Early Years Table'!A136=\"\",\"\",IF(ISBLANK('Early Years Table'!A136),\"\",'Early Years Table'!A136))","v":861},{"$f":"IF($A136=\"\",\"\",IF(ISBLANK($A136),\"\",INDEX('LEA Nos codes'!$A$3:$A$154,MATCH($A136,'LEA Nos codes'!$B$3:$B$154,0))))","v":"Stoke-on-Trent"},{"$f":"IF($A136=\"\",\"\",IF(ISBLANK($A136),\"\",VLOOKUP($A136,Data!$A$4:$AI$155,12,FALSE)))","v":0.16},{"$f":"IF($A136=\"\",\"\",IF(ISBLANK($A136),\"\",VLOOKUP($A136,Data!$A$4:$AI$155,13,FALSE)))","v":0.17},{"$f":"IF($A136=\"\",\"\",IF(ISBLANK($A136),\"\",VLOOKUP($A136,Data!$A$4:$AI$155,14,FALSE)))","v":0.17},null,{"$f":"IF($A136=\"\",\"\",IF(ISBLANK($A136),\"\",VLOOKUP($A136,Data!$A$4:$AM$155,38,FALSE)))","v":0.15}]
[{"$f":"IF('Early Years Table'!A137=\"\",\"\",IF(ISBLANK('Early Years Table'!A137),\"\",'Early Years Table'!A137))","v":935},{"$f":"IF($A137=\"\",\"\",IF(ISBLANK($A137),\"\",INDEX('LEA Nos codes'!$A$3:$A$154,MATCH($A137,'LEA Nos codes'!$B$3:$B$154,0))))","v":"Suffolk"},{"$f":"IF($A137=\"\",\"\",IF(ISBLANK($A137),\"\",VLOOKUP($A137,Data!$A$4:$AI$155,12,FALSE)))","v":0.04},{"$f":"IF($A137=\"\",\"\",IF(ISBLANK($A137),\"\",VLOOKUP($A137,Data!$A$4:$AI$155,13,FALSE)))","v":0.09},{"$f":"IF($A137=\"\",\"\",IF(ISBLANK($A137),\"\",VLOOKUP($A137,Data!$A$4:$AI$155,14,FALSE)))","v":0.18},null,{"$f":"IF($A137=\"\",\"\",IF(ISBLANK($A137),\"\",VLOOKUP($A137,Data!$A$4:$AM$155,38,FALSE)))","v":0.19}]
[{"$f":"IF('Early Years Table'!A138=\"\",\"\",IF(ISBLANK('Early Years Table'!A138),\"\",'Early Years Table'!A138))","v":394},{"$f":"IF($A138=\"\",\"\",IF(ISBLANK($A138),\"\",INDEX('LEA Nos codes'!$A$3:$A$154,MATCH($A138,'LEA Nos codes'!$B$3:$B$154,0))))","v":"Sunderland"},{"$f":"IF($A138=\"\",\"\",IF(ISBLANK($A138),\"\",VLOOKUP($A138,Data!$A$4:$AI$155,12,FALSE)))","v":0.2},{"$f":"IF($A138=\"\",\"\",IF(ISBLANK($A138),\"\",VLOOKUP($A138,Data!$A$4:$AI$155,13,FALSE)))","v":0.23},{"$f":"IF($A138=\"\",\"\",IF(ISBLANK($A138),\"\",VLOOKUP($A138,Data!$A$4:$AI$155,14,FALSE)))","v":0.2},null,{"$f":"IF($A138=\"\",\"\",IF(ISBLANK($A138),\"\",VLOOKUP($A138,Data!$A$4:$AM$155,38,FALSE)))","v":0.26}]
[{"$f":"IF('Early Years Table'!A139=\"\",\"\",IF(ISBLANK('Early Years Table'!A139),\"\",'Early Years Table'!A139))","v":936},{"$f":"IF($A139=\"\",\"\",IF(ISBLANK($A139),\"\",INDEX('LEA Nos codes'!$A$3:$A$154,MATCH($A139,'LEA Nos codes'!$B$3:$B$154,0))))","v":"Surrey"},{"$f":"IF($A139=\"\",\"\",IF(ISBLANK($A139),\"\",VLOOKUP($A139,Data!$A$4:$AI$155,12,FALSE)))","v":0.28999999999999998},{"$f":"IF($A139=\"\",\"\",IF(ISBLANK($A139),\"\",VLOOKUP($A139,Data!$A$4:$AI$155,13,FALSE)))","v":0.28000000000000003},{"$f":"IF($A139=\"\",\"\",IF(ISBLANK($A139),\"\",VLOOKUP($A139,Data!$A$4:$AI$155,14,FALSE)))","v":0.23},null,{"$f":"IF($A139=\"\",\"\",IF(ISBLANK($A139),\"\",VLOOKUP($A139,Data!$A$4:$AM$155,38,FALSE)))","v":0.26}]
[{"$f":"IF('Early Years Table'!A140=\"\",\"\",IF(ISBLANK('Early Years Table'!A140),\"\",'Early Years Table'!A140))","v":319},{"$f":"IF($A140=\"\",\"\",IF(ISBLANK($A140),\"\",INDEX('LEA Nos codes'!$A$3:$A$154,MATCH($A140,'LEA Nos codes'!$B$3:$B$154,0))))","v":"Sutton"},{"$f":"IF($A140=\"\",\"\",IF(ISBLANK($A140),\"\",VLOOKUP($A140,Data!$A$4:$AI$155,12,FALSE)))","v":0.22},{"$f":"IF($A140=\"\",\"\",IF(ISBLANK($A140),\"\",VLOOKUP($A140,Data!$A$4:$AI$155,13,FALSE)))","v":0.25},{"$f":"IF($A140=\"\",\"\",IF(ISBLANK($A140),\"\",VLOOKUP($A140,Data!$A$4:$AI$155,14,FALSE)))","v":0.14000000000000001},null,{"$f":"IF($A140=\"\",\"\",IF(ISBLANK($A140),\"\",VLOOKUP($A140,Data!$A$4:$AM$155,38,FALSE)))","v":0.17}]
[{"$f":"IF('Early Years Table'!A141=\"\",\"\",IF(ISBLANK('Early Years Table'!A141),\"\",'Early Years Table'!A141))","v":866},{"$f":"IF($A141=\"\",\"\",IF(ISBLANK($A141),\"\",INDEX('LEA Nos codes'!$A$3:$A$154,MATCH($A141,'LEA Nos codes'!$B$3:$B$154,0))))","v":"Swindon"},{"$f":"IF($A141=\"\",\"\",IF(ISBLANK($A141),\"\",VLOOKUP($A141,Data!$A$4:$AI$155,12,FALSE)))","v":0.21},{"$f":"IF($A141=\"\",\"\",IF(ISBLANK($A141),\"\",VLOOKUP($A141,Data!$A$4:$AI$155,13,FALSE)))","v":0.19},{"$f":"IF($A141=\"\",\"\",IF(ISBLANK($A141),\"\",VLOOKUP($A141,Data!$A$4:$AI$155,14,FALSE)))","v":0.19},null,{"$f":"IF($A141=\"\",\"\",IF(ISBLANK($A141),\"\",VLOOKUP($A141,Data!$A$4:$AM$155,38,FALSE)))","v":0.21}]
[{"$f":"IF('Early Years Table'!A142=\"\",\"\",IF(ISBLANK('Early Years Table'!A142),\"\",'Early Years Table'!A142))","v":357},{"$f":"IF($A142=\"\",\"\",IF(ISBLANK($A142),\"\",INDEX('LEA Nos codes'!$A$3:$A$154,MATCH($A142,'LEA Nos codes'!$B$3:$B$154,0))))","v":"Tameside"},{"$f":"IF($A142=\"\",\"\",IF(ISBLANK($A142),\"\",VLOOKUP($A142,Data!$A$4:$AI$155,12,FALSE)))","v":0.22},{"$f":"IF($A142=\"\",\"\",IF(ISBLANK($A142),\"\",VLOOKUP($A142,Data!$A$4:$AI$155,13,FALSE)))","v":0.24},{"$f":"IF($A142=\"\",\"\",IF(ISBLANK($A142),\"\",VLOOKUP($A142,Data!$A$4:$AI$155,14,FALSE)))","v":0.22},null,{"$f":"IF($A142=\"\",\"\",IF(ISBLANK($A142),\"\",VLOOKUP($A142,Data!$A$4:$AM$155,38,FALSE)))","v":0.18}]
[{"$f":"IF('Early Years Table'!A143=\"\",\"\",IF(ISBLANK('Early Years Table'!A143),\"\",'Early Years Table'!A143))","v":894},{"$f":"IF($A143=\"\",\"\",IF(ISBLANK($A143),\"\",INDEX('LEA Nos codes'!$A$3:$A$154,MATCH($A143,'LEA Nos codes'!$B$3:$B$154,0))))","v":"Telford & Wrekin"},{"$f":"IF($A143=\"\",\"\",IF(ISBLANK($A143),\"\",VLOOKUP($A143,Data!$A$4:$AI$155,12,FALSE)))","v":0.16},{"$f":"IF($A143=\"\",\"\",IF(ISBLANK($A143),\"\",VLOOKUP($A143,Data!$A$4:$AI$155,13,FALSE)))","v":0.2},{"$f":"IF($A143=\"\",\"\",IF(ISBLANK($A143),\"\",VLOOKUP($A143,Data!$A$4:$AI$155,14,FALSE)))","v":0.13},null,{"$f":"IF($A143=\"\",\"\",IF(ISBLANK($A143),\"\",VLOOKUP($A143,Data!$A$4:$AM$155,38,FALSE)))","v":0.18}]
[{"$f":"IF('Early Years Table'!A144=\"\",\"\",IF(ISBLANK('Early Years Table'!A144),\"\",'Early Years Table'!A144))","v":883},{"$f":"IF($A144=\"\",\"\",IF(ISBLANK($A144),\"\",INDEX('LEA Nos codes'!$A$3:$A$154,MATCH($A144,'LEA Nos codes'!$B$3:$B$154,0))))","v":"Thurrock"},{"$f":"IF($A144=\"\",\"\",IF(ISBLANK($A144),\"\",VLOOKUP($A144,Data!$A$4:$AI$155,12,FALSE)))","v":0.16},{"$f":"IF($A144=\"\",\"\",IF(ISBLANK($A144),\"\",VLOOKUP($A144,Data!$A$4:$AI$155,13,FALSE)))","v":0.19},{"$f":"IF($A144=\"\",\"\",IF(ISBLANK($A144),\"\",VLOOKUP($A144,Data!$A$4:$AI$155,14,FALSE)))","v":0.18},null,{"$f":"IF($A144=\"\",\"\",IF(ISBLANK($A144),\"\",VLOOKUP($A144,Data!$A$4:$AM$155,38,FALSE)))","v":0.14000000000000001}]
[{"$f":"IF('Early Years Table'!A145=\"\",\"\",IF(ISBLANK('Early Years Table'!A145),\"\",'Early Years Table'!A145))","v":880},{"$f":"IF($A145=\"\",\"\",IF(ISBLANK($A145),\"\",INDEX('LEA Nos codes'!$A$3:$A$154,MATCH($A145,'LEA Nos codes'!$B$3:$B$154,0))))","v":"Torbay"},{"$f":"IF($A145=\"\",\"\",IF(ISBLANK($A145),\"\",VLOOKUP($A145,Data!$A$4:$AI$155,12,FALSE)))","v":"x"},{"$f":"IF($A145=\"\",\"\",IF(ISBLANK($A145),\"\",VLOOKUP($A145,Data!$A$4:$AI$155,13,FALSE)))","v":0.22},{"$f":"IF($A145=\"\",\"\",IF(ISBLANK($A145),\"\",VLOOKUP($A145,Data!$A$4:$AI$155,14,FALSE)))","v":"x"},null,{"$f":"IF($A145=\"\",\"\",IF(ISBLANK($A145),\"\",VLOOKUP($A145,Data!$A$4:$AM$155,38,FALSE)))","v":"X"}]
[{"$f":"IF('Early Years Table'!A146=\"\",\"\",IF(ISBLANK('Early Years Table'!A146),\"\",'Early Years Table'!A146))","v":211},{"$f":"IF($A146=\"\",\"\",IF(ISBLANK($A146),\"\",INDEX('LEA Nos codes'!$A$3:$A$154,MATCH($A146,'LEA Nos codes'!$B$3:$B$154,0))))","v":"Tower Hamlets"},{"$f":"IF($A146=\"\",\"\",IF(ISBLANK($A146),\"\",VLOOKUP($A146,Data!$A$4:$AI$155,12,FALSE)))","v":0.08},{"$f":"IF($A146=\"\",\"\",IF(ISBLANK($A146),\"\",VLOOKUP($A146,Data!$A$4:$AI$155,13,FALSE)))","v":0.06},{"$f":"IF($A146=\"\",\"\",IF(ISBLANK($A146),\"\",VLOOKUP($A146,Data!$A$4:$AI$155,14,FALSE)))","v":7.0000000000000007E-2},null,{"$f":"IF($A146=\"\",\"\",IF(ISBLANK($A146),\"\",VLOOKUP($A146,Data!$A$4:$AM$155,38,FALSE)))","v":0.05}]
[{"$f":"IF('Early Years Table'!A147=\"\",\"\",IF(ISBLANK('Early Years Table'!A147),\"\",'Early Years Table'!A147))","v":358},{"$f":"IF($A147=\"\",\"\",IF(ISBLANK($A147),\"\",INDEX('LEA Nos codes'!$A$3:$A$154,MATCH($A147,'LEA Nos codes'!$B$3:$B$154,0))))","v":"Trafford"},{"$f":"IF($A147=\"\",\"\",IF(ISBLANK($A147),\"\",VLOOKUP($A147,Data!$A$4:$AI$155,12,FALSE)))","v":0.26},{"$f":"IF($A147=\"\",\"\",IF(ISBLANK($A147),\"\",VLOOKUP($A147,Data!$A$4:$AI$155,13,FALSE)))","v":0.21},{"$f":"IF($A147=\"\",\"\",IF(ISBLANK($A147),\"\",VLOOKUP($A147,Data!$A$4:$AI$155,14,FALSE)))","v":0.23},null,{"$f":"IF($A147=\"\",\"\",IF(ISBLANK($A147),\"\",VLOOKUP($A147,Data!$A$4:$AM$155,38,FALSE)))","v":0.25}]
[{"$f":"IF('Early Years Table'!A148=\"\",\"\",IF(ISBLANK('Early Years Table'!A148),\"\",'Early Years Table'!A148))","v":384},{"$f":"IF($A148=\"\",\"\",IF(ISBLANK($A148),\"\",INDEX('LEA Nos codes'!$A$3:$A$154,MATCH($A148,'LEA Nos codes'!$B$3:$B$154,0))))","v":"Wakefield"},{"$f":"IF($A148=\"\",\"\",IF(ISBLANK($A148),\"\",VLOOKUP($A148,Data!$A$4:$AI$155,12,FALSE)))","v":0.22},{"$f":"IF($A148=\"\",\"\",IF(ISBLANK($A148),\"\",VLOOKUP($A148,Data!$A$4:$AI$155,13,FALSE)))","v":0.22},{"$f":"IF($A148=\"\",\"\",IF(ISBLANK($A148),\"\",VLOOKUP($A148,Data!$A$4:$AI$155,14,FALSE)))","v":0.23},null,{"$f":"IF($A148=\"\",\"\",IF(ISBLANK($A148),\"\",VLOOKUP($A148,Data!$A$4:$AM$155,38,FALSE)))","v":0.22}]
[{"$f":"IF('Early Years Table'!A149=\"\",\"\",IF(ISBLANK('Early Years Table'!A149),\"\",'Early Years Table'!A149))","v":335},{"$f":"IF($A149=\"\",\"\",IF(ISBLANK($A149),\"\",INDEX('LEA Nos codes'!$A$3:$A$154,MATCH($A149,'LEA Nos codes'!$B$3:$B$154,0))))","v":"Walsall"},{"$f":"IF($A149=\"\",\"\",IF(ISBLANK($A149),\"\",VLOOKUP($A149,Data!$A$4:$AI$155,12,FALSE)))","v":0.13},{"$f":"IF($A149=\"\",\"\",IF(ISBLANK($A149),\"\",VLOOKUP($A149,Data!$A$4:$AI$155,13,FALSE)))","v":0.19},{"$f":"IF($A149=\"\",\"\",IF(ISBLANK($A149),\"\",VLOOKUP($A149,Data!$A$4:$AI$155,14,FALSE)))","v":0.19},null,{"$f":"IF($A149=\"\",\"\",IF(ISBLANK($A149),\"\",VLOOKUP($A149,Data!$A$4:$AM$155,38,FALSE)))","v":0.19}]
[{"$f":"IF('Early Years Table'!A150=\"\",\"\",IF(ISBLANK('Early Years Table'!A150),\"\",'Early Years Table'!A150))","v":320},{"$f":"IF($A150=\"\",\"\",IF(ISBLANK($A150),\"\",INDEX('LEA Nos codes'!$A$3:$A$154,MATCH($A150,'LEA Nos codes'!$B$3:$B$154,0))))","v":"Waltham Forest"},{"$f":"IF($A150=\"\",\"\",IF(ISBLANK($A150),\"\",VLOOKUP($A150,Data!$A$4:$AI$155,12,FALSE)))","v":7.0000000000000007E-2},{"$f":"IF($A150=\"\",\"\",IF(ISBLANK($A150),\"\",VLOOKUP($A150,Data!$A$4:$AI$155,13,FALSE)))","v":0.03},{"$f":"IF($A150=\"\",\"\",IF(ISBLANK($A150),\"\",VLOOKUP($A150,Data!$A$4:$AI$155,14,FALSE)))","v":0.08},null,{"$f":"IF($A150=\"\",\"\",IF(ISBLANK($A150),\"\",VLOOKUP($A150,Data!$A$4:$AM$155,38,FALSE)))","v":0.05}]
[{"$f":"IF('Early Years Table'!A151=\"\",\"\",IF(ISBLANK('Early Years Table'!A151),\"\",'Early Years Table'!A151))","v":212},{"$f":"IF($A151=\"\",\"\",IF(ISBLANK($A151),\"\",INDEX('LEA Nos codes'!$A$3:$A$154,MATCH($A151,'LEA Nos codes'!$B$3:$B$154,0))))","v":"Wandsworth"},{"$f":"IF($A151=\"\",\"\",IF(ISBLANK($A151),\"\",VLOOKUP($A151,Data!$A$4:$AI$155,12,FALSE)))","v":0.19},{"$f":"IF($A151=\"\",\"\",IF(ISBLANK($A151),\"\",VLOOKUP($A151,Data!$A$4:$AI$155,13,FALSE)))","v":0.22},{"$f":"IF($A151=\"\",\"\",IF(ISBLANK($A151),\"\",VLOOKUP($A151,Data!$A$4:$AI$155,14,FALSE)))","v":0.18},null,{"$f":"IF($A151=\"\",\"\",IF(ISBLANK($A151),\"\",VLOOKUP($A151,Data!$A$4:$AM$155,38,FALSE)))","v":0.18}]
[{"$f":"IF('Early Years Table'!A152=\"\",\"\",IF(ISBLANK('Early Years Table'!A152),\"\",'Early Years Table'!A152))","v":877},{"$f":"IF($A152=\"\",\"\",IF(ISBLANK($A152),\"\",INDEX('LEA Nos codes'!$A$3:$A$154,MATCH($A152,'LEA Nos codes'!$B$3:$B$154,0))))","v":"Warrington"},{"$f":"IF($A152=\"\",\"\",IF(ISBLANK($A152),\"\",VLOOKUP($A152,Data!$A$4:$AI$155,12,FALSE)))","v":0.3},{"$f":"IF($A152=\"\",\"\",IF(ISBLANK($A152),\"\",VLOOKUP($A152,Data!$A$4:$AI$155,13,FALSE)))","v":0.3},{"$f":"IF($A152=\"\",\"\",IF(ISBLANK($A152),\"\",VLOOKUP($A152,Data!$A$4:$AI$155,14,FALSE)))","v":0.25},null,{"$f":"IF($A152=\"\",\"\",IF(ISBLANK($A152),\"\",VLOOKUP($A152,Data!$A$4:$AM$155,38,FALSE)))","v":0.32}]
[{"$f":"IF('Early Years Table'!A153=\"\",\"\",IF(ISBLANK('Early Years Table'!A153),\"\",'Early Years Table'!A153))","v":937},{"$f":"IF($A153=\"\",\"\",IF(ISBLANK($A153),\"\",INDEX('LEA Nos codes'!$A$3:$A$154,MATCH($A153,'LEA Nos codes'!$B$3:$B$154,0))))","v":"Warwickshire"},{"$f":"IF($A153=\"\",\"\",IF(ISBLANK($A153),\"\",VLOOKUP($A153,Data!$A$4:$AI$155,12,FALSE)))","v":0.28000000000000003},{"$f":"IF($A153=\"\",\"\",IF(ISBLANK($A153),\"\",VLOOKUP($A153,Data!$A$4:$AI$155,13,FALSE)))","v":0.21},{"$f":"IF($A153=\"\",\"\",IF(ISBLANK($A153),\"\",VLOOKUP($A153,Data!$A$4:$AI$155,14,FALSE)))","v":0.24},null,{"$f":"IF($A153=\"\",\"\",IF(ISBLANK($A153),\"\",VLOOKUP($A153,Data!$A$4:$AM$155,38,FALSE)))","v":0.21}]
[{"$f":"IF('Early Years Table'!A154=\"\",\"\",IF(ISBLANK('Early Years Table'!A154),\"\",'Early Years Table'!A154))","v":869},{"$f":"IF($A154=\"\",\"\",IF(ISBLANK($A154),\"\",INDEX('LEA Nos codes'!$A$3:$A$154,MATCH($A154,'LEA Nos codes'!$B$3:$B$154,0))))","v":"West Berkshire"},{"$f":"IF($A154=\"\",\"\",IF(ISBLANK($A154),\"\",VLOOKUP($A154,Data!$A$4:$AI$155,12,FALSE)))","v":0.33},{"$f":"IF($A154=\"\",\"\",IF(ISBLANK($A154),\"\",VLOOKUP($A154,Data!$A$4:$AI$155,13,FALSE)))","v":0.28000000000000003},{"$f":"IF($A154=\"\",\"\",IF(ISBLANK($A154),\"\",VLOOKUP($A154,Data!$A$4:$AI$155,14,FALSE)))","v":0.2},null,{"$f":"IF($A154=\"\",\"\",IF(ISBLANK($A154),\"\",VLOOKUP($A154,Data!$A$4:$AM$155,38,FALSE)))","v":0.22}]
[{"$f":"IF('Early Years Table'!A155=\"\",\"\",IF(ISBLANK('Early Years Table'!A155),\"\",'Early Years Table'!A155))","v":938},{"$f":"IF($A155=\"\",\"\",IF(ISBLANK($A155),\"\",INDEX('LEA Nos codes'!$A$3:$A$154,MATCH($A155,'LEA Nos codes'!$B$3:$B$154,0))))","v":"West Sussex"},{"$f":"IF($A155=\"\",\"\",IF(ISBLANK($A155),\"\",VLOOKUP($A155,Data!$A$4:$AI$155,12,FALSE)))","v":0.22},{"$f":"IF($A155=\"\",\"\",IF(ISBLANK($A155),\"\",VLOOKUP($A155,Data!$A$4:$AI$155,13,FALSE)))","v":0.19},{"$f":"IF($A155=\"\",\"\",IF(ISBLANK($A155),\"\",VLOOKUP($A155,Data!$A$4:$AI$155,14,FALSE)))","v":0.2},null,{"$f":"IF($A155=\"\",\"\",IF(ISBLANK($A155),\"\",VLOOKUP($A155,Data!$A$4:$AM$155,38,FALSE)))","v":0.21}]
[{"$f":"IF('Early Years Table'!A156=\"\",\"\",IF(ISBLANK('Early Years Table'!A156),\"\",'Early Years Table'!A156))","v":213},{"$f":"IF($A156=\"\",\"\",IF(ISBLANK($A156),\"\",INDEX('LEA Nos codes'!$A$3:$A$154,MATCH($A156,'LEA Nos codes'!$B$3:$B$154,0))))","v":"Westminster"},{"$f":"IF($A156=\"\",\"\",IF(ISBLANK($A156),\"\",VLOOKUP($A156,Data!$A$4:$AI$155,12,FALSE)))","v":0.16},{"$f":"IF($A156=\"\",\"\",IF(ISBLANK($A156),\"\",VLOOKUP($A156,Data!$A$4:$AI$155,13,FALSE)))","v":0.1},{"$f":"IF($A156=\"\",\"\",IF(ISBLANK($A156),\"\",VLOOKUP($A156,Data!$A$4:$AI$155,14,FALSE)))","v":0.08},null,{"$f":"IF($A156=\"\",\"\",IF(ISBLANK($A156),\"\",VLOOKUP($A156,Data!$A$4:$AM$155,38,FALSE)))","v":0.12}]
[{"$f":"IF('Early Years Table'!A157=\"\",\"\",IF(ISBLANK('Early Years Table'!A157),\"\",'Early Years Table'!A157))","v":359},{"$f":"IF($A157=\"\",\"\",IF(ISBLANK($A157),\"\",INDEX('LEA Nos codes'!$A$3:$A$154,MATCH($A157,'LEA Nos codes'!$B$3:$B$154,0))))","v":"Wigan"},{"$f":"IF($A157=\"\",\"\",IF(ISBLANK($A157),\"\",VLOOKUP($A157,Data!$A$4:$AI$155,12,FALSE)))","v":0.24},{"$f":"IF($A157=\"\",\"\",IF(ISBLANK($A157),\"\",VLOOKUP($A157,Data!$A$4:$AI$155,13,FALSE)))","v":0.26},{"$f":"IF($A157=\"\",\"\",IF(ISBLANK($A157),\"\",VLOOKUP($A157,Data!$A$4:$AI$155,14,FALSE)))","v":0.24},null,{"$f":"IF($A157=\"\",\"\",IF(ISBLANK($A157),\"\",VLOOKUP($A157,Data!$A$4:$AM$155,38,FALSE)))","v":0.23}]
[{"$f":"IF('Early Years Table'!A158=\"\",\"\",IF(ISBLANK('Early Years Table'!A158),\"\",'Early Years Table'!A158))","v":865},{"$f":"IF($A158=\"\",\"\",IF(ISBLANK($A158),\"\",INDEX('LEA Nos codes'!$A$3:$A$154,MATCH($A158,'LEA Nos codes'!$B$3:$B$154,0))))","v":"Wiltshire"},{"$f":"IF($A158=\"\",\"\",IF(ISBLANK($A158),\"\",VLOOKUP($A158,Data!$A$4:$AI$155,12,FALSE)))","v":0.21},{"$f":"IF($A158=\"\",\"\",IF(ISBLANK($A158),\"\",VLOOKUP($A158,Data!$A$4:$AI$155,13,FALSE)))","v":0.24},{"$f":"IF($A158=\"\",\"\",IF(ISBLANK($A158),\"\",VLOOKUP($A158,Data!$A$4:$AI$155,14,FALSE)))","v":0.26},null,{"$f":"IF($A158=\"\",\"\",IF(ISBLANK($A158),\"\",VLOOKUP($A158,Data!$A$4:$AM$155,38,FALSE)))","v":0.25}]
[{"$f":"IF('Early Years Table'!A159=\"\",\"\",IF(ISBLANK('Early Years Table'!A159),\"\",'Early Years Table'!A159))","v":868},{"$f":"IF($A159=\"\",\"\",IF(ISBLANK($A159),\"\",INDEX('LEA Nos codes'!$A$3:$A$154,MATCH($A159,'LEA Nos codes'!$B$3:$B$154,0))))","v":"Windsor and Maidenhead"},{"$f":"IF($A159=\"\",\"\",IF(ISBLANK($A159),\"\",VLOOKUP($A159,Data!$A$4:$AI$155,12,FALSE)))","v":0.11},{"$f":"IF($A159=\"\",\"\",IF(ISBLANK($A159),\"\",VLOOKUP($A159,Data!$A$4:$AI$155,13,FALSE)))","v":0.19},{"$f":"IF($A159=\"\",\"\",IF(ISBLANK($A159),\"\",VLOOKUP($A159,Data!$A$4:$AI$155,14,FALSE)))","v":0.18},null,{"$f":"IF($A159=\"\",\"\",IF(ISBLANK($A159),\"\",VLOOKUP($A159,Data!$A$4:$AM$155,38,FALSE)))","v":0.22}]
[{"$f":"IF('Early Years Table'!A160=\"\",\"\",IF(ISBLANK('Early Years Table'!A160),\"\",'Early Years Table'!A160))","v":344},{"$f":"IF($A160=\"\",\"\",IF(ISBLANK($A160),\"\",INDEX('LEA Nos codes'!$A$3:$A$154,MATCH($A160,'LEA Nos codes'!$B$3:$B$154,0))))","v":"Wirral"},{"$f":"IF($A160=\"\",\"\",IF(ISBLANK($A160),\"\",VLOOKUP($A160,Data!$A$4:$AI$155,12,FALSE)))","v":0.18},{"$f":"IF($A160=\"\",\"\",IF(ISBLANK($A160),\"\",VLOOKUP($A160,Data!$A$4:$AI$155,13,FALSE)))","v":0.23},{"$f":"IF($A160=\"\",\"\",IF(ISBLANK($A160),\"\",VLOOKUP($A160,Data!$A$4:$AI$155,14,FALSE)))","v":0.22},null,{"$f":"IF($A160=\"\",\"\",IF(ISBLANK($A160),\"\",VLOOKUP($A160,Data!$A$4:$AM$155,38,FALSE)))","v":0.25}]
[{"$f":"IF('Early Years Table'!A161=\"\",\"\",IF(ISBLANK('Early Years Table'!A161),\"\",'Early Years Table'!A161))","v":872},{"$f":"IF($A161=\"\",\"\",IF(ISBLANK($A161),\"\",INDEX('LEA Nos codes'!$A$3:$A$154,MATCH($A161,'LEA Nos codes'!$B$3:$B$154,0))))","v":"Wokingham"},{"$f":"IF($A161=\"\",\"\",IF(ISBLANK($A161),\"\",VLOOKUP($A161,Data!$A$4:$AI$155,12,FALSE)))","v":0.21},{"$f":"IF($A161=\"\",\"\",IF(ISBLANK($A161),\"\",VLOOKUP($A161,Data!$A$4:$AI$155,13,FALSE)))","v":0.28000000000000003},{"$f":"IF($A161=\"\",\"\",IF(ISBLANK($A161),\"\",VLOOKUP($A161,Data!$A$4:$AI$155,14,FALSE)))","v":0.26},null,{"$f":"IF($A161=\"\",\"\",IF(ISBLANK($A161),\"\",VLOOKUP($A161,Data!$A$4:$AM$155,38,FALSE)))","v":0.23}]
[{"$f":"IF('Early Years Table'!A162=\"\",\"\",IF(ISBLANK('Early Years Table'!A162),\"\",'Early Years Table'!A162))","v":336},{"$f":"IF($A162=\"\",\"\",IF(ISBLANK($A162),\"\",INDEX('LEA Nos codes'!$A$3:$A$154,MATCH($A162,'LEA Nos codes'!$B$3:$B$154,0))))","v":"Wolverhampton"},{"$f":"IF($A162=\"\",\"\",IF(ISBLANK($A162),\"\",VLOOKUP($A162,Data!$A$4:$AI$155,12,FALSE)))","v":0.2},{"$f":"IF($A162=\"\",\"\",IF(ISBLANK($A162),\"\",VLOOKUP($A162,Data!$A$4:$AI$155,13,FALSE)))","v":0.13},{"$f":"IF($A162=\"\",\"\",IF(ISBLANK($A162),\"\",VLOOKUP($A162,Data!$A$4:$AI$155,14,FALSE)))","v":0.14000000000000001},null,{"$f":"IF($A162=\"\",\"\",IF(ISBLANK($A162),\"\",VLOOKUP($A162,Data!$A$4:$AM$155,38,FALSE)))","v":0.13}]
[{"$f":"IF('Early Years Table'!A163=\"\",\"\",IF(ISBLANK('Early Years Table'!A163),\"\",'Early Years Table'!A163))","v":885},{"$f":"IF($A163=\"\",\"\",IF(ISBLANK($A163),\"\",INDEX('LEA Nos codes'!$A$3:$A$154,MATCH($A163,'LEA Nos codes'!$B$3:$B$154,0))))","v":"Worcestershire"},{"$f":"IF($A163=\"\",\"\",IF(ISBLANK($A163),\"\",VLOOKUP($A163,Data!$A$4:$AI$155,12,FALSE)))","v":0.23},{"$f":"IF($A163=\"\",\"\",IF(ISBLANK($A163),\"\",VLOOKUP($A163,Data!$A$4:$AI$155,13,FALSE)))","v":0.28000000000000003},{"$f":"IF($A163=\"\",\"\",IF(ISBLANK($A163),\"\",VLOOKUP($A163,Data!$A$4:$AI$155,14,FALSE)))","v":0.27},null,{"$f":"IF($A163=\"\",\"\",IF(ISBLANK($A163),\"\",VLOOKUP($A163,Data!$A$4:$AM$155,38,FALSE)))","v":0.26}]
[{"$f":"IF('Early Years Table'!A164=\"\",\"\",IF(ISBLANK('Early Years Table'!A164),\"\",'Early Years Table'!A164))","v":816},{"$f":"IF($A164=\"\",\"\",IF(ISBLANK($A164),\"\",INDEX('LEA Nos codes'!$A$3:$A$154,MATCH($A164,'LEA Nos codes'!$B$3:$B$154,0))))","v":"York"},{"$f":"IF($A164=\"\",\"\",IF(ISBLANK($A164),\"\",VLOOKUP($A164,Data!$A$4:$AI$155,12,FALSE)))","v":0.22},{"$f":"IF($A164=\"\",\"\",IF(ISBLANK($A164),\"\",VLOOKUP($A164,Data!$A$4:$AI$155,13,FALSE)))","v":0.25},{"$f":"IF($A164=\"\",\"\",IF(ISBLANK($A164),\"\",VLOOKUP($A164,Data!$A$4:$AI$155,14,FALSE)))","v":0.25},null,{"$f":"IF($A164=\"\",\"\",IF(ISBLANK($A164),\"\",VLOOKUP($A164,Data!$A$4:$AM$155,38,FALSE)))","v":0.28999999999999998}]
[]
[]
[]
["* A new profile was introduced in September 2012 which is substantially different from the old profile. Figures for 2013 are therefore not comparable with earlier years."]
[]
["Source: DfE: Early Years Foundation Stage Profile Attainment by Pupil Characteristics in England, 2012/13"]
["https://www.gov.uk/government/publications/eyfsp-attainment-by-pupil-characteristics-2013"]
[]
["1. For more information on the Early Years Foundation Stage Profile please see technical notes."]
["2. Percentage of children achieving a good level of development:"]
["    a. 2010 to 2012 - children achieving 6 or more points across the 7 scales of personal, social and emotional development"]
["    and communication, language and literacy and who also achieve 78 points or more across all 13 scales."]
["    b. 2013 -  children achieving at least the expected level within the three prime areas of learning: communication and language, physical development and personal, social and emotional development"]
["    and the early learning goals within the literacy and mathematics areas of learning."]
["3. Only includes pupils with a valid result for every achievement scale."]
["4. The percentage gap between pupils eligible for free school meals and the rest (including unclassified) in achieving a good level of development."]
[".. Not available"]
["x Value suppressed to protect confidentiality"]

{"sheet":"EYFSP - FSM ","index":17,"n_rows":182,"n_cols":15,"rows_kept":182,"cut":false,"hidden":true,"merged":[[170,0,170,5]]}
["Early Years Benchmarking - Child Development: Early Years Foundation Stage Profile1",null,null,null,null,null,null,null,null,null,null,null,null,null,"Return to contents"]
["Percentage gap4 between pupils eligible for free school meals and the rest in achieving a good level of development2,3 at age five",null,null,null,null,null,null,null,null,null,null,null,null,null,"Return to instructions"]
["All LAs",null," *Figures for 2013 not comparable with earlier years"]
[]
[null,null,2010,2011,2012,null,"2013*"]
["England - Average (mean) or Total",null,0.19,0.18,0.19,null,0.19]
["England - Average (median)",null,0.21,0.19,0.19500000000000001,null,0.19500000000000001]
["England - Minimum",null,0.04,0.02,-0.27,null,0.02]
["England - Maximum",null,0.33,0.36,0.33,null,0.34]
["Selection - Average (median)",null,0.21,0.19,0.19500000000000001,null,0.19500000000000001]
["Selection - Minimum",null,0.04,0.02,-0.27,null,0.02]
["Selection - Maximum",null,0.33,0.36,0.33,null,0.34]
[301,"Barking and Dagenham",0.1,0.13,0.11,null,0.12]
[302,"Barnet",0.13,0.19,0.14000000000000001,null,0.16]
[370,"Barnsley",0.16,0.16,0.26,null,0.23]
[800,"Bath & North East Somerset",0.26,0.28999999999999998,0.23,null,0.25]
[822,"Bedford Borough",0.22,0.21,0.24,null,0.19]
[303,"Bexley",0.27,0.16,0.18,null,0.2]
[330,"Birmingham",0.14000000000000001,0.15,0.12,null,0.15]
[889,"Blackburn with Darwen",0.18,0.13,0.17,null,0.1]
[890,"Blackpool",0.15,0.22,0.23,null,0.17]
[350,"Bolton",0.22,0.15,0.22,null,0.19]
[837,"Bournemouth",0.21,0.22,0.26,null,0.18]
[867,"Bracknell Forest",0.23,0.12,0.22,null,0.26]
[380,"Bradford",0.15,0.13,0.14000000000000001,null,0.16]
[304,"Brent",0.11,0.11,0.09,null,0.04]
[846,"Brighton and Hove",0.28999999999999998,0.16,0.26,null,0.22]
[305,"Bromley",0.22,0.23,0.19,null,0.25]
[825,"Buckinghamshire",0.28000000000000003,0.25,0.27,null,0.25]
[351,"Bury",0.22,0.2,0.18,null,0.24]
[381,"Calderdale",0.25,0.25,0.22,null,0.2]
[873,"Cambridgeshire",0.23,0.25,0.23,null,0.22]
[202,"Camden",0.21,0.14000000000000001,0.16,null,0.19]
[823,"Central Bedfordshire",0.26,0.19,0.17,null,0.23]
[895,"Cheshire East",0.33,0.23,0.25,null,0.23]
[896,"Cheshire West and Chester",0.24,0.27,0.28000000000000003,null,0.25]
[801,"City of Bristol",0.17,0.22,0.2,null,0.21]
[810,"City of Kingston Upon Hull",0.11,0.15,0.16,null,0.1]
[201,"City of London","x",7.0000000000000007E-2,-0.27,null,0.25]
[908,"Cornwall",0.18,0.14000000000000001,0.18,null,0.19]
[331,"Coventry",0.17,0.12,0.12,null,0.17]
[306,"Croydon",0.15,0.12,0.14000000000000001,null,0.15]
[909,"Cumbria",0.21,0.22,0.22,null,0.23]
[841,"Darlington",0.28999999999999998,0.18,0.23,null,0.18]
[831,"Derby",0.23,0.17,0.19,null,0.17]
[830,"Derbyshire",0.19,0.2,0.2,null,0.21]
[878,"Devon",0.17,0.17,0.22,null,0.19]
[371,"Doncaster",0.18,0.17,0.18,null,0.19]
[835,"Dorset",0.21,0.22,0.2,null,0.23]
[332,"Dudley",0.23,0.23,0.2,null,0.22]
[840,"Durham",0.24,0.28000000000000003,0.27,null,0.21]
[307,"Ealing",0.16,0.13,0.12,null,0.09]
[811,"East Riding of Yorkshire",0.19,0.22,0.23,null,0.25]
[845,"East Sussex",0.21,0.22,0.17,null,0.2]
[308,"Enfield",0.14000000000000001,0.13,0.15,null,0.11]
[881,"Essex",0.19,0.22,0.21,null,0.21]
[390,"Gateshead",0.22,0.22,0.25,null,0.19]
[916,"Gloucestershire",0.23,0.25,0.25,null,0.21]
[203,"Greenwich",0.1,0.14000000000000001,0.1,null,0.12]
[204,"Hackney",0.08,0.06,0.05,null,0.03]
[876,"Halton",0.23,0.2,0.22,null,0.18]
[205,"Hammersmith and Fulham",0.13,0.06,0.08,null,0.18]
[850,"Hampshire",0.24,0.23,0.26,null,0.24]
[309,"Haringey",0.15,0.14000000000000001,0.11,null,0.13]
[310,"Harrow",0.21,0.21,0.14000000000000001,null,0.16]
[805,"Hartlepool",0.25,0.22,0.12,null,0.26]
[311,"Havering",0.16,0.19,0.15,null,0.23]
[884,"Herefordshire",0.23,0.17,0.28000000000000003,null,0.23]
[919,"Hertfordshire",0.23,0.24,0.23,null,0.23]
[312,"Hillingdon",0.18,0.19,0.14000000000000001,null,0.16]
[313,"Hounslow",0.17,0.13,0.11,null,0.14000000000000001]
[921,"Isle of Wight",0.17,0.19,0.25,null,0.14000000000000001]
[420,"Isles of Scilly","x","x","x",null,"**"]
[206,"Islington",0.15,0.12,0.11,null,0.14000000000000001]
[207,"Kensington and Chelsea","x",0.12,0.09,null,0.12]
[886,"Kent",0.21,0.19,0.2,null,0.19]
[314,"Kingston upon Thames",0.22,0.14000000000000001,0.2,null,0.22]
[382,"Kirklees",0.18,0.19,0.18,null,0.23]
[340,"Knowsley",0.18,0.14000000000000001,0.15,null,0.17]
[208,"Lambeth",0.06,0.13,0.15,null,0.14000000000000001]
[888,"Lancashire",0.28000000000000003,0.24,0.22,null,0.24]
[383,"Leeds",0.24,0.24,0.21,null,0.23]
[856,"Leicester",0.13,0.11,0.09,null,0.09]
[855,"Leicestershire",0.23,0.25,0.24,null,0.24]
[209,"Lewisham",0.1,0.12,0.12,null,0.11]
[925,"Lincolnshire",0.26,0.21,0.18,null,0.21]
[341,"Liverpool",0.2,0.16,0.19,null,0.2]
[821,"Luton",0.11,0.1,0.1,null,0.09]
[352,"Manchester",0.13,0.11,0.09,null,0.11]
[887,"Medway",0.19,0.16,0.19,null,0.19]
[315,"Merton",0.2,0.13,0.16,null,0.15]
[806,"Middlesbrough",0.18,0.23,0.22,null,0.16]
[826,"Milton Keynes",0.18,0.18,0.13,null,0.2]
[391,"Newcastle upon Tyne",0.2,0.17,0.21,null,0.21]
[316,"Newham",0.05,0.02,7.0000000000000007E-2,null,0.02]
[926,"Norfolk",0.22,0.18,0.19,null,0.17]
[812,"North East Lincolnshire",0.14000000000000001,0.16,0.15,null,0.12]
[813,"North Lincolnshire",0.22,0.19,0.25,null,0.22]
[802,"North Somerset",0.3,0.18,0.28999999999999998,null,0.28000000000000003]
[392,"North Tyneside",0.23,0.19,0.24,null,0.22]
[815,"North Yorkshire",0.24,0.2,0.2,null,0.22]
[928,"Northamptonshire",0.22,0.19,0.17,null,0.19]
[929,"Northumberland",0.25,0.28000000000000003,0.27,null,0.24]
[892,"Nottingham",0.17,0.15,0.14000000000000001,null,0.18]
[891,"Nottinghamshire",0.21,0.18,0.23,null,0.23]
[353,"Oldham",0.18,0.19,0.22,null,0.18]
[931,"Oxfordshire",0.23,0.26,0.26,null,0.24]
[874,"Peterborough",0.14000000000000001,0.11,0.11,null,0.16]
[879,"Plymouth",0.18,0.2,0.16,null,0.19]
[836,"Poole",0.32,0.17,0.26,null,0.21]
[851,"Portsmouth",0.14000000000000001,0.14000000000000001,0.17,null,0.11]
[870,"Reading",0.19,0.15,0.21,null,0.13]
[317,"Redbridge",0.15,0.16,0.13,null,0.14000000000000001]
[807,"Redcar and Cleveland",0.28000000000000003,0.23,0.2,null,0.24]
[318,"Richmond upon Thames",0.33,0.31,0.33,null,0.24]
[354,"Rochdale",0.18,0.21,0.19,null,0.18]
[372,"Rotherham",0.25,0.22,0.23,null,0.2]
[857,"Rutland",0.09,0.36,0.15,null,0.34]
[355,"Salford",0.18,0.15,0.14000000000000001,null,0.16]
[333,"Sandwell",0.15,0.15,0.17,null,0.14000000000000001]
[343,"Sefton",0.24,0.24,0.21,null,0.24]
[373,"Sheffield",0.17,0.14000000000000001,0.18,null,0.18]
[893,"Shropshire",0.22,0.19,0.21,null,0.19]
[871,"Slough",0.16,0.16,0.1,null,0.14000000000000001]
[334,"Solihull",0.26,0.23,0.24,null,0.28999999999999998]
[933,"Somerset",0.25,0.24,0.19,null,0.26]
[803,"South Gloucestershire",0.26,0.25,0.23,null,0.22]
[393,"South Tyneside",0.17,0.22,0.23,null,0.23]
[852,"Southampton",0.15,0.17,0.16,null,0.17]
[882,"Southend-on-Sea",0.24,0.27,0.28999999999999998,null,0.24]
[210,"Southwark",0.14000000000000001,0.11,0.08,null,0.1]
[342,"St. Helens",0.22,0.25,0.25,null,0.19]
[860,"Staffordshire",0.24,0.24,0.24,null,0.21]
[356,"Stockport",0.26,0.28000000000000003,0.3,null,0.24]
[808,"Stockton-on-Tees",0.3,0.26,0.26,null,0.24]
[861,"Stoke-on-Trent",0.16,0.17,0.17,null,0.15]
[935,"Suffolk",0.04,0.09,0.18,null,0.19]
[394,"Sunderland",0.2,0.23,0.2,null,0.26]
[936,"Surrey",0.28999999999999998,0.28000000000000003,0.23,null,0.26]
[319,"Sutton",0.22,0.25,0.14000000000000001,null,0.17]
[866,"Swindon",0.21,0.19,0.19,null,0.21]
[357,"Tameside",0.22,0.24,0.22,null,0.18]
[894,"Telford & Wrekin",0.16,0.2,0.13,null,0.18]
[883,"Thurrock",0.16,0.19,0.18,null,0.14000000000000001]
[880,"Torbay","x",0.22,"x",null,"X"]
[211,"Tower Hamlets",0.08,0.06,7.0000000000000007E-2,null,0.05]
[358,"Trafford",0.26,0.21,0.23,null,0.25]
[384,"Wakefield",0.22,0.22,0.23,null,0.22]
[335,"Walsall",0.13,0.19,0.19,null,0.19]
[320,"Waltham Forest",7.0000000000000007E-2,0.03,0.08,null,0.05]
[212,"Wandsworth",0.19,0.22,0.18,null,0.18]
[877,"Warrington",0.3,0.3,0.25,null,0.32]
[937,"Warwickshire",0.28000000000000003,0.21,0.24,null,0.21]
[869,"West Berkshire",0.33,0.28000000000000003,0.2,null,0.22]
[938,"West Sussex",0.22,0.19,0.2,null,0.21]
[213,"Westminster",0.16,0.1,0.08,null,0.12]
[359,"Wigan",0.24,0.26,0.24,null,0.23]
[865,"Wiltshire",0.21,0.24,0.26,null,0.25]
[868,"Windsor and Maidenhead",0.11,0.19,0.18,null,0.22]
[344,"Wirral",0.18,0.23,0.22,null,0.25]
[872,"Wokingham",0.21,0.28000000000000003,0.26,null,0.23]
[336,"Wolverhampton",0.2,0.13,0.14000000000000001,null,0.13]
[885,"Worcestershire",0.23,0.28000000000000003,0.27,null,0.26]
[816,"York",0.22,0.25,0.25,null,0.28999999999999998]
[]
[]
[]
["* A new profile was introduced in September 2012 which is substantially different from the old profile. Figures for 2013 are therefore not comparable with earlier years."]
[]
["Source: DfE: Early Years Foundation Stage Profile Attainment by Pupil Characteristics in England, 2012/13"]
["https://www.gov.uk/government/publications/eyfsp-attainment-by-pupil-characteristics-2013"]
[]
["1. For more information on the Early Years Foundation Stage Profile please see technical notes."]
["2. Percentage of children achieving a good level of development:"]
["    a. 2010 to 2012 - children achieving 6 or more points across the 7 scales of personal, social and emotional development"]
["    and communication, language and literacy and who also achieve 78 points or more across all 13 scales."]
["    b. 2013 -  children achieving at least the expected level within the three prime areas of learning: communication and language, physical development and personal, social and emotional development"]
["    and the early learning goals within the literacy and mathematics areas of learning."]
["3. Only includes pupils with a valid result for every achievement scale."]
["4. The percentage gap between pupils eligible for free school meals and the rest (including unclassified) in achieving a good level of development."]
[".. Not available"]
["x Value suppressed to protect confidentiality"]

{"sheet":"EYFSP - 20%","index":18,"n_rows":183,"n_cols":15,"rows_kept":183,"cut":false,"hidden":true,"merged":[[170,0,170,6]]}
["Early Years Benchmarking - Child Development: Early Years Foundation Stage Profile1",null,null,null,null,null,null,null,null,null,null,null,null,null,"Return to contents"]
["Percentage gap4 between the lowest achieving 20% and the rest in achieving a good level of development2,3 at age five",null,null,null,null,null,null,null,null,null,null,null,null,null,"Return to instructions"]
[{"$f":"'Early Years Table'!A2","v":"All LAs"},null," *Figures for 2013 not comparable with earlier years"]
[]
[null,null,{"$f":"Data!O3","v":2010},{"$f":"Data!P3","v":2011},{"$f":"Data!Q3","v":2012},null,{"$f":"Data!AK3&\"*\"","v":"2013*"}]
["England - Average (mean) or Total",null,{"$f":"Data!O157","v":0.32700000000000001},{"$f":"Data!P157","v":0.314},{"$f":"Data!Q157","v":0.30099999999999999},null,{"$f":"Data!AM157","v":0.36599999999999999}]
["England - Average (median)",null,{"$f":"Data!O158","v":0.32},{"$f":"Data!P158","v":0.311},{"$f":"Data!Q158","v":0.29899999999999999},null,{"$f":"Data!AM158","v":0.35499999999999998}]
["England - Minimum",null,{"$f":"Data!O159","v":0.17499999999999999},{"$f":"Data!P159","v":0.19},{"$f":"Data!Q159","v":0.16800000000000001},null,{"$f":"Data!AM159","v":0.105}]
["England - Maximum",null,{"$f":"Data!O160","v":0.377},{"$f":"Data!P160","v":0.37200000000000005},{"$f":"Data!Q160","v":0.40200000000000002},null,{"$f":"Data!AM160","v":0.44600000000000001}]
["Selection - Average (median)",null,{"$f":"MEDIAN(C13:C164)","v":0.32},{"$f":"MEDIAN(D13:D164)","v":0.311},{"$f":"MEDIAN(E13:E164)","v":0.29899999999999999},null,{"$f":"MEDIAN(G13:G164)","v":0.35499999999999998}]
["Selection - Minimum",null,{"$f":"MIN(C13:C164)","v":0.17499999999999999},{"$f":"MIN(D13:D164)","v":0.19},{"$f":"MIN(E13:E164)","v":0.16800000000000001},null,{"$f":"MIN(G13:G164)","v":0.105}]
["Selection - Maximum",null,{"$f":"MAX(C13:C164)","v":0.377},{"$f":"MAX(D13:D164)","v":0.37200000000000005},{"$f":"MAX(E13:E164)","v":0.40200000000000002},null,{"$f":"MAX(G13:G164)","v":0.44600000000000001}]
[{"$f":"IF('Early Years Table'!A13=\"\",\"\",IF(ISBLANK('Early Years Table'!A13),\"\",'Early Years Table'!A13))","v":301},{"$f":"IF($A13=\"\",\"\",IF(ISBLANK($A13),\"\",INDEX('LEA Nos codes'!$A$3:$A$154,MATCH($A13,'LEA Nos codes'!$B$3:$B$154,0))))","v":"Barking and Dagenham"},{"$f":"IF($A13=\"\",\"\",IF(ISBLANK($A13),\"\",VLOOKUP($A13,Data!$A$4:$AI$155,15,FALSE)))","v":0.34799999999999998},{"$f":"IF($A13=\"\",\"\",IF(ISBLANK($A13),\"\",VLOOKUP($A13,Data!$A$4:$AI$155,16,FALSE)))","v":0.32400000000000001},{"$f":"IF($A13=\"\",\"\",IF(ISBLANK($A13),\"\",VLOOKUP($A13,Data!$A$4:$AI$155,17,FALSE)))","v":0.30299999999999999},null,{"$f":"IF($A13=\"\",\"\",IF(ISBLANK($A13),\"\",VLOOKUP($A13,Data!$A$4:$AM$155,39,FALSE)))","v":0.38299999999999995}]
[{"$f":"IF('Early Years Table'!A14=\"\",\"\",IF(ISBLANK('Early Years Table'!A14),\"\",'Early Years Table'!A14))","v":302},{"$f":"IF($A14=\"\",\"\",IF(ISBLANK($A14),\"\",INDEX('LEA Nos codes'!$A$3:$A$154,MATCH($A14,'LEA Nos codes'!$B$3:$B$154,0))))","v":"Barnet"},{"$f":"IF($A14=\"\",\"\",IF(ISBLANK($A14),\"\",VLOOKUP($A14,Data!$A$4:$AI$155,15,FALSE)))","v":0.29799999999999999},{"$f":"IF($A14=\"\",\"\",IF(ISBLANK($A14),\"\",VLOOKUP($A14,Data!$A$4:$AI$155,16,FALSE)))","v":0.29100000000000004},{"$f":"IF($A14=\"\",\"\",IF(ISBLANK($A14),\"\",VLOOKUP($A14,Data!$A$4:$AI$155,17,FALSE)))","v":0.309},null,{"$f":"IF($A14=\"\",\"\",IF(ISBLANK($A14),\"\",VLOOKUP($A14,Data!$A$4:$AM$155,39,FALSE)))","v":0.32}]
[{"$f":"IF('Early Years Table'!A15=\"\",\"\",IF(ISBLANK('Early Years Table'!A15),\"\",'Early Years Table'!A15))","v":370},{"$f":"IF($A15=\"\",\"\",IF(ISBLANK($A15),\"\",INDEX('LEA Nos codes'!$A$3:$A$154,MATCH($A15,'LEA Nos codes'!$B$3:$B$154,0))))","v":"Barnsley"},{"$f":"IF($A15=\"\",\"\",IF(ISBLANK($A15),\"\",VLOOKUP($A15,Data!$A$4:$AI$155,15,FALSE)))","v":0.34399999999999997},{"$f":"IF($A15=\"\",\"\",IF(ISBLANK($A15),\"\",VLOOKUP($A15,Data!$A$4:$AI$155,16,FALSE)))","v":0.312},{"$f":"IF($A15=\"\",\"\",IF(ISBLANK($A15),\"\",VLOOKUP($A15,Data!$A$4:$AI$155,17,FALSE)))","v":0.314},null,{"$f":"IF($A15=\"\",\"\",IF(ISBLANK($A15),\"\",VLOOKUP($A15,Data!$A$4:$AM$155,39,FALSE)))","v":0.37799999999999995}]
[{"$f":"IF('Early Years Table'!A16=\"\",\"\",IF(ISBLANK('Early Years Table'!A16),\"\",'Early Years Table'!A16))","v":800},{"$f":"IF($A16=\"\",\"\",IF(ISBLANK($A16),\"\",INDEX('LEA Nos codes'!$A$3:$A$154,MATCH($A16,'LEA Nos codes'!$B$3:$B$154,0))))","v":"Bath & North East Somerset"},{"$f":"IF($A16=\"\",\"\",IF(ISBLANK($A16),\"\",VLOOKUP($A16,Data!$A$4:$AI$155,15,FALSE)))","v":0.29100000000000004},{"$f":"IF($A16=\"\",\"\",IF(ISBLANK($A16),\"\",VLOOKUP($A16,Data!$A$4:$AI$155,16,FALSE)))","v":0.27899999999999997},{"$f":"IF($A16=\"\",\"\",IF(ISBLANK($A16),\"\",VLOOKUP($A16,Data!$A$4:$AI$155,17,FALSE)))","v":0.30599999999999999},null,{"$f":"IF($A16=\"\",\"\",IF(ISBLANK($A16),\"\",VLOOKUP($A16,Data!$A$4:$AM$155,39,FALSE)))","v":0.32}]
[{"$f":"IF('Early Years Table'!A17=\"\",\"\",IF(ISBLANK('Early Years Table'!A17),\"\",'Early Years Table'!A17))","v":822},{"$f":"IF($A17=\"\",\"\",IF(ISBLANK($A17),\"\",INDEX('LEA Nos codes'!$A$3:$A$154,MATCH($A17,'LEA Nos codes'!$B$3:$B$154,0))))","v":"Bedford Borough"},{"$f":"IF($A17=\"\",\"\",IF(ISBLANK($A17),\"\",VLOOKUP($A17,Data!$A$4:$AI$155,15,FALSE)))","v":0.317},{"$f":"IF($A17=\"\",\"\",IF(ISBLANK($A17),\"\",VLOOKUP($A17,Data!$A$4:$AI$155,16,FALSE)))","v":0.30099999999999999},{"$f":"IF($A17=\"\",\"\",IF(ISBLANK($A17),\"\",VLOOKUP($A17,Data!$A$4:$AI$155,17,FALSE)))","v":0.29199999999999998},null,{"$f":"IF($A17=\"\",\"\",IF(ISBLANK($A17),\"\",VLOOKUP($A17,Data!$A$4:$AM$155,39,FALSE)))","v":0.33799999999999997}]
[{"$f":"IF('Early Years Table'!A18=\"\",\"\",IF(ISBLANK('Early Years Table'!A18),\"\",'Early Years Table'!A18))","v":303},{"$f":"IF($A18=\"\",\"\",IF(ISBLANK($A18),\"\",INDEX('LEA Nos codes'!$A$3:$A$154,MATCH($A18,'LEA Nos codes'!$B$3:$B$154,0))))","v":"Bexley"},{"$f":"IF($A18=\"\",\"\",IF(ISBLANK($A18),\"\",VLOOKUP($A18,Data!$A$4:$AI$155,15,FALSE)))","v":0.29299999999999998},{"$f":"IF($A18=\"\",\"\",IF(ISBLANK($A18),\"\",VLOOKUP($A18,Data!$A$4:$AI$155,16,FALSE)))","v":0.28300000000000003},{"$f":"IF($A18=\"\",\"\",IF(ISBLANK($A18),\"\",VLOOKUP($A18,Data!$A$4:$AI$155,17,FALSE)))","v":0.26800000000000002},null,{"$f":"IF($A18=\"\",\"\",IF(ISBLANK($A18),\"\",VLOOKUP($A18,Data!$A$4:$AM$155,39,FALSE)))","v":0.27600000000000002}]
[{"$f":"IF('Early Years Table'!A19=\"\",\"\",IF(ISBLANK('Early Years Table'!A19),\"\",'Early Years Table'!A19))","v":330},{"$f":"IF($A19=\"\",\"\",IF(ISBLANK($A19),\"\",INDEX('LEA Nos codes'!$A$3:$A$154,MATCH($A19,'LEA Nos codes'!$B$3:$B$154,0))))","v":"Birmingham"},{"$f":"IF($A19=\"\",\"\",IF(ISBLANK($A19),\"\",VLOOKUP($A19,Data!$A$4:$AI$155,15,FALSE)))","v":0.35299999999999998},{"$f":"IF($A19=\"\",\"\",IF(ISBLANK($A19),\"\",VLOOKUP($A19,Data!$A$4:$AI$155,16,FALSE)))","v":0.34200000000000003},{"$f":"IF($A19=\"\",\"\",IF(ISBLANK($A19),\"\",VLOOKUP($A19,Data!$A$4:$AI$155,17,FALSE)))","v":0.34399999999999997},null,{"$f":"IF($A19=\"\",\"\",IF(ISBLANK($A19),\"\",VLOOKUP($A19,Data!$A$4:$AM$155,39,FALSE)))","v":0.40600000000000003}]
[{"$f":"IF('Early Years Table'!A20=\"\",\"\",IF(ISBLANK('Early Years Table'!A20),\"\",'Early Years Table'!A20))","v":889},{"$f":"IF($A20=\"\",\"\",IF(ISBLANK($A20),\"\",INDEX('LEA Nos codes'!$A$3:$A$154,MATCH($A20,'LEA Nos codes'!$B$3:$B$154,0))))","v":"Blackburn with Darwen"},{"$f":"IF($A20=\"\",\"\",IF(ISBLANK($A20),\"\",VLOOKUP($A20,Data!$A$4:$AI$155,15,FALSE)))","v":0.32799999999999996},{"$f":"IF($A20=\"\",\"\",IF(ISBLANK($A20),\"\",VLOOKUP($A20,Data!$A$4:$AI$155,16,FALSE)))","v":0.32700000000000001},{"$f":"IF($A20=\"\",\"\",IF(ISBLANK($A20),\"\",VLOOKUP($A20,Data!$A$4:$AI$155,17,FALSE)))","v":0.316},null,{"$f":"IF($A20=\"\",\"\",IF(ISBLANK($A20),\"\",VLOOKUP($A20,Data!$A$4:$AM$155,39,FALSE)))","v":0.41899999999999998}]
[{"$f":"IF('Early Years Table'!A21=\"\",\"\",IF(ISBLANK('Early Years Table'!A21),\"\",'Early Years Table'!A21))","v":890},{"$f":"IF($A21=\"\",\"\",IF(ISBLANK($A21),\"\",INDEX('LEA Nos codes'!$A$3:$A$154,MATCH($A21,'LEA Nos codes'!$B$3:$B$154,0))))","v":"Blackpool"},{"$f":"IF($A21=\"\",\"\",IF(ISBLANK($A21),\"\",VLOOKUP($A21,Data!$A$4:$AI$155,15,FALSE)))","v":0.29399999999999998},{"$f":"IF($A21=\"\",\"\",IF(ISBLANK($A21),\"\",VLOOKUP($A21,Data!$A$4:$AI$155,16,FALSE)))","v":0.28100000000000003},{"$f":"IF($A21=\"\",\"\",IF(ISBLANK($A21),\"\",VLOOKUP($A21,Data!$A$4:$AI$155,17,FALSE)))","v":0.29199999999999998},null,{"$f":"IF($A21=\"\",\"\",IF(ISBLANK($A21),\"\",VLOOKUP($A21,Data!$A$4:$AM$155,39,FALSE)))","v":0.33}]
[{"$f":"IF('Early Years Table'!A22=\"\",\"\",IF(ISBLANK('Early Years Table'!A22),\"\",'Early Years Table'!A22))","v":350},{"$f":"IF($A22=\"\",\"\",IF(ISBLANK($A22),\"\",INDEX('LEA Nos codes'!$A$3:$A$154,MATCH($A22,'LEA Nos codes'!$B$3:$B$154,0))))","v":"Bolton"},{"$f":"IF($A22=\"\",\"\",IF(ISBLANK($A22),\"\",VLOOKUP($A22,Data!$A$4:$AI$155,15,FALSE)))","v":0.32700000000000001},{"$f":"IF($A22=\"\",\"\",IF(ISBLANK($A22),\"\",VLOOKUP($A22,Data!$A$4:$AI$155,16,FALSE)))","v":0.35},{"$f":"IF($A22=\"\",\"\",IF(ISBLANK($A22),\"\",VLOOKUP($A22,Data!$A$4:$AI$155,17,FALSE)))","v":0.33399999999999996},null,{"$f":"IF($A22=\"\",\"\",IF(ISBLANK($A22),\"\",VLOOKUP($A22,Data!$A$4:$AM$155,39,FALSE)))","v":0.41100000000000003}]
[{"$f":"IF('Early Years Table'!A23=\"\",\"\",IF(ISBLANK('Early Years Table'!A23),\"\",'Early Years Table'!A23))","v":837},{"$f":"IF($A23=\"\",\"\",IF(ISBLANK($A23),\"\",INDEX('LEA Nos codes'!$A$3:$A$154,MATCH($A23,'LEA Nos codes'!$B$3:$B$154,0))))","v":"Bournemouth"},{"$f":"IF($A23=\"\",\"\",IF(ISBLANK($A23),\"\",VLOOKUP($A23,Data!$A$4:$AI$155,15,FALSE)))","v":0.29499999999999998},{"$f":"IF($A23=\"\",\"\",IF(ISBLANK($A23),\"\",VLOOKUP($A23,Data!$A$4:$AI$155,16,FALSE)))","v":0.27699999999999997},{"$f":"IF($A23=\"\",\"\",IF(ISBLANK($A23),\"\",VLOOKUP($A23,Data!$A$4:$AI$155,17,FALSE)))","v":0.27699999999999997},null,{"$f":"IF($A23=\"\",\"\",IF(ISBLANK($A23),\"\",VLOOKUP($A23,Data!$A$4:$AM$155,39,FALSE)))","v":0.29199999999999998}]
[{"$f":"IF('Early Years Table'!A24=\"\",\"\",IF(ISBLANK('Early Years Table'!A24),\"\",'Early Years Table'!A24))","v":867},{"$f":"IF($A24=\"\",\"\",IF(ISBLANK($A24),\"\",INDEX('LEA Nos codes'!$A$3:$A$154,MATCH($A24,'LEA Nos codes'!$B$3:$B$154,0))))","v":"Bracknell Forest"},{"$f":"IF($A24=\"\",\"\",IF(ISBLANK($A24),\"\",VLOOKUP($A24,Data!$A$4:$AI$155,15,FALSE)))","v":0.28699999999999998},{"$f":"IF($A24=\"\",\"\",IF(ISBLANK($A24),\"\",VLOOKUP($A24,Data!$A$4:$AI$155,16,FALSE)))","v":0.249},{"$f":"IF($A24=\"\",\"\",IF(ISBLANK($A24),\"\",VLOOKUP($A24,Data!$A$4:$AI$155,17,FALSE)))","v":0.254},null,{"$f":"IF($A24=\"\",\"\",IF(ISBLANK($A24),\"\",VLOOKUP($A24,Data!$A$4:$AM$155,39,FALSE)))","v":0.27300000000000002}]
[{"$f":"IF('Early Years Table'!A25=\"\",\"\",IF(ISBLANK('Early Years Table'!A25),\"\",'Early Years Table'!A25))","v":380},{"$f":"IF($A25=\"\",\"\",IF(ISBLANK($A25),\"\",INDEX('LEA Nos codes'!$A$3:$A$154,MATCH($A25,'LEA Nos codes'!$B$3:$B$154,0))))","v":"Bradford"},{"$f":"IF($A25=\"\",\"\",IF(ISBLANK($A25),\"\",VLOOKUP($A25,Data!$A$4:$AI$155,15,FALSE)))","v":0.371},{"$f":"IF($A25=\"\",\"\",IF(ISBLANK($A25),\"\",VLOOKUP($A25,Data!$A$4:$AI$155,16,FALSE)))","v":0.34700000000000003},{"$f":"IF($A25=\"\",\"\",IF(ISBLANK($A25),\"\",VLOOKUP($A25,Data!$A$4:$AI$155,17,FALSE)))","v":0.34299999999999997},null,{"$f":"IF($A25=\"\",\"\",IF(ISBLANK($A25),\"\",VLOOKUP($A25,Data!$A$4:$AM$155,39,FALSE)))","v":0.42599999999999999}]
[{"$f":"IF('Early Years Table'!A26=\"\",\"\",IF(ISBLANK('Early Years Table'!A26),\"\",'Early Years Table'!A26))","v":304},{"$f":"IF($A26=\"\",\"\",IF(ISBLANK($A26),\"\",INDEX('LEA Nos codes'!$A$3:$A$154,MATCH($A26,'LEA Nos codes'!$B$3:$B$154,0))))","v":"Brent"},{"$f":"IF($A26=\"\",\"\",IF(ISBLANK($A26),\"\",VLOOKUP($A26,Data!$A$4:$AI$155,15,FALSE)))","v":0.35200000000000004},{"$f":"IF($A26=\"\",\"\",IF(ISBLANK($A26),\"\",VLOOKUP($A26,Data!$A$4:$AI$155,16,FALSE)))","v":0.32400000000000001},{"$f":"IF($A26=\"\",\"\",IF(ISBLANK($A26),\"\",VLOOKUP($A26,Data!$A$4:$AI$155,17,FALSE)))","v":0.309},null,{"$f":"IF($A26=\"\",\"\",IF(ISBLANK($A26),\"\",VLOOKUP($A26,Data!$A$4:$AM$155,39,FALSE)))","v":0.33500000000000002}]
[{"$f":"IF('Early Years Table'!A27=\"\",\"\",IF(ISBLANK('Early Years Table'!A27),\"\",'Early Years Table'!A27))","v":846},{"$f":"IF($A27=\"\",\"\",IF(ISBLANK($A27),\"\",INDEX('LEA Nos codes'!$A$3:$A$154,MATCH($A27,'LEA Nos codes'!$B$3:$B$154,0))))","v":"Brighton and Hove"},{"$f":"IF($A27=\"\",\"\",IF(ISBLANK($A27),\"\",VLOOKUP($A27,Data!$A$4:$AI$155,15,FALSE)))","v":0.27699999999999997},{"$f":"IF($A27=\"\",\"\",IF(ISBLANK($A27),\"\",VLOOKUP($A27,Data!$A$4:$AI$155,16,FALSE)))","v":0.27899999999999997},{"$f":"IF($A27=\"\",\"\",IF(ISBLANK($A27),\"\",VLOOKUP($A27,Data!$A$4:$AI$155,17,FALSE)))","v":0.27600000000000002},null,{"$f":"IF($A27=\"\",\"\",IF(ISBLANK($A27),\"\",VLOOKUP($A27,Data!$A$4:$AM$155,39,FALSE)))","v":0.32600000000000001}]
[{"$f":"IF('Early Years Table'!A28=\"\",\"\",IF(ISBLANK('Early Years Table'!A28),\"\",'Early Years Table'!A28))","v":305},{"$f":"IF($A28=\"\",\"\",IF(ISBLANK($A28),\"\",INDEX('LEA Nos codes'!$A$3:$A$154,MATCH($A28,'LEA Nos codes'!$B$3:$B$154,0))))","v":"Bromley"},{"$f":"IF($A28=\"\",\"\",IF(ISBLANK($A28),\"\",VLOOKUP($A28,Data!$A$4:$AI$155,15,FALSE)))","v":0.33299999999999996},{"$f":"IF($A28=\"\",\"\",IF(ISBLANK($A28),\"\",VLOOKUP($A28,Data!$A$4:$AI$155,16,FALSE)))","v":0.312},{"$f":"IF($A28=\"\",\"\",IF(ISBLANK($A28),\"\",VLOOKUP($A28,Data!$A$4:$AI$155,17,FALSE)))","v":0.29199999999999998},null,{"$f":"IF($A28=\"\",\"\",IF(ISBLANK($A28),\"\",VLOOKUP($A28,Data!$A$4:$AM$155,39,FALSE)))","v":0.313}]
[{"$f":"IF('Early Years Table'!A29=\"\",\"\",IF(ISBLANK('Early Years Table'!A29),\"\",'Early Years Table'!A29))","v":825},{"$f":"IF($A29=\"\",\"\",IF(ISBLANK($A29),\"\",INDEX('LEA Nos codes'!$A$3:$A$154,MATCH($A29,'LEA Nos codes'!$B$3:$B$154,0))))","v":"Buckinghamshire"},{"$f":"IF($A29=\"\",\"\",IF(ISBLANK($A29),\"\",VLOOKUP($A29,Data!$A$4:$AI$155,15,FALSE)))","v":0.30399999999999999},{"$f":"IF($A29=\"\",\"\",IF(ISBLANK($A29),\"\",VLOOKUP($A29,Data!$A$4:$AI$155,16,FALSE)))","v":0.30099999999999999},{"$f":"IF($A29=\"\",\"\",IF(ISBLANK($A29),\"\",VLOOKUP($A29,Data!$A$4:$AI$155,17,FALSE)))","v":0.27699999999999997},null,{"$f":"IF($A29=\"\",\"\",IF(ISBLANK($A29),\"\",VLOOKUP($A29,Data!$A$4:$AM$155,39,FALSE)))","v":0.32600000000000001}]
[{"$f":"IF('Early Years Table'!A30=\"\",\"\",IF(ISBLANK('Early Years Table'!A30),\"\",'Early Years Table'!A30))","v":351},{"$f":"IF($A30=\"\",\"\",IF(ISBLANK($A30),\"\",INDEX('LEA Nos codes'!$A$3:$A$154,MATCH($A30,'LEA Nos codes'!$B$3:$B$154,0))))","v":"Bury"},{"$f":"IF($A30=\"\",\"\",IF(ISBLANK($A30),\"\",VLOOKUP($A30,Data!$A$4:$AI$155,15,FALSE)))","v":0.30399999999999999},{"$f":"IF($A30=\"\",\"\",IF(ISBLANK($A30),\"\",VLOOKUP($A30,Data!$A$4:$AI$155,16,FALSE)))","v":0.28899999999999998},{"$f":"IF($A30=\"\",\"\",IF(ISBLANK($A30),\"\",VLOOKUP($A30,Data!$A$4:$AI$155,17,FALSE)))","v":0.29399999999999998},null,{"$f":"IF($A30=\"\",\"\",IF(ISBLANK($A30),\"\",VLOOKUP($A30,Data!$A$4:$AM$155,39,FALSE)))","v":0.38700000000000001}]
[{"$f":"IF('Early Years Table'!A31=\"\",\"\",IF(ISBLANK('Early Years Table'!A31),\"\",'Early Years Table'!A31))","v":381},{"$f":"IF($A31=\"\",\"\",IF(ISBLANK($A31),\"\",INDEX('LEA Nos codes'!$A$3:$A$154,MATCH($A31,'LEA Nos codes'!$B$3:$B$154,0))))","v":"Calderdale"},{"$f":"IF($A31=\"\",\"\",IF(ISBLANK($A31),\"\",VLOOKUP($A31,Data!$A$4:$AI$155,15,FALSE)))","v":0.33299999999999996},{"$f":"IF($A31=\"\",\"\",IF(ISBLANK($A31),\"\",VLOOKUP($A31,Data!$A$4:$AI$155,16,FALSE)))","v":0.32500000000000001},{"$f":"IF($A31=\"\",\"\",IF(ISBLANK($A31),\"\",VLOOKUP($A31,Data!$A$4:$AI$155,17,FALSE)))","v":0.309},null,{"$f":"IF($A31=\"\",\"\",IF(ISBLANK($A31),\"\",VLOOKUP($A31,Data!$A$4:$AM$155,39,FALSE)))","v":0.36799999999999999}]
[{"$f":"IF('Early Years Table'!A32=\"\",\"\",IF(ISBLANK('Early Years Table'!A32),\"\",'Early Years Table'!A32))","v":873},{"$f":"IF($A32=\"\",\"\",IF(ISBLANK($A32),\"\",INDEX('LEA Nos codes'!$A$3:$A$154,MATCH($A32,'LEA Nos codes'!$B$3:$B$154,0))))","v":"Cambridgeshire"},{"$f":"IF($A32=\"\",\"\",IF(ISBLANK($A32),\"\",VLOOKUP($A32,Data!$A$4:$AI$155,15,FALSE)))","v":0.32299999999999995},{"$f":"IF($A32=\"\",\"\",IF(ISBLANK($A32),\"\",VLOOKUP($A32,Data!$A$4:$AI$155,16,FALSE)))","v":0.29100000000000004},{"$f":"IF($A32=\"\",\"\",IF(ISBLANK($A32),\"\",VLOOKUP($A32,Data!$A$4:$AI$155,17,FALSE)))","v":0.28499999999999998},null,{"$f":"IF($A32=\"\",\"\",IF(ISBLANK($A32),\"\",VLOOKUP($A32,Data!$A$4:$AM$155,39,FALSE)))","v":0.33899999999999997}]
[{"$f":"IF('Early Years Table'!A33=\"\",\"\",IF(ISBLANK('Early Years Table'!A33),\"\",'Early Years Table'!A33))","v":202},{"$f":"IF($A33=\"\",\"\",IF(ISBLANK($A33),\"\",INDEX('LEA Nos codes'!$A$3:$A$154,MATCH($A33,'LEA Nos codes'!$B$3:$B$154,0))))","v":"Camden"},{"$f":"IF($A33=\"\",\"\",IF(ISBLANK($A33),\"\",VLOOKUP($A33,Data!$A$4:$AI$155,15,FALSE)))","v":0.33899999999999997},{"$f":"IF($A33=\"\",\"\",IF(ISBLANK($A33),\"\",VLOOKUP($A33,Data!$A$4:$AI$155,16,FALSE)))","v":0.30299999999999999},{"$f":"IF($A33=\"\",\"\",IF(ISBLANK($A33),\"\",VLOOKUP($A33,Data!$A$4:$AI$155,17,FALSE)))","v":0.28899999999999998},null,{"$f":"IF($A33=\"\",\"\",IF(ISBLANK($A33),\"\",VLOOKUP($A33,Data!$A$4:$AM$155,39,FALSE)))","v":0.36799999999999999}]
[{"$f":"IF('Early Years Table'!A34=\"\",\"\",IF(ISBLANK('Early Years Table'!A34),\"\",'Early Years Table'!A34))","v":823},{"$f":"IF($A34=\"\",\"\",IF(ISBLANK($A34),\"\",INDEX('LEA Nos codes'!$A$3:$A$154,MATCH($A34,'LEA Nos codes'!$B$3:$B$154,0))))","v":"Central Bedfordshire"},{"$f":"IF($A34=\"\",\"\",IF(ISBLANK($A34),\"\",VLOOKUP($A34,Data!$A$4:$AI$155,15,FALSE)))","v":0.30099999999999999},{"$f":"IF($A34=\"\",\"\",IF(ISBLANK($A34),\"\",VLOOKUP($A34,Data!$A$4:$AI$155,16,FALSE)))","v":0.28100000000000003},{"$f":"IF($A34=\"\",\"\",IF(ISBLANK($A34),\"\",VLOOKUP($A34,Data!$A$4:$AI$155,17,FALSE)))","v":0.26400000000000001},null,{"$f":"IF($A34=\"\",\"\",IF(ISBLANK($A34),\"\",VLOOKUP($A34,Data!$A$4:$AM$155,39,FALSE)))","v":0.29499999999999998}]
[{"$f":"IF('Early Years Table'!A35=\"\",\"\",IF(ISBLANK('Early Years Table'!A35),\"\",'Early Years Table'!A35))","v":895},{"$f":"IF($A35=\"\",\"\",IF(ISBLANK($A35),\"\",INDEX('LEA Nos codes'!$A$3:$A$154,MATCH($A35,'LEA Nos codes'!$B$3:$B$154,0))))","v":"Cheshire East"},{"$f":"IF($A35=\"\",\"\",IF(ISBLANK($A35),\"\",VLOOKUP($A35,Data!$A$4:$AI$155,15,FALSE)))","v":0.31900000000000001},{"$f":"IF($A35=\"\",\"\",IF(ISBLANK($A35),\"\",VLOOKUP($A35,Data!$A$4:$AI$155,16,FALSE)))","v":0.26500000000000001},{"$f":"IF($A35=\"\",\"\",IF(ISBLANK($A35),\"\",VLOOKUP($A35,Data!$A$4:$AI$155,17,FALSE)))","v":0.25},null,{"$f":"IF($A35=\"\",\"\",IF(ISBLANK($A35),\"\",VLOOKUP($A35,Data!$A$4:$AM$155,39,FALSE)))","v":0.35}]
[{"$f":"IF('Early Years Table'!A36=\"\",\"\",IF(ISBLANK('Early Years Table'!A36),\"\",'Early Years Table'!A36))","v":896},{"$f":"IF($A36=\"\",\"\",IF(ISBLANK($A36),\"\",INDEX('LEA Nos codes'!$A$3:$A$154,MATCH($A36,'LEA Nos codes'!$B$3:$B$154,0))))","v":"Cheshire West and Chester"},{"$f":"IF($A36=\"\",\"\",IF(ISBLANK($A36),\"\",VLOOKUP($A36,Data!$A$4:$AI$155,15,FALSE)))","v":0.314},{"$f":"IF($A36=\"\",\"\",IF(ISBLANK($A36),\"\",VLOOKUP($A36,Data!$A$4:$AI$155,16,FALSE)))","v":0.316},{"$f":"IF($A36=\"\",\"\",IF(ISBLANK($A36),\"\",VLOOKUP($A36,Data!$A$4:$AI$155,17,FALSE)))","v":0.29699999999999999},null,{"$f":"IF($A36=\"\",\"\",IF(ISBLANK($A36),\"\",VLOOKUP($A36,Data!$A$4:$AM$155,39,FALSE)))","v":0.32}]
[{"$f":"IF('Early Years Table'!A37=\"\",\"\",IF(ISBLANK('Early Years Table'!A37),\"\",'Early Years Table'!A37))","v":801},{"$f":"IF($A37=\"\",\"\",IF(ISBLANK($A37),\"\",INDEX('LEA Nos codes'!$A$3:$A$154,MATCH($A37,'LEA Nos codes'!$B$3:$B$154,0))))","v":"City of Bristol"},{"$f":"IF($A37=\"\",\"\",IF(ISBLANK($A37),\"\",VLOOKUP($A37,Data!$A$4:$AI$155,15,FALSE)))","v":0.313},{"$f":"IF($A37=\"\",\"\",IF(ISBLANK($A37),\"\",VLOOKUP($A37,Data!$A$4:$AI$155,16,FALSE)))","v":0.32500000000000001},{"$f":"IF($A37=\"\",\"\",IF(ISBLANK($A37),\"\",VLOOKUP($A37,Data!$A$4:$AI$155,17,FALSE)))","v":0.31},null,{"$f":"IF($A37=\"\",\"\",IF(ISBLANK($A37),\"\",VLOOKUP($A37,Data!$A$4:$AM$155,39,FALSE)))","v":0.38600000000000001}]
[{"$f":"IF('Early Years Table'!A38=\"\",\"\",IF(ISBLANK('Early Years Table'!A38),\"\",'Early Years Table'!A38))","v":810},{"$f":"IF($A38=\"\",\"\",IF(ISBLANK($A38),\"\",INDEX('LEA Nos codes'!$A$3:$A$154,MATCH($A38,'LEA Nos codes'!$B$3:$B$154,0))))","v":"City of Kingston Upon Hull"},{"$f":"IF($A38=\"\",\"\",IF(ISBLANK($A38),\"\",VLOOKUP($A38,Data!$A$4:$AI$155,15,FALSE)))","v":0.32100000000000001},{"$f":"IF($A38=\"\",\"\",IF(ISBLANK($A38),\"\",VLOOKUP($A38,Data!$A$4:$AI$155,16,FALSE)))","v":0.316},{"$f":"IF($A38=\"\",\"\",IF(ISBLANK($A38),\"\",VLOOKUP($A38,Data!$A$4:$AI$155,17,FALSE)))","v":0.32700000000000001},null,{"$f":"IF($A38=\"\",\"\",IF(ISBLANK($A38),\"\",VLOOKUP($A38,Data!$A$4:$AM$155,39,FALSE)))","v":0.40799999999999997}]
[{"$f":"IF('Early Years Table'!A39=\"\",\"\",IF(ISBLANK('Early Years Table'!A39),\"\",'Early Years Table'!A39))","v":201},{"$f":"IF($A39=\"\",\"\",IF(ISBLANK($A39),\"\",INDEX('LEA Nos codes'!$A$3:$A$154,MATCH($A39,'LEA Nos codes'!$B$3:$B$154,0))))","v":"City of London"},{"$f":"IF($A39=\"\",\"\",IF(ISBLANK($A39),\"\",VLOOKUP($A39,Data!$A$4:$AI$155,15,FALSE)))","v":0.17499999999999999},{"$f":"IF($A39=\"\",\"\",IF(ISBLANK($A39),\"\",VLOOKUP($A39,Data!$A$4:$AI$155,16,FALSE)))","v":0.19},{"$f":"IF($A39=\"\",\"\",IF(ISBLANK($A39),\"\",VLOOKUP($A39,Data!$A$4:$AI$155,17,FALSE)))","v":0.40200000000000002},null,{"$f":"IF($A39=\"\",\"\",IF(ISBLANK($A39),\"\",VLOOKUP($A39,Data!$A$4:$AM$155,39,FALSE)))","v":0.36099999999999999}]
[{"$f":"IF('Early Years Table'!A40=\"\",\"\",IF(ISBLANK('Early Years Table'!A40),\"\",'Early Years Table'!A40))","v":908},{"$f":"IF($A40=\"\",\"\",IF(ISBLANK($A40),\"\",INDEX('LEA Nos codes'!$A$3:$A$154,MATCH($A40,'LEA Nos codes'!$B$3:$B$154,0))))","v":"Cornwall"},{"$f":"IF($A40=\"\",\"\",IF(ISBLANK($A40),\"\",VLOOKUP($A40,Data!$A$4:$AI$155,15,FALSE)))","v":0.32400000000000001},{"$f":"IF($A40=\"\",\"\",IF(ISBLANK($A40),\"\",VLOOKUP($A40,Data!$A$4:$AI$155,16,FALSE)))","v":0.29600000000000004},{"$f":"IF($A40=\"\",\"\",IF(ISBLANK($A40),\"\",VLOOKUP($A40,Data!$A$4:$AI$155,17,FALSE)))","v":0.27399999999999997},null,{"$f":"IF($A40=\"\",\"\",IF(ISBLANK($A40),\"\",VLOOKUP($A40,Data!$A$4:$AM$155,39,FALSE)))","v":0.34600000000000003}]
[{"$f":"IF('Early Years Table'!A41=\"\",\"\",IF(ISBLANK('Early Years Table'!A41),\"\",'Early Years Table'!A41))","v":331},{"$f":"IF($A41=\"\",\"\",IF(ISBLANK($A41),\"\",INDEX('LEA Nos codes'!$A$3:$A$154,MATCH($A41,'LEA Nos codes'!$B$3:$B$154,0))))","v":"Coventry"},{"$f":"IF($A41=\"\",\"\",IF(ISBLANK($A41),\"\",VLOOKUP($A41,Data!$A$4:$AI$155,15,FALSE)))","v":0.34200000000000003},{"$f":"IF($A41=\"\",\"\",IF(ISBLANK($A41),\"\",VLOOKUP($A41,Data!$A$4:$AI$155,16,FALSE)))","v":0.32799999999999996},{"$f":"IF($A41=\"\",\"\",IF(ISBLANK($A41),\"\",VLOOKUP($A41,Data!$A$4:$AI$155,17,FALSE)))","v":0.313},null,{"$f":"IF($A41=\"\",\"\",IF(ISBLANK($A41),\"\",VLOOKUP($A41,Data!$A$4:$AM$155,39,FALSE)))","v":0.36399999999999999}]
[{"$f":"IF('Early Years Table'!A42=\"\",\"\",IF(ISBLANK('Early Years Table'!A42),\"\",'Early Years Table'!A42))","v":306},{"$f":"IF($A42=\"\",\"\",IF(ISBLANK($A42),\"\",INDEX('LEA Nos codes'!$A$3:$A$154,MATCH($A42,'LEA Nos codes'!$B$3:$B$154,0))))","v":"Croydon"},{"$f":"IF($A42=\"\",\"\",IF(ISBLANK($A42),\"\",VLOOKUP($A42,Data!$A$4:$AI$155,15,FALSE)))","v":0.314},{"$f":"IF($A42=\"\",\"\",IF(ISBLANK($A42),\"\",VLOOKUP($A42,Data!$A$4:$AI$155,16,FALSE)))","v":0.28399999999999997},{"$f":"IF($A42=\"\",\"\",IF(ISBLANK($A42),\"\",VLOOKUP($A42,Data!$A$4:$AI$155,17,FALSE)))","v":0.29899999999999999},null,{"$f":"IF($A42=\"\",\"\",IF(ISBLANK($A42),\"\",VLOOKUP($A42,Data!$A$4:$AM$155,39,FALSE)))","v":0.39100000000000001}]
[{"$f":"IF('Early Years Table'!A43=\"\",\"\",IF(ISBLANK('Early Years Table'!A43),\"\",'Early Years Table'!A43))","v":909},{"$f":"IF($A43=\"\",\"\",IF(ISBLANK($A43),\"\",INDEX('LEA Nos codes'!$A$3:$A$154,MATCH($A43,'LEA Nos codes'!$B$3:$B$154,0))))","v":"Cumbria"},{"$f":"IF($A43=\"\",\"\",IF(ISBLANK($A43),\"\",VLOOKUP($A43,Data!$A$4:$AI$155,15,FALSE)))","v":0.318},{"$f":"IF($A43=\"\",\"\",IF(ISBLANK($A43),\"\",VLOOKUP($A43,Data!$A$4:$AI$155,16,FALSE)))","v":0.32600000000000001},{"$f":"IF($A43=\"\",\"\",IF(ISBLANK($A43),\"\",VLOOKUP($A43,Data!$A$4:$AI$155,17,FALSE)))","v":0.29299999999999998},null,{"$f":"IF($A43=\"\",\"\",IF(ISBLANK($A43),\"\",VLOOKUP($A43,Data!$A$4:$AM$155,39,FALSE)))","v":0.35600000000000004}]
[{"$f":"IF('Early Years Table'!A44=\"\",\"\",IF(ISBLANK('Early Years Table'!A44),\"\",'Early Years Table'!A44))","v":841},{"$f":"IF($A44=\"\",\"\",IF(ISBLANK($A44),\"\",INDEX('LEA Nos codes'!$A$3:$A$154,MATCH($A44,'LEA Nos codes'!$B$3:$B$154,0))))","v":"Darlington"},{"$f":"IF($A44=\"\",\"\",IF(ISBLANK($A44),\"\",VLOOKUP($A44,Data!$A$4:$AI$155,15,FALSE)))","v":0.35899999999999999},{"$f":"IF($A44=\"\",\"\",IF(ISBLANK($A44),\"\",VLOOKUP($A44,Data!$A$4:$AI$155,16,FALSE)))","v":0.35600000000000004},{"$f":"IF($A44=\"\",\"\",IF(ISBLANK($A44),\"\",VLOOKUP($A44,Data!$A$4:$AI$155,17,FALSE)))","v":0.32799999999999996},null,{"$f":"IF($A44=\"\",\"\",IF(ISBLANK($A44),\"\",VLOOKUP($A44,Data!$A$4:$AM$155,39,FALSE)))","v":0.42499999999999999}]
[{"$f":"IF('Early Years Table'!A45=\"\",\"\",IF(ISBLANK('Early Years Table'!A45),\"\",'Early Years Table'!A45))","v":831},{"$f":"IF($A45=\"\",\"\",IF(ISBLANK($A45),\"\",INDEX('LEA Nos codes'!$A$3:$A$154,MATCH($A45,'LEA Nos codes'!$B$3:$B$154,0))))","v":"Derby"},{"$f":"IF($A45=\"\",\"\",IF(ISBLANK($A45),\"\",VLOOKUP($A45,Data!$A$4:$AI$155,15,FALSE)))","v":0.33600000000000002},{"$f":"IF($A45=\"\",\"\",IF(ISBLANK($A45),\"\",VLOOKUP($A45,Data!$A$4:$AI$155,16,FALSE)))","v":0.34700000000000003},{"$f":"IF($A45=\"\",\"\",IF(ISBLANK($A45),\"\",VLOOKUP($A45,Data!$A$4:$AI$155,17,FALSE)))","v":0.34100000000000003},null,{"$f":"IF($A45=\"\",\"\",IF(ISBLANK($A45),\"\",VLOOKUP($A45,Data!$A$4:$AM$155,39,FALSE)))","v":0.41100000000000003}]
[{"$f":"IF('Early Years Table'!A46=\"\",\"\",IF(ISBLANK('Early Years Table'!A46),\"\",'Early Years Table'!A46))","v":830},{"$f":"IF($A46=\"\",\"\",IF(ISBLANK($A46),\"\",INDEX('LEA Nos codes'!$A$3:$A$154,MATCH($A46,'LEA Nos codes'!$B$3:$B$154,0))))","v":"Derbyshire"},{"$f":"IF($A46=\"\",\"\",IF(ISBLANK($A46),\"\",VLOOKUP($A46,Data!$A$4:$AI$155,15,FALSE)))","v":0.318},{"$f":"IF($A46=\"\",\"\",IF(ISBLANK($A46),\"\",VLOOKUP($A46,Data!$A$4:$AI$155,16,FALSE)))","v":0.32600000000000001},{"$f":"IF($A46=\"\",\"\",IF(ISBLANK($A46),\"\",VLOOKUP($A46,Data!$A$4:$AI$155,17,FALSE)))","v":0.29699999999999999},null,{"$f":"IF($A46=\"\",\"\",IF(ISBLANK($A46),\"\",VLOOKUP($A46,Data!$A$4:$AM$155,39,FALSE)))","v":0.374}]
[{"$f":"IF('Early Years Table'!A47=\"\",\"\",IF(ISBLANK('Early Years Table'!A47),\"\",'Early Years Table'!A47))","v":878},{"$f":"IF($A47=\"\",\"\",IF(ISBLANK($A47),\"\",INDEX('LEA Nos codes'!$A$3:$A$154,MATCH($A47,'LEA Nos codes'!$B$3:$B$154,0))))","v":"Devon"},{"$f":"IF($A47=\"\",\"\",IF(ISBLANK($A47),\"\",VLOOKUP($A47,Data!$A$4:$AI$155,15,FALSE)))","v":0.33100000000000002},{"$f":"IF($A47=\"\",\"\",IF(ISBLANK($A47),\"\",VLOOKUP($A47,Data!$A$4:$AI$155,16,FALSE)))","v":0.311},{"$f":"IF($A47=\"\",\"\",IF(ISBLANK($A47),\"\",VLOOKUP($A47,Data!$A$4:$AI$155,17,FALSE)))","v":0.27899999999999997},null,{"$f":"IF($A47=\"\",\"\",IF(ISBLANK($A47),\"\",VLOOKUP($A47,Data!$A$4:$AM$155,39,FALSE)))","v":0.26}]
[{"$f":"IF('Early Years Table'!A48=\"\",\"\",IF(ISBLANK('Early Years Table'!A48),\"\",'Early Years Table'!A48))","v":371},{"$f":"IF($A48=\"\",\"\",IF(ISBLANK($A48),\"\",INDEX('LEA Nos codes'!$A$3:$A$154,MATCH($A48,'LEA Nos codes'!$B$3:$B$154,0))))","v":"Doncaster"},{"$f":"IF($A48=\"\",\"\",IF(ISBLANK($A48),\"\",VLOOKUP($A48,Data!$A$4:$AI$155,15,FALSE)))","v":0.32},{"$f":"IF($A48=\"\",\"\",IF(ISBLANK($A48),\"\",VLOOKUP($A48,Data!$A$4:$AI$155,16,FALSE)))","v":0.32},{"$f":"IF($A48=\"\",\"\",IF(ISBLANK($A48),\"\",VLOOKUP($A48,Data!$A$4:$AI$155,17,FALSE)))","v":0.307},null,{"$f":"IF($A48=\"\",\"\",IF(ISBLANK($A48),\"\",VLOOKUP($A48,Data!$A$4:$AM$155,39,FALSE)))","v":0.374}]
[{"$f":"IF('Early Years Table'!A49=\"\",\"\",IF(ISBLANK('Early Years Table'!A49),\"\",'Early Years Table'!A49))","v":835},{"$f":"IF($A49=\"\",\"\",IF(ISBLANK($A49),\"\",INDEX('LEA Nos codes'!$A$3:$A$154,MATCH($A49,'LEA Nos codes'!$B$3:$B$154,0))))","v":"Dorset"},{"$f":"IF($A49=\"\",\"\",IF(ISBLANK($A49),\"\",VLOOKUP($A49,Data!$A$4:$AI$155,15,FALSE)))","v":0.27699999999999997},{"$f":"IF($A49=\"\",\"\",IF(ISBLANK($A49),\"\",VLOOKUP($A49,Data!$A$4:$AI$155,16,FALSE)))","v":0.27100000000000002},{"$f":"IF($A49=\"\",\"\",IF(ISBLANK($A49),\"\",VLOOKUP($A49,Data!$A$4:$AI$155,17,FALSE)))","v":0.25800000000000001},null,{"$f":"IF($A49=\"\",\"\",IF(ISBLANK($A49),\"\",VLOOKUP($A49,Data!$A$4:$AM$155,39,FALSE)))","v":0.26200000000000001}]
[{"$f":"IF('Early Years Table'!A50=\"\",\"\",IF(ISBLANK('Early Years Table'!A50),\"\",'Early Years Table'!A50))","v":332},{"$f":"IF($A50=\"\",\"\",IF(ISBLANK($A50),\"\",INDEX('LEA Nos codes'!$A$3:$A$154,MATCH($A50,'LEA Nos codes'!$B$3:$B$154,0))))","v":"Dudley"},{"$f":"IF($A50=\"\",\"\",IF(ISBLANK($A50),\"\",VLOOKUP($A50,Data!$A$4:$AI$155,15,FALSE)))","v":0.32},{"$f":"IF($A50=\"\",\"\",IF(ISBLANK($A50),\"\",VLOOKUP($A50,Data!$A$4:$AI$155,16,FALSE)))","v":0.314},{"$f":"IF($A50=\"\",\"\",IF(ISBLANK($A50),\"\",VLOOKUP($A50,Data!$A$4:$AI$155,17,FALSE)))","v":0.31900000000000001},null,{"$f":"IF($A50=\"\",\"\",IF(ISBLANK($A50),\"\",VLOOKUP($A50,Data!$A$4:$AM$155,39,FALSE)))","v":0.39899999999999997}]
[{"$f":"IF('Early Years Table'!A51=\"\",\"\",IF(ISBLANK('Early Years Table'!A51),\"\",'Early Years Table'!A51))","v":840},{"$f":"IF($A51=\"\",\"\",IF(ISBLANK($A51),\"\",INDEX('LEA Nos codes'!$A$3:$A$154,MATCH($A51,'LEA Nos codes'!$B$3:$B$154,0))))","v":"Durham"},{"$f":"IF($A51=\"\",\"\",IF(ISBLANK($A51),\"\",VLOOKUP($A51,Data!$A$4:$AI$155,15,FALSE)))","v":0.36700000000000005},{"$f":"IF($A51=\"\",\"\",IF(ISBLANK($A51),\"\",VLOOKUP($A51,Data!$A$4:$AI$155,16,FALSE)))","v":0.34700000000000003},{"$f":"IF($A51=\"\",\"\",IF(ISBLANK($A51),\"\",VLOOKUP($A51,Data!$A$4:$AI$155,17,FALSE)))","v":0.33399999999999996},null,{"$f":"IF($A51=\"\",\"\",IF(ISBLANK($A51),\"\",VLOOKUP($A51,Data!$A$4:$AM$155,39,FALSE)))","v":0.42799999999999999}]
[{"$f":"IF('Early Years Table'!A52=\"\",\"\",IF(ISBLANK('Early Years Table'!A52),\"\",'Early Years Table'!A52))","v":307},{"$f":"IF($A52=\"\",\"\",IF(ISBLANK($A52),\"\",INDEX('LEA Nos codes'!$A$3:$A$154,MATCH($A52,'LEA Nos codes'!$B$3:$B$154,0))))","v":"Ealing"},{"$f":"IF($A52=\"\",\"\",IF(ISBLANK($A52),\"\",VLOOKUP($A52,Data!$A$4:$AI$155,15,FALSE)))","v":0.35100000000000003},{"$f":"IF($A52=\"\",\"\",IF(ISBLANK($A52),\"\",VLOOKUP($A52,Data!$A$4:$AI$155,16,FALSE)))","v":0.33200000000000002},{"$f":"IF($A52=\"\",\"\",IF(ISBLANK($A52),\"\",VLOOKUP($A52,Data!$A$4:$AI$155,17,FALSE)))","v":0.32299999999999995},null,{"$f":"IF($A52=\"\",\"\",IF(ISBLANK($A52),\"\",VLOOKUP($A52,Data!$A$4:$AM$155,39,FALSE)))","v":0.33399999999999996}]
[{"$f":"IF('Early Years Table'!A53=\"\",\"\",IF(ISBLANK('Early Years Table'!A53),\"\",'Early Years Table'!A53))","v":811},{"$f":"IF($A53=\"\",\"\",IF(ISBLANK($A53),\"\",INDEX('LEA Nos codes'!$A$3:$A$154,MATCH($A53,'LEA Nos codes'!$B$3:$B$154,0))))","v":"East Riding of Yorkshire"},{"$f":"IF($A53=\"\",\"\",IF(ISBLANK($A53),\"\",VLOOKUP($A53,Data!$A$4:$AI$155,15,FALSE)))","v":0.28999999999999998},{"$f":"IF($A53=\"\",\"\",IF(ISBLANK($A53),\"\",VLOOKUP($A53,Data!$A$4:$AI$155,16,FALSE)))","v":0.28899999999999998},{"$f":"IF($A53=\"\",\"\",IF(ISBLANK($A53),\"\",VLOOKUP($A53,Data!$A$4:$AI$155,17,FALSE)))","v":0.27399999999999997},null,{"$f":"IF($A53=\"\",\"\",IF(ISBLANK($A53),\"\",VLOOKUP($A53,Data!$A$4:$AM$155,39,FALSE)))","v":0.29799999999999999}]
[{"$f":"IF('Early Years Table'!A54=\"\",\"\",IF(ISBLANK('Early Years Table'!A54),\"\",'Early Years Table'!A54))","v":845},{"$f":"IF($A54=\"\",\"\",IF(ISBLANK($A54),\"\",INDEX('LEA Nos codes'!$A$3:$A$154,MATCH($A54,'LEA Nos codes'!$B$3:$B$154,0))))","v":"East Sussex"},{"$f":"IF($A54=\"\",\"\",IF(ISBLANK($A54),\"\",VLOOKUP($A54,Data!$A$4:$AI$155,15,FALSE)))","v":0.31900000000000001},{"$f":"IF($A54=\"\",\"\",IF(ISBLANK($A54),\"\",VLOOKUP($A54,Data!$A$4:$AI$155,16,FALSE)))","v":0.314},{"$f":"IF($A54=\"\",\"\",IF(ISBLANK($A54),\"\",VLOOKUP($A54,Data!$A$4:$AI$155,17,FALSE)))","v":0.29799999999999999},null,{"$f":"IF($A54=\"\",\"\",IF(ISBLANK($A54),\"\",VLOOKUP($A54,Data!$A$4:$AM$155,39,FALSE)))","v":0.37200000000000005}]
[{"$f":"IF('Early Years Table'!A55=\"\",\"\",IF(ISBLANK('Early Years Table'!A55),\"\",'Early Years Table'!A55))","v":308},{"$f":"IF($A55=\"\",\"\",IF(ISBLANK($A55),\"\",INDEX('LEA Nos codes'!$A$3:$A$154,MATCH($A55,'LEA Nos codes'!$B$3:$B$154,0))))","v":"Enfield"},{"$f":"IF($A55=\"\",\"\",IF(ISBLANK($A55),\"\",VLOOKUP($A55,Data!$A$4:$AI$155,15,FALSE)))","v":0.37},{"$f":"IF($A55=\"\",\"\",IF(ISBLANK($A55),\"\",VLOOKUP($A55,Data!$A$4:$AI$155,16,FALSE)))","v":0.34299999999999997},{"$f":"IF($A55=\"\",\"\",IF(ISBLANK($A55),\"\",VLOOKUP($A55,Data!$A$4:$AI$155,17,FALSE)))","v":0.32400000000000001},null,{"$f":"IF($A55=\"\",\"\",IF(ISBLANK($A55),\"\",VLOOKUP($A55,Data!$A$4:$AM$155,39,FALSE)))","v":0.39799999999999996}]
[{"$f":"IF('Early Years Table'!A56=\"\",\"\",IF(ISBLANK('Early Years Table'!A56),\"\",'Early Years Table'!A56))","v":881},{"$f":"IF($A56=\"\",\"\",IF(ISBLANK($A56),\"\",INDEX('LEA Nos codes'!$A$3:$A$154,MATCH($A56,'LEA Nos codes'!$B$3:$B$154,0))))","v":"Essex"},{"$f":"IF($A56=\"\",\"\",IF(ISBLANK($A56),\"\",VLOOKUP($A56,Data!$A$4:$AI$155,15,FALSE)))","v":0.32100000000000001},{"$f":"IF($A56=\"\",\"\",IF(ISBLANK($A56),\"\",VLOOKUP($A56,Data!$A$4:$AI$155,16,FALSE)))","v":0.317},{"$f":"IF($A56=\"\",\"\",IF(ISBLANK($A56),\"\",VLOOKUP($A56,Data!$A$4:$AI$155,17,FALSE)))","v":0.30399999999999999},null,{"$f":"IF($A56=\"\",\"\",IF(ISBLANK($A56),\"\",VLOOKUP($A56,Data!$A$4:$AM$155,39,FALSE)))","v":0.33200000000000002}]
[{"$f":"IF('Early Years Table'!A57=\"\",\"\",IF(ISBLANK('Early Years Table'!A57),\"\",'Early Years Table'!A57))","v":390},{"$f":"IF($A57=\"\",\"\",IF(ISBLANK($A57),\"\",INDEX('LEA Nos codes'!$A$3:$A$154,MATCH($A57,'LEA Nos codes'!$B$3:$B$154,0))))","v":"Gateshead"},{"$f":"IF($A57=\"\",\"\",IF(ISBLANK($A57),\"\",VLOOKUP($A57,Data!$A$4:$AI$155,15,FALSE)))","v":0.32100000000000001},{"$f":"IF($A57=\"\",\"\",IF(ISBLANK($A57),\"\",VLOOKUP($A57,Data!$A$4:$AI$155,16,FALSE)))","v":0.32700000000000001},{"$f":"IF($A57=\"\",\"\",IF(ISBLANK($A57),\"\",VLOOKUP($A57,Data!$A$4:$AI$155,17,FALSE)))","v":0.28899999999999998},null,{"$f":"IF($A57=\"\",\"\",IF(ISBLANK($A57),\"\",VLOOKUP($A57,Data!$A$4:$AM$155,39,FALSE)))","v":0.34}]
[{"$f":"IF('Early Years Table'!A58=\"\",\"\",IF(ISBLANK('Early Years Table'!A58),\"\",'Early Years Table'!A58))","v":916},{"$f":"IF($A58=\"\",\"\",IF(ISBLANK($A58),\"\",INDEX('LEA Nos codes'!$A$3:$A$154,MATCH($A58,'LEA Nos codes'!$B$3:$B$154,0))))","v":"Gloucestershire"},{"$f":"IF($A58=\"\",\"\",IF(ISBLANK($A58),\"\",VLOOKUP($A58,Data!$A$4:$AI$155,15,FALSE)))","v":0.31},{"$f":"IF($A58=\"\",\"\",IF(ISBLANK($A58),\"\",VLOOKUP($A58,Data!$A$4:$AI$155,16,FALSE)))","v":0.312},{"$f":"IF($A58=\"\",\"\",IF(ISBLANK($A58),\"\",VLOOKUP($A58,Data!$A$4:$AI$155,17,FALSE)))","v":0.29499999999999998},null,{"$f":"IF($A58=\"\",\"\",IF(ISBLANK($A58),\"\",VLOOKUP($A58,Data!$A$4:$AM$155,39,FALSE)))","v":0.33700000000000002}]
[{"$f":"IF('Early Years Table'!A59=\"\",\"\",IF(ISBLANK('Early Years Table'!A59),\"\",'Early Years Table'!A59))","v":203},{"$f":"IF($A59=\"\",\"\",IF(ISBLANK($A59),\"\",INDEX('LEA Nos codes'!$A$3:$A$154,MATCH($A59,'LEA Nos codes'!$B$3:$B$154,0))))","v":"Greenwich"},{"$f":"IF($A59=\"\",\"\",IF(ISBLANK($A59),\"\",VLOOKUP($A59,Data!$A$4:$AI$155,15,FALSE)))","v":0.315},{"$f":"IF($A59=\"\",\"\",IF(ISBLANK($A59),\"\",VLOOKUP($A59,Data!$A$4:$AI$155,16,FALSE)))","v":0.33799999999999997},{"$f":"IF($A59=\"\",\"\",IF(ISBLANK($A59),\"\",VLOOKUP($A59,Data!$A$4:$AI$155,17,FALSE)))","v":0.27399999999999997},null,{"$f":"IF($A59=\"\",\"\",IF(ISBLANK($A59),\"\",VLOOKUP($A59,Data!$A$4:$AM$155,39,FALSE)))","v":0.29299999999999998}]
[{"$f":"IF('Early Years Table'!A60=\"\",\"\",IF(ISBLANK('Early Years Table'!A60),\"\",'Early Years Table'!A60))","v":204},{"$f":"IF($A60=\"\",\"\",IF(ISBLANK($A60),\"\",INDEX('LEA Nos codes'!$A$3:$A$154,MATCH($A60,'LEA Nos codes'!$B$3:$B$154,0))))","v":"Hackney"},{"$f":"IF($A60=\"\",\"\",IF(ISBLANK($A60),\"\",VLOOKUP($A60,Data!$A$4:$AI$155,15,FALSE)))","v":0.31900000000000001},{"$f":"IF($A60=\"\",\"\",IF(ISBLANK($A60),\"\",VLOOKUP($A60,Data!$A$4:$AI$155,16,FALSE)))","v":0.317},{"$f":"IF($A60=\"\",\"\",IF(ISBLANK($A60),\"\",VLOOKUP($A60,Data!$A$4:$AI$155,17,FALSE)))","v":0.29899999999999999},null,{"$f":"IF($A60=\"\",\"\",IF(ISBLANK($A60),\"\",VLOOKUP($A60,Data!$A$4:$AM$155,39,FALSE)))","v":0.32600000000000001}]
[{"$f":"IF('Early Years Table'!A61=\"\",\"\",IF(ISBLANK('Early Years Table'!A61),\"\",'Early Years Table'!A61))","v":876},{"$f":"IF($A61=\"\",\"\",IF(ISBLANK($A61),\"\",INDEX('LEA Nos codes'!$A$3:$A$154,MATCH($A61,'LEA Nos codes'!$B$3:$B$154,0))))","v":"Halton"},{"$f":"IF($A61=\"\",\"\",IF(ISBLANK($A61),\"\",VLOOKUP($A61,Data!$A$4:$AI$155,15,FALSE)))","v":0.28800000000000003},{"$f":"IF($A61=\"\",\"\",IF(ISBLANK($A61),\"\",VLOOKUP($A61,Data!$A$4:$AI$155,16,FALSE)))","v":0.29899999999999999},{"$f":"IF($A61=\"\",\"\",IF(ISBLANK($A61),\"\",VLOOKUP($A61,Data!$A$4:$AI$155,17,FALSE)))","v":0.29699999999999999},null,{"$f":"IF($A61=\"\",\"\",IF(ISBLANK($A61),\"\",VLOOKUP($A61,Data!$A$4:$AM$155,39,FALSE)))","v":0.36200000000000004}]
[{"$f":"IF('Early Years Table'!A62=\"\",\"\",IF(ISBLANK('Early Years Table'!A62),\"\",'Early Years Table'!A62))","v":205},{"$f":"IF($A62=\"\",\"\",IF(ISBLANK($A62),\"\",INDEX('LEA Nos codes'!$A$3:$A$154,MATCH($A62,'LEA Nos codes'!$B$3:$B$154,0))))","v":"Hammersmith and Fulham"},{"$f":"IF($A62=\"\",\"\",IF(ISBLANK($A62),\"\",VLOOKUP($A62,Data!$A$4:$AI$155,15,FALSE)))","v":0.32},{"$f":"IF($A62=\"\",\"\",IF(ISBLANK($A62),\"\",VLOOKUP($A62,Data!$A$4:$AI$155,16,FALSE)))","v":0.311},{"$f":"IF($A62=\"\",\"\",IF(ISBLANK($A62),\"\",VLOOKUP($A62,Data!$A$4:$AI$155,17,FALSE)))","v":0.30299999999999999},null,{"$f":"IF($A62=\"\",\"\",IF(ISBLANK($A62),\"\",VLOOKUP($A62,Data!$A$4:$AM$155,39,FALSE)))","v":0.32500000000000001}]
[{"$f":"IF('Early Years Table'!A63=\"\",\"\",IF(ISBLANK('Early Years Table'!A63),\"\",'Early Years Table'!A63))","v":850},{"$f":"IF($A63=\"\",\"\",IF(ISBLANK($A63),\"\",INDEX('LEA Nos codes'!$A$3:$A$154,MATCH($A63,'LEA Nos codes'!$B$3:$B$154,0))))","v":"Hampshire"},{"$f":"IF($A63=\"\",\"\",IF(ISBLANK($A63),\"\",VLOOKUP($A63,Data!$A$4:$AI$155,15,FALSE)))","v":0.29699999999999999},{"$f":"IF($A63=\"\",\"\",IF(ISBLANK($A63),\"\",VLOOKUP($A63,Data!$A$4:$AI$155,16,FALSE)))","v":0.28999999999999998},{"$f":"IF($A63=\"\",\"\",IF(ISBLANK($A63),\"\",VLOOKUP($A63,Data!$A$4:$AI$155,17,FALSE)))","v":0.26600000000000001},null,{"$f":"IF($A63=\"\",\"\",IF(ISBLANK($A63),\"\",VLOOKUP($A63,Data!$A$4:$AM$155,39,FALSE)))","v":0.28899999999999998}]
[{"$f":"IF('Early Years Table'!A64=\"\",\"\",IF(ISBLANK('Early Years Table'!A64),\"\",'Early Years Table'!A64))","v":309},{"$f":"IF($A64=\"\",\"\",IF(ISBLANK($A64),\"\",INDEX('LEA Nos codes'!$A$3:$A$154,MATCH($A64,'LEA Nos codes'!$B$3:$B$154,0))))","v":"Haringey"},{"$f":"IF($A64=\"\",\"\",IF(ISBLANK($A64),\"\",VLOOKUP($A64,Data!$A$4:$AI$155,15,FALSE)))","v":0.36200000000000004},{"$f":"IF($A64=\"\",\"\",IF(ISBLANK($A64),\"\",VLOOKUP($A64,Data!$A$4:$AI$155,16,FALSE)))","v":0.32100000000000001},{"$f":"IF($A64=\"\",\"\",IF(ISBLANK($A64),\"\",VLOOKUP($A64,Data!$A$4:$AI$155,17,FALSE)))","v":0.32500000000000001},null,{"$f":"IF($A64=\"\",\"\",IF(ISBLANK($A64),\"\",VLOOKUP($A64,Data!$A$4:$AM$155,39,FALSE)))","v":0.36599999999999999}]
[{"$f":"IF('Early Years Table'!A65=\"\",\"\",IF(ISBLANK('Early Years Table'!A65),\"\",'Early Years Table'!A65))","v":310},{"$f":"IF($A65=\"\",\"\",IF(ISBLANK($A65),\"\",INDEX('LEA Nos codes'!$A$3:$A$154,MATCH($A65,'LEA Nos codes'!$B$3:$B$154,0))))","v":"Harrow"},{"$f":"IF($A65=\"\",\"\",IF(ISBLANK($A65),\"\",VLOOKUP($A65,Data!$A$4:$AI$155,15,FALSE)))","v":0.377},{"$f":"IF($A65=\"\",\"\",IF(ISBLANK($A65),\"\",VLOOKUP($A65,Data!$A$4:$AI$155,16,FALSE)))","v":0.36499999999999999},{"$f":"IF($A65=\"\",\"\",IF(ISBLANK($A65),\"\",VLOOKUP($A65,Data!$A$4:$AI$155,17,FALSE)))","v":0.308},null,{"$f":"IF($A65=\"\",\"\",IF(ISBLANK($A65),\"\",VLOOKUP($A65,Data!$A$4:$AM$155,39,FALSE)))","v":0.379}]
[{"$f":"IF('Early Years Table'!A66=\"\",\"\",IF(ISBLANK('Early Years Table'!A66),\"\",'Early Years Table'!A66))","v":805},{"$f":"IF($A66=\"\",\"\",IF(ISBLANK($A66),\"\",INDEX('LEA Nos codes'!$A$3:$A$154,MATCH($A66,'LEA Nos codes'!$B$3:$B$154,0))))","v":"Hartlepool"},{"$f":"IF($A66=\"\",\"\",IF(ISBLANK($A66),\"\",VLOOKUP($A66,Data!$A$4:$AI$155,15,FALSE)))","v":0.36299999999999999},{"$f":"IF($A66=\"\",\"\",IF(ISBLANK($A66),\"\",VLOOKUP($A66,Data!$A$4:$AI$155,16,FALSE)))","v":0.28199999999999997},{"$f":"IF($A66=\"\",\"\",IF(ISBLANK($A66),\"\",VLOOKUP($A66,Data!$A$4:$AI$155,17,FALSE)))","v":0.33},null,{"$f":"IF($A66=\"\",\"\",IF(ISBLANK($A66),\"\",VLOOKUP($A66,Data!$A$4:$AM$155,39,FALSE)))","v":0.39899999999999997}]
[{"$f":"IF('Early Years Table'!A67=\"\",\"\",IF(ISBLANK('Early Years Table'!A67),\"\",'Early Years Table'!A67))","v":311},{"$f":"IF($A67=\"\",\"\",IF(ISBLANK($A67),\"\",INDEX('LEA Nos codes'!$A$3:$A$154,MATCH($A67,'LEA Nos codes'!$B$3:$B$154,0))))","v":"Havering"},{"$f":"IF($A67=\"\",\"\",IF(ISBLANK($A67),\"\",VLOOKUP($A67,Data!$A$4:$AI$155,15,FALSE)))","v":0.28699999999999998},{"$f":"IF($A67=\"\",\"\",IF(ISBLANK($A67),\"\",VLOOKUP($A67,Data!$A$4:$AI$155,16,FALSE)))","v":0.27100000000000002},{"$f":"IF($A67=\"\",\"\",IF(ISBLANK($A67),\"\",VLOOKUP($A67,Data!$A$4:$AI$155,17,FALSE)))","v":0.317},null,{"$f":"IF($A67=\"\",\"\",IF(ISBLANK($A67),\"\",VLOOKUP($A67,Data!$A$4:$AM$155,39,FALSE)))","v":0.27300000000000002}]
[{"$f":"IF('Early Years Table'!A68=\"\",\"\",IF(ISBLANK('Early Years Table'!A68),\"\",'Early Years Table'!A68))","v":884},{"$f":"IF($A68=\"\",\"\",IF(ISBLANK($A68),\"\",INDEX('LEA Nos codes'!$A$3:$A$154,MATCH($A68,'LEA Nos codes'!$B$3:$B$154,0))))","v":"Herefordshire"},{"$f":"IF($A68=\"\",\"\",IF(ISBLANK($A68),\"\",VLOOKUP($A68,Data!$A$4:$AI$155,15,FALSE)))","v":0.32700000000000001},{"$f":"IF($A68=\"\",\"\",IF(ISBLANK($A68),\"\",VLOOKUP($A68,Data!$A$4:$AI$155,16,FALSE)))","v":0.32},{"$f":"IF($A68=\"\",\"\",IF(ISBLANK($A68),\"\",VLOOKUP($A68,Data!$A$4:$AI$155,17,FALSE)))","v":0.307},null,{"$f":"IF($A68=\"\",\"\",IF(ISBLANK($A68),\"\",VLOOKUP($A68,Data!$A$4:$AM$155,39,FALSE)))","v":0.35100000000000003}]
[{"$f":"IF('Early Years Table'!A69=\"\",\"\",IF(ISBLANK('Early Years Table'!A69),\"\",'Early Years Table'!A69))","v":919},{"$f":"IF($A69=\"\",\"\",IF(ISBLANK($A69),\"\",INDEX('LEA Nos codes'!$A$3:$A$154,MATCH($A69,'LEA Nos codes'!$B$3:$B$154,0))))","v":"Hertfordshire"},{"$f":"IF($A69=\"\",\"\",IF(ISBLANK($A69),\"\",VLOOKUP($A69,Data!$A$4:$AI$155,15,FALSE)))","v":0.32200000000000001},{"$f":"IF($A69=\"\",\"\",IF(ISBLANK($A69),\"\",VLOOKUP($A69,Data!$A$4:$AI$155,16,FALSE)))","v":0.33200000000000002},{"$f":"IF($A69=\"\",\"\",IF(ISBLANK($A69),\"\",VLOOKUP($A69,Data!$A$4:$AI$155,17,FALSE)))","v":0.29299999999999998},null,{"$f":"IF($A69=\"\",\"\",IF(ISBLANK($A69),\"\",VLOOKUP($A69,Data!$A$4:$AM$155,39,FALSE)))","v":0.28800000000000003}]
[{"$f":"IF('Early Years Table'!A70=\"\",\"\",IF(ISBLANK('Early Years Table'!A70),\"\",'Early Years Table'!A70))","v":312},{"$f":"IF($A70=\"\",\"\",IF(ISBLANK($A70),\"\",INDEX('LEA Nos codes'!$A$3:$A$154,MATCH($A70,'LEA Nos codes'!$B$3:$B$154,0))))","v":"Hillingdon"},{"$f":"IF($A70=\"\",\"\",IF(ISBLANK($A70),\"\",VLOOKUP($A70,Data!$A$4:$AI$155,15,FALSE)))","v":0.32600000000000001},{"$f":"IF($A70=\"\",\"\",IF(ISBLANK($A70),\"\",VLOOKUP($A70,Data!$A$4:$AI$155,16,FALSE)))","v":0.308},{"$f":"IF($A70=\"\",\"\",IF(ISBLANK($A70),\"\",VLOOKUP($A70,Data!$A$4:$AI$155,17,FALSE)))","v":0.315},null,{"$f":"IF($A70=\"\",\"\",IF(ISBLANK($A70),\"\",VLOOKUP($A70,Data!$A$4:$AM$155,39,FALSE)))","v":0.36599999999999999}]
[{"$f":"IF('Early Years Table'!A71=\"\",\"\",IF(ISBLANK('Early Years Table'!A71),\"\",'Early Years Table'!A71))","v":313},{"$f":"IF($A71=\"\",\"\",IF(ISBLANK($A71),\"\",INDEX('LEA Nos codes'!$A$3:$A$154,MATCH($A71,'LEA Nos codes'!$B$3:$B$154,0))))","v":"Hounslow"},{"$f":"IF($A71=\"\",\"\",IF(ISBLANK($A71),\"\",VLOOKUP($A71,Data!$A$4:$AI$155,15,FALSE)))","v":0.35399999999999998},{"$f":"IF($A71=\"\",\"\",IF(ISBLANK($A71),\"\",VLOOKUP($A71,Data!$A$4:$AI$155,16,FALSE)))","v":0.35499999999999998},{"$f":"IF($A71=\"\",\"\",IF(ISBLANK($A71),\"\",VLOOKUP($A71,Data!$A$4:$AI$155,17,FALSE)))","v":0.32299999999999995},null,{"$f":"IF($A71=\"\",\"\",IF(ISBLANK($A71),\"\",VLOOKUP($A71,Data!$A$4:$AM$155,39,FALSE)))","v":0.37200000000000005}]
[{"$f":"IF('Early Years Table'!A72=\"\",\"\",IF(ISBLANK('Early Years Table'!A72),\"\",'Early Years Table'!A72))","v":921},{"$f":"IF($A72=\"\",\"\",IF(ISBLANK($A72),\"\",INDEX('LEA Nos codes'!$A$3:$A$154,MATCH($A72,'LEA Nos codes'!$B$3:$B$154,0))))","v":"Isle of Wight"},{"$f":"IF($A72=\"\",\"\",IF(ISBLANK($A72),\"\",VLOOKUP($A72,Data!$A$4:$AI$155,15,FALSE)))","v":0.30099999999999999},{"$f":"IF($A72=\"\",\"\",IF(ISBLANK($A72),\"\",VLOOKUP($A72,Data!$A$4:$AI$155,16,FALSE)))","v":0.28300000000000003},{"$f":"IF($A72=\"\",\"\",IF(ISBLANK($A72),\"\",VLOOKUP($A72,Data!$A$4:$AI$155,17,FALSE)))","v":0.29899999999999999},null,{"$f":"IF($A72=\"\",\"\",IF(ISBLANK($A72),\"\",VLOOKUP($A72,Data!$A$4:$AM$155,39,FALSE)))","v":0.39200000000000002}]
[{"$f":"IF('Early Years Table'!A73=\"\",\"\",IF(ISBLANK('Early Years Table'!A73),\"\",'Early Years Table'!A73))","v":420},{"$f":"IF($A73=\"\",\"\",IF(ISBLANK($A73),\"\",INDEX('LEA Nos codes'!$A$3:$A$154,MATCH($A73,'LEA Nos codes'!$B$3:$B$154,0))))","v":"Isles of Scilly"},{"$f":"IF($A73=\"\",\"\",IF(ISBLANK($A73),\"\",VLOOKUP($A73,Data!$A$4:$AI$155,15,FALSE)))","v":0.24199999999999999},{"$f":"IF($A73=\"\",\"\",IF(ISBLANK($A73),\"\",VLOOKUP($A73,Data!$A$4:$AI$155,16,FALSE)))","v":0.28499999999999998},{"$f":"IF($A73=\"\",\"\",IF(ISBLANK($A73),\"\",VLOOKUP($A73,Data!$A$4:$AI$155,17,FALSE)))","v":0.16800000000000001},null,{"$f":"IF($A73=\"\",\"\",IF(ISBLANK($A73),\"\",VLOOKUP($A73,Data!$A$4:$AM$155,39,FALSE)))","v":0.105}]
[{"$f":"IF('Early Years Table'!A74=\"\",\"\",IF(ISBLANK('Early Years Table'!A74),\"\",'Early Years Table'!A74))","v":206},{"$f":"IF($A74=\"\",\"\",IF(ISBLANK($A74),\"\",INDEX('LEA Nos codes'!$A$3:$A$154,MATCH($A74,'LEA Nos codes'!$B$3:$B$154,0))))","v":"Islington"},{"$f":"IF($A74=\"\",\"\",IF(ISBLANK($A74),\"\",VLOOKUP($A74,Data!$A$4:$AI$155,15,FALSE)))","v":0.34499999999999997},{"$f":"IF($A74=\"\",\"\",IF(ISBLANK($A74),\"\",VLOOKUP($A74,Data!$A$4:$AI$155,16,FALSE)))","v":0.33100000000000002},{"$f":"IF($A74=\"\",\"\",IF(ISBLANK($A74),\"\",VLOOKUP($A74,Data!$A$4:$AI$155,17,FALSE)))","v":0.32200000000000001},null,{"$f":"IF($A74=\"\",\"\",IF(ISBLANK($A74),\"\",VLOOKUP($A74,Data!$A$4:$AM$155,39,FALSE)))","v":0.34200000000000003}]
[{"$f":"IF('Early Years Table'!A75=\"\",\"\",IF(ISBLANK('Early Years Table'!A75),\"\",'Early Years Table'!A75))","v":207},{"$f":"IF($A75=\"\",\"\",IF(ISBLANK($A75),\"\",INDEX('LEA Nos codes'!$A$3:$A$154,MATCH($A75,'LEA Nos codes'!$B$3:$B$154,0))))","v":"Kensington and Chelsea"},{"$f":"IF($A75=\"\",\"\",IF(ISBLANK($A75),\"\",VLOOKUP($A75,Data!$A$4:$AI$155,15,FALSE)))","v":0.30499999999999999},{"$f":"IF($A75=\"\",\"\",IF(ISBLANK($A75),\"\",VLOOKUP($A75,Data!$A$4:$AI$155,16,FALSE)))","v":0.29600000000000004},{"$f":"IF($A75=\"\",\"\",IF(ISBLANK($A75),\"\",VLOOKUP($A75,Data!$A$4:$AI$155,17,FALSE)))","v":0.29199999999999998},null,{"$f":"IF($A75=\"\",\"\",IF(ISBLANK($A75),\"\",VLOOKUP($A75,Data!$A$4:$AM$155,39,FALSE)))","v":0.36899999999999999}]
[{"$f":"IF('Early Years Table'!A76=\"\",\"\",IF(ISBLANK('Early Years Table'!A76),\"\",'Early Years Table'!A76))","v":886},{"$f":"IF($A76=\"\",\"\",IF(ISBLANK($A76),\"\",INDEX('LEA Nos codes'!$A$3:$A$154,MATCH($A76,'LEA Nos codes'!$B$3:$B$154,0))))","v":"Kent"},{"$f":"IF($A76=\"\",\"\",IF(ISBLANK($A76),\"\",VLOOKUP($A76,Data!$A$4:$AI$155,15,FALSE)))","v":0.27600000000000002},{"$f":"IF($A76=\"\",\"\",IF(ISBLANK($A76),\"\",VLOOKUP($A76,Data!$A$4:$AI$155,16,FALSE)))","v":0.255},{"$f":"IF($A76=\"\",\"\",IF(ISBLANK($A76),\"\",VLOOKUP($A76,Data!$A$4:$AI$155,17,FALSE)))","v":0.248},null,{"$f":"IF($A76=\"\",\"\",IF(ISBLANK($A76),\"\",VLOOKUP($A76,Data!$A$4:$AM$155,39,FALSE)))","v":0.252}]
[{"$f":"IF('Early Years Table'!A77=\"\",\"\",IF(ISBLANK('Early Years Table'!A77),\"\",'Early Years Table'!A77))","v":314},{"$f":"IF($A77=\"\",\"\",IF(ISBLANK($A77),\"\",INDEX('LEA Nos codes'!$A$3:$A$154,MATCH($A77,'LEA Nos codes'!$B$3:$B$154,0))))","v":"Kingston upon Thames"},{"$f":"IF($A77=\"\",\"\",IF(ISBLANK($A77),\"\",VLOOKUP($A77,Data!$A$4:$AI$155,15,FALSE)))","v":0.28499999999999998},{"$f":"IF($A77=\"\",\"\",IF(ISBLANK($A77),\"\",VLOOKUP($A77,Data!$A$4:$AI$155,16,FALSE)))","v":0.29600000000000004},{"$f":"IF($A77=\"\",\"\",IF(ISBLANK($A77),\"\",VLOOKUP($A77,Data!$A$4:$AI$155,17,FALSE)))","v":0.29299999999999998},null,{"$f":"IF($A77=\"\",\"\",IF(ISBLANK($A77),\"\",VLOOKUP($A77,Data!$A$4:$AM$155,39,FALSE)))","v":0.28300000000000003}]
[{"$f":"IF('Early Years Table'!A78=\"\",\"\",IF(ISBLANK('Early Years Table'!A78),\"\",'Early Years Table'!A78))","v":382},{"$f":"IF($A78=\"\",\"\",IF(ISBLANK($A78),\"\",INDEX('LEA Nos codes'!$A$3:$A$154,MATCH($A78,'LEA Nos codes'!$B$3:$B$154,0))))","v":"Kirklees"},{"$f":"IF($A78=\"\",\"\",IF(ISBLANK($A78),\"\",VLOOKUP($A78,Data!$A$4:$AI$155,15,FALSE)))","v":0.33600000000000002},{"$f":"IF($A78=\"\",\"\",IF(ISBLANK($A78),\"\",VLOOKUP($A78,Data!$A$4:$AI$155,16,FALSE)))","v":0.33200000000000002},{"$f":"IF($A78=\"\",\"\",IF(ISBLANK($A78),\"\",VLOOKUP($A78,Data!$A$4:$AI$155,17,FALSE)))","v":0.32200000000000001},null,{"$f":"IF($A78=\"\",\"\",IF(ISBLANK($A78),\"\",VLOOKUP($A78,Data!$A$4:$AM$155,39,FALSE)))","v":0.35}]
[{"$f":"IF('Early Years Table'!A79=\"\",\"\",IF(ISBLANK('Early Years Table'!A79),\"\",'Early Years Table'!A79))","v":340},{"$f":"IF($A79=\"\",\"\",IF(ISBLANK($A79),\"\",INDEX('LEA Nos codes'!$A$3:$A$154,MATCH($A79,'LEA Nos codes'!$B$3:$B$154,0))))","v":"Knowsley"},{"$f":"IF($A79=\"\",\"\",IF(ISBLANK($A79),\"\",VLOOKUP($A79,Data!$A$4:$AI$155,15,FALSE)))","v":0.28899999999999998},{"$f":"IF($A79=\"\",\"\",IF(ISBLANK($A79),\"\",VLOOKUP($A79,Data!$A$4:$AI$155,16,FALSE)))","v":0.29399999999999998},{"$f":"IF($A79=\"\",\"\",IF(ISBLANK($A79),\"\",VLOOKUP($A79,Data!$A$4:$AI$155,17,FALSE)))","v":0.28800000000000003},null,{"$f":"IF($A79=\"\",\"\",IF(ISBLANK($A79),\"\",VLOOKUP($A79,Data!$A$4:$AM$155,39,FALSE)))","v":0.31900000000000001}]
[{"$f":"IF('Early Years Table'!A80=\"\",\"\",IF(ISBLANK('Early Years Table'!A80),\"\",'Early Years Table'!A80))","v":208},{"$f":"IF($A80=\"\",\"\",IF(ISBLANK($A80),\"\",INDEX('LEA Nos codes'!$A$3:$A$154,MATCH($A80,'LEA Nos codes'!$B$3:$B$154,0))))","v":"Lambeth"},{"$f":"IF($A80=\"\",\"\",IF(ISBLANK($A80),\"\",VLOOKUP($A80,Data!$A$4:$AI$155,15,FALSE)))","v":0.33100000000000002},{"$f":"IF($A80=\"\",\"\",IF(ISBLANK($A80),\"\",VLOOKUP($A80,Data!$A$4:$AI$155,16,FALSE)))","v":0.312},{"$f":"IF($A80=\"\",\"\",IF(ISBLANK($A80),\"\",VLOOKUP($A80,Data!$A$4:$AI$155,17,FALSE)))","v":0.28800000000000003},null,{"$f":"IF($A80=\"\",\"\",IF(ISBLANK($A80),\"\",VLOOKUP($A80,Data!$A$4:$AM$155,39,FALSE)))","v":0.39600000000000002}]
[{"$f":"IF('Early Years Table'!A81=\"\",\"\",IF(ISBLANK('Early Years Table'!A81),\"\",'Early Years Table'!A81))","v":888},{"$f":"IF($A81=\"\",\"\",IF(ISBLANK($A81),\"\",INDEX('LEA Nos codes'!$A$3:$A$154,MATCH($A81,'LEA Nos codes'!$B$3:$B$154,0))))","v":"Lancashire"},{"$f":"IF($A81=\"\",\"\",IF(ISBLANK($A81),\"\",VLOOKUP($A81,Data!$A$4:$AI$155,15,FALSE)))","v":0.33299999999999996},{"$f":"IF($A81=\"\",\"\",IF(ISBLANK($A81),\"\",VLOOKUP($A81,Data!$A$4:$AI$155,16,FALSE)))","v":0.32200000000000001},{"$f":"IF($A81=\"\",\"\",IF(ISBLANK($A81),\"\",VLOOKUP($A81,Data!$A$4:$AI$155,17,FALSE)))","v":0.31900000000000001},null,{"$f":"IF($A81=\"\",\"\",IF(ISBLANK($A81),\"\",VLOOKUP($A81,Data!$A$4:$AM$155,39,FALSE)))","v":0.33600000000000002}]
[{"$f":"IF('Early Years Table'!A82=\"\",\"\",IF(ISBLANK('Early Years Table'!A82),\"\",'Early Years Table'!A82))","v":383},{"$f":"IF($A82=\"\",\"\",IF(ISBLANK($A82),\"\",INDEX('LEA Nos codes'!$A$3:$A$154,MATCH($A82,'LEA Nos codes'!$B$3:$B$154,0))))","v":"Leeds"},{"$f":"IF($A82=\"\",\"\",IF(ISBLANK($A82),\"\",VLOOKUP($A82,Data!$A$4:$AI$155,15,FALSE)))","v":0.35700000000000004},{"$f":"IF($A82=\"\",\"\",IF(ISBLANK($A82),\"\",VLOOKUP($A82,Data!$A$4:$AI$155,16,FALSE)))","v":0.35},{"$f":"IF($A82=\"\",\"\",IF(ISBLANK($A82),\"\",VLOOKUP($A82,Data!$A$4:$AI$155,17,FALSE)))","v":0.33600000000000002},null,{"$f":"IF($A82=\"\",\"\",IF(ISBLANK($A82),\"\",VLOOKUP($A82,Data!$A$4:$AM$155,39,FALSE)))","v":0.44600000000000001}]
[{"$f":"IF('Early Years Table'!A83=\"\",\"\",IF(ISBLANK('Early Years Table'!A83),\"\",'Early Years Table'!A83))","v":856},{"$f":"IF($A83=\"\",\"\",IF(ISBLANK($A83),\"\",INDEX('LEA Nos codes'!$A$3:$A$154,MATCH($A83,'LEA Nos codes'!$B$3:$B$154,0))))","v":"Leicester"},{"$f":"IF($A83=\"\",\"\",IF(ISBLANK($A83),\"\",VLOOKUP($A83,Data!$A$4:$AI$155,15,FALSE)))","v":0.35499999999999998},{"$f":"IF($A83=\"\",\"\",IF(ISBLANK($A83),\"\",VLOOKUP($A83,Data!$A$4:$AI$155,16,FALSE)))","v":0.31},{"$f":"IF($A83=\"\",\"\",IF(ISBLANK($A83),\"\",VLOOKUP($A83,Data!$A$4:$AI$155,17,FALSE)))","v":0.31},null,{"$f":"IF($A83=\"\",\"\",IF(ISBLANK($A83),\"\",VLOOKUP($A83,Data!$A$4:$AM$155,39,FALSE)))","v":0.37}]
[{"$f":"IF('Early Years Table'!A84=\"\",\"\",IF(ISBLANK('Early Years Table'!A84),\"\",'Early Years Table'!A84))","v":855},{"$f":"IF($A84=\"\",\"\",IF(ISBLANK($A84),\"\",INDEX('LEA Nos codes'!$A$3:$A$154,MATCH($A84,'LEA Nos codes'!$B$3:$B$154,0))))","v":"Leicestershire"},{"$f":"IF($A84=\"\",\"\",IF(ISBLANK($A84),\"\",VLOOKUP($A84,Data!$A$4:$AI$155,15,FALSE)))","v":0.30399999999999999},{"$f":"IF($A84=\"\",\"\",IF(ISBLANK($A84),\"\",VLOOKUP($A84,Data!$A$4:$AI$155,16,FALSE)))","v":0.28699999999999998},{"$f":"IF($A84=\"\",\"\",IF(ISBLANK($A84),\"\",VLOOKUP($A84,Data!$A$4:$AI$155,17,FALSE)))","v":0.27899999999999997},null,{"$f":"IF($A84=\"\",\"\",IF(ISBLANK($A84),\"\",VLOOKUP($A84,Data!$A$4:$AM$155,39,FALSE)))","v":0.33500000000000002}]
[{"$f":"IF('Early Years Table'!A85=\"\",\"\",IF(ISBLANK('Early Years Table'!A85),\"\",'Early Years Table'!A85))","v":209},{"$f":"IF($A85=\"\",\"\",IF(ISBLANK($A85),\"\",INDEX('LEA Nos codes'!$A$3:$A$154,MATCH($A85,'LEA Nos codes'!$B$3:$B$154,0))))","v":"Lewisham"},{"$f":"IF($A85=\"\",\"\",IF(ISBLANK($A85),\"\",VLOOKUP($A85,Data!$A$4:$AI$155,15,FALSE)))","v":0.32899999999999996},{"$f":"IF($A85=\"\",\"\",IF(ISBLANK($A85),\"\",VLOOKUP($A85,Data!$A$4:$AI$155,16,FALSE)))","v":0.29899999999999999},{"$f":"IF($A85=\"\",\"\",IF(ISBLANK($A85),\"\",VLOOKUP($A85,Data!$A$4:$AI$155,17,FALSE)))","v":0.26100000000000001},null,{"$f":"IF($A85=\"\",\"\",IF(ISBLANK($A85),\"\",VLOOKUP($A85,Data!$A$4:$AM$155,39,FALSE)))","v":0.25}]
[{"$f":"IF('Early Years Table'!A86=\"\",\"\",IF(ISBLANK('Early Years Table'!A86),\"\",'Early Years Table'!A86))","v":925},{"$f":"IF($A86=\"\",\"\",IF(ISBLANK($A86),\"\",INDEX('LEA Nos codes'!$A$3:$A$154,MATCH($A86,'LEA Nos codes'!$B$3:$B$154,0))))","v":"Lincolnshire"},{"$f":"IF($A86=\"\",\"\",IF(ISBLANK($A86),\"\",VLOOKUP($A86,Data!$A$4:$AI$155,15,FALSE)))","v":0.32100000000000001},{"$f":"IF($A86=\"\",\"\",IF(ISBLANK($A86),\"\",VLOOKUP($A86,Data!$A$4:$AI$155,16,FALSE)))","v":0.28699999999999998},{"$f":"IF($A86=\"\",\"\",IF(ISBLANK($A86),\"\",VLOOKUP($A86,Data!$A$4:$AI$155,17,FALSE)))","v":0.27100000000000002},null,{"$f":"IF($A86=\"\",\"\",IF(ISBLANK($A86),\"\",VLOOKUP($A86,Data!$A$4:$AM$155,39,FALSE)))","v":0.29600000000000004}]
[{"$f":"IF('Early Years Table'!A87=\"\",\"\",IF(ISBLANK('Early Years Table'!A87),\"\",'Early Years Table'!A87))","v":341},{"$f":"IF($A87=\"\",\"\",IF(ISBLANK($A87),\"\",INDEX('LEA Nos codes'!$A$3:$A$154,MATCH($A87,'LEA Nos codes'!$B$3:$B$154,0))))","v":"Liverpool"},{"$f":"IF($A87=\"\",\"\",IF(ISBLANK($A87),\"\",VLOOKUP($A87,Data!$A$4:$AI$155,15,FALSE)))","v":0.34200000000000003},{"$f":"IF($A87=\"\",\"\",IF(ISBLANK($A87),\"\",VLOOKUP($A87,Data!$A$4:$AI$155,16,FALSE)))","v":0.32600000000000001},{"$f":"IF($A87=\"\",\"\",IF(ISBLANK($A87),\"\",VLOOKUP($A87,Data!$A$4:$AI$155,17,FALSE)))","v":0.32400000000000001},null,{"$f":"IF($A87=\"\",\"\",IF(ISBLANK($A87),\"\",VLOOKUP($A87,Data!$A$4:$AM$155,39,FALSE)))","v":0.34899999999999998}]
[{"$f":"IF('Early Years Table'!A88=\"\",\"\",IF(ISBLANK('Early Years Table'!A88),\"\",'Early Years Table'!A88))","v":821},{"$f":"IF($A88=\"\",\"\",IF(ISBLANK($A88),\"\",INDEX('LEA Nos codes'!$A$3:$A$154,MATCH($A88,'LEA Nos codes'!$B$3:$B$154,0))))","v":"Luton"},{"$f":"IF($A88=\"\",\"\",IF(ISBLANK($A88),\"\",VLOOKUP($A88,Data!$A$4:$AI$155,15,FALSE)))","v":0.36700000000000005},{"$f":"IF($A88=\"\",\"\",IF(ISBLANK($A88),\"\",VLOOKUP($A88,Data!$A$4:$AI$155,16,FALSE)))","v":0.36},{"$f":"IF($A88=\"\",\"\",IF(ISBLANK($A88),\"\",VLOOKUP($A88,Data!$A$4:$AI$155,17,FALSE)))","v":0.36499999999999999},null,{"$f":"IF($A88=\"\",\"\",IF(ISBLANK($A88),\"\",VLOOKUP($A88,Data!$A$4:$AM$155,39,FALSE)))","v":0.38900000000000001}]
[{"$f":"IF('Early Years Table'!A89=\"\",\"\",IF(ISBLANK('Early Years Table'!A89),\"\",'Early Years Table'!A89))","v":352},{"$f":"IF($A89=\"\",\"\",IF(ISBLANK($A89),\"\",INDEX('LEA Nos codes'!$A$3:$A$154,MATCH($A89,'LEA Nos codes'!$B$3:$B$154,0))))","v":"Manchester"},{"$f":"IF($A89=\"\",\"\",IF(ISBLANK($A89),\"\",VLOOKUP($A89,Data!$A$4:$AI$155,15,FALSE)))","v":0.376},{"$f":"IF($A89=\"\",\"\",IF(ISBLANK($A89),\"\",VLOOKUP($A89,Data!$A$4:$AI$155,16,FALSE)))","v":0.34200000000000003},{"$f":"IF($A89=\"\",\"\",IF(ISBLANK($A89),\"\",VLOOKUP($A89,Data!$A$4:$AI$155,17,FALSE)))","v":0.34399999999999997},null,{"$f":"IF($A89=\"\",\"\",IF(ISBLANK($A89),\"\",VLOOKUP($A89,Data!$A$4:$AM$155,39,FALSE)))","v":0.41100000000000003}]
[{"$f":"IF('Early Years Table'!A90=\"\",\"\",IF(ISBLANK('Early Years Table'!A90),\"\",'Early Years Table'!A90))","v":887},{"$f":"IF($A90=\"\",\"\",IF(ISBLANK($A90),\"\",INDEX('LEA Nos codes'!$A$3:$A$154,MATCH($A90,'LEA Nos codes'!$B$3:$B$154,0))))","v":"Medway"},{"$f":"IF($A90=\"\",\"\",IF(ISBLANK($A90),\"\",VLOOKUP($A90,Data!$A$4:$AI$155,15,FALSE)))","v":0.33100000000000002},{"$f":"IF($A90=\"\",\"\",IF(ISBLANK($A90),\"\",VLOOKUP($A90,Data!$A$4:$AI$155,16,FALSE)))","v":0.312},{"$f":"IF($A90=\"\",\"\",IF(ISBLANK($A90),\"\",VLOOKUP($A90,Data!$A$4:$AI$155,17,FALSE)))","v":0.314},null,{"$f":"IF($A90=\"\",\"\",IF(ISBLANK($A90),\"\",VLOOKUP($A90,Data!$A$4:$AM$155,39,FALSE)))","v":0.33700000000000002}]
[{"$f":"IF('Early Years Table'!A91=\"\",\"\",IF(ISBLANK('Early Years Table'!A91),\"\",'Early Years Table'!A91))","v":315},{"$f":"IF($A91=\"\",\"\",IF(ISBLANK($A91),\"\",INDEX('LEA Nos codes'!$A$3:$A$154,MATCH($A91,'LEA Nos codes'!$B$3:$B$154,0))))","v":"Merton"},{"$f":"IF($A91=\"\",\"\",IF(ISBLANK($A91),\"\",VLOOKUP($A91,Data!$A$4:$AI$155,15,FALSE)))","v":0.28399999999999997},{"$f":"IF($A91=\"\",\"\",IF(ISBLANK($A91),\"\",VLOOKUP($A91,Data!$A$4:$AI$155,16,FALSE)))","v":0.27699999999999997},{"$f":"IF($A91=\"\",\"\",IF(ISBLANK($A91),\"\",VLOOKUP($A91,Data!$A$4:$AI$155,17,FALSE)))","v":0.29600000000000004},null,{"$f":"IF($A91=\"\",\"\",IF(ISBLANK($A91),\"\",VLOOKUP($A91,Data!$A$4:$AM$155,39,FALSE)))","v":0.38900000000000001}]
[{"$f":"IF('Early Years Table'!A92=\"\",\"\",IF(ISBLANK('Early Years Table'!A92),\"\",'Early Years Table'!A92))","v":806},{"$f":"IF($A92=\"\",\"\",IF(ISBLANK($A92),\"\",INDEX('LEA Nos codes'!$A$3:$A$154,MATCH($A92,'LEA Nos codes'!$B$3:$B$154,0))))","v":"Middlesbrough"},{"$f":"IF($A92=\"\",\"\",IF(ISBLANK($A92),\"\",VLOOKUP($A92,Data!$A$4:$AI$155,15,FALSE)))","v":0.37},{"$f":"IF($A92=\"\",\"\",IF(ISBLANK($A92),\"\",VLOOKUP($A92,Data!$A$4:$AI$155,16,FALSE)))","v":0.36799999999999999},{"$f":"IF($A92=\"\",\"\",IF(ISBLANK($A92),\"\",VLOOKUP($A92,Data!$A$4:$AI$155,17,FALSE)))","v":0.375},null,{"$f":"IF($A92=\"\",\"\",IF(ISBLANK($A92),\"\",VLOOKUP($A92,Data!$A$4:$AM$155,39,FALSE)))","v":0.43700000000000006}]
[{"$f":"IF('Early Years Table'!A93=\"\",\"\",IF(ISBLANK('Early Years Table'!A93),\"\",'Early Years Table'!A93))","v":826},{"$f":"IF($A93=\"\",\"\",IF(ISBLANK($A93),\"\",INDEX('LEA Nos codes'!$A$3:$A$154,MATCH($A93,'LEA Nos codes'!$B$3:$B$154,0))))","v":"Milton Keynes"},{"$f":"IF($A93=\"\",\"\",IF(ISBLANK($A93),\"\",VLOOKUP($A93,Data!$A$4:$AI$155,15,FALSE)))","v":0.307},{"$f":"IF($A93=\"\",\"\",IF(ISBLANK($A93),\"\",VLOOKUP($A93,Data!$A$4:$AI$155,16,FALSE)))","v":0.27899999999999997},{"$f":"IF($A93=\"\",\"\",IF(ISBLANK($A93),\"\",VLOOKUP($A93,Data!$A$4:$AI$155,17,FALSE)))","v":0.29799999999999999},null,{"$f":"IF($A93=\"\",\"\",IF(ISBLANK($A93),\"\",VLOOKUP($A93,Data!$A$4:$AM$155,39,FALSE)))","v":0.36200000000000004}]
[{"$f":"IF('Early Years Table'!A94=\"\",\"\",IF(ISBLANK('Early Years Table'!A94),\"\",'Early Years Table'!A94))","v":391},{"$f":"IF($A94=\"\",\"\",IF(ISBLANK($A94),\"\",INDEX('LEA Nos codes'!$A$3:$A$154,MATCH($A94,'LEA Nos codes'!$B$3:$B$154,0))))","v":"Newcastle upon Tyne"},{"$f":"IF($A94=\"\",\"\",IF(ISBLANK($A94),\"\",VLOOKUP($A94,Data!$A$4:$AI$155,15,FALSE)))","v":0.35899999999999999},{"$f":"IF($A94=\"\",\"\",IF(ISBLANK($A94),\"\",VLOOKUP($A94,Data!$A$4:$AI$155,16,FALSE)))","v":0.32400000000000001},{"$f":"IF($A94=\"\",\"\",IF(ISBLANK($A94),\"\",VLOOKUP($A94,Data!$A$4:$AI$155,17,FALSE)))","v":0.30299999999999999},null,{"$f":"IF($A94=\"\",\"\",IF(ISBLANK($A94),\"\",VLOOKUP($A94,Data!$A$4:$AM$155,39,FALSE)))","v":0.371}]
[{"$f":"IF('Early Years Table'!A95=\"\",\"\",IF(ISBLANK('Early Years Table'!A95),\"\",'Early Years Table'!A95))","v":316},{"$f":"IF($A95=\"\",\"\",IF(ISBLANK($A95),\"\",INDEX('LEA Nos codes'!$A$3:$A$154,MATCH($A95,'LEA Nos codes'!$B$3:$B$154,0))))","v":"Newham"},{"$f":"IF($A95=\"\",\"\",IF(ISBLANK($A95),\"\",VLOOKUP($A95,Data!$A$4:$AI$155,15,FALSE)))","v":0.34799999999999998},{"$f":"IF($A95=\"\",\"\",IF(ISBLANK($A95),\"\",VLOOKUP($A95,Data!$A$4:$AI$155,16,FALSE)))","v":0.35200000000000004},{"$f":"IF($A95=\"\",\"\",IF(ISBLANK($A95),\"\",VLOOKUP($A95,Data!$A$4:$AI$155,17,FALSE)))","v":0.311},null,{"$f":"IF($A95=\"\",\"\",IF(ISBLANK($A95),\"\",VLOOKUP($A95,Data!$A$4:$AM$155,39,FALSE)))","v":0.371}]
[{"$f":"IF('Early Years Table'!A96=\"\",\"\",IF(ISBLANK('Early Years Table'!A96),\"\",'Early Years Table'!A96))","v":926},{"$f":"IF($A96=\"\",\"\",IF(ISBLANK($A96),\"\",INDEX('LEA Nos codes'!$A$3:$A$154,MATCH($A96,'LEA Nos codes'!$B$3:$B$154,0))))","v":"Norfolk"},{"$f":"IF($A96=\"\",\"\",IF(ISBLANK($A96),\"\",VLOOKUP($A96,Data!$A$4:$AI$155,15,FALSE)))","v":0.316},{"$f":"IF($A96=\"\",\"\",IF(ISBLANK($A96),\"\",VLOOKUP($A96,Data!$A$4:$AI$155,16,FALSE)))","v":0.307},{"$f":"IF($A96=\"\",\"\",IF(ISBLANK($A96),\"\",VLOOKUP($A96,Data!$A$4:$AI$155,17,FALSE)))","v":0.30399999999999999},null,{"$f":"IF($A96=\"\",\"\",IF(ISBLANK($A96),\"\",VLOOKUP($A96,Data!$A$4:$AM$155,39,FALSE)))","v":0.36399999999999999}]
[{"$f":"IF('Early Years Table'!A97=\"\",\"\",IF(ISBLANK('Early Years Table'!A97),\"\",'Early Years Table'!A97))","v":812},{"$f":"IF($A97=\"\",\"\",IF(ISBLANK($A97),\"\",INDEX('LEA Nos codes'!$A$3:$A$154,MATCH($A97,'LEA Nos codes'!$B$3:$B$154,0))))","v":"North East Lincolnshire"},{"$f":"IF($A97=\"\",\"\",IF(ISBLANK($A97),\"\",VLOOKUP($A97,Data!$A$4:$AI$155,15,FALSE)))","v":0.29199999999999998},{"$f":"IF($A97=\"\",\"\",IF(ISBLANK($A97),\"\",VLOOKUP($A97,Data!$A$4:$AI$155,16,FALSE)))","v":0.29299999999999998},{"$f":"IF($A97=\"\",\"\",IF(ISBLANK($A97),\"\",VLOOKUP($A97,Data!$A$4:$AI$155,17,FALSE)))","v":0.28199999999999997},null,{"$f":"IF($A97=\"\",\"\",IF(ISBLANK($A97),\"\",VLOOKUP($A97,Data!$A$4:$AM$155,39,FALSE)))","v":0.34899999999999998}]
[{"$f":"IF('Early Years Table'!A98=\"\",\"\",IF(ISBLANK('Early Years Table'!A98),\"\",'Early Years Table'!A98))","v":813},{"$f":"IF($A98=\"\",\"\",IF(ISBLANK($A98),\"\",INDEX('LEA Nos codes'!$A$3:$A$154,MATCH($A98,'LEA Nos codes'!$B$3:$B$154,0))))","v":"North Lincolnshire"},{"$f":"IF($A98=\"\",\"\",IF(ISBLANK($A98),\"\",VLOOKUP($A98,Data!$A$4:$AI$155,15,FALSE)))","v":0.32400000000000001},{"$f":"IF($A98=\"\",\"\",IF(ISBLANK($A98),\"\",VLOOKUP($A98,Data!$A$4:$AI$155,16,FALSE)))","v":0.28600000000000003},{"$f":"IF($A98=\"\",\"\",IF(ISBLANK($A98),\"\",VLOOKUP($A98,Data!$A$4:$AI$155,17,FALSE)))","v":0.313},null,{"$f":"IF($A98=\"\",\"\",IF(ISBLANK($A98),\"\",VLOOKUP($A98,Data!$A$4:$AM$155,39,FALSE)))","v":0.35499999999999998}]
[{"$f":"IF('Early Years Table'!A99=\"\",\"\",IF(ISBLANK('Early Years Table'!A99),\"\",'Early Years Table'!A99))","v":802},{"$f":"IF($A99=\"\",\"\",IF(ISBLANK($A99),\"\",INDEX('LEA Nos codes'!$A$3:$A$154,MATCH($A99,'LEA Nos codes'!$B$3:$B$154,0))))","v":"North Somerset"},{"$f":"IF($A99=\"\",\"\",IF(ISBLANK($A99),\"\",VLOOKUP($A99,Data!$A$4:$AI$155,15,FALSE)))","v":0.32299999999999995},{"$f":"IF($A99=\"\",\"\",IF(ISBLANK($A99),\"\",VLOOKUP($A99,Data!$A$4:$AI$155,16,FALSE)))","v":0.28800000000000003},{"$f":"IF($A99=\"\",\"\",IF(ISBLANK($A99),\"\",VLOOKUP($A99,Data!$A$4:$AI$155,17,FALSE)))","v":0.27500000000000002},null,{"$f":"IF($A99=\"\",\"\",IF(ISBLANK($A99),\"\",VLOOKUP($A99,Data!$A$4:$AM$155,39,FALSE)))","v":0.23}]
[{"$f":"IF('Early Years Table'!A100=\"\",\"\",IF(ISBLANK('Early Years Table'!A100),\"\",'Early Years Table'!A100))","v":392},{"$f":"IF($A100=\"\",\"\",IF(ISBLANK($A100),\"\",INDEX('LEA Nos codes'!$A$3:$A$154,MATCH($A100,'LEA Nos codes'!$B$3:$B$154,0))))","v":"North Tyneside"},{"$f":"IF($A100=\"\",\"\",IF(ISBLANK($A100),\"\",VLOOKUP($A100,Data!$A$4:$AI$155,15,FALSE)))","v":0.28699999999999998},{"$f":"IF($A100=\"\",\"\",IF(ISBLANK($A100),\"\",VLOOKUP($A100,Data!$A$4:$AI$155,16,FALSE)))","v":0.29499999999999998},{"$f":"IF($A100=\"\",\"\",IF(ISBLANK($A100),\"\",VLOOKUP($A100,Data!$A$4:$AI$155,17,FALSE)))","v":0.314},null,{"$f":"IF($A100=\"\",\"\",IF(ISBLANK($A100),\"\",VLOOKUP($A100,Data!$A$4:$AM$155,39,FALSE)))","v":0.36499999999999999}]
[{"$f":"IF('Early Years Table'!A101=\"\",\"\",IF(ISBLANK('Early Years Table'!A101),\"\",'Early Years Table'!A101))","v":815},{"$f":"IF($A101=\"\",\"\",IF(ISBLANK($A101),\"\",INDEX('LEA Nos codes'!$A$3:$A$154,MATCH($A101,'LEA Nos codes'!$B$3:$B$154,0))))","v":"North Yorkshire"},{"$f":"IF($A101=\"\",\"\",IF(ISBLANK($A101),\"\",VLOOKUP($A101,Data!$A$4:$AI$155,15,FALSE)))","v":0.3},{"$f":"IF($A101=\"\",\"\",IF(ISBLANK($A101),\"\",VLOOKUP($A101,Data!$A$4:$AI$155,16,FALSE)))","v":0.28800000000000003},{"$f":"IF($A101=\"\",\"\",IF(ISBLANK($A101),\"\",VLOOKUP($A101,Data!$A$4:$AI$155,17,FALSE)))","v":0.28999999999999998},null,{"$f":"IF($A101=\"\",\"\",IF(ISBLANK($A101),\"\",VLOOKUP($A101,Data!$A$4:$AM$155,39,FALSE)))","v":0.33299999999999996}]
[{"$f":"IF('Early Years Table'!A102=\"\",\"\",IF(ISBLANK('Early Years Table'!A102),\"\",'Early Years Table'!A102))","v":928},{"$f":"IF($A102=\"\",\"\",IF(ISBLANK($A102),\"\",INDEX('LEA Nos codes'!$A$3:$A$154,MATCH($A102,'LEA Nos codes'!$B$3:$B$154,0))))","v":"Northamptonshire"},{"$f":"IF($A102=\"\",\"\",IF(ISBLANK($A102),\"\",VLOOKUP($A102,Data!$A$4:$AI$155,15,FALSE)))","v":0.30499999999999999},{"$f":"IF($A102=\"\",\"\",IF(ISBLANK($A102),\"\",VLOOKUP($A102,Data!$A$4:$AI$155,16,FALSE)))","v":0.311},{"$f":"IF($A102=\"\",\"\",IF(ISBLANK($A102),\"\",VLOOKUP($A102,Data!$A$4:$AI$155,17,FALSE)))","v":0.28399999999999997},null,{"$f":"IF($A102=\"\",\"\",IF(ISBLANK($A102),\"\",VLOOKUP($A102,Data!$A$4:$AM$155,39,FALSE)))","v":0.35100000000000003}]
[{"$f":"IF('Early Years Table'!A103=\"\",\"\",IF(ISBLANK('Early Years Table'!A103),\"\",'Early Years Table'!A103))","v":929},{"$f":"IF($A103=\"\",\"\",IF(ISBLANK($A103),\"\",INDEX('LEA Nos codes'!$A$3:$A$154,MATCH($A103,'LEA Nos codes'!$B$3:$B$154,0))))","v":"Northumberland"},{"$f":"IF($A103=\"\",\"\",IF(ISBLANK($A103),\"\",VLOOKUP($A103,Data!$A$4:$AI$155,15,FALSE)))","v":0.318},{"$f":"IF($A103=\"\",\"\",IF(ISBLANK($A103),\"\",VLOOKUP($A103,Data!$A$4:$AI$155,16,FALSE)))","v":0.318},{"$f":"IF($A103=\"\",\"\",IF(ISBLANK($A103),\"\",VLOOKUP($A103,Data!$A$4:$AI$155,17,FALSE)))","v":0.30399999999999999},null,{"$f":"IF($A103=\"\",\"\",IF(ISBLANK($A103),\"\",VLOOKUP($A103,Data!$A$4:$AM$155,39,FALSE)))","v":0.35499999999999998}]
[{"$f":"IF('Early Years Table'!A104=\"\",\"\",IF(ISBLANK('Early Years Table'!A104),\"\",'Early Years Table'!A104))","v":892},{"$f":"IF($A104=\"\",\"\",IF(ISBLANK($A104),\"\",INDEX('LEA Nos codes'!$A$3:$A$154,MATCH($A104,'LEA Nos codes'!$B$3:$B$154,0))))","v":"Nottingham"},{"$f":"IF($A104=\"\",\"\",IF(ISBLANK($A104),\"\",VLOOKUP($A104,Data!$A$4:$AI$155,15,FALSE)))","v":0.33700000000000002},{"$f":"IF($A104=\"\",\"\",IF(ISBLANK($A104),\"\",VLOOKUP($A104,Data!$A$4:$AI$155,16,FALSE)))","v":0.34799999999999998},{"$f":"IF($A104=\"\",\"\",IF(ISBLANK($A104),\"\",VLOOKUP($A104,Data!$A$4:$AI$155,17,FALSE)))","v":0.32700000000000001},null,{"$f":"IF($A104=\"\",\"\",IF(ISBLANK($A104),\"\",VLOOKUP($A104,Data!$A$4:$AM$155,39,FALSE)))","v":0.38700000000000001}]
[{"$f":"IF('Early Years Table'!A105=\"\",\"\",IF(ISBLANK('Early Years Table'!A105),\"\",'Early Years Table'!A105))","v":891},{"$f":"IF($A105=\"\",\"\",IF(ISBLANK($A105),\"\",INDEX('LEA Nos codes'!$A$3:$A$154,MATCH($A105,'LEA Nos codes'!$B$3:$B$154,0))))","v":"Nottinghamshire"},{"$f":"IF($A105=\"\",\"\",IF(ISBLANK($A105),\"\",VLOOKUP($A105,Data!$A$4:$AI$155,15,FALSE)))","v":0.33399999999999996},{"$f":"IF($A105=\"\",\"\",IF(ISBLANK($A105),\"\",VLOOKUP($A105,Data!$A$4:$AI$155,16,FALSE)))","v":0.313},{"$f":"IF($A105=\"\",\"\",IF(ISBLANK($A105),\"\",VLOOKUP($A105,Data!$A$4:$AI$155,17,FALSE)))","v":0.29699999999999999},null,{"$f":"IF($A105=\"\",\"\",IF(ISBLANK($A105),\"\",VLOOKUP($A105,Data!$A$4:$AM$155,39,FALSE)))","v":0.35100000000000003}]
[{"$f":"IF('Early Years Table'!A106=\"\",\"\",IF(ISBLANK('Early Years Table'!A106),\"\",'Early Years Table'!A106))","v":353},{"$f":"IF($A106=\"\",\"\",IF(ISBLANK($A106),\"\",INDEX('LEA Nos codes'!$A$3:$A$154,MATCH($A106,'LEA Nos codes'!$B$3:$B$154,0))))","v":"Oldham"},{"$f":"IF($A106=\"\",\"\",IF(ISBLANK($A106),\"\",VLOOKUP($A106,Data!$A$4:$AI$155,15,FALSE)))","v":0.34600000000000003},{"$f":"IF($A106=\"\",\"\",IF(ISBLANK($A106),\"\",VLOOKUP($A106,Data!$A$4:$AI$155,16,FALSE)))","v":0.37200000000000005},{"$f":"IF($A106=\"\",\"\",IF(ISBLANK($A106),\"\",VLOOKUP($A106,Data!$A$4:$AI$155,17,FALSE)))","v":0.33200000000000002},null,{"$f":"IF($A106=\"\",\"\",IF(ISBLANK($A106),\"\",VLOOKUP($A106,Data!$A$4:$AM$155,39,FALSE)))","v":0.42899999999999999}]
[{"$f":"IF('Early Years Table'!A107=\"\",\"\",IF(ISBLANK('Early Years Table'!A107),\"\",'Early Years Table'!A107))","v":931},{"$f":"IF($A107=\"\",\"\",IF(ISBLANK($A107),\"\",INDEX('LEA Nos codes'!$A$3:$A$154,MATCH($A107,'LEA Nos codes'!$B$3:$B$154,0))))","v":"Oxfordshire"},{"$f":"IF($A107=\"\",\"\",IF(ISBLANK($A107),\"\",VLOOKUP($A107,Data!$A$4:$AI$155,15,FALSE)))","v":0.32100000000000001},{"$f":"IF($A107=\"\",\"\",IF(ISBLANK($A107),\"\",VLOOKUP($A107,Data!$A$4:$AI$155,16,FALSE)))","v":0.28899999999999998},{"$f":"IF($A107=\"\",\"\",IF(ISBLANK($A107),\"\",VLOOKUP($A107,Data!$A$4:$AI$155,17,FALSE)))","v":0.27399999999999997},null,{"$f":"IF($A107=\"\",\"\",IF(ISBLANK($A107),\"\",VLOOKUP($A107,Data!$A$4:$AM$155,39,FALSE)))","v":0.33}]
[{"$f":"IF('Early Years Table'!A108=\"\",\"\",IF(ISBLANK('Early Years Table'!A108),\"\",'Early Years Table'!A108))","v":874},{"$f":"IF($A108=\"\",\"\",IF(ISBLANK($A108),\"\",INDEX('LEA Nos codes'!$A$3:$A$154,MATCH($A108,'LEA Nos codes'!$B$3:$B$154,0))))","v":"Peterborough"},{"$f":"IF($A108=\"\",\"\",IF(ISBLANK($A108),\"\",VLOOKUP($A108,Data!$A$4:$AI$155,15,FALSE)))","v":0.34899999999999998},{"$f":"IF($A108=\"\",\"\",IF(ISBLANK($A108),\"\",VLOOKUP($A108,Data!$A$4:$AI$155,16,FALSE)))","v":0.34399999999999997},{"$f":"IF($A108=\"\",\"\",IF(ISBLANK($A108),\"\",VLOOKUP($A108,Data!$A$4:$AI$155,17,FALSE)))","v":0.36},null,{"$f":"IF($A108=\"\",\"\",IF(ISBLANK($A108),\"\",VLOOKUP($A108,Data!$A$4:$AM$155,39,FALSE)))","v":0.42700000000000005}]
[{"$f":"IF('Early Years Table'!A109=\"\",\"\",IF(ISBLANK('Early Years Table'!A109),\"\",'Early Years Table'!A109))","v":879},{"$f":"IF($A109=\"\",\"\",IF(ISBLANK($A109),\"\",INDEX('LEA Nos codes'!$A$3:$A$154,MATCH($A109,'LEA Nos codes'!$B$3:$B$154,0))))","v":"Plymouth"},{"$f":"IF($A109=\"\",\"\",IF(ISBLANK($A109),\"\",VLOOKUP($A109,Data!$A$4:$AI$155,15,FALSE)))","v":0.30199999999999999},{"$f":"IF($A109=\"\",\"\",IF(ISBLANK($A109),\"\",VLOOKUP($A109,Data!$A$4:$AI$155,16,FALSE)))","v":0.309},{"$f":"IF($A109=\"\",\"\",IF(ISBLANK($A109),\"\",VLOOKUP($A109,Data!$A$4:$AI$155,17,FALSE)))","v":0.29600000000000004},null,{"$f":"IF($A109=\"\",\"\",IF(ISBLANK($A109),\"\",VLOOKUP($A109,Data!$A$4:$AM$155,39,FALSE)))","v":0.33100000000000002}]
[{"$f":"IF('Early Years Table'!A110=\"\",\"\",IF(ISBLANK('Early Years Table'!A110),\"\",'Early Years Table'!A110))","v":836},{"$f":"IF($A110=\"\",\"\",IF(ISBLANK($A110),\"\",INDEX('LEA Nos codes'!$A$3:$A$154,MATCH($A110,'LEA Nos codes'!$B$3:$B$154,0))))","v":"Poole"},{"$f":"IF($A110=\"\",\"\",IF(ISBLANK($A110),\"\",VLOOKUP($A110,Data!$A$4:$AI$155,15,FALSE)))","v":0.318},{"$f":"IF($A110=\"\",\"\",IF(ISBLANK($A110),\"\",VLOOKUP($A110,Data!$A$4:$AI$155,16,FALSE)))","v":0.28699999999999998},{"$f":"IF($A110=\"\",\"\",IF(ISBLANK($A110),\"\",VLOOKUP($A110,Data!$A$4:$AI$155,17,FALSE)))","v":0.27500000000000002},null,{"$f":"IF($A110=\"\",\"\",IF(ISBLANK($A110),\"\",VLOOKUP($A110,Data!$A$4:$AM$155,39,FALSE)))","v":0.307}]
[{"$f":"IF('Early Years Table'!A111=\"\",\"\",IF(ISBLANK('Early Years Table'!A111),\"\",'Early Years Table'!A111))","v":851},{"$f":"IF($A111=\"\",\"\",IF(ISBLANK($A111),\"\",INDEX('LEA Nos codes'!$A$3:$A$154,MATCH($A111,'LEA Nos codes'!$B$3:$B$154,0))))","v":"Portsmouth"},{"$f":"IF($A111=\"\",\"\",IF(ISBLANK($A111),\"\",VLOOKUP($A111,Data!$A$4:$AI$155,15,FALSE)))","v":0.33399999999999996},{"$f":"IF($A111=\"\",\"\",IF(ISBLANK($A111),\"\",VLOOKUP($A111,Data!$A$4:$AI$155,16,FALSE)))","v":0.30099999999999999},{"$f":"IF($A111=\"\",\"\",IF(ISBLANK($A111),\"\",VLOOKUP($A111,Data!$A$4:$AI$155,17,FALSE)))","v":0.30299999999999999},null,{"$f":"IF($A111=\"\",\"\",IF(ISBLANK($A111),\"\",VLOOKUP($A111,Data!$A$4:$AM$155,39,FALSE)))","v":0.30099999999999999}]
[{"$f":"IF('Early Years Table'!A112=\"\",\"\",IF(ISBLANK('Early Years Table'!A112),\"\",'Early Years Table'!A112))","v":870},{"$f":"IF($A112=\"\",\"\",IF(ISBLANK($A112),\"\",INDEX('LEA Nos codes'!$A$3:$A$154,MATCH($A112,'LEA Nos codes'!$B$3:$B$154,0))))","v":"Reading"},{"$f":"IF($A112=\"\",\"\",IF(ISBLANK($A112),\"\",VLOOKUP($A112,Data!$A$4:$AI$155,15,FALSE)))","v":0.35799999999999998},{"$f":"IF($A112=\"\",\"\",IF(ISBLANK($A112),\"\",VLOOKUP($A112,Data!$A$4:$AI$155,16,FALSE)))","v":0.32899999999999996},{"$f":"IF($A112=\"\",\"\",IF(ISBLANK($A112),\"\",VLOOKUP($A112,Data!$A$4:$AI$155,17,FALSE)))","v":0.29699999999999999},null,{"$f":"IF($A112=\"\",\"\",IF(ISBLANK($A112),\"\",VLOOKUP($A112,Data!$A$4:$AM$155,39,FALSE)))","v":0.33299999999999996}]
[{"$f":"IF('Early Years Table'!A113=\"\",\"\",IF(ISBLANK('Early Years Table'!A113),\"\",'Early Years Table'!A113))","v":317},{"$f":"IF($A113=\"\",\"\",IF(ISBLANK($A113),\"\",INDEX('LEA Nos codes'!$A$3:$A$154,MATCH($A113,'LEA Nos codes'!$B$3:$B$154,0))))","v":"Redbridge"},{"$f":"IF($A113=\"\",\"\",IF(ISBLANK($A113),\"\",VLOOKUP($A113,Data!$A$4:$AI$155,15,FALSE)))","v":0.33399999999999996},{"$f":"IF($A113=\"\",\"\",IF(ISBLANK($A113),\"\",VLOOKUP($A113,Data!$A$4:$AI$155,16,FALSE)))","v":0.318},{"$f":"IF($A113=\"\",\"\",IF(ISBLANK($A113),\"\",VLOOKUP($A113,Data!$A$4:$AI$155,17,FALSE)))","v":0.32799999999999996},null,{"$f":"IF($A113=\"\",\"\",IF(ISBLANK($A113),\"\",VLOOKUP($A113,Data!$A$4:$AM$155,39,FALSE)))","v":0.32}]
[{"$f":"IF('Early Years Table'!A114=\"\",\"\",IF(ISBLANK('Early Years Table'!A114),\"\",'Early Years Table'!A114))","v":807},{"$f":"IF($A114=\"\",\"\",IF(ISBLANK($A114),\"\",INDEX('LEA Nos codes'!$A$3:$A$154,MATCH($A114,'LEA Nos codes'!$B$3:$B$154,0))))","v":"Redcar and Cleveland"},{"$f":"IF($A114=\"\",\"\",IF(ISBLANK($A114),\"\",VLOOKUP($A114,Data!$A$4:$AI$155,15,FALSE)))","v":0.318},{"$f":"IF($A114=\"\",\"\",IF(ISBLANK($A114),\"\",VLOOKUP($A114,Data!$A$4:$AI$155,16,FALSE)))","v":0.30599999999999999},{"$f":"IF($A114=\"\",\"\",IF(ISBLANK($A114),\"\",VLOOKUP($A114,Data!$A$4:$AI$155,17,FALSE)))","v":0.29600000000000004},null,{"$f":"IF($A114=\"\",\"\",IF(ISBLANK($A114),\"\",VLOOKUP($A114,Data!$A$4:$AM$155,39,FALSE)))","v":0.39899999999999997}]
[{"$f":"IF('Early Years Table'!A115=\"\",\"\",IF(ISBLANK('Early Years Table'!A115),\"\",'Early Years Table'!A115))","v":318},{"$f":"IF($A115=\"\",\"\",IF(ISBLANK($A115),\"\",INDEX('LEA Nos codes'!$A$3:$A$154,MATCH($A115,'LEA Nos codes'!$B$3:$B$154,0))))","v":"Richmond upon Thames"},{"$f":"IF($A115=\"\",\"\",IF(ISBLANK($A115),\"\",VLOOKUP($A115,Data!$A$4:$AI$155,15,FALSE)))","v":0.24299999999999999},{"$f":"IF($A115=\"\",\"\",IF(ISBLANK($A115),\"\",VLOOKUP($A115,Data!$A$4:$AI$155,16,FALSE)))","v":0.26700000000000002},{"$f":"IF($A115=\"\",\"\",IF(ISBLANK($A115),\"\",VLOOKUP($A115,Data!$A$4:$AI$155,17,FALSE)))","v":0.26100000000000001},null,{"$f":"IF($A115=\"\",\"\",IF(ISBLANK($A115),\"\",VLOOKUP($A115,Data!$A$4:$AM$155,39,FALSE)))","v":0.29600000000000004}]
[{"$f":"IF('Early Years Table'!A116=\"\",\"\",IF(ISBLANK('Early Years Table'!A116),\"\",'Early Years Table'!A116))","v":354},{"$f":"IF($A116=\"\",\"\",IF(ISBLANK($A116),\"\",INDEX('LEA Nos codes'!$A$3:$A$154,MATCH($A116,'LEA Nos codes'!$B$3:$B$154,0))))","v":"Rochdale"},{"$f":"IF($A116=\"\",\"\",IF(ISBLANK($A116),\"\",VLOOKUP($A116,Data!$A$4:$AI$155,15,FALSE)))","v":0.34799999999999998},{"$f":"IF($A116=\"\",\"\",IF(ISBLANK($A116),\"\",VLOOKUP($A116,Data!$A$4:$AI$155,16,FALSE)))","v":0.34100000000000003},{"$f":"IF($A116=\"\",\"\",IF(ISBLANK($A116),\"\",VLOOKUP($A116,Data!$A$4:$AI$155,17,FALSE)))","v":0.316},null,{"$f":"IF($A116=\"\",\"\",IF(ISBLANK($A116),\"\",VLOOKUP($A116,Data!$A$4:$AM$155,39,FALSE)))","v":0.41}]
[{"$f":"IF('Early Years Table'!A117=\"\",\"\",IF(ISBLANK('Early Years Table'!A117),\"\",'Early Years Table'!A117))","v":372},{"$f":"IF($A117=\"\",\"\",IF(ISBLANK($A117),\"\",INDEX('LEA Nos codes'!$A$3:$A$154,MATCH($A117,'LEA Nos codes'!$B$3:$B$154,0))))","v":"Rotherham"},{"$f":"IF($A117=\"\",\"\",IF(ISBLANK($A117),\"\",VLOOKUP($A117,Data!$A$4:$AI$155,15,FALSE)))","v":0.33700000000000002},{"$f":"IF($A117=\"\",\"\",IF(ISBLANK($A117),\"\",VLOOKUP($A117,Data!$A$4:$AI$155,16,FALSE)))","v":0.33299999999999996},{"$f":"IF($A117=\"\",\"\",IF(ISBLANK($A117),\"\",VLOOKUP($A117,Data!$A$4:$AI$155,17,FALSE)))","v":0.30599999999999999},null,{"$f":"IF($A117=\"\",\"\",IF(ISBLANK($A117),\"\",VLOOKUP($A117,Data!$A$4:$AM$155,39,FALSE)))","v":0.35700000000000004}]
[{"$f":"IF('Early Years Table'!A118=\"\",\"\",IF(ISBLANK('Early Years Table'!A118),\"\",'Early Years Table'!A118))","v":857},{"$f":"IF($A118=\"\",\"\",IF(ISBLANK($A118),\"\",INDEX('LEA Nos codes'!$A$3:$A$154,MATCH($A118,'LEA Nos codes'!$B$3:$B$154,0))))","v":"Rutland"},{"$f":"IF($A118=\"\",\"\",IF(ISBLANK($A118),\"\",VLOOKUP($A118,Data!$A$4:$AI$155,15,FALSE)))","v":0.29799999999999999},{"$f":"IF($A118=\"\",\"\",IF(ISBLANK($A118),\"\",VLOOKUP($A118,Data!$A$4:$AI$155,16,FALSE)))","v":0.28000000000000003},{"$f":"IF($A118=\"\",\"\",IF(ISBLANK($A118),\"\",VLOOKUP($A118,Data!$A$4:$AI$155,17,FALSE)))","v":0.254},null,{"$f":"IF($A118=\"\",\"\",IF(ISBLANK($A118),\"\",VLOOKUP($A118,Data!$A$4:$AM$155,39,FALSE)))","v":0.24100000000000002}]
[{"$f":"IF('Early Years Table'!A119=\"\",\"\",IF(ISBLANK('Early Years Table'!A119),\"\",'Early Years Table'!A119))","v":355},{"$f":"IF($A119=\"\",\"\",IF(ISBLANK($A119),\"\",INDEX('LEA Nos codes'!$A$3:$A$154,MATCH($A119,'LEA Nos codes'!$B$3:$B$154,0))))","v":"Salford"},{"$f":"IF($A119=\"\",\"\",IF(ISBLANK($A119),\"\",VLOOKUP($A119,Data!$A$4:$AI$155,15,FALSE)))","v":0.33},{"$f":"IF($A119=\"\",\"\",IF(ISBLANK($A119),\"\",VLOOKUP($A119,Data!$A$4:$AI$155,16,FALSE)))","v":0.32600000000000001},{"$f":"IF($A119=\"\",\"\",IF(ISBLANK($A119),\"\",VLOOKUP($A119,Data!$A$4:$AI$155,17,FALSE)))","v":0.314},null,{"$f":"IF($A119=\"\",\"\",IF(ISBLANK($A119),\"\",VLOOKUP($A119,Data!$A$4:$AM$155,39,FALSE)))","v":0.35200000000000004}]
[{"$f":"IF('Early Years Table'!A120=\"\",\"\",IF(ISBLANK('Early Years Table'!A120),\"\",'Early Years Table'!A120))","v":333},{"$f":"IF($A120=\"\",\"\",IF(ISBLANK($A120),\"\",INDEX('LEA Nos codes'!$A$3:$A$154,MATCH($A120,'LEA Nos codes'!$B$3:$B$154,0))))","v":"Sandwell"},{"$f":"IF($A120=\"\",\"\",IF(ISBLANK($A120),\"\",VLOOKUP($A120,Data!$A$4:$AI$155,15,FALSE)))","v":0.36599999999999999},{"$f":"IF($A120=\"\",\"\",IF(ISBLANK($A120),\"\",VLOOKUP($A120,Data!$A$4:$AI$155,16,FALSE)))","v":0.35200000000000004},{"$f":"IF($A120=\"\",\"\",IF(ISBLANK($A120),\"\",VLOOKUP($A120,Data!$A$4:$AI$155,17,FALSE)))","v":0.32600000000000001},null,{"$f":"IF($A120=\"\",\"\",IF(ISBLANK($A120),\"\",VLOOKUP($A120,Data!$A$4:$AM$155,39,FALSE)))","v":0.39700000000000002}]
[{"$f":"IF('Early Years Table'!A121=\"\",\"\",IF(ISBLANK('Early Years Table'!A121),\"\",'Early Years Table'!A121))","v":343},{"$f":"IF($A121=\"\",\"\",IF(ISBLANK($A121),\"\",INDEX('LEA Nos codes'!$A$3:$A$154,MATCH($A121,'LEA Nos codes'!$B$3:$B$154,0))))","v":"Sefton"},{"$f":"IF($A121=\"\",\"\",IF(ISBLANK($A121),\"\",VLOOKUP($A121,Data!$A$4:$AI$155,15,FALSE)))","v":0.3},{"$f":"IF($A121=\"\",\"\",IF(ISBLANK($A121),\"\",VLOOKUP($A121,Data!$A$4:$AI$155,16,FALSE)))","v":0.29600000000000004},{"$f":"IF($A121=\"\",\"\",IF(ISBLANK($A121),\"\",VLOOKUP($A121,Data!$A$4:$AI$155,17,FALSE)))","v":0.27500000000000002},null,{"$f":"IF($A121=\"\",\"\",IF(ISBLANK($A121),\"\",VLOOKUP($A121,Data!$A$4:$AM$155,39,FALSE)))","v":0.317}]
[{"$f":"IF('Early Years Table'!A122=\"\",\"\",IF(ISBLANK('Early Years Table'!A122),\"\",'Early Years Table'!A122))","v":373},{"$f":"IF($A122=\"\",\"\",IF(ISBLANK($A122),\"\",INDEX('LEA Nos codes'!$A$3:$A$154,MATCH($A122,'LEA Nos codes'!$B$3:$B$154,0))))","v":"Sheffield"},{"$f":"IF($A122=\"\",\"\",IF(ISBLANK($A122),\"\",VLOOKUP($A122,Data!$A$4:$AI$155,15,FALSE)))","v":0.376},{"$f":"IF($A122=\"\",\"\",IF(ISBLANK($A122),\"\",VLOOKUP($A122,Data!$A$4:$AI$155,16,FALSE)))","v":0.35399999999999998},{"$f":"IF($A122=\"\",\"\",IF(ISBLANK($A122),\"\",VLOOKUP($A122,Data!$A$4:$AI$155,17,FALSE)))","v":0.34},null,{"$f":"IF($A122=\"\",\"\",IF(ISBLANK($A122),\"\",VLOOKUP($A122,Data!$A$4:$AM$155,39,FALSE)))","v":0.41299999999999998}]
[{"$f":"IF('Early Years Table'!A123=\"\",\"\",IF(ISBLANK('Early Years Table'!A123),\"\",'Early Years Table'!A123))","v":893},{"$f":"IF($A123=\"\",\"\",IF(ISBLANK($A123),\"\",INDEX('LEA Nos codes'!$A$3:$A$154,MATCH($A123,'LEA Nos codes'!$B$3:$B$154,0))))","v":"Shropshire"},{"$f":"IF($A123=\"\",\"\",IF(ISBLANK($A123),\"\",VLOOKUP($A123,Data!$A$4:$AI$155,15,FALSE)))","v":0.28600000000000003},{"$f":"IF($A123=\"\",\"\",IF(ISBLANK($A123),\"\",VLOOKUP($A123,Data!$A$4:$AI$155,16,FALSE)))","v":0.29299999999999998},{"$f":"IF($A123=\"\",\"\",IF(ISBLANK($A123),\"\",VLOOKUP($A123,Data!$A$4:$AI$155,17,FALSE)))","v":0.27300000000000002},null,{"$f":"IF($A123=\"\",\"\",IF(ISBLANK($A123),\"\",VLOOKUP($A123,Data!$A$4:$AM$155,39,FALSE)))","v":0.30299999999999999}]
[{"$f":"IF('Early Years Table'!A124=\"\",\"\",IF(ISBLANK('Early Years Table'!A124),\"\",'Early Years Table'!A124))","v":871},{"$f":"IF($A124=\"\",\"\",IF(ISBLANK($A124),\"\",INDEX('LEA Nos codes'!$A$3:$A$154,MATCH($A124,'LEA Nos codes'!$B$3:$B$154,0))))","v":"Slough"},{"$f":"IF($A124=\"\",\"\",IF(ISBLANK($A124),\"\",VLOOKUP($A124,Data!$A$4:$AI$155,15,FALSE)))","v":0.35799999999999998},{"$f":"IF($A124=\"\",\"\",IF(ISBLANK($A124),\"\",VLOOKUP($A124,Data!$A$4:$AI$155,16,FALSE)))","v":0.29899999999999999},{"$f":"IF($A124=\"\",\"\",IF(ISBLANK($A124),\"\",VLOOKUP($A124,Data!$A$4:$AI$155,17,FALSE)))","v":0.29899999999999999},null,{"$f":"IF($A124=\"\",\"\",IF(ISBLANK($A124),\"\",VLOOKUP($A124,Data!$A$4:$AM$155,39,FALSE)))","v":0.371}]
[{"$f":"IF('Early Years Table'!A125=\"\",\"\",IF(ISBLANK('Early Years Table'!A125),\"\",'Early Years Table'!A125))","v":334},{"$f":"IF($A125=\"\",\"\",IF(ISBLANK($A125),\"\",INDEX('LEA Nos codes'!$A$3:$A$154,MATCH($A125,'LEA Nos codes'!$B$3:$B$154,0))))","v":"Solihull"},{"$f":"IF($A125=\"\",\"\",IF(ISBLANK($A125),\"\",VLOOKUP($A125,Data!$A$4:$AI$155,15,FALSE)))","v":0.28199999999999997},{"$f":"IF($A125=\"\",\"\",IF(ISBLANK($A125),\"\",VLOOKUP($A125,Data!$A$4:$AI$155,16,FALSE)))","v":0.311},{"$f":"IF($A125=\"\",\"\",IF(ISBLANK($A125),\"\",VLOOKUP($A125,Data!$A$4:$AI$155,17,FALSE)))","v":0.30199999999999999},null,{"$f":"IF($A125=\"\",\"\",IF(ISBLANK($A125),\"\",VLOOKUP($A125,Data!$A$4:$AM$155,39,FALSE)))","v":0.38900000000000001}]
[{"$f":"IF('Early Years Table'!A126=\"\",\"\",IF(ISBLANK('Early Years Table'!A126),\"\",'Early Years Table'!A126))","v":933},{"$f":"IF($A126=\"\",\"\",IF(ISBLANK($A126),\"\",INDEX('LEA Nos codes'!$A$3:$A$154,MATCH($A126,'LEA Nos codes'!$B$3:$B$154,0))))","v":"Somerset"},{"$f":"IF($A126=\"\",\"\",IF(ISBLANK($A126),\"\",VLOOKUP($A126,Data!$A$4:$AI$155,15,FALSE)))","v":0.29600000000000004},{"$f":"IF($A126=\"\",\"\",IF(ISBLANK($A126),\"\",VLOOKUP($A126,Data!$A$4:$AI$155,16,FALSE)))","v":0.30199999999999999},{"$f":"IF($A126=\"\",\"\",IF(ISBLANK($A126),\"\",VLOOKUP($A126,Data!$A$4:$AI$155,17,FALSE)))","v":0.29199999999999998},null,{"$f":"IF($A126=\"\",\"\",IF(ISBLANK($A126),\"\",VLOOKUP($A126,Data!$A$4:$AM$155,39,FALSE)))","v":0.33600000000000002}]
[{"$f":"IF('Early Years Table'!A127=\"\",\"\",IF(ISBLANK('Early Years Table'!A127),\"\",'Early Years Table'!A127))","v":803},{"$f":"IF($A127=\"\",\"\",IF(ISBLANK($A127),\"\",INDEX('LEA Nos codes'!$A$3:$A$154,MATCH($A127,'LEA Nos codes'!$B$3:$B$154,0))))","v":"South Gloucestershire"},{"$f":"IF($A127=\"\",\"\",IF(ISBLANK($A127),\"\",VLOOKUP($A127,Data!$A$4:$AI$155,15,FALSE)))","v":0.28199999999999997},{"$f":"IF($A127=\"\",\"\",IF(ISBLANK($A127),\"\",VLOOKUP($A127,Data!$A$4:$AI$155,16,FALSE)))","v":0.26600000000000001},{"$f":"IF($A127=\"\",\"\",IF(ISBLANK($A127),\"\",VLOOKUP($A127,Data!$A$4:$AI$155,17,FALSE)))","v":0.26300000000000001},null,{"$f":"IF($A127=\"\",\"\",IF(ISBLANK($A127),\"\",VLOOKUP($A127,Data!$A$4:$AM$155,39,FALSE)))","v":0.27500000000000002}]
[{"$f":"IF('Early Years Table'!A128=\"\",\"\",IF(ISBLANK('Early Years Table'!A128),\"\",'Early Years Table'!A128))","v":393},{"$f":"IF($A128=\"\",\"\",IF(ISBLANK($A128),\"\",INDEX('LEA Nos codes'!$A$3:$A$154,MATCH($A128,'LEA Nos codes'!$B$3:$B$154,0))))","v":"South Tyneside"},{"$f":"IF($A128=\"\",\"\",IF(ISBLANK($A128),\"\",VLOOKUP($A128,Data!$A$4:$AI$155,15,FALSE)))","v":0.32600000000000001},{"$f":"IF($A128=\"\",\"\",IF(ISBLANK($A128),\"\",VLOOKUP($A128,Data!$A$4:$AI$155,16,FALSE)))","v":0.32299999999999995},{"$f":"IF($A128=\"\",\"\",IF(ISBLANK($A128),\"\",VLOOKUP($A128,Data!$A$4:$AI$155,17,FALSE)))","v":0.313},null,{"$f":"IF($A128=\"\",\"\",IF(ISBLANK($A128),\"\",VLOOKUP($A128,Data!$A$4:$AM$155,39,FALSE)))","v":0.36399999999999999}]
[{"$f":"IF('Early Years Table'!A129=\"\",\"\",IF(ISBLANK('Early Years Table'!A129),\"\",'Early Years Table'!A129))","v":852},{"$f":"IF($A129=\"\",\"\",IF(ISBLANK($A129),\"\",INDEX('LEA Nos codes'!$A$3:$A$154,MATCH($A129,'LEA Nos codes'!$B$3:$B$154,0))))","v":"Southampton"},{"$f":"IF($A129=\"\",\"\",IF(ISBLANK($A129),\"\",VLOOKUP($A129,Data!$A$4:$AI$155,15,FALSE)))","v":0.34499999999999997},{"$f":"IF($A129=\"\",\"\",IF(ISBLANK($A129),\"\",VLOOKUP($A129,Data!$A$4:$AI$155,16,FALSE)))","v":0.33700000000000002},{"$f":"IF($A129=\"\",\"\",IF(ISBLANK($A129),\"\",VLOOKUP($A129,Data!$A$4:$AI$155,17,FALSE)))","v":0.312},null,{"$f":"IF($A129=\"\",\"\",IF(ISBLANK($A129),\"\",VLOOKUP($A129,Data!$A$4:$AM$155,39,FALSE)))","v":0.35899999999999999}]
[{"$f":"IF('Early Years Table'!A130=\"\",\"\",IF(ISBLANK('Early Years Table'!A130),\"\",'Early Years Table'!A130))","v":882},{"$f":"IF($A130=\"\",\"\",IF(ISBLANK($A130),\"\",INDEX('LEA Nos codes'!$A$3:$A$154,MATCH($A130,'LEA Nos codes'!$B$3:$B$154,0))))","v":"Southend-on-Sea"},{"$f":"IF($A130=\"\",\"\",IF(ISBLANK($A130),\"\",VLOOKUP($A130,Data!$A$4:$AI$155,15,FALSE)))","v":0.29699999999999999},{"$f":"IF($A130=\"\",\"\",IF(ISBLANK($A130),\"\",VLOOKUP($A130,Data!$A$4:$AI$155,16,FALSE)))","v":0.28899999999999998},{"$f":"IF($A130=\"\",\"\",IF(ISBLANK($A130),\"\",VLOOKUP($A130,Data!$A$4:$AI$155,17,FALSE)))","v":0.28899999999999998},null,{"$f":"IF($A130=\"\",\"\",IF(ISBLANK($A130),\"\",VLOOKUP($A130,Data!$A$4:$AM$155,39,FALSE)))","v":0.373}]
[{"$f":"IF('Early Years Table'!A131=\"\",\"\",IF(ISBLANK('Early Years Table'!A131),\"\",'Early Years Table'!A131))","v":210},{"$f":"IF($A131=\"\",\"\",IF(ISBLANK($A131),\"\",INDEX('LEA Nos codes'!$A$3:$A$154,MATCH($A131,'LEA Nos codes'!$B$3:$B$154,0))))","v":"Southwark"},{"$f":"IF($A131=\"\",\"\",IF(ISBLANK($A131),\"\",VLOOKUP($A131,Data!$A$4:$AI$155,15,FALSE)))","v":0.32100000000000001},{"$f":"IF($A131=\"\",\"\",IF(ISBLANK($A131),\"\",VLOOKUP($A131,Data!$A$4:$AI$155,16,FALSE)))","v":0.308},{"$f":"IF($A131=\"\",\"\",IF(ISBLANK($A131),\"\",VLOOKUP($A131,Data!$A$4:$AI$155,17,FALSE)))","v":0.29899999999999999},null,{"$f":"IF($A131=\"\",\"\",IF(ISBLANK($A131),\"\",VLOOKUP($A131,Data!$A$4:$AM$155,39,FALSE)))","v":0.33200000000000002}]
[{"$f":"IF('Early Years Table'!A132=\"\",\"\",IF(ISBLANK('Early Years Table'!A132),\"\",'Early Years Table'!A132))","v":342},{"$f":"IF($A132=\"\",\"\",IF(ISBLANK($A132),\"\",INDEX('LEA Nos codes'!$A$3:$A$154,MATCH($A132,'LEA Nos codes'!$B$3:$B$154,0))))","v":"St. Helens"},{"$f":"IF($A132=\"\",\"\",IF(ISBLANK($A132),\"\",VLOOKUP($A132,Data!$A$4:$AI$155,15,FALSE)))","v":0.313},{"$f":"IF($A132=\"\",\"\",IF(ISBLANK($A132),\"\",VLOOKUP($A132,Data!$A$4:$AI$155,16,FALSE)))","v":0.311},{"$f":"IF($A132=\"\",\"\",IF(ISBLANK($A132),\"\",VLOOKUP($A132,Data!$A$4:$AI$155,17,FALSE)))","v":0.28800000000000003},null,{"$f":"IF($A132=\"\",\"\",IF(ISBLANK($A132),\"\",VLOOKUP($A132,Data!$A$4:$AM$155,39,FALSE)))","v":0.38600000000000001}]
[{"$f":"IF('Early Years Table'!A133=\"\",\"\",IF(ISBLANK('Early Years Table'!A133),\"\",'Early Years Table'!A133))","v":860},{"$f":"IF($A133=\"\",\"\",IF(ISBLANK($A133),\"\",INDEX('LEA Nos codes'!$A$3:$A$154,MATCH($A133,'LEA Nos codes'!$B$3:$B$154,0))))","v":"Staffordshire"},{"$f":"IF($A133=\"\",\"\",IF(ISBLANK($A133),\"\",VLOOKUP($A133,Data!$A$4:$AI$155,15,FALSE)))","v":0.29399999999999998},{"$f":"IF($A133=\"\",\"\",IF(ISBLANK($A133),\"\",VLOOKUP($A133,Data!$A$4:$AI$155,16,FALSE)))","v":0.28999999999999998},{"$f":"IF($A133=\"\",\"\",IF(ISBLANK($A133),\"\",VLOOKUP($A133,Data!$A$4:$AI$155,17,FALSE)))","v":0.27},null,{"$f":"IF($A133=\"\",\"\",IF(ISBLANK($A133),\"\",VLOOKUP($A133,Data!$A$4:$AM$155,39,FALSE)))","v":0.35700000000000004}]
[{"$f":"IF('Early Years Table'!A134=\"\",\"\",IF(ISBLANK('Early Years Table'!A134),\"\",'Early Years Table'!A134))","v":356},{"$f":"IF($A134=\"\",\"\",IF(ISBLANK($A134),\"\",INDEX('LEA Nos codes'!$A$3:$A$154,MATCH($A134,'LEA Nos codes'!$B$3:$B$154,0))))","v":"Stockport"},{"$f":"IF($A134=\"\",\"\",IF(ISBLANK($A134),\"\",VLOOKUP($A134,Data!$A$4:$AI$155,15,FALSE)))","v":0.30399999999999999},{"$f":"IF($A134=\"\",\"\",IF(ISBLANK($A134),\"\",VLOOKUP($A134,Data!$A$4:$AI$155,16,FALSE)))","v":0.30399999999999999},{"$f":"IF($A134=\"\",\"\",IF(ISBLANK($A134),\"\",VLOOKUP($A134,Data!$A$4:$AI$155,17,FALSE)))","v":0.28399999999999997},null,{"$f":"IF($A134=\"\",\"\",IF(ISBLANK($A134),\"\",VLOOKUP($A134,Data!$A$4:$AM$155,39,FALSE)))","v":0.34299999999999997}]
[{"$f":"IF('Early Years Table'!A135=\"\",\"\",IF(ISBLANK('Early Years Table'!A135),\"\",'Early Years Table'!A135))","v":808},{"$f":"IF($A135=\"\",\"\",IF(ISBLANK($A135),\"\",INDEX('LEA Nos codes'!$A$3:$A$154,MATCH($A135,'LEA Nos codes'!$B$3:$B$154,0))))","v":"Stockton-on-Tees"},{"$f":"IF($A135=\"\",\"\",IF(ISBLANK($A135),\"\",VLOOKUP($A135,Data!$A$4:$AI$155,15,FALSE)))","v":0.34399999999999997},{"$f":"IF($A135=\"\",\"\",IF(ISBLANK($A135),\"\",VLOOKUP($A135,Data!$A$4:$AI$155,16,FALSE)))","v":0.318},{"$f":"IF($A135=\"\",\"\",IF(ISBLANK($A135),\"\",VLOOKUP($A135,Data!$A$4:$AI$155,17,FALSE)))","v":0.317},null,{"$f":"IF($A135=\"\",\"\",IF(ISBLANK($A135),\"\",VLOOKUP($A135,Data!$A$4:$AM$155,39,FALSE)))","v":0.41299999999999998}]
[{"$f":"IF('Early Years Table'!A136=\"\",\"\",IF(ISBLANK('Early Years Table'!A136),\"\",'Early Years Table'!A136))","v":861},{"$f":"IF($A136=\"\",\"\",IF(ISBLANK($A136),\"\",INDEX('LEA Nos codes'!$A$3:$A$154,MATCH($A136,'LEA Nos codes'!$B$3:$B$154,0))))","v":"Stoke-on-Trent"},{"$f":"IF($A136=\"\",\"\",IF(ISBLANK($A136),\"\",VLOOKUP($A136,Data!$A$4:$AI$155,15,FALSE)))","v":0.35100000000000003},{"$f":"IF($A136=\"\",\"\",IF(ISBLANK($A136),\"\",VLOOKUP($A136,Data!$A$4:$AI$155,16,FALSE)))","v":0.34700000000000003},{"$f":"IF($A136=\"\",\"\",IF(ISBLANK($A136),\"\",VLOOKUP($A136,Data!$A$4:$AI$155,17,FALSE)))","v":0.318},null,{"$f":"IF($A136=\"\",\"\",IF(ISBLANK($A136),\"\",VLOOKUP($A136,Data!$A$4:$AM$155,39,FALSE)))","v":0.41499999999999998}]
[{"$f":"IF('Early Years Table'!A137=\"\",\"\",IF(ISBLANK('Early Years Table'!A137),\"\",'Early Years Table'!A137))","v":935},{"$f":"IF($A137=\"\",\"\",IF(ISBLANK($A137),\"\",INDEX('LEA Nos codes'!$A$3:$A$154,MATCH($A137,'LEA Nos codes'!$B$3:$B$154,0))))","v":"Suffolk"},{"$f":"IF($A137=\"\",\"\",IF(ISBLANK($A137),\"\",VLOOKUP($A137,Data!$A$4:$AI$155,15,FALSE)))","v":0.33600000000000002},{"$f":"IF($A137=\"\",\"\",IF(ISBLANK($A137),\"\",VLOOKUP($A137,Data!$A$4:$AI$155,16,FALSE)))","v":0.33799999999999997},{"$f":"IF($A137=\"\",\"\",IF(ISBLANK($A137),\"\",VLOOKUP($A137,Data!$A$4:$AI$155,17,FALSE)))","v":0.29699999999999999},null,{"$f":"IF($A137=\"\",\"\",IF(ISBLANK($A137),\"\",VLOOKUP($A137,Data!$A$4:$AM$155,39,FALSE)))","v":0.35600000000000004}]
[{"$f":"IF('Early Years Table'!A138=\"\",\"\",IF(ISBLANK('Early Years Table'!A138),\"\",'Early Years Table'!A138))","v":394},{"$f":"IF($A138=\"\",\"\",IF(ISBLANK($A138),\"\",INDEX('LEA Nos codes'!$A$3:$A$154,MATCH($A138,'LEA Nos codes'!$B$3:$B$154,0))))","v":"Sunderland"},{"$f":"IF($A138=\"\",\"\",IF(ISBLANK($A138),\"\",VLOOKUP($A138,Data!$A$4:$AI$155,15,FALSE)))","v":0.32899999999999996},{"$f":"IF($A138=\"\",\"\",IF(ISBLANK($A138),\"\",VLOOKUP($A138,Data!$A$4:$AI$155,16,FALSE)))","v":0.32400000000000001},{"$f":"IF($A138=\"\",\"\",IF(ISBLANK($A138),\"\",VLOOKUP($A138,Data!$A$4:$AI$155,17,FALSE)))","v":0.30599999999999999},null,{"$f":"IF($A138=\"\",\"\",IF(ISBLANK($A138),\"\",VLOOKUP($A138,Data!$A$4:$AM$155,39,FALSE)))","v":0.39399999999999996}]
[{"$f":"IF('Early Years Table'!A139=\"\",\"\",IF(ISBLANK('Early Years Table'!A139),\"\",'Early Years Table'!A139))","v":936},{"$f":"IF($A139=\"\",\"\",IF(ISBLANK($A139),\"\",INDEX('LEA Nos codes'!$A$3:$A$154,MATCH($A139,'LEA Nos codes'!$B$3:$B$154,0))))","v":"Surrey"},{"$f":"IF($A139=\"\",\"\",IF(ISBLANK($A139),\"\",VLOOKUP($A139,Data!$A$4:$AI$155,15,FALSE)))","v":0.30099999999999999},{"$f":"IF($A139=\"\",\"\",IF(ISBLANK($A139),\"\",VLOOKUP($A139,Data!$A$4:$AI$155,16,FALSE)))","v":0.28499999999999998},{"$f":"IF($A139=\"\",\"\",IF(ISBLANK($A139),\"\",VLOOKUP($A139,Data!$A$4:$AI$155,17,FALSE)))","v":0.27600000000000002},null,{"$f":"IF($A139=\"\",\"\",IF(ISBLANK($A139),\"\",VLOOKUP($A139,Data!$A$4:$AM$155,39,FALSE)))","v":0.312}]
[{"$f":"IF('Early Years Table'!A140=\"\",\"\",IF(ISBLANK('Early Years Table'!A140),\"\",'Early Years Table'!A140))","v":319},{"$f":"IF($A140=\"\",\"\",IF(ISBLANK($A140),\"\",INDEX('LEA Nos codes'!$A$3:$A$154,MATCH($A140,'LEA Nos codes'!$B$3:$B$154,0))))","v":"Sutton"},{"$f":"IF($A140=\"\",\"\",IF(ISBLANK($A140),\"\",VLOOKUP($A140,Data!$A$4:$AI$155,15,FALSE)))","v":0.32400000000000001},{"$f":"IF($A140=\"\",\"\",IF(ISBLANK($A140),\"\",VLOOKUP($A140,Data!$A$4:$AI$155,16,FALSE)))","v":0.29799999999999999},{"$f":"IF($A140=\"\",\"\",IF(ISBLANK($A140),\"\",VLOOKUP($A140,Data!$A$4:$AI$155,17,FALSE)))","v":0.28999999999999998},null,{"$f":"IF($A140=\"\",\"\",IF(ISBLANK($A140),\"\",VLOOKUP($A140,Data!$A$4:$AM$155,39,FALSE)))","v":0.34600000000000003}]
[{"$f":"IF('Early Years Table'!A141=\"\",\"\",IF(ISBLANK('Early Years Table'!A141),\"\",'Early Years Table'!A141))","v":866},{"$f":"IF($A141=\"\",\"\",IF(ISBLANK($A141),\"\",INDEX('LEA Nos codes'!$A$3:$A$154,MATCH($A141,'LEA Nos codes'!$B$3:$B$154,0))))","v":"Swindon"},{"$f":"IF($A141=\"\",\"\",IF(ISBLANK($A141),\"\",VLOOKUP($A141,Data!$A$4:$AI$155,15,FALSE)))","v":0.29600000000000004},{"$f":"IF($A141=\"\",\"\",IF(ISBLANK($A141),\"\",VLOOKUP($A141,Data!$A$4:$AI$155,16,FALSE)))","v":0.29899999999999999},{"$f":"IF($A141=\"\",\"\",IF(ISBLANK($A141),\"\",VLOOKUP($A141,Data!$A$4:$AI$155,17,FALSE)))","v":0.28199999999999997},null,{"$f":"IF($A141=\"\",\"\",IF(ISBLANK($A141),\"\",VLOOKUP($A141,Data!$A$4:$AM$155,39,FALSE)))","v":0.30399999999999999}]
[{"$f":"IF('Early Years Table'!A142=\"\",\"\",IF(ISBLANK('Early Years Table'!A142),\"\",'Early Years Table'!A142))","v":357},{"$f":"IF($A142=\"\",\"\",IF(ISBLANK($A142),\"\",INDEX('LEA Nos codes'!$A$3:$A$154,MATCH($A142,'LEA Nos codes'!$B$3:$B$154,0))))","v":"Tameside"},{"$f":"IF($A142=\"\",\"\",IF(ISBLANK($A142),\"\",VLOOKUP($A142,Data!$A$4:$AI$155,15,FALSE)))","v":0.28800000000000003},{"$f":"IF($A142=\"\",\"\",IF(ISBLANK($A142),\"\",VLOOKUP($A142,Data!$A$4:$AI$155,16,FALSE)))","v":0.32100000000000001},{"$f":"IF($A142=\"\",\"\",IF(ISBLANK($A142),\"\",VLOOKUP($A142,Data!$A$4:$AI$155,17,FALSE)))","v":0.31},null,{"$f":"IF($A142=\"\",\"\",IF(ISBLANK($A142),\"\",VLOOKUP($A142,Data!$A$4:$AM$155,39,FALSE)))","v":0.35700000000000004}]
[{"$f":"IF('Early Years Table'!A143=\"\",\"\",IF(ISBLANK('Early Years Table'!A143),\"\",'Early Years Table'!A143))","v":894},{"$f":"IF($A143=\"\",\"\",IF(ISBLANK($A143),\"\",INDEX('LEA Nos codes'!$A$3:$A$154,MATCH($A143,'LEA Nos codes'!$B$3:$B$154,0))))","v":"Telford & Wrekin"},{"$f":"IF($A143=\"\",\"\",IF(ISBLANK($A143),\"\",VLOOKUP($A143,Data!$A$4:$AI$155,15,FALSE)))","v":0.32500000000000001},{"$f":"IF($A143=\"\",\"\",IF(ISBLANK($A143),\"\",VLOOKUP($A143,Data!$A$4:$AI$155,16,FALSE)))","v":0.29100000000000004},{"$f":"IF($A143=\"\",\"\",IF(ISBLANK($A143),\"\",VLOOKUP($A143,Data!$A$4:$AI$155,17,FALSE)))","v":0.312},null,{"$f":"IF($A143=\"\",\"\",IF(ISBLANK($A143),\"\",VLOOKUP($A143,Data!$A$4:$AM$155,39,FALSE)))","v":0.373}]
[{"$f":"IF('Early Years Table'!A144=\"\",\"\",IF(ISBLANK('Early Years Table'!A144),\"\",'Early Years Table'!A144))","v":883},{"$f":"IF($A144=\"\",\"\",IF(ISBLANK($A144),\"\",INDEX('LEA Nos codes'!$A$3:$A$154,MATCH($A144,'LEA Nos codes'!$B$3:$B$154,0))))","v":"Thurrock"},{"$f":"IF($A144=\"\",\"\",IF(ISBLANK($A144),\"\",VLOOKUP($A144,Data!$A$4:$AI$155,15,FALSE)))","v":0.31900000000000001},{"$f":"IF($A144=\"\",\"\",IF(ISBLANK($A144),\"\",VLOOKUP($A144,Data!$A$4:$AI$155,16,FALSE)))","v":0.29699999999999999},{"$f":"IF($A144=\"\",\"\",IF(ISBLANK($A144),\"\",VLOOKUP($A144,Data!$A$4:$AI$155,17,FALSE)))","v":0.27699999999999997},null,{"$f":"IF($A144=\"\",\"\",IF(ISBLANK($A144),\"\",VLOOKUP($A144,Data!$A$4:$AM$155,39,FALSE)))","v":0.32}]
[{"$f":"IF('Early Years Table'!A145=\"\",\"\",IF(ISBLANK('Early Years Table'!A145),\"\",'Early Years Table'!A145))","v":880},{"$f":"IF($A145=\"\",\"\",IF(ISBLANK($A145),\"\",INDEX('LEA Nos codes'!$A$3:$A$154,MATCH($A145,'LEA Nos codes'!$B$3:$B$154,0))))","v":"Torbay"},{"$f":"IF($A145=\"\",\"\",IF(ISBLANK($A145),\"\",VLOOKUP($A145,Data!$A$4:$AI$155,15,FALSE)))","v":0.29600000000000004},{"$f":"IF($A145=\"\",\"\",IF(ISBLANK($A145),\"\",VLOOKUP($A145,Data!$A$4:$AI$155,16,FALSE)))","v":0.31900000000000001},{"$f":"IF($A145=\"\",\"\",IF(ISBLANK($A145),\"\",VLOOKUP($A145,Data!$A$4:$AI$155,17,FALSE)))","v":0.307},null,{"$f":"IF($A145=\"\",\"\",IF(ISBLANK($A145),\"\",VLOOKUP($A145,Data!$A$4:$AM$155,39,FALSE)))","v":0.376}]
[{"$f":"IF('Early Years Table'!A146=\"\",\"\",IF(ISBLANK('Early Years Table'!A146),\"\",'Early Years Table'!A146))","v":211},{"$f":"IF($A146=\"\",\"\",IF(ISBLANK($A146),\"\",INDEX('LEA Nos codes'!$A$3:$A$154,MATCH($A146,'LEA Nos codes'!$B$3:$B$154,0))))","v":"Tower Hamlets"},{"$f":"IF($A146=\"\",\"\",IF(ISBLANK($A146),\"\",VLOOKUP($A146,Data!$A$4:$AI$155,15,FALSE)))","v":0.33100000000000002},{"$f":"IF($A146=\"\",\"\",IF(ISBLANK($A146),\"\",VLOOKUP($A146,Data!$A$4:$AI$155,16,FALSE)))","v":0.317},{"$f":"IF($A146=\"\",\"\",IF(ISBLANK($A146),\"\",VLOOKUP($A146,Data!$A$4:$AI$155,17,FALSE)))","v":0.32600000000000001},null,{"$f":"IF($A146=\"\",\"\",IF(ISBLANK($A146),\"\",VLOOKUP($A146,Data!$A$4:$AM$155,39,FALSE)))","v":0.377}]
[{"$f":"IF('Early Years Table'!A147=\"\",\"\",IF(ISBLANK('Early Years Table'!A147),\"\",'Early Years Table'!A147))","v":358},{"$f":"IF($A147=\"\",\"\",IF(ISBLANK($A147),\"\",INDEX('LEA Nos codes'!$A$3:$A$154,MATCH($A147,'LEA Nos codes'!$B$3:$B$154,0))))","v":"Trafford"},{"$f":"IF($A147=\"\",\"\",IF(ISBLANK($A147),\"\",VLOOKUP($A147,Data!$A$4:$AI$155,15,FALSE)))","v":0.29499999999999998},{"$f":"IF($A147=\"\",\"\",IF(ISBLANK($A147),\"\",VLOOKUP($A147,Data!$A$4:$AI$155,16,FALSE)))","v":0.28899999999999998},{"$f":"IF($A147=\"\",\"\",IF(ISBLANK($A147),\"\",VLOOKUP($A147,Data!$A$4:$AI$155,17,FALSE)))","v":0.27600000000000002},null,{"$f":"IF($A147=\"\",\"\",IF(ISBLANK($A147),\"\",VLOOKUP($A147,Data!$A$4:$AM$155,39,FALSE)))","v":0.30199999999999999}]
[{"$f":"IF('Early Years Table'!A148=\"\",\"\",IF(ISBLANK('Early Years Table'!A148),\"\",'Early Years Table'!A148))","v":384},{"$f":"IF($A148=\"\",\"\",IF(ISBLANK($A148),\"\",INDEX('LEA Nos codes'!$A$3:$A$154,MATCH($A148,'LEA Nos codes'!$B$3:$B$154,0))))","v":"Wakefield"},{"$f":"IF($A148=\"\",\"\",IF(ISBLANK($A148),\"\",VLOOKUP($A148,Data!$A$4:$AI$155,15,FALSE)))","v":0.33500000000000002},{"$f":"IF($A148=\"\",\"\",IF(ISBLANK($A148),\"\",VLOOKUP($A148,Data!$A$4:$AI$155,16,FALSE)))","v":0.33500000000000002},{"$f":"IF($A148=\"\",\"\",IF(ISBLANK($A148),\"\",VLOOKUP($A148,Data!$A$4:$AI$155,17,FALSE)))","v":0.30199999999999999},null,{"$f":"IF($A148=\"\",\"\",IF(ISBLANK($A148),\"\",VLOOKUP($A148,Data!$A$4:$AM$155,39,FALSE)))","v":0.38299999999999995}]
[{"$f":"IF('Early Years Table'!A149=\"\",\"\",IF(ISBLANK('Early Years Table'!A149),\"\",'Early Years Table'!A149))","v":335},{"$f":"IF($A149=\"\",\"\",IF(ISBLANK($A149),\"\",INDEX('LEA Nos codes'!$A$3:$A$154,MATCH($A149,'LEA Nos codes'!$B$3:$B$154,0))))","v":"Walsall"},{"$f":"IF($A149=\"\",\"\",IF(ISBLANK($A149),\"\",VLOOKUP($A149,Data!$A$4:$AI$155,15,FALSE)))","v":0.30399999999999999},{"$f":"IF($A149=\"\",\"\",IF(ISBLANK($A149),\"\",VLOOKUP($A149,Data!$A$4:$AI$155,16,FALSE)))","v":0.311},{"$f":"IF($A149=\"\",\"\",IF(ISBLANK($A149),\"\",VLOOKUP($A149,Data!$A$4:$AI$155,17,FALSE)))","v":0.309},null,{"$f":"IF($A149=\"\",\"\",IF(ISBLANK($A149),\"\",VLOOKUP($A149,Data!$A$4:$AM$155,39,FALSE)))","v":0.40799999999999997}]
[{"$f":"IF('Early Years Table'!A150=\"\",\"\",IF(ISBLANK('Early Years Table'!A150),\"\",'Early Years Table'!A150))","v":320},{"$f":"IF($A150=\"\",\"\",IF(ISBLANK($A150),\"\",INDEX('LEA Nos codes'!$A$3:$A$154,MATCH($A150,'LEA Nos codes'!$B$3:$B$154,0))))","v":"Waltham Forest"},{"$f":"IF($A150=\"\",\"\",IF(ISBLANK($A150),\"\",VLOOKUP($A150,Data!$A$4:$AI$155,15,FALSE)))","v":0.34},{"$f":"IF($A150=\"\",\"\",IF(ISBLANK($A150),\"\",VLOOKUP($A150,Data!$A$4:$AI$155,16,FALSE)))","v":0.34},{"$f":"IF($A150=\"\",\"\",IF(ISBLANK($A150),\"\",VLOOKUP($A150,Data!$A$4:$AI$155,17,FALSE)))","v":0.309},null,{"$f":"IF($A150=\"\",\"\",IF(ISBLANK($A150),\"\",VLOOKUP($A150,Data!$A$4:$AM$155,39,FALSE)))","v":0.36299999999999999}]
[{"$f":"IF('Early Years Table'!A151=\"\",\"\",IF(ISBLANK('Early Years Table'!A151),\"\",'Early Years Table'!A151))","v":212},{"$f":"IF($A151=\"\",\"\",IF(ISBLANK($A151),\"\",INDEX('LEA Nos codes'!$A$3:$A$154,MATCH($A151,'LEA Nos codes'!$B$3:$B$154,0))))","v":"Wandsworth"},{"$f":"IF($A151=\"\",\"\",IF(ISBLANK($A151),\"\",VLOOKUP($A151,Data!$A$4:$AI$155,15,FALSE)))","v":0.311},{"$f":"IF($A151=\"\",\"\",IF(ISBLANK($A151),\"\",VLOOKUP($A151,Data!$A$4:$AI$155,16,FALSE)))","v":0.33},{"$f":"IF($A151=\"\",\"\",IF(ISBLANK($A151),\"\",VLOOKUP($A151,Data!$A$4:$AI$155,17,FALSE)))","v":0.29699999999999999},null,{"$f":"IF($A151=\"\",\"\",IF(ISBLANK($A151),\"\",VLOOKUP($A151,Data!$A$4:$AM$155,39,FALSE)))","v":0.33600000000000002}]
[{"$f":"IF('Early Years Table'!A152=\"\",\"\",IF(ISBLANK('Early Years Table'!A152),\"\",'Early Years Table'!A152))","v":877},{"$f":"IF($A152=\"\",\"\",IF(ISBLANK($A152),\"\",INDEX('LEA Nos codes'!$A$3:$A$154,MATCH($A152,'LEA Nos codes'!$B$3:$B$154,0))))","v":"Warrington"},{"$f":"IF($A152=\"\",\"\",IF(ISBLANK($A152),\"\",VLOOKUP($A152,Data!$A$4:$AI$155,15,FALSE)))","v":0.30099999999999999},{"$f":"IF($A152=\"\",\"\",IF(ISBLANK($A152),\"\",VLOOKUP($A152,Data!$A$4:$AI$155,16,FALSE)))","v":0.28699999999999998},{"$f":"IF($A152=\"\",\"\",IF(ISBLANK($A152),\"\",VLOOKUP($A152,Data!$A$4:$AI$155,17,FALSE)))","v":0.30399999999999999},null,{"$f":"IF($A152=\"\",\"\",IF(ISBLANK($A152),\"\",VLOOKUP($A152,Data!$A$4:$AM$155,39,FALSE)))","v":0.375}]
[{"$f":"IF('Early Years Table'!A153=\"\",\"\",IF(ISBLANK('Early Years Table'!A153),\"\",'Early Years Table'!A153))","v":937},{"$f":"IF($A153=\"\",\"\",IF(ISBLANK($A153),\"\",INDEX('LEA Nos codes'!$A$3:$A$154,MATCH($A153,'LEA Nos codes'!$B$3:$B$154,0))))","v":"Warwickshire"},{"$f":"IF($A153=\"\",\"\",IF(ISBLANK($A153),\"\",VLOOKUP($A153,Data!$A$4:$AI$155,15,FALSE)))","v":0.28300000000000003},{"$f":"IF($A153=\"\",\"\",IF(ISBLANK($A153),\"\",VLOOKUP($A153,Data!$A$4:$AI$155,16,FALSE)))","v":0.28399999999999997},{"$f":"IF($A153=\"\",\"\",IF(ISBLANK($A153),\"\",VLOOKUP($A153,Data!$A$4:$AI$155,17,FALSE)))","v":0.29299999999999998},null,{"$f":"IF($A153=\"\",\"\",IF(ISBLANK($A153),\"\",VLOOKUP($A153,Data!$A$4:$AM$155,39,FALSE)))","v":0.38100000000000001}]
[{"$f":"IF('Early Years Table'!A154=\"\",\"\",IF(ISBLANK('Early Years Table'!A154),\"\",'Early Years Table'!A154))","v":869},{"$f":"IF($A154=\"\",\"\",IF(ISBLANK($A154),\"\",INDEX('LEA Nos codes'!$A$3:$A$154,MATCH($A154,'LEA Nos codes'!$B$3:$B$154,0))))","v":"West Berkshire"},{"$f":"IF($A154=\"\",\"\",IF(ISBLANK($A154),\"\",VLOOKUP($A154,Data!$A$4:$AI$155,15,FALSE)))","v":0.26800000000000002},{"$f":"IF($A154=\"\",\"\",IF(ISBLANK($A154),\"\",VLOOKUP($A154,Data!$A$4:$AI$155,16,FALSE)))","v":0.24299999999999999},{"$f":"IF($A154=\"\",\"\",IF(ISBLANK($A154),\"\",VLOOKUP($A154,Data!$A$4:$AI$155,17,FALSE)))","v":0.253},null,{"$f":"IF($A154=\"\",\"\",IF(ISBLANK($A154),\"\",VLOOKUP($A154,Data!$A$4:$AM$155,39,FALSE)))","v":0.26500000000000001}]
[{"$f":"IF('Early Years Table'!A155=\"\",\"\",IF(ISBLANK('Early Years Table'!A155),\"\",'Early Years Table'!A155))","v":938},{"$f":"IF($A155=\"\",\"\",IF(ISBLANK($A155),\"\",INDEX('LEA Nos codes'!$A$3:$A$154,MATCH($A155,'LEA Nos codes'!$B$3:$B$154,0))))","v":"West Sussex"},{"$f":"IF($A155=\"\",\"\",IF(ISBLANK($A155),\"\",VLOOKUP($A155,Data!$A$4:$AI$155,15,FALSE)))","v":0.314},{"$f":"IF($A155=\"\",\"\",IF(ISBLANK($A155),\"\",VLOOKUP($A155,Data!$A$4:$AI$155,16,FALSE)))","v":0.30499999999999999},{"$f":"IF($A155=\"\",\"\",IF(ISBLANK($A155),\"\",VLOOKUP($A155,Data!$A$4:$AI$155,17,FALSE)))","v":0.28399999999999997},null,{"$f":"IF($A155=\"\",\"\",IF(ISBLANK($A155),\"\",VLOOKUP($A155,Data!$A$4:$AM$155,39,FALSE)))","v":0.30399999999999999}]
[{"$f":"IF('Early Years Table'!A156=\"\",\"\",IF(ISBLANK('Early Years Table'!A156),\"\",'Early Years Table'!A156))","v":213},{"$f":"IF($A156=\"\",\"\",IF(ISBLANK($A156),\"\",INDEX('LEA Nos codes'!$A$3:$A$154,MATCH($A156,'LEA Nos codes'!$B$3:$B$154,0))))","v":"Westminster"},{"$f":"IF($A156=\"\",\"\",IF(ISBLANK($A156),\"\",VLOOKUP($A156,Data!$A$4:$AI$155,15,FALSE)))","v":0.36},{"$f":"IF($A156=\"\",\"\",IF(ISBLANK($A156),\"\",VLOOKUP($A156,Data!$A$4:$AI$155,16,FALSE)))","v":0.307},{"$f":"IF($A156=\"\",\"\",IF(ISBLANK($A156),\"\",VLOOKUP($A156,Data!$A$4:$AI$155,17,FALSE)))","v":0.28600000000000003},null,{"$f":"IF($A156=\"\",\"\",IF(ISBLANK($A156),\"\",VLOOKUP($A156,Data!$A$4:$AM$155,39,FALSE)))","v":0.38700000000000001}]
[{"$f":"IF('Early Years Table'!A157=\"\",\"\",IF(ISBLANK('Early Years Table'!A157),\"\",'Early Years Table'!A157))","v":359},{"$f":"IF($A157=\"\",\"\",IF(ISBLANK($A157),\"\",INDEX('LEA Nos codes'!$A$3:$A$154,MATCH($A157,'LEA Nos codes'!$B$3:$B$154,0))))","v":"Wigan"},{"$f":"IF($A157=\"\",\"\",IF(ISBLANK($A157),\"\",VLOOKUP($A157,Data!$A$4:$AI$155,15,FALSE)))","v":0.33},{"$f":"IF($A157=\"\",\"\",IF(ISBLANK($A157),\"\",VLOOKUP($A157,Data!$A$4:$AI$155,16,FALSE)))","v":0.316},{"$f":"IF($A157=\"\",\"\",IF(ISBLANK($A157),\"\",VLOOKUP($A157,Data!$A$4:$AI$155,17,FALSE)))","v":0.307},null,{"$f":"IF($A157=\"\",\"\",IF(ISBLANK($A157),\"\",VLOOKUP($A157,Data!$A$4:$AM$155,39,FALSE)))","v":0.41299999999999998}]
[{"$f":"IF('Early Years Table'!A158=\"\",\"\",IF(ISBLANK('Early Years Table'!A158),\"\",'Early Years Table'!A158))","v":865},{"$f":"IF($A158=\"\",\"\",IF(ISBLANK($A158),\"\",INDEX('LEA Nos codes'!$A$3:$A$154,MATCH($A158,'LEA Nos codes'!$B$3:$B$154,0))))","v":"Wiltshire"},{"$f":"IF($A158=\"\",\"\",IF(ISBLANK($A158),\"\",VLOOKUP($A158,Data!$A$4:$AI$155,15,FALSE)))","v":0.29199999999999998},{"$f":"IF($A158=\"\",\"\",IF(ISBLANK($A158),\"\",VLOOKUP($A158,Data!$A$4:$AI$155,16,FALSE)))","v":0.29299999999999998},{"$f":"IF($A158=\"\",\"\",IF(ISBLANK($A158),\"\",VLOOKUP($A158,Data!$A$4:$AI$155,17,FALSE)))","v":0.27},null,{"$f":"IF($A158=\"\",\"\",IF(ISBLANK($A158),\"\",VLOOKUP($A158,Data!$A$4:$AM$155,39,FALSE)))","v":0.317}]
[{"$f":"IF('Early Years Table'!A159=\"\",\"\",IF(ISBLANK('Early Years Table'!A159),\"\",'Early Years Table'!A159))","v":868},{"$f":"IF($A159=\"\",\"\",IF(ISBLANK($A159),\"\",INDEX('LEA Nos codes'!$A$3:$A$154,MATCH($A159,'LEA Nos codes'!$B$3:$B$154,0))))","v":"Windsor and Maidenhead"},{"$f":"IF($A159=\"\",\"\",IF(ISBLANK($A159),\"\",VLOOKUP($A159,Data!$A$4:$AI$155,15,FALSE)))","v":0.31},{"$f":"IF($A159=\"\",\"\",IF(ISBLANK($A159),\"\",VLOOKUP($A159,Data!$A$4:$AI$155,16,FALSE)))","v":0.26},{"$f":"IF($A159=\"\",\"\",IF(ISBLANK($A159),\"\",VLOOKUP($A159,Data!$A$4:$AI$155,17,FALSE)))","v":0.25600000000000001},null,{"$f":"IF($A159=\"\",\"\",IF(ISBLANK($A159),\"\",VLOOKUP($A159,Data!$A$4:$AM$155,39,FALSE)))","v":0.26899999999999996}]
[{"$f":"IF('Early Years Table'!A160=\"\",\"\",IF(ISBLANK('Early Years Table'!A160),\"\",'Early Years Table'!A160))","v":344},{"$f":"IF($A160=\"\",\"\",IF(ISBLANK($A160),\"\",INDEX('LEA Nos codes'!$A$3:$A$154,MATCH($A160,'LEA Nos codes'!$B$3:$B$154,0))))","v":"Wirral"},{"$f":"IF($A160=\"\",\"\",IF(ISBLANK($A160),\"\",VLOOKUP($A160,Data!$A$4:$AI$155,15,FALSE)))","v":0.27600000000000002},{"$f":"IF($A160=\"\",\"\",IF(ISBLANK($A160),\"\",VLOOKUP($A160,Data!$A$4:$AI$155,16,FALSE)))","v":0.29899999999999999},{"$f":"IF($A160=\"\",\"\",IF(ISBLANK($A160),\"\",VLOOKUP($A160,Data!$A$4:$AI$155,17,FALSE)))","v":0.28000000000000003},null,{"$f":"IF($A160=\"\",\"\",IF(ISBLANK($A160),\"\",VLOOKUP($A160,Data!$A$4:$AM$155,39,FALSE)))","v":0.39500000000000002}]
[{"$f":"IF('Early Years Table'!A161=\"\",\"\",IF(ISBLANK('Early Years Table'!A161),\"\",'Early Years Table'!A161))","v":872},{"$f":"IF($A161=\"\",\"\",IF(ISBLANK($A161),\"\",INDEX('LEA Nos codes'!$A$3:$A$154,MATCH($A161,'LEA Nos codes'!$B$3:$B$154,0))))","v":"Wokingham"},{"$f":"IF($A161=\"\",\"\",IF(ISBLANK($A161),\"\",VLOOKUP($A161,Data!$A$4:$AI$155,15,FALSE)))","v":0.28699999999999998},{"$f":"IF($A161=\"\",\"\",IF(ISBLANK($A161),\"\",VLOOKUP($A161,Data!$A$4:$AI$155,16,FALSE)))","v":0.25},{"$f":"IF($A161=\"\",\"\",IF(ISBLANK($A161),\"\",VLOOKUP($A161,Data!$A$4:$AI$155,17,FALSE)))","v":0.26500000000000001},null,{"$f":"IF($A161=\"\",\"\",IF(ISBLANK($A161),\"\",VLOOKUP($A161,Data!$A$4:$AM$155,39,FALSE)))","v":0.27200000000000002}]
[{"$f":"IF('Early Years Table'!A162=\"\",\"\",IF(ISBLANK('Early Years Table'!A162),\"\",'Early Years Table'!A162))","v":336},{"$f":"IF($A162=\"\",\"\",IF(ISBLANK($A162),\"\",INDEX('LEA Nos codes'!$A$3:$A$154,MATCH($A162,'LEA Nos codes'!$B$3:$B$154,0))))","v":"Wolverhampton"},{"$f":"IF($A162=\"\",\"\",IF(ISBLANK($A162),\"\",VLOOKUP($A162,Data!$A$4:$AI$155,15,FALSE)))","v":0.35700000000000004},{"$f":"IF($A162=\"\",\"\",IF(ISBLANK($A162),\"\",VLOOKUP($A162,Data!$A$4:$AI$155,16,FALSE)))","v":0.36700000000000005},{"$f":"IF($A162=\"\",\"\",IF(ISBLANK($A162),\"\",VLOOKUP($A162,Data!$A$4:$AI$155,17,FALSE)))","v":0.34899999999999998},null,{"$f":"IF($A162=\"\",\"\",IF(ISBLANK($A162),\"\",VLOOKUP($A162,Data!$A$4:$AM$155,39,FALSE)))","v":0.40799999999999997}]
[{"$f":"IF('Early Years Table'!A163=\"\",\"\",IF(ISBLANK('Early Years Table'!A163),\"\",'Early Years Table'!A163))","v":885},{"$f":"IF($A163=\"\",\"\",IF(ISBLANK($A163),\"\",INDEX('LEA Nos codes'!$A$3:$A$154,MATCH($A163,'LEA Nos codes'!$B$3:$B$154,0))))","v":"Worcestershire"},{"$f":"IF($A163=\"\",\"\",IF(ISBLANK($A163),\"\",VLOOKUP($A163,Data!$A$4:$AI$155,15,FALSE)))","v":0.313},{"$f":"IF($A163=\"\",\"\",IF(ISBLANK($A163),\"\",VLOOKUP($A163,Data!$A$4:$AI$155,16,FALSE)))","v":0.314},{"$f":"IF($A163=\"\",\"\",IF(ISBLANK($A163),\"\",VLOOKUP($A163,Data!$A$4:$AI$155,17,FALSE)))","v":0.30599999999999999},null,{"$f":"IF($A163=\"\",\"\",IF(ISBLANK($A163),\"\",VLOOKUP($A163,Data!$A$4:$AM$155,39,FALSE)))","v":0.34899999999999998}]
[{"$f":"IF('Early Years Table'!A164=\"\",\"\",IF(ISBLANK('Early Years Table'!A164),\"\",'Early Years Table'!A164))","v":816},{"$f":"IF($A164=\"\",\"\",IF(ISBLANK($A164),\"\",INDEX('LEA Nos codes'!$A$3:$A$154,MATCH($A164,'LEA Nos codes'!$B$3:$B$154,0))))","v":"York"},{"$f":"IF($A164=\"\",\"\",IF(ISBLANK($A164),\"\",VLOOKUP($A164,Data!$A$4:$AI$155,15,FALSE)))","v":0.29600000000000004},{"$f":"IF($A164=\"\",\"\",IF(ISBLANK($A164),\"\",VLOOKUP($A164,Data!$A$4:$AI$155,16,FALSE)))","v":0.28499999999999998},{"$f":"IF($A164=\"\",\"\",IF(ISBLANK($A164),\"\",VLOOKUP($A164,Data!$A$4:$AI$155,17,FALSE)))","v":0.27399999999999997},null,{"$f":"IF($A164=\"\",\"\",IF(ISBLANK($A164),\"\",VLOOKUP($A164,Data!$A$4:$AM$155,39,FALSE)))","v":0.313}]
[]
[]
[]
["* A new profile was introduced in September 2012 which is substantially different from the old profile. Figures for 2013 are therefore not comparable with earlier years."]
[]
["Source: DfE: Early Years Foundation Stage Profile Results in England 2012/13"]
["https://www.gov.uk/government/publications/early-years-foundation-stage-profile-results-2012-to-2013"]
[]
["1. For more information on the Early Years Foundation Stage Profile please see technical notes."]
["2. Percentage of children achieving a good level of development:"]
["    a. 2010 to 2012 - children achieving 6 or more points across the 7 scales of personal, social and emotional development"]
["    and communication, language and literacy and who also achieve 78 points or more across all 13 scales."]
["    b. 2013 -  children achieving at least the expected level within the three prime areas of learning: communication and language, physical development and personal, social and emotional development"]
["    and the early learning goals within the literacy and mathematics areas of learning."]
["3. Only includes pupils with a valid result for every achievement scale."]
["4. The percentage gap in achievement between the lowest 20 per cent of achieving children in a local authority (mean score), and the score of the median"]
["child in the same authority expressed as a percentage of the same median score."]
[".. Not available"]
["x Value suppressed to protect confidentiality"]

{"sheet":"EYFSP - 20% ","index":19,"n_rows":183,"n_cols":15,"rows_kept":183,"cut":false,"hidden":true,"merged":[[170,0,170,6]]}
["Early Years Benchmarking - Child Development: Early Years Foundation Stage Profile1",null,null,null,null,null,null,null,null,null,null,null,null,null,"Return to contents"]
["Percentage gap4 between the lowest achieving 20% and the rest in achieving a good level of development2,3 at age five",null,null,null,null,null,null,null,null,null,null,null,null,null,"Return to instructions"]
["All LAs",null," *Figures for 2013 not comparable with earlier years"]
[]
[null,null,2010,2011,2012,null,"2013*"]
["England - Average (mean) or Total",null,0.32700000000000001,0.314,0.30099999999999999,null,0.36599999999999999]
["England - Average (median)",null,0.32,0.311,0.29899999999999999,null,0.35499999999999998]
["England - Minimum",null,0.17499999999999999,0.19,0.16800000000000001,null,0.105]
["England - Maximum",null,0.377,0.37200000000000005,0.40200000000000002,null,0.44600000000000001]
["Selection - Average (median)",null,0.32,0.311,0.29899999999999999,null,0.35499999999999998]
["Selection - Minimum",null,0.17499999999999999,0.19,0.16800000000000001,null,0.105]
["Selection - Maximum",null,0.377,0.37200000000000005,0.40200000000000002,null,0.44600000000000001]
[301,"Barking and Dagenham",0.34799999999999998,0.32400000000000001,0.30299999999999999,null,0.38299999999999995]
[302,"Barnet",0.29799999999999999,0.29100000000000004,0.309,null,0.32]
[370,"Barnsley",0.34399999999999997,0.312,0.314,null,0.37799999999999995]
[800,"Bath & North East Somerset",0.29100000000000004,0.27899999999999997,0.30599999999999999,null,0.32]
[822,"Bedford Borough",0.317,0.30099999999999999,0.29199999999999998,null,0.33799999999999997]
[303,"Bexley",0.29299999999999998,0.28300000000000003,0.26800000000000002,null,0.27600000000000002]
[330,"Birmingham",0.35299999999999998,0.34200000000000003,0.34399999999999997,null,0.40600000000000003]
[889,"Blackburn with Darwen",0.32799999999999996,0.32700000000000001,0.316,null,0.41899999999999998]
[890,"Blackpool",0.29399999999999998,0.28100000000000003,0.29199999999999998,null,0.33]
[350,"Bolton",0.32700000000000001,0.35,0.33399999999999996,null,0.41100000000000003]
[837,"Bournemouth",0.29499999999999998,0.27699999999999997,0.27699999999999997,null,0.29199999999999998]
[867,"Bracknell Forest",0.28699999999999998,0.249,0.254,null,0.27300000000000002]
[380,"Bradford",0.371,0.34700000000000003,0.34299999999999997,null,0.42599999999999999]
[304,"Brent",0.35200000000000004,0.32400000000000001,0.309,null,0.33500000000000002]
[846,"Brighton and Hove",0.27699999999999997,0.27899999999999997,0.27600000000000002,null,0.32600000000000001]
[305,"Bromley",0.33299999999999996,0.312,0.29199999999999998,null,0.313]
[825,"Buckinghamshire",0.30399999999999999,0.30099999999999999,0.27699999999999997,null,0.32600000000000001]
[351,"Bury",0.30399999999999999,0.28899999999999998,0.29399999999999998,null,0.38700000000000001]
[381,"Calderdale",0.33299999999999996,0.32500000000000001,0.309,null,0.36799999999999999]
[873,"Cambridgeshire",0.32299999999999995,0.29100000000000004,0.28499999999999998,null,0.33899999999999997]
[202,"Camden",0.33899999999999997,0.30299999999999999,0.28899999999999998,null,0.36799999999999999]
[823,"Central Bedfordshire",0.30099999999999999,0.28100000000000003,0.26400000000000001,null,0.29499999999999998]
[895,"Cheshire East",0.31900000000000001,0.26500000000000001,0.25,null,0.35]
[896,"Cheshire West and Chester",0.314,0.316,0.29699999999999999,null,0.32]
[801,"City of Bristol",0.313,0.32500000000000001,0.31,null,0.38600000000000001]
[810,"City of Kingston Upon Hull",0.32100000000000001,0.316,0.32700000000000001,null,0.40799999999999997]
[201,"City of London",0.17499999999999999,0.19,0.40200000000000002,null,0.36099999999999999]
[908,"Cornwall",0.32400000000000001,0.29600000000000004,0.27399999999999997,null,0.34600000000000003]
[331,"Coventry",0.34200000000000003,0.32799999999999996,0.313,null,0.36399999999999999]
[306,"Croydon",0.314,0.28399999999999997,0.29899999999999999,null,0.39100000000000001]
[909,"Cumbria",0.318,0.32600000000000001,0.29299999999999998,null,0.35600000000000004]
[841,"Darlington",0.35899999999999999,0.35600000000000004,0.32799999999999996,null,0.42499999999999999]
[831,"Derby",0.33600000000000002,0.34700000000000003,0.34100000000000003,null,0.41100000000000003]
[830,"Derbyshire",0.318,0.32600000000000001,0.29699999999999999,null,0.374]
[878,"Devon",0.33100000000000002,0.311,0.27899999999999997,null,0.26]
[371,"Doncaster",0.32,0.32,0.307,null,0.374]
[835,"Dorset",0.27699999999999997,0.27100000000000002,0.25800000000000001,null,0.26200000000000001]
[332,"Dudley",0.32,0.314,0.31900000000000001,null,0.39899999999999997]
[840,"Durham",0.36700000000000005,0.34700000000000003,0.33399999999999996,null,0.42799999999999999]
[307,"Ealing",0.35100000000000003,0.33200000000000002,0.32299999999999995,null,0.33399999999999996]
[811,"East Riding of Yorkshire",0.28999999999999998,0.28899999999999998,0.27399999999999997,null,0.29799999999999999]
[845,"East Sussex",0.31900000000000001,0.314,0.29799999999999999,null,0.37200000000000005]
[308,"Enfield",0.37,0.34299999999999997,0.32400000000000001,null,0.39799999999999996]
[881,"Essex",0.32100000000000001,0.317,0.30399999999999999,null,0.33200000000000002]
[390,"Gateshead",0.32100000000000001,0.32700000000000001,0.28899999999999998,null,0.34]
[916,"Gloucestershire",0.31,0.312,0.29499999999999998,null,0.33700000000000002]
[203,"Greenwich",0.315,0.33799999999999997,0.27399999999999997,null,0.29299999999999998]
[204,"Hackney",0.31900000000000001,0.317,0.29899999999999999,null,0.32600000000000001]
[876,"Halton",0.28800000000000003,0.29899999999999999,0.29699999999999999,null,0.36200000000000004]
[205,"Hammersmith and Fulham",0.32,0.311,0.30299999999999999,null,0.32500000000000001]
[850,"Hampshire",0.29699999999999999,0.28999999999999998,0.26600000000000001,null,0.28899999999999998]
[309,"Haringey",0.36200000000000004,0.32100000000000001,0.32500000000000001,null,0.36599999999999999]
[310,"Harrow",0.377,0.36499999999999999,0.308,null,0.379]
[805,"Hartlepool",0.36299999999999999,0.28199999999999997,0.33,null,0.39899999999999997]
[311,"Havering",0.28699999999999998,0.27100000000000002,0.317,null,0.27300000000000002]
[884,"Herefordshire",0.32700000000000001,0.32,0.307,null,0.35100000000000003]
[919,"Hertfordshire",0.32200000000000001,0.33200000000000002,0.29299999999999998,null,0.28800000000000003]
[312,"Hillingdon",0.32600000000000001,0.308,0.315,null,0.36599999999999999]
[313,"Hounslow",0.35399999999999998,0.35499999999999998,0.32299999999999995,null,0.37200000000000005]
[921,"Isle of Wight",0.30099999999999999,0.28300000000000003,0.29899999999999999,null,0.39200000000000002]
[420,"Isles of Scilly",0.24199999999999999,0.28499999999999998,0.16800000000000001,null,0.105]
[206,"Islington",0.34499999999999997,0.33100000000000002,0.32200000000000001,null,0.34200000000000003]
[207,"Kensington and Chelsea",0.30499999999999999,0.29600000000000004,0.29199999999999998,null,0.36899999999999999]
[886,"Kent",0.27600000000000002,0.255,0.248,null,0.252]
[314,"Kingston upon Thames",0.28499999999999998,0.29600000000000004,0.29299999999999998,null,0.28300000000000003]
[382,"Kirklees",0.33600000000000002,0.33200000000000002,0.32200000000000001,null,0.35]
[340,"Knowsley",0.28899999999999998,0.29399999999999998,0.28800000000000003,null,0.31900000000000001]
[208,"Lambeth",0.33100000000000002,0.312,0.28800000000000003,null,0.39600000000000002]
[888,"Lancashire",0.33299999999999996,0.32200000000000001,0.31900000000000001,null,0.33600000000000002]
[383,"Leeds",0.35700000000000004,0.35,0.33600000000000002,null,0.44600000000000001]
[856,"Leicester",0.35499999999999998,0.31,0.31,null,0.37]
[855,"Leicestershire",0.30399999999999999,0.28699999999999998,0.27899999999999997,null,0.33500000000000002]
[209,"Lewisham",0.32899999999999996,0.29899999999999999,0.26100000000000001,null,0.25]
[925,"Lincolnshire",0.32100000000000001,0.28699999999999998,0.27100000000000002,null,0.29600000000000004]
[341,"Liverpool",0.34200000000000003,0.32600000000000001,0.32400000000000001,null,0.34899999999999998]
[821,"Luton",0.36700000000000005,0.36,0.36499999999999999,null,0.38900000000000001]
[352,"Manchester",0.376,0.34200000000000003,0.34399999999999997,null,0.41100000000000003]
[887,"Medway",0.33100000000000002,0.312,0.314,null,0.33700000000000002]
[315,"Merton",0.28399999999999997,0.27699999999999997,0.29600000000000004,null,0.38900000000000001]
[806,"Middlesbrough",0.37,0.36799999999999999,0.375,null,0.43700000000000006]
[826,"Milton Keynes",0.307,0.27899999999999997,0.29799999999999999,null,0.36200000000000004]
[391,"Newcastle upon Tyne",0.35899999999999999,0.32400000000000001,0.30299999999999999,null,0.371]
[316,"Newham",0.34799999999999998,0.35200000000000004,0.311,null,0.371]
[926,"Norfolk",0.316,0.307,0.30399999999999999,null,0.36399999999999999]
[812,"North East Lincolnshire",0.29199999999999998,0.29299999999999998,0.28199999999999997,null,0.34899999999999998]
[813,"North Lincolnshire",0.32400000000000001,0.28600000000000003,0.313,null,0.35499999999999998]
[802,"North Somerset",0.32299999999999995,0.28800000000000003,0.27500000000000002,null,0.23]
[392,"North Tyneside",0.28699999999999998,0.29499999999999998,0.314,null,0.36499999999999999]
[815,"North Yorkshire",0.3,0.28800000000000003,0.28999999999999998,null,0.33299999999999996]
[928,"Northamptonshire",0.30499999999999999,0.311,0.28399999999999997,null,0.35100000000000003]
[929,"Northumberland",0.318,0.318,0.30399999999999999,null,0.35499999999999998]
[892,"Nottingham",0.33700000000000002,0.34799999999999998,0.32700000000000001,null,0.38700000000000001]
[891,"Nottinghamshire",0.33399999999999996,0.313,0.29699999999999999,null,0.35100000000000003]
[353,"Oldham",0.34600000000000003,0.37200000000000005,0.33200000000000002,null,0.42899999999999999]
[931,"Oxfordshire",0.32100000000000001,0.28899999999999998,0.27399999999999997,null,0.33]
[874,"Peterborough",0.34899999999999998,0.34399999999999997,0.36,null,0.42700000000000005]
[879,"Plymouth",0.30199999999999999,0.309,0.29600000000000004,null,0.33100000000000002]
[836,"Poole",0.318,0.28699999999999998,0.27500000000000002,null,0.307]
[851,"Portsmouth",0.33399999999999996,0.30099999999999999,0.30299999999999999,null,0.30099999999999999]
[870,"Reading",0.35799999999999998,0.32899999999999996,0.29699999999999999,null,0.33299999999999996]
[317,"Redbridge",0.33399999999999996,0.318,0.32799999999999996,null,0.32]
[807,"Redcar and Cleveland",0.318,0.30599999999999999,0.29600000000000004,null,0.39899999999999997]
[318,"Richmond upon Thames",0.24299999999999999,0.26700000000000002,0.26100000000000001,null,0.29600000000000004]
[354,"Rochdale",0.34799999999999998,0.34100000000000003,0.316,null,0.41]
[372,"Rotherham",0.33700000000000002,0.33299999999999996,0.30599999999999999,null,0.35700000000000004]
[857,"Rutland",0.29799999999999999,0.28000000000000003,0.254,null,0.24100000000000002]
[355,"Salford",0.33,0.32600000000000001,0.314,null,0.35200000000000004]
[333,"Sandwell",0.36599999999999999,0.35200000000000004,0.32600000000000001,null,0.39700000000000002]
[343,"Sefton",0.3,0.29600000000000004,0.27500000000000002,null,0.317]
[373,"Sheffield",0.376,0.35399999999999998,0.34,null,0.41299999999999998]
[893,"Shropshire",0.28600000000000003,0.29299999999999998,0.27300000000000002,null,0.30299999999999999]
[871,"Slough",0.35799999999999998,0.29899999999999999,0.29899999999999999,null,0.371]
[334,"Solihull",0.28199999999999997,0.311,0.30199999999999999,null,0.38900000000000001]
[933,"Somerset",0.29600000000000004,0.30199999999999999,0.29199999999999998,null,0.33600000000000002]
[803,"South Gloucestershire",0.28199999999999997,0.26600000000000001,0.26300000000000001,null,0.27500000000000002]
[393,"South Tyneside",0.32600000000000001,0.32299999999999995,0.313,null,0.36399999999999999]
[852,"Southampton",0.34499999999999997,0.33700000000000002,0.312,null,0.35899999999999999]
[882,"Southend-on-Sea",0.29699999999999999,0.28899999999999998,0.28899999999999998,null,0.373]
[210,"Southwark",0.32100000000000001,0.308,0.29899999999999999,null,0.33200000000000002]
[342,"St. Helens",0.313,0.311,0.28800000000000003,null,0.38600000000000001]
[860,"Staffordshire",0.29399999999999998,0.28999999999999998,0.27,null,0.35700000000000004]
[356,"Stockport",0.30399999999999999,0.30399999999999999,0.28399999999999997,null,0.34299999999999997]
[808,"Stockton-on-Tees",0.34399999999999997,0.318,0.317,null,0.41299999999999998]
[861,"Stoke-on-Trent",0.35100000000000003,0.34700000000000003,0.318,null,0.41499999999999998]
[935,"Suffolk",0.33600000000000002,0.33799999999999997,0.29699999999999999,null,0.35600000000000004]
[394,"Sunderland",0.32899999999999996,0.32400000000000001,0.30599999999999999,null,0.39399999999999996]
[936,"Surrey",0.30099999999999999,0.28499999999999998,0.27600000000000002,null,0.312]
[319,"Sutton",0.32400000000000001,0.29799999999999999,0.28999999999999998,null,0.34600000000000003]
[866,"Swindon",0.29600000000000004,0.29899999999999999,0.28199999999999997,null,0.30399999999999999]
[357,"Tameside",0.28800000000000003,0.32100000000000001,0.31,null,0.35700000000000004]
[894,"Telford & Wrekin",0.32500000000000001,0.29100000000000004,0.312,null,0.373]
[883,"Thurrock",0.31900000000000001,0.29699999999999999,0.27699999999999997,null,0.32]
[880,"Torbay",0.29600000000000004,0.31900000000000001,0.307,null,0.376]
[211,"Tower Hamlets",0.33100000000000002,0.317,0.32600000000000001,null,0.377]
[358,"Trafford",0.29499999999999998,0.28899999999999998,0.27600000000000002,null,0.30199999999999999]
[384,"Wakefield",0.33500000000000002,0.33500000000000002,0.30199999999999999,null,0.38299999999999995]
[335,"Walsall",0.30399999999999999,0.311,0.309,null,0.40799999999999997]
[320,"Waltham Forest",0.34,0.34,0.309,null,0.36299999999999999]
[212,"Wandsworth",0.311,0.33,0.29699999999999999,null,0.33600000000000002]
[877,"Warrington",0.30099999999999999,0.28699999999999998,0.30399999999999999,null,0.375]
[937,"Warwickshire",0.28300000000000003,0.28399999999999997,0.29299999999999998,null,0.38100000000000001]
[869,"West Berkshire",0.26800000000000002,0.24299999999999999,0.253,null,0.26500000000000001]
[938,"West Sussex",0.314,0.30499999999999999,0.28399999999999997,null,0.30399999999999999]
[213,"Westminster",0.36,0.307,0.28600000000000003,null,0.38700000000000001]
[359,"Wigan",0.33,0.316,0.307,null,0.41299999999999998]
[865,"Wiltshire",0.29199999999999998,0.29299999999999998,0.27,null,0.317]
[868,"Windsor and Maidenhead",0.31,0.26,0.25600000000000001,null,0.26899999999999996]
[344,"Wirral",0.27600000000000002,0.29899999999999999,0.28000000000000003,null,0.39500000000000002]
[872,"Wokingham",0.28699999999999998,0.25,0.26500000000000001,null,0.27200000000000002]
[336,"Wolverhampton",0.35700000000000004,0.36700000000000005,0.34899999999999998,null,0.40799999999999997]
[885,"Worcestershire",0.313,0.314,0.30599999999999999,null,0.34899999999999998]
[816,"York",0.29600000000000004,0.28499999999999998,0.27399999999999997,null,0.313]
[]
[]
[]
["* A new profile was introduced in September 2012 which is substantially different from the old profile. Figures for 2013 are therefore not comparable with earlier years."]
[]
["Source: DfE: Early Years Foundation Stage Profile Results in England 2012/13"]
["https://www.gov.uk/government/publications/early-years-foundation-stage-profile-results-2012-to-2013"]
[]
["1. For more information on the Early Years Foundation Stage Profile please see technical notes."]
["2. Percentage of children achieving a good level of development:"]
["    a. 2010 to 2012 - children achieving 6 or more points across the 7 scales of personal, social and emotional development"]
["    and communication, language and literacy and who also achieve 78 points or more across all 13 scales."]
["    b. 2013 -  children achieving at least the expected level within the three prime areas of learning: communication and language, physical development and personal, social and emotional development"]
["    and the early learning goals within the literacy and mathematics areas of learning."]
["3. Only includes pupils with a valid result for every achievement scale."]
["4. The percentage gap in achievement between the lowest 20 per cent of achieving children in a local authority (mean score), and the score of the median"]
["child in the same authority expressed as a percentage of the same median score."]
[".. Not available"]
["x Value suppressed to protect confidentiality"]

{"sheet":"Data","index":20,"n_rows":160,"n_cols":46,"rows_kept":160,"cut":false,"hidden":true,"merged":[[1,39,1,41],[1,20,1,22],[1,23,1,25],[1,32,1,34],[1,29,1,31],[1,26,1,28],[1,17,1,19],[1,14,1,16],[1,5,1,7],[1,2,1,3],[1,8,1,10],[1,11,1,13]]}
[null,"Source"]
[null,null,"Funding",null,"Ofsted","Context",null,null,"Good Level of Development",null,null,"FSM Gap",null,null,"Achievement Gap",null,null,"Number of 3YO",null,null,"3YO Take-up",null,null,"Number of 4YO",null,null,"4YO Take-up",null,null,"3 + 4 YO Numbers",null,null,"3 + 4 YO Take-up",null,null,"Ofsted","GLD - New","FSM Gap - New","Achievement Gap - New","EYPS/QTS Working directly with 3 and 4 year olds"]
["LA","LA name","Hourly rate 2YOs (2013-14)","Hourly rate 3 and 4YOs (2013-14)","% of childcare and early years settings rated Good or Outstanding by Ofsted (October 2013)","Number of 0 to 4 year olds - mid-year 2012 population","English Indices of Deprivaton Rank (with most deprived equalling 1) 2010","% of 3 and 4 year olds in PVI Providers 2013",2010,2011,2012,2010,2011,2012,2010,2011,2012,2011,2012,2013,2011,2012,2013,2011,2012,2013,2011,2012,2013,2011,2012,2013,2011,2012,2013,"% of children's centres rated Good or Outstanding by Ofsted August 2013",2013,2013,2013,2011,2012,2013,"Hourly 2YO Funding Allocated (2013-14)","% of 3 and 4 year olds in maintained Providers 2013","% Children with a EYPS/QTS 2013"]
[201,"City of London",".",5.78,1,300,140,0.44,0.79,0.87,0.75,"x",7.0000000000000007E-2,-0.27,0.17499999999999999,0.19,0.40200000000000002,30,50,50,0.73,1.3,1.1399999999999999,30,30,50,0.81,0.72,1.1499999999999999,60,80,100,0.76,1.02,1.1499999999999999,1,0.64,0.25,0.36099999999999999,0,0,0,7.08,0.51,0,"E09000001"]
[202,"Camden",9.1,6.27,0.73,13800,59,0.44,0.57999999999999996,0.57999999999999996,0.62,0.21,0.14000000000000001,0.16,0.33899999999999997,0.30299999999999999,0.28899999999999998,2110,1910,2060,0.83,0.74,0.82,1950,1990,2040,0.82,0.81,0.82,4060,3900,4090,0.83,0.77,0.82,0.9,0.47,0.19,0.36799999999999999,0.59,0.55000000000000004,0.64,6.07,0.55000000000000004,0.74,"E09000007"]
[203,"Greenwich",6,4.6100000000000003,0.77,21500,26,0.21,0.61,0.63,0.74,0.1,0.14000000000000001,0.1,0.315,0.33799999999999997,0.27399999999999997,3780,3670,3610,0.92,0.86,0.88,3540,3720,3710,0.9,0.92,0.9,7330,7390,7330,0.91,0.89,0.89,0.67,0.69,0.12,0.29299999999999998,0.31,0.42,0.41,6.07,0.79,0.43,"E09000011"]
[204,"Hackney",6.08,5.43,0.79,19600,2,0.39,0.48,0.54,0.63,0.08,0.06,0.05,0.31900000000000001,0.317,0.29899999999999999,3320,3360,3450,0.89,0.91,0.93,3310,3330,3520,0.9,0.94,0.99,6640,6700,6970,0.9,0.92,0.96,0.75,0.56999999999999995,0.03,0.32600000000000001,0.43,0.33,0.3,6.07,0.61,0.28999999999999998,"E09000012"]
[205,"Hammersmith and Fulham",".",".",0.66,11900,46,0.39,0.62,0.68,0.7,0.13,0.06,0.08,0.32,0.311,0.30299999999999999,2110,2200,2190,0.95,0.98,0.96,1970,1920,1940,0.9,0.89,0.9,4080,4110,4130,0.92,0.93,0.93,0.75,0.53,0.18,0.32500000000000001,0.45,0.55000000000000004,0.48,6.07,0.6,0.59,"E09000013"]
[206,"Islington",9.99,4.62,0.76,12700,13,0.28000000000000003,0.47,0.55000000000000004,0.6,0.15,0.12,0.11,0.34499999999999997,0.33100000000000002,0.32200000000000001,2290,2320,2290,0.96,0.97,0.98,2190,2230,2250,0.98,0.96,0.98,4480,4550,4540,0.97,0.97,0.98,0.91,0.44,0.14000000000000001,0.34200000000000003,0.56000000000000005,0.63,0.65,6.07,0.71,0.81,"E09000019"]
[207,"Kensington and Chelsea",".",5.89,0.77,9100,73,0.43,0.59,0.63,0.69,"x",0.12,0.09,0.30499999999999999,0.29600000000000004,0.29199999999999998,1350,1340,1380,0.73,0.75,0.79,1400,1370,1350,0.78,0.79,0.78,2740,2700,2730,0.75,0.77,0.79,1,0.48,0.12,0.36899999999999999,0.59,0.68,0.65,6.07,0.56999999999999995,0.81,"E09000020"]
[208,"Lambeth",".",5.88,0.7,21100,27,0.31,0.55000000000000004,0.59,0.63,0.06,0.13,0.15,0.33100000000000002,0.312,0.28800000000000003,3540,3620,3630,0.88,0.89,0.91,3390,3410,3520,0.88,0.89,0.9,6930,7030,7150,0.88,0.89,0.91,0.88,0.46,0.14000000000000001,0.39600000000000002,0.5,0.52,0.52,6.07,0.69,0.54,"E09000022"]
[209,"Lewisham",6,5.41,0.71,22500,29,0.26,0.56000000000000005,0.61,0.68,0.1,0.12,0.12,0.32899999999999996,0.29899999999999999,0.26100000000000001,3350,3510,3630,0.78,0.8,0.84,3530,3650,3810,0.87,0.87,0.89,6870,7160,7450,0.82,0.84,0.86,0.75,0.68,0.11,0.25,0.27,0.33,0.42,6.07,0.71,0.43,"E09000023"]
[210,"Southwark",8.36,5.8,0.72,21500,35,0.22,0.56000000000000005,0.64,0.69,0.14000000000000001,0.11,0.08,0.32100000000000001,0.308,0.29899999999999999,3120,3120,3300,0.77,0.77,0.82,3510,3450,3670,0.93,0.89,0.94,6620,6570,6970,0.85,0.83,0.88,0.65,0.6,0.1,0.33200000000000002,0.38,0.52,0.56000000000000005,6.07,0.76,0.59,"E09000028"]
[211,"Tower Hamlets",6,5.47,0.72,19900,7,0.18,0.46,0.5,0.55000000000000004,0.08,0.06,7.0000000000000007E-2,0.33100000000000002,0.317,0.32600000000000001,3110,3100,3260,0.85,0.84,0.88,3420,3480,3530,0.97,0.99,0.98,6530,6580,6780,0.91,0.91,0.93,1,0.46,0.05,0.377,0.28999999999999998,0.3,0.28000000000000003,6.07,0.82,0.43,"E09000030"]
[212,"Wandsworth",".",5.52,0.75,22200,84,0.41,0.63,0.65,0.67,0.19,0.22,0.18,0.311,0.33,0.29699999999999999,3570,3680,3710,0.88,0.9,0.89,3520,3600,3760,0.94,0.94,0.97,7090,7280,7470,0.91,0.92,0.93,0.88,0.54,0.18,0.33600000000000002,0.56000000000000005,0.54,0.62,6.07,0.57999999999999996,0.78,"E09000032"]
[213,"Westminster",".",6.81,0.74,13400,66,0.35,0.46,0.55000000000000004,0.64,0.16,0.1,0.08,0.36,0.307,0.28600000000000003,1910,1970,1890,0.81,0.8,0.76,1860,1920,1920,0.82,0.83,0.81,3780,3890,3810,0.82,0.82,0.79,0.5,0.5,0.12,0.38700000000000001,0.36,0.41,0.35,6.07,0.62,0.39,"E09000033"]
[301,"Barking and Dagenham",5.2,3.87,0.74,19200,20,0.22,0.51,0.55000000000000004,0.61,0.1,0.13,0.11,0.34799999999999998,0.32400000000000001,0.30299999999999999,2580,2980,3100,0.69,0.78,0.82,3270,3380,3590,0.92,0.9,0.95,5850,6360,6690,0.8,0.84,0.89,1,0.46,0.12,0.38299999999999995,0.1,0.31,0.34,5.28,0.77,0.39,"E09000002"]
[302,"Barnet",6,4.57,0.75,27300,106,0.3,0.64,0.69,0.69,0.13,0.19,0.14000000000000001,0.29799999999999999,0.29100000000000004,0.309,4100,4340,4320,0.8,0.82,0.82,4120,4390,4570,0.83,0.86,0.87,8220,8730,8890,0.82,0.84,0.84,0.67,0.6,0.16,0.32,0.4,0.43,0.49,5.53,0.7,0.49,"E09000003"]
[303,"Bexley",5.28,3.85,0.78,15700,105,0.35,0.6,0.68,0.71,0.27,0.16,0.18,0.29299999999999998,0.28300000000000003,0.26800000000000002,2770,2810,2870,0.9,0.9,0.94,2940,3190,3200,0.99,1.03,1.02,5720,6000,6080,0.95,0.97,0.98,0.83,0.64,0.2,0.27600000000000002,0.3,0.34,0.4,5.28,0.63,0.4,"E09000004"]
[304,"Brent",6,4.51,0.64,23200,30,0.32,0.43,0.56999999999999995,0.64,0.11,0.11,0.09,0.35200000000000004,0.32400000000000001,0.309,3310,3510,3690,0.76,0.79,0.84,3750,3880,4040,0.89,0.9,0.93,7050,7390,7730,0.82,0.84,0.89,0.38,0.56000000000000005,0.04,0.33500000000000002,0.45,0.53,0.54,5.53,0.66,0.53,"E09000005"]
[305,"Bromley",6.38,4.03,0.89,20800,123,0.61,0.54,0.57999999999999996,0.68,0.22,0.23,0.19,0.33299999999999996,0.312,0.29199999999999998,3760,3920,4010,0.94,0.97,0.97,3790,3920,4100,0.96,0.98,1,7540,7840,8110,0.95,0.97,0.99,1,0.61,0.25,0.313,0.38,0.41,0.42,5.28,0.39,0.49,"E09000006"]
[306,"Croydon",6,3.97,0.79,28600,77,0.39,0.57999999999999996,0.63,0.65,0.15,0.12,0.14000000000000001,0.314,0.28399999999999997,0.29899999999999999,4500,4600,4630,0.83,0.82,0.84,4820,5110,5150,0.93,0.92,0.92,9320,9710,9780,0.88,0.87,0.88,0.62,0.46,0.15,0.39100000000000001,0.21,0.35,0.33,5.28,0.6,0.36,"E09000008"]
[307,"Ealing",".",4.3099999999999996,0.71,26200,64,0.24,0.53,0.6,0.61,0.16,0.13,0.12,0.35100000000000003,0.33200000000000002,0.32299999999999995,4270,4390,4540,0.86,0.87,0.91,4460,4720,4860,0.95,0.96,0.99,8730,9110,9400,0.9,0.92,0.95,0.73,0.56000000000000005,0.09,0.33399999999999996,0.53,0.53,0.52,5.53,0.74,0.6,"E09000009"]
[308,"Enfield",6,3.99,0.71,25000,51,0.36,0.51,0.56999999999999995,0.59,0.14000000000000001,0.13,0.15,0.37,0.34299999999999997,0.32400000000000001,3650,3800,3880,0.76,0.76,0.79,4280,4660,4730,0.91,0.95,0.95,7930,8460,8620,0.83,0.85,0.87,0.67,0.49,0.11,0.39799999999999996,0.3,0.43,0.49,5.28,0.63,0.47,"E09000010"]
[309,"Haringey",5.39,4.68,0.62,18300,12,0.21,0.42,0.54,0.56000000000000005,0.15,0.14000000000000001,0.11,0.36200000000000004,0.32100000000000001,0.32500000000000001,2890,2930,2950,0.8,0.82,0.84,3120,3280,3300,0.89,0.95,0.95,6000,6210,6240,0.84,0.88,0.9,0.62,0.5,0.13,0.36599999999999999,0.44,0.52,0.48,5.28,0.78,0.43,"E09000014"]
[310,"Harrow",5.53,4.1399999999999997,0.69,16600,117,0.43,0.53,0.56000000000000005,0.6,0.21,0.21,0.14000000000000001,0.377,0.36499999999999999,0.308,2400,2530,2680,0.76,0.78,0.83,2730,2870,3010,0.88,0.9,0.92,5140,5400,5680,0.82,0.84,0.87,0.5,0.45,0.16,0.379,0.36,0.36,0.38,5.53,0.56000000000000005,0.39,"E09000015"]
[311,"Havering",".",4.1399999999999997,0.72,14300,107,0.5,0.6,0.59,0.6,0.16,0.19,0.15,0.28699999999999998,0.27100000000000002,0.317,2620,2720,2700,0.95,0.96,0.96,2720,2890,3050,1,1.04,1.05,5340,5610,5750,0.97,1,1.01,0.8,0.59,0.23,0.27300000000000002,0.16,0.2,0.38,5.28,0.49,0.36,"E09000016"]
[312,"Hillingdon",6,4.6500000000000004,0.69,21000,92,0.23,0.6,0.59,0.63,0.18,0.19,0.14000000000000001,0.32600000000000001,0.308,0.315,3470,3670,3840,0.9,0.91,0.95,3850,4000,4150,1.02,1.02,1.02,7320,7670,7990,0.96,0.96,0.98,0.78,0.41,0.16,0.36599999999999999,0.37,0.37,0.4,5.53,0.75,0.47,"E09000017"]
[313,"Hounslow",".",4.58,0.72,20800,82,0.27,0.54,0.52,0.59,0.17,0.13,0.11,0.35399999999999998,0.35499999999999998,0.32299999999999995,2720,3020,3170,0.71,0.76,0.81,3150,3360,3580,0.88,0.89,0.92,5860,6380,6750,0.79,0.82,0.87,0.75,0.4,0.14000000000000001,0.37200000000000005,0.39,0.42,0.45,5.53,0.71,0.51,"E09000018"]
[314,"Kingston upon Thames",6.2,3.87,0.84,11500,137,0.34,0.66,0.66,0.71,0.22,0.14000000000000001,0.2,0.28499999999999998,0.29600000000000004,0.29299999999999998,2000,2020,2070,0.93,0.9,0.92,1850,2100,2150,0.91,0.99,0.95,3850,4120,4220,0.92,0.94,0.94,0.5,0.56999999999999995,0.22,0.28300000000000003,0.5,0.49,0.51,5.53,0.66,0.57999999999999996,"E09000021"]
[315,"Merton",5.71,4.5999999999999996,0.77,15500,127,0.19,0.62,0.61,0.66,0.2,0.13,0.16,0.28399999999999997,0.27699999999999997,0.29600000000000004,2780,2910,2890,0.95,1.01,0.97,2600,2880,2860,0.94,1.02,1.01,5390,5780,5750,0.95,1.02,0.99,1,0.46,0.15,0.38900000000000001,0.44,0.42,0.45,5.53,0.8,0.56000000000000005,"E09000024"]
[316,"Newham",5.28,4.51,0.6,26700,3,0.16,0.44,0.56999999999999995,0.64,0.05,0.02,7.0000000000000007E-2,0.34799999999999998,0.35200000000000004,0.311,4670,4720,4770,0.92,0.93,0.98,4600,4940,4980,0.95,1.01,1.02,9260,9660,9750,0.93,0.97,1,0.79,0.55000000000000004,0.02,0.371,0.31,0.33,0.28999999999999998,5.28,0.83,0.23,"E09000025"]
[317,"Redbridge",6,3.76,0.8,22200,89,0.35,0.56999999999999995,0.6,0.63,0.15,0.16,0.13,0.33399999999999996,0.318,0.32799999999999996,3850,3920,4070,0.91,0.89,0.93,4070,4280,4270,0.99,0.99,0.96,7920,8200,8340,0.95,0.94,0.94,0,0.6,0.14000000000000001,0.32,0.37,0.37,0.35,5.28,0.63,0.39,"E09000026"]
[318,"Richmond upon Thames",6.1,3.68,0.84,14500,143,0.52,0.68,0.69,0.72,0.33,0.31,0.33,0.24299999999999999,0.26700000000000002,0.26100000000000001,2550,2650,2610,0.94,0.95,0.92,2650,2740,2850,1.03,1.02,1.02,5200,5390,5460,0.99,0.98,0.97,0.75,0.43,0.24,0.29600000000000004,0.55000000000000004,0.63,0.67,5.53,0.48,0.72,"E09000027"]
[319,"Sutton",5.34,4.34,0.83,13400,118,0.32,0.63,0.65,0.68,0.22,0.25,0.14000000000000001,0.32400000000000001,0.29799999999999999,0.28999999999999998,2230,2240,2370,0.89,0.87,0.9,2210,2370,2440,0.9,0.94,0.94,4440,4610,4810,0.89,0.9,0.92,0.78,0.41,0.17,0.34600000000000003,0.24,0.24,0.27,5.53,0.68,0.28999999999999998,"E09000029"]
[320,"Waltham Forest",6,4.45,0.69,21500,14,0.24,0.45,0.51,0.63,7.0000000000000007E-2,0.03,0.08,0.34,0.34,0.309,3490,3590,3550,0.84,0.86,0.87,3520,3750,3860,0.91,0.93,0.96,7010,7340,7410,0.88,0.9,0.91,0.9,0.56000000000000005,0.05,0.36299999999999999,0.32,0.46,0.45,5.28,0.72,0.48,"E09000031"]
[330,"Birmingham",".",5.31,0.72,83900,9,0.31,0.55000000000000004,0.6,0.62,0.14000000000000001,0.15,0.12,0.35299999999999998,0.34200000000000003,0.34399999999999997,13350,14060,14280,0.82,0.84,0.87,14970,15750,15950,0.94,0.97,0.96,28330,29800,30220,0.88,0.91,0.92,0.54,0.5,0.15,0.40600000000000003,0.31,0.28000000000000003,0.3,4.8899999999999997,0.68,0.39,"E08000025"]
[331,"Coventry",".",3.55,0.74,23200,42,0.33,0.53,0.59,0.62,0.17,0.12,0.12,0.34200000000000003,0.32799999999999996,0.313,3800,3990,3970,0.87,0.89,0.88,4120,4240,4450,0.99,0.98,1,7920,8230,8420,0.93,0.94,0.94,0.54,0.55000000000000004,0.17,0.36399999999999999,0.25,0.23,0.21,4.8899999999999997,0.66,0.24,"E08000026"]
[332,"Dudley",4.5,3.63,0.85,19100,74,0.34,0.52,0.54,0.6,0.23,0.23,0.2,0.32,0.314,0.31900000000000001,3410,3600,3590,0.92,0.94,0.94,3580,3620,3800,0.96,0.97,0.99,6990,7220,7390,0.94,0.96,0.96,0.86,0.51,0.22,0.39899999999999997,0.33,0.32,0.32,4.8899999999999997,0.66,0.3,"E08000027"]
[333,"Sandwell",4.8499999999999996,3.57,0.68,23600,11,0.18,0.49,0.55000000000000004,0.59,0.15,0.15,0.17,0.36599999999999999,0.35200000000000004,0.32600000000000001,3850,4150,4130,0.85,0.88,0.9,3980,4220,4560,0.91,0.94,0.97,7840,8370,8690,0.88,0.91,0.94,0.92,0.46,0.14000000000000001,0.39700000000000002,0.28999999999999998,0.16,0.22,4.8899999999999997,0.82,0.25,"E08000028"]
[334,"Solihull",5,2.99,0.76,11900,111,0.24,0.69,0.69,0.72,0.26,0.23,0.24,0.28199999999999997,0.311,0.30199999999999999,2450,2560,2440,1.05,1.1000000000000001,1.04,2630,2710,2780,1.1100000000000001,1.1299999999999999,1.1599999999999999,5080,5260,5220,1.08,1.1200000000000001,1.1000000000000001,0.8,0.56000000000000005,0.28999999999999998,0.38900000000000001,0.3,0.39,0.35,4.8899999999999997,0.76,0.44,"E08000029"]
[335,"Walsall",".",4.0599999999999996,0.81,18600,28,0.14000000000000001,0.51,0.51,0.57999999999999996,0.13,0.19,0.19,0.30399999999999999,0.311,0.309,3250,3450,3390,0.9,0.92,0.93,3570,3520,3700,0.99,0.97,0.99,6820,6970,7090,0.95,0.95,0.96,0.8,0.46,0.19,0.40799999999999997,0.4,0.54,0.42,4.8899999999999997,0.85,0.56000000000000005,"E08000030"]
[336,"Wolverhampton",".",4.95,0.69,17400,19,0.1,0.52,0.52,0.57999999999999996,0.2,0.13,0.14000000000000001,0.35700000000000004,0.36700000000000005,0.34899999999999998,2950,2880,2890,0.9,0.86,0.87,2980,3180,3100,0.95,0.98,0.93,5930,6050,5990,0.92,0.92,0.9,0.94,0.44,0.13,0.40799999999999997,0.33,0.42,0.44,4.8899999999999997,0.89,0.45,"E08000031"]
[340,"Knowsley",4.7,4.3099999999999996,0.77,9300,5,0.11,0.56999999999999995,0.61,0.66,0.18,0.14000000000000001,0.15,0.28899999999999998,0.29399999999999998,0.28800000000000003,1830,1840,1760,0.99,1,0.98,1820,1810,1850,0.99,1,1.01,3650,3640,3620,0.99,1,0.99,1,0.55000000000000004,0.17,0.31900000000000001,0.52,0.56000000000000005,0.59,4.87,0.88,0.72,"E08000011"]
[341,"Liverpool",4.9000000000000004,5.03,0.74,27200,1,0.25,0.46,0.51,0.55000000000000004,0.2,0.16,0.19,0.34200000000000003,0.32600000000000001,0.32400000000000001,4710,5040,4930,0.91,0.96,0.95,5030,4960,5220,1.02,0.98,1.01,9740,9990,10150,0.97,0.97,0.98,0.94,0.51,0.2,0.34899999999999998,0.38,0.2,0.44,4.87,0.75,0.53,"E08000012"]
[342,"St. Helens",4.8499999999999996,3.24,0.8,10600,43,0.32,0.55000000000000004,0.6,0.66,0.22,0.25,0.25,0.313,0.311,0.28800000000000003,1840,2000,1870,0.91,0.96,0.89,2070,2020,2170,1.04,1,1.04,3910,4030,4040,0.97,0.98,0.96,0.25,0.56999999999999995,0.19,0.38600000000000001,0.32,0.37,0.37,4.87,0.68,0.43,"E08000013"]
[343,"Sefton",4.55,4.0999999999999996,0.8,14700,68,0.28000000000000003,0.55000000000000004,0.59,0.63,0.24,0.24,0.21,0.3,0.29600000000000004,0.27500000000000002,2830,2870,2950,0.99,0.99,1,2860,2930,2910,1,1.01,1,5690,5800,5860,0.99,1,1,1,0.51,0.24,0.317,0.39,0.45,0.42,4.87,0.71,0.46,"E08000014"]
[344,"Wirral",4.8499999999999996,3.79,0.72,18900,48,0.43,0.57999999999999996,0.56999999999999995,0.61,0.18,0.23,0.22,0.27600000000000002,0.29899999999999999,0.28000000000000003,3630,3390,3640,0.97,0.91,0.99,3690,3310,3840,0.99,0.88,1.02,7310,6700,7480,0.98,0.89,1,0.83,0.47,0.25,0.39500000000000002,0.48,0.47,0.53,4.87,0.56000000000000005,0.56000000000000005,"E08000015"]
[350,"Bolton",4.8499999999999996,4.25,0.77,19300,31,0.28999999999999998,0.59,0.6,0.62,0.22,0.15,0.22,0.32700000000000001,0.35,0.33399999999999996,3470,3710,3670,0.93,0.99,0.96,3650,3740,3890,0.99,1.01,1.03,7120,7460,7560,0.96,1,1,0.22,0.48,0.19,0.41100000000000003,0.31,0.45,0.37,4.95,0.7,0.47,"E08000001"]
[351,"Bury",6.79,3.61,0.61,12600,81,0.33,0.48,0.52,0.57999999999999996,0.22,0.2,0.18,0.30399999999999999,0.28899999999999998,0.29399999999999998,2220,2300,2310,0.92,0.93,0.95,2320,2390,2420,0.98,0.99,0.97,4540,4700,4730,0.95,0.96,0.96,0.5,0.51,0.24,0.38700000000000001,0.37,0.43,0.46,4.95,0.66,0.52,"E08000002"]
[352,"Manchester",4.8499999999999996,5.68,0.59,37500,4,0.19,0.53,0.54,0.57999999999999996,0.13,0.11,0.09,0.376,0.34200000000000003,0.34399999999999997,5950,6120,6280,0.85,0.85,0.88,6390,6580,6750,0.94,0.94,0.96,12350,12700,13030,0.89,0.89,0.92,0.32,0.47,0.11,0.41100000000000003,0.46,0.33,0.34,4.95,0.8,0.39,"E08000003"]
[353,"Oldham",4.8499999999999996,4.0199999999999996,0.68,16500,32,0.27,0.46,0.52,0.55000000000000004,0.18,0.19,0.22,0.34600000000000003,0.37200000000000005,0.33200000000000002,2890,2970,3070,0.87,0.89,0.94,3280,3390,3330,1.01,1.02,1,6170,6350,6400,0.93,0.95,0.97,1,0.41,0.18,0.42899999999999999,0.28999999999999998,0.28000000000000003,0.27,4.95,0.73,0.31,"E08000004"]
[354,"Rochdale",4.95,4.1900000000000004,0.72,15000,21,0.34,0.53,0.54,0.56000000000000005,0.18,0.21,0.19,0.34799999999999998,0.34100000000000003,0.316,2760,2750,2730,0.92,0.92,0.93,2770,2930,2930,0.94,0.99,0.99,5530,5680,5650,0.93,0.96,0.96,0.33,0.42,0.18,0.41,0.25,0.25,0.27,4.95,0.66,0.28000000000000003,"E08000005"]
[355,"Salford",4.8499999999999996,4.88,0.65,16800,17,0.27,0.56999999999999995,0.56999999999999995,0.6,0.18,0.15,0.14000000000000001,0.33,0.32600000000000001,0.314,2760,2950,2970,0.87,0.93,0.93,3050,3090,3390,1.01,0.98,1.07,5810,6040,6360,0.94,0.95,1,0.6,0.53,0.16,0.35200000000000004,0.43,0.34,0.35,4.95,0.72,0.53,"E08000006"]
[356,"Stockport",".",4.6100000000000003,0.75,17500,96,0.32,0.63,0.66,0.69,0.26,0.28000000000000003,0.3,0.30399999999999999,0.30399999999999999,0.28399999999999997,3160,3310,3270,0.91,0.94,0.95,3520,3480,3640,1.02,0.99,1.03,6680,6790,6910,0.97,0.97,0.99,0.86,0.54,0.24,0.34299999999999997,0.45,0.48,0.48,4.95,0.68,0.56000000000000005,"E08000007"]
[357,"Tameside",4.8499999999999996,3.31,0.65,14800,36,0.27,0.54,0.56999999999999995,0.59,0.22,0.24,0.22,0.28800000000000003,0.32100000000000001,0.31,2610,2590,2790,0.93,0.89,0.94,2760,2880,2890,1.02,1.03,0.99,5370,5470,5680,0.97,0.96,0.97,0.22,0.42,0.18,0.35700000000000004,0.2,0.15,0.39,4.95,0.72,0.43,"E08000008"]
[358,"Trafford",".",3.55,0.79,15100,103,0.28999999999999998,0.66,0.69,0.75,0.26,0.21,0.23,0.29499999999999998,0.28899999999999998,0.27600000000000002,2840,2820,2920,0.97,0.93,0.98,2870,3010,2980,0.98,1,0.97,5710,5830,5900,0.97,0.96,0.97,0.63,0.61,0.25,0.30199999999999999,0.47,0.5,0.49,4.95,0.7,0.59,"E08000009"]
[359,"Wigan",4.9000000000000004,3.69,0.75,19600,52,0.39,0.59,0.57999999999999996,0.61,0.24,0.26,0.24,0.33,0.316,0.307,3400,3610,3540,0.88,0.9,0.89,3550,3620,3800,0.92,0.93,0.95,6960,7230,7340,0.9,0.92,0.92,0.53,0.38,0.23,0.41299999999999998,0.18,0.18,0.05,4.95,0.6,0.04,"E08000010"]
[370,"Barnsley",4.95,4.03,0.79,14400,40,0.24,0.5,0.54,0.59,0.16,0.16,0.26,0.34399999999999997,0.312,0.314,2650,2710,2720,0.96,0.97,0.97,2720,2710,2740,0.99,0.98,0.98,5370,5420,5460,0.97,0.98,0.97,0.53,0.5,0.23,0.37799999999999995,0.47,0.46,0.47,4.8499999999999996,0.76,0.46,"E08000016"]
[371,"Doncaster",4.8499999999999996,3.91,0.69,19300,33,0.21,0.57999999999999996,0.56999999999999995,0.62,0.18,0.17,0.18,0.32,0.32,0.307,3280,3430,3540,0.87,0.87,0.91,3550,3650,3730,0.96,0.96,0.95,6830,7080,7270,0.92,0.91,0.93,0.62,0.43,0.19,0.374,0.32,0.37,0.36,4.8499999999999996,0.79,0.46,"E08000017"]
[372,"Rotherham",4.8499999999999996,4.16,0.73,16000,45,0.25,0.56999999999999995,0.57999999999999996,0.6,0.25,0.22,0.23,0.33700000000000002,0.33299999999999996,0.30599999999999999,2900,3010,2950,0.92,0.92,0.93,3020,3260,3310,0.98,1.03,1.01,5920,6270,6270,0.95,0.97,0.97,0.84,0.56000000000000005,0.2,0.35700000000000004,0.31,0.33,0.38,4.8499999999999996,0.74,0.41,"E08000018"]
[373,"Sheffield",5.05,3.95,0.7,34300,47,0.35,0.52,0.59,0.63,0.17,0.14000000000000001,0.18,0.376,0.35399999999999998,0.34,6320,6400,6270,0.95,0.93,0.92,6100,6290,6390,0.93,0.94,0.94,12420,12680,12660,0.94,0.94,0.93,0.44,0.51,0.18,0.41299999999999998,0.35,0.41,0.46,4.8499999999999996,0.64,0.52,"E08000019"]
[380,"Bradford",".",5.18,0.71,41400,24,0.22,0.51,0.55000000000000004,0.57999999999999996,0.15,0.13,0.14000000000000001,0.371,0.34700000000000003,0.34299999999999997,7330,7770,7700,0.89,0.93,0.93,7600,7740,8100,0.94,0.95,0.98,14920,15510,15790,0.91,0.94,0.95,0.83,0.49,0.16,0.42599999999999999,0.39,0.42,0.46,4.8499999999999996,0.77,0.54,"E08000032"]
[381,"Calderdale",5.19,4.0199999999999996,0.69,13100,75,0.4,0.53,0.56000000000000005,0.6,0.25,0.25,0.22,0.33299999999999996,0.32500000000000001,0.309,2500,2720,2640,0.97,1.04,1.01,2660,2700,2780,1.04,1.05,1.06,5160,5420,5420,1,1.05,1.03,0.22,0.45,0.2,0.36799999999999999,0.53,0.01,0.01,4.8499999999999996,0.6,0.01,"E08000033"]
[382,"Kirklees",4.8499999999999996,4.37,0.73,28700,62,0.34,0.62,0.63,0.68,0.18,0.19,0.18,0.33600000000000002,0.33200000000000002,0.32200000000000001,5260,5340,5400,0.94,0.93,0.96,5380,5520,5600,0.97,0.98,0.98,10640,10860,11000,0.95,0.96,0.97,0.94,0.53,0.23,0.35,0.27,0.27,0.32,4.8499999999999996,0.66,0.38,"E08000034"]
[383,"Leeds",4.8499999999999996,4.1500000000000004,0.73,49500,55,0.28999999999999998,0.53,0.57999999999999996,0.63,0.24,0.24,0.21,0.35700000000000004,0.35,0.33600000000000002,8760,9260,9430,0.95,0.97,0.96,9060,9140,9620,1,1,1.01,17820,18400,19050,0.98,0.98,0.99,0.81,0.51,0.23,0.44600000000000001,0.57999999999999996,0.49,0.5,4.8499999999999996,0.7,0.57999999999999996,"E08000035"]
[384,"Wakefield",4.8499999999999996,4.08,0.68,20000,54,0.15,0.59,0.59,0.63,0.22,0.22,0.23,0.33500000000000002,0.33500000000000002,0.30199999999999999,3890,3980,3960,1.01,1.01,0.99,3810,3960,4050,1,1.03,1.02,7700,7950,8010,1,1.02,1.01,0.75,0.56999999999999995,0.22,0.38299999999999995,0.28000000000000003,0.33,0.44,4.8499999999999996,0.85,0.51,"E08000036"]
[390,"Gateshead",4.8499999999999996,4.1399999999999997,0.79,11900,37,0.28000000000000003,0.51,0.53,0.56999999999999995,0.22,0.22,0.25,0.32100000000000001,0.32700000000000001,0.28899999999999998,2140,2280,2260,0.95,0.97,0.94,2210,2150,2280,0.97,0.95,0.98,4350,4430,4540,0.96,0.96,0.96,0.6,0.34,0.19,0.34,0.36,0.4,0.52,4.8499999999999996,0.71,0.56000000000000005,"E08000020"]
[391,"Newcastle upon Tyne",4.8499999999999996,4.57,0.82,16900,34,0.28000000000000003,0.5,0.56999999999999995,0.61,0.2,0.17,0.21,0.35899999999999999,0.32400000000000001,0.30299999999999999,2900,2930,3100,0.91,0.89,0.94,2960,3120,3160,0.97,0.98,0.97,5860,6050,6250,0.94,0.93,0.95,1,0.44,0.21,0.371,0.32,0.39,0.38,4.8499999999999996,0.7,0.49,"E08000021"]
[392,"North Tyneside",".",3.55,0.86,11800,80,0.14000000000000001,0.59,0.61,0.61,0.23,0.19,0.24,0.28699999999999998,0.29499999999999998,0.314,2190,2360,2270,0.95,0.99,0.96,2370,2250,2460,1.02,0.97,1.03,4560,4600,4730,0.99,0.98,1,1,0.48,0.22,0.36499999999999999,0.52,0,0.46,4.8499999999999996,0.84,0.5,"E08000022"]
[393,"South Tyneside",5.51,3.94,0.63,8300,44,0.11,0.49,0.51,0.52,0.17,0.22,0.23,0.32600000000000001,0.32299999999999995,0.313,1510,1500,1460,0.93,0.91,0.88,1550,1640,1640,0.97,1.02,0.99,3060,3140,3100,0.95,0.96,0.93,0.8,0.5,0.23,0.36399999999999999,0.64,0.56999999999999995,0.5,4.8499999999999996,0.89,0.45,"E08000023"]
[394,"Sunderland",4.84,4.67,0.78,15700,38,0.11,0.57999999999999996,0.61,0.64,0.2,0.23,0.2,0.32899999999999996,0.32400000000000001,0.30599999999999999,3020,3130,3000,0.95,1.01,0.99,3170,3190,3280,1.02,1.02,1.06,6190,6320,6280,0.98,1.01,1.02,1,0.53,0.26,0.39399999999999996,0.52,0.74,0.71,4.8499999999999996,0.87,0.81,"E08000024"]
[420,"Isles of Scilly",5.09,4.7,1,100,78,0.2,0.67,0.62,0.69,"x","x","x",0.24199999999999999,0.28499999999999998,0.16800000000000001,50,20,20,1.65,0.99,1.4,20,40,20,0.77,1.21,0.71,70,60,40,1.23,1.1200000000000001,1,1,1,"**",0.105,0.5,0,0,4.8499999999999996,0.78,0,"E06000053"]
[800,"Bath and North East Somerset",5,3.72,0.82,9300,135,0.57999999999999996,0.56000000000000005,0.57999999999999996,0.62,0.26,0.28999999999999998,0.23,0.29100000000000004,0.27899999999999997,0.30599999999999999,1920,1910,1850,1.03,1.04,1.02,1890,1900,1910,1,1.01,1.03,3800,3810,3760,1.01,1.03,1.03,1,0.51,0.25,0.32,0.49,0.56999999999999995,0.62,5.07,0.42,0.69,"E06000022"]
[801,"Bristol, City of",5.03,4.62,0.68,30700,63,0.35,0.55000000000000004,0.56999999999999995,0.61,0.17,0.22,0.2,0.313,0.32500000000000001,0.31,4890,5270,5210,0.87,0.9,0.89,4930,5160,5460,0.93,0.93,0.96,9820,10430,10670,0.9,0.91,0.92,0.8,0.5,0.21,0.38600000000000001,0.72,0.7,0.73,5.07,0.64,0.78,"E06000023"]
[802,"North Somerset",5.56,3.99,0.77,12000,120,0.57999999999999996,0.62,0.64,0.71,0.3,0.18,0.28999999999999998,0.32299999999999995,0.28800000000000003,0.27500000000000002,2280,2360,2320,0.97,0.99,0.97,2290,2410,2420,0.98,1.03,0.99,4580,4760,4740,0.97,1.01,0.98,0.5,0.64,0.28000000000000003,0.23,0.39,0.45,0.5,5.07,0.42,0.5,"E06000024"]
[803,"South Gloucestershire",6.17,3.55,0.74,16200,141,0.64,0.55000000000000004,0.64,0.7,0.26,0.25,0.23,0.28199999999999997,0.26600000000000001,0.26300000000000001,3070,3200,3200,0.97,0.97,0.98,3090,3250,3350,1,1.01,1,6170,6450,6550,0.99,0.99,0.99,0.2,0.67,0.22,0.27500000000000002,0.4,0.47,0.48,5.07,0.35,0.51,"E06000025"]
[805,"Hartlepool",4.8499999999999996,3.49,0.77,5800,22,0.05,0.6,0.63,0.69,0.25,0.22,0.12,0.36299999999999999,0.28199999999999997,0.33,1110,1120,1140,0.97,0.97,0.99,1160,1140,1170,1.02,0.99,1.01,2270,2260,2310,0.99,0.98,1,0.75,0.48,0.26,0.39899999999999997,0.5,0.7,0.17,4.8499999999999996,0.94,0.1,"E06000001"]
[806,"Middlesbrough",".",3.63,0.76,9700,8,7.0000000000000007E-2,0.48,0.53,0.51,0.18,0.23,0.22,0.37,0.36799999999999999,0.375,1930,1860,1910,1.03,1.01,1.02,1810,1880,1850,0.97,1.01,1,3750,3740,3750,1,1.01,1.01,0.88,0.38,0.16,0.43700000000000006,0.25,0.38,0.5,4.8499999999999996,0.92,0.63,"E06000002"]
[807,"Redcar and Cleveland",9.68,3.71,0.64,7700,41,0.03,0.51,0.62,0.63,0.28000000000000003,0.23,0.2,0.318,0.30599999999999999,0.29600000000000004,1590,1560,1520,1.06,1.05,1.02,1540,1560,1590,0.99,1.05,1.07,3130,3120,3110,1.02,1.05,1.04,1,0.51,0.24,0.39899999999999997,0.25,0.28999999999999998,0.33,4.8499999999999996,0.97,0.31,"E06000003"]
[808,"Stockton-on-Tees",".",3.88,0.73,12500,71,0.09,0.61,0.6,0.62,0.3,0.26,0.26,0.34399999999999997,0.318,0.317,2330,2510,2400,0.96,1.01,0.96,2460,2390,2520,1.02,0.98,1.01,4790,4900,4920,0.99,1,0.98,0.67,0.41,0.24,0.41299999999999998,0.21,0.24,0.32,4.8499999999999996,0.9,0.49,"E06000004"]
[810,"Kingston upon Hull, City of",".",3.66,0.79,17800,10,0.25,0.51,0.51,0.55000000000000004,0.11,0.15,0.16,0.32100000000000001,0.316,0.32700000000000001,3170,3270,3270,0.95,0.94,0.95,3130,3210,3340,0.98,0.96,0.97,6300,6480,6610,0.96,0.95,0.96,0.5,0.42,0.1,0.40799999999999997,0.24,0.24,0.11,4.8499999999999996,0.75,0.15,"E06000010"]
[811,"East Riding of Yorkshire",5.21,3.91,0.87,16600,122,0.41,0.55000000000000004,0.55000000000000004,0.57999999999999996,0.19,0.22,0.23,0.28999999999999998,0.28899999999999998,0.27399999999999997,3440,3430,3420,1.03,1.03,1.03,3480,3570,3540,1.05,1.05,1.04,6920,7000,6950,1.04,1.04,1.03,1,0.55000000000000004,0.25,0.29799999999999999,0.37,0.34,0.39,4.8499999999999996,0.59,0.45,"E06000011"]
[812,"North East Lincolnshire",4.8899999999999997,3.21,0.7,10100,39,0.31,0.56999999999999995,0.59,0.57999999999999996,0.14000000000000001,0.16,0.15,0.29199999999999998,0.29299999999999998,0.28199999999999997,1850,1900,1960,0.94,0.95,0.97,1900,1920,1940,0.97,0.98,0.98,3750,3820,3900,0.96,0.96,0.97,1,0.51,0.12,0.34899999999999998,0.28999999999999998,0.33,0.44,4.8499999999999996,0.69,0.43,"E06000012"]
[813,"North Lincolnshire",4.8499999999999996,4.53,0.66,10200,83,0.34,0.56999999999999995,0.61,0.63,0.22,0.19,0.25,0.32400000000000001,0.28600000000000003,0.313,1810,1890,1850,0.89,0.9,0.89,1920,1900,1950,0.94,0.92,0.92,3730,3790,3800,0.92,0.91,0.9,1,0.53,0.22,0.35499999999999998,0.21,0.22,0.26,4.8499999999999996,0.65,0.3,"E06000013"]
[815,"North Yorkshire",5.14,4.16,0.85,31200,129,0.45,0.56999999999999995,0.56000000000000005,0.62,0.24,0.2,0.2,0.3,0.28800000000000003,0.28999999999999998,6000,6340,6130,0.96,1.01,0.98,6080,6090,6500,0.97,0.96,1.02,12080,12430,12630,0.96,0.98,1,0.56000000000000005,0.44,0.22,0.33299999999999996,0.37,0.4,0.42,4.8499999999999996,0.54,0.44,"E10000023"]
[816,"York",".",3.6,0.83,10700,131,0.46,0.61,0.61,0.61,0.22,0.25,0.25,0.29600000000000004,0.28499999999999998,0.27399999999999997,2080,2230,2210,1,1.05,1.05,2040,2100,2150,0.99,0.99,1.01,4120,4330,4360,1,1.02,1.03,0.83,0.56000000000000005,0.28999999999999998,0.313,0.36,0.4,0.4,4.8499999999999996,0.53,0.44,"E06000014"]
[821,"Luton",5.09,4.76,0.79,17000,56,0.46,0.49,0.53,0.55000000000000004,0.11,0.1,0.1,0.36700000000000005,0.36,0.36499999999999999,3000,3160,3070,0.9,0.93,0.94,3090,3270,3320,0.98,1,0.99,6080,6420,6390,0.94,0.96,0.96,0.56999999999999995,0.47,0.09,0.38900000000000001,0.25,0.27,0.3,5.03,0.53,0.35,"E06000032"]
[822,"Bedford Borough",5.03,4,0.9,10500,130,0.45,0.54,0.56000000000000005,0.61,0.22,0.21,0.24,0.317,0.30099999999999999,0.29199999999999998,1880,2090,2210,0.97,1.01,1.05,2040,2070,2220,1.05,1.05,1.07,3920,4160,4430,1.01,1.03,1.06,0.56000000000000005,0.48,0.19,0.33799999999999997,0.28000000000000003,0.28999999999999998,0.28999999999999998,5.03,0.55000000000000004,0.36,"E06000055"]
[823,"Central Bedfordshire",".",4.04,0.85,16600,130,0.42,0.53,0.55000000000000004,0.63,0.26,0.19,0.17,0.30099999999999999,0.28100000000000003,0.26400000000000001,3050,3300,3140,0.95,1.01,0.98,3170,3260,3470,0.99,1,1.04,6230,6550,6610,0.97,1,1.01,1,0.49,0.23,0.29499999999999998,0.25,0.45,0.38,5.03,0.57999999999999996,0.4,"E06000056"]
[825,"Buckinghamshire",5.31,4.21,0.81,32700,142,0.51,0.56999999999999995,0.59,0.65,0.28000000000000003,0.25,0.27,0.30399999999999999,0.30099999999999999,0.27699999999999997,5890,6160,6160,0.92,0.94,0.96,6010,6160,6410,0.95,0.95,0.96,11890,12320,12560,0.93,0.95,0.96,0.33,0.55000000000000004,0.25,0.32600000000000001,0.38,0.4,0.4,5.33,0.48,0.41,"E10000002"]
[826,"Milton Keynes",5.09,4.0999999999999996,0.77,20300,116,0.5,0.62,0.61,0.67,0.18,0.18,0.13,0.307,0.27899999999999997,0.29799999999999999,3440,3560,3680,0.9,0.89,0.91,3460,3610,3780,0.93,0.92,0.93,6890,7170,7460,0.91,0.9,0.92,0.67,0.49,0.2,0.36200000000000004,0.26,0.27,0.22,5.34,0.5,0.25,"E06000042"]
[830,"Derbyshire",4.8499999999999996,4.32,0.78,42100,99,0.36,0.61,0.61,0.68,0.19,0.2,0.2,0.318,0.32600000000000001,0.29699999999999999,8300,8520,8060,0.99,1.01,0.96,8220,8380,8690,0.98,1,1.02,16520,16900,16750,0.98,1,0.99,0.59,0.5,0.21,0.374,0.31,0.32,0.32,4.8499999999999996,0.64,0.36,"E10000007"]
[831,"Derby",4.8499999999999996,4.4800000000000004,0.68,18100,67,0.28000000000000003,0.49,0.52,0.56000000000000005,0.23,0.17,0.19,0.33600000000000002,0.34700000000000003,0.34100000000000003,3090,3300,3370,0.88,0.91,0.94,3180,3170,3390,0.96,0.9,0.95,6270,6470,6760,0.92,0.9,0.94,0.55000000000000004,0.41,0.17,0.41100000000000003,0.32,0.3,0.35,4.8499999999999996,0.71,0.36,"E06000015"]
[835,"Dorset",6.79,3.7,0.79,19500,125,0.63,0.67,0.67,0.75,0.21,0.22,0.2,0.27699999999999997,0.27100000000000002,0.25800000000000001,3840,4060,3810,0.98,1.02,0.96,3890,4070,4180,0.99,1.01,1.03,7730,8130,7990,0.98,1.02,0.99,0.14000000000000001,0.61,0.23,0.26200000000000001,0.35,0.39,0.43,4.88,0.36,0.42,"E10000009"]
[836,"Poole",4.88,3.8,0.81,8700,114,0.6,0.56000000000000005,0.63,0.68,0.32,0.17,0.26,0.318,0.28699999999999998,0.27500000000000002,1410,1530,1470,0.82,0.89,0.87,1460,1550,1590,0.9,0.91,0.92,2870,3090,3060,0.86,0.9,0.9,0,0.48,0.21,0.307,0.3,0.43,0.48,4.88,0.4,0.52,"E06000029"]
[837,"Bournemouth",4.8499999999999996,4.05,0.75,10900,72,0.64,0.55000000000000004,0.64,0.66,0.21,0.22,0.26,0.29499999999999998,0.27699999999999997,0.27699999999999997,1870,1990,2020,0.97,0.96,0.99,1810,1900,2000,1.03,0.97,0.98,3670,3880,4020,1,0.96,0.99,1,0.56999999999999995,0.18,0.29199999999999998,0.33,0.38,0.43,4.88,0.36,0.48,"E06000028"]
[840,"Durham",4.8499999999999996,4.04,0.73,28900,50,0.22,0.51,0.54,0.56999999999999995,0.24,0.28000000000000003,0.27,0.36700000000000005,0.34700000000000003,0.33399999999999996,5280,5370,5250,0.93,0.94,0.92,5430,5580,5640,0.98,0.98,0.98,10710,10950,10890,0.95,0.96,0.95,0.37,0.42,0.21,0.42799999999999999,0.38,0.4,0.39,4.8499999999999996,0.77,0.35,"E06000047"]
[841,"Darlington",".",3.82,0.7,6600,60,0.32,0.56999999999999995,0.65,0.68,0.28999999999999998,0.18,0.23,0.35899999999999999,0.35600000000000004,0.32799999999999996,1280,1350,1340,1,1.02,1.01,1290,1260,1320,1,0.99,1,2570,2610,2660,1,1,1,0.8,0.49,0.18,0.42499999999999999,0.32,0.41,0.44,4.8499999999999996,0.68,0.49,"E06000005"]
[845,"East Sussex",5.21,3.66,0.77,28100,90,0.61,0.56000000000000005,0.52,0.56999999999999995,0.21,0.22,0.17,0.31900000000000001,0.314,0.29799999999999999,5150,5200,5360,0.94,0.94,0.96,5320,5460,5520,0.96,0.98,0.98,10470,10660,10880,0.95,0.96,0.97,0.87,0.44,0.2,0.37200000000000005,0.3,0.36,0.37,4.8499999999999996,0.39,0.38,"E10000011"]
[846,"Brighton and Hove",6.23,4.1500000000000004,0.87,15300,53,0.54,0.63,0.64,0.67,0.28999999999999998,0.16,0.26,0.27699999999999997,0.27899999999999997,0.27600000000000002,2990,3040,3050,1,1.01,1.04,2850,3010,3030,0.99,1.02,1.02,5840,6060,6090,1,1.01,1.03,1,0.45,0.22,0.32600000000000001,0.52,0.52,0.59,4.8499999999999996,0.46,0.65,"E06000043"]
[850,"Hampshire",5.56,4.4400000000000004,0.81,78700,139,0.64,0.54,0.57999999999999996,0.64,0.24,0.23,0.26,0.29699999999999999,0.28999999999999998,0.26600000000000001,14430,14790,14850,0.94,0.94,0.95,14680,14900,15350,0.96,0.96,0.97,29110,29690,30200,0.95,0.95,0.96,0.9,0.59,0.24,0.28899999999999998,0.3,0.34,0.39,5.07,0.35,0.42,"E10000014"]
[851,"Portsmouth",4.8499999999999996,4.21,0.75,13600,61,0.54,0.61,0.64,0.64,0.14000000000000001,0.14000000000000001,0.17,0.33399999999999996,0.30099999999999999,0.30299999999999999,2420,2550,2550,0.94,0.95,0.94,2360,2380,2500,0.95,0.92,0.95,4780,4940,5040,0.94,0.93,0.94,0.67,0.55000000000000004,0.11,0.30099999999999999,0.19,0.24,0.28000000000000003,5.07,0.44,0.31,"E06000044"]
[852,"Southampton",4.8499999999999996,4.47,0.77,15900,65,0.55000000000000004,0.53,0.56000000000000005,0.56000000000000005,0.15,0.17,0.16,0.34499999999999997,0.33700000000000002,0.312,2710,2850,2810,0.93,0.93,0.93,2710,2870,2990,0.98,0.99,1,5430,5720,5800,0.95,0.96,0.96,1,0.51,0.17,0.35899999999999999,0.25,0.35,0.4,5.07,0.45,0.43,"E06000045"]
[855,"Leicestershire",4.8499999999999996,3.56,0.73,36500,136,0.65,0.56000000000000005,0.59,0.63,0.23,0.25,0.24,0.30399999999999999,0.28699999999999998,0.27899999999999997,6720,6850,6870,0.92,0.94,0.96,7130,7310,7390,0.98,0.99,1,13850,14160,14270,0.95,0.96,0.98,0.2,0.46,0.24,0.33500000000000002,0.26,0.28000000000000003,0.34,4.8499999999999996,0.35,0.37,"E10000018"]
[856,"Leicester",4.9000000000000004,3.56,0.63,25000,23,0.34,0.46,0.56000000000000005,0.64,0.13,0.11,0.09,0.35499999999999998,0.31,0.31,4230,4440,4350,0.89,0.9,0.91,4310,4520,4660,0.93,0.96,0.96,8540,8960,9020,0.91,0.93,0.93,0.54,0.28000000000000003,0.09,0.37,0.24,0.3,0.32,4.8499999999999996,0.65,0.4,"E06000016"]
[857,"Rutland",4.8499999999999996,4.01,0.78,1700,148,0.59,0.68,0.74,0.78,0.09,0.36,0.15,0.29799999999999999,0.28000000000000003,0.254,410,340,400,1.06,0.97,1.1000000000000001,400,390,380,1.02,1.03,1.05,810,730,770,1.04,1,1.07,0,0.56999999999999995,0.34,0.24100000000000002,0.21,0.17,0.17,4.8499999999999996,0.41,0.17,"E06000017"]
[860,"Staffordshire",4.8499999999999996,3.34,0.84,46200,112,0.44,0.64,0.65,0.68,0.24,0.24,0.24,0.29399999999999998,0.28999999999999998,0.27,8700,8910,8720,0.94,0.95,0.94,8930,9410,9570,0.97,1.01,1.01,17630,18320,18290,0.96,0.98,0.97,0.44,0.54,0.21,0.35700000000000004,0.14000000000000001,0.36,0.38,4.8499999999999996,0.56000000000000005,0.37,"E10000028"]
[861,"Stoke-on-Trent",".",4.68,0.83,17500,15,0.18,0.51,0.56000000000000005,0.6,0.16,0.17,0.17,0.35100000000000003,0.34700000000000003,0.318,2950,3130,2970,0.86,0.89,0.89,3030,3200,3390,0.95,0.95,0.98,5980,6330,6360,0.9,0.92,0.94,0.33,0.52,0.15,0.41499999999999998,0.19,0.15,0.18,4.8499999999999996,0.81,0.2,"E06000021"]
[865,"Wiltshire",5.67,3.88,0.75,28800,134,0.64,0.6,0.57999999999999996,0.64,0.21,0.24,0.26,0.29199999999999998,0.29299999999999998,0.27,5180,5420,5200,0.92,0.94,0.9,5360,5300,5560,0.96,0.92,0.95,10530,10710,10750,0.94,0.93,0.93,0.6,0.52,0.25,0.317,0.38,0.45,0.48,4.97,0.36,0.49,"E06000054"]
[866,"Swindon",4.95,3.85,0.72,14700,109,0.51,0.54,0.6,0.63,0.21,0.19,0.19,0.29600000000000004,0.29899999999999999,0.28199999999999997,2620,2640,2670,0.94,0.93,0.95,2560,2830,2800,0.95,1.01,0.98,5180,5460,5470,0.94,0.97,0.96,0.8,0.55000000000000004,0.21,0.30399999999999999,0.18,0.33,0.28000000000000003,4.97,0.46,0.28999999999999998,"E06000030"]
[867,"Bracknell Forest",5.46,3.85,0.87,8200,145,0.43,0.52,0.54,0.69,0.23,0.12,0.22,0.28699999999999998,0.249,0.254,1420,1510,1440,0.91,0.92,0.87,1430,1460,1550,0.95,0.92,0.95,2860,2970,2990,0.93,0.92,0.91,0,0.57999999999999996,0.26,0.27300000000000002,0.28999999999999998,0.28999999999999998,0.27,5.49,0.56000000000000005,0.28999999999999998,"E06000036"]
[868,"Windsor and Maidenhead",5,4.3600000000000003,0.82,9400,146,0.51,0.56000000000000005,0.65,0.72,0.11,0.19,0.18,0.31,0.26,0.25600000000000001,1850,1940,1910,1.02,1.03,0.98,1720,1880,1930,0.93,1.02,1.01,3570,3820,3840,0.97,1.03,1,0,0.55000000000000004,0.22,0.26899999999999996,0.49,0.43,0.45,5.49,0.48,0.5,"E06000040"]
[869,"West Berkshire",5.26,4.5,0.85,10100,144,0.48,0.61,0.63,0.68,0.33,0.28000000000000003,0.2,0.26800000000000002,0.24299999999999999,0.253,1870,1880,1920,0.92,0.92,0.95,1890,1990,2020,0.97,0.98,0.97,3750,3870,3940,0.94,0.95,0.96,0.2,0.61,0.22,0.26500000000000001,0.28999999999999998,0.3,0.36,5.36,0.52,0.38,"E06000037"]
[870,"Reading",5,4.3600000000000003,0.86,12300,87,0.34,0.59,0.64,0.7,0.19,0.15,0.21,0.35799999999999998,0.32899999999999996,0.29699999999999999,2070,2130,2160,0.89,0.88,0.93,1820,1990,2110,0.87,0.88,0.9,3890,4120,4270,0.88,0.88,0.92,0.83,0.51,0.13,0.33299999999999996,0.3,0.37,0.51,5.36,0.66,0.47,"E06000038"]
[871,"Slough",".",5.12,0.7,13100,69,0.2,0.48,0.62,0.64,0.16,0.16,0.1,0.35799999999999998,0.29899999999999999,0.29899999999999999,1960,2130,2270,0.79,0.84,0.89,2070,2250,2350,0.88,0.9,0.95,4040,4380,4630,0.83,0.87,0.92,1,0.5,0.14000000000000001,0.371,0.26,0.34,0.43,5.49,0.8,0.54,"E06000039"]
[872,"Wokingham",5,3.74,0.88,10300,149,0.5,0.55000000000000004,0.62,0.68,0.21,0.28000000000000003,0.26,0.28699999999999998,0.25,0.26500000000000001,1980,2070,2020,1,1.01,0.97,1980,2110,2190,1,1.04,1.04,3960,4180,4200,1,1.02,1,"-",0.47,0.23,0.27200000000000002,0.4,0.5,0.56999999999999995,5.36,0.5,0.68,"E06000041"]
[873,"Cambridgeshire",5.36,4.25,0.79,37800,132,0.55000000000000004,0.55000000000000004,0.6,0.64,0.23,0.25,0.23,0.32299999999999995,0.29100000000000004,0.28499999999999998,6880,7200,7090,0.95,0.96,0.95,6750,7170,7260,0.95,0.98,0.96,13630,14370,14350,0.95,0.97,0.95,0.42,0.51,0.22,0.33899999999999997,0.26,0.33,0.31,5.05,0.45,0.31,"E10000003"]
[874,"Peterborough",5.05,4.33,0.73,14700,57,0.59,0.5,0.55000000000000004,0.56999999999999995,0.14000000000000001,0.11,0.11,0.34899999999999998,0.34399999999999997,0.36,2460,2690,2720,0.91,0.95,0.96,2540,2680,2920,1,0.99,1.05,5000,5370,5640,0.95,0.97,1,0.5,0.47,0.16,0.42700000000000005,0.3,0.28999999999999998,0.24,5.05,0.4,0.24,"E06000031"]
[876,"Halton",4.95,3.69,0.69,8300,25,0.43,0.5,0.48,0.54,0.23,0.2,0.22,0.28800000000000003,0.29899999999999999,0.29699999999999999,1460,1490,1450,0.89,0.9,0.87,1530,1510,1540,0.91,0.92,0.93,2990,3000,2980,0.9,0.91,0.9,0.86,0.37,0.18,0.36200000000000004,0.24,0.22,0.14000000000000001,4.93,0.53,0.17,"E06000006"]
[877,"Warrington",".",3.85,0.73,12500,98,0.43,0.62,0.63,0.62,0.3,0.3,0.25,0.30099999999999999,0.28699999999999998,0.30399999999999999,2490,2520,2490,1.02,1,0.98,2390,2560,2560,1,1.04,1.01,4880,5080,5040,1.01,1.02,1,0.8,0.45,0.32,0.375,0.35,0.41,0.38,4.93,0.56999999999999995,0.41,"E06000007"]
[878,"Devon",5.48,3.92,0.84,38300,104,0.52,0.52,0.53,0.68,0.17,0.17,0.22,0.33100000000000002,0.311,0.27899999999999997,7440,7550,7790,1,1.01,1.04,7380,7570,7710,0.98,1,1.01,14810,15120,15500,0.99,1.01,1.02,0.63,0.64,0.19,0.26,0.44,0.44,0.39,4.8499999999999996,0.48,0.46,"E10000008"]
[879,"Plymouth",5.09,4.33,0.82,15700,58,0.51,0.56000000000000005,0.56000000000000005,0.61,0.18,0.2,0.16,0.30199999999999999,0.309,0.29600000000000004,2910,3000,3010,0.97,0.98,0.99,2930,3040,3020,1.02,1.02,0.99,5840,6040,6030,0.99,1,0.99,0.71,0.56999999999999995,0.19,0.33100000000000002,0.46,0.53,0.61,4.8499999999999996,0.48,0.72,"E06000026"]
[880,"Torbay",".",3.99,0.92,6900,49,0.38,0.54,0.56999999999999995,0.56000000000000005,"x",0.22,"x",0.29600000000000004,0.31900000000000001,0.307,1380,1410,1400,1,1.06,1.04,1330,1420,1420,0.99,1.05,1.06,2700,2830,2820,0.99,1.05,1.05,1,0.51,"X",0.376,0.42,0.38,0.41,4.8499999999999996,0.61,0.47,"E06000027"]
[881,"Essex",5,4.08,0.8,83600,119,0.57999999999999996,0.5,0.52,0.6,0.19,0.22,0.21,0.32100000000000001,0.317,0.30399999999999999,16050,16180,16350,0.98,0.97,0.98,15970,16460,16750,0.98,1,0.99,32020,32650,33100,0.98,0.99,0.98,0.69,0.53,0.21,0.33200000000000002,0.32,0.35,0.28999999999999998,5.0199999999999996,0.42,0.36,"E10000012"]
[882,"Southend-on-Sea",5.0999999999999996,4.3,0.85,11400,76,0.48,0.54,0.57999999999999996,0.59,0.24,0.27,0.28999999999999998,0.29699999999999999,0.28899999999999998,0.28899999999999998,1980,2130,2160,0.9,0.93,0.94,2060,2110,2170,0.97,0.95,0.95,4040,4240,4330,0.93,0.94,0.95,0.88,0.45,0.24,0.373,0.43,0.41,0.37,4.8899999999999997,0.51,0.3,"E06000033"]
[883,"Thurrock",4.8499999999999996,3.86,0.7,12200,94,0.39,0.5,0.56999999999999995,0.64,0.16,0.19,0.18,0.31900000000000001,0.29699999999999999,0.27699999999999997,2120,2150,2140,0.88,0.87,0.9,2000,2260,2290,0.88,0.94,0.93,4120,4410,4440,0.88,0.9,0.92,0.25,0.53,0.14000000000000001,0.32,0.06,0.13,0.17,5.28,0.61,0.18,"E06000034"]
[884,"Herefordshire",4.8499999999999996,3.48,0.78,9800,100,0.55000000000000004,0.45,0.56000000000000005,0.61,0.23,0.17,0.28000000000000003,0.32700000000000001,0.32,0.307,1780,1780,1830,0.95,0.92,0.95,1780,1900,1890,0.97,1,0.96,3570,3680,3720,0.96,0.96,0.96,0.6,0.55000000000000004,0.23,0.35100000000000003,0.52,0.59,0.56000000000000005,4.8499999999999996,0.44,0.63,"E06000019"]
[885,"Worcestershire",".",3.43,0.85,31500,110,0.53,0.56000000000000005,0.61,0.64,0.23,0.28000000000000003,0.27,0.313,0.314,0.30599999999999999,6190,6290,6250,0.99,1,1.01,6110,6410,6480,0.98,1.02,1.02,12300,12700,12730,0.98,1.01,1.02,0.83,0.49,0.26,0.34899999999999998,0.43,0.39,0.46,4.8499999999999996,0.46,0.54,"E10000034"]
[886,"Kent",4.8499999999999996,4.25,0.83,90800,101,0.57999999999999996,0.61,0.65,0.72,0.21,0.19,0.2,0.27600000000000002,0.255,0.248,16250,16860,17090,0.92,0.94,0.95,16890,17230,17900,0.96,0.96,0.98,33140,34090,35000,0.94,0.95,0.96,0.79,0.63,0.19,0.252,0.27,0.33,0.39,4.93,0.41,0.43,"E10000016"]
[887,"Medway",4.8,3.91,0.69,17800,88,0.45,0.55000000000000004,0.56999999999999995,0.6,0.19,0.16,0.19,0.33100000000000002,0.312,0.314,3260,3320,3380,0.97,0.95,0.96,3150,3340,3380,0.93,0.99,0.97,6410,6670,6760,0.95,0.97,0.97,0.73,0.56999999999999995,0.19,0.33700000000000002,0.19,0.28000000000000003,0.28999999999999998,4.88,0.54,0.37,"E06000035"]
[888,"Lancashire",4.78,4.47,0.76,69200,79,0.46,0.56000000000000005,0.59,0.64,0.28000000000000003,0.24,0.22,0.33299999999999996,0.32200000000000001,0.31900000000000001,12680,13250,13240,0.93,0.95,0.96,13230,13490,13890,0.98,0.99,0.99,25910,26740,27130,0.96,0.97,0.98,0.91,0.59,0.24,0.33600000000000002,0.41,0.5,0.53,4.8499999999999996,0.53,0.56000000000000005,"E10000017"]
[889,"Blackburn with Darwen",".",4.03,0.75,11300,16,0.42,0.57999999999999996,0.56999999999999995,0.56999999999999995,0.18,0.13,0.17,0.32799999999999996,0.32700000000000001,0.316,2020,2020,2090,0.89,0.88,0.93,2170,2190,2190,0.98,0.97,0.95,4200,4220,4280,0.93,0.92,0.94,0.75,0.4,0.1,0.41899999999999998,0.52,0.59,0.61,4.8499999999999996,0.57999999999999996,0.73,"E06000008"]
[890,"Blackpool",4.8499999999999996,3.63,0.78,8500,6,0.42,0.49,0.5,0.52,0.15,0.22,0.23,0.29399999999999998,0.28100000000000003,0.29199999999999998,1570,1660,1490,0.96,0.99,0.89,1610,1660,1700,1,1.03,1.02,3180,3320,3190,0.98,1.01,0.95,0.9,0.52,0.17,0.33,0.36,0.43,0.36,4.8499999999999996,0.56999999999999995,0.49,"E06000009"]
[891,"Nottinghamshire",".",3.77,0.72,46100,93,0.3,0.53,0.56000000000000005,0.64,0.21,0.18,0.23,0.33399999999999996,0.313,0.29699999999999999,8770,8960,8680,0.98,0.98,0.96,8800,9030,9220,0.99,1,1,17570,17990,17890,0.99,0.99,0.98,0.76,0.56999999999999995,0.23,0.35100000000000003,0.28999999999999998,0.37,0.36,4.88,0.69,0.4,"E10000024"]
[892,"Nottingham",5,4.13,0.63,20400,18,0.2,0.54,0.56999999999999995,0.57999999999999996,0.17,0.15,0.14000000000000001,0.33700000000000002,0.34799999999999998,0.32700000000000001,3780,3850,3880,0.98,0.96,0.98,3480,3630,3660,0.93,0.94,0.93,7260,7480,7540,0.95,0.95,0.96,0.53,0.4,0.18,0.38700000000000001,7.0000000000000007E-2,0.35,0.38,4.88,0.77,0.4,"E06000018"]
[893,"Shropshire",4.96,3.48,0.82,15700,113,0.47,0.62,0.65,0.68,0.22,0.19,0.21,0.28600000000000003,0.29299999999999998,0.27300000000000002,3130,3170,3240,0.99,1,1.02,2970,3030,3050,0.96,0.94,0.95,6100,6210,6290,0.98,0.97,0.98,0.92,0.52,0.19,0.30299999999999999,0.21,0.2,0.21,4.8499999999999996,0.51,0.22,"E06000051"]
[894,"Telford and Wrekin",4.8499999999999996,4.0599999999999996,0.79,11500,70,0.38,0.52,0.52,0.55000000000000004,0.16,0.2,0.13,0.32500000000000001,0.29100000000000004,0.312,2180,2120,2200,0.99,0.94,0.96,2120,2240,2160,0.96,1,0.96,4300,4360,4360,0.98,0.97,0.96,0.6,0.45,0.18,0.373,0.31,0.43,0.38,4.8499999999999996,0.6,0.41,"E06000020"]
[895,"Cheshire East",4.8499999999999996,3.66,0.76,20400,121,0.56999999999999995,0.59,0.68,0.74,0.33,0.23,0.25,0.31900000000000001,0.26500000000000001,0.25,3970,4230,4180,0.97,1.02,1.06,4110,4060,4320,1,0.98,1.03,8080,8290,8500,0.99,1,1.04,0.67,0.56000000000000005,0.23,0.35,0.43,0.48,0.54,4.93,0.43,0.56000000000000005,"E06000049"]
[896,"Cheshire West and Chester",4.8499999999999996,3.83,0.74,18300,121,0.51,0.57999999999999996,0.56000000000000005,0.64,0.24,0.27,0.28000000000000003,0.314,0.316,0.29699999999999999,3780,3780,3710,1.01,1.03,1.04,3710,3920,3880,1.01,1.06,1.06,7490,7700,7580,1.01,1.05,1.05,0.8,0.52,0.25,0.32,0.46,0.48,0.5,4.93,0.48,0.6,"E06000050"]
[908,"Cornwall",4.8499999999999996,3.95,0.86,28300,78,0.53,0.56000000000000005,0.57999999999999996,0.63,0.18,0.14000000000000001,0.18,0.32400000000000001,0.29600000000000004,0.27399999999999997,5180,5510,5510,0.96,1,0.99,5480,5440,5710,1.01,1,1.02,10660,10950,11220,0.98,1,1.01,0.25,0.49,0.19,0.34600000000000003,0.39,0.45,0.49,4.8499999999999996,0.47,0.53,"E06000052"]
[909,"Cumbria",4.8499999999999996,3.69,0.86,25300,85,0.34,0.48,0.5,0.61,0.21,0.22,0.22,0.318,0.32600000000000001,0.29299999999999998,5120,5270,5170,1,1.03,1.02,5110,5170,5270,1,1.01,1.03,10220,10450,10440,1,1.02,1.03,1,0.5,0.23,0.35600000000000004,0.36,0.44,0.41,4.8499999999999996,0.66,0.47,"E10000006"]
[916,"Gloucestershire",5.22,3.39,0.78,34100,126,0.66,0.6,0.59,0.64,0.23,0.25,0.25,0.31,0.312,0.29499999999999998,6350,6630,6520,0.95,0.98,0.97,6590,6610,6930,1.01,0.98,1.01,12930,13240,13450,0.98,0.98,0.99,0.59,0.52,0.21,0.33700000000000002,0,0,0,4.93,0.33,0,"E10000013"]
[919,"Hertfordshire",".",4.72,0.84,76600,138,0.31,0.61,0.61,0.68,0.23,0.24,0.23,0.32200000000000001,0.33200000000000002,0.29299999999999998,14010,14330,14250,0.96,0.96,0.94,13820,14080,14670,0.97,0.96,0.97,27830,28410,28920,0.97,0.96,0.96,0.65,0.61,0.23,0.28800000000000003,0.46,0.44,0.46,5.24,0.69,0.54,"E10000015"]
[921,"Isle of Wight",4.8899999999999997,3.87,0.82,6600,86,0.63,0.56000000000000005,0.6,0.59,0.17,0.19,0.25,0.30099999999999999,0.28300000000000003,0.29899999999999999,1210,1250,1220,0.93,0.97,0.94,1370,1280,1290,1.01,0.99,0.99,2590,2530,2510,0.97,0.98,0.97,1,0.45,0.14000000000000001,0.39200000000000002,0.28000000000000003,0.36,0.24,5.07,0.36,0.31,"E06000046"]
[925,"Lincolnshire",6.61,3.81,0.76,38800,95,0.51,0.57999999999999996,0.65,0.7,0.26,0.21,0.18,0.32100000000000001,0.28699999999999998,0.27100000000000002,6990,7520,7420,0.94,0.99,0.97,7300,7500,8070,1,1.01,1.05,14290,15020,15490,0.97,1,1.01,0.86,0.65,0.21,0.29600000000000004,0.28000000000000003,0.38,0.37,4.8499999999999996,0.47,0.41,"E10000019"]
[926,"Norfolk",".",3.63,0.78,47600,97,0.48,0.5,0.53,0.56999999999999995,0.22,0.18,0.19,0.316,0.307,0.30399999999999999,8490,8980,8840,0.93,0.95,0.94,8660,8880,9390,0.98,0.96,0.99,17150,17860,18230,0.95,0.96,0.97,0.72,0.46,0.17,0.36399999999999999,0.28000000000000003,0.34,0.31,4.8499999999999996,0.51,0.35,"E10000020"]
[928,"Northamptonshire",4.74,4.0999999999999996,0.76,47100,102,0.48,0.57999999999999996,0.61,0.64,0.22,0.19,0.17,0.30499999999999999,0.311,0.28399999999999997,8470,8870,8900,0.93,0.94,0.95,8700,9070,9350,0.97,0.98,0.99,17170,17940,18250,0.95,0.96,0.97,0.44,0.5,0.19,0.35100000000000003,0.26,0.3,0.38,4.9000000000000004,0.51,0.42,"E10000021"]
[929,"Northumberland",5.2,3.83,0.75,16200,91,0.24,0.63,0.66,0.68,0.25,0.28000000000000003,0.27,0.318,0.318,0.30399999999999999,3140,3290,3150,0.98,1,0.98,3300,3310,3420,1.03,1.02,1.02,6440,6600,6570,1,1.01,1,0.92,0.49,0.24,0.35499999999999998,0.42,0.44,0.48,4.8499999999999996,0.67,0.55000000000000004,"E06000048"]
[931,"Oxfordshire",5.1100000000000003,4.03,0.76,41700,133,0.46,0.59,0.63,0.68,0.23,0.26,0.26,0.32100000000000001,0.28899999999999998,0.27399999999999997,7700,7870,7630,0.95,0.97,0.94,7740,7960,8030,0.98,0.98,0.98,15440,15830,15650,0.96,0.97,0.96,0.72,0.48,0.24,0.33,0.38,0.45,0.41,5.15,0.53,0.45,"E10000025"]
[933,"Somerset",4.8499999999999996,4,0.79,29400,108,0.6,0.55000000000000004,0.56999999999999995,0.63,0.25,0.24,0.19,0.29600000000000004,0.30199999999999999,0.29199999999999998,5430,5560,5660,0.96,0.95,0.97,5570,5720,5870,0.99,0.99,0.99,11000,11280,11520,0.97,0.97,0.98,0.4,0.53,0.26,0.33600000000000002,0.35,0.37,0.43,4.8499999999999996,0.39,0.5,"E10000027"]
[935,"Suffolk",".",3.74,0.84,42700,115,0.46,0.5,0.52,0.61,0.04,0.09,0.18,0.33600000000000002,0.33799999999999997,0.29699999999999999,7610,8070,7880,0.91,0.94,0.92,7840,8030,8330,0.95,0.95,0.96,15450,16100,16200,0.93,0.95,0.94,0.59,0.49,0.19,0.35600000000000004,0.32,0.33,0.38,4.8499999999999996,0.53,0.43,"E10000029"]
[936,"Surrey",6,4.26,0.84,73200,147,0.56999999999999995,0.64,0.66,0.7,0.28999999999999998,0.28000000000000003,0.23,0.30099999999999999,0.28499999999999998,0.27600000000000002,13340,13580,13560,0.94,0.93,0.93,13540,14270,14440,0.96,0.99,0.98,26890,27850,28000,0.95,0.96,0.95,0.55000000000000004,0.52,0.26,0.312,0.4,0.42,0.44,5.49,0.43,0.5,"E10000030"]
[937,"Warwickshire",4.95,3.99,0.79,31500,124,0.5,0.62,0.66,0.67,0.28000000000000003,0.21,0.24,0.28300000000000003,0.28399999999999997,0.29299999999999998,5890,6180,6030,0.95,0.97,0.96,6190,6190,6430,1.01,0.98,1,12080,12380,12460,0.98,0.98,0.98,0.91,0.45,0.21,0.38100000000000001,0.35,0.39,0.39,4.9400000000000004,0.49,0.42,"E10000031"]
[938,"West Sussex",4.8499999999999996,4.05,0.82,47700,128,0.61,0.56000000000000005,0.57999999999999996,0.62,0.22,0.19,0.2,0.314,0.30499999999999999,0.28399999999999997,8590,8950,9060,0.93,0.94,0.95,8880,9070,9400,0.98,0.97,0.98,17470,18020,18460,0.96,0.96,0.97,0.6,0.52,0.21,0.30399999999999999,0.35,0.4,0.42,4.95,0.39,0.46,"E10000032"]
[]
[null,"England",5.27,4.21,0.77,3328750,null,0.4,0.56000000000000005,0.59,0.64,0.19,0.18,0.19,0.32700000000000001,0.314,0.30099999999999999,604320,625440,625310,0.92,0.93,0.94,620150,638970,658190,0.96,0.97,0.98,1224470,1264420,1283500,0.94,0.95,0.96,0.69,0.52,0.19,0.36599999999999999,0.34,0.38,0.39,5.09,0.59,0.44]
[null,"Median",{"$f":"MEDIAN(C$4:C$155)","v":5},4.04,{"$f":"MEDIAN(E$4:E$155)","v":0.76},{"$f":"MEDIAN(F$4:F$155)","v":17500},76.5,0.36,0.56000000000000005,0.58499999999999996,0.63,0.21,0.19,0.19500000000000001,0.32,0.311,0.29899999999999999,3080,3165,3185,0.93,0.94,0.95,3170,3295,3390,0.97,0.98,0.99,6210,6460,6610,0.95,0.96,0.97,{"$f":"MEDIAN(AJ$4:AJ$155)","v":0.75},0.51,0.19500000000000001,0.35499999999999998,0.35,0.38,0.39500000000000002,{"$f":"MEDIAN(AQ$4:AQ$155)","v":4.93},{"$f":"MEDIAN(AR$4:AR$155)","v":0.625},{"$f":"MEDIAN(AS$4:AS$155)","v":0.44}]
[null,"Min",{"$f":"MIN(C$4:C$155)","v":4.5},2.99,{"$f":"MIN(E$4:E$155)","v":0.59},{"$f":"MIN(F$4:F$155)","v":100},1,0.03,0.42,0.48,0.51,0.04,0.02,-0.27,0.17499999999999999,0.19,0.16800000000000001,30,20,20,0.69,0.74,0.76,20,30,20,0.77,0.72,0.71,60,60,40,0.75,0.77,0.79,{"$f":"MIN(AJ$4:AJ$155)","v":0},0.28000000000000003,0.02,0.105,0,0,0,4.8499999999999996,0.33,0]
[null,"Max",{"$f":"MAX(C$4:C$155)","v":9.99},6.81,{"$f":"MAX(E$4:E$155)","v":1},{"$f":"MAX(F$4:F$155)","v":90800},149,0.66,0.79,0.87,0.78,0.33,0.36,0.33,0.377,0.37200000000000005,0.40200000000000002,16250,16860,17090,1.65,1.3,1.4,16890,17230,17900,1.1100000000000001,1.21,1.1599999999999999,33140,34090,35000,1.23,1.1200000000000001,1.1499999999999999,{"$f":"MAX(AJ$4:AJ$155)","v":1},1,0.34,0.44600000000000001,0.72,0.74,0.73,7.08,0.97,0.81]

{"sheet":"Area codes","index":21,"n_rows":153,"n_cols":13,"rows_kept":153,"cut":false,"hidden":true,"merged":[]}
["London","Metropolitan Authorities","Unitary Authorities","Upper Tier Authorities","East of England","East Midlands","North East","North West","South East","South West","West Midlands","Yorkshire and the Humber","All LAs"]
[301,330,800,825,822,831,841,889,867,800,330,370,301]
[302,331,822,873,873,830,840,890,846,837,331,380,302]
[303,332,889,909,823,856,390,350,825,801,332,381,370]
[304,333,890,830,881,855,805,351,845,908,884,810,800]
[305,334,837,878,919,925,806,895,850,878,333,371,822]
[202,335,867,835,821,928,391,896,921,835,893,811,303]
[306,336,846,845,926,892,392,909,886,916,334,382,330]
[307,340,823,881,874,891,929,876,887,802,860,383,889]
[308,341,895,916,882,857,807,340,826,879,861,812,890]
[203,342,896,850,935,null,393,888,931,836,894,813,350]
[204,343,801,919,883,null,808,341,851,933,335,815,837]
[205,344,810,886,null,null,394,352,870,803,937,372,867]
[309,350,908,888,null,null,null,353,871,866,336,373,380]
[310,351,841,855,null,null,null,354,852,880,885,384,304]
[311,352,831,925,null,null,null,355,936,865,null,816,846]
[312,353,840,926,null,null,null,343,869,420,null,null,305]
[313,354,811,815,null,null,null,342,938,null,null,null,825]
[206,355,876,928,null,null,null,356,868,null,null,null,351]
[207,356,805,891,null,null,null,357,872,null,null,null,381]
[314,357,884,931,null,null,null,358,null,null,null,null,873]
[208,358,921,933,null,null,null,877,null,null,null,null,202]
[209,359,856,860,null,null,null,359,null,null,null,null,823]
[315,370,821,935,null,null,null,344,null,null,null,null,895]
[316,371,887,936,null,null,null,null,null,null,null,null,896]
[317,372,806,937,null,null,null,null,null,null,null,null,801]
[318,373,826,938,null,null,null,null,null,null,null,null,810]
[210,380,812,885,null,null,null,null,null,null,null,null,201]
[319,381,813,null,null,null,null,null,null,null,null,null,908]
[211,382,802,null,null,null,null,null,null,null,null,null,331]
[320,383,929,null,null,null,null,null,null,null,null,null,306]
[212,384,892,null,null,null,null,null,null,null,null,null,909]
[213,390,874,null,null,null,null,null,null,null,null,null,841]
[201,391,879,null,null,null,null,null,null,null,null,null,831]
[null,392,836,null,null,null,null,null,null,null,null,null,830]
[null,393,851,null,null,null,null,null,null,null,null,null,878]
[null,394,870,null,null,null,null,null,null,null,null,null,371]
[null,null,807,null,null,null,null,null,null,null,null,null,835]
[null,null,857,null,null,null,null,null,null,null,null,null,332]
[null,null,893,null,null,null,null,null,null,null,null,null,840]
[null,null,871,null,null,null,null,null,null,null,null,null,307]
[null,null,803,null,null,null,null,null,null,null,null,null,811]
[null,null,852,null,null,null,null,null,null,null,null,null,845]
[null,null,882,null,null,null,null,null,null,null,null,null,308]
[null,null,808,null,null,null,null,null,null,null,null,null,881]
[null,null,861,null,null,null,null,null,null,null,null,null,390]
[null,null,866,null,null,null,null,null,null,null,null,null,916]
[null,null,894,null,null,null,null,null,null,null,null,null,203]
[null,null,883,null,null,null,null,null,null,null,null,null,204]
[null,null,880,null,null,null,null,null,null,null,null,null,876]
[null,null,877,null,null,null,null,null,null,null,null,null,205]
[null,null,869,null,null,null,null,null,null,null,null,null,850]
[null,null,865,null,null,null,null,null,null,null,null,null,309]
[null,null,868,null,null,null,null,null,null,null,null,null,310]
[null,null,872,null,null,null,null,null,null,null,null,null,805]
[null,null,816,null,null,null,null,null,null,null,null,null,311]
[null,null,420,null,null,null,null,null,null,null,null,null,884]
[null,null,null,null,null,null,null,null,null,null,null,null,919]
[null,null,null,null,null,null,null,null,null,null,null,null,312]
[null,null,null,null,null,null,null,null,null,null,null,null,313]
[null,null,null,null,null,null,null,null,null,null,null,null,921]
[null,null,null,null,null,null,null,null,null,null,null,null,420]
[null,null,null,null,null,null,null,null,null,null,null,null,206]
[null,null,null,null,null,null,null,null,null,null,null,null,207]
[null,null,null,null,null,null,null,null,null,null,null,null,886]
[null,null,null,null,null,null,null,null,null,null,null,null,314]
[null,null,null,null,null,null,null,null,null,null,null,null,382]
[null,null,null,null,null,null,null,null,null,null,null,null,340]
[null,null,null,null,null,null,null,null,null,null,null,null,208]
[null,null,null,null,null,null,null,null,null,null,null,null,888]
[null,null,null,null,null,null,null,null,null,null,null,null,383]
[null,null,null,null,null,null,null,null,null,null,null,null,856]
[null,null,null,null,null,null,null,null,null,null,null,null,855]
[null,null,null,null,null,null,null,null,null,null,null,null,209]
[null,null,null,null,null,null,null,null,null,null,null,null,925]
[null,null,null,null,null,null,null,null,null,null,null,null,341]
[null,null,null,null,null,null,null,null,null,null,null,null,821]
[null,null,null,null,null,null,null,null,null,null,null,null,352]
[null,null,null,null,null,null,null,null,null,null,null,null,887]
[null,null,null,null,null,null,null,null,null,null,null,null,315]
[null,null,null,null,null,null,null,null,null,null,null,null,806]
[null,null,null,null,null,null,null,null,null,null,null,null,826]
[null,null,null,null,null,null,null,null,null,null,null,null,391]
[null,null,null,null,null,null,null,null,null,null,null,null,316]
[null,null,null,null,null,null,null,null,null,null,null,null,926]
[null,null,null,null,null,null,null,null,null,null,null,null,812]
[null,null,null,null,null,null,null,null,null,null,null,null,813]
[null,null,null,null,null,null,null,null,null,null,null,null,802]
[null,null,null,null,null,null,null,null,null,null,null,null,392]
[null,null,null,null,null,null,null,null,null,null,null,null,815]
[null,null,null,null,null,null,null,null,null,null,null,null,928]
[null,null,null,null,null,null,null,null,null,null,null,null,929]
[null,null,null,null,null,null,null,null,null,null,null,null,892]
[null,null,null,null,null,null,null,null,null,null,null,null,891]
[null,null,null,null,null,null,null,null,null,null,null,null,353]
[null,null,null,null,null,null,null,null,null,null,null,null,931]
[null,null,null,null,null,null,null,null,null,null,null,null,874]
[null,null,null,null,null,null,null,null,null,null,null,null,879]
[null,null,null,null,null,null,null,null,null,null,null,null,836]
[null,null,null,null,null,null,null,null,null,null,null,null,851]
[null,null,null,null,null,null,null,null,null,null,null,null,870]
[null,null,null,null,null,null,null,null,null,null,null,null,317]
[null,null,null,null,null,null,null,null,null,null,null,null,807]
[null,null,null,null,null,null,null,null,null,null,null,null,318]
[null,null,null,null,null,null,null,null,null,null,null,null,354]
[null,null,null,null,null,null,null,null,null,null,null,null,372]
[null,null,null,null,null,null,null,null,null,null,null,null,857]
[null,null,null,null,null,null,null,null,null,null,null,null,355]
[null,null,null,null,null,null,null,null,null,null,null,null,333]
[null,null,null,null,null,null,null,null,null,null,null,null,343]
[null,null,null,null,null,null,null,null,null,null,null,null,373]
[null,null,null,null,null,null,null,null,null,null,null,null,893]
[null,null,null,null,null,null,null,null,null,null,null,null,871]
[null,null,null,null,null,null,null,null,null,null,null,null,334]
[null,null,null,null,null,null,null,null,null,null,null,null,933]
[null,null,null,null,null,null,null,null,null,null,null,null,803]
[null,null,null,null,null,null,null,null,null,null,null,null,393]
[null,null,null,null,null,null,null,null,null,null,null,null,852]
[null,null,null,null,null,null,null,null,null,null,null,null,882]
[null,null,null,null,null,null,null,null,null,null,null,null,210]
[null,null,null,null,null,null,null,null,null,null,null,null,342]
[null,null,null,null,null,null,null,null,null,null,null,null,860]
[null,null,null,null,null,null,null,null,null,null,null,null,356]
[null,null,null,null,null,null,null,null,null,null,null,null,808]
[null,null,null,null,null,null,null,null,null,null,null,null,861]
[null,null,null,null,null,null,null,null,null,null,null,null,935]
[null,null,null,null,null,null,null,null,null,null,null,null,394]
[null,null,null,null,null,null,null,null,null,null,null,null,936]
[null,null,null,null,null,null,null,null,null,null,null,null,319]
[null,null,null,null,null,null,null,null,null,null,null,null,866]
[null,null,null,null,null,null,null,null,null,null,null,null,357]
[null,null,null,null,null,null,null,null,null,null,null,null,894]
[null,null,null,null,null,null,null,null,null,null,null,null,883]
[null,null,null,null,null,null,null,null,null,null,null,null,880]
[null,null,null,null,null,null,null,null,null,null,null,null,211]
[null,null,null,null,null,null,null,null,null,null,null,null,358]
[null,null,null,null,null,null,null,null,null,null,null,null,384]
[null,null,null,null,null,null,null,null,null,null,null,null,335]
[null,null,null,null,null,null,null,null,null,null,null,null,320]
[null,null,null,null,null,null,null,null,null,null,null,null,212]
[null,null,null,null,null,null,null,null,null,null,null,null,877]
[null,null,null,null,null,null,null,null,null,null,null,null,937]
[null,null,null,null,null,null,null,null,null,null,null,null,869]
[null,null,null,null,null,null,null,null,null,null,null,null,938]
[null,null,null,null,null,null,null,null,null,null,null,null,213]
[null,null,null,null,null,null,null,null,null,null,null,null,359]
[null,null,null,null,null,null,null,null,null,null,null,null,865]
[null,null,null,null,null,null,null,null,null,null,null,null,868]
[null,null,null,null,null,null,null,null,null,null,null,null,344]
[null,null,null,null,null,null,null,null,null,null,null,null,872]
[null,null,null,null,null,null,null,null,null,null,null,null,336]
[null,null,null,null,null,null,null,null,null,null,null,null,885]
[null,null,null,null,null,null,null,null,null,null,null,null,816]

{"sheet":"SNCodes","index":22,"n_rows":12,"n_cols":153,"rows_kept":12,"cut":false,"hidden":true,"merged":[]}
["LEA:","City of London","Camden","Greenwich","Hackney","Hammersmith and Fulham","Islington","Kensington and Chelsea","Lambeth","Lewisham","Southwark","Tower Hamlets","Wandsworth","Westminster","Barking and Dagenham","Barnet","Bexley","Brent","Bromley","Croydon","Ealing","Enfield","Haringey","Harrow","Havering","Hillingdon","Hounslow","Kingston upon Thames","Merton","Newham","Redbridge","Richmond upon Thames","Sutton","Waltham Forest","Birmingham","Coventry","Dudley","Sandwell","Solihull","Walsall","Wolverhampton","Knowsley","Liverpool","St. Helens","Sefton","Wirral","Bolton","Bury","Manchester","Oldham","Rochdale","Salford","Stockport","Tameside","Trafford","Wigan","Barnsley","Doncaster","Rotherham","Sheffield","Bradford","Calderdale","Kirklees","Leeds","Wakefield","Gateshead","Newcastle upon Tyne","North Tyneside","South Tyneside","Sunderland","Isles of Scilly","Bath and North East Somerset","Bristol, City of","North Somerset","South Gloucestershire","Hartlepool","Middlesbrough","Redcar and Cleveland","Stockton-on-Tees","Kingston Upon Hull, City of","East Riding of Yorkshire","North East Lincolnshire","North Lincolnshire","North Yorkshire","York","Luton","Bedford Borough","Central Bedfordshire","Buckinghamshire","Milton Keynes","Derbyshire","Derby","Dorset","Poole","Bournemouth","Durham","Darlington","East Sussex","Brighton and Hove","Hampshire","Portsmouth","Southampton","Leicestershire","Leicester","Rutland","Staffordshire","Stoke-on-Trent","Wiltshire","Swindon","Bracknell Forest","Windsor and Maidenhead","West Berkshire","Reading","Slough","Wokingham","Cambridgeshire","Peterborough","Halton","Warrington","Devon","Plymouth","Torbay","Essex","Southend-on-Sea","Thurrock","Herefordshire","Worcestershire","Kent","Medway","Lancashire","Blackburn with Darwen","Blackpool","Nottinghamshire","Nottingham","Shropshire","Telford and Wrekin","Cheshire East","Cheshire West and Chester","Cornwall","Cumbria","Gloucestershire","Hertfordshire","Isle of Wight","Lincolnshire","Norfolk","Northamptonshire","Northumberland","Oxfordshire","Somerset","Suffolk","Surrey","Warwickshire","West Sussex"]
["DfEE #:",201,202,203,204,205,206,207,208,209,210,211,212,213,301,302,303,304,305,306,307,308,309,310,311,312,313,314,315,316,317,318,319,320,330,331,332,333,334,335,336,340,341,342,343,344,350,351,352,353,354,355,356,357,358,359,370,371,372,373,380,381,382,383,384,390,391,392,393,394,420,800,801,802,803,805,806,807,808,810,811,812,813,815,816,821,822,823,825,826,830,831,835,836,837,840,841,845,846,850,851,852,855,856,857,860,861,865,866,867,868,869,870,871,872,873,874,876,877,878,879,880,881,882,883,884,885,886,887,888,889,890,891,892,893,894,895,896,908,909,916,919,921,925,926,928,929,931,933,935,936,937,938]
["Stat. Neigh:",207,213,301,210,212,205,213,309,309,204,202,205,202,892,314,311,307,919,308,313,306,209,307,303,319,307,302,302,204,312,868,305,306,821,831,359,336,877,831,333,355,355,808,888,343,382,888,892,354,353,393,896,342,356,371,805,372,371,383,354,888,350,373,840,394,355,841,355,390,884,916,852,938,850,876,355,371,841,861,815,371,359,811,356,330,826,850,936,822,891,874,893,938,882,384,808,886,801,823,879,851,803,336,815,830,370,893,886,919,936,823,822,312,936,931,831,805,896,933,851,921,886,921,887,933,937,881,883,891,380,880,830,352,878,874,896,937,926,830,893,867,880,909,908,866,392,873,878,933,868,896,802]
[null,213,205,352,208,206,202,212,209,208,208,316,207,207,333,315,887,320,358,320,315,312,208,317,881,822,312,319,314,320,871,314,822,308,333,350,371,335,356,350,335,806,340,357,351,841,331,808,203,382,382,806,334,807,334,332,372,807,807,831,353,351,381,350,394,393,393,840,390,384,908,873,851,803,802,807,805,372,342,806,860,807,371,937,896,380,358,869,869,928,860,331,878,835,880,392,392,835,837,938,852,801,937,313,869,891,805,916,928,823,825,850,801,821,868,800,894,342,334,893,880,882,938,837,332,878,893,866,866,351,335,357,860,301,933,831,850,877,878,925,835,850,882,830,878,886,808,800,935,878,825,885,850]
[null,202,206,892,309,213,213,205,210,320,309,206,213,205,203,312,866,309,319,317,310,317,204,313,887,331,871,315,307,309,313,936,303,309,336,335,891,331,358,331,331,341,393,841,344,808,381,381,341,357,806,391,816,876,919,372,807,359,359,874,889,808,354,808,342,840,383,808,394,840,865,931,846,850,855,370,354,357,351,805,937,805,830,896,877,871,886,881,867,358,909,894,916,802,921,394,342,938,870,803,874,879,885,333,865,937,807,873,881,869,867,825,319,313,825,865,851,357,356,935,852,837,850,880,894,893,835,845,886,381,331,807,888,333,835,883,823,356,933,926,800,823,837,926,909,860,841,869,884,893,867,860,881]
[null,212,207,308,209,202,309,202,204,204,206,352,202,212,852,870,881,306,356,315,317,320,320,315,886,870,317,318,317,304,308,931,312,209,892,874,883,831,896,372,831,393,391,876,808,888,808,343,301,335,380,805,358,371,305,342,384,342,370,851,382,382,351,841,370,392,390,342,805,370,926,938,870,855,938,357,393,805,381,355,896,357,891,885,891,308,919,919,868,866,925,350,885,845,851,342,840,916,851,802,882,874,802,889,895,928,372,885,887,825,919,867,846,317,867,850,331,807,860,908,894,879,885,866,866,908,916,928,303,343,354,879,909,810,935,888,937,895,884,891,865,873,845,935,933,891,840,919,893,916,919,855,916]
[null,205,212,330,316,207,203,201,206,210,209,213,315,206,810,319,886,209,867,330,308,870,210,302,866,317,302,305,308,210,315,302,919,203,301,894,372,330,823,874,330,876,806,807,356,894,357,356,330,380,357,876,877,805,896,808,371,357,357,852,335,350,383,381,371,370,394,390,391,805,893,850,831,881,881,372,876,342,359,393,885,894,372,895,937,331,866,895,919,886,888,373,938,866,836,841,359,878,373,881,837,373,850,871,885,811,810,935,891,850,872,873,826,308,869,916,852,394,937,835,874,851,823,845,311,935,881,885,928,830,350,805,928,852,865,371,869,860,935,860,938,931,908,893,925,937,811,865,908,926,869,881,835]
[null,318,203,320,206,309,210,206,205,306,205,205,302,201,806,313,883,316,334,307,302,315,206,312,883,313,315,868,313,203,302,872,870,330,331,357,888,892,895,357,892,805,876,371,891,351,831,877,355,350,350,341,886,372,877,813,394,384,805,879,350,332,808,342,372,384,341,394,876,393,933,865,874,885,823,342,340,370,888,852,877,876,909,857,358,335,928,867,823,383,359,335,933,803,845,390,351,881,852,885,880,831,860,331,873,885,371,835,888,936,869,895,305,331,895,869,373,808,816,884,882,890,866,851,888,926,850,937,311,808,353,812,866,336,916,332,877,334,893,888,935,869,878,891,935,881,830,850,835,835,872,895,803]
[null,206,309,206,320,203,212,302,320,304,203,204,206,203,330,317,882,308,938,870,871,821,205,314,351,302,308,312,312,209,310,305,938,304,308,382,830,301,881,894,874,391,390,359,886,342,383,841,806,342,342,340,937,808,826,807,840,332,342,332,831,841,353,831,359,805,373,929,806,342,878,802,373,835,916,371,810,359,392,879,895,372,894,869,860,831,319,803,931,351,928,383,845,916,879,370,888,802,800,869,801,894,881,312,811,896,806,850,860,868,931,931,831,330,919,919,879,841,895,916,837,894,802,343,886,865,855,938,894,886,382,370,886,330,885,372,334,811,909,878,878,825,926,885,893,888,891,916,926,908,850,886,845]
[null,846,201,801,205,320,352,318,212,205,320,203,203,309,335,305,356,315,850,312,306,330,212,871,334,303,310,919,306,307,307,919,866,307,380,383,894,861,919,371,852,354,805,840,841,876,332,891,810,381,335,390,881,350,816,384,342,812,384,894,331,342,831,382,807,342,806,384,370,876,935,893,879,845,885,812,807,812,343,370,830,342,332,860,351,333,305,937,850,919,332,851,935,837,866,808,357,885,882,919,894,331,938,335,931,881,357,931,836,895,873,919,800,889,823,885,335,812,351,926,372,908,937,886,928,835,886,860,888,860,831,921,332,355,884,350,815,885,925,908,885,895,909,860,884,830,860,867,916,884,931,928,885]
[null,302,352,852,203,210,208,315,203,206,202,330,870,307,331,318,319,310,822,821,304,319,203,308,356,871,856,936,870,206,306,867,886,315,831,373,808,874,937,354,373,357,394,384,882,357,342,896,852,807,876,357,351,812,351,891,861,370,332,372,381,891,332,392,808,876,876,383,340,392,857,835,837,916,836,394,861,876,371,372,891,359,925,823,866,889,937,855,873,356,886,332,802,886,878,359,876,893,816,873,373,810,823,330,823,886,812,869,356,931,895,865,373,380,850,938,882,355,811,845,373,836,860,887,359,916,938,888,332,928,874,371,359,806,926,812,919,816,835,813,933,358,891,928,835,885,381,825,845,925,873,811,886]
[null,391,302,205,304,208,207,203,304,203,316,301,308,302,874,822,938,317,800,203,312,302,306,306,860,831,870,870,319,330,319,825,356,821,335,883,350,806,351,332,350,390,810,372,866,383,894,334,391,876,381,394,888,359,822,830,390,813,894,357,874,383,888,826,805,355,805,359,341,357,873,845,882,836,886,393,357,808,840,876,855,813,888,881,888,874,356,334,872,334,937,357,836,881,886,371,381,935,879,895,831,355,886,852,825,855,384,933,938,873,850,936,358,336,931,893,350,393,823,885,921,813,855,894,350,845,865,891,882,332,806,861,925,341,925,887,885,815,921,893,873,936,836,835,830,925,877,936,865,865,895,850,836]

{"sheet":"LEA Nos codes","index":23,"n_rows":154,"n_cols":13,"rows_kept":154,"cut":false,"hidden":true,"merged":[]}
["LA Name:","LA DfES #:",null,"CHECK LA NAMES"]
["Choice",0,null,null,null,null,"LA CODE"]
["Barking and Dagenham",301,1,301,null,1,{"$f":"HLOOKUP(B2,stat,MyLA,FALSE)","v":0}]
["Barnet",302,2,302]
["Barnsley",370,3,370]
["Bath & North East Somerset",800,4,800,null,null,null,null,null,"Linked cells","Stat Neighbours"]
["Bedford Borough",822,5,822,null,"Statistical Neighbours",null,null,null,null,{"$f":"G3","v":0},null,"Separate blanks"]
["Bexley",303,6,303,null,{"$f":"IF(ISBLANK($G$3),\"\",HLOOKUP($G$3,sncodes,2,FALSE))","v":{"$error":"#N/A"}},{"$f":"IF(F8=\"\",0,VLOOKUP(F8,$B$3:$C$154,2,FALSE))","v":{"$error":"#N/A"}},null,1,null,{"$f":"IF(J8=0,\"\",VLOOKUP(J8,$C$3:$D$154,2,FALSE))","v":""},null,{"$f":"IF(J8=0,\"zero1\",VLOOKUP(J8,$C$3:$D$154,2,FALSE))","v":"zero1"}]
["Birmingham",330,7,330,null,{"$f":"IF(ISBLANK($G$3),\"\",HLOOKUP($G$3,sncodes,3,FALSE))","v":{"$error":"#N/A"}},{"$f":"IF(F9=\"\",0,VLOOKUP(F9,$B$3:$C$154,2,FALSE))","v":{"$error":"#N/A"}},null,2,null,{"$f":"IF(J9=0,\"\",VLOOKUP(J9,$C$3:$D$154,2,FALSE))","v":""},null,{"$f":"IF(J9=0,\"zero2\",VLOOKUP(J9,$C$3:$D$154,2,FALSE))","v":"zero2"}]
["Blackburn with Darwen",889,8,889,null,{"$f":"IF(ISBLANK($G$3),\"\",HLOOKUP($G$3,sncodes,4,FALSE))","v":{"$error":"#N/A"}},{"$f":"IF(F10=\"\",0,VLOOKUP(F10,$B$3:$C$154,2,FALSE))","v":{"$error":"#N/A"}},null,3,null,"",null,{"$f":"IF(J10=0,\"zero3\",VLOOKUP(J10,$C$3:$D$154,2,FALSE))","v":"zero3"}]
["Blackpool",890,9,890,null,{"$f":"IF(ISBLANK($G$3),\"\",HLOOKUP($G$3,sncodes,5,FALSE))","v":{"$error":"#N/A"}},{"$error":"#N/A"},null,4,null,"",null,{"$f":"IF(J11=0,\"zero4\",VLOOKUP(J11,$C$3:$D$154,2,FALSE))","v":"zero4"}]
["Bolton",350,10,350,null,{"$f":"IF(ISBLANK($G$3),\"\",HLOOKUP($G$3,sncodes,6,FALSE))","v":{"$error":"#N/A"}},{"$error":"#N/A"},null,5,null,"",null,{"$f":"IF(J12=0,\"zero5\",VLOOKUP(J12,$C$3:$D$154,2,FALSE))","v":"zero5"}]
["Bournemouth",837,11,837,null,{"$f":"IF(ISBLANK($G$3),\"\",HLOOKUP($G$3,sncodes,7,FALSE))","v":{"$error":"#N/A"}},{"$error":"#N/A"},null,6,null,{"$f":"IF(J13=0,\"\",VLOOKUP(J13,$C$3:$D$154,2,FALSE))","v":""},null,{"$f":"IF(J13=0,\"zero6\",VLOOKUP(J13,$C$3:$D$154,2,FALSE))","v":"zero6"}]
["Bracknell Forest",867,12,867,null,{"$f":"IF(ISBLANK($G$3),\"\",HLOOKUP($G$3,sncodes,8,FALSE))","v":{"$error":"#N/A"}},{"$error":"#N/A"},null,7,null,"",null,{"$f":"IF(J14=0,\"zero7\",VLOOKUP(J14,$C$3:$D$154,2,FALSE))","v":"zero7"}]
["Bradford",380,13,380,null,{"$f":"IF(ISBLANK($G$3),\"\",HLOOKUP($G$3,sncodes,9,FALSE))","v":{"$error":"#N/A"}},{"$error":"#N/A"},null,8,null,"",null,{"$f":"IF(J15=0,\"zero8\",VLOOKUP(J15,$C$3:$D$154,2,FALSE))","v":"zero8"}]
["Brent",304,14,304,null,{"$f":"IF(ISBLANK($G$3),\"\",HLOOKUP($G$3,sncodes,10,FALSE))","v":{"$error":"#N/A"}},{"$error":"#N/A"},null,9,null,"",null,{"$f":"IF(J16=0,\"zero9\",VLOOKUP(J16,$C$3:$D$154,2,FALSE))","v":"zero9"}]
["Brighton and Hove",846,15,846,null,{"$f":"IF(ISBLANK($G$3),\"\",HLOOKUP($G$3,sncodes,11,FALSE))","v":{"$error":"#N/A"}},{"$error":"#N/A"},null,10,null,{"$f":"IF(J17=0,\"\",VLOOKUP(J17,$C$3:$D$154,2,FALSE))","v":""},null,{"$f":"IF(J17=0,\"zero10\",VLOOKUP(J17,$C$3:$D$154,2,FALSE))","v":"zero10"}]
["Bromley",305,16,305,null,{"$f":"G3","v":0},null,null,null,null,null,"My LA",{"$f":"G3","v":0}]
["Buckinghamshire",825,17,825]
["Bury",351,18,351,null,null,null,null,"Check for duplication",null,{"$f":"MAX(COUNTIF(M8:M18,M8:M18))","v":1}]
["Calderdale",381,19,381]
["Cambridgeshire",873,20,873,null,null,null,null,"Check for stat neighbours",null,{"$f":"MIN(COUNTIF(F8:F17,K8:K17))","v":0},{"$f":"IF(K22=1,\"Statistical Neighbours\",\"User-Defined\")","v":"User-Defined"}]
["Camden",202,21,202]
["Central Bedfordshire",823,22,823]
["Cheshire East",895,23,895]
["Cheshire West and Chester",896,24,896]
["City of Bristol",801,25,801]
["City of Kingston Upon Hull",810,26,810]
["City of London",201,27,201]
["Cornwall",908,28,908]
["Coventry",331,29,331]
["Croydon",306,30,306]
["Cumbria",909,31,909]
["Darlington",841,32,841]
["Derby",831,33,831]
["Derbyshire",830,34,830]
["Devon",878,35,878]
["Doncaster",371,36,371]
["Dorset",835,37,835]
["Dudley",332,38,332]
["Durham",840,39,840]
["Ealing",307,40,307]
["East Riding of Yorkshire",811,41,811]
["East Sussex",845,42,845]
["Enfield",308,43,308]
["Essex",881,44,881]
["Gateshead",390,45,390]
["Gloucestershire",916,46,916]
["Greenwich",203,47,203]
["Hackney",204,48,204]
["Halton",876,49,876]
["Hammersmith and Fulham",205,50,205]
["Hampshire",850,51,850]
["Haringey",309,52,309]
["Harrow",310,53,310]
["Hartlepool",805,54,805]
["Havering",311,55,311]
["Herefordshire",884,56,884]
["Hertfordshire",919,57,919]
["Hillingdon",312,58,312]
["Hounslow",313,59,313]
["Isle of Wight",921,60,921]
["Isles of Scilly",420,61,420]
["Islington",206,62,206]
["Kensington and Chelsea",207,63,207]
["Kent",886,64,886]
["Kingston upon Thames",314,65,314]
["Kirklees",382,66,382]
["Knowsley",340,67,340]
["Lambeth",208,68,208]
["Lancashire",888,69,888]
["Leeds",383,70,383]
["Leicester",856,71,856]
["Leicestershire",855,72,855]
["Lewisham",209,73,209]
["Lincolnshire",925,74,925]
["Liverpool",341,75,341]
["Luton",821,76,821]
["Manchester",352,77,352]
["Medway",887,78,887]
["Merton",315,79,315]
["Middlesbrough",806,80,806]
["Milton Keynes",826,81,826]
["Newcastle upon Tyne",391,82,391]
["Newham",316,83,316]
["Norfolk",926,84,926]
["North East Lincolnshire",812,85,812]
["North Lincolnshire",813,86,813]
["North Somerset",802,87,802]
["North Tyneside",392,88,392]
["North Yorkshire",815,89,815]
["Northamptonshire",928,90,928]
["Northumberland",929,91,929]
["Nottingham",892,92,892]
["Nottinghamshire",891,93,891]
["Oldham",353,94,353]
["Oxfordshire",931,95,931]
["Peterborough",874,96,874]
["Plymouth",879,97,879]
["Poole",836,98,836]
["Portsmouth",851,99,851]
["Reading",870,100,870]
["Redbridge",317,101,317]
["Redcar and Cleveland",807,102,807]
["Richmond upon Thames",318,103,318]
["Rochdale",354,104,354]
["Rotherham",372,105,372]
["Rutland",857,106,857]
["Salford",355,107,355]
["Sandwell",333,108,333]
["Sefton",343,109,343]
["Sheffield",373,110,373]
["Shropshire",893,111,893]
["Slough",871,112,871]
["Solihull",334,113,334]
["Somerset",933,114,933]
["South Gloucestershire",803,115,803]
["South Tyneside",393,116,393]
["Southampton",852,117,852]
["Southend-on-Sea",882,118,882]
["Southwark",210,119,210]
["St. Helens",342,120,342]
["Staffordshire",860,121,860]
["Stockport",356,122,356]
["Stockton-on-Tees",808,123,808]
["Stoke-on-Trent",861,124,861]
["Suffolk",935,125,935]
["Sunderland",394,126,394]
["Surrey",936,127,936]
["Sutton",319,128,319]
["Swindon",866,129,866]
["Tameside",357,130,357]
["Telford & Wrekin",894,131,894]
["Thurrock",883,132,883]
["Torbay",880,133,880]
["Tower Hamlets",211,134,211]
["Trafford",358,135,358]
["Wakefield",384,136,384]
["Walsall",335,137,335]
["Waltham Forest",320,138,320]
["Wandsworth",212,139,212]
["Warrington",877,140,877]
["Warwickshire",937,141,937]
["West Berkshire",869,142,869]
["West Sussex",938,143,938]
["Westminster",213,144,213]
["Wigan",359,145,359]
["Wiltshire",865,146,865]
["Windsor and Maidenhead",868,147,868]
["Wirral",344,148,344]
["Wokingham",872,149,872]
["Wolverhampton",336,150,336]
["Worcestershire",885,151,885]
["York",816,152,816]